{"text_format":"1","workbook":"xlsx","n_sheets":3,"sheets":["投票速報_143_","パラメタシート","P_14号3様式"],"not_rendered":{"charts":0,"images":0,"macros":1,"external_links":1,"defined_names":10,"comments":0,"pivot_tables":0},"unopened":[],"bounds":{"document_bytes":16777216,"sheet_cells":100000,"rows_first":2000,"rows_last":500,"rows_between":2000,"halvings":0,"cell_chars":16384,"cell_head_chars":4096},"cells_cut":0,"cells_raw":0,"read":"whole","date_system":"1900"}

{"sheet":"投票速報_143_","index":0,"n_rows":111,"n_cols":23,"rows_kept":111,"cut":false,"hidden":false,"merged":[[1,6,2,10],[58,6,59,10],[62,0,65,1],[62,2,64,4],[62,8,64,10],[66,0,66,1],[67,0,67,1],[68,0,68,1],[62,5,62,7],[63,5,64,7],[26,0,26,1],[12,0,12,1],[17,0,17,1],[18,0,18,1],[19,0,19,1],[20,0,20,1],[5,18,8,18],[5,19,8,19],[5,20,7,22],[3,21,3,22],[5,0,8,1],[5,2,7,4],[5,8,7,10],[3,7,3,9],[5,5,5,7],[5,11,5,12],[6,16,7,16],[8,15,8,17],[8,12,8,14],[9,15,9,17],[9,0,9,1],[10,0,10,1],[11,0,11,1],[6,11,7,12],[9,12,9,14],[6,14,7,14],[10,12,10,14],[11,12,11,14],[6,5,7,7],[10,15,10,17],[11,15,11,17],[13,12,13,14],[14,12,14,14],[15,12,15,14],[12,12,12,14],[56,0,56,1],[38,0,38,1],[39,0,39,1],[40,0,40,1],[55,0,55,1],[48,0,48,1],[47,0,47,1],[46,0,46,1],[45,0,45,1],[54,0,54,1],[35,0,35,1],[13,0,13,1],[29,0,29,1],[30,0,30,1],[31,0,31,1],[24,0,24,1],[15,0,15,1],[16,0,16,1],[21,0,21,1],[25,0,25,1],[69,0,69,1],[70,0,70,1],[71,0,71,1],[72,0,72,1],[34,0,34,1],[0,0,1,2],[3,1,3,4],[32,0,32,1],[33,0,33,1],[22,0,22,1],[23,0,23,1],[14,0,14,1],[27,0,27,1],[28,0,28,1],[53,0,53,1],[50,0,50,1],[51,0,51,1],[49,0,49,1],[36,0,36,1],[37,0,37,1],[43,0,43,1],[44,0,44,1],[42,0,42,1],[41,0,41,1],[81,0,81,1],[82,0,82,1],[83,0,83,1],[84,0,84,1],[77,0,77,1],[78,0,78,1],[79,0,79,1],[80,0,80,1],[73,0,73,1],[74,0,74,1],[75,0,75,1],[76,0,76,1],[93,0,93,1],[94,0,94,1],[95,0,95,1],[96,0,96,1],[89,0,89,1],[90,0,90,1],[91,0,91,1],[92,0,92,1],[85,0,85,1],[86,0,86,1],[87,0,87,1],[88,0,88,1],[105,0,105,1],[106,0,106,1],[107,0,107,1],[108,0,108,1],[101,0,101,1],[102,0,102,1],[103,0,103,1],[104,0,104,1],[97,0,97,1],[98,0,98,1],[99,0,99,1],[100,0,100,1],[110,0,110,1],[111,0,111,1],[112,0,112,1],[111,15,111,17],[113,15,113,17],[2,1,2,4],[57,0,58,2],[59,1,59,4],[60,1,60,4],[113,0,113,1],[60,7,60,9],[63,11,64,12],[63,14,64,14],[63,16,64,16],[112,12,112,14],[112,15,112,17],[113,12,113,14],[111,12,111,14],[67,12,67,14],[68,12,68,14],[69,12,69,14],[70,12,70,14],[65,15,65,17],[65,12,65,14],[66,12,66,14],[66,15,66,17],[67,15,67,17],[68,15,68,17],[110,12,110,14],[110,15,110,17],[62,18,65,18],[62,19,65,19],[62,20,64,22],[62,11,62,12],[23,12,23,14],[24,12,24,14],[17,12,17,14],[18,12,18,14],[19,12,19,14],[20,12,20,14],[25,12,25,14],[26,12,26,14],[27,12,27,14],[28,12,28,14],[35,12,35,14],[36,12,36,14],[29,12,29,14],[30,12,30,14],[31,12,31,14],[32,12,32,14],[21,12,21,14],[22,12,22,14],[30,15,30,17],[31,15,31,17],[12,15,12,17],[16,12,16,14],[45,12,45,14],[37,12,37,14],[38,12,38,14],[39,12,39,14],[48,12,48,14],[41,12,41,14],[42,12,42,14],[43,12,43,14],[44,12,44,14],[46,12,46,14],[40,12,40,14],[13,15,13,17],[17,15,17,17],[18,15,18,17],[19,15,19,17],[14,15,14,17],[15,15,15,17],[16,15,16,17],[20,15,20,17],[21,15,21,17],[33,12,33,14],[34,12,34,14],[32,15,32,17],[33,15,33,17],[26,15,26,17],[27,15,27,17],[28,15,28,17],[29,15,29,17],[22,15,22,17],[23,15,23,17],[24,15,24,17],[25,15,25,17],[42,15,42,17],[43,15,43,17],[44,15,44,17],[45,15,45,17],[38,15,38,17],[39,15,39,17],[40,15,40,17],[41,15,41,17],[34,15,34,17],[35,15,35,17],[36,15,36,17],[37,15,37,17],[55,12,55,14],[55,15,55,17],[49,15,49,17],[50,15,50,17],[51,15,51,17],[53,15,53,17],[49,12,49,14],[50,12,50,14],[46,15,46,17],[47,15,47,17],[48,15,48,17],[54,15,54,17],[47,12,47,14],[75,12,75,14],[76,12,76,14],[77,12,77,14],[78,12,78,14],[77,15,77,17],[78,15,78,17],[107,12,107,14],[108,12,108,14],[95,12,95,14],[96,12,96,14],[97,12,97,14],[98,12,98,14],[83,15,83,17],[84,15,84,17],[104,12,104,14],[105,12,105,14],[106,12,106,14],[71,12,71,14],[72,12,72,14],[73,12,73,14],[74,12,74,14],[79,15,79,17],[80,15,80,17],[81,15,81,17],[82,15,82,17],[69,15,69,17],[70,15,70,17],[71,15,71,17],[72,15,72,17],[75,15,75,17],[76,15,76,17],[73,15,73,17],[74,15,74,17],[103,12,103,14],[99,12,99,14],[100,12,100,14],[101,12,101,14],[102,12,102,14],[91,12,91,14],[92,12,92,14],[93,12,93,14],[94,12,94,14],[87,12,87,14],[88,12,88,14],[89,12,89,14],[90,12,90,14],[83,12,83,14],[84,12,84,14],[85,12,85,14],[86,12,86,14],[79,12,79,14],[80,12,80,14],[81,12,81,14],[82,12,82,14],[91,15,91,17],[92,15,92,17],[93,15,93,17],[94,15,94,17],[87,15,87,17],[88,15,88,17],[89,15,89,17],[90,15,90,17],[85,15,85,17],[86,15,86,17],[106,15,106,17],[99,15,99,17],[100,15,100,17],[101,15,101,17],[102,15,102,17],[95,15,95,17],[96,15,96,17],[97,15,97,17],[98,15,98,17],[0,21,0,22],[57,21,57,22],[1,20,1,22],[60,21,60,22],[59,20,59,22],[2,13,2,15],[2,20,2,22],[58,13,58,15],[58,16,58,19],[58,20,58,22],[56,12,56,14],[56,15,56,17],[53,12,53,14],[54,12,54,14],[51,12,51,14],[107,15,107,17],[108,15,108,17],[1,13,1,15],[1,16,1,19],[59,13,59,15],[103,15,103,17],[104,15,104,17],[105,15,105,17]]}
["第14号の3様式",null,null,null,null,null,null,null,null,null,null,null,null,null,null,null,null,null,null,null,null,{"$f":"IF(P_14号3様式!A2=\"\",\" ページ\", P_14号3様式!A2 & \"ページ\")","v":"1ページ"}]
[null,null,null,null,null,null,{"$f":"IF(P_14号3様式!AG2=\"\",\"投　票　速　報\",\"投　票　速　報　（確定）\")","v":"投　票　速　報"},null,null,null,null,null,null,"中間報告",null,null,{"$f":"IF(P_14号3様式!AL2=\"\",\"第　　　回\",\"第 　\" & P_14号3様式!AL2 & \"　回\")","v":"第 　2　回"},null,null,null,{"$f":"IF(P_14号3様式!AM2=\"\",\"        時     　 分　現在\",P_14号3様式!AM2)","v":"11:00:00"}]
[null,{"$f":"IF(パラメタシート!B1=\"\",\"\",パラメタシート!B1)","v":"2020-07-12"},null,null,null,null,null,null,null,null,null,null,null,"結了報告",null,null,null,null,null,null,{"$f":"IF(P_14号3様式!AG2=\"\",\"        時     　 分　結了\",P_14号3様式!AG2)","v":"        時     　 分　結了"}]
[null,{"$f":"IF(P_14号3様式!AK2=\"\",\"\",P_14号3様式!AK2)","v":"鹿児島県議会議員補欠選挙"},null,null,null,null,null,"（ 選 挙 区 別 ）",null,null,null,null,null,null,null,null,null,null,null,null,null,"鹿 児 島 県"]
[]
["市区町村名",null,"当 日 有 権 者 数（ｅ'）\n（ 当日有権者見込（ｅ））",null,null,{"$f":"IF(P_14号3様式!AM2=\"\",\"（ｆ)\",\"（ｱ)\")","v":"（ｱ)"},null,null,"（ｇ)\n棄　権　者　数",null,null,{"$f":"IF(P_14号3様式!AM2=\"\",\"\",\"当日投票者\")","v":"当日投票者"},null,"（ｈ)",null,null,null,null,"投\n票\n率\n順\n位","投票\n結了\n時刻","前回選挙の投票率"]
[null,null,null,null,null,{"$f":"IF(P_14号3様式!AM2=\"\",\"投 票 者 数\",\"当 日 投 票 者 数\")","v":"当 日 投 票 者 数"},null,null,null,null,null,"投 票 率 =",null,{"$f":"IF(P_14号3様式!AM2=\"\",\"（ｆ)\",\"（ｱ)\")","v":"（ｱ)"},"(",{"$f":"IF(P_14号3様式!AM2=\"\",\"（ｆ)\",\"（ｱ)\")","v":"（ｱ)"},")"]
[null,null,null,null,null,null,null,null,null,null,null,null,null,"（ｅ'）",null,"（ｅ ）"]
[null,null,"男","女","計","男","女","計","男","女","計","男","女",null,null,"計",null,null,null,null,"男","女","計"]
[{"$f":"IF(P_14号3様式!C2=\"\",\"\",P_14号3様式!C2)","v":"★鹿児島市"},null,{"$f":"IF(P_14号3様式!D2=\"\",\"\",P_14号3様式!D2)","v":""},{"$f":"IF(P_14号3様式!E2=\"\",\"\",P_14号3様式!E2)","v":""},{"$f":"IF(P_14号3様式!F2=\"\",\"\",P_14号3様式!F2)","v":""},{"$f":"IF(P_14号3様式!G2=\"\",\"\",P_14号3様式!G2)","v":""},{"$f":"IF(P_14号3様式!H2=\"\",\"\",P_14号3様式!H2)","v":""},{"$f":"IF(P_14号3様式!I2=\"\",\"\",P_14号3様式!I2)","v":""},{"$f":"IF(P_14号3様式!J2=\"\",\"\",P_14号3様式!J2)","v":""},{"$f":"IF(P_14号3様式!K2=\"\",\"\",P_14号3様式!K2)","v":""},{"$f":"IF(P_14号3様式!L2=\"\",\"\",P_14号3様式!L2)","v":""},{"$f":"IF(P_14号3様式!M2=\"\",\"\",P_14号3様式!M2)","v":""},{"$f":"IF(P_14号3様式!N2=\"\",\"\",P_14号3様式!N2)","v":""},null,null,{"$f":"IF(P_14号3様式!O2=\"\",\"\",P_14号3様式!O2)","v":""},null,null,{"$f":"IF(P_14号3様式!P2=\"\",\"\",P_14号3様式!P2)","v":""},{"$f":"IF(P_14号3様式!Q2=\"\",\"\",P_14号3様式!Q2)","v":""},{"$f":"IF(P_14号3様式!R2=\"\",\"\",P_14号3様式!R2)","v":11.7147905958756},{"$f":"IF(P_14号3様式!S2=\"\",\"\",P_14号3様式!S2)","v":9.8651608129218396},{"$f":"IF(P_14号3様式!T2=\"\",\"\",P_14号3様式!T2)","v":10.7058694021331}]
[{"$f":"IF(P_14号3様式!C3=\"\",\"\",P_14号3様式!C3)","v":"★三島村"},null,{"$f":"IF(P_14号3様式!D3=\"\",\"\",P_14号3様式!D3)","v":""},{"$f":"IF(P_14号3様式!E3=\"\",\"\",P_14号3様式!E3)","v":""},{"$f":"IF(P_14号3様式!F3=\"\",\"\",P_14号3様式!F3)","v":""},{"$f":"IF(P_14号3様式!G3=\"\",\"\",P_14号3様式!G3)","v":""},{"$f":"IF(P_14号3様式!H3=\"\",\"\",P_14号3様式!H3)","v":""},{"$f":"IF(P_14号3様式!I3=\"\",\"\",P_14号3様式!I3)","v":""},{"$f":"IF(P_14号3様式!J3=\"\",\"\",P_14号3様式!J3)","v":""},{"$f":"IF(P_14号3様式!K3=\"\",\"\",P_14号3様式!K3)","v":""},{"$f":"IF(P_14号3様式!L3=\"\",\"\",P_14号3様式!L3)","v":""},{"$f":"IF(P_14号3様式!M3=\"\",\"\",P_14号3様式!M3)","v":""},{"$f":"IF(P_14号3様式!N3=\"\",\"\",P_14号3様式!N3)","v":""},null,null,{"$f":"IF(P_14号3様式!O3=\"\",\"\",P_14号3様式!O3)","v":""},null,null,{"$f":"IF(P_14号3様式!P3=\"\",\"\",P_14号3様式!P3)","v":""},{"$f":"IF(P_14号3様式!Q3=\"\",\"\",P_14号3様式!Q3)","v":""},{"$f":"IF(P_14号3様式!R3=\"\",\"\",P_14号3様式!R3)","v":0},{"$f":"IF(P_14号3様式!S3=\"\",\"\",P_14号3様式!S3)","v":0},{"$f":"IF(P_14号3様式!T3=\"\",\"\",P_14号3様式!T3)","v":0}]
[{"$f":"IF(P_14号3様式!C4=\"\",\"\",P_14号3様式!C4)","v":"★十島村"},null,{"$f":"IF(P_14号3様式!D4=\"\",\"\",P_14号3様式!D4)","v":""},{"$f":"IF(P_14号3様式!E4=\"\",\"\",P_14号3様式!E4)","v":""},{"$f":"IF(P_14号3様式!F4=\"\",\"\",P_14号3様式!F4)","v":""},{"$f":"IF(P_14号3様式!G4=\"\",\"\",P_14号3様式!G4)","v":""},{"$f":"IF(P_14号3様式!H4=\"\",\"\",P_14号3様式!H4)","v":""},{"$f":"IF(P_14号3様式!I4=\"\",\"\",P_14号3様式!I4)","v":""},{"$f":"IF(P_14号3様式!J4=\"\",\"\",P_14号3様式!J4)","v":""},{"$f":"IF(P_14号3様式!K4=\"\",\"\",P_14号3様式!K4)","v":""},{"$f":"IF(P_14号3様式!L4=\"\",\"\",P_14号3様式!L4)","v":""},{"$f":"IF(P_14号3様式!M4=\"\",\"\",P_14号3様式!M4)","v":""},{"$f":"IF(P_14号3様式!N4=\"\",\"\",P_14号3様式!N4)","v":""},null,null,{"$f":"IF(P_14号3様式!O4=\"\",\"\",P_14号3様式!O4)","v":""},null,null,{"$f":"IF(P_14号3様式!P4=\"\",\"\",P_14号3様式!P4)","v":""},{"$f":"IF(P_14号3様式!Q4=\"\",\"\",P_14号3様式!Q4)","v":""},{"$f":"IF(P_14号3様式!R4=\"\",\"\",P_14号3様式!R4)","v":0},{"$f":"IF(P_14号3様式!S4=\"\",\"\",P_14号3様式!S4)","v":0},{"$f":"IF(P_14号3様式!T4=\"\",\"\",P_14号3様式!T4)","v":0}]
[{"$f":"IF(P_14号3様式!C5=\"\",\"\",P_14号3様式!C5)","v":"＊（鹿児島市・鹿児島郡区）計"},null,{"$f":"IF(P_14号3様式!D5=\"\",\"\",P_14号3様式!D5)","v":""},{"$f":"IF(P_14号3様式!E5=\"\",\"\",P_14号3様式!E5)","v":""},{"$f":"IF(P_14号3様式!F5=\"\",\"\",P_14号3様式!F5)","v":""},{"$f":"IF(P_14号3様式!G5=\"\",\"\",P_14号3様式!G5)","v":""},{"$f":"IF(P_14号3様式!H5=\"\",\"\",P_14号3様式!H5)","v":""},{"$f":"IF(P_14号3様式!I5=\"\",\"\",P_14号3様式!I5)","v":""},{"$f":"IF(P_14号3様式!J5=\"\",\"\",P_14号3様式!J5)","v":""},{"$f":"IF(P_14号3様式!K5=\"\",\"\",P_14号3様式!K5)","v":""},{"$f":"IF(P_14号3様式!L5=\"\",\"\",P_14号3様式!L5)","v":""},{"$f":"IF(P_14号3様式!M5=\"\",\"\",P_14号3様式!M5)","v":""},{"$f":"IF(P_14号3様式!N5=\"\",\"\",P_14号3様式!N5)","v":""},null,null,{"$f":"IF(P_14号3様式!O5=\"\",\"\",P_14号3様式!O5)","v":""},null,null,{"$f":"IF(P_14号3様式!P5=\"\",\"\",P_14号3様式!P5)","v":""},{"$f":"IF(P_14号3様式!Q5=\"\",\"\",P_14号3様式!Q5)","v":""},{"$f":"IF(P_14号3様式!R5=\"\",\"\",P_14号3様式!R5)","v":11.6941784302401},{"$f":"IF(P_14号3様式!S5=\"\",\"\",P_14号3様式!S5)","v":9.8509133655514702},{"$f":"IF(P_14号3様式!T5=\"\",\"\",P_14号3様式!T5)","v":10.6888733300226}]
[{"$f":"IF(P_14号3様式!C6=\"\",\"\",P_14号3様式!C6)","v":"★鹿屋市"},null,{"$f":"IF(P_14号3様式!D6=\"\",\"\",P_14号3様式!D6)","v":""},{"$f":"IF(P_14号3様式!E6=\"\",\"\",P_14号3様式!E6)","v":""},{"$f":"IF(P_14号3様式!F6=\"\",\"\",P_14号3様式!F6)","v":""},{"$f":"IF(P_14号3様式!G6=\"\",\"\",P_14号3様式!G6)","v":""},{"$f":"IF(P_14号3様式!H6=\"\",\"\",P_14号3様式!H6)","v":""},{"$f":"IF(P_14号3様式!I6=\"\",\"\",P_14号3様式!I6)","v":""},{"$f":"IF(P_14号3様式!J6=\"\",\"\",P_14号3様式!J6)","v":""},{"$f":"IF(P_14号3様式!K6=\"\",\"\",P_14号3様式!K6)","v":""},{"$f":"IF(P_14号3様式!L6=\"\",\"\",P_14号3様式!L6)","v":""},{"$f":"IF(P_14号3様式!M6=\"\",\"\",P_14号3様式!M6)","v":""},{"$f":"IF(P_14号3様式!N6=\"\",\"\",P_14号3様式!N6)","v":""},null,null,{"$f":"IF(P_14号3様式!O6=\"\",\"\",P_14号3様式!O6)","v":""},null,null,{"$f":"IF(P_14号3様式!P6=\"\",\"\",P_14号3様式!P6)","v":""},{"$f":"IF(P_14号3様式!Q6=\"\",\"\",P_14号3様式!Q6)","v":""},{"$f":"IF(P_14号3様式!R6=\"\",\"\",P_14号3様式!R6)","v":16.3607135449077},{"$f":"IF(P_14号3様式!S6=\"\",\"\",P_14号3様式!S6)","v":14.2227122381477},{"$f":"IF(P_14号3様式!T6=\"\",\"\",P_14号3様式!T6)","v":15.2270291337815}]
[{"$f":"IF(P_14号3様式!C7=\"\",\"\",P_14号3様式!C7)","v":"★垂水市"},null,{"$f":"IF(P_14号3様式!D7=\"\",\"\",P_14号3様式!D7)","v":""},{"$f":"IF(P_14号3様式!E7=\"\",\"\",P_14号3様式!E7)","v":""},{"$f":"IF(P_14号3様式!F7=\"\",\"\",P_14号3様式!F7)","v":""},{"$f":"IF(P_14号3様式!G7=\"\",\"\",P_14号3様式!G7)","v":""},{"$f":"IF(P_14号3様式!H7=\"\",\"\",P_14号3様式!H7)","v":""},{"$f":"IF(P_14号3様式!I7=\"\",\"\",P_14号3様式!I7)","v":""},{"$f":"IF(P_14号3様式!J7=\"\",\"\",P_14号3様式!J7)","v":""},{"$f":"IF(P_14号3様式!K7=\"\",\"\",P_14号3様式!K7)","v":""},{"$f":"IF(P_14号3様式!L7=\"\",\"\",P_14号3様式!L7)","v":""},{"$f":"IF(P_14号3様式!M7=\"\",\"\",P_14号3様式!M7)","v":""},{"$f":"IF(P_14号3様式!N7=\"\",\"\",P_14号3様式!N7)","v":""},null,null,{"$f":"IF(P_14号3様式!O7=\"\",\"\",P_14号3様式!O7)","v":""},null,null,{"$f":"IF(P_14号3様式!P7=\"\",\"\",P_14号3様式!P7)","v":""},{"$f":"IF(P_14号3様式!Q7=\"\",\"\",P_14号3様式!Q7)","v":""},{"$f":"IF(P_14号3様式!R7=\"\",\"\",P_14号3様式!R7)","v":16.093117408906899},{"$f":"IF(P_14号3様式!S7=\"\",\"\",P_14号3様式!S7)","v":13.9014763923403},{"$f":"IF(P_14号3様式!T7=\"\",\"\",P_14号3様式!T7)","v":14.9189443182708}]
[{"$f":"IF(P_14号3様式!C8=\"\",\"\",P_14号3様式!C8)","v":"＊（鹿屋市・垂水市区）計"},null,{"$f":"IF(P_14号3様式!D8=\"\",\"\",P_14号3様式!D8)","v":""},{"$f":"IF(P_14号3様式!E8=\"\",\"\",P_14号3様式!E8)","v":""},{"$f":"IF(P_14号3様式!F8=\"\",\"\",P_14号3様式!F8)","v":""},{"$f":"IF(P_14号3様式!G8=\"\",\"\",P_14号3様式!G8)","v":""},{"$f":"IF(P_14号3様式!H8=\"\",\"\",P_14号3様式!H8)","v":""},{"$f":"IF(P_14号3様式!I8=\"\",\"\",P_14号3様式!I8)","v":""},{"$f":"IF(P_14号3様式!J8=\"\",\"\",P_14号3様式!J8)","v":""},{"$f":"IF(P_14号3様式!K8=\"\",\"\",P_14号3様式!K8)","v":""},{"$f":"IF(P_14号3様式!L8=\"\",\"\",P_14号3様式!L8)","v":""},{"$f":"IF(P_14号3様式!M8=\"\",\"\",P_14号3様式!M8)","v":""},{"$f":"IF(P_14号3様式!N8=\"\",\"\",P_14号3様式!N8)","v":""},null,null,{"$f":"IF(P_14号3様式!O8=\"\",\"\",P_14号3様式!O8)","v":""},null,null,{"$f":"IF(P_14号3様式!P8=\"\",\"\",P_14号3様式!P8)","v":""},{"$f":"IF(P_14号3様式!Q8=\"\",\"\",P_14号3様式!Q8)","v":""},{"$f":"IF(P_14号3様式!R8=\"\",\"\",P_14号3様式!R8)","v":16.325062927004701},{"$f":"IF(P_14号3様式!S8=\"\",\"\",P_14号3様式!S8)","v":14.179089663933899},{"$f":"IF(P_14号3様式!T8=\"\",\"\",P_14号3様式!T8)","v":15.185563859053699}]
[{"$f":"IF(P_14号3様式!C9=\"\",\"\",P_14号3様式!C9)","v":"★枕崎市"},null,{"$f":"IF(P_14号3様式!D9=\"\",\"\",P_14号3様式!D9)","v":""},{"$f":"IF(P_14号3様式!E9=\"\",\"\",P_14号3様式!E9)","v":""},{"$f":"IF(P_14号3様式!F9=\"\",\"\",P_14号3様式!F9)","v":""},{"$f":"IF(P_14号3様式!G9=\"\",\"\",P_14号3様式!G9)","v":""},{"$f":"IF(P_14号3様式!H9=\"\",\"\",P_14号3様式!H9)","v":""},{"$f":"IF(P_14号3様式!I9=\"\",\"\",P_14号3様式!I9)","v":""},{"$f":"IF(P_14号3様式!J9=\"\",\"\",P_14号3様式!J9)","v":""},{"$f":"IF(P_14号3様式!K9=\"\",\"\",P_14号3様式!K9)","v":""},{"$f":"IF(P_14号3様式!L9=\"\",\"\",P_14号3様式!L9)","v":""},{"$f":"IF(P_14号3様式!M9=\"\",\"\",P_14号3様式!M9)","v":""},{"$f":"IF(P_14号3様式!N9=\"\",\"\",P_14号3様式!N9)","v":""},null,null,{"$f":"IF(P_14号3様式!O9=\"\",\"\",P_14号3様式!O9)","v":""},null,null,{"$f":"IF(P_14号3様式!P9=\"\",\"\",P_14号3様式!P9)","v":""},{"$f":"IF(P_14号3様式!Q9=\"\",\"\",P_14号3様式!Q9)","v":""},{"$f":"IF(P_14号3様式!R9=\"\",\"\",P_14号3様式!R9)","v":""},{"$f":"IF(P_14号3様式!S9=\"\",\"\",P_14号3様式!S9)","v":""},{"$f":"IF(P_14号3様式!T9=\"\",\"\",P_14号3様式!T9)","v":""}]
[{"$f":"IF(P_14号3様式!C10=\"\",\"\",P_14号3様式!C10)","v":"＊（枕崎市区）計"},null,{"$f":"IF(P_14号3様式!D10=\"\",\"\",P_14号3様式!D10)","v":""},{"$f":"IF(P_14号3様式!E10=\"\",\"\",P_14号3様式!E10)","v":""},{"$f":"IF(P_14号3様式!F10=\"\",\"\",P_14号3様式!F10)","v":""},{"$f":"IF(P_14号3様式!G10=\"\",\"\",P_14号3様式!G10)","v":""},{"$f":"IF(P_14号3様式!H10=\"\",\"\",P_14号3様式!H10)","v":""},{"$f":"IF(P_14号3様式!I10=\"\",\"\",P_14号3様式!I10)","v":""},{"$f":"IF(P_14号3様式!J10=\"\",\"\",P_14号3様式!J10)","v":""},{"$f":"IF(P_14号3様式!K10=\"\",\"\",P_14号3様式!K10)","v":""},{"$f":"IF(P_14号3様式!L10=\"\",\"\",P_14号3様式!L10)","v":""},{"$f":"IF(P_14号3様式!M10=\"\",\"\",P_14号3様式!M10)","v":""},{"$f":"IF(P_14号3様式!N10=\"\",\"\",P_14号3様式!N10)","v":""},null,null,{"$f":"IF(P_14号3様式!O10=\"\",\"\",P_14号3様式!O10)","v":""},null,null,{"$f":"IF(P_14号3様式!P10=\"\",\"\",P_14号3様式!P10)","v":""},{"$f":"IF(P_14号3様式!Q10=\"\",\"\",P_14号3様式!Q10)","v":""},{"$f":"IF(P_14号3様式!R10=\"\",\"\",P_14号3様式!R10)","v":""},{"$f":"IF(P_14号3様式!S10=\"\",\"\",P_14号3様式!S10)","v":""},{"$f":"IF(P_14号3様式!T10=\"\",\"\",P_14号3様式!T10)","v":""}]
[{"$f":"IF(P_14号3様式!C11=\"\",\"\",P_14号3様式!C11)","v":"★阿久根市"},null,{"$f":"IF(P_14号3様式!D11=\"\",\"\",P_14号3様式!D11)","v":""},{"$f":"IF(P_14号3様式!E11=\"\",\"\",P_14号3様式!E11)","v":""},{"$f":"IF(P_14号3様式!F11=\"\",\"\",P_14号3様式!F11)","v":""},{"$f":"IF(P_14号3様式!G11=\"\",\"\",P_14号3様式!G11)","v":""},{"$f":"IF(P_14号3様式!H11=\"\",\"\",P_14号3様式!H11)","v":""},{"$f":"IF(P_14号3様式!I11=\"\",\"\",P_14号3様式!I11)","v":""},{"$f":"IF(P_14号3様式!J11=\"\",\"\",P_14号3様式!J11)","v":""},{"$f":"IF(P_14号3様式!K11=\"\",\"\",P_14号3様式!K11)","v":""},{"$f":"IF(P_14号3様式!L11=\"\",\"\",P_14号3様式!L11)","v":""},{"$f":"IF(P_14号3様式!M11=\"\",\"\",P_14号3様式!M11)","v":""},{"$f":"IF(P_14号3様式!N11=\"\",\"\",P_14号3様式!N11)","v":""},null,null,{"$f":"IF(P_14号3様式!O11=\"\",\"\",P_14号3様式!O11)","v":""},null,null,{"$f":"IF(P_14号3様式!P11=\"\",\"\",P_14号3様式!P11)","v":""},{"$f":"IF(P_14号3様式!Q11=\"\",\"\",P_14号3様式!Q11)","v":""},{"$f":"IF(P_14号3様式!R11=\"\",\"\",P_14号3様式!R11)","v":""},{"$f":"IF(P_14号3様式!S11=\"\",\"\",P_14号3様式!S11)","v":""},{"$f":"IF(P_14号3様式!T11=\"\",\"\",P_14号3様式!T11)","v":""}]
[{"$f":"IF(P_14号3様式!C12=\"\",\"\",P_14号3様式!C12)","v":"★長島町"},null,{"$f":"IF(P_14号3様式!D12=\"\",\"\",P_14号3様式!D12)","v":""},{"$f":"IF(P_14号3様式!E12=\"\",\"\",P_14号3様式!E12)","v":""},{"$f":"IF(P_14号3様式!F12=\"\",\"\",P_14号3様式!F12)","v":""},{"$f":"IF(P_14号3様式!G12=\"\",\"\",P_14号3様式!G12)","v":""},{"$f":"IF(P_14号3様式!H12=\"\",\"\",P_14号3様式!H12)","v":""},{"$f":"IF(P_14号3様式!I12=\"\",\"\",P_14号3様式!I12)","v":""},{"$f":"IF(P_14号3様式!J12=\"\",\"\",P_14号3様式!J12)","v":""},{"$f":"IF(P_14号3様式!K12=\"\",\"\",P_14号3様式!K12)","v":""},{"$f":"IF(P_14号3様式!L12=\"\",\"\",P_14号3様式!L12)","v":""},{"$f":"IF(P_14号3様式!M12=\"\",\"\",P_14号3様式!M12)","v":""},{"$f":"IF(P_14号3様式!N12=\"\",\"\",P_14号3様式!N12)","v":""},null,null,{"$f":"IF(P_14号3様式!O12=\"\",\"\",P_14号3様式!O12)","v":""},null,null,{"$f":"IF(P_14号3様式!P12=\"\",\"\",P_14号3様式!P12)","v":""},{"$f":"IF(P_14号3様式!Q12=\"\",\"\",P_14号3様式!Q12)","v":""},{"$f":"IF(P_14号3様式!R12=\"\",\"\",P_14号3様式!R12)","v":""},{"$f":"IF(P_14号3様式!S12=\"\",\"\",P_14号3様式!S12)","v":""},{"$f":"IF(P_14号3様式!T12=\"\",\"\",P_14号3様式!T12)","v":""}]
[{"$f":"IF(P_14号3様式!C13=\"\",\"\",P_14号3様式!C13)","v":"＊（阿久根市・出水郡区）計"},null,{"$f":"IF(P_14号3様式!D13=\"\",\"\",P_14号3様式!D13)","v":""},{"$f":"IF(P_14号3様式!E13=\"\",\"\",P_14号3様式!E13)","v":""},{"$f":"IF(P_14号3様式!F13=\"\",\"\",P_14号3様式!F13)","v":""},{"$f":"IF(P_14号3様式!G13=\"\",\"\",P_14号3様式!G13)","v":""},{"$f":"IF(P_14号3様式!H13=\"\",\"\",P_14号3様式!H13)","v":""},{"$f":"IF(P_14号3様式!I13=\"\",\"\",P_14号3様式!I13)","v":""},{"$f":"IF(P_14号3様式!J13=\"\",\"\",P_14号3様式!J13)","v":""},{"$f":"IF(P_14号3様式!K13=\"\",\"\",P_14号3様式!K13)","v":""},{"$f":"IF(P_14号3様式!L13=\"\",\"\",P_14号3様式!L13)","v":""},{"$f":"IF(P_14号3様式!M13=\"\",\"\",P_14号3様式!M13)","v":""},{"$f":"IF(P_14号3様式!N13=\"\",\"\",P_14号3様式!N13)","v":""},null,null,{"$f":"IF(P_14号3様式!O13=\"\",\"\",P_14号3様式!O13)","v":""},null,null,{"$f":"IF(P_14号3様式!P13=\"\",\"\",P_14号3様式!P13)","v":""},{"$f":"IF(P_14号3様式!Q13=\"\",\"\",P_14号3様式!Q13)","v":""},{"$f":"IF(P_14号3様式!R13=\"\",\"\",P_14号3様式!R13)","v":""},{"$f":"IF(P_14号3様式!S13=\"\",\"\",P_14号3様式!S13)","v":""},{"$f":"IF(P_14号3様式!T13=\"\",\"\",P_14号3様式!T13)","v":""}]
[{"$f":"IF(P_14号3様式!C14=\"\",\"\",P_14号3様式!C14)","v":"★出水市"},null,{"$f":"IF(P_14号3様式!D14=\"\",\"\",P_14号3様式!D14)","v":""},{"$f":"IF(P_14号3様式!E14=\"\",\"\",P_14号3様式!E14)","v":""},{"$f":"IF(P_14号3様式!F14=\"\",\"\",P_14号3様式!F14)","v":""},{"$f":"IF(P_14号3様式!G14=\"\",\"\",P_14号3様式!G14)","v":""},{"$f":"IF(P_14号3様式!H14=\"\",\"\",P_14号3様式!H14)","v":""},{"$f":"IF(P_14号3様式!I14=\"\",\"\",P_14号3様式!I14)","v":""},{"$f":"IF(P_14号3様式!J14=\"\",\"\",P_14号3様式!J14)","v":""},{"$f":"IF(P_14号3様式!K14=\"\",\"\",P_14号3様式!K14)","v":""},{"$f":"IF(P_14号3様式!L14=\"\",\"\",P_14号3様式!L14)","v":""},{"$f":"IF(P_14号3様式!M14=\"\",\"\",P_14号3様式!M14)","v":""},{"$f":"IF(P_14号3様式!N14=\"\",\"\",P_14号3様式!N14)","v":""},null,null,{"$f":"IF(P_14号3様式!O14=\"\",\"\",P_14号3様式!O14)","v":""},null,null,{"$f":"IF(P_14号3様式!P14=\"\",\"\",P_14号3様式!P14)","v":""},{"$f":"IF(P_14号3様式!Q14=\"\",\"\",P_14号3様式!Q14)","v":""},{"$f":"IF(P_14号3様式!R14=\"\",\"\",P_14号3様式!R14)","v":19.408466081087798},{"$f":"IF(P_14号3様式!S14=\"\",\"\",P_14号3様式!S14)","v":16.546018614270899},{"$f":"IF(P_14号3様式!T14=\"\",\"\",P_14号3様式!T14)","v":17.8763347863189}]
[{"$f":"IF(P_14号3様式!C15=\"\",\"\",P_14号3様式!C15)","v":"＊（出水市区）計"},null,{"$f":"IF(P_14号3様式!D15=\"\",\"\",P_14号3様式!D15)","v":""},{"$f":"IF(P_14号3様式!E15=\"\",\"\",P_14号3様式!E15)","v":""},{"$f":"IF(P_14号3様式!F15=\"\",\"\",P_14号3様式!F15)","v":""},{"$f":"IF(P_14号3様式!G15=\"\",\"\",P_14号3様式!G15)","v":""},{"$f":"IF(P_14号3様式!H15=\"\",\"\",P_14号3様式!H15)","v":""},{"$f":"IF(P_14号3様式!I15=\"\",\"\",P_14号3様式!I15)","v":""},{"$f":"IF(P_14号3様式!J15=\"\",\"\",P_14号3様式!J15)","v":""},{"$f":"IF(P_14号3様式!K15=\"\",\"\",P_14号3様式!K15)","v":""},{"$f":"IF(P_14号3様式!L15=\"\",\"\",P_14号3様式!L15)","v":""},{"$f":"IF(P_14号3様式!M15=\"\",\"\",P_14号3様式!M15)","v":""},{"$f":"IF(P_14号3様式!N15=\"\",\"\",P_14号3様式!N15)","v":""},null,null,{"$f":"IF(P_14号3様式!O15=\"\",\"\",P_14号3様式!O15)","v":""},null,null,{"$f":"IF(P_14号3様式!P15=\"\",\"\",P_14号3様式!P15)","v":""},{"$f":"IF(P_14号3様式!Q15=\"\",\"\",P_14号3様式!Q15)","v":""},{"$f":"IF(P_14号3様式!R15=\"\",\"\",P_14号3様式!R15)","v":19.408466081087798},{"$f":"IF(P_14号3様式!S15=\"\",\"\",P_14号3様式!S15)","v":16.546018614270899},{"$f":"IF(P_14号3様式!T15=\"\",\"\",P_14号3様式!T15)","v":17.8763347863189}]
[{"$f":"IF(P_14号3様式!C16=\"\",\"\",P_14号3様式!C16)","v":"★指宿市"},null,{"$f":"IF(P_14号3様式!D16=\"\",\"\",P_14号3様式!D16)","v":""},{"$f":"IF(P_14号3様式!E16=\"\",\"\",P_14号3様式!E16)","v":""},{"$f":"IF(P_14号3様式!F16=\"\",\"\",P_14号3様式!F16)","v":""},{"$f":"IF(P_14号3様式!G16=\"\",\"\",P_14号3様式!G16)","v":""},{"$f":"IF(P_14号3様式!H16=\"\",\"\",P_14号3様式!H16)","v":""},{"$f":"IF(P_14号3様式!I16=\"\",\"\",P_14号3様式!I16)","v":""},{"$f":"IF(P_14号3様式!J16=\"\",\"\",P_14号3様式!J16)","v":""},{"$f":"IF(P_14号3様式!K16=\"\",\"\",P_14号3様式!K16)","v":""},{"$f":"IF(P_14号3様式!L16=\"\",\"\",P_14号3様式!L16)","v":""},{"$f":"IF(P_14号3様式!M16=\"\",\"\",P_14号3様式!M16)","v":""},{"$f":"IF(P_14号3様式!N16=\"\",\"\",P_14号3様式!N16)","v":""},null,null,{"$f":"IF(P_14号3様式!O16=\"\",\"\",P_14号3様式!O16)","v":""},null,null,{"$f":"IF(P_14号3様式!P16=\"\",\"\",P_14号3様式!P16)","v":""},{"$f":"IF(P_14号3様式!Q16=\"\",\"\",P_14号3様式!Q16)","v":""},{"$f":"IF(P_14号3様式!R16=\"\",\"\",P_14号3様式!R16)","v":20.4746632456703},{"$f":"IF(P_14号3様式!S16=\"\",\"\",P_14号3様式!S16)","v":18.004957965078699},{"$f":"IF(P_14号3様式!T16=\"\",\"\",P_14号3様式!T16)","v":19.132548468341799}]
[{"$f":"IF(P_14号3様式!C17=\"\",\"\",P_14号3様式!C17)","v":"＊（指宿市区）計"},null,{"$f":"IF(P_14号3様式!D17=\"\",\"\",P_14号3様式!D17)","v":""},{"$f":"IF(P_14号3様式!E17=\"\",\"\",P_14号3様式!E17)","v":""},{"$f":"IF(P_14号3様式!F17=\"\",\"\",P_14号3様式!F17)","v":""},{"$f":"IF(P_14号3様式!G17=\"\",\"\",P_14号3様式!G17)","v":""},{"$f":"IF(P_14号3様式!H17=\"\",\"\",P_14号3様式!H17)","v":""},{"$f":"IF(P_14号3様式!I17=\"\",\"\",P_14号3様式!I17)","v":""},{"$f":"IF(P_14号3様式!J17=\"\",\"\",P_14号3様式!J17)","v":""},{"$f":"IF(P_14号3様式!K17=\"\",\"\",P_14号3様式!K17)","v":""},{"$f":"IF(P_14号3様式!L17=\"\",\"\",P_14号3様式!L17)","v":""},{"$f":"IF(P_14号3様式!M17=\"\",\"\",P_14号3様式!M17)","v":""},{"$f":"IF(P_14号3様式!N17=\"\",\"\",P_14号3様式!N17)","v":""},null,null,{"$f":"IF(P_14号3様式!O17=\"\",\"\",P_14号3様式!O17)","v":""},null,null,{"$f":"IF(P_14号3様式!P17=\"\",\"\",P_14号3様式!P17)","v":""},{"$f":"IF(P_14号3様式!Q17=\"\",\"\",P_14号3様式!Q17)","v":""},{"$f":"IF(P_14号3様式!R17=\"\",\"\",P_14号3様式!R17)","v":20.4746632456703},{"$f":"IF(P_14号3様式!S17=\"\",\"\",P_14号3様式!S17)","v":18.004957965078699},{"$f":"IF(P_14号3様式!T17=\"\",\"\",P_14号3様式!T17)","v":19.132548468341799}]
[{"$f":"IF(P_14号3様式!C18=\"\",\"\",P_14号3様式!C18)","v":"★西之表市"},null,{"$f":"IF(P_14号3様式!D18=\"\",\"\",P_14号3様式!D18)","v":""},{"$f":"IF(P_14号3様式!E18=\"\",\"\",P_14号3様式!E18)","v":""},{"$f":"IF(P_14号3様式!F18=\"\",\"\",P_14号3様式!F18)","v":""},{"$f":"IF(P_14号3様式!G18=\"\",\"\",P_14号3様式!G18)","v":""},{"$f":"IF(P_14号3様式!H18=\"\",\"\",P_14号3様式!H18)","v":""},{"$f":"IF(P_14号3様式!I18=\"\",\"\",P_14号3様式!I18)","v":""},{"$f":"IF(P_14号3様式!J18=\"\",\"\",P_14号3様式!J18)","v":""},{"$f":"IF(P_14号3様式!K18=\"\",\"\",P_14号3様式!K18)","v":""},{"$f":"IF(P_14号3様式!L18=\"\",\"\",P_14号3様式!L18)","v":""},{"$f":"IF(P_14号3様式!M18=\"\",\"\",P_14号3様式!M18)","v":""},{"$f":"IF(P_14号3様式!N18=\"\",\"\",P_14号3様式!N18)","v":""},null,null,{"$f":"IF(P_14号3様式!O18=\"\",\"\",P_14号3様式!O18)","v":""},null,null,{"$f":"IF(P_14号3様式!P18=\"\",\"\",P_14号3様式!P18)","v":""},{"$f":"IF(P_14号3様式!Q18=\"\",\"\",P_14号3様式!Q18)","v":""},{"$f":"IF(P_14号3様式!R18=\"\",\"\",P_14号3様式!R18)","v":22.3951285520974},{"$f":"IF(P_14号3様式!S18=\"\",\"\",P_14号3様式!S18)","v":20.032914422501499},{"$f":"IF(P_14号3様式!T18=\"\",\"\",P_14号3様式!T18)","v":21.141632264210902}]
[{"$f":"IF(P_14号3様式!C19=\"\",\"\",P_14号3様式!C19)","v":"★中種子町"},null,{"$f":"IF(P_14号3様式!D19=\"\",\"\",P_14号3様式!D19)","v":""},{"$f":"IF(P_14号3様式!E19=\"\",\"\",P_14号3様式!E19)","v":""},{"$f":"IF(P_14号3様式!F19=\"\",\"\",P_14号3様式!F19)","v":""},{"$f":"IF(P_14号3様式!G19=\"\",\"\",P_14号3様式!G19)","v":""},{"$f":"IF(P_14号3様式!H19=\"\",\"\",P_14号3様式!H19)","v":""},{"$f":"IF(P_14号3様式!I19=\"\",\"\",P_14号3様式!I19)","v":""},{"$f":"IF(P_14号3様式!J19=\"\",\"\",P_14号3様式!J19)","v":""},{"$f":"IF(P_14号3様式!K19=\"\",\"\",P_14号3様式!K19)","v":""},{"$f":"IF(P_14号3様式!L19=\"\",\"\",P_14号3様式!L19)","v":""},{"$f":"IF(P_14号3様式!M19=\"\",\"\",P_14号3様式!M19)","v":""},{"$f":"IF(P_14号3様式!N19=\"\",\"\",P_14号3様式!N19)","v":""},null,null,{"$f":"IF(P_14号3様式!O19=\"\",\"\",P_14号3様式!O19)","v":""},null,null,{"$f":"IF(P_14号3様式!P19=\"\",\"\",P_14号3様式!P19)","v":""},{"$f":"IF(P_14号3様式!Q19=\"\",\"\",P_14号3様式!Q19)","v":""},{"$f":"IF(P_14号3様式!R19=\"\",\"\",P_14号3様式!R19)","v":29.394719896973601},{"$f":"IF(P_14号3様式!S19=\"\",\"\",P_14号3様式!S19)","v":26.387315968289901},{"$f":"IF(P_14号3様式!T19=\"\",\"\",P_14号3様式!T19)","v":27.794516420608598}]
[{"$f":"IF(P_14号3様式!C20=\"\",\"\",P_14号3様式!C20)","v":"★南種子町"},null,{"$f":"IF(P_14号3様式!D20=\"\",\"\",P_14号3様式!D20)","v":""},{"$f":"IF(P_14号3様式!E20=\"\",\"\",P_14号3様式!E20)","v":""},{"$f":"IF(P_14号3様式!F20=\"\",\"\",P_14号3様式!F20)","v":""},{"$f":"IF(P_14号3様式!G20=\"\",\"\",P_14号3様式!G20)","v":""},{"$f":"IF(P_14号3様式!H20=\"\",\"\",P_14号3様式!H20)","v":""},{"$f":"IF(P_14号3様式!I20=\"\",\"\",P_14号3様式!I20)","v":""},{"$f":"IF(P_14号3様式!J20=\"\",\"\",P_14号3様式!J20)","v":""},{"$f":"IF(P_14号3様式!K20=\"\",\"\",P_14号3様式!K20)","v":""},{"$f":"IF(P_14号3様式!L20=\"\",\"\",P_14号3様式!L20)","v":""},{"$f":"IF(P_14号3様式!M20=\"\",\"\",P_14号3様式!M20)","v":""},{"$f":"IF(P_14号3様式!N20=\"\",\"\",P_14号3様式!N20)","v":""},null,null,{"$f":"IF(P_14号3様式!O20=\"\",\"\",P_14号3様式!O20)","v":""},null,null,{"$f":"IF(P_14号3様式!P20=\"\",\"\",P_14号3様式!P20)","v":""},{"$f":"IF(P_14号3様式!Q20=\"\",\"\",P_14号3様式!Q20)","v":""},{"$f":"IF(P_14号3様式!R20=\"\",\"\",P_14号3様式!R20)","v":30.958549222797899},{"$f":"IF(P_14号3様式!S20=\"\",\"\",P_14号3様式!S20)","v":27.045075125208701},{"$f":"IF(P_14号3様式!T20=\"\",\"\",P_14号3様式!T20)","v":28.968590831918501}]
[{"$f":"IF(P_14号3様式!C21=\"\",\"\",P_14号3様式!C21)","v":"★屋久島町"},null,{"$f":"IF(P_14号3様式!D21=\"\",\"\",P_14号3様式!D21)","v":""},{"$f":"IF(P_14号3様式!E21=\"\",\"\",P_14号3様式!E21)","v":""},{"$f":"IF(P_14号3様式!F21=\"\",\"\",P_14号3様式!F21)","v":""},{"$f":"IF(P_14号3様式!G21=\"\",\"\",P_14号3様式!G21)","v":""},{"$f":"IF(P_14号3様式!H21=\"\",\"\",P_14号3様式!H21)","v":""},{"$f":"IF(P_14号3様式!I21=\"\",\"\",P_14号3様式!I21)","v":""},{"$f":"IF(P_14号3様式!J21=\"\",\"\",P_14号3様式!J21)","v":""},{"$f":"IF(P_14号3様式!K21=\"\",\"\",P_14号3様式!K21)","v":""},{"$f":"IF(P_14号3様式!L21=\"\",\"\",P_14号3様式!L21)","v":""},{"$f":"IF(P_14号3様式!M21=\"\",\"\",P_14号3様式!M21)","v":""},{"$f":"IF(P_14号3様式!N21=\"\",\"\",P_14号3様式!N21)","v":""},null,null,{"$f":"IF(P_14号3様式!O21=\"\",\"\",P_14号3様式!O21)","v":""},null,null,{"$f":"IF(P_14号3様式!P21=\"\",\"\",P_14号3様式!P21)","v":""},{"$f":"IF(P_14号3様式!Q21=\"\",\"\",P_14号3様式!Q21)","v":""},{"$f":"IF(P_14号3様式!R21=\"\",\"\",P_14号3様式!R21)","v":22.4666935809447},{"$f":"IF(P_14号3様式!S21=\"\",\"\",P_14号3様式!S21)","v":23.200464396284801},{"$f":"IF(P_14号3様式!T21=\"\",\"\",P_14号3様式!T21)","v":22.841335704406202}]
[{"$f":"IF(P_14号3様式!C22=\"\",\"\",P_14号3様式!C22)","v":"＊（西之表市・熊毛郡区）計"},null,{"$f":"IF(P_14号3様式!D22=\"\",\"\",P_14号3様式!D22)","v":""},{"$f":"IF(P_14号3様式!E22=\"\",\"\",P_14号3様式!E22)","v":""},{"$f":"IF(P_14号3様式!F22=\"\",\"\",P_14号3様式!F22)","v":""},{"$f":"IF(P_14号3様式!G22=\"\",\"\",P_14号3様式!G22)","v":""},{"$f":"IF(P_14号3様式!H22=\"\",\"\",P_14号3様式!H22)","v":""},{"$f":"IF(P_14号3様式!I22=\"\",\"\",P_14号3様式!I22)","v":""},{"$f":"IF(P_14号3様式!J22=\"\",\"\",P_14号3様式!J22)","v":""},{"$f":"IF(P_14号3様式!K22=\"\",\"\",P_14号3様式!K22)","v":""},{"$f":"IF(P_14号3様式!L22=\"\",\"\",P_14号3様式!L22)","v":""},{"$f":"IF(P_14号3様式!M22=\"\",\"\",P_14号3様式!M22)","v":""},{"$f":"IF(P_14号3様式!N22=\"\",\"\",P_14号3様式!N22)","v":""},null,null,{"$f":"IF(P_14号3様式!O22=\"\",\"\",P_14号3様式!O22)","v":""},null,null,{"$f":"IF(P_14号3様式!P22=\"\",\"\",P_14号3様式!P22)","v":""},{"$f":"IF(P_14号3様式!Q22=\"\",\"\",P_14号3様式!Q22)","v":""},{"$f":"IF(P_14号3様式!R22=\"\",\"\",P_14号3様式!R22)","v":24.9693025540275},{"$f":"IF(P_14号3様式!S22=\"\",\"\",P_14号3様式!S22)","v":23.160854893138399},{"$f":"IF(P_14号3様式!T22=\"\",\"\",P_14号3様式!T22)","v":24.025478454855001}]
[{"$f":"IF(P_14号3様式!C23=\"\",\"\",P_14号3様式!C23)","v":"　薩摩川内市第１"},null,{"$f":"IF(P_14号3様式!D23=\"\",\"\",P_14号3様式!D23)","v":34808},{"$f":"IF(P_14号3様式!E23=\"\",\"\",P_14号3様式!E23)","v":38623},{"$f":"IF(P_14号3様式!F23=\"\",\"\",P_14号3様式!F23)","v":73431},{"$f":"IF(P_14号3様式!G23=\"\",\"\",P_14号3様式!G23)","v":6008},{"$f":"IF(P_14号3様式!H23=\"\",\"\",P_14号3様式!H23)","v":5792},{"$f":"IF(P_14号3様式!I23=\"\",\"\",P_14号3様式!I23)","v":11800},{"$f":"IF(P_14号3様式!J23=\"\",\"\",P_14号3様式!J23)","v":""},{"$f":"IF(P_14号3様式!K23=\"\",\"\",P_14号3様式!K23)","v":""},{"$f":"IF(P_14号3様式!L23=\"\",\"\",P_14号3様式!L23)","v":""},{"$f":"IF(P_14号3様式!M23=\"\",\"\",P_14号3様式!M23)","v":17.2603999080671},{"$f":"IF(P_14号3様式!N23=\"\",\"\",P_14号3様式!N23)","v":14.996245760298301},null,null,{"$f":"IF(P_14号3様式!O23=\"\",\"\",P_14号3様式!O23)","v":16.0695074287426},null,null,{"$f":"IF(P_14号3様式!P23=\"\",\"\",P_14号3様式!P23)","v":""},{"$f":"IF(P_14号3様式!Q23=\"\",\"\",P_14号3様式!Q23)","v":""},{"$f":"IF(P_14号3様式!R23=\"\",\"\",P_14号3様式!R23)","v":18.8779875648851},{"$f":"IF(P_14号3様式!S23=\"\",\"\",P_14号3様式!S23)","v":16.408945686900999},{"$f":"IF(P_14号3様式!T23=\"\",\"\",P_14号3様式!T23)","v":17.575855608125401}]
[{"$f":"IF(P_14号3様式!C24=\"\",\"\",P_14号3様式!C24)","v":"　薩摩川内市第２"},null,{"$f":"IF(P_14号3様式!D24=\"\",\"\",P_14号3様式!D24)","v":950},{"$f":"IF(P_14号3様式!E24=\"\",\"\",P_14号3様式!E24)","v":978},{"$f":"IF(P_14号3様式!F24=\"\",\"\",P_14号3様式!F24)","v":1928},{"$f":"IF(P_14号3様式!G24=\"\",\"\",P_14号3様式!G24)","v":263},{"$f":"IF(P_14号3様式!H24=\"\",\"\",P_14号3様式!H24)","v":254},{"$f":"IF(P_14号3様式!I24=\"\",\"\",P_14号3様式!I24)","v":517},{"$f":"IF(P_14号3様式!J24=\"\",\"\",P_14号3様式!J24)","v":""},{"$f":"IF(P_14号3様式!K24=\"\",\"\",P_14号3様式!K24)","v":""},{"$f":"IF(P_14号3様式!L24=\"\",\"\",P_14号3様式!L24)","v":""},{"$f":"IF(P_14号3様式!M24=\"\",\"\",P_14号3様式!M24)","v":27.684210526315798},{"$f":"IF(P_14号3様式!N24=\"\",\"\",P_14号3様式!N24)","v":25.971370143149301},null,null,{"$f":"IF(P_14号3様式!O24=\"\",\"\",P_14号3様式!O24)","v":26.815352697095399},null,null,{"$f":"IF(P_14号3様式!P24=\"\",\"\",P_14号3様式!P24)","v":""},{"$f":"IF(P_14号3様式!Q24=\"\",\"\",P_14号3様式!Q24)","v":""},{"$f":"IF(P_14号3様式!R24=\"\",\"\",P_14号3様式!R24)","v":34.2424242424242},{"$f":"IF(P_14号3様式!S24=\"\",\"\",P_14号3様式!S24)","v":34.344422700587103},{"$f":"IF(P_14号3様式!T24=\"\",\"\",P_14号3様式!T24)","v":34.294234592445299}]
[{"$f":"IF(P_14号3様式!C25=\"\",\"\",P_14号3様式!C25)","v":"　薩摩川内市第３"},null,{"$f":"IF(P_14号3様式!D25=\"\",\"\",P_14号3様式!D25)","v":938},{"$f":"IF(P_14号3様式!E25=\"\",\"\",P_14号3様式!E25)","v":856},{"$f":"IF(P_14号3様式!F25=\"\",\"\",P_14号3様式!F25)","v":1794},{"$f":"IF(P_14号3様式!G25=\"\",\"\",P_14号3様式!G25)","v":199},{"$f":"IF(P_14号3様式!H25=\"\",\"\",P_14号3様式!H25)","v":190},{"$f":"IF(P_14号3様式!I25=\"\",\"\",P_14号3様式!I25)","v":389},{"$f":"IF(P_14号3様式!J25=\"\",\"\",P_14号3様式!J25)","v":""},{"$f":"IF(P_14号3様式!K25=\"\",\"\",P_14号3様式!K25)","v":""},{"$f":"IF(P_14号3様式!L25=\"\",\"\",P_14号3様式!L25)","v":""},{"$f":"IF(P_14号3様式!M25=\"\",\"\",P_14号3様式!M25)","v":21.215351812366698},{"$f":"IF(P_14号3様式!N25=\"\",\"\",P_14号3様式!N25)","v":22.196261682243001},null,null,{"$f":"IF(P_14号3様式!O25=\"\",\"\",P_14号3様式!O25)","v":21.683389074693402},null,null,{"$f":"IF(P_14号3様式!P25=\"\",\"\",P_14号3様式!P25)","v":""},{"$f":"IF(P_14号3様式!Q25=\"\",\"\",P_14号3様式!Q25)","v":""},{"$f":"IF(P_14号3様式!R25=\"\",\"\",P_14号3様式!R25)","v":22.842105263157901},{"$f":"IF(P_14号3様式!S25=\"\",\"\",P_14号3様式!S25)","v":24.2290748898678},{"$f":"IF(P_14号3様式!T25=\"\",\"\",P_14号3様式!T25)","v":23.519913885898799}]
[{"$f":"IF(P_14号3様式!C26=\"\",\"\",P_14号3様式!C26)","v":"＊（薩摩川内市区）計"},null,{"$f":"IF(P_14号3様式!D26=\"\",\"\",P_14号3様式!D26)","v":36696},{"$f":"IF(P_14号3様式!E26=\"\",\"\",P_14号3様式!E26)","v":40457},{"$f":"IF(P_14号3様式!F26=\"\",\"\",P_14号3様式!F26)","v":77153},{"$f":"IF(P_14号3様式!G26=\"\",\"\",P_14号3様式!G26)","v":6470},{"$f":"IF(P_14号3様式!H26=\"\",\"\",P_14号3様式!H26)","v":6236},{"$f":"IF(P_14号3様式!I26=\"\",\"\",P_14号3様式!I26)","v":12706},{"$f":"IF(P_14号3様式!J26=\"\",\"\",P_14号3様式!J26)","v":""},{"$f":"IF(P_14号3様式!K26=\"\",\"\",P_14号3様式!K26)","v":""},{"$f":"IF(P_14号3様式!L26=\"\",\"\",P_14号3様式!L26)","v":""},{"$f":"IF(P_14号3様式!M26=\"\",\"\",P_14号3様式!M26)","v":17.631349465881801},{"$f":"IF(P_14号3様式!N26=\"\",\"\",P_14号3様式!N26)","v":15.4138962355093},null,null,{"$f":"IF(P_14号3様式!O26=\"\",\"\",P_14号3様式!O26)","v":16.4685754280456},null,null,{"$f":"IF(P_14号3様式!P26=\"\",\"\",P_14号3様式!P26)","v":""},{"$f":"IF(P_14号3様式!Q26=\"\",\"\",P_14号3様式!Q26)","v":""},{"$f":"IF(P_14号3様式!R26=\"\",\"\",P_14号3様式!R26)","v":19.390843738176301},{"$f":"IF(P_14号3様式!S26=\"\",\"\",P_14号3様式!S26)","v":17.028376568018501},{"$f":"IF(P_14号3様式!T26=\"\",\"\",P_14号3様式!T26)","v":18.148276259656399}]
[{"$f":"IF(P_14号3様式!C27=\"\",\"\",P_14号3様式!C27)","v":"★日置市"},null,{"$f":"IF(P_14号3様式!D27=\"\",\"\",P_14号3様式!D27)","v":""},{"$f":"IF(P_14号3様式!E27=\"\",\"\",P_14号3様式!E27)","v":""},{"$f":"IF(P_14号3様式!F27=\"\",\"\",P_14号3様式!F27)","v":""},{"$f":"IF(P_14号3様式!G27=\"\",\"\",P_14号3様式!G27)","v":""},{"$f":"IF(P_14号3様式!H27=\"\",\"\",P_14号3様式!H27)","v":""},{"$f":"IF(P_14号3様式!I27=\"\",\"\",P_14号3様式!I27)","v":""},{"$f":"IF(P_14号3様式!J27=\"\",\"\",P_14号3様式!J27)","v":""},{"$f":"IF(P_14号3様式!K27=\"\",\"\",P_14号3様式!K27)","v":""},{"$f":"IF(P_14号3様式!L27=\"\",\"\",P_14号3様式!L27)","v":""},{"$f":"IF(P_14号3様式!M27=\"\",\"\",P_14号3様式!M27)","v":""},{"$f":"IF(P_14号3様式!N27=\"\",\"\",P_14号3様式!N27)","v":""},null,null,{"$f":"IF(P_14号3様式!O27=\"\",\"\",P_14号3様式!O27)","v":""},null,null,{"$f":"IF(P_14号3様式!P27=\"\",\"\",P_14号3様式!P27)","v":""},{"$f":"IF(P_14号3様式!Q27=\"\",\"\",P_14号3様式!Q27)","v":""},{"$f":"IF(P_14号3様式!R27=\"\",\"\",P_14号3様式!R27)","v":""},{"$f":"IF(P_14号3様式!S27=\"\",\"\",P_14号3様式!S27)","v":""},{"$f":"IF(P_14号3様式!T27=\"\",\"\",P_14号3様式!T27)","v":""}]
[{"$f":"IF(P_14号3様式!C28=\"\",\"\",P_14号3様式!C28)","v":"＊（日置市区）計"},null,{"$f":"IF(P_14号3様式!D28=\"\",\"\",P_14号3様式!D28)","v":""},{"$f":"IF(P_14号3様式!E28=\"\",\"\",P_14号3様式!E28)","v":""},{"$f":"IF(P_14号3様式!F28=\"\",\"\",P_14号3様式!F28)","v":""},{"$f":"IF(P_14号3様式!G28=\"\",\"\",P_14号3様式!G28)","v":""},{"$f":"IF(P_14号3様式!H28=\"\",\"\",P_14号3様式!H28)","v":""},{"$f":"IF(P_14号3様式!I28=\"\",\"\",P_14号3様式!I28)","v":""},{"$f":"IF(P_14号3様式!J28=\"\",\"\",P_14号3様式!J28)","v":""},{"$f":"IF(P_14号3様式!K28=\"\",\"\",P_14号3様式!K28)","v":""},{"$f":"IF(P_14号3様式!L28=\"\",\"\",P_14号3様式!L28)","v":""},{"$f":"IF(P_14号3様式!M28=\"\",\"\",P_14号3様式!M28)","v":""},{"$f":"IF(P_14号3様式!N28=\"\",\"\",P_14号3様式!N28)","v":""},null,null,{"$f":"IF(P_14号3様式!O28=\"\",\"\",P_14号3様式!O28)","v":""},null,null,{"$f":"IF(P_14号3様式!P28=\"\",\"\",P_14号3様式!P28)","v":""},{"$f":"IF(P_14号3様式!Q28=\"\",\"\",P_14号3様式!Q28)","v":""},{"$f":"IF(P_14号3様式!R28=\"\",\"\",P_14号3様式!R28)","v":""},{"$f":"IF(P_14号3様式!S28=\"\",\"\",P_14号3様式!S28)","v":""},{"$f":"IF(P_14号3様式!T28=\"\",\"\",P_14号3様式!T28)","v":""}]
[{"$f":"IF(P_14号3様式!C29=\"\",\"\",P_14号3様式!C29)","v":"★曽於市"},null,{"$f":"IF(P_14号3様式!D29=\"\",\"\",P_14号3様式!D29)","v":""},{"$f":"IF(P_14号3様式!E29=\"\",\"\",P_14号3様式!E29)","v":""},{"$f":"IF(P_14号3様式!F29=\"\",\"\",P_14号3様式!F29)","v":""},{"$f":"IF(P_14号3様式!G29=\"\",\"\",P_14号3様式!G29)","v":""},{"$f":"IF(P_14号3様式!H29=\"\",\"\",P_14号3様式!H29)","v":""},{"$f":"IF(P_14号3様式!I29=\"\",\"\",P_14号3様式!I29)","v":""},{"$f":"IF(P_14号3様式!J29=\"\",\"\",P_14号3様式!J29)","v":""},{"$f":"IF(P_14号3様式!K29=\"\",\"\",P_14号3様式!K29)","v":""},{"$f":"IF(P_14号3様式!L29=\"\",\"\",P_14号3様式!L29)","v":""},{"$f":"IF(P_14号3様式!M29=\"\",\"\",P_14号3様式!M29)","v":""},{"$f":"IF(P_14号3様式!N29=\"\",\"\",P_14号3様式!N29)","v":""},null,null,{"$f":"IF(P_14号3様式!O29=\"\",\"\",P_14号3様式!O29)","v":""},null,null,{"$f":"IF(P_14号3様式!P29=\"\",\"\",P_14号3様式!P29)","v":""},{"$f":"IF(P_14号3様式!Q29=\"\",\"\",P_14号3様式!Q29)","v":""},{"$f":"IF(P_14号3様式!R29=\"\",\"\",P_14号3様式!R29)","v":""},{"$f":"IF(P_14号3様式!S29=\"\",\"\",P_14号3様式!S29)","v":""},{"$f":"IF(P_14号3様式!T29=\"\",\"\",P_14号3様式!T29)","v":""}]
[{"$f":"IF(P_14号3様式!C30=\"\",\"\",P_14号3様式!C30)","v":"＊（曽於市区）計"},null,{"$f":"IF(P_14号3様式!D30=\"\",\"\",P_14号3様式!D30)","v":""},{"$f":"IF(P_14号3様式!E30=\"\",\"\",P_14号3様式!E30)","v":""},{"$f":"IF(P_14号3様式!F30=\"\",\"\",P_14号3様式!F30)","v":""},{"$f":"IF(P_14号3様式!G30=\"\",\"\",P_14号3様式!G30)","v":""},{"$f":"IF(P_14号3様式!H30=\"\",\"\",P_14号3様式!H30)","v":""},{"$f":"IF(P_14号3様式!I30=\"\",\"\",P_14号3様式!I30)","v":""},{"$f":"IF(P_14号3様式!J30=\"\",\"\",P_14号3様式!J30)","v":""},{"$f":"IF(P_14号3様式!K30=\"\",\"\",P_14号3様式!K30)","v":""},{"$f":"IF(P_14号3様式!L30=\"\",\"\",P_14号3様式!L30)","v":""},{"$f":"IF(P_14号3様式!M30=\"\",\"\",P_14号3様式!M30)","v":""},{"$f":"IF(P_14号3様式!N30=\"\",\"\",P_14号3様式!N30)","v":""},null,null,{"$f":"IF(P_14号3様式!O30=\"\",\"\",P_14号3様式!O30)","v":""},null,null,{"$f":"IF(P_14号3様式!P30=\"\",\"\",P_14号3様式!P30)","v":""},{"$f":"IF(P_14号3様式!Q30=\"\",\"\",P_14号3様式!Q30)","v":""},{"$f":"IF(P_14号3様式!R30=\"\",\"\",P_14号3様式!R30)","v":""},{"$f":"IF(P_14号3様式!S30=\"\",\"\",P_14号3様式!S30)","v":""},{"$f":"IF(P_14号3様式!T30=\"\",\"\",P_14号3様式!T30)","v":""}]
[{"$f":"IF(P_14号3様式!C31=\"\",\"\",P_14号3様式!C31)","v":"★霧島市"},null,{"$f":"IF(P_14号3様式!D31=\"\",\"\",P_14号3様式!D31)","v":""},{"$f":"IF(P_14号3様式!E31=\"\",\"\",P_14号3様式!E31)","v":""},{"$f":"IF(P_14号3様式!F31=\"\",\"\",P_14号3様式!F31)","v":""},{"$f":"IF(P_14号3様式!G31=\"\",\"\",P_14号3様式!G31)","v":""},{"$f":"IF(P_14号3様式!H31=\"\",\"\",P_14号3様式!H31)","v":""},{"$f":"IF(P_14号3様式!I31=\"\",\"\",P_14号3様式!I31)","v":""},{"$f":"IF(P_14号3様式!J31=\"\",\"\",P_14号3様式!J31)","v":""},{"$f":"IF(P_14号3様式!K31=\"\",\"\",P_14号3様式!K31)","v":""},{"$f":"IF(P_14号3様式!L31=\"\",\"\",P_14号3様式!L31)","v":""},{"$f":"IF(P_14号3様式!M31=\"\",\"\",P_14号3様式!M31)","v":""},{"$f":"IF(P_14号3様式!N31=\"\",\"\",P_14号3様式!N31)","v":""},null,null,{"$f":"IF(P_14号3様式!O31=\"\",\"\",P_14号3様式!O31)","v":""},null,null,{"$f":"IF(P_14号3様式!P31=\"\",\"\",P_14号3様式!P31)","v":""},{"$f":"IF(P_14号3様式!Q31=\"\",\"\",P_14号3様式!Q31)","v":""},{"$f":"IF(P_14号3様式!R31=\"\",\"\",P_14号3様式!R31)","v":16.308507506623499},{"$f":"IF(P_14号3様式!S31=\"\",\"\",P_14号3様式!S31)","v":13.8315294117647},{"$f":"IF(P_14号3様式!T31=\"\",\"\",P_14号3様式!T31)","v":15.0015394853153}]
[{"$f":"IF(P_14号3様式!C32=\"\",\"\",P_14号3様式!C32)","v":"★湧水町"},null,{"$f":"IF(P_14号3様式!D32=\"\",\"\",P_14号3様式!D32)","v":""},{"$f":"IF(P_14号3様式!E32=\"\",\"\",P_14号3様式!E32)","v":""},{"$f":"IF(P_14号3様式!F32=\"\",\"\",P_14号3様式!F32)","v":""},{"$f":"IF(P_14号3様式!G32=\"\",\"\",P_14号3様式!G32)","v":""},{"$f":"IF(P_14号3様式!H32=\"\",\"\",P_14号3様式!H32)","v":""},{"$f":"IF(P_14号3様式!I32=\"\",\"\",P_14号3様式!I32)","v":""},{"$f":"IF(P_14号3様式!J32=\"\",\"\",P_14号3様式!J32)","v":""},{"$f":"IF(P_14号3様式!K32=\"\",\"\",P_14号3様式!K32)","v":""},{"$f":"IF(P_14号3様式!L32=\"\",\"\",P_14号3様式!L32)","v":""},{"$f":"IF(P_14号3様式!M32=\"\",\"\",P_14号3様式!M32)","v":""},{"$f":"IF(P_14号3様式!N32=\"\",\"\",P_14号3様式!N32)","v":""},null,null,{"$f":"IF(P_14号3様式!O32=\"\",\"\",P_14号3様式!O32)","v":""},null,null,{"$f":"IF(P_14号3様式!P32=\"\",\"\",P_14号3様式!P32)","v":""},{"$f":"IF(P_14号3様式!Q32=\"\",\"\",P_14号3様式!Q32)","v":""},{"$f":"IF(P_14号3様式!R32=\"\",\"\",P_14号3様式!R32)","v":23.9967462039046},{"$f":"IF(P_14号3様式!S32=\"\",\"\",P_14号3様式!S32)","v":19.676739283204501},{"$f":"IF(P_14号3様式!T32=\"\",\"\",P_14号3様式!T32)","v":21.6790247580747}]
[{"$f":"IF(P_14号3様式!C33=\"\",\"\",P_14号3様式!C33)","v":"＊（霧島市・姶良郡区）計"},null,{"$f":"IF(P_14号3様式!D33=\"\",\"\",P_14号3様式!D33)","v":""},{"$f":"IF(P_14号3様式!E33=\"\",\"\",P_14号3様式!E33)","v":""},{"$f":"IF(P_14号3様式!F33=\"\",\"\",P_14号3様式!F33)","v":""},{"$f":"IF(P_14号3様式!G33=\"\",\"\",P_14号3様式!G33)","v":""},{"$f":"IF(P_14号3様式!H33=\"\",\"\",P_14号3様式!H33)","v":""},{"$f":"IF(P_14号3様式!I33=\"\",\"\",P_14号3様式!I33)","v":""},{"$f":"IF(P_14号3様式!J33=\"\",\"\",P_14号3様式!J33)","v":""},{"$f":"IF(P_14号3様式!K33=\"\",\"\",P_14号3様式!K33)","v":""},{"$f":"IF(P_14号3様式!L33=\"\",\"\",P_14号3様式!L33)","v":""},{"$f":"IF(P_14号3様式!M33=\"\",\"\",P_14号3様式!M33)","v":""},{"$f":"IF(P_14号3様式!N33=\"\",\"\",P_14号3様式!N33)","v":""},null,null,{"$f":"IF(P_14号3様式!O33=\"\",\"\",P_14号3様式!O33)","v":""},null,null,{"$f":"IF(P_14号3様式!P33=\"\",\"\",P_14号3様式!P33)","v":""},{"$f":"IF(P_14号3様式!Q33=\"\",\"\",P_14号3様式!Q33)","v":""},{"$f":"IF(P_14号3様式!R33=\"\",\"\",P_14号3様式!R33)","v":16.8618038481052},{"$f":"IF(P_14号3様式!S33=\"\",\"\",P_14号3様式!S33)","v":14.266299613199999},{"$f":"IF(P_14号3様式!T33=\"\",\"\",P_14号3様式!T33)","v":15.4906111929308}]
[{"$f":"IF(P_14号3様式!C34=\"\",\"\",P_14号3様式!C34)","v":"★いちき串木野市"},null,{"$f":"IF(P_14号3様式!D34=\"\",\"\",P_14号3様式!D34)","v":""},{"$f":"IF(P_14号3様式!E34=\"\",\"\",P_14号3様式!E34)","v":""},{"$f":"IF(P_14号3様式!F34=\"\",\"\",P_14号3様式!F34)","v":""},{"$f":"IF(P_14号3様式!G34=\"\",\"\",P_14号3様式!G34)","v":""},{"$f":"IF(P_14号3様式!H34=\"\",\"\",P_14号3様式!H34)","v":""},{"$f":"IF(P_14号3様式!I34=\"\",\"\",P_14号3様式!I34)","v":""},{"$f":"IF(P_14号3様式!J34=\"\",\"\",P_14号3様式!J34)","v":""},{"$f":"IF(P_14号3様式!K34=\"\",\"\",P_14号3様式!K34)","v":""},{"$f":"IF(P_14号3様式!L34=\"\",\"\",P_14号3様式!L34)","v":""},{"$f":"IF(P_14号3様式!M34=\"\",\"\",P_14号3様式!M34)","v":""},{"$f":"IF(P_14号3様式!N34=\"\",\"\",P_14号3様式!N34)","v":""},null,null,{"$f":"IF(P_14号3様式!O34=\"\",\"\",P_14号3様式!O34)","v":""},null,null,{"$f":"IF(P_14号3様式!P34=\"\",\"\",P_14号3様式!P34)","v":""},{"$f":"IF(P_14号3様式!Q34=\"\",\"\",P_14号3様式!Q34)","v":""},{"$f":"IF(P_14号3様式!R34=\"\",\"\",P_14号3様式!R34)","v":15.125507567368},{"$f":"IF(P_14号3様式!S34=\"\",\"\",P_14号3様式!S34)","v":12.7842264270949},{"$f":"IF(P_14号3様式!T34=\"\",\"\",P_14号3様式!T34)","v":13.8677714188093}]
[{"$f":"IF(P_14号3様式!C35=\"\",\"\",P_14号3様式!C35)","v":"＊（いちき串木野市区）計"},null,{"$f":"IF(P_14号3様式!D35=\"\",\"\",P_14号3様式!D35)","v":""},{"$f":"IF(P_14号3様式!E35=\"\",\"\",P_14号3様式!E35)","v":""},{"$f":"IF(P_14号3様式!F35=\"\",\"\",P_14号3様式!F35)","v":""},{"$f":"IF(P_14号3様式!G35=\"\",\"\",P_14号3様式!G35)","v":""},{"$f":"IF(P_14号3様式!H35=\"\",\"\",P_14号3様式!H35)","v":""},{"$f":"IF(P_14号3様式!I35=\"\",\"\",P_14号3様式!I35)","v":""},{"$f":"IF(P_14号3様式!J35=\"\",\"\",P_14号3様式!J35)","v":""},{"$f":"IF(P_14号3様式!K35=\"\",\"\",P_14号3様式!K35)","v":""},{"$f":"IF(P_14号3様式!L35=\"\",\"\",P_14号3様式!L35)","v":""},{"$f":"IF(P_14号3様式!M35=\"\",\"\",P_14号3様式!M35)","v":""},{"$f":"IF(P_14号3様式!N35=\"\",\"\",P_14号3様式!N35)","v":""},null,null,{"$f":"IF(P_14号3様式!O35=\"\",\"\",P_14号3様式!O35)","v":""},null,null,{"$f":"IF(P_14号3様式!P35=\"\",\"\",P_14号3様式!P35)","v":""},{"$f":"IF(P_14号3様式!Q35=\"\",\"\",P_14号3様式!Q35)","v":""},{"$f":"IF(P_14号3様式!R35=\"\",\"\",P_14号3様式!R35)","v":15.125507567368},{"$f":"IF(P_14号3様式!S35=\"\",\"\",P_14号3様式!S35)","v":12.7842264270949},{"$f":"IF(P_14号3様式!T35=\"\",\"\",P_14号3様式!T35)","v":13.8677714188093}]
[{"$f":"IF(P_14号3様式!C36=\"\",\"\",P_14号3様式!C36)","v":"★南さつま市"},null,{"$f":"IF(P_14号3様式!D36=\"\",\"\",P_14号3様式!D36)","v":""},{"$f":"IF(P_14号3様式!E36=\"\",\"\",P_14号3様式!E36)","v":""},{"$f":"IF(P_14号3様式!F36=\"\",\"\",P_14号3様式!F36)","v":""},{"$f":"IF(P_14号3様式!G36=\"\",\"\",P_14号3様式!G36)","v":""},{"$f":"IF(P_14号3様式!H36=\"\",\"\",P_14号3様式!H36)","v":""},{"$f":"IF(P_14号3様式!I36=\"\",\"\",P_14号3様式!I36)","v":""},{"$f":"IF(P_14号3様式!J36=\"\",\"\",P_14号3様式!J36)","v":""},{"$f":"IF(P_14号3様式!K36=\"\",\"\",P_14号3様式!K36)","v":""},{"$f":"IF(P_14号3様式!L36=\"\",\"\",P_14号3様式!L36)","v":""},{"$f":"IF(P_14号3様式!M36=\"\",\"\",P_14号3様式!M36)","v":""},{"$f":"IF(P_14号3様式!N36=\"\",\"\",P_14号3様式!N36)","v":""},null,null,{"$f":"IF(P_14号3様式!O36=\"\",\"\",P_14号3様式!O36)","v":""},null,null,{"$f":"IF(P_14号3様式!P36=\"\",\"\",P_14号3様式!P36)","v":""},{"$f":"IF(P_14号3様式!Q36=\"\",\"\",P_14号3様式!Q36)","v":""},{"$f":"IF(P_14号3様式!R36=\"\",\"\",P_14号3様式!R36)","v":""},{"$f":"IF(P_14号3様式!S36=\"\",\"\",P_14号3様式!S36)","v":""},{"$f":"IF(P_14号3様式!T36=\"\",\"\",P_14号3様式!T36)","v":""}]
[{"$f":"IF(P_14号3様式!C37=\"\",\"\",P_14号3様式!C37)","v":"＊（南さつま市区）計"},null,{"$f":"IF(P_14号3様式!D37=\"\",\"\",P_14号3様式!D37)","v":""},{"$f":"IF(P_14号3様式!E37=\"\",\"\",P_14号3様式!E37)","v":""},{"$f":"IF(P_14号3様式!F37=\"\",\"\",P_14号3様式!F37)","v":""},{"$f":"IF(P_14号3様式!G37=\"\",\"\",P_14号3様式!G37)","v":""},{"$f":"IF(P_14号3様式!H37=\"\",\"\",P_14号3様式!H37)","v":""},{"$f":"IF(P_14号3様式!I37=\"\",\"\",P_14号3様式!I37)","v":""},{"$f":"IF(P_14号3様式!J37=\"\",\"\",P_14号3様式!J37)","v":""},{"$f":"IF(P_14号3様式!K37=\"\",\"\",P_14号3様式!K37)","v":""},{"$f":"IF(P_14号3様式!L37=\"\",\"\",P_14号3様式!L37)","v":""},{"$f":"IF(P_14号3様式!M37=\"\",\"\",P_14号3様式!M37)","v":""},{"$f":"IF(P_14号3様式!N37=\"\",\"\",P_14号3様式!N37)","v":""},null,null,{"$f":"IF(P_14号3様式!O37=\"\",\"\",P_14号3様式!O37)","v":""},null,null,{"$f":"IF(P_14号3様式!P37=\"\",\"\",P_14号3様式!P37)","v":""},{"$f":"IF(P_14号3様式!Q37=\"\",\"\",P_14号3様式!Q37)","v":""},{"$f":"IF(P_14号3様式!R37=\"\",\"\",P_14号3様式!R37)","v":""},{"$f":"IF(P_14号3様式!S37=\"\",\"\",P_14号3様式!S37)","v":""},{"$f":"IF(P_14号3様式!T37=\"\",\"\",P_14号3様式!T37)","v":""}]
[{"$f":"IF(P_14号3様式!C38=\"\",\"\",P_14号3様式!C38)","v":"★志布志市"},null,{"$f":"IF(P_14号3様式!D38=\"\",\"\",P_14号3様式!D38)","v":""},{"$f":"IF(P_14号3様式!E38=\"\",\"\",P_14号3様式!E38)","v":""},{"$f":"IF(P_14号3様式!F38=\"\",\"\",P_14号3様式!F38)","v":""},{"$f":"IF(P_14号3様式!G38=\"\",\"\",P_14号3様式!G38)","v":""},{"$f":"IF(P_14号3様式!H38=\"\",\"\",P_14号3様式!H38)","v":""},{"$f":"IF(P_14号3様式!I38=\"\",\"\",P_14号3様式!I38)","v":""},{"$f":"IF(P_14号3様式!J38=\"\",\"\",P_14号3様式!J38)","v":""},{"$f":"IF(P_14号3様式!K38=\"\",\"\",P_14号3様式!K38)","v":""},{"$f":"IF(P_14号3様式!L38=\"\",\"\",P_14号3様式!L38)","v":""},{"$f":"IF(P_14号3様式!M38=\"\",\"\",P_14号3様式!M38)","v":""},{"$f":"IF(P_14号3様式!N38=\"\",\"\",P_14号3様式!N38)","v":""},null,null,{"$f":"IF(P_14号3様式!O38=\"\",\"\",P_14号3様式!O38)","v":""},null,null,{"$f":"IF(P_14号3様式!P38=\"\",\"\",P_14号3様式!P38)","v":""},{"$f":"IF(P_14号3様式!Q38=\"\",\"\",P_14号3様式!Q38)","v":""},{"$f":"IF(P_14号3様式!R38=\"\",\"\",P_14号3様式!R38)","v":15.3253211769581},{"$f":"IF(P_14号3様式!S38=\"\",\"\",P_14号3様式!S38)","v":12.710487444608599},{"$f":"IF(P_14号3様式!T38=\"\",\"\",P_14号3様式!T38)","v":13.9425893380199}]
[{"$f":"IF(P_14号3様式!C39=\"\",\"\",P_14号3様式!C39)","v":"★大崎町"},null,{"$f":"IF(P_14号3様式!D39=\"\",\"\",P_14号3様式!D39)","v":""},{"$f":"IF(P_14号3様式!E39=\"\",\"\",P_14号3様式!E39)","v":""},{"$f":"IF(P_14号3様式!F39=\"\",\"\",P_14号3様式!F39)","v":""},{"$f":"IF(P_14号3様式!G39=\"\",\"\",P_14号3様式!G39)","v":""},{"$f":"IF(P_14号3様式!H39=\"\",\"\",P_14号3様式!H39)","v":""},{"$f":"IF(P_14号3様式!I39=\"\",\"\",P_14号3様式!I39)","v":""},{"$f":"IF(P_14号3様式!J39=\"\",\"\",P_14号3様式!J39)","v":""},{"$f":"IF(P_14号3様式!K39=\"\",\"\",P_14号3様式!K39)","v":""},{"$f":"IF(P_14号3様式!L39=\"\",\"\",P_14号3様式!L39)","v":""},{"$f":"IF(P_14号3様式!M39=\"\",\"\",P_14号3様式!M39)","v":""},{"$f":"IF(P_14号3様式!N39=\"\",\"\",P_14号3様式!N39)","v":""},null,null,{"$f":"IF(P_14号3様式!O39=\"\",\"\",P_14号3様式!O39)","v":""},null,null,{"$f":"IF(P_14号3様式!P39=\"\",\"\",P_14号3様式!P39)","v":""},{"$f":"IF(P_14号3様式!Q39=\"\",\"\",P_14号3様式!Q39)","v":""},{"$f":"IF(P_14号3様式!R39=\"\",\"\",P_14号3様式!R39)","v":19.669294366468002},{"$f":"IF(P_14号3様式!S39=\"\",\"\",P_14号3様式!S39)","v":16.6057441253264},{"$f":"IF(P_14号3様式!T39=\"\",\"\",P_14号3様式!T39)","v":18.061392289420802}]
[{"$f":"IF(P_14号3様式!C40=\"\",\"\",P_14号3様式!C40)","v":"＊（志布志市・曽於郡区）計"},null,{"$f":"IF(P_14号3様式!D40=\"\",\"\",P_14号3様式!D40)","v":""},{"$f":"IF(P_14号3様式!E40=\"\",\"\",P_14号3様式!E40)","v":""},{"$f":"IF(P_14号3様式!F40=\"\",\"\",P_14号3様式!F40)","v":""},{"$f":"IF(P_14号3様式!G40=\"\",\"\",P_14号3様式!G40)","v":""},{"$f":"IF(P_14号3様式!H40=\"\",\"\",P_14号3様式!H40)","v":""},{"$f":"IF(P_14号3様式!I40=\"\",\"\",P_14号3様式!I40)","v":""},{"$f":"IF(P_14号3様式!J40=\"\",\"\",P_14号3様式!J40)","v":""},{"$f":"IF(P_14号3様式!K40=\"\",\"\",P_14号3様式!K40)","v":""},{"$f":"IF(P_14号3様式!L40=\"\",\"\",P_14号3様式!L40)","v":""},{"$f":"IF(P_14号3様式!M40=\"\",\"\",P_14号3様式!M40)","v":""},{"$f":"IF(P_14号3様式!N40=\"\",\"\",P_14号3様式!N40)","v":""},null,null,{"$f":"IF(P_14号3様式!O40=\"\",\"\",P_14号3様式!O40)","v":""},null,null,{"$f":"IF(P_14号3様式!P40=\"\",\"\",P_14号3様式!P40)","v":""},{"$f":"IF(P_14号3様式!Q40=\"\",\"\",P_14号3様式!Q40)","v":""},{"$f":"IF(P_14号3様式!R40=\"\",\"\",P_14号3様式!R40)","v":16.6338468666744},{"$f":"IF(P_14号3様式!S40=\"\",\"\",P_14号3様式!S40)","v":13.870884106818799},{"$f":"IF(P_14号3様式!T40=\"\",\"\",P_14号3様式!T40)","v":15.176055374682001}]
[{"$f":"IF(P_14号3様式!C41=\"\",\"\",P_14号3様式!C41)","v":"★奄美市"},null,{"$f":"IF(P_14号3様式!D41=\"\",\"\",P_14号3様式!D41)","v":""},{"$f":"IF(P_14号3様式!E41=\"\",\"\",P_14号3様式!E41)","v":""},{"$f":"IF(P_14号3様式!F41=\"\",\"\",P_14号3様式!F41)","v":""},{"$f":"IF(P_14号3様式!G41=\"\",\"\",P_14号3様式!G41)","v":""},{"$f":"IF(P_14号3様式!H41=\"\",\"\",P_14号3様式!H41)","v":""},{"$f":"IF(P_14号3様式!I41=\"\",\"\",P_14号3様式!I41)","v":""},{"$f":"IF(P_14号3様式!J41=\"\",\"\",P_14号3様式!J41)","v":""},{"$f":"IF(P_14号3様式!K41=\"\",\"\",P_14号3様式!K41)","v":""},{"$f":"IF(P_14号3様式!L41=\"\",\"\",P_14号3様式!L41)","v":""},{"$f":"IF(P_14号3様式!M41=\"\",\"\",P_14号3様式!M41)","v":""},{"$f":"IF(P_14号3様式!N41=\"\",\"\",P_14号3様式!N41)","v":""},null,null,{"$f":"IF(P_14号3様式!O41=\"\",\"\",P_14号3様式!O41)","v":""},null,null,{"$f":"IF(P_14号3様式!P41=\"\",\"\",P_14号3様式!P41)","v":""},{"$f":"IF(P_14号3様式!Q41=\"\",\"\",P_14号3様式!Q41)","v":""},{"$f":"IF(P_14号3様式!R41=\"\",\"\",P_14号3様式!R41)","v":""},{"$f":"IF(P_14号3様式!S41=\"\",\"\",P_14号3様式!S41)","v":""},{"$f":"IF(P_14号3様式!T41=\"\",\"\",P_14号3様式!T41)","v":""}]
[{"$f":"IF(P_14号3様式!C42=\"\",\"\",P_14号3様式!C42)","v":"★龍郷町"},null,{"$f":"IF(P_14号3様式!D42=\"\",\"\",P_14号3様式!D42)","v":""},{"$f":"IF(P_14号3様式!E42=\"\",\"\",P_14号3様式!E42)","v":""},{"$f":"IF(P_14号3様式!F42=\"\",\"\",P_14号3様式!F42)","v":""},{"$f":"IF(P_14号3様式!G42=\"\",\"\",P_14号3様式!G42)","v":""},{"$f":"IF(P_14号3様式!H42=\"\",\"\",P_14号3様式!H42)","v":""},{"$f":"IF(P_14号3様式!I42=\"\",\"\",P_14号3様式!I42)","v":""},{"$f":"IF(P_14号3様式!J42=\"\",\"\",P_14号3様式!J42)","v":""},{"$f":"IF(P_14号3様式!K42=\"\",\"\",P_14号3様式!K42)","v":""},{"$f":"IF(P_14号3様式!L42=\"\",\"\",P_14号3様式!L42)","v":""},{"$f":"IF(P_14号3様式!M42=\"\",\"\",P_14号3様式!M42)","v":""},{"$f":"IF(P_14号3様式!N42=\"\",\"\",P_14号3様式!N42)","v":""},null,null,{"$f":"IF(P_14号3様式!O42=\"\",\"\",P_14号3様式!O42)","v":""},null,null,{"$f":"IF(P_14号3様式!P42=\"\",\"\",P_14号3様式!P42)","v":""},{"$f":"IF(P_14号3様式!Q42=\"\",\"\",P_14号3様式!Q42)","v":""},{"$f":"IF(P_14号3様式!R42=\"\",\"\",P_14号3様式!R42)","v":""},{"$f":"IF(P_14号3様式!S42=\"\",\"\",P_14号3様式!S42)","v":""},{"$f":"IF(P_14号3様式!T42=\"\",\"\",P_14号3様式!T42)","v":""}]
[{"$f":"IF(P_14号3様式!C43=\"\",\"\",P_14号3様式!C43)","v":"＊（奄美市区）計"},null,{"$f":"IF(P_14号3様式!D43=\"\",\"\",P_14号3様式!D43)","v":""},{"$f":"IF(P_14号3様式!E43=\"\",\"\",P_14号3様式!E43)","v":""},{"$f":"IF(P_14号3様式!F43=\"\",\"\",P_14号3様式!F43)","v":""},{"$f":"IF(P_14号3様式!G43=\"\",\"\",P_14号3様式!G43)","v":""},{"$f":"IF(P_14号3様式!H43=\"\",\"\",P_14号3様式!H43)","v":""},{"$f":"IF(P_14号3様式!I43=\"\",\"\",P_14号3様式!I43)","v":""},{"$f":"IF(P_14号3様式!J43=\"\",\"\",P_14号3様式!J43)","v":""},{"$f":"IF(P_14号3様式!K43=\"\",\"\",P_14号3様式!K43)","v":""},{"$f":"IF(P_14号3様式!L43=\"\",\"\",P_14号3様式!L43)","v":""},{"$f":"IF(P_14号3様式!M43=\"\",\"\",P_14号3様式!M43)","v":""},{"$f":"IF(P_14号3様式!N43=\"\",\"\",P_14号3様式!N43)","v":""},null,null,{"$f":"IF(P_14号3様式!O43=\"\",\"\",P_14号3様式!O43)","v":""},null,null,{"$f":"IF(P_14号3様式!P43=\"\",\"\",P_14号3様式!P43)","v":""},{"$f":"IF(P_14号3様式!Q43=\"\",\"\",P_14号3様式!Q43)","v":""},{"$f":"IF(P_14号3様式!R43=\"\",\"\",P_14号3様式!R43)","v":""},{"$f":"IF(P_14号3様式!S43=\"\",\"\",P_14号3様式!S43)","v":""},{"$f":"IF(P_14号3様式!T43=\"\",\"\",P_14号3様式!T43)","v":""}]
[{"$f":"IF(P_14号3様式!C44=\"\",\"\",P_14号3様式!C44)","v":"★南九州市"},null,{"$f":"IF(P_14号3様式!D44=\"\",\"\",P_14号3様式!D44)","v":""},{"$f":"IF(P_14号3様式!E44=\"\",\"\",P_14号3様式!E44)","v":""},{"$f":"IF(P_14号3様式!F44=\"\",\"\",P_14号3様式!F44)","v":""},{"$f":"IF(P_14号3様式!G44=\"\",\"\",P_14号3様式!G44)","v":""},{"$f":"IF(P_14号3様式!H44=\"\",\"\",P_14号3様式!H44)","v":""},{"$f":"IF(P_14号3様式!I44=\"\",\"\",P_14号3様式!I44)","v":""},{"$f":"IF(P_14号3様式!J44=\"\",\"\",P_14号3様式!J44)","v":""},{"$f":"IF(P_14号3様式!K44=\"\",\"\",P_14号3様式!K44)","v":""},{"$f":"IF(P_14号3様式!L44=\"\",\"\",P_14号3様式!L44)","v":""},{"$f":"IF(P_14号3様式!M44=\"\",\"\",P_14号3様式!M44)","v":""},{"$f":"IF(P_14号3様式!N44=\"\",\"\",P_14号3様式!N44)","v":""},null,null,{"$f":"IF(P_14号3様式!O44=\"\",\"\",P_14号3様式!O44)","v":""},null,null,{"$f":"IF(P_14号3様式!P44=\"\",\"\",P_14号3様式!P44)","v":""},{"$f":"IF(P_14号3様式!Q44=\"\",\"\",P_14号3様式!Q44)","v":""},{"$f":"IF(P_14号3様式!R44=\"\",\"\",P_14号3様式!R44)","v":""},{"$f":"IF(P_14号3様式!S44=\"\",\"\",P_14号3様式!S44)","v":""},{"$f":"IF(P_14号3様式!T44=\"\",\"\",P_14号3様式!T44)","v":""}]
[]
["県        計",null,{"$f":"IF(P_14号3様式!U2=\"\",\"\",P_14号3様式!U2)","v":36696},{"$f":"IF(P_14号3様式!V2=\"\",\"\",P_14号3様式!V2)","v":40457},{"$f":"IF(P_14号3様式!W2=\"\",\"\",P_14号3様式!W2)","v":77153},{"$f":"IF(P_14号3様式!X2=\"\",\"\",P_14号3様式!X2)","v":6470},{"$f":"IF(P_14号3様式!Y2=\"\",\"\",P_14号3様式!Y2)","v":6236},{"$f":"IF(P_14号3様式!Z2=\"\",\"\",P_14号3様式!Z2)","v":12706},{"$f":"IF(P_14号3様式!AA2=\"\",\"\",P_14号3様式!AA2)","v":""},{"$f":"IF(P_14号3様式!AB2=\"\",\"\",P_14号3様式!AB2)","v":""},{"$f":"IF(P_14号3様式!AC2=\"\",\"\",P_14号3様式!AC2)","v":""},{"$f":"IF(P_14号3様式!AD2=\"\",\"\",P_14号3様式!AD2)","v":17.631349465881801},{"$f":"IF(P_14号3様式!AE2=\"\",\"\",P_14号3様式!AE2)","v":15.4138962355093},null,null,{"$f":"IF(P_14号3様式!AF2=\"\",\"\",P_14号3様式!AF2)","v":16.4685754280456},null,null,null,{"$f":"IF(P_14号3様式!AG2=\"\",\"\",P_14号3様式!AG2)","v":""},{"$f":"IF(P_14号3様式!AH2=\"\",\"\",P_14号3様式!AH2)","v":15.556641548062199},{"$f":"IF(P_14号3様式!AI2=\"\",\"\",P_14号3様式!AI2)","v":13.181268677814501},{"$f":"IF(P_14号3様式!AJ2=\"\",\"\",P_14号3様式!AJ2)","v":14.2812308506101}]
[]
[]
[]
["第14号の3様式",null,null,null,null,null,null,null,null,null,null,null,null,null,null,null,null,null,null,null,null,{"$f":"IF(P_14号3様式!A45=\"\",\" ページ\", P_14号3様式!A45 & \"ページ\")","v":"2ページ"}]
[null,null,null,null,null,null,{"$f":"+G2","v":"投　票　速　報"},null,null,null,null,null,null,"中間報告",null,null,{"$f":"IF(P_14号3様式!AL45=\"\",\"第　　　回\",\"第 　\" & P_14号3様式!AL45 & \"　回\")","v":"第 　2　回"},null,null,null,{"$f":"IF(P_14号3様式!AM45=\"\",\"        時     　 分　現在\",P_14号3様式!AM45)","v":"11:00:00"}]
[null,{"$f":"IF(パラメタシート!B1=\"\",\"\",パラメタシート!B1)","v":"2020-07-12"},null,null,null,null,null,null,null,null,null,null,null,"結了報告",null,null,null,null,null,null,{"$f":"IF(P_14号3様式!AG45=\"\",\"        時     　 分　結了\",P_14号3様式!AG45)","v":"        時     　 分　結了"}]
[null,{"$f":"IF(P_14号3様式!AK45=\"\",\"\",P_14号3様式!AK45)","v":"鹿児島県議会議員補欠選挙"},null,null,null,null,null,"（ 選 挙 区 別 ）",null,null,null,null,null,null,null,null,null,null,null,null,null,"鹿 児 島 県"]
[]
["市区町村名",null,"当 日 有 権 者 数（ｅ'）\n（ 当日有権者見込（ｅ））",null,null,{"$f":"IF(P_14号3様式!AM45=\"\",\"（ｆ)\",\"（ｱ)\")","v":"（ｱ)"},null,null,"（ｇ)\n棄　権　者　数",null,null,{"$f":"IF(P_14号3様式!AM45=\"\",\"\",\"当日投票者\")","v":"当日投票者"},null,"（ｈ)",null,null,null,null,"投\n票\n率\n順\n位","投票\n結了\n時刻","前回選挙の投票率"]
[null,null,null,null,null,{"$f":"IF(P_14号3様式!AM45=\"\",\"投 票 者 数\",\"当 日 投 票 者 数\")","v":"当 日 投 票 者 数"},null,null,null,null,null,"投 票 率 =",null,{"$f":"IF(P_14号3様式!AM45=\"\",\"（ｆ)\",\"（ｱ)\")","v":"（ｱ)"},"(",{"$f":"IF(P_14号3様式!AM45=\"\",\"（ｆ)\",\"（ｱ)\")","v":"（ｱ)"},")"]
[null,null,null,null,null,null,null,null,null,null,null,null,null,"（ｅ'）",null,"（ｅ ）"]
[null,null,"男","女","計","男","女","計","男","女","計","男","女",null,null,"計",null,null,null,null,"男","女","計"]
[{"$f":"IF(P_14号3様式!C45=\"\",\"\",P_14号3様式!C45)","v":"＊（南九州市区）計"},null,{"$f":"IF(P_14号3様式!D45=\"\",\"\",P_14号3様式!D45)","v":""},{"$f":"IF(P_14号3様式!E45=\"\",\"\",P_14号3様式!E45)","v":""},{"$f":"IF(P_14号3様式!F45=\"\",\"\",P_14号3様式!F45)","v":""},{"$f":"IF(P_14号3様式!G45=\"\",\"\",P_14号3様式!G45)","v":""},{"$f":"IF(P_14号3様式!H45=\"\",\"\",P_14号3様式!H45)","v":""},{"$f":"IF(P_14号3様式!I45=\"\",\"\",P_14号3様式!I45)","v":""},{"$f":"IF(P_14号3様式!J45=\"\",\"\",P_14号3様式!J45)","v":""},{"$f":"IF(P_14号3様式!K45=\"\",\"\",P_14号3様式!K45)","v":""},{"$f":"IF(P_14号3様式!L45=\"\",\"\",P_14号3様式!L45)","v":""},{"$f":"IF(P_14号3様式!M45=\"\",\"\",P_14号3様式!M45)","v":""},{"$f":"IF(P_14号3様式!N45=\"\",\"\",P_14号3様式!N45)","v":""},null,null,{"$f":"IF(P_14号3様式!O45=\"\",\"\",P_14号3様式!O45)","v":""},null,null,{"$f":"IF(P_14号3様式!P45=\"\",\"\",P_14号3様式!P45)","v":""},{"$f":"IF(P_14号3様式!Q45=\"\",\"\",P_14号3様式!Q45)","v":""},{"$f":"IF(P_14号3様式!R45=\"\",\"\",P_14号3様式!R45)","v":""},{"$f":"IF(P_14号3様式!S45=\"\",\"\",P_14号3様式!S45)","v":""},{"$f":"IF(P_14号3様式!T45=\"\",\"\",P_14号3様式!T45)","v":""}]
[{"$f":"IF(P_14号3様式!C46=\"\",\"\",P_14号3様式!C46)","v":"★伊佐市"},null,{"$f":"IF(P_14号3様式!D46=\"\",\"\",P_14号3様式!D46)","v":""},{"$f":"IF(P_14号3様式!E46=\"\",\"\",P_14号3様式!E46)","v":""},{"$f":"IF(P_14号3様式!F46=\"\",\"\",P_14号3様式!F46)","v":""},{"$f":"IF(P_14号3様式!G46=\"\",\"\",P_14号3様式!G46)","v":""},{"$f":"IF(P_14号3様式!H46=\"\",\"\",P_14号3様式!H46)","v":""},{"$f":"IF(P_14号3様式!I46=\"\",\"\",P_14号3様式!I46)","v":""},{"$f":"IF(P_14号3様式!J46=\"\",\"\",P_14号3様式!J46)","v":""},{"$f":"IF(P_14号3様式!K46=\"\",\"\",P_14号3様式!K46)","v":""},{"$f":"IF(P_14号3様式!L46=\"\",\"\",P_14号3様式!L46)","v":""},{"$f":"IF(P_14号3様式!M46=\"\",\"\",P_14号3様式!M46)","v":""},{"$f":"IF(P_14号3様式!N46=\"\",\"\",P_14号3様式!N46)","v":""},null,null,{"$f":"IF(P_14号3様式!O46=\"\",\"\",P_14号3様式!O46)","v":""},null,null,{"$f":"IF(P_14号3様式!P46=\"\",\"\",P_14号3様式!P46)","v":""},{"$f":"IF(P_14号3様式!Q46=\"\",\"\",P_14号3様式!Q46)","v":""},{"$f":"IF(P_14号3様式!R46=\"\",\"\",P_14号3様式!R46)","v":""},{"$f":"IF(P_14号3様式!S46=\"\",\"\",P_14号3様式!S46)","v":""},{"$f":"IF(P_14号3様式!T46=\"\",\"\",P_14号3様式!T46)","v":""}]
[{"$f":"IF(P_14号3様式!C47=\"\",\"\",P_14号3様式!C47)","v":"＊（伊佐市区）計"},null,{"$f":"IF(P_14号3様式!D47=\"\",\"\",P_14号3様式!D47)","v":""},{"$f":"IF(P_14号3様式!E47=\"\",\"\",P_14号3様式!E47)","v":""},{"$f":"IF(P_14号3様式!F47=\"\",\"\",P_14号3様式!F47)","v":""},{"$f":"IF(P_14号3様式!G47=\"\",\"\",P_14号3様式!G47)","v":""},{"$f":"IF(P_14号3様式!H47=\"\",\"\",P_14号3様式!H47)","v":""},{"$f":"IF(P_14号3様式!I47=\"\",\"\",P_14号3様式!I47)","v":""},{"$f":"IF(P_14号3様式!J47=\"\",\"\",P_14号3様式!J47)","v":""},{"$f":"IF(P_14号3様式!K47=\"\",\"\",P_14号3様式!K47)","v":""},{"$f":"IF(P_14号3様式!L47=\"\",\"\",P_14号3様式!L47)","v":""},{"$f":"IF(P_14号3様式!M47=\"\",\"\",P_14号3様式!M47)","v":""},{"$f":"IF(P_14号3様式!N47=\"\",\"\",P_14号3様式!N47)","v":""},null,null,{"$f":"IF(P_14号3様式!O47=\"\",\"\",P_14号3様式!O47)","v":""},null,null,{"$f":"IF(P_14号3様式!P47=\"\",\"\",P_14号3様式!P47)","v":""},{"$f":"IF(P_14号3様式!Q47=\"\",\"\",P_14号3様式!Q47)","v":""},{"$f":"IF(P_14号3様式!R47=\"\",\"\",P_14号3様式!R47)","v":""},{"$f":"IF(P_14号3様式!S47=\"\",\"\",P_14号3様式!S47)","v":""},{"$f":"IF(P_14号3様式!T47=\"\",\"\",P_14号3様式!T47)","v":""}]
[{"$f":"IF(P_14号3様式!C48=\"\",\"\",P_14号3様式!C48)","v":"★姶良市"},null,{"$f":"IF(P_14号3様式!D48=\"\",\"\",P_14号3様式!D48)","v":""},{"$f":"IF(P_14号3様式!E48=\"\",\"\",P_14号3様式!E48)","v":""},{"$f":"IF(P_14号3様式!F48=\"\",\"\",P_14号3様式!F48)","v":""},{"$f":"IF(P_14号3様式!G48=\"\",\"\",P_14号3様式!G48)","v":""},{"$f":"IF(P_14号3様式!H48=\"\",\"\",P_14号3様式!H48)","v":""},{"$f":"IF(P_14号3様式!I48=\"\",\"\",P_14号3様式!I48)","v":""},{"$f":"IF(P_14号3様式!J48=\"\",\"\",P_14号3様式!J48)","v":""},{"$f":"IF(P_14号3様式!K48=\"\",\"\",P_14号3様式!K48)","v":""},{"$f":"IF(P_14号3様式!L48=\"\",\"\",P_14号3様式!L48)","v":""},{"$f":"IF(P_14号3様式!M48=\"\",\"\",P_14号3様式!M48)","v":""},{"$f":"IF(P_14号3様式!N48=\"\",\"\",P_14号3様式!N48)","v":""},null,null,{"$f":"IF(P_14号3様式!O48=\"\",\"\",P_14号3様式!O48)","v":""},null,null,{"$f":"IF(P_14号3様式!P48=\"\",\"\",P_14号3様式!P48)","v":""},{"$f":"IF(P_14号3様式!Q48=\"\",\"\",P_14号3様式!Q48)","v":""},{"$f":"IF(P_14号3様式!R48=\"\",\"\",P_14号3様式!R48)","v":16.330107979245501},{"$f":"IF(P_14号3様式!S48=\"\",\"\",P_14号3様式!S48)","v":13.4648472263423},{"$f":"IF(P_14号3様式!T48=\"\",\"\",P_14号3様式!T48)","v":14.7780955747662}]
[{"$f":"IF(P_14号3様式!C49=\"\",\"\",P_14号3様式!C49)","v":"＊（姶良市区）計"},null,{"$f":"IF(P_14号3様式!D49=\"\",\"\",P_14号3様式!D49)","v":""},{"$f":"IF(P_14号3様式!E49=\"\",\"\",P_14号3様式!E49)","v":""},{"$f":"IF(P_14号3様式!F49=\"\",\"\",P_14号3様式!F49)","v":""},{"$f":"IF(P_14号3様式!G49=\"\",\"\",P_14号3様式!G49)","v":""},{"$f":"IF(P_14号3様式!H49=\"\",\"\",P_14号3様式!H49)","v":""},{"$f":"IF(P_14号3様式!I49=\"\",\"\",P_14号3様式!I49)","v":""},{"$f":"IF(P_14号3様式!J49=\"\",\"\",P_14号3様式!J49)","v":""},{"$f":"IF(P_14号3様式!K49=\"\",\"\",P_14号3様式!K49)","v":""},{"$f":"IF(P_14号3様式!L49=\"\",\"\",P_14号3様式!L49)","v":""},{"$f":"IF(P_14号3様式!M49=\"\",\"\",P_14号3様式!M49)","v":""},{"$f":"IF(P_14号3様式!N49=\"\",\"\",P_14号3様式!N49)","v":""},null,null,{"$f":"IF(P_14号3様式!O49=\"\",\"\",P_14号3様式!O49)","v":""},null,null,{"$f":"IF(P_14号3様式!P49=\"\",\"\",P_14号3様式!P49)","v":""},{"$f":"IF(P_14号3様式!Q49=\"\",\"\",P_14号3様式!Q49)","v":""},{"$f":"IF(P_14号3様式!R49=\"\",\"\",P_14号3様式!R49)","v":16.330107979245501},{"$f":"IF(P_14号3様式!S49=\"\",\"\",P_14号3様式!S49)","v":13.4648472263423},{"$f":"IF(P_14号3様式!T49=\"\",\"\",P_14号3様式!T49)","v":14.7780955747662}]
[{"$f":"IF(P_14号3様式!C50=\"\",\"\",P_14号3様式!C50)","v":"★さつま町"},null,{"$f":"IF(P_14号3様式!D50=\"\",\"\",P_14号3様式!D50)","v":""},{"$f":"IF(P_14号3様式!E50=\"\",\"\",P_14号3様式!E50)","v":""},{"$f":"IF(P_14号3様式!F50=\"\",\"\",P_14号3様式!F50)","v":""},{"$f":"IF(P_14号3様式!G50=\"\",\"\",P_14号3様式!G50)","v":""},{"$f":"IF(P_14号3様式!H50=\"\",\"\",P_14号3様式!H50)","v":""},{"$f":"IF(P_14号3様式!I50=\"\",\"\",P_14号3様式!I50)","v":""},{"$f":"IF(P_14号3様式!J50=\"\",\"\",P_14号3様式!J50)","v":""},{"$f":"IF(P_14号3様式!K50=\"\",\"\",P_14号3様式!K50)","v":""},{"$f":"IF(P_14号3様式!L50=\"\",\"\",P_14号3様式!L50)","v":""},{"$f":"IF(P_14号3様式!M50=\"\",\"\",P_14号3様式!M50)","v":""},{"$f":"IF(P_14号3様式!N50=\"\",\"\",P_14号3様式!N50)","v":""},null,null,{"$f":"IF(P_14号3様式!O50=\"\",\"\",P_14号3様式!O50)","v":""},null,null,{"$f":"IF(P_14号3様式!P50=\"\",\"\",P_14号3様式!P50)","v":""},{"$f":"IF(P_14号3様式!Q50=\"\",\"\",P_14号3様式!Q50)","v":""},{"$f":"IF(P_14号3様式!R50=\"\",\"\",P_14号3様式!R50)","v":27.538163314756499},{"$f":"IF(P_14号3様式!S50=\"\",\"\",P_14号3様式!S50)","v":24.060618642308501},{"$f":"IF(P_14号3様式!T50=\"\",\"\",P_14号3様式!T50)","v":25.665250447227201}]
[{"$f":"IF(P_14号3様式!C51=\"\",\"\",P_14号3様式!C51)","v":"＊（薩摩郡区）計"},null,{"$f":"IF(P_14号3様式!D51=\"\",\"\",P_14号3様式!D51)","v":""},{"$f":"IF(P_14号3様式!E51=\"\",\"\",P_14号3様式!E51)","v":""},{"$f":"IF(P_14号3様式!F51=\"\",\"\",P_14号3様式!F51)","v":""},{"$f":"IF(P_14号3様式!G51=\"\",\"\",P_14号3様式!G51)","v":""},{"$f":"IF(P_14号3様式!H51=\"\",\"\",P_14号3様式!H51)","v":""},{"$f":"IF(P_14号3様式!I51=\"\",\"\",P_14号3様式!I51)","v":""},{"$f":"IF(P_14号3様式!J51=\"\",\"\",P_14号3様式!J51)","v":""},{"$f":"IF(P_14号3様式!K51=\"\",\"\",P_14号3様式!K51)","v":""},{"$f":"IF(P_14号3様式!L51=\"\",\"\",P_14号3様式!L51)","v":""},{"$f":"IF(P_14号3様式!M51=\"\",\"\",P_14号3様式!M51)","v":""},{"$f":"IF(P_14号3様式!N51=\"\",\"\",P_14号3様式!N51)","v":""},null,null,{"$f":"IF(P_14号3様式!O51=\"\",\"\",P_14号3様式!O51)","v":""},null,null,{"$f":"IF(P_14号3様式!P51=\"\",\"\",P_14号3様式!P51)","v":""},{"$f":"IF(P_14号3様式!Q51=\"\",\"\",P_14号3様式!Q51)","v":""},{"$f":"IF(P_14号3様式!R51=\"\",\"\",P_14号3様式!R51)","v":27.538163314756499},{"$f":"IF(P_14号3様式!S51=\"\",\"\",P_14号3様式!S51)","v":24.060618642308501},{"$f":"IF(P_14号3様式!T51=\"\",\"\",P_14号3様式!T51)","v":25.665250447227201}]
[{"$f":"IF(P_14号3様式!C52=\"\",\"\",P_14号3様式!C52)","v":"★東串良町"},null,{"$f":"IF(P_14号3様式!D52=\"\",\"\",P_14号3様式!D52)","v":""},{"$f":"IF(P_14号3様式!E52=\"\",\"\",P_14号3様式!E52)","v":""},{"$f":"IF(P_14号3様式!F52=\"\",\"\",P_14号3様式!F52)","v":""},{"$f":"IF(P_14号3様式!G52=\"\",\"\",P_14号3様式!G52)","v":""},{"$f":"IF(P_14号3様式!H52=\"\",\"\",P_14号3様式!H52)","v":""},{"$f":"IF(P_14号3様式!I52=\"\",\"\",P_14号3様式!I52)","v":""},{"$f":"IF(P_14号3様式!J52=\"\",\"\",P_14号3様式!J52)","v":""},{"$f":"IF(P_14号3様式!K52=\"\",\"\",P_14号3様式!K52)","v":""},{"$f":"IF(P_14号3様式!L52=\"\",\"\",P_14号3様式!L52)","v":""},{"$f":"IF(P_14号3様式!M52=\"\",\"\",P_14号3様式!M52)","v":""},{"$f":"IF(P_14号3様式!N52=\"\",\"\",P_14号3様式!N52)","v":""},null,null,{"$f":"IF(P_14号3様式!O52=\"\",\"\",P_14号3様式!O52)","v":""},null,null,{"$f":"IF(P_14号3様式!P52=\"\",\"\",P_14号3様式!P52)","v":""},{"$f":"IF(P_14号3様式!Q52=\"\",\"\",P_14号3様式!Q52)","v":""},{"$f":"IF(P_14号3様式!R52=\"\",\"\",P_14号3様式!R52)","v":""},{"$f":"IF(P_14号3様式!S52=\"\",\"\",P_14号3様式!S52)","v":""},{"$f":"IF(P_14号3様式!T52=\"\",\"\",P_14号3様式!T52)","v":""}]
[{"$f":"IF(P_14号3様式!C53=\"\",\"\",P_14号3様式!C53)","v":"★錦江町"},null,{"$f":"IF(P_14号3様式!D53=\"\",\"\",P_14号3様式!D53)","v":""},{"$f":"IF(P_14号3様式!E53=\"\",\"\",P_14号3様式!E53)","v":""},{"$f":"IF(P_14号3様式!F53=\"\",\"\",P_14号3様式!F53)","v":""},{"$f":"IF(P_14号3様式!G53=\"\",\"\",P_14号3様式!G53)","v":""},{"$f":"IF(P_14号3様式!H53=\"\",\"\",P_14号3様式!H53)","v":""},{"$f":"IF(P_14号3様式!I53=\"\",\"\",P_14号3様式!I53)","v":""},{"$f":"IF(P_14号3様式!J53=\"\",\"\",P_14号3様式!J53)","v":""},{"$f":"IF(P_14号3様式!K53=\"\",\"\",P_14号3様式!K53)","v":""},{"$f":"IF(P_14号3様式!L53=\"\",\"\",P_14号3様式!L53)","v":""},{"$f":"IF(P_14号3様式!M53=\"\",\"\",P_14号3様式!M53)","v":""},{"$f":"IF(P_14号3様式!N53=\"\",\"\",P_14号3様式!N53)","v":""},null,null,{"$f":"IF(P_14号3様式!O53=\"\",\"\",P_14号3様式!O53)","v":""},null,null,{"$f":"IF(P_14号3様式!P53=\"\",\"\",P_14号3様式!P53)","v":""},{"$f":"IF(P_14号3様式!Q53=\"\",\"\",P_14号3様式!Q53)","v":""},{"$f":"IF(P_14号3様式!R53=\"\",\"\",P_14号3様式!R53)","v":""},{"$f":"IF(P_14号3様式!S53=\"\",\"\",P_14号3様式!S53)","v":""},{"$f":"IF(P_14号3様式!T53=\"\",\"\",P_14号3様式!T53)","v":""}]
[{"$f":"IF(P_14号3様式!C54=\"\",\"\",P_14号3様式!C54)","v":"★南大隅町"},null,{"$f":"IF(P_14号3様式!D54=\"\",\"\",P_14号3様式!D54)","v":""},{"$f":"IF(P_14号3様式!E54=\"\",\"\",P_14号3様式!E54)","v":""},{"$f":"IF(P_14号3様式!F54=\"\",\"\",P_14号3様式!F54)","v":""},{"$f":"IF(P_14号3様式!G54=\"\",\"\",P_14号3様式!G54)","v":""},{"$f":"IF(P_14号3様式!H54=\"\",\"\",P_14号3様式!H54)","v":""},{"$f":"IF(P_14号3様式!I54=\"\",\"\",P_14号3様式!I54)","v":""},{"$f":"IF(P_14号3様式!J54=\"\",\"\",P_14号3様式!J54)","v":""},{"$f":"IF(P_14号3様式!K54=\"\",\"\",P_14号3様式!K54)","v":""},{"$f":"IF(P_14号3様式!L54=\"\",\"\",P_14号3様式!L54)","v":""},{"$f":"IF(P_14号3様式!M54=\"\",\"\",P_14号3様式!M54)","v":""},{"$f":"IF(P_14号3様式!N54=\"\",\"\",P_14号3様式!N54)","v":""},null,null,{"$f":"IF(P_14号3様式!O54=\"\",\"\",P_14号3様式!O54)","v":""},null,null,{"$f":"IF(P_14号3様式!P54=\"\",\"\",P_14号3様式!P54)","v":""},{"$f":"IF(P_14号3様式!Q54=\"\",\"\",P_14号3様式!Q54)","v":""},{"$f":"IF(P_14号3様式!R54=\"\",\"\",P_14号3様式!R54)","v":""},{"$f":"IF(P_14号3様式!S54=\"\",\"\",P_14号3様式!S54)","v":""},{"$f":"IF(P_14号3様式!T54=\"\",\"\",P_14号3様式!T54)","v":""}]
[{"$f":"IF(P_14号3様式!C55=\"\",\"\",P_14号3様式!C55)","v":"★肝付町"},null,{"$f":"IF(P_14号3様式!D55=\"\",\"\",P_14号3様式!D55)","v":""},{"$f":"IF(P_14号3様式!E55=\"\",\"\",P_14号3様式!E55)","v":""},{"$f":"IF(P_14号3様式!F55=\"\",\"\",P_14号3様式!F55)","v":""},{"$f":"IF(P_14号3様式!G55=\"\",\"\",P_14号3様式!G55)","v":""},{"$f":"IF(P_14号3様式!H55=\"\",\"\",P_14号3様式!H55)","v":""},{"$f":"IF(P_14号3様式!I55=\"\",\"\",P_14号3様式!I55)","v":""},{"$f":"IF(P_14号3様式!J55=\"\",\"\",P_14号3様式!J55)","v":""},{"$f":"IF(P_14号3様式!K55=\"\",\"\",P_14号3様式!K55)","v":""},{"$f":"IF(P_14号3様式!L55=\"\",\"\",P_14号3様式!L55)","v":""},{"$f":"IF(P_14号3様式!M55=\"\",\"\",P_14号3様式!M55)","v":""},{"$f":"IF(P_14号3様式!N55=\"\",\"\",P_14号3様式!N55)","v":""},null,null,{"$f":"IF(P_14号3様式!O55=\"\",\"\",P_14号3様式!O55)","v":""},null,null,{"$f":"IF(P_14号3様式!P55=\"\",\"\",P_14号3様式!P55)","v":""},{"$f":"IF(P_14号3様式!Q55=\"\",\"\",P_14号3様式!Q55)","v":""},{"$f":"IF(P_14号3様式!R55=\"\",\"\",P_14号3様式!R55)","v":""},{"$f":"IF(P_14号3様式!S55=\"\",\"\",P_14号3様式!S55)","v":""},{"$f":"IF(P_14号3様式!T55=\"\",\"\",P_14号3様式!T55)","v":""}]
[{"$f":"IF(P_14号3様式!C56=\"\",\"\",P_14号3様式!C56)","v":"＊（肝属郡区）計"},null,{"$f":"IF(P_14号3様式!D56=\"\",\"\",P_14号3様式!D56)","v":""},{"$f":"IF(P_14号3様式!E56=\"\",\"\",P_14号3様式!E56)","v":""},{"$f":"IF(P_14号3様式!F56=\"\",\"\",P_14号3様式!F56)","v":""},{"$f":"IF(P_14号3様式!G56=\"\",\"\",P_14号3様式!G56)","v":""},{"$f":"IF(P_14号3様式!H56=\"\",\"\",P_14号3様式!H56)","v":""},{"$f":"IF(P_14号3様式!I56=\"\",\"\",P_14号3様式!I56)","v":""},{"$f":"IF(P_14号3様式!J56=\"\",\"\",P_14号3様式!J56)","v":""},{"$f":"IF(P_14号3様式!K56=\"\",\"\",P_14号3様式!K56)","v":""},{"$f":"IF(P_14号3様式!L56=\"\",\"\",P_14号3様式!L56)","v":""},{"$f":"IF(P_14号3様式!M56=\"\",\"\",P_14号3様式!M56)","v":""},{"$f":"IF(P_14号3様式!N56=\"\",\"\",P_14号3様式!N56)","v":""},null,null,{"$f":"IF(P_14号3様式!O56=\"\",\"\",P_14号3様式!O56)","v":""},null,null,{"$f":"IF(P_14号3様式!P56=\"\",\"\",P_14号3様式!P56)","v":""},{"$f":"IF(P_14号3様式!Q56=\"\",\"\",P_14号3様式!Q56)","v":""},{"$f":"IF(P_14号3様式!R56=\"\",\"\",P_14号3様式!R56)","v":""},{"$f":"IF(P_14号3様式!S56=\"\",\"\",P_14号3様式!S56)","v":""},{"$f":"IF(P_14号3様式!T56=\"\",\"\",P_14号3様式!T56)","v":""}]
[{"$f":"IF(P_14号3様式!C57=\"\",\"\",P_14号3様式!C57)","v":"★大和村"},null,{"$f":"IF(P_14号3様式!D57=\"\",\"\",P_14号3様式!D57)","v":""},{"$f":"IF(P_14号3様式!E57=\"\",\"\",P_14号3様式!E57)","v":""},{"$f":"IF(P_14号3様式!F57=\"\",\"\",P_14号3様式!F57)","v":""},{"$f":"IF(P_14号3様式!G57=\"\",\"\",P_14号3様式!G57)","v":""},{"$f":"IF(P_14号3様式!H57=\"\",\"\",P_14号3様式!H57)","v":""},{"$f":"IF(P_14号3様式!I57=\"\",\"\",P_14号3様式!I57)","v":""},{"$f":"IF(P_14号3様式!J57=\"\",\"\",P_14号3様式!J57)","v":""},{"$f":"IF(P_14号3様式!K57=\"\",\"\",P_14号3様式!K57)","v":""},{"$f":"IF(P_14号3様式!L57=\"\",\"\",P_14号3様式!L57)","v":""},{"$f":"IF(P_14号3様式!M57=\"\",\"\",P_14号3様式!M57)","v":""},{"$f":"IF(P_14号3様式!N57=\"\",\"\",P_14号3様式!N57)","v":""},null,null,{"$f":"IF(P_14号3様式!O57=\"\",\"\",P_14号3様式!O57)","v":""},null,null,{"$f":"IF(P_14号3様式!P57=\"\",\"\",P_14号3様式!P57)","v":""},{"$f":"IF(P_14号3様式!Q57=\"\",\"\",P_14号3様式!Q57)","v":""},{"$f":"IF(P_14号3様式!R57=\"\",\"\",P_14号3様式!R57)","v":28.9735099337748},{"$f":"IF(P_14号3様式!S57=\"\",\"\",P_14号3様式!S57)","v":32.880844645550503},{"$f":"IF(P_14号3様式!T57=\"\",\"\",P_14号3様式!T57)","v":31.018153117600601}]
[{"$f":"IF(P_14号3様式!C58=\"\",\"\",P_14号3様式!C58)","v":"★宇検村"},null,{"$f":"IF(P_14号3様式!D58=\"\",\"\",P_14号3様式!D58)","v":""},{"$f":"IF(P_14号3様式!E58=\"\",\"\",P_14号3様式!E58)","v":""},{"$f":"IF(P_14号3様式!F58=\"\",\"\",P_14号3様式!F58)","v":""},{"$f":"IF(P_14号3様式!G58=\"\",\"\",P_14号3様式!G58)","v":""},{"$f":"IF(P_14号3様式!H58=\"\",\"\",P_14号3様式!H58)","v":""},{"$f":"IF(P_14号3様式!I58=\"\",\"\",P_14号3様式!I58)","v":""},{"$f":"IF(P_14号3様式!J58=\"\",\"\",P_14号3様式!J58)","v":""},{"$f":"IF(P_14号3様式!K58=\"\",\"\",P_14号3様式!K58)","v":""},{"$f":"IF(P_14号3様式!L58=\"\",\"\",P_14号3様式!L58)","v":""},{"$f":"IF(P_14号3様式!M58=\"\",\"\",P_14号3様式!M58)","v":""},{"$f":"IF(P_14号3様式!N58=\"\",\"\",P_14号3様式!N58)","v":""},null,null,{"$f":"IF(P_14号3様式!O58=\"\",\"\",P_14号3様式!O58)","v":""},null,null,{"$f":"IF(P_14号3様式!P58=\"\",\"\",P_14号3様式!P58)","v":""},{"$f":"IF(P_14号3様式!Q58=\"\",\"\",P_14号3様式!Q58)","v":""},{"$f":"IF(P_14号3様式!R58=\"\",\"\",P_14号3様式!R58)","v":28.7729196050776},{"$f":"IF(P_14号3様式!S58=\"\",\"\",P_14号3様式!S58)","v":23.778071334214001},{"$f":"IF(P_14号3様式!T58=\"\",\"\",P_14号3様式!T58)","v":26.193724420191}]
[{"$f":"IF(P_14号3様式!C59=\"\",\"\",P_14号3様式!C59)","v":"★瀬戸内町"},null,{"$f":"IF(P_14号3様式!D59=\"\",\"\",P_14号3様式!D59)","v":""},{"$f":"IF(P_14号3様式!E59=\"\",\"\",P_14号3様式!E59)","v":""},{"$f":"IF(P_14号3様式!F59=\"\",\"\",P_14号3様式!F59)","v":""},{"$f":"IF(P_14号3様式!G59=\"\",\"\",P_14号3様式!G59)","v":""},{"$f":"IF(P_14号3様式!H59=\"\",\"\",P_14号3様式!H59)","v":""},{"$f":"IF(P_14号3様式!I59=\"\",\"\",P_14号3様式!I59)","v":""},{"$f":"IF(P_14号3様式!J59=\"\",\"\",P_14号3様式!J59)","v":""},{"$f":"IF(P_14号3様式!K59=\"\",\"\",P_14号3様式!K59)","v":""},{"$f":"IF(P_14号3様式!L59=\"\",\"\",P_14号3様式!L59)","v":""},{"$f":"IF(P_14号3様式!M59=\"\",\"\",P_14号3様式!M59)","v":""},{"$f":"IF(P_14号3様式!N59=\"\",\"\",P_14号3様式!N59)","v":""},null,null,{"$f":"IF(P_14号3様式!O59=\"\",\"\",P_14号3様式!O59)","v":""},null,null,{"$f":"IF(P_14号3様式!P59=\"\",\"\",P_14号3様式!P59)","v":""},{"$f":"IF(P_14号3様式!Q59=\"\",\"\",P_14号3様式!Q59)","v":""},{"$f":"IF(P_14号3様式!R59=\"\",\"\",P_14号3様式!R59)","v":20.6611570247934},{"$f":"IF(P_14号3様式!S59=\"\",\"\",P_14号3様式!S59)","v":16.0103626943005},{"$f":"IF(P_14号3様式!T59=\"\",\"\",P_14号3様式!T59)","v":18.224996607409398}]
[{"$f":"IF(P_14号3様式!C60=\"\",\"\",P_14号3様式!C60)","v":"★喜界町"},null,{"$f":"IF(P_14号3様式!D60=\"\",\"\",P_14号3様式!D60)","v":""},{"$f":"IF(P_14号3様式!E60=\"\",\"\",P_14号3様式!E60)","v":""},{"$f":"IF(P_14号3様式!F60=\"\",\"\",P_14号3様式!F60)","v":""},{"$f":"IF(P_14号3様式!G60=\"\",\"\",P_14号3様式!G60)","v":""},{"$f":"IF(P_14号3様式!H60=\"\",\"\",P_14号3様式!H60)","v":""},{"$f":"IF(P_14号3様式!I60=\"\",\"\",P_14号3様式!I60)","v":""},{"$f":"IF(P_14号3様式!J60=\"\",\"\",P_14号3様式!J60)","v":""},{"$f":"IF(P_14号3様式!K60=\"\",\"\",P_14号3様式!K60)","v":""},{"$f":"IF(P_14号3様式!L60=\"\",\"\",P_14号3様式!L60)","v":""},{"$f":"IF(P_14号3様式!M60=\"\",\"\",P_14号3様式!M60)","v":""},{"$f":"IF(P_14号3様式!N60=\"\",\"\",P_14号3様式!N60)","v":""},null,null,{"$f":"IF(P_14号3様式!O60=\"\",\"\",P_14号3様式!O60)","v":""},null,null,{"$f":"IF(P_14号3様式!P60=\"\",\"\",P_14号3様式!P60)","v":""},{"$f":"IF(P_14号3様式!Q60=\"\",\"\",P_14号3様式!Q60)","v":""},{"$f":"IF(P_14号3様式!R60=\"\",\"\",P_14号3様式!R60)","v":15.5493155493155},{"$f":"IF(P_14号3様式!S60=\"\",\"\",P_14号3様式!S60)","v":15.051961112973499},{"$f":"IF(P_14号3様式!T60=\"\",\"\",P_14号3様式!T60)","v":15.294924554183799}]
[{"$f":"IF(P_14号3様式!C61=\"\",\"\",P_14号3様式!C61)","v":"★徳之島町"},null,{"$f":"IF(P_14号3様式!D61=\"\",\"\",P_14号3様式!D61)","v":""},{"$f":"IF(P_14号3様式!E61=\"\",\"\",P_14号3様式!E61)","v":""},{"$f":"IF(P_14号3様式!F61=\"\",\"\",P_14号3様式!F61)","v":""},{"$f":"IF(P_14号3様式!G61=\"\",\"\",P_14号3様式!G61)","v":""},{"$f":"IF(P_14号3様式!H61=\"\",\"\",P_14号3様式!H61)","v":""},{"$f":"IF(P_14号3様式!I61=\"\",\"\",P_14号3様式!I61)","v":""},{"$f":"IF(P_14号3様式!J61=\"\",\"\",P_14号3様式!J61)","v":""},{"$f":"IF(P_14号3様式!K61=\"\",\"\",P_14号3様式!K61)","v":""},{"$f":"IF(P_14号3様式!L61=\"\",\"\",P_14号3様式!L61)","v":""},{"$f":"IF(P_14号3様式!M61=\"\",\"\",P_14号3様式!M61)","v":""},{"$f":"IF(P_14号3様式!N61=\"\",\"\",P_14号3様式!N61)","v":""},null,null,{"$f":"IF(P_14号3様式!O61=\"\",\"\",P_14号3様式!O61)","v":""},null,null,{"$f":"IF(P_14号3様式!P61=\"\",\"\",P_14号3様式!P61)","v":""},{"$f":"IF(P_14号3様式!Q61=\"\",\"\",P_14号3様式!Q61)","v":""},{"$f":"IF(P_14号3様式!R61=\"\",\"\",P_14号3様式!R61)","v":20.365596437778301},{"$f":"IF(P_14号3様式!S61=\"\",\"\",P_14号3様式!S61)","v":15.780022446689101},{"$f":"IF(P_14号3様式!T61=\"\",\"\",P_14号3様式!T61)","v":18.0233891309333}]
[{"$f":"IF(P_14号3様式!C62=\"\",\"\",P_14号3様式!C62)","v":"★天城町"},null,{"$f":"IF(P_14号3様式!D62=\"\",\"\",P_14号3様式!D62)","v":""},{"$f":"IF(P_14号3様式!E62=\"\",\"\",P_14号3様式!E62)","v":""},{"$f":"IF(P_14号3様式!F62=\"\",\"\",P_14号3様式!F62)","v":""},{"$f":"IF(P_14号3様式!G62=\"\",\"\",P_14号3様式!G62)","v":""},{"$f":"IF(P_14号3様式!H62=\"\",\"\",P_14号3様式!H62)","v":""},{"$f":"IF(P_14号3様式!I62=\"\",\"\",P_14号3様式!I62)","v":""},{"$f":"IF(P_14号3様式!J62=\"\",\"\",P_14号3様式!J62)","v":""},{"$f":"IF(P_14号3様式!K62=\"\",\"\",P_14号3様式!K62)","v":""},{"$f":"IF(P_14号3様式!L62=\"\",\"\",P_14号3様式!L62)","v":""},{"$f":"IF(P_14号3様式!M62=\"\",\"\",P_14号3様式!M62)","v":""},{"$f":"IF(P_14号3様式!N62=\"\",\"\",P_14号3様式!N62)","v":""},null,null,{"$f":"IF(P_14号3様式!O62=\"\",\"\",P_14号3様式!O62)","v":""},null,null,{"$f":"IF(P_14号3様式!P62=\"\",\"\",P_14号3様式!P62)","v":""},{"$f":"IF(P_14号3様式!Q62=\"\",\"\",P_14号3様式!Q62)","v":""},{"$f":"IF(P_14号3様式!R62=\"\",\"\",P_14号3様式!R62)","v":31.610819539765799},{"$f":"IF(P_14号3様式!S62=\"\",\"\",P_14号3様式!S62)","v":28.977035490605399},{"$f":"IF(P_14号3様式!T62=\"\",\"\",P_14号3様式!T62)","v":30.316091954023001}]
[{"$f":"IF(P_14号3様式!C63=\"\",\"\",P_14号3様式!C63)","v":"★伊仙町"},null,{"$f":"IF(P_14号3様式!D63=\"\",\"\",P_14号3様式!D63)","v":""},{"$f":"IF(P_14号3様式!E63=\"\",\"\",P_14号3様式!E63)","v":""},{"$f":"IF(P_14号3様式!F63=\"\",\"\",P_14号3様式!F63)","v":""},{"$f":"IF(P_14号3様式!G63=\"\",\"\",P_14号3様式!G63)","v":""},{"$f":"IF(P_14号3様式!H63=\"\",\"\",P_14号3様式!H63)","v":""},{"$f":"IF(P_14号3様式!I63=\"\",\"\",P_14号3様式!I63)","v":""},{"$f":"IF(P_14号3様式!J63=\"\",\"\",P_14号3様式!J63)","v":""},{"$f":"IF(P_14号3様式!K63=\"\",\"\",P_14号3様式!K63)","v":""},{"$f":"IF(P_14号3様式!L63=\"\",\"\",P_14号3様式!L63)","v":""},{"$f":"IF(P_14号3様式!M63=\"\",\"\",P_14号3様式!M63)","v":""},{"$f":"IF(P_14号3様式!N63=\"\",\"\",P_14号3様式!N63)","v":""},null,null,{"$f":"IF(P_14号3様式!O63=\"\",\"\",P_14号3様式!O63)","v":""},null,null,{"$f":"IF(P_14号3様式!P63=\"\",\"\",P_14号3様式!P63)","v":""},{"$f":"IF(P_14号3様式!Q63=\"\",\"\",P_14号3様式!Q63)","v":""},{"$f":"IF(P_14号3様式!R63=\"\",\"\",P_14号3様式!R63)","v":26.617915904936002},{"$f":"IF(P_14号3様式!S63=\"\",\"\",P_14号3様式!S63)","v":22.925350511557401},{"$f":"IF(P_14号3様式!T63=\"\",\"\",P_14号3様式!T63)","v":24.804614812058102}]
[{"$f":"IF(P_14号3様式!C64=\"\",\"\",P_14号3様式!C64)","v":"★和泊町"},null,{"$f":"IF(P_14号3様式!D64=\"\",\"\",P_14号3様式!D64)","v":""},{"$f":"IF(P_14号3様式!E64=\"\",\"\",P_14号3様式!E64)","v":""},{"$f":"IF(P_14号3様式!F64=\"\",\"\",P_14号3様式!F64)","v":""},{"$f":"IF(P_14号3様式!G64=\"\",\"\",P_14号3様式!G64)","v":""},{"$f":"IF(P_14号3様式!H64=\"\",\"\",P_14号3様式!H64)","v":""},{"$f":"IF(P_14号3様式!I64=\"\",\"\",P_14号3様式!I64)","v":""},{"$f":"IF(P_14号3様式!J64=\"\",\"\",P_14号3様式!J64)","v":""},{"$f":"IF(P_14号3様式!K64=\"\",\"\",P_14号3様式!K64)","v":""},{"$f":"IF(P_14号3様式!L64=\"\",\"\",P_14号3様式!L64)","v":""},{"$f":"IF(P_14号3様式!M64=\"\",\"\",P_14号3様式!M64)","v":""},{"$f":"IF(P_14号3様式!N64=\"\",\"\",P_14号3様式!N64)","v":""},null,null,{"$f":"IF(P_14号3様式!O64=\"\",\"\",P_14号3様式!O64)","v":""},null,null,{"$f":"IF(P_14号3様式!P64=\"\",\"\",P_14号3様式!P64)","v":""},{"$f":"IF(P_14号3様式!Q64=\"\",\"\",P_14号3様式!Q64)","v":""},{"$f":"IF(P_14号3様式!R64=\"\",\"\",P_14号3様式!R64)","v":23.308564724286299},{"$f":"IF(P_14号3様式!S64=\"\",\"\",P_14号3様式!S64)","v":19.7368421052632},{"$f":"IF(P_14号3様式!T64=\"\",\"\",P_14号3様式!T64)","v":21.4874448917002}]
[{"$f":"IF(P_14号3様式!C65=\"\",\"\",P_14号3様式!C65)","v":"★知名町"},null,{"$f":"IF(P_14号3様式!D65=\"\",\"\",P_14号3様式!D65)","v":""},{"$f":"IF(P_14号3様式!E65=\"\",\"\",P_14号3様式!E65)","v":""},{"$f":"IF(P_14号3様式!F65=\"\",\"\",P_14号3様式!F65)","v":""},{"$f":"IF(P_14号3様式!G65=\"\",\"\",P_14号3様式!G65)","v":""},{"$f":"IF(P_14号3様式!H65=\"\",\"\",P_14号3様式!H65)","v":""},{"$f":"IF(P_14号3様式!I65=\"\",\"\",P_14号3様式!I65)","v":""},{"$f":"IF(P_14号3様式!J65=\"\",\"\",P_14号3様式!J65)","v":""},{"$f":"IF(P_14号3様式!K65=\"\",\"\",P_14号3様式!K65)","v":""},{"$f":"IF(P_14号3様式!L65=\"\",\"\",P_14号3様式!L65)","v":""},{"$f":"IF(P_14号3様式!M65=\"\",\"\",P_14号3様式!M65)","v":""},{"$f":"IF(P_14号3様式!N65=\"\",\"\",P_14号3様式!N65)","v":""},null,null,{"$f":"IF(P_14号3様式!O65=\"\",\"\",P_14号3様式!O65)","v":""},null,null,{"$f":"IF(P_14号3様式!P65=\"\",\"\",P_14号3様式!P65)","v":""},{"$f":"IF(P_14号3様式!Q65=\"\",\"\",P_14号3様式!Q65)","v":""},{"$f":"IF(P_14号3様式!R65=\"\",\"\",P_14号3様式!R65)","v":21.4691558441558},{"$f":"IF(P_14号3様式!S65=\"\",\"\",P_14号3様式!S65)","v":19.294605809128601},{"$f":"IF(P_14号3様式!T65=\"\",\"\",P_14号3様式!T65)","v":20.393926959376302}]
[{"$f":"IF(P_14号3様式!C66=\"\",\"\",P_14号3様式!C66)","v":"★与論町"},null,{"$f":"IF(P_14号3様式!D66=\"\",\"\",P_14号3様式!D66)","v":""},{"$f":"IF(P_14号3様式!E66=\"\",\"\",P_14号3様式!E66)","v":""},{"$f":"IF(P_14号3様式!F66=\"\",\"\",P_14号3様式!F66)","v":""},{"$f":"IF(P_14号3様式!G66=\"\",\"\",P_14号3様式!G66)","v":""},{"$f":"IF(P_14号3様式!H66=\"\",\"\",P_14号3様式!H66)","v":""},{"$f":"IF(P_14号3様式!I66=\"\",\"\",P_14号3様式!I66)","v":""},{"$f":"IF(P_14号3様式!J66=\"\",\"\",P_14号3様式!J66)","v":""},{"$f":"IF(P_14号3様式!K66=\"\",\"\",P_14号3様式!K66)","v":""},{"$f":"IF(P_14号3様式!L66=\"\",\"\",P_14号3様式!L66)","v":""},{"$f":"IF(P_14号3様式!M66=\"\",\"\",P_14号3様式!M66)","v":""},{"$f":"IF(P_14号3様式!N66=\"\",\"\",P_14号3様式!N66)","v":""},null,null,{"$f":"IF(P_14号3様式!O66=\"\",\"\",P_14号3様式!O66)","v":""},null,null,{"$f":"IF(P_14号3様式!P66=\"\",\"\",P_14号3様式!P66)","v":""},{"$f":"IF(P_14号3様式!Q66=\"\",\"\",P_14号3様式!Q66)","v":""},{"$f":"IF(P_14号3様式!R66=\"\",\"\",P_14号3様式!R66)","v":23.8095238095238},{"$f":"IF(P_14号3様式!S66=\"\",\"\",P_14号3様式!S66)","v":17.450890817725},{"$f":"IF(P_14号3様式!T66=\"\",\"\",P_14号3様式!T66)","v":20.532140334353699}]
[{"$f":"IF(P_14号3様式!C67=\"\",\"\",P_14号3様式!C67)","v":"＊（大島郡区）計"},null,{"$f":"IF(P_14号3様式!D67=\"\",\"\",P_14号3様式!D67)","v":""},{"$f":"IF(P_14号3様式!E67=\"\",\"\",P_14号3様式!E67)","v":""},{"$f":"IF(P_14号3様式!F67=\"\",\"\",P_14号3様式!F67)","v":""},{"$f":"IF(P_14号3様式!G67=\"\",\"\",P_14号3様式!G67)","v":""},{"$f":"IF(P_14号3様式!H67=\"\",\"\",P_14号3様式!H67)","v":""},{"$f":"IF(P_14号3様式!I67=\"\",\"\",P_14号3様式!I67)","v":""},{"$f":"IF(P_14号3様式!J67=\"\",\"\",P_14号3様式!J67)","v":""},{"$f":"IF(P_14号3様式!K67=\"\",\"\",P_14号3様式!K67)","v":""},{"$f":"IF(P_14号3様式!L67=\"\",\"\",P_14号3様式!L67)","v":""},{"$f":"IF(P_14号3様式!M67=\"\",\"\",P_14号3様式!M67)","v":""},{"$f":"IF(P_14号3様式!N67=\"\",\"\",P_14号3様式!N67)","v":""},null,null,{"$f":"IF(P_14号3様式!O67=\"\",\"\",P_14号3様式!O67)","v":""},null,null,{"$f":"IF(P_14号3様式!P67=\"\",\"\",P_14号3様式!P67)","v":""},{"$f":"IF(P_14号3様式!Q67=\"\",\"\",P_14号3様式!Q67)","v":""},{"$f":"IF(P_14号3様式!R67=\"\",\"\",P_14号3様式!R67)","v":22.8734161541954},{"$f":"IF(P_14号3様式!S67=\"\",\"\",P_14号3様式!S67)","v":19.347487105673501},{"$f":"IF(P_14号3様式!T67=\"\",\"\",P_14号3様式!T67)","v":21.0824532900081}]
[{"$f":"IF(P_14号3様式!C68=\"\",\"\",P_14号3様式!C68)","v":""},null,{"$f":"IF(P_14号3様式!D68=\"\",\"\",P_14号3様式!D68)","v":""},{"$f":"IF(P_14号3様式!E68=\"\",\"\",P_14号3様式!E68)","v":""},{"$f":"IF(P_14号3様式!F68=\"\",\"\",P_14号3様式!F68)","v":""},{"$f":"IF(P_14号3様式!G68=\"\",\"\",P_14号3様式!G68)","v":""},{"$f":"IF(P_14号3様式!H68=\"\",\"\",P_14号3様式!H68)","v":""},{"$f":"IF(P_14号3様式!I68=\"\",\"\",P_14号3様式!I68)","v":""},{"$f":"IF(P_14号3様式!J68=\"\",\"\",P_14号3様式!J68)","v":""},{"$f":"IF(P_14号3様式!K68=\"\",\"\",P_14号3様式!K68)","v":""},{"$f":"IF(P_14号3様式!L68=\"\",\"\",P_14号3様式!L68)","v":""},{"$f":"IF(P_14号3様式!M68=\"\",\"\",P_14号3様式!M68)","v":""},{"$f":"IF(P_14号3様式!N68=\"\",\"\",P_14号3様式!N68)","v":""},null,null,{"$f":"IF(P_14号3様式!O68=\"\",\"\",P_14号3様式!O68)","v":""},null,null,{"$f":"IF(P_14号3様式!P68=\"\",\"\",P_14号3様式!P68)","v":""},{"$f":"IF(P_14号3様式!Q68=\"\",\"\",P_14号3様式!Q68)","v":""},{"$f":"IF(P_14号3様式!R68=\"\",\"\",P_14号3様式!R68)","v":""},{"$f":"IF(P_14号3様式!S68=\"\",\"\",P_14号3様式!S68)","v":""},{"$f":"IF(P_14号3様式!T68=\"\",\"\",P_14号3様式!T68)","v":""}]
[{"$f":"IF(P_14号3様式!C69=\"\",\"\",P_14号3様式!C69)","v":""},null,{"$f":"IF(P_14号3様式!D69=\"\",\"\",P_14号3様式!D69)","v":""},{"$f":"IF(P_14号3様式!E69=\"\",\"\",P_14号3様式!E69)","v":""},{"$f":"IF(P_14号3様式!F69=\"\",\"\",P_14号3様式!F69)","v":""},{"$f":"IF(P_14号3様式!G69=\"\",\"\",P_14号3様式!G69)","v":""},{"$f":"IF(P_14号3様式!H69=\"\",\"\",P_14号3様式!H69)","v":""},{"$f":"IF(P_14号3様式!I69=\"\",\"\",P_14号3様式!I69)","v":""},{"$f":"IF(P_14号3様式!J69=\"\",\"\",P_14号3様式!J69)","v":""},{"$f":"IF(P_14号3様式!K69=\"\",\"\",P_14号3様式!K69)","v":""},{"$f":"IF(P_14号3様式!L69=\"\",\"\",P_14号3様式!L69)","v":""},{"$f":"IF(P_14号3様式!M69=\"\",\"\",P_14号3様式!M69)","v":""},{"$f":"IF(P_14号3様式!N69=\"\",\"\",P_14号3様式!N69)","v":""},null,null,{"$f":"IF(P_14号3様式!O69=\"\",\"\",P_14号3様式!O69)","v":""},null,null,{"$f":"IF(P_14号3様式!P69=\"\",\"\",P_14号3様式!P69)","v":""},{"$f":"IF(P_14号3様式!Q69=\"\",\"\",P_14号3様式!Q69)","v":""},{"$f":"IF(P_14号3様式!R69=\"\",\"\",P_14号3様式!R69)","v":""},{"$f":"IF(P_14号3様式!S69=\"\",\"\",P_14号3様式!S69)","v":""},{"$f":"IF(P_14号3様式!T69=\"\",\"\",P_14号3様式!T69)","v":""}]
[{"$f":"IF(P_14号3様式!C70=\"\",\"\",P_14号3様式!C70)","v":""},null,{"$f":"IF(P_14号3様式!D70=\"\",\"\",P_14号3様式!D70)","v":""},{"$f":"IF(P_14号3様式!E70=\"\",\"\",P_14号3様式!E70)","v":""},{"$f":"IF(P_14号3様式!F70=\"\",\"\",P_14号3様式!F70)","v":""},{"$f":"IF(P_14号3様式!G70=\"\",\"\",P_14号3様式!G70)","v":""},{"$f":"IF(P_14号3様式!H70=\"\",\"\",P_14号3様式!H70)","v":""},{"$f":"IF(P_14号3様式!I70=\"\",\"\",P_14号3様式!I70)","v":""},{"$f":"IF(P_14号3様式!J70=\"\",\"\",P_14号3様式!J70)","v":""},{"$f":"IF(P_14号3様式!K70=\"\",\"\",P_14号3様式!K70)","v":""},{"$f":"IF(P_14号3様式!L70=\"\",\"\",P_14号3様式!L70)","v":""},{"$f":"IF(P_14号3様式!M70=\"\",\"\",P_14号3様式!M70)","v":""},{"$f":"IF(P_14号3様式!N70=\"\",\"\",P_14号3様式!N70)","v":""},null,null,{"$f":"IF(P_14号3様式!O70=\"\",\"\",P_14号3様式!O70)","v":""},null,null,{"$f":"IF(P_14号3様式!P70=\"\",\"\",P_14号3様式!P70)","v":""},{"$f":"IF(P_14号3様式!Q70=\"\",\"\",P_14号3様式!Q70)","v":""},{"$f":"IF(P_14号3様式!R70=\"\",\"\",P_14号3様式!R70)","v":""},{"$f":"IF(P_14号3様式!S70=\"\",\"\",P_14号3様式!S70)","v":""},{"$f":"IF(P_14号3様式!T70=\"\",\"\",P_14号3様式!T70)","v":""}]
[{"$f":"IF(P_14号3様式!C71=\"\",\"\",P_14号3様式!C71)","v":""},null,{"$f":"IF(P_14号3様式!D71=\"\",\"\",P_14号3様式!D71)","v":""},{"$f":"IF(P_14号3様式!E71=\"\",\"\",P_14号3様式!E71)","v":""},{"$f":"IF(P_14号3様式!F71=\"\",\"\",P_14号3様式!F71)","v":""},{"$f":"IF(P_14号3様式!G71=\"\",\"\",P_14号3様式!G71)","v":""},{"$f":"IF(P_14号3様式!H71=\"\",\"\",P_14号3様式!H71)","v":""},{"$f":"IF(P_14号3様式!I71=\"\",\"\",P_14号3様式!I71)","v":""},{"$f":"IF(P_14号3様式!J71=\"\",\"\",P_14号3様式!J71)","v":""},{"$f":"IF(P_14号3様式!K71=\"\",\"\",P_14号3様式!K71)","v":""},{"$f":"IF(P_14号3様式!L71=\"\",\"\",P_14号3様式!L71)","v":""},{"$f":"IF(P_14号3様式!M71=\"\",\"\",P_14号3様式!M71)","v":""},{"$f":"IF(P_14号3様式!N71=\"\",\"\",P_14号3様式!N71)","v":""},null,null,{"$f":"IF(P_14号3様式!O71=\"\",\"\",P_14号3様式!O71)","v":""},null,null,{"$f":"IF(P_14号3様式!P71=\"\",\"\",P_14号3様式!P71)","v":""},{"$f":"IF(P_14号3様式!Q71=\"\",\"\",P_14号3様式!Q71)","v":""},{"$f":"IF(P_14号3様式!R71=\"\",\"\",P_14号3様式!R71)","v":""},{"$f":"IF(P_14号3様式!S71=\"\",\"\",P_14号3様式!S71)","v":""},{"$f":"IF(P_14号3様式!T71=\"\",\"\",P_14号3様式!T71)","v":""}]
[{"$f":"IF(P_14号3様式!C72=\"\",\"\",P_14号3様式!C72)","v":""},null,{"$f":"IF(P_14号3様式!D72=\"\",\"\",P_14号3様式!D72)","v":""},{"$f":"IF(P_14号3様式!E72=\"\",\"\",P_14号3様式!E72)","v":""},{"$f":"IF(P_14号3様式!F72=\"\",\"\",P_14号3様式!F72)","v":""},{"$f":"IF(P_14号3様式!G72=\"\",\"\",P_14号3様式!G72)","v":""},{"$f":"IF(P_14号3様式!H72=\"\",\"\",P_14号3様式!H72)","v":""},{"$f":"IF(P_14号3様式!I72=\"\",\"\",P_14号3様式!I72)","v":""},{"$f":"IF(P_14号3様式!J72=\"\",\"\",P_14号3様式!J72)","v":""},{"$f":"IF(P_14号3様式!K72=\"\",\"\",P_14号3様式!K72)","v":""},{"$f":"IF(P_14号3様式!L72=\"\",\"\",P_14号3様式!L72)","v":""},{"$f":"IF(P_14号3様式!M72=\"\",\"\",P_14号3様式!M72)","v":""},{"$f":"IF(P_14号3様式!N72=\"\",\"\",P_14号3様式!N72)","v":""},null,null,{"$f":"IF(P_14号3様式!O72=\"\",\"\",P_14号3様式!O72)","v":""},null,null,{"$f":"IF(P_14号3様式!P72=\"\",\"\",P_14号3様式!P72)","v":""},{"$f":"IF(P_14号3様式!Q72=\"\",\"\",P_14号3様式!Q72)","v":""},{"$f":"IF(P_14号3様式!R72=\"\",\"\",P_14号3様式!R72)","v":""},{"$f":"IF(P_14号3様式!S72=\"\",\"\",P_14号3様式!S72)","v":""},{"$f":"IF(P_14号3様式!T72=\"\",\"\",P_14号3様式!T72)","v":""}]
[{"$f":"IF(P_14号3様式!C73=\"\",\"\",P_14号3様式!C73)","v":""},null,{"$f":"IF(P_14号3様式!D73=\"\",\"\",P_14号3様式!D73)","v":""},{"$f":"IF(P_14号3様式!E73=\"\",\"\",P_14号3様式!E73)","v":""},{"$f":"IF(P_14号3様式!F73=\"\",\"\",P_14号3様式!F73)","v":""},{"$f":"IF(P_14号3様式!G73=\"\",\"\",P_14号3様式!G73)","v":""},{"$f":"IF(P_14号3様式!H73=\"\",\"\",P_14号3様式!H73)","v":""},{"$f":"IF(P_14号3様式!I73=\"\",\"\",P_14号3様式!I73)","v":""},{"$f":"IF(P_14号3様式!J73=\"\",\"\",P_14号3様式!J73)","v":""},{"$f":"IF(P_14号3様式!K73=\"\",\"\",P_14号3様式!K73)","v":""},{"$f":"IF(P_14号3様式!L73=\"\",\"\",P_14号3様式!L73)","v":""},{"$f":"IF(P_14号3様式!M73=\"\",\"\",P_14号3様式!M73)","v":""},{"$f":"IF(P_14号3様式!N73=\"\",\"\",P_14号3様式!N73)","v":""},null,null,{"$f":"IF(P_14号3様式!O73=\"\",\"\",P_14号3様式!O73)","v":""},null,null,{"$f":"IF(P_14号3様式!P73=\"\",\"\",P_14号3様式!P73)","v":""},{"$f":"IF(P_14号3様式!Q73=\"\",\"\",P_14号3様式!Q73)","v":""},{"$f":"IF(P_14号3様式!R73=\"\",\"\",P_14号3様式!R73)","v":""},{"$f":"IF(P_14号3様式!S73=\"\",\"\",P_14号3様式!S73)","v":""},{"$f":"IF(P_14号3様式!T73=\"\",\"\",P_14号3様式!T73)","v":""}]
[{"$f":"IF(P_14号3様式!C74=\"\",\"\",P_14号3様式!C74)","v":""},null,{"$f":"IF(P_14号3様式!D74=\"\",\"\",P_14号3様式!D74)","v":""},{"$f":"IF(P_14号3様式!E74=\"\",\"\",P_14号3様式!E74)","v":""},{"$f":"IF(P_14号3様式!F74=\"\",\"\",P_14号3様式!F74)","v":""},{"$f":"IF(P_14号3様式!G74=\"\",\"\",P_14号3様式!G74)","v":""},{"$f":"IF(P_14号3様式!H74=\"\",\"\",P_14号3様式!H74)","v":""},{"$f":"IF(P_14号3様式!I74=\"\",\"\",P_14号3様式!I74)","v":""},{"$f":"IF(P_14号3様式!J74=\"\",\"\",P_14号3様式!J74)","v":""},{"$f":"IF(P_14号3様式!K74=\"\",\"\",P_14号3様式!K74)","v":""},{"$f":"IF(P_14号3様式!L74=\"\",\"\",P_14号3様式!L74)","v":""},{"$f":"IF(P_14号3様式!M74=\"\",\"\",P_14号3様式!M74)","v":""},{"$f":"IF(P_14号3様式!N74=\"\",\"\",P_14号3様式!N74)","v":""},null,null,{"$f":"IF(P_14号3様式!O74=\"\",\"\",P_14号3様式!O74)","v":""},null,null,{"$f":"IF(P_14号3様式!P74=\"\",\"\",P_14号3様式!P74)","v":""},{"$f":"IF(P_14号3様式!Q74=\"\",\"\",P_14号3様式!Q74)","v":""},{"$f":"IF(P_14号3様式!R74=\"\",\"\",P_14号3様式!R74)","v":""},{"$f":"IF(P_14号3様式!S74=\"\",\"\",P_14号3様式!S74)","v":""},{"$f":"IF(P_14号3様式!T74=\"\",\"\",P_14号3様式!T74)","v":""}]
[{"$f":"IF(P_14号3様式!C75=\"\",\"\",P_14号3様式!C75)","v":""},null,{"$f":"IF(P_14号3様式!D75=\"\",\"\",P_14号3様式!D75)","v":""},{"$f":"IF(P_14号3様式!E75=\"\",\"\",P_14号3様式!E75)","v":""},{"$f":"IF(P_14号3様式!F75=\"\",\"\",P_14号3様式!F75)","v":""},{"$f":"IF(P_14号3様式!G75=\"\",\"\",P_14号3様式!G75)","v":""},{"$f":"IF(P_14号3様式!H75=\"\",\"\",P_14号3様式!H75)","v":""},{"$f":"IF(P_14号3様式!I75=\"\",\"\",P_14号3様式!I75)","v":""},{"$f":"IF(P_14号3様式!J75=\"\",\"\",P_14号3様式!J75)","v":""},{"$f":"IF(P_14号3様式!K75=\"\",\"\",P_14号3様式!K75)","v":""},{"$f":"IF(P_14号3様式!L75=\"\",\"\",P_14号3様式!L75)","v":""},{"$f":"IF(P_14号3様式!M75=\"\",\"\",P_14号3様式!M75)","v":""},{"$f":"IF(P_14号3様式!N75=\"\",\"\",P_14号3様式!N75)","v":""},null,null,{"$f":"IF(P_14号3様式!O75=\"\",\"\",P_14号3様式!O75)","v":""},null,null,{"$f":"IF(P_14号3様式!P75=\"\",\"\",P_14号3様式!P75)","v":""},{"$f":"IF(P_14号3様式!Q75=\"\",\"\",P_14号3様式!Q75)","v":""},{"$f":"IF(P_14号3様式!R75=\"\",\"\",P_14号3様式!R75)","v":""},{"$f":"IF(P_14号3様式!S75=\"\",\"\",P_14号3様式!S75)","v":""},{"$f":"IF(P_14号3様式!T75=\"\",\"\",P_14号3様式!T75)","v":""}]
[{"$f":"IF(P_14号3様式!C76=\"\",\"\",P_14号3様式!C76)","v":""},null,{"$f":"IF(P_14号3様式!D76=\"\",\"\",P_14号3様式!D76)","v":""},{"$f":"IF(P_14号3様式!E76=\"\",\"\",P_14号3様式!E76)","v":""},{"$f":"IF(P_14号3様式!F76=\"\",\"\",P_14号3様式!F76)","v":""},{"$f":"IF(P_14号3様式!G76=\"\",\"\",P_14号3様式!G76)","v":""},{"$f":"IF(P_14号3様式!H76=\"\",\"\",P_14号3様式!H76)","v":""},{"$f":"IF(P_14号3様式!I76=\"\",\"\",P_14号3様式!I76)","v":""},{"$f":"IF(P_14号3様式!J76=\"\",\"\",P_14号3様式!J76)","v":""},{"$f":"IF(P_14号3様式!K76=\"\",\"\",P_14号3様式!K76)","v":""},{"$f":"IF(P_14号3様式!L76=\"\",\"\",P_14号3様式!L76)","v":""},{"$f":"IF(P_14号3様式!M76=\"\",\"\",P_14号3様式!M76)","v":""},{"$f":"IF(P_14号3様式!N76=\"\",\"\",P_14号3様式!N76)","v":""},null,null,{"$f":"IF(P_14号3様式!O76=\"\",\"\",P_14号3様式!O76)","v":""},null,null,{"$f":"IF(P_14号3様式!P76=\"\",\"\",P_14号3様式!P76)","v":""},{"$f":"IF(P_14号3様式!Q76=\"\",\"\",P_14号3様式!Q76)","v":""},{"$f":"IF(P_14号3様式!R76=\"\",\"\",P_14号3様式!R76)","v":""},{"$f":"IF(P_14号3様式!S76=\"\",\"\",P_14号3様式!S76)","v":""},{"$f":"IF(P_14号3様式!T76=\"\",\"\",P_14号3様式!T76)","v":""}]
[{"$f":"IF(P_14号3様式!C77=\"\",\"\",P_14号3様式!C77)","v":""},null,{"$f":"IF(P_14号3様式!D77=\"\",\"\",P_14号3様式!D77)","v":""},{"$f":"IF(P_14号3様式!E77=\"\",\"\",P_14号3様式!E77)","v":""},{"$f":"IF(P_14号3様式!F77=\"\",\"\",P_14号3様式!F77)","v":""},{"$f":"IF(P_14号3様式!G77=\"\",\"\",P_14号3様式!G77)","v":""},{"$f":"IF(P_14号3様式!H77=\"\",\"\",P_14号3様式!H77)","v":""},{"$f":"IF(P_14号3様式!I77=\"\",\"\",P_14号3様式!I77)","v":""},{"$f":"IF(P_14号3様式!J77=\"\",\"\",P_14号3様式!J77)","v":""},{"$f":"IF(P_14号3様式!K77=\"\",\"\",P_14号3様式!K77)","v":""},{"$f":"IF(P_14号3様式!L77=\"\",\"\",P_14号3様式!L77)","v":""},{"$f":"IF(P_14号3様式!M77=\"\",\"\",P_14号3様式!M77)","v":""},{"$f":"IF(P_14号3様式!N77=\"\",\"\",P_14号3様式!N77)","v":""},null,null,{"$f":"IF(P_14号3様式!O77=\"\",\"\",P_14号3様式!O77)","v":""},null,null,{"$f":"IF(P_14号3様式!P77=\"\",\"\",P_14号3様式!P77)","v":""},{"$f":"IF(P_14号3様式!Q77=\"\",\"\",P_14号3様式!Q77)","v":""},{"$f":"IF(P_14号3様式!R77=\"\",\"\",P_14号3様式!R77)","v":""},{"$f":"IF(P_14号3様式!S77=\"\",\"\",P_14号3様式!S77)","v":""},{"$f":"IF(P_14号3様式!T77=\"\",\"\",P_14号3様式!T77)","v":""}]
[{"$f":"IF(P_14号3様式!C78=\"\",\"\",P_14号3様式!C78)","v":""},null,{"$f":"IF(P_14号3様式!D78=\"\",\"\",P_14号3様式!D78)","v":""},{"$f":"IF(P_14号3様式!E78=\"\",\"\",P_14号3様式!E78)","v":""},{"$f":"IF(P_14号3様式!F78=\"\",\"\",P_14号3様式!F78)","v":""},{"$f":"IF(P_14号3様式!G78=\"\",\"\",P_14号3様式!G78)","v":""},{"$f":"IF(P_14号3様式!H78=\"\",\"\",P_14号3様式!H78)","v":""},{"$f":"IF(P_14号3様式!I78=\"\",\"\",P_14号3様式!I78)","v":""},{"$f":"IF(P_14号3様式!J78=\"\",\"\",P_14号3様式!J78)","v":""},{"$f":"IF(P_14号3様式!K78=\"\",\"\",P_14号3様式!K78)","v":""},{"$f":"IF(P_14号3様式!L78=\"\",\"\",P_14号3様式!L78)","v":""},{"$f":"IF(P_14号3様式!M78=\"\",\"\",P_14号3様式!M78)","v":""},{"$f":"IF(P_14号3様式!N78=\"\",\"\",P_14号3様式!N78)","v":""},null,null,{"$f":"IF(P_14号3様式!O78=\"\",\"\",P_14号3様式!O78)","v":""},null,null,{"$f":"IF(P_14号3様式!P78=\"\",\"\",P_14号3様式!P78)","v":""},{"$f":"IF(P_14号3様式!Q78=\"\",\"\",P_14号3様式!Q78)","v":""},{"$f":"IF(P_14号3様式!R78=\"\",\"\",P_14号3様式!R78)","v":""},{"$f":"IF(P_14号3様式!S78=\"\",\"\",P_14号3様式!S78)","v":""},{"$f":"IF(P_14号3様式!T78=\"\",\"\",P_14号3様式!T78)","v":""}]
[{"$f":"IF(P_14号3様式!C79=\"\",\"\",P_14号3様式!C79)","v":""},null,{"$f":"IF(P_14号3様式!D79=\"\",\"\",P_14号3様式!D79)","v":""},{"$f":"IF(P_14号3様式!E79=\"\",\"\",P_14号3様式!E79)","v":""},{"$f":"IF(P_14号3様式!F79=\"\",\"\",P_14号3様式!F79)","v":""},{"$f":"IF(P_14号3様式!G79=\"\",\"\",P_14号3様式!G79)","v":""},{"$f":"IF(P_14号3様式!H79=\"\",\"\",P_14号3様式!H79)","v":""},{"$f":"IF(P_14号3様式!I79=\"\",\"\",P_14号3様式!I79)","v":""},{"$f":"IF(P_14号3様式!J79=\"\",\"\",P_14号3様式!J79)","v":""},{"$f":"IF(P_14号3様式!K79=\"\",\"\",P_14号3様式!K79)","v":""},{"$f":"IF(P_14号3様式!L79=\"\",\"\",P_14号3様式!L79)","v":""},{"$f":"IF(P_14号3様式!M79=\"\",\"\",P_14号3様式!M79)","v":""},{"$f":"IF(P_14号3様式!N79=\"\",\"\",P_14号3様式!N79)","v":""},null,null,{"$f":"IF(P_14号3様式!O79=\"\",\"\",P_14号3様式!O79)","v":""},null,null,{"$f":"IF(P_14号3様式!P79=\"\",\"\",P_14号3様式!P79)","v":""},{"$f":"IF(P_14号3様式!Q79=\"\",\"\",P_14号3様式!Q79)","v":""},{"$f":"IF(P_14号3様式!R79=\"\",\"\",P_14号3様式!R79)","v":""},{"$f":"IF(P_14号3様式!S79=\"\",\"\",P_14号3様式!S79)","v":""},{"$f":"IF(P_14号3様式!T79=\"\",\"\",P_14号3様式!T79)","v":""}]
[{"$f":"IF(P_14号3様式!C80=\"\",\"\",P_14号3様式!C80)","v":""},null,{"$f":"IF(P_14号3様式!D80=\"\",\"\",P_14号3様式!D80)","v":""},{"$f":"IF(P_14号3様式!E80=\"\",\"\",P_14号3様式!E80)","v":""},{"$f":"IF(P_14号3様式!F80=\"\",\"\",P_14号3様式!F80)","v":""},{"$f":"IF(P_14号3様式!G80=\"\",\"\",P_14号3様式!G80)","v":""},{"$f":"IF(P_14号3様式!H80=\"\",\"\",P_14号3様式!H80)","v":""},{"$f":"IF(P_14号3様式!I80=\"\",\"\",P_14号3様式!I80)","v":""},{"$f":"IF(P_14号3様式!J80=\"\",\"\",P_14号3様式!J80)","v":""},{"$f":"IF(P_14号3様式!K80=\"\",\"\",P_14号3様式!K80)","v":""},{"$f":"IF(P_14号3様式!L80=\"\",\"\",P_14号3様式!L80)","v":""},{"$f":"IF(P_14号3様式!M80=\"\",\"\",P_14号3様式!M80)","v":""},{"$f":"IF(P_14号3様式!N80=\"\",\"\",P_14号3様式!N80)","v":""},null,null,{"$f":"IF(P_14号3様式!O80=\"\",\"\",P_14号3様式!O80)","v":""},null,null,{"$f":"IF(P_14号3様式!P80=\"\",\"\",P_14号3様式!P80)","v":""},{"$f":"IF(P_14号3様式!Q80=\"\",\"\",P_14号3様式!Q80)","v":""},{"$f":"IF(P_14号3様式!R80=\"\",\"\",P_14号3様式!R80)","v":""},{"$f":"IF(P_14号3様式!S80=\"\",\"\",P_14号3様式!S80)","v":""},{"$f":"IF(P_14号3様式!T80=\"\",\"\",P_14号3様式!T80)","v":""}]
[{"$f":"IF(P_14号3様式!C81=\"\",\"\",P_14号3様式!C81)","v":""},null,{"$f":"IF(P_14号3様式!D81=\"\",\"\",P_14号3様式!D81)","v":""},{"$f":"IF(P_14号3様式!E81=\"\",\"\",P_14号3様式!E81)","v":""},{"$f":"IF(P_14号3様式!F81=\"\",\"\",P_14号3様式!F81)","v":""},{"$f":"IF(P_14号3様式!G81=\"\",\"\",P_14号3様式!G81)","v":""},{"$f":"IF(P_14号3様式!H81=\"\",\"\",P_14号3様式!H81)","v":""},{"$f":"IF(P_14号3様式!I81=\"\",\"\",P_14号3様式!I81)","v":""},{"$f":"IF(P_14号3様式!J81=\"\",\"\",P_14号3様式!J81)","v":""},{"$f":"IF(P_14号3様式!K81=\"\",\"\",P_14号3様式!K81)","v":""},{"$f":"IF(P_14号3様式!L81=\"\",\"\",P_14号3様式!L81)","v":""},{"$f":"IF(P_14号3様式!M81=\"\",\"\",P_14号3様式!M81)","v":""},{"$f":"IF(P_14号3様式!N81=\"\",\"\",P_14号3様式!N81)","v":""},null,null,{"$f":"IF(P_14号3様式!O81=\"\",\"\",P_14号3様式!O81)","v":""},null,null,{"$f":"IF(P_14号3様式!P81=\"\",\"\",P_14号3様式!P81)","v":""},{"$f":"IF(P_14号3様式!Q81=\"\",\"\",P_14号3様式!Q81)","v":""},{"$f":"IF(P_14号3様式!R81=\"\",\"\",P_14号3様式!R81)","v":""},{"$f":"IF(P_14号3様式!S81=\"\",\"\",P_14号3様式!S81)","v":""},{"$f":"IF(P_14号3様式!T81=\"\",\"\",P_14号3様式!T81)","v":""}]
[{"$f":"IF(P_14号3様式!C82=\"\",\"\",P_14号3様式!C82)","v":""},null,{"$f":"IF(P_14号3様式!D82=\"\",\"\",P_14号3様式!D82)","v":""},{"$f":"IF(P_14号3様式!E82=\"\",\"\",P_14号3様式!E82)","v":""},{"$f":"IF(P_14号3様式!F82=\"\",\"\",P_14号3様式!F82)","v":""},{"$f":"IF(P_14号3様式!G82=\"\",\"\",P_14号3様式!G82)","v":""},{"$f":"IF(P_14号3様式!H82=\"\",\"\",P_14号3様式!H82)","v":""},{"$f":"IF(P_14号3様式!I82=\"\",\"\",P_14号3様式!I82)","v":""},{"$f":"IF(P_14号3様式!J82=\"\",\"\",P_14号3様式!J82)","v":""},{"$f":"IF(P_14号3様式!K82=\"\",\"\",P_14号3様式!K82)","v":""},{"$f":"IF(P_14号3様式!L82=\"\",\"\",P_14号3様式!L82)","v":""},{"$f":"IF(P_14号3様式!M82=\"\",\"\",P_14号3様式!M82)","v":""},{"$f":"IF(P_14号3様式!N82=\"\",\"\",P_14号3様式!N82)","v":""},null,null,{"$f":"IF(P_14号3様式!O82=\"\",\"\",P_14号3様式!O82)","v":""},null,null,{"$f":"IF(P_14号3様式!P82=\"\",\"\",P_14号3様式!P82)","v":""},{"$f":"IF(P_14号3様式!Q82=\"\",\"\",P_14号3様式!Q82)","v":""},{"$f":"IF(P_14号3様式!R82=\"\",\"\",P_14号3様式!R82)","v":""},{"$f":"IF(P_14号3様式!S82=\"\",\"\",P_14号3様式!S82)","v":""},{"$f":"IF(P_14号3様式!T82=\"\",\"\",P_14号3様式!T82)","v":""}]
[{"$f":"IF(P_14号3様式!C83=\"\",\"\",P_14号3様式!C83)","v":""},null,{"$f":"IF(P_14号3様式!D83=\"\",\"\",P_14号3様式!D83)","v":""},{"$f":"IF(P_14号3様式!E83=\"\",\"\",P_14号3様式!E83)","v":""},{"$f":"IF(P_14号3様式!F83=\"\",\"\",P_14号3様式!F83)","v":""},{"$f":"IF(P_14号3様式!G83=\"\",\"\",P_14号3様式!G83)","v":""},{"$f":"IF(P_14号3様式!H83=\"\",\"\",P_14号3様式!H83)","v":""},{"$f":"IF(P_14号3様式!I83=\"\",\"\",P_14号3様式!I83)","v":""},{"$f":"IF(P_14号3様式!J83=\"\",\"\",P_14号3様式!J83)","v":""},{"$f":"IF(P_14号3様式!K83=\"\",\"\",P_14号3様式!K83)","v":""},{"$f":"IF(P_14号3様式!L83=\"\",\"\",P_14号3様式!L83)","v":""},{"$f":"IF(P_14号3様式!M83=\"\",\"\",P_14号3様式!M83)","v":""},{"$f":"IF(P_14号3様式!N83=\"\",\"\",P_14号3様式!N83)","v":""},null,null,{"$f":"IF(P_14号3様式!O83=\"\",\"\",P_14号3様式!O83)","v":""},null,null,{"$f":"IF(P_14号3様式!P83=\"\",\"\",P_14号3様式!P83)","v":""},{"$f":"IF(P_14号3様式!Q83=\"\",\"\",P_14号3様式!Q83)","v":""},{"$f":"IF(P_14号3様式!R83=\"\",\"\",P_14号3様式!R83)","v":""},{"$f":"IF(P_14号3様式!S83=\"\",\"\",P_14号3様式!S83)","v":""},{"$f":"IF(P_14号3様式!T83=\"\",\"\",P_14号3様式!T83)","v":""}]
[{"$f":"IF(P_14号3様式!C84=\"\",\"\",P_14号3様式!C84)","v":""},null,{"$f":"IF(P_14号3様式!D84=\"\",\"\",P_14号3様式!D84)","v":""},{"$f":"IF(P_14号3様式!E84=\"\",\"\",P_14号3様式!E84)","v":""},{"$f":"IF(P_14号3様式!F84=\"\",\"\",P_14号3様式!F84)","v":""},{"$f":"IF(P_14号3様式!G84=\"\",\"\",P_14号3様式!G84)","v":""},{"$f":"IF(P_14号3様式!H84=\"\",\"\",P_14号3様式!H84)","v":""},{"$f":"IF(P_14号3様式!I84=\"\",\"\",P_14号3様式!I84)","v":""},{"$f":"IF(P_14号3様式!J84=\"\",\"\",P_14号3様式!J84)","v":""},{"$f":"IF(P_14号3様式!K84=\"\",\"\",P_14号3様式!K84)","v":""},{"$f":"IF(P_14号3様式!L84=\"\",\"\",P_14号3様式!L84)","v":""},{"$f":"IF(P_14号3様式!M84=\"\",\"\",P_14号3様式!M84)","v":""},{"$f":"IF(P_14号3様式!N84=\"\",\"\",P_14号3様式!N84)","v":""},null,null,{"$f":"IF(P_14号3様式!O84=\"\",\"\",P_14号3様式!O84)","v":""},null,null,{"$f":"IF(P_14号3様式!P84=\"\",\"\",P_14号3様式!P84)","v":""},{"$f":"IF(P_14号3様式!Q84=\"\",\"\",P_14号3様式!Q84)","v":""},{"$f":"IF(P_14号3様式!R84=\"\",\"\",P_14号3様式!R84)","v":""},{"$f":"IF(P_14号3様式!S84=\"\",\"\",P_14号3様式!S84)","v":""},{"$f":"IF(P_14号3様式!T84=\"\",\"\",P_14号3様式!T84)","v":""}]
[{"$f":"IF(P_14号3様式!C85=\"\",\"\",P_14号3様式!C85)","v":""},null,{"$f":"IF(P_14号3様式!D85=\"\",\"\",P_14号3様式!D85)","v":""},{"$f":"IF(P_14号3様式!E85=\"\",\"\",P_14号3様式!E85)","v":""},{"$f":"IF(P_14号3様式!F85=\"\",\"\",P_14号3様式!F85)","v":""},{"$f":"IF(P_14号3様式!G85=\"\",\"\",P_14号3様式!G85)","v":""},{"$f":"IF(P_14号3様式!H85=\"\",\"\",P_14号3様式!H85)","v":""},{"$f":"IF(P_14号3様式!I85=\"\",\"\",P_14号3様式!I85)","v":""},{"$f":"IF(P_14号3様式!J85=\"\",\"\",P_14号3様式!J85)","v":""},{"$f":"IF(P_14号3様式!K85=\"\",\"\",P_14号3様式!K85)","v":""},{"$f":"IF(P_14号3様式!L85=\"\",\"\",P_14号3様式!L85)","v":""},{"$f":"IF(P_14号3様式!M85=\"\",\"\",P_14号3様式!M85)","v":""},{"$f":"IF(P_14号3様式!N85=\"\",\"\",P_14号3様式!N85)","v":""},null,null,{"$f":"IF(P_14号3様式!O85=\"\",\"\",P_14号3様式!O85)","v":""},null,null,{"$f":"IF(P_14号3様式!P85=\"\",\"\",P_14号3様式!P85)","v":""},{"$f":"IF(P_14号3様式!Q85=\"\",\"\",P_14号3様式!Q85)","v":""},{"$f":"IF(P_14号3様式!R85=\"\",\"\",P_14号3様式!R85)","v":""},{"$f":"IF(P_14号3様式!S85=\"\",\"\",P_14号3様式!S85)","v":""},{"$f":"IF(P_14号3様式!T85=\"\",\"\",P_14号3様式!T85)","v":""}]
[{"$f":"IF(P_14号3様式!C86=\"\",\"\",P_14号3様式!C86)","v":""},null,{"$f":"IF(P_14号3様式!D86=\"\",\"\",P_14号3様式!D86)","v":""},{"$f":"IF(P_14号3様式!E86=\"\",\"\",P_14号3様式!E86)","v":""},{"$f":"IF(P_14号3様式!F86=\"\",\"\",P_14号3様式!F86)","v":""},{"$f":"IF(P_14号3様式!G86=\"\",\"\",P_14号3様式!G86)","v":""},{"$f":"IF(P_14号3様式!H86=\"\",\"\",P_14号3様式!H86)","v":""},{"$f":"IF(P_14号3様式!I86=\"\",\"\",P_14号3様式!I86)","v":""},{"$f":"IF(P_14号3様式!J86=\"\",\"\",P_14号3様式!J86)","v":""},{"$f":"IF(P_14号3様式!K86=\"\",\"\",P_14号3様式!K86)","v":""},{"$f":"IF(P_14号3様式!L86=\"\",\"\",P_14号3様式!L86)","v":""},{"$f":"IF(P_14号3様式!M86=\"\",\"\",P_14号3様式!M86)","v":""},{"$f":"IF(P_14号3様式!N86=\"\",\"\",P_14号3様式!N86)","v":""},null,null,{"$f":"IF(P_14号3様式!O86=\"\",\"\",P_14号3様式!O86)","v":""},null,null,{"$f":"IF(P_14号3様式!P86=\"\",\"\",P_14号3様式!P86)","v":""},{"$f":"IF(P_14号3様式!Q86=\"\",\"\",P_14号3様式!Q86)","v":""},{"$f":"IF(P_14号3様式!R86=\"\",\"\",P_14号3様式!R86)","v":""},{"$f":"IF(P_14号3様式!S86=\"\",\"\",P_14号3様式!S86)","v":""},{"$f":"IF(P_14号3様式!T86=\"\",\"\",P_14号3様式!T86)","v":""}]
[{"$f":"IF(P_14号3様式!C87=\"\",\"\",P_14号3様式!C87)","v":""},null,{"$f":"IF(P_14号3様式!D87=\"\",\"\",P_14号3様式!D87)","v":""},{"$f":"IF(P_14号3様式!E87=\"\",\"\",P_14号3様式!E87)","v":""},{"$f":"IF(P_14号3様式!F87=\"\",\"\",P_14号3様式!F87)","v":""},{"$f":"IF(P_14号3様式!G87=\"\",\"\",P_14号3様式!G87)","v":""},{"$f":"IF(P_14号3様式!H87=\"\",\"\",P_14号3様式!H87)","v":""},{"$f":"IF(P_14号3様式!I87=\"\",\"\",P_14号3様式!I87)","v":""},{"$f":"IF(P_14号3様式!J87=\"\",\"\",P_14号3様式!J87)","v":""},{"$f":"IF(P_14号3様式!K87=\"\",\"\",P_14号3様式!K87)","v":""},{"$f":"IF(P_14号3様式!L87=\"\",\"\",P_14号3様式!L87)","v":""},{"$f":"IF(P_14号3様式!M87=\"\",\"\",P_14号3様式!M87)","v":""},{"$f":"IF(P_14号3様式!N87=\"\",\"\",P_14号3様式!N87)","v":""},null,null,{"$f":"IF(P_14号3様式!O87=\"\",\"\",P_14号3様式!O87)","v":""},null,null,{"$f":"IF(P_14号3様式!P87=\"\",\"\",P_14号3様式!P87)","v":""},{"$f":"IF(P_14号3様式!Q87=\"\",\"\",P_14号3様式!Q87)","v":""},{"$f":"IF(P_14号3様式!R87=\"\",\"\",P_14号3様式!R87)","v":""},{"$f":"IF(P_14号3様式!S87=\"\",\"\",P_14号3様式!S87)","v":""},{"$f":"IF(P_14号3様式!T87=\"\",\"\",P_14号3様式!T87)","v":""}]
[]
["県        計",null,{"$f":"IF(P_14号3様式!U45=\"\",\"\",P_14号3様式!U45)","v":36696},{"$f":"IF(P_14号3様式!V45=\"\",\"\",P_14号3様式!V45)","v":40457},{"$f":"IF(P_14号3様式!W45=\"\",\"\",P_14号3様式!W45)","v":77153},{"$f":"IF(P_14号3様式!X45=\"\",\"\",P_14号3様式!X45)","v":6470},{"$f":"IF(P_14号3様式!Y45=\"\",\"\",P_14号3様式!Y45)","v":6236},{"$f":"IF(P_14号3様式!Z45=\"\",\"\",P_14号3様式!Z45)","v":12706},{"$f":"IF(P_14号3様式!AA45=\"\",\"\",P_14号3様式!AA45)","v":""},{"$f":"IF(P_14号3様式!AB45=\"\",\"\",P_14号3様式!AB45)","v":""},{"$f":"IF(P_14号3様式!AC45=\"\",\"\",P_14号3様式!AC45)","v":""},{"$f":"IF(P_14号3様式!AD45=\"\",\"\",P_14号3様式!AD45)","v":17.631349465881801},{"$f":"IF(P_14号3様式!AE45=\"\",\"\",P_14号3様式!AE45)","v":15.4138962355093},null,null,{"$f":"IF(P_14号3様式!AF45=\"\",\"\",P_14号3様式!AF45)","v":16.4685754280456},null,null,null,{"$f":"IF(P_14号3様式!AG45=\"\",\"\",P_14号3様式!AG45)","v":""},{"$f":"IF(P_14号3様式!AH45=\"\",\"\",P_14号3様式!AH45)","v":15.556641548062199},{"$f":"IF(P_14号3様式!AI45=\"\",\"\",P_14号3様式!AI45)","v":13.181268677814501},{"$f":"IF(P_14号3様式!AJ45=\"\",\"\",P_14号3様式!AJ45)","v":14.2812308506101}]

{"sheet":"パラメタシート","index":1,"n_rows":1,"n_cols":2,"rows_kept":1,"cut":false,"hidden":false,"merged":[]}
["執行日","2020-07-12"]

{"sheet":"P_14号3様式","index":2,"n_rows":87,"n_cols":39,"rows_kept":87,"cut":false,"hidden":false,"merged":[]}
["頁番号","行番号","市区町村名","当日有権者男","当日有権者女","当日有権者計","投票者男","投票者女","投票者計","棄権者男","棄権者女","棄権者計","投票率男","投票率女","投票率計","投票率順位","投票結了時刻","前回投票率男","前回投票率女","前回投票率計","県計有権者男","県計有権者女","県計有権者計","県計投票者男","県計投票者女","県計投票者計","県計棄権者男","県計棄権者女","県計棄権者計","県計投票率男","県計投票率女","県計投票率計","県計投票結了時刻","県計前回投票率男","県計前回投票率女","県計前回投票率計","選挙名","報告回数","投票時刻"]
[1,1,"★鹿児島市",null,null,null,null,null,null,null,null,null,null,null,null,null,null,11.7147905958756,9.8651608129218396,10.7058694021331,36696,40457,77153,6470,6236,12706,null,null,null,17.631349465881801,15.4138962355093,16.4685754280456,null,15.556641548062199,13.181268677814501,14.2812308506101,"鹿児島県議会議員補欠選挙",2,"11:00:00"]
[1,2,"★三島村",null,null,null,null,null,null,null,null,null,null,null,null,null,null,0,0,0,36696,40457,77153,6470,6236,12706,null,null,null,17.631349465881801,15.4138962355093,16.4685754280456,null,15.556641548062199,13.181268677814501,14.2812308506101,"鹿児島県議会議員補欠選挙",2,"11:00:00"]
[1,3,"★十島村",null,null,null,null,null,null,null,null,null,null,null,null,null,null,0,0,0,36696,40457,77153,6470,6236,12706,null,null,null,17.631349465881801,15.4138962355093,16.4685754280456,null,15.556641548062199,13.181268677814501,14.2812308506101,"鹿児島県議会議員補欠選挙",2,"11:00:00"]
[1,4,"＊（鹿児島市・鹿児島郡区）計",null,null,null,null,null,null,null,null,null,null,null,null,null,null,11.6941784302401,9.8509133655514702,10.6888733300226,36696,40457,77153,6470,6236,12706,null,null,null,17.631349465881801,15.4138962355093,16.4685754280456,null,15.556641548062199,13.181268677814501,14.2812308506101,"鹿児島県議会議員補欠選挙",2,"11:00:00"]
[1,5,"★鹿屋市",null,null,null,null,null,null,null,null,null,null,null,null,null,null,16.3607135449077,14.2227122381477,15.2270291337815,36696,40457,77153,6470,6236,12706,null,null,null,17.631349465881801,15.4138962355093,16.4685754280456,null,15.556641548062199,13.181268677814501,14.2812308506101,"鹿児島県議会議員補欠選挙",2,"11:00:00"]
[1,6,"★垂水市",null,null,null,null,null,null,null,null,null,null,null,null,null,null,16.093117408906899,13.9014763923403,14.9189443182708,36696,40457,77153,6470,6236,12706,null,null,null,17.631349465881801,15.4138962355093,16.4685754280456,null,15.556641548062199,13.181268677814501,14.2812308506101,"鹿児島県議会議員補欠選挙",2,"11:00:00"]
[1,7,"＊（鹿屋市・垂水市区）計",null,null,null,null,null,null,null,null,null,null,null,null,null,null,16.325062927004701,14.179089663933899,15.185563859053699,36696,40457,77153,6470,6236,12706,null,null,null,17.631349465881801,15.4138962355093,16.4685754280456,null,15.556641548062199,13.181268677814501,14.2812308506101,"鹿児島県議会議員補欠選挙",2,"11:00:00"]
[1,8,"★枕崎市",null,null,null,null,null,null,null,null,null,null,null,null,null,null,null,null,null,36696,40457,77153,6470,6236,12706,null,null,null,17.631349465881801,15.4138962355093,16.4685754280456,null,15.556641548062199,13.181268677814501,14.2812308506101,"鹿児島県議会議員補欠選挙",2,"11:00:00"]
[1,9,"＊（枕崎市区）計",null,null,null,null,null,null,null,null,null,null,null,null,null,null,null,null,null,36696,40457,77153,6470,6236,12706,null,null,null,17.631349465881801,15.4138962355093,16.4685754280456,null,15.556641548062199,13.181268677814501,14.2812308506101,"鹿児島県議会議員補欠選挙",2,"11:00:00"]
[1,10,"★阿久根市",null,null,null,null,null,null,null,null,null,null,null,null,null,null,null,null,null,36696,40457,77153,6470,6236,12706,null,null,null,17.631349465881801,15.4138962355093,16.4685754280456,null,15.556641548062199,13.181268677814501,14.2812308506101,"鹿児島県議会議員補欠選挙",2,"11:00:00"]
[1,11,"★長島町",null,null,null,null,null,null,null,null,null,null,null,null,null,null,null,null,null,36696,40457,77153,6470,6236,12706,null,null,null,17.631349465881801,15.4138962355093,16.4685754280456,null,15.556641548062199,13.181268677814501,14.2812308506101,"鹿児島県議会議員補欠選挙",2,"11:00:00"]
[1,12,"＊（阿久根市・出水郡区）計",null,null,null,null,null,null,null,null,null,null,null,null,null,null,null,null,null,36696,40457,77153,6470,6236,12706,null,null,null,17.631349465881801,15.4138962355093,16.4685754280456,null,15.556641548062199,13.181268677814501,14.2812308506101,"鹿児島県議会議員補欠選挙",2,"11:00:00"]
[1,13,"★出水市",null,null,null,null,null,null,null,null,null,null,null,null,null,null,19.408466081087798,16.546018614270899,17.8763347863189,36696,40457,77153,6470,6236,12706,null,null,null,17.631349465881801,15.4138962355093,16.4685754280456,null,15.556641548062199,13.181268677814501,14.2812308506101,"鹿児島県議会議員補欠選挙",2,"11:00:00"]
[1,14,"＊（出水市区）計",null,null,null,null,null,null,null,null,null,null,null,null,null,null,19.408466081087798,16.546018614270899,17.8763347863189,36696,40457,77153,6470,6236,12706,null,null,null,17.631349465881801,15.4138962355093,16.4685754280456,null,15.556641548062199,13.181268677814501,14.2812308506101,"鹿児島県議会議員補欠選挙",2,"11:00:00"]
[1,15,"★指宿市",null,null,null,null,null,null,null,null,null,null,null,null,null,null,20.4746632456703,18.004957965078699,19.132548468341799,36696,40457,77153,6470,6236,12706,null,null,null,17.631349465881801,15.4138962355093,16.4685754280456,null,15.556641548062199,13.181268677814501,14.2812308506101,"鹿児島県議会議員補欠選挙",2,"11:00:00"]
[1,16,"＊（指宿市区）計",null,null,null,null,null,null,null,null,null,null,null,null,null,null,20.4746632456703,18.004957965078699,19.132548468341799,36696,40457,77153,6470,6236,12706,null,null,null,17.631349465881801,15.4138962355093,16.4685754280456,null,15.556641548062199,13.181268677814501,14.2812308506101,"鹿児島県議会議員補欠選挙",2,"11:00:00"]
[1,17,"★西之表市",null,null,null,null,null,null,null,null,null,null,null,null,null,null,22.3951285520974,20.032914422501499,21.141632264210902,36696,40457,77153,6470,6236,12706,null,null,null,17.631349465881801,15.4138962355093,16.4685754280456,null,15.556641548062199,13.181268677814501,14.2812308506101,"鹿児島県議会議員補欠選挙",2,"11:00:00"]
[1,18,"★中種子町",null,null,null,null,null,null,null,null,null,null,null,null,null,null,29.394719896973601,26.387315968289901,27.794516420608598,36696,40457,77153,6470,6236,12706,null,null,null,17.631349465881801,15.4138962355093,16.4685754280456,null,15.556641548062199,13.181268677814501,14.2812308506101,"鹿児島県議会議員補欠選挙",2,"11:00:00"]
[1,19,"★南種子町",null,null,null,null,null,null,null,null,null,null,null,null,null,null,30.958549222797899,27.045075125208701,28.968590831918501,36696,40457,77153,6470,6236,12706,null,null,null,17.631349465881801,15.4138962355093,16.4685754280456,null,15.556641548062199,13.181268677814501,14.2812308506101,"鹿児島県議会議員補欠選挙",2,"11:00:00"]
[1,20,"★屋久島町",null,null,null,null,null,null,null,null,null,null,null,null,null,null,22.4666935809447,23.200464396284801,22.841335704406202,36696,40457,77153,6470,6236,12706,null,null,null,17.631349465881801,15.4138962355093,16.4685754280456,null,15.556641548062199,13.181268677814501,14.2812308506101,"鹿児島県議会議員補欠選挙",2,"11:00:00"]
[1,21,"＊（西之表市・熊毛郡区）計",null,null,null,null,null,null,null,null,null,null,null,null,null,null,24.9693025540275,23.160854893138399,24.025478454855001,36696,40457,77153,6470,6236,12706,null,null,null,17.631349465881801,15.4138962355093,16.4685754280456,null,15.556641548062199,13.181268677814501,14.2812308506101,"鹿児島県議会議員補欠選挙",2,"11:00:00"]
[1,22,"　薩摩川内市第１",34808,38623,73431,6008,5792,11800,null,null,null,17.2603999080671,14.996245760298301,16.0695074287426,null,null,18.8779875648851,16.408945686900999,17.575855608125401,36696,40457,77153,6470,6236,12706,null,null,null,17.631349465881801,15.4138962355093,16.4685754280456,null,15.556641548062199,13.181268677814501,14.2812308506101,"鹿児島県議会議員補欠選挙",2,"11:00:00"]
[1,23,"　薩摩川内市第２",950,978,1928,263,254,517,null,null,null,27.684210526315798,25.971370143149301,26.815352697095399,null,null,34.2424242424242,34.344422700587103,34.294234592445299,36696,40457,77153,6470,6236,12706,null,null,null,17.631349465881801,15.4138962355093,16.4685754280456,null,15.556641548062199,13.181268677814501,14.2812308506101,"鹿児島県議会議員補欠選挙",2,"11:00:00"]
[1,24,"　薩摩川内市第３",938,856,1794,199,190,389,null,null,null,21.215351812366698,22.196261682243001,21.683389074693402,null,null,22.842105263157901,24.2290748898678,23.519913885898799,36696,40457,77153,6470,6236,12706,null,null,null,17.631349465881801,15.4138962355093,16.4685754280456,null,15.556641548062199,13.181268677814501,14.2812308506101,"鹿児島県議会議員補欠選挙",2,"11:00:00"]
[1,25,"＊（薩摩川内市区）計",36696,40457,77153,6470,6236,12706,null,null,null,17.631349465881801,15.4138962355093,16.4685754280456,null,null,19.390843738176301,17.028376568018501,18.148276259656399,36696,40457,77153,6470,6236,12706,null,null,null,17.631349465881801,15.4138962355093,16.4685754280456,null,15.556641548062199,13.181268677814501,14.2812308506101,"鹿児島県議会議員補欠選挙",2,"11:00:00"]
[1,26,"★日置市",null,null,null,null,null,null,null,null,null,null,null,null,null,null,null,null,null,36696,40457,77153,6470,6236,12706,null,null,null,17.631349465881801,15.4138962355093,16.4685754280456,null,15.556641548062199,13.181268677814501,14.2812308506101,"鹿児島県議会議員補欠選挙",2,"11:00:00"]
[1,27,"＊（日置市区）計",null,null,null,null,null,null,null,null,null,null,null,null,null,null,null,null,null,36696,40457,77153,6470,6236,12706,null,null,null,17.631349465881801,15.4138962355093,16.4685754280456,null,15.556641548062199,13.181268677814501,14.2812308506101,"鹿児島県議会議員補欠選挙",2,"11:00:00"]
[1,28,"★曽於市",null,null,null,null,null,null,null,null,null,null,null,null,null,null,null,null,null,36696,40457,77153,6470,6236,12706,null,null,null,17.631349465881801,15.4138962355093,16.4685754280456,null,15.556641548062199,13.181268677814501,14.2812308506101,"鹿児島県議会議員補欠選挙",2,"11:00:00"]
[1,29,"＊（曽於市区）計",null,null,null,null,null,null,null,null,null,null,null,null,null,null,null,null,null,36696,40457,77153,6470,6236,12706,null,null,null,17.631349465881801,15.4138962355093,16.4685754280456,null,15.556641548062199,13.181268677814501,14.2812308506101,"鹿児島県議会議員補欠選挙",2,"11:00:00"]
[1,30,"★霧島市",null,null,null,null,null,null,null,null,null,null,null,null,null,null,16.308507506623499,13.8315294117647,15.0015394853153,36696,40457,77153,6470,6236,12706,null,null,null,17.631349465881801,15.4138962355093,16.4685754280456,null,15.556641548062199,13.181268677814501,14.2812308506101,"鹿児島県議会議員補欠選挙",2,"11:00:00"]
[1,31,"★湧水町",null,null,null,null,null,null,null,null,null,null,null,null,null,null,23.9967462039046,19.676739283204501,21.6790247580747,36696,40457,77153,6470,6236,12706,null,null,null,17.631349465881801,15.4138962355093,16.4685754280456,null,15.556641548062199,13.181268677814501,14.2812308506101,"鹿児島県議会議員補欠選挙",2,"11:00:00"]
[1,32,"＊（霧島市・姶良郡区）計",null,null,null,null,null,null,null,null,null,null,null,null,null,null,16.8618038481052,14.266299613199999,15.4906111929308,36696,40457,77153,6470,6236,12706,null,null,null,17.631349465881801,15.4138962355093,16.4685754280456,null,15.556641548062199,13.181268677814501,14.2812308506101,"鹿児島県議会議員補欠選挙",2,"11:00:00"]
[1,33,"★いちき串木野市",null,null,null,null,null,null,null,null,null,null,null,null,null,null,15.125507567368,12.7842264270949,13.8677714188093,36696,40457,77153,6470,6236,12706,null,null,null,17.631349465881801,15.4138962355093,16.4685754280456,null,15.556641548062199,13.181268677814501,14.2812308506101,"鹿児島県議会議員補欠選挙",2,"11:00:00"]
[1,34,"＊（いちき串木野市区）計",null,null,null,null,null,null,null,null,null,null,null,null,null,null,15.125507567368,12.7842264270949,13.8677714188093,36696,40457,77153,6470,6236,12706,null,null,null,17.631349465881801,15.4138962355093,16.4685754280456,null,15.556641548062199,13.181268677814501,14.2812308506101,"鹿児島県議会議員補欠選挙",2,"11:00:00"]
[1,35,"★南さつま市",null,null,null,null,null,null,null,null,null,null,null,null,null,null,null,null,null,36696,40457,77153,6470,6236,12706,null,null,null,17.631349465881801,15.4138962355093,16.4685754280456,null,15.556641548062199,13.181268677814501,14.2812308506101,"鹿児島県議会議員補欠選挙",2,"11:00:00"]
[1,36,"＊（南さつま市区）計",null,null,null,null,null,null,null,null,null,null,null,null,null,null,null,null,null,36696,40457,77153,6470,6236,12706,null,null,null,17.631349465881801,15.4138962355093,16.4685754280456,null,15.556641548062199,13.181268677814501,14.2812308506101,"鹿児島県議会議員補欠選挙",2,"11:00:00"]
[1,37,"★志布志市",null,null,null,null,null,null,null,null,null,null,null,null,null,null,15.3253211769581,12.710487444608599,13.9425893380199,36696,40457,77153,6470,6236,12706,null,null,null,17.631349465881801,15.4138962355093,16.4685754280456,null,15.556641548062199,13.181268677814501,14.2812308506101,"鹿児島県議会議員補欠選挙",2,"11:00:00"]
[1,38,"★大崎町",null,null,null,null,null,null,null,null,null,null,null,null,null,null,19.669294366468002,16.6057441253264,18.061392289420802,36696,40457,77153,6470,6236,12706,null,null,null,17.631349465881801,15.4138962355093,16.4685754280456,null,15.556641548062199,13.181268677814501,14.2812308506101,"鹿児島県議会議員補欠選挙",2,"11:00:00"]
[1,39,"＊（志布志市・曽於郡区）計",null,null,null,null,null,null,null,null,null,null,null,null,null,null,16.6338468666744,13.870884106818799,15.176055374682001,36696,40457,77153,6470,6236,12706,null,null,null,17.631349465881801,15.4138962355093,16.4685754280456,null,15.556641548062199,13.181268677814501,14.2812308506101,"鹿児島県議会議員補欠選挙",2,"11:00:00"]
[1,40,"★奄美市",null,null,null,null,null,null,null,null,null,null,null,null,null,null,null,null,null,36696,40457,77153,6470,6236,12706,null,null,null,17.631349465881801,15.4138962355093,16.4685754280456,null,15.556641548062199,13.181268677814501,14.2812308506101,"鹿児島県議会議員補欠選挙",2,"11:00:00"]
[1,41,"★龍郷町",null,null,null,null,null,null,null,null,null,null,null,null,null,null,null,null,null,36696,40457,77153,6470,6236,12706,null,null,null,17.631349465881801,15.4138962355093,16.4685754280456,null,15.556641548062199,13.181268677814501,14.2812308506101,"鹿児島県議会議員補欠選挙",2,"11:00:00"]
[1,42,"＊（奄美市区）計",null,null,null,null,null,null,null,null,null,null,null,null,null,null,null,null,null,36696,40457,77153,6470,6236,12706,null,null,null,17.631349465881801,15.4138962355093,16.4685754280456,null,15.556641548062199,13.181268677814501,14.2812308506101,"鹿児島県議会議員補欠選挙",2,"11:00:00"]
[1,43,"★南九州市",null,null,null,null,null,null,null,null,null,null,null,null,null,null,null,null,null,36696,40457,77153,6470,6236,12706,null,null,null,17.631349465881801,15.4138962355093,16.4685754280456,null,15.556641548062199,13.181268677814501,14.2812308506101,"鹿児島県議会議員補欠選挙",2,"11:00:00"]
[2,1,"＊（南九州市区）計",null,null,null,null,null,null,null,null,null,null,null,null,null,null,null,null,null,36696,40457,77153,6470,6236,12706,null,null,null,17.631349465881801,15.4138962355093,16.4685754280456,null,15.556641548062199,13.181268677814501,14.2812308506101,"鹿児島県議会議員補欠選挙",2,"11:00:00"]
[2,2,"★伊佐市",null,null,null,null,null,null,null,null,null,null,null,null,null,null,null,null,null,36696,40457,77153,6470,6236,12706,null,null,null,17.631349465881801,15.4138962355093,16.4685754280456,null,15.556641548062199,13.181268677814501,14.2812308506101,"鹿児島県議会議員補欠選挙",2,"11:00:00"]
[2,3,"＊（伊佐市区）計",null,null,null,null,null,null,null,null,null,null,null,null,null,null,null,null,null,36696,40457,77153,6470,6236,12706,null,null,null,17.631349465881801,15.4138962355093,16.4685754280456,null,15.556641548062199,13.181268677814501,14.2812308506101,"鹿児島県議会議員補欠選挙",2,"11:00:00"]
[2,4,"★姶良市",null,null,null,null,null,null,null,null,null,null,null,null,null,null,16.330107979245501,13.4648472263423,14.7780955747662,36696,40457,77153,6470,6236,12706,null,null,null,17.631349465881801,15.4138962355093,16.4685754280456,null,15.556641548062199,13.181268677814501,14.2812308506101,"鹿児島県議会議員補欠選挙",2,"11:00:00"]
[2,5,"＊（姶良市区）計",null,null,null,null,null,null,null,null,null,null,null,null,null,null,16.330107979245501,13.4648472263423,14.7780955747662,36696,40457,77153,6470,6236,12706,null,null,null,17.631349465881801,15.4138962355093,16.4685754280456,null,15.556641548062199,13.181268677814501,14.2812308506101,"鹿児島県議会議員補欠選挙",2,"11:00:00"]
[2,6,"★さつま町",null,null,null,null,null,null,null,null,null,null,null,null,null,null,27.538163314756499,24.060618642308501,25.665250447227201,36696,40457,77153,6470,6236,12706,null,null,null,17.631349465881801,15.4138962355093,16.4685754280456,null,15.556641548062199,13.181268677814501,14.2812308506101,"鹿児島県議会議員補欠選挙",2,"11:00:00"]
[2,7,"＊（薩摩郡区）計",null,null,null,null,null,null,null,null,null,null,null,null,null,null,27.538163314756499,24.060618642308501,25.665250447227201,36696,40457,77153,6470,6236,12706,null,null,null,17.631349465881801,15.4138962355093,16.4685754280456,null,15.556641548062199,13.181268677814501,14.2812308506101,"鹿児島県議会議員補欠選挙",2,"11:00:00"]
[2,8,"★東串良町",null,null,null,null,null,null,null,null,null,null,null,null,null,null,null,null,null,36696,40457,77153,6470,6236,12706,null,null,null,17.631349465881801,15.4138962355093,16.4685754280456,null,15.556641548062199,13.181268677814501,14.2812308506101,"鹿児島県議会議員補欠選挙",2,"11:00:00"]
[2,9,"★錦江町",null,null,null,null,null,null,null,null,null,null,null,null,null,null,null,null,null,36696,40457,77153,6470,6236,12706,null,null,null,17.631349465881801,15.4138962355093,16.4685754280456,null,15.556641548062199,13.181268677814501,14.2812308506101,"鹿児島県議会議員補欠選挙",2,"11:00:00"]
[2,10,"★南大隅町",null,null,null,null,null,null,null,null,null,null,null,null,null,null,null,null,null,36696,40457,77153,6470,6236,12706,null,null,null,17.631349465881801,15.4138962355093,16.4685754280456,null,15.556641548062199,13.181268677814501,14.2812308506101,"鹿児島県議会議員補欠選挙",2,"11:00:00"]
[2,11,"★肝付町",null,null,null,null,null,null,null,null,null,null,null,null,null,null,null,null,null,36696,40457,77153,6470,6236,12706,null,null,null,17.631349465881801,15.4138962355093,16.4685754280456,null,15.556641548062199,13.181268677814501,14.2812308506101,"鹿児島県議会議員補欠選挙",2,"11:00:00"]
[2,12,"＊（肝属郡区）計",null,null,null,null,null,null,null,null,null,null,null,null,null,null,null,null,null,36696,40457,77153,6470,6236,12706,null,null,null,17.631349465881801,15.4138962355093,16.4685754280456,null,15.556641548062199,13.181268677814501,14.2812308506101,"鹿児島県議会議員補欠選挙",2,"11:00:00"]
[2,13,"★大和村",null,null,null,null,null,null,null,null,null,null,null,null,null,null,28.9735099337748,32.880844645550503,31.018153117600601,36696,40457,77153,6470,6236,12706,null,null,null,17.631349465881801,15.4138962355093,16.4685754280456,null,15.556641548062199,13.181268677814501,14.2812308506101,"鹿児島県議会議員補欠選挙",2,"11:00:00"]
[2,14,"★宇検村",null,null,null,null,null,null,null,null,null,null,null,null,null,null,28.7729196050776,23.778071334214001,26.193724420191,36696,40457,77153,6470,6236,12706,null,null,null,17.631349465881801,15.4138962355093,16.4685754280456,null,15.556641548062199,13.181268677814501,14.2812308506101,"鹿児島県議会議員補欠選挙",2,"11:00:00"]
[2,15,"★瀬戸内町",null,null,null,null,null,null,null,null,null,null,null,null,null,null,20.6611570247934,16.0103626943005,18.224996607409398,36696,40457,77153,6470,6236,12706,null,null,null,17.631349465881801,15.4138962355093,16.4685754280456,null,15.556641548062199,13.181268677814501,14.2812308506101,"鹿児島県議会議員補欠選挙",2,"11:00:00"]
[2,16,"★喜界町",null,null,null,null,null,null,null,null,null,null,null,null,null,null,15.5493155493155,15.051961112973499,15.294924554183799,36696,40457,77153,6470,6236,12706,null,null,null,17.631349465881801,15.4138962355093,16.4685754280456,null,15.556641548062199,13.181268677814501,14.2812308506101,"鹿児島県議会議員補欠選挙",2,"11:00:00"]
[2,17,"★徳之島町",null,null,null,null,null,null,null,null,null,null,null,null,null,null,20.365596437778301,15.780022446689101,18.0233891309333,36696,40457,77153,6470,6236,12706,null,null,null,17.631349465881801,15.4138962355093,16.4685754280456,null,15.556641548062199,13.181268677814501,14.2812308506101,"鹿児島県議会議員補欠選挙",2,"11:00:00"]
[2,18,"★天城町",null,null,null,null,null,null,null,null,null,null,null,null,null,null,31.610819539765799,28.977035490605399,30.316091954023001,36696,40457,77153,6470,6236,12706,null,null,null,17.631349465881801,15.4138962355093,16.4685754280456,null,15.556641548062199,13.181268677814501,14.2812308506101,"鹿児島県議会議員補欠選挙",2,"11:00:00"]
[2,19,"★伊仙町",null,null,null,null,null,null,null,null,null,null,null,null,null,null,26.617915904936002,22.925350511557401,24.804614812058102,36696,40457,77153,6470,6236,12706,null,null,null,17.631349465881801,15.4138962355093,16.4685754280456,null,15.556641548062199,13.181268677814501,14.2812308506101,"鹿児島県議会議員補欠選挙",2,"11:00:00"]
[2,20,"★和泊町",null,null,null,null,null,null,null,null,null,null,null,null,null,null,23.308564724286299,19.7368421052632,21.4874448917002,36696,40457,77153,6470,6236,12706,null,null,null,17.631349465881801,15.4138962355093,16.4685754280456,null,15.556641548062199,13.181268677814501,14.2812308506101,"鹿児島県議会議員補欠選挙",2,"11:00:00"]
[2,21,"★知名町",null,null,null,null,null,null,null,null,null,null,null,null,null,null,21.4691558441558,19.294605809128601,20.393926959376302,36696,40457,77153,6470,6236,12706,null,null,null,17.631349465881801,15.4138962355093,16.4685754280456,null,15.556641548062199,13.181268677814501,14.2812308506101,"鹿児島県議会議員補欠選挙",2,"11:00:00"]
[2,22,"★与論町",null,null,null,null,null,null,null,null,null,null,null,null,null,null,23.8095238095238,17.450890817725,20.532140334353699,36696,40457,77153,6470,6236,12706,null,null,null,17.631349465881801,15.4138962355093,16.4685754280456,null,15.556641548062199,13.181268677814501,14.2812308506101,"鹿児島県議会議員補欠選挙",2,"11:00:00"]
[2,23,"＊（大島郡区）計",null,null,null,null,null,null,null,null,null,null,null,null,null,null,22.8734161541954,19.347487105673501,21.0824532900081,36696,40457,77153,6470,6236,12706,null,null,null,17.631349465881801,15.4138962355093,16.4685754280456,null,15.556641548062199,13.181268677814501,14.2812308506101,"鹿児島県議会議員補欠選挙",2,"11:00:00"]
[2,24,null,null,null,null,null,null,null,null,null,null,null,null,null,null,null,null,null,null,36696,40457,77153,6470,6236,12706,null,null,null,17.631349465881801,15.4138962355093,16.4685754280456,null,15.556641548062199,13.181268677814501,14.2812308506101,"鹿児島県議会議員補欠選挙",2,"11:00:00"]
[2,25,null,null,null,null,null,null,null,null,null,null,null,null,null,null,null,null,null,null,36696,40457,77153,6470,6236,12706,null,null,null,17.631349465881801,15.4138962355093,16.4685754280456,null,15.556641548062199,13.181268677814501,14.2812308506101,"鹿児島県議会議員補欠選挙",2,"11:00:00"]
[2,26,null,null,null,null,null,null,null,null,null,null,null,null,null,null,null,null,null,null,36696,40457,77153,6470,6236,12706,null,null,null,17.631349465881801,15.4138962355093,16.4685754280456,null,15.556641548062199,13.181268677814501,14.2812308506101,"鹿児島県議会議員補欠選挙",2,"11:00:00"]
[2,27,null,null,null,null,null,null,null,null,null,null,null,null,null,null,null,null,null,null,36696,40457,77153,6470,6236,12706,null,null,null,17.631349465881801,15.4138962355093,16.4685754280456,null,15.556641548062199,13.181268677814501,14.2812308506101,"鹿児島県議会議員補欠選挙",2,"11:00:00"]
[2,28,null,null,null,null,null,null,null,null,null,null,null,null,null,null,null,null,null,null,36696,40457,77153,6470,6236,12706,null,null,null,17.631349465881801,15.4138962355093,16.4685754280456,null,15.556641548062199,13.181268677814501,14.2812308506101,"鹿児島県議会議員補欠選挙",2,"11:00:00"]
[2,29,null,null,null,null,null,null,null,null,null,null,null,null,null,null,null,null,null,null,36696,40457,77153,6470,6236,12706,null,null,null,17.631349465881801,15.4138962355093,16.4685754280456,null,15.556641548062199,13.181268677814501,14.2812308506101,"鹿児島県議会議員補欠選挙",2,"11:00:00"]
[2,30,null,null,null,null,null,null,null,null,null,null,null,null,null,null,null,null,null,null,36696,40457,77153,6470,6236,12706,null,null,null,17.631349465881801,15.4138962355093,16.4685754280456,null,15.556641548062199,13.181268677814501,14.2812308506101,"鹿児島県議会議員補欠選挙",2,"11:00:00"]
[2,31,null,null,null,null,null,null,null,null,null,null,null,null,null,null,null,null,null,null,36696,40457,77153,6470,6236,12706,null,null,null,17.631349465881801,15.4138962355093,16.4685754280456,null,15.556641548062199,13.181268677814501,14.2812308506101,"鹿児島県議会議員補欠選挙",2,"11:00:00"]
[2,32,null,null,null,null,null,null,null,null,null,null,null,null,null,null,null,null,null,null,36696,40457,77153,6470,6236,12706,null,null,null,17.631349465881801,15.4138962355093,16.4685754280456,null,15.556641548062199,13.181268677814501,14.2812308506101,"鹿児島県議会議員補欠選挙",2,"11:00:00"]
[2,33,null,null,null,null,null,null,null,null,null,null,null,null,null,null,null,null,null,null,36696,40457,77153,6470,6236,12706,null,null,null,17.631349465881801,15.4138962355093,16.4685754280456,null,15.556641548062199,13.181268677814501,14.2812308506101,"鹿児島県議会議員補欠選挙",2,"11:00:00"]
[2,34,null,null,null,null,null,null,null,null,null,null,null,null,null,null,null,null,null,null,36696,40457,77153,6470,6236,12706,null,null,null,17.631349465881801,15.4138962355093,16.4685754280456,null,15.556641548062199,13.181268677814501,14.2812308506101,"鹿児島県議会議員補欠選挙",2,"11:00:00"]
[2,35,null,null,null,null,null,null,null,null,null,null,null,null,null,null,null,null,null,null,36696,40457,77153,6470,6236,12706,null,null,null,17.631349465881801,15.4138962355093,16.4685754280456,null,15.556641548062199,13.181268677814501,14.2812308506101,"鹿児島県議会議員補欠選挙",2,"11:00:00"]
[2,36,null,null,null,null,null,null,null,null,null,null,null,null,null,null,null,null,null,null,36696,40457,77153,6470,6236,12706,null,null,null,17.631349465881801,15.4138962355093,16.4685754280456,null,15.556641548062199,13.181268677814501,14.2812308506101,"鹿児島県議会議員補欠選挙",2,"11:00:00"]
[2,37,null,null,null,null,null,null,null,null,null,null,null,null,null,null,null,null,null,null,36696,40457,77153,6470,6236,12706,null,null,null,17.631349465881801,15.4138962355093,16.4685754280456,null,15.556641548062199,13.181268677814501,14.2812308506101,"鹿児島県議会議員補欠選挙",2,"11:00:00"]
[2,38,null,null,null,null,null,null,null,null,null,null,null,null,null,null,null,null,null,null,36696,40457,77153,6470,6236,12706,null,null,null,17.631349465881801,15.4138962355093,16.4685754280456,null,15.556641548062199,13.181268677814501,14.2812308506101,"鹿児島県議会議員補欠選挙",2,"11:00:00"]
[2,39,null,null,null,null,null,null,null,null,null,null,null,null,null,null,null,null,null,null,36696,40457,77153,6470,6236,12706,null,null,null,17.631349465881801,15.4138962355093,16.4685754280456,null,15.556641548062199,13.181268677814501,14.2812308506101,"鹿児島県議会議員補欠選挙",2,"11:00:00"]
[2,40,null,null,null,null,null,null,null,null,null,null,null,null,null,null,null,null,null,null,36696,40457,77153,6470,6236,12706,null,null,null,17.631349465881801,15.4138962355093,16.4685754280456,null,15.556641548062199,13.181268677814501,14.2812308506101,"鹿児島県議会議員補欠選挙",2,"11:00:00"]
[2,41,null,null,null,null,null,null,null,null,null,null,null,null,null,null,null,null,null,null,36696,40457,77153,6470,6236,12706,null,null,null,17.631349465881801,15.4138962355093,16.4685754280456,null,15.556641548062199,13.181268677814501,14.2812308506101,"鹿児島県議会議員補欠選挙",2,"11:00:00"]
[2,42,null,null,null,null,null,null,null,null,null,null,null,null,null,null,null,null,null,null,36696,40457,77153,6470,6236,12706,null,null,null,17.631349465881801,15.4138962355093,16.4685754280456,null,15.556641548062199,13.181268677814501,14.2812308506101,"鹿児島県議会議員補欠選挙",2,"11:00:00"]
[2,43,null,null,null,null,null,null,null,null,null,null,null,null,null,null,null,null,null,null,36696,40457,77153,6470,6236,12706,null,null,null,17.631349465881801,15.4138962355093,16.4685754280456,null,15.556641548062199,13.181268677814501,14.2812308506101,"鹿児島県議会議員補欠選挙",2,"11:00:00"]