{"text_format":"1","workbook":"xlsx","n_sheets":3,"sheets":["開票速報（得票詳細）_161_","パラメタシート","P_16号様式1"],"not_rendered":{"charts":0,"images":0,"macros":1,"external_links":0,"defined_names":7,"comments":0,"pivot_tables":0},"unopened":[],"bounds":{"document_bytes":16777216,"sheet_cells":100000,"rows_first":2000,"rows_last":500,"rows_between":2000,"halvings":0,"cell_chars":16384,"cell_head_chars":4096},"cells_cut":0,"cells_raw":0,"read":"whole","date_system":"1900"}

{"sheet":"開票速報（得票詳細）_161_","index":0,"n_rows":112,"n_cols":25,"rows_kept":112,"cut":false,"hidden":false,"merged":[[35,23,35,24],[36,23,36,24],[27,23,27,24],[15,23,15,24],[16,23,16,24],[33,23,33,24],[25,23,25,24],[26,23,26,24],[17,23,17,24],[46,23,46,24],[34,23,34,24],[4,12,4,13],[5,23,5,24],[32,23,32,24],[29,23,29,24],[31,23,31,24],[30,23,30,24],[24,23,24,24],[28,23,28,24],[37,23,37,24],[35,19,35,20],[36,19,36,20],[37,21,37,22],[31,21,31,22],[32,21,32,22],[33,21,33,22],[34,21,34,22],[35,21,35,22],[36,21,36,22],[25,21,25,22],[26,21,26,22],[27,21,27,22],[28,21,28,22],[38,23,38,24],[39,23,39,24],[40,23,40,24],[41,23,41,24],[42,23,42,24],[43,23,43,24],[44,23,44,24],[45,23,45,24],[50,19,50,20],[38,21,38,22],[39,21,39,22],[40,21,40,22],[41,21,41,22],[42,21,42,22],[50,23,50,24],[51,23,51,24],[47,23,47,24],[48,23,48,24],[49,23,49,24],[48,21,48,22],[49,21,49,22],[50,21,50,22],[55,0,55,1],[49,19,49,20],[47,21,47,22],[11,23,11,24],[13,23,13,24],[14,23,14,24],[23,23,23,24],[24,19,24,20],[25,19,25,20],[26,19,26,20],[27,19,27,20],[43,21,43,22],[44,21,44,22],[45,21,45,22],[46,21,46,22],[28,19,28,20],[29,19,29,20],[45,19,45,20],[46,19,46,20],[3,12,3,13],[2,1,2,5],[47,19,47,20],[48,19,48,20],[51,0,51,1],[50,0,50,1],[54,0,54,1],[53,0,53,1],[11,0,11,1],[43,19,43,20],[44,19,44,20],[31,19,31,20],[32,19,32,20],[33,19,33,20],[34,19,34,20],[30,19,30,20],[23,19,23,20],[37,19,37,20],[38,19,38,20],[39,19,39,20],[40,19,40,20],[41,19,41,20],[42,19,42,20],[0,23,1,24],[22,19,22,20],[15,19,15,20],[3,22,3,23],[4,22,4,23],[14,19,14,20],[16,19,16,20],[2,16,2,18],[1,16,1,18],[5,16,5,18],[22,23,22,24],[21,19,21,20],[4,16,4,19],[7,17,7,18],[21,23,21,24],[12,23,12,24],[9,23,9,24],[6,23,6,24],[7,23,7,24],[8,23,8,24],[7,19,7,20],[7,21,7,22],[6,15,6,16],[8,17,8,18],[0,0,1,2],[3,1,3,5],[1,8,2,14],[3,14,3,15],[18,23,18,24],[19,23,19,24],[20,23,20,24],[9,0,9,1],[19,19,19,20],[20,19,20,20],[11,19,11,20],[12,19,12,20],[13,19,13,20],[17,19,17,20],[18,19,18,20],[10,21,10,22],[11,21,11,22],[12,21,12,22],[13,21,13,22],[12,0,12,1],[13,0,13,1],[14,0,14,1],[6,17,6,18],[3,16,3,19],[47,0,47,1],[48,0,48,1],[49,0,49,1],[43,0,43,1],[44,0,44,1],[45,0,45,1],[46,0,46,1],[39,0,39,1],[40,0,40,1],[41,0,41,1],[42,0,42,1],[35,0,35,1],[36,0,36,1],[37,0,37,1],[38,0,38,1],[29,0,29,1],[30,0,30,1],[31,0,31,1],[32,0,32,1],[33,0,33,1],[34,0,34,1],[23,0,23,1],[24,0,24,1],[25,0,25,1],[26,0,26,1],[27,0,27,1],[28,0,28,1],[21,0,21,1],[22,0,22,1],[15,0,15,1],[16,0,16,1],[17,0,17,1],[18,0,18,1],[19,0,19,1],[20,0,20,1],[10,0,10,1],[10,19,10,20],[10,23,10,24],[9,19,9,20],[9,21,9,22],[6,0,8,1],[6,19,6,20],[6,21,6,22],[7,3,7,4],[8,3,8,4],[7,5,7,6],[7,7,7,8],[7,9,7,10],[6,3,6,4],[6,5,6,6],[6,7,6,8],[7,11,7,12],[8,5,8,6],[8,7,8,8],[8,9,8,10],[8,11,8,12],[8,13,8,14],[8,15,8,16],[8,21,8,22],[8,19,8,20],[7,13,7,14],[7,15,7,16],[6,9,6,10],[6,11,6,12],[6,13,6,14],[53,19,53,20],[53,21,53,22],[53,23,53,24],[51,21,51,22],[51,19,51,20],[29,21,29,22],[30,21,30,22],[19,21,19,22],[20,21,20,22],[21,21,21,22],[22,21,22,22],[23,21,23,22],[24,21,24,22],[14,21,14,22],[15,21,15,22],[16,21,16,22],[17,21,17,22],[18,21,18,22],[55,21,55,22],[55,23,55,24],[55,19,55,20],[111,0,111,1],[111,19,111,20],[111,21,111,22],[111,23,111,24],[109,0,109,1],[109,19,109,20],[109,21,109,22],[109,23,109,24],[110,0,110,1],[110,19,110,20],[110,21,110,22],[110,23,110,24],[106,0,106,1],[106,19,106,20],[106,21,106,22],[106,23,106,24],[107,0,107,1],[107,19,107,20],[107,21,107,22],[107,23,107,24],[104,0,104,1],[104,19,104,20],[104,21,104,22],[104,23,104,24],[105,0,105,1],[105,19,105,20],[105,21,105,22],[105,23,105,24],[102,0,102,1],[102,19,102,20],[102,21,102,22],[102,23,102,24],[103,0,103,1],[103,19,103,20],[103,21,103,22],[103,23,103,24],[100,0,100,1],[100,19,100,20],[100,21,100,22],[100,23,100,24],[101,0,101,1],[101,19,101,20],[101,21,101,22],[101,23,101,24],[98,0,98,1],[98,19,98,20],[98,21,98,22],[98,23,98,24],[99,0,99,1],[99,19,99,20],[99,21,99,22],[99,23,99,24],[96,0,96,1],[96,19,96,20],[96,21,96,22],[96,23,96,24],[97,0,97,1],[97,19,97,20],[97,21,97,22],[97,23,97,24],[94,0,94,1],[94,19,94,20],[94,21,94,22],[94,23,94,24],[95,0,95,1],[95,19,95,20],[95,21,95,22],[95,23,95,24],[92,0,92,1],[92,19,92,20],[92,21,92,22],[92,23,92,24],[93,0,93,1],[93,19,93,20],[93,21,93,22],[93,23,93,24],[90,0,90,1],[90,19,90,20],[90,21,90,22],[90,23,90,24],[91,0,91,1],[91,19,91,20],[91,21,91,22],[91,23,91,24],[88,0,88,1],[88,19,88,20],[88,21,88,22],[88,23,88,24],[89,0,89,1],[89,19,89,20],[89,21,89,22],[89,23,89,24],[86,0,86,1],[86,19,86,20],[86,21,86,22],[86,23,86,24],[87,0,87,1],[87,19,87,20],[87,21,87,22],[87,23,87,24],[84,0,84,1],[84,19,84,20],[84,21,84,22],[84,23,84,24],[85,0,85,1],[85,19,85,20],[85,21,85,22],[85,23,85,24],[82,0,82,1],[82,19,82,20],[82,21,82,22],[82,23,82,24],[83,0,83,1],[83,19,83,20],[83,21,83,22],[83,23,83,24],[80,0,80,1],[80,19,80,20],[80,21,80,22],[80,23,80,24],[81,0,81,1],[81,19,81,20],[81,21,81,22],[81,23,81,24],[78,0,78,1],[78,19,78,20],[78,21,78,22],[78,23,78,24],[79,0,79,1],[79,19,79,20],[79,21,79,22],[79,23,79,24],[76,0,76,1],[76,19,76,20],[76,21,76,22],[76,23,76,24],[77,0,77,1],[77,19,77,20],[77,21,77,22],[77,23,77,24],[74,0,74,1],[74,19,74,20],[74,21,74,22],[74,23,74,24],[75,0,75,1],[75,19,75,20],[75,21,75,22],[75,23,75,24],[72,0,72,1],[72,19,72,20],[72,21,72,22],[72,23,72,24],[73,0,73,1],[73,19,73,20],[73,21,73,22],[73,23,73,24],[70,0,70,1],[70,19,70,20],[70,21,70,22],[70,23,70,24],[71,0,71,1],[71,19,71,20],[71,21,71,22],[71,23,71,24],[68,0,68,1],[68,19,68,20],[68,21,68,22],[68,23,68,24],[69,0,69,1],[69,19,69,20],[69,21,69,22],[69,23,69,24],[66,0,66,1],[66,19,66,20],[66,21,66,22],[66,23,66,24],[67,0,67,1],[67,19,67,20],[67,21,67,22],[67,23,67,24],[64,21,64,22],[64,23,64,24],[65,0,65,1],[65,19,65,20],[65,21,65,22],[65,23,65,24],[62,0,64,1],[64,3,64,4],[64,5,64,6],[64,7,64,8],[64,9,64,10],[64,11,64,12],[64,13,64,14],[63,13,63,14],[63,15,63,16],[63,17,63,18],[63,19,63,20],[63,21,63,22],[63,23,63,24],[62,13,62,14],[62,15,62,16],[63,3,63,4],[62,3,62,4],[62,5,62,6],[62,7,62,8],[64,15,64,16],[59,12,59,13],[59,14,59,15],[59,16,59,19],[62,17,62,18],[62,19,62,20],[64,17,64,18],[64,19,64,20],[54,19,54,20],[54,21,54,22],[54,23,54,24],[58,1,58,5],[59,22,59,23],[60,12,60,13],[60,16,60,19],[60,22,60,23],[61,16,61,18],[61,23,61,24],[56,0,57,2],[56,23,57,24],[63,5,63,6],[63,7,63,8],[63,9,63,10],[63,11,63,12],[57,8,58,14],[57,16,57,18],[58,16,58,18],[59,1,59,5],[62,21,62,22],[62,23,62,24],[62,9,62,10],[62,11,62,12]]}
["第16号  様式",null,null,null,null,null,null,null,null,null,null,null,null,null,null,null,null,null,null,null,null,null,null,{"$f":"IF(P_16号様式1!A2=\"\",\" ページ\", P_16号様式1!A2 & \"ページ\")","v":"1ページ"}]
[null,null,null,null,null,null,null,null,"開　 票　 速 　報"]
[null,{"$f":"IF(パラメタシート!B1=\"\",\"\",パラメタシート!B1)","v":"2020-07-12"}]
[null,{"$f":"IF(P_16号様式1!AZ2=\"\",\"\",P_16号様式1!AZ2)","v":"鹿児島県知事選挙"},null,null,null,null,null,null,null,null,null,null,{"$f":"IF(P_16号様式1!BA2=\"0\",\"即日中間速報\",\"翌日中間速報\")","v":"即日中間速報"},null,{"$f":"IF(P_16号様式1!BB2=\"\",\"第　　　回\",\"第 　\" & P_16号様式1!BB2 & \"　回\")","v":"第 　5　回"},null,{"$f":"IF(P_16号様式1!BC2=\"\",\"     時    分　現在\",P_16号様式1!BC2)","v":"23:00:00"},null,null,null,"即日確定開票率",null,{"$f":"IF(P_16号様式1!BF2=\"\",\"\",P_16号様式1!BF2)","v":85.597172888618303},null,"%"]
[null,null,null,null,null,null,null,null,null,null,null,null,"結了報告",null,null,null,{"$f":"IF(P_16号様式1!AX2=\"\",\"     時    分　結了\",P_16号様式1!AX2)","v":"     時    分　結了"},null,null,null,"確定全体開票率",null,{"$f":"IF(P_16号様式1!BG2=\"\",\"\",P_16号様式1!BG2)","v":85.597172888618303},null,"%"]
[null,null,null,null,null,null,null,null,null,null,null,null,null,null,null,null,null,null,null,null,null,null,null,"鹿 児 島 県"]
["市 区 町 村 名",null,null,"(ア)",null,"(イ)",null,"(ウ)",null,"(エ)",null,"(オ)",null,"(カ)",null,"(キ)",null,"(ク)"]
[null,null,"開票率","候 補 者 得 票",null,"あん分の際切り",null,"いずれの候補者",null,"有 効 投 票 数",null,"無 効 投 票 数",null,"投 票 総 数",null,"持ち帰り・不受理",null,"投票者総数",null,"無効投票率",null,"開 票 確 定",null,"確 定 表 示"]
[null,null,"％","数 の 合 計",null,"捨 て た 票 数",null,"にも属しない票数",null,"(ア)＋(イ)＋(ウ)",null,null,null,"(エ)＋(オ)",null,"その他",null,"(カ)＋(キ)",null,"(オ)／(カ)％",null,"時　 刻"]
[{"$f":"IF(P_16号様式1!C2=\"\",\"\",P_16号様式1!C2)","v":"　鹿児島市"},null,{"$f":"IF(P_16号様式1!D2=\"\",\"\",P_16号様式1!D2)","v":56.5794096577402},{"$f":"IF(P_16号様式1!E2<> \"\",TEXT(INT(P_16号様式1!E2),\"#,##0\"),\"\")","v":"124,000"},{"$f":"IF(P_16号様式1!E2= \"\",\"\",IF(VALUE(FIXED(P_16号様式1!E2,0,TRUE))<>P_16号様式1!E2,RIGHT(FIXED(P_16号様式1!E2,3,FALSE),4),\"\"))","v":""},{"$f":"IF(P_16号様式1!F2<> \"\",TEXT(INT(P_16号様式1!F2),\"#,##0\"),\"\")","v":""},{"$f":"IF(P_16号様式1!F2= \"\",\"\",IF(VALUE(FIXED(P_16号様式1!F2,0,TRUE))<>P_16号様式1!F2,RIGHT(FIXED(P_16号様式1!F2,3,FALSE),4),\"\"))","v":""},{"$f":"IF(P_16号様式1!G2<> \"\",TEXT(INT(P_16号様式1!G2),\"#,##0\"),\"\")","v":""},{"$f":"IF(P_16号様式1!G2= \"\",\"\",IF(VALUE(FIXED(P_16号様式1!G2,0,TRUE))<>P_16号様式1!G2,RIGHT(FIXED(P_16号様式1!G2,3,FALSE),4),\"\"))","v":""},{"$f":"IF(P_16号様式1!H2<> \"\",TEXT(INT(P_16号様式1!H2),\"#,##0\"),\"\")","v":""},{"$f":"IF(P_16号様式1!H2= \"\",\"\",IF(VALUE(FIXED(P_16号様式1!H2,0,TRUE))<>P_16号様式1!H2,RIGHT(FIXED(P_16号様式1!H2,3,FALSE),4),\"\"))","v":""},{"$f":"IF(P_16号様式1!I2<> \"\",TEXT(INT(P_16号様式1!I2),\"#,##0\"),\"\")","v":""},{"$f":"IF(P_16号様式1!I2= \"\",\"\",IF(VALUE(FIXED(P_16号様式1!I2,0,TRUE))<>P_16号様式1!I2,RIGHT(FIXED(P_16号様式1!I2,3,FALSE),4),\"\"))","v":""},{"$f":"IF(P_16号様式1!J2<> \"\",TEXT(INT(P_16号様式1!J2),\"#,##0\"),\"\")","v":""},{"$f":"IF(P_16号様式1!J2= \"\",\"\",IF(VALUE(FIXED(P_16号様式1!J2,0,TRUE))<>P_16号様式1!J2,RIGHT(FIXED(P_16号様式1!J2,3,FALSE),4),\"\"))","v":""},{"$f":"IF(P_16号様式1!K2<> \"\",TEXT(INT(P_16号様式1!K2),\"#,##0\"),\"\")","v":""},{"$f":"IF(P_16号様式1!K2= \"\",\"\",IF(VALUE(FIXED(P_16号様式1!K2,0,TRUE))<>P_16号様式1!K2,RIGHT(FIXED(P_16号様式1!K2,3,FALSE),4),\"\"))","v":""},{"$f":"IF(P_16号様式1!L2<> \"\",TEXT(INT(P_16号様式1!L2),\"#,##0\"),\"\")","v":""},{"$f":"IF(P_16号様式1!L2= \"\",\"\",IF(VALUE(FIXED(P_16号様式1!L2,0,TRUE))<>P_16号様式1!L2,RIGHT(FIXED(P_16号様式1!L2,3,FALSE),4),\"\"))","v":""},{"$f":"IF(P_16号様式1!M2=\"\",\"\",P_16号様式1!M2)","v":""},null,{"$f":"IF(P_16号様式1!N2=\"\",\"\",P_16号様式1!N2)","v":""},null,{"$f":"IF(P_16号様式1!O2=\"\",\"\",P_16号様式1!O2)","v":""}]
[{"$f":"IF(P_16号様式1!C3=\"\",\"\",P_16号様式1!C3)","v":"　鹿屋市"},null,{"$f":"IF(P_16号様式1!D3=\"\",\"\",P_16号様式1!D3)","v":100},{"$f":"IF(P_16号様式1!E3<> \"\",TEXT(INT(P_16号様式1!E3),\"#,##0\"),\"\")","v":"36,036"},{"$f":"IF(P_16号様式1!E3= \"\",\"\",IF(VALUE(FIXED(P_16号様式1!E3,0,TRUE))<>P_16号様式1!E3,RIGHT(FIXED(P_16号様式1!E3,3,FALSE),4),\"\"))","v":""},{"$f":"IF(P_16号様式1!F3<> \"\",TEXT(INT(P_16号様式1!F3),\"#,##0\"),\"\")","v":"0"},{"$f":"IF(P_16号様式1!F3= \"\",\"\",IF(VALUE(FIXED(P_16号様式1!F3,0,TRUE))<>P_16号様式1!F3,RIGHT(FIXED(P_16号様式1!F3,3,FALSE),4),\"\"))","v":""},{"$f":"IF(P_16号様式1!G3<> \"\",TEXT(INT(P_16号様式1!G3),\"#,##0\"),\"\")","v":"0"},{"$f":"IF(P_16号様式1!G3= \"\",\"\",IF(VALUE(FIXED(P_16号様式1!G3,0,TRUE))<>P_16号様式1!G3,RIGHT(FIXED(P_16号様式1!G3,3,FALSE),4),\"\"))","v":""},{"$f":"IF(P_16号様式1!H3<> \"\",TEXT(INT(P_16号様式1!H3),\"#,##0\"),\"\")","v":"36,036"},{"$f":"IF(P_16号様式1!H3= \"\",\"\",IF(VALUE(FIXED(P_16号様式1!H3,0,TRUE))<>P_16号様式1!H3,RIGHT(FIXED(P_16号様式1!H3,3,FALSE),4),\"\"))","v":""},{"$f":"IF(P_16号様式1!I3<> \"\",TEXT(INT(P_16号様式1!I3),\"#,##0\"),\"\")","v":"276"},{"$f":"IF(P_16号様式1!I3= \"\",\"\",IF(VALUE(FIXED(P_16号様式1!I3,0,TRUE))<>P_16号様式1!I3,RIGHT(FIXED(P_16号様式1!I3,3,FALSE),4),\"\"))","v":""},{"$f":"IF(P_16号様式1!J3<> \"\",TEXT(INT(P_16号様式1!J3),\"#,##0\"),\"\")","v":"36,312"},{"$f":"IF(P_16号様式1!J3= \"\",\"\",IF(VALUE(FIXED(P_16号様式1!J3,0,TRUE))<>P_16号様式1!J3,RIGHT(FIXED(P_16号様式1!J3,3,FALSE),4),\"\"))","v":""},{"$f":"IF(P_16号様式1!K3<> \"\",TEXT(INT(P_16号様式1!K3),\"#,##0\"),\"\")","v":"0"},{"$f":"IF(P_16号様式1!K3= \"\",\"\",IF(VALUE(FIXED(P_16号様式1!K3,0,TRUE))<>P_16号様式1!K3,RIGHT(FIXED(P_16号様式1!K3,3,FALSE),4),\"\"))","v":""},{"$f":"IF(P_16号様式1!L3<> \"\",TEXT(INT(P_16号様式1!L3),\"#,##0\"),\"\")","v":"36,312"},{"$f":"IF(P_16号様式1!L3= \"\",\"\",IF(VALUE(FIXED(P_16号様式1!L3,0,TRUE))<>P_16号様式1!L3,RIGHT(FIXED(P_16号様式1!L3,3,FALSE),4),\"\"))","v":""},{"$f":"IF(P_16号様式1!M3=\"\",\"\",P_16号様式1!M3)","v":0.76007931262392603},null,{"$f":"IF(P_16号様式1!N3=\"\",\"\",P_16号様式1!N3)","v":"22:39:00"},null,{"$f":"IF(P_16号様式1!O3=\"\",\"\",P_16号様式1!O3)","v":"確定"}]
[{"$f":"IF(P_16号様式1!C4=\"\",\"\",P_16号様式1!C4)","v":"　枕崎市"},null,{"$f":"IF(P_16号様式1!D4=\"\",\"\",P_16号様式1!D4)","v":100},{"$f":"IF(P_16号様式1!E4<> \"\",TEXT(INT(P_16号様式1!E4),\"#,##0\"),\"\")","v":"8,435"},{"$f":"IF(P_16号様式1!E4= \"\",\"\",IF(VALUE(FIXED(P_16号様式1!E4,0,TRUE))<>P_16号様式1!E4,RIGHT(FIXED(P_16号様式1!E4,3,FALSE),4),\"\"))","v":""},{"$f":"IF(P_16号様式1!F4<> \"\",TEXT(INT(P_16号様式1!F4),\"#,##0\"),\"\")","v":"0"},{"$f":"IF(P_16号様式1!F4= \"\",\"\",IF(VALUE(FIXED(P_16号様式1!F4,0,TRUE))<>P_16号様式1!F4,RIGHT(FIXED(P_16号様式1!F4,3,FALSE),4),\"\"))","v":""},{"$f":"IF(P_16号様式1!G4<> \"\",TEXT(INT(P_16号様式1!G4),\"#,##0\"),\"\")","v":"0"},{"$f":"IF(P_16号様式1!G4= \"\",\"\",IF(VALUE(FIXED(P_16号様式1!G4,0,TRUE))<>P_16号様式1!G4,RIGHT(FIXED(P_16号様式1!G4,3,FALSE),4),\"\"))","v":""},{"$f":"IF(P_16号様式1!H4<> \"\",TEXT(INT(P_16号様式1!H4),\"#,##0\"),\"\")","v":"8,435"},{"$f":"IF(P_16号様式1!H4= \"\",\"\",IF(VALUE(FIXED(P_16号様式1!H4,0,TRUE))<>P_16号様式1!H4,RIGHT(FIXED(P_16号様式1!H4,3,FALSE),4),\"\"))","v":""},{"$f":"IF(P_16号様式1!I4<> \"\",TEXT(INT(P_16号様式1!I4),\"#,##0\"),\"\")","v":"72"},{"$f":"IF(P_16号様式1!I4= \"\",\"\",IF(VALUE(FIXED(P_16号様式1!I4,0,TRUE))<>P_16号様式1!I4,RIGHT(FIXED(P_16号様式1!I4,3,FALSE),4),\"\"))","v":""},{"$f":"IF(P_16号様式1!J4<> \"\",TEXT(INT(P_16号様式1!J4),\"#,##0\"),\"\")","v":"8,507"},{"$f":"IF(P_16号様式1!J4= \"\",\"\",IF(VALUE(FIXED(P_16号様式1!J4,0,TRUE))<>P_16号様式1!J4,RIGHT(FIXED(P_16号様式1!J4,3,FALSE),4),\"\"))","v":""},{"$f":"IF(P_16号様式1!K4<> \"\",TEXT(INT(P_16号様式1!K4),\"#,##0\"),\"\")","v":"0"},{"$f":"IF(P_16号様式1!K4= \"\",\"\",IF(VALUE(FIXED(P_16号様式1!K4,0,TRUE))<>P_16号様式1!K4,RIGHT(FIXED(P_16号様式1!K4,3,FALSE),4),\"\"))","v":""},{"$f":"IF(P_16号様式1!L4<> \"\",TEXT(INT(P_16号様式1!L4),\"#,##0\"),\"\")","v":"8,507"},{"$f":"IF(P_16号様式1!L4= \"\",\"\",IF(VALUE(FIXED(P_16号様式1!L4,0,TRUE))<>P_16号様式1!L4,RIGHT(FIXED(P_16号様式1!L4,3,FALSE),4),\"\"))","v":""},{"$f":"IF(P_16号様式1!M4=\"\",\"\",P_16号様式1!M4)","v":0.84636181967791202},null,{"$f":"IF(P_16号様式1!N4=\"\",\"\",P_16号様式1!N4)","v":"20:54:00"},null,{"$f":"IF(P_16号様式1!O4=\"\",\"\",P_16号様式1!O4)","v":"確定"}]
[{"$f":"IF(P_16号様式1!C5=\"\",\"\",P_16号様式1!C5)","v":"　阿久根市"},null,{"$f":"IF(P_16号様式1!D5=\"\",\"\",P_16号様式1!D5)","v":100},{"$f":"IF(P_16号様式1!E5<> \"\",TEXT(INT(P_16号様式1!E5),\"#,##0\"),\"\")","v":"9,800"},{"$f":"IF(P_16号様式1!E5= \"\",\"\",IF(VALUE(FIXED(P_16号様式1!E5,0,TRUE))<>P_16号様式1!E5,RIGHT(FIXED(P_16号様式1!E5,3,FALSE),4),\"\"))","v":""},{"$f":"IF(P_16号様式1!F5<> \"\",TEXT(INT(P_16号様式1!F5),\"#,##0\"),\"\")","v":"0"},{"$f":"IF(P_16号様式1!F5= \"\",\"\",IF(VALUE(FIXED(P_16号様式1!F5,0,TRUE))<>P_16号様式1!F5,RIGHT(FIXED(P_16号様式1!F5,3,FALSE),4),\"\"))","v":""},{"$f":"IF(P_16号様式1!G5<> \"\",TEXT(INT(P_16号様式1!G5),\"#,##0\"),\"\")","v":"0"},{"$f":"IF(P_16号様式1!G5= \"\",\"\",IF(VALUE(FIXED(P_16号様式1!G5,0,TRUE))<>P_16号様式1!G5,RIGHT(FIXED(P_16号様式1!G5,3,FALSE),4),\"\"))","v":""},{"$f":"IF(P_16号様式1!H5<> \"\",TEXT(INT(P_16号様式1!H5),\"#,##0\"),\"\")","v":"9,800"},{"$f":"IF(P_16号様式1!H5= \"\",\"\",IF(VALUE(FIXED(P_16号様式1!H5,0,TRUE))<>P_16号様式1!H5,RIGHT(FIXED(P_16号様式1!H5,3,FALSE),4),\"\"))","v":""},{"$f":"IF(P_16号様式1!I5<> \"\",TEXT(INT(P_16号様式1!I5),\"#,##0\"),\"\")","v":"43"},{"$f":"IF(P_16号様式1!I5= \"\",\"\",IF(VALUE(FIXED(P_16号様式1!I5,0,TRUE))<>P_16号様式1!I5,RIGHT(FIXED(P_16号様式1!I5,3,FALSE),4),\"\"))","v":""},{"$f":"IF(P_16号様式1!J5<> \"\",TEXT(INT(P_16号様式1!J5),\"#,##0\"),\"\")","v":"9,843"},{"$f":"IF(P_16号様式1!J5= \"\",\"\",IF(VALUE(FIXED(P_16号様式1!J5,0,TRUE))<>P_16号様式1!J5,RIGHT(FIXED(P_16号様式1!J5,3,FALSE),4),\"\"))","v":""},{"$f":"IF(P_16号様式1!K5<> \"\",TEXT(INT(P_16号様式1!K5),\"#,##0\"),\"\")","v":"0"},{"$f":"IF(P_16号様式1!K5= \"\",\"\",IF(VALUE(FIXED(P_16号様式1!K5,0,TRUE))<>P_16号様式1!K5,RIGHT(FIXED(P_16号様式1!K5,3,FALSE),4),\"\"))","v":""},{"$f":"IF(P_16号様式1!L5<> \"\",TEXT(INT(P_16号様式1!L5),\"#,##0\"),\"\")","v":"9,843"},{"$f":"IF(P_16号様式1!L5= \"\",\"\",IF(VALUE(FIXED(P_16号様式1!L5,0,TRUE))<>P_16号様式1!L5,RIGHT(FIXED(P_16号様式1!L5,3,FALSE),4),\"\"))","v":""},{"$f":"IF(P_16号様式1!M5=\"\",\"\",P_16号様式1!M5)","v":0.43685868129635302},null,{"$f":"IF(P_16号様式1!N5=\"\",\"\",P_16号様式1!N5)","v":"21:57:00"},null,{"$f":"IF(P_16号様式1!O5=\"\",\"\",P_16号様式1!O5)","v":"確定"}]
[{"$f":"IF(P_16号様式1!C6=\"\",\"\",P_16号様式1!C6)","v":"　出水市"},null,{"$f":"IF(P_16号様式1!D6=\"\",\"\",P_16号様式1!D6)","v":100},{"$f":"IF(P_16号様式1!E6<> \"\",TEXT(INT(P_16号様式1!E6),\"#,##0\"),\"\")","v":"22,862"},{"$f":"IF(P_16号様式1!E6= \"\",\"\",IF(VALUE(FIXED(P_16号様式1!E6,0,TRUE))<>P_16号様式1!E6,RIGHT(FIXED(P_16号様式1!E6,3,FALSE),4),\"\"))","v":""},{"$f":"IF(P_16号様式1!F6<> \"\",TEXT(INT(P_16号様式1!F6),\"#,##0\"),\"\")","v":"0"},{"$f":"IF(P_16号様式1!F6= \"\",\"\",IF(VALUE(FIXED(P_16号様式1!F6,0,TRUE))<>P_16号様式1!F6,RIGHT(FIXED(P_16号様式1!F6,3,FALSE),4),\"\"))","v":""},{"$f":"IF(P_16号様式1!G6<> \"\",TEXT(INT(P_16号様式1!G6),\"#,##0\"),\"\")","v":"0"},{"$f":"IF(P_16号様式1!G6= \"\",\"\",IF(VALUE(FIXED(P_16号様式1!G6,0,TRUE))<>P_16号様式1!G6,RIGHT(FIXED(P_16号様式1!G6,3,FALSE),4),\"\"))","v":""},{"$f":"IF(P_16号様式1!H6<> \"\",TEXT(INT(P_16号様式1!H6),\"#,##0\"),\"\")","v":"22,862"},{"$f":"IF(P_16号様式1!H6= \"\",\"\",IF(VALUE(FIXED(P_16号様式1!H6,0,TRUE))<>P_16号様式1!H6,RIGHT(FIXED(P_16号様式1!H6,3,FALSE),4),\"\"))","v":""},{"$f":"IF(P_16号様式1!I6<> \"\",TEXT(INT(P_16号様式1!I6),\"#,##0\"),\"\")","v":"124"},{"$f":"IF(P_16号様式1!I6= \"\",\"\",IF(VALUE(FIXED(P_16号様式1!I6,0,TRUE))<>P_16号様式1!I6,RIGHT(FIXED(P_16号様式1!I6,3,FALSE),4),\"\"))","v":""},{"$f":"IF(P_16号様式1!J6<> \"\",TEXT(INT(P_16号様式1!J6),\"#,##0\"),\"\")","v":"22,986"},{"$f":"IF(P_16号様式1!J6= \"\",\"\",IF(VALUE(FIXED(P_16号様式1!J6,0,TRUE))<>P_16号様式1!J6,RIGHT(FIXED(P_16号様式1!J6,3,FALSE),4),\"\"))","v":""},{"$f":"IF(P_16号様式1!K6<> \"\",TEXT(INT(P_16号様式1!K6),\"#,##0\"),\"\")","v":"0"},{"$f":"IF(P_16号様式1!K6= \"\",\"\",IF(VALUE(FIXED(P_16号様式1!K6,0,TRUE))<>P_16号様式1!K6,RIGHT(FIXED(P_16号様式1!K6,3,FALSE),4),\"\"))","v":""},{"$f":"IF(P_16号様式1!L6<> \"\",TEXT(INT(P_16号様式1!L6),\"#,##0\"),\"\")","v":"22,986"},{"$f":"IF(P_16号様式1!L6= \"\",\"\",IF(VALUE(FIXED(P_16号様式1!L6,0,TRUE))<>P_16号様式1!L6,RIGHT(FIXED(P_16号様式1!L6,3,FALSE),4),\"\"))","v":""},{"$f":"IF(P_16号様式1!M6=\"\",\"\",P_16号様式1!M6)","v":0.53945880100930999},null,{"$f":"IF(P_16号様式1!N6=\"\",\"\",P_16号様式1!N6)","v":"21:52:00"},null,{"$f":"IF(P_16号様式1!O6=\"\",\"\",P_16号様式1!O6)","v":"確定"}]
[{"$f":"IF(P_16号様式1!C7=\"\",\"\",P_16号様式1!C7)","v":"　指宿市"},null,{"$f":"IF(P_16号様式1!D7=\"\",\"\",P_16号様式1!D7)","v":100},{"$f":"IF(P_16号様式1!E7<> \"\",TEXT(INT(P_16号様式1!E7),\"#,##0\"),\"\")","v":"17,464"},{"$f":"IF(P_16号様式1!E7= \"\",\"\",IF(VALUE(FIXED(P_16号様式1!E7,0,TRUE))<>P_16号様式1!E7,RIGHT(FIXED(P_16号様式1!E7,3,FALSE),4),\"\"))","v":""},{"$f":"IF(P_16号様式1!F7<> \"\",TEXT(INT(P_16号様式1!F7),\"#,##0\"),\"\")","v":"0"},{"$f":"IF(P_16号様式1!F7= \"\",\"\",IF(VALUE(FIXED(P_16号様式1!F7,0,TRUE))<>P_16号様式1!F7,RIGHT(FIXED(P_16号様式1!F7,3,FALSE),4),\"\"))","v":""},{"$f":"IF(P_16号様式1!G7<> \"\",TEXT(INT(P_16号様式1!G7),\"#,##0\"),\"\")","v":"0"},{"$f":"IF(P_16号様式1!G7= \"\",\"\",IF(VALUE(FIXED(P_16号様式1!G7,0,TRUE))<>P_16号様式1!G7,RIGHT(FIXED(P_16号様式1!G7,3,FALSE),4),\"\"))","v":""},{"$f":"IF(P_16号様式1!H7<> \"\",TEXT(INT(P_16号様式1!H7),\"#,##0\"),\"\")","v":"17,464"},{"$f":"IF(P_16号様式1!H7= \"\",\"\",IF(VALUE(FIXED(P_16号様式1!H7,0,TRUE))<>P_16号様式1!H7,RIGHT(FIXED(P_16号様式1!H7,3,FALSE),4),\"\"))","v":""},{"$f":"IF(P_16号様式1!I7<> \"\",TEXT(INT(P_16号様式1!I7),\"#,##0\"),\"\")","v":"161"},{"$f":"IF(P_16号様式1!I7= \"\",\"\",IF(VALUE(FIXED(P_16号様式1!I7,0,TRUE))<>P_16号様式1!I7,RIGHT(FIXED(P_16号様式1!I7,3,FALSE),4),\"\"))","v":""},{"$f":"IF(P_16号様式1!J7<> \"\",TEXT(INT(P_16号様式1!J7),\"#,##0\"),\"\")","v":"17,625"},{"$f":"IF(P_16号様式1!J7= \"\",\"\",IF(VALUE(FIXED(P_16号様式1!J7,0,TRUE))<>P_16号様式1!J7,RIGHT(FIXED(P_16号様式1!J7,3,FALSE),4),\"\"))","v":""},{"$f":"IF(P_16号様式1!K7<> \"\",TEXT(INT(P_16号様式1!K7),\"#,##0\"),\"\")","v":"0"},{"$f":"IF(P_16号様式1!K7= \"\",\"\",IF(VALUE(FIXED(P_16号様式1!K7,0,TRUE))<>P_16号様式1!K7,RIGHT(FIXED(P_16号様式1!K7,3,FALSE),4),\"\"))","v":""},{"$f":"IF(P_16号様式1!L7<> \"\",TEXT(INT(P_16号様式1!L7),\"#,##0\"),\"\")","v":"17,625"},{"$f":"IF(P_16号様式1!L7= \"\",\"\",IF(VALUE(FIXED(P_16号様式1!L7,0,TRUE))<>P_16号様式1!L7,RIGHT(FIXED(P_16号様式1!L7,3,FALSE),4),\"\"))","v":""},{"$f":"IF(P_16号様式1!M7=\"\",\"\",P_16号様式1!M7)","v":0.91347517730496497},null,{"$f":"IF(P_16号様式1!N7=\"\",\"\",P_16号様式1!N7)","v":"22:05:00"},null,{"$f":"IF(P_16号様式1!O7=\"\",\"\",P_16号様式1!O7)","v":"確定"}]
[{"$f":"IF(P_16号様式1!C8=\"\",\"\",P_16号様式1!C8)","v":"　西之表市"},null,{"$f":"IF(P_16号様式1!D8=\"\",\"\",P_16号様式1!D8)","v":100},{"$f":"IF(P_16号様式1!E8<> \"\",TEXT(INT(P_16号様式1!E8),\"#,##0\"),\"\")","v":"6,722"},{"$f":"IF(P_16号様式1!E8= \"\",\"\",IF(VALUE(FIXED(P_16号様式1!E8,0,TRUE))<>P_16号様式1!E8,RIGHT(FIXED(P_16号様式1!E8,3,FALSE),4),\"\"))","v":""},{"$f":"IF(P_16号様式1!F8<> \"\",TEXT(INT(P_16号様式1!F8),\"#,##0\"),\"\")","v":"0"},{"$f":"IF(P_16号様式1!F8= \"\",\"\",IF(VALUE(FIXED(P_16号様式1!F8,0,TRUE))<>P_16号様式1!F8,RIGHT(FIXED(P_16号様式1!F8,3,FALSE),4),\"\"))","v":""},{"$f":"IF(P_16号様式1!G8<> \"\",TEXT(INT(P_16号様式1!G8),\"#,##0\"),\"\")","v":"0"},{"$f":"IF(P_16号様式1!G8= \"\",\"\",IF(VALUE(FIXED(P_16号様式1!G8,0,TRUE))<>P_16号様式1!G8,RIGHT(FIXED(P_16号様式1!G8,3,FALSE),4),\"\"))","v":""},{"$f":"IF(P_16号様式1!H8<> \"\",TEXT(INT(P_16号様式1!H8),\"#,##0\"),\"\")","v":"6,722"},{"$f":"IF(P_16号様式1!H8= \"\",\"\",IF(VALUE(FIXED(P_16号様式1!H8,0,TRUE))<>P_16号様式1!H8,RIGHT(FIXED(P_16号様式1!H8,3,FALSE),4),\"\"))","v":""},{"$f":"IF(P_16号様式1!I8<> \"\",TEXT(INT(P_16号様式1!I8),\"#,##0\"),\"\")","v":"27"},{"$f":"IF(P_16号様式1!I8= \"\",\"\",IF(VALUE(FIXED(P_16号様式1!I8,0,TRUE))<>P_16号様式1!I8,RIGHT(FIXED(P_16号様式1!I8,3,FALSE),4),\"\"))","v":""},{"$f":"IF(P_16号様式1!J8<> \"\",TEXT(INT(P_16号様式1!J8),\"#,##0\"),\"\")","v":"6,749"},{"$f":"IF(P_16号様式1!J8= \"\",\"\",IF(VALUE(FIXED(P_16号様式1!J8,0,TRUE))<>P_16号様式1!J8,RIGHT(FIXED(P_16号様式1!J8,3,FALSE),4),\"\"))","v":""},{"$f":"IF(P_16号様式1!K8<> \"\",TEXT(INT(P_16号様式1!K8),\"#,##0\"),\"\")","v":"0"},{"$f":"IF(P_16号様式1!K8= \"\",\"\",IF(VALUE(FIXED(P_16号様式1!K8,0,TRUE))<>P_16号様式1!K8,RIGHT(FIXED(P_16号様式1!K8,3,FALSE),4),\"\"))","v":""},{"$f":"IF(P_16号様式1!L8<> \"\",TEXT(INT(P_16号様式1!L8),\"#,##0\"),\"\")","v":"6,749"},{"$f":"IF(P_16号様式1!L8= \"\",\"\",IF(VALUE(FIXED(P_16号様式1!L8,0,TRUE))<>P_16号様式1!L8,RIGHT(FIXED(P_16号様式1!L8,3,FALSE),4),\"\"))","v":""},{"$f":"IF(P_16号様式1!M8=\"\",\"\",P_16号様式1!M8)","v":0.40005926803970998},null,{"$f":"IF(P_16号様式1!N8=\"\",\"\",P_16号様式1!N8)","v":"21:40:00"},null,{"$f":"IF(P_16号様式1!O8=\"\",\"\",P_16号様式1!O8)","v":"確定"}]
[{"$f":"IF(P_16号様式1!C9=\"\",\"\",P_16号様式1!C9)","v":"　垂水市"},null,{"$f":"IF(P_16号様式1!D9=\"\",\"\",P_16号様式1!D9)","v":100},{"$f":"IF(P_16号様式1!E9<> \"\",TEXT(INT(P_16号様式1!E9),\"#,##0\"),\"\")","v":"6,413"},{"$f":"IF(P_16号様式1!E9= \"\",\"\",IF(VALUE(FIXED(P_16号様式1!E9,0,TRUE))<>P_16号様式1!E9,RIGHT(FIXED(P_16号様式1!E9,3,FALSE),4),\"\"))","v":""},{"$f":"IF(P_16号様式1!F9<> \"\",TEXT(INT(P_16号様式1!F9),\"#,##0\"),\"\")","v":"0"},{"$f":"IF(P_16号様式1!F9= \"\",\"\",IF(VALUE(FIXED(P_16号様式1!F9,0,TRUE))<>P_16号様式1!F9,RIGHT(FIXED(P_16号様式1!F9,3,FALSE),4),\"\"))","v":""},{"$f":"IF(P_16号様式1!G9<> \"\",TEXT(INT(P_16号様式1!G9),\"#,##0\"),\"\")","v":"0"},{"$f":"IF(P_16号様式1!G9= \"\",\"\",IF(VALUE(FIXED(P_16号様式1!G9,0,TRUE))<>P_16号様式1!G9,RIGHT(FIXED(P_16号様式1!G9,3,FALSE),4),\"\"))","v":""},{"$f":"IF(P_16号様式1!H9<> \"\",TEXT(INT(P_16号様式1!H9),\"#,##0\"),\"\")","v":"6,413"},{"$f":"IF(P_16号様式1!H9= \"\",\"\",IF(VALUE(FIXED(P_16号様式1!H9,0,TRUE))<>P_16号様式1!H9,RIGHT(FIXED(P_16号様式1!H9,3,FALSE),4),\"\"))","v":""},{"$f":"IF(P_16号様式1!I9<> \"\",TEXT(INT(P_16号様式1!I9),\"#,##0\"),\"\")","v":"46"},{"$f":"IF(P_16号様式1!I9= \"\",\"\",IF(VALUE(FIXED(P_16号様式1!I9,0,TRUE))<>P_16号様式1!I9,RIGHT(FIXED(P_16号様式1!I9,3,FALSE),4),\"\"))","v":""},{"$f":"IF(P_16号様式1!J9<> \"\",TEXT(INT(P_16号様式1!J9),\"#,##0\"),\"\")","v":"6,459"},{"$f":"IF(P_16号様式1!J9= \"\",\"\",IF(VALUE(FIXED(P_16号様式1!J9,0,TRUE))<>P_16号様式1!J9,RIGHT(FIXED(P_16号様式1!J9,3,FALSE),4),\"\"))","v":""},{"$f":"IF(P_16号様式1!K9<> \"\",TEXT(INT(P_16号様式1!K9),\"#,##0\"),\"\")","v":"0"},{"$f":"IF(P_16号様式1!K9= \"\",\"\",IF(VALUE(FIXED(P_16号様式1!K9,0,TRUE))<>P_16号様式1!K9,RIGHT(FIXED(P_16号様式1!K9,3,FALSE),4),\"\"))","v":""},{"$f":"IF(P_16号様式1!L9<> \"\",TEXT(INT(P_16号様式1!L9),\"#,##0\"),\"\")","v":"6,459"},{"$f":"IF(P_16号様式1!L9= \"\",\"\",IF(VALUE(FIXED(P_16号様式1!L9,0,TRUE))<>P_16号様式1!L9,RIGHT(FIXED(P_16号様式1!L9,3,FALSE),4),\"\"))","v":""},{"$f":"IF(P_16号様式1!M9=\"\",\"\",P_16号様式1!M9)","v":0.71218454869174797},null,{"$f":"IF(P_16号様式1!N9=\"\",\"\",P_16号様式1!N9)","v":"21:29:00"},null,{"$f":"IF(P_16号様式1!O9=\"\",\"\",P_16号様式1!O9)","v":"確定"}]
[{"$f":"IF(P_16号様式1!C10=\"\",\"\",P_16号様式1!C10)","v":"　薩摩川内市第１"},null,{"$f":"IF(P_16号様式1!D10=\"\",\"\",P_16号様式1!D10)","v":100},{"$f":"IF(P_16号様式1!E10<> \"\",TEXT(INT(P_16号様式1!E10),\"#,##0\"),\"\")","v":"38,839"},{"$f":"IF(P_16号様式1!E10= \"\",\"\",IF(VALUE(FIXED(P_16号様式1!E10,0,TRUE))<>P_16号様式1!E10,RIGHT(FIXED(P_16号様式1!E10,3,FALSE),4),\"\"))","v":""},{"$f":"IF(P_16号様式1!F10<> \"\",TEXT(INT(P_16号様式1!F10),\"#,##0\"),\"\")","v":"0"},{"$f":"IF(P_16号様式1!F10= \"\",\"\",IF(VALUE(FIXED(P_16号様式1!F10,0,TRUE))<>P_16号様式1!F10,RIGHT(FIXED(P_16号様式1!F10,3,FALSE),4),\"\"))","v":""},{"$f":"IF(P_16号様式1!G10<> \"\",TEXT(INT(P_16号様式1!G10),\"#,##0\"),\"\")","v":"0"},{"$f":"IF(P_16号様式1!G10= \"\",\"\",IF(VALUE(FIXED(P_16号様式1!G10,0,TRUE))<>P_16号様式1!G10,RIGHT(FIXED(P_16号様式1!G10,3,FALSE),4),\"\"))","v":""},{"$f":"IF(P_16号様式1!H10<> \"\",TEXT(INT(P_16号様式1!H10),\"#,##0\"),\"\")","v":"38,839"},{"$f":"IF(P_16号様式1!H10= \"\",\"\",IF(VALUE(FIXED(P_16号様式1!H10,0,TRUE))<>P_16号様式1!H10,RIGHT(FIXED(P_16号様式1!H10,3,FALSE),4),\"\"))","v":""},{"$f":"IF(P_16号様式1!I10<> \"\",TEXT(INT(P_16号様式1!I10),\"#,##0\"),\"\")","v":"301"},{"$f":"IF(P_16号様式1!I10= \"\",\"\",IF(VALUE(FIXED(P_16号様式1!I10,0,TRUE))<>P_16号様式1!I10,RIGHT(FIXED(P_16号様式1!I10,3,FALSE),4),\"\"))","v":""},{"$f":"IF(P_16号様式1!J10<> \"\",TEXT(INT(P_16号様式1!J10),\"#,##0\"),\"\")","v":"39,140"},{"$f":"IF(P_16号様式1!J10= \"\",\"\",IF(VALUE(FIXED(P_16号様式1!J10,0,TRUE))<>P_16号様式1!J10,RIGHT(FIXED(P_16号様式1!J10,3,FALSE),4),\"\"))","v":""},{"$f":"IF(P_16号様式1!K10<> \"\",TEXT(INT(P_16号様式1!K10),\"#,##0\"),\"\")","v":"0"},{"$f":"IF(P_16号様式1!K10= \"\",\"\",IF(VALUE(FIXED(P_16号様式1!K10,0,TRUE))<>P_16号様式1!K10,RIGHT(FIXED(P_16号様式1!K10,3,FALSE),4),\"\"))","v":""},{"$f":"IF(P_16号様式1!L10<> \"\",TEXT(INT(P_16号様式1!L10),\"#,##0\"),\"\")","v":"39,140"},{"$f":"IF(P_16号様式1!L10= \"\",\"\",IF(VALUE(FIXED(P_16号様式1!L10,0,TRUE))<>P_16号様式1!L10,RIGHT(FIXED(P_16号様式1!L10,3,FALSE),4),\"\"))","v":""},{"$f":"IF(P_16号様式1!M10=\"\",\"\",P_16号様式1!M10)","v":0.76903423607562604},null,{"$f":"IF(P_16号様式1!N10=\"\",\"\",P_16号様式1!N10)","v":"22:39:00"},null,{"$f":"IF(P_16号様式1!O10=\"\",\"\",P_16号様式1!O10)","v":"確定"}]
[{"$f":"IF(P_16号様式1!C11=\"\",\"\",P_16号様式1!C11)","v":"　薩摩川内市第２"},null,{"$f":"IF(P_16号様式1!D11=\"\",\"\",P_16号様式1!D11)","v":100},{"$f":"IF(P_16号様式1!E11<> \"\",TEXT(INT(P_16号様式1!E11),\"#,##0\"),\"\")","v":"1,384"},{"$f":"IF(P_16号様式1!E11= \"\",\"\",IF(VALUE(FIXED(P_16号様式1!E11,0,TRUE))<>P_16号様式1!E11,RIGHT(FIXED(P_16号様式1!E11,3,FALSE),4),\"\"))","v":""},{"$f":"IF(P_16号様式1!F11<> \"\",TEXT(INT(P_16号様式1!F11),\"#,##0\"),\"\")","v":"0"},{"$f":"IF(P_16号様式1!F11= \"\",\"\",IF(VALUE(FIXED(P_16号様式1!F11,0,TRUE))<>P_16号様式1!F11,RIGHT(FIXED(P_16号様式1!F11,3,FALSE),4),\"\"))","v":""},{"$f":"IF(P_16号様式1!G11<> \"\",TEXT(INT(P_16号様式1!G11),\"#,##0\"),\"\")","v":"0"},{"$f":"IF(P_16号様式1!G11= \"\",\"\",IF(VALUE(FIXED(P_16号様式1!G11,0,TRUE))<>P_16号様式1!G11,RIGHT(FIXED(P_16号様式1!G11,3,FALSE),4),\"\"))","v":""},{"$f":"IF(P_16号様式1!H11<> \"\",TEXT(INT(P_16号様式1!H11),\"#,##0\"),\"\")","v":"1,384"},{"$f":"IF(P_16号様式1!H11= \"\",\"\",IF(VALUE(FIXED(P_16号様式1!H11,0,TRUE))<>P_16号様式1!H11,RIGHT(FIXED(P_16号様式1!H11,3,FALSE),4),\"\"))","v":""},{"$f":"IF(P_16号様式1!I11<> \"\",TEXT(INT(P_16号様式1!I11),\"#,##0\"),\"\")","v":"15"},{"$f":"IF(P_16号様式1!I11= \"\",\"\",IF(VALUE(FIXED(P_16号様式1!I11,0,TRUE))<>P_16号様式1!I11,RIGHT(FIXED(P_16号様式1!I11,3,FALSE),4),\"\"))","v":""},{"$f":"IF(P_16号様式1!J11<> \"\",TEXT(INT(P_16号様式1!J11),\"#,##0\"),\"\")","v":"1,399"},{"$f":"IF(P_16号様式1!J11= \"\",\"\",IF(VALUE(FIXED(P_16号様式1!J11,0,TRUE))<>P_16号様式1!J11,RIGHT(FIXED(P_16号様式1!J11,3,FALSE),4),\"\"))","v":""},{"$f":"IF(P_16号様式1!K11<> \"\",TEXT(INT(P_16号様式1!K11),\"#,##0\"),\"\")","v":"0"},{"$f":"IF(P_16号様式1!K11= \"\",\"\",IF(VALUE(FIXED(P_16号様式1!K11,0,TRUE))<>P_16号様式1!K11,RIGHT(FIXED(P_16号様式1!K11,3,FALSE),4),\"\"))","v":""},{"$f":"IF(P_16号様式1!L11<> \"\",TEXT(INT(P_16号様式1!L11),\"#,##0\"),\"\")","v":"1,399"},{"$f":"IF(P_16号様式1!L11= \"\",\"\",IF(VALUE(FIXED(P_16号様式1!L11,0,TRUE))<>P_16号様式1!L11,RIGHT(FIXED(P_16号様式1!L11,3,FALSE),4),\"\"))","v":""},{"$f":"IF(P_16号様式1!M11=\"\",\"\",P_16号様式1!M11)","v":1.0721944245889901},null,{"$f":"IF(P_16号様式1!N11=\"\",\"\",P_16号様式1!N11)","v":"20:58:00"},null,{"$f":"IF(P_16号様式1!O11=\"\",\"\",P_16号様式1!O11)","v":"確定"}]
[{"$f":"IF(P_16号様式1!C12=\"\",\"\",P_16号様式1!C12)","v":"　薩摩川内市第３"},null,{"$f":"IF(P_16号様式1!D12=\"\",\"\",P_16号様式1!D12)","v":100},{"$f":"IF(P_16号様式1!E12<> \"\",TEXT(INT(P_16号様式1!E12),\"#,##0\"),\"\")","v":"1,140"},{"$f":"IF(P_16号様式1!E12= \"\",\"\",IF(VALUE(FIXED(P_16号様式1!E12,0,TRUE))<>P_16号様式1!E12,RIGHT(FIXED(P_16号様式1!E12,3,FALSE),4),\"\"))","v":""},{"$f":"IF(P_16号様式1!F12<> \"\",TEXT(INT(P_16号様式1!F12),\"#,##0\"),\"\")","v":"0"},{"$f":"IF(P_16号様式1!F12= \"\",\"\",IF(VALUE(FIXED(P_16号様式1!F12,0,TRUE))<>P_16号様式1!F12,RIGHT(FIXED(P_16号様式1!F12,3,FALSE),4),\"\"))","v":""},{"$f":"IF(P_16号様式1!G12<> \"\",TEXT(INT(P_16号様式1!G12),\"#,##0\"),\"\")","v":"0"},{"$f":"IF(P_16号様式1!G12= \"\",\"\",IF(VALUE(FIXED(P_16号様式1!G12,0,TRUE))<>P_16号様式1!G12,RIGHT(FIXED(P_16号様式1!G12,3,FALSE),4),\"\"))","v":""},{"$f":"IF(P_16号様式1!H12<> \"\",TEXT(INT(P_16号様式1!H12),\"#,##0\"),\"\")","v":"1,140"},{"$f":"IF(P_16号様式1!H12= \"\",\"\",IF(VALUE(FIXED(P_16号様式1!H12,0,TRUE))<>P_16号様式1!H12,RIGHT(FIXED(P_16号様式1!H12,3,FALSE),4),\"\"))","v":""},{"$f":"IF(P_16号様式1!I12<> \"\",TEXT(INT(P_16号様式1!I12),\"#,##0\"),\"\")","v":"8"},{"$f":"IF(P_16号様式1!I12= \"\",\"\",IF(VALUE(FIXED(P_16号様式1!I12,0,TRUE))<>P_16号様式1!I12,RIGHT(FIXED(P_16号様式1!I12,3,FALSE),4),\"\"))","v":""},{"$f":"IF(P_16号様式1!J12<> \"\",TEXT(INT(P_16号様式1!J12),\"#,##0\"),\"\")","v":"1,148"},{"$f":"IF(P_16号様式1!J12= \"\",\"\",IF(VALUE(FIXED(P_16号様式1!J12,0,TRUE))<>P_16号様式1!J12,RIGHT(FIXED(P_16号様式1!J12,3,FALSE),4),\"\"))","v":""},{"$f":"IF(P_16号様式1!K12<> \"\",TEXT(INT(P_16号様式1!K12),\"#,##0\"),\"\")","v":"0"},{"$f":"IF(P_16号様式1!K12= \"\",\"\",IF(VALUE(FIXED(P_16号様式1!K12,0,TRUE))<>P_16号様式1!K12,RIGHT(FIXED(P_16号様式1!K12,3,FALSE),4),\"\"))","v":""},{"$f":"IF(P_16号様式1!L12<> \"\",TEXT(INT(P_16号様式1!L12),\"#,##0\"),\"\")","v":"1,148"},{"$f":"IF(P_16号様式1!L12= \"\",\"\",IF(VALUE(FIXED(P_16号様式1!L12,0,TRUE))<>P_16号様式1!L12,RIGHT(FIXED(P_16号様式1!L12,3,FALSE),4),\"\"))","v":""},{"$f":"IF(P_16号様式1!M12=\"\",\"\",P_16号様式1!M12)","v":0.696864111498258},null,{"$f":"IF(P_16号様式1!N12=\"\",\"\",P_16号様式1!N12)","v":"20:57:00"},null,{"$f":"IF(P_16号様式1!O12=\"\",\"\",P_16号様式1!O12)","v":"確定"}]
[{"$f":"IF(P_16号様式1!C13=\"\",\"\",P_16号様式1!C13)","v":"＊（薩摩川内市）計"},null,{"$f":"IF(P_16号様式1!D13=\"\",\"\",P_16号様式1!D13)","v":100},{"$f":"IF(P_16号様式1!E13<> \"\",TEXT(INT(P_16号様式1!E13),\"#,##0\"),\"\")","v":"41,363"},{"$f":"IF(P_16号様式1!E13= \"\",\"\",IF(VALUE(FIXED(P_16号様式1!E13,0,TRUE))<>P_16号様式1!E13,RIGHT(FIXED(P_16号様式1!E13,3,FALSE),4),\"\"))","v":""},{"$f":"IF(P_16号様式1!F13<> \"\",TEXT(INT(P_16号様式1!F13),\"#,##0\"),\"\")","v":"0"},{"$f":"IF(P_16号様式1!F13= \"\",\"\",IF(VALUE(FIXED(P_16号様式1!F13,0,TRUE))<>P_16号様式1!F13,RIGHT(FIXED(P_16号様式1!F13,3,FALSE),4),\"\"))","v":""},{"$f":"IF(P_16号様式1!G13<> \"\",TEXT(INT(P_16号様式1!G13),\"#,##0\"),\"\")","v":"0"},{"$f":"IF(P_16号様式1!G13= \"\",\"\",IF(VALUE(FIXED(P_16号様式1!G13,0,TRUE))<>P_16号様式1!G13,RIGHT(FIXED(P_16号様式1!G13,3,FALSE),4),\"\"))","v":""},{"$f":"IF(P_16号様式1!H13<> \"\",TEXT(INT(P_16号様式1!H13),\"#,##0\"),\"\")","v":"41,363"},{"$f":"IF(P_16号様式1!H13= \"\",\"\",IF(VALUE(FIXED(P_16号様式1!H13,0,TRUE))<>P_16号様式1!H13,RIGHT(FIXED(P_16号様式1!H13,3,FALSE),4),\"\"))","v":""},{"$f":"IF(P_16号様式1!I13<> \"\",TEXT(INT(P_16号様式1!I13),\"#,##0\"),\"\")","v":"324"},{"$f":"IF(P_16号様式1!I13= \"\",\"\",IF(VALUE(FIXED(P_16号様式1!I13,0,TRUE))<>P_16号様式1!I13,RIGHT(FIXED(P_16号様式1!I13,3,FALSE),4),\"\"))","v":""},{"$f":"IF(P_16号様式1!J13<> \"\",TEXT(INT(P_16号様式1!J13),\"#,##0\"),\"\")","v":"41,687"},{"$f":"IF(P_16号様式1!J13= \"\",\"\",IF(VALUE(FIXED(P_16号様式1!J13,0,TRUE))<>P_16号様式1!J13,RIGHT(FIXED(P_16号様式1!J13,3,FALSE),4),\"\"))","v":""},{"$f":"IF(P_16号様式1!K13<> \"\",TEXT(INT(P_16号様式1!K13),\"#,##0\"),\"\")","v":"0"},{"$f":"IF(P_16号様式1!K13= \"\",\"\",IF(VALUE(FIXED(P_16号様式1!K13,0,TRUE))<>P_16号様式1!K13,RIGHT(FIXED(P_16号様式1!K13,3,FALSE),4),\"\"))","v":""},{"$f":"IF(P_16号様式1!L13<> \"\",TEXT(INT(P_16号様式1!L13),\"#,##0\"),\"\")","v":"41,687"},{"$f":"IF(P_16号様式1!L13= \"\",\"\",IF(VALUE(FIXED(P_16号様式1!L13,0,TRUE))<>P_16号様式1!L13,RIGHT(FIXED(P_16号様式1!L13,3,FALSE),4),\"\"))","v":""},{"$f":"IF(P_16号様式1!M13=\"\",\"\",P_16号様式1!M13)","v":0.77722071629044998},null,{"$f":"IF(P_16号様式1!N13=\"\",\"\",P_16号様式1!N13)","v":"22:39:00"},null,{"$f":"IF(P_16号様式1!O13=\"\",\"\",P_16号様式1!O13)","v":"確定"}]
[{"$f":"IF(P_16号様式1!C14=\"\",\"\",P_16号様式1!C14)","v":"　日置市"},null,{"$f":"IF(P_16号様式1!D14=\"\",\"\",P_16号様式1!D14)","v":99.229852388374397},{"$f":"IF(P_16号様式1!E14<> \"\",TEXT(INT(P_16号様式1!E14),\"#,##0\"),\"\")","v":"21,646"},{"$f":"IF(P_16号様式1!E14= \"\",\"\",IF(VALUE(FIXED(P_16号様式1!E14,0,TRUE))<>P_16号様式1!E14,RIGHT(FIXED(P_16号様式1!E14,3,FALSE),4),\"\"))","v":""},{"$f":"IF(P_16号様式1!F14<> \"\",TEXT(INT(P_16号様式1!F14),\"#,##0\"),\"\")","v":""},{"$f":"IF(P_16号様式1!F14= \"\",\"\",IF(VALUE(FIXED(P_16号様式1!F14,0,TRUE))<>P_16号様式1!F14,RIGHT(FIXED(P_16号様式1!F14,3,FALSE),4),\"\"))","v":""},{"$f":"IF(P_16号様式1!G14<> \"\",TEXT(INT(P_16号様式1!G14),\"#,##0\"),\"\")","v":""},{"$f":"IF(P_16号様式1!G14= \"\",\"\",IF(VALUE(FIXED(P_16号様式1!G14,0,TRUE))<>P_16号様式1!G14,RIGHT(FIXED(P_16号様式1!G14,3,FALSE),4),\"\"))","v":""},{"$f":"IF(P_16号様式1!H14<> \"\",TEXT(INT(P_16号様式1!H14),\"#,##0\"),\"\")","v":""},{"$f":"IF(P_16号様式1!H14= \"\",\"\",IF(VALUE(FIXED(P_16号様式1!H14,0,TRUE))<>P_16号様式1!H14,RIGHT(FIXED(P_16号様式1!H14,3,FALSE),4),\"\"))","v":""},{"$f":"IF(P_16号様式1!I14<> \"\",TEXT(INT(P_16号様式1!I14),\"#,##0\"),\"\")","v":""},{"$f":"IF(P_16号様式1!I14= \"\",\"\",IF(VALUE(FIXED(P_16号様式1!I14,0,TRUE))<>P_16号様式1!I14,RIGHT(FIXED(P_16号様式1!I14,3,FALSE),4),\"\"))","v":""},{"$f":"IF(P_16号様式1!J14<> \"\",TEXT(INT(P_16号様式1!J14),\"#,##0\"),\"\")","v":""},{"$f":"IF(P_16号様式1!J14= \"\",\"\",IF(VALUE(FIXED(P_16号様式1!J14,0,TRUE))<>P_16号様式1!J14,RIGHT(FIXED(P_16号様式1!J14,3,FALSE),4),\"\"))","v":""},{"$f":"IF(P_16号様式1!K14<> \"\",TEXT(INT(P_16号様式1!K14),\"#,##0\"),\"\")","v":""},{"$f":"IF(P_16号様式1!K14= \"\",\"\",IF(VALUE(FIXED(P_16号様式1!K14,0,TRUE))<>P_16号様式1!K14,RIGHT(FIXED(P_16号様式1!K14,3,FALSE),4),\"\"))","v":""},{"$f":"IF(P_16号様式1!L14<> \"\",TEXT(INT(P_16号様式1!L14),\"#,##0\"),\"\")","v":""},{"$f":"IF(P_16号様式1!L14= \"\",\"\",IF(VALUE(FIXED(P_16号様式1!L14,0,TRUE))<>P_16号様式1!L14,RIGHT(FIXED(P_16号様式1!L14,3,FALSE),4),\"\"))","v":""},{"$f":"IF(P_16号様式1!M14=\"\",\"\",P_16号様式1!M14)","v":""},null,{"$f":"IF(P_16号様式1!N14=\"\",\"\",P_16号様式1!N14)","v":""},null,{"$f":"IF(P_16号様式1!O14=\"\",\"\",P_16号様式1!O14)","v":""}]
[{"$f":"IF(P_16号様式1!C15=\"\",\"\",P_16号様式1!C15)","v":"　曽於市"},null,{"$f":"IF(P_16号様式1!D15=\"\",\"\",P_16号様式1!D15)","v":100},{"$f":"IF(P_16号様式1!E15<> \"\",TEXT(INT(P_16号様式1!E15),\"#,##0\"),\"\")","v":"13,909"},{"$f":"IF(P_16号様式1!E15= \"\",\"\",IF(VALUE(FIXED(P_16号様式1!E15,0,TRUE))<>P_16号様式1!E15,RIGHT(FIXED(P_16号様式1!E15,3,FALSE),4),\"\"))","v":""},{"$f":"IF(P_16号様式1!F15<> \"\",TEXT(INT(P_16号様式1!F15),\"#,##0\"),\"\")","v":"0"},{"$f":"IF(P_16号様式1!F15= \"\",\"\",IF(VALUE(FIXED(P_16号様式1!F15,0,TRUE))<>P_16号様式1!F15,RIGHT(FIXED(P_16号様式1!F15,3,FALSE),4),\"\"))","v":""},{"$f":"IF(P_16号様式1!G15<> \"\",TEXT(INT(P_16号様式1!G15),\"#,##0\"),\"\")","v":"0"},{"$f":"IF(P_16号様式1!G15= \"\",\"\",IF(VALUE(FIXED(P_16号様式1!G15,0,TRUE))<>P_16号様式1!G15,RIGHT(FIXED(P_16号様式1!G15,3,FALSE),4),\"\"))","v":""},{"$f":"IF(P_16号様式1!H15<> \"\",TEXT(INT(P_16号様式1!H15),\"#,##0\"),\"\")","v":"13,909"},{"$f":"IF(P_16号様式1!H15= \"\",\"\",IF(VALUE(FIXED(P_16号様式1!H15,0,TRUE))<>P_16号様式1!H15,RIGHT(FIXED(P_16号様式1!H15,3,FALSE),4),\"\"))","v":""},{"$f":"IF(P_16号様式1!I15<> \"\",TEXT(INT(P_16号様式1!I15),\"#,##0\"),\"\")","v":"93"},{"$f":"IF(P_16号様式1!I15= \"\",\"\",IF(VALUE(FIXED(P_16号様式1!I15,0,TRUE))<>P_16号様式1!I15,RIGHT(FIXED(P_16号様式1!I15,3,FALSE),4),\"\"))","v":""},{"$f":"IF(P_16号様式1!J15<> \"\",TEXT(INT(P_16号様式1!J15),\"#,##0\"),\"\")","v":"14,002"},{"$f":"IF(P_16号様式1!J15= \"\",\"\",IF(VALUE(FIXED(P_16号様式1!J15,0,TRUE))<>P_16号様式1!J15,RIGHT(FIXED(P_16号様式1!J15,3,FALSE),4),\"\"))","v":""},{"$f":"IF(P_16号様式1!K15<> \"\",TEXT(INT(P_16号様式1!K15),\"#,##0\"),\"\")","v":"0"},{"$f":"IF(P_16号様式1!K15= \"\",\"\",IF(VALUE(FIXED(P_16号様式1!K15,0,TRUE))<>P_16号様式1!K15,RIGHT(FIXED(P_16号様式1!K15,3,FALSE),4),\"\"))","v":""},{"$f":"IF(P_16号様式1!L15<> \"\",TEXT(INT(P_16号様式1!L15),\"#,##0\"),\"\")","v":"14,002"},{"$f":"IF(P_16号様式1!L15= \"\",\"\",IF(VALUE(FIXED(P_16号様式1!L15,0,TRUE))<>P_16号様式1!L15,RIGHT(FIXED(P_16号様式1!L15,3,FALSE),4),\"\"))","v":""},{"$f":"IF(P_16号様式1!M15=\"\",\"\",P_16号様式1!M15)","v":0.66419082988144595},null,{"$f":"IF(P_16号様式1!N15=\"\",\"\",P_16号様式1!N15)","v":"21:53:00"},null,{"$f":"IF(P_16号様式1!O15=\"\",\"\",P_16号様式1!O15)","v":"確定"}]
[{"$f":"IF(P_16号様式1!C16=\"\",\"\",P_16号様式1!C16)","v":"　霧島市"},null,{"$f":"IF(P_16号様式1!D16=\"\",\"\",P_16号様式1!D16)","v":100},{"$f":"IF(P_16号様式1!E16<> \"\",TEXT(INT(P_16号様式1!E16),\"#,##0\"),\"\")","v":"48,136"},{"$f":"IF(P_16号様式1!E16= \"\",\"\",IF(VALUE(FIXED(P_16号様式1!E16,0,TRUE))<>P_16号様式1!E16,RIGHT(FIXED(P_16号様式1!E16,3,FALSE),4),\"\"))","v":""},{"$f":"IF(P_16号様式1!F16<> \"\",TEXT(INT(P_16号様式1!F16),\"#,##0\"),\"\")","v":"0"},{"$f":"IF(P_16号様式1!F16= \"\",\"\",IF(VALUE(FIXED(P_16号様式1!F16,0,TRUE))<>P_16号様式1!F16,RIGHT(FIXED(P_16号様式1!F16,3,FALSE),4),\"\"))","v":""},{"$f":"IF(P_16号様式1!G16<> \"\",TEXT(INT(P_16号様式1!G16),\"#,##0\"),\"\")","v":"0"},{"$f":"IF(P_16号様式1!G16= \"\",\"\",IF(VALUE(FIXED(P_16号様式1!G16,0,TRUE))<>P_16号様式1!G16,RIGHT(FIXED(P_16号様式1!G16,3,FALSE),4),\"\"))","v":""},{"$f":"IF(P_16号様式1!H16<> \"\",TEXT(INT(P_16号様式1!H16),\"#,##0\"),\"\")","v":"48,136"},{"$f":"IF(P_16号様式1!H16= \"\",\"\",IF(VALUE(FIXED(P_16号様式1!H16,0,TRUE))<>P_16号様式1!H16,RIGHT(FIXED(P_16号様式1!H16,3,FALSE),4),\"\"))","v":""},{"$f":"IF(P_16号様式1!I16<> \"\",TEXT(INT(P_16号様式1!I16),\"#,##0\"),\"\")","v":"301"},{"$f":"IF(P_16号様式1!I16= \"\",\"\",IF(VALUE(FIXED(P_16号様式1!I16,0,TRUE))<>P_16号様式1!I16,RIGHT(FIXED(P_16号様式1!I16,3,FALSE),4),\"\"))","v":""},{"$f":"IF(P_16号様式1!J16<> \"\",TEXT(INT(P_16号様式1!J16),\"#,##0\"),\"\")","v":"48,437"},{"$f":"IF(P_16号様式1!J16= \"\",\"\",IF(VALUE(FIXED(P_16号様式1!J16,0,TRUE))<>P_16号様式1!J16,RIGHT(FIXED(P_16号様式1!J16,3,FALSE),4),\"\"))","v":""},{"$f":"IF(P_16号様式1!K16<> \"\",TEXT(INT(P_16号様式1!K16),\"#,##0\"),\"\")","v":"0"},{"$f":"IF(P_16号様式1!K16= \"\",\"\",IF(VALUE(FIXED(P_16号様式1!K16,0,TRUE))<>P_16号様式1!K16,RIGHT(FIXED(P_16号様式1!K16,3,FALSE),4),\"\"))","v":""},{"$f":"IF(P_16号様式1!L16<> \"\",TEXT(INT(P_16号様式1!L16),\"#,##0\"),\"\")","v":"48,437"},{"$f":"IF(P_16号様式1!L16= \"\",\"\",IF(VALUE(FIXED(P_16号様式1!L16,0,TRUE))<>P_16号様式1!L16,RIGHT(FIXED(P_16号様式1!L16,3,FALSE),4),\"\"))","v":""},{"$f":"IF(P_16号様式1!M16=\"\",\"\",P_16号様式1!M16)","v":0.621425769556331},null,{"$f":"IF(P_16号様式1!N16=\"\",\"\",P_16号様式1!N16)","v":"22:45:00"},null,{"$f":"IF(P_16号様式1!O16=\"\",\"\",P_16号様式1!O16)","v":"確定"}]
[{"$f":"IF(P_16号様式1!C17=\"\",\"\",P_16号様式1!C17)","v":"　いちき串木野市"},null,{"$f":"IF(P_16号様式1!D17=\"\",\"\",P_16号様式1!D17)","v":100},{"$f":"IF(P_16号様式1!E17<> \"\",TEXT(INT(P_16号様式1!E17),\"#,##0\"),\"\")","v":"12,785"},{"$f":"IF(P_16号様式1!E17= \"\",\"\",IF(VALUE(FIXED(P_16号様式1!E17,0,TRUE))<>P_16号様式1!E17,RIGHT(FIXED(P_16号様式1!E17,3,FALSE),4),\"\"))","v":""},{"$f":"IF(P_16号様式1!F17<> \"\",TEXT(INT(P_16号様式1!F17),\"#,##0\"),\"\")","v":"0"},{"$f":"IF(P_16号様式1!F17= \"\",\"\",IF(VALUE(FIXED(P_16号様式1!F17,0,TRUE))<>P_16号様式1!F17,RIGHT(FIXED(P_16号様式1!F17,3,FALSE),4),\"\"))","v":""},{"$f":"IF(P_16号様式1!G17<> \"\",TEXT(INT(P_16号様式1!G17),\"#,##0\"),\"\")","v":"0"},{"$f":"IF(P_16号様式1!G17= \"\",\"\",IF(VALUE(FIXED(P_16号様式1!G17,0,TRUE))<>P_16号様式1!G17,RIGHT(FIXED(P_16号様式1!G17,3,FALSE),4),\"\"))","v":""},{"$f":"IF(P_16号様式1!H17<> \"\",TEXT(INT(P_16号様式1!H17),\"#,##0\"),\"\")","v":"12,785"},{"$f":"IF(P_16号様式1!H17= \"\",\"\",IF(VALUE(FIXED(P_16号様式1!H17,0,TRUE))<>P_16号様式1!H17,RIGHT(FIXED(P_16号様式1!H17,3,FALSE),4),\"\"))","v":""},{"$f":"IF(P_16号様式1!I17<> \"\",TEXT(INT(P_16号様式1!I17),\"#,##0\"),\"\")","v":"74"},{"$f":"IF(P_16号様式1!I17= \"\",\"\",IF(VALUE(FIXED(P_16号様式1!I17,0,TRUE))<>P_16号様式1!I17,RIGHT(FIXED(P_16号様式1!I17,3,FALSE),4),\"\"))","v":""},{"$f":"IF(P_16号様式1!J17<> \"\",TEXT(INT(P_16号様式1!J17),\"#,##0\"),\"\")","v":"12,859"},{"$f":"IF(P_16号様式1!J17= \"\",\"\",IF(VALUE(FIXED(P_16号様式1!J17,0,TRUE))<>P_16号様式1!J17,RIGHT(FIXED(P_16号様式1!J17,3,FALSE),4),\"\"))","v":""},{"$f":"IF(P_16号様式1!K17<> \"\",TEXT(INT(P_16号様式1!K17),\"#,##0\"),\"\")","v":"0"},{"$f":"IF(P_16号様式1!K17= \"\",\"\",IF(VALUE(FIXED(P_16号様式1!K17,0,TRUE))<>P_16号様式1!K17,RIGHT(FIXED(P_16号様式1!K17,3,FALSE),4),\"\"))","v":""},{"$f":"IF(P_16号様式1!L17<> \"\",TEXT(INT(P_16号様式1!L17),\"#,##0\"),\"\")","v":"12,859"},{"$f":"IF(P_16号様式1!L17= \"\",\"\",IF(VALUE(FIXED(P_16号様式1!L17,0,TRUE))<>P_16号様式1!L17,RIGHT(FIXED(P_16号様式1!L17,3,FALSE),4),\"\"))","v":""},{"$f":"IF(P_16号様式1!M17=\"\",\"\",P_16号様式1!M17)","v":0.57547243175985696},null,{"$f":"IF(P_16号様式1!N17=\"\",\"\",P_16号様式1!N17)","v":"21:34:00"},null,{"$f":"IF(P_16号様式1!O17=\"\",\"\",P_16号様式1!O17)","v":"確定"}]
[{"$f":"IF(P_16号様式1!C18=\"\",\"\",P_16号様式1!C18)","v":"　南さつま市"},null,{"$f":"IF(P_16号様式1!D18=\"\",\"\",P_16号様式1!D18)","v":100},{"$f":"IF(P_16号様式1!E18<> \"\",TEXT(INT(P_16号様式1!E18),\"#,##0\"),\"\")","v":"15,186"},{"$f":"IF(P_16号様式1!E18= \"\",\"\",IF(VALUE(FIXED(P_16号様式1!E18,0,TRUE))<>P_16号様式1!E18,RIGHT(FIXED(P_16号様式1!E18,3,FALSE),4),\"\"))","v":""},{"$f":"IF(P_16号様式1!F18<> \"\",TEXT(INT(P_16号様式1!F18),\"#,##0\"),\"\")","v":"0"},{"$f":"IF(P_16号様式1!F18= \"\",\"\",IF(VALUE(FIXED(P_16号様式1!F18,0,TRUE))<>P_16号様式1!F18,RIGHT(FIXED(P_16号様式1!F18,3,FALSE),4),\"\"))","v":""},{"$f":"IF(P_16号様式1!G18<> \"\",TEXT(INT(P_16号様式1!G18),\"#,##0\"),\"\")","v":"0"},{"$f":"IF(P_16号様式1!G18= \"\",\"\",IF(VALUE(FIXED(P_16号様式1!G18,0,TRUE))<>P_16号様式1!G18,RIGHT(FIXED(P_16号様式1!G18,3,FALSE),4),\"\"))","v":""},{"$f":"IF(P_16号様式1!H18<> \"\",TEXT(INT(P_16号様式1!H18),\"#,##0\"),\"\")","v":"15,186"},{"$f":"IF(P_16号様式1!H18= \"\",\"\",IF(VALUE(FIXED(P_16号様式1!H18,0,TRUE))<>P_16号様式1!H18,RIGHT(FIXED(P_16号様式1!H18,3,FALSE),4),\"\"))","v":""},{"$f":"IF(P_16号様式1!I18<> \"\",TEXT(INT(P_16号様式1!I18),\"#,##0\"),\"\")","v":"105"},{"$f":"IF(P_16号様式1!I18= \"\",\"\",IF(VALUE(FIXED(P_16号様式1!I18,0,TRUE))<>P_16号様式1!I18,RIGHT(FIXED(P_16号様式1!I18,3,FALSE),4),\"\"))","v":""},{"$f":"IF(P_16号様式1!J18<> \"\",TEXT(INT(P_16号様式1!J18),\"#,##0\"),\"\")","v":"15,291"},{"$f":"IF(P_16号様式1!J18= \"\",\"\",IF(VALUE(FIXED(P_16号様式1!J18,0,TRUE))<>P_16号様式1!J18,RIGHT(FIXED(P_16号様式1!J18,3,FALSE),4),\"\"))","v":""},{"$f":"IF(P_16号様式1!K18<> \"\",TEXT(INT(P_16号様式1!K18),\"#,##0\"),\"\")","v":"0"},{"$f":"IF(P_16号様式1!K18= \"\",\"\",IF(VALUE(FIXED(P_16号様式1!K18,0,TRUE))<>P_16号様式1!K18,RIGHT(FIXED(P_16号様式1!K18,3,FALSE),4),\"\"))","v":""},{"$f":"IF(P_16号様式1!L18<> \"\",TEXT(INT(P_16号様式1!L18),\"#,##0\"),\"\")","v":"15,291"},{"$f":"IF(P_16号様式1!L18= \"\",\"\",IF(VALUE(FIXED(P_16号様式1!L18,0,TRUE))<>P_16号様式1!L18,RIGHT(FIXED(P_16号様式1!L18,3,FALSE),4),\"\"))","v":""},{"$f":"IF(P_16号様式1!M18=\"\",\"\",P_16号様式1!M18)","v":0.68667843829703701},null,{"$f":"IF(P_16号様式1!N18=\"\",\"\",P_16号様式1!N18)","v":"21:50:00"},null,{"$f":"IF(P_16号様式1!O18=\"\",\"\",P_16号様式1!O18)","v":"確定"}]
[{"$f":"IF(P_16号様式1!C19=\"\",\"\",P_16号様式1!C19)","v":"　志布志市"},null,{"$f":"IF(P_16号様式1!D19=\"\",\"\",P_16号様式1!D19)","v":100},{"$f":"IF(P_16号様式1!E19<> \"\",TEXT(INT(P_16号様式1!E19),\"#,##0\"),\"\")","v":"11,622"},{"$f":"IF(P_16号様式1!E19= \"\",\"\",IF(VALUE(FIXED(P_16号様式1!E19,0,TRUE))<>P_16号様式1!E19,RIGHT(FIXED(P_16号様式1!E19,3,FALSE),4),\"\"))","v":""},{"$f":"IF(P_16号様式1!F19<> \"\",TEXT(INT(P_16号様式1!F19),\"#,##0\"),\"\")","v":"0"},{"$f":"IF(P_16号様式1!F19= \"\",\"\",IF(VALUE(FIXED(P_16号様式1!F19,0,TRUE))<>P_16号様式1!F19,RIGHT(FIXED(P_16号様式1!F19,3,FALSE),4),\"\"))","v":""},{"$f":"IF(P_16号様式1!G19<> \"\",TEXT(INT(P_16号様式1!G19),\"#,##0\"),\"\")","v":"0"},{"$f":"IF(P_16号様式1!G19= \"\",\"\",IF(VALUE(FIXED(P_16号様式1!G19,0,TRUE))<>P_16号様式1!G19,RIGHT(FIXED(P_16号様式1!G19,3,FALSE),4),\"\"))","v":""},{"$f":"IF(P_16号様式1!H19<> \"\",TEXT(INT(P_16号様式1!H19),\"#,##0\"),\"\")","v":"11,622"},{"$f":"IF(P_16号様式1!H19= \"\",\"\",IF(VALUE(FIXED(P_16号様式1!H19,0,TRUE))<>P_16号様式1!H19,RIGHT(FIXED(P_16号様式1!H19,3,FALSE),4),\"\"))","v":""},{"$f":"IF(P_16号様式1!I19<> \"\",TEXT(INT(P_16号様式1!I19),\"#,##0\"),\"\")","v":"87"},{"$f":"IF(P_16号様式1!I19= \"\",\"\",IF(VALUE(FIXED(P_16号様式1!I19,0,TRUE))<>P_16号様式1!I19,RIGHT(FIXED(P_16号様式1!I19,3,FALSE),4),\"\"))","v":""},{"$f":"IF(P_16号様式1!J19<> \"\",TEXT(INT(P_16号様式1!J19),\"#,##0\"),\"\")","v":"11,709"},{"$f":"IF(P_16号様式1!J19= \"\",\"\",IF(VALUE(FIXED(P_16号様式1!J19,0,TRUE))<>P_16号様式1!J19,RIGHT(FIXED(P_16号様式1!J19,3,FALSE),4),\"\"))","v":""},{"$f":"IF(P_16号様式1!K19<> \"\",TEXT(INT(P_16号様式1!K19),\"#,##0\"),\"\")","v":"0"},{"$f":"IF(P_16号様式1!K19= \"\",\"\",IF(VALUE(FIXED(P_16号様式1!K19,0,TRUE))<>P_16号様式1!K19,RIGHT(FIXED(P_16号様式1!K19,3,FALSE),4),\"\"))","v":""},{"$f":"IF(P_16号様式1!L19<> \"\",TEXT(INT(P_16号様式1!L19),\"#,##0\"),\"\")","v":"11,709"},{"$f":"IF(P_16号様式1!L19= \"\",\"\",IF(VALUE(FIXED(P_16号様式1!L19,0,TRUE))<>P_16号様式1!L19,RIGHT(FIXED(P_16号様式1!L19,3,FALSE),4),\"\"))","v":""},{"$f":"IF(P_16号様式1!M19=\"\",\"\",P_16号様式1!M19)","v":0.74301819113502399},null,{"$f":"IF(P_16号様式1!N19=\"\",\"\",P_16号様式1!N19)","v":"22:38:00"},null,{"$f":"IF(P_16号様式1!O19=\"\",\"\",P_16号様式1!O19)","v":"確定"}]
[{"$f":"IF(P_16号様式1!C20=\"\",\"\",P_16号様式1!C20)","v":"　奄美市"},null,{"$f":"IF(P_16号様式1!D20=\"\",\"\",P_16号様式1!D20)","v":100},{"$f":"IF(P_16号様式1!E20<> \"\",TEXT(INT(P_16号様式1!E20),\"#,##0\"),\"\")","v":"18,406"},{"$f":"IF(P_16号様式1!E20= \"\",\"\",IF(VALUE(FIXED(P_16号様式1!E20,0,TRUE))<>P_16号様式1!E20,RIGHT(FIXED(P_16号様式1!E20,3,FALSE),4),\"\"))","v":""},{"$f":"IF(P_16号様式1!F20<> \"\",TEXT(INT(P_16号様式1!F20),\"#,##0\"),\"\")","v":"0"},{"$f":"IF(P_16号様式1!F20= \"\",\"\",IF(VALUE(FIXED(P_16号様式1!F20,0,TRUE))<>P_16号様式1!F20,RIGHT(FIXED(P_16号様式1!F20,3,FALSE),4),\"\"))","v":""},{"$f":"IF(P_16号様式1!G20<> \"\",TEXT(INT(P_16号様式1!G20),\"#,##0\"),\"\")","v":"0"},{"$f":"IF(P_16号様式1!G20= \"\",\"\",IF(VALUE(FIXED(P_16号様式1!G20,0,TRUE))<>P_16号様式1!G20,RIGHT(FIXED(P_16号様式1!G20,3,FALSE),4),\"\"))","v":""},{"$f":"IF(P_16号様式1!H20<> \"\",TEXT(INT(P_16号様式1!H20),\"#,##0\"),\"\")","v":"18,406"},{"$f":"IF(P_16号様式1!H20= \"\",\"\",IF(VALUE(FIXED(P_16号様式1!H20,0,TRUE))<>P_16号様式1!H20,RIGHT(FIXED(P_16号様式1!H20,3,FALSE),4),\"\"))","v":""},{"$f":"IF(P_16号様式1!I20<> \"\",TEXT(INT(P_16号様式1!I20),\"#,##0\"),\"\")","v":"162"},{"$f":"IF(P_16号様式1!I20= \"\",\"\",IF(VALUE(FIXED(P_16号様式1!I20,0,TRUE))<>P_16号様式1!I20,RIGHT(FIXED(P_16号様式1!I20,3,FALSE),4),\"\"))","v":""},{"$f":"IF(P_16号様式1!J20<> \"\",TEXT(INT(P_16号様式1!J20),\"#,##0\"),\"\")","v":"18,568"},{"$f":"IF(P_16号様式1!J20= \"\",\"\",IF(VALUE(FIXED(P_16号様式1!J20,0,TRUE))<>P_16号様式1!J20,RIGHT(FIXED(P_16号様式1!J20,3,FALSE),4),\"\"))","v":""},{"$f":"IF(P_16号様式1!K20<> \"\",TEXT(INT(P_16号様式1!K20),\"#,##0\"),\"\")","v":"1"},{"$f":"IF(P_16号様式1!K20= \"\",\"\",IF(VALUE(FIXED(P_16号様式1!K20,0,TRUE))<>P_16号様式1!K20,RIGHT(FIXED(P_16号様式1!K20,3,FALSE),4),\"\"))","v":""},{"$f":"IF(P_16号様式1!L20<> \"\",TEXT(INT(P_16号様式1!L20),\"#,##0\"),\"\")","v":"18,569"},{"$f":"IF(P_16号様式1!L20= \"\",\"\",IF(VALUE(FIXED(P_16号様式1!L20,0,TRUE))<>P_16号様式1!L20,RIGHT(FIXED(P_16号様式1!L20,3,FALSE),4),\"\"))","v":""},{"$f":"IF(P_16号様式1!M20=\"\",\"\",P_16号様式1!M20)","v":0.87246876346402402},null,{"$f":"IF(P_16号様式1!N20=\"\",\"\",P_16号様式1!N20)","v":"21:37:00"},null,{"$f":"IF(P_16号様式1!O20=\"\",\"\",P_16号様式1!O20)","v":"確定"}]
[{"$f":"IF(P_16号様式1!C21=\"\",\"\",P_16号様式1!C21)","v":"　南九州市"},null,{"$f":"IF(P_16号様式1!D21=\"\",\"\",P_16号様式1!D21)","v":100},{"$f":"IF(P_16号様式1!E21<> \"\",TEXT(INT(P_16号様式1!E21),\"#,##0\"),\"\")","v":"14,941"},{"$f":"IF(P_16号様式1!E21= \"\",\"\",IF(VALUE(FIXED(P_16号様式1!E21,0,TRUE))<>P_16号様式1!E21,RIGHT(FIXED(P_16号様式1!E21,3,FALSE),4),\"\"))","v":""},{"$f":"IF(P_16号様式1!F21<> \"\",TEXT(INT(P_16号様式1!F21),\"#,##0\"),\"\")","v":"0"},{"$f":"IF(P_16号様式1!F21= \"\",\"\",IF(VALUE(FIXED(P_16号様式1!F21,0,TRUE))<>P_16号様式1!F21,RIGHT(FIXED(P_16号様式1!F21,3,FALSE),4),\"\"))","v":""},{"$f":"IF(P_16号様式1!G21<> \"\",TEXT(INT(P_16号様式1!G21),\"#,##0\"),\"\")","v":"0"},{"$f":"IF(P_16号様式1!G21= \"\",\"\",IF(VALUE(FIXED(P_16号様式1!G21,0,TRUE))<>P_16号様式1!G21,RIGHT(FIXED(P_16号様式1!G21,3,FALSE),4),\"\"))","v":""},{"$f":"IF(P_16号様式1!H21<> \"\",TEXT(INT(P_16号様式1!H21),\"#,##0\"),\"\")","v":"14,941"},{"$f":"IF(P_16号様式1!H21= \"\",\"\",IF(VALUE(FIXED(P_16号様式1!H21,0,TRUE))<>P_16号様式1!H21,RIGHT(FIXED(P_16号様式1!H21,3,FALSE),4),\"\"))","v":""},{"$f":"IF(P_16号様式1!I21<> \"\",TEXT(INT(P_16号様式1!I21),\"#,##0\"),\"\")","v":"80"},{"$f":"IF(P_16号様式1!I21= \"\",\"\",IF(VALUE(FIXED(P_16号様式1!I21,0,TRUE))<>P_16号様式1!I21,RIGHT(FIXED(P_16号様式1!I21,3,FALSE),4),\"\"))","v":""},{"$f":"IF(P_16号様式1!J21<> \"\",TEXT(INT(P_16号様式1!J21),\"#,##0\"),\"\")","v":"15,021"},{"$f":"IF(P_16号様式1!J21= \"\",\"\",IF(VALUE(FIXED(P_16号様式1!J21,0,TRUE))<>P_16号様式1!J21,RIGHT(FIXED(P_16号様式1!J21,3,FALSE),4),\"\"))","v":""},{"$f":"IF(P_16号様式1!K21<> \"\",TEXT(INT(P_16号様式1!K21),\"#,##0\"),\"\")","v":"2"},{"$f":"IF(P_16号様式1!K21= \"\",\"\",IF(VALUE(FIXED(P_16号様式1!K21,0,TRUE))<>P_16号様式1!K21,RIGHT(FIXED(P_16号様式1!K21,3,FALSE),4),\"\"))","v":""},{"$f":"IF(P_16号様式1!L21<> \"\",TEXT(INT(P_16号様式1!L21),\"#,##0\"),\"\")","v":"15,023"},{"$f":"IF(P_16号様式1!L21= \"\",\"\",IF(VALUE(FIXED(P_16号様式1!L21,0,TRUE))<>P_16号様式1!L21,RIGHT(FIXED(P_16号様式1!L21,3,FALSE),4),\"\"))","v":""},{"$f":"IF(P_16号様式1!M21=\"\",\"\",P_16号様式1!M21)","v":0.53258771053857901},null,{"$f":"IF(P_16号様式1!N21=\"\",\"\",P_16号様式1!N21)","v":"21:04:00"},null,{"$f":"IF(P_16号様式1!O21=\"\",\"\",P_16号様式1!O21)","v":"確定"}]
[{"$f":"IF(P_16号様式1!C22=\"\",\"\",P_16号様式1!C22)","v":"　伊佐市"},null,{"$f":"IF(P_16号様式1!D22=\"\",\"\",P_16号様式1!D22)","v":100},{"$f":"IF(P_16号様式1!E22<> \"\",TEXT(INT(P_16号様式1!E22),\"#,##0\"),\"\")","v":"11,227"},{"$f":"IF(P_16号様式1!E22= \"\",\"\",IF(VALUE(FIXED(P_16号様式1!E22,0,TRUE))<>P_16号様式1!E22,RIGHT(FIXED(P_16号様式1!E22,3,FALSE),4),\"\"))","v":""},{"$f":"IF(P_16号様式1!F22<> \"\",TEXT(INT(P_16号様式1!F22),\"#,##0\"),\"\")","v":"0"},{"$f":"IF(P_16号様式1!F22= \"\",\"\",IF(VALUE(FIXED(P_16号様式1!F22,0,TRUE))<>P_16号様式1!F22,RIGHT(FIXED(P_16号様式1!F22,3,FALSE),4),\"\"))","v":""},{"$f":"IF(P_16号様式1!G22<> \"\",TEXT(INT(P_16号様式1!G22),\"#,##0\"),\"\")","v":"0"},{"$f":"IF(P_16号様式1!G22= \"\",\"\",IF(VALUE(FIXED(P_16号様式1!G22,0,TRUE))<>P_16号様式1!G22,RIGHT(FIXED(P_16号様式1!G22,3,FALSE),4),\"\"))","v":""},{"$f":"IF(P_16号様式1!H22<> \"\",TEXT(INT(P_16号様式1!H22),\"#,##0\"),\"\")","v":"11,227"},{"$f":"IF(P_16号様式1!H22= \"\",\"\",IF(VALUE(FIXED(P_16号様式1!H22,0,TRUE))<>P_16号様式1!H22,RIGHT(FIXED(P_16号様式1!H22,3,FALSE),4),\"\"))","v":""},{"$f":"IF(P_16号様式1!I22<> \"\",TEXT(INT(P_16号様式1!I22),\"#,##0\"),\"\")","v":"79"},{"$f":"IF(P_16号様式1!I22= \"\",\"\",IF(VALUE(FIXED(P_16号様式1!I22,0,TRUE))<>P_16号様式1!I22,RIGHT(FIXED(P_16号様式1!I22,3,FALSE),4),\"\"))","v":""},{"$f":"IF(P_16号様式1!J22<> \"\",TEXT(INT(P_16号様式1!J22),\"#,##0\"),\"\")","v":"11,306"},{"$f":"IF(P_16号様式1!J22= \"\",\"\",IF(VALUE(FIXED(P_16号様式1!J22,0,TRUE))<>P_16号様式1!J22,RIGHT(FIXED(P_16号様式1!J22,3,FALSE),4),\"\"))","v":""},{"$f":"IF(P_16号様式1!K22<> \"\",TEXT(INT(P_16号様式1!K22),\"#,##0\"),\"\")","v":"0"},{"$f":"IF(P_16号様式1!K22= \"\",\"\",IF(VALUE(FIXED(P_16号様式1!K22,0,TRUE))<>P_16号様式1!K22,RIGHT(FIXED(P_16号様式1!K22,3,FALSE),4),\"\"))","v":""},{"$f":"IF(P_16号様式1!L22<> \"\",TEXT(INT(P_16号様式1!L22),\"#,##0\"),\"\")","v":"11,306"},{"$f":"IF(P_16号様式1!L22= \"\",\"\",IF(VALUE(FIXED(P_16号様式1!L22,0,TRUE))<>P_16号様式1!L22,RIGHT(FIXED(P_16号様式1!L22,3,FALSE),4),\"\"))","v":""},{"$f":"IF(P_16号様式1!M22=\"\",\"\",P_16号様式1!M22)","v":0.69874402971873295},null,{"$f":"IF(P_16号様式1!N22=\"\",\"\",P_16号様式1!N22)","v":"21:55:00"},null,{"$f":"IF(P_16号様式1!O22=\"\",\"\",P_16号様式1!O22)","v":"確定"}]
[{"$f":"IF(P_16号様式1!C23=\"\",\"\",P_16号様式1!C23)","v":"　姶良市"},null,{"$f":"IF(P_16号様式1!D23=\"\",\"\",P_16号様式1!D23)","v":100},{"$f":"IF(P_16号様式1!E23<> \"\",TEXT(INT(P_16号様式1!E23),\"#,##0\"),\"\")","v":"32,176"},{"$f":"IF(P_16号様式1!E23= \"\",\"\",IF(VALUE(FIXED(P_16号様式1!E23,0,TRUE))<>P_16号様式1!E23,RIGHT(FIXED(P_16号様式1!E23,3,FALSE),4),\"\"))","v":""},{"$f":"IF(P_16号様式1!F23<> \"\",TEXT(INT(P_16号様式1!F23),\"#,##0\"),\"\")","v":"0"},{"$f":"IF(P_16号様式1!F23= \"\",\"\",IF(VALUE(FIXED(P_16号様式1!F23,0,TRUE))<>P_16号様式1!F23,RIGHT(FIXED(P_16号様式1!F23,3,FALSE),4),\"\"))","v":""},{"$f":"IF(P_16号様式1!G23<> \"\",TEXT(INT(P_16号様式1!G23),\"#,##0\"),\"\")","v":"0"},{"$f":"IF(P_16号様式1!G23= \"\",\"\",IF(VALUE(FIXED(P_16号様式1!G23,0,TRUE))<>P_16号様式1!G23,RIGHT(FIXED(P_16号様式1!G23,3,FALSE),4),\"\"))","v":""},{"$f":"IF(P_16号様式1!H23<> \"\",TEXT(INT(P_16号様式1!H23),\"#,##0\"),\"\")","v":"32,176"},{"$f":"IF(P_16号様式1!H23= \"\",\"\",IF(VALUE(FIXED(P_16号様式1!H23,0,TRUE))<>P_16号様式1!H23,RIGHT(FIXED(P_16号様式1!H23,3,FALSE),4),\"\"))","v":""},{"$f":"IF(P_16号様式1!I23<> \"\",TEXT(INT(P_16号様式1!I23),\"#,##0\"),\"\")","v":"218"},{"$f":"IF(P_16号様式1!I23= \"\",\"\",IF(VALUE(FIXED(P_16号様式1!I23,0,TRUE))<>P_16号様式1!I23,RIGHT(FIXED(P_16号様式1!I23,3,FALSE),4),\"\"))","v":""},{"$f":"IF(P_16号様式1!J23<> \"\",TEXT(INT(P_16号様式1!J23),\"#,##0\"),\"\")","v":"32,394"},{"$f":"IF(P_16号様式1!J23= \"\",\"\",IF(VALUE(FIXED(P_16号様式1!J23,0,TRUE))<>P_16号様式1!J23,RIGHT(FIXED(P_16号様式1!J23,3,FALSE),4),\"\"))","v":""},{"$f":"IF(P_16号様式1!K23<> \"\",TEXT(INT(P_16号様式1!K23),\"#,##0\"),\"\")","v":"0"},{"$f":"IF(P_16号様式1!K23= \"\",\"\",IF(VALUE(FIXED(P_16号様式1!K23,0,TRUE))<>P_16号様式1!K23,RIGHT(FIXED(P_16号様式1!K23,3,FALSE),4),\"\"))","v":""},{"$f":"IF(P_16号様式1!L23<> \"\",TEXT(INT(P_16号様式1!L23),\"#,##0\"),\"\")","v":"32,394"},{"$f":"IF(P_16号様式1!L23= \"\",\"\",IF(VALUE(FIXED(P_16号様式1!L23,0,TRUE))<>P_16号様式1!L23,RIGHT(FIXED(P_16号様式1!L23,3,FALSE),4),\"\"))","v":""},{"$f":"IF(P_16号様式1!M23=\"\",\"\",P_16号様式1!M23)","v":0.67296412915972104},null,{"$f":"IF(P_16号様式1!N23=\"\",\"\",P_16号様式1!N23)","v":"22:49:00"},null,{"$f":"IF(P_16号様式1!O23=\"\",\"\",P_16号様式1!O23)","v":"確定"}]
[{"$f":"IF(P_16号様式1!C24=\"\",\"\",P_16号様式1!C24)","v":"　三島村"},null,{"$f":"IF(P_16号様式1!D24=\"\",\"\",P_16号様式1!D24)","v":100},{"$f":"IF(P_16号様式1!E24<> \"\",TEXT(INT(P_16号様式1!E24),\"#,##0\"),\"\")","v":"208"},{"$f":"IF(P_16号様式1!E24= \"\",\"\",IF(VALUE(FIXED(P_16号様式1!E24,0,TRUE))<>P_16号様式1!E24,RIGHT(FIXED(P_16号様式1!E24,3,FALSE),4),\"\"))","v":""},{"$f":"IF(P_16号様式1!F24<> \"\",TEXT(INT(P_16号様式1!F24),\"#,##0\"),\"\")","v":"0"},{"$f":"IF(P_16号様式1!F24= \"\",\"\",IF(VALUE(FIXED(P_16号様式1!F24,0,TRUE))<>P_16号様式1!F24,RIGHT(FIXED(P_16号様式1!F24,3,FALSE),4),\"\"))","v":""},{"$f":"IF(P_16号様式1!G24<> \"\",TEXT(INT(P_16号様式1!G24),\"#,##0\"),\"\")","v":"0"},{"$f":"IF(P_16号様式1!G24= \"\",\"\",IF(VALUE(FIXED(P_16号様式1!G24,0,TRUE))<>P_16号様式1!G24,RIGHT(FIXED(P_16号様式1!G24,3,FALSE),4),\"\"))","v":""},{"$f":"IF(P_16号様式1!H24<> \"\",TEXT(INT(P_16号様式1!H24),\"#,##0\"),\"\")","v":"208"},{"$f":"IF(P_16号様式1!H24= \"\",\"\",IF(VALUE(FIXED(P_16号様式1!H24,0,TRUE))<>P_16号様式1!H24,RIGHT(FIXED(P_16号様式1!H24,3,FALSE),4),\"\"))","v":""},{"$f":"IF(P_16号様式1!I24<> \"\",TEXT(INT(P_16号様式1!I24),\"#,##0\"),\"\")","v":"1"},{"$f":"IF(P_16号様式1!I24= \"\",\"\",IF(VALUE(FIXED(P_16号様式1!I24,0,TRUE))<>P_16号様式1!I24,RIGHT(FIXED(P_16号様式1!I24,3,FALSE),4),\"\"))","v":""},{"$f":"IF(P_16号様式1!J24<> \"\",TEXT(INT(P_16号様式1!J24),\"#,##0\"),\"\")","v":"209"},{"$f":"IF(P_16号様式1!J24= \"\",\"\",IF(VALUE(FIXED(P_16号様式1!J24,0,TRUE))<>P_16号様式1!J24,RIGHT(FIXED(P_16号様式1!J24,3,FALSE),4),\"\"))","v":""},{"$f":"IF(P_16号様式1!K24<> \"\",TEXT(INT(P_16号様式1!K24),\"#,##0\"),\"\")","v":"0"},{"$f":"IF(P_16号様式1!K24= \"\",\"\",IF(VALUE(FIXED(P_16号様式1!K24,0,TRUE))<>P_16号様式1!K24,RIGHT(FIXED(P_16号様式1!K24,3,FALSE),4),\"\"))","v":""},{"$f":"IF(P_16号様式1!L24<> \"\",TEXT(INT(P_16号様式1!L24),\"#,##0\"),\"\")","v":"209"},{"$f":"IF(P_16号様式1!L24= \"\",\"\",IF(VALUE(FIXED(P_16号様式1!L24,0,TRUE))<>P_16号様式1!L24,RIGHT(FIXED(P_16号様式1!L24,3,FALSE),4),\"\"))","v":""},{"$f":"IF(P_16号様式1!M24=\"\",\"\",P_16号様式1!M24)","v":0.47846889952153099},null,{"$f":"IF(P_16号様式1!N24=\"\",\"\",P_16号様式1!N24)","v":"20:29:00"},null,{"$f":"IF(P_16号様式1!O24=\"\",\"\",P_16号様式1!O24)","v":"確定"}]
[{"$f":"IF(P_16号様式1!C25=\"\",\"\",P_16号様式1!C25)","v":"　十島村"},null,{"$f":"IF(P_16号様式1!D25=\"\",\"\",P_16号様式1!D25)","v":100},{"$f":"IF(P_16号様式1!E25<> \"\",TEXT(INT(P_16号様式1!E25),\"#,##0\"),\"\")","v":"396"},{"$f":"IF(P_16号様式1!E25= \"\",\"\",IF(VALUE(FIXED(P_16号様式1!E25,0,TRUE))<>P_16号様式1!E25,RIGHT(FIXED(P_16号様式1!E25,3,FALSE),4),\"\"))","v":""},{"$f":"IF(P_16号様式1!F25<> \"\",TEXT(INT(P_16号様式1!F25),\"#,##0\"),\"\")","v":"0"},{"$f":"IF(P_16号様式1!F25= \"\",\"\",IF(VALUE(FIXED(P_16号様式1!F25,0,TRUE))<>P_16号様式1!F25,RIGHT(FIXED(P_16号様式1!F25,3,FALSE),4),\"\"))","v":""},{"$f":"IF(P_16号様式1!G25<> \"\",TEXT(INT(P_16号様式1!G25),\"#,##0\"),\"\")","v":"0"},{"$f":"IF(P_16号様式1!G25= \"\",\"\",IF(VALUE(FIXED(P_16号様式1!G25,0,TRUE))<>P_16号様式1!G25,RIGHT(FIXED(P_16号様式1!G25,3,FALSE),4),\"\"))","v":""},{"$f":"IF(P_16号様式1!H25<> \"\",TEXT(INT(P_16号様式1!H25),\"#,##0\"),\"\")","v":"396"},{"$f":"IF(P_16号様式1!H25= \"\",\"\",IF(VALUE(FIXED(P_16号様式1!H25,0,TRUE))<>P_16号様式1!H25,RIGHT(FIXED(P_16号様式1!H25,3,FALSE),4),\"\"))","v":""},{"$f":"IF(P_16号様式1!I25<> \"\",TEXT(INT(P_16号様式1!I25),\"#,##0\"),\"\")","v":"4"},{"$f":"IF(P_16号様式1!I25= \"\",\"\",IF(VALUE(FIXED(P_16号様式1!I25,0,TRUE))<>P_16号様式1!I25,RIGHT(FIXED(P_16号様式1!I25,3,FALSE),4),\"\"))","v":""},{"$f":"IF(P_16号様式1!J25<> \"\",TEXT(INT(P_16号様式1!J25),\"#,##0\"),\"\")","v":"400"},{"$f":"IF(P_16号様式1!J25= \"\",\"\",IF(VALUE(FIXED(P_16号様式1!J25,0,TRUE))<>P_16号様式1!J25,RIGHT(FIXED(P_16号様式1!J25,3,FALSE),4),\"\"))","v":""},{"$f":"IF(P_16号様式1!K25<> \"\",TEXT(INT(P_16号様式1!K25),\"#,##0\"),\"\")","v":"0"},{"$f":"IF(P_16号様式1!K25= \"\",\"\",IF(VALUE(FIXED(P_16号様式1!K25,0,TRUE))<>P_16号様式1!K25,RIGHT(FIXED(P_16号様式1!K25,3,FALSE),4),\"\"))","v":""},{"$f":"IF(P_16号様式1!L25<> \"\",TEXT(INT(P_16号様式1!L25),\"#,##0\"),\"\")","v":"400"},{"$f":"IF(P_16号様式1!L25= \"\",\"\",IF(VALUE(FIXED(P_16号様式1!L25,0,TRUE))<>P_16号様式1!L25,RIGHT(FIXED(P_16号様式1!L25,3,FALSE),4),\"\"))","v":""},{"$f":"IF(P_16号様式1!M25=\"\",\"\",P_16号様式1!M25)","v":1},null,{"$f":"IF(P_16号様式1!N25=\"\",\"\",P_16号様式1!N25)","v":"20:27:00"},null,{"$f":"IF(P_16号様式1!O25=\"\",\"\",P_16号様式1!O25)","v":"確定"}]
[{"$f":"IF(P_16号様式1!C26=\"\",\"\",P_16号様式1!C26)","v":"＊（鹿児島郡）計"},null,{"$f":"IF(P_16号様式1!D26=\"\",\"\",P_16号様式1!D26)","v":100},{"$f":"IF(P_16号様式1!E26<> \"\",TEXT(INT(P_16号様式1!E26),\"#,##0\"),\"\")","v":"604"},{"$f":"IF(P_16号様式1!E26= \"\",\"\",IF(VALUE(FIXED(P_16号様式1!E26,0,TRUE))<>P_16号様式1!E26,RIGHT(FIXED(P_16号様式1!E26,3,FALSE),4),\"\"))","v":""},{"$f":"IF(P_16号様式1!F26<> \"\",TEXT(INT(P_16号様式1!F26),\"#,##0\"),\"\")","v":"0"},{"$f":"IF(P_16号様式1!F26= \"\",\"\",IF(VALUE(FIXED(P_16号様式1!F26,0,TRUE))<>P_16号様式1!F26,RIGHT(FIXED(P_16号様式1!F26,3,FALSE),4),\"\"))","v":""},{"$f":"IF(P_16号様式1!G26<> \"\",TEXT(INT(P_16号様式1!G26),\"#,##0\"),\"\")","v":"0"},{"$f":"IF(P_16号様式1!G26= \"\",\"\",IF(VALUE(FIXED(P_16号様式1!G26,0,TRUE))<>P_16号様式1!G26,RIGHT(FIXED(P_16号様式1!G26,3,FALSE),4),\"\"))","v":""},{"$f":"IF(P_16号様式1!H26<> \"\",TEXT(INT(P_16号様式1!H26),\"#,##0\"),\"\")","v":"604"},{"$f":"IF(P_16号様式1!H26= \"\",\"\",IF(VALUE(FIXED(P_16号様式1!H26,0,TRUE))<>P_16号様式1!H26,RIGHT(FIXED(P_16号様式1!H26,3,FALSE),4),\"\"))","v":""},{"$f":"IF(P_16号様式1!I26<> \"\",TEXT(INT(P_16号様式1!I26),\"#,##0\"),\"\")","v":"5"},{"$f":"IF(P_16号様式1!I26= \"\",\"\",IF(VALUE(FIXED(P_16号様式1!I26,0,TRUE))<>P_16号様式1!I26,RIGHT(FIXED(P_16号様式1!I26,3,FALSE),4),\"\"))","v":""},{"$f":"IF(P_16号様式1!J26<> \"\",TEXT(INT(P_16号様式1!J26),\"#,##0\"),\"\")","v":"609"},{"$f":"IF(P_16号様式1!J26= \"\",\"\",IF(VALUE(FIXED(P_16号様式1!J26,0,TRUE))<>P_16号様式1!J26,RIGHT(FIXED(P_16号様式1!J26,3,FALSE),4),\"\"))","v":""},{"$f":"IF(P_16号様式1!K26<> \"\",TEXT(INT(P_16号様式1!K26),\"#,##0\"),\"\")","v":"0"},{"$f":"IF(P_16号様式1!K26= \"\",\"\",IF(VALUE(FIXED(P_16号様式1!K26,0,TRUE))<>P_16号様式1!K26,RIGHT(FIXED(P_16号様式1!K26,3,FALSE),4),\"\"))","v":""},{"$f":"IF(P_16号様式1!L26<> \"\",TEXT(INT(P_16号様式1!L26),\"#,##0\"),\"\")","v":"609"},{"$f":"IF(P_16号様式1!L26= \"\",\"\",IF(VALUE(FIXED(P_16号様式1!L26,0,TRUE))<>P_16号様式1!L26,RIGHT(FIXED(P_16号様式1!L26,3,FALSE),4),\"\"))","v":""},{"$f":"IF(P_16号様式1!M26=\"\",\"\",P_16号様式1!M26)","v":0.82101806239737296},null,{"$f":"IF(P_16号様式1!N26=\"\",\"\",P_16号様式1!N26)","v":"20:29:00"},null,{"$f":"IF(P_16号様式1!O26=\"\",\"\",P_16号様式1!O26)","v":"確定"}]
[{"$f":"IF(P_16号様式1!C27=\"\",\"\",P_16号様式1!C27)","v":"　さつま町"},null,{"$f":"IF(P_16号様式1!D27=\"\",\"\",P_16号様式1!D27)","v":100},{"$f":"IF(P_16号様式1!E27<> \"\",TEXT(INT(P_16号様式1!E27),\"#,##0\"),\"\")","v":"10,236"},{"$f":"IF(P_16号様式1!E27= \"\",\"\",IF(VALUE(FIXED(P_16号様式1!E27,0,TRUE))<>P_16号様式1!E27,RIGHT(FIXED(P_16号様式1!E27,3,FALSE),4),\"\"))","v":""},{"$f":"IF(P_16号様式1!F27<> \"\",TEXT(INT(P_16号様式1!F27),\"#,##0\"),\"\")","v":"0"},{"$f":"IF(P_16号様式1!F27= \"\",\"\",IF(VALUE(FIXED(P_16号様式1!F27,0,TRUE))<>P_16号様式1!F27,RIGHT(FIXED(P_16号様式1!F27,3,FALSE),4),\"\"))","v":""},{"$f":"IF(P_16号様式1!G27<> \"\",TEXT(INT(P_16号様式1!G27),\"#,##0\"),\"\")","v":"0"},{"$f":"IF(P_16号様式1!G27= \"\",\"\",IF(VALUE(FIXED(P_16号様式1!G27,0,TRUE))<>P_16号様式1!G27,RIGHT(FIXED(P_16号様式1!G27,3,FALSE),4),\"\"))","v":""},{"$f":"IF(P_16号様式1!H27<> \"\",TEXT(INT(P_16号様式1!H27),\"#,##0\"),\"\")","v":"10,236"},{"$f":"IF(P_16号様式1!H27= \"\",\"\",IF(VALUE(FIXED(P_16号様式1!H27,0,TRUE))<>P_16号様式1!H27,RIGHT(FIXED(P_16号様式1!H27,3,FALSE),4),\"\"))","v":""},{"$f":"IF(P_16号様式1!I27<> \"\",TEXT(INT(P_16号様式1!I27),\"#,##0\"),\"\")","v":"71"},{"$f":"IF(P_16号様式1!I27= \"\",\"\",IF(VALUE(FIXED(P_16号様式1!I27,0,TRUE))<>P_16号様式1!I27,RIGHT(FIXED(P_16号様式1!I27,3,FALSE),4),\"\"))","v":""},{"$f":"IF(P_16号様式1!J27<> \"\",TEXT(INT(P_16号様式1!J27),\"#,##0\"),\"\")","v":"10,307"},{"$f":"IF(P_16号様式1!J27= \"\",\"\",IF(VALUE(FIXED(P_16号様式1!J27,0,TRUE))<>P_16号様式1!J27,RIGHT(FIXED(P_16号様式1!J27,3,FALSE),4),\"\"))","v":""},{"$f":"IF(P_16号様式1!K27<> \"\",TEXT(INT(P_16号様式1!K27),\"#,##0\"),\"\")","v":"0"},{"$f":"IF(P_16号様式1!K27= \"\",\"\",IF(VALUE(FIXED(P_16号様式1!K27,0,TRUE))<>P_16号様式1!K27,RIGHT(FIXED(P_16号様式1!K27,3,FALSE),4),\"\"))","v":""},{"$f":"IF(P_16号様式1!L27<> \"\",TEXT(INT(P_16号様式1!L27),\"#,##0\"),\"\")","v":"10,307"},{"$f":"IF(P_16号様式1!L27= \"\",\"\",IF(VALUE(FIXED(P_16号様式1!L27,0,TRUE))<>P_16号様式1!L27,RIGHT(FIXED(P_16号様式1!L27,3,FALSE),4),\"\"))","v":""},{"$f":"IF(P_16号様式1!M27=\"\",\"\",P_16号様式1!M27)","v":0.68885223634423198},null,{"$f":"IF(P_16号様式1!N27=\"\",\"\",P_16号様式1!N27)","v":"21:16:00"},null,{"$f":"IF(P_16号様式1!O27=\"\",\"\",P_16号様式1!O27)","v":"確定"}]
[{"$f":"IF(P_16号様式1!C28=\"\",\"\",P_16号様式1!C28)","v":"＊（薩摩郡）計"},null,{"$f":"IF(P_16号様式1!D28=\"\",\"\",P_16号様式1!D28)","v":100},{"$f":"IF(P_16号様式1!E28<> \"\",TEXT(INT(P_16号様式1!E28),\"#,##0\"),\"\")","v":"10,236"},{"$f":"IF(P_16号様式1!E28= \"\",\"\",IF(VALUE(FIXED(P_16号様式1!E28,0,TRUE))<>P_16号様式1!E28,RIGHT(FIXED(P_16号様式1!E28,3,FALSE),4),\"\"))","v":""},{"$f":"IF(P_16号様式1!F28<> \"\",TEXT(INT(P_16号様式1!F28),\"#,##0\"),\"\")","v":"0"},{"$f":"IF(P_16号様式1!F28= \"\",\"\",IF(VALUE(FIXED(P_16号様式1!F28,0,TRUE))<>P_16号様式1!F28,RIGHT(FIXED(P_16号様式1!F28,3,FALSE),4),\"\"))","v":""},{"$f":"IF(P_16号様式1!G28<> \"\",TEXT(INT(P_16号様式1!G28),\"#,##0\"),\"\")","v":"0"},{"$f":"IF(P_16号様式1!G28= \"\",\"\",IF(VALUE(FIXED(P_16号様式1!G28,0,TRUE))<>P_16号様式1!G28,RIGHT(FIXED(P_16号様式1!G28,3,FALSE),4),\"\"))","v":""},{"$f":"IF(P_16号様式1!H28<> \"\",TEXT(INT(P_16号様式1!H28),\"#,##0\"),\"\")","v":"10,236"},{"$f":"IF(P_16号様式1!H28= \"\",\"\",IF(VALUE(FIXED(P_16号様式1!H28,0,TRUE))<>P_16号様式1!H28,RIGHT(FIXED(P_16号様式1!H28,3,FALSE),4),\"\"))","v":""},{"$f":"IF(P_16号様式1!I28<> \"\",TEXT(INT(P_16号様式1!I28),\"#,##0\"),\"\")","v":"71"},{"$f":"IF(P_16号様式1!I28= \"\",\"\",IF(VALUE(FIXED(P_16号様式1!I28,0,TRUE))<>P_16号様式1!I28,RIGHT(FIXED(P_16号様式1!I28,3,FALSE),4),\"\"))","v":""},{"$f":"IF(P_16号様式1!J28<> \"\",TEXT(INT(P_16号様式1!J28),\"#,##0\"),\"\")","v":"10,307"},{"$f":"IF(P_16号様式1!J28= \"\",\"\",IF(VALUE(FIXED(P_16号様式1!J28,0,TRUE))<>P_16号様式1!J28,RIGHT(FIXED(P_16号様式1!J28,3,FALSE),4),\"\"))","v":""},{"$f":"IF(P_16号様式1!K28<> \"\",TEXT(INT(P_16号様式1!K28),\"#,##0\"),\"\")","v":"0"},{"$f":"IF(P_16号様式1!K28= \"\",\"\",IF(VALUE(FIXED(P_16号様式1!K28,0,TRUE))<>P_16号様式1!K28,RIGHT(FIXED(P_16号様式1!K28,3,FALSE),4),\"\"))","v":""},{"$f":"IF(P_16号様式1!L28<> \"\",TEXT(INT(P_16号様式1!L28),\"#,##0\"),\"\")","v":"10,307"},{"$f":"IF(P_16号様式1!L28= \"\",\"\",IF(VALUE(FIXED(P_16号様式1!L28,0,TRUE))<>P_16号様式1!L28,RIGHT(FIXED(P_16号様式1!L28,3,FALSE),4),\"\"))","v":""},{"$f":"IF(P_16号様式1!M28=\"\",\"\",P_16号様式1!M28)","v":0.68885223634423198},null,{"$f":"IF(P_16号様式1!N28=\"\",\"\",P_16号様式1!N28)","v":"21:16:00"},null,{"$f":"IF(P_16号様式1!O28=\"\",\"\",P_16号様式1!O28)","v":"確定"}]
[{"$f":"IF(P_16号様式1!C29=\"\",\"\",P_16号様式1!C29)","v":"　長島町"},null,{"$f":"IF(P_16号様式1!D29=\"\",\"\",P_16号様式1!D29)","v":100},{"$f":"IF(P_16号様式1!E29<> \"\",TEXT(INT(P_16号様式1!E29),\"#,##0\"),\"\")","v":"6,259"},{"$f":"IF(P_16号様式1!E29= \"\",\"\",IF(VALUE(FIXED(P_16号様式1!E29,0,TRUE))<>P_16号様式1!E29,RIGHT(FIXED(P_16号様式1!E29,3,FALSE),4),\"\"))","v":""},{"$f":"IF(P_16号様式1!F29<> \"\",TEXT(INT(P_16号様式1!F29),\"#,##0\"),\"\")","v":"0"},{"$f":"IF(P_16号様式1!F29= \"\",\"\",IF(VALUE(FIXED(P_16号様式1!F29,0,TRUE))<>P_16号様式1!F29,RIGHT(FIXED(P_16号様式1!F29,3,FALSE),4),\"\"))","v":""},{"$f":"IF(P_16号様式1!G29<> \"\",TEXT(INT(P_16号様式1!G29),\"#,##0\"),\"\")","v":"0"},{"$f":"IF(P_16号様式1!G29= \"\",\"\",IF(VALUE(FIXED(P_16号様式1!G29,0,TRUE))<>P_16号様式1!G29,RIGHT(FIXED(P_16号様式1!G29,3,FALSE),4),\"\"))","v":""},{"$f":"IF(P_16号様式1!H29<> \"\",TEXT(INT(P_16号様式1!H29),\"#,##0\"),\"\")","v":"6,259"},{"$f":"IF(P_16号様式1!H29= \"\",\"\",IF(VALUE(FIXED(P_16号様式1!H29,0,TRUE))<>P_16号様式1!H29,RIGHT(FIXED(P_16号様式1!H29,3,FALSE),4),\"\"))","v":""},{"$f":"IF(P_16号様式1!I29<> \"\",TEXT(INT(P_16号様式1!I29),\"#,##0\"),\"\")","v":"39"},{"$f":"IF(P_16号様式1!I29= \"\",\"\",IF(VALUE(FIXED(P_16号様式1!I29,0,TRUE))<>P_16号様式1!I29,RIGHT(FIXED(P_16号様式1!I29,3,FALSE),4),\"\"))","v":""},{"$f":"IF(P_16号様式1!J29<> \"\",TEXT(INT(P_16号様式1!J29),\"#,##0\"),\"\")","v":"6,298"},{"$f":"IF(P_16号様式1!J29= \"\",\"\",IF(VALUE(FIXED(P_16号様式1!J29,0,TRUE))<>P_16号様式1!J29,RIGHT(FIXED(P_16号様式1!J29,3,FALSE),4),\"\"))","v":""},{"$f":"IF(P_16号様式1!K29<> \"\",TEXT(INT(P_16号様式1!K29),\"#,##0\"),\"\")","v":"0"},{"$f":"IF(P_16号様式1!K29= \"\",\"\",IF(VALUE(FIXED(P_16号様式1!K29,0,TRUE))<>P_16号様式1!K29,RIGHT(FIXED(P_16号様式1!K29,3,FALSE),4),\"\"))","v":""},{"$f":"IF(P_16号様式1!L29<> \"\",TEXT(INT(P_16号様式1!L29),\"#,##0\"),\"\")","v":"6,298"},{"$f":"IF(P_16号様式1!L29= \"\",\"\",IF(VALUE(FIXED(P_16号様式1!L29,0,TRUE))<>P_16号様式1!L29,RIGHT(FIXED(P_16号様式1!L29,3,FALSE),4),\"\"))","v":""},{"$f":"IF(P_16号様式1!M29=\"\",\"\",P_16号様式1!M29)","v":0.61924420450936801},null,{"$f":"IF(P_16号様式1!N29=\"\",\"\",P_16号様式1!N29)","v":"21:47:00"},null,{"$f":"IF(P_16号様式1!O29=\"\",\"\",P_16号様式1!O29)","v":"確定"}]
[{"$f":"IF(P_16号様式1!C30=\"\",\"\",P_16号様式1!C30)","v":"＊（出水郡）計"},null,{"$f":"IF(P_16号様式1!D30=\"\",\"\",P_16号様式1!D30)","v":100},{"$f":"IF(P_16号様式1!E30<> \"\",TEXT(INT(P_16号様式1!E30),\"#,##0\"),\"\")","v":"6,259"},{"$f":"IF(P_16号様式1!E30= \"\",\"\",IF(VALUE(FIXED(P_16号様式1!E30,0,TRUE))<>P_16号様式1!E30,RIGHT(FIXED(P_16号様式1!E30,3,FALSE),4),\"\"))","v":""},{"$f":"IF(P_16号様式1!F30<> \"\",TEXT(INT(P_16号様式1!F30),\"#,##0\"),\"\")","v":"0"},{"$f":"IF(P_16号様式1!F30= \"\",\"\",IF(VALUE(FIXED(P_16号様式1!F30,0,TRUE))<>P_16号様式1!F30,RIGHT(FIXED(P_16号様式1!F30,3,FALSE),4),\"\"))","v":""},{"$f":"IF(P_16号様式1!G30<> \"\",TEXT(INT(P_16号様式1!G30),\"#,##0\"),\"\")","v":"0"},{"$f":"IF(P_16号様式1!G30= \"\",\"\",IF(VALUE(FIXED(P_16号様式1!G30,0,TRUE))<>P_16号様式1!G30,RIGHT(FIXED(P_16号様式1!G30,3,FALSE),4),\"\"))","v":""},{"$f":"IF(P_16号様式1!H30<> \"\",TEXT(INT(P_16号様式1!H30),\"#,##0\"),\"\")","v":"6,259"},{"$f":"IF(P_16号様式1!H30= \"\",\"\",IF(VALUE(FIXED(P_16号様式1!H30,0,TRUE))<>P_16号様式1!H30,RIGHT(FIXED(P_16号様式1!H30,3,FALSE),4),\"\"))","v":""},{"$f":"IF(P_16号様式1!I30<> \"\",TEXT(INT(P_16号様式1!I30),\"#,##0\"),\"\")","v":"39"},{"$f":"IF(P_16号様式1!I30= \"\",\"\",IF(VALUE(FIXED(P_16号様式1!I30,0,TRUE))<>P_16号様式1!I30,RIGHT(FIXED(P_16号様式1!I30,3,FALSE),4),\"\"))","v":""},{"$f":"IF(P_16号様式1!J30<> \"\",TEXT(INT(P_16号様式1!J30),\"#,##0\"),\"\")","v":"6,298"},{"$f":"IF(P_16号様式1!J30= \"\",\"\",IF(VALUE(FIXED(P_16号様式1!J30,0,TRUE))<>P_16号様式1!J30,RIGHT(FIXED(P_16号様式1!J30,3,FALSE),4),\"\"))","v":""},{"$f":"IF(P_16号様式1!K30<> \"\",TEXT(INT(P_16号様式1!K30),\"#,##0\"),\"\")","v":"0"},{"$f":"IF(P_16号様式1!K30= \"\",\"\",IF(VALUE(FIXED(P_16号様式1!K30,0,TRUE))<>P_16号様式1!K30,RIGHT(FIXED(P_16号様式1!K30,3,FALSE),4),\"\"))","v":""},{"$f":"IF(P_16号様式1!L30<> \"\",TEXT(INT(P_16号様式1!L30),\"#,##0\"),\"\")","v":"6,298"},{"$f":"IF(P_16号様式1!L30= \"\",\"\",IF(VALUE(FIXED(P_16号様式1!L30,0,TRUE))<>P_16号様式1!L30,RIGHT(FIXED(P_16号様式1!L30,3,FALSE),4),\"\"))","v":""},{"$f":"IF(P_16号様式1!M30=\"\",\"\",P_16号様式1!M30)","v":0.61924420450936801},null,{"$f":"IF(P_16号様式1!N30=\"\",\"\",P_16号様式1!N30)","v":"21:47:00"},null,{"$f":"IF(P_16号様式1!O30=\"\",\"\",P_16号様式1!O30)","v":"確定"}]
[{"$f":"IF(P_16号様式1!C31=\"\",\"\",P_16号様式1!C31)","v":"　湧水町"},null,{"$f":"IF(P_16号様式1!D31=\"\",\"\",P_16号様式1!D31)","v":100},{"$f":"IF(P_16号様式1!E31<> \"\",TEXT(INT(P_16号様式1!E31),\"#,##0\"),\"\")","v":"4,464"},{"$f":"IF(P_16号様式1!E31= \"\",\"\",IF(VALUE(FIXED(P_16号様式1!E31,0,TRUE))<>P_16号様式1!E31,RIGHT(FIXED(P_16号様式1!E31,3,FALSE),4),\"\"))","v":""},{"$f":"IF(P_16号様式1!F31<> \"\",TEXT(INT(P_16号様式1!F31),\"#,##0\"),\"\")","v":"0"},{"$f":"IF(P_16号様式1!F31= \"\",\"\",IF(VALUE(FIXED(P_16号様式1!F31,0,TRUE))<>P_16号様式1!F31,RIGHT(FIXED(P_16号様式1!F31,3,FALSE),4),\"\"))","v":""},{"$f":"IF(P_16号様式1!G31<> \"\",TEXT(INT(P_16号様式1!G31),\"#,##0\"),\"\")","v":"0"},{"$f":"IF(P_16号様式1!G31= \"\",\"\",IF(VALUE(FIXED(P_16号様式1!G31,0,TRUE))<>P_16号様式1!G31,RIGHT(FIXED(P_16号様式1!G31,3,FALSE),4),\"\"))","v":""},{"$f":"IF(P_16号様式1!H31<> \"\",TEXT(INT(P_16号様式1!H31),\"#,##0\"),\"\")","v":"4,464"},{"$f":"IF(P_16号様式1!H31= \"\",\"\",IF(VALUE(FIXED(P_16号様式1!H31,0,TRUE))<>P_16号様式1!H31,RIGHT(FIXED(P_16号様式1!H31,3,FALSE),4),\"\"))","v":""},{"$f":"IF(P_16号様式1!I31<> \"\",TEXT(INT(P_16号様式1!I31),\"#,##0\"),\"\")","v":"26"},{"$f":"IF(P_16号様式1!I31= \"\",\"\",IF(VALUE(FIXED(P_16号様式1!I31,0,TRUE))<>P_16号様式1!I31,RIGHT(FIXED(P_16号様式1!I31,3,FALSE),4),\"\"))","v":""},{"$f":"IF(P_16号様式1!J31<> \"\",TEXT(INT(P_16号様式1!J31),\"#,##0\"),\"\")","v":"4,490"},{"$f":"IF(P_16号様式1!J31= \"\",\"\",IF(VALUE(FIXED(P_16号様式1!J31,0,TRUE))<>P_16号様式1!J31,RIGHT(FIXED(P_16号様式1!J31,3,FALSE),4),\"\"))","v":""},{"$f":"IF(P_16号様式1!K31<> \"\",TEXT(INT(P_16号様式1!K31),\"#,##0\"),\"\")","v":"0"},{"$f":"IF(P_16号様式1!K31= \"\",\"\",IF(VALUE(FIXED(P_16号様式1!K31,0,TRUE))<>P_16号様式1!K31,RIGHT(FIXED(P_16号様式1!K31,3,FALSE),4),\"\"))","v":""},{"$f":"IF(P_16号様式1!L31<> \"\",TEXT(INT(P_16号様式1!L31),\"#,##0\"),\"\")","v":"4,490"},{"$f":"IF(P_16号様式1!L31= \"\",\"\",IF(VALUE(FIXED(P_16号様式1!L31,0,TRUE))<>P_16号様式1!L31,RIGHT(FIXED(P_16号様式1!L31,3,FALSE),4),\"\"))","v":""},{"$f":"IF(P_16号様式1!M31=\"\",\"\",P_16号様式1!M31)","v":0.57906458797327398},null,{"$f":"IF(P_16号様式1!N31=\"\",\"\",P_16号様式1!N31)","v":"21:01:00"},null,{"$f":"IF(P_16号様式1!O31=\"\",\"\",P_16号様式1!O31)","v":"確定"}]
[{"$f":"IF(P_16号様式1!C32=\"\",\"\",P_16号様式1!C32)","v":"＊（姶良郡）計"},null,{"$f":"IF(P_16号様式1!D32=\"\",\"\",P_16号様式1!D32)","v":100},{"$f":"IF(P_16号様式1!E32<> \"\",TEXT(INT(P_16号様式1!E32),\"#,##0\"),\"\")","v":"4,464"},{"$f":"IF(P_16号様式1!E32= \"\",\"\",IF(VALUE(FIXED(P_16号様式1!E32,0,TRUE))<>P_16号様式1!E32,RIGHT(FIXED(P_16号様式1!E32,3,FALSE),4),\"\"))","v":""},{"$f":"IF(P_16号様式1!F32<> \"\",TEXT(INT(P_16号様式1!F32),\"#,##0\"),\"\")","v":"0"},{"$f":"IF(P_16号様式1!F32= \"\",\"\",IF(VALUE(FIXED(P_16号様式1!F32,0,TRUE))<>P_16号様式1!F32,RIGHT(FIXED(P_16号様式1!F32,3,FALSE),4),\"\"))","v":""},{"$f":"IF(P_16号様式1!G32<> \"\",TEXT(INT(P_16号様式1!G32),\"#,##0\"),\"\")","v":"0"},{"$f":"IF(P_16号様式1!G32= \"\",\"\",IF(VALUE(FIXED(P_16号様式1!G32,0,TRUE))<>P_16号様式1!G32,RIGHT(FIXED(P_16号様式1!G32,3,FALSE),4),\"\"))","v":""},{"$f":"IF(P_16号様式1!H32<> \"\",TEXT(INT(P_16号様式1!H32),\"#,##0\"),\"\")","v":"4,464"},{"$f":"IF(P_16号様式1!H32= \"\",\"\",IF(VALUE(FIXED(P_16号様式1!H32,0,TRUE))<>P_16号様式1!H32,RIGHT(FIXED(P_16号様式1!H32,3,FALSE),4),\"\"))","v":""},{"$f":"IF(P_16号様式1!I32<> \"\",TEXT(INT(P_16号様式1!I32),\"#,##0\"),\"\")","v":"26"},{"$f":"IF(P_16号様式1!I32= \"\",\"\",IF(VALUE(FIXED(P_16号様式1!I32,0,TRUE))<>P_16号様式1!I32,RIGHT(FIXED(P_16号様式1!I32,3,FALSE),4),\"\"))","v":""},{"$f":"IF(P_16号様式1!J32<> \"\",TEXT(INT(P_16号様式1!J32),\"#,##0\"),\"\")","v":"4,490"},{"$f":"IF(P_16号様式1!J32= \"\",\"\",IF(VALUE(FIXED(P_16号様式1!J32,0,TRUE))<>P_16号様式1!J32,RIGHT(FIXED(P_16号様式1!J32,3,FALSE),4),\"\"))","v":""},{"$f":"IF(P_16号様式1!K32<> \"\",TEXT(INT(P_16号様式1!K32),\"#,##0\"),\"\")","v":"0"},{"$f":"IF(P_16号様式1!K32= \"\",\"\",IF(VALUE(FIXED(P_16号様式1!K32,0,TRUE))<>P_16号様式1!K32,RIGHT(FIXED(P_16号様式1!K32,3,FALSE),4),\"\"))","v":""},{"$f":"IF(P_16号様式1!L32<> \"\",TEXT(INT(P_16号様式1!L32),\"#,##0\"),\"\")","v":"4,490"},{"$f":"IF(P_16号様式1!L32= \"\",\"\",IF(VALUE(FIXED(P_16号様式1!L32,0,TRUE))<>P_16号様式1!L32,RIGHT(FIXED(P_16号様式1!L32,3,FALSE),4),\"\"))","v":""},{"$f":"IF(P_16号様式1!M32=\"\",\"\",P_16号様式1!M32)","v":0.57906458797327398},null,{"$f":"IF(P_16号様式1!N32=\"\",\"\",P_16号様式1!N32)","v":"21:01:00"},null,{"$f":"IF(P_16号様式1!O32=\"\",\"\",P_16号様式1!O32)","v":"確定"}]
[{"$f":"IF(P_16号様式1!C33=\"\",\"\",P_16号様式1!C33)","v":"　大崎町"},null,{"$f":"IF(P_16号様式1!D33=\"\",\"\",P_16号様式1!D33)","v":100},{"$f":"IF(P_16号様式1!E33<> \"\",TEXT(INT(P_16号様式1!E33),\"#,##0\"),\"\")","v":"5,562"},{"$f":"IF(P_16号様式1!E33= \"\",\"\",IF(VALUE(FIXED(P_16号様式1!E33,0,TRUE))<>P_16号様式1!E33,RIGHT(FIXED(P_16号様式1!E33,3,FALSE),4),\"\"))","v":""},{"$f":"IF(P_16号様式1!F33<> \"\",TEXT(INT(P_16号様式1!F33),\"#,##0\"),\"\")","v":"0"},{"$f":"IF(P_16号様式1!F33= \"\",\"\",IF(VALUE(FIXED(P_16号様式1!F33,0,TRUE))<>P_16号様式1!F33,RIGHT(FIXED(P_16号様式1!F33,3,FALSE),4),\"\"))","v":""},{"$f":"IF(P_16号様式1!G33<> \"\",TEXT(INT(P_16号様式1!G33),\"#,##0\"),\"\")","v":"0"},{"$f":"IF(P_16号様式1!G33= \"\",\"\",IF(VALUE(FIXED(P_16号様式1!G33,0,TRUE))<>P_16号様式1!G33,RIGHT(FIXED(P_16号様式1!G33,3,FALSE),4),\"\"))","v":""},{"$f":"IF(P_16号様式1!H33<> \"\",TEXT(INT(P_16号様式1!H33),\"#,##0\"),\"\")","v":"5,562"},{"$f":"IF(P_16号様式1!H33= \"\",\"\",IF(VALUE(FIXED(P_16号様式1!H33,0,TRUE))<>P_16号様式1!H33,RIGHT(FIXED(P_16号様式1!H33,3,FALSE),4),\"\"))","v":""},{"$f":"IF(P_16号様式1!I33<> \"\",TEXT(INT(P_16号様式1!I33),\"#,##0\"),\"\")","v":"37"},{"$f":"IF(P_16号様式1!I33= \"\",\"\",IF(VALUE(FIXED(P_16号様式1!I33,0,TRUE))<>P_16号様式1!I33,RIGHT(FIXED(P_16号様式1!I33,3,FALSE),4),\"\"))","v":""},{"$f":"IF(P_16号様式1!J33<> \"\",TEXT(INT(P_16号様式1!J33),\"#,##0\"),\"\")","v":"5,599"},{"$f":"IF(P_16号様式1!J33= \"\",\"\",IF(VALUE(FIXED(P_16号様式1!J33,0,TRUE))<>P_16号様式1!J33,RIGHT(FIXED(P_16号様式1!J33,3,FALSE),4),\"\"))","v":""},{"$f":"IF(P_16号様式1!K33<> \"\",TEXT(INT(P_16号様式1!K33),\"#,##0\"),\"\")","v":"0"},{"$f":"IF(P_16号様式1!K33= \"\",\"\",IF(VALUE(FIXED(P_16号様式1!K33,0,TRUE))<>P_16号様式1!K33,RIGHT(FIXED(P_16号様式1!K33,3,FALSE),4),\"\"))","v":""},{"$f":"IF(P_16号様式1!L33<> \"\",TEXT(INT(P_16号様式1!L33),\"#,##0\"),\"\")","v":"5,599"},{"$f":"IF(P_16号様式1!L33= \"\",\"\",IF(VALUE(FIXED(P_16号様式1!L33,0,TRUE))<>P_16号様式1!L33,RIGHT(FIXED(P_16号様式1!L33,3,FALSE),4),\"\"))","v":""},{"$f":"IF(P_16号様式1!M33=\"\",\"\",P_16号様式1!M33)","v":0.66083229148062195},null,{"$f":"IF(P_16号様式1!N33=\"\",\"\",P_16号様式1!N33)","v":"21:37:00"},null,{"$f":"IF(P_16号様式1!O33=\"\",\"\",P_16号様式1!O33)","v":"確定"}]
[{"$f":"IF(P_16号様式1!C34=\"\",\"\",P_16号様式1!C34)","v":"＊（曽於郡）計"},null,{"$f":"IF(P_16号様式1!D34=\"\",\"\",P_16号様式1!D34)","v":100},{"$f":"IF(P_16号様式1!E34<> \"\",TEXT(INT(P_16号様式1!E34),\"#,##0\"),\"\")","v":"5,562"},{"$f":"IF(P_16号様式1!E34= \"\",\"\",IF(VALUE(FIXED(P_16号様式1!E34,0,TRUE))<>P_16号様式1!E34,RIGHT(FIXED(P_16号様式1!E34,3,FALSE),4),\"\"))","v":""},{"$f":"IF(P_16号様式1!F34<> \"\",TEXT(INT(P_16号様式1!F34),\"#,##0\"),\"\")","v":"0"},{"$f":"IF(P_16号様式1!F34= \"\",\"\",IF(VALUE(FIXED(P_16号様式1!F34,0,TRUE))<>P_16号様式1!F34,RIGHT(FIXED(P_16号様式1!F34,3,FALSE),4),\"\"))","v":""},{"$f":"IF(P_16号様式1!G34<> \"\",TEXT(INT(P_16号様式1!G34),\"#,##0\"),\"\")","v":"0"},{"$f":"IF(P_16号様式1!G34= \"\",\"\",IF(VALUE(FIXED(P_16号様式1!G34,0,TRUE))<>P_16号様式1!G34,RIGHT(FIXED(P_16号様式1!G34,3,FALSE),4),\"\"))","v":""},{"$f":"IF(P_16号様式1!H34<> \"\",TEXT(INT(P_16号様式1!H34),\"#,##0\"),\"\")","v":"5,562"},{"$f":"IF(P_16号様式1!H34= \"\",\"\",IF(VALUE(FIXED(P_16号様式1!H34,0,TRUE))<>P_16号様式1!H34,RIGHT(FIXED(P_16号様式1!H34,3,FALSE),4),\"\"))","v":""},{"$f":"IF(P_16号様式1!I34<> \"\",TEXT(INT(P_16号様式1!I34),\"#,##0\"),\"\")","v":"37"},{"$f":"IF(P_16号様式1!I34= \"\",\"\",IF(VALUE(FIXED(P_16号様式1!I34,0,TRUE))<>P_16号様式1!I34,RIGHT(FIXED(P_16号様式1!I34,3,FALSE),4),\"\"))","v":""},{"$f":"IF(P_16号様式1!J34<> \"\",TEXT(INT(P_16号様式1!J34),\"#,##0\"),\"\")","v":"5,599"},{"$f":"IF(P_16号様式1!J34= \"\",\"\",IF(VALUE(FIXED(P_16号様式1!J34,0,TRUE))<>P_16号様式1!J34,RIGHT(FIXED(P_16号様式1!J34,3,FALSE),4),\"\"))","v":""},{"$f":"IF(P_16号様式1!K34<> \"\",TEXT(INT(P_16号様式1!K34),\"#,##0\"),\"\")","v":"0"},{"$f":"IF(P_16号様式1!K34= \"\",\"\",IF(VALUE(FIXED(P_16号様式1!K34,0,TRUE))<>P_16号様式1!K34,RIGHT(FIXED(P_16号様式1!K34,3,FALSE),4),\"\"))","v":""},{"$f":"IF(P_16号様式1!L34<> \"\",TEXT(INT(P_16号様式1!L34),\"#,##0\"),\"\")","v":"5,599"},{"$f":"IF(P_16号様式1!L34= \"\",\"\",IF(VALUE(FIXED(P_16号様式1!L34,0,TRUE))<>P_16号様式1!L34,RIGHT(FIXED(P_16号様式1!L34,3,FALSE),4),\"\"))","v":""},{"$f":"IF(P_16号様式1!M34=\"\",\"\",P_16号様式1!M34)","v":0.66083229148062195},null,{"$f":"IF(P_16号様式1!N34=\"\",\"\",P_16号様式1!N34)","v":"21:37:00"},null,{"$f":"IF(P_16号様式1!O34=\"\",\"\",P_16号様式1!O34)","v":"確定"}]
[{"$f":"IF(P_16号様式1!C35=\"\",\"\",P_16号様式1!C35)","v":"　東串良町"},null,{"$f":"IF(P_16号様式1!D35=\"\",\"\",P_16号様式1!D35)","v":100},{"$f":"IF(P_16号様式1!E35<> \"\",TEXT(INT(P_16号様式1!E35),\"#,##0\"),\"\")","v":"2,634"},{"$f":"IF(P_16号様式1!E35= \"\",\"\",IF(VALUE(FIXED(P_16号様式1!E35,0,TRUE))<>P_16号様式1!E35,RIGHT(FIXED(P_16号様式1!E35,3,FALSE),4),\"\"))","v":""},{"$f":"IF(P_16号様式1!F35<> \"\",TEXT(INT(P_16号様式1!F35),\"#,##0\"),\"\")","v":"0"},{"$f":"IF(P_16号様式1!F35= \"\",\"\",IF(VALUE(FIXED(P_16号様式1!F35,0,TRUE))<>P_16号様式1!F35,RIGHT(FIXED(P_16号様式1!F35,3,FALSE),4),\"\"))","v":""},{"$f":"IF(P_16号様式1!G35<> \"\",TEXT(INT(P_16号様式1!G35),\"#,##0\"),\"\")","v":"0"},{"$f":"IF(P_16号様式1!G35= \"\",\"\",IF(VALUE(FIXED(P_16号様式1!G35,0,TRUE))<>P_16号様式1!G35,RIGHT(FIXED(P_16号様式1!G35,3,FALSE),4),\"\"))","v":""},{"$f":"IF(P_16号様式1!H35<> \"\",TEXT(INT(P_16号様式1!H35),\"#,##0\"),\"\")","v":"2,634"},{"$f":"IF(P_16号様式1!H35= \"\",\"\",IF(VALUE(FIXED(P_16号様式1!H35,0,TRUE))<>P_16号様式1!H35,RIGHT(FIXED(P_16号様式1!H35,3,FALSE),4),\"\"))","v":""},{"$f":"IF(P_16号様式1!I35<> \"\",TEXT(INT(P_16号様式1!I35),\"#,##0\"),\"\")","v":"23"},{"$f":"IF(P_16号様式1!I35= \"\",\"\",IF(VALUE(FIXED(P_16号様式1!I35,0,TRUE))<>P_16号様式1!I35,RIGHT(FIXED(P_16号様式1!I35,3,FALSE),4),\"\"))","v":""},{"$f":"IF(P_16号様式1!J35<> \"\",TEXT(INT(P_16号様式1!J35),\"#,##0\"),\"\")","v":"2,657"},{"$f":"IF(P_16号様式1!J35= \"\",\"\",IF(VALUE(FIXED(P_16号様式1!J35,0,TRUE))<>P_16号様式1!J35,RIGHT(FIXED(P_16号様式1!J35,3,FALSE),4),\"\"))","v":""},{"$f":"IF(P_16号様式1!K35<> \"\",TEXT(INT(P_16号様式1!K35),\"#,##0\"),\"\")","v":"0"},{"$f":"IF(P_16号様式1!K35= \"\",\"\",IF(VALUE(FIXED(P_16号様式1!K35,0,TRUE))<>P_16号様式1!K35,RIGHT(FIXED(P_16号様式1!K35,3,FALSE),4),\"\"))","v":""},{"$f":"IF(P_16号様式1!L35<> \"\",TEXT(INT(P_16号様式1!L35),\"#,##0\"),\"\")","v":"2,657"},{"$f":"IF(P_16号様式1!L35= \"\",\"\",IF(VALUE(FIXED(P_16号様式1!L35,0,TRUE))<>P_16号様式1!L35,RIGHT(FIXED(P_16号様式1!L35,3,FALSE),4),\"\"))","v":""},{"$f":"IF(P_16号様式1!M35=\"\",\"\",P_16号様式1!M35)","v":0.86563793752352303},null,{"$f":"IF(P_16号様式1!N35=\"\",\"\",P_16号様式1!N35)","v":"20:43:00"},null,{"$f":"IF(P_16号様式1!O35=\"\",\"\",P_16号様式1!O35)","v":"確定"}]
[{"$f":"IF(P_16号様式1!C36=\"\",\"\",P_16号様式1!C36)","v":"　錦江町"},null,{"$f":"IF(P_16号様式1!D36=\"\",\"\",P_16号様式1!D36)","v":100},{"$f":"IF(P_16号様式1!E36<> \"\",TEXT(INT(P_16号様式1!E36),\"#,##0\"),\"\")","v":"3,816"},{"$f":"IF(P_16号様式1!E36= \"\",\"\",IF(VALUE(FIXED(P_16号様式1!E36,0,TRUE))<>P_16号様式1!E36,RIGHT(FIXED(P_16号様式1!E36,3,FALSE),4),\"\"))","v":""},{"$f":"IF(P_16号様式1!F36<> \"\",TEXT(INT(P_16号様式1!F36),\"#,##0\"),\"\")","v":"0"},{"$f":"IF(P_16号様式1!F36= \"\",\"\",IF(VALUE(FIXED(P_16号様式1!F36,0,TRUE))<>P_16号様式1!F36,RIGHT(FIXED(P_16号様式1!F36,3,FALSE),4),\"\"))","v":""},{"$f":"IF(P_16号様式1!G36<> \"\",TEXT(INT(P_16号様式1!G36),\"#,##0\"),\"\")","v":"0"},{"$f":"IF(P_16号様式1!G36= \"\",\"\",IF(VALUE(FIXED(P_16号様式1!G36,0,TRUE))<>P_16号様式1!G36,RIGHT(FIXED(P_16号様式1!G36,3,FALSE),4),\"\"))","v":""},{"$f":"IF(P_16号様式1!H36<> \"\",TEXT(INT(P_16号様式1!H36),\"#,##0\"),\"\")","v":"3,816"},{"$f":"IF(P_16号様式1!H36= \"\",\"\",IF(VALUE(FIXED(P_16号様式1!H36,0,TRUE))<>P_16号様式1!H36,RIGHT(FIXED(P_16号様式1!H36,3,FALSE),4),\"\"))","v":""},{"$f":"IF(P_16号様式1!I36<> \"\",TEXT(INT(P_16号様式1!I36),\"#,##0\"),\"\")","v":"29"},{"$f":"IF(P_16号様式1!I36= \"\",\"\",IF(VALUE(FIXED(P_16号様式1!I36,0,TRUE))<>P_16号様式1!I36,RIGHT(FIXED(P_16号様式1!I36,3,FALSE),4),\"\"))","v":""},{"$f":"IF(P_16号様式1!J36<> \"\",TEXT(INT(P_16号様式1!J36),\"#,##0\"),\"\")","v":"3,845"},{"$f":"IF(P_16号様式1!J36= \"\",\"\",IF(VALUE(FIXED(P_16号様式1!J36,0,TRUE))<>P_16号様式1!J36,RIGHT(FIXED(P_16号様式1!J36,3,FALSE),4),\"\"))","v":""},{"$f":"IF(P_16号様式1!K36<> \"\",TEXT(INT(P_16号様式1!K36),\"#,##0\"),\"\")","v":"0"},{"$f":"IF(P_16号様式1!K36= \"\",\"\",IF(VALUE(FIXED(P_16号様式1!K36,0,TRUE))<>P_16号様式1!K36,RIGHT(FIXED(P_16号様式1!K36,3,FALSE),4),\"\"))","v":""},{"$f":"IF(P_16号様式1!L36<> \"\",TEXT(INT(P_16号様式1!L36),\"#,##0\"),\"\")","v":"3,845"},{"$f":"IF(P_16号様式1!L36= \"\",\"\",IF(VALUE(FIXED(P_16号様式1!L36,0,TRUE))<>P_16号様式1!L36,RIGHT(FIXED(P_16号様式1!L36,3,FALSE),4),\"\"))","v":""},{"$f":"IF(P_16号様式1!M36=\"\",\"\",P_16号様式1!M36)","v":0.75422626788036395},null,{"$f":"IF(P_16号様式1!N36=\"\",\"\",P_16号様式1!N36)","v":"20:56:00"},null,{"$f":"IF(P_16号様式1!O36=\"\",\"\",P_16号様式1!O36)","v":"確定"}]
[{"$f":"IF(P_16号様式1!C37=\"\",\"\",P_16号様式1!C37)","v":"　南大隅町"},null,{"$f":"IF(P_16号様式1!D37=\"\",\"\",P_16号様式1!D37)","v":100},{"$f":"IF(P_16号様式1!E37<> \"\",TEXT(INT(P_16号様式1!E37),\"#,##0\"),\"\")","v":"3,814"},{"$f":"IF(P_16号様式1!E37= \"\",\"\",IF(VALUE(FIXED(P_16号様式1!E37,0,TRUE))<>P_16号様式1!E37,RIGHT(FIXED(P_16号様式1!E37,3,FALSE),4),\"\"))","v":""},{"$f":"IF(P_16号様式1!F37<> \"\",TEXT(INT(P_16号様式1!F37),\"#,##0\"),\"\")","v":"0"},{"$f":"IF(P_16号様式1!F37= \"\",\"\",IF(VALUE(FIXED(P_16号様式1!F37,0,TRUE))<>P_16号様式1!F37,RIGHT(FIXED(P_16号様式1!F37,3,FALSE),4),\"\"))","v":""},{"$f":"IF(P_16号様式1!G37<> \"\",TEXT(INT(P_16号様式1!G37),\"#,##0\"),\"\")","v":"0"},{"$f":"IF(P_16号様式1!G37= \"\",\"\",IF(VALUE(FIXED(P_16号様式1!G37,0,TRUE))<>P_16号様式1!G37,RIGHT(FIXED(P_16号様式1!G37,3,FALSE),4),\"\"))","v":""},{"$f":"IF(P_16号様式1!H37<> \"\",TEXT(INT(P_16号様式1!H37),\"#,##0\"),\"\")","v":"3,814"},{"$f":"IF(P_16号様式1!H37= \"\",\"\",IF(VALUE(FIXED(P_16号様式1!H37,0,TRUE))<>P_16号様式1!H37,RIGHT(FIXED(P_16号様式1!H37,3,FALSE),4),\"\"))","v":""},{"$f":"IF(P_16号様式1!I37<> \"\",TEXT(INT(P_16号様式1!I37),\"#,##0\"),\"\")","v":"25"},{"$f":"IF(P_16号様式1!I37= \"\",\"\",IF(VALUE(FIXED(P_16号様式1!I37,0,TRUE))<>P_16号様式1!I37,RIGHT(FIXED(P_16号様式1!I37,3,FALSE),4),\"\"))","v":""},{"$f":"IF(P_16号様式1!J37<> \"\",TEXT(INT(P_16号様式1!J37),\"#,##0\"),\"\")","v":"3,839"},{"$f":"IF(P_16号様式1!J37= \"\",\"\",IF(VALUE(FIXED(P_16号様式1!J37,0,TRUE))<>P_16号様式1!J37,RIGHT(FIXED(P_16号様式1!J37,3,FALSE),4),\"\"))","v":""},{"$f":"IF(P_16号様式1!K37<> \"\",TEXT(INT(P_16号様式1!K37),\"#,##0\"),\"\")","v":"1"},{"$f":"IF(P_16号様式1!K37= \"\",\"\",IF(VALUE(FIXED(P_16号様式1!K37,0,TRUE))<>P_16号様式1!K37,RIGHT(FIXED(P_16号様式1!K37,3,FALSE),4),\"\"))","v":""},{"$f":"IF(P_16号様式1!L37<> \"\",TEXT(INT(P_16号様式1!L37),\"#,##0\"),\"\")","v":"3,840"},{"$f":"IF(P_16号様式1!L37= \"\",\"\",IF(VALUE(FIXED(P_16号様式1!L37,0,TRUE))<>P_16号様式1!L37,RIGHT(FIXED(P_16号様式1!L37,3,FALSE),4),\"\"))","v":""},{"$f":"IF(P_16号様式1!M37=\"\",\"\",P_16号様式1!M37)","v":0.65121125293045101},null,{"$f":"IF(P_16号様式1!N37=\"\",\"\",P_16号様式1!N37)","v":"21:20:00"},null,{"$f":"IF(P_16号様式1!O37=\"\",\"\",P_16号様式1!O37)","v":"確定"}]
[{"$f":"IF(P_16号様式1!C38=\"\",\"\",P_16号様式1!C38)","v":"　肝付町"},null,{"$f":"IF(P_16号様式1!D38=\"\",\"\",P_16号様式1!D38)","v":100},{"$f":"IF(P_16号様式1!E38<> \"\",TEXT(INT(P_16号様式1!E38),\"#,##0\"),\"\")","v":"6,413"},{"$f":"IF(P_16号様式1!E38= \"\",\"\",IF(VALUE(FIXED(P_16号様式1!E38,0,TRUE))<>P_16号様式1!E38,RIGHT(FIXED(P_16号様式1!E38,3,FALSE),4),\"\"))","v":""},{"$f":"IF(P_16号様式1!F38<> \"\",TEXT(INT(P_16号様式1!F38),\"#,##0\"),\"\")","v":"0"},{"$f":"IF(P_16号様式1!F38= \"\",\"\",IF(VALUE(FIXED(P_16号様式1!F38,0,TRUE))<>P_16号様式1!F38,RIGHT(FIXED(P_16号様式1!F38,3,FALSE),4),\"\"))","v":""},{"$f":"IF(P_16号様式1!G38<> \"\",TEXT(INT(P_16号様式1!G38),\"#,##0\"),\"\")","v":"0"},{"$f":"IF(P_16号様式1!G38= \"\",\"\",IF(VALUE(FIXED(P_16号様式1!G38,0,TRUE))<>P_16号様式1!G38,RIGHT(FIXED(P_16号様式1!G38,3,FALSE),4),\"\"))","v":""},{"$f":"IF(P_16号様式1!H38<> \"\",TEXT(INT(P_16号様式1!H38),\"#,##0\"),\"\")","v":"6,413"},{"$f":"IF(P_16号様式1!H38= \"\",\"\",IF(VALUE(FIXED(P_16号様式1!H38,0,TRUE))<>P_16号様式1!H38,RIGHT(FIXED(P_16号様式1!H38,3,FALSE),4),\"\"))","v":""},{"$f":"IF(P_16号様式1!I38<> \"\",TEXT(INT(P_16号様式1!I38),\"#,##0\"),\"\")","v":"41"},{"$f":"IF(P_16号様式1!I38= \"\",\"\",IF(VALUE(FIXED(P_16号様式1!I38,0,TRUE))<>P_16号様式1!I38,RIGHT(FIXED(P_16号様式1!I38,3,FALSE),4),\"\"))","v":""},{"$f":"IF(P_16号様式1!J38<> \"\",TEXT(INT(P_16号様式1!J38),\"#,##0\"),\"\")","v":"6,454"},{"$f":"IF(P_16号様式1!J38= \"\",\"\",IF(VALUE(FIXED(P_16号様式1!J38,0,TRUE))<>P_16号様式1!J38,RIGHT(FIXED(P_16号様式1!J38,3,FALSE),4),\"\"))","v":""},{"$f":"IF(P_16号様式1!K38<> \"\",TEXT(INT(P_16号様式1!K38),\"#,##0\"),\"\")","v":"0"},{"$f":"IF(P_16号様式1!K38= \"\",\"\",IF(VALUE(FIXED(P_16号様式1!K38,0,TRUE))<>P_16号様式1!K38,RIGHT(FIXED(P_16号様式1!K38,3,FALSE),4),\"\"))","v":""},{"$f":"IF(P_16号様式1!L38<> \"\",TEXT(INT(P_16号様式1!L38),\"#,##0\"),\"\")","v":"6,454"},{"$f":"IF(P_16号様式1!L38= \"\",\"\",IF(VALUE(FIXED(P_16号様式1!L38,0,TRUE))<>P_16号様式1!L38,RIGHT(FIXED(P_16号様式1!L38,3,FALSE),4),\"\"))","v":""},{"$f":"IF(P_16号様式1!M38=\"\",\"\",P_16号様式1!M38)","v":0.635264951967772},null,{"$f":"IF(P_16号様式1!N38=\"\",\"\",P_16号様式1!N38)","v":"21:09:00"},null,{"$f":"IF(P_16号様式1!O38=\"\",\"\",P_16号様式1!O38)","v":"確定"}]
[{"$f":"IF(P_16号様式1!C39=\"\",\"\",P_16号様式1!C39)","v":"＊（肝属郡）計"},null,{"$f":"IF(P_16号様式1!D39=\"\",\"\",P_16号様式1!D39)","v":100},{"$f":"IF(P_16号様式1!E39<> \"\",TEXT(INT(P_16号様式1!E39),\"#,##0\"),\"\")","v":"16,677"},{"$f":"IF(P_16号様式1!E39= \"\",\"\",IF(VALUE(FIXED(P_16号様式1!E39,0,TRUE))<>P_16号様式1!E39,RIGHT(FIXED(P_16号様式1!E39,3,FALSE),4),\"\"))","v":""},{"$f":"IF(P_16号様式1!F39<> \"\",TEXT(INT(P_16号様式1!F39),\"#,##0\"),\"\")","v":"0"},{"$f":"IF(P_16号様式1!F39= \"\",\"\",IF(VALUE(FIXED(P_16号様式1!F39,0,TRUE))<>P_16号様式1!F39,RIGHT(FIXED(P_16号様式1!F39,3,FALSE),4),\"\"))","v":""},{"$f":"IF(P_16号様式1!G39<> \"\",TEXT(INT(P_16号様式1!G39),\"#,##0\"),\"\")","v":"0"},{"$f":"IF(P_16号様式1!G39= \"\",\"\",IF(VALUE(FIXED(P_16号様式1!G39,0,TRUE))<>P_16号様式1!G39,RIGHT(FIXED(P_16号様式1!G39,3,FALSE),4),\"\"))","v":""},{"$f":"IF(P_16号様式1!H39<> \"\",TEXT(INT(P_16号様式1!H39),\"#,##0\"),\"\")","v":"16,677"},{"$f":"IF(P_16号様式1!H39= \"\",\"\",IF(VALUE(FIXED(P_16号様式1!H39,0,TRUE))<>P_16号様式1!H39,RIGHT(FIXED(P_16号様式1!H39,3,FALSE),4),\"\"))","v":""},{"$f":"IF(P_16号様式1!I39<> \"\",TEXT(INT(P_16号様式1!I39),\"#,##0\"),\"\")","v":"118"},{"$f":"IF(P_16号様式1!I39= \"\",\"\",IF(VALUE(FIXED(P_16号様式1!I39,0,TRUE))<>P_16号様式1!I39,RIGHT(FIXED(P_16号様式1!I39,3,FALSE),4),\"\"))","v":""},{"$f":"IF(P_16号様式1!J39<> \"\",TEXT(INT(P_16号様式1!J39),\"#,##0\"),\"\")","v":"16,795"},{"$f":"IF(P_16号様式1!J39= \"\",\"\",IF(VALUE(FIXED(P_16号様式1!J39,0,TRUE))<>P_16号様式1!J39,RIGHT(FIXED(P_16号様式1!J39,3,FALSE),4),\"\"))","v":""},{"$f":"IF(P_16号様式1!K39<> \"\",TEXT(INT(P_16号様式1!K39),\"#,##0\"),\"\")","v":"1"},{"$f":"IF(P_16号様式1!K39= \"\",\"\",IF(VALUE(FIXED(P_16号様式1!K39,0,TRUE))<>P_16号様式1!K39,RIGHT(FIXED(P_16号様式1!K39,3,FALSE),4),\"\"))","v":""},{"$f":"IF(P_16号様式1!L39<> \"\",TEXT(INT(P_16号様式1!L39),\"#,##0\"),\"\")","v":"16,796"},{"$f":"IF(P_16号様式1!L39= \"\",\"\",IF(VALUE(FIXED(P_16号様式1!L39,0,TRUE))<>P_16号様式1!L39,RIGHT(FIXED(P_16号様式1!L39,3,FALSE),4),\"\"))","v":""},{"$f":"IF(P_16号様式1!M39=\"\",\"\",P_16号様式1!M39)","v":0.70259005656445395},null,{"$f":"IF(P_16号様式1!N39=\"\",\"\",P_16号様式1!N39)","v":"21:20:00"},null,{"$f":"IF(P_16号様式1!O39=\"\",\"\",P_16号様式1!O39)","v":"確定"}]
[{"$f":"IF(P_16号様式1!C40=\"\",\"\",P_16号様式1!C40)","v":"　中種子町"},null,{"$f":"IF(P_16号様式1!D40=\"\",\"\",P_16号様式1!D40)","v":100},{"$f":"IF(P_16号様式1!E40<> \"\",TEXT(INT(P_16号様式1!E40),\"#,##0\"),\"\")","v":"4,076"},{"$f":"IF(P_16号様式1!E40= \"\",\"\",IF(VALUE(FIXED(P_16号様式1!E40,0,TRUE))<>P_16号様式1!E40,RIGHT(FIXED(P_16号様式1!E40,3,FALSE),4),\"\"))","v":""},{"$f":"IF(P_16号様式1!F40<> \"\",TEXT(INT(P_16号様式1!F40),\"#,##0\"),\"\")","v":"0"},{"$f":"IF(P_16号様式1!F40= \"\",\"\",IF(VALUE(FIXED(P_16号様式1!F40,0,TRUE))<>P_16号様式1!F40,RIGHT(FIXED(P_16号様式1!F40,3,FALSE),4),\"\"))","v":""},{"$f":"IF(P_16号様式1!G40<> \"\",TEXT(INT(P_16号様式1!G40),\"#,##0\"),\"\")","v":"0"},{"$f":"IF(P_16号様式1!G40= \"\",\"\",IF(VALUE(FIXED(P_16号様式1!G40,0,TRUE))<>P_16号様式1!G40,RIGHT(FIXED(P_16号様式1!G40,3,FALSE),4),\"\"))","v":""},{"$f":"IF(P_16号様式1!H40<> \"\",TEXT(INT(P_16号様式1!H40),\"#,##0\"),\"\")","v":"4,076"},{"$f":"IF(P_16号様式1!H40= \"\",\"\",IF(VALUE(FIXED(P_16号様式1!H40,0,TRUE))<>P_16号様式1!H40,RIGHT(FIXED(P_16号様式1!H40,3,FALSE),4),\"\"))","v":""},{"$f":"IF(P_16号様式1!I40<> \"\",TEXT(INT(P_16号様式1!I40),\"#,##0\"),\"\")","v":"35"},{"$f":"IF(P_16号様式1!I40= \"\",\"\",IF(VALUE(FIXED(P_16号様式1!I40,0,TRUE))<>P_16号様式1!I40,RIGHT(FIXED(P_16号様式1!I40,3,FALSE),4),\"\"))","v":""},{"$f":"IF(P_16号様式1!J40<> \"\",TEXT(INT(P_16号様式1!J40),\"#,##0\"),\"\")","v":"4,111"},{"$f":"IF(P_16号様式1!J40= \"\",\"\",IF(VALUE(FIXED(P_16号様式1!J40,0,TRUE))<>P_16号様式1!J40,RIGHT(FIXED(P_16号様式1!J40,3,FALSE),4),\"\"))","v":""},{"$f":"IF(P_16号様式1!K40<> \"\",TEXT(INT(P_16号様式1!K40),\"#,##0\"),\"\")","v":"0"},{"$f":"IF(P_16号様式1!K40= \"\",\"\",IF(VALUE(FIXED(P_16号様式1!K40,0,TRUE))<>P_16号様式1!K40,RIGHT(FIXED(P_16号様式1!K40,3,FALSE),4),\"\"))","v":""},{"$f":"IF(P_16号様式1!L40<> \"\",TEXT(INT(P_16号様式1!L40),\"#,##0\"),\"\")","v":"4,111"},{"$f":"IF(P_16号様式1!L40= \"\",\"\",IF(VALUE(FIXED(P_16号様式1!L40,0,TRUE))<>P_16号様式1!L40,RIGHT(FIXED(P_16号様式1!L40,3,FALSE),4),\"\"))","v":""},{"$f":"IF(P_16号様式1!M40=\"\",\"\",P_16号様式1!M40)","v":0.85137436146922896},null,{"$f":"IF(P_16号様式1!N40=\"\",\"\",P_16号様式1!N40)","v":"21:42:00"},null,{"$f":"IF(P_16号様式1!O40=\"\",\"\",P_16号様式1!O40)","v":"確定"}]
[{"$f":"IF(P_16号様式1!C41=\"\",\"\",P_16号様式1!C41)","v":"　南種子町"},null,{"$f":"IF(P_16号様式1!D41=\"\",\"\",P_16号様式1!D41)","v":100},{"$f":"IF(P_16号様式1!E41<> \"\",TEXT(INT(P_16号様式1!E41),\"#,##0\"),\"\")","v":"2,844"},{"$f":"IF(P_16号様式1!E41= \"\",\"\",IF(VALUE(FIXED(P_16号様式1!E41,0,TRUE))<>P_16号様式1!E41,RIGHT(FIXED(P_16号様式1!E41,3,FALSE),4),\"\"))","v":""},{"$f":"IF(P_16号様式1!F41<> \"\",TEXT(INT(P_16号様式1!F41),\"#,##0\"),\"\")","v":"0"},{"$f":"IF(P_16号様式1!F41= \"\",\"\",IF(VALUE(FIXED(P_16号様式1!F41,0,TRUE))<>P_16号様式1!F41,RIGHT(FIXED(P_16号様式1!F41,3,FALSE),4),\"\"))","v":""},{"$f":"IF(P_16号様式1!G41<> \"\",TEXT(INT(P_16号様式1!G41),\"#,##0\"),\"\")","v":"0"},{"$f":"IF(P_16号様式1!G41= \"\",\"\",IF(VALUE(FIXED(P_16号様式1!G41,0,TRUE))<>P_16号様式1!G41,RIGHT(FIXED(P_16号様式1!G41,3,FALSE),4),\"\"))","v":""},{"$f":"IF(P_16号様式1!H41<> \"\",TEXT(INT(P_16号様式1!H41),\"#,##0\"),\"\")","v":"2,844"},{"$f":"IF(P_16号様式1!H41= \"\",\"\",IF(VALUE(FIXED(P_16号様式1!H41,0,TRUE))<>P_16号様式1!H41,RIGHT(FIXED(P_16号様式1!H41,3,FALSE),4),\"\"))","v":""},{"$f":"IF(P_16号様式1!I41<> \"\",TEXT(INT(P_16号様式1!I41),\"#,##0\"),\"\")","v":"14"},{"$f":"IF(P_16号様式1!I41= \"\",\"\",IF(VALUE(FIXED(P_16号様式1!I41,0,TRUE))<>P_16号様式1!I41,RIGHT(FIXED(P_16号様式1!I41,3,FALSE),4),\"\"))","v":""},{"$f":"IF(P_16号様式1!J41<> \"\",TEXT(INT(P_16号様式1!J41),\"#,##0\"),\"\")","v":"2,858"},{"$f":"IF(P_16号様式1!J41= \"\",\"\",IF(VALUE(FIXED(P_16号様式1!J41,0,TRUE))<>P_16号様式1!J41,RIGHT(FIXED(P_16号様式1!J41,3,FALSE),4),\"\"))","v":""},{"$f":"IF(P_16号様式1!K41<> \"\",TEXT(INT(P_16号様式1!K41),\"#,##0\"),\"\")","v":"0"},{"$f":"IF(P_16号様式1!K41= \"\",\"\",IF(VALUE(FIXED(P_16号様式1!K41,0,TRUE))<>P_16号様式1!K41,RIGHT(FIXED(P_16号様式1!K41,3,FALSE),4),\"\"))","v":""},{"$f":"IF(P_16号様式1!L41<> \"\",TEXT(INT(P_16号様式1!L41),\"#,##0\"),\"\")","v":"2,858"},{"$f":"IF(P_16号様式1!L41= \"\",\"\",IF(VALUE(FIXED(P_16号様式1!L41,0,TRUE))<>P_16号様式1!L41,RIGHT(FIXED(P_16号様式1!L41,3,FALSE),4),\"\"))","v":""},{"$f":"IF(P_16号様式1!M41=\"\",\"\",P_16号様式1!M41)","v":0.48985304408677399},null,{"$f":"IF(P_16号様式1!N41=\"\",\"\",P_16号様式1!N41)","v":"21:02:00"},null,{"$f":"IF(P_16号様式1!O41=\"\",\"\",P_16号様式1!O41)","v":"確定"}]
[{"$f":"IF(P_16号様式1!C42=\"\",\"\",P_16号様式1!C42)","v":"　屋久島町"},null,{"$f":"IF(P_16号様式1!D42=\"\",\"\",P_16号様式1!D42)","v":100},{"$f":"IF(P_16号様式1!E42<> \"\",TEXT(INT(P_16号様式1!E42),\"#,##0\"),\"\")","v":"6,177"},{"$f":"IF(P_16号様式1!E42= \"\",\"\",IF(VALUE(FIXED(P_16号様式1!E42,0,TRUE))<>P_16号様式1!E42,RIGHT(FIXED(P_16号様式1!E42,3,FALSE),4),\"\"))","v":""},{"$f":"IF(P_16号様式1!F42<> \"\",TEXT(INT(P_16号様式1!F42),\"#,##0\"),\"\")","v":"0"},{"$f":"IF(P_16号様式1!F42= \"\",\"\",IF(VALUE(FIXED(P_16号様式1!F42,0,TRUE))<>P_16号様式1!F42,RIGHT(FIXED(P_16号様式1!F42,3,FALSE),4),\"\"))","v":""},{"$f":"IF(P_16号様式1!G42<> \"\",TEXT(INT(P_16号様式1!G42),\"#,##0\"),\"\")","v":"0"},{"$f":"IF(P_16号様式1!G42= \"\",\"\",IF(VALUE(FIXED(P_16号様式1!G42,0,TRUE))<>P_16号様式1!G42,RIGHT(FIXED(P_16号様式1!G42,3,FALSE),4),\"\"))","v":""},{"$f":"IF(P_16号様式1!H42<> \"\",TEXT(INT(P_16号様式1!H42),\"#,##0\"),\"\")","v":"6,177"},{"$f":"IF(P_16号様式1!H42= \"\",\"\",IF(VALUE(FIXED(P_16号様式1!H42,0,TRUE))<>P_16号様式1!H42,RIGHT(FIXED(P_16号様式1!H42,3,FALSE),4),\"\"))","v":""},{"$f":"IF(P_16号様式1!I42<> \"\",TEXT(INT(P_16号様式1!I42),\"#,##0\"),\"\")","v":"45"},{"$f":"IF(P_16号様式1!I42= \"\",\"\",IF(VALUE(FIXED(P_16号様式1!I42,0,TRUE))<>P_16号様式1!I42,RIGHT(FIXED(P_16号様式1!I42,3,FALSE),4),\"\"))","v":""},{"$f":"IF(P_16号様式1!J42<> \"\",TEXT(INT(P_16号様式1!J42),\"#,##0\"),\"\")","v":"6,222"},{"$f":"IF(P_16号様式1!J42= \"\",\"\",IF(VALUE(FIXED(P_16号様式1!J42,0,TRUE))<>P_16号様式1!J42,RIGHT(FIXED(P_16号様式1!J42,3,FALSE),4),\"\"))","v":""},{"$f":"IF(P_16号様式1!K42<> \"\",TEXT(INT(P_16号様式1!K42),\"#,##0\"),\"\")","v":"2"},{"$f":"IF(P_16号様式1!K42= \"\",\"\",IF(VALUE(FIXED(P_16号様式1!K42,0,TRUE))<>P_16号様式1!K42,RIGHT(FIXED(P_16号様式1!K42,3,FALSE),4),\"\"))","v":""},{"$f":"IF(P_16号様式1!L42<> \"\",TEXT(INT(P_16号様式1!L42),\"#,##0\"),\"\")","v":"6,224"},{"$f":"IF(P_16号様式1!L42= \"\",\"\",IF(VALUE(FIXED(P_16号様式1!L42,0,TRUE))<>P_16号様式1!L42,RIGHT(FIXED(P_16号様式1!L42,3,FALSE),4),\"\"))","v":""},{"$f":"IF(P_16号様式1!M42=\"\",\"\",P_16号様式1!M42)","v":0.72324011571841895},null,{"$f":"IF(P_16号様式1!N42=\"\",\"\",P_16号様式1!N42)","v":"21:39:00"},null,{"$f":"IF(P_16号様式1!O42=\"\",\"\",P_16号様式1!O42)","v":"確定"}]
[{"$f":"IF(P_16号様式1!C43=\"\",\"\",P_16号様式1!C43)","v":"＊（熊毛郡）計"},null,{"$f":"IF(P_16号様式1!D43=\"\",\"\",P_16号様式1!D43)","v":100},{"$f":"IF(P_16号様式1!E43<> \"\",TEXT(INT(P_16号様式1!E43),\"#,##0\"),\"\")","v":"13,097"},{"$f":"IF(P_16号様式1!E43= \"\",\"\",IF(VALUE(FIXED(P_16号様式1!E43,0,TRUE))<>P_16号様式1!E43,RIGHT(FIXED(P_16号様式1!E43,3,FALSE),4),\"\"))","v":""},{"$f":"IF(P_16号様式1!F43<> \"\",TEXT(INT(P_16号様式1!F43),\"#,##0\"),\"\")","v":"0"},{"$f":"IF(P_16号様式1!F43= \"\",\"\",IF(VALUE(FIXED(P_16号様式1!F43,0,TRUE))<>P_16号様式1!F43,RIGHT(FIXED(P_16号様式1!F43,3,FALSE),4),\"\"))","v":""},{"$f":"IF(P_16号様式1!G43<> \"\",TEXT(INT(P_16号様式1!G43),\"#,##0\"),\"\")","v":"0"},{"$f":"IF(P_16号様式1!G43= \"\",\"\",IF(VALUE(FIXED(P_16号様式1!G43,0,TRUE))<>P_16号様式1!G43,RIGHT(FIXED(P_16号様式1!G43,3,FALSE),4),\"\"))","v":""},{"$f":"IF(P_16号様式1!H43<> \"\",TEXT(INT(P_16号様式1!H43),\"#,##0\"),\"\")","v":"13,097"},{"$f":"IF(P_16号様式1!H43= \"\",\"\",IF(VALUE(FIXED(P_16号様式1!H43,0,TRUE))<>P_16号様式1!H43,RIGHT(FIXED(P_16号様式1!H43,3,FALSE),4),\"\"))","v":""},{"$f":"IF(P_16号様式1!I43<> \"\",TEXT(INT(P_16号様式1!I43),\"#,##0\"),\"\")","v":"94"},{"$f":"IF(P_16号様式1!I43= \"\",\"\",IF(VALUE(FIXED(P_16号様式1!I43,0,TRUE))<>P_16号様式1!I43,RIGHT(FIXED(P_16号様式1!I43,3,FALSE),4),\"\"))","v":""},{"$f":"IF(P_16号様式1!J43<> \"\",TEXT(INT(P_16号様式1!J43),\"#,##0\"),\"\")","v":"13,191"},{"$f":"IF(P_16号様式1!J43= \"\",\"\",IF(VALUE(FIXED(P_16号様式1!J43,0,TRUE))<>P_16号様式1!J43,RIGHT(FIXED(P_16号様式1!J43,3,FALSE),4),\"\"))","v":""},{"$f":"IF(P_16号様式1!K43<> \"\",TEXT(INT(P_16号様式1!K43),\"#,##0\"),\"\")","v":"2"},{"$f":"IF(P_16号様式1!K43= \"\",\"\",IF(VALUE(FIXED(P_16号様式1!K43,0,TRUE))<>P_16号様式1!K43,RIGHT(FIXED(P_16号様式1!K43,3,FALSE),4),\"\"))","v":""},{"$f":"IF(P_16号様式1!L43<> \"\",TEXT(INT(P_16号様式1!L43),\"#,##0\"),\"\")","v":"13,193"},{"$f":"IF(P_16号様式1!L43= \"\",\"\",IF(VALUE(FIXED(P_16号様式1!L43,0,TRUE))<>P_16号様式1!L43,RIGHT(FIXED(P_16号様式1!L43,3,FALSE),4),\"\"))","v":""},{"$f":"IF(P_16号様式1!M43=\"\",\"\",P_16号様式1!M43)","v":0.71260708058524702},null,{"$f":"IF(P_16号様式1!N43=\"\",\"\",P_16号様式1!N43)","v":"21:42:00"},null,{"$f":"IF(P_16号様式1!O43=\"\",\"\",P_16号様式1!O43)","v":"確定"}]
[{"$f":"IF(P_16号様式1!C44=\"\",\"\",P_16号様式1!C44)","v":"　大和村"},null,{"$f":"IF(P_16号様式1!D44=\"\",\"\",P_16号様式1!D44)","v":100},{"$f":"IF(P_16号様式1!E44<> \"\",TEXT(INT(P_16号様式1!E44),\"#,##0\"),\"\")","v":"909"},{"$f":"IF(P_16号様式1!E44= \"\",\"\",IF(VALUE(FIXED(P_16号様式1!E44,0,TRUE))<>P_16号様式1!E44,RIGHT(FIXED(P_16号様式1!E44,3,FALSE),4),\"\"))","v":""},{"$f":"IF(P_16号様式1!F44<> \"\",TEXT(INT(P_16号様式1!F44),\"#,##0\"),\"\")","v":"0"},{"$f":"IF(P_16号様式1!F44= \"\",\"\",IF(VALUE(FIXED(P_16号様式1!F44,0,TRUE))<>P_16号様式1!F44,RIGHT(FIXED(P_16号様式1!F44,3,FALSE),4),\"\"))","v":""},{"$f":"IF(P_16号様式1!G44<> \"\",TEXT(INT(P_16号様式1!G44),\"#,##0\"),\"\")","v":"0"},{"$f":"IF(P_16号様式1!G44= \"\",\"\",IF(VALUE(FIXED(P_16号様式1!G44,0,TRUE))<>P_16号様式1!G44,RIGHT(FIXED(P_16号様式1!G44,3,FALSE),4),\"\"))","v":""},{"$f":"IF(P_16号様式1!H44<> \"\",TEXT(INT(P_16号様式1!H44),\"#,##0\"),\"\")","v":"909"},{"$f":"IF(P_16号様式1!H44= \"\",\"\",IF(VALUE(FIXED(P_16号様式1!H44,0,TRUE))<>P_16号様式1!H44,RIGHT(FIXED(P_16号様式1!H44,3,FALSE),4),\"\"))","v":""},{"$f":"IF(P_16号様式1!I44<> \"\",TEXT(INT(P_16号様式1!I44),\"#,##0\"),\"\")","v":"9"},{"$f":"IF(P_16号様式1!I44= \"\",\"\",IF(VALUE(FIXED(P_16号様式1!I44,0,TRUE))<>P_16号様式1!I44,RIGHT(FIXED(P_16号様式1!I44,3,FALSE),4),\"\"))","v":""},{"$f":"IF(P_16号様式1!J44<> \"\",TEXT(INT(P_16号様式1!J44),\"#,##0\"),\"\")","v":"918"},{"$f":"IF(P_16号様式1!J44= \"\",\"\",IF(VALUE(FIXED(P_16号様式1!J44,0,TRUE))<>P_16号様式1!J44,RIGHT(FIXED(P_16号様式1!J44,3,FALSE),4),\"\"))","v":""},{"$f":"IF(P_16号様式1!K44<> \"\",TEXT(INT(P_16号様式1!K44),\"#,##0\"),\"\")","v":"0"},{"$f":"IF(P_16号様式1!K44= \"\",\"\",IF(VALUE(FIXED(P_16号様式1!K44,0,TRUE))<>P_16号様式1!K44,RIGHT(FIXED(P_16号様式1!K44,3,FALSE),4),\"\"))","v":""},{"$f":"IF(P_16号様式1!L44<> \"\",TEXT(INT(P_16号様式1!L44),\"#,##0\"),\"\")","v":"918"},{"$f":"IF(P_16号様式1!L44= \"\",\"\",IF(VALUE(FIXED(P_16号様式1!L44,0,TRUE))<>P_16号様式1!L44,RIGHT(FIXED(P_16号様式1!L44,3,FALSE),4),\"\"))","v":""},{"$f":"IF(P_16号様式1!M44=\"\",\"\",P_16号様式1!M44)","v":0.98039215686274495},null,{"$f":"IF(P_16号様式1!N44=\"\",\"\",P_16号様式1!N44)","v":"20:51:00"},null,{"$f":"IF(P_16号様式1!O44=\"\",\"\",P_16号様式1!O44)","v":"確定"}]
[]
["市　計",null,{"$f":"IF(P_16号様式1!P2=\"\",\"\",P_16号様式1!P2)","v":83.297093386925198},{"$f":"IF(P_16号様式1!Q2<> \"\",TEXT(INT(P_16号様式1!Q2),\"#,##0\"),\"\")","v":"473,129"},{"$f":"IF(P_16号様式1!Q2= \"\",\"\",IF(VALUE(FIXED(P_16号様式1!Q2,0,TRUE))<>P_16号様式1!Q2,RIGHT(FIXED(P_16号様式1!Q2,3,FALSE),4),\"\"))","v":""},{"$f":"IF(P_16号様式1!R2<> \"\",TEXT(INT(P_16号様式1!R2),\"#,##0\"),\"\")","v":""},{"$f":"IF(P_16号様式1!R2= \"\",\"\",IF(VALUE(FIXED(P_16号様式1!R2,0,TRUE))<>P_16号様式1!R2,RIGHT(FIXED(P_16号様式1!R2,3,FALSE),4),\"\"))","v":""},{"$f":"IF(P_16号様式1!S2<> \"\",TEXT(INT(P_16号様式1!S2),\"#,##0\"),\"\")","v":""},{"$f":"IF(P_16号様式1!S2= \"\",\"\",IF(VALUE(FIXED(P_16号様式1!S2,0,TRUE))<>P_16号様式1!S2,RIGHT(FIXED(P_16号様式1!S2,3,FALSE),4),\"\"))","v":""},{"$f":"IF(P_16号様式1!T2<> \"\",TEXT(INT(P_16号様式1!T2),\"#,##0\"),\"\")","v":""},{"$f":"IF(P_16号様式1!T2= \"\",\"\",IF(VALUE(FIXED(P_16号様式1!T2,0,TRUE))<>P_16号様式1!T2,RIGHT(FIXED(P_16号様式1!T2,3,FALSE),4),\"\"))","v":""},{"$f":"IF(P_16号様式1!U2<> \"\",TEXT(INT(P_16号様式1!U2),\"#,##0\"),\"\")","v":""},{"$f":"IF(P_16号様式1!U2= \"\",\"\",IF(VALUE(FIXED(P_16号様式1!U2,0,TRUE))<>P_16号様式1!U2,RIGHT(FIXED(P_16号様式1!U2,3,FALSE),4),\"\"))","v":""},{"$f":"IF(P_16号様式1!V2<> \"\",TEXT(INT(P_16号様式1!V2),\"#,##0\"),\"\")","v":""},{"$f":"IF(P_16号様式1!V2= \"\",\"\",IF(VALUE(FIXED(P_16号様式1!V2,0,TRUE))<>P_16号様式1!V2,RIGHT(FIXED(P_16号様式1!V2,3,FALSE),4),\"\"))","v":""},{"$f":"IF(P_16号様式1!W2<> \"\",TEXT(INT(P_16号様式1!W2),\"#,##0\"),\"\")","v":""},{"$f":"IF(P_16号様式1!W2= \"\",\"\",IF(VALUE(FIXED(P_16号様式1!W2,0,TRUE))<>P_16号様式1!W2,RIGHT(FIXED(P_16号様式1!W2,3,FALSE),4),\"\"))","v":""},{"$f":"IF(P_16号様式1!X2<> \"\",TEXT(INT(P_16号様式1!X2),\"#,##0\"),\"\")","v":""},{"$f":"IF(P_16号様式1!X2= \"\",\"\",IF(VALUE(FIXED(P_16号様式1!X2,0,TRUE))<>P_16号様式1!X2,RIGHT(FIXED(P_16号様式1!X2,3,FALSE),4),\"\"))","v":""},{"$f":"IF(P_16号様式1!Y2=\"\",\"\",P_16号様式1!Y2)","v":""},null,{"$f":"IF(P_16号様式1!Z2=\"\",\"\",P_16号様式1!Z2)","v":""},null,{"$f":"IF(P_16号様式1!AA2=\"\",\"\",P_16号様式1!AA2)","v":""}]
["町村計",null,{"$f":"IF(P_16号様式1!AB2=\"\",\"\",P_16号様式1!AB2)","v":100},{"$f":"IF(P_16号様式1!AC2<> \"\",TEXT(INT(P_16号様式1!AC2),\"#,##0\"),\"\")","v":"90,454"},{"$f":"IF(P_16号様式1!AC2= \"\",\"\",IF(VALUE(FIXED(P_16号様式1!AC2,0,TRUE))<>P_16号様式1!AC2,RIGHT(FIXED(P_16号様式1!AC2,3,FALSE),4),\"\"))","v":""},{"$f":"IF(P_16号様式1!AD2<> \"\",TEXT(INT(P_16号様式1!AD2),\"#,##0\"),\"\")","v":"0"},{"$f":"IF(P_16号様式1!AD2= \"\",\"\",IF(VALUE(FIXED(P_16号様式1!AD2,0,TRUE))<>P_16号様式1!AD2,RIGHT(FIXED(P_16号様式1!AD2,3,FALSE),4),\"\"))","v":""},{"$f":"IF(P_16号様式1!AE2<> \"\",TEXT(INT(P_16号様式1!AE2),\"#,##0\"),\"\")","v":"0"},{"$f":"IF(P_16号様式1!AE2= \"\",\"\",IF(VALUE(FIXED(P_16号様式1!AE2,0,TRUE))<>P_16号様式1!AE2,RIGHT(FIXED(P_16号様式1!AE2,3,FALSE),4),\"\"))","v":""},{"$f":"IF(P_16号様式1!AF2<> \"\",TEXT(INT(P_16号様式1!AF2),\"#,##0\"),\"\")","v":"90,454"},{"$f":"IF(P_16号様式1!AF2= \"\",\"\",IF(VALUE(FIXED(P_16号様式1!AF2,0,TRUE))<>P_16号様式1!AF2,RIGHT(FIXED(P_16号様式1!AF2,3,FALSE),4),\"\"))","v":""},{"$f":"IF(P_16号様式1!AG2<> \"\",TEXT(INT(P_16号様式1!AG2),\"#,##0\"),\"\")","v":"687"},{"$f":"IF(P_16号様式1!AG2= \"\",\"\",IF(VALUE(FIXED(P_16号様式1!AG2,0,TRUE))<>P_16号様式1!AG2,RIGHT(FIXED(P_16号様式1!AG2,3,FALSE),4),\"\"))","v":""},{"$f":"IF(P_16号様式1!AH2<> \"\",TEXT(INT(P_16号様式1!AH2),\"#,##0\"),\"\")","v":"91,141"},{"$f":"IF(P_16号様式1!AH2= \"\",\"\",IF(VALUE(FIXED(P_16号様式1!AH2,0,TRUE))<>P_16号様式1!AH2,RIGHT(FIXED(P_16号様式1!AH2,3,FALSE),4),\"\"))","v":""},{"$f":"IF(P_16号様式1!AI2<> \"\",TEXT(INT(P_16号様式1!AI2),\"#,##0\"),\"\")","v":"3"},{"$f":"IF(P_16号様式1!AI2= \"\",\"\",IF(VALUE(FIXED(P_16号様式1!AI2,0,TRUE))<>P_16号様式1!AI2,RIGHT(FIXED(P_16号様式1!AI2,3,FALSE),4),\"\"))","v":""},{"$f":"IF(P_16号様式1!AJ2<> \"\",TEXT(INT(P_16号様式1!AJ2),\"#,##0\"),\"\")","v":"91,144"},{"$f":"IF(P_16号様式1!AJ2= \"\",\"\",IF(VALUE(FIXED(P_16号様式1!AJ2,0,TRUE))<>P_16号様式1!AJ2,RIGHT(FIXED(P_16号様式1!AJ2,3,FALSE),4),\"\"))","v":""},{"$f":"IF(P_16号様式1!AK2=\"\",\"\",P_16号様式1!AK2)","v":0.75377711458070495},null,{"$f":"IF(P_16号様式1!AL2=\"\",\"\",P_16号様式1!AL2)","v":"22:11:00"},null,{"$f":"IF(P_16号様式1!AM2=\"\",\"\",P_16号様式1!AM2)","v":"確定"}]
["県計",null,{"$f":"IF(P_16号様式1!AN2=\"\",\"\",P_16号様式1!AN2)","v":85.597172888618303},{"$f":"IF(P_16号様式1!AO2<> \"\",TEXT(INT(P_16号様式1!AO2),\"#,##0\"),\"\")","v":"563,583"},{"$f":"IF(P_16号様式1!AO2= \"\",\"\",IF(VALUE(FIXED(P_16号様式1!AO2,0,TRUE))<>P_16号様式1!AO2,RIGHT(FIXED(P_16号様式1!AO2,3,FALSE),4),\"\"))","v":""},{"$f":"IF(P_16号様式1!AP2<> \"\",TEXT(INT(P_16号様式1!AP2),\"#,##0\"),\"\")","v":""},{"$f":"IF(P_16号様式1!AP2= \"\",\"\",IF(VALUE(FIXED(P_16号様式1!AP2,0,TRUE))<>P_16号様式1!AP2,RIGHT(FIXED(P_16号様式1!AP2,3,FALSE),4),\"\"))","v":""},{"$f":"IF(P_16号様式1!AQ2<> \"\",TEXT(INT(P_16号様式1!AQ2),\"#,##0\"),\"\")","v":""},{"$f":"IF(P_16号様式1!AQ2= \"\",\"\",IF(VALUE(FIXED(P_16号様式1!AQ2,0,TRUE))<>P_16号様式1!AQ2,RIGHT(FIXED(P_16号様式1!AQ2,3,FALSE),4),\"\"))","v":""},{"$f":"IF(P_16号様式1!AR2<> \"\",TEXT(INT(P_16号様式1!AR2),\"#,##0\"),\"\")","v":""},{"$f":"IF(P_16号様式1!AR2= \"\",\"\",IF(VALUE(FIXED(P_16号様式1!AR2,0,TRUE))<>P_16号様式1!AR2,RIGHT(FIXED(P_16号様式1!AR2,3,FALSE),4),\"\"))","v":""},{"$f":"IF(P_16号様式1!AS2<> \"\",TEXT(INT(P_16号様式1!AS2),\"#,##0\"),\"\")","v":""},{"$f":"IF(P_16号様式1!AS2= \"\",\"\",IF(VALUE(FIXED(P_16号様式1!AS2,0,TRUE))<>P_16号様式1!AS2,RIGHT(FIXED(P_16号様式1!AS2,3,FALSE),4),\"\"))","v":""},{"$f":"IF(P_16号様式1!AT2<> \"\",TEXT(INT(P_16号様式1!AT2),\"#,##0\"),\"\")","v":""},{"$f":"IF(P_16号様式1!AT2= \"\",\"\",IF(VALUE(FIXED(P_16号様式1!AT2,0,TRUE))<>P_16号様式1!AT2,RIGHT(FIXED(P_16号様式1!AT2,3,FALSE),4),\"\"))","v":""},{"$f":"IF(P_16号様式1!AU2<> \"\",TEXT(INT(P_16号様式1!AU2),\"#,##0\"),\"\")","v":""},{"$f":"IF(P_16号様式1!AU2= \"\",\"\",IF(VALUE(FIXED(P_16号様式1!AU2,0,TRUE))<>P_16号様式1!AU2,RIGHT(FIXED(P_16号様式1!AU2,3,FALSE),4),\"\"))","v":""},{"$f":"IF(P_16号様式1!AV2<> \"\",TEXT(INT(P_16号様式1!AV2),\"#,##0\"),\"\")","v":""},{"$f":"IF(P_16号様式1!AV2= \"\",\"\",IF(VALUE(FIXED(P_16号様式1!AV2,0,TRUE))<>P_16号様式1!AV2,RIGHT(FIXED(P_16号様式1!AV2,3,FALSE),4),\"\"))","v":""},{"$f":"IF(P_16号様式1!AW2=\"\",\"\",P_16号様式1!AW2)","v":""},null,{"$f":"IF(P_16号様式1!AX2=\"\",\"\",P_16号様式1!AX2)","v":""},null,{"$f":"IF(P_16号様式1!AY2=\"\",\"\",P_16号様式1!AY2)","v":""}]
["第16号  様式",null,null,null,null,null,null,null,null,null,null,null,null,null,null,null,null,null,null,null,null,null,null,{"$f":"IF(P_16号様式1!A45=\"\",\" ページ\", P_16号様式1!A45 & \"ページ\")","v":"2ページ"}]
[null,null,null,null,null,null,null,null,"開　 票　 速 　報"]
[null,{"$f":"IF(パラメタシート!B1=\"\",\"\",パラメタシート!B1)","v":"2020-07-12"}]
[null,{"$f":"IF(P_16号様式1!AZ45=\"\",\"\",P_16号様式1!AZ45)","v":"鹿児島県知事選挙"},null,null,null,null,null,null,null,null,null,null,{"$f":"IF(P_16号様式1!BA45=\"0\",\"即日中間速報\",\"翌日中間速報\")","v":"即日中間速報"},null,{"$f":"IF(P_16号様式1!BB45=\"\",\"第　　　回\",\"第 　\" & P_16号様式1!BB45 & \"　回\")","v":"第 　5　回"},null,{"$f":"IF(P_16号様式1!BC45=\"\",\"     時    分　現在\",P_16号様式1!BC45)","v":"23:00:00"},null,null,null,"即日確定開票率",null,{"$f":"IF(P_16号様式1!BF45=\"\",\"\",P_16号様式1!BF45)","v":85.597172888618303},null,"%"]
[null,null,null,null,null,null,null,null,null,null,null,null,"結了報告",null,null,null,{"$f":"IF(P_16号様式1!AX45=\"\",\"     時    分　結了\",P_16号様式1!AX45)","v":"     時    分　結了"},null,null,null,"確定全体開票率",null,{"$f":"IF(P_16号様式1!BG45=\"\",\"\",P_16号様式1!BG45)","v":85.597172888618303},null,"%"]
[null,null,null,null,null,null,null,null,null,null,null,null,null,null,null,null,null,null,null,null,null,null,null,"鹿 児 島 県"]
["市 区 町 村 名",null,null,"(ア)",null,"(イ)",null,"(ウ)",null,"(エ)",null,"(オ)",null,"(カ)",null,"(キ)",null,"(ク)"]
[null,null,"開票率","候 補 者 得 票",null,"あん分の際切り",null,"いずれの候補者",null,"有 効 投 票 数",null,"無 効 投 票 数",null,"投 票 総 数",null,"持ち帰り・不受理",null,"投票者総数",null,"無効投票率",null,"開 票 確 定",null,"確 定 表 示"]
[null,null,"％","数 の 合 計",null,"捨 て た 票 数",null,"にも属しない票数",null,"(ア)＋(イ)＋(ウ)",null,null,null,"(エ)＋(オ)",null,"その他",null,"(カ)＋(キ)",null,"(オ)／(カ)％",null,"時　 刻"]
[{"$f":"IF(P_16号様式1!C45=\"\",\"\",P_16号様式1!C45)","v":"　宇検村"},null,{"$f":"IF(P_16号様式1!D45=\"\",\"\",P_16号様式1!D45)","v":100},{"$f":"IF(P_16号様式1!E45<> \"\",TEXT(INT(P_16号様式1!E45),\"#,##0\"),\"\")","v":"1,158"},{"$f":"IF(P_16号様式1!E45= \"\",\"\",IF(VALUE(FIXED(P_16号様式1!E45,0,TRUE))<>P_16号様式1!E45,RIGHT(FIXED(P_16号様式1!E45,3,FALSE),4),\"\"))","v":""},{"$f":"IF(P_16号様式1!F45<> \"\",TEXT(INT(P_16号様式1!F45),\"#,##0\"),\"\")","v":"0"},{"$f":"IF(P_16号様式1!F45= \"\",\"\",IF(VALUE(FIXED(P_16号様式1!F45,0,TRUE))<>P_16号様式1!F45,RIGHT(FIXED(P_16号様式1!F45,3,FALSE),4),\"\"))","v":""},{"$f":"IF(P_16号様式1!G45<> \"\",TEXT(INT(P_16号様式1!G45),\"#,##0\"),\"\")","v":"0"},{"$f":"IF(P_16号様式1!G45= \"\",\"\",IF(VALUE(FIXED(P_16号様式1!G45,0,TRUE))<>P_16号様式1!G45,RIGHT(FIXED(P_16号様式1!G45,3,FALSE),4),\"\"))","v":""},{"$f":"IF(P_16号様式1!H45<> \"\",TEXT(INT(P_16号様式1!H45),\"#,##0\"),\"\")","v":"1,158"},{"$f":"IF(P_16号様式1!H45= \"\",\"\",IF(VALUE(FIXED(P_16号様式1!H45,0,TRUE))<>P_16号様式1!H45,RIGHT(FIXED(P_16号様式1!H45,3,FALSE),4),\"\"))","v":""},{"$f":"IF(P_16号様式1!I45<> \"\",TEXT(INT(P_16号様式1!I45),\"#,##0\"),\"\")","v":"18"},{"$f":"IF(P_16号様式1!I45= \"\",\"\",IF(VALUE(FIXED(P_16号様式1!I45,0,TRUE))<>P_16号様式1!I45,RIGHT(FIXED(P_16号様式1!I45,3,FALSE),4),\"\"))","v":""},{"$f":"IF(P_16号様式1!J45<> \"\",TEXT(INT(P_16号様式1!J45),\"#,##0\"),\"\")","v":"1,176"},{"$f":"IF(P_16号様式1!J45= \"\",\"\",IF(VALUE(FIXED(P_16号様式1!J45,0,TRUE))<>P_16号様式1!J45,RIGHT(FIXED(P_16号様式1!J45,3,FALSE),4),\"\"))","v":""},{"$f":"IF(P_16号様式1!K45<> \"\",TEXT(INT(P_16号様式1!K45),\"#,##0\"),\"\")","v":"0"},{"$f":"IF(P_16号様式1!K45= \"\",\"\",IF(VALUE(FIXED(P_16号様式1!K45,0,TRUE))<>P_16号様式1!K45,RIGHT(FIXED(P_16号様式1!K45,3,FALSE),4),\"\"))","v":""},{"$f":"IF(P_16号様式1!L45<> \"\",TEXT(INT(P_16号様式1!L45),\"#,##0\"),\"\")","v":"1,176"},{"$f":"IF(P_16号様式1!L45= \"\",\"\",IF(VALUE(FIXED(P_16号様式1!L45,0,TRUE))<>P_16号様式1!L45,RIGHT(FIXED(P_16号様式1!L45,3,FALSE),4),\"\"))","v":""},{"$f":"IF(P_16号様式1!M45=\"\",\"\",P_16号様式1!M45)","v":1.53061224489796},null,{"$f":"IF(P_16号様式1!N45=\"\",\"\",P_16号様式1!N45)","v":"21:41:00"},null,{"$f":"IF(P_16号様式1!O45=\"\",\"\",P_16号様式1!O45)","v":"確定"}]
[{"$f":"IF(P_16号様式1!C46=\"\",\"\",P_16号様式1!C46)","v":"　瀬戸内町"},null,{"$f":"IF(P_16号様式1!D46=\"\",\"\",P_16号様式1!D46)","v":100},{"$f":"IF(P_16号様式1!E46<> \"\",TEXT(INT(P_16号様式1!E46),\"#,##0\"),\"\")","v":"4,721"},{"$f":"IF(P_16号様式1!E46= \"\",\"\",IF(VALUE(FIXED(P_16号様式1!E46,0,TRUE))<>P_16号様式1!E46,RIGHT(FIXED(P_16号様式1!E46,3,FALSE),4),\"\"))","v":""},{"$f":"IF(P_16号様式1!F46<> \"\",TEXT(INT(P_16号様式1!F46),\"#,##0\"),\"\")","v":"0"},{"$f":"IF(P_16号様式1!F46= \"\",\"\",IF(VALUE(FIXED(P_16号様式1!F46,0,TRUE))<>P_16号様式1!F46,RIGHT(FIXED(P_16号様式1!F46,3,FALSE),4),\"\"))","v":""},{"$f":"IF(P_16号様式1!G46<> \"\",TEXT(INT(P_16号様式1!G46),\"#,##0\"),\"\")","v":"0"},{"$f":"IF(P_16号様式1!G46= \"\",\"\",IF(VALUE(FIXED(P_16号様式1!G46,0,TRUE))<>P_16号様式1!G46,RIGHT(FIXED(P_16号様式1!G46,3,FALSE),4),\"\"))","v":""},{"$f":"IF(P_16号様式1!H46<> \"\",TEXT(INT(P_16号様式1!H46),\"#,##0\"),\"\")","v":"4,721"},{"$f":"IF(P_16号様式1!H46= \"\",\"\",IF(VALUE(FIXED(P_16号様式1!H46,0,TRUE))<>P_16号様式1!H46,RIGHT(FIXED(P_16号様式1!H46,3,FALSE),4),\"\"))","v":""},{"$f":"IF(P_16号様式1!I46<> \"\",TEXT(INT(P_16号様式1!I46),\"#,##0\"),\"\")","v":"73"},{"$f":"IF(P_16号様式1!I46= \"\",\"\",IF(VALUE(FIXED(P_16号様式1!I46,0,TRUE))<>P_16号様式1!I46,RIGHT(FIXED(P_16号様式1!I46,3,FALSE),4),\"\"))","v":""},{"$f":"IF(P_16号様式1!J46<> \"\",TEXT(INT(P_16号様式1!J46),\"#,##0\"),\"\")","v":"4,794"},{"$f":"IF(P_16号様式1!J46= \"\",\"\",IF(VALUE(FIXED(P_16号様式1!J46,0,TRUE))<>P_16号様式1!J46,RIGHT(FIXED(P_16号様式1!J46,3,FALSE),4),\"\"))","v":""},{"$f":"IF(P_16号様式1!K46<> \"\",TEXT(INT(P_16号様式1!K46),\"#,##0\"),\"\")","v":"0"},{"$f":"IF(P_16号様式1!K46= \"\",\"\",IF(VALUE(FIXED(P_16号様式1!K46,0,TRUE))<>P_16号様式1!K46,RIGHT(FIXED(P_16号様式1!K46,3,FALSE),4),\"\"))","v":""},{"$f":"IF(P_16号様式1!L46<> \"\",TEXT(INT(P_16号様式1!L46),\"#,##0\"),\"\")","v":"4,794"},{"$f":"IF(P_16号様式1!L46= \"\",\"\",IF(VALUE(FIXED(P_16号様式1!L46,0,TRUE))<>P_16号様式1!L46,RIGHT(FIXED(P_16号様式1!L46,3,FALSE),4),\"\"))","v":""},{"$f":"IF(P_16号様式1!M46=\"\",\"\",P_16号様式1!M46)","v":1.52273675427618},null,{"$f":"IF(P_16号様式1!N46=\"\",\"\",P_16号様式1!N46)","v":"21:14:00"},null,{"$f":"IF(P_16号様式1!O46=\"\",\"\",P_16号様式1!O46)","v":"確定"}]
[{"$f":"IF(P_16号様式1!C47=\"\",\"\",P_16号様式1!C47)","v":"　龍郷町"},null,{"$f":"IF(P_16号様式1!D47=\"\",\"\",P_16号様式1!D47)","v":100},{"$f":"IF(P_16号様式1!E47<> \"\",TEXT(INT(P_16号様式1!E47),\"#,##0\"),\"\")","v":"3,101"},{"$f":"IF(P_16号様式1!E47= \"\",\"\",IF(VALUE(FIXED(P_16号様式1!E47,0,TRUE))<>P_16号様式1!E47,RIGHT(FIXED(P_16号様式1!E47,3,FALSE),4),\"\"))","v":""},{"$f":"IF(P_16号様式1!F47<> \"\",TEXT(INT(P_16号様式1!F47),\"#,##0\"),\"\")","v":"0"},{"$f":"IF(P_16号様式1!F47= \"\",\"\",IF(VALUE(FIXED(P_16号様式1!F47,0,TRUE))<>P_16号様式1!F47,RIGHT(FIXED(P_16号様式1!F47,3,FALSE),4),\"\"))","v":""},{"$f":"IF(P_16号様式1!G47<> \"\",TEXT(INT(P_16号様式1!G47),\"#,##0\"),\"\")","v":"0"},{"$f":"IF(P_16号様式1!G47= \"\",\"\",IF(VALUE(FIXED(P_16号様式1!G47,0,TRUE))<>P_16号様式1!G47,RIGHT(FIXED(P_16号様式1!G47,3,FALSE),4),\"\"))","v":""},{"$f":"IF(P_16号様式1!H47<> \"\",TEXT(INT(P_16号様式1!H47),\"#,##0\"),\"\")","v":"3,101"},{"$f":"IF(P_16号様式1!H47= \"\",\"\",IF(VALUE(FIXED(P_16号様式1!H47,0,TRUE))<>P_16号様式1!H47,RIGHT(FIXED(P_16号様式1!H47,3,FALSE),4),\"\"))","v":""},{"$f":"IF(P_16号様式1!I47<> \"\",TEXT(INT(P_16号様式1!I47),\"#,##0\"),\"\")","v":"25"},{"$f":"IF(P_16号様式1!I47= \"\",\"\",IF(VALUE(FIXED(P_16号様式1!I47,0,TRUE))<>P_16号様式1!I47,RIGHT(FIXED(P_16号様式1!I47,3,FALSE),4),\"\"))","v":""},{"$f":"IF(P_16号様式1!J47<> \"\",TEXT(INT(P_16号様式1!J47),\"#,##0\"),\"\")","v":"3,126"},{"$f":"IF(P_16号様式1!J47= \"\",\"\",IF(VALUE(FIXED(P_16号様式1!J47,0,TRUE))<>P_16号様式1!J47,RIGHT(FIXED(P_16号様式1!J47,3,FALSE),4),\"\"))","v":""},{"$f":"IF(P_16号様式1!K47<> \"\",TEXT(INT(P_16号様式1!K47),\"#,##0\"),\"\")","v":"0"},{"$f":"IF(P_16号様式1!K47= \"\",\"\",IF(VALUE(FIXED(P_16号様式1!K47,0,TRUE))<>P_16号様式1!K47,RIGHT(FIXED(P_16号様式1!K47,3,FALSE),4),\"\"))","v":""},{"$f":"IF(P_16号様式1!L47<> \"\",TEXT(INT(P_16号様式1!L47),\"#,##0\"),\"\")","v":"3,126"},{"$f":"IF(P_16号様式1!L47= \"\",\"\",IF(VALUE(FIXED(P_16号様式1!L47,0,TRUE))<>P_16号様式1!L47,RIGHT(FIXED(P_16号様式1!L47,3,FALSE),4),\"\"))","v":""},{"$f":"IF(P_16号様式1!M47=\"\",\"\",P_16号様式1!M47)","v":0.79974408189379398},null,{"$f":"IF(P_16号様式1!N47=\"\",\"\",P_16号様式1!N47)","v":"21:14:00"},null,{"$f":"IF(P_16号様式1!O47=\"\",\"\",P_16号様式1!O47)","v":"確定"}]
[{"$f":"IF(P_16号様式1!C48=\"\",\"\",P_16号様式1!C48)","v":"　喜界町"},null,{"$f":"IF(P_16号様式1!D48=\"\",\"\",P_16号様式1!D48)","v":100},{"$f":"IF(P_16号様式1!E48<> \"\",TEXT(INT(P_16号様式1!E48),\"#,##0\"),\"\")","v":"3,460"},{"$f":"IF(P_16号様式1!E48= \"\",\"\",IF(VALUE(FIXED(P_16号様式1!E48,0,TRUE))<>P_16号様式1!E48,RIGHT(FIXED(P_16号様式1!E48,3,FALSE),4),\"\"))","v":""},{"$f":"IF(P_16号様式1!F48<> \"\",TEXT(INT(P_16号様式1!F48),\"#,##0\"),\"\")","v":"0"},{"$f":"IF(P_16号様式1!F48= \"\",\"\",IF(VALUE(FIXED(P_16号様式1!F48,0,TRUE))<>P_16号様式1!F48,RIGHT(FIXED(P_16号様式1!F48,3,FALSE),4),\"\"))","v":""},{"$f":"IF(P_16号様式1!G48<> \"\",TEXT(INT(P_16号様式1!G48),\"#,##0\"),\"\")","v":"0"},{"$f":"IF(P_16号様式1!G48= \"\",\"\",IF(VALUE(FIXED(P_16号様式1!G48,0,TRUE))<>P_16号様式1!G48,RIGHT(FIXED(P_16号様式1!G48,3,FALSE),4),\"\"))","v":""},{"$f":"IF(P_16号様式1!H48<> \"\",TEXT(INT(P_16号様式1!H48),\"#,##0\"),\"\")","v":"3,460"},{"$f":"IF(P_16号様式1!H48= \"\",\"\",IF(VALUE(FIXED(P_16号様式1!H48,0,TRUE))<>P_16号様式1!H48,RIGHT(FIXED(P_16号様式1!H48,3,FALSE),4),\"\"))","v":""},{"$f":"IF(P_16号様式1!I48<> \"\",TEXT(INT(P_16号様式1!I48),\"#,##0\"),\"\")","v":"34"},{"$f":"IF(P_16号様式1!I48= \"\",\"\",IF(VALUE(FIXED(P_16号様式1!I48,0,TRUE))<>P_16号様式1!I48,RIGHT(FIXED(P_16号様式1!I48,3,FALSE),4),\"\"))","v":""},{"$f":"IF(P_16号様式1!J48<> \"\",TEXT(INT(P_16号様式1!J48),\"#,##0\"),\"\")","v":"3,494"},{"$f":"IF(P_16号様式1!J48= \"\",\"\",IF(VALUE(FIXED(P_16号様式1!J48,0,TRUE))<>P_16号様式1!J48,RIGHT(FIXED(P_16号様式1!J48,3,FALSE),4),\"\"))","v":""},{"$f":"IF(P_16号様式1!K48<> \"\",TEXT(INT(P_16号様式1!K48),\"#,##0\"),\"\")","v":"0"},{"$f":"IF(P_16号様式1!K48= \"\",\"\",IF(VALUE(FIXED(P_16号様式1!K48,0,TRUE))<>P_16号様式1!K48,RIGHT(FIXED(P_16号様式1!K48,3,FALSE),4),\"\"))","v":""},{"$f":"IF(P_16号様式1!L48<> \"\",TEXT(INT(P_16号様式1!L48),\"#,##0\"),\"\")","v":"3,494"},{"$f":"IF(P_16号様式1!L48= \"\",\"\",IF(VALUE(FIXED(P_16号様式1!L48,0,TRUE))<>P_16号様式1!L48,RIGHT(FIXED(P_16号様式1!L48,3,FALSE),4),\"\"))","v":""},{"$f":"IF(P_16号様式1!M48=\"\",\"\",P_16号様式1!M48)","v":0.97309673726388102},null,{"$f":"IF(P_16号様式1!N48=\"\",\"\",P_16号様式1!N48)","v":"21:19:00"},null,{"$f":"IF(P_16号様式1!O48=\"\",\"\",P_16号様式1!O48)","v":"確定"}]
[{"$f":"IF(P_16号様式1!C49=\"\",\"\",P_16号様式1!C49)","v":"　徳之島町"},null,{"$f":"IF(P_16号様式1!D49=\"\",\"\",P_16号様式1!D49)","v":100},{"$f":"IF(P_16号様式1!E49<> \"\",TEXT(INT(P_16号様式1!E49),\"#,##0\"),\"\")","v":"5,030"},{"$f":"IF(P_16号様式1!E49= \"\",\"\",IF(VALUE(FIXED(P_16号様式1!E49,0,TRUE))<>P_16号様式1!E49,RIGHT(FIXED(P_16号様式1!E49,3,FALSE),4),\"\"))","v":""},{"$f":"IF(P_16号様式1!F49<> \"\",TEXT(INT(P_16号様式1!F49),\"#,##0\"),\"\")","v":"0"},{"$f":"IF(P_16号様式1!F49= \"\",\"\",IF(VALUE(FIXED(P_16号様式1!F49,0,TRUE))<>P_16号様式1!F49,RIGHT(FIXED(P_16号様式1!F49,3,FALSE),4),\"\"))","v":""},{"$f":"IF(P_16号様式1!G49<> \"\",TEXT(INT(P_16号様式1!G49),\"#,##0\"),\"\")","v":"0"},{"$f":"IF(P_16号様式1!G49= \"\",\"\",IF(VALUE(FIXED(P_16号様式1!G49,0,TRUE))<>P_16号様式1!G49,RIGHT(FIXED(P_16号様式1!G49,3,FALSE),4),\"\"))","v":""},{"$f":"IF(P_16号様式1!H49<> \"\",TEXT(INT(P_16号様式1!H49),\"#,##0\"),\"\")","v":"5,030"},{"$f":"IF(P_16号様式1!H49= \"\",\"\",IF(VALUE(FIXED(P_16号様式1!H49,0,TRUE))<>P_16号様式1!H49,RIGHT(FIXED(P_16号様式1!H49,3,FALSE),4),\"\"))","v":""},{"$f":"IF(P_16号様式1!I49<> \"\",TEXT(INT(P_16号様式1!I49),\"#,##0\"),\"\")","v":"25"},{"$f":"IF(P_16号様式1!I49= \"\",\"\",IF(VALUE(FIXED(P_16号様式1!I49,0,TRUE))<>P_16号様式1!I49,RIGHT(FIXED(P_16号様式1!I49,3,FALSE),4),\"\"))","v":""},{"$f":"IF(P_16号様式1!J49<> \"\",TEXT(INT(P_16号様式1!J49),\"#,##0\"),\"\")","v":"5,055"},{"$f":"IF(P_16号様式1!J49= \"\",\"\",IF(VALUE(FIXED(P_16号様式1!J49,0,TRUE))<>P_16号様式1!J49,RIGHT(FIXED(P_16号様式1!J49,3,FALSE),4),\"\"))","v":""},{"$f":"IF(P_16号様式1!K49<> \"\",TEXT(INT(P_16号様式1!K49),\"#,##0\"),\"\")","v":"0"},{"$f":"IF(P_16号様式1!K49= \"\",\"\",IF(VALUE(FIXED(P_16号様式1!K49,0,TRUE))<>P_16号様式1!K49,RIGHT(FIXED(P_16号様式1!K49,3,FALSE),4),\"\"))","v":""},{"$f":"IF(P_16号様式1!L49<> \"\",TEXT(INT(P_16号様式1!L49),\"#,##0\"),\"\")","v":"5,055"},{"$f":"IF(P_16号様式1!L49= \"\",\"\",IF(VALUE(FIXED(P_16号様式1!L49,0,TRUE))<>P_16号様式1!L49,RIGHT(FIXED(P_16号様式1!L49,3,FALSE),4),\"\"))","v":""},{"$f":"IF(P_16号様式1!M49=\"\",\"\",P_16号様式1!M49)","v":0.49455984174085099},null,{"$f":"IF(P_16号様式1!N49=\"\",\"\",P_16号様式1!N49)","v":"22:11:00"},null,{"$f":"IF(P_16号様式1!O49=\"\",\"\",P_16号様式1!O49)","v":"確定"}]
[{"$f":"IF(P_16号様式1!C50=\"\",\"\",P_16号様式1!C50)","v":"　天城町"},null,{"$f":"IF(P_16号様式1!D50=\"\",\"\",P_16号様式1!D50)","v":100},{"$f":"IF(P_16号様式1!E50<> \"\",TEXT(INT(P_16号様式1!E50),\"#,##0\"),\"\")","v":"3,045"},{"$f":"IF(P_16号様式1!E50= \"\",\"\",IF(VALUE(FIXED(P_16号様式1!E50,0,TRUE))<>P_16号様式1!E50,RIGHT(FIXED(P_16号様式1!E50,3,FALSE),4),\"\"))","v":""},{"$f":"IF(P_16号様式1!F50<> \"\",TEXT(INT(P_16号様式1!F50),\"#,##0\"),\"\")","v":"0"},{"$f":"IF(P_16号様式1!F50= \"\",\"\",IF(VALUE(FIXED(P_16号様式1!F50,0,TRUE))<>P_16号様式1!F50,RIGHT(FIXED(P_16号様式1!F50,3,FALSE),4),\"\"))","v":""},{"$f":"IF(P_16号様式1!G50<> \"\",TEXT(INT(P_16号様式1!G50),\"#,##0\"),\"\")","v":"0"},{"$f":"IF(P_16号様式1!G50= \"\",\"\",IF(VALUE(FIXED(P_16号様式1!G50,0,TRUE))<>P_16号様式1!G50,RIGHT(FIXED(P_16号様式1!G50,3,FALSE),4),\"\"))","v":""},{"$f":"IF(P_16号様式1!H50<> \"\",TEXT(INT(P_16号様式1!H50),\"#,##0\"),\"\")","v":"3,045"},{"$f":"IF(P_16号様式1!H50= \"\",\"\",IF(VALUE(FIXED(P_16号様式1!H50,0,TRUE))<>P_16号様式1!H50,RIGHT(FIXED(P_16号様式1!H50,3,FALSE),4),\"\"))","v":""},{"$f":"IF(P_16号様式1!I50<> \"\",TEXT(INT(P_16号様式1!I50),\"#,##0\"),\"\")","v":"29"},{"$f":"IF(P_16号様式1!I50= \"\",\"\",IF(VALUE(FIXED(P_16号様式1!I50,0,TRUE))<>P_16号様式1!I50,RIGHT(FIXED(P_16号様式1!I50,3,FALSE),4),\"\"))","v":""},{"$f":"IF(P_16号様式1!J50<> \"\",TEXT(INT(P_16号様式1!J50),\"#,##0\"),\"\")","v":"3,074"},{"$f":"IF(P_16号様式1!J50= \"\",\"\",IF(VALUE(FIXED(P_16号様式1!J50,0,TRUE))<>P_16号様式1!J50,RIGHT(FIXED(P_16号様式1!J50,3,FALSE),4),\"\"))","v":""},{"$f":"IF(P_16号様式1!K50<> \"\",TEXT(INT(P_16号様式1!K50),\"#,##0\"),\"\")","v":"0"},{"$f":"IF(P_16号様式1!K50= \"\",\"\",IF(VALUE(FIXED(P_16号様式1!K50,0,TRUE))<>P_16号様式1!K50,RIGHT(FIXED(P_16号様式1!K50,3,FALSE),4),\"\"))","v":""},{"$f":"IF(P_16号様式1!L50<> \"\",TEXT(INT(P_16号様式1!L50),\"#,##0\"),\"\")","v":"3,074"},{"$f":"IF(P_16号様式1!L50= \"\",\"\",IF(VALUE(FIXED(P_16号様式1!L50,0,TRUE))<>P_16号様式1!L50,RIGHT(FIXED(P_16号様式1!L50,3,FALSE),4),\"\"))","v":""},{"$f":"IF(P_16号様式1!M50=\"\",\"\",P_16号様式1!M50)","v":0.94339622641509402},null,{"$f":"IF(P_16号様式1!N50=\"\",\"\",P_16号様式1!N50)","v":"20:49:00"},null,{"$f":"IF(P_16号様式1!O50=\"\",\"\",P_16号様式1!O50)","v":"確定"}]
[{"$f":"IF(P_16号様式1!C51=\"\",\"\",P_16号様式1!C51)","v":"　伊仙町"},null,{"$f":"IF(P_16号様式1!D51=\"\",\"\",P_16号様式1!D51)","v":100},{"$f":"IF(P_16号様式1!E51<> \"\",TEXT(INT(P_16号様式1!E51),\"#,##0\"),\"\")","v":"3,368"},{"$f":"IF(P_16号様式1!E51= \"\",\"\",IF(VALUE(FIXED(P_16号様式1!E51,0,TRUE))<>P_16号様式1!E51,RIGHT(FIXED(P_16号様式1!E51,3,FALSE),4),\"\"))","v":""},{"$f":"IF(P_16号様式1!F51<> \"\",TEXT(INT(P_16号様式1!F51),\"#,##0\"),\"\")","v":"0"},{"$f":"IF(P_16号様式1!F51= \"\",\"\",IF(VALUE(FIXED(P_16号様式1!F51,0,TRUE))<>P_16号様式1!F51,RIGHT(FIXED(P_16号様式1!F51,3,FALSE),4),\"\"))","v":""},{"$f":"IF(P_16号様式1!G51<> \"\",TEXT(INT(P_16号様式1!G51),\"#,##0\"),\"\")","v":"0"},{"$f":"IF(P_16号様式1!G51= \"\",\"\",IF(VALUE(FIXED(P_16号様式1!G51,0,TRUE))<>P_16号様式1!G51,RIGHT(FIXED(P_16号様式1!G51,3,FALSE),4),\"\"))","v":""},{"$f":"IF(P_16号様式1!H51<> \"\",TEXT(INT(P_16号様式1!H51),\"#,##0\"),\"\")","v":"3,368"},{"$f":"IF(P_16号様式1!H51= \"\",\"\",IF(VALUE(FIXED(P_16号様式1!H51,0,TRUE))<>P_16号様式1!H51,RIGHT(FIXED(P_16号様式1!H51,3,FALSE),4),\"\"))","v":""},{"$f":"IF(P_16号様式1!I51<> \"\",TEXT(INT(P_16号様式1!I51),\"#,##0\"),\"\")","v":"28"},{"$f":"IF(P_16号様式1!I51= \"\",\"\",IF(VALUE(FIXED(P_16号様式1!I51,0,TRUE))<>P_16号様式1!I51,RIGHT(FIXED(P_16号様式1!I51,3,FALSE),4),\"\"))","v":""},{"$f":"IF(P_16号様式1!J51<> \"\",TEXT(INT(P_16号様式1!J51),\"#,##0\"),\"\")","v":"3,396"},{"$f":"IF(P_16号様式1!J51= \"\",\"\",IF(VALUE(FIXED(P_16号様式1!J51,0,TRUE))<>P_16号様式1!J51,RIGHT(FIXED(P_16号様式1!J51,3,FALSE),4),\"\"))","v":""},{"$f":"IF(P_16号様式1!K51<> \"\",TEXT(INT(P_16号様式1!K51),\"#,##0\"),\"\")","v":"0"},{"$f":"IF(P_16号様式1!K51= \"\",\"\",IF(VALUE(FIXED(P_16号様式1!K51,0,TRUE))<>P_16号様式1!K51,RIGHT(FIXED(P_16号様式1!K51,3,FALSE),4),\"\"))","v":""},{"$f":"IF(P_16号様式1!L51<> \"\",TEXT(INT(P_16号様式1!L51),\"#,##0\"),\"\")","v":"3,396"},{"$f":"IF(P_16号様式1!L51= \"\",\"\",IF(VALUE(FIXED(P_16号様式1!L51,0,TRUE))<>P_16号様式1!L51,RIGHT(FIXED(P_16号様式1!L51,3,FALSE),4),\"\"))","v":""},{"$f":"IF(P_16号様式1!M51=\"\",\"\",P_16号様式1!M51)","v":0.82449941107184899},null,{"$f":"IF(P_16号様式1!N51=\"\",\"\",P_16号様式1!N51)","v":"21:13:00"},null,{"$f":"IF(P_16号様式1!O51=\"\",\"\",P_16号様式1!O51)","v":"確定"}]
[{"$f":"IF(P_16号様式1!C52=\"\",\"\",P_16号様式1!C52)","v":"　和泊町"},null,{"$f":"IF(P_16号様式1!D52=\"\",\"\",P_16号様式1!D52)","v":100},{"$f":"IF(P_16号様式1!E52<> \"\",TEXT(INT(P_16号様式1!E52),\"#,##0\"),\"\")","v":"3,224"},{"$f":"IF(P_16号様式1!E52= \"\",\"\",IF(VALUE(FIXED(P_16号様式1!E52,0,TRUE))<>P_16号様式1!E52,RIGHT(FIXED(P_16号様式1!E52,3,FALSE),4),\"\"))","v":""},{"$f":"IF(P_16号様式1!F52<> \"\",TEXT(INT(P_16号様式1!F52),\"#,##0\"),\"\")","v":"0"},{"$f":"IF(P_16号様式1!F52= \"\",\"\",IF(VALUE(FIXED(P_16号様式1!F52,0,TRUE))<>P_16号様式1!F52,RIGHT(FIXED(P_16号様式1!F52,3,FALSE),4),\"\"))","v":""},{"$f":"IF(P_16号様式1!G52<> \"\",TEXT(INT(P_16号様式1!G52),\"#,##0\"),\"\")","v":"0"},{"$f":"IF(P_16号様式1!G52= \"\",\"\",IF(VALUE(FIXED(P_16号様式1!G52,0,TRUE))<>P_16号様式1!G52,RIGHT(FIXED(P_16号様式1!G52,3,FALSE),4),\"\"))","v":""},{"$f":"IF(P_16号様式1!H52<> \"\",TEXT(INT(P_16号様式1!H52),\"#,##0\"),\"\")","v":"3,224"},{"$f":"IF(P_16号様式1!H52= \"\",\"\",IF(VALUE(FIXED(P_16号様式1!H52,0,TRUE))<>P_16号様式1!H52,RIGHT(FIXED(P_16号様式1!H52,3,FALSE),4),\"\"))","v":""},{"$f":"IF(P_16号様式1!I52<> \"\",TEXT(INT(P_16号様式1!I52),\"#,##0\"),\"\")","v":"18"},{"$f":"IF(P_16号様式1!I52= \"\",\"\",IF(VALUE(FIXED(P_16号様式1!I52,0,TRUE))<>P_16号様式1!I52,RIGHT(FIXED(P_16号様式1!I52,3,FALSE),4),\"\"))","v":""},{"$f":"IF(P_16号様式1!J52<> \"\",TEXT(INT(P_16号様式1!J52),\"#,##0\"),\"\")","v":"3,242"},{"$f":"IF(P_16号様式1!J52= \"\",\"\",IF(VALUE(FIXED(P_16号様式1!J52,0,TRUE))<>P_16号様式1!J52,RIGHT(FIXED(P_16号様式1!J52,3,FALSE),4),\"\"))","v":""},{"$f":"IF(P_16号様式1!K52<> \"\",TEXT(INT(P_16号様式1!K52),\"#,##0\"),\"\")","v":"0"},{"$f":"IF(P_16号様式1!K52= \"\",\"\",IF(VALUE(FIXED(P_16号様式1!K52,0,TRUE))<>P_16号様式1!K52,RIGHT(FIXED(P_16号様式1!K52,3,FALSE),4),\"\"))","v":""},{"$f":"IF(P_16号様式1!L52<> \"\",TEXT(INT(P_16号様式1!L52),\"#,##0\"),\"\")","v":"3,242"},{"$f":"IF(P_16号様式1!L52= \"\",\"\",IF(VALUE(FIXED(P_16号様式1!L52,0,TRUE))<>P_16号様式1!L52,RIGHT(FIXED(P_16号様式1!L52,3,FALSE),4),\"\"))","v":""},{"$f":"IF(P_16号様式1!M52=\"\",\"\",P_16号様式1!M52)","v":0.55521283158544099},null,{"$f":"IF(P_16号様式1!N52=\"\",\"\",P_16号様式1!N52)","v":"21:22:00"},null,{"$f":"IF(P_16号様式1!O52=\"\",\"\",P_16号様式1!O52)","v":"確定"}]
[{"$f":"IF(P_16号様式1!C53=\"\",\"\",P_16号様式1!C53)","v":"　知名町"},null,{"$f":"IF(P_16号様式1!D53=\"\",\"\",P_16号様式1!D53)","v":100},{"$f":"IF(P_16号様式1!E53<> \"\",TEXT(INT(P_16号様式1!E53),\"#,##0\"),\"\")","v":"2,835"},{"$f":"IF(P_16号様式1!E53= \"\",\"\",IF(VALUE(FIXED(P_16号様式1!E53,0,TRUE))<>P_16号様式1!E53,RIGHT(FIXED(P_16号様式1!E53,3,FALSE),4),\"\"))","v":""},{"$f":"IF(P_16号様式1!F53<> \"\",TEXT(INT(P_16号様式1!F53),\"#,##0\"),\"\")","v":"0"},{"$f":"IF(P_16号様式1!F53= \"\",\"\",IF(VALUE(FIXED(P_16号様式1!F53,0,TRUE))<>P_16号様式1!F53,RIGHT(FIXED(P_16号様式1!F53,3,FALSE),4),\"\"))","v":""},{"$f":"IF(P_16号様式1!G53<> \"\",TEXT(INT(P_16号様式1!G53),\"#,##0\"),\"\")","v":"0"},{"$f":"IF(P_16号様式1!G53= \"\",\"\",IF(VALUE(FIXED(P_16号様式1!G53,0,TRUE))<>P_16号様式1!G53,RIGHT(FIXED(P_16号様式1!G53,3,FALSE),4),\"\"))","v":""},{"$f":"IF(P_16号様式1!H53<> \"\",TEXT(INT(P_16号様式1!H53),\"#,##0\"),\"\")","v":"2,835"},{"$f":"IF(P_16号様式1!H53= \"\",\"\",IF(VALUE(FIXED(P_16号様式1!H53,0,TRUE))<>P_16号様式1!H53,RIGHT(FIXED(P_16号様式1!H53,3,FALSE),4),\"\"))","v":""},{"$f":"IF(P_16号様式1!I53<> \"\",TEXT(INT(P_16号様式1!I53),\"#,##0\"),\"\")","v":"19"},{"$f":"IF(P_16号様式1!I53= \"\",\"\",IF(VALUE(FIXED(P_16号様式1!I53,0,TRUE))<>P_16号様式1!I53,RIGHT(FIXED(P_16号様式1!I53,3,FALSE),4),\"\"))","v":""},{"$f":"IF(P_16号様式1!J53<> \"\",TEXT(INT(P_16号様式1!J53),\"#,##0\"),\"\")","v":"2,854"},{"$f":"IF(P_16号様式1!J53= \"\",\"\",IF(VALUE(FIXED(P_16号様式1!J53,0,TRUE))<>P_16号様式1!J53,RIGHT(FIXED(P_16号様式1!J53,3,FALSE),4),\"\"))","v":""},{"$f":"IF(P_16号様式1!K53<> \"\",TEXT(INT(P_16号様式1!K53),\"#,##0\"),\"\")","v":"0"},{"$f":"IF(P_16号様式1!K53= \"\",\"\",IF(VALUE(FIXED(P_16号様式1!K53,0,TRUE))<>P_16号様式1!K53,RIGHT(FIXED(P_16号様式1!K53,3,FALSE),4),\"\"))","v":""},{"$f":"IF(P_16号様式1!L53<> \"\",TEXT(INT(P_16号様式1!L53),\"#,##0\"),\"\")","v":"2,854"},{"$f":"IF(P_16号様式1!L53= \"\",\"\",IF(VALUE(FIXED(P_16号様式1!L53,0,TRUE))<>P_16号様式1!L53,RIGHT(FIXED(P_16号様式1!L53,3,FALSE),4),\"\"))","v":""},{"$f":"IF(P_16号様式1!M53=\"\",\"\",P_16号様式1!M53)","v":0.66573230553608997},null,{"$f":"IF(P_16号様式1!N53=\"\",\"\",P_16号様式1!N53)","v":"20:49:00"},null,{"$f":"IF(P_16号様式1!O53=\"\",\"\",P_16号様式1!O53)","v":"確定"}]
[{"$f":"IF(P_16号様式1!C54=\"\",\"\",P_16号様式1!C54)","v":"　与論町"},null,{"$f":"IF(P_16号様式1!D54=\"\",\"\",P_16号様式1!D54)","v":100},{"$f":"IF(P_16号様式1!E54<> \"\",TEXT(INT(P_16号様式1!E54),\"#,##0\"),\"\")","v":"2,704"},{"$f":"IF(P_16号様式1!E54= \"\",\"\",IF(VALUE(FIXED(P_16号様式1!E54,0,TRUE))<>P_16号様式1!E54,RIGHT(FIXED(P_16号様式1!E54,3,FALSE),4),\"\"))","v":""},{"$f":"IF(P_16号様式1!F54<> \"\",TEXT(INT(P_16号様式1!F54),\"#,##0\"),\"\")","v":"0"},{"$f":"IF(P_16号様式1!F54= \"\",\"\",IF(VALUE(FIXED(P_16号様式1!F54,0,TRUE))<>P_16号様式1!F54,RIGHT(FIXED(P_16号様式1!F54,3,FALSE),4),\"\"))","v":""},{"$f":"IF(P_16号様式1!G54<> \"\",TEXT(INT(P_16号様式1!G54),\"#,##0\"),\"\")","v":"0"},{"$f":"IF(P_16号様式1!G54= \"\",\"\",IF(VALUE(FIXED(P_16号様式1!G54,0,TRUE))<>P_16号様式1!G54,RIGHT(FIXED(P_16号様式1!G54,3,FALSE),4),\"\"))","v":""},{"$f":"IF(P_16号様式1!H54<> \"\",TEXT(INT(P_16号様式1!H54),\"#,##0\"),\"\")","v":"2,704"},{"$f":"IF(P_16号様式1!H54= \"\",\"\",IF(VALUE(FIXED(P_16号様式1!H54,0,TRUE))<>P_16号様式1!H54,RIGHT(FIXED(P_16号様式1!H54,3,FALSE),4),\"\"))","v":""},{"$f":"IF(P_16号様式1!I54<> \"\",TEXT(INT(P_16号様式1!I54),\"#,##0\"),\"\")","v":"19"},{"$f":"IF(P_16号様式1!I54= \"\",\"\",IF(VALUE(FIXED(P_16号様式1!I54,0,TRUE))<>P_16号様式1!I54,RIGHT(FIXED(P_16号様式1!I54,3,FALSE),4),\"\"))","v":""},{"$f":"IF(P_16号様式1!J54<> \"\",TEXT(INT(P_16号様式1!J54),\"#,##0\"),\"\")","v":"2,723"},{"$f":"IF(P_16号様式1!J54= \"\",\"\",IF(VALUE(FIXED(P_16号様式1!J54,0,TRUE))<>P_16号様式1!J54,RIGHT(FIXED(P_16号様式1!J54,3,FALSE),4),\"\"))","v":""},{"$f":"IF(P_16号様式1!K54<> \"\",TEXT(INT(P_16号様式1!K54),\"#,##0\"),\"\")","v":"0"},{"$f":"IF(P_16号様式1!K54= \"\",\"\",IF(VALUE(FIXED(P_16号様式1!K54,0,TRUE))<>P_16号様式1!K54,RIGHT(FIXED(P_16号様式1!K54,3,FALSE),4),\"\"))","v":""},{"$f":"IF(P_16号様式1!L54<> \"\",TEXT(INT(P_16号様式1!L54),\"#,##0\"),\"\")","v":"2,723"},{"$f":"IF(P_16号様式1!L54= \"\",\"\",IF(VALUE(FIXED(P_16号様式1!L54,0,TRUE))<>P_16号様式1!L54,RIGHT(FIXED(P_16号様式1!L54,3,FALSE),4),\"\"))","v":""},{"$f":"IF(P_16号様式1!M54=\"\",\"\",P_16号様式1!M54)","v":0.69775982372383405},null,{"$f":"IF(P_16号様式1!N54=\"\",\"\",P_16号様式1!N54)","v":"21:32:00"},null,{"$f":"IF(P_16号様式1!O54=\"\",\"\",P_16号様式1!O54)","v":"確定"}]
[{"$f":"IF(P_16号様式1!C55=\"\",\"\",P_16号様式1!C55)","v":"＊（大島郡）計"},null,{"$f":"IF(P_16号様式1!D55=\"\",\"\",P_16号様式1!D55)","v":100},{"$f":"IF(P_16号様式1!E55<> \"\",TEXT(INT(P_16号様式1!E55),\"#,##0\"),\"\")","v":"33,555"},{"$f":"IF(P_16号様式1!E55= \"\",\"\",IF(VALUE(FIXED(P_16号様式1!E55,0,TRUE))<>P_16号様式1!E55,RIGHT(FIXED(P_16号様式1!E55,3,FALSE),4),\"\"))","v":""},{"$f":"IF(P_16号様式1!F55<> \"\",TEXT(INT(P_16号様式1!F55),\"#,##0\"),\"\")","v":"0"},{"$f":"IF(P_16号様式1!F55= \"\",\"\",IF(VALUE(FIXED(P_16号様式1!F55,0,TRUE))<>P_16号様式1!F55,RIGHT(FIXED(P_16号様式1!F55,3,FALSE),4),\"\"))","v":""},{"$f":"IF(P_16号様式1!G55<> \"\",TEXT(INT(P_16号様式1!G55),\"#,##0\"),\"\")","v":"0"},{"$f":"IF(P_16号様式1!G55= \"\",\"\",IF(VALUE(FIXED(P_16号様式1!G55,0,TRUE))<>P_16号様式1!G55,RIGHT(FIXED(P_16号様式1!G55,3,FALSE),4),\"\"))","v":""},{"$f":"IF(P_16号様式1!H55<> \"\",TEXT(INT(P_16号様式1!H55),\"#,##0\"),\"\")","v":"33,555"},{"$f":"IF(P_16号様式1!H55= \"\",\"\",IF(VALUE(FIXED(P_16号様式1!H55,0,TRUE))<>P_16号様式1!H55,RIGHT(FIXED(P_16号様式1!H55,3,FALSE),4),\"\"))","v":""},{"$f":"IF(P_16号様式1!I55<> \"\",TEXT(INT(P_16号様式1!I55),\"#,##0\"),\"\")","v":"297"},{"$f":"IF(P_16号様式1!I55= \"\",\"\",IF(VALUE(FIXED(P_16号様式1!I55,0,TRUE))<>P_16号様式1!I55,RIGHT(FIXED(P_16号様式1!I55,3,FALSE),4),\"\"))","v":""},{"$f":"IF(P_16号様式1!J55<> \"\",TEXT(INT(P_16号様式1!J55),\"#,##0\"),\"\")","v":"33,852"},{"$f":"IF(P_16号様式1!J55= \"\",\"\",IF(VALUE(FIXED(P_16号様式1!J55,0,TRUE))<>P_16号様式1!J55,RIGHT(FIXED(P_16号様式1!J55,3,FALSE),4),\"\"))","v":""},{"$f":"IF(P_16号様式1!K55<> \"\",TEXT(INT(P_16号様式1!K55),\"#,##0\"),\"\")","v":"0"},{"$f":"IF(P_16号様式1!K55= \"\",\"\",IF(VALUE(FIXED(P_16号様式1!K55,0,TRUE))<>P_16号様式1!K55,RIGHT(FIXED(P_16号様式1!K55,3,FALSE),4),\"\"))","v":""},{"$f":"IF(P_16号様式1!L55<> \"\",TEXT(INT(P_16号様式1!L55),\"#,##0\"),\"\")","v":"33,852"},{"$f":"IF(P_16号様式1!L55= \"\",\"\",IF(VALUE(FIXED(P_16号様式1!L55,0,TRUE))<>P_16号様式1!L55,RIGHT(FIXED(P_16号様式1!L55,3,FALSE),4),\"\"))","v":""},{"$f":"IF(P_16号様式1!M55=\"\",\"\",P_16号様式1!M55)","v":0.87734845799361905},null,{"$f":"IF(P_16号様式1!N55=\"\",\"\",P_16号様式1!N55)","v":"22:11:00"},null,{"$f":"IF(P_16号様式1!O55=\"\",\"\",P_16号様式1!O55)","v":"確定"}]
[{"$f":"IF(P_16号様式1!C56=\"\",\"\",P_16号様式1!C56)","v":""},null,{"$f":"IF(P_16号様式1!D56=\"\",\"\",P_16号様式1!D56)","v":""},{"$f":"IF(P_16号様式1!E56<> \"\",TEXT(INT(P_16号様式1!E56),\"#,##0\"),\"\")","v":""},{"$f":"IF(P_16号様式1!E56= \"\",\"\",IF(VALUE(FIXED(P_16号様式1!E56,0,TRUE))<>P_16号様式1!E56,RIGHT(FIXED(P_16号様式1!E56,3,FALSE),4),\"\"))","v":""},{"$f":"IF(P_16号様式1!F56<> \"\",TEXT(INT(P_16号様式1!F56),\"#,##0\"),\"\")","v":""},{"$f":"IF(P_16号様式1!F56= \"\",\"\",IF(VALUE(FIXED(P_16号様式1!F56,0,TRUE))<>P_16号様式1!F56,RIGHT(FIXED(P_16号様式1!F56,3,FALSE),4),\"\"))","v":""},{"$f":"IF(P_16号様式1!G56<> \"\",TEXT(INT(P_16号様式1!G56),\"#,##0\"),\"\")","v":""},{"$f":"IF(P_16号様式1!G56= \"\",\"\",IF(VALUE(FIXED(P_16号様式1!G56,0,TRUE))<>P_16号様式1!G56,RIGHT(FIXED(P_16号様式1!G56,3,FALSE),4),\"\"))","v":""},{"$f":"IF(P_16号様式1!H56<> \"\",TEXT(INT(P_16号様式1!H56),\"#,##0\"),\"\")","v":""},{"$f":"IF(P_16号様式1!H56= \"\",\"\",IF(VALUE(FIXED(P_16号様式1!H56,0,TRUE))<>P_16号様式1!H56,RIGHT(FIXED(P_16号様式1!H56,3,FALSE),4),\"\"))","v":""},{"$f":"IF(P_16号様式1!I56<> \"\",TEXT(INT(P_16号様式1!I56),\"#,##0\"),\"\")","v":""},{"$f":"IF(P_16号様式1!I56= \"\",\"\",IF(VALUE(FIXED(P_16号様式1!I56,0,TRUE))<>P_16号様式1!I56,RIGHT(FIXED(P_16号様式1!I56,3,FALSE),4),\"\"))","v":""},{"$f":"IF(P_16号様式1!J56<> \"\",TEXT(INT(P_16号様式1!J56),\"#,##0\"),\"\")","v":""},{"$f":"IF(P_16号様式1!J56= \"\",\"\",IF(VALUE(FIXED(P_16号様式1!J56,0,TRUE))<>P_16号様式1!J56,RIGHT(FIXED(P_16号様式1!J56,3,FALSE),4),\"\"))","v":""},{"$f":"IF(P_16号様式1!K56<> \"\",TEXT(INT(P_16号様式1!K56),\"#,##0\"),\"\")","v":""},{"$f":"IF(P_16号様式1!K56= \"\",\"\",IF(VALUE(FIXED(P_16号様式1!K56,0,TRUE))<>P_16号様式1!K56,RIGHT(FIXED(P_16号様式1!K56,3,FALSE),4),\"\"))","v":""},{"$f":"IF(P_16号様式1!L56<> \"\",TEXT(INT(P_16号様式1!L56),\"#,##0\"),\"\")","v":""},{"$f":"IF(P_16号様式1!L56= \"\",\"\",IF(VALUE(FIXED(P_16号様式1!L56,0,TRUE))<>P_16号様式1!L56,RIGHT(FIXED(P_16号様式1!L56,3,FALSE),4),\"\"))","v":""},{"$f":"IF(P_16号様式1!M56=\"\",\"\",P_16号様式1!M56)","v":""},null,{"$f":"IF(P_16号様式1!N56=\"\",\"\",P_16号様式1!N56)","v":""},null,{"$f":"IF(P_16号様式1!O56=\"\",\"\",P_16号様式1!O56)","v":""}]
[{"$f":"IF(P_16号様式1!C57=\"\",\"\",P_16号様式1!C57)","v":""},null,{"$f":"IF(P_16号様式1!D57=\"\",\"\",P_16号様式1!D57)","v":""},{"$f":"IF(P_16号様式1!E57<> \"\",TEXT(INT(P_16号様式1!E57),\"#,##0\"),\"\")","v":""},{"$f":"IF(P_16号様式1!E57= \"\",\"\",IF(VALUE(FIXED(P_16号様式1!E57,0,TRUE))<>P_16号様式1!E57,RIGHT(FIXED(P_16号様式1!E57,3,FALSE),4),\"\"))","v":""},{"$f":"IF(P_16号様式1!F57<> \"\",TEXT(INT(P_16号様式1!F57),\"#,##0\"),\"\")","v":""},{"$f":"IF(P_16号様式1!F57= \"\",\"\",IF(VALUE(FIXED(P_16号様式1!F57,0,TRUE))<>P_16号様式1!F57,RIGHT(FIXED(P_16号様式1!F57,3,FALSE),4),\"\"))","v":""},{"$f":"IF(P_16号様式1!G57<> \"\",TEXT(INT(P_16号様式1!G57),\"#,##0\"),\"\")","v":""},{"$f":"IF(P_16号様式1!G57= \"\",\"\",IF(VALUE(FIXED(P_16号様式1!G57,0,TRUE))<>P_16号様式1!G57,RIGHT(FIXED(P_16号様式1!G57,3,FALSE),4),\"\"))","v":""},{"$f":"IF(P_16号様式1!H57<> \"\",TEXT(INT(P_16号様式1!H57),\"#,##0\"),\"\")","v":""},{"$f":"IF(P_16号様式1!H57= \"\",\"\",IF(VALUE(FIXED(P_16号様式1!H57,0,TRUE))<>P_16号様式1!H57,RIGHT(FIXED(P_16号様式1!H57,3,FALSE),4),\"\"))","v":""},{"$f":"IF(P_16号様式1!I57<> \"\",TEXT(INT(P_16号様式1!I57),\"#,##0\"),\"\")","v":""},{"$f":"IF(P_16号様式1!I57= \"\",\"\",IF(VALUE(FIXED(P_16号様式1!I57,0,TRUE))<>P_16号様式1!I57,RIGHT(FIXED(P_16号様式1!I57,3,FALSE),4),\"\"))","v":""},{"$f":"IF(P_16号様式1!J57<> \"\",TEXT(INT(P_16号様式1!J57),\"#,##0\"),\"\")","v":""},{"$f":"IF(P_16号様式1!J57= \"\",\"\",IF(VALUE(FIXED(P_16号様式1!J57,0,TRUE))<>P_16号様式1!J57,RIGHT(FIXED(P_16号様式1!J57,3,FALSE),4),\"\"))","v":""},{"$f":"IF(P_16号様式1!K57<> \"\",TEXT(INT(P_16号様式1!K57),\"#,##0\"),\"\")","v":""},{"$f":"IF(P_16号様式1!K57= \"\",\"\",IF(VALUE(FIXED(P_16号様式1!K57,0,TRUE))<>P_16号様式1!K57,RIGHT(FIXED(P_16号様式1!K57,3,FALSE),4),\"\"))","v":""},{"$f":"IF(P_16号様式1!L57<> \"\",TEXT(INT(P_16号様式1!L57),\"#,##0\"),\"\")","v":""},{"$f":"IF(P_16号様式1!L57= \"\",\"\",IF(VALUE(FIXED(P_16号様式1!L57,0,TRUE))<>P_16号様式1!L57,RIGHT(FIXED(P_16号様式1!L57,3,FALSE),4),\"\"))","v":""},{"$f":"IF(P_16号様式1!M57=\"\",\"\",P_16号様式1!M57)","v":""},null,{"$f":"IF(P_16号様式1!N57=\"\",\"\",P_16号様式1!N57)","v":""},null,{"$f":"IF(P_16号様式1!O57=\"\",\"\",P_16号様式1!O57)","v":""}]
[{"$f":"IF(P_16号様式1!C58=\"\",\"\",P_16号様式1!C58)","v":""},null,{"$f":"IF(P_16号様式1!D58=\"\",\"\",P_16号様式1!D58)","v":""},{"$f":"IF(P_16号様式1!E58<> \"\",TEXT(INT(P_16号様式1!E58),\"#,##0\"),\"\")","v":""},{"$f":"IF(P_16号様式1!E58= \"\",\"\",IF(VALUE(FIXED(P_16号様式1!E58,0,TRUE))<>P_16号様式1!E58,RIGHT(FIXED(P_16号様式1!E58,3,FALSE),4),\"\"))","v":""},{"$f":"IF(P_16号様式1!F58<> \"\",TEXT(INT(P_16号様式1!F58),\"#,##0\"),\"\")","v":""},{"$f":"IF(P_16号様式1!F58= \"\",\"\",IF(VALUE(FIXED(P_16号様式1!F58,0,TRUE))<>P_16号様式1!F58,RIGHT(FIXED(P_16号様式1!F58,3,FALSE),4),\"\"))","v":""},{"$f":"IF(P_16号様式1!G58<> \"\",TEXT(INT(P_16号様式1!G58),\"#,##0\"),\"\")","v":""},{"$f":"IF(P_16号様式1!G58= \"\",\"\",IF(VALUE(FIXED(P_16号様式1!G58,0,TRUE))<>P_16号様式1!G58,RIGHT(FIXED(P_16号様式1!G58,3,FALSE),4),\"\"))","v":""},{"$f":"IF(P_16号様式1!H58<> \"\",TEXT(INT(P_16号様式1!H58),\"#,##0\"),\"\")","v":""},{"$f":"IF(P_16号様式1!H58= \"\",\"\",IF(VALUE(FIXED(P_16号様式1!H58,0,TRUE))<>P_16号様式1!H58,RIGHT(FIXED(P_16号様式1!H58,3,FALSE),4),\"\"))","v":""},{"$f":"IF(P_16号様式1!I58<> \"\",TEXT(INT(P_16号様式1!I58),\"#,##0\"),\"\")","v":""},{"$f":"IF(P_16号様式1!I58= \"\",\"\",IF(VALUE(FIXED(P_16号様式1!I58,0,TRUE))<>P_16号様式1!I58,RIGHT(FIXED(P_16号様式1!I58,3,FALSE),4),\"\"))","v":""},{"$f":"IF(P_16号様式1!J58<> \"\",TEXT(INT(P_16号様式1!J58),\"#,##0\"),\"\")","v":""},{"$f":"IF(P_16号様式1!J58= \"\",\"\",IF(VALUE(FIXED(P_16号様式1!J58,0,TRUE))<>P_16号様式1!J58,RIGHT(FIXED(P_16号様式1!J58,3,FALSE),4),\"\"))","v":""},{"$f":"IF(P_16号様式1!K58<> \"\",TEXT(INT(P_16号様式1!K58),\"#,##0\"),\"\")","v":""},{"$f":"IF(P_16号様式1!K58= \"\",\"\",IF(VALUE(FIXED(P_16号様式1!K58,0,TRUE))<>P_16号様式1!K58,RIGHT(FIXED(P_16号様式1!K58,3,FALSE),4),\"\"))","v":""},{"$f":"IF(P_16号様式1!L58<> \"\",TEXT(INT(P_16号様式1!L58),\"#,##0\"),\"\")","v":""},{"$f":"IF(P_16号様式1!L58= \"\",\"\",IF(VALUE(FIXED(P_16号様式1!L58,0,TRUE))<>P_16号様式1!L58,RIGHT(FIXED(P_16号様式1!L58,3,FALSE),4),\"\"))","v":""},{"$f":"IF(P_16号様式1!M58=\"\",\"\",P_16号様式1!M58)","v":""},null,{"$f":"IF(P_16号様式1!N58=\"\",\"\",P_16号様式1!N58)","v":""},null,{"$f":"IF(P_16号様式1!O58=\"\",\"\",P_16号様式1!O58)","v":""}]
[{"$f":"IF(P_16号様式1!C59=\"\",\"\",P_16号様式1!C59)","v":""},null,{"$f":"IF(P_16号様式1!D59=\"\",\"\",P_16号様式1!D59)","v":""},{"$f":"IF(P_16号様式1!E59<> \"\",TEXT(INT(P_16号様式1!E59),\"#,##0\"),\"\")","v":""},{"$f":"IF(P_16号様式1!E59= \"\",\"\",IF(VALUE(FIXED(P_16号様式1!E59,0,TRUE))<>P_16号様式1!E59,RIGHT(FIXED(P_16号様式1!E59,3,FALSE),4),\"\"))","v":""},{"$f":"IF(P_16号様式1!F59<> \"\",TEXT(INT(P_16号様式1!F59),\"#,##0\"),\"\")","v":""},{"$f":"IF(P_16号様式1!F59= \"\",\"\",IF(VALUE(FIXED(P_16号様式1!F59,0,TRUE))<>P_16号様式1!F59,RIGHT(FIXED(P_16号様式1!F59,3,FALSE),4),\"\"))","v":""},{"$f":"IF(P_16号様式1!G59<> \"\",TEXT(INT(P_16号様式1!G59),\"#,##0\"),\"\")","v":""},{"$f":"IF(P_16号様式1!G59= \"\",\"\",IF(VALUE(FIXED(P_16号様式1!G59,0,TRUE))<>P_16号様式1!G59,RIGHT(FIXED(P_16号様式1!G59,3,FALSE),4),\"\"))","v":""},{"$f":"IF(P_16号様式1!H59<> \"\",TEXT(INT(P_16号様式1!H59),\"#,##0\"),\"\")","v":""},{"$f":"IF(P_16号様式1!H59= \"\",\"\",IF(VALUE(FIXED(P_16号様式1!H59,0,TRUE))<>P_16号様式1!H59,RIGHT(FIXED(P_16号様式1!H59,3,FALSE),4),\"\"))","v":""},{"$f":"IF(P_16号様式1!I59<> \"\",TEXT(INT(P_16号様式1!I59),\"#,##0\"),\"\")","v":""},{"$f":"IF(P_16号様式1!I59= \"\",\"\",IF(VALUE(FIXED(P_16号様式1!I59,0,TRUE))<>P_16号様式1!I59,RIGHT(FIXED(P_16号様式1!I59,3,FALSE),4),\"\"))","v":""},{"$f":"IF(P_16号様式1!J59<> \"\",TEXT(INT(P_16号様式1!J59),\"#,##0\"),\"\")","v":""},{"$f":"IF(P_16号様式1!J59= \"\",\"\",IF(VALUE(FIXED(P_16号様式1!J59,0,TRUE))<>P_16号様式1!J59,RIGHT(FIXED(P_16号様式1!J59,3,FALSE),4),\"\"))","v":""},{"$f":"IF(P_16号様式1!K59<> \"\",TEXT(INT(P_16号様式1!K59),\"#,##0\"),\"\")","v":""},{"$f":"IF(P_16号様式1!K59= \"\",\"\",IF(VALUE(FIXED(P_16号様式1!K59,0,TRUE))<>P_16号様式1!K59,RIGHT(FIXED(P_16号様式1!K59,3,FALSE),4),\"\"))","v":""},{"$f":"IF(P_16号様式1!L59<> \"\",TEXT(INT(P_16号様式1!L59),\"#,##0\"),\"\")","v":""},{"$f":"IF(P_16号様式1!L59= \"\",\"\",IF(VALUE(FIXED(P_16号様式1!L59,0,TRUE))<>P_16号様式1!L59,RIGHT(FIXED(P_16号様式1!L59,3,FALSE),4),\"\"))","v":""},{"$f":"IF(P_16号様式1!M59=\"\",\"\",P_16号様式1!M59)","v":""},null,{"$f":"IF(P_16号様式1!N59=\"\",\"\",P_16号様式1!N59)","v":""},null,{"$f":"IF(P_16号様式1!O59=\"\",\"\",P_16号様式1!O59)","v":""}]
[{"$f":"IF(P_16号様式1!C60=\"\",\"\",P_16号様式1!C60)","v":""},null,{"$f":"IF(P_16号様式1!D60=\"\",\"\",P_16号様式1!D60)","v":""},{"$f":"IF(P_16号様式1!E60<> \"\",TEXT(INT(P_16号様式1!E60),\"#,##0\"),\"\")","v":""},{"$f":"IF(P_16号様式1!E60= \"\",\"\",IF(VALUE(FIXED(P_16号様式1!E60,0,TRUE))<>P_16号様式1!E60,RIGHT(FIXED(P_16号様式1!E60,3,FALSE),4),\"\"))","v":""},{"$f":"IF(P_16号様式1!F60<> \"\",TEXT(INT(P_16号様式1!F60),\"#,##0\"),\"\")","v":""},{"$f":"IF(P_16号様式1!F60= \"\",\"\",IF(VALUE(FIXED(P_16号様式1!F60,0,TRUE))<>P_16号様式1!F60,RIGHT(FIXED(P_16号様式1!F60,3,FALSE),4),\"\"))","v":""},{"$f":"IF(P_16号様式1!G60<> \"\",TEXT(INT(P_16号様式1!G60),\"#,##0\"),\"\")","v":""},{"$f":"IF(P_16号様式1!G60= \"\",\"\",IF(VALUE(FIXED(P_16号様式1!G60,0,TRUE))<>P_16号様式1!G60,RIGHT(FIXED(P_16号様式1!G60,3,FALSE),4),\"\"))","v":""},{"$f":"IF(P_16号様式1!H60<> \"\",TEXT(INT(P_16号様式1!H60),\"#,##0\"),\"\")","v":""},{"$f":"IF(P_16号様式1!H60= \"\",\"\",IF(VALUE(FIXED(P_16号様式1!H60,0,TRUE))<>P_16号様式1!H60,RIGHT(FIXED(P_16号様式1!H60,3,FALSE),4),\"\"))","v":""},{"$f":"IF(P_16号様式1!I60<> \"\",TEXT(INT(P_16号様式1!I60),\"#,##0\"),\"\")","v":""},{"$f":"IF(P_16号様式1!I60= \"\",\"\",IF(VALUE(FIXED(P_16号様式1!I60,0,TRUE))<>P_16号様式1!I60,RIGHT(FIXED(P_16号様式1!I60,3,FALSE),4),\"\"))","v":""},{"$f":"IF(P_16号様式1!J60<> \"\",TEXT(INT(P_16号様式1!J60),\"#,##0\"),\"\")","v":""},{"$f":"IF(P_16号様式1!J60= \"\",\"\",IF(VALUE(FIXED(P_16号様式1!J60,0,TRUE))<>P_16号様式1!J60,RIGHT(FIXED(P_16号様式1!J60,3,FALSE),4),\"\"))","v":""},{"$f":"IF(P_16号様式1!K60<> \"\",TEXT(INT(P_16号様式1!K60),\"#,##0\"),\"\")","v":""},{"$f":"IF(P_16号様式1!K60= \"\",\"\",IF(VALUE(FIXED(P_16号様式1!K60,0,TRUE))<>P_16号様式1!K60,RIGHT(FIXED(P_16号様式1!K60,3,FALSE),4),\"\"))","v":""},{"$f":"IF(P_16号様式1!L60<> \"\",TEXT(INT(P_16号様式1!L60),\"#,##0\"),\"\")","v":""},{"$f":"IF(P_16号様式1!L60= \"\",\"\",IF(VALUE(FIXED(P_16号様式1!L60,0,TRUE))<>P_16号様式1!L60,RIGHT(FIXED(P_16号様式1!L60,3,FALSE),4),\"\"))","v":""},{"$f":"IF(P_16号様式1!M60=\"\",\"\",P_16号様式1!M60)","v":""},null,{"$f":"IF(P_16号様式1!N60=\"\",\"\",P_16号様式1!N60)","v":""},null,{"$f":"IF(P_16号様式1!O60=\"\",\"\",P_16号様式1!O60)","v":""}]
[{"$f":"IF(P_16号様式1!C61=\"\",\"\",P_16号様式1!C61)","v":""},null,{"$f":"IF(P_16号様式1!D61=\"\",\"\",P_16号様式1!D61)","v":""},{"$f":"IF(P_16号様式1!E61<> \"\",TEXT(INT(P_16号様式1!E61),\"#,##0\"),\"\")","v":""},{"$f":"IF(P_16号様式1!E61= \"\",\"\",IF(VALUE(FIXED(P_16号様式1!E61,0,TRUE))<>P_16号様式1!E61,RIGHT(FIXED(P_16号様式1!E61,3,FALSE),4),\"\"))","v":""},{"$f":"IF(P_16号様式1!F61<> \"\",TEXT(INT(P_16号様式1!F61),\"#,##0\"),\"\")","v":""},{"$f":"IF(P_16号様式1!F61= \"\",\"\",IF(VALUE(FIXED(P_16号様式1!F61,0,TRUE))<>P_16号様式1!F61,RIGHT(FIXED(P_16号様式1!F61,3,FALSE),4),\"\"))","v":""},{"$f":"IF(P_16号様式1!G61<> \"\",TEXT(INT(P_16号様式1!G61),\"#,##0\"),\"\")","v":""},{"$f":"IF(P_16号様式1!G61= \"\",\"\",IF(VALUE(FIXED(P_16号様式1!G61,0,TRUE))<>P_16号様式1!G61,RIGHT(FIXED(P_16号様式1!G61,3,FALSE),4),\"\"))","v":""},{"$f":"IF(P_16号様式1!H61<> \"\",TEXT(INT(P_16号様式1!H61),\"#,##0\"),\"\")","v":""},{"$f":"IF(P_16号様式1!H61= \"\",\"\",IF(VALUE(FIXED(P_16号様式1!H61,0,TRUE))<>P_16号様式1!H61,RIGHT(FIXED(P_16号様式1!H61,3,FALSE),4),\"\"))","v":""},{"$f":"IF(P_16号様式1!I61<> \"\",TEXT(INT(P_16号様式1!I61),\"#,##0\"),\"\")","v":""},{"$f":"IF(P_16号様式1!I61= \"\",\"\",IF(VALUE(FIXED(P_16号様式1!I61,0,TRUE))<>P_16号様式1!I61,RIGHT(FIXED(P_16号様式1!I61,3,FALSE),4),\"\"))","v":""},{"$f":"IF(P_16号様式1!J61<> \"\",TEXT(INT(P_16号様式1!J61),\"#,##0\"),\"\")","v":""},{"$f":"IF(P_16号様式1!J61= \"\",\"\",IF(VALUE(FIXED(P_16号様式1!J61,0,TRUE))<>P_16号様式1!J61,RIGHT(FIXED(P_16号様式1!J61,3,FALSE),4),\"\"))","v":""},{"$f":"IF(P_16号様式1!K61<> \"\",TEXT(INT(P_16号様式1!K61),\"#,##0\"),\"\")","v":""},{"$f":"IF(P_16号様式1!K61= \"\",\"\",IF(VALUE(FIXED(P_16号様式1!K61,0,TRUE))<>P_16号様式1!K61,RIGHT(FIXED(P_16号様式1!K61,3,FALSE),4),\"\"))","v":""},{"$f":"IF(P_16号様式1!L61<> \"\",TEXT(INT(P_16号様式1!L61),\"#,##0\"),\"\")","v":""},{"$f":"IF(P_16号様式1!L61= \"\",\"\",IF(VALUE(FIXED(P_16号様式1!L61,0,TRUE))<>P_16号様式1!L61,RIGHT(FIXED(P_16号様式1!L61,3,FALSE),4),\"\"))","v":""},{"$f":"IF(P_16号様式1!M61=\"\",\"\",P_16号様式1!M61)","v":""},null,{"$f":"IF(P_16号様式1!N61=\"\",\"\",P_16号様式1!N61)","v":""},null,{"$f":"IF(P_16号様式1!O61=\"\",\"\",P_16号様式1!O61)","v":""}]
[{"$f":"IF(P_16号様式1!C62=\"\",\"\",P_16号様式1!C62)","v":""},null,{"$f":"IF(P_16号様式1!D62=\"\",\"\",P_16号様式1!D62)","v":""},{"$f":"IF(P_16号様式1!E62<> \"\",TEXT(INT(P_16号様式1!E62),\"#,##0\"),\"\")","v":""},{"$f":"IF(P_16号様式1!E62= \"\",\"\",IF(VALUE(FIXED(P_16号様式1!E62,0,TRUE))<>P_16号様式1!E62,RIGHT(FIXED(P_16号様式1!E62,3,FALSE),4),\"\"))","v":""},{"$f":"IF(P_16号様式1!F62<> \"\",TEXT(INT(P_16号様式1!F62),\"#,##0\"),\"\")","v":""},{"$f":"IF(P_16号様式1!F62= \"\",\"\",IF(VALUE(FIXED(P_16号様式1!F62,0,TRUE))<>P_16号様式1!F62,RIGHT(FIXED(P_16号様式1!F62,3,FALSE),4),\"\"))","v":""},{"$f":"IF(P_16号様式1!G62<> \"\",TEXT(INT(P_16号様式1!G62),\"#,##0\"),\"\")","v":""},{"$f":"IF(P_16号様式1!G62= \"\",\"\",IF(VALUE(FIXED(P_16号様式1!G62,0,TRUE))<>P_16号様式1!G62,RIGHT(FIXED(P_16号様式1!G62,3,FALSE),4),\"\"))","v":""},{"$f":"IF(P_16号様式1!H62<> \"\",TEXT(INT(P_16号様式1!H62),\"#,##0\"),\"\")","v":""},{"$f":"IF(P_16号様式1!H62= \"\",\"\",IF(VALUE(FIXED(P_16号様式1!H62,0,TRUE))<>P_16号様式1!H62,RIGHT(FIXED(P_16号様式1!H62,3,FALSE),4),\"\"))","v":""},{"$f":"IF(P_16号様式1!I62<> \"\",TEXT(INT(P_16号様式1!I62),\"#,##0\"),\"\")","v":""},{"$f":"IF(P_16号様式1!I62= \"\",\"\",IF(VALUE(FIXED(P_16号様式1!I62,0,TRUE))<>P_16号様式1!I62,RIGHT(FIXED(P_16号様式1!I62,3,FALSE),4),\"\"))","v":""},{"$f":"IF(P_16号様式1!J62<> \"\",TEXT(INT(P_16号様式1!J62),\"#,##0\"),\"\")","v":""},{"$f":"IF(P_16号様式1!J62= \"\",\"\",IF(VALUE(FIXED(P_16号様式1!J62,0,TRUE))<>P_16号様式1!J62,RIGHT(FIXED(P_16号様式1!J62,3,FALSE),4),\"\"))","v":""},{"$f":"IF(P_16号様式1!K62<> \"\",TEXT(INT(P_16号様式1!K62),\"#,##0\"),\"\")","v":""},{"$f":"IF(P_16号様式1!K62= \"\",\"\",IF(VALUE(FIXED(P_16号様式1!K62,0,TRUE))<>P_16号様式1!K62,RIGHT(FIXED(P_16号様式1!K62,3,FALSE),4),\"\"))","v":""},{"$f":"IF(P_16号様式1!L62<> \"\",TEXT(INT(P_16号様式1!L62),\"#,##0\"),\"\")","v":""},{"$f":"IF(P_16号様式1!L62= \"\",\"\",IF(VALUE(FIXED(P_16号様式1!L62,0,TRUE))<>P_16号様式1!L62,RIGHT(FIXED(P_16号様式1!L62,3,FALSE),4),\"\"))","v":""},{"$f":"IF(P_16号様式1!M62=\"\",\"\",P_16号様式1!M62)","v":""},null,{"$f":"IF(P_16号様式1!N62=\"\",\"\",P_16号様式1!N62)","v":""},null,{"$f":"IF(P_16号様式1!O62=\"\",\"\",P_16号様式1!O62)","v":""}]
[{"$f":"IF(P_16号様式1!C63=\"\",\"\",P_16号様式1!C63)","v":""},null,{"$f":"IF(P_16号様式1!D63=\"\",\"\",P_16号様式1!D63)","v":""},{"$f":"IF(P_16号様式1!E63<> \"\",TEXT(INT(P_16号様式1!E63),\"#,##0\"),\"\")","v":""},{"$f":"IF(P_16号様式1!E63= \"\",\"\",IF(VALUE(FIXED(P_16号様式1!E63,0,TRUE))<>P_16号様式1!E63,RIGHT(FIXED(P_16号様式1!E63,3,FALSE),4),\"\"))","v":""},{"$f":"IF(P_16号様式1!F63<> \"\",TEXT(INT(P_16号様式1!F63),\"#,##0\"),\"\")","v":""},{"$f":"IF(P_16号様式1!F63= \"\",\"\",IF(VALUE(FIXED(P_16号様式1!F63,0,TRUE))<>P_16号様式1!F63,RIGHT(FIXED(P_16号様式1!F63,3,FALSE),4),\"\"))","v":""},{"$f":"IF(P_16号様式1!G63<> \"\",TEXT(INT(P_16号様式1!G63),\"#,##0\"),\"\")","v":""},{"$f":"IF(P_16号様式1!G63= \"\",\"\",IF(VALUE(FIXED(P_16号様式1!G63,0,TRUE))<>P_16号様式1!G63,RIGHT(FIXED(P_16号様式1!G63,3,FALSE),4),\"\"))","v":""},{"$f":"IF(P_16号様式1!H63<> \"\",TEXT(INT(P_16号様式1!H63),\"#,##0\"),\"\")","v":""},{"$f":"IF(P_16号様式1!H63= \"\",\"\",IF(VALUE(FIXED(P_16号様式1!H63,0,TRUE))<>P_16号様式1!H63,RIGHT(FIXED(P_16号様式1!H63,3,FALSE),4),\"\"))","v":""},{"$f":"IF(P_16号様式1!I63<> \"\",TEXT(INT(P_16号様式1!I63),\"#,##0\"),\"\")","v":""},{"$f":"IF(P_16号様式1!I63= \"\",\"\",IF(VALUE(FIXED(P_16号様式1!I63,0,TRUE))<>P_16号様式1!I63,RIGHT(FIXED(P_16号様式1!I63,3,FALSE),4),\"\"))","v":""},{"$f":"IF(P_16号様式1!J63<> \"\",TEXT(INT(P_16号様式1!J63),\"#,##0\"),\"\")","v":""},{"$f":"IF(P_16号様式1!J63= \"\",\"\",IF(VALUE(FIXED(P_16号様式1!J63,0,TRUE))<>P_16号様式1!J63,RIGHT(FIXED(P_16号様式1!J63,3,FALSE),4),\"\"))","v":""},{"$f":"IF(P_16号様式1!K63<> \"\",TEXT(INT(P_16号様式1!K63),\"#,##0\"),\"\")","v":""},{"$f":"IF(P_16号様式1!K63= \"\",\"\",IF(VALUE(FIXED(P_16号様式1!K63,0,TRUE))<>P_16号様式1!K63,RIGHT(FIXED(P_16号様式1!K63,3,FALSE),4),\"\"))","v":""},{"$f":"IF(P_16号様式1!L63<> \"\",TEXT(INT(P_16号様式1!L63),\"#,##0\"),\"\")","v":""},{"$f":"IF(P_16号様式1!L63= \"\",\"\",IF(VALUE(FIXED(P_16号様式1!L63,0,TRUE))<>P_16号様式1!L63,RIGHT(FIXED(P_16号様式1!L63,3,FALSE),4),\"\"))","v":""},{"$f":"IF(P_16号様式1!M63=\"\",\"\",P_16号様式1!M63)","v":""},null,{"$f":"IF(P_16号様式1!N63=\"\",\"\",P_16号様式1!N63)","v":""},null,{"$f":"IF(P_16号様式1!O63=\"\",\"\",P_16号様式1!O63)","v":""}]
[{"$f":"IF(P_16号様式1!C64=\"\",\"\",P_16号様式1!C64)","v":""},null,{"$f":"IF(P_16号様式1!D64=\"\",\"\",P_16号様式1!D64)","v":""},{"$f":"IF(P_16号様式1!E64<> \"\",TEXT(INT(P_16号様式1!E64),\"#,##0\"),\"\")","v":""},{"$f":"IF(P_16号様式1!E64= \"\",\"\",IF(VALUE(FIXED(P_16号様式1!E64,0,TRUE))<>P_16号様式1!E64,RIGHT(FIXED(P_16号様式1!E64,3,FALSE),4),\"\"))","v":""},{"$f":"IF(P_16号様式1!F64<> \"\",TEXT(INT(P_16号様式1!F64),\"#,##0\"),\"\")","v":""},{"$f":"IF(P_16号様式1!F64= \"\",\"\",IF(VALUE(FIXED(P_16号様式1!F64,0,TRUE))<>P_16号様式1!F64,RIGHT(FIXED(P_16号様式1!F64,3,FALSE),4),\"\"))","v":""},{"$f":"IF(P_16号様式1!G64<> \"\",TEXT(INT(P_16号様式1!G64),\"#,##0\"),\"\")","v":""},{"$f":"IF(P_16号様式1!G64= \"\",\"\",IF(VALUE(FIXED(P_16号様式1!G64,0,TRUE))<>P_16号様式1!G64,RIGHT(FIXED(P_16号様式1!G64,3,FALSE),4),\"\"))","v":""},{"$f":"IF(P_16号様式1!H64<> \"\",TEXT(INT(P_16号様式1!H64),\"#,##0\"),\"\")","v":""},{"$f":"IF(P_16号様式1!H64= \"\",\"\",IF(VALUE(FIXED(P_16号様式1!H64,0,TRUE))<>P_16号様式1!H64,RIGHT(FIXED(P_16号様式1!H64,3,FALSE),4),\"\"))","v":""},{"$f":"IF(P_16号様式1!I64<> \"\",TEXT(INT(P_16号様式1!I64),\"#,##0\"),\"\")","v":""},{"$f":"IF(P_16号様式1!I64= \"\",\"\",IF(VALUE(FIXED(P_16号様式1!I64,0,TRUE))<>P_16号様式1!I64,RIGHT(FIXED(P_16号様式1!I64,3,FALSE),4),\"\"))","v":""},{"$f":"IF(P_16号様式1!J64<> \"\",TEXT(INT(P_16号様式1!J64),\"#,##0\"),\"\")","v":""},{"$f":"IF(P_16号様式1!J64= \"\",\"\",IF(VALUE(FIXED(P_16号様式1!J64,0,TRUE))<>P_16号様式1!J64,RIGHT(FIXED(P_16号様式1!J64,3,FALSE),4),\"\"))","v":""},{"$f":"IF(P_16号様式1!K64<> \"\",TEXT(INT(P_16号様式1!K64),\"#,##0\"),\"\")","v":""},{"$f":"IF(P_16号様式1!K64= \"\",\"\",IF(VALUE(FIXED(P_16号様式1!K64,0,TRUE))<>P_16号様式1!K64,RIGHT(FIXED(P_16号様式1!K64,3,FALSE),4),\"\"))","v":""},{"$f":"IF(P_16号様式1!L64<> \"\",TEXT(INT(P_16号様式1!L64),\"#,##0\"),\"\")","v":""},{"$f":"IF(P_16号様式1!L64= \"\",\"\",IF(VALUE(FIXED(P_16号様式1!L64,0,TRUE))<>P_16号様式1!L64,RIGHT(FIXED(P_16号様式1!L64,3,FALSE),4),\"\"))","v":""},{"$f":"IF(P_16号様式1!M64=\"\",\"\",P_16号様式1!M64)","v":""},null,{"$f":"IF(P_16号様式1!N64=\"\",\"\",P_16号様式1!N64)","v":""},null,{"$f":"IF(P_16号様式1!O64=\"\",\"\",P_16号様式1!O64)","v":""}]
[{"$f":"IF(P_16号様式1!C65=\"\",\"\",P_16号様式1!C65)","v":""},null,{"$f":"IF(P_16号様式1!D65=\"\",\"\",P_16号様式1!D65)","v":""},{"$f":"IF(P_16号様式1!E65<> \"\",TEXT(INT(P_16号様式1!E65),\"#,##0\"),\"\")","v":""},{"$f":"IF(P_16号様式1!E65= \"\",\"\",IF(VALUE(FIXED(P_16号様式1!E65,0,TRUE))<>P_16号様式1!E65,RIGHT(FIXED(P_16号様式1!E65,3,FALSE),4),\"\"))","v":""},{"$f":"IF(P_16号様式1!F65<> \"\",TEXT(INT(P_16号様式1!F65),\"#,##0\"),\"\")","v":""},{"$f":"IF(P_16号様式1!F65= \"\",\"\",IF(VALUE(FIXED(P_16号様式1!F65,0,TRUE))<>P_16号様式1!F65,RIGHT(FIXED(P_16号様式1!F65,3,FALSE),4),\"\"))","v":""},{"$f":"IF(P_16号様式1!G65<> \"\",TEXT(INT(P_16号様式1!G65),\"#,##0\"),\"\")","v":""},{"$f":"IF(P_16号様式1!G65= \"\",\"\",IF(VALUE(FIXED(P_16号様式1!G65,0,TRUE))<>P_16号様式1!G65,RIGHT(FIXED(P_16号様式1!G65,3,FALSE),4),\"\"))","v":""},{"$f":"IF(P_16号様式1!H65<> \"\",TEXT(INT(P_16号様式1!H65),\"#,##0\"),\"\")","v":""},{"$f":"IF(P_16号様式1!H65= \"\",\"\",IF(VALUE(FIXED(P_16号様式1!H65,0,TRUE))<>P_16号様式1!H65,RIGHT(FIXED(P_16号様式1!H65,3,FALSE),4),\"\"))","v":""},{"$f":"IF(P_16号様式1!I65<> \"\",TEXT(INT(P_16号様式1!I65),\"#,##0\"),\"\")","v":""},{"$f":"IF(P_16号様式1!I65= \"\",\"\",IF(VALUE(FIXED(P_16号様式1!I65,0,TRUE))<>P_16号様式1!I65,RIGHT(FIXED(P_16号様式1!I65,3,FALSE),4),\"\"))","v":""},{"$f":"IF(P_16号様式1!J65<> \"\",TEXT(INT(P_16号様式1!J65),\"#,##0\"),\"\")","v":""},{"$f":"IF(P_16号様式1!J65= \"\",\"\",IF(VALUE(FIXED(P_16号様式1!J65,0,TRUE))<>P_16号様式1!J65,RIGHT(FIXED(P_16号様式1!J65,3,FALSE),4),\"\"))","v":""},{"$f":"IF(P_16号様式1!K65<> \"\",TEXT(INT(P_16号様式1!K65),\"#,##0\"),\"\")","v":""},{"$f":"IF(P_16号様式1!K65= \"\",\"\",IF(VALUE(FIXED(P_16号様式1!K65,0,TRUE))<>P_16号様式1!K65,RIGHT(FIXED(P_16号様式1!K65,3,FALSE),4),\"\"))","v":""},{"$f":"IF(P_16号様式1!L65<> \"\",TEXT(INT(P_16号様式1!L65),\"#,##0\"),\"\")","v":""},{"$f":"IF(P_16号様式1!L65= \"\",\"\",IF(VALUE(FIXED(P_16号様式1!L65,0,TRUE))<>P_16号様式1!L65,RIGHT(FIXED(P_16号様式1!L65,3,FALSE),4),\"\"))","v":""},{"$f":"IF(P_16号様式1!M65=\"\",\"\",P_16号様式1!M65)","v":""},null,{"$f":"IF(P_16号様式1!N65=\"\",\"\",P_16号様式1!N65)","v":""},null,{"$f":"IF(P_16号様式1!O65=\"\",\"\",P_16号様式1!O65)","v":""}]
[{"$f":"IF(P_16号様式1!C66=\"\",\"\",P_16号様式1!C66)","v":""},null,{"$f":"IF(P_16号様式1!D66=\"\",\"\",P_16号様式1!D66)","v":""},{"$f":"IF(P_16号様式1!E66<> \"\",TEXT(INT(P_16号様式1!E66),\"#,##0\"),\"\")","v":""},{"$f":"IF(P_16号様式1!E66= \"\",\"\",IF(VALUE(FIXED(P_16号様式1!E66,0,TRUE))<>P_16号様式1!E66,RIGHT(FIXED(P_16号様式1!E66,3,FALSE),4),\"\"))","v":""},{"$f":"IF(P_16号様式1!F66<> \"\",TEXT(INT(P_16号様式1!F66),\"#,##0\"),\"\")","v":""},{"$f":"IF(P_16号様式1!F66= \"\",\"\",IF(VALUE(FIXED(P_16号様式1!F66,0,TRUE))<>P_16号様式1!F66,RIGHT(FIXED(P_16号様式1!F66,3,FALSE),4),\"\"))","v":""},{"$f":"IF(P_16号様式1!G66<> \"\",TEXT(INT(P_16号様式1!G66),\"#,##0\"),\"\")","v":""},{"$f":"IF(P_16号様式1!G66= \"\",\"\",IF(VALUE(FIXED(P_16号様式1!G66,0,TRUE))<>P_16号様式1!G66,RIGHT(FIXED(P_16号様式1!G66,3,FALSE),4),\"\"))","v":""},{"$f":"IF(P_16号様式1!H66<> \"\",TEXT(INT(P_16号様式1!H66),\"#,##0\"),\"\")","v":""},{"$f":"IF(P_16号様式1!H66= \"\",\"\",IF(VALUE(FIXED(P_16号様式1!H66,0,TRUE))<>P_16号様式1!H66,RIGHT(FIXED(P_16号様式1!H66,3,FALSE),4),\"\"))","v":""},{"$f":"IF(P_16号様式1!I66<> \"\",TEXT(INT(P_16号様式1!I66),\"#,##0\"),\"\")","v":""},{"$f":"IF(P_16号様式1!I66= \"\",\"\",IF(VALUE(FIXED(P_16号様式1!I66,0,TRUE))<>P_16号様式1!I66,RIGHT(FIXED(P_16号様式1!I66,3,FALSE),4),\"\"))","v":""},{"$f":"IF(P_16号様式1!J66<> \"\",TEXT(INT(P_16号様式1!J66),\"#,##0\"),\"\")","v":""},{"$f":"IF(P_16号様式1!J66= \"\",\"\",IF(VALUE(FIXED(P_16号様式1!J66,0,TRUE))<>P_16号様式1!J66,RIGHT(FIXED(P_16号様式1!J66,3,FALSE),4),\"\"))","v":""},{"$f":"IF(P_16号様式1!K66<> \"\",TEXT(INT(P_16号様式1!K66),\"#,##0\"),\"\")","v":""},{"$f":"IF(P_16号様式1!K66= \"\",\"\",IF(VALUE(FIXED(P_16号様式1!K66,0,TRUE))<>P_16号様式1!K66,RIGHT(FIXED(P_16号様式1!K66,3,FALSE),4),\"\"))","v":""},{"$f":"IF(P_16号様式1!L66<> \"\",TEXT(INT(P_16号様式1!L66),\"#,##0\"),\"\")","v":""},{"$f":"IF(P_16号様式1!L66= \"\",\"\",IF(VALUE(FIXED(P_16号様式1!L66,0,TRUE))<>P_16号様式1!L66,RIGHT(FIXED(P_16号様式1!L66,3,FALSE),4),\"\"))","v":""},{"$f":"IF(P_16号様式1!M66=\"\",\"\",P_16号様式1!M66)","v":""},null,{"$f":"IF(P_16号様式1!N66=\"\",\"\",P_16号様式1!N66)","v":""},null,{"$f":"IF(P_16号様式1!O66=\"\",\"\",P_16号様式1!O66)","v":""}]
[{"$f":"IF(P_16号様式1!C67=\"\",\"\",P_16号様式1!C67)","v":""},null,{"$f":"IF(P_16号様式1!D67=\"\",\"\",P_16号様式1!D67)","v":""},{"$f":"IF(P_16号様式1!E67<> \"\",TEXT(INT(P_16号様式1!E67),\"#,##0\"),\"\")","v":""},{"$f":"IF(P_16号様式1!E67= \"\",\"\",IF(VALUE(FIXED(P_16号様式1!E67,0,TRUE))<>P_16号様式1!E67,RIGHT(FIXED(P_16号様式1!E67,3,FALSE),4),\"\"))","v":""},{"$f":"IF(P_16号様式1!F67<> \"\",TEXT(INT(P_16号様式1!F67),\"#,##0\"),\"\")","v":""},{"$f":"IF(P_16号様式1!F67= \"\",\"\",IF(VALUE(FIXED(P_16号様式1!F67,0,TRUE))<>P_16号様式1!F67,RIGHT(FIXED(P_16号様式1!F67,3,FALSE),4),\"\"))","v":""},{"$f":"IF(P_16号様式1!G67<> \"\",TEXT(INT(P_16号様式1!G67),\"#,##0\"),\"\")","v":""},{"$f":"IF(P_16号様式1!G67= \"\",\"\",IF(VALUE(FIXED(P_16号様式1!G67,0,TRUE))<>P_16号様式1!G67,RIGHT(FIXED(P_16号様式1!G67,3,FALSE),4),\"\"))","v":""},{"$f":"IF(P_16号様式1!H67<> \"\",TEXT(INT(P_16号様式1!H67),\"#,##0\"),\"\")","v":""},{"$f":"IF(P_16号様式1!H67= \"\",\"\",IF(VALUE(FIXED(P_16号様式1!H67,0,TRUE))<>P_16号様式1!H67,RIGHT(FIXED(P_16号様式1!H67,3,FALSE),4),\"\"))","v":""},{"$f":"IF(P_16号様式1!I67<> \"\",TEXT(INT(P_16号様式1!I67),\"#,##0\"),\"\")","v":""},{"$f":"IF(P_16号様式1!I67= \"\",\"\",IF(VALUE(FIXED(P_16号様式1!I67,0,TRUE))<>P_16号様式1!I67,RIGHT(FIXED(P_16号様式1!I67,3,FALSE),4),\"\"))","v":""},{"$f":"IF(P_16号様式1!J67<> \"\",TEXT(INT(P_16号様式1!J67),\"#,##0\"),\"\")","v":""},{"$f":"IF(P_16号様式1!J67= \"\",\"\",IF(VALUE(FIXED(P_16号様式1!J67,0,TRUE))<>P_16号様式1!J67,RIGHT(FIXED(P_16号様式1!J67,3,FALSE),4),\"\"))","v":""},{"$f":"IF(P_16号様式1!K67<> \"\",TEXT(INT(P_16号様式1!K67),\"#,##0\"),\"\")","v":""},{"$f":"IF(P_16号様式1!K67= \"\",\"\",IF(VALUE(FIXED(P_16号様式1!K67,0,TRUE))<>P_16号様式1!K67,RIGHT(FIXED(P_16号様式1!K67,3,FALSE),4),\"\"))","v":""},{"$f":"IF(P_16号様式1!L67<> \"\",TEXT(INT(P_16号様式1!L67),\"#,##0\"),\"\")","v":""},{"$f":"IF(P_16号様式1!L67= \"\",\"\",IF(VALUE(FIXED(P_16号様式1!L67,0,TRUE))<>P_16号様式1!L67,RIGHT(FIXED(P_16号様式1!L67,3,FALSE),4),\"\"))","v":""},{"$f":"IF(P_16号様式1!M67=\"\",\"\",P_16号様式1!M67)","v":""},null,{"$f":"IF(P_16号様式1!N67=\"\",\"\",P_16号様式1!N67)","v":""},null,{"$f":"IF(P_16号様式1!O67=\"\",\"\",P_16号様式1!O67)","v":""}]
[{"$f":"IF(P_16号様式1!C68=\"\",\"\",P_16号様式1!C68)","v":""},null,{"$f":"IF(P_16号様式1!D68=\"\",\"\",P_16号様式1!D68)","v":""},{"$f":"IF(P_16号様式1!E68<> \"\",TEXT(INT(P_16号様式1!E68),\"#,##0\"),\"\")","v":""},{"$f":"IF(P_16号様式1!E68= \"\",\"\",IF(VALUE(FIXED(P_16号様式1!E68,0,TRUE))<>P_16号様式1!E68,RIGHT(FIXED(P_16号様式1!E68,3,FALSE),4),\"\"))","v":""},{"$f":"IF(P_16号様式1!F68<> \"\",TEXT(INT(P_16号様式1!F68),\"#,##0\"),\"\")","v":""},{"$f":"IF(P_16号様式1!F68= \"\",\"\",IF(VALUE(FIXED(P_16号様式1!F68,0,TRUE))<>P_16号様式1!F68,RIGHT(FIXED(P_16号様式1!F68,3,FALSE),4),\"\"))","v":""},{"$f":"IF(P_16号様式1!G68<> \"\",TEXT(INT(P_16号様式1!G68),\"#,##0\"),\"\")","v":""},{"$f":"IF(P_16号様式1!G68= \"\",\"\",IF(VALUE(FIXED(P_16号様式1!G68,0,TRUE))<>P_16号様式1!G68,RIGHT(FIXED(P_16号様式1!G68,3,FALSE),4),\"\"))","v":""},{"$f":"IF(P_16号様式1!H68<> \"\",TEXT(INT(P_16号様式1!H68),\"#,##0\"),\"\")","v":""},{"$f":"IF(P_16号様式1!H68= \"\",\"\",IF(VALUE(FIXED(P_16号様式1!H68,0,TRUE))<>P_16号様式1!H68,RIGHT(FIXED(P_16号様式1!H68,3,FALSE),4),\"\"))","v":""},{"$f":"IF(P_16号様式1!I68<> \"\",TEXT(INT(P_16号様式1!I68),\"#,##0\"),\"\")","v":""},{"$f":"IF(P_16号様式1!I68= \"\",\"\",IF(VALUE(FIXED(P_16号様式1!I68,0,TRUE))<>P_16号様式1!I68,RIGHT(FIXED(P_16号様式1!I68,3,FALSE),4),\"\"))","v":""},{"$f":"IF(P_16号様式1!J68<> \"\",TEXT(INT(P_16号様式1!J68),\"#,##0\"),\"\")","v":""},{"$f":"IF(P_16号様式1!J68= \"\",\"\",IF(VALUE(FIXED(P_16号様式1!J68,0,TRUE))<>P_16号様式1!J68,RIGHT(FIXED(P_16号様式1!J68,3,FALSE),4),\"\"))","v":""},{"$f":"IF(P_16号様式1!K68<> \"\",TEXT(INT(P_16号様式1!K68),\"#,##0\"),\"\")","v":""},{"$f":"IF(P_16号様式1!K68= \"\",\"\",IF(VALUE(FIXED(P_16号様式1!K68,0,TRUE))<>P_16号様式1!K68,RIGHT(FIXED(P_16号様式1!K68,3,FALSE),4),\"\"))","v":""},{"$f":"IF(P_16号様式1!L68<> \"\",TEXT(INT(P_16号様式1!L68),\"#,##0\"),\"\")","v":""},{"$f":"IF(P_16号様式1!L68= \"\",\"\",IF(VALUE(FIXED(P_16号様式1!L68,0,TRUE))<>P_16号様式1!L68,RIGHT(FIXED(P_16号様式1!L68,3,FALSE),4),\"\"))","v":""},{"$f":"IF(P_16号様式1!M68=\"\",\"\",P_16号様式1!M68)","v":""},null,{"$f":"IF(P_16号様式1!N68=\"\",\"\",P_16号様式1!N68)","v":""},null,{"$f":"IF(P_16号様式1!O68=\"\",\"\",P_16号様式1!O68)","v":""}]
[{"$f":"IF(P_16号様式1!C69=\"\",\"\",P_16号様式1!C69)","v":""},null,{"$f":"IF(P_16号様式1!D69=\"\",\"\",P_16号様式1!D69)","v":""},{"$f":"IF(P_16号様式1!E69<> \"\",TEXT(INT(P_16号様式1!E69),\"#,##0\"),\"\")","v":""},{"$f":"IF(P_16号様式1!E69= \"\",\"\",IF(VALUE(FIXED(P_16号様式1!E69,0,TRUE))<>P_16号様式1!E69,RIGHT(FIXED(P_16号様式1!E69,3,FALSE),4),\"\"))","v":""},{"$f":"IF(P_16号様式1!F69<> \"\",TEXT(INT(P_16号様式1!F69),\"#,##0\"),\"\")","v":""},{"$f":"IF(P_16号様式1!F69= \"\",\"\",IF(VALUE(FIXED(P_16号様式1!F69,0,TRUE))<>P_16号様式1!F69,RIGHT(FIXED(P_16号様式1!F69,3,FALSE),4),\"\"))","v":""},{"$f":"IF(P_16号様式1!G69<> \"\",TEXT(INT(P_16号様式1!G69),\"#,##0\"),\"\")","v":""},{"$f":"IF(P_16号様式1!G69= \"\",\"\",IF(VALUE(FIXED(P_16号様式1!G69,0,TRUE))<>P_16号様式1!G69,RIGHT(FIXED(P_16号様式1!G69,3,FALSE),4),\"\"))","v":""},{"$f":"IF(P_16号様式1!H69<> \"\",TEXT(INT(P_16号様式1!H69),\"#,##0\"),\"\")","v":""},{"$f":"IF(P_16号様式1!H69= \"\",\"\",IF(VALUE(FIXED(P_16号様式1!H69,0,TRUE))<>P_16号様式1!H69,RIGHT(FIXED(P_16号様式1!H69,3,FALSE),4),\"\"))","v":""},{"$f":"IF(P_16号様式1!I69<> \"\",TEXT(INT(P_16号様式1!I69),\"#,##0\"),\"\")","v":""},{"$f":"IF(P_16号様式1!I69= \"\",\"\",IF(VALUE(FIXED(P_16号様式1!I69,0,TRUE))<>P_16号様式1!I69,RIGHT(FIXED(P_16号様式1!I69,3,FALSE),4),\"\"))","v":""},{"$f":"IF(P_16号様式1!J69<> \"\",TEXT(INT(P_16号様式1!J69),\"#,##0\"),\"\")","v":""},{"$f":"IF(P_16号様式1!J69= \"\",\"\",IF(VALUE(FIXED(P_16号様式1!J69,0,TRUE))<>P_16号様式1!J69,RIGHT(FIXED(P_16号様式1!J69,3,FALSE),4),\"\"))","v":""},{"$f":"IF(P_16号様式1!K69<> \"\",TEXT(INT(P_16号様式1!K69),\"#,##0\"),\"\")","v":""},{"$f":"IF(P_16号様式1!K69= \"\",\"\",IF(VALUE(FIXED(P_16号様式1!K69,0,TRUE))<>P_16号様式1!K69,RIGHT(FIXED(P_16号様式1!K69,3,FALSE),4),\"\"))","v":""},{"$f":"IF(P_16号様式1!L69<> \"\",TEXT(INT(P_16号様式1!L69),\"#,##0\"),\"\")","v":""},{"$f":"IF(P_16号様式1!L69= \"\",\"\",IF(VALUE(FIXED(P_16号様式1!L69,0,TRUE))<>P_16号様式1!L69,RIGHT(FIXED(P_16号様式1!L69,3,FALSE),4),\"\"))","v":""},{"$f":"IF(P_16号様式1!M69=\"\",\"\",P_16号様式1!M69)","v":""},null,{"$f":"IF(P_16号様式1!N69=\"\",\"\",P_16号様式1!N69)","v":""},null,{"$f":"IF(P_16号様式1!O69=\"\",\"\",P_16号様式1!O69)","v":""}]
[{"$f":"IF(P_16号様式1!C70=\"\",\"\",P_16号様式1!C70)","v":""},null,{"$f":"IF(P_16号様式1!D70=\"\",\"\",P_16号様式1!D70)","v":""},{"$f":"IF(P_16号様式1!E70<> \"\",TEXT(INT(P_16号様式1!E70),\"#,##0\"),\"\")","v":""},{"$f":"IF(P_16号様式1!E70= \"\",\"\",IF(VALUE(FIXED(P_16号様式1!E70,0,TRUE))<>P_16号様式1!E70,RIGHT(FIXED(P_16号様式1!E70,3,FALSE),4),\"\"))","v":""},{"$f":"IF(P_16号様式1!F70<> \"\",TEXT(INT(P_16号様式1!F70),\"#,##0\"),\"\")","v":""},{"$f":"IF(P_16号様式1!F70= \"\",\"\",IF(VALUE(FIXED(P_16号様式1!F70,0,TRUE))<>P_16号様式1!F70,RIGHT(FIXED(P_16号様式1!F70,3,FALSE),4),\"\"))","v":""},{"$f":"IF(P_16号様式1!G70<> \"\",TEXT(INT(P_16号様式1!G70),\"#,##0\"),\"\")","v":""},{"$f":"IF(P_16号様式1!G70= \"\",\"\",IF(VALUE(FIXED(P_16号様式1!G70,0,TRUE))<>P_16号様式1!G70,RIGHT(FIXED(P_16号様式1!G70,3,FALSE),4),\"\"))","v":""},{"$f":"IF(P_16号様式1!H70<> \"\",TEXT(INT(P_16号様式1!H70),\"#,##0\"),\"\")","v":""},{"$f":"IF(P_16号様式1!H70= \"\",\"\",IF(VALUE(FIXED(P_16号様式1!H70,0,TRUE))<>P_16号様式1!H70,RIGHT(FIXED(P_16号様式1!H70,3,FALSE),4),\"\"))","v":""},{"$f":"IF(P_16号様式1!I70<> \"\",TEXT(INT(P_16号様式1!I70),\"#,##0\"),\"\")","v":""},{"$f":"IF(P_16号様式1!I70= \"\",\"\",IF(VALUE(FIXED(P_16号様式1!I70,0,TRUE))<>P_16号様式1!I70,RIGHT(FIXED(P_16号様式1!I70,3,FALSE),4),\"\"))","v":""},{"$f":"IF(P_16号様式1!J70<> \"\",TEXT(INT(P_16号様式1!J70),\"#,##0\"),\"\")","v":""},{"$f":"IF(P_16号様式1!J70= \"\",\"\",IF(VALUE(FIXED(P_16号様式1!J70,0,TRUE))<>P_16号様式1!J70,RIGHT(FIXED(P_16号様式1!J70,3,FALSE),4),\"\"))","v":""},{"$f":"IF(P_16号様式1!K70<> \"\",TEXT(INT(P_16号様式1!K70),\"#,##0\"),\"\")","v":""},{"$f":"IF(P_16号様式1!K70= \"\",\"\",IF(VALUE(FIXED(P_16号様式1!K70,0,TRUE))<>P_16号様式1!K70,RIGHT(FIXED(P_16号様式1!K70,3,FALSE),4),\"\"))","v":""},{"$f":"IF(P_16号様式1!L70<> \"\",TEXT(INT(P_16号様式1!L70),\"#,##0\"),\"\")","v":""},{"$f":"IF(P_16号様式1!L70= \"\",\"\",IF(VALUE(FIXED(P_16号様式1!L70,0,TRUE))<>P_16号様式1!L70,RIGHT(FIXED(P_16号様式1!L70,3,FALSE),4),\"\"))","v":""},{"$f":"IF(P_16号様式1!M70=\"\",\"\",P_16号様式1!M70)","v":""},null,{"$f":"IF(P_16号様式1!N70=\"\",\"\",P_16号様式1!N70)","v":""},null,{"$f":"IF(P_16号様式1!O70=\"\",\"\",P_16号様式1!O70)","v":""}]
[{"$f":"IF(P_16号様式1!C71=\"\",\"\",P_16号様式1!C71)","v":""},null,{"$f":"IF(P_16号様式1!D71=\"\",\"\",P_16号様式1!D71)","v":""},{"$f":"IF(P_16号様式1!E71<> \"\",TEXT(INT(P_16号様式1!E71),\"#,##0\"),\"\")","v":""},{"$f":"IF(P_16号様式1!E71= \"\",\"\",IF(VALUE(FIXED(P_16号様式1!E71,0,TRUE))<>P_16号様式1!E71,RIGHT(FIXED(P_16号様式1!E71,3,FALSE),4),\"\"))","v":""},{"$f":"IF(P_16号様式1!F71<> \"\",TEXT(INT(P_16号様式1!F71),\"#,##0\"),\"\")","v":""},{"$f":"IF(P_16号様式1!F71= \"\",\"\",IF(VALUE(FIXED(P_16号様式1!F71,0,TRUE))<>P_16号様式1!F71,RIGHT(FIXED(P_16号様式1!F71,3,FALSE),4),\"\"))","v":""},{"$f":"IF(P_16号様式1!G71<> \"\",TEXT(INT(P_16号様式1!G71),\"#,##0\"),\"\")","v":""},{"$f":"IF(P_16号様式1!G71= \"\",\"\",IF(VALUE(FIXED(P_16号様式1!G71,0,TRUE))<>P_16号様式1!G71,RIGHT(FIXED(P_16号様式1!G71,3,FALSE),4),\"\"))","v":""},{"$f":"IF(P_16号様式1!H71<> \"\",TEXT(INT(P_16号様式1!H71),\"#,##0\"),\"\")","v":""},{"$f":"IF(P_16号様式1!H71= \"\",\"\",IF(VALUE(FIXED(P_16号様式1!H71,0,TRUE))<>P_16号様式1!H71,RIGHT(FIXED(P_16号様式1!H71,3,FALSE),4),\"\"))","v":""},{"$f":"IF(P_16号様式1!I71<> \"\",TEXT(INT(P_16号様式1!I71),\"#,##0\"),\"\")","v":""},{"$f":"IF(P_16号様式1!I71= \"\",\"\",IF(VALUE(FIXED(P_16号様式1!I71,0,TRUE))<>P_16号様式1!I71,RIGHT(FIXED(P_16号様式1!I71,3,FALSE),4),\"\"))","v":""},{"$f":"IF(P_16号様式1!J71<> \"\",TEXT(INT(P_16号様式1!J71),\"#,##0\"),\"\")","v":""},{"$f":"IF(P_16号様式1!J71= \"\",\"\",IF(VALUE(FIXED(P_16号様式1!J71,0,TRUE))<>P_16号様式1!J71,RIGHT(FIXED(P_16号様式1!J71,3,FALSE),4),\"\"))","v":""},{"$f":"IF(P_16号様式1!K71<> \"\",TEXT(INT(P_16号様式1!K71),\"#,##0\"),\"\")","v":""},{"$f":"IF(P_16号様式1!K71= \"\",\"\",IF(VALUE(FIXED(P_16号様式1!K71,0,TRUE))<>P_16号様式1!K71,RIGHT(FIXED(P_16号様式1!K71,3,FALSE),4),\"\"))","v":""},{"$f":"IF(P_16号様式1!L71<> \"\",TEXT(INT(P_16号様式1!L71),\"#,##0\"),\"\")","v":""},{"$f":"IF(P_16号様式1!L71= \"\",\"\",IF(VALUE(FIXED(P_16号様式1!L71,0,TRUE))<>P_16号様式1!L71,RIGHT(FIXED(P_16号様式1!L71,3,FALSE),4),\"\"))","v":""},{"$f":"IF(P_16号様式1!M71=\"\",\"\",P_16号様式1!M71)","v":""},null,{"$f":"IF(P_16号様式1!N71=\"\",\"\",P_16号様式1!N71)","v":""},null,{"$f":"IF(P_16号様式1!O71=\"\",\"\",P_16号様式1!O71)","v":""}]
[{"$f":"IF(P_16号様式1!C72=\"\",\"\",P_16号様式1!C72)","v":""},null,{"$f":"IF(P_16号様式1!D72=\"\",\"\",P_16号様式1!D72)","v":""},{"$f":"IF(P_16号様式1!E72<> \"\",TEXT(INT(P_16号様式1!E72),\"#,##0\"),\"\")","v":""},{"$f":"IF(P_16号様式1!E72= \"\",\"\",IF(VALUE(FIXED(P_16号様式1!E72,0,TRUE))<>P_16号様式1!E72,RIGHT(FIXED(P_16号様式1!E72,3,FALSE),4),\"\"))","v":""},{"$f":"IF(P_16号様式1!F72<> \"\",TEXT(INT(P_16号様式1!F72),\"#,##0\"),\"\")","v":""},{"$f":"IF(P_16号様式1!F72= \"\",\"\",IF(VALUE(FIXED(P_16号様式1!F72,0,TRUE))<>P_16号様式1!F72,RIGHT(FIXED(P_16号様式1!F72,3,FALSE),4),\"\"))","v":""},{"$f":"IF(P_16号様式1!G72<> \"\",TEXT(INT(P_16号様式1!G72),\"#,##0\"),\"\")","v":""},{"$f":"IF(P_16号様式1!G72= \"\",\"\",IF(VALUE(FIXED(P_16号様式1!G72,0,TRUE))<>P_16号様式1!G72,RIGHT(FIXED(P_16号様式1!G72,3,FALSE),4),\"\"))","v":""},{"$f":"IF(P_16号様式1!H72<> \"\",TEXT(INT(P_16号様式1!H72),\"#,##0\"),\"\")","v":""},{"$f":"IF(P_16号様式1!H72= \"\",\"\",IF(VALUE(FIXED(P_16号様式1!H72,0,TRUE))<>P_16号様式1!H72,RIGHT(FIXED(P_16号様式1!H72,3,FALSE),4),\"\"))","v":""},{"$f":"IF(P_16号様式1!I72<> \"\",TEXT(INT(P_16号様式1!I72),\"#,##0\"),\"\")","v":""},{"$f":"IF(P_16号様式1!I72= \"\",\"\",IF(VALUE(FIXED(P_16号様式1!I72,0,TRUE))<>P_16号様式1!I72,RIGHT(FIXED(P_16号様式1!I72,3,FALSE),4),\"\"))","v":""},{"$f":"IF(P_16号様式1!J72<> \"\",TEXT(INT(P_16号様式1!J72),\"#,##0\"),\"\")","v":""},{"$f":"IF(P_16号様式1!J72= \"\",\"\",IF(VALUE(FIXED(P_16号様式1!J72,0,TRUE))<>P_16号様式1!J72,RIGHT(FIXED(P_16号様式1!J72,3,FALSE),4),\"\"))","v":""},{"$f":"IF(P_16号様式1!K72<> \"\",TEXT(INT(P_16号様式1!K72),\"#,##0\"),\"\")","v":""},{"$f":"IF(P_16号様式1!K72= \"\",\"\",IF(VALUE(FIXED(P_16号様式1!K72,0,TRUE))<>P_16号様式1!K72,RIGHT(FIXED(P_16号様式1!K72,3,FALSE),4),\"\"))","v":""},{"$f":"IF(P_16号様式1!L72<> \"\",TEXT(INT(P_16号様式1!L72),\"#,##0\"),\"\")","v":""},{"$f":"IF(P_16号様式1!L72= \"\",\"\",IF(VALUE(FIXED(P_16号様式1!L72,0,TRUE))<>P_16号様式1!L72,RIGHT(FIXED(P_16号様式1!L72,3,FALSE),4),\"\"))","v":""},{"$f":"IF(P_16号様式1!M72=\"\",\"\",P_16号様式1!M72)","v":""},null,{"$f":"IF(P_16号様式1!N72=\"\",\"\",P_16号様式1!N72)","v":""},null,{"$f":"IF(P_16号様式1!O72=\"\",\"\",P_16号様式1!O72)","v":""}]
[{"$f":"IF(P_16号様式1!C73=\"\",\"\",P_16号様式1!C73)","v":""},null,{"$f":"IF(P_16号様式1!D73=\"\",\"\",P_16号様式1!D73)","v":""},{"$f":"IF(P_16号様式1!E73<> \"\",TEXT(INT(P_16号様式1!E73),\"#,##0\"),\"\")","v":""},{"$f":"IF(P_16号様式1!E73= \"\",\"\",IF(VALUE(FIXED(P_16号様式1!E73,0,TRUE))<>P_16号様式1!E73,RIGHT(FIXED(P_16号様式1!E73,3,FALSE),4),\"\"))","v":""},{"$f":"IF(P_16号様式1!F73<> \"\",TEXT(INT(P_16号様式1!F73),\"#,##0\"),\"\")","v":""},{"$f":"IF(P_16号様式1!F73= \"\",\"\",IF(VALUE(FIXED(P_16号様式1!F73,0,TRUE))<>P_16号様式1!F73,RIGHT(FIXED(P_16号様式1!F73,3,FALSE),4),\"\"))","v":""},{"$f":"IF(P_16号様式1!G73<> \"\",TEXT(INT(P_16号様式1!G73),\"#,##0\"),\"\")","v":""},{"$f":"IF(P_16号様式1!G73= \"\",\"\",IF(VALUE(FIXED(P_16号様式1!G73,0,TRUE))<>P_16号様式1!G73,RIGHT(FIXED(P_16号様式1!G73,3,FALSE),4),\"\"))","v":""},{"$f":"IF(P_16号様式1!H73<> \"\",TEXT(INT(P_16号様式1!H73),\"#,##0\"),\"\")","v":""},{"$f":"IF(P_16号様式1!H73= \"\",\"\",IF(VALUE(FIXED(P_16号様式1!H73,0,TRUE))<>P_16号様式1!H73,RIGHT(FIXED(P_16号様式1!H73,3,FALSE),4),\"\"))","v":""},{"$f":"IF(P_16号様式1!I73<> \"\",TEXT(INT(P_16号様式1!I73),\"#,##0\"),\"\")","v":""},{"$f":"IF(P_16号様式1!I73= \"\",\"\",IF(VALUE(FIXED(P_16号様式1!I73,0,TRUE))<>P_16号様式1!I73,RIGHT(FIXED(P_16号様式1!I73,3,FALSE),4),\"\"))","v":""},{"$f":"IF(P_16号様式1!J73<> \"\",TEXT(INT(P_16号様式1!J73),\"#,##0\"),\"\")","v":""},{"$f":"IF(P_16号様式1!J73= \"\",\"\",IF(VALUE(FIXED(P_16号様式1!J73,0,TRUE))<>P_16号様式1!J73,RIGHT(FIXED(P_16号様式1!J73,3,FALSE),4),\"\"))","v":""},{"$f":"IF(P_16号様式1!K73<> \"\",TEXT(INT(P_16号様式1!K73),\"#,##0\"),\"\")","v":""},{"$f":"IF(P_16号様式1!K73= \"\",\"\",IF(VALUE(FIXED(P_16号様式1!K73,0,TRUE))<>P_16号様式1!K73,RIGHT(FIXED(P_16号様式1!K73,3,FALSE),4),\"\"))","v":""},{"$f":"IF(P_16号様式1!L73<> \"\",TEXT(INT(P_16号様式1!L73),\"#,##0\"),\"\")","v":""},{"$f":"IF(P_16号様式1!L73= \"\",\"\",IF(VALUE(FIXED(P_16号様式1!L73,0,TRUE))<>P_16号様式1!L73,RIGHT(FIXED(P_16号様式1!L73,3,FALSE),4),\"\"))","v":""},{"$f":"IF(P_16号様式1!M73=\"\",\"\",P_16号様式1!M73)","v":""},null,{"$f":"IF(P_16号様式1!N73=\"\",\"\",P_16号様式1!N73)","v":""},null,{"$f":"IF(P_16号様式1!O73=\"\",\"\",P_16号様式1!O73)","v":""}]
[{"$f":"IF(P_16号様式1!C74=\"\",\"\",P_16号様式1!C74)","v":""},null,{"$f":"IF(P_16号様式1!D74=\"\",\"\",P_16号様式1!D74)","v":""},{"$f":"IF(P_16号様式1!E74<> \"\",TEXT(INT(P_16号様式1!E74),\"#,##0\"),\"\")","v":""},{"$f":"IF(P_16号様式1!E74= \"\",\"\",IF(VALUE(FIXED(P_16号様式1!E74,0,TRUE))<>P_16号様式1!E74,RIGHT(FIXED(P_16号様式1!E74,3,FALSE),4),\"\"))","v":""},{"$f":"IF(P_16号様式1!F74<> \"\",TEXT(INT(P_16号様式1!F74),\"#,##0\"),\"\")","v":""},{"$f":"IF(P_16号様式1!F74= \"\",\"\",IF(VALUE(FIXED(P_16号様式1!F74,0,TRUE))<>P_16号様式1!F74,RIGHT(FIXED(P_16号様式1!F74,3,FALSE),4),\"\"))","v":""},{"$f":"IF(P_16号様式1!G74<> \"\",TEXT(INT(P_16号様式1!G74),\"#,##0\"),\"\")","v":""},{"$f":"IF(P_16号様式1!G74= \"\",\"\",IF(VALUE(FIXED(P_16号様式1!G74,0,TRUE))<>P_16号様式1!G74,RIGHT(FIXED(P_16号様式1!G74,3,FALSE),4),\"\"))","v":""},{"$f":"IF(P_16号様式1!H74<> \"\",TEXT(INT(P_16号様式1!H74),\"#,##0\"),\"\")","v":""},{"$f":"IF(P_16号様式1!H74= \"\",\"\",IF(VALUE(FIXED(P_16号様式1!H74,0,TRUE))<>P_16号様式1!H74,RIGHT(FIXED(P_16号様式1!H74,3,FALSE),4),\"\"))","v":""},{"$f":"IF(P_16号様式1!I74<> \"\",TEXT(INT(P_16号様式1!I74),\"#,##0\"),\"\")","v":""},{"$f":"IF(P_16号様式1!I74= \"\",\"\",IF(VALUE(FIXED(P_16号様式1!I74,0,TRUE))<>P_16号様式1!I74,RIGHT(FIXED(P_16号様式1!I74,3,FALSE),4),\"\"))","v":""},{"$f":"IF(P_16号様式1!J74<> \"\",TEXT(INT(P_16号様式1!J74),\"#,##0\"),\"\")","v":""},{"$f":"IF(P_16号様式1!J74= \"\",\"\",IF(VALUE(FIXED(P_16号様式1!J74,0,TRUE))<>P_16号様式1!J74,RIGHT(FIXED(P_16号様式1!J74,3,FALSE),4),\"\"))","v":""},{"$f":"IF(P_16号様式1!K74<> \"\",TEXT(INT(P_16号様式1!K74),\"#,##0\"),\"\")","v":""},{"$f":"IF(P_16号様式1!K74= \"\",\"\",IF(VALUE(FIXED(P_16号様式1!K74,0,TRUE))<>P_16号様式1!K74,RIGHT(FIXED(P_16号様式1!K74,3,FALSE),4),\"\"))","v":""},{"$f":"IF(P_16号様式1!L74<> \"\",TEXT(INT(P_16号様式1!L74),\"#,##0\"),\"\")","v":""},{"$f":"IF(P_16号様式1!L74= \"\",\"\",IF(VALUE(FIXED(P_16号様式1!L74,0,TRUE))<>P_16号様式1!L74,RIGHT(FIXED(P_16号様式1!L74,3,FALSE),4),\"\"))","v":""},{"$f":"IF(P_16号様式1!M74=\"\",\"\",P_16号様式1!M74)","v":""},null,{"$f":"IF(P_16号様式1!N74=\"\",\"\",P_16号様式1!N74)","v":""},null,{"$f":"IF(P_16号様式1!O74=\"\",\"\",P_16号様式1!O74)","v":""}]
[{"$f":"IF(P_16号様式1!C75=\"\",\"\",P_16号様式1!C75)","v":""},null,{"$f":"IF(P_16号様式1!D75=\"\",\"\",P_16号様式1!D75)","v":""},{"$f":"IF(P_16号様式1!E75<> \"\",TEXT(INT(P_16号様式1!E75),\"#,##0\"),\"\")","v":""},{"$f":"IF(P_16号様式1!E75= \"\",\"\",IF(VALUE(FIXED(P_16号様式1!E75,0,TRUE))<>P_16号様式1!E75,RIGHT(FIXED(P_16号様式1!E75,3,FALSE),4),\"\"))","v":""},{"$f":"IF(P_16号様式1!F75<> \"\",TEXT(INT(P_16号様式1!F75),\"#,##0\"),\"\")","v":""},{"$f":"IF(P_16号様式1!F75= \"\",\"\",IF(VALUE(FIXED(P_16号様式1!F75,0,TRUE))<>P_16号様式1!F75,RIGHT(FIXED(P_16号様式1!F75,3,FALSE),4),\"\"))","v":""},{"$f":"IF(P_16号様式1!G75<> \"\",TEXT(INT(P_16号様式1!G75),\"#,##0\"),\"\")","v":""},{"$f":"IF(P_16号様式1!G75= \"\",\"\",IF(VALUE(FIXED(P_16号様式1!G75,0,TRUE))<>P_16号様式1!G75,RIGHT(FIXED(P_16号様式1!G75,3,FALSE),4),\"\"))","v":""},{"$f":"IF(P_16号様式1!H75<> \"\",TEXT(INT(P_16号様式1!H75),\"#,##0\"),\"\")","v":""},{"$f":"IF(P_16号様式1!H75= \"\",\"\",IF(VALUE(FIXED(P_16号様式1!H75,0,TRUE))<>P_16号様式1!H75,RIGHT(FIXED(P_16号様式1!H75,3,FALSE),4),\"\"))","v":""},{"$f":"IF(P_16号様式1!I75<> \"\",TEXT(INT(P_16号様式1!I75),\"#,##0\"),\"\")","v":""},{"$f":"IF(P_16号様式1!I75= \"\",\"\",IF(VALUE(FIXED(P_16号様式1!I75,0,TRUE))<>P_16号様式1!I75,RIGHT(FIXED(P_16号様式1!I75,3,FALSE),4),\"\"))","v":""},{"$f":"IF(P_16号様式1!J75<> \"\",TEXT(INT(P_16号様式1!J75),\"#,##0\"),\"\")","v":""},{"$f":"IF(P_16号様式1!J75= \"\",\"\",IF(VALUE(FIXED(P_16号様式1!J75,0,TRUE))<>P_16号様式1!J75,RIGHT(FIXED(P_16号様式1!J75,3,FALSE),4),\"\"))","v":""},{"$f":"IF(P_16号様式1!K75<> \"\",TEXT(INT(P_16号様式1!K75),\"#,##0\"),\"\")","v":""},{"$f":"IF(P_16号様式1!K75= \"\",\"\",IF(VALUE(FIXED(P_16号様式1!K75,0,TRUE))<>P_16号様式1!K75,RIGHT(FIXED(P_16号様式1!K75,3,FALSE),4),\"\"))","v":""},{"$f":"IF(P_16号様式1!L75<> \"\",TEXT(INT(P_16号様式1!L75),\"#,##0\"),\"\")","v":""},{"$f":"IF(P_16号様式1!L75= \"\",\"\",IF(VALUE(FIXED(P_16号様式1!L75,0,TRUE))<>P_16号様式1!L75,RIGHT(FIXED(P_16号様式1!L75,3,FALSE),4),\"\"))","v":""},{"$f":"IF(P_16号様式1!M75=\"\",\"\",P_16号様式1!M75)","v":""},null,{"$f":"IF(P_16号様式1!N75=\"\",\"\",P_16号様式1!N75)","v":""},null,{"$f":"IF(P_16号様式1!O75=\"\",\"\",P_16号様式1!O75)","v":""}]
[{"$f":"IF(P_16号様式1!C76=\"\",\"\",P_16号様式1!C76)","v":""},null,{"$f":"IF(P_16号様式1!D76=\"\",\"\",P_16号様式1!D76)","v":""},{"$f":"IF(P_16号様式1!E76<> \"\",TEXT(INT(P_16号様式1!E76),\"#,##0\"),\"\")","v":""},{"$f":"IF(P_16号様式1!E76= \"\",\"\",IF(VALUE(FIXED(P_16号様式1!E76,0,TRUE))<>P_16号様式1!E76,RIGHT(FIXED(P_16号様式1!E76,3,FALSE),4),\"\"))","v":""},{"$f":"IF(P_16号様式1!F76<> \"\",TEXT(INT(P_16号様式1!F76),\"#,##0\"),\"\")","v":""},{"$f":"IF(P_16号様式1!F76= \"\",\"\",IF(VALUE(FIXED(P_16号様式1!F76,0,TRUE))<>P_16号様式1!F76,RIGHT(FIXED(P_16号様式1!F76,3,FALSE),4),\"\"))","v":""},{"$f":"IF(P_16号様式1!G76<> \"\",TEXT(INT(P_16号様式1!G76),\"#,##0\"),\"\")","v":""},{"$f":"IF(P_16号様式1!G76= \"\",\"\",IF(VALUE(FIXED(P_16号様式1!G76,0,TRUE))<>P_16号様式1!G76,RIGHT(FIXED(P_16号様式1!G76,3,FALSE),4),\"\"))","v":""},{"$f":"IF(P_16号様式1!H76<> \"\",TEXT(INT(P_16号様式1!H76),\"#,##0\"),\"\")","v":""},{"$f":"IF(P_16号様式1!H76= \"\",\"\",IF(VALUE(FIXED(P_16号様式1!H76,0,TRUE))<>P_16号様式1!H76,RIGHT(FIXED(P_16号様式1!H76,3,FALSE),4),\"\"))","v":""},{"$f":"IF(P_16号様式1!I76<> \"\",TEXT(INT(P_16号様式1!I76),\"#,##0\"),\"\")","v":""},{"$f":"IF(P_16号様式1!I76= \"\",\"\",IF(VALUE(FIXED(P_16号様式1!I76,0,TRUE))<>P_16号様式1!I76,RIGHT(FIXED(P_16号様式1!I76,3,FALSE),4),\"\"))","v":""},{"$f":"IF(P_16号様式1!J76<> \"\",TEXT(INT(P_16号様式1!J76),\"#,##0\"),\"\")","v":""},{"$f":"IF(P_16号様式1!J76= \"\",\"\",IF(VALUE(FIXED(P_16号様式1!J76,0,TRUE))<>P_16号様式1!J76,RIGHT(FIXED(P_16号様式1!J76,3,FALSE),4),\"\"))","v":""},{"$f":"IF(P_16号様式1!K76<> \"\",TEXT(INT(P_16号様式1!K76),\"#,##0\"),\"\")","v":""},{"$f":"IF(P_16号様式1!K76= \"\",\"\",IF(VALUE(FIXED(P_16号様式1!K76,0,TRUE))<>P_16号様式1!K76,RIGHT(FIXED(P_16号様式1!K76,3,FALSE),4),\"\"))","v":""},{"$f":"IF(P_16号様式1!L76<> \"\",TEXT(INT(P_16号様式1!L76),\"#,##0\"),\"\")","v":""},{"$f":"IF(P_16号様式1!L76= \"\",\"\",IF(VALUE(FIXED(P_16号様式1!L76,0,TRUE))<>P_16号様式1!L76,RIGHT(FIXED(P_16号様式1!L76,3,FALSE),4),\"\"))","v":""},{"$f":"IF(P_16号様式1!M76=\"\",\"\",P_16号様式1!M76)","v":""},null,{"$f":"IF(P_16号様式1!N76=\"\",\"\",P_16号様式1!N76)","v":""},null,{"$f":"IF(P_16号様式1!O76=\"\",\"\",P_16号様式1!O76)","v":""}]
[{"$f":"IF(P_16号様式1!C77=\"\",\"\",P_16号様式1!C77)","v":""},null,{"$f":"IF(P_16号様式1!D77=\"\",\"\",P_16号様式1!D77)","v":""},{"$f":"IF(P_16号様式1!E77<> \"\",TEXT(INT(P_16号様式1!E77),\"#,##0\"),\"\")","v":""},{"$f":"IF(P_16号様式1!E77= \"\",\"\",IF(VALUE(FIXED(P_16号様式1!E77,0,TRUE))<>P_16号様式1!E77,RIGHT(FIXED(P_16号様式1!E77,3,FALSE),4),\"\"))","v":""},{"$f":"IF(P_16号様式1!F77<> \"\",TEXT(INT(P_16号様式1!F77),\"#,##0\"),\"\")","v":""},{"$f":"IF(P_16号様式1!F77= \"\",\"\",IF(VALUE(FIXED(P_16号様式1!F77,0,TRUE))<>P_16号様式1!F77,RIGHT(FIXED(P_16号様式1!F77,3,FALSE),4),\"\"))","v":""},{"$f":"IF(P_16号様式1!G77<> \"\",TEXT(INT(P_16号様式1!G77),\"#,##0\"),\"\")","v":""},{"$f":"IF(P_16号様式1!G77= \"\",\"\",IF(VALUE(FIXED(P_16号様式1!G77,0,TRUE))<>P_16号様式1!G77,RIGHT(FIXED(P_16号様式1!G77,3,FALSE),4),\"\"))","v":""},{"$f":"IF(P_16号様式1!H77<> \"\",TEXT(INT(P_16号様式1!H77),\"#,##0\"),\"\")","v":""},{"$f":"IF(P_16号様式1!H77= \"\",\"\",IF(VALUE(FIXED(P_16号様式1!H77,0,TRUE))<>P_16号様式1!H77,RIGHT(FIXED(P_16号様式1!H77,3,FALSE),4),\"\"))","v":""},{"$f":"IF(P_16号様式1!I77<> \"\",TEXT(INT(P_16号様式1!I77),\"#,##0\"),\"\")","v":""},{"$f":"IF(P_16号様式1!I77= \"\",\"\",IF(VALUE(FIXED(P_16号様式1!I77,0,TRUE))<>P_16号様式1!I77,RIGHT(FIXED(P_16号様式1!I77,3,FALSE),4),\"\"))","v":""},{"$f":"IF(P_16号様式1!J77<> \"\",TEXT(INT(P_16号様式1!J77),\"#,##0\"),\"\")","v":""},{"$f":"IF(P_16号様式1!J77= \"\",\"\",IF(VALUE(FIXED(P_16号様式1!J77,0,TRUE))<>P_16号様式1!J77,RIGHT(FIXED(P_16号様式1!J77,3,FALSE),4),\"\"))","v":""},{"$f":"IF(P_16号様式1!K77<> \"\",TEXT(INT(P_16号様式1!K77),\"#,##0\"),\"\")","v":""},{"$f":"IF(P_16号様式1!K77= \"\",\"\",IF(VALUE(FIXED(P_16号様式1!K77,0,TRUE))<>P_16号様式1!K77,RIGHT(FIXED(P_16号様式1!K77,3,FALSE),4),\"\"))","v":""},{"$f":"IF(P_16号様式1!L77<> \"\",TEXT(INT(P_16号様式1!L77),\"#,##0\"),\"\")","v":""},{"$f":"IF(P_16号様式1!L77= \"\",\"\",IF(VALUE(FIXED(P_16号様式1!L77,0,TRUE))<>P_16号様式1!L77,RIGHT(FIXED(P_16号様式1!L77,3,FALSE),4),\"\"))","v":""},{"$f":"IF(P_16号様式1!M77=\"\",\"\",P_16号様式1!M77)","v":""},null,{"$f":"IF(P_16号様式1!N77=\"\",\"\",P_16号様式1!N77)","v":""},null,{"$f":"IF(P_16号様式1!O77=\"\",\"\",P_16号様式1!O77)","v":""}]
[{"$f":"IF(P_16号様式1!C78=\"\",\"\",P_16号様式1!C78)","v":""},null,{"$f":"IF(P_16号様式1!D78=\"\",\"\",P_16号様式1!D78)","v":""},{"$f":"IF(P_16号様式1!E78<> \"\",TEXT(INT(P_16号様式1!E78),\"#,##0\"),\"\")","v":""},{"$f":"IF(P_16号様式1!E78= \"\",\"\",IF(VALUE(FIXED(P_16号様式1!E78,0,TRUE))<>P_16号様式1!E78,RIGHT(FIXED(P_16号様式1!E78,3,FALSE),4),\"\"))","v":""},{"$f":"IF(P_16号様式1!F78<> \"\",TEXT(INT(P_16号様式1!F78),\"#,##0\"),\"\")","v":""},{"$f":"IF(P_16号様式1!F78= \"\",\"\",IF(VALUE(FIXED(P_16号様式1!F78,0,TRUE))<>P_16号様式1!F78,RIGHT(FIXED(P_16号様式1!F78,3,FALSE),4),\"\"))","v":""},{"$f":"IF(P_16号様式1!G78<> \"\",TEXT(INT(P_16号様式1!G78),\"#,##0\"),\"\")","v":""},{"$f":"IF(P_16号様式1!G78= \"\",\"\",IF(VALUE(FIXED(P_16号様式1!G78,0,TRUE))<>P_16号様式1!G78,RIGHT(FIXED(P_16号様式1!G78,3,FALSE),4),\"\"))","v":""},{"$f":"IF(P_16号様式1!H78<> \"\",TEXT(INT(P_16号様式1!H78),\"#,##0\"),\"\")","v":""},{"$f":"IF(P_16号様式1!H78= \"\",\"\",IF(VALUE(FIXED(P_16号様式1!H78,0,TRUE))<>P_16号様式1!H78,RIGHT(FIXED(P_16号様式1!H78,3,FALSE),4),\"\"))","v":""},{"$f":"IF(P_16号様式1!I78<> \"\",TEXT(INT(P_16号様式1!I78),\"#,##0\"),\"\")","v":""},{"$f":"IF(P_16号様式1!I78= \"\",\"\",IF(VALUE(FIXED(P_16号様式1!I78,0,TRUE))<>P_16号様式1!I78,RIGHT(FIXED(P_16号様式1!I78,3,FALSE),4),\"\"))","v":""},{"$f":"IF(P_16号様式1!J78<> \"\",TEXT(INT(P_16号様式1!J78),\"#,##0\"),\"\")","v":""},{"$f":"IF(P_16号様式1!J78= \"\",\"\",IF(VALUE(FIXED(P_16号様式1!J78,0,TRUE))<>P_16号様式1!J78,RIGHT(FIXED(P_16号様式1!J78,3,FALSE),4),\"\"))","v":""},{"$f":"IF(P_16号様式1!K78<> \"\",TEXT(INT(P_16号様式1!K78),\"#,##0\"),\"\")","v":""},{"$f":"IF(P_16号様式1!K78= \"\",\"\",IF(VALUE(FIXED(P_16号様式1!K78,0,TRUE))<>P_16号様式1!K78,RIGHT(FIXED(P_16号様式1!K78,3,FALSE),4),\"\"))","v":""},{"$f":"IF(P_16号様式1!L78<> \"\",TEXT(INT(P_16号様式1!L78),\"#,##0\"),\"\")","v":""},{"$f":"IF(P_16号様式1!L78= \"\",\"\",IF(VALUE(FIXED(P_16号様式1!L78,0,TRUE))<>P_16号様式1!L78,RIGHT(FIXED(P_16号様式1!L78,3,FALSE),4),\"\"))","v":""},{"$f":"IF(P_16号様式1!M78=\"\",\"\",P_16号様式1!M78)","v":""},null,{"$f":"IF(P_16号様式1!N78=\"\",\"\",P_16号様式1!N78)","v":""},null,{"$f":"IF(P_16号様式1!O78=\"\",\"\",P_16号様式1!O78)","v":""}]
[{"$f":"IF(P_16号様式1!C79=\"\",\"\",P_16号様式1!C79)","v":""},null,{"$f":"IF(P_16号様式1!D79=\"\",\"\",P_16号様式1!D79)","v":""},{"$f":"IF(P_16号様式1!E79<> \"\",TEXT(INT(P_16号様式1!E79),\"#,##0\"),\"\")","v":""},{"$f":"IF(P_16号様式1!E79= \"\",\"\",IF(VALUE(FIXED(P_16号様式1!E79,0,TRUE))<>P_16号様式1!E79,RIGHT(FIXED(P_16号様式1!E79,3,FALSE),4),\"\"))","v":""},{"$f":"IF(P_16号様式1!F79<> \"\",TEXT(INT(P_16号様式1!F79),\"#,##0\"),\"\")","v":""},{"$f":"IF(P_16号様式1!F79= \"\",\"\",IF(VALUE(FIXED(P_16号様式1!F79,0,TRUE))<>P_16号様式1!F79,RIGHT(FIXED(P_16号様式1!F79,3,FALSE),4),\"\"))","v":""},{"$f":"IF(P_16号様式1!G79<> \"\",TEXT(INT(P_16号様式1!G79),\"#,##0\"),\"\")","v":""},{"$f":"IF(P_16号様式1!G79= \"\",\"\",IF(VALUE(FIXED(P_16号様式1!G79,0,TRUE))<>P_16号様式1!G79,RIGHT(FIXED(P_16号様式1!G79,3,FALSE),4),\"\"))","v":""},{"$f":"IF(P_16号様式1!H79<> \"\",TEXT(INT(P_16号様式1!H79),\"#,##0\"),\"\")","v":""},{"$f":"IF(P_16号様式1!H79= \"\",\"\",IF(VALUE(FIXED(P_16号様式1!H79,0,TRUE))<>P_16号様式1!H79,RIGHT(FIXED(P_16号様式1!H79,3,FALSE),4),\"\"))","v":""},{"$f":"IF(P_16号様式1!I79<> \"\",TEXT(INT(P_16号様式1!I79),\"#,##0\"),\"\")","v":""},{"$f":"IF(P_16号様式1!I79= \"\",\"\",IF(VALUE(FIXED(P_16号様式1!I79,0,TRUE))<>P_16号様式1!I79,RIGHT(FIXED(P_16号様式1!I79,3,FALSE),4),\"\"))","v":""},{"$f":"IF(P_16号様式1!J79<> \"\",TEXT(INT(P_16号様式1!J79),\"#,##0\"),\"\")","v":""},{"$f":"IF(P_16号様式1!J79= \"\",\"\",IF(VALUE(FIXED(P_16号様式1!J79,0,TRUE))<>P_16号様式1!J79,RIGHT(FIXED(P_16号様式1!J79,3,FALSE),4),\"\"))","v":""},{"$f":"IF(P_16号様式1!K79<> \"\",TEXT(INT(P_16号様式1!K79),\"#,##0\"),\"\")","v":""},{"$f":"IF(P_16号様式1!K79= \"\",\"\",IF(VALUE(FIXED(P_16号様式1!K79,0,TRUE))<>P_16号様式1!K79,RIGHT(FIXED(P_16号様式1!K79,3,FALSE),4),\"\"))","v":""},{"$f":"IF(P_16号様式1!L79<> \"\",TEXT(INT(P_16号様式1!L79),\"#,##0\"),\"\")","v":""},{"$f":"IF(P_16号様式1!L79= \"\",\"\",IF(VALUE(FIXED(P_16号様式1!L79,0,TRUE))<>P_16号様式1!L79,RIGHT(FIXED(P_16号様式1!L79,3,FALSE),4),\"\"))","v":""},{"$f":"IF(P_16号様式1!M79=\"\",\"\",P_16号様式1!M79)","v":""},null,{"$f":"IF(P_16号様式1!N79=\"\",\"\",P_16号様式1!N79)","v":""},null,{"$f":"IF(P_16号様式1!O79=\"\",\"\",P_16号様式1!O79)","v":""}]
[{"$f":"IF(P_16号様式1!C80=\"\",\"\",P_16号様式1!C80)","v":""},null,{"$f":"IF(P_16号様式1!D80=\"\",\"\",P_16号様式1!D80)","v":""},{"$f":"IF(P_16号様式1!E80<> \"\",TEXT(INT(P_16号様式1!E80),\"#,##0\"),\"\")","v":""},{"$f":"IF(P_16号様式1!E80= \"\",\"\",IF(VALUE(FIXED(P_16号様式1!E80,0,TRUE))<>P_16号様式1!E80,RIGHT(FIXED(P_16号様式1!E80,3,FALSE),4),\"\"))","v":""},{"$f":"IF(P_16号様式1!F80<> \"\",TEXT(INT(P_16号様式1!F80),\"#,##0\"),\"\")","v":""},{"$f":"IF(P_16号様式1!F80= \"\",\"\",IF(VALUE(FIXED(P_16号様式1!F80,0,TRUE))<>P_16号様式1!F80,RIGHT(FIXED(P_16号様式1!F80,3,FALSE),4),\"\"))","v":""},{"$f":"IF(P_16号様式1!G80<> \"\",TEXT(INT(P_16号様式1!G80),\"#,##0\"),\"\")","v":""},{"$f":"IF(P_16号様式1!G80= \"\",\"\",IF(VALUE(FIXED(P_16号様式1!G80,0,TRUE))<>P_16号様式1!G80,RIGHT(FIXED(P_16号様式1!G80,3,FALSE),4),\"\"))","v":""},{"$f":"IF(P_16号様式1!H80<> \"\",TEXT(INT(P_16号様式1!H80),\"#,##0\"),\"\")","v":""},{"$f":"IF(P_16号様式1!H80= \"\",\"\",IF(VALUE(FIXED(P_16号様式1!H80,0,TRUE))<>P_16号様式1!H80,RIGHT(FIXED(P_16号様式1!H80,3,FALSE),4),\"\"))","v":""},{"$f":"IF(P_16号様式1!I80<> \"\",TEXT(INT(P_16号様式1!I80),\"#,##0\"),\"\")","v":""},{"$f":"IF(P_16号様式1!I80= \"\",\"\",IF(VALUE(FIXED(P_16号様式1!I80,0,TRUE))<>P_16号様式1!I80,RIGHT(FIXED(P_16号様式1!I80,3,FALSE),4),\"\"))","v":""},{"$f":"IF(P_16号様式1!J80<> \"\",TEXT(INT(P_16号様式1!J80),\"#,##0\"),\"\")","v":""},{"$f":"IF(P_16号様式1!J80= \"\",\"\",IF(VALUE(FIXED(P_16号様式1!J80,0,TRUE))<>P_16号様式1!J80,RIGHT(FIXED(P_16号様式1!J80,3,FALSE),4),\"\"))","v":""},{"$f":"IF(P_16号様式1!K80<> \"\",TEXT(INT(P_16号様式1!K80),\"#,##0\"),\"\")","v":""},{"$f":"IF(P_16号様式1!K80= \"\",\"\",IF(VALUE(FIXED(P_16号様式1!K80,0,TRUE))<>P_16号様式1!K80,RIGHT(FIXED(P_16号様式1!K80,3,FALSE),4),\"\"))","v":""},{"$f":"IF(P_16号様式1!L80<> \"\",TEXT(INT(P_16号様式1!L80),\"#,##0\"),\"\")","v":""},{"$f":"IF(P_16号様式1!L80= \"\",\"\",IF(VALUE(FIXED(P_16号様式1!L80,0,TRUE))<>P_16号様式1!L80,RIGHT(FIXED(P_16号様式1!L80,3,FALSE),4),\"\"))","v":""},{"$f":"IF(P_16号様式1!M80=\"\",\"\",P_16号様式1!M80)","v":""},null,{"$f":"IF(P_16号様式1!N80=\"\",\"\",P_16号様式1!N80)","v":""},null,{"$f":"IF(P_16号様式1!O80=\"\",\"\",P_16号様式1!O80)","v":""}]
[{"$f":"IF(P_16号様式1!C81=\"\",\"\",P_16号様式1!C81)","v":""},null,{"$f":"IF(P_16号様式1!D81=\"\",\"\",P_16号様式1!D81)","v":""},{"$f":"IF(P_16号様式1!E81<> \"\",TEXT(INT(P_16号様式1!E81),\"#,##0\"),\"\")","v":""},{"$f":"IF(P_16号様式1!E81= \"\",\"\",IF(VALUE(FIXED(P_16号様式1!E81,0,TRUE))<>P_16号様式1!E81,RIGHT(FIXED(P_16号様式1!E81,3,FALSE),4),\"\"))","v":""},{"$f":"IF(P_16号様式1!F81<> \"\",TEXT(INT(P_16号様式1!F81),\"#,##0\"),\"\")","v":""},{"$f":"IF(P_16号様式1!F81= \"\",\"\",IF(VALUE(FIXED(P_16号様式1!F81,0,TRUE))<>P_16号様式1!F81,RIGHT(FIXED(P_16号様式1!F81,3,FALSE),4),\"\"))","v":""},{"$f":"IF(P_16号様式1!G81<> \"\",TEXT(INT(P_16号様式1!G81),\"#,##0\"),\"\")","v":""},{"$f":"IF(P_16号様式1!G81= \"\",\"\",IF(VALUE(FIXED(P_16号様式1!G81,0,TRUE))<>P_16号様式1!G81,RIGHT(FIXED(P_16号様式1!G81,3,FALSE),4),\"\"))","v":""},{"$f":"IF(P_16号様式1!H81<> \"\",TEXT(INT(P_16号様式1!H81),\"#,##0\"),\"\")","v":""},{"$f":"IF(P_16号様式1!H81= \"\",\"\",IF(VALUE(FIXED(P_16号様式1!H81,0,TRUE))<>P_16号様式1!H81,RIGHT(FIXED(P_16号様式1!H81,3,FALSE),4),\"\"))","v":""},{"$f":"IF(P_16号様式1!I81<> \"\",TEXT(INT(P_16号様式1!I81),\"#,##0\"),\"\")","v":""},{"$f":"IF(P_16号様式1!I81= \"\",\"\",IF(VALUE(FIXED(P_16号様式1!I81,0,TRUE))<>P_16号様式1!I81,RIGHT(FIXED(P_16号様式1!I81,3,FALSE),4),\"\"))","v":""},{"$f":"IF(P_16号様式1!J81<> \"\",TEXT(INT(P_16号様式1!J81),\"#,##0\"),\"\")","v":""},{"$f":"IF(P_16号様式1!J81= \"\",\"\",IF(VALUE(FIXED(P_16号様式1!J81,0,TRUE))<>P_16号様式1!J81,RIGHT(FIXED(P_16号様式1!J81,3,FALSE),4),\"\"))","v":""},{"$f":"IF(P_16号様式1!K81<> \"\",TEXT(INT(P_16号様式1!K81),\"#,##0\"),\"\")","v":""},{"$f":"IF(P_16号様式1!K81= \"\",\"\",IF(VALUE(FIXED(P_16号様式1!K81,0,TRUE))<>P_16号様式1!K81,RIGHT(FIXED(P_16号様式1!K81,3,FALSE),4),\"\"))","v":""},{"$f":"IF(P_16号様式1!L81<> \"\",TEXT(INT(P_16号様式1!L81),\"#,##0\"),\"\")","v":""},{"$f":"IF(P_16号様式1!L81= \"\",\"\",IF(VALUE(FIXED(P_16号様式1!L81,0,TRUE))<>P_16号様式1!L81,RIGHT(FIXED(P_16号様式1!L81,3,FALSE),4),\"\"))","v":""},{"$f":"IF(P_16号様式1!M81=\"\",\"\",P_16号様式1!M81)","v":""},null,{"$f":"IF(P_16号様式1!N81=\"\",\"\",P_16号様式1!N81)","v":""},null,{"$f":"IF(P_16号様式1!O81=\"\",\"\",P_16号様式1!O81)","v":""}]
[{"$f":"IF(P_16号様式1!C82=\"\",\"\",P_16号様式1!C82)","v":""},null,{"$f":"IF(P_16号様式1!D82=\"\",\"\",P_16号様式1!D82)","v":""},{"$f":"IF(P_16号様式1!E82<> \"\",TEXT(INT(P_16号様式1!E82),\"#,##0\"),\"\")","v":""},{"$f":"IF(P_16号様式1!E82= \"\",\"\",IF(VALUE(FIXED(P_16号様式1!E82,0,TRUE))<>P_16号様式1!E82,RIGHT(FIXED(P_16号様式1!E82,3,FALSE),4),\"\"))","v":""},{"$f":"IF(P_16号様式1!F82<> \"\",TEXT(INT(P_16号様式1!F82),\"#,##0\"),\"\")","v":""},{"$f":"IF(P_16号様式1!F82= \"\",\"\",IF(VALUE(FIXED(P_16号様式1!F82,0,TRUE))<>P_16号様式1!F82,RIGHT(FIXED(P_16号様式1!F82,3,FALSE),4),\"\"))","v":""},{"$f":"IF(P_16号様式1!G82<> \"\",TEXT(INT(P_16号様式1!G82),\"#,##0\"),\"\")","v":""},{"$f":"IF(P_16号様式1!G82= \"\",\"\",IF(VALUE(FIXED(P_16号様式1!G82,0,TRUE))<>P_16号様式1!G82,RIGHT(FIXED(P_16号様式1!G82,3,FALSE),4),\"\"))","v":""},{"$f":"IF(P_16号様式1!H82<> \"\",TEXT(INT(P_16号様式1!H82),\"#,##0\"),\"\")","v":""},{"$f":"IF(P_16号様式1!H82= \"\",\"\",IF(VALUE(FIXED(P_16号様式1!H82,0,TRUE))<>P_16号様式1!H82,RIGHT(FIXED(P_16号様式1!H82,3,FALSE),4),\"\"))","v":""},{"$f":"IF(P_16号様式1!I82<> \"\",TEXT(INT(P_16号様式1!I82),\"#,##0\"),\"\")","v":""},{"$f":"IF(P_16号様式1!I82= \"\",\"\",IF(VALUE(FIXED(P_16号様式1!I82,0,TRUE))<>P_16号様式1!I82,RIGHT(FIXED(P_16号様式1!I82,3,FALSE),4),\"\"))","v":""},{"$f":"IF(P_16号様式1!J82<> \"\",TEXT(INT(P_16号様式1!J82),\"#,##0\"),\"\")","v":""},{"$f":"IF(P_16号様式1!J82= \"\",\"\",IF(VALUE(FIXED(P_16号様式1!J82,0,TRUE))<>P_16号様式1!J82,RIGHT(FIXED(P_16号様式1!J82,3,FALSE),4),\"\"))","v":""},{"$f":"IF(P_16号様式1!K82<> \"\",TEXT(INT(P_16号様式1!K82),\"#,##0\"),\"\")","v":""},{"$f":"IF(P_16号様式1!K82= \"\",\"\",IF(VALUE(FIXED(P_16号様式1!K82,0,TRUE))<>P_16号様式1!K82,RIGHT(FIXED(P_16号様式1!K82,3,FALSE),4),\"\"))","v":""},{"$f":"IF(P_16号様式1!L82<> \"\",TEXT(INT(P_16号様式1!L82),\"#,##0\"),\"\")","v":""},{"$f":"IF(P_16号様式1!L82= \"\",\"\",IF(VALUE(FIXED(P_16号様式1!L82,0,TRUE))<>P_16号様式1!L82,RIGHT(FIXED(P_16号様式1!L82,3,FALSE),4),\"\"))","v":""},{"$f":"IF(P_16号様式1!M82=\"\",\"\",P_16号様式1!M82)","v":""},null,{"$f":"IF(P_16号様式1!N82=\"\",\"\",P_16号様式1!N82)","v":""},null,{"$f":"IF(P_16号様式1!O82=\"\",\"\",P_16号様式1!O82)","v":""}]
[{"$f":"IF(P_16号様式1!C83=\"\",\"\",P_16号様式1!C83)","v":""},null,{"$f":"IF(P_16号様式1!D83=\"\",\"\",P_16号様式1!D83)","v":""},{"$f":"IF(P_16号様式1!E83<> \"\",TEXT(INT(P_16号様式1!E83),\"#,##0\"),\"\")","v":""},{"$f":"IF(P_16号様式1!E83= \"\",\"\",IF(VALUE(FIXED(P_16号様式1!E83,0,TRUE))<>P_16号様式1!E83,RIGHT(FIXED(P_16号様式1!E83,3,FALSE),4),\"\"))","v":""},{"$f":"IF(P_16号様式1!F83<> \"\",TEXT(INT(P_16号様式1!F83),\"#,##0\"),\"\")","v":""},{"$f":"IF(P_16号様式1!F83= \"\",\"\",IF(VALUE(FIXED(P_16号様式1!F83,0,TRUE))<>P_16号様式1!F83,RIGHT(FIXED(P_16号様式1!F83,3,FALSE),4),\"\"))","v":""},{"$f":"IF(P_16号様式1!G83<> \"\",TEXT(INT(P_16号様式1!G83),\"#,##0\"),\"\")","v":""},{"$f":"IF(P_16号様式1!G83= \"\",\"\",IF(VALUE(FIXED(P_16号様式1!G83,0,TRUE))<>P_16号様式1!G83,RIGHT(FIXED(P_16号様式1!G83,3,FALSE),4),\"\"))","v":""},{"$f":"IF(P_16号様式1!H83<> \"\",TEXT(INT(P_16号様式1!H83),\"#,##0\"),\"\")","v":""},{"$f":"IF(P_16号様式1!H83= \"\",\"\",IF(VALUE(FIXED(P_16号様式1!H83,0,TRUE))<>P_16号様式1!H83,RIGHT(FIXED(P_16号様式1!H83,3,FALSE),4),\"\"))","v":""},{"$f":"IF(P_16号様式1!I83<> \"\",TEXT(INT(P_16号様式1!I83),\"#,##0\"),\"\")","v":""},{"$f":"IF(P_16号様式1!I83= \"\",\"\",IF(VALUE(FIXED(P_16号様式1!I83,0,TRUE))<>P_16号様式1!I83,RIGHT(FIXED(P_16号様式1!I83,3,FALSE),4),\"\"))","v":""},{"$f":"IF(P_16号様式1!J83<> \"\",TEXT(INT(P_16号様式1!J83),\"#,##0\"),\"\")","v":""},{"$f":"IF(P_16号様式1!J83= \"\",\"\",IF(VALUE(FIXED(P_16号様式1!J83,0,TRUE))<>P_16号様式1!J83,RIGHT(FIXED(P_16号様式1!J83,3,FALSE),4),\"\"))","v":""},{"$f":"IF(P_16号様式1!K83<> \"\",TEXT(INT(P_16号様式1!K83),\"#,##0\"),\"\")","v":""},{"$f":"IF(P_16号様式1!K83= \"\",\"\",IF(VALUE(FIXED(P_16号様式1!K83,0,TRUE))<>P_16号様式1!K83,RIGHT(FIXED(P_16号様式1!K83,3,FALSE),4),\"\"))","v":""},{"$f":"IF(P_16号様式1!L83<> \"\",TEXT(INT(P_16号様式1!L83),\"#,##0\"),\"\")","v":""},{"$f":"IF(P_16号様式1!L83= \"\",\"\",IF(VALUE(FIXED(P_16号様式1!L83,0,TRUE))<>P_16号様式1!L83,RIGHT(FIXED(P_16号様式1!L83,3,FALSE),4),\"\"))","v":""},{"$f":"IF(P_16号様式1!M83=\"\",\"\",P_16号様式1!M83)","v":""},null,{"$f":"IF(P_16号様式1!N83=\"\",\"\",P_16号様式1!N83)","v":""},null,{"$f":"IF(P_16号様式1!O83=\"\",\"\",P_16号様式1!O83)","v":""}]
[{"$f":"IF(P_16号様式1!C84=\"\",\"\",P_16号様式1!C84)","v":""},null,{"$f":"IF(P_16号様式1!D84=\"\",\"\",P_16号様式1!D84)","v":""},{"$f":"IF(P_16号様式1!E84<> \"\",TEXT(INT(P_16号様式1!E84),\"#,##0\"),\"\")","v":""},{"$f":"IF(P_16号様式1!E84= \"\",\"\",IF(VALUE(FIXED(P_16号様式1!E84,0,TRUE))<>P_16号様式1!E84,RIGHT(FIXED(P_16号様式1!E84,3,FALSE),4),\"\"))","v":""},{"$f":"IF(P_16号様式1!F84<> \"\",TEXT(INT(P_16号様式1!F84),\"#,##0\"),\"\")","v":""},{"$f":"IF(P_16号様式1!F84= \"\",\"\",IF(VALUE(FIXED(P_16号様式1!F84,0,TRUE))<>P_16号様式1!F84,RIGHT(FIXED(P_16号様式1!F84,3,FALSE),4),\"\"))","v":""},{"$f":"IF(P_16号様式1!G84<> \"\",TEXT(INT(P_16号様式1!G84),\"#,##0\"),\"\")","v":""},{"$f":"IF(P_16号様式1!G84= \"\",\"\",IF(VALUE(FIXED(P_16号様式1!G84,0,TRUE))<>P_16号様式1!G84,RIGHT(FIXED(P_16号様式1!G84,3,FALSE),4),\"\"))","v":""},{"$f":"IF(P_16号様式1!H84<> \"\",TEXT(INT(P_16号様式1!H84),\"#,##0\"),\"\")","v":""},{"$f":"IF(P_16号様式1!H84= \"\",\"\",IF(VALUE(FIXED(P_16号様式1!H84,0,TRUE))<>P_16号様式1!H84,RIGHT(FIXED(P_16号様式1!H84,3,FALSE),4),\"\"))","v":""},{"$f":"IF(P_16号様式1!I84<> \"\",TEXT(INT(P_16号様式1!I84),\"#,##0\"),\"\")","v":""},{"$f":"IF(P_16号様式1!I84= \"\",\"\",IF(VALUE(FIXED(P_16号様式1!I84,0,TRUE))<>P_16号様式1!I84,RIGHT(FIXED(P_16号様式1!I84,3,FALSE),4),\"\"))","v":""},{"$f":"IF(P_16号様式1!J84<> \"\",TEXT(INT(P_16号様式1!J84),\"#,##0\"),\"\")","v":""},{"$f":"IF(P_16号様式1!J84= \"\",\"\",IF(VALUE(FIXED(P_16号様式1!J84,0,TRUE))<>P_16号様式1!J84,RIGHT(FIXED(P_16号様式1!J84,3,FALSE),4),\"\"))","v":""},{"$f":"IF(P_16号様式1!K84<> \"\",TEXT(INT(P_16号様式1!K84),\"#,##0\"),\"\")","v":""},{"$f":"IF(P_16号様式1!K84= \"\",\"\",IF(VALUE(FIXED(P_16号様式1!K84,0,TRUE))<>P_16号様式1!K84,RIGHT(FIXED(P_16号様式1!K84,3,FALSE),4),\"\"))","v":""},{"$f":"IF(P_16号様式1!L84<> \"\",TEXT(INT(P_16号様式1!L84),\"#,##0\"),\"\")","v":""},{"$f":"IF(P_16号様式1!L84= \"\",\"\",IF(VALUE(FIXED(P_16号様式1!L84,0,TRUE))<>P_16号様式1!L84,RIGHT(FIXED(P_16号様式1!L84,3,FALSE),4),\"\"))","v":""},{"$f":"IF(P_16号様式1!M84=\"\",\"\",P_16号様式1!M84)","v":""},null,{"$f":"IF(P_16号様式1!N84=\"\",\"\",P_16号様式1!N84)","v":""},null,{"$f":"IF(P_16号様式1!O84=\"\",\"\",P_16号様式1!O84)","v":""}]
[{"$f":"IF(P_16号様式1!C85=\"\",\"\",P_16号様式1!C85)","v":""},null,{"$f":"IF(P_16号様式1!D85=\"\",\"\",P_16号様式1!D85)","v":""},{"$f":"IF(P_16号様式1!E85<> \"\",TEXT(INT(P_16号様式1!E85),\"#,##0\"),\"\")","v":""},{"$f":"IF(P_16号様式1!E85= \"\",\"\",IF(VALUE(FIXED(P_16号様式1!E85,0,TRUE))<>P_16号様式1!E85,RIGHT(FIXED(P_16号様式1!E85,3,FALSE),4),\"\"))","v":""},{"$f":"IF(P_16号様式1!F85<> \"\",TEXT(INT(P_16号様式1!F85),\"#,##0\"),\"\")","v":""},{"$f":"IF(P_16号様式1!F85= \"\",\"\",IF(VALUE(FIXED(P_16号様式1!F85,0,TRUE))<>P_16号様式1!F85,RIGHT(FIXED(P_16号様式1!F85,3,FALSE),4),\"\"))","v":""},{"$f":"IF(P_16号様式1!G85<> \"\",TEXT(INT(P_16号様式1!G85),\"#,##0\"),\"\")","v":""},{"$f":"IF(P_16号様式1!G85= \"\",\"\",IF(VALUE(FIXED(P_16号様式1!G85,0,TRUE))<>P_16号様式1!G85,RIGHT(FIXED(P_16号様式1!G85,3,FALSE),4),\"\"))","v":""},{"$f":"IF(P_16号様式1!H85<> \"\",TEXT(INT(P_16号様式1!H85),\"#,##0\"),\"\")","v":""},{"$f":"IF(P_16号様式1!H85= \"\",\"\",IF(VALUE(FIXED(P_16号様式1!H85,0,TRUE))<>P_16号様式1!H85,RIGHT(FIXED(P_16号様式1!H85,3,FALSE),4),\"\"))","v":""},{"$f":"IF(P_16号様式1!I85<> \"\",TEXT(INT(P_16号様式1!I85),\"#,##0\"),\"\")","v":""},{"$f":"IF(P_16号様式1!I85= \"\",\"\",IF(VALUE(FIXED(P_16号様式1!I85,0,TRUE))<>P_16号様式1!I85,RIGHT(FIXED(P_16号様式1!I85,3,FALSE),4),\"\"))","v":""},{"$f":"IF(P_16号様式1!J85<> \"\",TEXT(INT(P_16号様式1!J85),\"#,##0\"),\"\")","v":""},{"$f":"IF(P_16号様式1!J85= \"\",\"\",IF(VALUE(FIXED(P_16号様式1!J85,0,TRUE))<>P_16号様式1!J85,RIGHT(FIXED(P_16号様式1!J85,3,FALSE),4),\"\"))","v":""},{"$f":"IF(P_16号様式1!K85<> \"\",TEXT(INT(P_16号様式1!K85),\"#,##0\"),\"\")","v":""},{"$f":"IF(P_16号様式1!K85= \"\",\"\",IF(VALUE(FIXED(P_16号様式1!K85,0,TRUE))<>P_16号様式1!K85,RIGHT(FIXED(P_16号様式1!K85,3,FALSE),4),\"\"))","v":""},{"$f":"IF(P_16号様式1!L85<> \"\",TEXT(INT(P_16号様式1!L85),\"#,##0\"),\"\")","v":""},{"$f":"IF(P_16号様式1!L85= \"\",\"\",IF(VALUE(FIXED(P_16号様式1!L85,0,TRUE))<>P_16号様式1!L85,RIGHT(FIXED(P_16号様式1!L85,3,FALSE),4),\"\"))","v":""},{"$f":"IF(P_16号様式1!M85=\"\",\"\",P_16号様式1!M85)","v":""},null,{"$f":"IF(P_16号様式1!N85=\"\",\"\",P_16号様式1!N85)","v":""},null,{"$f":"IF(P_16号様式1!O85=\"\",\"\",P_16号様式1!O85)","v":""}]
[{"$f":"IF(P_16号様式1!C86=\"\",\"\",P_16号様式1!C86)","v":""},null,{"$f":"IF(P_16号様式1!D86=\"\",\"\",P_16号様式1!D86)","v":""},{"$f":"IF(P_16号様式1!E86<> \"\",TEXT(INT(P_16号様式1!E86),\"#,##0\"),\"\")","v":""},{"$f":"IF(P_16号様式1!E86= \"\",\"\",IF(VALUE(FIXED(P_16号様式1!E86,0,TRUE))<>P_16号様式1!E86,RIGHT(FIXED(P_16号様式1!E86,3,FALSE),4),\"\"))","v":""},{"$f":"IF(P_16号様式1!F86<> \"\",TEXT(INT(P_16号様式1!F86),\"#,##0\"),\"\")","v":""},{"$f":"IF(P_16号様式1!F86= \"\",\"\",IF(VALUE(FIXED(P_16号様式1!F86,0,TRUE))<>P_16号様式1!F86,RIGHT(FIXED(P_16号様式1!F86,3,FALSE),4),\"\"))","v":""},{"$f":"IF(P_16号様式1!G86<> \"\",TEXT(INT(P_16号様式1!G86),\"#,##0\"),\"\")","v":""},{"$f":"IF(P_16号様式1!G86= \"\",\"\",IF(VALUE(FIXED(P_16号様式1!G86,0,TRUE))<>P_16号様式1!G86,RIGHT(FIXED(P_16号様式1!G86,3,FALSE),4),\"\"))","v":""},{"$f":"IF(P_16号様式1!H86<> \"\",TEXT(INT(P_16号様式1!H86),\"#,##0\"),\"\")","v":""},{"$f":"IF(P_16号様式1!H86= \"\",\"\",IF(VALUE(FIXED(P_16号様式1!H86,0,TRUE))<>P_16号様式1!H86,RIGHT(FIXED(P_16号様式1!H86,3,FALSE),4),\"\"))","v":""},{"$f":"IF(P_16号様式1!I86<> \"\",TEXT(INT(P_16号様式1!I86),\"#,##0\"),\"\")","v":""},{"$f":"IF(P_16号様式1!I86= \"\",\"\",IF(VALUE(FIXED(P_16号様式1!I86,0,TRUE))<>P_16号様式1!I86,RIGHT(FIXED(P_16号様式1!I86,3,FALSE),4),\"\"))","v":""},{"$f":"IF(P_16号様式1!J86<> \"\",TEXT(INT(P_16号様式1!J86),\"#,##0\"),\"\")","v":""},{"$f":"IF(P_16号様式1!J86= \"\",\"\",IF(VALUE(FIXED(P_16号様式1!J86,0,TRUE))<>P_16号様式1!J86,RIGHT(FIXED(P_16号様式1!J86,3,FALSE),4),\"\"))","v":""},{"$f":"IF(P_16号様式1!K86<> \"\",TEXT(INT(P_16号様式1!K86),\"#,##0\"),\"\")","v":""},{"$f":"IF(P_16号様式1!K86= \"\",\"\",IF(VALUE(FIXED(P_16号様式1!K86,0,TRUE))<>P_16号様式1!K86,RIGHT(FIXED(P_16号様式1!K86,3,FALSE),4),\"\"))","v":""},{"$f":"IF(P_16号様式1!L86<> \"\",TEXT(INT(P_16号様式1!L86),\"#,##0\"),\"\")","v":""},{"$f":"IF(P_16号様式1!L86= \"\",\"\",IF(VALUE(FIXED(P_16号様式1!L86,0,TRUE))<>P_16号様式1!L86,RIGHT(FIXED(P_16号様式1!L86,3,FALSE),4),\"\"))","v":""},{"$f":"IF(P_16号様式1!M86=\"\",\"\",P_16号様式1!M86)","v":""},null,{"$f":"IF(P_16号様式1!N86=\"\",\"\",P_16号様式1!N86)","v":""},null,{"$f":"IF(P_16号様式1!O86=\"\",\"\",P_16号様式1!O86)","v":""}]
[{"$f":"IF(P_16号様式1!C87=\"\",\"\",P_16号様式1!C87)","v":""},null,{"$f":"IF(P_16号様式1!D87=\"\",\"\",P_16号様式1!D87)","v":""},{"$f":"IF(P_16号様式1!E87<> \"\",TEXT(INT(P_16号様式1!E87),\"#,##0\"),\"\")","v":""},{"$f":"IF(P_16号様式1!E87= \"\",\"\",IF(VALUE(FIXED(P_16号様式1!E87,0,TRUE))<>P_16号様式1!E87,RIGHT(FIXED(P_16号様式1!E87,3,FALSE),4),\"\"))","v":""},{"$f":"IF(P_16号様式1!F87<> \"\",TEXT(INT(P_16号様式1!F87),\"#,##0\"),\"\")","v":""},{"$f":"IF(P_16号様式1!F87= \"\",\"\",IF(VALUE(FIXED(P_16号様式1!F87,0,TRUE))<>P_16号様式1!F87,RIGHT(FIXED(P_16号様式1!F87,3,FALSE),4),\"\"))","v":""},{"$f":"IF(P_16号様式1!G87<> \"\",TEXT(INT(P_16号様式1!G87),\"#,##0\"),\"\")","v":""},{"$f":"IF(P_16号様式1!G87= \"\",\"\",IF(VALUE(FIXED(P_16号様式1!G87,0,TRUE))<>P_16号様式1!G87,RIGHT(FIXED(P_16号様式1!G87,3,FALSE),4),\"\"))","v":""},{"$f":"IF(P_16号様式1!H87<> \"\",TEXT(INT(P_16号様式1!H87),\"#,##0\"),\"\")","v":""},{"$f":"IF(P_16号様式1!H87= \"\",\"\",IF(VALUE(FIXED(P_16号様式1!H87,0,TRUE))<>P_16号様式1!H87,RIGHT(FIXED(P_16号様式1!H87,3,FALSE),4),\"\"))","v":""},{"$f":"IF(P_16号様式1!I87<> \"\",TEXT(INT(P_16号様式1!I87),\"#,##0\"),\"\")","v":""},{"$f":"IF(P_16号様式1!I87= \"\",\"\",IF(VALUE(FIXED(P_16号様式1!I87,0,TRUE))<>P_16号様式1!I87,RIGHT(FIXED(P_16号様式1!I87,3,FALSE),4),\"\"))","v":""},{"$f":"IF(P_16号様式1!J87<> \"\",TEXT(INT(P_16号様式1!J87),\"#,##0\"),\"\")","v":""},{"$f":"IF(P_16号様式1!J87= \"\",\"\",IF(VALUE(FIXED(P_16号様式1!J87,0,TRUE))<>P_16号様式1!J87,RIGHT(FIXED(P_16号様式1!J87,3,FALSE),4),\"\"))","v":""},{"$f":"IF(P_16号様式1!K87<> \"\",TEXT(INT(P_16号様式1!K87),\"#,##0\"),\"\")","v":""},{"$f":"IF(P_16号様式1!K87= \"\",\"\",IF(VALUE(FIXED(P_16号様式1!K87,0,TRUE))<>P_16号様式1!K87,RIGHT(FIXED(P_16号様式1!K87,3,FALSE),4),\"\"))","v":""},{"$f":"IF(P_16号様式1!L87<> \"\",TEXT(INT(P_16号様式1!L87),\"#,##0\"),\"\")","v":""},{"$f":"IF(P_16号様式1!L87= \"\",\"\",IF(VALUE(FIXED(P_16号様式1!L87,0,TRUE))<>P_16号様式1!L87,RIGHT(FIXED(P_16号様式1!L87,3,FALSE),4),\"\"))","v":""},{"$f":"IF(P_16号様式1!M87=\"\",\"\",P_16号様式1!M87)","v":""},null,{"$f":"IF(P_16号様式1!N87=\"\",\"\",P_16号様式1!N87)","v":""},null,{"$f":"IF(P_16号様式1!O87=\"\",\"\",P_16号様式1!O87)","v":""}]
[]
["市　計",null,{"$f":"IF(P_16号様式1!P45=\"\",\"\",P_16号様式1!P45)","v":83.297093386925198},{"$f":"IF(P_16号様式1!Q45<> \"\",TEXT(INT(P_16号様式1!Q45),\"#,##0\"),\"\")","v":"473,129"},{"$f":"IF(P_16号様式1!Q45= \"\",\"\",IF(VALUE(FIXED(P_16号様式1!Q45,0,TRUE))<>P_16号様式1!Q45,RIGHT(FIXED(P_16号様式1!Q45,3,FALSE),4),\"\"))","v":""},{"$f":"IF(P_16号様式1!R45<> \"\",TEXT(INT(P_16号様式1!R45),\"#,##0\"),\"\")","v":""},{"$f":"IF(P_16号様式1!R45= \"\",\"\",IF(VALUE(FIXED(P_16号様式1!R45,0,TRUE))<>P_16号様式1!R45,RIGHT(FIXED(P_16号様式1!R45,3,FALSE),4),\"\"))","v":""},{"$f":"IF(P_16号様式1!S45<> \"\",TEXT(INT(P_16号様式1!S45),\"#,##0\"),\"\")","v":""},{"$f":"IF(P_16号様式1!S45= \"\",\"\",IF(VALUE(FIXED(P_16号様式1!S45,0,TRUE))<>P_16号様式1!S45,RIGHT(FIXED(P_16号様式1!S45,3,FALSE),4),\"\"))","v":""},{"$f":"IF(P_16号様式1!T45<> \"\",TEXT(INT(P_16号様式1!T45),\"#,##0\"),\"\")","v":""},{"$f":"IF(P_16号様式1!T45= \"\",\"\",IF(VALUE(FIXED(P_16号様式1!T45,0,TRUE))<>P_16号様式1!T45,RIGHT(FIXED(P_16号様式1!T45,3,FALSE),4),\"\"))","v":""},{"$f":"IF(P_16号様式1!U45<> \"\",TEXT(INT(P_16号様式1!U45),\"#,##0\"),\"\")","v":""},{"$f":"IF(P_16号様式1!U45= \"\",\"\",IF(VALUE(FIXED(P_16号様式1!U45,0,TRUE))<>P_16号様式1!U45,RIGHT(FIXED(P_16号様式1!U45,3,FALSE),4),\"\"))","v":""},{"$f":"IF(P_16号様式1!V45<> \"\",TEXT(INT(P_16号様式1!V45),\"#,##0\"),\"\")","v":""},{"$f":"IF(P_16号様式1!V45= \"\",\"\",IF(VALUE(FIXED(P_16号様式1!V45,0,TRUE))<>P_16号様式1!V45,RIGHT(FIXED(P_16号様式1!V45,3,FALSE),4),\"\"))","v":""},{"$f":"IF(P_16号様式1!W45<> \"\",TEXT(INT(P_16号様式1!W45),\"#,##0\"),\"\")","v":""},{"$f":"IF(P_16号様式1!W45= \"\",\"\",IF(VALUE(FIXED(P_16号様式1!W45,0,TRUE))<>P_16号様式1!W45,RIGHT(FIXED(P_16号様式1!W45,3,FALSE),4),\"\"))","v":""},{"$f":"IF(P_16号様式1!X45<> \"\",TEXT(INT(P_16号様式1!X45),\"#,##0\"),\"\")","v":""},{"$f":"IF(P_16号様式1!X45= \"\",\"\",IF(VALUE(FIXED(P_16号様式1!X45,0,TRUE))<>P_16号様式1!X45,RIGHT(FIXED(P_16号様式1!X45,3,FALSE),4),\"\"))","v":""},{"$f":"IF(P_16号様式1!Y45=\"\",\"\",P_16号様式1!Y45)","v":""},null,{"$f":"IF(P_16号様式1!Z45=\"\",\"\",P_16号様式1!Z45)","v":""},null,{"$f":"IF(P_16号様式1!AA45=\"\",\"\",P_16号様式1!AA45)","v":""}]
["町村計",null,{"$f":"IF(P_16号様式1!AB45=\"\",\"\",P_16号様式1!AB45)","v":100},{"$f":"IF(P_16号様式1!AC45<> \"\",TEXT(INT(P_16号様式1!AC45),\"#,##0\"),\"\")","v":"90,454"},{"$f":"IF(P_16号様式1!AC45= \"\",\"\",IF(VALUE(FIXED(P_16号様式1!AC45,0,TRUE))<>P_16号様式1!AC45,RIGHT(FIXED(P_16号様式1!AC45,3,FALSE),4),\"\"))","v":""},{"$f":"IF(P_16号様式1!AD45<> \"\",TEXT(INT(P_16号様式1!AD45),\"#,##0\"),\"\")","v":"0"},{"$f":"IF(P_16号様式1!AD45= \"\",\"\",IF(VALUE(FIXED(P_16号様式1!AD45,0,TRUE))<>P_16号様式1!AD45,RIGHT(FIXED(P_16号様式1!AD45,3,FALSE),4),\"\"))","v":""},{"$f":"IF(P_16号様式1!AE45<> \"\",TEXT(INT(P_16号様式1!AE45),\"#,##0\"),\"\")","v":"0"},{"$f":"IF(P_16号様式1!AE45= \"\",\"\",IF(VALUE(FIXED(P_16号様式1!AE45,0,TRUE))<>P_16号様式1!AE45,RIGHT(FIXED(P_16号様式1!AE45,3,FALSE),4),\"\"))","v":""},{"$f":"IF(P_16号様式1!AF45<> \"\",TEXT(INT(P_16号様式1!AF45),\"#,##0\"),\"\")","v":"90,454"},{"$f":"IF(P_16号様式1!AF45= \"\",\"\",IF(VALUE(FIXED(P_16号様式1!AF45,0,TRUE))<>P_16号様式1!AF45,RIGHT(FIXED(P_16号様式1!AF45,3,FALSE),4),\"\"))","v":""},{"$f":"IF(P_16号様式1!AG45<> \"\",TEXT(INT(P_16号様式1!AG45),\"#,##0\"),\"\")","v":"687"},{"$f":"IF(P_16号様式1!AG45= \"\",\"\",IF(VALUE(FIXED(P_16号様式1!AG45,0,TRUE))<>P_16号様式1!AG45,RIGHT(FIXED(P_16号様式1!AG45,3,FALSE),4),\"\"))","v":""},{"$f":"IF(P_16号様式1!AH45<> \"\",TEXT(INT(P_16号様式1!AH45),\"#,##0\"),\"\")","v":"91,141"},{"$f":"IF(P_16号様式1!AH45= \"\",\"\",IF(VALUE(FIXED(P_16号様式1!AH45,0,TRUE))<>P_16号様式1!AH45,RIGHT(FIXED(P_16号様式1!AH45,3,FALSE),4),\"\"))","v":""},{"$f":"IF(P_16号様式1!AI45<> \"\",TEXT(INT(P_16号様式1!AI45),\"#,##0\"),\"\")","v":"3"},{"$f":"IF(P_16号様式1!AI45= \"\",\"\",IF(VALUE(FIXED(P_16号様式1!AI45,0,TRUE))<>P_16号様式1!AI45,RIGHT(FIXED(P_16号様式1!AI45,3,FALSE),4),\"\"))","v":""},{"$f":"IF(P_16号様式1!AJ45<> \"\",TEXT(INT(P_16号様式1!AJ45),\"#,##0\"),\"\")","v":"91,144"},{"$f":"IF(P_16号様式1!AJ45= \"\",\"\",IF(VALUE(FIXED(P_16号様式1!AJ45,0,TRUE))<>P_16号様式1!AJ45,RIGHT(FIXED(P_16号様式1!AJ45,3,FALSE),4),\"\"))","v":""},{"$f":"IF(P_16号様式1!AK45=\"\",\"\",P_16号様式1!AK45)","v":0.75377711458070495},null,{"$f":"IF(P_16号様式1!AL45=\"\",\"\",P_16号様式1!AL45)","v":"22:11:00"},null,{"$f":"IF(P_16号様式1!AM45=\"\",\"\",P_16号様式1!AM45)","v":"確定"}]
["県計",null,{"$f":"IF(P_16号様式1!AN45=\"\",\"\",P_16号様式1!AN45)","v":85.597172888618303},{"$f":"IF(P_16号様式1!AO45<> \"\",TEXT(INT(P_16号様式1!AO45),\"#,##0\"),\"\")","v":"563,583"},{"$f":"IF(P_16号様式1!AO45= \"\",\"\",IF(VALUE(FIXED(P_16号様式1!AO45,0,TRUE))<>P_16号様式1!AO45,RIGHT(FIXED(P_16号様式1!AO45,3,FALSE),4),\"\"))","v":""},{"$f":"IF(P_16号様式1!AP45<> \"\",TEXT(INT(P_16号様式1!AP45),\"#,##0\"),\"\")","v":""},{"$f":"IF(P_16号様式1!AP45= \"\",\"\",IF(VALUE(FIXED(P_16号様式1!AP45,0,TRUE))<>P_16号様式1!AP45,RIGHT(FIXED(P_16号様式1!AP45,3,FALSE),4),\"\"))","v":""},{"$f":"IF(P_16号様式1!AQ45<> \"\",TEXT(INT(P_16号様式1!AQ45),\"#,##0\"),\"\")","v":""},{"$f":"IF(P_16号様式1!AQ45= \"\",\"\",IF(VALUE(FIXED(P_16号様式1!AQ45,0,TRUE))<>P_16号様式1!AQ45,RIGHT(FIXED(P_16号様式1!AQ45,3,FALSE),4),\"\"))","v":""},{"$f":"IF(P_16号様式1!AR45<> \"\",TEXT(INT(P_16号様式1!AR45),\"#,##0\"),\"\")","v":""},{"$f":"IF(P_16号様式1!AR45= \"\",\"\",IF(VALUE(FIXED(P_16号様式1!AR45,0,TRUE))<>P_16号様式1!AR45,RIGHT(FIXED(P_16号様式1!AR45,3,FALSE),4),\"\"))","v":""},{"$f":"IF(P_16号様式1!AS45<> \"\",TEXT(INT(P_16号様式1!AS45),\"#,##0\"),\"\")","v":""},{"$f":"IF(P_16号様式1!AS45= \"\",\"\",IF(VALUE(FIXED(P_16号様式1!AS45,0,TRUE))<>P_16号様式1!AS45,RIGHT(FIXED(P_16号様式1!AS45,3,FALSE),4),\"\"))","v":""},{"$f":"IF(P_16号様式1!AT45<> \"\",TEXT(INT(P_16号様式1!AT45),\"#,##0\"),\"\")","v":""},{"$f":"IF(P_16号様式1!AT45= \"\",\"\",IF(VALUE(FIXED(P_16号様式1!AT45,0,TRUE))<>P_16号様式1!AT45,RIGHT(FIXED(P_16号様式1!AT45,3,FALSE),4),\"\"))","v":""},{"$f":"IF(P_16号様式1!AU45<> \"\",TEXT(INT(P_16号様式1!AU45),\"#,##0\"),\"\")","v":""},{"$f":"IF(P_16号様式1!AU45= \"\",\"\",IF(VALUE(FIXED(P_16号様式1!AU45,0,TRUE))<>P_16号様式1!AU45,RIGHT(FIXED(P_16号様式1!AU45,3,FALSE),4),\"\"))","v":""},{"$f":"IF(P_16号様式1!AV45<> \"\",TEXT(INT(P_16号様式1!AV45),\"#,##0\"),\"\")","v":""},{"$f":"IF(P_16号様式1!AV45= \"\",\"\",IF(VALUE(FIXED(P_16号様式1!AV45,0,TRUE))<>P_16号様式1!AV45,RIGHT(FIXED(P_16号様式1!AV45,3,FALSE),4),\"\"))","v":""},{"$f":"IF(P_16号様式1!AW45=\"\",\"\",P_16号様式1!AW45)","v":""},null,{"$f":"IF(P_16号様式1!AX45=\"\",\"\",P_16号様式1!AX45)","v":""},null,{"$f":"IF(P_16号様式1!AY45=\"\",\"\",P_16号様式1!AY45)","v":""}]

{"sheet":"パラメタシート","index":1,"n_rows":1,"n_cols":2,"rows_kept":1,"cut":false,"hidden":false,"merged":[]}
["執行日","2020-07-12"]

{"sheet":"P_16号様式1","index":2,"n_rows":87,"n_cols":59,"rows_kept":87,"cut":false,"hidden":false,"merged":[]}
["頁番号","行番号","市区町村名","開票率","ア","イ","ウ","エ","オ","カ","キ","ク","無効投票率","開票確定時刻","確定表示","市部計開票率","市部計ア","市部計イ","市部計ウ","市部計エ","市部計オ","市部計カ","市部計キ","市部計ク","市部計無効投票率","市部計開票確定時刻","市部計確定表示","郡部計開票率","郡部計ア","郡部計イ","郡部計ウ","郡部計エ","郡部計オ","郡部計カ","郡部計キ","郡部計ク","郡部計無効投票率","郡部計開票確定時刻","郡部計確定表示","県計開票率","県計ア","県計イ","県計ウ","県計エ","県計オ","県計カ","県計キ","県計ク","県計無効投票率","県計開票確定時刻","県計確定表示","選挙名","翌日開票区分","報告回数","開票時刻","投票結了フラグ","全体投票結了フラグ","見出し開票率","全体開票率"]
[1,1,"　鹿児島市",56.5794096577402,124000,null,null,null,null,null,null,null,null,null,null,83.297093386925198,473129,null,null,null,null,null,null,null,null,null,null,100,90454,0,0,90454,687,91141,3,91144,0.75377711458070495,"22:11:00","確定",85.597172888618303,563583,null,null,null,null,null,null,null,null,null,null,"鹿児島県知事選挙","0",5,"23:00:00","1","1",85.597172888618303,85.597172888618303]
[1,2,"　鹿屋市",100,36036,0,0,36036,276,36312,0,36312,0.76007931262392603,"22:39:00","確定",83.297093386925198,473129,null,null,null,null,null,null,null,null,null,null,100,90454,0,0,90454,687,91141,3,91144,0.75377711458070495,"22:11:00","確定",85.597172888618303,563583,null,null,null,null,null,null,null,null,null,null,"鹿児島県知事選挙","0",5,"23:00:00","1","1",85.597172888618303,85.597172888618303]
[1,3,"　枕崎市",100,8435,0,0,8435,72,8507,0,8507,0.84636181967791202,"20:54:00","確定",83.297093386925198,473129,null,null,null,null,null,null,null,null,null,null,100,90454,0,0,90454,687,91141,3,91144,0.75377711458070495,"22:11:00","確定",85.597172888618303,563583,null,null,null,null,null,null,null,null,null,null,"鹿児島県知事選挙","0",5,"23:00:00","1","1",85.597172888618303,85.597172888618303]
[1,4,"　阿久根市",100,9800,0,0,9800,43,9843,0,9843,0.43685868129635302,"21:57:00","確定",83.297093386925198,473129,null,null,null,null,null,null,null,null,null,null,100,90454,0,0,90454,687,91141,3,91144,0.75377711458070495,"22:11:00","確定",85.597172888618303,563583,null,null,null,null,null,null,null,null,null,null,"鹿児島県知事選挙","0",5,"23:00:00","1","1",85.597172888618303,85.597172888618303]
[1,5,"　出水市",100,22862,0,0,22862,124,22986,0,22986,0.53945880100930999,"21:52:00","確定",83.297093386925198,473129,null,null,null,null,null,null,null,null,null,null,100,90454,0,0,90454,687,91141,3,91144,0.75377711458070495,"22:11:00","確定",85.597172888618303,563583,null,null,null,null,null,null,null,null,null,null,"鹿児島県知事選挙","0",5,"23:00:00","1","1",85.597172888618303,85.597172888618303]
[1,6,"　指宿市",100,17464,0,0,17464,161,17625,0,17625,0.91347517730496497,"22:05:00","確定",83.297093386925198,473129,null,null,null,null,null,null,null,null,null,null,100,90454,0,0,90454,687,91141,3,91144,0.75377711458070495,"22:11:00","確定",85.597172888618303,563583,null,null,null,null,null,null,null,null,null,null,"鹿児島県知事選挙","0",5,"23:00:00","1","1",85.597172888618303,85.597172888618303]
[1,7,"　西之表市",100,6722,0,0,6722,27,6749,0,6749,0.40005926803970998,"21:40:00","確定",83.297093386925198,473129,null,null,null,null,null,null,null,null,null,null,100,90454,0,0,90454,687,91141,3,91144,0.75377711458070495,"22:11:00","確定",85.597172888618303,563583,null,null,null,null,null,null,null,null,null,null,"鹿児島県知事選挙","0",5,"23:00:00","1","1",85.597172888618303,85.597172888618303]
[1,8,"　垂水市",100,6413,0,0,6413,46,6459,0,6459,0.71218454869174797,"21:29:00","確定",83.297093386925198,473129,null,null,null,null,null,null,null,null,null,null,100,90454,0,0,90454,687,91141,3,91144,0.75377711458070495,"22:11:00","確定",85.597172888618303,563583,null,null,null,null,null,null,null,null,null,null,"鹿児島県知事選挙","0",5,"23:00:00","1","1",85.597172888618303,85.597172888618303]
[1,9,"　薩摩川内市第１",100,38839,0,0,38839,301,39140,0,39140,0.76903423607562604,"22:39:00","確定",83.297093386925198,473129,null,null,null,null,null,null,null,null,null,null,100,90454,0,0,90454,687,91141,3,91144,0.75377711458070495,"22:11:00","確定",85.597172888618303,563583,null,null,null,null,null,null,null,null,null,null,"鹿児島県知事選挙","0",5,"23:00:00","1","1",85.597172888618303,85.597172888618303]
[1,10,"　薩摩川内市第２",100,1384,0,0,1384,15,1399,0,1399,1.0721944245889901,"20:58:00","確定",83.297093386925198,473129,null,null,null,null,null,null,null,null,null,null,100,90454,0,0,90454,687,91141,3,91144,0.75377711458070495,"22:11:00","確定",85.597172888618303,563583,null,null,null,null,null,null,null,null,null,null,"鹿児島県知事選挙","0",5,"23:00:00","1","1",85.597172888618303,85.597172888618303]
[1,11,"　薩摩川内市第３",100,1140,0,0,1140,8,1148,0,1148,0.696864111498258,"20:57:00","確定",83.297093386925198,473129,null,null,null,null,null,null,null,null,null,null,100,90454,0,0,90454,687,91141,3,91144,0.75377711458070495,"22:11:00","確定",85.597172888618303,563583,null,null,null,null,null,null,null,null,null,null,"鹿児島県知事選挙","0",5,"23:00:00","1","1",85.597172888618303,85.597172888618303]
[1,12,"＊（薩摩川内市）計",100,41363,0,0,41363,324,41687,0,41687,0.77722071629044998,"22:39:00","確定",83.297093386925198,473129,null,null,null,null,null,null,null,null,null,null,100,90454,0,0,90454,687,91141,3,91144,0.75377711458070495,"22:11:00","確定",85.597172888618303,563583,null,null,null,null,null,null,null,null,null,null,"鹿児島県知事選挙","0",5,"23:00:00","1","1",85.597172888618303,85.597172888618303]
[1,13,"　日置市",99.229852388374397,21646,null,null,null,null,null,null,null,null,null,null,83.297093386925198,473129,null,null,null,null,null,null,null,null,null,null,100,90454,0,0,90454,687,91141,3,91144,0.75377711458070495,"22:11:00","確定",85.597172888618303,563583,null,null,null,null,null,null,null,null,null,null,"鹿児島県知事選挙","0",5,"23:00:00","1","1",85.597172888618303,85.597172888618303]
[1,14,"　曽於市",100,13909,0,0,13909,93,14002,0,14002,0.66419082988144595,"21:53:00","確定",83.297093386925198,473129,null,null,null,null,null,null,null,null,null,null,100,90454,0,0,90454,687,91141,3,91144,0.75377711458070495,"22:11:00","確定",85.597172888618303,563583,null,null,null,null,null,null,null,null,null,null,"鹿児島県知事選挙","0",5,"23:00:00","1","1",85.597172888618303,85.597172888618303]
[1,15,"　霧島市",100,48136,0,0,48136,301,48437,0,48437,0.621425769556331,"22:45:00","確定",83.297093386925198,473129,null,null,null,null,null,null,null,null,null,null,100,90454,0,0,90454,687,91141,3,91144,0.75377711458070495,"22:11:00","確定",85.597172888618303,563583,null,null,null,null,null,null,null,null,null,null,"鹿児島県知事選挙","0",5,"23:00:00","1","1",85.597172888618303,85.597172888618303]
[1,16,"　いちき串木野市",100,12785,0,0,12785,74,12859,0,12859,0.57547243175985696,"21:34:00","確定",83.297093386925198,473129,null,null,null,null,null,null,null,null,null,null,100,90454,0,0,90454,687,91141,3,91144,0.75377711458070495,"22:11:00","確定",85.597172888618303,563583,null,null,null,null,null,null,null,null,null,null,"鹿児島県知事選挙","0",5,"23:00:00","1","1",85.597172888618303,85.597172888618303]
[1,17,"　南さつま市",100,15186,0,0,15186,105,15291,0,15291,0.68667843829703701,"21:50:00","確定",83.297093386925198,473129,null,null,null,null,null,null,null,null,null,null,100,90454,0,0,90454,687,91141,3,91144,0.75377711458070495,"22:11:00","確定",85.597172888618303,563583,null,null,null,null,null,null,null,null,null,null,"鹿児島県知事選挙","0",5,"23:00:00","1","1",85.597172888618303,85.597172888618303]
[1,18,"　志布志市",100,11622,0,0,11622,87,11709,0,11709,0.74301819113502399,"22:38:00","確定",83.297093386925198,473129,null,null,null,null,null,null,null,null,null,null,100,90454,0,0,90454,687,91141,3,91144,0.75377711458070495,"22:11:00","確定",85.597172888618303,563583,null,null,null,null,null,null,null,null,null,null,"鹿児島県知事選挙","0",5,"23:00:00","1","1",85.597172888618303,85.597172888618303]
[1,19,"　奄美市",100,18406,0,0,18406,162,18568,1,18569,0.87246876346402402,"21:37:00","確定",83.297093386925198,473129,null,null,null,null,null,null,null,null,null,null,100,90454,0,0,90454,687,91141,3,91144,0.75377711458070495,"22:11:00","確定",85.597172888618303,563583,null,null,null,null,null,null,null,null,null,null,"鹿児島県知事選挙","0",5,"23:00:00","1","1",85.597172888618303,85.597172888618303]
[1,20,"　南九州市",100,14941,0,0,14941,80,15021,2,15023,0.53258771053857901,"21:04:00","確定",83.297093386925198,473129,null,null,null,null,null,null,null,null,null,null,100,90454,0,0,90454,687,91141,3,91144,0.75377711458070495,"22:11:00","確定",85.597172888618303,563583,null,null,null,null,null,null,null,null,null,null,"鹿児島県知事選挙","0",5,"23:00:00","1","1",85.597172888618303,85.597172888618303]
[1,21,"　伊佐市",100,11227,0,0,11227,79,11306,0,11306,0.69874402971873295,"21:55:00","確定",83.297093386925198,473129,null,null,null,null,null,null,null,null,null,null,100,90454,0,0,90454,687,91141,3,91144,0.75377711458070495,"22:11:00","確定",85.597172888618303,563583,null,null,null,null,null,null,null,null,null,null,"鹿児島県知事選挙","0",5,"23:00:00","1","1",85.597172888618303,85.597172888618303]
[1,22,"　姶良市",100,32176,0,0,32176,218,32394,0,32394,0.67296412915972104,"22:49:00","確定",83.297093386925198,473129,null,null,null,null,null,null,null,null,null,null,100,90454,0,0,90454,687,91141,3,91144,0.75377711458070495,"22:11:00","確定",85.597172888618303,563583,null,null,null,null,null,null,null,null,null,null,"鹿児島県知事選挙","0",5,"23:00:00","1","1",85.597172888618303,85.597172888618303]
[1,23,"　三島村",100,208,0,0,208,1,209,0,209,0.47846889952153099,"20:29:00","確定",83.297093386925198,473129,null,null,null,null,null,null,null,null,null,null,100,90454,0,0,90454,687,91141,3,91144,0.75377711458070495,"22:11:00","確定",85.597172888618303,563583,null,null,null,null,null,null,null,null,null,null,"鹿児島県知事選挙","0",5,"23:00:00","1","1",85.597172888618303,85.597172888618303]
[1,24,"　十島村",100,396,0,0,396,4,400,0,400,1,"20:27:00","確定",83.297093386925198,473129,null,null,null,null,null,null,null,null,null,null,100,90454,0,0,90454,687,91141,3,91144,0.75377711458070495,"22:11:00","確定",85.597172888618303,563583,null,null,null,null,null,null,null,null,null,null,"鹿児島県知事選挙","0",5,"23:00:00","1","1",85.597172888618303,85.597172888618303]
[1,25,"＊（鹿児島郡）計",100,604,0,0,604,5,609,0,609,0.82101806239737296,"20:29:00","確定",83.297093386925198,473129,null,null,null,null,null,null,null,null,null,null,100,90454,0,0,90454,687,91141,3,91144,0.75377711458070495,"22:11:00","確定",85.597172888618303,563583,null,null,null,null,null,null,null,null,null,null,"鹿児島県知事選挙","0",5,"23:00:00","1","1",85.597172888618303,85.597172888618303]
[1,26,"　さつま町",100,10236,0,0,10236,71,10307,0,10307,0.68885223634423198,"21:16:00","確定",83.297093386925198,473129,null,null,null,null,null,null,null,null,null,null,100,90454,0,0,90454,687,91141,3,91144,0.75377711458070495,"22:11:00","確定",85.597172888618303,563583,null,null,null,null,null,null,null,null,null,null,"鹿児島県知事選挙","0",5,"23:00:00","1","1",85.597172888618303,85.597172888618303]
[1,27,"＊（薩摩郡）計",100,10236,0,0,10236,71,10307,0,10307,0.68885223634423198,"21:16:00","確定",83.297093386925198,473129,null,null,null,null,null,null,null,null,null,null,100,90454,0,0,90454,687,91141,3,91144,0.75377711458070495,"22:11:00","確定",85.597172888618303,563583,null,null,null,null,null,null,null,null,null,null,"鹿児島県知事選挙","0",5,"23:00:00","1","1",85.597172888618303,85.597172888618303]
[1,28,"　長島町",100,6259,0,0,6259,39,6298,0,6298,0.61924420450936801,"21:47:00","確定",83.297093386925198,473129,null,null,null,null,null,null,null,null,null,null,100,90454,0,0,90454,687,91141,3,91144,0.75377711458070495,"22:11:00","確定",85.597172888618303,563583,null,null,null,null,null,null,null,null,null,null,"鹿児島県知事選挙","0",5,"23:00:00","1","1",85.597172888618303,85.597172888618303]
[1,29,"＊（出水郡）計",100,6259,0,0,6259,39,6298,0,6298,0.61924420450936801,"21:47:00","確定",83.297093386925198,473129,null,null,null,null,null,null,null,null,null,null,100,90454,0,0,90454,687,91141,3,91144,0.75377711458070495,"22:11:00","確定",85.597172888618303,563583,null,null,null,null,null,null,null,null,null,null,"鹿児島県知事選挙","0",5,"23:00:00","1","1",85.597172888618303,85.597172888618303]
[1,30,"　湧水町",100,4464,0,0,4464,26,4490,0,4490,0.57906458797327398,"21:01:00","確定",83.297093386925198,473129,null,null,null,null,null,null,null,null,null,null,100,90454,0,0,90454,687,91141,3,91144,0.75377711458070495,"22:11:00","確定",85.597172888618303,563583,null,null,null,null,null,null,null,null,null,null,"鹿児島県知事選挙","0",5,"23:00:00","1","1",85.597172888618303,85.597172888618303]
[1,31,"＊（姶良郡）計",100,4464,0,0,4464,26,4490,0,4490,0.57906458797327398,"21:01:00","確定",83.297093386925198,473129,null,null,null,null,null,null,null,null,null,null,100,90454,0,0,90454,687,91141,3,91144,0.75377711458070495,"22:11:00","確定",85.597172888618303,563583,null,null,null,null,null,null,null,null,null,null,"鹿児島県知事選挙","0",5,"23:00:00","1","1",85.597172888618303,85.597172888618303]
[1,32,"　大崎町",100,5562,0,0,5562,37,5599,0,5599,0.66083229148062195,"21:37:00","確定",83.297093386925198,473129,null,null,null,null,null,null,null,null,null,null,100,90454,0,0,90454,687,91141,3,91144,0.75377711458070495,"22:11:00","確定",85.597172888618303,563583,null,null,null,null,null,null,null,null,null,null,"鹿児島県知事選挙","0",5,"23:00:00","1","1",85.597172888618303,85.597172888618303]
[1,33,"＊（曽於郡）計",100,5562,0,0,5562,37,5599,0,5599,0.66083229148062195,"21:37:00","確定",83.297093386925198,473129,null,null,null,null,null,null,null,null,null,null,100,90454,0,0,90454,687,91141,3,91144,0.75377711458070495,"22:11:00","確定",85.597172888618303,563583,null,null,null,null,null,null,null,null,null,null,"鹿児島県知事選挙","0",5,"23:00:00","1","1",85.597172888618303,85.597172888618303]
[1,34,"　東串良町",100,2634,0,0,2634,23,2657,0,2657,0.86563793752352303,"20:43:00","確定",83.297093386925198,473129,null,null,null,null,null,null,null,null,null,null,100,90454,0,0,90454,687,91141,3,91144,0.75377711458070495,"22:11:00","確定",85.597172888618303,563583,null,null,null,null,null,null,null,null,null,null,"鹿児島県知事選挙","0",5,"23:00:00","1","1",85.597172888618303,85.597172888618303]
[1,35,"　錦江町",100,3816,0,0,3816,29,3845,0,3845,0.75422626788036395,"20:56:00","確定",83.297093386925198,473129,null,null,null,null,null,null,null,null,null,null,100,90454,0,0,90454,687,91141,3,91144,0.75377711458070495,"22:11:00","確定",85.597172888618303,563583,null,null,null,null,null,null,null,null,null,null,"鹿児島県知事選挙","0",5,"23:00:00","1","1",85.597172888618303,85.597172888618303]
[1,36,"　南大隅町",100,3814,0,0,3814,25,3839,1,3840,0.65121125293045101,"21:20:00","確定",83.297093386925198,473129,null,null,null,null,null,null,null,null,null,null,100,90454,0,0,90454,687,91141,3,91144,0.75377711458070495,"22:11:00","確定",85.597172888618303,563583,null,null,null,null,null,null,null,null,null,null,"鹿児島県知事選挙","0",5,"23:00:00","1","1",85.597172888618303,85.597172888618303]
[1,37,"　肝付町",100,6413,0,0,6413,41,6454,0,6454,0.635264951967772,"21:09:00","確定",83.297093386925198,473129,null,null,null,null,null,null,null,null,null,null,100,90454,0,0,90454,687,91141,3,91144,0.75377711458070495,"22:11:00","確定",85.597172888618303,563583,null,null,null,null,null,null,null,null,null,null,"鹿児島県知事選挙","0",5,"23:00:00","1","1",85.597172888618303,85.597172888618303]
[1,38,"＊（肝属郡）計",100,16677,0,0,16677,118,16795,1,16796,0.70259005656445395,"21:20:00","確定",83.297093386925198,473129,null,null,null,null,null,null,null,null,null,null,100,90454,0,0,90454,687,91141,3,91144,0.75377711458070495,"22:11:00","確定",85.597172888618303,563583,null,null,null,null,null,null,null,null,null,null,"鹿児島県知事選挙","0",5,"23:00:00","1","1",85.597172888618303,85.597172888618303]
[1,39,"　中種子町",100,4076,0,0,4076,35,4111,0,4111,0.85137436146922896,"21:42:00","確定",83.297093386925198,473129,null,null,null,null,null,null,null,null,null,null,100,90454,0,0,90454,687,91141,3,91144,0.75377711458070495,"22:11:00","確定",85.597172888618303,563583,null,null,null,null,null,null,null,null,null,null,"鹿児島県知事選挙","0",5,"23:00:00","1","1",85.597172888618303,85.597172888618303]
[1,40,"　南種子町",100,2844,0,0,2844,14,2858,0,2858,0.48985304408677399,"21:02:00","確定",83.297093386925198,473129,null,null,null,null,null,null,null,null,null,null,100,90454,0,0,90454,687,91141,3,91144,0.75377711458070495,"22:11:00","確定",85.597172888618303,563583,null,null,null,null,null,null,null,null,null,null,"鹿児島県知事選挙","0",5,"23:00:00","1","1",85.597172888618303,85.597172888618303]
[1,41,"　屋久島町",100,6177,0,0,6177,45,6222,2,6224,0.72324011571841895,"21:39:00","確定",83.297093386925198,473129,null,null,null,null,null,null,null,null,null,null,100,90454,0,0,90454,687,91141,3,91144,0.75377711458070495,"22:11:00","確定",85.597172888618303,563583,null,null,null,null,null,null,null,null,null,null,"鹿児島県知事選挙","0",5,"23:00:00","1","1",85.597172888618303,85.597172888618303]
[1,42,"＊（熊毛郡）計",100,13097,0,0,13097,94,13191,2,13193,0.71260708058524702,"21:42:00","確定",83.297093386925198,473129,null,null,null,null,null,null,null,null,null,null,100,90454,0,0,90454,687,91141,3,91144,0.75377711458070495,"22:11:00","確定",85.597172888618303,563583,null,null,null,null,null,null,null,null,null,null,"鹿児島県知事選挙","0",5,"23:00:00","1","1",85.597172888618303,85.597172888618303]
[1,43,"　大和村",100,909,0,0,909,9,918,0,918,0.98039215686274495,"20:51:00","確定",83.297093386925198,473129,null,null,null,null,null,null,null,null,null,null,100,90454,0,0,90454,687,91141,3,91144,0.75377711458070495,"22:11:00","確定",85.597172888618303,563583,null,null,null,null,null,null,null,null,null,null,"鹿児島県知事選挙","0",5,"23:00:00","1","1",85.597172888618303,85.597172888618303]
[2,1,"　宇検村",100,1158,0,0,1158,18,1176,0,1176,1.53061224489796,"21:41:00","確定",83.297093386925198,473129,null,null,null,null,null,null,null,null,null,null,100,90454,0,0,90454,687,91141,3,91144,0.75377711458070495,"22:11:00","確定",85.597172888618303,563583,null,null,null,null,null,null,null,null,null,null,"鹿児島県知事選挙","0",5,"23:00:00","1","1",85.597172888618303,85.597172888618303]
[2,2,"　瀬戸内町",100,4721,0,0,4721,73,4794,0,4794,1.52273675427618,"21:14:00","確定",83.297093386925198,473129,null,null,null,null,null,null,null,null,null,null,100,90454,0,0,90454,687,91141,3,91144,0.75377711458070495,"22:11:00","確定",85.597172888618303,563583,null,null,null,null,null,null,null,null,null,null,"鹿児島県知事選挙","0",5,"23:00:00","1","1",85.597172888618303,85.597172888618303]
[2,3,"　龍郷町",100,3101,0,0,3101,25,3126,0,3126,0.79974408189379398,"21:14:00","確定",83.297093386925198,473129,null,null,null,null,null,null,null,null,null,null,100,90454,0,0,90454,687,91141,3,91144,0.75377711458070495,"22:11:00","確定",85.597172888618303,563583,null,null,null,null,null,null,null,null,null,null,"鹿児島県知事選挙","0",5,"23:00:00","1","1",85.597172888618303,85.597172888618303]
[2,4,"　喜界町",100,3460,0,0,3460,34,3494,0,3494,0.97309673726388102,"21:19:00","確定",83.297093386925198,473129,null,null,null,null,null,null,null,null,null,null,100,90454,0,0,90454,687,91141,3,91144,0.75377711458070495,"22:11:00","確定",85.597172888618303,563583,null,null,null,null,null,null,null,null,null,null,"鹿児島県知事選挙","0",5,"23:00:00","1","1",85.597172888618303,85.597172888618303]
[2,5,"　徳之島町",100,5030,0,0,5030,25,5055,0,5055,0.49455984174085099,"22:11:00","確定",83.297093386925198,473129,null,null,null,null,null,null,null,null,null,null,100,90454,0,0,90454,687,91141,3,91144,0.75377711458070495,"22:11:00","確定",85.597172888618303,563583,null,null,null,null,null,null,null,null,null,null,"鹿児島県知事選挙","0",5,"23:00:00","1","1",85.597172888618303,85.597172888618303]
[2,6,"　天城町",100,3045,0,0,3045,29,3074,0,3074,0.94339622641509402,"20:49:00","確定",83.297093386925198,473129,null,null,null,null,null,null,null,null,null,null,100,90454,0,0,90454,687,91141,3,91144,0.75377711458070495,"22:11:00","確定",85.597172888618303,563583,null,null,null,null,null,null,null,null,null,null,"鹿児島県知事選挙","0",5,"23:00:00","1","1",85.597172888618303,85.597172888618303]
[2,7,"　伊仙町",100,3368,0,0,3368,28,3396,0,3396,0.82449941107184899,"21:13:00","確定",83.297093386925198,473129,null,null,null,null,null,null,null,null,null,null,100,90454,0,0,90454,687,91141,3,91144,0.75377711458070495,"22:11:00","確定",85.597172888618303,563583,null,null,null,null,null,null,null,null,null,null,"鹿児島県知事選挙","0",5,"23:00:00","1","1",85.597172888618303,85.597172888618303]
[2,8,"　和泊町",100,3224,0,0,3224,18,3242,0,3242,0.55521283158544099,"21:22:00","確定",83.297093386925198,473129,null,null,null,null,null,null,null,null,null,null,100,90454,0,0,90454,687,91141,3,91144,0.75377711458070495,"22:11:00","確定",85.597172888618303,563583,null,null,null,null,null,null,null,null,null,null,"鹿児島県知事選挙","0",5,"23:00:00","1","1",85.597172888618303,85.597172888618303]
[2,9,"　知名町",100,2835,0,0,2835,19,2854,0,2854,0.66573230553608997,"20:49:00","確定",83.297093386925198,473129,null,null,null,null,null,null,null,null,null,null,100,90454,0,0,90454,687,91141,3,91144,0.75377711458070495,"22:11:00","確定",85.597172888618303,563583,null,null,null,null,null,null,null,null,null,null,"鹿児島県知事選挙","0",5,"23:00:00","1","1",85.597172888618303,85.597172888618303]
[2,10,"　与論町",100,2704,0,0,2704,19,2723,0,2723,0.69775982372383405,"21:32:00","確定",83.297093386925198,473129,null,null,null,null,null,null,null,null,null,null,100,90454,0,0,90454,687,91141,3,91144,0.75377711458070495,"22:11:00","確定",85.597172888618303,563583,null,null,null,null,null,null,null,null,null,null,"鹿児島県知事選挙","0",5,"23:00:00","1","1",85.597172888618303,85.597172888618303]
[2,11,"＊（大島郡）計",100,33555,0,0,33555,297,33852,0,33852,0.87734845799361905,"22:11:00","確定",83.297093386925198,473129,null,null,null,null,null,null,null,null,null,null,100,90454,0,0,90454,687,91141,3,91144,0.75377711458070495,"22:11:00","確定",85.597172888618303,563583,null,null,null,null,null,null,null,null,null,null,"鹿児島県知事選挙","0",5,"23:00:00","1","1",85.597172888618303,85.597172888618303]
[2,12,null,null,null,null,null,null,null,null,null,null,null,null,null,83.297093386925198,473129,null,null,null,null,null,null,null,null,null,null,100,90454,0,0,90454,687,91141,3,91144,0.75377711458070495,"22:11:00","確定",85.597172888618303,563583,null,null,null,null,null,null,null,null,null,null,"鹿児島県知事選挙","0",5,"23:00:00","1","1",85.597172888618303,85.597172888618303]
[2,13,null,null,null,null,null,null,null,null,null,null,null,null,null,83.297093386925198,473129,null,null,null,null,null,null,null,null,null,null,100,90454,0,0,90454,687,91141,3,91144,0.75377711458070495,"22:11:00","確定",85.597172888618303,563583,null,null,null,null,null,null,null,null,null,null,"鹿児島県知事選挙","0",5,"23:00:00","1","1",85.597172888618303,85.597172888618303]
[2,14,null,null,null,null,null,null,null,null,null,null,null,null,null,83.297093386925198,473129,null,null,null,null,null,null,null,null,null,null,100,90454,0,0,90454,687,91141,3,91144,0.75377711458070495,"22:11:00","確定",85.597172888618303,563583,null,null,null,null,null,null,null,null,null,null,"鹿児島県知事選挙","0",5,"23:00:00","1","1",85.597172888618303,85.597172888618303]
[2,15,null,null,null,null,null,null,null,null,null,null,null,null,null,83.297093386925198,473129,null,null,null,null,null,null,null,null,null,null,100,90454,0,0,90454,687,91141,3,91144,0.75377711458070495,"22:11:00","確定",85.597172888618303,563583,null,null,null,null,null,null,null,null,null,null,"鹿児島県知事選挙","0",5,"23:00:00","1","1",85.597172888618303,85.597172888618303]
[2,16,null,null,null,null,null,null,null,null,null,null,null,null,null,83.297093386925198,473129,null,null,null,null,null,null,null,null,null,null,100,90454,0,0,90454,687,91141,3,91144,0.75377711458070495,"22:11:00","確定",85.597172888618303,563583,null,null,null,null,null,null,null,null,null,null,"鹿児島県知事選挙","0",5,"23:00:00","1","1",85.597172888618303,85.597172888618303]
[2,17,null,null,null,null,null,null,null,null,null,null,null,null,null,83.297093386925198,473129,null,null,null,null,null,null,null,null,null,null,100,90454,0,0,90454,687,91141,3,91144,0.75377711458070495,"22:11:00","確定",85.597172888618303,563583,null,null,null,null,null,null,null,null,null,null,"鹿児島県知事選挙","0",5,"23:00:00","1","1",85.597172888618303,85.597172888618303]
[2,18,null,null,null,null,null,null,null,null,null,null,null,null,null,83.297093386925198,473129,null,null,null,null,null,null,null,null,null,null,100,90454,0,0,90454,687,91141,3,91144,0.75377711458070495,"22:11:00","確定",85.597172888618303,563583,null,null,null,null,null,null,null,null,null,null,"鹿児島県知事選挙","0",5,"23:00:00","1","1",85.597172888618303,85.597172888618303]
[2,19,null,null,null,null,null,null,null,null,null,null,null,null,null,83.297093386925198,473129,null,null,null,null,null,null,null,null,null,null,100,90454,0,0,90454,687,91141,3,91144,0.75377711458070495,"22:11:00","確定",85.597172888618303,563583,null,null,null,null,null,null,null,null,null,null,"鹿児島県知事選挙","0",5,"23:00:00","1","1",85.597172888618303,85.597172888618303]
[2,20,null,null,null,null,null,null,null,null,null,null,null,null,null,83.297093386925198,473129,null,null,null,null,null,null,null,null,null,null,100,90454,0,0,90454,687,91141,3,91144,0.75377711458070495,"22:11:00","確定",85.597172888618303,563583,null,null,null,null,null,null,null,null,null,null,"鹿児島県知事選挙","0",5,"23:00:00","1","1",85.597172888618303,85.597172888618303]
[2,21,null,null,null,null,null,null,null,null,null,null,null,null,null,83.297093386925198,473129,null,null,null,null,null,null,null,null,null,null,100,90454,0,0,90454,687,91141,3,91144,0.75377711458070495,"22:11:00","確定",85.597172888618303,563583,null,null,null,null,null,null,null,null,null,null,"鹿児島県知事選挙","0",5,"23:00:00","1","1",85.597172888618303,85.597172888618303]
[2,22,null,null,null,null,null,null,null,null,null,null,null,null,null,83.297093386925198,473129,null,null,null,null,null,null,null,null,null,null,100,90454,0,0,90454,687,91141,3,91144,0.75377711458070495,"22:11:00","確定",85.597172888618303,563583,null,null,null,null,null,null,null,null,null,null,"鹿児島県知事選挙","0",5,"23:00:00","1","1",85.597172888618303,85.597172888618303]
[2,23,null,null,null,null,null,null,null,null,null,null,null,null,null,83.297093386925198,473129,null,null,null,null,null,null,null,null,null,null,100,90454,0,0,90454,687,91141,3,91144,0.75377711458070495,"22:11:00","確定",85.597172888618303,563583,null,null,null,null,null,null,null,null,null,null,"鹿児島県知事選挙","0",5,"23:00:00","1","1",85.597172888618303,85.597172888618303]
[2,24,null,null,null,null,null,null,null,null,null,null,null,null,null,83.297093386925198,473129,null,null,null,null,null,null,null,null,null,null,100,90454,0,0,90454,687,91141,3,91144,0.75377711458070495,"22:11:00","確定",85.597172888618303,563583,null,null,null,null,null,null,null,null,null,null,"鹿児島県知事選挙","0",5,"23:00:00","1","1",85.597172888618303,85.597172888618303]
[2,25,null,null,null,null,null,null,null,null,null,null,null,null,null,83.297093386925198,473129,null,null,null,null,null,null,null,null,null,null,100,90454,0,0,90454,687,91141,3,91144,0.75377711458070495,"22:11:00","確定",85.597172888618303,563583,null,null,null,null,null,null,null,null,null,null,"鹿児島県知事選挙","0",5,"23:00:00","1","1",85.597172888618303,85.597172888618303]
[2,26,null,null,null,null,null,null,null,null,null,null,null,null,null,83.297093386925198,473129,null,null,null,null,null,null,null,null,null,null,100,90454,0,0,90454,687,91141,3,91144,0.75377711458070495,"22:11:00","確定",85.597172888618303,563583,null,null,null,null,null,null,null,null,null,null,"鹿児島県知事選挙","0",5,"23:00:00","1","1",85.597172888618303,85.597172888618303]
[2,27,null,null,null,null,null,null,null,null,null,null,null,null,null,83.297093386925198,473129,null,null,null,null,null,null,null,null,null,null,100,90454,0,0,90454,687,91141,3,91144,0.75377711458070495,"22:11:00","確定",85.597172888618303,563583,null,null,null,null,null,null,null,null,null,null,"鹿児島県知事選挙","0",5,"23:00:00","1","1",85.597172888618303,85.597172888618303]
[2,28,null,null,null,null,null,null,null,null,null,null,null,null,null,83.297093386925198,473129,null,null,null,null,null,null,null,null,null,null,100,90454,0,0,90454,687,91141,3,91144,0.75377711458070495,"22:11:00","確定",85.597172888618303,563583,null,null,null,null,null,null,null,null,null,null,"鹿児島県知事選挙","0",5,"23:00:00","1","1",85.597172888618303,85.597172888618303]
[2,29,null,null,null,null,null,null,null,null,null,null,null,null,null,83.297093386925198,473129,null,null,null,null,null,null,null,null,null,null,100,90454,0,0,90454,687,91141,3,91144,0.75377711458070495,"22:11:00","確定",85.597172888618303,563583,null,null,null,null,null,null,null,null,null,null,"鹿児島県知事選挙","0",5,"23:00:00","1","1",85.597172888618303,85.597172888618303]
[2,30,null,null,null,null,null,null,null,null,null,null,null,null,null,83.297093386925198,473129,null,null,null,null,null,null,null,null,null,null,100,90454,0,0,90454,687,91141,3,91144,0.75377711458070495,"22:11:00","確定",85.597172888618303,563583,null,null,null,null,null,null,null,null,null,null,"鹿児島県知事選挙","0",5,"23:00:00","1","1",85.597172888618303,85.597172888618303]
[2,31,null,null,null,null,null,null,null,null,null,null,null,null,null,83.297093386925198,473129,null,null,null,null,null,null,null,null,null,null,100,90454,0,0,90454,687,91141,3,91144,0.75377711458070495,"22:11:00","確定",85.597172888618303,563583,null,null,null,null,null,null,null,null,null,null,"鹿児島県知事選挙","0",5,"23:00:00","1","1",85.597172888618303,85.597172888618303]
[2,32,null,null,null,null,null,null,null,null,null,null,null,null,null,83.297093386925198,473129,null,null,null,null,null,null,null,null,null,null,100,90454,0,0,90454,687,91141,3,91144,0.75377711458070495,"22:11:00","確定",85.597172888618303,563583,null,null,null,null,null,null,null,null,null,null,"鹿児島県知事選挙","0",5,"23:00:00","1","1",85.597172888618303,85.597172888618303]
[2,33,null,null,null,null,null,null,null,null,null,null,null,null,null,83.297093386925198,473129,null,null,null,null,null,null,null,null,null,null,100,90454,0,0,90454,687,91141,3,91144,0.75377711458070495,"22:11:00","確定",85.597172888618303,563583,null,null,null,null,null,null,null,null,null,null,"鹿児島県知事選挙","0",5,"23:00:00","1","1",85.597172888618303,85.597172888618303]
[2,34,null,null,null,null,null,null,null,null,null,null,null,null,null,83.297093386925198,473129,null,null,null,null,null,null,null,null,null,null,100,90454,0,0,90454,687,91141,3,91144,0.75377711458070495,"22:11:00","確定",85.597172888618303,563583,null,null,null,null,null,null,null,null,null,null,"鹿児島県知事選挙","0",5,"23:00:00","1","1",85.597172888618303,85.597172888618303]
[2,35,null,null,null,null,null,null,null,null,null,null,null,null,null,83.297093386925198,473129,null,null,null,null,null,null,null,null,null,null,100,90454,0,0,90454,687,91141,3,91144,0.75377711458070495,"22:11:00","確定",85.597172888618303,563583,null,null,null,null,null,null,null,null,null,null,"鹿児島県知事選挙","0",5,"23:00:00","1","1",85.597172888618303,85.597172888618303]
[2,36,null,null,null,null,null,null,null,null,null,null,null,null,null,83.297093386925198,473129,null,null,null,null,null,null,null,null,null,null,100,90454,0,0,90454,687,91141,3,91144,0.75377711458070495,"22:11:00","確定",85.597172888618303,563583,null,null,null,null,null,null,null,null,null,null,"鹿児島県知事選挙","0",5,"23:00:00","1","1",85.597172888618303,85.597172888618303]
[2,37,null,null,null,null,null,null,null,null,null,null,null,null,null,83.297093386925198,473129,null,null,null,null,null,null,null,null,null,null,100,90454,0,0,90454,687,91141,3,91144,0.75377711458070495,"22:11:00","確定",85.597172888618303,563583,null,null,null,null,null,null,null,null,null,null,"鹿児島県知事選挙","0",5,"23:00:00","1","1",85.597172888618303,85.597172888618303]
[2,38,null,null,null,null,null,null,null,null,null,null,null,null,null,83.297093386925198,473129,null,null,null,null,null,null,null,null,null,null,100,90454,0,0,90454,687,91141,3,91144,0.75377711458070495,"22:11:00","確定",85.597172888618303,563583,null,null,null,null,null,null,null,null,null,null,"鹿児島県知事選挙","0",5,"23:00:00","1","1",85.597172888618303,85.597172888618303]
[2,39,null,null,null,null,null,null,null,null,null,null,null,null,null,83.297093386925198,473129,null,null,null,null,null,null,null,null,null,null,100,90454,0,0,90454,687,91141,3,91144,0.75377711458070495,"22:11:00","確定",85.597172888618303,563583,null,null,null,null,null,null,null,null,null,null,"鹿児島県知事選挙","0",5,"23:00:00","1","1",85.597172888618303,85.597172888618303]
[2,40,null,null,null,null,null,null,null,null,null,null,null,null,null,83.297093386925198,473129,null,null,null,null,null,null,null,null,null,null,100,90454,0,0,90454,687,91141,3,91144,0.75377711458070495,"22:11:00","確定",85.597172888618303,563583,null,null,null,null,null,null,null,null,null,null,"鹿児島県知事選挙","0",5,"23:00:00","1","1",85.597172888618303,85.597172888618303]
[2,41,null,null,null,null,null,null,null,null,null,null,null,null,null,83.297093386925198,473129,null,null,null,null,null,null,null,null,null,null,100,90454,0,0,90454,687,91141,3,91144,0.75377711458070495,"22:11:00","確定",85.597172888618303,563583,null,null,null,null,null,null,null,null,null,null,"鹿児島県知事選挙","0",5,"23:00:00","1","1",85.597172888618303,85.597172888618303]
[2,42,null,null,null,null,null,null,null,null,null,null,null,null,null,83.297093386925198,473129,null,null,null,null,null,null,null,null,null,null,100,90454,0,0,90454,687,91141,3,91144,0.75377711458070495,"22:11:00","確定",85.597172888618303,563583,null,null,null,null,null,null,null,null,null,null,"鹿児島県知事選挙","0",5,"23:00:00","1","1",85.597172888618303,85.597172888618303]
[2,43,null,null,null,null,null,null,null,null,null,null,null,null,null,83.297093386925198,473129,null,null,null,null,null,null,null,null,null,null,100,90454,0,0,90454,687,91141,3,91144,0.75377711458070495,"22:11:00","確定",85.597172888618303,563583,null,null,null,null,null,null,null,null,null,null,"鹿児島県知事選挙","0",5,"23:00:00","1","1",85.597172888618303,85.597172888618303]