{"text_format":"1","workbook":"xlsx","n_sheets":3,"sheets":["開票速報_151_","パラメタシート","P_15号様式"],"not_rendered":{"charts":0,"images":0,"macros":1,"external_links":1,"defined_names":9,"comments":0,"pivot_tables":0},"unopened":[],"bounds":{"document_bytes":16777216,"sheet_cells":100000,"rows_first":2000,"rows_last":500,"rows_between":2000,"halvings":0,"cell_chars":16384,"cell_head_chars":4096},"cells_cut":0,"cells_raw":0,"read":"whole","date_system":"1900"}

{"sheet":"開票速報_151_","index":0,"n_rows":115,"n_cols":25,"rows_kept":115,"cut":false,"hidden":false,"merged":[[110,22,110,23],[108,22,108,23],[101,22,101,23],[102,22,102,23],[103,22,103,23],[104,22,104,23],[112,22,112,23],[113,22,113,23],[114,22,114,23],[95,22,95,23],[96,22,96,23],[97,22,97,23],[100,22,100,23],[98,22,98,23],[99,22,99,23],[105,22,105,23],[106,22,106,23],[107,22,107,23],[86,22,86,23],[79,22,79,23],[80,22,80,23],[81,22,81,23],[82,22,82,23],[91,22,91,23],[92,22,92,23],[93,22,93,23],[94,22,94,23],[87,22,87,23],[88,22,88,23],[89,22,89,23],[90,22,90,23],[70,22,70,23],[56,22,56,23],[57,22,57,23],[68,22,68,23],[69,22,69,23],[63,22,67,24],[83,22,83,23],[84,22,84,23],[85,22,85,23],[42,22,42,23],[35,22,35,23],[36,22,36,23],[37,22,37,23],[38,22,38,23],[43,22,43,23],[52,22,52,23],[54,22,54,23],[55,22,55,23],[46,22,46,23],[47,22,47,23],[48,22,48,23],[49,22,49,23],[50,22,50,23],[51,22,51,23],[10,22,10,23],[11,22,11,23],[12,22,12,23],[13,22,13,23],[14,22,14,23],[15,22,15,23],[16,22,16,23],[28,22,28,23],[20,22,20,23],[21,22,21,23],[22,22,22,23],[23,22,23,23],[24,22,24,23],[25,22,25,23],[26,22,26,23],[6,6,7,7],[8,6,9,7],[66,2,67,3],[21,0,21,1],[22,0,22,1],[66,6,67,7],[96,0,96,1],[6,2,7,3],[31,0,31,1],[10,0,10,1],[25,0,25,1],[26,0,26,1],[8,2,9,3],[41,0,41,1],[42,0,42,1],[5,0,9,1],[98,0,98,1],[99,0,99,1],[97,0,97,1],[18,0,18,1],[19,0,19,1],[64,14,65,15],[63,0,67,1],[63,2,63,3],[63,4,63,5],[63,6,63,7],[64,2,65,3],[64,8,65,9],[64,10,65,11],[64,12,65,13],[66,8,67,9],[66,10,67,11],[66,12,67,13],[64,4,65,5],[66,14,67,15],[66,4,67,5],[72,0,72,1],[73,0,73,1],[74,0,74,1],[72,22,72,23],[73,22,73,23],[74,22,74,23],[71,22,71,23],[34,22,34,23],[29,22,29,23],[30,22,30,23],[31,22,31,23],[32,22,32,23],[33,22,33,23],[39,22,39,23],[66,20,67,21],[64,16,65,17],[64,18,65,19],[64,20,65,21],[66,16,67,17],[66,18,67,19],[64,6,65,7],[68,0,68,1],[40,22,40,23],[41,22,41,23],[6,16,7,17],[6,10,7,11],[6,8,7,9],[6,20,7,21],[8,14,9,15],[8,16,9,17],[2,15,2,18],[3,15,3,18],[5,6,5,7],[5,8,5,9],[5,10,5,11],[5,18,5,19],[2,12,2,13],[6,18,7,19],[5,12,5,13],[5,14,5,15],[5,16,5,17],[6,14,7,15],[3,21,3,22],[63,18,63,19],[8,8,9,9],[8,18,9,19],[63,8,63,9],[63,10,63,11],[63,12,63,13],[63,14,63,15],[63,16,63,17],[8,10,9,11],[0,8,1,13],[11,0,11,1],[12,0,12,1],[13,0,13,1],[8,12,9,13],[6,12,7,13],[2,1,2,5],[5,2,5,3],[5,4,5,5],[3,1,3,4],[6,4,7,5],[8,4,9,5],[0,0,1,3],[14,0,14,1],[23,0,23,1],[24,0,24,1],[95,0,95,1],[15,0,15,1],[37,0,37,1],[89,0,89,1],[90,0,90,1],[17,0,17,1],[91,0,91,1],[94,0,94,1],[92,0,92,1],[93,0,93,1],[43,0,43,1],[83,0,83,1],[84,0,84,1],[85,0,85,1],[86,0,86,1],[87,0,87,1],[16,0,16,1],[30,0,30,1],[49,0,49,1],[38,0,38,1],[39,0,39,1],[100,0,100,1],[101,0,101,1],[102,0,102,1],[103,0,103,1],[104,0,104,1],[105,0,105,1],[20,0,20,1],[88,0,88,1],[78,0,78,1],[79,0,79,1],[80,0,80,1],[81,0,81,1],[82,0,82,1],[75,0,75,1],[27,0,27,1],[28,0,28,1],[45,0,45,1],[46,0,46,1],[40,0,40,1],[32,0,32,1],[33,0,33,1],[29,0,29,1],[76,0,76,1],[34,0,34,1],[35,0,35,1],[36,0,36,1],[47,0,47,1],[48,0,48,1],[44,0,44,1],[58,0,59,3],[58,8,59,13],[114,0,114,1],[108,0,108,1],[109,0,109,1],[110,0,110,1],[52,0,52,1],[50,0,50,1],[51,0,51,1],[57,0,57,1],[55,0,55,1],[54,0,54,1],[56,0,56,1],[112,0,112,1],[77,0,77,1],[69,0,69,1],[70,0,70,1],[71,0,71,1],[60,1,60,5],[60,15,60,18],[61,1,61,4],[61,15,61,18],[60,12,60,13],[106,0,106,1],[107,0,107,1],[115,0,115,1],[113,0,113,1],[0,22,1,24],[58,22,59,24],[109,22,109,23],[115,22,115,23],[2,21,2,22],[44,22,44,23],[45,22,45,23],[8,20,9,21],[4,22,4,24],[62,22,62,24],[63,20,63,21],[60,21,60,22],[61,21,61,22],[5,22,9,24],[17,22,17,23],[18,22,18,23],[19,22,19,23],[5,20,5,21],[78,22,78,23],[76,22,76,23],[75,22,75,23],[77,22,77,23],[27,22,27,23]]}
["第15号  様式",null,null,null,null,null,null,null,"開　票　速　報　",null,null,null,null,null,null,null,null,null,null,null,null,null,{"$f":"IF(P_15号様式!A2=\"\",\" ページ\", P_15号様式!A2 & \"ページ\")","v":"1ページ"}]
[]
[null,{"$f":"IF(パラメタシート!B1=\"\",\"\",パラメタシート!B1)","v":"2020-07-12"},null,null,null,null,null,null,null,null,null,null,{"$f":"IF(P_15号様式!CA2=\"0\",\"即日中間速報\",\"翌日中間速報\")","v":"即日中間速報"},null,{"$f":"IF(P_15号様式!CB2=\"\",\"第　　回\",\"第　\" & P_15号様式!CB2 & \"　回\")","v":"第　4　回"},{"$f":"IF(P_15号様式!CC2=\"\",\"     時      分　現在\",P_15号様式!CC2)","v":"22:30:00"},null,null,null,"即日確定開票率",null,{"$f":"IF(P_15号様式!CG2=\"\",\"\",P_15号様式!CG2)","v":63.9553874813598},null,"％"]
[null,{"$f":"IF(P_15号様式!BZ2=\"\",\"\",P_15号様式!BZ2)","v":"鹿児島県知事選挙"},null,null,null,null,null,null,null,null,null,null,"　　結了報告",null,null,{"$f":"IF(P_15号様式!CD2=\"\",\"     時      分　結了\",P_15号様式!CD2)","v":"     時      分　結了"},null,null,null,"確定全体開票率",null,{"$f":"IF(P_15号様式!CH2=\"\",\"\",P_15号様式!CH2)","v":63.9553874813598},null,"％"]
[null,null,null,null,null,null,null,null,null,null,null,null,null,null,null,null,null,null,null,null,null,null,"鹿 児 島 県"]
["市 区 町 村 名",null,{"$f":"IF(P_15号様式!D2=\"\",\"\",VALUE(P_15号様式!D2))","v":1},null,{"$f":"IF(P_15号様式!H2=\"\",\"\",VALUE(P_15号様式!H2))","v":2},null,{"$f":"IF(P_15号様式!L2=\"\",\"\",VALUE(P_15号様式!L2))","v":3},null,{"$f":"IF(P_15号様式!P2=\"\",\"\",VALUE(P_15号様式!P2))","v":4},null,{"$f":"IF(P_15号様式!T2=\"\",\"\",VALUE(P_15号様式!T2))","v":5},null,{"$f":"IF(P_15号様式!X2=\"\",\"\",VALUE(P_15号様式!X2))","v":6},null,{"$f":"IF(P_15号様式!AB2=\"\",\"\",VALUE(P_15号様式!AB2))","v":7},null,{"$f":"IF(P_15号様式!AF2=\"\",\"\",VALUE(P_15号様式!AF2))","v":""},null,{"$f":"IF(P_15号様式!AJ2=\"\",\"\",VALUE(P_15号様式!AJ2))","v":""},null,{"$f":"IF(P_15号様式!AN2=\"\",\"\",VALUE(P_15号様式!AN2))","v":""},null,"小 計"]
[null,null,{"$f":"IF(P_15号様式!E2=\"\",\"\",P_15号様式!E2)","v":"無所属"},null,{"$f":"IF(P_15号様式!I2=\"\",\"\",P_15号様式!I2)","v":"無所属"},null,{"$f":"IF(P_15号様式!M2=\"\",\"\",P_15号様式!M2)","v":"無所属"},null,{"$f":"IF(P_15号様式!Q2=\"\",\"\",P_15号様式!Q2)","v":"無所属"},null,{"$f":"IF(P_15号様式!U2=\"\",\"\",P_15号様式!U2)","v":"無所属"},null,{"$f":"IF(P_15号様式!Y2=\"\",\"\",P_15号様式!Y2)","v":"無所属"},null,{"$f":"IF(P_15号様式!AC2=\"\",\"\",P_15号様式!AC2)","v":"無所属"},null,{"$f":"IF(P_15号様式!AG2=\"\",\"\",P_15号様式!AG2)","v":""},null,{"$f":"IF(P_15号様式!AK2=\"\",\"\",P_15号様式!AK2)","v":""},null,{"$f":"IF(P_15号様式!AO2=\"\",\"\",P_15号様式!AO2)","v":""}]
[]
[null,null,{"$f":"IF(P_15号様式!F2=\"\",\"\",P_15号様式!F2)","v":"武田　信弘"},null,{"$f":"IF(P_15号様式!J2=\"\",\"\",P_15号様式!J2)","v":"横山　ふみ子"},null,{"$f":"IF(P_15号様式!N2=\"\",\"\",P_15号様式!N2)","v":"青木　りゅうこ"},null,{"$f":"IF(P_15号様式!R2=\"\",\"\",P_15号様式!R2)","v":"みたぞの　さとし"},null,{"$f":"IF(P_15号様式!V2=\"\",\"\",P_15号様式!V2)","v":"いとう　祐一郎"},null,{"$f":"IF(P_15号様式!Z2=\"\",\"\",P_15号様式!Z2)","v":"しおた　康一"},null,{"$f":"IF(P_15号様式!AD2=\"\",\"\",P_15号様式!AD2)","v":"有川　ひろゆき"},null,{"$f":"IF(P_15号様式!AH2=\"\",\"\",P_15号様式!AH2)","v":""},null,{"$f":"IF(P_15号様式!AL2=\"\",\"\",P_15号様式!AL2)","v":""},null,{"$f":"IF(P_15号様式!AP2=\"\",\"\",P_15号様式!AP2)","v":""}]
[]
[{"$f":"IF(P_15号様式!C2=\"\",\"\",P_15号様式!C2)","v":"　鹿児島市"},null,{"$f":"IF(P_15号様式!G2<> \"\",TEXT(INT(P_15号様式!G2),\"#,##0\"),\"\")","v":"0"},{"$f":"IF(P_15号様式!G2= \"\",\"\",IF(VALUE(FIXED(P_15号様式!G2,0,TRUE))<>P_15号様式!G2,RIGHT(FIXED(P_15号様式!G2,3,FALSE),4),\"\"))","v":""},{"$f":"IF(P_15号様式!K2<> \"\",TEXT(INT(P_15号様式!K2),\"#,##0\"),\"\")","v":"0"},{"$f":"IF(P_15号様式!K2= \"\",\"\",IF(VALUE(FIXED(P_15号様式!K2,0,TRUE))<>P_15号様式!K2,RIGHT(FIXED(P_15号様式!K2,3,FALSE),4),\"\"))","v":""},{"$f":"IF(P_15号様式!O2<> \"\",TEXT(INT(P_15号様式!O2),\"#,##0\"),\"\")","v":"0"},{"$f":"IF(P_15号様式!O2= \"\",\"\",IF(VALUE(FIXED(P_15号様式!O2,0,TRUE))<>P_15号様式!O2,RIGHT(FIXED(P_15号様式!O2,3,FALSE),4),\"\"))","v":""},{"$f":"IF(P_15号様式!S2<> \"\",TEXT(INT(P_15号様式!S2),\"#,##0\"),\"\")","v":"0"},{"$f":"IF(P_15号様式!S2= \"\",\"\",IF(VALUE(FIXED(P_15号様式!S2,0,TRUE))<>P_15号様式!S2,RIGHT(FIXED(P_15号様式!S2,3,FALSE),4),\"\"))","v":""},{"$f":"IF(P_15号様式!W2<> \"\",TEXT(INT(P_15号様式!W2),\"#,##0\"),\"\")","v":"0"},{"$f":"IF(P_15号様式!W2= \"\",\"\",IF(VALUE(FIXED(P_15号様式!W2,0,TRUE))<>P_15号様式!W2,RIGHT(FIXED(P_15号様式!W2,3,FALSE),4),\"\"))","v":""},{"$f":"IF(P_15号様式!AA2<> \"\",TEXT(INT(P_15号様式!AA2),\"#,##0\"),\"\")","v":"0"},{"$f":"IF(P_15号様式!AA2= \"\",\"\",IF(VALUE(FIXED(P_15号様式!AA2,0,TRUE))<>P_15号様式!AA2,RIGHT(FIXED(P_15号様式!AA2,3,FALSE),4),\"\"))","v":""},{"$f":"IF(P_15号様式!AE2<> \"\",TEXT(INT(P_15号様式!AE2),\"#,##0\"),\"\")","v":"0"},{"$f":"IF(P_15号様式!AE2= \"\",\"\",IF(VALUE(FIXED(P_15号様式!AE2,0,TRUE))<>P_15号様式!AE2,RIGHT(FIXED(P_15号様式!AE2,3,FALSE),4),\"\"))","v":""},{"$f":"IF(P_15号様式!AI2<> \"\",TEXT(INT(P_15号様式!AI2),\"#,##0\"),\"\")","v":""},{"$f":"IF(P_15号様式!AI2= \"\",\"\",IF(VALUE(FIXED(P_15号様式!AI2,0,TRUE))<>P_15号様式!AI2,RIGHT(FIXED(P_15号様式!AI2,3,FALSE),4),\"\"))","v":""},{"$f":"IF(P_15号様式!AM2<> \"\",TEXT(INT(P_15号様式!AM2),\"#,##0\"),\"\")","v":""},{"$f":"IF(P_15号様式!AM2= \"\",\"\",IF(VALUE(FIXED(P_15号様式!AM2,0,TRUE))<>P_15号様式!AM2,RIGHT(FIXED(P_15号様式!AM2,3,FALSE),4),\"\"))","v":""},{"$f":"IF(P_15号様式!AQ2<> \"\",TEXT(INT(P_15号様式!AQ2),\"#,##0\"),\"\")","v":""},{"$f":"IF(P_15号様式!AQ2= \"\",\"\",IF(VALUE(FIXED(P_15号様式!AQ2,0,TRUE))<>P_15号様式!AQ2,RIGHT(FIXED(P_15号様式!AQ2,3,FALSE),4),\"\"))","v":""},{"$f":"IF(P_15号様式!AR2<> \"\",TEXT(INT(P_15号様式!AR2),\"#,##0\"),\"\")","v":"0"},null,{"$f":"IF(P_15号様式!AR2= \"\",\"\",IF(VALUE(FIXED(P_15号様式!AR2,0,TRUE))<>P_15号様式!AR2,RIGHT(FIXED(P_15号様式!AR2,3,FALSE),4),\"\"))","v":""}]
[{"$f":"IF(P_15号様式!C3=\"\",\"\",P_15号様式!C3)","v":"　鹿屋市"},null,{"$f":"IF(P_15号様式!G3<> \"\",TEXT(INT(P_15号様式!G3),\"#,##0\"),\"\")","v":"343"},{"$f":"IF(P_15号様式!G3= \"\",\"\",IF(VALUE(FIXED(P_15号様式!G3,0,TRUE))<>P_15号様式!G3,RIGHT(FIXED(P_15号様式!G3,3,FALSE),4),\"\"))","v":""},{"$f":"IF(P_15号様式!K3<> \"\",TEXT(INT(P_15号様式!K3),\"#,##0\"),\"\")","v":"1,127"},{"$f":"IF(P_15号様式!K3= \"\",\"\",IF(VALUE(FIXED(P_15号様式!K3,0,TRUE))<>P_15号様式!K3,RIGHT(FIXED(P_15号様式!K3,3,FALSE),4),\"\"))","v":""},{"$f":"IF(P_15号様式!O3<> \"\",TEXT(INT(P_15号様式!O3),\"#,##0\"),\"\")","v":"3,653"},{"$f":"IF(P_15号様式!O3= \"\",\"\",IF(VALUE(FIXED(P_15号様式!O3,0,TRUE))<>P_15号様式!O3,RIGHT(FIXED(P_15号様式!O3,3,FALSE),4),\"\"))","v":""},{"$f":"IF(P_15号様式!S3<> \"\",TEXT(INT(P_15号様式!S3),\"#,##0\"),\"\")","v":"12,353"},{"$f":"IF(P_15号様式!S3= \"\",\"\",IF(VALUE(FIXED(P_15号様式!S3,0,TRUE))<>P_15号様式!S3,RIGHT(FIXED(P_15号様式!S3,3,FALSE),4),\"\"))","v":""},{"$f":"IF(P_15号様式!W3<> \"\",TEXT(INT(P_15号様式!W3),\"#,##0\"),\"\")","v":"7,911"},{"$f":"IF(P_15号様式!W3= \"\",\"\",IF(VALUE(FIXED(P_15号様式!W3,0,TRUE))<>P_15号様式!W3,RIGHT(FIXED(P_15号様式!W3,3,FALSE),4),\"\"))","v":""},{"$f":"IF(P_15号様式!AA3<> \"\",TEXT(INT(P_15号様式!AA3),\"#,##0\"),\"\")","v":"9,821"},{"$f":"IF(P_15号様式!AA3= \"\",\"\",IF(VALUE(FIXED(P_15号様式!AA3,0,TRUE))<>P_15号様式!AA3,RIGHT(FIXED(P_15号様式!AA3,3,FALSE),4),\"\"))","v":""},{"$f":"IF(P_15号様式!AE3<> \"\",TEXT(INT(P_15号様式!AE3),\"#,##0\"),\"\")","v":"828"},{"$f":"IF(P_15号様式!AE3= \"\",\"\",IF(VALUE(FIXED(P_15号様式!AE3,0,TRUE))<>P_15号様式!AE3,RIGHT(FIXED(P_15号様式!AE3,3,FALSE),4),\"\"))","v":""},{"$f":"IF(P_15号様式!AI3<> \"\",TEXT(INT(P_15号様式!AI3),\"#,##0\"),\"\")","v":""},{"$f":"IF(P_15号様式!AI3= \"\",\"\",IF(VALUE(FIXED(P_15号様式!AI3,0,TRUE))<>P_15号様式!AI3,RIGHT(FIXED(P_15号様式!AI3,3,FALSE),4),\"\"))","v":""},{"$f":"IF(P_15号様式!AM3<> \"\",TEXT(INT(P_15号様式!AM3),\"#,##0\"),\"\")","v":""},{"$f":"IF(P_15号様式!AM3= \"\",\"\",IF(VALUE(FIXED(P_15号様式!AM3,0,TRUE))<>P_15号様式!AM3,RIGHT(FIXED(P_15号様式!AM3,3,FALSE),4),\"\"))","v":""},{"$f":"IF(P_15号様式!AQ3<> \"\",TEXT(INT(P_15号様式!AQ3),\"#,##0\"),\"\")","v":""},{"$f":"IF(P_15号様式!AQ3= \"\",\"\",IF(VALUE(FIXED(P_15号様式!AQ3,0,TRUE))<>P_15号様式!AQ3,RIGHT(FIXED(P_15号様式!AQ3,3,FALSE),4),\"\"))","v":""},{"$f":"IF(P_15号様式!AR3<> \"\",TEXT(INT(P_15号様式!AR3),\"#,##0\"),\"\")","v":"36,036"},null,{"$f":"IF(P_15号様式!AR3= \"\",\"\",IF(VALUE(FIXED(P_15号様式!AR3,0,TRUE))<>P_15号様式!AR3,RIGHT(FIXED(P_15号様式!AR3,3,FALSE),4),\"\"))","v":""}]
[{"$f":"IF(P_15号様式!C4=\"\",\"\",P_15号様式!C4)","v":"　枕崎市"},null,{"$f":"IF(P_15号様式!G4<> \"\",TEXT(INT(P_15号様式!G4),\"#,##0\"),\"\")","v":"71"},{"$f":"IF(P_15号様式!G4= \"\",\"\",IF(VALUE(FIXED(P_15号様式!G4,0,TRUE))<>P_15号様式!G4,RIGHT(FIXED(P_15号様式!G4,3,FALSE),4),\"\"))","v":""},{"$f":"IF(P_15号様式!K4<> \"\",TEXT(INT(P_15号様式!K4),\"#,##0\"),\"\")","v":"252"},{"$f":"IF(P_15号様式!K4= \"\",\"\",IF(VALUE(FIXED(P_15号様式!K4,0,TRUE))<>P_15号様式!K4,RIGHT(FIXED(P_15号様式!K4,3,FALSE),4),\"\"))","v":""},{"$f":"IF(P_15号様式!O4<> \"\",TEXT(INT(P_15号様式!O4),\"#,##0\"),\"\")","v":"766"},{"$f":"IF(P_15号様式!O4= \"\",\"\",IF(VALUE(FIXED(P_15号様式!O4,0,TRUE))<>P_15号様式!O4,RIGHT(FIXED(P_15号様式!O4,3,FALSE),4),\"\"))","v":""},{"$f":"IF(P_15号様式!S4<> \"\",TEXT(INT(P_15号様式!S4),\"#,##0\"),\"\")","v":"3,362"},{"$f":"IF(P_15号様式!S4= \"\",\"\",IF(VALUE(FIXED(P_15号様式!S4,0,TRUE))<>P_15号様式!S4,RIGHT(FIXED(P_15号様式!S4,3,FALSE),4),\"\"))","v":""},{"$f":"IF(P_15号様式!W4<> \"\",TEXT(INT(P_15号様式!W4),\"#,##0\"),\"\")","v":"1,159"},{"$f":"IF(P_15号様式!W4= \"\",\"\",IF(VALUE(FIXED(P_15号様式!W4,0,TRUE))<>P_15号様式!W4,RIGHT(FIXED(P_15号様式!W4,3,FALSE),4),\"\"))","v":""},{"$f":"IF(P_15号様式!AA4<> \"\",TEXT(INT(P_15号様式!AA4),\"#,##0\"),\"\")","v":"2,632"},{"$f":"IF(P_15号様式!AA4= \"\",\"\",IF(VALUE(FIXED(P_15号様式!AA4,0,TRUE))<>P_15号様式!AA4,RIGHT(FIXED(P_15号様式!AA4,3,FALSE),4),\"\"))","v":""},{"$f":"IF(P_15号様式!AE4<> \"\",TEXT(INT(P_15号様式!AE4),\"#,##0\"),\"\")","v":"193"},{"$f":"IF(P_15号様式!AE4= \"\",\"\",IF(VALUE(FIXED(P_15号様式!AE4,0,TRUE))<>P_15号様式!AE4,RIGHT(FIXED(P_15号様式!AE4,3,FALSE),4),\"\"))","v":""},{"$f":"IF(P_15号様式!AI4<> \"\",TEXT(INT(P_15号様式!AI4),\"#,##0\"),\"\")","v":""},{"$f":"IF(P_15号様式!AI4= \"\",\"\",IF(VALUE(FIXED(P_15号様式!AI4,0,TRUE))<>P_15号様式!AI4,RIGHT(FIXED(P_15号様式!AI4,3,FALSE),4),\"\"))","v":""},{"$f":"IF(P_15号様式!AM4<> \"\",TEXT(INT(P_15号様式!AM4),\"#,##0\"),\"\")","v":""},{"$f":"IF(P_15号様式!AM4= \"\",\"\",IF(VALUE(FIXED(P_15号様式!AM4,0,TRUE))<>P_15号様式!AM4,RIGHT(FIXED(P_15号様式!AM4,3,FALSE),4),\"\"))","v":""},{"$f":"IF(P_15号様式!AQ4<> \"\",TEXT(INT(P_15号様式!AQ4),\"#,##0\"),\"\")","v":""},{"$f":"IF(P_15号様式!AQ4= \"\",\"\",IF(VALUE(FIXED(P_15号様式!AQ4,0,TRUE))<>P_15号様式!AQ4,RIGHT(FIXED(P_15号様式!AQ4,3,FALSE),4),\"\"))","v":""},{"$f":"IF(P_15号様式!AR4<> \"\",TEXT(INT(P_15号様式!AR4),\"#,##0\"),\"\")","v":"8,435"},null,{"$f":"IF(P_15号様式!AR4= \"\",\"\",IF(VALUE(FIXED(P_15号様式!AR4,0,TRUE))<>P_15号様式!AR4,RIGHT(FIXED(P_15号様式!AR4,3,FALSE),4),\"\"))","v":""}]
[{"$f":"IF(P_15号様式!C5=\"\",\"\",P_15号様式!C5)","v":"　阿久根市"},null,{"$f":"IF(P_15号様式!G5<> \"\",TEXT(INT(P_15号様式!G5),\"#,##0\"),\"\")","v":"50"},{"$f":"IF(P_15号様式!G5= \"\",\"\",IF(VALUE(FIXED(P_15号様式!G5,0,TRUE))<>P_15号様式!G5,RIGHT(FIXED(P_15号様式!G5,3,FALSE),4),\"\"))","v":""},{"$f":"IF(P_15号様式!K5<> \"\",TEXT(INT(P_15号様式!K5),\"#,##0\"),\"\")","v":"284"},{"$f":"IF(P_15号様式!K5= \"\",\"\",IF(VALUE(FIXED(P_15号様式!K5,0,TRUE))<>P_15号様式!K5,RIGHT(FIXED(P_15号様式!K5,3,FALSE),4),\"\"))","v":""},{"$f":"IF(P_15号様式!O5<> \"\",TEXT(INT(P_15号様式!O5),\"#,##0\"),\"\")","v":"619"},{"$f":"IF(P_15号様式!O5= \"\",\"\",IF(VALUE(FIXED(P_15号様式!O5,0,TRUE))<>P_15号様式!O5,RIGHT(FIXED(P_15号様式!O5,3,FALSE),4),\"\"))","v":""},{"$f":"IF(P_15号様式!S5<> \"\",TEXT(INT(P_15号様式!S5),\"#,##0\"),\"\")","v":"2,300"},{"$f":"IF(P_15号様式!S5= \"\",\"\",IF(VALUE(FIXED(P_15号様式!S5,0,TRUE))<>P_15号様式!S5,RIGHT(FIXED(P_15号様式!S5,3,FALSE),4),\"\"))","v":""},{"$f":"IF(P_15号様式!W5<> \"\",TEXT(INT(P_15号様式!W5),\"#,##0\"),\"\")","v":"4,130"},{"$f":"IF(P_15号様式!W5= \"\",\"\",IF(VALUE(FIXED(P_15号様式!W5,0,TRUE))<>P_15号様式!W5,RIGHT(FIXED(P_15号様式!W5,3,FALSE),4),\"\"))","v":""},{"$f":"IF(P_15号様式!AA5<> \"\",TEXT(INT(P_15号様式!AA5),\"#,##0\"),\"\")","v":"2,256"},{"$f":"IF(P_15号様式!AA5= \"\",\"\",IF(VALUE(FIXED(P_15号様式!AA5,0,TRUE))<>P_15号様式!AA5,RIGHT(FIXED(P_15号様式!AA5,3,FALSE),4),\"\"))","v":""},{"$f":"IF(P_15号様式!AE5<> \"\",TEXT(INT(P_15号様式!AE5),\"#,##0\"),\"\")","v":"161"},{"$f":"IF(P_15号様式!AE5= \"\",\"\",IF(VALUE(FIXED(P_15号様式!AE5,0,TRUE))<>P_15号様式!AE5,RIGHT(FIXED(P_15号様式!AE5,3,FALSE),4),\"\"))","v":""},{"$f":"IF(P_15号様式!AI5<> \"\",TEXT(INT(P_15号様式!AI5),\"#,##0\"),\"\")","v":""},{"$f":"IF(P_15号様式!AI5= \"\",\"\",IF(VALUE(FIXED(P_15号様式!AI5,0,TRUE))<>P_15号様式!AI5,RIGHT(FIXED(P_15号様式!AI5,3,FALSE),4),\"\"))","v":""},{"$f":"IF(P_15号様式!AM5<> \"\",TEXT(INT(P_15号様式!AM5),\"#,##0\"),\"\")","v":""},{"$f":"IF(P_15号様式!AM5= \"\",\"\",IF(VALUE(FIXED(P_15号様式!AM5,0,TRUE))<>P_15号様式!AM5,RIGHT(FIXED(P_15号様式!AM5,3,FALSE),4),\"\"))","v":""},{"$f":"IF(P_15号様式!AQ5<> \"\",TEXT(INT(P_15号様式!AQ5),\"#,##0\"),\"\")","v":""},{"$f":"IF(P_15号様式!AQ5= \"\",\"\",IF(VALUE(FIXED(P_15号様式!AQ5,0,TRUE))<>P_15号様式!AQ5,RIGHT(FIXED(P_15号様式!AQ5,3,FALSE),4),\"\"))","v":""},{"$f":"IF(P_15号様式!AR5<> \"\",TEXT(INT(P_15号様式!AR5),\"#,##0\"),\"\")","v":"9,800"},null,{"$f":"IF(P_15号様式!AR5= \"\",\"\",IF(VALUE(FIXED(P_15号様式!AR5,0,TRUE))<>P_15号様式!AR5,RIGHT(FIXED(P_15号様式!AR5,3,FALSE),4),\"\"))","v":""}]
[{"$f":"IF(P_15号様式!C6=\"\",\"\",P_15号様式!C6)","v":"　出水市"},null,{"$f":"IF(P_15号様式!G6<> \"\",TEXT(INT(P_15号様式!G6),\"#,##0\"),\"\")","v":"173"},{"$f":"IF(P_15号様式!G6= \"\",\"\",IF(VALUE(FIXED(P_15号様式!G6,0,TRUE))<>P_15号様式!G6,RIGHT(FIXED(P_15号様式!G6,3,FALSE),4),\"\"))","v":""},{"$f":"IF(P_15号様式!K6<> \"\",TEXT(INT(P_15号様式!K6),\"#,##0\"),\"\")","v":"786"},{"$f":"IF(P_15号様式!K6= \"\",\"\",IF(VALUE(FIXED(P_15号様式!K6,0,TRUE))<>P_15号様式!K6,RIGHT(FIXED(P_15号様式!K6,3,FALSE),4),\"\"))","v":""},{"$f":"IF(P_15号様式!O6<> \"\",TEXT(INT(P_15号様式!O6),\"#,##0\"),\"\")","v":"1,436"},{"$f":"IF(P_15号様式!O6= \"\",\"\",IF(VALUE(FIXED(P_15号様式!O6,0,TRUE))<>P_15号様式!O6,RIGHT(FIXED(P_15号様式!O6,3,FALSE),4),\"\"))","v":""},{"$f":"IF(P_15号様式!S6<> \"\",TEXT(INT(P_15号様式!S6),\"#,##0\"),\"\")","v":"3,667"},{"$f":"IF(P_15号様式!S6= \"\",\"\",IF(VALUE(FIXED(P_15号様式!S6,0,TRUE))<>P_15号様式!S6,RIGHT(FIXED(P_15号様式!S6,3,FALSE),4),\"\"))","v":""},{"$f":"IF(P_15号様式!W6<> \"\",TEXT(INT(P_15号様式!W6),\"#,##0\"),\"\")","v":"11,169"},{"$f":"IF(P_15号様式!W6= \"\",\"\",IF(VALUE(FIXED(P_15号様式!W6,0,TRUE))<>P_15号様式!W6,RIGHT(FIXED(P_15号様式!W6,3,FALSE),4),\"\"))","v":""},{"$f":"IF(P_15号様式!AA6<> \"\",TEXT(INT(P_15号様式!AA6),\"#,##0\"),\"\")","v":"5,267"},{"$f":"IF(P_15号様式!AA6= \"\",\"\",IF(VALUE(FIXED(P_15号様式!AA6,0,TRUE))<>P_15号様式!AA6,RIGHT(FIXED(P_15号様式!AA6,3,FALSE),4),\"\"))","v":""},{"$f":"IF(P_15号様式!AE6<> \"\",TEXT(INT(P_15号様式!AE6),\"#,##0\"),\"\")","v":"364"},{"$f":"IF(P_15号様式!AE6= \"\",\"\",IF(VALUE(FIXED(P_15号様式!AE6,0,TRUE))<>P_15号様式!AE6,RIGHT(FIXED(P_15号様式!AE6,3,FALSE),4),\"\"))","v":""},{"$f":"IF(P_15号様式!AI6<> \"\",TEXT(INT(P_15号様式!AI6),\"#,##0\"),\"\")","v":""},{"$f":"IF(P_15号様式!AI6= \"\",\"\",IF(VALUE(FIXED(P_15号様式!AI6,0,TRUE))<>P_15号様式!AI6,RIGHT(FIXED(P_15号様式!AI6,3,FALSE),4),\"\"))","v":""},{"$f":"IF(P_15号様式!AM6<> \"\",TEXT(INT(P_15号様式!AM6),\"#,##0\"),\"\")","v":""},{"$f":"IF(P_15号様式!AM6= \"\",\"\",IF(VALUE(FIXED(P_15号様式!AM6,0,TRUE))<>P_15号様式!AM6,RIGHT(FIXED(P_15号様式!AM6,3,FALSE),4),\"\"))","v":""},{"$f":"IF(P_15号様式!AQ6<> \"\",TEXT(INT(P_15号様式!AQ6),\"#,##0\"),\"\")","v":""},{"$f":"IF(P_15号様式!AQ6= \"\",\"\",IF(VALUE(FIXED(P_15号様式!AQ6,0,TRUE))<>P_15号様式!AQ6,RIGHT(FIXED(P_15号様式!AQ6,3,FALSE),4),\"\"))","v":""},{"$f":"IF(P_15号様式!AR6<> \"\",TEXT(INT(P_15号様式!AR6),\"#,##0\"),\"\")","v":"22,862"},null,{"$f":"IF(P_15号様式!AR6= \"\",\"\",IF(VALUE(FIXED(P_15号様式!AR6,0,TRUE))<>P_15号様式!AR6,RIGHT(FIXED(P_15号様式!AR6,3,FALSE),4),\"\"))","v":""}]
[{"$f":"IF(P_15号様式!C7=\"\",\"\",P_15号様式!C7)","v":"　指宿市"},null,{"$f":"IF(P_15号様式!G7<> \"\",TEXT(INT(P_15号様式!G7),\"#,##0\"),\"\")","v":"153"},{"$f":"IF(P_15号様式!G7= \"\",\"\",IF(VALUE(FIXED(P_15号様式!G7,0,TRUE))<>P_15号様式!G7,RIGHT(FIXED(P_15号様式!G7,3,FALSE),4),\"\"))","v":""},{"$f":"IF(P_15号様式!K7<> \"\",TEXT(INT(P_15号様式!K7),\"#,##0\"),\"\")","v":"494"},{"$f":"IF(P_15号様式!K7= \"\",\"\",IF(VALUE(FIXED(P_15号様式!K7,0,TRUE))<>P_15号様式!K7,RIGHT(FIXED(P_15号様式!K7,3,FALSE),4),\"\"))","v":""},{"$f":"IF(P_15号様式!O7<> \"\",TEXT(INT(P_15号様式!O7),\"#,##0\"),\"\")","v":"1,095"},{"$f":"IF(P_15号様式!O7= \"\",\"\",IF(VALUE(FIXED(P_15号様式!O7,0,TRUE))<>P_15号様式!O7,RIGHT(FIXED(P_15号様式!O7,3,FALSE),4),\"\"))","v":""},{"$f":"IF(P_15号様式!S7<> \"\",TEXT(INT(P_15号様式!S7),\"#,##0\"),\"\")","v":"9,668"},{"$f":"IF(P_15号様式!S7= \"\",\"\",IF(VALUE(FIXED(P_15号様式!S7,0,TRUE))<>P_15号様式!S7,RIGHT(FIXED(P_15号様式!S7,3,FALSE),4),\"\"))","v":""},{"$f":"IF(P_15号様式!W7<> \"\",TEXT(INT(P_15号様式!W7),\"#,##0\"),\"\")","v":"2,067"},{"$f":"IF(P_15号様式!W7= \"\",\"\",IF(VALUE(FIXED(P_15号様式!W7,0,TRUE))<>P_15号様式!W7,RIGHT(FIXED(P_15号様式!W7,3,FALSE),4),\"\"))","v":""},{"$f":"IF(P_15号様式!AA7<> \"\",TEXT(INT(P_15号様式!AA7),\"#,##0\"),\"\")","v":"3,740"},{"$f":"IF(P_15号様式!AA7= \"\",\"\",IF(VALUE(FIXED(P_15号様式!AA7,0,TRUE))<>P_15号様式!AA7,RIGHT(FIXED(P_15号様式!AA7,3,FALSE),4),\"\"))","v":""},{"$f":"IF(P_15号様式!AE7<> \"\",TEXT(INT(P_15号様式!AE7),\"#,##0\"),\"\")","v":"247"},{"$f":"IF(P_15号様式!AE7= \"\",\"\",IF(VALUE(FIXED(P_15号様式!AE7,0,TRUE))<>P_15号様式!AE7,RIGHT(FIXED(P_15号様式!AE7,3,FALSE),4),\"\"))","v":""},{"$f":"IF(P_15号様式!AI7<> \"\",TEXT(INT(P_15号様式!AI7),\"#,##0\"),\"\")","v":""},{"$f":"IF(P_15号様式!AI7= \"\",\"\",IF(VALUE(FIXED(P_15号様式!AI7,0,TRUE))<>P_15号様式!AI7,RIGHT(FIXED(P_15号様式!AI7,3,FALSE),4),\"\"))","v":""},{"$f":"IF(P_15号様式!AM7<> \"\",TEXT(INT(P_15号様式!AM7),\"#,##0\"),\"\")","v":""},{"$f":"IF(P_15号様式!AM7= \"\",\"\",IF(VALUE(FIXED(P_15号様式!AM7,0,TRUE))<>P_15号様式!AM7,RIGHT(FIXED(P_15号様式!AM7,3,FALSE),4),\"\"))","v":""},{"$f":"IF(P_15号様式!AQ7<> \"\",TEXT(INT(P_15号様式!AQ7),\"#,##0\"),\"\")","v":""},{"$f":"IF(P_15号様式!AQ7= \"\",\"\",IF(VALUE(FIXED(P_15号様式!AQ7,0,TRUE))<>P_15号様式!AQ7,RIGHT(FIXED(P_15号様式!AQ7,3,FALSE),4),\"\"))","v":""},{"$f":"IF(P_15号様式!AR7<> \"\",TEXT(INT(P_15号様式!AR7),\"#,##0\"),\"\")","v":"17,464"},null,{"$f":"IF(P_15号様式!AR7= \"\",\"\",IF(VALUE(FIXED(P_15号様式!AR7,0,TRUE))<>P_15号様式!AR7,RIGHT(FIXED(P_15号様式!AR7,3,FALSE),4),\"\"))","v":""}]
[{"$f":"IF(P_15号様式!C8=\"\",\"\",P_15号様式!C8)","v":"　西之表市"},null,{"$f":"IF(P_15号様式!G8<> \"\",TEXT(INT(P_15号様式!G8),\"#,##0\"),\"\")","v":"36"},{"$f":"IF(P_15号様式!G8= \"\",\"\",IF(VALUE(FIXED(P_15号様式!G8,0,TRUE))<>P_15号様式!G8,RIGHT(FIXED(P_15号様式!G8,3,FALSE),4),\"\"))","v":""},{"$f":"IF(P_15号様式!K8<> \"\",TEXT(INT(P_15号様式!K8),\"#,##0\"),\"\")","v":"465"},{"$f":"IF(P_15号様式!K8= \"\",\"\",IF(VALUE(FIXED(P_15号様式!K8,0,TRUE))<>P_15号様式!K8,RIGHT(FIXED(P_15号様式!K8,3,FALSE),4),\"\"))","v":""},{"$f":"IF(P_15号様式!O8<> \"\",TEXT(INT(P_15号様式!O8),\"#,##0\"),\"\")","v":"520"},{"$f":"IF(P_15号様式!O8= \"\",\"\",IF(VALUE(FIXED(P_15号様式!O8,0,TRUE))<>P_15号様式!O8,RIGHT(FIXED(P_15号様式!O8,3,FALSE),4),\"\"))","v":""},{"$f":"IF(P_15号様式!S8<> \"\",TEXT(INT(P_15号様式!S8),\"#,##0\"),\"\")","v":"2,741"},{"$f":"IF(P_15号様式!S8= \"\",\"\",IF(VALUE(FIXED(P_15号様式!S8,0,TRUE))<>P_15号様式!S8,RIGHT(FIXED(P_15号様式!S8,3,FALSE),4),\"\"))","v":""},{"$f":"IF(P_15号様式!W8<> \"\",TEXT(INT(P_15号様式!W8),\"#,##0\"),\"\")","v":"1,000"},{"$f":"IF(P_15号様式!W8= \"\",\"\",IF(VALUE(FIXED(P_15号様式!W8,0,TRUE))<>P_15号様式!W8,RIGHT(FIXED(P_15号様式!W8,3,FALSE),4),\"\"))","v":""},{"$f":"IF(P_15号様式!AA8<> \"\",TEXT(INT(P_15号様式!AA8),\"#,##0\"),\"\")","v":"1,824"},{"$f":"IF(P_15号様式!AA8= \"\",\"\",IF(VALUE(FIXED(P_15号様式!AA8,0,TRUE))<>P_15号様式!AA8,RIGHT(FIXED(P_15号様式!AA8,3,FALSE),4),\"\"))","v":""},{"$f":"IF(P_15号様式!AE8<> \"\",TEXT(INT(P_15号様式!AE8),\"#,##0\"),\"\")","v":"136"},{"$f":"IF(P_15号様式!AE8= \"\",\"\",IF(VALUE(FIXED(P_15号様式!AE8,0,TRUE))<>P_15号様式!AE8,RIGHT(FIXED(P_15号様式!AE8,3,FALSE),4),\"\"))","v":""},{"$f":"IF(P_15号様式!AI8<> \"\",TEXT(INT(P_15号様式!AI8),\"#,##0\"),\"\")","v":""},{"$f":"IF(P_15号様式!AI8= \"\",\"\",IF(VALUE(FIXED(P_15号様式!AI8,0,TRUE))<>P_15号様式!AI8,RIGHT(FIXED(P_15号様式!AI8,3,FALSE),4),\"\"))","v":""},{"$f":"IF(P_15号様式!AM8<> \"\",TEXT(INT(P_15号様式!AM8),\"#,##0\"),\"\")","v":""},{"$f":"IF(P_15号様式!AM8= \"\",\"\",IF(VALUE(FIXED(P_15号様式!AM8,0,TRUE))<>P_15号様式!AM8,RIGHT(FIXED(P_15号様式!AM8,3,FALSE),4),\"\"))","v":""},{"$f":"IF(P_15号様式!AQ8<> \"\",TEXT(INT(P_15号様式!AQ8),\"#,##0\"),\"\")","v":""},{"$f":"IF(P_15号様式!AQ8= \"\",\"\",IF(VALUE(FIXED(P_15号様式!AQ8,0,TRUE))<>P_15号様式!AQ8,RIGHT(FIXED(P_15号様式!AQ8,3,FALSE),4),\"\"))","v":""},{"$f":"IF(P_15号様式!AR8<> \"\",TEXT(INT(P_15号様式!AR8),\"#,##0\"),\"\")","v":"6,722"},null,{"$f":"IF(P_15号様式!AR8= \"\",\"\",IF(VALUE(FIXED(P_15号様式!AR8,0,TRUE))<>P_15号様式!AR8,RIGHT(FIXED(P_15号様式!AR8,3,FALSE),4),\"\"))","v":""}]
[{"$f":"IF(P_15号様式!C9=\"\",\"\",P_15号様式!C9)","v":"　垂水市"},null,{"$f":"IF(P_15号様式!G9<> \"\",TEXT(INT(P_15号様式!G9),\"#,##0\"),\"\")","v":"39"},{"$f":"IF(P_15号様式!G9= \"\",\"\",IF(VALUE(FIXED(P_15号様式!G9,0,TRUE))<>P_15号様式!G9,RIGHT(FIXED(P_15号様式!G9,3,FALSE),4),\"\"))","v":""},{"$f":"IF(P_15号様式!K9<> \"\",TEXT(INT(P_15号様式!K9),\"#,##0\"),\"\")","v":"264"},{"$f":"IF(P_15号様式!K9= \"\",\"\",IF(VALUE(FIXED(P_15号様式!K9,0,TRUE))<>P_15号様式!K9,RIGHT(FIXED(P_15号様式!K9,3,FALSE),4),\"\"))","v":""},{"$f":"IF(P_15号様式!O9<> \"\",TEXT(INT(P_15号様式!O9),\"#,##0\"),\"\")","v":"503"},{"$f":"IF(P_15号様式!O9= \"\",\"\",IF(VALUE(FIXED(P_15号様式!O9,0,TRUE))<>P_15号様式!O9,RIGHT(FIXED(P_15号様式!O9,3,FALSE),4),\"\"))","v":""},{"$f":"IF(P_15号様式!S9<> \"\",TEXT(INT(P_15号様式!S9),\"#,##0\"),\"\")","v":"2,481"},{"$f":"IF(P_15号様式!S9= \"\",\"\",IF(VALUE(FIXED(P_15号様式!S9,0,TRUE))<>P_15号様式!S9,RIGHT(FIXED(P_15号様式!S9,3,FALSE),4),\"\"))","v":""},{"$f":"IF(P_15号様式!W9<> \"\",TEXT(INT(P_15号様式!W9),\"#,##0\"),\"\")","v":"1,647"},{"$f":"IF(P_15号様式!W9= \"\",\"\",IF(VALUE(FIXED(P_15号様式!W9,0,TRUE))<>P_15号様式!W9,RIGHT(FIXED(P_15号様式!W9,3,FALSE),4),\"\"))","v":""},{"$f":"IF(P_15号様式!AA9<> \"\",TEXT(INT(P_15号様式!AA9),\"#,##0\"),\"\")","v":"1,331"},{"$f":"IF(P_15号様式!AA9= \"\",\"\",IF(VALUE(FIXED(P_15号様式!AA9,0,TRUE))<>P_15号様式!AA9,RIGHT(FIXED(P_15号様式!AA9,3,FALSE),4),\"\"))","v":""},{"$f":"IF(P_15号様式!AE9<> \"\",TEXT(INT(P_15号様式!AE9),\"#,##0\"),\"\")","v":"148"},{"$f":"IF(P_15号様式!AE9= \"\",\"\",IF(VALUE(FIXED(P_15号様式!AE9,0,TRUE))<>P_15号様式!AE9,RIGHT(FIXED(P_15号様式!AE9,3,FALSE),4),\"\"))","v":""},{"$f":"IF(P_15号様式!AI9<> \"\",TEXT(INT(P_15号様式!AI9),\"#,##0\"),\"\")","v":""},{"$f":"IF(P_15号様式!AI9= \"\",\"\",IF(VALUE(FIXED(P_15号様式!AI9,0,TRUE))<>P_15号様式!AI9,RIGHT(FIXED(P_15号様式!AI9,3,FALSE),4),\"\"))","v":""},{"$f":"IF(P_15号様式!AM9<> \"\",TEXT(INT(P_15号様式!AM9),\"#,##0\"),\"\")","v":""},{"$f":"IF(P_15号様式!AM9= \"\",\"\",IF(VALUE(FIXED(P_15号様式!AM9,0,TRUE))<>P_15号様式!AM9,RIGHT(FIXED(P_15号様式!AM9,3,FALSE),4),\"\"))","v":""},{"$f":"IF(P_15号様式!AQ9<> \"\",TEXT(INT(P_15号様式!AQ9),\"#,##0\"),\"\")","v":""},{"$f":"IF(P_15号様式!AQ9= \"\",\"\",IF(VALUE(FIXED(P_15号様式!AQ9,0,TRUE))<>P_15号様式!AQ9,RIGHT(FIXED(P_15号様式!AQ9,3,FALSE),4),\"\"))","v":""},{"$f":"IF(P_15号様式!AR9<> \"\",TEXT(INT(P_15号様式!AR9),\"#,##0\"),\"\")","v":"6,413"},null,{"$f":"IF(P_15号様式!AR9= \"\",\"\",IF(VALUE(FIXED(P_15号様式!AR9,0,TRUE))<>P_15号様式!AR9,RIGHT(FIXED(P_15号様式!AR9,3,FALSE),4),\"\"))","v":""}]
[{"$f":"IF(P_15号様式!C10=\"\",\"\",P_15号様式!C10)","v":"　薩摩川内市第１"},null,{"$f":"IF(P_15号様式!G10<> \"\",TEXT(INT(P_15号様式!G10),\"#,##0\"),\"\")","v":"332"},{"$f":"IF(P_15号様式!G10= \"\",\"\",IF(VALUE(FIXED(P_15号様式!G10,0,TRUE))<>P_15号様式!G10,RIGHT(FIXED(P_15号様式!G10,3,FALSE),4),\"\"))","v":""},{"$f":"IF(P_15号様式!K10<> \"\",TEXT(INT(P_15号様式!K10),\"#,##0\"),\"\")","v":"1,733"},{"$f":"IF(P_15号様式!K10= \"\",\"\",IF(VALUE(FIXED(P_15号様式!K10,0,TRUE))<>P_15号様式!K10,RIGHT(FIXED(P_15号様式!K10,3,FALSE),4),\"\"))","v":""},{"$f":"IF(P_15号様式!O10<> \"\",TEXT(INT(P_15号様式!O10),\"#,##0\"),\"\")","v":"3,023"},{"$f":"IF(P_15号様式!O10= \"\",\"\",IF(VALUE(FIXED(P_15号様式!O10,0,TRUE))<>P_15号様式!O10,RIGHT(FIXED(P_15号様式!O10,3,FALSE),4),\"\"))","v":""},{"$f":"IF(P_15号様式!S10<> \"\",TEXT(INT(P_15号様式!S10),\"#,##0\"),\"\")","v":"11,530"},{"$f":"IF(P_15号様式!S10= \"\",\"\",IF(VALUE(FIXED(P_15号様式!S10,0,TRUE))<>P_15号様式!S10,RIGHT(FIXED(P_15号様式!S10,3,FALSE),4),\"\"))","v":""},{"$f":"IF(P_15号様式!W10<> \"\",TEXT(INT(P_15号様式!W10),\"#,##0\"),\"\")","v":"6,997"},{"$f":"IF(P_15号様式!W10= \"\",\"\",IF(VALUE(FIXED(P_15号様式!W10,0,TRUE))<>P_15号様式!W10,RIGHT(FIXED(P_15号様式!W10,3,FALSE),4),\"\"))","v":""},{"$f":"IF(P_15号様式!AA10<> \"\",TEXT(INT(P_15号様式!AA10),\"#,##0\"),\"\")","v":"14,462"},{"$f":"IF(P_15号様式!AA10= \"\",\"\",IF(VALUE(FIXED(P_15号様式!AA10,0,TRUE))<>P_15号様式!AA10,RIGHT(FIXED(P_15号様式!AA10,3,FALSE),4),\"\"))","v":""},{"$f":"IF(P_15号様式!AE10<> \"\",TEXT(INT(P_15号様式!AE10),\"#,##0\"),\"\")","v":"762"},{"$f":"IF(P_15号様式!AE10= \"\",\"\",IF(VALUE(FIXED(P_15号様式!AE10,0,TRUE))<>P_15号様式!AE10,RIGHT(FIXED(P_15号様式!AE10,3,FALSE),4),\"\"))","v":""},{"$f":"IF(P_15号様式!AI10<> \"\",TEXT(INT(P_15号様式!AI10),\"#,##0\"),\"\")","v":""},{"$f":"IF(P_15号様式!AI10= \"\",\"\",IF(VALUE(FIXED(P_15号様式!AI10,0,TRUE))<>P_15号様式!AI10,RIGHT(FIXED(P_15号様式!AI10,3,FALSE),4),\"\"))","v":""},{"$f":"IF(P_15号様式!AM10<> \"\",TEXT(INT(P_15号様式!AM10),\"#,##0\"),\"\")","v":""},{"$f":"IF(P_15号様式!AM10= \"\",\"\",IF(VALUE(FIXED(P_15号様式!AM10,0,TRUE))<>P_15号様式!AM10,RIGHT(FIXED(P_15号様式!AM10,3,FALSE),4),\"\"))","v":""},{"$f":"IF(P_15号様式!AQ10<> \"\",TEXT(INT(P_15号様式!AQ10),\"#,##0\"),\"\")","v":""},{"$f":"IF(P_15号様式!AQ10= \"\",\"\",IF(VALUE(FIXED(P_15号様式!AQ10,0,TRUE))<>P_15号様式!AQ10,RIGHT(FIXED(P_15号様式!AQ10,3,FALSE),4),\"\"))","v":""},{"$f":"IF(P_15号様式!AR10<> \"\",TEXT(INT(P_15号様式!AR10),\"#,##0\"),\"\")","v":"38,839"},null,{"$f":"IF(P_15号様式!AR10= \"\",\"\",IF(VALUE(FIXED(P_15号様式!AR10,0,TRUE))<>P_15号様式!AR10,RIGHT(FIXED(P_15号様式!AR10,3,FALSE),4),\"\"))","v":""}]
[{"$f":"IF(P_15号様式!C11=\"\",\"\",P_15号様式!C11)","v":"　薩摩川内市第２"},null,{"$f":"IF(P_15号様式!G11<> \"\",TEXT(INT(P_15号様式!G11),\"#,##0\"),\"\")","v":"5"},{"$f":"IF(P_15号様式!G11= \"\",\"\",IF(VALUE(FIXED(P_15号様式!G11,0,TRUE))<>P_15号様式!G11,RIGHT(FIXED(P_15号様式!G11,3,FALSE),4),\"\"))","v":""},{"$f":"IF(P_15号様式!K11<> \"\",TEXT(INT(P_15号様式!K11),\"#,##0\"),\"\")","v":"33"},{"$f":"IF(P_15号様式!K11= \"\",\"\",IF(VALUE(FIXED(P_15号様式!K11,0,TRUE))<>P_15号様式!K11,RIGHT(FIXED(P_15号様式!K11,3,FALSE),4),\"\"))","v":""},{"$f":"IF(P_15号様式!O11<> \"\",TEXT(INT(P_15号様式!O11),\"#,##0\"),\"\")","v":"72"},{"$f":"IF(P_15号様式!O11= \"\",\"\",IF(VALUE(FIXED(P_15号様式!O11,0,TRUE))<>P_15号様式!O11,RIGHT(FIXED(P_15号様式!O11,3,FALSE),4),\"\"))","v":""},{"$f":"IF(P_15号様式!S11<> \"\",TEXT(INT(P_15号様式!S11),\"#,##0\"),\"\")","v":"398"},{"$f":"IF(P_15号様式!S11= \"\",\"\",IF(VALUE(FIXED(P_15号様式!S11,0,TRUE))<>P_15号様式!S11,RIGHT(FIXED(P_15号様式!S11,3,FALSE),4),\"\"))","v":""},{"$f":"IF(P_15号様式!W11<> \"\",TEXT(INT(P_15号様式!W11),\"#,##0\"),\"\")","v":"228"},{"$f":"IF(P_15号様式!W11= \"\",\"\",IF(VALUE(FIXED(P_15号様式!W11,0,TRUE))<>P_15号様式!W11,RIGHT(FIXED(P_15号様式!W11,3,FALSE),4),\"\"))","v":""},{"$f":"IF(P_15号様式!AA11<> \"\",TEXT(INT(P_15号様式!AA11),\"#,##0\"),\"\")","v":"623"},{"$f":"IF(P_15号様式!AA11= \"\",\"\",IF(VALUE(FIXED(P_15号様式!AA11,0,TRUE))<>P_15号様式!AA11,RIGHT(FIXED(P_15号様式!AA11,3,FALSE),4),\"\"))","v":""},{"$f":"IF(P_15号様式!AE11<> \"\",TEXT(INT(P_15号様式!AE11),\"#,##0\"),\"\")","v":"25"},{"$f":"IF(P_15号様式!AE11= \"\",\"\",IF(VALUE(FIXED(P_15号様式!AE11,0,TRUE))<>P_15号様式!AE11,RIGHT(FIXED(P_15号様式!AE11,3,FALSE),4),\"\"))","v":""},{"$f":"IF(P_15号様式!AI11<> \"\",TEXT(INT(P_15号様式!AI11),\"#,##0\"),\"\")","v":""},{"$f":"IF(P_15号様式!AI11= \"\",\"\",IF(VALUE(FIXED(P_15号様式!AI11,0,TRUE))<>P_15号様式!AI11,RIGHT(FIXED(P_15号様式!AI11,3,FALSE),4),\"\"))","v":""},{"$f":"IF(P_15号様式!AM11<> \"\",TEXT(INT(P_15号様式!AM11),\"#,##0\"),\"\")","v":""},{"$f":"IF(P_15号様式!AM11= \"\",\"\",IF(VALUE(FIXED(P_15号様式!AM11,0,TRUE))<>P_15号様式!AM11,RIGHT(FIXED(P_15号様式!AM11,3,FALSE),4),\"\"))","v":""},{"$f":"IF(P_15号様式!AQ11<> \"\",TEXT(INT(P_15号様式!AQ11),\"#,##0\"),\"\")","v":""},{"$f":"IF(P_15号様式!AQ11= \"\",\"\",IF(VALUE(FIXED(P_15号様式!AQ11,0,TRUE))<>P_15号様式!AQ11,RIGHT(FIXED(P_15号様式!AQ11,3,FALSE),4),\"\"))","v":""},{"$f":"IF(P_15号様式!AR11<> \"\",TEXT(INT(P_15号様式!AR11),\"#,##0\"),\"\")","v":"1,384"},null,{"$f":"IF(P_15号様式!AR11= \"\",\"\",IF(VALUE(FIXED(P_15号様式!AR11,0,TRUE))<>P_15号様式!AR11,RIGHT(FIXED(P_15号様式!AR11,3,FALSE),4),\"\"))","v":""}]
[{"$f":"IF(P_15号様式!C12=\"\",\"\",P_15号様式!C12)","v":"　薩摩川内市第３"},null,{"$f":"IF(P_15号様式!G12<> \"\",TEXT(INT(P_15号様式!G12),\"#,##0\"),\"\")","v":"7"},{"$f":"IF(P_15号様式!G12= \"\",\"\",IF(VALUE(FIXED(P_15号様式!G12,0,TRUE))<>P_15号様式!G12,RIGHT(FIXED(P_15号様式!G12,3,FALSE),4),\"\"))","v":""},{"$f":"IF(P_15号様式!K12<> \"\",TEXT(INT(P_15号様式!K12),\"#,##0\"),\"\")","v":"40"},{"$f":"IF(P_15号様式!K12= \"\",\"\",IF(VALUE(FIXED(P_15号様式!K12,0,TRUE))<>P_15号様式!K12,RIGHT(FIXED(P_15号様式!K12,3,FALSE),4),\"\"))","v":""},{"$f":"IF(P_15号様式!O12<> \"\",TEXT(INT(P_15号様式!O12),\"#,##0\"),\"\")","v":"94"},{"$f":"IF(P_15号様式!O12= \"\",\"\",IF(VALUE(FIXED(P_15号様式!O12,0,TRUE))<>P_15号様式!O12,RIGHT(FIXED(P_15号様式!O12,3,FALSE),4),\"\"))","v":""},{"$f":"IF(P_15号様式!S12<> \"\",TEXT(INT(P_15号様式!S12),\"#,##0\"),\"\")","v":"433"},{"$f":"IF(P_15号様式!S12= \"\",\"\",IF(VALUE(FIXED(P_15号様式!S12,0,TRUE))<>P_15号様式!S12,RIGHT(FIXED(P_15号様式!S12,3,FALSE),4),\"\"))","v":""},{"$f":"IF(P_15号様式!W12<> \"\",TEXT(INT(P_15号様式!W12),\"#,##0\"),\"\")","v":"196"},{"$f":"IF(P_15号様式!W12= \"\",\"\",IF(VALUE(FIXED(P_15号様式!W12,0,TRUE))<>P_15号様式!W12,RIGHT(FIXED(P_15号様式!W12,3,FALSE),4),\"\"))","v":""},{"$f":"IF(P_15号様式!AA12<> \"\",TEXT(INT(P_15号様式!AA12),\"#,##0\"),\"\")","v":"324"},{"$f":"IF(P_15号様式!AA12= \"\",\"\",IF(VALUE(FIXED(P_15号様式!AA12,0,TRUE))<>P_15号様式!AA12,RIGHT(FIXED(P_15号様式!AA12,3,FALSE),4),\"\"))","v":""},{"$f":"IF(P_15号様式!AE12<> \"\",TEXT(INT(P_15号様式!AE12),\"#,##0\"),\"\")","v":"46"},{"$f":"IF(P_15号様式!AE12= \"\",\"\",IF(VALUE(FIXED(P_15号様式!AE12,0,TRUE))<>P_15号様式!AE12,RIGHT(FIXED(P_15号様式!AE12,3,FALSE),4),\"\"))","v":""},{"$f":"IF(P_15号様式!AI12<> \"\",TEXT(INT(P_15号様式!AI12),\"#,##0\"),\"\")","v":""},{"$f":"IF(P_15号様式!AI12= \"\",\"\",IF(VALUE(FIXED(P_15号様式!AI12,0,TRUE))<>P_15号様式!AI12,RIGHT(FIXED(P_15号様式!AI12,3,FALSE),4),\"\"))","v":""},{"$f":"IF(P_15号様式!AM12<> \"\",TEXT(INT(P_15号様式!AM12),\"#,##0\"),\"\")","v":""},{"$f":"IF(P_15号様式!AM12= \"\",\"\",IF(VALUE(FIXED(P_15号様式!AM12,0,TRUE))<>P_15号様式!AM12,RIGHT(FIXED(P_15号様式!AM12,3,FALSE),4),\"\"))","v":""},{"$f":"IF(P_15号様式!AQ12<> \"\",TEXT(INT(P_15号様式!AQ12),\"#,##0\"),\"\")","v":""},{"$f":"IF(P_15号様式!AQ12= \"\",\"\",IF(VALUE(FIXED(P_15号様式!AQ12,0,TRUE))<>P_15号様式!AQ12,RIGHT(FIXED(P_15号様式!AQ12,3,FALSE),4),\"\"))","v":""},{"$f":"IF(P_15号様式!AR12<> \"\",TEXT(INT(P_15号様式!AR12),\"#,##0\"),\"\")","v":"1,140"},null,{"$f":"IF(P_15号様式!AR12= \"\",\"\",IF(VALUE(FIXED(P_15号様式!AR12,0,TRUE))<>P_15号様式!AR12,RIGHT(FIXED(P_15号様式!AR12,3,FALSE),4),\"\"))","v":""}]
[{"$f":"IF(P_15号様式!C13=\"\",\"\",P_15号様式!C13)","v":"＊（薩摩川内市）計"},null,{"$f":"IF(P_15号様式!G13<> \"\",TEXT(INT(P_15号様式!G13),\"#,##0\"),\"\")","v":"344"},{"$f":"IF(P_15号様式!G13= \"\",\"\",IF(VALUE(FIXED(P_15号様式!G13,0,TRUE))<>P_15号様式!G13,RIGHT(FIXED(P_15号様式!G13,3,FALSE),4),\"\"))","v":""},{"$f":"IF(P_15号様式!K13<> \"\",TEXT(INT(P_15号様式!K13),\"#,##0\"),\"\")","v":"1,806"},{"$f":"IF(P_15号様式!K13= \"\",\"\",IF(VALUE(FIXED(P_15号様式!K13,0,TRUE))<>P_15号様式!K13,RIGHT(FIXED(P_15号様式!K13,3,FALSE),4),\"\"))","v":""},{"$f":"IF(P_15号様式!O13<> \"\",TEXT(INT(P_15号様式!O13),\"#,##0\"),\"\")","v":"3,189"},{"$f":"IF(P_15号様式!O13= \"\",\"\",IF(VALUE(FIXED(P_15号様式!O13,0,TRUE))<>P_15号様式!O13,RIGHT(FIXED(P_15号様式!O13,3,FALSE),4),\"\"))","v":""},{"$f":"IF(P_15号様式!S13<> \"\",TEXT(INT(P_15号様式!S13),\"#,##0\"),\"\")","v":"12,361"},{"$f":"IF(P_15号様式!S13= \"\",\"\",IF(VALUE(FIXED(P_15号様式!S13,0,TRUE))<>P_15号様式!S13,RIGHT(FIXED(P_15号様式!S13,3,FALSE),4),\"\"))","v":""},{"$f":"IF(P_15号様式!W13<> \"\",TEXT(INT(P_15号様式!W13),\"#,##0\"),\"\")","v":"7,421"},{"$f":"IF(P_15号様式!W13= \"\",\"\",IF(VALUE(FIXED(P_15号様式!W13,0,TRUE))<>P_15号様式!W13,RIGHT(FIXED(P_15号様式!W13,3,FALSE),4),\"\"))","v":""},{"$f":"IF(P_15号様式!AA13<> \"\",TEXT(INT(P_15号様式!AA13),\"#,##0\"),\"\")","v":"15,409"},{"$f":"IF(P_15号様式!AA13= \"\",\"\",IF(VALUE(FIXED(P_15号様式!AA13,0,TRUE))<>P_15号様式!AA13,RIGHT(FIXED(P_15号様式!AA13,3,FALSE),4),\"\"))","v":""},{"$f":"IF(P_15号様式!AE13<> \"\",TEXT(INT(P_15号様式!AE13),\"#,##0\"),\"\")","v":"833"},{"$f":"IF(P_15号様式!AE13= \"\",\"\",IF(VALUE(FIXED(P_15号様式!AE13,0,TRUE))<>P_15号様式!AE13,RIGHT(FIXED(P_15号様式!AE13,3,FALSE),4),\"\"))","v":""},{"$f":"IF(P_15号様式!AI13<> \"\",TEXT(INT(P_15号様式!AI13),\"#,##0\"),\"\")","v":""},{"$f":"IF(P_15号様式!AI13= \"\",\"\",IF(VALUE(FIXED(P_15号様式!AI13,0,TRUE))<>P_15号様式!AI13,RIGHT(FIXED(P_15号様式!AI13,3,FALSE),4),\"\"))","v":""},{"$f":"IF(P_15号様式!AM13<> \"\",TEXT(INT(P_15号様式!AM13),\"#,##0\"),\"\")","v":""},{"$f":"IF(P_15号様式!AM13= \"\",\"\",IF(VALUE(FIXED(P_15号様式!AM13,0,TRUE))<>P_15号様式!AM13,RIGHT(FIXED(P_15号様式!AM13,3,FALSE),4),\"\"))","v":""},{"$f":"IF(P_15号様式!AQ13<> \"\",TEXT(INT(P_15号様式!AQ13),\"#,##0\"),\"\")","v":""},{"$f":"IF(P_15号様式!AQ13= \"\",\"\",IF(VALUE(FIXED(P_15号様式!AQ13,0,TRUE))<>P_15号様式!AQ13,RIGHT(FIXED(P_15号様式!AQ13,3,FALSE),4),\"\"))","v":""},{"$f":"IF(P_15号様式!AR13<> \"\",TEXT(INT(P_15号様式!AR13),\"#,##0\"),\"\")","v":"41,363"},null,{"$f":"IF(P_15号様式!AR13= \"\",\"\",IF(VALUE(FIXED(P_15号様式!AR13,0,TRUE))<>P_15号様式!AR13,RIGHT(FIXED(P_15号様式!AR13,3,FALSE),4),\"\"))","v":""}]
[{"$f":"IF(P_15号様式!C14=\"\",\"\",P_15号様式!C14)","v":"　日置市"},null,{"$f":"IF(P_15号様式!G14<> \"\",TEXT(INT(P_15号様式!G14),\"#,##0\"),\"\")","v":"205"},{"$f":"IF(P_15号様式!G14= \"\",\"\",IF(VALUE(FIXED(P_15号様式!G14,0,TRUE))<>P_15号様式!G14,RIGHT(FIXED(P_15号様式!G14,3,FALSE),4),\"\"))","v":""},{"$f":"IF(P_15号様式!K14<> \"\",TEXT(INT(P_15号様式!K14),\"#,##0\"),\"\")","v":"749"},{"$f":"IF(P_15号様式!K14= \"\",\"\",IF(VALUE(FIXED(P_15号様式!K14,0,TRUE))<>P_15号様式!K14,RIGHT(FIXED(P_15号様式!K14,3,FALSE),4),\"\"))","v":""},{"$f":"IF(P_15号様式!O14<> \"\",TEXT(INT(P_15号様式!O14),\"#,##0\"),\"\")","v":"2,025"},{"$f":"IF(P_15号様式!O14= \"\",\"\",IF(VALUE(FIXED(P_15号様式!O14,0,TRUE))<>P_15号様式!O14,RIGHT(FIXED(P_15号様式!O14,3,FALSE),4),\"\"))","v":""},{"$f":"IF(P_15号様式!S14<> \"\",TEXT(INT(P_15号様式!S14),\"#,##0\"),\"\")","v":"5,766"},{"$f":"IF(P_15号様式!S14= \"\",\"\",IF(VALUE(FIXED(P_15号様式!S14,0,TRUE))<>P_15号様式!S14,RIGHT(FIXED(P_15号様式!S14,3,FALSE),4),\"\"))","v":""},{"$f":"IF(P_15号様式!W14<> \"\",TEXT(INT(P_15号様式!W14),\"#,##0\"),\"\")","v":"4,830"},{"$f":"IF(P_15号様式!W14= \"\",\"\",IF(VALUE(FIXED(P_15号様式!W14,0,TRUE))<>P_15号様式!W14,RIGHT(FIXED(P_15号様式!W14,3,FALSE),4),\"\"))","v":""},{"$f":"IF(P_15号様式!AA14<> \"\",TEXT(INT(P_15号様式!AA14),\"#,##0\"),\"\")","v":"7,375"},{"$f":"IF(P_15号様式!AA14= \"\",\"\",IF(VALUE(FIXED(P_15号様式!AA14,0,TRUE))<>P_15号様式!AA14,RIGHT(FIXED(P_15号様式!AA14,3,FALSE),4),\"\"))","v":""},{"$f":"IF(P_15号様式!AE14<> \"\",TEXT(INT(P_15号様式!AE14),\"#,##0\"),\"\")","v":"571"},{"$f":"IF(P_15号様式!AE14= \"\",\"\",IF(VALUE(FIXED(P_15号様式!AE14,0,TRUE))<>P_15号様式!AE14,RIGHT(FIXED(P_15号様式!AE14,3,FALSE),4),\"\"))","v":""},{"$f":"IF(P_15号様式!AI14<> \"\",TEXT(INT(P_15号様式!AI14),\"#,##0\"),\"\")","v":""},{"$f":"IF(P_15号様式!AI14= \"\",\"\",IF(VALUE(FIXED(P_15号様式!AI14,0,TRUE))<>P_15号様式!AI14,RIGHT(FIXED(P_15号様式!AI14,3,FALSE),4),\"\"))","v":""},{"$f":"IF(P_15号様式!AM14<> \"\",TEXT(INT(P_15号様式!AM14),\"#,##0\"),\"\")","v":""},{"$f":"IF(P_15号様式!AM14= \"\",\"\",IF(VALUE(FIXED(P_15号様式!AM14,0,TRUE))<>P_15号様式!AM14,RIGHT(FIXED(P_15号様式!AM14,3,FALSE),4),\"\"))","v":""},{"$f":"IF(P_15号様式!AQ14<> \"\",TEXT(INT(P_15号様式!AQ14),\"#,##0\"),\"\")","v":""},{"$f":"IF(P_15号様式!AQ14= \"\",\"\",IF(VALUE(FIXED(P_15号様式!AQ14,0,TRUE))<>P_15号様式!AQ14,RIGHT(FIXED(P_15号様式!AQ14,3,FALSE),4),\"\"))","v":""},{"$f":"IF(P_15号様式!AR14<> \"\",TEXT(INT(P_15号様式!AR14),\"#,##0\"),\"\")","v":"21,521"},null,{"$f":"IF(P_15号様式!AR14= \"\",\"\",IF(VALUE(FIXED(P_15号様式!AR14,0,TRUE))<>P_15号様式!AR14,RIGHT(FIXED(P_15号様式!AR14,3,FALSE),4),\"\"))","v":""}]
[{"$f":"IF(P_15号様式!C15=\"\",\"\",P_15号様式!C15)","v":"　曽於市"},null,{"$f":"IF(P_15号様式!G15<> \"\",TEXT(INT(P_15号様式!G15),\"#,##0\"),\"\")","v":"181"},{"$f":"IF(P_15号様式!G15= \"\",\"\",IF(VALUE(FIXED(P_15号様式!G15,0,TRUE))<>P_15号様式!G15,RIGHT(FIXED(P_15号様式!G15,3,FALSE),4),\"\"))","v":""},{"$f":"IF(P_15号様式!K15<> \"\",TEXT(INT(P_15号様式!K15),\"#,##0\"),\"\")","v":"559"},{"$f":"IF(P_15号様式!K15= \"\",\"\",IF(VALUE(FIXED(P_15号様式!K15,0,TRUE))<>P_15号様式!K15,RIGHT(FIXED(P_15号様式!K15,3,FALSE),4),\"\"))","v":""},{"$f":"IF(P_15号様式!O15<> \"\",TEXT(INT(P_15号様式!O15),\"#,##0\"),\"\")","v":"993"},{"$f":"IF(P_15号様式!O15= \"\",\"\",IF(VALUE(FIXED(P_15号様式!O15,0,TRUE))<>P_15号様式!O15,RIGHT(FIXED(P_15号様式!O15,3,FALSE),4),\"\"))","v":""},{"$f":"IF(P_15号様式!S15<> \"\",TEXT(INT(P_15号様式!S15),\"#,##0\"),\"\")","v":"5,738"},{"$f":"IF(P_15号様式!S15= \"\",\"\",IF(VALUE(FIXED(P_15号様式!S15,0,TRUE))<>P_15号様式!S15,RIGHT(FIXED(P_15号様式!S15,3,FALSE),4),\"\"))","v":""},{"$f":"IF(P_15号様式!W15<> \"\",TEXT(INT(P_15号様式!W15),\"#,##0\"),\"\")","v":"2,782"},{"$f":"IF(P_15号様式!W15= \"\",\"\",IF(VALUE(FIXED(P_15号様式!W15,0,TRUE))<>P_15号様式!W15,RIGHT(FIXED(P_15号様式!W15,3,FALSE),4),\"\"))","v":""},{"$f":"IF(P_15号様式!AA15<> \"\",TEXT(INT(P_15号様式!AA15),\"#,##0\"),\"\")","v":"3,288"},{"$f":"IF(P_15号様式!AA15= \"\",\"\",IF(VALUE(FIXED(P_15号様式!AA15,0,TRUE))<>P_15号様式!AA15,RIGHT(FIXED(P_15号様式!AA15,3,FALSE),4),\"\"))","v":""},{"$f":"IF(P_15号様式!AE15<> \"\",TEXT(INT(P_15号様式!AE15),\"#,##0\"),\"\")","v":"368"},{"$f":"IF(P_15号様式!AE15= \"\",\"\",IF(VALUE(FIXED(P_15号様式!AE15,0,TRUE))<>P_15号様式!AE15,RIGHT(FIXED(P_15号様式!AE15,3,FALSE),4),\"\"))","v":""},{"$f":"IF(P_15号様式!AI15<> \"\",TEXT(INT(P_15号様式!AI15),\"#,##0\"),\"\")","v":""},{"$f":"IF(P_15号様式!AI15= \"\",\"\",IF(VALUE(FIXED(P_15号様式!AI15,0,TRUE))<>P_15号様式!AI15,RIGHT(FIXED(P_15号様式!AI15,3,FALSE),4),\"\"))","v":""},{"$f":"IF(P_15号様式!AM15<> \"\",TEXT(INT(P_15号様式!AM15),\"#,##0\"),\"\")","v":""},{"$f":"IF(P_15号様式!AM15= \"\",\"\",IF(VALUE(FIXED(P_15号様式!AM15,0,TRUE))<>P_15号様式!AM15,RIGHT(FIXED(P_15号様式!AM15,3,FALSE),4),\"\"))","v":""},{"$f":"IF(P_15号様式!AQ15<> \"\",TEXT(INT(P_15号様式!AQ15),\"#,##0\"),\"\")","v":""},{"$f":"IF(P_15号様式!AQ15= \"\",\"\",IF(VALUE(FIXED(P_15号様式!AQ15,0,TRUE))<>P_15号様式!AQ15,RIGHT(FIXED(P_15号様式!AQ15,3,FALSE),4),\"\"))","v":""},{"$f":"IF(P_15号様式!AR15<> \"\",TEXT(INT(P_15号様式!AR15),\"#,##0\"),\"\")","v":"13,909"},null,{"$f":"IF(P_15号様式!AR15= \"\",\"\",IF(VALUE(FIXED(P_15号様式!AR15,0,TRUE))<>P_15号様式!AR15,RIGHT(FIXED(P_15号様式!AR15,3,FALSE),4),\"\"))","v":""}]
[{"$f":"IF(P_15号様式!C16=\"\",\"\",P_15号様式!C16)","v":"　霧島市"},null,{"$f":"IF(P_15号様式!G16<> \"\",TEXT(INT(P_15号様式!G16),\"#,##0\"),\"\")","v":"400"},{"$f":"IF(P_15号様式!G16= \"\",\"\",IF(VALUE(FIXED(P_15号様式!G16,0,TRUE))<>P_15号様式!G16,RIGHT(FIXED(P_15号様式!G16,3,FALSE),4),\"\"))","v":""},{"$f":"IF(P_15号様式!K16<> \"\",TEXT(INT(P_15号様式!K16),\"#,##0\"),\"\")","v":"2,400"},{"$f":"IF(P_15号様式!K16= \"\",\"\",IF(VALUE(FIXED(P_15号様式!K16,0,TRUE))<>P_15号様式!K16,RIGHT(FIXED(P_15号様式!K16,3,FALSE),4),\"\"))","v":""},{"$f":"IF(P_15号様式!O16<> \"\",TEXT(INT(P_15号様式!O16),\"#,##0\"),\"\")","v":"3,600"},{"$f":"IF(P_15号様式!O16= \"\",\"\",IF(VALUE(FIXED(P_15号様式!O16,0,TRUE))<>P_15号様式!O16,RIGHT(FIXED(P_15号様式!O16,3,FALSE),4),\"\"))","v":""},{"$f":"IF(P_15号様式!S16<> \"\",TEXT(INT(P_15号様式!S16),\"#,##0\"),\"\")","v":"7,400"},{"$f":"IF(P_15号様式!S16= \"\",\"\",IF(VALUE(FIXED(P_15号様式!S16,0,TRUE))<>P_15号様式!S16,RIGHT(FIXED(P_15号様式!S16,3,FALSE),4),\"\"))","v":""},{"$f":"IF(P_15号様式!W16<> \"\",TEXT(INT(P_15号様式!W16),\"#,##0\"),\"\")","v":"7,400"},{"$f":"IF(P_15号様式!W16= \"\",\"\",IF(VALUE(FIXED(P_15号様式!W16,0,TRUE))<>P_15号様式!W16,RIGHT(FIXED(P_15号様式!W16,3,FALSE),4),\"\"))","v":""},{"$f":"IF(P_15号様式!AA16<> \"\",TEXT(INT(P_15号様式!AA16),\"#,##0\"),\"\")","v":"7,400"},{"$f":"IF(P_15号様式!AA16= \"\",\"\",IF(VALUE(FIXED(P_15号様式!AA16,0,TRUE))<>P_15号様式!AA16,RIGHT(FIXED(P_15号様式!AA16,3,FALSE),4),\"\"))","v":""},{"$f":"IF(P_15号様式!AE16<> \"\",TEXT(INT(P_15号様式!AE16),\"#,##0\"),\"\")","v":"1,400"},{"$f":"IF(P_15号様式!AE16= \"\",\"\",IF(VALUE(FIXED(P_15号様式!AE16,0,TRUE))<>P_15号様式!AE16,RIGHT(FIXED(P_15号様式!AE16,3,FALSE),4),\"\"))","v":""},{"$f":"IF(P_15号様式!AI16<> \"\",TEXT(INT(P_15号様式!AI16),\"#,##0\"),\"\")","v":""},{"$f":"IF(P_15号様式!AI16= \"\",\"\",IF(VALUE(FIXED(P_15号様式!AI16,0,TRUE))<>P_15号様式!AI16,RIGHT(FIXED(P_15号様式!AI16,3,FALSE),4),\"\"))","v":""},{"$f":"IF(P_15号様式!AM16<> \"\",TEXT(INT(P_15号様式!AM16),\"#,##0\"),\"\")","v":""},{"$f":"IF(P_15号様式!AM16= \"\",\"\",IF(VALUE(FIXED(P_15号様式!AM16,0,TRUE))<>P_15号様式!AM16,RIGHT(FIXED(P_15号様式!AM16,3,FALSE),4),\"\"))","v":""},{"$f":"IF(P_15号様式!AQ16<> \"\",TEXT(INT(P_15号様式!AQ16),\"#,##0\"),\"\")","v":""},{"$f":"IF(P_15号様式!AQ16= \"\",\"\",IF(VALUE(FIXED(P_15号様式!AQ16,0,TRUE))<>P_15号様式!AQ16,RIGHT(FIXED(P_15号様式!AQ16,3,FALSE),4),\"\"))","v":""},{"$f":"IF(P_15号様式!AR16<> \"\",TEXT(INT(P_15号様式!AR16),\"#,##0\"),\"\")","v":"30,000"},null,{"$f":"IF(P_15号様式!AR16= \"\",\"\",IF(VALUE(FIXED(P_15号様式!AR16,0,TRUE))<>P_15号様式!AR16,RIGHT(FIXED(P_15号様式!AR16,3,FALSE),4),\"\"))","v":""}]
[{"$f":"IF(P_15号様式!C17=\"\",\"\",P_15号様式!C17)","v":"　いちき串木野市"},null,{"$f":"IF(P_15号様式!G17<> \"\",TEXT(INT(P_15号様式!G17),\"#,##0\"),\"\")","v":"130"},{"$f":"IF(P_15号様式!G17= \"\",\"\",IF(VALUE(FIXED(P_15号様式!G17,0,TRUE))<>P_15号様式!G17,RIGHT(FIXED(P_15号様式!G17,3,FALSE),4),\"\"))","v":""},{"$f":"IF(P_15号様式!K17<> \"\",TEXT(INT(P_15号様式!K17),\"#,##0\"),\"\")","v":"425"},{"$f":"IF(P_15号様式!K17= \"\",\"\",IF(VALUE(FIXED(P_15号様式!K17,0,TRUE))<>P_15号様式!K17,RIGHT(FIXED(P_15号様式!K17,3,FALSE),4),\"\"))","v":""},{"$f":"IF(P_15号様式!O17<> \"\",TEXT(INT(P_15号様式!O17),\"#,##0\"),\"\")","v":"1,029"},{"$f":"IF(P_15号様式!O17= \"\",\"\",IF(VALUE(FIXED(P_15号様式!O17,0,TRUE))<>P_15号様式!O17,RIGHT(FIXED(P_15号様式!O17,3,FALSE),4),\"\"))","v":""},{"$f":"IF(P_15号様式!S17<> \"\",TEXT(INT(P_15号様式!S17),\"#,##0\"),\"\")","v":"3,018"},{"$f":"IF(P_15号様式!S17= \"\",\"\",IF(VALUE(FIXED(P_15号様式!S17,0,TRUE))<>P_15号様式!S17,RIGHT(FIXED(P_15号様式!S17,3,FALSE),4),\"\"))","v":""},{"$f":"IF(P_15号様式!W17<> \"\",TEXT(INT(P_15号様式!W17),\"#,##0\"),\"\")","v":"1,976"},{"$f":"IF(P_15号様式!W17= \"\",\"\",IF(VALUE(FIXED(P_15号様式!W17,0,TRUE))<>P_15号様式!W17,RIGHT(FIXED(P_15号様式!W17,3,FALSE),4),\"\"))","v":""},{"$f":"IF(P_15号様式!AA17<> \"\",TEXT(INT(P_15号様式!AA17),\"#,##0\"),\"\")","v":"6,009"},{"$f":"IF(P_15号様式!AA17= \"\",\"\",IF(VALUE(FIXED(P_15号様式!AA17,0,TRUE))<>P_15号様式!AA17,RIGHT(FIXED(P_15号様式!AA17,3,FALSE),4),\"\"))","v":""},{"$f":"IF(P_15号様式!AE17<> \"\",TEXT(INT(P_15号様式!AE17),\"#,##0\"),\"\")","v":"198"},{"$f":"IF(P_15号様式!AE17= \"\",\"\",IF(VALUE(FIXED(P_15号様式!AE17,0,TRUE))<>P_15号様式!AE17,RIGHT(FIXED(P_15号様式!AE17,3,FALSE),4),\"\"))","v":""},{"$f":"IF(P_15号様式!AI17<> \"\",TEXT(INT(P_15号様式!AI17),\"#,##0\"),\"\")","v":""},{"$f":"IF(P_15号様式!AI17= \"\",\"\",IF(VALUE(FIXED(P_15号様式!AI17,0,TRUE))<>P_15号様式!AI17,RIGHT(FIXED(P_15号様式!AI17,3,FALSE),4),\"\"))","v":""},{"$f":"IF(P_15号様式!AM17<> \"\",TEXT(INT(P_15号様式!AM17),\"#,##0\"),\"\")","v":""},{"$f":"IF(P_15号様式!AM17= \"\",\"\",IF(VALUE(FIXED(P_15号様式!AM17,0,TRUE))<>P_15号様式!AM17,RIGHT(FIXED(P_15号様式!AM17,3,FALSE),4),\"\"))","v":""},{"$f":"IF(P_15号様式!AQ17<> \"\",TEXT(INT(P_15号様式!AQ17),\"#,##0\"),\"\")","v":""},{"$f":"IF(P_15号様式!AQ17= \"\",\"\",IF(VALUE(FIXED(P_15号様式!AQ17,0,TRUE))<>P_15号様式!AQ17,RIGHT(FIXED(P_15号様式!AQ17,3,FALSE),4),\"\"))","v":""},{"$f":"IF(P_15号様式!AR17<> \"\",TEXT(INT(P_15号様式!AR17),\"#,##0\"),\"\")","v":"12,785"},null,{"$f":"IF(P_15号様式!AR17= \"\",\"\",IF(VALUE(FIXED(P_15号様式!AR17,0,TRUE))<>P_15号様式!AR17,RIGHT(FIXED(P_15号様式!AR17,3,FALSE),4),\"\"))","v":""}]
[{"$f":"IF(P_15号様式!C18=\"\",\"\",P_15号様式!C18)","v":"　南さつま市"},null,{"$f":"IF(P_15号様式!G18<> \"\",TEXT(INT(P_15号様式!G18),\"#,##0\"),\"\")","v":"184"},{"$f":"IF(P_15号様式!G18= \"\",\"\",IF(VALUE(FIXED(P_15号様式!G18,0,TRUE))<>P_15号様式!G18,RIGHT(FIXED(P_15号様式!G18,3,FALSE),4),\"\"))","v":""},{"$f":"IF(P_15号様式!K18<> \"\",TEXT(INT(P_15号様式!K18),\"#,##0\"),\"\")","v":"581"},{"$f":"IF(P_15号様式!K18= \"\",\"\",IF(VALUE(FIXED(P_15号様式!K18,0,TRUE))<>P_15号様式!K18,RIGHT(FIXED(P_15号様式!K18,3,FALSE),4),\"\"))","v":""},{"$f":"IF(P_15号様式!O18<> \"\",TEXT(INT(P_15号様式!O18),\"#,##0\"),\"\")","v":"1,337"},{"$f":"IF(P_15号様式!O18= \"\",\"\",IF(VALUE(FIXED(P_15号様式!O18,0,TRUE))<>P_15号様式!O18,RIGHT(FIXED(P_15号様式!O18,3,FALSE),4),\"\"))","v":""},{"$f":"IF(P_15号様式!S18<> \"\",TEXT(INT(P_15号様式!S18),\"#,##0\"),\"\")","v":"5,033"},{"$f":"IF(P_15号様式!S18= \"\",\"\",IF(VALUE(FIXED(P_15号様式!S18,0,TRUE))<>P_15号様式!S18,RIGHT(FIXED(P_15号様式!S18,3,FALSE),4),\"\"))","v":""},{"$f":"IF(P_15号様式!W18<> \"\",TEXT(INT(P_15号様式!W18),\"#,##0\"),\"\")","v":"2,585"},{"$f":"IF(P_15号様式!W18= \"\",\"\",IF(VALUE(FIXED(P_15号様式!W18,0,TRUE))<>P_15号様式!W18,RIGHT(FIXED(P_15号様式!W18,3,FALSE),4),\"\"))","v":""},{"$f":"IF(P_15号様式!AA18<> \"\",TEXT(INT(P_15号様式!AA18),\"#,##0\"),\"\")","v":"5,100"},{"$f":"IF(P_15号様式!AA18= \"\",\"\",IF(VALUE(FIXED(P_15号様式!AA18,0,TRUE))<>P_15号様式!AA18,RIGHT(FIXED(P_15号様式!AA18,3,FALSE),4),\"\"))","v":""},{"$f":"IF(P_15号様式!AE18<> \"\",TEXT(INT(P_15号様式!AE18),\"#,##0\"),\"\")","v":"366"},{"$f":"IF(P_15号様式!AE18= \"\",\"\",IF(VALUE(FIXED(P_15号様式!AE18,0,TRUE))<>P_15号様式!AE18,RIGHT(FIXED(P_15号様式!AE18,3,FALSE),4),\"\"))","v":""},{"$f":"IF(P_15号様式!AI18<> \"\",TEXT(INT(P_15号様式!AI18),\"#,##0\"),\"\")","v":""},{"$f":"IF(P_15号様式!AI18= \"\",\"\",IF(VALUE(FIXED(P_15号様式!AI18,0,TRUE))<>P_15号様式!AI18,RIGHT(FIXED(P_15号様式!AI18,3,FALSE),4),\"\"))","v":""},{"$f":"IF(P_15号様式!AM18<> \"\",TEXT(INT(P_15号様式!AM18),\"#,##0\"),\"\")","v":""},{"$f":"IF(P_15号様式!AM18= \"\",\"\",IF(VALUE(FIXED(P_15号様式!AM18,0,TRUE))<>P_15号様式!AM18,RIGHT(FIXED(P_15号様式!AM18,3,FALSE),4),\"\"))","v":""},{"$f":"IF(P_15号様式!AQ18<> \"\",TEXT(INT(P_15号様式!AQ18),\"#,##0\"),\"\")","v":""},{"$f":"IF(P_15号様式!AQ18= \"\",\"\",IF(VALUE(FIXED(P_15号様式!AQ18,0,TRUE))<>P_15号様式!AQ18,RIGHT(FIXED(P_15号様式!AQ18,3,FALSE),4),\"\"))","v":""},{"$f":"IF(P_15号様式!AR18<> \"\",TEXT(INT(P_15号様式!AR18),\"#,##0\"),\"\")","v":"15,186"},null,{"$f":"IF(P_15号様式!AR18= \"\",\"\",IF(VALUE(FIXED(P_15号様式!AR18,0,TRUE))<>P_15号様式!AR18,RIGHT(FIXED(P_15号様式!AR18,3,FALSE),4),\"\"))","v":""}]
[{"$f":"IF(P_15号様式!C19=\"\",\"\",P_15号様式!C19)","v":"　志布志市"},null,{"$f":"IF(P_15号様式!G19<> \"\",TEXT(INT(P_15号様式!G19),\"#,##0\"),\"\")","v":"100"},{"$f":"IF(P_15号様式!G19= \"\",\"\",IF(VALUE(FIXED(P_15号様式!G19,0,TRUE))<>P_15号様式!G19,RIGHT(FIXED(P_15号様式!G19,3,FALSE),4),\"\"))","v":""},{"$f":"IF(P_15号様式!K19<> \"\",TEXT(INT(P_15号様式!K19),\"#,##0\"),\"\")","v":"336"},{"$f":"IF(P_15号様式!K19= \"\",\"\",IF(VALUE(FIXED(P_15号様式!K19,0,TRUE))<>P_15号様式!K19,RIGHT(FIXED(P_15号様式!K19,3,FALSE),4),\"\"))","v":""},{"$f":"IF(P_15号様式!O19<> \"\",TEXT(INT(P_15号様式!O19),\"#,##0\"),\"\")","v":"1,015"},{"$f":"IF(P_15号様式!O19= \"\",\"\",IF(VALUE(FIXED(P_15号様式!O19,0,TRUE))<>P_15号様式!O19,RIGHT(FIXED(P_15号様式!O19,3,FALSE),4),\"\"))","v":""},{"$f":"IF(P_15号様式!S19<> \"\",TEXT(INT(P_15号様式!S19),\"#,##0\"),\"\")","v":"4,259"},{"$f":"IF(P_15号様式!S19= \"\",\"\",IF(VALUE(FIXED(P_15号様式!S19,0,TRUE))<>P_15号様式!S19,RIGHT(FIXED(P_15号様式!S19,3,FALSE),4),\"\"))","v":""},{"$f":"IF(P_15号様式!W19<> \"\",TEXT(INT(P_15号様式!W19),\"#,##0\"),\"\")","v":"2,795"},{"$f":"IF(P_15号様式!W19= \"\",\"\",IF(VALUE(FIXED(P_15号様式!W19,0,TRUE))<>P_15号様式!W19,RIGHT(FIXED(P_15号様式!W19,3,FALSE),4),\"\"))","v":""},{"$f":"IF(P_15号様式!AA19<> \"\",TEXT(INT(P_15号様式!AA19),\"#,##0\"),\"\")","v":"2,835"},{"$f":"IF(P_15号様式!AA19= \"\",\"\",IF(VALUE(FIXED(P_15号様式!AA19,0,TRUE))<>P_15号様式!AA19,RIGHT(FIXED(P_15号様式!AA19,3,FALSE),4),\"\"))","v":""},{"$f":"IF(P_15号様式!AE19<> \"\",TEXT(INT(P_15号様式!AE19),\"#,##0\"),\"\")","v":"282"},{"$f":"IF(P_15号様式!AE19= \"\",\"\",IF(VALUE(FIXED(P_15号様式!AE19,0,TRUE))<>P_15号様式!AE19,RIGHT(FIXED(P_15号様式!AE19,3,FALSE),4),\"\"))","v":""},{"$f":"IF(P_15号様式!AI19<> \"\",TEXT(INT(P_15号様式!AI19),\"#,##0\"),\"\")","v":""},{"$f":"IF(P_15号様式!AI19= \"\",\"\",IF(VALUE(FIXED(P_15号様式!AI19,0,TRUE))<>P_15号様式!AI19,RIGHT(FIXED(P_15号様式!AI19,3,FALSE),4),\"\"))","v":""},{"$f":"IF(P_15号様式!AM19<> \"\",TEXT(INT(P_15号様式!AM19),\"#,##0\"),\"\")","v":""},{"$f":"IF(P_15号様式!AM19= \"\",\"\",IF(VALUE(FIXED(P_15号様式!AM19,0,TRUE))<>P_15号様式!AM19,RIGHT(FIXED(P_15号様式!AM19,3,FALSE),4),\"\"))","v":""},{"$f":"IF(P_15号様式!AQ19<> \"\",TEXT(INT(P_15号様式!AQ19),\"#,##0\"),\"\")","v":""},{"$f":"IF(P_15号様式!AQ19= \"\",\"\",IF(VALUE(FIXED(P_15号様式!AQ19,0,TRUE))<>P_15号様式!AQ19,RIGHT(FIXED(P_15号様式!AQ19,3,FALSE),4),\"\"))","v":""},{"$f":"IF(P_15号様式!AR19<> \"\",TEXT(INT(P_15号様式!AR19),\"#,##0\"),\"\")","v":"11,622"},null,{"$f":"IF(P_15号様式!AR19= \"\",\"\",IF(VALUE(FIXED(P_15号様式!AR19,0,TRUE))<>P_15号様式!AR19,RIGHT(FIXED(P_15号様式!AR19,3,FALSE),4),\"\"))","v":""}]
[{"$f":"IF(P_15号様式!C20=\"\",\"\",P_15号様式!C20)","v":"　奄美市"},null,{"$f":"IF(P_15号様式!G20<> \"\",TEXT(INT(P_15号様式!G20),\"#,##0\"),\"\")","v":"112"},{"$f":"IF(P_15号様式!G20= \"\",\"\",IF(VALUE(FIXED(P_15号様式!G20,0,TRUE))<>P_15号様式!G20,RIGHT(FIXED(P_15号様式!G20,3,FALSE),4),\"\"))","v":""},{"$f":"IF(P_15号様式!K20<> \"\",TEXT(INT(P_15号様式!K20),\"#,##0\"),\"\")","v":"1,028"},{"$f":"IF(P_15号様式!K20= \"\",\"\",IF(VALUE(FIXED(P_15号様式!K20,0,TRUE))<>P_15号様式!K20,RIGHT(FIXED(P_15号様式!K20,3,FALSE),4),\"\"))","v":""},{"$f":"IF(P_15号様式!O20<> \"\",TEXT(INT(P_15号様式!O20),\"#,##0\"),\"\")","v":"1,444"},{"$f":"IF(P_15号様式!O20= \"\",\"\",IF(VALUE(FIXED(P_15号様式!O20,0,TRUE))<>P_15号様式!O20,RIGHT(FIXED(P_15号様式!O20,3,FALSE),4),\"\"))","v":""},{"$f":"IF(P_15号様式!S20<> \"\",TEXT(INT(P_15号様式!S20),\"#,##0\"),\"\")","v":"7,970"},{"$f":"IF(P_15号様式!S20= \"\",\"\",IF(VALUE(FIXED(P_15号様式!S20,0,TRUE))<>P_15号様式!S20,RIGHT(FIXED(P_15号様式!S20,3,FALSE),4),\"\"))","v":""},{"$f":"IF(P_15号様式!W20<> \"\",TEXT(INT(P_15号様式!W20),\"#,##0\"),\"\")","v":"3,383"},{"$f":"IF(P_15号様式!W20= \"\",\"\",IF(VALUE(FIXED(P_15号様式!W20,0,TRUE))<>P_15号様式!W20,RIGHT(FIXED(P_15号様式!W20,3,FALSE),4),\"\"))","v":""},{"$f":"IF(P_15号様式!AA20<> \"\",TEXT(INT(P_15号様式!AA20),\"#,##0\"),\"\")","v":"4,230"},{"$f":"IF(P_15号様式!AA20= \"\",\"\",IF(VALUE(FIXED(P_15号様式!AA20,0,TRUE))<>P_15号様式!AA20,RIGHT(FIXED(P_15号様式!AA20,3,FALSE),4),\"\"))","v":""},{"$f":"IF(P_15号様式!AE20<> \"\",TEXT(INT(P_15号様式!AE20),\"#,##0\"),\"\")","v":"239"},{"$f":"IF(P_15号様式!AE20= \"\",\"\",IF(VALUE(FIXED(P_15号様式!AE20,0,TRUE))<>P_15号様式!AE20,RIGHT(FIXED(P_15号様式!AE20,3,FALSE),4),\"\"))","v":""},{"$f":"IF(P_15号様式!AI20<> \"\",TEXT(INT(P_15号様式!AI20),\"#,##0\"),\"\")","v":""},{"$f":"IF(P_15号様式!AI20= \"\",\"\",IF(VALUE(FIXED(P_15号様式!AI20,0,TRUE))<>P_15号様式!AI20,RIGHT(FIXED(P_15号様式!AI20,3,FALSE),4),\"\"))","v":""},{"$f":"IF(P_15号様式!AM20<> \"\",TEXT(INT(P_15号様式!AM20),\"#,##0\"),\"\")","v":""},{"$f":"IF(P_15号様式!AM20= \"\",\"\",IF(VALUE(FIXED(P_15号様式!AM20,0,TRUE))<>P_15号様式!AM20,RIGHT(FIXED(P_15号様式!AM20,3,FALSE),4),\"\"))","v":""},{"$f":"IF(P_15号様式!AQ20<> \"\",TEXT(INT(P_15号様式!AQ20),\"#,##0\"),\"\")","v":""},{"$f":"IF(P_15号様式!AQ20= \"\",\"\",IF(VALUE(FIXED(P_15号様式!AQ20,0,TRUE))<>P_15号様式!AQ20,RIGHT(FIXED(P_15号様式!AQ20,3,FALSE),4),\"\"))","v":""},{"$f":"IF(P_15号様式!AR20<> \"\",TEXT(INT(P_15号様式!AR20),\"#,##0\"),\"\")","v":"18,406"},null,{"$f":"IF(P_15号様式!AR20= \"\",\"\",IF(VALUE(FIXED(P_15号様式!AR20,0,TRUE))<>P_15号様式!AR20,RIGHT(FIXED(P_15号様式!AR20,3,FALSE),4),\"\"))","v":""}]
[{"$f":"IF(P_15号様式!C21=\"\",\"\",P_15号様式!C21)","v":"　南九州市"},null,{"$f":"IF(P_15号様式!G21<> \"\",TEXT(INT(P_15号様式!G21),\"#,##0\"),\"\")","v":"131"},{"$f":"IF(P_15号様式!G21= \"\",\"\",IF(VALUE(FIXED(P_15号様式!G21,0,TRUE))<>P_15号様式!G21,RIGHT(FIXED(P_15号様式!G21,3,FALSE),4),\"\"))","v":""},{"$f":"IF(P_15号様式!K21<> \"\",TEXT(INT(P_15号様式!K21),\"#,##0\"),\"\")","v":"433"},{"$f":"IF(P_15号様式!K21= \"\",\"\",IF(VALUE(FIXED(P_15号様式!K21,0,TRUE))<>P_15号様式!K21,RIGHT(FIXED(P_15号様式!K21,3,FALSE),4),\"\"))","v":""},{"$f":"IF(P_15号様式!O21<> \"\",TEXT(INT(P_15号様式!O21),\"#,##0\"),\"\")","v":"1,312"},{"$f":"IF(P_15号様式!O21= \"\",\"\",IF(VALUE(FIXED(P_15号様式!O21,0,TRUE))<>P_15号様式!O21,RIGHT(FIXED(P_15号様式!O21,3,FALSE),4),\"\"))","v":""},{"$f":"IF(P_15号様式!S21<> \"\",TEXT(INT(P_15号様式!S21),\"#,##0\"),\"\")","v":"6,489"},{"$f":"IF(P_15号様式!S21= \"\",\"\",IF(VALUE(FIXED(P_15号様式!S21,0,TRUE))<>P_15号様式!S21,RIGHT(FIXED(P_15号様式!S21,3,FALSE),4),\"\"))","v":""},{"$f":"IF(P_15号様式!W21<> \"\",TEXT(INT(P_15号様式!W21),\"#,##0\"),\"\")","v":"2,001"},{"$f":"IF(P_15号様式!W21= \"\",\"\",IF(VALUE(FIXED(P_15号様式!W21,0,TRUE))<>P_15号様式!W21,RIGHT(FIXED(P_15号様式!W21,3,FALSE),4),\"\"))","v":""},{"$f":"IF(P_15号様式!AA21<> \"\",TEXT(INT(P_15号様式!AA21),\"#,##0\"),\"\")","v":"4,257"},{"$f":"IF(P_15号様式!AA21= \"\",\"\",IF(VALUE(FIXED(P_15号様式!AA21,0,TRUE))<>P_15号様式!AA21,RIGHT(FIXED(P_15号様式!AA21,3,FALSE),4),\"\"))","v":""},{"$f":"IF(P_15号様式!AE21<> \"\",TEXT(INT(P_15号様式!AE21),\"#,##0\"),\"\")","v":"318"},{"$f":"IF(P_15号様式!AE21= \"\",\"\",IF(VALUE(FIXED(P_15号様式!AE21,0,TRUE))<>P_15号様式!AE21,RIGHT(FIXED(P_15号様式!AE21,3,FALSE),4),\"\"))","v":""},{"$f":"IF(P_15号様式!AI21<> \"\",TEXT(INT(P_15号様式!AI21),\"#,##0\"),\"\")","v":""},{"$f":"IF(P_15号様式!AI21= \"\",\"\",IF(VALUE(FIXED(P_15号様式!AI21,0,TRUE))<>P_15号様式!AI21,RIGHT(FIXED(P_15号様式!AI21,3,FALSE),4),\"\"))","v":""},{"$f":"IF(P_15号様式!AM21<> \"\",TEXT(INT(P_15号様式!AM21),\"#,##0\"),\"\")","v":""},{"$f":"IF(P_15号様式!AM21= \"\",\"\",IF(VALUE(FIXED(P_15号様式!AM21,0,TRUE))<>P_15号様式!AM21,RIGHT(FIXED(P_15号様式!AM21,3,FALSE),4),\"\"))","v":""},{"$f":"IF(P_15号様式!AQ21<> \"\",TEXT(INT(P_15号様式!AQ21),\"#,##0\"),\"\")","v":""},{"$f":"IF(P_15号様式!AQ21= \"\",\"\",IF(VALUE(FIXED(P_15号様式!AQ21,0,TRUE))<>P_15号様式!AQ21,RIGHT(FIXED(P_15号様式!AQ21,3,FALSE),4),\"\"))","v":""},{"$f":"IF(P_15号様式!AR21<> \"\",TEXT(INT(P_15号様式!AR21),\"#,##0\"),\"\")","v":"14,941"},null,{"$f":"IF(P_15号様式!AR21= \"\",\"\",IF(VALUE(FIXED(P_15号様式!AR21,0,TRUE))<>P_15号様式!AR21,RIGHT(FIXED(P_15号様式!AR21,3,FALSE),4),\"\"))","v":""}]
[{"$f":"IF(P_15号様式!C22=\"\",\"\",P_15号様式!C22)","v":"　伊佐市"},null,{"$f":"IF(P_15号様式!G22<> \"\",TEXT(INT(P_15号様式!G22),\"#,##0\"),\"\")","v":"110"},{"$f":"IF(P_15号様式!G22= \"\",\"\",IF(VALUE(FIXED(P_15号様式!G22,0,TRUE))<>P_15号様式!G22,RIGHT(FIXED(P_15号様式!G22,3,FALSE),4),\"\"))","v":""},{"$f":"IF(P_15号様式!K22<> \"\",TEXT(INT(P_15号様式!K22),\"#,##0\"),\"\")","v":"412"},{"$f":"IF(P_15号様式!K22= \"\",\"\",IF(VALUE(FIXED(P_15号様式!K22,0,TRUE))<>P_15号様式!K22,RIGHT(FIXED(P_15号様式!K22,3,FALSE),4),\"\"))","v":""},{"$f":"IF(P_15号様式!O22<> \"\",TEXT(INT(P_15号様式!O22),\"#,##0\"),\"\")","v":"993"},{"$f":"IF(P_15号様式!O22= \"\",\"\",IF(VALUE(FIXED(P_15号様式!O22,0,TRUE))<>P_15号様式!O22,RIGHT(FIXED(P_15号様式!O22,3,FALSE),4),\"\"))","v":""},{"$f":"IF(P_15号様式!S22<> \"\",TEXT(INT(P_15号様式!S22),\"#,##0\"),\"\")","v":"4,203"},{"$f":"IF(P_15号様式!S22= \"\",\"\",IF(VALUE(FIXED(P_15号様式!S22,0,TRUE))<>P_15号様式!S22,RIGHT(FIXED(P_15号様式!S22,3,FALSE),4),\"\"))","v":""},{"$f":"IF(P_15号様式!W22<> \"\",TEXT(INT(P_15号様式!W22),\"#,##0\"),\"\")","v":"1,900"},{"$f":"IF(P_15号様式!W22= \"\",\"\",IF(VALUE(FIXED(P_15号様式!W22,0,TRUE))<>P_15号様式!W22,RIGHT(FIXED(P_15号様式!W22,3,FALSE),4),\"\"))","v":""},{"$f":"IF(P_15号様式!AA22<> \"\",TEXT(INT(P_15号様式!AA22),\"#,##0\"),\"\")","v":"3,416"},{"$f":"IF(P_15号様式!AA22= \"\",\"\",IF(VALUE(FIXED(P_15号様式!AA22,0,TRUE))<>P_15号様式!AA22,RIGHT(FIXED(P_15号様式!AA22,3,FALSE),4),\"\"))","v":""},{"$f":"IF(P_15号様式!AE22<> \"\",TEXT(INT(P_15号様式!AE22),\"#,##0\"),\"\")","v":"193"},{"$f":"IF(P_15号様式!AE22= \"\",\"\",IF(VALUE(FIXED(P_15号様式!AE22,0,TRUE))<>P_15号様式!AE22,RIGHT(FIXED(P_15号様式!AE22,3,FALSE),4),\"\"))","v":""},{"$f":"IF(P_15号様式!AI22<> \"\",TEXT(INT(P_15号様式!AI22),\"#,##0\"),\"\")","v":""},{"$f":"IF(P_15号様式!AI22= \"\",\"\",IF(VALUE(FIXED(P_15号様式!AI22,0,TRUE))<>P_15号様式!AI22,RIGHT(FIXED(P_15号様式!AI22,3,FALSE),4),\"\"))","v":""},{"$f":"IF(P_15号様式!AM22<> \"\",TEXT(INT(P_15号様式!AM22),\"#,##0\"),\"\")","v":""},{"$f":"IF(P_15号様式!AM22= \"\",\"\",IF(VALUE(FIXED(P_15号様式!AM22,0,TRUE))<>P_15号様式!AM22,RIGHT(FIXED(P_15号様式!AM22,3,FALSE),4),\"\"))","v":""},{"$f":"IF(P_15号様式!AQ22<> \"\",TEXT(INT(P_15号様式!AQ22),\"#,##0\"),\"\")","v":""},{"$f":"IF(P_15号様式!AQ22= \"\",\"\",IF(VALUE(FIXED(P_15号様式!AQ22,0,TRUE))<>P_15号様式!AQ22,RIGHT(FIXED(P_15号様式!AQ22,3,FALSE),4),\"\"))","v":""},{"$f":"IF(P_15号様式!AR22<> \"\",TEXT(INT(P_15号様式!AR22),\"#,##0\"),\"\")","v":"11,227"},null,{"$f":"IF(P_15号様式!AR22= \"\",\"\",IF(VALUE(FIXED(P_15号様式!AR22,0,TRUE))<>P_15号様式!AR22,RIGHT(FIXED(P_15号様式!AR22,3,FALSE),4),\"\"))","v":""}]
[{"$f":"IF(P_15号様式!C23=\"\",\"\",P_15号様式!C23)","v":"　姶良市"},null,{"$f":"IF(P_15号様式!G23<> \"\",TEXT(INT(P_15号様式!G23),\"#,##0\"),\"\")","v":"200"},{"$f":"IF(P_15号様式!G23= \"\",\"\",IF(VALUE(FIXED(P_15号様式!G23,0,TRUE))<>P_15号様式!G23,RIGHT(FIXED(P_15号様式!G23,3,FALSE),4),\"\"))","v":""},{"$f":"IF(P_15号様式!K23<> \"\",TEXT(INT(P_15号様式!K23),\"#,##0\"),\"\")","v":"1,423"},{"$f":"IF(P_15号様式!K23= \"\",\"\",IF(VALUE(FIXED(P_15号様式!K23,0,TRUE))<>P_15号様式!K23,RIGHT(FIXED(P_15号様式!K23,3,FALSE),4),\"\"))","v":""},{"$f":"IF(P_15号様式!O23<> \"\",TEXT(INT(P_15号様式!O23),\"#,##0\"),\"\")","v":"3,471"},{"$f":"IF(P_15号様式!O23= \"\",\"\",IF(VALUE(FIXED(P_15号様式!O23,0,TRUE))<>P_15号様式!O23,RIGHT(FIXED(P_15号様式!O23,3,FALSE),4),\"\"))","v":""},{"$f":"IF(P_15号様式!S23<> \"\",TEXT(INT(P_15号様式!S23),\"#,##0\"),\"\")","v":"7,990"},{"$f":"IF(P_15号様式!S23= \"\",\"\",IF(VALUE(FIXED(P_15号様式!S23,0,TRUE))<>P_15号様式!S23,RIGHT(FIXED(P_15号様式!S23,3,FALSE),4),\"\"))","v":""},{"$f":"IF(P_15号様式!W23<> \"\",TEXT(INT(P_15号様式!W23),\"#,##0\"),\"\")","v":"5,213"},{"$f":"IF(P_15号様式!W23= \"\",\"\",IF(VALUE(FIXED(P_15号様式!W23,0,TRUE))<>P_15号様式!W23,RIGHT(FIXED(P_15号様式!W23,3,FALSE),4),\"\"))","v":""},{"$f":"IF(P_15号様式!AA23<> \"\",TEXT(INT(P_15号様式!AA23),\"#,##0\"),\"\")","v":"12,245"},{"$f":"IF(P_15号様式!AA23= \"\",\"\",IF(VALUE(FIXED(P_15号様式!AA23,0,TRUE))<>P_15号様式!AA23,RIGHT(FIXED(P_15号様式!AA23,3,FALSE),4),\"\"))","v":""},{"$f":"IF(P_15号様式!AE23<> \"\",TEXT(INT(P_15号様式!AE23),\"#,##0\"),\"\")","v":"1,172"},{"$f":"IF(P_15号様式!AE23= \"\",\"\",IF(VALUE(FIXED(P_15号様式!AE23,0,TRUE))<>P_15号様式!AE23,RIGHT(FIXED(P_15号様式!AE23,3,FALSE),4),\"\"))","v":""},{"$f":"IF(P_15号様式!AI23<> \"\",TEXT(INT(P_15号様式!AI23),\"#,##0\"),\"\")","v":""},{"$f":"IF(P_15号様式!AI23= \"\",\"\",IF(VALUE(FIXED(P_15号様式!AI23,0,TRUE))<>P_15号様式!AI23,RIGHT(FIXED(P_15号様式!AI23,3,FALSE),4),\"\"))","v":""},{"$f":"IF(P_15号様式!AM23<> \"\",TEXT(INT(P_15号様式!AM23),\"#,##0\"),\"\")","v":""},{"$f":"IF(P_15号様式!AM23= \"\",\"\",IF(VALUE(FIXED(P_15号様式!AM23,0,TRUE))<>P_15号様式!AM23,RIGHT(FIXED(P_15号様式!AM23,3,FALSE),4),\"\"))","v":""},{"$f":"IF(P_15号様式!AQ23<> \"\",TEXT(INT(P_15号様式!AQ23),\"#,##0\"),\"\")","v":""},{"$f":"IF(P_15号様式!AQ23= \"\",\"\",IF(VALUE(FIXED(P_15号様式!AQ23,0,TRUE))<>P_15号様式!AQ23,RIGHT(FIXED(P_15号様式!AQ23,3,FALSE),4),\"\"))","v":""},{"$f":"IF(P_15号様式!AR23<> \"\",TEXT(INT(P_15号様式!AR23),\"#,##0\"),\"\")","v":"31,714"},null,{"$f":"IF(P_15号様式!AR23= \"\",\"\",IF(VALUE(FIXED(P_15号様式!AR23,0,TRUE))<>P_15号様式!AR23,RIGHT(FIXED(P_15号様式!AR23,3,FALSE),4),\"\"))","v":""}]
[{"$f":"IF(P_15号様式!C24=\"\",\"\",P_15号様式!C24)","v":"　三島村"},null,{"$f":"IF(P_15号様式!G24<> \"\",TEXT(INT(P_15号様式!G24),\"#,##0\"),\"\")","v":"4"},{"$f":"IF(P_15号様式!G24= \"\",\"\",IF(VALUE(FIXED(P_15号様式!G24,0,TRUE))<>P_15号様式!G24,RIGHT(FIXED(P_15号様式!G24,3,FALSE),4),\"\"))","v":""},{"$f":"IF(P_15号様式!K24<> \"\",TEXT(INT(P_15号様式!K24),\"#,##0\"),\"\")","v":"8"},{"$f":"IF(P_15号様式!K24= \"\",\"\",IF(VALUE(FIXED(P_15号様式!K24,0,TRUE))<>P_15号様式!K24,RIGHT(FIXED(P_15号様式!K24,3,FALSE),4),\"\"))","v":""},{"$f":"IF(P_15号様式!O24<> \"\",TEXT(INT(P_15号様式!O24),\"#,##0\"),\"\")","v":"19"},{"$f":"IF(P_15号様式!O24= \"\",\"\",IF(VALUE(FIXED(P_15号様式!O24,0,TRUE))<>P_15号様式!O24,RIGHT(FIXED(P_15号様式!O24,3,FALSE),4),\"\"))","v":""},{"$f":"IF(P_15号様式!S24<> \"\",TEXT(INT(P_15号様式!S24),\"#,##0\"),\"\")","v":"63"},{"$f":"IF(P_15号様式!S24= \"\",\"\",IF(VALUE(FIXED(P_15号様式!S24,0,TRUE))<>P_15号様式!S24,RIGHT(FIXED(P_15号様式!S24,3,FALSE),4),\"\"))","v":""},{"$f":"IF(P_15号様式!W24<> \"\",TEXT(INT(P_15号様式!W24),\"#,##0\"),\"\")","v":"69"},{"$f":"IF(P_15号様式!W24= \"\",\"\",IF(VALUE(FIXED(P_15号様式!W24,0,TRUE))<>P_15号様式!W24,RIGHT(FIXED(P_15号様式!W24,3,FALSE),4),\"\"))","v":""},{"$f":"IF(P_15号様式!AA24<> \"\",TEXT(INT(P_15号様式!AA24),\"#,##0\"),\"\")","v":"33"},{"$f":"IF(P_15号様式!AA24= \"\",\"\",IF(VALUE(FIXED(P_15号様式!AA24,0,TRUE))<>P_15号様式!AA24,RIGHT(FIXED(P_15号様式!AA24,3,FALSE),4),\"\"))","v":""},{"$f":"IF(P_15号様式!AE24<> \"\",TEXT(INT(P_15号様式!AE24),\"#,##0\"),\"\")","v":"12"},{"$f":"IF(P_15号様式!AE24= \"\",\"\",IF(VALUE(FIXED(P_15号様式!AE24,0,TRUE))<>P_15号様式!AE24,RIGHT(FIXED(P_15号様式!AE24,3,FALSE),4),\"\"))","v":""},{"$f":"IF(P_15号様式!AI24<> \"\",TEXT(INT(P_15号様式!AI24),\"#,##0\"),\"\")","v":""},{"$f":"IF(P_15号様式!AI24= \"\",\"\",IF(VALUE(FIXED(P_15号様式!AI24,0,TRUE))<>P_15号様式!AI24,RIGHT(FIXED(P_15号様式!AI24,3,FALSE),4),\"\"))","v":""},{"$f":"IF(P_15号様式!AM24<> \"\",TEXT(INT(P_15号様式!AM24),\"#,##0\"),\"\")","v":""},{"$f":"IF(P_15号様式!AM24= \"\",\"\",IF(VALUE(FIXED(P_15号様式!AM24,0,TRUE))<>P_15号様式!AM24,RIGHT(FIXED(P_15号様式!AM24,3,FALSE),4),\"\"))","v":""},{"$f":"IF(P_15号様式!AQ24<> \"\",TEXT(INT(P_15号様式!AQ24),\"#,##0\"),\"\")","v":""},{"$f":"IF(P_15号様式!AQ24= \"\",\"\",IF(VALUE(FIXED(P_15号様式!AQ24,0,TRUE))<>P_15号様式!AQ24,RIGHT(FIXED(P_15号様式!AQ24,3,FALSE),4),\"\"))","v":""},{"$f":"IF(P_15号様式!AR24<> \"\",TEXT(INT(P_15号様式!AR24),\"#,##0\"),\"\")","v":"208"},null,{"$f":"IF(P_15号様式!AR24= \"\",\"\",IF(VALUE(FIXED(P_15号様式!AR24,0,TRUE))<>P_15号様式!AR24,RIGHT(FIXED(P_15号様式!AR24,3,FALSE),4),\"\"))","v":""}]
[{"$f":"IF(P_15号様式!C25=\"\",\"\",P_15号様式!C25)","v":"　十島村"},null,{"$f":"IF(P_15号様式!G25<> \"\",TEXT(INT(P_15号様式!G25),\"#,##0\"),\"\")","v":"2"},{"$f":"IF(P_15号様式!G25= \"\",\"\",IF(VALUE(FIXED(P_15号様式!G25,0,TRUE))<>P_15号様式!G25,RIGHT(FIXED(P_15号様式!G25,3,FALSE),4),\"\"))","v":""},{"$f":"IF(P_15号様式!K25<> \"\",TEXT(INT(P_15号様式!K25),\"#,##0\"),\"\")","v":"12"},{"$f":"IF(P_15号様式!K25= \"\",\"\",IF(VALUE(FIXED(P_15号様式!K25,0,TRUE))<>P_15号様式!K25,RIGHT(FIXED(P_15号様式!K25,3,FALSE),4),\"\"))","v":""},{"$f":"IF(P_15号様式!O25<> \"\",TEXT(INT(P_15号様式!O25),\"#,##0\"),\"\")","v":"28"},{"$f":"IF(P_15号様式!O25= \"\",\"\",IF(VALUE(FIXED(P_15号様式!O25,0,TRUE))<>P_15号様式!O25,RIGHT(FIXED(P_15号様式!O25,3,FALSE),4),\"\"))","v":""},{"$f":"IF(P_15号様式!S25<> \"\",TEXT(INT(P_15号様式!S25),\"#,##0\"),\"\")","v":"115"},{"$f":"IF(P_15号様式!S25= \"\",\"\",IF(VALUE(FIXED(P_15号様式!S25,0,TRUE))<>P_15号様式!S25,RIGHT(FIXED(P_15号様式!S25,3,FALSE),4),\"\"))","v":""},{"$f":"IF(P_15号様式!W25<> \"\",TEXT(INT(P_15号様式!W25),\"#,##0\"),\"\")","v":"69"},{"$f":"IF(P_15号様式!W25= \"\",\"\",IF(VALUE(FIXED(P_15号様式!W25,0,TRUE))<>P_15号様式!W25,RIGHT(FIXED(P_15号様式!W25,3,FALSE),4),\"\"))","v":""},{"$f":"IF(P_15号様式!AA25<> \"\",TEXT(INT(P_15号様式!AA25),\"#,##0\"),\"\")","v":"147"},{"$f":"IF(P_15号様式!AA25= \"\",\"\",IF(VALUE(FIXED(P_15号様式!AA25,0,TRUE))<>P_15号様式!AA25,RIGHT(FIXED(P_15号様式!AA25,3,FALSE),4),\"\"))","v":""},{"$f":"IF(P_15号様式!AE25<> \"\",TEXT(INT(P_15号様式!AE25),\"#,##0\"),\"\")","v":"23"},{"$f":"IF(P_15号様式!AE25= \"\",\"\",IF(VALUE(FIXED(P_15号様式!AE25,0,TRUE))<>P_15号様式!AE25,RIGHT(FIXED(P_15号様式!AE25,3,FALSE),4),\"\"))","v":""},{"$f":"IF(P_15号様式!AI25<> \"\",TEXT(INT(P_15号様式!AI25),\"#,##0\"),\"\")","v":""},{"$f":"IF(P_15号様式!AI25= \"\",\"\",IF(VALUE(FIXED(P_15号様式!AI25,0,TRUE))<>P_15号様式!AI25,RIGHT(FIXED(P_15号様式!AI25,3,FALSE),4),\"\"))","v":""},{"$f":"IF(P_15号様式!AM25<> \"\",TEXT(INT(P_15号様式!AM25),\"#,##0\"),\"\")","v":""},{"$f":"IF(P_15号様式!AM25= \"\",\"\",IF(VALUE(FIXED(P_15号様式!AM25,0,TRUE))<>P_15号様式!AM25,RIGHT(FIXED(P_15号様式!AM25,3,FALSE),4),\"\"))","v":""},{"$f":"IF(P_15号様式!AQ25<> \"\",TEXT(INT(P_15号様式!AQ25),\"#,##0\"),\"\")","v":""},{"$f":"IF(P_15号様式!AQ25= \"\",\"\",IF(VALUE(FIXED(P_15号様式!AQ25,0,TRUE))<>P_15号様式!AQ25,RIGHT(FIXED(P_15号様式!AQ25,3,FALSE),4),\"\"))","v":""},{"$f":"IF(P_15号様式!AR25<> \"\",TEXT(INT(P_15号様式!AR25),\"#,##0\"),\"\")","v":"396"},null,{"$f":"IF(P_15号様式!AR25= \"\",\"\",IF(VALUE(FIXED(P_15号様式!AR25,0,TRUE))<>P_15号様式!AR25,RIGHT(FIXED(P_15号様式!AR25,3,FALSE),4),\"\"))","v":""}]
[{"$f":"IF(P_15号様式!C26=\"\",\"\",P_15号様式!C26)","v":"＊（鹿児島郡）計"},null,{"$f":"IF(P_15号様式!G26<> \"\",TEXT(INT(P_15号様式!G26),\"#,##0\"),\"\")","v":"6"},{"$f":"IF(P_15号様式!G26= \"\",\"\",IF(VALUE(FIXED(P_15号様式!G26,0,TRUE))<>P_15号様式!G26,RIGHT(FIXED(P_15号様式!G26,3,FALSE),4),\"\"))","v":""},{"$f":"IF(P_15号様式!K26<> \"\",TEXT(INT(P_15号様式!K26),\"#,##0\"),\"\")","v":"20"},{"$f":"IF(P_15号様式!K26= \"\",\"\",IF(VALUE(FIXED(P_15号様式!K26,0,TRUE))<>P_15号様式!K26,RIGHT(FIXED(P_15号様式!K26,3,FALSE),4),\"\"))","v":""},{"$f":"IF(P_15号様式!O26<> \"\",TEXT(INT(P_15号様式!O26),\"#,##0\"),\"\")","v":"47"},{"$f":"IF(P_15号様式!O26= \"\",\"\",IF(VALUE(FIXED(P_15号様式!O26,0,TRUE))<>P_15号様式!O26,RIGHT(FIXED(P_15号様式!O26,3,FALSE),4),\"\"))","v":""},{"$f":"IF(P_15号様式!S26<> \"\",TEXT(INT(P_15号様式!S26),\"#,##0\"),\"\")","v":"178"},{"$f":"IF(P_15号様式!S26= \"\",\"\",IF(VALUE(FIXED(P_15号様式!S26,0,TRUE))<>P_15号様式!S26,RIGHT(FIXED(P_15号様式!S26,3,FALSE),4),\"\"))","v":""},{"$f":"IF(P_15号様式!W26<> \"\",TEXT(INT(P_15号様式!W26),\"#,##0\"),\"\")","v":"138"},{"$f":"IF(P_15号様式!W26= \"\",\"\",IF(VALUE(FIXED(P_15号様式!W26,0,TRUE))<>P_15号様式!W26,RIGHT(FIXED(P_15号様式!W26,3,FALSE),4),\"\"))","v":""},{"$f":"IF(P_15号様式!AA26<> \"\",TEXT(INT(P_15号様式!AA26),\"#,##0\"),\"\")","v":"180"},{"$f":"IF(P_15号様式!AA26= \"\",\"\",IF(VALUE(FIXED(P_15号様式!AA26,0,TRUE))<>P_15号様式!AA26,RIGHT(FIXED(P_15号様式!AA26,3,FALSE),4),\"\"))","v":""},{"$f":"IF(P_15号様式!AE26<> \"\",TEXT(INT(P_15号様式!AE26),\"#,##0\"),\"\")","v":"35"},{"$f":"IF(P_15号様式!AE26= \"\",\"\",IF(VALUE(FIXED(P_15号様式!AE26,0,TRUE))<>P_15号様式!AE26,RIGHT(FIXED(P_15号様式!AE26,3,FALSE),4),\"\"))","v":""},{"$f":"IF(P_15号様式!AI26<> \"\",TEXT(INT(P_15号様式!AI26),\"#,##0\"),\"\")","v":""},{"$f":"IF(P_15号様式!AI26= \"\",\"\",IF(VALUE(FIXED(P_15号様式!AI26,0,TRUE))<>P_15号様式!AI26,RIGHT(FIXED(P_15号様式!AI26,3,FALSE),4),\"\"))","v":""},{"$f":"IF(P_15号様式!AM26<> \"\",TEXT(INT(P_15号様式!AM26),\"#,##0\"),\"\")","v":""},{"$f":"IF(P_15号様式!AM26= \"\",\"\",IF(VALUE(FIXED(P_15号様式!AM26,0,TRUE))<>P_15号様式!AM26,RIGHT(FIXED(P_15号様式!AM26,3,FALSE),4),\"\"))","v":""},{"$f":"IF(P_15号様式!AQ26<> \"\",TEXT(INT(P_15号様式!AQ26),\"#,##0\"),\"\")","v":""},{"$f":"IF(P_15号様式!AQ26= \"\",\"\",IF(VALUE(FIXED(P_15号様式!AQ26,0,TRUE))<>P_15号様式!AQ26,RIGHT(FIXED(P_15号様式!AQ26,3,FALSE),4),\"\"))","v":""},{"$f":"IF(P_15号様式!AR26<> \"\",TEXT(INT(P_15号様式!AR26),\"#,##0\"),\"\")","v":"604"},null,{"$f":"IF(P_15号様式!AR26= \"\",\"\",IF(VALUE(FIXED(P_15号様式!AR26,0,TRUE))<>P_15号様式!AR26,RIGHT(FIXED(P_15号様式!AR26,3,FALSE),4),\"\"))","v":""}]
[{"$f":"IF(P_15号様式!C27=\"\",\"\",P_15号様式!C27)","v":"　さつま町"},null,{"$f":"IF(P_15号様式!G27<> \"\",TEXT(INT(P_15号様式!G27),\"#,##0\"),\"\")","v":"87"},{"$f":"IF(P_15号様式!G27= \"\",\"\",IF(VALUE(FIXED(P_15号様式!G27,0,TRUE))<>P_15号様式!G27,RIGHT(FIXED(P_15号様式!G27,3,FALSE),4),\"\"))","v":""},{"$f":"IF(P_15号様式!K27<> \"\",TEXT(INT(P_15号様式!K27),\"#,##0\"),\"\")","v":"293"},{"$f":"IF(P_15号様式!K27= \"\",\"\",IF(VALUE(FIXED(P_15号様式!K27,0,TRUE))<>P_15号様式!K27,RIGHT(FIXED(P_15号様式!K27,3,FALSE),4),\"\"))","v":""},{"$f":"IF(P_15号様式!O27<> \"\",TEXT(INT(P_15号様式!O27),\"#,##0\"),\"\")","v":"941"},{"$f":"IF(P_15号様式!O27= \"\",\"\",IF(VALUE(FIXED(P_15号様式!O27,0,TRUE))<>P_15号様式!O27,RIGHT(FIXED(P_15号様式!O27,3,FALSE),4),\"\"))","v":""},{"$f":"IF(P_15号様式!S27<> \"\",TEXT(INT(P_15号様式!S27),\"#,##0\"),\"\")","v":"3,584"},{"$f":"IF(P_15号様式!S27= \"\",\"\",IF(VALUE(FIXED(P_15号様式!S27,0,TRUE))<>P_15号様式!S27,RIGHT(FIXED(P_15号様式!S27,3,FALSE),4),\"\"))","v":""},{"$f":"IF(P_15号様式!W27<> \"\",TEXT(INT(P_15号様式!W27),\"#,##0\"),\"\")","v":"1,927"},{"$f":"IF(P_15号様式!W27= \"\",\"\",IF(VALUE(FIXED(P_15号様式!W27,0,TRUE))<>P_15号様式!W27,RIGHT(FIXED(P_15号様式!W27,3,FALSE),4),\"\"))","v":""},{"$f":"IF(P_15号様式!AA27<> \"\",TEXT(INT(P_15号様式!AA27),\"#,##0\"),\"\")","v":"3,184"},{"$f":"IF(P_15号様式!AA27= \"\",\"\",IF(VALUE(FIXED(P_15号様式!AA27,0,TRUE))<>P_15号様式!AA27,RIGHT(FIXED(P_15号様式!AA27,3,FALSE),4),\"\"))","v":""},{"$f":"IF(P_15号様式!AE27<> \"\",TEXT(INT(P_15号様式!AE27),\"#,##0\"),\"\")","v":"220"},{"$f":"IF(P_15号様式!AE27= \"\",\"\",IF(VALUE(FIXED(P_15号様式!AE27,0,TRUE))<>P_15号様式!AE27,RIGHT(FIXED(P_15号様式!AE27,3,FALSE),4),\"\"))","v":""},{"$f":"IF(P_15号様式!AI27<> \"\",TEXT(INT(P_15号様式!AI27),\"#,##0\"),\"\")","v":""},{"$f":"IF(P_15号様式!AI27= \"\",\"\",IF(VALUE(FIXED(P_15号様式!AI27,0,TRUE))<>P_15号様式!AI27,RIGHT(FIXED(P_15号様式!AI27,3,FALSE),4),\"\"))","v":""},{"$f":"IF(P_15号様式!AM27<> \"\",TEXT(INT(P_15号様式!AM27),\"#,##0\"),\"\")","v":""},{"$f":"IF(P_15号様式!AM27= \"\",\"\",IF(VALUE(FIXED(P_15号様式!AM27,0,TRUE))<>P_15号様式!AM27,RIGHT(FIXED(P_15号様式!AM27,3,FALSE),4),\"\"))","v":""},{"$f":"IF(P_15号様式!AQ27<> \"\",TEXT(INT(P_15号様式!AQ27),\"#,##0\"),\"\")","v":""},{"$f":"IF(P_15号様式!AQ27= \"\",\"\",IF(VALUE(FIXED(P_15号様式!AQ27,0,TRUE))<>P_15号様式!AQ27,RIGHT(FIXED(P_15号様式!AQ27,3,FALSE),4),\"\"))","v":""},{"$f":"IF(P_15号様式!AR27<> \"\",TEXT(INT(P_15号様式!AR27),\"#,##0\"),\"\")","v":"10,236"},null,{"$f":"IF(P_15号様式!AR27= \"\",\"\",IF(VALUE(FIXED(P_15号様式!AR27,0,TRUE))<>P_15号様式!AR27,RIGHT(FIXED(P_15号様式!AR27,3,FALSE),4),\"\"))","v":""}]
[{"$f":"IF(P_15号様式!C28=\"\",\"\",P_15号様式!C28)","v":"＊（薩摩郡）計"},null,{"$f":"IF(P_15号様式!G28<> \"\",TEXT(INT(P_15号様式!G28),\"#,##0\"),\"\")","v":"87"},{"$f":"IF(P_15号様式!G28= \"\",\"\",IF(VALUE(FIXED(P_15号様式!G28,0,TRUE))<>P_15号様式!G28,RIGHT(FIXED(P_15号様式!G28,3,FALSE),4),\"\"))","v":""},{"$f":"IF(P_15号様式!K28<> \"\",TEXT(INT(P_15号様式!K28),\"#,##0\"),\"\")","v":"293"},{"$f":"IF(P_15号様式!K28= \"\",\"\",IF(VALUE(FIXED(P_15号様式!K28,0,TRUE))<>P_15号様式!K28,RIGHT(FIXED(P_15号様式!K28,3,FALSE),4),\"\"))","v":""},{"$f":"IF(P_15号様式!O28<> \"\",TEXT(INT(P_15号様式!O28),\"#,##0\"),\"\")","v":"941"},{"$f":"IF(P_15号様式!O28= \"\",\"\",IF(VALUE(FIXED(P_15号様式!O28,0,TRUE))<>P_15号様式!O28,RIGHT(FIXED(P_15号様式!O28,3,FALSE),4),\"\"))","v":""},{"$f":"IF(P_15号様式!S28<> \"\",TEXT(INT(P_15号様式!S28),\"#,##0\"),\"\")","v":"3,584"},{"$f":"IF(P_15号様式!S28= \"\",\"\",IF(VALUE(FIXED(P_15号様式!S28,0,TRUE))<>P_15号様式!S28,RIGHT(FIXED(P_15号様式!S28,3,FALSE),4),\"\"))","v":""},{"$f":"IF(P_15号様式!W28<> \"\",TEXT(INT(P_15号様式!W28),\"#,##0\"),\"\")","v":"1,927"},{"$f":"IF(P_15号様式!W28= \"\",\"\",IF(VALUE(FIXED(P_15号様式!W28,0,TRUE))<>P_15号様式!W28,RIGHT(FIXED(P_15号様式!W28,3,FALSE),4),\"\"))","v":""},{"$f":"IF(P_15号様式!AA28<> \"\",TEXT(INT(P_15号様式!AA28),\"#,##0\"),\"\")","v":"3,184"},{"$f":"IF(P_15号様式!AA28= \"\",\"\",IF(VALUE(FIXED(P_15号様式!AA28,0,TRUE))<>P_15号様式!AA28,RIGHT(FIXED(P_15号様式!AA28,3,FALSE),4),\"\"))","v":""},{"$f":"IF(P_15号様式!AE28<> \"\",TEXT(INT(P_15号様式!AE28),\"#,##0\"),\"\")","v":"220"},{"$f":"IF(P_15号様式!AE28= \"\",\"\",IF(VALUE(FIXED(P_15号様式!AE28,0,TRUE))<>P_15号様式!AE28,RIGHT(FIXED(P_15号様式!AE28,3,FALSE),4),\"\"))","v":""},{"$f":"IF(P_15号様式!AI28<> \"\",TEXT(INT(P_15号様式!AI28),\"#,##0\"),\"\")","v":""},{"$f":"IF(P_15号様式!AI28= \"\",\"\",IF(VALUE(FIXED(P_15号様式!AI28,0,TRUE))<>P_15号様式!AI28,RIGHT(FIXED(P_15号様式!AI28,3,FALSE),4),\"\"))","v":""},{"$f":"IF(P_15号様式!AM28<> \"\",TEXT(INT(P_15号様式!AM28),\"#,##0\"),\"\")","v":""},{"$f":"IF(P_15号様式!AM28= \"\",\"\",IF(VALUE(FIXED(P_15号様式!AM28,0,TRUE))<>P_15号様式!AM28,RIGHT(FIXED(P_15号様式!AM28,3,FALSE),4),\"\"))","v":""},{"$f":"IF(P_15号様式!AQ28<> \"\",TEXT(INT(P_15号様式!AQ28),\"#,##0\"),\"\")","v":""},{"$f":"IF(P_15号様式!AQ28= \"\",\"\",IF(VALUE(FIXED(P_15号様式!AQ28,0,TRUE))<>P_15号様式!AQ28,RIGHT(FIXED(P_15号様式!AQ28,3,FALSE),4),\"\"))","v":""},{"$f":"IF(P_15号様式!AR28<> \"\",TEXT(INT(P_15号様式!AR28),\"#,##0\"),\"\")","v":"10,236"},null,{"$f":"IF(P_15号様式!AR28= \"\",\"\",IF(VALUE(FIXED(P_15号様式!AR28,0,TRUE))<>P_15号様式!AR28,RIGHT(FIXED(P_15号様式!AR28,3,FALSE),4),\"\"))","v":""}]
[{"$f":"IF(P_15号様式!C29=\"\",\"\",P_15号様式!C29)","v":"　長島町"},null,{"$f":"IF(P_15号様式!G29<> \"\",TEXT(INT(P_15号様式!G29),\"#,##0\"),\"\")","v":"26"},{"$f":"IF(P_15号様式!G29= \"\",\"\",IF(VALUE(FIXED(P_15号様式!G29,0,TRUE))<>P_15号様式!G29,RIGHT(FIXED(P_15号様式!G29,3,FALSE),4),\"\"))","v":""},{"$f":"IF(P_15号様式!K29<> \"\",TEXT(INT(P_15号様式!K29),\"#,##0\"),\"\")","v":"106"},{"$f":"IF(P_15号様式!K29= \"\",\"\",IF(VALUE(FIXED(P_15号様式!K29,0,TRUE))<>P_15号様式!K29,RIGHT(FIXED(P_15号様式!K29,3,FALSE),4),\"\"))","v":""},{"$f":"IF(P_15号様式!O29<> \"\",TEXT(INT(P_15号様式!O29),\"#,##0\"),\"\")","v":"207"},{"$f":"IF(P_15号様式!O29= \"\",\"\",IF(VALUE(FIXED(P_15号様式!O29,0,TRUE))<>P_15号様式!O29,RIGHT(FIXED(P_15号様式!O29,3,FALSE),4),\"\"))","v":""},{"$f":"IF(P_15号様式!S29<> \"\",TEXT(INT(P_15号様式!S29),\"#,##0\"),\"\")","v":"842"},{"$f":"IF(P_15号様式!S29= \"\",\"\",IF(VALUE(FIXED(P_15号様式!S29,0,TRUE))<>P_15号様式!S29,RIGHT(FIXED(P_15号様式!S29,3,FALSE),4),\"\"))","v":""},{"$f":"IF(P_15号様式!W29<> \"\",TEXT(INT(P_15号様式!W29),\"#,##0\"),\"\")","v":"4,415"},{"$f":"IF(P_15号様式!W29= \"\",\"\",IF(VALUE(FIXED(P_15号様式!W29,0,TRUE))<>P_15号様式!W29,RIGHT(FIXED(P_15号様式!W29,3,FALSE),4),\"\"))","v":""},{"$f":"IF(P_15号様式!AA29<> \"\",TEXT(INT(P_15号様式!AA29),\"#,##0\"),\"\")","v":"585"},{"$f":"IF(P_15号様式!AA29= \"\",\"\",IF(VALUE(FIXED(P_15号様式!AA29,0,TRUE))<>P_15号様式!AA29,RIGHT(FIXED(P_15号様式!AA29,3,FALSE),4),\"\"))","v":""},{"$f":"IF(P_15号様式!AE29<> \"\",TEXT(INT(P_15号様式!AE29),\"#,##0\"),\"\")","v":"78"},{"$f":"IF(P_15号様式!AE29= \"\",\"\",IF(VALUE(FIXED(P_15号様式!AE29,0,TRUE))<>P_15号様式!AE29,RIGHT(FIXED(P_15号様式!AE29,3,FALSE),4),\"\"))","v":""},{"$f":"IF(P_15号様式!AI29<> \"\",TEXT(INT(P_15号様式!AI29),\"#,##0\"),\"\")","v":""},{"$f":"IF(P_15号様式!AI29= \"\",\"\",IF(VALUE(FIXED(P_15号様式!AI29,0,TRUE))<>P_15号様式!AI29,RIGHT(FIXED(P_15号様式!AI29,3,FALSE),4),\"\"))","v":""},{"$f":"IF(P_15号様式!AM29<> \"\",TEXT(INT(P_15号様式!AM29),\"#,##0\"),\"\")","v":""},{"$f":"IF(P_15号様式!AM29= \"\",\"\",IF(VALUE(FIXED(P_15号様式!AM29,0,TRUE))<>P_15号様式!AM29,RIGHT(FIXED(P_15号様式!AM29,3,FALSE),4),\"\"))","v":""},{"$f":"IF(P_15号様式!AQ29<> \"\",TEXT(INT(P_15号様式!AQ29),\"#,##0\"),\"\")","v":""},{"$f":"IF(P_15号様式!AQ29= \"\",\"\",IF(VALUE(FIXED(P_15号様式!AQ29,0,TRUE))<>P_15号様式!AQ29,RIGHT(FIXED(P_15号様式!AQ29,3,FALSE),4),\"\"))","v":""},{"$f":"IF(P_15号様式!AR29<> \"\",TEXT(INT(P_15号様式!AR29),\"#,##0\"),\"\")","v":"6,259"},null,{"$f":"IF(P_15号様式!AR29= \"\",\"\",IF(VALUE(FIXED(P_15号様式!AR29,0,TRUE))<>P_15号様式!AR29,RIGHT(FIXED(P_15号様式!AR29,3,FALSE),4),\"\"))","v":""}]
[{"$f":"IF(P_15号様式!C30=\"\",\"\",P_15号様式!C30)","v":"＊（出水郡）計"},null,{"$f":"IF(P_15号様式!G30<> \"\",TEXT(INT(P_15号様式!G30),\"#,##0\"),\"\")","v":"26"},{"$f":"IF(P_15号様式!G30= \"\",\"\",IF(VALUE(FIXED(P_15号様式!G30,0,TRUE))<>P_15号様式!G30,RIGHT(FIXED(P_15号様式!G30,3,FALSE),4),\"\"))","v":""},{"$f":"IF(P_15号様式!K30<> \"\",TEXT(INT(P_15号様式!K30),\"#,##0\"),\"\")","v":"106"},{"$f":"IF(P_15号様式!K30= \"\",\"\",IF(VALUE(FIXED(P_15号様式!K30,0,TRUE))<>P_15号様式!K30,RIGHT(FIXED(P_15号様式!K30,3,FALSE),4),\"\"))","v":""},{"$f":"IF(P_15号様式!O30<> \"\",TEXT(INT(P_15号様式!O30),\"#,##0\"),\"\")","v":"207"},{"$f":"IF(P_15号様式!O30= \"\",\"\",IF(VALUE(FIXED(P_15号様式!O30,0,TRUE))<>P_15号様式!O30,RIGHT(FIXED(P_15号様式!O30,3,FALSE),4),\"\"))","v":""},{"$f":"IF(P_15号様式!S30<> \"\",TEXT(INT(P_15号様式!S30),\"#,##0\"),\"\")","v":"842"},{"$f":"IF(P_15号様式!S30= \"\",\"\",IF(VALUE(FIXED(P_15号様式!S30,0,TRUE))<>P_15号様式!S30,RIGHT(FIXED(P_15号様式!S30,3,FALSE),4),\"\"))","v":""},{"$f":"IF(P_15号様式!W30<> \"\",TEXT(INT(P_15号様式!W30),\"#,##0\"),\"\")","v":"4,415"},{"$f":"IF(P_15号様式!W30= \"\",\"\",IF(VALUE(FIXED(P_15号様式!W30,0,TRUE))<>P_15号様式!W30,RIGHT(FIXED(P_15号様式!W30,3,FALSE),4),\"\"))","v":""},{"$f":"IF(P_15号様式!AA30<> \"\",TEXT(INT(P_15号様式!AA30),\"#,##0\"),\"\")","v":"585"},{"$f":"IF(P_15号様式!AA30= \"\",\"\",IF(VALUE(FIXED(P_15号様式!AA30,0,TRUE))<>P_15号様式!AA30,RIGHT(FIXED(P_15号様式!AA30,3,FALSE),4),\"\"))","v":""},{"$f":"IF(P_15号様式!AE30<> \"\",TEXT(INT(P_15号様式!AE30),\"#,##0\"),\"\")","v":"78"},{"$f":"IF(P_15号様式!AE30= \"\",\"\",IF(VALUE(FIXED(P_15号様式!AE30,0,TRUE))<>P_15号様式!AE30,RIGHT(FIXED(P_15号様式!AE30,3,FALSE),4),\"\"))","v":""},{"$f":"IF(P_15号様式!AI30<> \"\",TEXT(INT(P_15号様式!AI30),\"#,##0\"),\"\")","v":""},{"$f":"IF(P_15号様式!AI30= \"\",\"\",IF(VALUE(FIXED(P_15号様式!AI30,0,TRUE))<>P_15号様式!AI30,RIGHT(FIXED(P_15号様式!AI30,3,FALSE),4),\"\"))","v":""},{"$f":"IF(P_15号様式!AM30<> \"\",TEXT(INT(P_15号様式!AM30),\"#,##0\"),\"\")","v":""},{"$f":"IF(P_15号様式!AM30= \"\",\"\",IF(VALUE(FIXED(P_15号様式!AM30,0,TRUE))<>P_15号様式!AM30,RIGHT(FIXED(P_15号様式!AM30,3,FALSE),4),\"\"))","v":""},{"$f":"IF(P_15号様式!AQ30<> \"\",TEXT(INT(P_15号様式!AQ30),\"#,##0\"),\"\")","v":""},{"$f":"IF(P_15号様式!AQ30= \"\",\"\",IF(VALUE(FIXED(P_15号様式!AQ30,0,TRUE))<>P_15号様式!AQ30,RIGHT(FIXED(P_15号様式!AQ30,3,FALSE),4),\"\"))","v":""},{"$f":"IF(P_15号様式!AR30<> \"\",TEXT(INT(P_15号様式!AR30),\"#,##0\"),\"\")","v":"6,259"},null,{"$f":"IF(P_15号様式!AR30= \"\",\"\",IF(VALUE(FIXED(P_15号様式!AR30,0,TRUE))<>P_15号様式!AR30,RIGHT(FIXED(P_15号様式!AR30,3,FALSE),4),\"\"))","v":""}]
[{"$f":"IF(P_15号様式!C31=\"\",\"\",P_15号様式!C31)","v":"　湧水町"},null,{"$f":"IF(P_15号様式!G31<> \"\",TEXT(INT(P_15号様式!G31),\"#,##0\"),\"\")","v":"49"},{"$f":"IF(P_15号様式!G31= \"\",\"\",IF(VALUE(FIXED(P_15号様式!G31,0,TRUE))<>P_15号様式!G31,RIGHT(FIXED(P_15号様式!G31,3,FALSE),4),\"\"))","v":""},{"$f":"IF(P_15号様式!K31<> \"\",TEXT(INT(P_15号様式!K31),\"#,##0\"),\"\")","v":"132"},{"$f":"IF(P_15号様式!K31= \"\",\"\",IF(VALUE(FIXED(P_15号様式!K31,0,TRUE))<>P_15号様式!K31,RIGHT(FIXED(P_15号様式!K31,3,FALSE),4),\"\"))","v":""},{"$f":"IF(P_15号様式!O31<> \"\",TEXT(INT(P_15号様式!O31),\"#,##0\"),\"\")","v":"400"},{"$f":"IF(P_15号様式!O31= \"\",\"\",IF(VALUE(FIXED(P_15号様式!O31,0,TRUE))<>P_15号様式!O31,RIGHT(FIXED(P_15号様式!O31,3,FALSE),4),\"\"))","v":""},{"$f":"IF(P_15号様式!S31<> \"\",TEXT(INT(P_15号様式!S31),\"#,##0\"),\"\")","v":"1,719"},{"$f":"IF(P_15号様式!S31= \"\",\"\",IF(VALUE(FIXED(P_15号様式!S31,0,TRUE))<>P_15号様式!S31,RIGHT(FIXED(P_15号様式!S31,3,FALSE),4),\"\"))","v":""},{"$f":"IF(P_15号様式!W31<> \"\",TEXT(INT(P_15号様式!W31),\"#,##0\"),\"\")","v":"696"},{"$f":"IF(P_15号様式!W31= \"\",\"\",IF(VALUE(FIXED(P_15号様式!W31,0,TRUE))<>P_15号様式!W31,RIGHT(FIXED(P_15号様式!W31,3,FALSE),4),\"\"))","v":""},{"$f":"IF(P_15号様式!AA31<> \"\",TEXT(INT(P_15号様式!AA31),\"#,##0\"),\"\")","v":"1,391"},{"$f":"IF(P_15号様式!AA31= \"\",\"\",IF(VALUE(FIXED(P_15号様式!AA31,0,TRUE))<>P_15号様式!AA31,RIGHT(FIXED(P_15号様式!AA31,3,FALSE),4),\"\"))","v":""},{"$f":"IF(P_15号様式!AE31<> \"\",TEXT(INT(P_15号様式!AE31),\"#,##0\"),\"\")","v":"77"},{"$f":"IF(P_15号様式!AE31= \"\",\"\",IF(VALUE(FIXED(P_15号様式!AE31,0,TRUE))<>P_15号様式!AE31,RIGHT(FIXED(P_15号様式!AE31,3,FALSE),4),\"\"))","v":""},{"$f":"IF(P_15号様式!AI31<> \"\",TEXT(INT(P_15号様式!AI31),\"#,##0\"),\"\")","v":""},{"$f":"IF(P_15号様式!AI31= \"\",\"\",IF(VALUE(FIXED(P_15号様式!AI31,0,TRUE))<>P_15号様式!AI31,RIGHT(FIXED(P_15号様式!AI31,3,FALSE),4),\"\"))","v":""},{"$f":"IF(P_15号様式!AM31<> \"\",TEXT(INT(P_15号様式!AM31),\"#,##0\"),\"\")","v":""},{"$f":"IF(P_15号様式!AM31= \"\",\"\",IF(VALUE(FIXED(P_15号様式!AM31,0,TRUE))<>P_15号様式!AM31,RIGHT(FIXED(P_15号様式!AM31,3,FALSE),4),\"\"))","v":""},{"$f":"IF(P_15号様式!AQ31<> \"\",TEXT(INT(P_15号様式!AQ31),\"#,##0\"),\"\")","v":""},{"$f":"IF(P_15号様式!AQ31= \"\",\"\",IF(VALUE(FIXED(P_15号様式!AQ31,0,TRUE))<>P_15号様式!AQ31,RIGHT(FIXED(P_15号様式!AQ31,3,FALSE),4),\"\"))","v":""},{"$f":"IF(P_15号様式!AR31<> \"\",TEXT(INT(P_15号様式!AR31),\"#,##0\"),\"\")","v":"4,464"},null,{"$f":"IF(P_15号様式!AR31= \"\",\"\",IF(VALUE(FIXED(P_15号様式!AR31,0,TRUE))<>P_15号様式!AR31,RIGHT(FIXED(P_15号様式!AR31,3,FALSE),4),\"\"))","v":""}]
[{"$f":"IF(P_15号様式!C32=\"\",\"\",P_15号様式!C32)","v":"＊（姶良郡）計"},null,{"$f":"IF(P_15号様式!G32<> \"\",TEXT(INT(P_15号様式!G32),\"#,##0\"),\"\")","v":"49"},{"$f":"IF(P_15号様式!G32= \"\",\"\",IF(VALUE(FIXED(P_15号様式!G32,0,TRUE))<>P_15号様式!G32,RIGHT(FIXED(P_15号様式!G32,3,FALSE),4),\"\"))","v":""},{"$f":"IF(P_15号様式!K32<> \"\",TEXT(INT(P_15号様式!K32),\"#,##0\"),\"\")","v":"132"},{"$f":"IF(P_15号様式!K32= \"\",\"\",IF(VALUE(FIXED(P_15号様式!K32,0,TRUE))<>P_15号様式!K32,RIGHT(FIXED(P_15号様式!K32,3,FALSE),4),\"\"))","v":""},{"$f":"IF(P_15号様式!O32<> \"\",TEXT(INT(P_15号様式!O32),\"#,##0\"),\"\")","v":"400"},{"$f":"IF(P_15号様式!O32= \"\",\"\",IF(VALUE(FIXED(P_15号様式!O32,0,TRUE))<>P_15号様式!O32,RIGHT(FIXED(P_15号様式!O32,3,FALSE),4),\"\"))","v":""},{"$f":"IF(P_15号様式!S32<> \"\",TEXT(INT(P_15号様式!S32),\"#,##0\"),\"\")","v":"1,719"},{"$f":"IF(P_15号様式!S32= \"\",\"\",IF(VALUE(FIXED(P_15号様式!S32,0,TRUE))<>P_15号様式!S32,RIGHT(FIXED(P_15号様式!S32,3,FALSE),4),\"\"))","v":""},{"$f":"IF(P_15号様式!W32<> \"\",TEXT(INT(P_15号様式!W32),\"#,##0\"),\"\")","v":"696"},{"$f":"IF(P_15号様式!W32= \"\",\"\",IF(VALUE(FIXED(P_15号様式!W32,0,TRUE))<>P_15号様式!W32,RIGHT(FIXED(P_15号様式!W32,3,FALSE),4),\"\"))","v":""},{"$f":"IF(P_15号様式!AA32<> \"\",TEXT(INT(P_15号様式!AA32),\"#,##0\"),\"\")","v":"1,391"},{"$f":"IF(P_15号様式!AA32= \"\",\"\",IF(VALUE(FIXED(P_15号様式!AA32,0,TRUE))<>P_15号様式!AA32,RIGHT(FIXED(P_15号様式!AA32,3,FALSE),4),\"\"))","v":""},{"$f":"IF(P_15号様式!AE32<> \"\",TEXT(INT(P_15号様式!AE32),\"#,##0\"),\"\")","v":"77"},{"$f":"IF(P_15号様式!AE32= \"\",\"\",IF(VALUE(FIXED(P_15号様式!AE32,0,TRUE))<>P_15号様式!AE32,RIGHT(FIXED(P_15号様式!AE32,3,FALSE),4),\"\"))","v":""},{"$f":"IF(P_15号様式!AI32<> \"\",TEXT(INT(P_15号様式!AI32),\"#,##0\"),\"\")","v":""},{"$f":"IF(P_15号様式!AI32= \"\",\"\",IF(VALUE(FIXED(P_15号様式!AI32,0,TRUE))<>P_15号様式!AI32,RIGHT(FIXED(P_15号様式!AI32,3,FALSE),4),\"\"))","v":""},{"$f":"IF(P_15号様式!AM32<> \"\",TEXT(INT(P_15号様式!AM32),\"#,##0\"),\"\")","v":""},{"$f":"IF(P_15号様式!AM32= \"\",\"\",IF(VALUE(FIXED(P_15号様式!AM32,0,TRUE))<>P_15号様式!AM32,RIGHT(FIXED(P_15号様式!AM32,3,FALSE),4),\"\"))","v":""},{"$f":"IF(P_15号様式!AQ32<> \"\",TEXT(INT(P_15号様式!AQ32),\"#,##0\"),\"\")","v":""},{"$f":"IF(P_15号様式!AQ32= \"\",\"\",IF(VALUE(FIXED(P_15号様式!AQ32,0,TRUE))<>P_15号様式!AQ32,RIGHT(FIXED(P_15号様式!AQ32,3,FALSE),4),\"\"))","v":""},{"$f":"IF(P_15号様式!AR32<> \"\",TEXT(INT(P_15号様式!AR32),\"#,##0\"),\"\")","v":"4,464"},null,{"$f":"IF(P_15号様式!AR32= \"\",\"\",IF(VALUE(FIXED(P_15号様式!AR32,0,TRUE))<>P_15号様式!AR32,RIGHT(FIXED(P_15号様式!AR32,3,FALSE),4),\"\"))","v":""}]
[{"$f":"IF(P_15号様式!C33=\"\",\"\",P_15号様式!C33)","v":"　大崎町"},null,{"$f":"IF(P_15号様式!G33<> \"\",TEXT(INT(P_15号様式!G33),\"#,##0\"),\"\")","v":"65"},{"$f":"IF(P_15号様式!G33= \"\",\"\",IF(VALUE(FIXED(P_15号様式!G33,0,TRUE))<>P_15号様式!G33,RIGHT(FIXED(P_15号様式!G33,3,FALSE),4),\"\"))","v":""},{"$f":"IF(P_15号様式!K33<> \"\",TEXT(INT(P_15号様式!K33),\"#,##0\"),\"\")","v":"170"},{"$f":"IF(P_15号様式!K33= \"\",\"\",IF(VALUE(FIXED(P_15号様式!K33,0,TRUE))<>P_15号様式!K33,RIGHT(FIXED(P_15号様式!K33,3,FALSE),4),\"\"))","v":""},{"$f":"IF(P_15号様式!O33<> \"\",TEXT(INT(P_15号様式!O33),\"#,##0\"),\"\")","v":"451"},{"$f":"IF(P_15号様式!O33= \"\",\"\",IF(VALUE(FIXED(P_15号様式!O33,0,TRUE))<>P_15号様式!O33,RIGHT(FIXED(P_15号様式!O33,3,FALSE),4),\"\"))","v":""},{"$f":"IF(P_15号様式!S33<> \"\",TEXT(INT(P_15号様式!S33),\"#,##0\"),\"\")","v":"1,960"},{"$f":"IF(P_15号様式!S33= \"\",\"\",IF(VALUE(FIXED(P_15号様式!S33,0,TRUE))<>P_15号様式!S33,RIGHT(FIXED(P_15号様式!S33,3,FALSE),4),\"\"))","v":""},{"$f":"IF(P_15号様式!W33<> \"\",TEXT(INT(P_15号様式!W33),\"#,##0\"),\"\")","v":"1,553"},{"$f":"IF(P_15号様式!W33= \"\",\"\",IF(VALUE(FIXED(P_15号様式!W33,0,TRUE))<>P_15号様式!W33,RIGHT(FIXED(P_15号様式!W33,3,FALSE),4),\"\"))","v":""},{"$f":"IF(P_15号様式!AA33<> \"\",TEXT(INT(P_15号様式!AA33),\"#,##0\"),\"\")","v":"1,269"},{"$f":"IF(P_15号様式!AA33= \"\",\"\",IF(VALUE(FIXED(P_15号様式!AA33,0,TRUE))<>P_15号様式!AA33,RIGHT(FIXED(P_15号様式!AA33,3,FALSE),4),\"\"))","v":""},{"$f":"IF(P_15号様式!AE33<> \"\",TEXT(INT(P_15号様式!AE33),\"#,##0\"),\"\")","v":"94"},{"$f":"IF(P_15号様式!AE33= \"\",\"\",IF(VALUE(FIXED(P_15号様式!AE33,0,TRUE))<>P_15号様式!AE33,RIGHT(FIXED(P_15号様式!AE33,3,FALSE),4),\"\"))","v":""},{"$f":"IF(P_15号様式!AI33<> \"\",TEXT(INT(P_15号様式!AI33),\"#,##0\"),\"\")","v":""},{"$f":"IF(P_15号様式!AI33= \"\",\"\",IF(VALUE(FIXED(P_15号様式!AI33,0,TRUE))<>P_15号様式!AI33,RIGHT(FIXED(P_15号様式!AI33,3,FALSE),4),\"\"))","v":""},{"$f":"IF(P_15号様式!AM33<> \"\",TEXT(INT(P_15号様式!AM33),\"#,##0\"),\"\")","v":""},{"$f":"IF(P_15号様式!AM33= \"\",\"\",IF(VALUE(FIXED(P_15号様式!AM33,0,TRUE))<>P_15号様式!AM33,RIGHT(FIXED(P_15号様式!AM33,3,FALSE),4),\"\"))","v":""},{"$f":"IF(P_15号様式!AQ33<> \"\",TEXT(INT(P_15号様式!AQ33),\"#,##0\"),\"\")","v":""},{"$f":"IF(P_15号様式!AQ33= \"\",\"\",IF(VALUE(FIXED(P_15号様式!AQ33,0,TRUE))<>P_15号様式!AQ33,RIGHT(FIXED(P_15号様式!AQ33,3,FALSE),4),\"\"))","v":""},{"$f":"IF(P_15号様式!AR33<> \"\",TEXT(INT(P_15号様式!AR33),\"#,##0\"),\"\")","v":"5,562"},null,{"$f":"IF(P_15号様式!AR33= \"\",\"\",IF(VALUE(FIXED(P_15号様式!AR33,0,TRUE))<>P_15号様式!AR33,RIGHT(FIXED(P_15号様式!AR33,3,FALSE),4),\"\"))","v":""}]
[{"$f":"IF(P_15号様式!C34=\"\",\"\",P_15号様式!C34)","v":"＊（曽於郡）計"},null,{"$f":"IF(P_15号様式!G34<> \"\",TEXT(INT(P_15号様式!G34),\"#,##0\"),\"\")","v":"65"},{"$f":"IF(P_15号様式!G34= \"\",\"\",IF(VALUE(FIXED(P_15号様式!G34,0,TRUE))<>P_15号様式!G34,RIGHT(FIXED(P_15号様式!G34,3,FALSE),4),\"\"))","v":""},{"$f":"IF(P_15号様式!K34<> \"\",TEXT(INT(P_15号様式!K34),\"#,##0\"),\"\")","v":"170"},{"$f":"IF(P_15号様式!K34= \"\",\"\",IF(VALUE(FIXED(P_15号様式!K34,0,TRUE))<>P_15号様式!K34,RIGHT(FIXED(P_15号様式!K34,3,FALSE),4),\"\"))","v":""},{"$f":"IF(P_15号様式!O34<> \"\",TEXT(INT(P_15号様式!O34),\"#,##0\"),\"\")","v":"451"},{"$f":"IF(P_15号様式!O34= \"\",\"\",IF(VALUE(FIXED(P_15号様式!O34,0,TRUE))<>P_15号様式!O34,RIGHT(FIXED(P_15号様式!O34,3,FALSE),4),\"\"))","v":""},{"$f":"IF(P_15号様式!S34<> \"\",TEXT(INT(P_15号様式!S34),\"#,##0\"),\"\")","v":"1,960"},{"$f":"IF(P_15号様式!S34= \"\",\"\",IF(VALUE(FIXED(P_15号様式!S34,0,TRUE))<>P_15号様式!S34,RIGHT(FIXED(P_15号様式!S34,3,FALSE),4),\"\"))","v":""},{"$f":"IF(P_15号様式!W34<> \"\",TEXT(INT(P_15号様式!W34),\"#,##0\"),\"\")","v":"1,553"},{"$f":"IF(P_15号様式!W34= \"\",\"\",IF(VALUE(FIXED(P_15号様式!W34,0,TRUE))<>P_15号様式!W34,RIGHT(FIXED(P_15号様式!W34,3,FALSE),4),\"\"))","v":""},{"$f":"IF(P_15号様式!AA34<> \"\",TEXT(INT(P_15号様式!AA34),\"#,##0\"),\"\")","v":"1,269"},{"$f":"IF(P_15号様式!AA34= \"\",\"\",IF(VALUE(FIXED(P_15号様式!AA34,0,TRUE))<>P_15号様式!AA34,RIGHT(FIXED(P_15号様式!AA34,3,FALSE),4),\"\"))","v":""},{"$f":"IF(P_15号様式!AE34<> \"\",TEXT(INT(P_15号様式!AE34),\"#,##0\"),\"\")","v":"94"},{"$f":"IF(P_15号様式!AE34= \"\",\"\",IF(VALUE(FIXED(P_15号様式!AE34,0,TRUE))<>P_15号様式!AE34,RIGHT(FIXED(P_15号様式!AE34,3,FALSE),4),\"\"))","v":""},{"$f":"IF(P_15号様式!AI34<> \"\",TEXT(INT(P_15号様式!AI34),\"#,##0\"),\"\")","v":""},{"$f":"IF(P_15号様式!AI34= \"\",\"\",IF(VALUE(FIXED(P_15号様式!AI34,0,TRUE))<>P_15号様式!AI34,RIGHT(FIXED(P_15号様式!AI34,3,FALSE),4),\"\"))","v":""},{"$f":"IF(P_15号様式!AM34<> \"\",TEXT(INT(P_15号様式!AM34),\"#,##0\"),\"\")","v":""},{"$f":"IF(P_15号様式!AM34= \"\",\"\",IF(VALUE(FIXED(P_15号様式!AM34,0,TRUE))<>P_15号様式!AM34,RIGHT(FIXED(P_15号様式!AM34,3,FALSE),4),\"\"))","v":""},{"$f":"IF(P_15号様式!AQ34<> \"\",TEXT(INT(P_15号様式!AQ34),\"#,##0\"),\"\")","v":""},{"$f":"IF(P_15号様式!AQ34= \"\",\"\",IF(VALUE(FIXED(P_15号様式!AQ34,0,TRUE))<>P_15号様式!AQ34,RIGHT(FIXED(P_15号様式!AQ34,3,FALSE),4),\"\"))","v":""},{"$f":"IF(P_15号様式!AR34<> \"\",TEXT(INT(P_15号様式!AR34),\"#,##0\"),\"\")","v":"5,562"},null,{"$f":"IF(P_15号様式!AR34= \"\",\"\",IF(VALUE(FIXED(P_15号様式!AR34,0,TRUE))<>P_15号様式!AR34,RIGHT(FIXED(P_15号様式!AR34,3,FALSE),4),\"\"))","v":""}]
[{"$f":"IF(P_15号様式!C35=\"\",\"\",P_15号様式!C35)","v":"　東串良町"},null,{"$f":"IF(P_15号様式!G35<> \"\",TEXT(INT(P_15号様式!G35),\"#,##0\"),\"\")","v":"31"},{"$f":"IF(P_15号様式!G35= \"\",\"\",IF(VALUE(FIXED(P_15号様式!G35,0,TRUE))<>P_15号様式!G35,RIGHT(FIXED(P_15号様式!G35,3,FALSE),4),\"\"))","v":""},{"$f":"IF(P_15号様式!K35<> \"\",TEXT(INT(P_15号様式!K35),\"#,##0\"),\"\")","v":"133"},{"$f":"IF(P_15号様式!K35= \"\",\"\",IF(VALUE(FIXED(P_15号様式!K35,0,TRUE))<>P_15号様式!K35,RIGHT(FIXED(P_15号様式!K35,3,FALSE),4),\"\"))","v":""},{"$f":"IF(P_15号様式!O35<> \"\",TEXT(INT(P_15号様式!O35),\"#,##0\"),\"\")","v":"222"},{"$f":"IF(P_15号様式!O35= \"\",\"\",IF(VALUE(FIXED(P_15号様式!O35,0,TRUE))<>P_15号様式!O35,RIGHT(FIXED(P_15号様式!O35,3,FALSE),4),\"\"))","v":""},{"$f":"IF(P_15号様式!S35<> \"\",TEXT(INT(P_15号様式!S35),\"#,##0\"),\"\")","v":"1,072"},{"$f":"IF(P_15号様式!S35= \"\",\"\",IF(VALUE(FIXED(P_15号様式!S35,0,TRUE))<>P_15号様式!S35,RIGHT(FIXED(P_15号様式!S35,3,FALSE),4),\"\"))","v":""},{"$f":"IF(P_15号様式!W35<> \"\",TEXT(INT(P_15号様式!W35),\"#,##0\"),\"\")","v":"570"},{"$f":"IF(P_15号様式!W35= \"\",\"\",IF(VALUE(FIXED(P_15号様式!W35,0,TRUE))<>P_15号様式!W35,RIGHT(FIXED(P_15号様式!W35,3,FALSE),4),\"\"))","v":""},{"$f":"IF(P_15号様式!AA35<> \"\",TEXT(INT(P_15号様式!AA35),\"#,##0\"),\"\")","v":"554"},{"$f":"IF(P_15号様式!AA35= \"\",\"\",IF(VALUE(FIXED(P_15号様式!AA35,0,TRUE))<>P_15号様式!AA35,RIGHT(FIXED(P_15号様式!AA35,3,FALSE),4),\"\"))","v":""},{"$f":"IF(P_15号様式!AE35<> \"\",TEXT(INT(P_15号様式!AE35),\"#,##0\"),\"\")","v":"52"},{"$f":"IF(P_15号様式!AE35= \"\",\"\",IF(VALUE(FIXED(P_15号様式!AE35,0,TRUE))<>P_15号様式!AE35,RIGHT(FIXED(P_15号様式!AE35,3,FALSE),4),\"\"))","v":""},{"$f":"IF(P_15号様式!AI35<> \"\",TEXT(INT(P_15号様式!AI35),\"#,##0\"),\"\")","v":""},{"$f":"IF(P_15号様式!AI35= \"\",\"\",IF(VALUE(FIXED(P_15号様式!AI35,0,TRUE))<>P_15号様式!AI35,RIGHT(FIXED(P_15号様式!AI35,3,FALSE),4),\"\"))","v":""},{"$f":"IF(P_15号様式!AM35<> \"\",TEXT(INT(P_15号様式!AM35),\"#,##0\"),\"\")","v":""},{"$f":"IF(P_15号様式!AM35= \"\",\"\",IF(VALUE(FIXED(P_15号様式!AM35,0,TRUE))<>P_15号様式!AM35,RIGHT(FIXED(P_15号様式!AM35,3,FALSE),4),\"\"))","v":""},{"$f":"IF(P_15号様式!AQ35<> \"\",TEXT(INT(P_15号様式!AQ35),\"#,##0\"),\"\")","v":""},{"$f":"IF(P_15号様式!AQ35= \"\",\"\",IF(VALUE(FIXED(P_15号様式!AQ35,0,TRUE))<>P_15号様式!AQ35,RIGHT(FIXED(P_15号様式!AQ35,3,FALSE),4),\"\"))","v":""},{"$f":"IF(P_15号様式!AR35<> \"\",TEXT(INT(P_15号様式!AR35),\"#,##0\"),\"\")","v":"2,634"},null,{"$f":"IF(P_15号様式!AR35= \"\",\"\",IF(VALUE(FIXED(P_15号様式!AR35,0,TRUE))<>P_15号様式!AR35,RIGHT(FIXED(P_15号様式!AR35,3,FALSE),4),\"\"))","v":""}]
[{"$f":"IF(P_15号様式!C36=\"\",\"\",P_15号様式!C36)","v":"　錦江町"},null,{"$f":"IF(P_15号様式!G36<> \"\",TEXT(INT(P_15号様式!G36),\"#,##0\"),\"\")","v":"19"},{"$f":"IF(P_15号様式!G36= \"\",\"\",IF(VALUE(FIXED(P_15号様式!G36,0,TRUE))<>P_15号様式!G36,RIGHT(FIXED(P_15号様式!G36,3,FALSE),4),\"\"))","v":""},{"$f":"IF(P_15号様式!K36<> \"\",TEXT(INT(P_15号様式!K36),\"#,##0\"),\"\")","v":"64"},{"$f":"IF(P_15号様式!K36= \"\",\"\",IF(VALUE(FIXED(P_15号様式!K36,0,TRUE))<>P_15号様式!K36,RIGHT(FIXED(P_15号様式!K36,3,FALSE),4),\"\"))","v":""},{"$f":"IF(P_15号様式!O36<> \"\",TEXT(INT(P_15号様式!O36),\"#,##0\"),\"\")","v":"293"},{"$f":"IF(P_15号様式!O36= \"\",\"\",IF(VALUE(FIXED(P_15号様式!O36,0,TRUE))<>P_15号様式!O36,RIGHT(FIXED(P_15号様式!O36,3,FALSE),4),\"\"))","v":""},{"$f":"IF(P_15号様式!S36<> \"\",TEXT(INT(P_15号様式!S36),\"#,##0\"),\"\")","v":"1,575"},{"$f":"IF(P_15号様式!S36= \"\",\"\",IF(VALUE(FIXED(P_15号様式!S36,0,TRUE))<>P_15号様式!S36,RIGHT(FIXED(P_15号様式!S36,3,FALSE),4),\"\"))","v":""},{"$f":"IF(P_15号様式!W36<> \"\",TEXT(INT(P_15号様式!W36),\"#,##0\"),\"\")","v":"683"},{"$f":"IF(P_15号様式!W36= \"\",\"\",IF(VALUE(FIXED(P_15号様式!W36,0,TRUE))<>P_15号様式!W36,RIGHT(FIXED(P_15号様式!W36,3,FALSE),4),\"\"))","v":""},{"$f":"IF(P_15号様式!AA36<> \"\",TEXT(INT(P_15号様式!AA36),\"#,##0\"),\"\")","v":"1,126"},{"$f":"IF(P_15号様式!AA36= \"\",\"\",IF(VALUE(FIXED(P_15号様式!AA36,0,TRUE))<>P_15号様式!AA36,RIGHT(FIXED(P_15号様式!AA36,3,FALSE),4),\"\"))","v":""},{"$f":"IF(P_15号様式!AE36<> \"\",TEXT(INT(P_15号様式!AE36),\"#,##0\"),\"\")","v":"56"},{"$f":"IF(P_15号様式!AE36= \"\",\"\",IF(VALUE(FIXED(P_15号様式!AE36,0,TRUE))<>P_15号様式!AE36,RIGHT(FIXED(P_15号様式!AE36,3,FALSE),4),\"\"))","v":""},{"$f":"IF(P_15号様式!AI36<> \"\",TEXT(INT(P_15号様式!AI36),\"#,##0\"),\"\")","v":""},{"$f":"IF(P_15号様式!AI36= \"\",\"\",IF(VALUE(FIXED(P_15号様式!AI36,0,TRUE))<>P_15号様式!AI36,RIGHT(FIXED(P_15号様式!AI36,3,FALSE),4),\"\"))","v":""},{"$f":"IF(P_15号様式!AM36<> \"\",TEXT(INT(P_15号様式!AM36),\"#,##0\"),\"\")","v":""},{"$f":"IF(P_15号様式!AM36= \"\",\"\",IF(VALUE(FIXED(P_15号様式!AM36,0,TRUE))<>P_15号様式!AM36,RIGHT(FIXED(P_15号様式!AM36,3,FALSE),4),\"\"))","v":""},{"$f":"IF(P_15号様式!AQ36<> \"\",TEXT(INT(P_15号様式!AQ36),\"#,##0\"),\"\")","v":""},{"$f":"IF(P_15号様式!AQ36= \"\",\"\",IF(VALUE(FIXED(P_15号様式!AQ36,0,TRUE))<>P_15号様式!AQ36,RIGHT(FIXED(P_15号様式!AQ36,3,FALSE),4),\"\"))","v":""},{"$f":"IF(P_15号様式!AR36<> \"\",TEXT(INT(P_15号様式!AR36),\"#,##0\"),\"\")","v":"3,816"},null,{"$f":"IF(P_15号様式!AR36= \"\",\"\",IF(VALUE(FIXED(P_15号様式!AR36,0,TRUE))<>P_15号様式!AR36,RIGHT(FIXED(P_15号様式!AR36,3,FALSE),4),\"\"))","v":""}]
[{"$f":"IF(P_15号様式!C37=\"\",\"\",P_15号様式!C37)","v":"　南大隅町"},null,{"$f":"IF(P_15号様式!G37<> \"\",TEXT(INT(P_15号様式!G37),\"#,##0\"),\"\")","v":"19"},{"$f":"IF(P_15号様式!G37= \"\",\"\",IF(VALUE(FIXED(P_15号様式!G37,0,TRUE))<>P_15号様式!G37,RIGHT(FIXED(P_15号様式!G37,3,FALSE),4),\"\"))","v":""},{"$f":"IF(P_15号様式!K37<> \"\",TEXT(INT(P_15号様式!K37),\"#,##0\"),\"\")","v":"97"},{"$f":"IF(P_15号様式!K37= \"\",\"\",IF(VALUE(FIXED(P_15号様式!K37,0,TRUE))<>P_15号様式!K37,RIGHT(FIXED(P_15号様式!K37,3,FALSE),4),\"\"))","v":""},{"$f":"IF(P_15号様式!O37<> \"\",TEXT(INT(P_15号様式!O37),\"#,##0\"),\"\")","v":"382"},{"$f":"IF(P_15号様式!O37= \"\",\"\",IF(VALUE(FIXED(P_15号様式!O37,0,TRUE))<>P_15号様式!O37,RIGHT(FIXED(P_15号様式!O37,3,FALSE),4),\"\"))","v":""},{"$f":"IF(P_15号様式!S37<> \"\",TEXT(INT(P_15号様式!S37),\"#,##0\"),\"\")","v":"1,309"},{"$f":"IF(P_15号様式!S37= \"\",\"\",IF(VALUE(FIXED(P_15号様式!S37,0,TRUE))<>P_15号様式!S37,RIGHT(FIXED(P_15号様式!S37,3,FALSE),4),\"\"))","v":""},{"$f":"IF(P_15号様式!W37<> \"\",TEXT(INT(P_15号様式!W37),\"#,##0\"),\"\")","v":"944"},{"$f":"IF(P_15号様式!W37= \"\",\"\",IF(VALUE(FIXED(P_15号様式!W37,0,TRUE))<>P_15号様式!W37,RIGHT(FIXED(P_15号様式!W37,3,FALSE),4),\"\"))","v":""},{"$f":"IF(P_15号様式!AA37<> \"\",TEXT(INT(P_15号様式!AA37),\"#,##0\"),\"\")","v":"1,000"},{"$f":"IF(P_15号様式!AA37= \"\",\"\",IF(VALUE(FIXED(P_15号様式!AA37,0,TRUE))<>P_15号様式!AA37,RIGHT(FIXED(P_15号様式!AA37,3,FALSE),4),\"\"))","v":""},{"$f":"IF(P_15号様式!AE37<> \"\",TEXT(INT(P_15号様式!AE37),\"#,##0\"),\"\")","v":"63"},{"$f":"IF(P_15号様式!AE37= \"\",\"\",IF(VALUE(FIXED(P_15号様式!AE37,0,TRUE))<>P_15号様式!AE37,RIGHT(FIXED(P_15号様式!AE37,3,FALSE),4),\"\"))","v":""},{"$f":"IF(P_15号様式!AI37<> \"\",TEXT(INT(P_15号様式!AI37),\"#,##0\"),\"\")","v":""},{"$f":"IF(P_15号様式!AI37= \"\",\"\",IF(VALUE(FIXED(P_15号様式!AI37,0,TRUE))<>P_15号様式!AI37,RIGHT(FIXED(P_15号様式!AI37,3,FALSE),4),\"\"))","v":""},{"$f":"IF(P_15号様式!AM37<> \"\",TEXT(INT(P_15号様式!AM37),\"#,##0\"),\"\")","v":""},{"$f":"IF(P_15号様式!AM37= \"\",\"\",IF(VALUE(FIXED(P_15号様式!AM37,0,TRUE))<>P_15号様式!AM37,RIGHT(FIXED(P_15号様式!AM37,3,FALSE),4),\"\"))","v":""},{"$f":"IF(P_15号様式!AQ37<> \"\",TEXT(INT(P_15号様式!AQ37),\"#,##0\"),\"\")","v":""},{"$f":"IF(P_15号様式!AQ37= \"\",\"\",IF(VALUE(FIXED(P_15号様式!AQ37,0,TRUE))<>P_15号様式!AQ37,RIGHT(FIXED(P_15号様式!AQ37,3,FALSE),4),\"\"))","v":""},{"$f":"IF(P_15号様式!AR37<> \"\",TEXT(INT(P_15号様式!AR37),\"#,##0\"),\"\")","v":"3,814"},null,{"$f":"IF(P_15号様式!AR37= \"\",\"\",IF(VALUE(FIXED(P_15号様式!AR37,0,TRUE))<>P_15号様式!AR37,RIGHT(FIXED(P_15号様式!AR37,3,FALSE),4),\"\"))","v":""}]
[{"$f":"IF(P_15号様式!C38=\"\",\"\",P_15号様式!C38)","v":"　肝付町"},null,{"$f":"IF(P_15号様式!G38<> \"\",TEXT(INT(P_15号様式!G38),\"#,##0\"),\"\")","v":"55"},{"$f":"IF(P_15号様式!G38= \"\",\"\",IF(VALUE(FIXED(P_15号様式!G38,0,TRUE))<>P_15号様式!G38,RIGHT(FIXED(P_15号様式!G38,3,FALSE),4),\"\"))","v":""},{"$f":"IF(P_15号様式!K38<> \"\",TEXT(INT(P_15号様式!K38),\"#,##0\"),\"\")","v":"198"},{"$f":"IF(P_15号様式!K38= \"\",\"\",IF(VALUE(FIXED(P_15号様式!K38,0,TRUE))<>P_15号様式!K38,RIGHT(FIXED(P_15号様式!K38,3,FALSE),4),\"\"))","v":""},{"$f":"IF(P_15号様式!O38<> \"\",TEXT(INT(P_15号様式!O38),\"#,##0\"),\"\")","v":"548"},{"$f":"IF(P_15号様式!O38= \"\",\"\",IF(VALUE(FIXED(P_15号様式!O38,0,TRUE))<>P_15号様式!O38,RIGHT(FIXED(P_15号様式!O38,3,FALSE),4),\"\"))","v":""},{"$f":"IF(P_15号様式!S38<> \"\",TEXT(INT(P_15号様式!S38),\"#,##0\"),\"\")","v":"2,763"},{"$f":"IF(P_15号様式!S38= \"\",\"\",IF(VALUE(FIXED(P_15号様式!S38,0,TRUE))<>P_15号様式!S38,RIGHT(FIXED(P_15号様式!S38,3,FALSE),4),\"\"))","v":""},{"$f":"IF(P_15号様式!W38<> \"\",TEXT(INT(P_15号様式!W38),\"#,##0\"),\"\")","v":"1,198"},{"$f":"IF(P_15号様式!W38= \"\",\"\",IF(VALUE(FIXED(P_15号様式!W38,0,TRUE))<>P_15号様式!W38,RIGHT(FIXED(P_15号様式!W38,3,FALSE),4),\"\"))","v":""},{"$f":"IF(P_15号様式!AA38<> \"\",TEXT(INT(P_15号様式!AA38),\"#,##0\"),\"\")","v":"1,502"},{"$f":"IF(P_15号様式!AA38= \"\",\"\",IF(VALUE(FIXED(P_15号様式!AA38,0,TRUE))<>P_15号様式!AA38,RIGHT(FIXED(P_15号様式!AA38,3,FALSE),4),\"\"))","v":""},{"$f":"IF(P_15号様式!AE38<> \"\",TEXT(INT(P_15号様式!AE38),\"#,##0\"),\"\")","v":"149"},{"$f":"IF(P_15号様式!AE38= \"\",\"\",IF(VALUE(FIXED(P_15号様式!AE38,0,TRUE))<>P_15号様式!AE38,RIGHT(FIXED(P_15号様式!AE38,3,FALSE),4),\"\"))","v":""},{"$f":"IF(P_15号様式!AI38<> \"\",TEXT(INT(P_15号様式!AI38),\"#,##0\"),\"\")","v":""},{"$f":"IF(P_15号様式!AI38= \"\",\"\",IF(VALUE(FIXED(P_15号様式!AI38,0,TRUE))<>P_15号様式!AI38,RIGHT(FIXED(P_15号様式!AI38,3,FALSE),4),\"\"))","v":""},{"$f":"IF(P_15号様式!AM38<> \"\",TEXT(INT(P_15号様式!AM38),\"#,##0\"),\"\")","v":""},{"$f":"IF(P_15号様式!AM38= \"\",\"\",IF(VALUE(FIXED(P_15号様式!AM38,0,TRUE))<>P_15号様式!AM38,RIGHT(FIXED(P_15号様式!AM38,3,FALSE),4),\"\"))","v":""},{"$f":"IF(P_15号様式!AQ38<> \"\",TEXT(INT(P_15号様式!AQ38),\"#,##0\"),\"\")","v":""},{"$f":"IF(P_15号様式!AQ38= \"\",\"\",IF(VALUE(FIXED(P_15号様式!AQ38,0,TRUE))<>P_15号様式!AQ38,RIGHT(FIXED(P_15号様式!AQ38,3,FALSE),4),\"\"))","v":""},{"$f":"IF(P_15号様式!AR38<> \"\",TEXT(INT(P_15号様式!AR38),\"#,##0\"),\"\")","v":"6,413"},null,{"$f":"IF(P_15号様式!AR38= \"\",\"\",IF(VALUE(FIXED(P_15号様式!AR38,0,TRUE))<>P_15号様式!AR38,RIGHT(FIXED(P_15号様式!AR38,3,FALSE),4),\"\"))","v":""}]
[{"$f":"IF(P_15号様式!C39=\"\",\"\",P_15号様式!C39)","v":"＊（肝属郡）計"},null,{"$f":"IF(P_15号様式!G39<> \"\",TEXT(INT(P_15号様式!G39),\"#,##0\"),\"\")","v":"124"},{"$f":"IF(P_15号様式!G39= \"\",\"\",IF(VALUE(FIXED(P_15号様式!G39,0,TRUE))<>P_15号様式!G39,RIGHT(FIXED(P_15号様式!G39,3,FALSE),4),\"\"))","v":""},{"$f":"IF(P_15号様式!K39<> \"\",TEXT(INT(P_15号様式!K39),\"#,##0\"),\"\")","v":"492"},{"$f":"IF(P_15号様式!K39= \"\",\"\",IF(VALUE(FIXED(P_15号様式!K39,0,TRUE))<>P_15号様式!K39,RIGHT(FIXED(P_15号様式!K39,3,FALSE),4),\"\"))","v":""},{"$f":"IF(P_15号様式!O39<> \"\",TEXT(INT(P_15号様式!O39),\"#,##0\"),\"\")","v":"1,445"},{"$f":"IF(P_15号様式!O39= \"\",\"\",IF(VALUE(FIXED(P_15号様式!O39,0,TRUE))<>P_15号様式!O39,RIGHT(FIXED(P_15号様式!O39,3,FALSE),4),\"\"))","v":""},{"$f":"IF(P_15号様式!S39<> \"\",TEXT(INT(P_15号様式!S39),\"#,##0\"),\"\")","v":"6,719"},{"$f":"IF(P_15号様式!S39= \"\",\"\",IF(VALUE(FIXED(P_15号様式!S39,0,TRUE))<>P_15号様式!S39,RIGHT(FIXED(P_15号様式!S39,3,FALSE),4),\"\"))","v":""},{"$f":"IF(P_15号様式!W39<> \"\",TEXT(INT(P_15号様式!W39),\"#,##0\"),\"\")","v":"3,395"},{"$f":"IF(P_15号様式!W39= \"\",\"\",IF(VALUE(FIXED(P_15号様式!W39,0,TRUE))<>P_15号様式!W39,RIGHT(FIXED(P_15号様式!W39,3,FALSE),4),\"\"))","v":""},{"$f":"IF(P_15号様式!AA39<> \"\",TEXT(INT(P_15号様式!AA39),\"#,##0\"),\"\")","v":"4,182"},{"$f":"IF(P_15号様式!AA39= \"\",\"\",IF(VALUE(FIXED(P_15号様式!AA39,0,TRUE))<>P_15号様式!AA39,RIGHT(FIXED(P_15号様式!AA39,3,FALSE),4),\"\"))","v":""},{"$f":"IF(P_15号様式!AE39<> \"\",TEXT(INT(P_15号様式!AE39),\"#,##0\"),\"\")","v":"320"},{"$f":"IF(P_15号様式!AE39= \"\",\"\",IF(VALUE(FIXED(P_15号様式!AE39,0,TRUE))<>P_15号様式!AE39,RIGHT(FIXED(P_15号様式!AE39,3,FALSE),4),\"\"))","v":""},{"$f":"IF(P_15号様式!AI39<> \"\",TEXT(INT(P_15号様式!AI39),\"#,##0\"),\"\")","v":""},{"$f":"IF(P_15号様式!AI39= \"\",\"\",IF(VALUE(FIXED(P_15号様式!AI39,0,TRUE))<>P_15号様式!AI39,RIGHT(FIXED(P_15号様式!AI39,3,FALSE),4),\"\"))","v":""},{"$f":"IF(P_15号様式!AM39<> \"\",TEXT(INT(P_15号様式!AM39),\"#,##0\"),\"\")","v":""},{"$f":"IF(P_15号様式!AM39= \"\",\"\",IF(VALUE(FIXED(P_15号様式!AM39,0,TRUE))<>P_15号様式!AM39,RIGHT(FIXED(P_15号様式!AM39,3,FALSE),4),\"\"))","v":""},{"$f":"IF(P_15号様式!AQ39<> \"\",TEXT(INT(P_15号様式!AQ39),\"#,##0\"),\"\")","v":""},{"$f":"IF(P_15号様式!AQ39= \"\",\"\",IF(VALUE(FIXED(P_15号様式!AQ39,0,TRUE))<>P_15号様式!AQ39,RIGHT(FIXED(P_15号様式!AQ39,3,FALSE),4),\"\"))","v":""},{"$f":"IF(P_15号様式!AR39<> \"\",TEXT(INT(P_15号様式!AR39),\"#,##0\"),\"\")","v":"16,677"},null,{"$f":"IF(P_15号様式!AR39= \"\",\"\",IF(VALUE(FIXED(P_15号様式!AR39,0,TRUE))<>P_15号様式!AR39,RIGHT(FIXED(P_15号様式!AR39,3,FALSE),4),\"\"))","v":""}]
[{"$f":"IF(P_15号様式!C40=\"\",\"\",P_15号様式!C40)","v":"　中種子町"},null,{"$f":"IF(P_15号様式!G40<> \"\",TEXT(INT(P_15号様式!G40),\"#,##0\"),\"\")","v":"29"},{"$f":"IF(P_15号様式!G40= \"\",\"\",IF(VALUE(FIXED(P_15号様式!G40,0,TRUE))<>P_15号様式!G40,RIGHT(FIXED(P_15号様式!G40,3,FALSE),4),\"\"))","v":""},{"$f":"IF(P_15号様式!K40<> \"\",TEXT(INT(P_15号様式!K40),\"#,##0\"),\"\")","v":"159"},{"$f":"IF(P_15号様式!K40= \"\",\"\",IF(VALUE(FIXED(P_15号様式!K40,0,TRUE))<>P_15号様式!K40,RIGHT(FIXED(P_15号様式!K40,3,FALSE),4),\"\"))","v":""},{"$f":"IF(P_15号様式!O40<> \"\",TEXT(INT(P_15号様式!O40),\"#,##0\"),\"\")","v":"349"},{"$f":"IF(P_15号様式!O40= \"\",\"\",IF(VALUE(FIXED(P_15号様式!O40,0,TRUE))<>P_15号様式!O40,RIGHT(FIXED(P_15号様式!O40,3,FALSE),4),\"\"))","v":""},{"$f":"IF(P_15号様式!S40<> \"\",TEXT(INT(P_15号様式!S40),\"#,##0\"),\"\")","v":"1,900"},{"$f":"IF(P_15号様式!S40= \"\",\"\",IF(VALUE(FIXED(P_15号様式!S40,0,TRUE))<>P_15号様式!S40,RIGHT(FIXED(P_15号様式!S40,3,FALSE),4),\"\"))","v":""},{"$f":"IF(P_15号様式!W40<> \"\",TEXT(INT(P_15号様式!W40),\"#,##0\"),\"\")","v":"591"},{"$f":"IF(P_15号様式!W40= \"\",\"\",IF(VALUE(FIXED(P_15号様式!W40,0,TRUE))<>P_15号様式!W40,RIGHT(FIXED(P_15号様式!W40,3,FALSE),4),\"\"))","v":""},{"$f":"IF(P_15号様式!AA40<> \"\",TEXT(INT(P_15号様式!AA40),\"#,##0\"),\"\")","v":"923"},{"$f":"IF(P_15号様式!AA40= \"\",\"\",IF(VALUE(FIXED(P_15号様式!AA40,0,TRUE))<>P_15号様式!AA40,RIGHT(FIXED(P_15号様式!AA40,3,FALSE),4),\"\"))","v":""},{"$f":"IF(P_15号様式!AE40<> \"\",TEXT(INT(P_15号様式!AE40),\"#,##0\"),\"\")","v":"125"},{"$f":"IF(P_15号様式!AE40= \"\",\"\",IF(VALUE(FIXED(P_15号様式!AE40,0,TRUE))<>P_15号様式!AE40,RIGHT(FIXED(P_15号様式!AE40,3,FALSE),4),\"\"))","v":""},{"$f":"IF(P_15号様式!AI40<> \"\",TEXT(INT(P_15号様式!AI40),\"#,##0\"),\"\")","v":""},{"$f":"IF(P_15号様式!AI40= \"\",\"\",IF(VALUE(FIXED(P_15号様式!AI40,0,TRUE))<>P_15号様式!AI40,RIGHT(FIXED(P_15号様式!AI40,3,FALSE),4),\"\"))","v":""},{"$f":"IF(P_15号様式!AM40<> \"\",TEXT(INT(P_15号様式!AM40),\"#,##0\"),\"\")","v":""},{"$f":"IF(P_15号様式!AM40= \"\",\"\",IF(VALUE(FIXED(P_15号様式!AM40,0,TRUE))<>P_15号様式!AM40,RIGHT(FIXED(P_15号様式!AM40,3,FALSE),4),\"\"))","v":""},{"$f":"IF(P_15号様式!AQ40<> \"\",TEXT(INT(P_15号様式!AQ40),\"#,##0\"),\"\")","v":""},{"$f":"IF(P_15号様式!AQ40= \"\",\"\",IF(VALUE(FIXED(P_15号様式!AQ40,0,TRUE))<>P_15号様式!AQ40,RIGHT(FIXED(P_15号様式!AQ40,3,FALSE),4),\"\"))","v":""},{"$f":"IF(P_15号様式!AR40<> \"\",TEXT(INT(P_15号様式!AR40),\"#,##0\"),\"\")","v":"4,076"},null,{"$f":"IF(P_15号様式!AR40= \"\",\"\",IF(VALUE(FIXED(P_15号様式!AR40,0,TRUE))<>P_15号様式!AR40,RIGHT(FIXED(P_15号様式!AR40,3,FALSE),4),\"\"))","v":""}]
[{"$f":"IF(P_15号様式!C41=\"\",\"\",P_15号様式!C41)","v":"　南種子町"},null,{"$f":"IF(P_15号様式!G41<> \"\",TEXT(INT(P_15号様式!G41),\"#,##0\"),\"\")","v":"17"},{"$f":"IF(P_15号様式!G41= \"\",\"\",IF(VALUE(FIXED(P_15号様式!G41,0,TRUE))<>P_15号様式!G41,RIGHT(FIXED(P_15号様式!G41,3,FALSE),4),\"\"))","v":""},{"$f":"IF(P_15号様式!K41<> \"\",TEXT(INT(P_15号様式!K41),\"#,##0\"),\"\")","v":"131"},{"$f":"IF(P_15号様式!K41= \"\",\"\",IF(VALUE(FIXED(P_15号様式!K41,0,TRUE))<>P_15号様式!K41,RIGHT(FIXED(P_15号様式!K41,3,FALSE),4),\"\"))","v":""},{"$f":"IF(P_15号様式!O41<> \"\",TEXT(INT(P_15号様式!O41),\"#,##0\"),\"\")","v":"251"},{"$f":"IF(P_15号様式!O41= \"\",\"\",IF(VALUE(FIXED(P_15号様式!O41,0,TRUE))<>P_15号様式!O41,RIGHT(FIXED(P_15号様式!O41,3,FALSE),4),\"\"))","v":""},{"$f":"IF(P_15号様式!S41<> \"\",TEXT(INT(P_15号様式!S41),\"#,##0\"),\"\")","v":"1,251"},{"$f":"IF(P_15号様式!S41= \"\",\"\",IF(VALUE(FIXED(P_15号様式!S41,0,TRUE))<>P_15号様式!S41,RIGHT(FIXED(P_15号様式!S41,3,FALSE),4),\"\"))","v":""},{"$f":"IF(P_15号様式!W41<> \"\",TEXT(INT(P_15号様式!W41),\"#,##0\"),\"\")","v":"544"},{"$f":"IF(P_15号様式!W41= \"\",\"\",IF(VALUE(FIXED(P_15号様式!W41,0,TRUE))<>P_15号様式!W41,RIGHT(FIXED(P_15号様式!W41,3,FALSE),4),\"\"))","v":""},{"$f":"IF(P_15号様式!AA41<> \"\",TEXT(INT(P_15号様式!AA41),\"#,##0\"),\"\")","v":"528"},{"$f":"IF(P_15号様式!AA41= \"\",\"\",IF(VALUE(FIXED(P_15号様式!AA41,0,TRUE))<>P_15号様式!AA41,RIGHT(FIXED(P_15号様式!AA41,3,FALSE),4),\"\"))","v":""},{"$f":"IF(P_15号様式!AE41<> \"\",TEXT(INT(P_15号様式!AE41),\"#,##0\"),\"\")","v":"122"},{"$f":"IF(P_15号様式!AE41= \"\",\"\",IF(VALUE(FIXED(P_15号様式!AE41,0,TRUE))<>P_15号様式!AE41,RIGHT(FIXED(P_15号様式!AE41,3,FALSE),4),\"\"))","v":""},{"$f":"IF(P_15号様式!AI41<> \"\",TEXT(INT(P_15号様式!AI41),\"#,##0\"),\"\")","v":""},{"$f":"IF(P_15号様式!AI41= \"\",\"\",IF(VALUE(FIXED(P_15号様式!AI41,0,TRUE))<>P_15号様式!AI41,RIGHT(FIXED(P_15号様式!AI41,3,FALSE),4),\"\"))","v":""},{"$f":"IF(P_15号様式!AM41<> \"\",TEXT(INT(P_15号様式!AM41),\"#,##0\"),\"\")","v":""},{"$f":"IF(P_15号様式!AM41= \"\",\"\",IF(VALUE(FIXED(P_15号様式!AM41,0,TRUE))<>P_15号様式!AM41,RIGHT(FIXED(P_15号様式!AM41,3,FALSE),4),\"\"))","v":""},{"$f":"IF(P_15号様式!AQ41<> \"\",TEXT(INT(P_15号様式!AQ41),\"#,##0\"),\"\")","v":""},{"$f":"IF(P_15号様式!AQ41= \"\",\"\",IF(VALUE(FIXED(P_15号様式!AQ41,0,TRUE))<>P_15号様式!AQ41,RIGHT(FIXED(P_15号様式!AQ41,3,FALSE),4),\"\"))","v":""},{"$f":"IF(P_15号様式!AR41<> \"\",TEXT(INT(P_15号様式!AR41),\"#,##0\"),\"\")","v":"2,844"},null,{"$f":"IF(P_15号様式!AR41= \"\",\"\",IF(VALUE(FIXED(P_15号様式!AR41,0,TRUE))<>P_15号様式!AR41,RIGHT(FIXED(P_15号様式!AR41,3,FALSE),4),\"\"))","v":""}]
[{"$f":"IF(P_15号様式!C42=\"\",\"\",P_15号様式!C42)","v":"　屋久島町"},null,{"$f":"IF(P_15号様式!G42<> \"\",TEXT(INT(P_15号様式!G42),\"#,##0\"),\"\")","v":"57"},{"$f":"IF(P_15号様式!G42= \"\",\"\",IF(VALUE(FIXED(P_15号様式!G42,0,TRUE))<>P_15号様式!G42,RIGHT(FIXED(P_15号様式!G42,3,FALSE),4),\"\"))","v":""},{"$f":"IF(P_15号様式!K42<> \"\",TEXT(INT(P_15号様式!K42),\"#,##0\"),\"\")","v":"489"},{"$f":"IF(P_15号様式!K42= \"\",\"\",IF(VALUE(FIXED(P_15号様式!K42,0,TRUE))<>P_15号様式!K42,RIGHT(FIXED(P_15号様式!K42,3,FALSE),4),\"\"))","v":""},{"$f":"IF(P_15号様式!O42<> \"\",TEXT(INT(P_15号様式!O42),\"#,##0\"),\"\")","v":"529"},{"$f":"IF(P_15号様式!O42= \"\",\"\",IF(VALUE(FIXED(P_15号様式!O42,0,TRUE))<>P_15号様式!O42,RIGHT(FIXED(P_15号様式!O42,3,FALSE),4),\"\"))","v":""},{"$f":"IF(P_15号様式!S42<> \"\",TEXT(INT(P_15号様式!S42),\"#,##0\"),\"\")","v":"2,565"},{"$f":"IF(P_15号様式!S42= \"\",\"\",IF(VALUE(FIXED(P_15号様式!S42,0,TRUE))<>P_15号様式!S42,RIGHT(FIXED(P_15号様式!S42,3,FALSE),4),\"\"))","v":""},{"$f":"IF(P_15号様式!W42<> \"\",TEXT(INT(P_15号様式!W42),\"#,##0\"),\"\")","v":"1,118"},{"$f":"IF(P_15号様式!W42= \"\",\"\",IF(VALUE(FIXED(P_15号様式!W42,0,TRUE))<>P_15号様式!W42,RIGHT(FIXED(P_15号様式!W42,3,FALSE),4),\"\"))","v":""},{"$f":"IF(P_15号様式!AA42<> \"\",TEXT(INT(P_15号様式!AA42),\"#,##0\"),\"\")","v":"1,238"},{"$f":"IF(P_15号様式!AA42= \"\",\"\",IF(VALUE(FIXED(P_15号様式!AA42,0,TRUE))<>P_15号様式!AA42,RIGHT(FIXED(P_15号様式!AA42,3,FALSE),4),\"\"))","v":""},{"$f":"IF(P_15号様式!AE42<> \"\",TEXT(INT(P_15号様式!AE42),\"#,##0\"),\"\")","v":"181"},{"$f":"IF(P_15号様式!AE42= \"\",\"\",IF(VALUE(FIXED(P_15号様式!AE42,0,TRUE))<>P_15号様式!AE42,RIGHT(FIXED(P_15号様式!AE42,3,FALSE),4),\"\"))","v":""},{"$f":"IF(P_15号様式!AI42<> \"\",TEXT(INT(P_15号様式!AI42),\"#,##0\"),\"\")","v":""},{"$f":"IF(P_15号様式!AI42= \"\",\"\",IF(VALUE(FIXED(P_15号様式!AI42,0,TRUE))<>P_15号様式!AI42,RIGHT(FIXED(P_15号様式!AI42,3,FALSE),4),\"\"))","v":""},{"$f":"IF(P_15号様式!AM42<> \"\",TEXT(INT(P_15号様式!AM42),\"#,##0\"),\"\")","v":""},{"$f":"IF(P_15号様式!AM42= \"\",\"\",IF(VALUE(FIXED(P_15号様式!AM42,0,TRUE))<>P_15号様式!AM42,RIGHT(FIXED(P_15号様式!AM42,3,FALSE),4),\"\"))","v":""},{"$f":"IF(P_15号様式!AQ42<> \"\",TEXT(INT(P_15号様式!AQ42),\"#,##0\"),\"\")","v":""},{"$f":"IF(P_15号様式!AQ42= \"\",\"\",IF(VALUE(FIXED(P_15号様式!AQ42,0,TRUE))<>P_15号様式!AQ42,RIGHT(FIXED(P_15号様式!AQ42,3,FALSE),4),\"\"))","v":""},{"$f":"IF(P_15号様式!AR42<> \"\",TEXT(INT(P_15号様式!AR42),\"#,##0\"),\"\")","v":"6,177"},null,{"$f":"IF(P_15号様式!AR42= \"\",\"\",IF(VALUE(FIXED(P_15号様式!AR42,0,TRUE))<>P_15号様式!AR42,RIGHT(FIXED(P_15号様式!AR42,3,FALSE),4),\"\"))","v":""}]
[{"$f":"IF(P_15号様式!C43=\"\",\"\",P_15号様式!C43)","v":"＊（熊毛郡）計"},null,{"$f":"IF(P_15号様式!G43<> \"\",TEXT(INT(P_15号様式!G43),\"#,##0\"),\"\")","v":"103"},{"$f":"IF(P_15号様式!G43= \"\",\"\",IF(VALUE(FIXED(P_15号様式!G43,0,TRUE))<>P_15号様式!G43,RIGHT(FIXED(P_15号様式!G43,3,FALSE),4),\"\"))","v":""},{"$f":"IF(P_15号様式!K43<> \"\",TEXT(INT(P_15号様式!K43),\"#,##0\"),\"\")","v":"779"},{"$f":"IF(P_15号様式!K43= \"\",\"\",IF(VALUE(FIXED(P_15号様式!K43,0,TRUE))<>P_15号様式!K43,RIGHT(FIXED(P_15号様式!K43,3,FALSE),4),\"\"))","v":""},{"$f":"IF(P_15号様式!O43<> \"\",TEXT(INT(P_15号様式!O43),\"#,##0\"),\"\")","v":"1,129"},{"$f":"IF(P_15号様式!O43= \"\",\"\",IF(VALUE(FIXED(P_15号様式!O43,0,TRUE))<>P_15号様式!O43,RIGHT(FIXED(P_15号様式!O43,3,FALSE),4),\"\"))","v":""},{"$f":"IF(P_15号様式!S43<> \"\",TEXT(INT(P_15号様式!S43),\"#,##0\"),\"\")","v":"5,716"},{"$f":"IF(P_15号様式!S43= \"\",\"\",IF(VALUE(FIXED(P_15号様式!S43,0,TRUE))<>P_15号様式!S43,RIGHT(FIXED(P_15号様式!S43,3,FALSE),4),\"\"))","v":""},{"$f":"IF(P_15号様式!W43<> \"\",TEXT(INT(P_15号様式!W43),\"#,##0\"),\"\")","v":"2,253"},{"$f":"IF(P_15号様式!W43= \"\",\"\",IF(VALUE(FIXED(P_15号様式!W43,0,TRUE))<>P_15号様式!W43,RIGHT(FIXED(P_15号様式!W43,3,FALSE),4),\"\"))","v":""},{"$f":"IF(P_15号様式!AA43<> \"\",TEXT(INT(P_15号様式!AA43),\"#,##0\"),\"\")","v":"2,689"},{"$f":"IF(P_15号様式!AA43= \"\",\"\",IF(VALUE(FIXED(P_15号様式!AA43,0,TRUE))<>P_15号様式!AA43,RIGHT(FIXED(P_15号様式!AA43,3,FALSE),4),\"\"))","v":""},{"$f":"IF(P_15号様式!AE43<> \"\",TEXT(INT(P_15号様式!AE43),\"#,##0\"),\"\")","v":"428"},{"$f":"IF(P_15号様式!AE43= \"\",\"\",IF(VALUE(FIXED(P_15号様式!AE43,0,TRUE))<>P_15号様式!AE43,RIGHT(FIXED(P_15号様式!AE43,3,FALSE),4),\"\"))","v":""},{"$f":"IF(P_15号様式!AI43<> \"\",TEXT(INT(P_15号様式!AI43),\"#,##0\"),\"\")","v":""},{"$f":"IF(P_15号様式!AI43= \"\",\"\",IF(VALUE(FIXED(P_15号様式!AI43,0,TRUE))<>P_15号様式!AI43,RIGHT(FIXED(P_15号様式!AI43,3,FALSE),4),\"\"))","v":""},{"$f":"IF(P_15号様式!AM43<> \"\",TEXT(INT(P_15号様式!AM43),\"#,##0\"),\"\")","v":""},{"$f":"IF(P_15号様式!AM43= \"\",\"\",IF(VALUE(FIXED(P_15号様式!AM43,0,TRUE))<>P_15号様式!AM43,RIGHT(FIXED(P_15号様式!AM43,3,FALSE),4),\"\"))","v":""},{"$f":"IF(P_15号様式!AQ43<> \"\",TEXT(INT(P_15号様式!AQ43),\"#,##0\"),\"\")","v":""},{"$f":"IF(P_15号様式!AQ43= \"\",\"\",IF(VALUE(FIXED(P_15号様式!AQ43,0,TRUE))<>P_15号様式!AQ43,RIGHT(FIXED(P_15号様式!AQ43,3,FALSE),4),\"\"))","v":""},{"$f":"IF(P_15号様式!AR43<> \"\",TEXT(INT(P_15号様式!AR43),\"#,##0\"),\"\")","v":"13,097"},null,{"$f":"IF(P_15号様式!AR43= \"\",\"\",IF(VALUE(FIXED(P_15号様式!AR43,0,TRUE))<>P_15号様式!AR43,RIGHT(FIXED(P_15号様式!AR43,3,FALSE),4),\"\"))","v":""}]
[{"$f":"IF(P_15号様式!C44=\"\",\"\",P_15号様式!C44)","v":"　大和村"},null,{"$f":"IF(P_15号様式!G44<> \"\",TEXT(INT(P_15号様式!G44),\"#,##0\"),\"\")","v":"5"},{"$f":"IF(P_15号様式!G44= \"\",\"\",IF(VALUE(FIXED(P_15号様式!G44,0,TRUE))<>P_15号様式!G44,RIGHT(FIXED(P_15号様式!G44,3,FALSE),4),\"\"))","v":""},{"$f":"IF(P_15号様式!K44<> \"\",TEXT(INT(P_15号様式!K44),\"#,##0\"),\"\")","v":"52"},{"$f":"IF(P_15号様式!K44= \"\",\"\",IF(VALUE(FIXED(P_15号様式!K44,0,TRUE))<>P_15号様式!K44,RIGHT(FIXED(P_15号様式!K44,3,FALSE),4),\"\"))","v":""},{"$f":"IF(P_15号様式!O44<> \"\",TEXT(INT(P_15号様式!O44),\"#,##0\"),\"\")","v":"47"},{"$f":"IF(P_15号様式!O44= \"\",\"\",IF(VALUE(FIXED(P_15号様式!O44,0,TRUE))<>P_15号様式!O44,RIGHT(FIXED(P_15号様式!O44,3,FALSE),4),\"\"))","v":""},{"$f":"IF(P_15号様式!S44<> \"\",TEXT(INT(P_15号様式!S44),\"#,##0\"),\"\")","v":"488"},{"$f":"IF(P_15号様式!S44= \"\",\"\",IF(VALUE(FIXED(P_15号様式!S44,0,TRUE))<>P_15号様式!S44,RIGHT(FIXED(P_15号様式!S44,3,FALSE),4),\"\"))","v":""},{"$f":"IF(P_15号様式!W44<> \"\",TEXT(INT(P_15号様式!W44),\"#,##0\"),\"\")","v":"169"},{"$f":"IF(P_15号様式!W44= \"\",\"\",IF(VALUE(FIXED(P_15号様式!W44,0,TRUE))<>P_15号様式!W44,RIGHT(FIXED(P_15号様式!W44,3,FALSE),4),\"\"))","v":""},{"$f":"IF(P_15号様式!AA44<> \"\",TEXT(INT(P_15号様式!AA44),\"#,##0\"),\"\")","v":"137"},{"$f":"IF(P_15号様式!AA44= \"\",\"\",IF(VALUE(FIXED(P_15号様式!AA44,0,TRUE))<>P_15号様式!AA44,RIGHT(FIXED(P_15号様式!AA44,3,FALSE),4),\"\"))","v":""},{"$f":"IF(P_15号様式!AE44<> \"\",TEXT(INT(P_15号様式!AE44),\"#,##0\"),\"\")","v":"11"},{"$f":"IF(P_15号様式!AE44= \"\",\"\",IF(VALUE(FIXED(P_15号様式!AE44,0,TRUE))<>P_15号様式!AE44,RIGHT(FIXED(P_15号様式!AE44,3,FALSE),4),\"\"))","v":""},{"$f":"IF(P_15号様式!AI44<> \"\",TEXT(INT(P_15号様式!AI44),\"#,##0\"),\"\")","v":""},{"$f":"IF(P_15号様式!AI44= \"\",\"\",IF(VALUE(FIXED(P_15号様式!AI44,0,TRUE))<>P_15号様式!AI44,RIGHT(FIXED(P_15号様式!AI44,3,FALSE),4),\"\"))","v":""},{"$f":"IF(P_15号様式!AM44<> \"\",TEXT(INT(P_15号様式!AM44),\"#,##0\"),\"\")","v":""},{"$f":"IF(P_15号様式!AM44= \"\",\"\",IF(VALUE(FIXED(P_15号様式!AM44,0,TRUE))<>P_15号様式!AM44,RIGHT(FIXED(P_15号様式!AM44,3,FALSE),4),\"\"))","v":""},{"$f":"IF(P_15号様式!AQ44<> \"\",TEXT(INT(P_15号様式!AQ44),\"#,##0\"),\"\")","v":""},{"$f":"IF(P_15号様式!AQ44= \"\",\"\",IF(VALUE(FIXED(P_15号様式!AQ44,0,TRUE))<>P_15号様式!AQ44,RIGHT(FIXED(P_15号様式!AQ44,3,FALSE),4),\"\"))","v":""},{"$f":"IF(P_15号様式!AR44<> \"\",TEXT(INT(P_15号様式!AR44),\"#,##0\"),\"\")","v":"909"},null,{"$f":"IF(P_15号様式!AR44= \"\",\"\",IF(VALUE(FIXED(P_15号様式!AR44,0,TRUE))<>P_15号様式!AR44,RIGHT(FIXED(P_15号様式!AR44,3,FALSE),4),\"\"))","v":""}]
[]
["市　計",null,{"$f":"IF(P_15号様式!AS2<> \"\",TEXT(INT(P_15号様式!AS2),\"#,##0\"),\"\")","v":"2,962"},{"$f":"IF(P_15号様式!AS2= \"\",\"\",IF(VALUE(FIXED(P_15号様式!AS2,0,TRUE))<>P_15号様式!AS2,RIGHT(FIXED(P_15号様式!AS2,3,FALSE),4),\"\"))","v":""},{"$f":"IF(P_15号様式!AV2<> \"\",TEXT(INT(P_15号様式!AV2),\"#,##0\"),\"\")","v":"13,824"},{"$f":"IF(P_15号様式!AV2= \"\",\"\",IF(VALUE(FIXED(P_15号様式!AV2,0,TRUE))<>P_15号様式!AV2,RIGHT(FIXED(P_15号様式!AV2,3,FALSE),4),\"\"))","v":""},{"$f":"IF(P_15号様式!AY2<> \"\",TEXT(INT(P_15号様式!AY2),\"#,##0\"),\"\")","v":"29,000"},{"$f":"IF(P_15号様式!AY2= \"\",\"\",IF(VALUE(FIXED(P_15号様式!AY2,0,TRUE))<>P_15号様式!AY2,RIGHT(FIXED(P_15号様式!AY2,3,FALSE),4),\"\"))","v":""},{"$f":"IF(P_15号様式!BB2<> \"\",TEXT(INT(P_15号様式!BB2),\"#,##0\"),\"\")","v":"106,799"},{"$f":"IF(P_15号様式!BB2= \"\",\"\",IF(VALUE(FIXED(P_15号様式!BB2,0,TRUE))<>P_15号様式!BB2,RIGHT(FIXED(P_15号様式!BB2,3,FALSE),4),\"\"))","v":""},{"$f":"IF(P_15号様式!BE2<> \"\",TEXT(INT(P_15号様式!BE2),\"#,##0\"),\"\")","v":"71,369"},{"$f":"IF(P_15号様式!BE2= \"\",\"\",IF(VALUE(FIXED(P_15号様式!BE2,0,TRUE))<>P_15号様式!BE2,RIGHT(FIXED(P_15号様式!BE2,3,FALSE),4),\"\"))","v":""},{"$f":"IF(P_15号様式!BH2<> \"\",TEXT(INT(P_15号様式!BH2),\"#,##0\"),\"\")","v":"98,435"},{"$f":"IF(P_15号様式!BH2= \"\",\"\",IF(VALUE(FIXED(P_15号様式!BH2,0,TRUE))<>P_15号様式!BH2,RIGHT(FIXED(P_15号様式!BH2,3,FALSE),4),\"\"))","v":""},{"$f":"IF(P_15号様式!BK2<> \"\",TEXT(INT(P_15号様式!BK2),\"#,##0\"),\"\")","v":"8,017"},{"$f":"IF(P_15号様式!BK2= \"\",\"\",IF(VALUE(FIXED(P_15号様式!BK2,0,TRUE))<>P_15号様式!BK2,RIGHT(FIXED(P_15号様式!BK2,3,FALSE),4),\"\"))","v":""},{"$f":"IF(P_15号様式!BN2<> \"\",TEXT(INT(P_15号様式!BN2),\"#,##0\"),\"\")","v":""},{"$f":"IF(P_15号様式!BN2= \"\",\"\",IF(VALUE(FIXED(P_15号様式!BN2,0,TRUE))<>P_15号様式!BN2,RIGHT(FIXED(P_15号様式!BN2,3,FALSE),4),\"\"))","v":""},{"$f":"IF(P_15号様式!BQ2<> \"\",TEXT(INT(P_15号様式!BQ2),\"#,##0\"),\"\")","v":""},{"$f":"IF(P_15号様式!BQ2= \"\",\"\",IF(VALUE(FIXED(P_15号様式!BQ2,0,TRUE))<>P_15号様式!BQ2,RIGHT(FIXED(P_15号様式!BQ2,3,FALSE),4),\"\"))","v":""},{"$f":"IF(P_15号様式!BT2<> \"\",TEXT(INT(P_15号様式!BT2),\"#,##0\"),\"\")","v":""},{"$f":"IF(P_15号様式!BT2= \"\",\"\",IF(VALUE(FIXED(P_15号様式!BT2,0,TRUE))<>P_15号様式!BT2,RIGHT(FIXED(P_15号様式!BT2,3,FALSE),4),\"\"))","v":""},{"$f":"IF(P_15号様式!BW2<> \"\",TEXT(INT(P_15号様式!BW2),\"#,##0\"),\"\")","v":"330,406"},null,{"$f":"IF(P_15号様式!BW2= \"\",\"\",IF(VALUE(FIXED(P_15号様式!BW2,0,TRUE))<>P_15号様式!BW2,RIGHT(FIXED(P_15号様式!BW2,3,FALSE),4),\"\"))","v":""}]
["町村計",null,{"$f":"IF(P_15号様式!AT2<> \"\",TEXT(INT(P_15号様式!AT2),\"#,##0\"),\"\")","v":"660"},{"$f":"IF(P_15号様式!AT2= \"\",\"\",IF(VALUE(FIXED(P_15号様式!AT2,0,TRUE))<>P_15号様式!AT2,RIGHT(FIXED(P_15号様式!AT2,3,FALSE),4),\"\"))","v":""},{"$f":"IF(P_15号様式!AW2<> \"\",TEXT(INT(P_15号様式!AW2),\"#,##0\"),\"\")","v":"3,069"},{"$f":"IF(P_15号様式!AW2= \"\",\"\",IF(VALUE(FIXED(P_15号様式!AW2,0,TRUE))<>P_15号様式!AW2,RIGHT(FIXED(P_15号様式!AW2,3,FALSE),4),\"\"))","v":""},{"$f":"IF(P_15号様式!AZ2<> \"\",TEXT(INT(P_15号様式!AZ2),\"#,##0\"),\"\")","v":"6,596"},{"$f":"IF(P_15号様式!AZ2= \"\",\"\",IF(VALUE(FIXED(P_15号様式!AZ2,0,TRUE))<>P_15号様式!AZ2,RIGHT(FIXED(P_15号様式!AZ2,3,FALSE),4),\"\"))","v":""},{"$f":"IF(P_15号様式!BC2<> \"\",TEXT(INT(P_15号様式!BC2),\"#,##0\"),\"\")","v":"33,944"},{"$f":"IF(P_15号様式!BC2= \"\",\"\",IF(VALUE(FIXED(P_15号様式!BC2,0,TRUE))<>P_15号様式!BC2,RIGHT(FIXED(P_15号様式!BC2,3,FALSE),4),\"\"))","v":""},{"$f":"IF(P_15号様式!BF2<> \"\",TEXT(INT(P_15号様式!BF2),\"#,##0\"),\"\")","v":"20,901"},{"$f":"IF(P_15号様式!BF2= \"\",\"\",IF(VALUE(FIXED(P_15号様式!BF2,0,TRUE))<>P_15号様式!BF2,RIGHT(FIXED(P_15号様式!BF2,3,FALSE),4),\"\"))","v":""},{"$f":"IF(P_15号様式!BI2<> \"\",TEXT(INT(P_15号様式!BI2),\"#,##0\"),\"\")","v":"23,051"},{"$f":"IF(P_15号様式!BI2= \"\",\"\",IF(VALUE(FIXED(P_15号様式!BI2,0,TRUE))<>P_15号様式!BI2,RIGHT(FIXED(P_15号様式!BI2,3,FALSE),4),\"\"))","v":""},{"$f":"IF(P_15号様式!BL2<> \"\",TEXT(INT(P_15号様式!BL2),\"#,##0\"),\"\")","v":"2,233"},{"$f":"IF(P_15号様式!BL2= \"\",\"\",IF(VALUE(FIXED(P_15号様式!BL2,0,TRUE))<>P_15号様式!BL2,RIGHT(FIXED(P_15号様式!BL2,3,FALSE),4),\"\"))","v":""},{"$f":"IF(P_15号様式!BO2<> \"\",TEXT(INT(P_15号様式!BO2),\"#,##0\"),\"\")","v":""},{"$f":"IF(P_15号様式!BO2= \"\",\"\",IF(VALUE(FIXED(P_15号様式!BO2,0,TRUE))<>P_15号様式!BO2,RIGHT(FIXED(P_15号様式!BO2,3,FALSE),4),\"\"))","v":""},{"$f":"IF(P_15号様式!BR2<> \"\",TEXT(INT(P_15号様式!BR2),\"#,##0\"),\"\")","v":""},{"$f":"IF(P_15号様式!BR2= \"\",\"\",IF(VALUE(FIXED(P_15号様式!BR2,0,TRUE))<>P_15号様式!BR2,RIGHT(FIXED(P_15号様式!BR2,3,FALSE),4),\"\"))","v":""},{"$f":"IF(P_15号様式!BU2<> \"\",TEXT(INT(P_15号様式!BU2),\"#,##0\"),\"\")","v":""},{"$f":"IF(P_15号様式!BU2= \"\",\"\",IF(VALUE(FIXED(P_15号様式!BU2,0,TRUE))<>P_15号様式!BU2,RIGHT(FIXED(P_15号様式!BU2,3,FALSE),4),\"\"))","v":""},{"$f":"IF(P_15号様式!BX2<> \"\",TEXT(INT(P_15号様式!BX2),\"#,##0\"),\"\")","v":"90,454"},null,{"$f":"IF(P_15号様式!BX2= \"\",\"\",IF(VALUE(FIXED(P_15号様式!BX2,0,TRUE))<>P_15号様式!BX2,RIGHT(FIXED(P_15号様式!BX2,3,FALSE),4),\"\"))","v":""}]
["県計",null,{"$f":"IF(P_15号様式!AU2<> \"\",TEXT(INT(P_15号様式!AU2),\"#,##0\"),\"\")","v":"3,622"},{"$f":"IF(P_15号様式!AU2= \"\",\"\",IF(VALUE(FIXED(P_15号様式!AU2,0,TRUE))<>P_15号様式!AU2,RIGHT(FIXED(P_15号様式!AU2,3,FALSE),4),\"\"))","v":""},{"$f":"IF(P_15号様式!AX2<> \"\",TEXT(INT(P_15号様式!AX2),\"#,##0\"),\"\")","v":"16,893"},{"$f":"IF(P_15号様式!AX2= \"\",\"\",IF(VALUE(FIXED(P_15号様式!AX2,0,TRUE))<>P_15号様式!AX2,RIGHT(FIXED(P_15号様式!AX2,3,FALSE),4),\"\"))","v":""},{"$f":"IF(P_15号様式!BA2<> \"\",TEXT(INT(P_15号様式!BA2),\"#,##0\"),\"\")","v":"35,596"},{"$f":"IF(P_15号様式!BA2= \"\",\"\",IF(VALUE(FIXED(P_15号様式!BA2,0,TRUE))<>P_15号様式!BA2,RIGHT(FIXED(P_15号様式!BA2,3,FALSE),4),\"\"))","v":""},{"$f":"IF(P_15号様式!BD2<> \"\",TEXT(INT(P_15号様式!BD2),\"#,##0\"),\"\")","v":"140,743"},{"$f":"IF(P_15号様式!BD2= \"\",\"\",IF(VALUE(FIXED(P_15号様式!BD2,0,TRUE))<>P_15号様式!BD2,RIGHT(FIXED(P_15号様式!BD2,3,FALSE),4),\"\"))","v":""},{"$f":"IF(P_15号様式!BG2<> \"\",TEXT(INT(P_15号様式!BG2),\"#,##0\"),\"\")","v":"92,270"},{"$f":"IF(P_15号様式!BG2= \"\",\"\",IF(VALUE(FIXED(P_15号様式!BG2,0,TRUE))<>P_15号様式!BG2,RIGHT(FIXED(P_15号様式!BG2,3,FALSE),4),\"\"))","v":""},{"$f":"IF(P_15号様式!BJ2<> \"\",TEXT(INT(P_15号様式!BJ2),\"#,##0\"),\"\")","v":"121,486"},{"$f":"IF(P_15号様式!BJ2= \"\",\"\",IF(VALUE(FIXED(P_15号様式!BJ2,0,TRUE))<>P_15号様式!BJ2,RIGHT(FIXED(P_15号様式!BJ2,3,FALSE),4),\"\"))","v":""},{"$f":"IF(P_15号様式!BM2<> \"\",TEXT(INT(P_15号様式!BM2),\"#,##0\"),\"\")","v":"10,250"},{"$f":"IF(P_15号様式!BM2= \"\",\"\",IF(VALUE(FIXED(P_15号様式!BM2,0,TRUE))<>P_15号様式!BM2,RIGHT(FIXED(P_15号様式!BM2,3,FALSE),4),\"\"))","v":""},{"$f":"IF(P_15号様式!BP2<> \"\",TEXT(INT(P_15号様式!BP2),\"#,##0\"),\"\")","v":""},{"$f":"IF(P_15号様式!BP2= \"\",\"\",IF(VALUE(FIXED(P_15号様式!BP2,0,TRUE))<>P_15号様式!BP2,RIGHT(FIXED(P_15号様式!BP2,3,FALSE),4),\"\"))","v":""},{"$f":"IF(P_15号様式!BS2<> \"\",TEXT(INT(P_15号様式!BS2),\"#,##0\"),\"\")","v":""},{"$f":"IF(P_15号様式!BS2= \"\",\"\",IF(VALUE(FIXED(P_15号様式!BS2,0,TRUE))<>P_15号様式!BS2,RIGHT(FIXED(P_15号様式!BS2,3,FALSE),4),\"\"))","v":""},{"$f":"IF(P_15号様式!BV2<> \"\",TEXT(INT(P_15号様式!BV2),\"#,##0\"),\"\")","v":""},{"$f":"IF(P_15号様式!BV2= \"\",\"\",IF(VALUE(FIXED(P_15号様式!BV2,0,TRUE))<>P_15号様式!BV2,RIGHT(FIXED(P_15号様式!BV2,3,FALSE),4),\"\"))","v":""},{"$f":"IF(P_15号様式!BY2<> \"\",TEXT(INT(P_15号様式!BY2),\"#,##0\"),\"\")","v":"420,860"},null,{"$f":"IF(P_15号様式!BY2= \"\",\"\",IF(VALUE(FIXED(P_15号様式!BY2,0,TRUE))<>P_15号様式!BY2,RIGHT(FIXED(P_15号様式!BY2,3,FALSE),4),\"\"))","v":""}]
[]
["第15号  様式",null,null,null,null,null,null,null,"開　票　速　報　",null,null,null,null,null,null,null,null,null,null,null,null,null,{"$f":"IF(P_15号様式!A45=\"\",\" ページ\", P_15号様式!A45 & \"ページ\")","v":"2ページ"}]
[]
[null,{"$f":"IF(パラメタシート!B1=\"\",\"\",パラメタシート!B1)","v":"2020-07-12"},null,null,null,null,null,null,null,null,null,null,{"$f":"IF(P_15号様式!CA45=\"0\",\"即日中間速報\",\"翌日中間速報\")","v":"即日中間速報"},null,{"$f":"IF(P_15号様式!CB45=\"\",\"第　　回\",\"第　\" & P_15号様式!CB45 & \"　回\")","v":"第　4　回"},{"$f":"IF(P_15号様式!CC45=\"\",\"     時      分　現在\",P_15号様式!CC45)","v":"22:30:00"},null,null,null,"即日確定開票率",null,{"$f":"IF(P_15号様式!CG45=\"\",\"\",P_15号様式!CG45)","v":63.9553874813598},null,"％"]
[null,{"$f":"IF(P_15号様式!BZ45=\"\",\"\",P_15号様式!BZ45)","v":"鹿児島県知事選挙"},null,null,null,null,null,null,null,null,null,null,"　　結了報告",null,null,{"$f":"IF(P_15号様式!CD45=\"\",\"     時      分　結了\",P_15号様式!CD45)","v":"     時      分　結了"},null,null,null,"確定全体開票率",null,{"$f":"IF(P_15号様式!CH45=\"\",\"\",P_15号様式!CH45)","v":63.9553874813598},null,"％"]
[null,null,null,null,null,null,null,null,null,null,null,null,null,null,null,null,null,null,null,null,null,null,"鹿 児 島 県"]
["市 区 町 村 名",null,{"$f":"IF(P_15号様式!D45=\"\",\"\",VALUE(P_15号様式!D45))","v":1},null,{"$f":"IF(P_15号様式!H45=\"\",\"\",VALUE(P_15号様式!H45))","v":2},null,{"$f":"IF(P_15号様式!L45=\"\",\"\",VALUE(P_15号様式!L45))","v":3},null,{"$f":"IF(P_15号様式!P45=\"\",\"\",VALUE(P_15号様式!P45))","v":4},null,{"$f":"IF(P_15号様式!T45=\"\",\"\",VALUE(P_15号様式!T45))","v":5},null,{"$f":"IF(P_15号様式!X45=\"\",\"\",VALUE(P_15号様式!X45))","v":6},null,{"$f":"IF(P_15号様式!AB45=\"\",\"\",VALUE(P_15号様式!AB45))","v":7},null,{"$f":"IF(P_15号様式!AF45=\"\",\"\",VALUE(P_15号様式!AF45))","v":""},null,{"$f":"IF(P_15号様式!AJ45=\"\",\"\",VALUE(P_15号様式!AJ45))","v":""},null,{"$f":"IF(P_15号様式!AN45=\"\",\"\",VALUE(P_15号様式!AN45))","v":""},null,"小 計"]
[null,null,{"$f":"IF(P_15号様式!E45=\"\",\"\",P_15号様式!E45)","v":"無所属"},null,{"$f":"IF(P_15号様式!I45=\"\",\"\",P_15号様式!I45)","v":"無所属"},null,{"$f":"IF(P_15号様式!M45=\"\",\"\",P_15号様式!M45)","v":"無所属"},null,{"$f":"IF(P_15号様式!Q45=\"\",\"\",P_15号様式!Q45)","v":"無所属"},null,{"$f":"IF(P_15号様式!U45=\"\",\"\",P_15号様式!U45)","v":"無所属"},null,{"$f":"IF(P_15号様式!Y45=\"\",\"\",P_15号様式!Y45)","v":"無所属"},null,{"$f":"IF(P_15号様式!AC45=\"\",\"\",P_15号様式!AC45)","v":"無所属"},null,{"$f":"IF(P_15号様式!AG45=\"\",\"\",P_15号様式!AG45)","v":""},null,{"$f":"IF(P_15号様式!AK45=\"\",\"\",P_15号様式!AK45)","v":""},null,{"$f":"IF(P_15号様式!AO45=\"\",\"\",P_15号様式!AO45)","v":""}]
[]
[null,null,{"$f":"IF(P_15号様式!F45=\"\",\"\",P_15号様式!F45)","v":"武田　信弘"},null,{"$f":"IF(P_15号様式!J45=\"\",\"\",P_15号様式!J45)","v":"横山　ふみ子"},null,{"$f":"IF(P_15号様式!N45=\"\",\"\",P_15号様式!N45)","v":"青木　りゅうこ"},null,{"$f":"IF(P_15号様式!R45=\"\",\"\",P_15号様式!R45)","v":"みたぞの　さとし"},null,{"$f":"IF(P_15号様式!V45=\"\",\"\",P_15号様式!V45)","v":"いとう　祐一郎"},null,{"$f":"IF(P_15号様式!Z45=\"\",\"\",P_15号様式!Z45)","v":"しおた　康一"},null,{"$f":"IF(P_15号様式!AD45=\"\",\"\",P_15号様式!AD45)","v":"有川　ひろゆき"},null,{"$f":"IF(P_15号様式!AH45=\"\",\"\",P_15号様式!AH45)","v":""},null,{"$f":"IF(P_15号様式!AL45=\"\",\"\",P_15号様式!AL45)","v":""},null,{"$f":"IF(P_15号様式!AP45=\"\",\"\",P_15号様式!AP45)","v":""}]
[]
[{"$f":"IF(P_15号様式!C45=\"\",\"\",P_15号様式!C45)","v":"　宇検村"},null,{"$f":"IF(P_15号様式!G45<> \"\",TEXT(INT(P_15号様式!G45),\"#,##0\"),\"\")","v":"4"},{"$f":"IF(P_15号様式!G45= \"\",\"\",IF(VALUE(FIXED(P_15号様式!G45,0,TRUE))<>P_15号様式!G45,RIGHT(FIXED(P_15号様式!G45,3,FALSE),4),\"\"))","v":""},{"$f":"IF(P_15号様式!K45<> \"\",TEXT(INT(P_15号様式!K45),\"#,##0\"),\"\")","v":"34"},{"$f":"IF(P_15号様式!K45= \"\",\"\",IF(VALUE(FIXED(P_15号様式!K45,0,TRUE))<>P_15号様式!K45,RIGHT(FIXED(P_15号様式!K45,3,FALSE),4),\"\"))","v":""},{"$f":"IF(P_15号様式!O45<> \"\",TEXT(INT(P_15号様式!O45),\"#,##0\"),\"\")","v":"83"},{"$f":"IF(P_15号様式!O45= \"\",\"\",IF(VALUE(FIXED(P_15号様式!O45,0,TRUE))<>P_15号様式!O45,RIGHT(FIXED(P_15号様式!O45,3,FALSE),4),\"\"))","v":""},{"$f":"IF(P_15号様式!S45<> \"\",TEXT(INT(P_15号様式!S45),\"#,##0\"),\"\")","v":"586"},{"$f":"IF(P_15号様式!S45= \"\",\"\",IF(VALUE(FIXED(P_15号様式!S45,0,TRUE))<>P_15号様式!S45,RIGHT(FIXED(P_15号様式!S45,3,FALSE),4),\"\"))","v":""},{"$f":"IF(P_15号様式!W45<> \"\",TEXT(INT(P_15号様式!W45),\"#,##0\"),\"\")","v":"270"},{"$f":"IF(P_15号様式!W45= \"\",\"\",IF(VALUE(FIXED(P_15号様式!W45,0,TRUE))<>P_15号様式!W45,RIGHT(FIXED(P_15号様式!W45,3,FALSE),4),\"\"))","v":""},{"$f":"IF(P_15号様式!AA45<> \"\",TEXT(INT(P_15号様式!AA45),\"#,##0\"),\"\")","v":"162"},{"$f":"IF(P_15号様式!AA45= \"\",\"\",IF(VALUE(FIXED(P_15号様式!AA45,0,TRUE))<>P_15号様式!AA45,RIGHT(FIXED(P_15号様式!AA45,3,FALSE),4),\"\"))","v":""},{"$f":"IF(P_15号様式!AE45<> \"\",TEXT(INT(P_15号様式!AE45),\"#,##0\"),\"\")","v":"19"},{"$f":"IF(P_15号様式!AE45= \"\",\"\",IF(VALUE(FIXED(P_15号様式!AE45,0,TRUE))<>P_15号様式!AE45,RIGHT(FIXED(P_15号様式!AE45,3,FALSE),4),\"\"))","v":""},{"$f":"IF(P_15号様式!AI45<> \"\",TEXT(INT(P_15号様式!AI45),\"#,##0\"),\"\")","v":""},{"$f":"IF(P_15号様式!AI45= \"\",\"\",IF(VALUE(FIXED(P_15号様式!AI45,0,TRUE))<>P_15号様式!AI45,RIGHT(FIXED(P_15号様式!AI45,3,FALSE),4),\"\"))","v":""},{"$f":"IF(P_15号様式!AM45<> \"\",TEXT(INT(P_15号様式!AM45),\"#,##0\"),\"\")","v":""},{"$f":"IF(P_15号様式!AM45= \"\",\"\",IF(VALUE(FIXED(P_15号様式!AM45,0,TRUE))<>P_15号様式!AM45,RIGHT(FIXED(P_15号様式!AM45,3,FALSE),4),\"\"))","v":""},{"$f":"IF(P_15号様式!AQ45<> \"\",TEXT(INT(P_15号様式!AQ45),\"#,##0\"),\"\")","v":""},{"$f":"IF(P_15号様式!AQ45= \"\",\"\",IF(VALUE(FIXED(P_15号様式!AQ45,0,TRUE))<>P_15号様式!AQ45,RIGHT(FIXED(P_15号様式!AQ45,3,FALSE),4),\"\"))","v":""},{"$f":"IF(P_15号様式!AR45<> \"\",TEXT(INT(P_15号様式!AR45),\"#,##0\"),\"\")","v":"1,158"},null,{"$f":"IF(P_15号様式!AR45= \"\",\"\",IF(VALUE(FIXED(P_15号様式!AR45,0,TRUE))<>P_15号様式!AR45,RIGHT(FIXED(P_15号様式!AR45,3,FALSE),4),\"\"))","v":""}]
[{"$f":"IF(P_15号様式!C46=\"\",\"\",P_15号様式!C46)","v":"　瀬戸内町"},null,{"$f":"IF(P_15号様式!G46<> \"\",TEXT(INT(P_15号様式!G46),\"#,##0\"),\"\")","v":"23"},{"$f":"IF(P_15号様式!G46= \"\",\"\",IF(VALUE(FIXED(P_15号様式!G46,0,TRUE))<>P_15号様式!G46,RIGHT(FIXED(P_15号様式!G46,3,FALSE),4),\"\"))","v":""},{"$f":"IF(P_15号様式!K46<> \"\",TEXT(INT(P_15号様式!K46),\"#,##0\"),\"\")","v":"231"},{"$f":"IF(P_15号様式!K46= \"\",\"\",IF(VALUE(FIXED(P_15号様式!K46,0,TRUE))<>P_15号様式!K46,RIGHT(FIXED(P_15号様式!K46,3,FALSE),4),\"\"))","v":""},{"$f":"IF(P_15号様式!O46<> \"\",TEXT(INT(P_15号様式!O46),\"#,##0\"),\"\")","v":"360"},{"$f":"IF(P_15号様式!O46= \"\",\"\",IF(VALUE(FIXED(P_15号様式!O46,0,TRUE))<>P_15号様式!O46,RIGHT(FIXED(P_15号様式!O46,3,FALSE),4),\"\"))","v":""},{"$f":"IF(P_15号様式!S46<> \"\",TEXT(INT(P_15号様式!S46),\"#,##0\"),\"\")","v":"1,622"},{"$f":"IF(P_15号様式!S46= \"\",\"\",IF(VALUE(FIXED(P_15号様式!S46,0,TRUE))<>P_15号様式!S46,RIGHT(FIXED(P_15号様式!S46,3,FALSE),4),\"\"))","v":""},{"$f":"IF(P_15号様式!W46<> \"\",TEXT(INT(P_15号様式!W46),\"#,##0\"),\"\")","v":"1,253"},{"$f":"IF(P_15号様式!W46= \"\",\"\",IF(VALUE(FIXED(P_15号様式!W46,0,TRUE))<>P_15号様式!W46,RIGHT(FIXED(P_15号様式!W46,3,FALSE),4),\"\"))","v":""},{"$f":"IF(P_15号様式!AA46<> \"\",TEXT(INT(P_15号様式!AA46),\"#,##0\"),\"\")","v":"1,127"},{"$f":"IF(P_15号様式!AA46= \"\",\"\",IF(VALUE(FIXED(P_15号様式!AA46,0,TRUE))<>P_15号様式!AA46,RIGHT(FIXED(P_15号様式!AA46,3,FALSE),4),\"\"))","v":""},{"$f":"IF(P_15号様式!AE46<> \"\",TEXT(INT(P_15号様式!AE46),\"#,##0\"),\"\")","v":"105"},{"$f":"IF(P_15号様式!AE46= \"\",\"\",IF(VALUE(FIXED(P_15号様式!AE46,0,TRUE))<>P_15号様式!AE46,RIGHT(FIXED(P_15号様式!AE46,3,FALSE),4),\"\"))","v":""},{"$f":"IF(P_15号様式!AI46<> \"\",TEXT(INT(P_15号様式!AI46),\"#,##0\"),\"\")","v":""},{"$f":"IF(P_15号様式!AI46= \"\",\"\",IF(VALUE(FIXED(P_15号様式!AI46,0,TRUE))<>P_15号様式!AI46,RIGHT(FIXED(P_15号様式!AI46,3,FALSE),4),\"\"))","v":""},{"$f":"IF(P_15号様式!AM46<> \"\",TEXT(INT(P_15号様式!AM46),\"#,##0\"),\"\")","v":""},{"$f":"IF(P_15号様式!AM46= \"\",\"\",IF(VALUE(FIXED(P_15号様式!AM46,0,TRUE))<>P_15号様式!AM46,RIGHT(FIXED(P_15号様式!AM46,3,FALSE),4),\"\"))","v":""},{"$f":"IF(P_15号様式!AQ46<> \"\",TEXT(INT(P_15号様式!AQ46),\"#,##0\"),\"\")","v":""},{"$f":"IF(P_15号様式!AQ46= \"\",\"\",IF(VALUE(FIXED(P_15号様式!AQ46,0,TRUE))<>P_15号様式!AQ46,RIGHT(FIXED(P_15号様式!AQ46,3,FALSE),4),\"\"))","v":""},{"$f":"IF(P_15号様式!AR46<> \"\",TEXT(INT(P_15号様式!AR46),\"#,##0\"),\"\")","v":"4,721"},null,{"$f":"IF(P_15号様式!AR46= \"\",\"\",IF(VALUE(FIXED(P_15号様式!AR46,0,TRUE))<>P_15号様式!AR46,RIGHT(FIXED(P_15号様式!AR46,3,FALSE),4),\"\"))","v":""}]
[{"$f":"IF(P_15号様式!C47=\"\",\"\",P_15号様式!C47)","v":"　龍郷町"},null,{"$f":"IF(P_15号様式!G47<> \"\",TEXT(INT(P_15号様式!G47),\"#,##0\"),\"\")","v":"20"},{"$f":"IF(P_15号様式!G47= \"\",\"\",IF(VALUE(FIXED(P_15号様式!G47,0,TRUE))<>P_15号様式!G47,RIGHT(FIXED(P_15号様式!G47,3,FALSE),4),\"\"))","v":""},{"$f":"IF(P_15号様式!K47<> \"\",TEXT(INT(P_15号様式!K47),\"#,##0\"),\"\")","v":"126"},{"$f":"IF(P_15号様式!K47= \"\",\"\",IF(VALUE(FIXED(P_15号様式!K47,0,TRUE))<>P_15号様式!K47,RIGHT(FIXED(P_15号様式!K47,3,FALSE),4),\"\"))","v":""},{"$f":"IF(P_15号様式!O47<> \"\",TEXT(INT(P_15号様式!O47),\"#,##0\"),\"\")","v":"235"},{"$f":"IF(P_15号様式!O47= \"\",\"\",IF(VALUE(FIXED(P_15号様式!O47,0,TRUE))<>P_15号様式!O47,RIGHT(FIXED(P_15号様式!O47,3,FALSE),4),\"\"))","v":""},{"$f":"IF(P_15号様式!S47<> \"\",TEXT(INT(P_15号様式!S47),\"#,##0\"),\"\")","v":"1,356"},{"$f":"IF(P_15号様式!S47= \"\",\"\",IF(VALUE(FIXED(P_15号様式!S47,0,TRUE))<>P_15号様式!S47,RIGHT(FIXED(P_15号様式!S47,3,FALSE),4),\"\"))","v":""},{"$f":"IF(P_15号様式!W47<> \"\",TEXT(INT(P_15号様式!W47),\"#,##0\"),\"\")","v":"632"},{"$f":"IF(P_15号様式!W47= \"\",\"\",IF(VALUE(FIXED(P_15号様式!W47,0,TRUE))<>P_15号様式!W47,RIGHT(FIXED(P_15号様式!W47,3,FALSE),4),\"\"))","v":""},{"$f":"IF(P_15号様式!AA47<> \"\",TEXT(INT(P_15号様式!AA47),\"#,##0\"),\"\")","v":"681"},{"$f":"IF(P_15号様式!AA47= \"\",\"\",IF(VALUE(FIXED(P_15号様式!AA47,0,TRUE))<>P_15号様式!AA47,RIGHT(FIXED(P_15号様式!AA47,3,FALSE),4),\"\"))","v":""},{"$f":"IF(P_15号様式!AE47<> \"\",TEXT(INT(P_15号様式!AE47),\"#,##0\"),\"\")","v":"51"},{"$f":"IF(P_15号様式!AE47= \"\",\"\",IF(VALUE(FIXED(P_15号様式!AE47,0,TRUE))<>P_15号様式!AE47,RIGHT(FIXED(P_15号様式!AE47,3,FALSE),4),\"\"))","v":""},{"$f":"IF(P_15号様式!AI47<> \"\",TEXT(INT(P_15号様式!AI47),\"#,##0\"),\"\")","v":""},{"$f":"IF(P_15号様式!AI47= \"\",\"\",IF(VALUE(FIXED(P_15号様式!AI47,0,TRUE))<>P_15号様式!AI47,RIGHT(FIXED(P_15号様式!AI47,3,FALSE),4),\"\"))","v":""},{"$f":"IF(P_15号様式!AM47<> \"\",TEXT(INT(P_15号様式!AM47),\"#,##0\"),\"\")","v":""},{"$f":"IF(P_15号様式!AM47= \"\",\"\",IF(VALUE(FIXED(P_15号様式!AM47,0,TRUE))<>P_15号様式!AM47,RIGHT(FIXED(P_15号様式!AM47,3,FALSE),4),\"\"))","v":""},{"$f":"IF(P_15号様式!AQ47<> \"\",TEXT(INT(P_15号様式!AQ47),\"#,##0\"),\"\")","v":""},{"$f":"IF(P_15号様式!AQ47= \"\",\"\",IF(VALUE(FIXED(P_15号様式!AQ47,0,TRUE))<>P_15号様式!AQ47,RIGHT(FIXED(P_15号様式!AQ47,3,FALSE),4),\"\"))","v":""},{"$f":"IF(P_15号様式!AR47<> \"\",TEXT(INT(P_15号様式!AR47),\"#,##0\"),\"\")","v":"3,101"},null,{"$f":"IF(P_15号様式!AR47= \"\",\"\",IF(VALUE(FIXED(P_15号様式!AR47,0,TRUE))<>P_15号様式!AR47,RIGHT(FIXED(P_15号様式!AR47,3,FALSE),4),\"\"))","v":""}]
[{"$f":"IF(P_15号様式!C48=\"\",\"\",P_15号様式!C48)","v":"　喜界町"},null,{"$f":"IF(P_15号様式!G48<> \"\",TEXT(INT(P_15号様式!G48),\"#,##0\"),\"\")","v":"16"},{"$f":"IF(P_15号様式!G48= \"\",\"\",IF(VALUE(FIXED(P_15号様式!G48,0,TRUE))<>P_15号様式!G48,RIGHT(FIXED(P_15号様式!G48,3,FALSE),4),\"\"))","v":""},{"$f":"IF(P_15号様式!K48<> \"\",TEXT(INT(P_15号様式!K48),\"#,##0\"),\"\")","v":"103"},{"$f":"IF(P_15号様式!K48= \"\",\"\",IF(VALUE(FIXED(P_15号様式!K48,0,TRUE))<>P_15号様式!K48,RIGHT(FIXED(P_15号様式!K48,3,FALSE),4),\"\"))","v":""},{"$f":"IF(P_15号様式!O48<> \"\",TEXT(INT(P_15号様式!O48),\"#,##0\"),\"\")","v":"217"},{"$f":"IF(P_15号様式!O48= \"\",\"\",IF(VALUE(FIXED(P_15号様式!O48,0,TRUE))<>P_15号様式!O48,RIGHT(FIXED(P_15号様式!O48,3,FALSE),4),\"\"))","v":""},{"$f":"IF(P_15号様式!S48<> \"\",TEXT(INT(P_15号様式!S48),\"#,##0\"),\"\")","v":"1,551"},{"$f":"IF(P_15号様式!S48= \"\",\"\",IF(VALUE(FIXED(P_15号様式!S48,0,TRUE))<>P_15号様式!S48,RIGHT(FIXED(P_15号様式!S48,3,FALSE),4),\"\"))","v":""},{"$f":"IF(P_15号様式!W48<> \"\",TEXT(INT(P_15号様式!W48),\"#,##0\"),\"\")","v":"744"},{"$f":"IF(P_15号様式!W48= \"\",\"\",IF(VALUE(FIXED(P_15号様式!W48,0,TRUE))<>P_15号様式!W48,RIGHT(FIXED(P_15号様式!W48,3,FALSE),4),\"\"))","v":""},{"$f":"IF(P_15号様式!AA48<> \"\",TEXT(INT(P_15号様式!AA48),\"#,##0\"),\"\")","v":"727"},{"$f":"IF(P_15号様式!AA48= \"\",\"\",IF(VALUE(FIXED(P_15号様式!AA48,0,TRUE))<>P_15号様式!AA48,RIGHT(FIXED(P_15号様式!AA48,3,FALSE),4),\"\"))","v":""},{"$f":"IF(P_15号様式!AE48<> \"\",TEXT(INT(P_15号様式!AE48),\"#,##0\"),\"\")","v":"102"},{"$f":"IF(P_15号様式!AE48= \"\",\"\",IF(VALUE(FIXED(P_15号様式!AE48,0,TRUE))<>P_15号様式!AE48,RIGHT(FIXED(P_15号様式!AE48,3,FALSE),4),\"\"))","v":""},{"$f":"IF(P_15号様式!AI48<> \"\",TEXT(INT(P_15号様式!AI48),\"#,##0\"),\"\")","v":""},{"$f":"IF(P_15号様式!AI48= \"\",\"\",IF(VALUE(FIXED(P_15号様式!AI48,0,TRUE))<>P_15号様式!AI48,RIGHT(FIXED(P_15号様式!AI48,3,FALSE),4),\"\"))","v":""},{"$f":"IF(P_15号様式!AM48<> \"\",TEXT(INT(P_15号様式!AM48),\"#,##0\"),\"\")","v":""},{"$f":"IF(P_15号様式!AM48= \"\",\"\",IF(VALUE(FIXED(P_15号様式!AM48,0,TRUE))<>P_15号様式!AM48,RIGHT(FIXED(P_15号様式!AM48,3,FALSE),4),\"\"))","v":""},{"$f":"IF(P_15号様式!AQ48<> \"\",TEXT(INT(P_15号様式!AQ48),\"#,##0\"),\"\")","v":""},{"$f":"IF(P_15号様式!AQ48= \"\",\"\",IF(VALUE(FIXED(P_15号様式!AQ48,0,TRUE))<>P_15号様式!AQ48,RIGHT(FIXED(P_15号様式!AQ48,3,FALSE),4),\"\"))","v":""},{"$f":"IF(P_15号様式!AR48<> \"\",TEXT(INT(P_15号様式!AR48),\"#,##0\"),\"\")","v":"3,460"},null,{"$f":"IF(P_15号様式!AR48= \"\",\"\",IF(VALUE(FIXED(P_15号様式!AR48,0,TRUE))<>P_15号様式!AR48,RIGHT(FIXED(P_15号様式!AR48,3,FALSE),4),\"\"))","v":""}]
[{"$f":"IF(P_15号様式!C49=\"\",\"\",P_15号様式!C49)","v":"　徳之島町"},null,{"$f":"IF(P_15号様式!G49<> \"\",TEXT(INT(P_15号様式!G49),\"#,##0\"),\"\")","v":"36"},{"$f":"IF(P_15号様式!G49= \"\",\"\",IF(VALUE(FIXED(P_15号様式!G49,0,TRUE))<>P_15号様式!G49,RIGHT(FIXED(P_15号様式!G49,3,FALSE),4),\"\"))","v":""},{"$f":"IF(P_15号様式!K49<> \"\",TEXT(INT(P_15号様式!K49),\"#,##0\"),\"\")","v":"162"},{"$f":"IF(P_15号様式!K49= \"\",\"\",IF(VALUE(FIXED(P_15号様式!K49,0,TRUE))<>P_15号様式!K49,RIGHT(FIXED(P_15号様式!K49,3,FALSE),4),\"\"))","v":""},{"$f":"IF(P_15号様式!O49<> \"\",TEXT(INT(P_15号様式!O49),\"#,##0\"),\"\")","v":"274"},{"$f":"IF(P_15号様式!O49= \"\",\"\",IF(VALUE(FIXED(P_15号様式!O49,0,TRUE))<>P_15号様式!O49,RIGHT(FIXED(P_15号様式!O49,3,FALSE),4),\"\"))","v":""},{"$f":"IF(P_15号様式!S49<> \"\",TEXT(INT(P_15号様式!S49),\"#,##0\"),\"\")","v":"1,850"},{"$f":"IF(P_15号様式!S49= \"\",\"\",IF(VALUE(FIXED(P_15号様式!S49,0,TRUE))<>P_15号様式!S49,RIGHT(FIXED(P_15号様式!S49,3,FALSE),4),\"\"))","v":""},{"$f":"IF(P_15号様式!W49<> \"\",TEXT(INT(P_15号様式!W49),\"#,##0\"),\"\")","v":"672"},{"$f":"IF(P_15号様式!W49= \"\",\"\",IF(VALUE(FIXED(P_15号様式!W49,0,TRUE))<>P_15号様式!W49,RIGHT(FIXED(P_15号様式!W49,3,FALSE),4),\"\"))","v":""},{"$f":"IF(P_15号様式!AA49<> \"\",TEXT(INT(P_15号様式!AA49),\"#,##0\"),\"\")","v":"1,952"},{"$f":"IF(P_15号様式!AA49= \"\",\"\",IF(VALUE(FIXED(P_15号様式!AA49,0,TRUE))<>P_15号様式!AA49,RIGHT(FIXED(P_15号様式!AA49,3,FALSE),4),\"\"))","v":""},{"$f":"IF(P_15号様式!AE49<> \"\",TEXT(INT(P_15号様式!AE49),\"#,##0\"),\"\")","v":"84"},{"$f":"IF(P_15号様式!AE49= \"\",\"\",IF(VALUE(FIXED(P_15号様式!AE49,0,TRUE))<>P_15号様式!AE49,RIGHT(FIXED(P_15号様式!AE49,3,FALSE),4),\"\"))","v":""},{"$f":"IF(P_15号様式!AI49<> \"\",TEXT(INT(P_15号様式!AI49),\"#,##0\"),\"\")","v":""},{"$f":"IF(P_15号様式!AI49= \"\",\"\",IF(VALUE(FIXED(P_15号様式!AI49,0,TRUE))<>P_15号様式!AI49,RIGHT(FIXED(P_15号様式!AI49,3,FALSE),4),\"\"))","v":""},{"$f":"IF(P_15号様式!AM49<> \"\",TEXT(INT(P_15号様式!AM49),\"#,##0\"),\"\")","v":""},{"$f":"IF(P_15号様式!AM49= \"\",\"\",IF(VALUE(FIXED(P_15号様式!AM49,0,TRUE))<>P_15号様式!AM49,RIGHT(FIXED(P_15号様式!AM49,3,FALSE),4),\"\"))","v":""},{"$f":"IF(P_15号様式!AQ49<> \"\",TEXT(INT(P_15号様式!AQ49),\"#,##0\"),\"\")","v":""},{"$f":"IF(P_15号様式!AQ49= \"\",\"\",IF(VALUE(FIXED(P_15号様式!AQ49,0,TRUE))<>P_15号様式!AQ49,RIGHT(FIXED(P_15号様式!AQ49,3,FALSE),4),\"\"))","v":""},{"$f":"IF(P_15号様式!AR49<> \"\",TEXT(INT(P_15号様式!AR49),\"#,##0\"),\"\")","v":"5,030"},null,{"$f":"IF(P_15号様式!AR49= \"\",\"\",IF(VALUE(FIXED(P_15号様式!AR49,0,TRUE))<>P_15号様式!AR49,RIGHT(FIXED(P_15号様式!AR49,3,FALSE),4),\"\"))","v":""}]
[{"$f":"IF(P_15号様式!C50=\"\",\"\",P_15号様式!C50)","v":"　天城町"},null,{"$f":"IF(P_15号様式!G50<> \"\",TEXT(INT(P_15号様式!G50),\"#,##0\"),\"\")","v":"20"},{"$f":"IF(P_15号様式!G50= \"\",\"\",IF(VALUE(FIXED(P_15号様式!G50,0,TRUE))<>P_15号様式!G50,RIGHT(FIXED(P_15号様式!G50,3,FALSE),4),\"\"))","v":""},{"$f":"IF(P_15号様式!K50<> \"\",TEXT(INT(P_15号様式!K50),\"#,##0\"),\"\")","v":"51"},{"$f":"IF(P_15号様式!K50= \"\",\"\",IF(VALUE(FIXED(P_15号様式!K50,0,TRUE))<>P_15号様式!K50,RIGHT(FIXED(P_15号様式!K50,3,FALSE),4),\"\"))","v":""},{"$f":"IF(P_15号様式!O50<> \"\",TEXT(INT(P_15号様式!O50),\"#,##0\"),\"\")","v":"109"},{"$f":"IF(P_15号様式!O50= \"\",\"\",IF(VALUE(FIXED(P_15号様式!O50,0,TRUE))<>P_15号様式!O50,RIGHT(FIXED(P_15号様式!O50,3,FALSE),4),\"\"))","v":""},{"$f":"IF(P_15号様式!S50<> \"\",TEXT(INT(P_15号様式!S50),\"#,##0\"),\"\")","v":"994"},{"$f":"IF(P_15号様式!S50= \"\",\"\",IF(VALUE(FIXED(P_15号様式!S50,0,TRUE))<>P_15号様式!S50,RIGHT(FIXED(P_15号様式!S50,3,FALSE),4),\"\"))","v":""},{"$f":"IF(P_15号様式!W50<> \"\",TEXT(INT(P_15号様式!W50),\"#,##0\"),\"\")","v":"533"},{"$f":"IF(P_15号様式!W50= \"\",\"\",IF(VALUE(FIXED(P_15号様式!W50,0,TRUE))<>P_15号様式!W50,RIGHT(FIXED(P_15号様式!W50,3,FALSE),4),\"\"))","v":""},{"$f":"IF(P_15号様式!AA50<> \"\",TEXT(INT(P_15号様式!AA50),\"#,##0\"),\"\")","v":"1,242"},{"$f":"IF(P_15号様式!AA50= \"\",\"\",IF(VALUE(FIXED(P_15号様式!AA50,0,TRUE))<>P_15号様式!AA50,RIGHT(FIXED(P_15号様式!AA50,3,FALSE),4),\"\"))","v":""},{"$f":"IF(P_15号様式!AE50<> \"\",TEXT(INT(P_15号様式!AE50),\"#,##0\"),\"\")","v":"96"},{"$f":"IF(P_15号様式!AE50= \"\",\"\",IF(VALUE(FIXED(P_15号様式!AE50,0,TRUE))<>P_15号様式!AE50,RIGHT(FIXED(P_15号様式!AE50,3,FALSE),4),\"\"))","v":""},{"$f":"IF(P_15号様式!AI50<> \"\",TEXT(INT(P_15号様式!AI50),\"#,##0\"),\"\")","v":""},{"$f":"IF(P_15号様式!AI50= \"\",\"\",IF(VALUE(FIXED(P_15号様式!AI50,0,TRUE))<>P_15号様式!AI50,RIGHT(FIXED(P_15号様式!AI50,3,FALSE),4),\"\"))","v":""},{"$f":"IF(P_15号様式!AM50<> \"\",TEXT(INT(P_15号様式!AM50),\"#,##0\"),\"\")","v":""},{"$f":"IF(P_15号様式!AM50= \"\",\"\",IF(VALUE(FIXED(P_15号様式!AM50,0,TRUE))<>P_15号様式!AM50,RIGHT(FIXED(P_15号様式!AM50,3,FALSE),4),\"\"))","v":""},{"$f":"IF(P_15号様式!AQ50<> \"\",TEXT(INT(P_15号様式!AQ50),\"#,##0\"),\"\")","v":""},{"$f":"IF(P_15号様式!AQ50= \"\",\"\",IF(VALUE(FIXED(P_15号様式!AQ50,0,TRUE))<>P_15号様式!AQ50,RIGHT(FIXED(P_15号様式!AQ50,3,FALSE),4),\"\"))","v":""},{"$f":"IF(P_15号様式!AR50<> \"\",TEXT(INT(P_15号様式!AR50),\"#,##0\"),\"\")","v":"3,045"},null,{"$f":"IF(P_15号様式!AR50= \"\",\"\",IF(VALUE(FIXED(P_15号様式!AR50,0,TRUE))<>P_15号様式!AR50,RIGHT(FIXED(P_15号様式!AR50,3,FALSE),4),\"\"))","v":""}]
[{"$f":"IF(P_15号様式!C51=\"\",\"\",P_15号様式!C51)","v":"　伊仙町"},null,{"$f":"IF(P_15号様式!G51<> \"\",TEXT(INT(P_15号様式!G51),\"#,##0\"),\"\")","v":"9"},{"$f":"IF(P_15号様式!G51= \"\",\"\",IF(VALUE(FIXED(P_15号様式!G51,0,TRUE))<>P_15号様式!G51,RIGHT(FIXED(P_15号様式!G51,3,FALSE),4),\"\"))","v":""},{"$f":"IF(P_15号様式!K51<> \"\",TEXT(INT(P_15号様式!K51),\"#,##0\"),\"\")","v":"92"},{"$f":"IF(P_15号様式!K51= \"\",\"\",IF(VALUE(FIXED(P_15号様式!K51,0,TRUE))<>P_15号様式!K51,RIGHT(FIXED(P_15号様式!K51,3,FALSE),4),\"\"))","v":""},{"$f":"IF(P_15号様式!O51<> \"\",TEXT(INT(P_15号様式!O51),\"#,##0\"),\"\")","v":"70"},{"$f":"IF(P_15号様式!O51= \"\",\"\",IF(VALUE(FIXED(P_15号様式!O51,0,TRUE))<>P_15号様式!O51,RIGHT(FIXED(P_15号様式!O51,3,FALSE),4),\"\"))","v":""},{"$f":"IF(P_15号様式!S51<> \"\",TEXT(INT(P_15号様式!S51),\"#,##0\"),\"\")","v":"896"},{"$f":"IF(P_15号様式!S51= \"\",\"\",IF(VALUE(FIXED(P_15号様式!S51,0,TRUE))<>P_15号様式!S51,RIGHT(FIXED(P_15号様式!S51,3,FALSE),4),\"\"))","v":""},{"$f":"IF(P_15号様式!W51<> \"\",TEXT(INT(P_15号様式!W51),\"#,##0\"),\"\")","v":"645"},{"$f":"IF(P_15号様式!W51= \"\",\"\",IF(VALUE(FIXED(P_15号様式!W51,0,TRUE))<>P_15号様式!W51,RIGHT(FIXED(P_15号様式!W51,3,FALSE),4),\"\"))","v":""},{"$f":"IF(P_15号様式!AA51<> \"\",TEXT(INT(P_15号様式!AA51),\"#,##0\"),\"\")","v":"1,623"},{"$f":"IF(P_15号様式!AA51= \"\",\"\",IF(VALUE(FIXED(P_15号様式!AA51,0,TRUE))<>P_15号様式!AA51,RIGHT(FIXED(P_15号様式!AA51,3,FALSE),4),\"\"))","v":""},{"$f":"IF(P_15号様式!AE51<> \"\",TEXT(INT(P_15号様式!AE51),\"#,##0\"),\"\")","v":"33"},{"$f":"IF(P_15号様式!AE51= \"\",\"\",IF(VALUE(FIXED(P_15号様式!AE51,0,TRUE))<>P_15号様式!AE51,RIGHT(FIXED(P_15号様式!AE51,3,FALSE),4),\"\"))","v":""},{"$f":"IF(P_15号様式!AI51<> \"\",TEXT(INT(P_15号様式!AI51),\"#,##0\"),\"\")","v":""},{"$f":"IF(P_15号様式!AI51= \"\",\"\",IF(VALUE(FIXED(P_15号様式!AI51,0,TRUE))<>P_15号様式!AI51,RIGHT(FIXED(P_15号様式!AI51,3,FALSE),4),\"\"))","v":""},{"$f":"IF(P_15号様式!AM51<> \"\",TEXT(INT(P_15号様式!AM51),\"#,##0\"),\"\")","v":""},{"$f":"IF(P_15号様式!AM51= \"\",\"\",IF(VALUE(FIXED(P_15号様式!AM51,0,TRUE))<>P_15号様式!AM51,RIGHT(FIXED(P_15号様式!AM51,3,FALSE),4),\"\"))","v":""},{"$f":"IF(P_15号様式!AQ51<> \"\",TEXT(INT(P_15号様式!AQ51),\"#,##0\"),\"\")","v":""},{"$f":"IF(P_15号様式!AQ51= \"\",\"\",IF(VALUE(FIXED(P_15号様式!AQ51,0,TRUE))<>P_15号様式!AQ51,RIGHT(FIXED(P_15号様式!AQ51,3,FALSE),4),\"\"))","v":""},{"$f":"IF(P_15号様式!AR51<> \"\",TEXT(INT(P_15号様式!AR51),\"#,##0\"),\"\")","v":"3,368"},null,{"$f":"IF(P_15号様式!AR51= \"\",\"\",IF(VALUE(FIXED(P_15号様式!AR51,0,TRUE))<>P_15号様式!AR51,RIGHT(FIXED(P_15号様式!AR51,3,FALSE),4),\"\"))","v":""}]
[{"$f":"IF(P_15号様式!C52=\"\",\"\",P_15号様式!C52)","v":"　和泊町"},null,{"$f":"IF(P_15号様式!G52<> \"\",TEXT(INT(P_15号様式!G52),\"#,##0\"),\"\")","v":"14"},{"$f":"IF(P_15号様式!G52= \"\",\"\",IF(VALUE(FIXED(P_15号様式!G52,0,TRUE))<>P_15号様式!G52,RIGHT(FIXED(P_15号様式!G52,3,FALSE),4),\"\"))","v":""},{"$f":"IF(P_15号様式!K52<> \"\",TEXT(INT(P_15号様式!K52),\"#,##0\"),\"\")","v":"80"},{"$f":"IF(P_15号様式!K52= \"\",\"\",IF(VALUE(FIXED(P_15号様式!K52,0,TRUE))<>P_15号様式!K52,RIGHT(FIXED(P_15号様式!K52,3,FALSE),4),\"\"))","v":""},{"$f":"IF(P_15号様式!O52<> \"\",TEXT(INT(P_15号様式!O52),\"#,##0\"),\"\")","v":"232"},{"$f":"IF(P_15号様式!O52= \"\",\"\",IF(VALUE(FIXED(P_15号様式!O52,0,TRUE))<>P_15号様式!O52,RIGHT(FIXED(P_15号様式!O52,3,FALSE),4),\"\"))","v":""},{"$f":"IF(P_15号様式!S52<> \"\",TEXT(INT(P_15号様式!S52),\"#,##0\"),\"\")","v":"1,631"},{"$f":"IF(P_15号様式!S52= \"\",\"\",IF(VALUE(FIXED(P_15号様式!S52,0,TRUE))<>P_15号様式!S52,RIGHT(FIXED(P_15号様式!S52,3,FALSE),4),\"\"))","v":""},{"$f":"IF(P_15号様式!W52<> \"\",TEXT(INT(P_15号様式!W52),\"#,##0\"),\"\")","v":"602"},{"$f":"IF(P_15号様式!W52= \"\",\"\",IF(VALUE(FIXED(P_15号様式!W52,0,TRUE))<>P_15号様式!W52,RIGHT(FIXED(P_15号様式!W52,3,FALSE),4),\"\"))","v":""},{"$f":"IF(P_15号様式!AA52<> \"\",TEXT(INT(P_15号様式!AA52),\"#,##0\"),\"\")","v":"547"},{"$f":"IF(P_15号様式!AA52= \"\",\"\",IF(VALUE(FIXED(P_15号様式!AA52,0,TRUE))<>P_15号様式!AA52,RIGHT(FIXED(P_15号様式!AA52,3,FALSE),4),\"\"))","v":""},{"$f":"IF(P_15号様式!AE52<> \"\",TEXT(INT(P_15号様式!AE52),\"#,##0\"),\"\")","v":"118"},{"$f":"IF(P_15号様式!AE52= \"\",\"\",IF(VALUE(FIXED(P_15号様式!AE52,0,TRUE))<>P_15号様式!AE52,RIGHT(FIXED(P_15号様式!AE52,3,FALSE),4),\"\"))","v":""},{"$f":"IF(P_15号様式!AI52<> \"\",TEXT(INT(P_15号様式!AI52),\"#,##0\"),\"\")","v":""},{"$f":"IF(P_15号様式!AI52= \"\",\"\",IF(VALUE(FIXED(P_15号様式!AI52,0,TRUE))<>P_15号様式!AI52,RIGHT(FIXED(P_15号様式!AI52,3,FALSE),4),\"\"))","v":""},{"$f":"IF(P_15号様式!AM52<> \"\",TEXT(INT(P_15号様式!AM52),\"#,##0\"),\"\")","v":""},{"$f":"IF(P_15号様式!AM52= \"\",\"\",IF(VALUE(FIXED(P_15号様式!AM52,0,TRUE))<>P_15号様式!AM52,RIGHT(FIXED(P_15号様式!AM52,3,FALSE),4),\"\"))","v":""},{"$f":"IF(P_15号様式!AQ52<> \"\",TEXT(INT(P_15号様式!AQ52),\"#,##0\"),\"\")","v":""},{"$f":"IF(P_15号様式!AQ52= \"\",\"\",IF(VALUE(FIXED(P_15号様式!AQ52,0,TRUE))<>P_15号様式!AQ52,RIGHT(FIXED(P_15号様式!AQ52,3,FALSE),4),\"\"))","v":""},{"$f":"IF(P_15号様式!AR52<> \"\",TEXT(INT(P_15号様式!AR52),\"#,##0\"),\"\")","v":"3,224"},null,{"$f":"IF(P_15号様式!AR52= \"\",\"\",IF(VALUE(FIXED(P_15号様式!AR52,0,TRUE))<>P_15号様式!AR52,RIGHT(FIXED(P_15号様式!AR52,3,FALSE),4),\"\"))","v":""}]
[{"$f":"IF(P_15号様式!C53=\"\",\"\",P_15号様式!C53)","v":"　知名町"},null,{"$f":"IF(P_15号様式!G53<> \"\",TEXT(INT(P_15号様式!G53),\"#,##0\"),\"\")","v":"30"},{"$f":"IF(P_15号様式!G53= \"\",\"\",IF(VALUE(FIXED(P_15号様式!G53,0,TRUE))<>P_15号様式!G53,RIGHT(FIXED(P_15号様式!G53,3,FALSE),4),\"\"))","v":""},{"$f":"IF(P_15号様式!K53<> \"\",TEXT(INT(P_15号様式!K53),\"#,##0\"),\"\")","v":"72"},{"$f":"IF(P_15号様式!K53= \"\",\"\",IF(VALUE(FIXED(P_15号様式!K53,0,TRUE))<>P_15号様式!K53,RIGHT(FIXED(P_15号様式!K53,3,FALSE),4),\"\"))","v":""},{"$f":"IF(P_15号様式!O53<> \"\",TEXT(INT(P_15号様式!O53),\"#,##0\"),\"\")","v":"181"},{"$f":"IF(P_15号様式!O53= \"\",\"\",IF(VALUE(FIXED(P_15号様式!O53,0,TRUE))<>P_15号様式!O53,RIGHT(FIXED(P_15号様式!O53,3,FALSE),4),\"\"))","v":""},{"$f":"IF(P_15号様式!S53<> \"\",TEXT(INT(P_15号様式!S53),\"#,##0\"),\"\")","v":"1,058"},{"$f":"IF(P_15号様式!S53= \"\",\"\",IF(VALUE(FIXED(P_15号様式!S53,0,TRUE))<>P_15号様式!S53,RIGHT(FIXED(P_15号様式!S53,3,FALSE),4),\"\"))","v":""},{"$f":"IF(P_15号様式!W53<> \"\",TEXT(INT(P_15号様式!W53),\"#,##0\"),\"\")","v":"611"},{"$f":"IF(P_15号様式!W53= \"\",\"\",IF(VALUE(FIXED(P_15号様式!W53,0,TRUE))<>P_15号様式!W53,RIGHT(FIXED(P_15号様式!W53,3,FALSE),4),\"\"))","v":""},{"$f":"IF(P_15号様式!AA53<> \"\",TEXT(INT(P_15号様式!AA53),\"#,##0\"),\"\")","v":"607"},{"$f":"IF(P_15号様式!AA53= \"\",\"\",IF(VALUE(FIXED(P_15号様式!AA53,0,TRUE))<>P_15号様式!AA53,RIGHT(FIXED(P_15号様式!AA53,3,FALSE),4),\"\"))","v":""},{"$f":"IF(P_15号様式!AE53<> \"\",TEXT(INT(P_15号様式!AE53),\"#,##0\"),\"\")","v":"276"},{"$f":"IF(P_15号様式!AE53= \"\",\"\",IF(VALUE(FIXED(P_15号様式!AE53,0,TRUE))<>P_15号様式!AE53,RIGHT(FIXED(P_15号様式!AE53,3,FALSE),4),\"\"))","v":""},{"$f":"IF(P_15号様式!AI53<> \"\",TEXT(INT(P_15号様式!AI53),\"#,##0\"),\"\")","v":""},{"$f":"IF(P_15号様式!AI53= \"\",\"\",IF(VALUE(FIXED(P_15号様式!AI53,0,TRUE))<>P_15号様式!AI53,RIGHT(FIXED(P_15号様式!AI53,3,FALSE),4),\"\"))","v":""},{"$f":"IF(P_15号様式!AM53<> \"\",TEXT(INT(P_15号様式!AM53),\"#,##0\"),\"\")","v":""},{"$f":"IF(P_15号様式!AM53= \"\",\"\",IF(VALUE(FIXED(P_15号様式!AM53,0,TRUE))<>P_15号様式!AM53,RIGHT(FIXED(P_15号様式!AM53,3,FALSE),4),\"\"))","v":""},{"$f":"IF(P_15号様式!AQ53<> \"\",TEXT(INT(P_15号様式!AQ53),\"#,##0\"),\"\")","v":""},{"$f":"IF(P_15号様式!AQ53= \"\",\"\",IF(VALUE(FIXED(P_15号様式!AQ53,0,TRUE))<>P_15号様式!AQ53,RIGHT(FIXED(P_15号様式!AQ53,3,FALSE),4),\"\"))","v":""},{"$f":"IF(P_15号様式!AR53<> \"\",TEXT(INT(P_15号様式!AR53),\"#,##0\"),\"\")","v":"2,835"},null,{"$f":"IF(P_15号様式!AR53= \"\",\"\",IF(VALUE(FIXED(P_15号様式!AR53,0,TRUE))<>P_15号様式!AR53,RIGHT(FIXED(P_15号様式!AR53,3,FALSE),4),\"\"))","v":""}]
[{"$f":"IF(P_15号様式!C54=\"\",\"\",P_15号様式!C54)","v":"　与論町"},null,{"$f":"IF(P_15号様式!G54<> \"\",TEXT(INT(P_15号様式!G54),\"#,##0\"),\"\")","v":"23"},{"$f":"IF(P_15号様式!G54= \"\",\"\",IF(VALUE(FIXED(P_15号様式!G54,0,TRUE))<>P_15号様式!G54,RIGHT(FIXED(P_15号様式!G54,3,FALSE),4),\"\"))","v":""},{"$f":"IF(P_15号様式!K54<> \"\",TEXT(INT(P_15号様式!K54),\"#,##0\"),\"\")","v":"74"},{"$f":"IF(P_15号様式!K54= \"\",\"\",IF(VALUE(FIXED(P_15号様式!K54,0,TRUE))<>P_15号様式!K54,RIGHT(FIXED(P_15号様式!K54,3,FALSE),4),\"\"))","v":""},{"$f":"IF(P_15号様式!O54<> \"\",TEXT(INT(P_15号様式!O54),\"#,##0\"),\"\")","v":"168"},{"$f":"IF(P_15号様式!O54= \"\",\"\",IF(VALUE(FIXED(P_15号様式!O54,0,TRUE))<>P_15号様式!O54,RIGHT(FIXED(P_15号様式!O54,3,FALSE),4),\"\"))","v":""},{"$f":"IF(P_15号様式!S54<> \"\",TEXT(INT(P_15号様式!S54),\"#,##0\"),\"\")","v":"1,194"},{"$f":"IF(P_15号様式!S54= \"\",\"\",IF(VALUE(FIXED(P_15号様式!S54,0,TRUE))<>P_15号様式!S54,RIGHT(FIXED(P_15号様式!S54,3,FALSE),4),\"\"))","v":""},{"$f":"IF(P_15号様式!W54<> \"\",TEXT(INT(P_15号様式!W54),\"#,##0\"),\"\")","v":"393"},{"$f":"IF(P_15号様式!W54= \"\",\"\",IF(VALUE(FIXED(P_15号様式!W54,0,TRUE))<>P_15号様式!W54,RIGHT(FIXED(P_15号様式!W54,3,FALSE),4),\"\"))","v":""},{"$f":"IF(P_15号様式!AA54<> \"\",TEXT(INT(P_15号様式!AA54),\"#,##0\"),\"\")","v":"766"},{"$f":"IF(P_15号様式!AA54= \"\",\"\",IF(VALUE(FIXED(P_15号様式!AA54,0,TRUE))<>P_15号様式!AA54,RIGHT(FIXED(P_15号様式!AA54,3,FALSE),4),\"\"))","v":""},{"$f":"IF(P_15号様式!AE54<> \"\",TEXT(INT(P_15号様式!AE54),\"#,##0\"),\"\")","v":"86"},{"$f":"IF(P_15号様式!AE54= \"\",\"\",IF(VALUE(FIXED(P_15号様式!AE54,0,TRUE))<>P_15号様式!AE54,RIGHT(FIXED(P_15号様式!AE54,3,FALSE),4),\"\"))","v":""},{"$f":"IF(P_15号様式!AI54<> \"\",TEXT(INT(P_15号様式!AI54),\"#,##0\"),\"\")","v":""},{"$f":"IF(P_15号様式!AI54= \"\",\"\",IF(VALUE(FIXED(P_15号様式!AI54,0,TRUE))<>P_15号様式!AI54,RIGHT(FIXED(P_15号様式!AI54,3,FALSE),4),\"\"))","v":""},{"$f":"IF(P_15号様式!AM54<> \"\",TEXT(INT(P_15号様式!AM54),\"#,##0\"),\"\")","v":""},{"$f":"IF(P_15号様式!AM54= \"\",\"\",IF(VALUE(FIXED(P_15号様式!AM54,0,TRUE))<>P_15号様式!AM54,RIGHT(FIXED(P_15号様式!AM54,3,FALSE),4),\"\"))","v":""},{"$f":"IF(P_15号様式!AQ54<> \"\",TEXT(INT(P_15号様式!AQ54),\"#,##0\"),\"\")","v":""},{"$f":"IF(P_15号様式!AQ54= \"\",\"\",IF(VALUE(FIXED(P_15号様式!AQ54,0,TRUE))<>P_15号様式!AQ54,RIGHT(FIXED(P_15号様式!AQ54,3,FALSE),4),\"\"))","v":""},{"$f":"IF(P_15号様式!AR54<> \"\",TEXT(INT(P_15号様式!AR54),\"#,##0\"),\"\")","v":"2,704"},null,{"$f":"IF(P_15号様式!AR54= \"\",\"\",IF(VALUE(FIXED(P_15号様式!AR54,0,TRUE))<>P_15号様式!AR54,RIGHT(FIXED(P_15号様式!AR54,3,FALSE),4),\"\"))","v":""}]
[{"$f":"IF(P_15号様式!C55=\"\",\"\",P_15号様式!C55)","v":"＊（大島郡）計"},null,{"$f":"IF(P_15号様式!G55<> \"\",TEXT(INT(P_15号様式!G55),\"#,##0\"),\"\")","v":"200"},{"$f":"IF(P_15号様式!G55= \"\",\"\",IF(VALUE(FIXED(P_15号様式!G55,0,TRUE))<>P_15号様式!G55,RIGHT(FIXED(P_15号様式!G55,3,FALSE),4),\"\"))","v":""},{"$f":"IF(P_15号様式!K55<> \"\",TEXT(INT(P_15号様式!K55),\"#,##0\"),\"\")","v":"1,077"},{"$f":"IF(P_15号様式!K55= \"\",\"\",IF(VALUE(FIXED(P_15号様式!K55,0,TRUE))<>P_15号様式!K55,RIGHT(FIXED(P_15号様式!K55,3,FALSE),4),\"\"))","v":""},{"$f":"IF(P_15号様式!O55<> \"\",TEXT(INT(P_15号様式!O55),\"#,##0\"),\"\")","v":"1,976"},{"$f":"IF(P_15号様式!O55= \"\",\"\",IF(VALUE(FIXED(P_15号様式!O55,0,TRUE))<>P_15号様式!O55,RIGHT(FIXED(P_15号様式!O55,3,FALSE),4),\"\"))","v":""},{"$f":"IF(P_15号様式!S55<> \"\",TEXT(INT(P_15号様式!S55),\"#,##0\"),\"\")","v":"13,226"},{"$f":"IF(P_15号様式!S55= \"\",\"\",IF(VALUE(FIXED(P_15号様式!S55,0,TRUE))<>P_15号様式!S55,RIGHT(FIXED(P_15号様式!S55,3,FALSE),4),\"\"))","v":""},{"$f":"IF(P_15号様式!W55<> \"\",TEXT(INT(P_15号様式!W55),\"#,##0\"),\"\")","v":"6,524"},{"$f":"IF(P_15号様式!W55= \"\",\"\",IF(VALUE(FIXED(P_15号様式!W55,0,TRUE))<>P_15号様式!W55,RIGHT(FIXED(P_15号様式!W55,3,FALSE),4),\"\"))","v":""},{"$f":"IF(P_15号様式!AA55<> \"\",TEXT(INT(P_15号様式!AA55),\"#,##0\"),\"\")","v":"9,571"},{"$f":"IF(P_15号様式!AA55= \"\",\"\",IF(VALUE(FIXED(P_15号様式!AA55,0,TRUE))<>P_15号様式!AA55,RIGHT(FIXED(P_15号様式!AA55,3,FALSE),4),\"\"))","v":""},{"$f":"IF(P_15号様式!AE55<> \"\",TEXT(INT(P_15号様式!AE55),\"#,##0\"),\"\")","v":"981"},{"$f":"IF(P_15号様式!AE55= \"\",\"\",IF(VALUE(FIXED(P_15号様式!AE55,0,TRUE))<>P_15号様式!AE55,RIGHT(FIXED(P_15号様式!AE55,3,FALSE),4),\"\"))","v":""},{"$f":"IF(P_15号様式!AI55<> \"\",TEXT(INT(P_15号様式!AI55),\"#,##0\"),\"\")","v":""},{"$f":"IF(P_15号様式!AI55= \"\",\"\",IF(VALUE(FIXED(P_15号様式!AI55,0,TRUE))<>P_15号様式!AI55,RIGHT(FIXED(P_15号様式!AI55,3,FALSE),4),\"\"))","v":""},{"$f":"IF(P_15号様式!AM55<> \"\",TEXT(INT(P_15号様式!AM55),\"#,##0\"),\"\")","v":""},{"$f":"IF(P_15号様式!AM55= \"\",\"\",IF(VALUE(FIXED(P_15号様式!AM55,0,TRUE))<>P_15号様式!AM55,RIGHT(FIXED(P_15号様式!AM55,3,FALSE),4),\"\"))","v":""},{"$f":"IF(P_15号様式!AQ55<> \"\",TEXT(INT(P_15号様式!AQ55),\"#,##0\"),\"\")","v":""},{"$f":"IF(P_15号様式!AQ55= \"\",\"\",IF(VALUE(FIXED(P_15号様式!AQ55,0,TRUE))<>P_15号様式!AQ55,RIGHT(FIXED(P_15号様式!AQ55,3,FALSE),4),\"\"))","v":""},{"$f":"IF(P_15号様式!AR55<> \"\",TEXT(INT(P_15号様式!AR55),\"#,##0\"),\"\")","v":"33,555"},null,{"$f":"IF(P_15号様式!AR55= \"\",\"\",IF(VALUE(FIXED(P_15号様式!AR55,0,TRUE))<>P_15号様式!AR55,RIGHT(FIXED(P_15号様式!AR55,3,FALSE),4),\"\"))","v":""}]
[{"$f":"IF(P_15号様式!C56=\"\",\"\",P_15号様式!C56)","v":""},null,{"$f":"IF(P_15号様式!G56<> \"\",TEXT(INT(P_15号様式!G56),\"#,##0\"),\"\")","v":""},{"$f":"IF(P_15号様式!G56= \"\",\"\",IF(VALUE(FIXED(P_15号様式!G56,0,TRUE))<>P_15号様式!G56,RIGHT(FIXED(P_15号様式!G56,3,FALSE),4),\"\"))","v":""},{"$f":"IF(P_15号様式!K56<> \"\",TEXT(INT(P_15号様式!K56),\"#,##0\"),\"\")","v":""},{"$f":"IF(P_15号様式!K56= \"\",\"\",IF(VALUE(FIXED(P_15号様式!K56,0,TRUE))<>P_15号様式!K56,RIGHT(FIXED(P_15号様式!K56,3,FALSE),4),\"\"))","v":""},{"$f":"IF(P_15号様式!O56<> \"\",TEXT(INT(P_15号様式!O56),\"#,##0\"),\"\")","v":""},{"$f":"IF(P_15号様式!O56= \"\",\"\",IF(VALUE(FIXED(P_15号様式!O56,0,TRUE))<>P_15号様式!O56,RIGHT(FIXED(P_15号様式!O56,3,FALSE),4),\"\"))","v":""},{"$f":"IF(P_15号様式!S56<> \"\",TEXT(INT(P_15号様式!S56),\"#,##0\"),\"\")","v":""},{"$f":"IF(P_15号様式!S56= \"\",\"\",IF(VALUE(FIXED(P_15号様式!S56,0,TRUE))<>P_15号様式!S56,RIGHT(FIXED(P_15号様式!S56,3,FALSE),4),\"\"))","v":""},{"$f":"IF(P_15号様式!W56<> \"\",TEXT(INT(P_15号様式!W56),\"#,##0\"),\"\")","v":""},{"$f":"IF(P_15号様式!W56= \"\",\"\",IF(VALUE(FIXED(P_15号様式!W56,0,TRUE))<>P_15号様式!W56,RIGHT(FIXED(P_15号様式!W56,3,FALSE),4),\"\"))","v":""},{"$f":"IF(P_15号様式!AA56<> \"\",TEXT(INT(P_15号様式!AA56),\"#,##0\"),\"\")","v":""},{"$f":"IF(P_15号様式!AA56= \"\",\"\",IF(VALUE(FIXED(P_15号様式!AA56,0,TRUE))<>P_15号様式!AA56,RIGHT(FIXED(P_15号様式!AA56,3,FALSE),4),\"\"))","v":""},{"$f":"IF(P_15号様式!AE56<> \"\",TEXT(INT(P_15号様式!AE56),\"#,##0\"),\"\")","v":""},{"$f":"IF(P_15号様式!AE56= \"\",\"\",IF(VALUE(FIXED(P_15号様式!AE56,0,TRUE))<>P_15号様式!AE56,RIGHT(FIXED(P_15号様式!AE56,3,FALSE),4),\"\"))","v":""},{"$f":"IF(P_15号様式!AI56<> \"\",TEXT(INT(P_15号様式!AI56),\"#,##0\"),\"\")","v":""},{"$f":"IF(P_15号様式!AI56= \"\",\"\",IF(VALUE(FIXED(P_15号様式!AI56,0,TRUE))<>P_15号様式!AI56,RIGHT(FIXED(P_15号様式!AI56,3,FALSE),4),\"\"))","v":""},{"$f":"IF(P_15号様式!AM56<> \"\",TEXT(INT(P_15号様式!AM56),\"#,##0\"),\"\")","v":""},{"$f":"IF(P_15号様式!AM56= \"\",\"\",IF(VALUE(FIXED(P_15号様式!AM56,0,TRUE))<>P_15号様式!AM56,RIGHT(FIXED(P_15号様式!AM56,3,FALSE),4),\"\"))","v":""},{"$f":"IF(P_15号様式!AQ56<> \"\",TEXT(INT(P_15号様式!AQ56),\"#,##0\"),\"\")","v":""},{"$f":"IF(P_15号様式!AQ56= \"\",\"\",IF(VALUE(FIXED(P_15号様式!AQ56,0,TRUE))<>P_15号様式!AQ56,RIGHT(FIXED(P_15号様式!AQ56,3,FALSE),4),\"\"))","v":""},{"$f":"IF(P_15号様式!AR56<> \"\",TEXT(INT(P_15号様式!AR56),\"#,##0\"),\"\")","v":""},null,{"$f":"IF(P_15号様式!AR56= \"\",\"\",IF(VALUE(FIXED(P_15号様式!AR56,0,TRUE))<>P_15号様式!AR56,RIGHT(FIXED(P_15号様式!AR56,3,FALSE),4),\"\"))","v":""}]
[{"$f":"IF(P_15号様式!C57=\"\",\"\",P_15号様式!C57)","v":""},null,{"$f":"IF(P_15号様式!G57<> \"\",TEXT(INT(P_15号様式!G57),\"#,##0\"),\"\")","v":""},{"$f":"IF(P_15号様式!G57= \"\",\"\",IF(VALUE(FIXED(P_15号様式!G57,0,TRUE))<>P_15号様式!G57,RIGHT(FIXED(P_15号様式!G57,3,FALSE),4),\"\"))","v":""},{"$f":"IF(P_15号様式!K57<> \"\",TEXT(INT(P_15号様式!K57),\"#,##0\"),\"\")","v":""},{"$f":"IF(P_15号様式!K57= \"\",\"\",IF(VALUE(FIXED(P_15号様式!K57,0,TRUE))<>P_15号様式!K57,RIGHT(FIXED(P_15号様式!K57,3,FALSE),4),\"\"))","v":""},{"$f":"IF(P_15号様式!O57<> \"\",TEXT(INT(P_15号様式!O57),\"#,##0\"),\"\")","v":""},{"$f":"IF(P_15号様式!O57= \"\",\"\",IF(VALUE(FIXED(P_15号様式!O57,0,TRUE))<>P_15号様式!O57,RIGHT(FIXED(P_15号様式!O57,3,FALSE),4),\"\"))","v":""},{"$f":"IF(P_15号様式!S57<> \"\",TEXT(INT(P_15号様式!S57),\"#,##0\"),\"\")","v":""},{"$f":"IF(P_15号様式!S57= \"\",\"\",IF(VALUE(FIXED(P_15号様式!S57,0,TRUE))<>P_15号様式!S57,RIGHT(FIXED(P_15号様式!S57,3,FALSE),4),\"\"))","v":""},{"$f":"IF(P_15号様式!W57<> \"\",TEXT(INT(P_15号様式!W57),\"#,##0\"),\"\")","v":""},{"$f":"IF(P_15号様式!W57= \"\",\"\",IF(VALUE(FIXED(P_15号様式!W57,0,TRUE))<>P_15号様式!W57,RIGHT(FIXED(P_15号様式!W57,3,FALSE),4),\"\"))","v":""},{"$f":"IF(P_15号様式!AA57<> \"\",TEXT(INT(P_15号様式!AA57),\"#,##0\"),\"\")","v":""},{"$f":"IF(P_15号様式!AA57= \"\",\"\",IF(VALUE(FIXED(P_15号様式!AA57,0,TRUE))<>P_15号様式!AA57,RIGHT(FIXED(P_15号様式!AA57,3,FALSE),4),\"\"))","v":""},{"$f":"IF(P_15号様式!AE57<> \"\",TEXT(INT(P_15号様式!AE57),\"#,##0\"),\"\")","v":""},{"$f":"IF(P_15号様式!AE57= \"\",\"\",IF(VALUE(FIXED(P_15号様式!AE57,0,TRUE))<>P_15号様式!AE57,RIGHT(FIXED(P_15号様式!AE57,3,FALSE),4),\"\"))","v":""},{"$f":"IF(P_15号様式!AI57<> \"\",TEXT(INT(P_15号様式!AI57),\"#,##0\"),\"\")","v":""},{"$f":"IF(P_15号様式!AI57= \"\",\"\",IF(VALUE(FIXED(P_15号様式!AI57,0,TRUE))<>P_15号様式!AI57,RIGHT(FIXED(P_15号様式!AI57,3,FALSE),4),\"\"))","v":""},{"$f":"IF(P_15号様式!AM57<> \"\",TEXT(INT(P_15号様式!AM57),\"#,##0\"),\"\")","v":""},{"$f":"IF(P_15号様式!AM57= \"\",\"\",IF(VALUE(FIXED(P_15号様式!AM57,0,TRUE))<>P_15号様式!AM57,RIGHT(FIXED(P_15号様式!AM57,3,FALSE),4),\"\"))","v":""},{"$f":"IF(P_15号様式!AQ57<> \"\",TEXT(INT(P_15号様式!AQ57),\"#,##0\"),\"\")","v":""},{"$f":"IF(P_15号様式!AQ57= \"\",\"\",IF(VALUE(FIXED(P_15号様式!AQ57,0,TRUE))<>P_15号様式!AQ57,RIGHT(FIXED(P_15号様式!AQ57,3,FALSE),4),\"\"))","v":""},{"$f":"IF(P_15号様式!AR57<> \"\",TEXT(INT(P_15号様式!AR57),\"#,##0\"),\"\")","v":""},null,{"$f":"IF(P_15号様式!AR57= \"\",\"\",IF(VALUE(FIXED(P_15号様式!AR57,0,TRUE))<>P_15号様式!AR57,RIGHT(FIXED(P_15号様式!AR57,3,FALSE),4),\"\"))","v":""}]
[{"$f":"IF(P_15号様式!C58=\"\",\"\",P_15号様式!C58)","v":""},null,{"$f":"IF(P_15号様式!G58<> \"\",TEXT(INT(P_15号様式!G58),\"#,##0\"),\"\")","v":""},{"$f":"IF(P_15号様式!G58= \"\",\"\",IF(VALUE(FIXED(P_15号様式!G58,0,TRUE))<>P_15号様式!G58,RIGHT(FIXED(P_15号様式!G58,3,FALSE),4),\"\"))","v":""},{"$f":"IF(P_15号様式!K58<> \"\",TEXT(INT(P_15号様式!K58),\"#,##0\"),\"\")","v":""},{"$f":"IF(P_15号様式!K58= \"\",\"\",IF(VALUE(FIXED(P_15号様式!K58,0,TRUE))<>P_15号様式!K58,RIGHT(FIXED(P_15号様式!K58,3,FALSE),4),\"\"))","v":""},{"$f":"IF(P_15号様式!O58<> \"\",TEXT(INT(P_15号様式!O58),\"#,##0\"),\"\")","v":""},{"$f":"IF(P_15号様式!O58= \"\",\"\",IF(VALUE(FIXED(P_15号様式!O58,0,TRUE))<>P_15号様式!O58,RIGHT(FIXED(P_15号様式!O58,3,FALSE),4),\"\"))","v":""},{"$f":"IF(P_15号様式!S58<> \"\",TEXT(INT(P_15号様式!S58),\"#,##0\"),\"\")","v":""},{"$f":"IF(P_15号様式!S58= \"\",\"\",IF(VALUE(FIXED(P_15号様式!S58,0,TRUE))<>P_15号様式!S58,RIGHT(FIXED(P_15号様式!S58,3,FALSE),4),\"\"))","v":""},{"$f":"IF(P_15号様式!W58<> \"\",TEXT(INT(P_15号様式!W58),\"#,##0\"),\"\")","v":""},{"$f":"IF(P_15号様式!W58= \"\",\"\",IF(VALUE(FIXED(P_15号様式!W58,0,TRUE))<>P_15号様式!W58,RIGHT(FIXED(P_15号様式!W58,3,FALSE),4),\"\"))","v":""},{"$f":"IF(P_15号様式!AA58<> \"\",TEXT(INT(P_15号様式!AA58),\"#,##0\"),\"\")","v":""},{"$f":"IF(P_15号様式!AA58= \"\",\"\",IF(VALUE(FIXED(P_15号様式!AA58,0,TRUE))<>P_15号様式!AA58,RIGHT(FIXED(P_15号様式!AA58,3,FALSE),4),\"\"))","v":""},{"$f":"IF(P_15号様式!AE58<> \"\",TEXT(INT(P_15号様式!AE58),\"#,##0\"),\"\")","v":""},{"$f":"IF(P_15号様式!AE58= \"\",\"\",IF(VALUE(FIXED(P_15号様式!AE58,0,TRUE))<>P_15号様式!AE58,RIGHT(FIXED(P_15号様式!AE58,3,FALSE),4),\"\"))","v":""},{"$f":"IF(P_15号様式!AI58<> \"\",TEXT(INT(P_15号様式!AI58),\"#,##0\"),\"\")","v":""},{"$f":"IF(P_15号様式!AI58= \"\",\"\",IF(VALUE(FIXED(P_15号様式!AI58,0,TRUE))<>P_15号様式!AI58,RIGHT(FIXED(P_15号様式!AI58,3,FALSE),4),\"\"))","v":""},{"$f":"IF(P_15号様式!AM58<> \"\",TEXT(INT(P_15号様式!AM58),\"#,##0\"),\"\")","v":""},{"$f":"IF(P_15号様式!AM58= \"\",\"\",IF(VALUE(FIXED(P_15号様式!AM58,0,TRUE))<>P_15号様式!AM58,RIGHT(FIXED(P_15号様式!AM58,3,FALSE),4),\"\"))","v":""},{"$f":"IF(P_15号様式!AQ58<> \"\",TEXT(INT(P_15号様式!AQ58),\"#,##0\"),\"\")","v":""},{"$f":"IF(P_15号様式!AQ58= \"\",\"\",IF(VALUE(FIXED(P_15号様式!AQ58,0,TRUE))<>P_15号様式!AQ58,RIGHT(FIXED(P_15号様式!AQ58,3,FALSE),4),\"\"))","v":""},{"$f":"IF(P_15号様式!AR58<> \"\",TEXT(INT(P_15号様式!AR58),\"#,##0\"),\"\")","v":""},null,{"$f":"IF(P_15号様式!AR58= \"\",\"\",IF(VALUE(FIXED(P_15号様式!AR58,0,TRUE))<>P_15号様式!AR58,RIGHT(FIXED(P_15号様式!AR58,3,FALSE),4),\"\"))","v":""}]
[{"$f":"IF(P_15号様式!C59=\"\",\"\",P_15号様式!C59)","v":""},null,{"$f":"IF(P_15号様式!G59<> \"\",TEXT(INT(P_15号様式!G59),\"#,##0\"),\"\")","v":""},{"$f":"IF(P_15号様式!G59= \"\",\"\",IF(VALUE(FIXED(P_15号様式!G59,0,TRUE))<>P_15号様式!G59,RIGHT(FIXED(P_15号様式!G59,3,FALSE),4),\"\"))","v":""},{"$f":"IF(P_15号様式!K59<> \"\",TEXT(INT(P_15号様式!K59),\"#,##0\"),\"\")","v":""},{"$f":"IF(P_15号様式!K59= \"\",\"\",IF(VALUE(FIXED(P_15号様式!K59,0,TRUE))<>P_15号様式!K59,RIGHT(FIXED(P_15号様式!K59,3,FALSE),4),\"\"))","v":""},{"$f":"IF(P_15号様式!O59<> \"\",TEXT(INT(P_15号様式!O59),\"#,##0\"),\"\")","v":""},{"$f":"IF(P_15号様式!O59= \"\",\"\",IF(VALUE(FIXED(P_15号様式!O59,0,TRUE))<>P_15号様式!O59,RIGHT(FIXED(P_15号様式!O59,3,FALSE),4),\"\"))","v":""},{"$f":"IF(P_15号様式!S59<> \"\",TEXT(INT(P_15号様式!S59),\"#,##0\"),\"\")","v":""},{"$f":"IF(P_15号様式!S59= \"\",\"\",IF(VALUE(FIXED(P_15号様式!S59,0,TRUE))<>P_15号様式!S59,RIGHT(FIXED(P_15号様式!S59,3,FALSE),4),\"\"))","v":""},{"$f":"IF(P_15号様式!W59<> \"\",TEXT(INT(P_15号様式!W59),\"#,##0\"),\"\")","v":""},{"$f":"IF(P_15号様式!W59= \"\",\"\",IF(VALUE(FIXED(P_15号様式!W59,0,TRUE))<>P_15号様式!W59,RIGHT(FIXED(P_15号様式!W59,3,FALSE),4),\"\"))","v":""},{"$f":"IF(P_15号様式!AA59<> \"\",TEXT(INT(P_15号様式!AA59),\"#,##0\"),\"\")","v":""},{"$f":"IF(P_15号様式!AA59= \"\",\"\",IF(VALUE(FIXED(P_15号様式!AA59,0,TRUE))<>P_15号様式!AA59,RIGHT(FIXED(P_15号様式!AA59,3,FALSE),4),\"\"))","v":""},{"$f":"IF(P_15号様式!AE59<> \"\",TEXT(INT(P_15号様式!AE59),\"#,##0\"),\"\")","v":""},{"$f":"IF(P_15号様式!AE59= \"\",\"\",IF(VALUE(FIXED(P_15号様式!AE59,0,TRUE))<>P_15号様式!AE59,RIGHT(FIXED(P_15号様式!AE59,3,FALSE),4),\"\"))","v":""},{"$f":"IF(P_15号様式!AI59<> \"\",TEXT(INT(P_15号様式!AI59),\"#,##0\"),\"\")","v":""},{"$f":"IF(P_15号様式!AI59= \"\",\"\",IF(VALUE(FIXED(P_15号様式!AI59,0,TRUE))<>P_15号様式!AI59,RIGHT(FIXED(P_15号様式!AI59,3,FALSE),4),\"\"))","v":""},{"$f":"IF(P_15号様式!AM59<> \"\",TEXT(INT(P_15号様式!AM59),\"#,##0\"),\"\")","v":""},{"$f":"IF(P_15号様式!AM59= \"\",\"\",IF(VALUE(FIXED(P_15号様式!AM59,0,TRUE))<>P_15号様式!AM59,RIGHT(FIXED(P_15号様式!AM59,3,FALSE),4),\"\"))","v":""},{"$f":"IF(P_15号様式!AQ59<> \"\",TEXT(INT(P_15号様式!AQ59),\"#,##0\"),\"\")","v":""},{"$f":"IF(P_15号様式!AQ59= \"\",\"\",IF(VALUE(FIXED(P_15号様式!AQ59,0,TRUE))<>P_15号様式!AQ59,RIGHT(FIXED(P_15号様式!AQ59,3,FALSE),4),\"\"))","v":""},{"$f":"IF(P_15号様式!AR59<> \"\",TEXT(INT(P_15号様式!AR59),\"#,##0\"),\"\")","v":""},null,{"$f":"IF(P_15号様式!AR59= \"\",\"\",IF(VALUE(FIXED(P_15号様式!AR59,0,TRUE))<>P_15号様式!AR59,RIGHT(FIXED(P_15号様式!AR59,3,FALSE),4),\"\"))","v":""}]
[{"$f":"IF(P_15号様式!C60=\"\",\"\",P_15号様式!C60)","v":""},null,{"$f":"IF(P_15号様式!G60<> \"\",TEXT(INT(P_15号様式!G60),\"#,##0\"),\"\")","v":""},{"$f":"IF(P_15号様式!G60= \"\",\"\",IF(VALUE(FIXED(P_15号様式!G60,0,TRUE))<>P_15号様式!G60,RIGHT(FIXED(P_15号様式!G60,3,FALSE),4),\"\"))","v":""},{"$f":"IF(P_15号様式!K60<> \"\",TEXT(INT(P_15号様式!K60),\"#,##0\"),\"\")","v":""},{"$f":"IF(P_15号様式!K60= \"\",\"\",IF(VALUE(FIXED(P_15号様式!K60,0,TRUE))<>P_15号様式!K60,RIGHT(FIXED(P_15号様式!K60,3,FALSE),4),\"\"))","v":""},{"$f":"IF(P_15号様式!O60<> \"\",TEXT(INT(P_15号様式!O60),\"#,##0\"),\"\")","v":""},{"$f":"IF(P_15号様式!O60= \"\",\"\",IF(VALUE(FIXED(P_15号様式!O60,0,TRUE))<>P_15号様式!O60,RIGHT(FIXED(P_15号様式!O60,3,FALSE),4),\"\"))","v":""},{"$f":"IF(P_15号様式!S60<> \"\",TEXT(INT(P_15号様式!S60),\"#,##0\"),\"\")","v":""},{"$f":"IF(P_15号様式!S60= \"\",\"\",IF(VALUE(FIXED(P_15号様式!S60,0,TRUE))<>P_15号様式!S60,RIGHT(FIXED(P_15号様式!S60,3,FALSE),4),\"\"))","v":""},{"$f":"IF(P_15号様式!W60<> \"\",TEXT(INT(P_15号様式!W60),\"#,##0\"),\"\")","v":""},{"$f":"IF(P_15号様式!W60= \"\",\"\",IF(VALUE(FIXED(P_15号様式!W60,0,TRUE))<>P_15号様式!W60,RIGHT(FIXED(P_15号様式!W60,3,FALSE),4),\"\"))","v":""},{"$f":"IF(P_15号様式!AA60<> \"\",TEXT(INT(P_15号様式!AA60),\"#,##0\"),\"\")","v":""},{"$f":"IF(P_15号様式!AA60= \"\",\"\",IF(VALUE(FIXED(P_15号様式!AA60,0,TRUE))<>P_15号様式!AA60,RIGHT(FIXED(P_15号様式!AA60,3,FALSE),4),\"\"))","v":""},{"$f":"IF(P_15号様式!AE60<> \"\",TEXT(INT(P_15号様式!AE60),\"#,##0\"),\"\")","v":""},{"$f":"IF(P_15号様式!AE60= \"\",\"\",IF(VALUE(FIXED(P_15号様式!AE60,0,TRUE))<>P_15号様式!AE60,RIGHT(FIXED(P_15号様式!AE60,3,FALSE),4),\"\"))","v":""},{"$f":"IF(P_15号様式!AI60<> \"\",TEXT(INT(P_15号様式!AI60),\"#,##0\"),\"\")","v":""},{"$f":"IF(P_15号様式!AI60= \"\",\"\",IF(VALUE(FIXED(P_15号様式!AI60,0,TRUE))<>P_15号様式!AI60,RIGHT(FIXED(P_15号様式!AI60,3,FALSE),4),\"\"))","v":""},{"$f":"IF(P_15号様式!AM60<> \"\",TEXT(INT(P_15号様式!AM60),\"#,##0\"),\"\")","v":""},{"$f":"IF(P_15号様式!AM60= \"\",\"\",IF(VALUE(FIXED(P_15号様式!AM60,0,TRUE))<>P_15号様式!AM60,RIGHT(FIXED(P_15号様式!AM60,3,FALSE),4),\"\"))","v":""},{"$f":"IF(P_15号様式!AQ60<> \"\",TEXT(INT(P_15号様式!AQ60),\"#,##0\"),\"\")","v":""},{"$f":"IF(P_15号様式!AQ60= \"\",\"\",IF(VALUE(FIXED(P_15号様式!AQ60,0,TRUE))<>P_15号様式!AQ60,RIGHT(FIXED(P_15号様式!AQ60,3,FALSE),4),\"\"))","v":""},{"$f":"IF(P_15号様式!AR60<> \"\",TEXT(INT(P_15号様式!AR60),\"#,##0\"),\"\")","v":""},null,{"$f":"IF(P_15号様式!AR60= \"\",\"\",IF(VALUE(FIXED(P_15号様式!AR60,0,TRUE))<>P_15号様式!AR60,RIGHT(FIXED(P_15号様式!AR60,3,FALSE),4),\"\"))","v":""}]
[{"$f":"IF(P_15号様式!C61=\"\",\"\",P_15号様式!C61)","v":""},null,{"$f":"IF(P_15号様式!G61<> \"\",TEXT(INT(P_15号様式!G61),\"#,##0\"),\"\")","v":""},{"$f":"IF(P_15号様式!G61= \"\",\"\",IF(VALUE(FIXED(P_15号様式!G61,0,TRUE))<>P_15号様式!G61,RIGHT(FIXED(P_15号様式!G61,3,FALSE),4),\"\"))","v":""},{"$f":"IF(P_15号様式!K61<> \"\",TEXT(INT(P_15号様式!K61),\"#,##0\"),\"\")","v":""},{"$f":"IF(P_15号様式!K61= \"\",\"\",IF(VALUE(FIXED(P_15号様式!K61,0,TRUE))<>P_15号様式!K61,RIGHT(FIXED(P_15号様式!K61,3,FALSE),4),\"\"))","v":""},{"$f":"IF(P_15号様式!O61<> \"\",TEXT(INT(P_15号様式!O61),\"#,##0\"),\"\")","v":""},{"$f":"IF(P_15号様式!O61= \"\",\"\",IF(VALUE(FIXED(P_15号様式!O61,0,TRUE))<>P_15号様式!O61,RIGHT(FIXED(P_15号様式!O61,3,FALSE),4),\"\"))","v":""},{"$f":"IF(P_15号様式!S61<> \"\",TEXT(INT(P_15号様式!S61),\"#,##0\"),\"\")","v":""},{"$f":"IF(P_15号様式!S61= \"\",\"\",IF(VALUE(FIXED(P_15号様式!S61,0,TRUE))<>P_15号様式!S61,RIGHT(FIXED(P_15号様式!S61,3,FALSE),4),\"\"))","v":""},{"$f":"IF(P_15号様式!W61<> \"\",TEXT(INT(P_15号様式!W61),\"#,##0\"),\"\")","v":""},{"$f":"IF(P_15号様式!W61= \"\",\"\",IF(VALUE(FIXED(P_15号様式!W61,0,TRUE))<>P_15号様式!W61,RIGHT(FIXED(P_15号様式!W61,3,FALSE),4),\"\"))","v":""},{"$f":"IF(P_15号様式!AA61<> \"\",TEXT(INT(P_15号様式!AA61),\"#,##0\"),\"\")","v":""},{"$f":"IF(P_15号様式!AA61= \"\",\"\",IF(VALUE(FIXED(P_15号様式!AA61,0,TRUE))<>P_15号様式!AA61,RIGHT(FIXED(P_15号様式!AA61,3,FALSE),4),\"\"))","v":""},{"$f":"IF(P_15号様式!AE61<> \"\",TEXT(INT(P_15号様式!AE61),\"#,##0\"),\"\")","v":""},{"$f":"IF(P_15号様式!AE61= \"\",\"\",IF(VALUE(FIXED(P_15号様式!AE61,0,TRUE))<>P_15号様式!AE61,RIGHT(FIXED(P_15号様式!AE61,3,FALSE),4),\"\"))","v":""},{"$f":"IF(P_15号様式!AI61<> \"\",TEXT(INT(P_15号様式!AI61),\"#,##0\"),\"\")","v":""},{"$f":"IF(P_15号様式!AI61= \"\",\"\",IF(VALUE(FIXED(P_15号様式!AI61,0,TRUE))<>P_15号様式!AI61,RIGHT(FIXED(P_15号様式!AI61,3,FALSE),4),\"\"))","v":""},{"$f":"IF(P_15号様式!AM61<> \"\",TEXT(INT(P_15号様式!AM61),\"#,##0\"),\"\")","v":""},{"$f":"IF(P_15号様式!AM61= \"\",\"\",IF(VALUE(FIXED(P_15号様式!AM61,0,TRUE))<>P_15号様式!AM61,RIGHT(FIXED(P_15号様式!AM61,3,FALSE),4),\"\"))","v":""},{"$f":"IF(P_15号様式!AQ61<> \"\",TEXT(INT(P_15号様式!AQ61),\"#,##0\"),\"\")","v":""},{"$f":"IF(P_15号様式!AQ61= \"\",\"\",IF(VALUE(FIXED(P_15号様式!AQ61,0,TRUE))<>P_15号様式!AQ61,RIGHT(FIXED(P_15号様式!AQ61,3,FALSE),4),\"\"))","v":""},{"$f":"IF(P_15号様式!AR61<> \"\",TEXT(INT(P_15号様式!AR61),\"#,##0\"),\"\")","v":""},null,{"$f":"IF(P_15号様式!AR61= \"\",\"\",IF(VALUE(FIXED(P_15号様式!AR61,0,TRUE))<>P_15号様式!AR61,RIGHT(FIXED(P_15号様式!AR61,3,FALSE),4),\"\"))","v":""}]
[{"$f":"IF(P_15号様式!C62=\"\",\"\",P_15号様式!C62)","v":""},null,{"$f":"IF(P_15号様式!G62<> \"\",TEXT(INT(P_15号様式!G62),\"#,##0\"),\"\")","v":""},{"$f":"IF(P_15号様式!G62= \"\",\"\",IF(VALUE(FIXED(P_15号様式!G62,0,TRUE))<>P_15号様式!G62,RIGHT(FIXED(P_15号様式!G62,3,FALSE),4),\"\"))","v":""},{"$f":"IF(P_15号様式!K62<> \"\",TEXT(INT(P_15号様式!K62),\"#,##0\"),\"\")","v":""},{"$f":"IF(P_15号様式!K62= \"\",\"\",IF(VALUE(FIXED(P_15号様式!K62,0,TRUE))<>P_15号様式!K62,RIGHT(FIXED(P_15号様式!K62,3,FALSE),4),\"\"))","v":""},{"$f":"IF(P_15号様式!O62<> \"\",TEXT(INT(P_15号様式!O62),\"#,##0\"),\"\")","v":""},{"$f":"IF(P_15号様式!O62= \"\",\"\",IF(VALUE(FIXED(P_15号様式!O62,0,TRUE))<>P_15号様式!O62,RIGHT(FIXED(P_15号様式!O62,3,FALSE),4),\"\"))","v":""},{"$f":"IF(P_15号様式!S62<> \"\",TEXT(INT(P_15号様式!S62),\"#,##0\"),\"\")","v":""},{"$f":"IF(P_15号様式!S62= \"\",\"\",IF(VALUE(FIXED(P_15号様式!S62,0,TRUE))<>P_15号様式!S62,RIGHT(FIXED(P_15号様式!S62,3,FALSE),4),\"\"))","v":""},{"$f":"IF(P_15号様式!W62<> \"\",TEXT(INT(P_15号様式!W62),\"#,##0\"),\"\")","v":""},{"$f":"IF(P_15号様式!W62= \"\",\"\",IF(VALUE(FIXED(P_15号様式!W62,0,TRUE))<>P_15号様式!W62,RIGHT(FIXED(P_15号様式!W62,3,FALSE),4),\"\"))","v":""},{"$f":"IF(P_15号様式!AA62<> \"\",TEXT(INT(P_15号様式!AA62),\"#,##0\"),\"\")","v":""},{"$f":"IF(P_15号様式!AA62= \"\",\"\",IF(VALUE(FIXED(P_15号様式!AA62,0,TRUE))<>P_15号様式!AA62,RIGHT(FIXED(P_15号様式!AA62,3,FALSE),4),\"\"))","v":""},{"$f":"IF(P_15号様式!AE62<> \"\",TEXT(INT(P_15号様式!AE62),\"#,##0\"),\"\")","v":""},{"$f":"IF(P_15号様式!AE62= \"\",\"\",IF(VALUE(FIXED(P_15号様式!AE62,0,TRUE))<>P_15号様式!AE62,RIGHT(FIXED(P_15号様式!AE62,3,FALSE),4),\"\"))","v":""},{"$f":"IF(P_15号様式!AI62<> \"\",TEXT(INT(P_15号様式!AI62),\"#,##0\"),\"\")","v":""},{"$f":"IF(P_15号様式!AI62= \"\",\"\",IF(VALUE(FIXED(P_15号様式!AI62,0,TRUE))<>P_15号様式!AI62,RIGHT(FIXED(P_15号様式!AI62,3,FALSE),4),\"\"))","v":""},{"$f":"IF(P_15号様式!AM62<> \"\",TEXT(INT(P_15号様式!AM62),\"#,##0\"),\"\")","v":""},{"$f":"IF(P_15号様式!AM62= \"\",\"\",IF(VALUE(FIXED(P_15号様式!AM62,0,TRUE))<>P_15号様式!AM62,RIGHT(FIXED(P_15号様式!AM62,3,FALSE),4),\"\"))","v":""},{"$f":"IF(P_15号様式!AQ62<> \"\",TEXT(INT(P_15号様式!AQ62),\"#,##0\"),\"\")","v":""},{"$f":"IF(P_15号様式!AQ62= \"\",\"\",IF(VALUE(FIXED(P_15号様式!AQ62,0,TRUE))<>P_15号様式!AQ62,RIGHT(FIXED(P_15号様式!AQ62,3,FALSE),4),\"\"))","v":""},{"$f":"IF(P_15号様式!AR62<> \"\",TEXT(INT(P_15号様式!AR62),\"#,##0\"),\"\")","v":""},null,{"$f":"IF(P_15号様式!AR62= \"\",\"\",IF(VALUE(FIXED(P_15号様式!AR62,0,TRUE))<>P_15号様式!AR62,RIGHT(FIXED(P_15号様式!AR62,3,FALSE),4),\"\"))","v":""}]
[{"$f":"IF(P_15号様式!C63=\"\",\"\",P_15号様式!C63)","v":""},null,{"$f":"IF(P_15号様式!G63<> \"\",TEXT(INT(P_15号様式!G63),\"#,##0\"),\"\")","v":""},{"$f":"IF(P_15号様式!G63= \"\",\"\",IF(VALUE(FIXED(P_15号様式!G63,0,TRUE))<>P_15号様式!G63,RIGHT(FIXED(P_15号様式!G63,3,FALSE),4),\"\"))","v":""},{"$f":"IF(P_15号様式!K63<> \"\",TEXT(INT(P_15号様式!K63),\"#,##0\"),\"\")","v":""},{"$f":"IF(P_15号様式!K63= \"\",\"\",IF(VALUE(FIXED(P_15号様式!K63,0,TRUE))<>P_15号様式!K63,RIGHT(FIXED(P_15号様式!K63,3,FALSE),4),\"\"))","v":""},{"$f":"IF(P_15号様式!O63<> \"\",TEXT(INT(P_15号様式!O63),\"#,##0\"),\"\")","v":""},{"$f":"IF(P_15号様式!O63= \"\",\"\",IF(VALUE(FIXED(P_15号様式!O63,0,TRUE))<>P_15号様式!O63,RIGHT(FIXED(P_15号様式!O63,3,FALSE),4),\"\"))","v":""},{"$f":"IF(P_15号様式!S63<> \"\",TEXT(INT(P_15号様式!S63),\"#,##0\"),\"\")","v":""},{"$f":"IF(P_15号様式!S63= \"\",\"\",IF(VALUE(FIXED(P_15号様式!S63,0,TRUE))<>P_15号様式!S63,RIGHT(FIXED(P_15号様式!S63,3,FALSE),4),\"\"))","v":""},{"$f":"IF(P_15号様式!W63<> \"\",TEXT(INT(P_15号様式!W63),\"#,##0\"),\"\")","v":""},{"$f":"IF(P_15号様式!W63= \"\",\"\",IF(VALUE(FIXED(P_15号様式!W63,0,TRUE))<>P_15号様式!W63,RIGHT(FIXED(P_15号様式!W63,3,FALSE),4),\"\"))","v":""},{"$f":"IF(P_15号様式!AA63<> \"\",TEXT(INT(P_15号様式!AA63),\"#,##0\"),\"\")","v":""},{"$f":"IF(P_15号様式!AA63= \"\",\"\",IF(VALUE(FIXED(P_15号様式!AA63,0,TRUE))<>P_15号様式!AA63,RIGHT(FIXED(P_15号様式!AA63,3,FALSE),4),\"\"))","v":""},{"$f":"IF(P_15号様式!AE63<> \"\",TEXT(INT(P_15号様式!AE63),\"#,##0\"),\"\")","v":""},{"$f":"IF(P_15号様式!AE63= \"\",\"\",IF(VALUE(FIXED(P_15号様式!AE63,0,TRUE))<>P_15号様式!AE63,RIGHT(FIXED(P_15号様式!AE63,3,FALSE),4),\"\"))","v":""},{"$f":"IF(P_15号様式!AI63<> \"\",TEXT(INT(P_15号様式!AI63),\"#,##0\"),\"\")","v":""},{"$f":"IF(P_15号様式!AI63= \"\",\"\",IF(VALUE(FIXED(P_15号様式!AI63,0,TRUE))<>P_15号様式!AI63,RIGHT(FIXED(P_15号様式!AI63,3,FALSE),4),\"\"))","v":""},{"$f":"IF(P_15号様式!AM63<> \"\",TEXT(INT(P_15号様式!AM63),\"#,##0\"),\"\")","v":""},{"$f":"IF(P_15号様式!AM63= \"\",\"\",IF(VALUE(FIXED(P_15号様式!AM63,0,TRUE))<>P_15号様式!AM63,RIGHT(FIXED(P_15号様式!AM63,3,FALSE),4),\"\"))","v":""},{"$f":"IF(P_15号様式!AQ63<> \"\",TEXT(INT(P_15号様式!AQ63),\"#,##0\"),\"\")","v":""},{"$f":"IF(P_15号様式!AQ63= \"\",\"\",IF(VALUE(FIXED(P_15号様式!AQ63,0,TRUE))<>P_15号様式!AQ63,RIGHT(FIXED(P_15号様式!AQ63,3,FALSE),4),\"\"))","v":""},{"$f":"IF(P_15号様式!AR63<> \"\",TEXT(INT(P_15号様式!AR63),\"#,##0\"),\"\")","v":""},null,{"$f":"IF(P_15号様式!AR63= \"\",\"\",IF(VALUE(FIXED(P_15号様式!AR63,0,TRUE))<>P_15号様式!AR63,RIGHT(FIXED(P_15号様式!AR63,3,FALSE),4),\"\"))","v":""}]
[{"$f":"IF(P_15号様式!C64=\"\",\"\",P_15号様式!C64)","v":""},null,{"$f":"IF(P_15号様式!G64<> \"\",TEXT(INT(P_15号様式!G64),\"#,##0\"),\"\")","v":""},{"$f":"IF(P_15号様式!G64= \"\",\"\",IF(VALUE(FIXED(P_15号様式!G64,0,TRUE))<>P_15号様式!G64,RIGHT(FIXED(P_15号様式!G64,3,FALSE),4),\"\"))","v":""},{"$f":"IF(P_15号様式!K64<> \"\",TEXT(INT(P_15号様式!K64),\"#,##0\"),\"\")","v":""},{"$f":"IF(P_15号様式!K64= \"\",\"\",IF(VALUE(FIXED(P_15号様式!K64,0,TRUE))<>P_15号様式!K64,RIGHT(FIXED(P_15号様式!K64,3,FALSE),4),\"\"))","v":""},{"$f":"IF(P_15号様式!O64<> \"\",TEXT(INT(P_15号様式!O64),\"#,##0\"),\"\")","v":""},{"$f":"IF(P_15号様式!O64= \"\",\"\",IF(VALUE(FIXED(P_15号様式!O64,0,TRUE))<>P_15号様式!O64,RIGHT(FIXED(P_15号様式!O64,3,FALSE),4),\"\"))","v":""},{"$f":"IF(P_15号様式!S64<> \"\",TEXT(INT(P_15号様式!S64),\"#,##0\"),\"\")","v":""},{"$f":"IF(P_15号様式!S64= \"\",\"\",IF(VALUE(FIXED(P_15号様式!S64,0,TRUE))<>P_15号様式!S64,RIGHT(FIXED(P_15号様式!S64,3,FALSE),4),\"\"))","v":""},{"$f":"IF(P_15号様式!W64<> \"\",TEXT(INT(P_15号様式!W64),\"#,##0\"),\"\")","v":""},{"$f":"IF(P_15号様式!W64= \"\",\"\",IF(VALUE(FIXED(P_15号様式!W64,0,TRUE))<>P_15号様式!W64,RIGHT(FIXED(P_15号様式!W64,3,FALSE),4),\"\"))","v":""},{"$f":"IF(P_15号様式!AA64<> \"\",TEXT(INT(P_15号様式!AA64),\"#,##0\"),\"\")","v":""},{"$f":"IF(P_15号様式!AA64= \"\",\"\",IF(VALUE(FIXED(P_15号様式!AA64,0,TRUE))<>P_15号様式!AA64,RIGHT(FIXED(P_15号様式!AA64,3,FALSE),4),\"\"))","v":""},{"$f":"IF(P_15号様式!AE64<> \"\",TEXT(INT(P_15号様式!AE64),\"#,##0\"),\"\")","v":""},{"$f":"IF(P_15号様式!AE64= \"\",\"\",IF(VALUE(FIXED(P_15号様式!AE64,0,TRUE))<>P_15号様式!AE64,RIGHT(FIXED(P_15号様式!AE64,3,FALSE),4),\"\"))","v":""},{"$f":"IF(P_15号様式!AI64<> \"\",TEXT(INT(P_15号様式!AI64),\"#,##0\"),\"\")","v":""},{"$f":"IF(P_15号様式!AI64= \"\",\"\",IF(VALUE(FIXED(P_15号様式!AI64,0,TRUE))<>P_15号様式!AI64,RIGHT(FIXED(P_15号様式!AI64,3,FALSE),4),\"\"))","v":""},{"$f":"IF(P_15号様式!AM64<> \"\",TEXT(INT(P_15号様式!AM64),\"#,##0\"),\"\")","v":""},{"$f":"IF(P_15号様式!AM64= \"\",\"\",IF(VALUE(FIXED(P_15号様式!AM64,0,TRUE))<>P_15号様式!AM64,RIGHT(FIXED(P_15号様式!AM64,3,FALSE),4),\"\"))","v":""},{"$f":"IF(P_15号様式!AQ64<> \"\",TEXT(INT(P_15号様式!AQ64),\"#,##0\"),\"\")","v":""},{"$f":"IF(P_15号様式!AQ64= \"\",\"\",IF(VALUE(FIXED(P_15号様式!AQ64,0,TRUE))<>P_15号様式!AQ64,RIGHT(FIXED(P_15号様式!AQ64,3,FALSE),4),\"\"))","v":""},{"$f":"IF(P_15号様式!AR64<> \"\",TEXT(INT(P_15号様式!AR64),\"#,##0\"),\"\")","v":""},null,{"$f":"IF(P_15号様式!AR64= \"\",\"\",IF(VALUE(FIXED(P_15号様式!AR64,0,TRUE))<>P_15号様式!AR64,RIGHT(FIXED(P_15号様式!AR64,3,FALSE),4),\"\"))","v":""}]
[{"$f":"IF(P_15号様式!C65=\"\",\"\",P_15号様式!C65)","v":""},null,{"$f":"IF(P_15号様式!G65<> \"\",TEXT(INT(P_15号様式!G65),\"#,##0\"),\"\")","v":""},{"$f":"IF(P_15号様式!G65= \"\",\"\",IF(VALUE(FIXED(P_15号様式!G65,0,TRUE))<>P_15号様式!G65,RIGHT(FIXED(P_15号様式!G65,3,FALSE),4),\"\"))","v":""},{"$f":"IF(P_15号様式!K65<> \"\",TEXT(INT(P_15号様式!K65),\"#,##0\"),\"\")","v":""},{"$f":"IF(P_15号様式!K65= \"\",\"\",IF(VALUE(FIXED(P_15号様式!K65,0,TRUE))<>P_15号様式!K65,RIGHT(FIXED(P_15号様式!K65,3,FALSE),4),\"\"))","v":""},{"$f":"IF(P_15号様式!O65<> \"\",TEXT(INT(P_15号様式!O65),\"#,##0\"),\"\")","v":""},{"$f":"IF(P_15号様式!O65= \"\",\"\",IF(VALUE(FIXED(P_15号様式!O65,0,TRUE))<>P_15号様式!O65,RIGHT(FIXED(P_15号様式!O65,3,FALSE),4),\"\"))","v":""},{"$f":"IF(P_15号様式!S65<> \"\",TEXT(INT(P_15号様式!S65),\"#,##0\"),\"\")","v":""},{"$f":"IF(P_15号様式!S65= \"\",\"\",IF(VALUE(FIXED(P_15号様式!S65,0,TRUE))<>P_15号様式!S65,RIGHT(FIXED(P_15号様式!S65,3,FALSE),4),\"\"))","v":""},{"$f":"IF(P_15号様式!W65<> \"\",TEXT(INT(P_15号様式!W65),\"#,##0\"),\"\")","v":""},{"$f":"IF(P_15号様式!W65= \"\",\"\",IF(VALUE(FIXED(P_15号様式!W65,0,TRUE))<>P_15号様式!W65,RIGHT(FIXED(P_15号様式!W65,3,FALSE),4),\"\"))","v":""},{"$f":"IF(P_15号様式!AA65<> \"\",TEXT(INT(P_15号様式!AA65),\"#,##0\"),\"\")","v":""},{"$f":"IF(P_15号様式!AA65= \"\",\"\",IF(VALUE(FIXED(P_15号様式!AA65,0,TRUE))<>P_15号様式!AA65,RIGHT(FIXED(P_15号様式!AA65,3,FALSE),4),\"\"))","v":""},{"$f":"IF(P_15号様式!AE65<> \"\",TEXT(INT(P_15号様式!AE65),\"#,##0\"),\"\")","v":""},{"$f":"IF(P_15号様式!AE65= \"\",\"\",IF(VALUE(FIXED(P_15号様式!AE65,0,TRUE))<>P_15号様式!AE65,RIGHT(FIXED(P_15号様式!AE65,3,FALSE),4),\"\"))","v":""},{"$f":"IF(P_15号様式!AI65<> \"\",TEXT(INT(P_15号様式!AI65),\"#,##0\"),\"\")","v":""},{"$f":"IF(P_15号様式!AI65= \"\",\"\",IF(VALUE(FIXED(P_15号様式!AI65,0,TRUE))<>P_15号様式!AI65,RIGHT(FIXED(P_15号様式!AI65,3,FALSE),4),\"\"))","v":""},{"$f":"IF(P_15号様式!AM65<> \"\",TEXT(INT(P_15号様式!AM65),\"#,##0\"),\"\")","v":""},{"$f":"IF(P_15号様式!AM65= \"\",\"\",IF(VALUE(FIXED(P_15号様式!AM65,0,TRUE))<>P_15号様式!AM65,RIGHT(FIXED(P_15号様式!AM65,3,FALSE),4),\"\"))","v":""},{"$f":"IF(P_15号様式!AQ65<> \"\",TEXT(INT(P_15号様式!AQ65),\"#,##0\"),\"\")","v":""},{"$f":"IF(P_15号様式!AQ65= \"\",\"\",IF(VALUE(FIXED(P_15号様式!AQ65,0,TRUE))<>P_15号様式!AQ65,RIGHT(FIXED(P_15号様式!AQ65,3,FALSE),4),\"\"))","v":""},{"$f":"IF(P_15号様式!AR65<> \"\",TEXT(INT(P_15号様式!AR65),\"#,##0\"),\"\")","v":""},null,{"$f":"IF(P_15号様式!AR65= \"\",\"\",IF(VALUE(FIXED(P_15号様式!AR65,0,TRUE))<>P_15号様式!AR65,RIGHT(FIXED(P_15号様式!AR65,3,FALSE),4),\"\"))","v":""}]
[{"$f":"IF(P_15号様式!C66=\"\",\"\",P_15号様式!C66)","v":""},null,{"$f":"IF(P_15号様式!G66<> \"\",TEXT(INT(P_15号様式!G66),\"#,##0\"),\"\")","v":""},{"$f":"IF(P_15号様式!G66= \"\",\"\",IF(VALUE(FIXED(P_15号様式!G66,0,TRUE))<>P_15号様式!G66,RIGHT(FIXED(P_15号様式!G66,3,FALSE),4),\"\"))","v":""},{"$f":"IF(P_15号様式!K66<> \"\",TEXT(INT(P_15号様式!K66),\"#,##0\"),\"\")","v":""},{"$f":"IF(P_15号様式!K66= \"\",\"\",IF(VALUE(FIXED(P_15号様式!K66,0,TRUE))<>P_15号様式!K66,RIGHT(FIXED(P_15号様式!K66,3,FALSE),4),\"\"))","v":""},{"$f":"IF(P_15号様式!O66<> \"\",TEXT(INT(P_15号様式!O66),\"#,##0\"),\"\")","v":""},{"$f":"IF(P_15号様式!O66= \"\",\"\",IF(VALUE(FIXED(P_15号様式!O66,0,TRUE))<>P_15号様式!O66,RIGHT(FIXED(P_15号様式!O66,3,FALSE),4),\"\"))","v":""},{"$f":"IF(P_15号様式!S66<> \"\",TEXT(INT(P_15号様式!S66),\"#,##0\"),\"\")","v":""},{"$f":"IF(P_15号様式!S66= \"\",\"\",IF(VALUE(FIXED(P_15号様式!S66,0,TRUE))<>P_15号様式!S66,RIGHT(FIXED(P_15号様式!S66,3,FALSE),4),\"\"))","v":""},{"$f":"IF(P_15号様式!W66<> \"\",TEXT(INT(P_15号様式!W66),\"#,##0\"),\"\")","v":""},{"$f":"IF(P_15号様式!W66= \"\",\"\",IF(VALUE(FIXED(P_15号様式!W66,0,TRUE))<>P_15号様式!W66,RIGHT(FIXED(P_15号様式!W66,3,FALSE),4),\"\"))","v":""},{"$f":"IF(P_15号様式!AA66<> \"\",TEXT(INT(P_15号様式!AA66),\"#,##0\"),\"\")","v":""},{"$f":"IF(P_15号様式!AA66= \"\",\"\",IF(VALUE(FIXED(P_15号様式!AA66,0,TRUE))<>P_15号様式!AA66,RIGHT(FIXED(P_15号様式!AA66,3,FALSE),4),\"\"))","v":""},{"$f":"IF(P_15号様式!AE66<> \"\",TEXT(INT(P_15号様式!AE66),\"#,##0\"),\"\")","v":""},{"$f":"IF(P_15号様式!AE66= \"\",\"\",IF(VALUE(FIXED(P_15号様式!AE66,0,TRUE))<>P_15号様式!AE66,RIGHT(FIXED(P_15号様式!AE66,3,FALSE),4),\"\"))","v":""},{"$f":"IF(P_15号様式!AI66<> \"\",TEXT(INT(P_15号様式!AI66),\"#,##0\"),\"\")","v":""},{"$f":"IF(P_15号様式!AI66= \"\",\"\",IF(VALUE(FIXED(P_15号様式!AI66,0,TRUE))<>P_15号様式!AI66,RIGHT(FIXED(P_15号様式!AI66,3,FALSE),4),\"\"))","v":""},{"$f":"IF(P_15号様式!AM66<> \"\",TEXT(INT(P_15号様式!AM66),\"#,##0\"),\"\")","v":""},{"$f":"IF(P_15号様式!AM66= \"\",\"\",IF(VALUE(FIXED(P_15号様式!AM66,0,TRUE))<>P_15号様式!AM66,RIGHT(FIXED(P_15号様式!AM66,3,FALSE),4),\"\"))","v":""},{"$f":"IF(P_15号様式!AQ66<> \"\",TEXT(INT(P_15号様式!AQ66),\"#,##0\"),\"\")","v":""},{"$f":"IF(P_15号様式!AQ66= \"\",\"\",IF(VALUE(FIXED(P_15号様式!AQ66,0,TRUE))<>P_15号様式!AQ66,RIGHT(FIXED(P_15号様式!AQ66,3,FALSE),4),\"\"))","v":""},{"$f":"IF(P_15号様式!AR66<> \"\",TEXT(INT(P_15号様式!AR66),\"#,##0\"),\"\")","v":""},null,{"$f":"IF(P_15号様式!AR66= \"\",\"\",IF(VALUE(FIXED(P_15号様式!AR66,0,TRUE))<>P_15号様式!AR66,RIGHT(FIXED(P_15号様式!AR66,3,FALSE),4),\"\"))","v":""}]
[{"$f":"IF(P_15号様式!C67=\"\",\"\",P_15号様式!C67)","v":""},null,{"$f":"IF(P_15号様式!G67<> \"\",TEXT(INT(P_15号様式!G67),\"#,##0\"),\"\")","v":""},{"$f":"IF(P_15号様式!G67= \"\",\"\",IF(VALUE(FIXED(P_15号様式!G67,0,TRUE))<>P_15号様式!G67,RIGHT(FIXED(P_15号様式!G67,3,FALSE),4),\"\"))","v":""},{"$f":"IF(P_15号様式!K67<> \"\",TEXT(INT(P_15号様式!K67),\"#,##0\"),\"\")","v":""},{"$f":"IF(P_15号様式!K67= \"\",\"\",IF(VALUE(FIXED(P_15号様式!K67,0,TRUE))<>P_15号様式!K67,RIGHT(FIXED(P_15号様式!K67,3,FALSE),4),\"\"))","v":""},{"$f":"IF(P_15号様式!O67<> \"\",TEXT(INT(P_15号様式!O67),\"#,##0\"),\"\")","v":""},{"$f":"IF(P_15号様式!O67= \"\",\"\",IF(VALUE(FIXED(P_15号様式!O67,0,TRUE))<>P_15号様式!O67,RIGHT(FIXED(P_15号様式!O67,3,FALSE),4),\"\"))","v":""},{"$f":"IF(P_15号様式!S67<> \"\",TEXT(INT(P_15号様式!S67),\"#,##0\"),\"\")","v":""},{"$f":"IF(P_15号様式!S67= \"\",\"\",IF(VALUE(FIXED(P_15号様式!S67,0,TRUE))<>P_15号様式!S67,RIGHT(FIXED(P_15号様式!S67,3,FALSE),4),\"\"))","v":""},{"$f":"IF(P_15号様式!W67<> \"\",TEXT(INT(P_15号様式!W67),\"#,##0\"),\"\")","v":""},{"$f":"IF(P_15号様式!W67= \"\",\"\",IF(VALUE(FIXED(P_15号様式!W67,0,TRUE))<>P_15号様式!W67,RIGHT(FIXED(P_15号様式!W67,3,FALSE),4),\"\"))","v":""},{"$f":"IF(P_15号様式!AA67<> \"\",TEXT(INT(P_15号様式!AA67),\"#,##0\"),\"\")","v":""},{"$f":"IF(P_15号様式!AA67= \"\",\"\",IF(VALUE(FIXED(P_15号様式!AA67,0,TRUE))<>P_15号様式!AA67,RIGHT(FIXED(P_15号様式!AA67,3,FALSE),4),\"\"))","v":""},{"$f":"IF(P_15号様式!AE67<> \"\",TEXT(INT(P_15号様式!AE67),\"#,##0\"),\"\")","v":""},{"$f":"IF(P_15号様式!AE67= \"\",\"\",IF(VALUE(FIXED(P_15号様式!AE67,0,TRUE))<>P_15号様式!AE67,RIGHT(FIXED(P_15号様式!AE67,3,FALSE),4),\"\"))","v":""},{"$f":"IF(P_15号様式!AI67<> \"\",TEXT(INT(P_15号様式!AI67),\"#,##0\"),\"\")","v":""},{"$f":"IF(P_15号様式!AI67= \"\",\"\",IF(VALUE(FIXED(P_15号様式!AI67,0,TRUE))<>P_15号様式!AI67,RIGHT(FIXED(P_15号様式!AI67,3,FALSE),4),\"\"))","v":""},{"$f":"IF(P_15号様式!AM67<> \"\",TEXT(INT(P_15号様式!AM67),\"#,##0\"),\"\")","v":""},{"$f":"IF(P_15号様式!AM67= \"\",\"\",IF(VALUE(FIXED(P_15号様式!AM67,0,TRUE))<>P_15号様式!AM67,RIGHT(FIXED(P_15号様式!AM67,3,FALSE),4),\"\"))","v":""},{"$f":"IF(P_15号様式!AQ67<> \"\",TEXT(INT(P_15号様式!AQ67),\"#,##0\"),\"\")","v":""},{"$f":"IF(P_15号様式!AQ67= \"\",\"\",IF(VALUE(FIXED(P_15号様式!AQ67,0,TRUE))<>P_15号様式!AQ67,RIGHT(FIXED(P_15号様式!AQ67,3,FALSE),4),\"\"))","v":""},{"$f":"IF(P_15号様式!AR67<> \"\",TEXT(INT(P_15号様式!AR67),\"#,##0\"),\"\")","v":""},null,{"$f":"IF(P_15号様式!AR67= \"\",\"\",IF(VALUE(FIXED(P_15号様式!AR67,0,TRUE))<>P_15号様式!AR67,RIGHT(FIXED(P_15号様式!AR67,3,FALSE),4),\"\"))","v":""}]
[{"$f":"IF(P_15号様式!C68=\"\",\"\",P_15号様式!C68)","v":""},null,{"$f":"IF(P_15号様式!G68<> \"\",TEXT(INT(P_15号様式!G68),\"#,##0\"),\"\")","v":""},{"$f":"IF(P_15号様式!G68= \"\",\"\",IF(VALUE(FIXED(P_15号様式!G68,0,TRUE))<>P_15号様式!G68,RIGHT(FIXED(P_15号様式!G68,3,FALSE),4),\"\"))","v":""},{"$f":"IF(P_15号様式!K68<> \"\",TEXT(INT(P_15号様式!K68),\"#,##0\"),\"\")","v":""},{"$f":"IF(P_15号様式!K68= \"\",\"\",IF(VALUE(FIXED(P_15号様式!K68,0,TRUE))<>P_15号様式!K68,RIGHT(FIXED(P_15号様式!K68,3,FALSE),4),\"\"))","v":""},{"$f":"IF(P_15号様式!O68<> \"\",TEXT(INT(P_15号様式!O68),\"#,##0\"),\"\")","v":""},{"$f":"IF(P_15号様式!O68= \"\",\"\",IF(VALUE(FIXED(P_15号様式!O68,0,TRUE))<>P_15号様式!O68,RIGHT(FIXED(P_15号様式!O68,3,FALSE),4),\"\"))","v":""},{"$f":"IF(P_15号様式!S68<> \"\",TEXT(INT(P_15号様式!S68),\"#,##0\"),\"\")","v":""},{"$f":"IF(P_15号様式!S68= \"\",\"\",IF(VALUE(FIXED(P_15号様式!S68,0,TRUE))<>P_15号様式!S68,RIGHT(FIXED(P_15号様式!S68,3,FALSE),4),\"\"))","v":""},{"$f":"IF(P_15号様式!W68<> \"\",TEXT(INT(P_15号様式!W68),\"#,##0\"),\"\")","v":""},{"$f":"IF(P_15号様式!W68= \"\",\"\",IF(VALUE(FIXED(P_15号様式!W68,0,TRUE))<>P_15号様式!W68,RIGHT(FIXED(P_15号様式!W68,3,FALSE),4),\"\"))","v":""},{"$f":"IF(P_15号様式!AA68<> \"\",TEXT(INT(P_15号様式!AA68),\"#,##0\"),\"\")","v":""},{"$f":"IF(P_15号様式!AA68= \"\",\"\",IF(VALUE(FIXED(P_15号様式!AA68,0,TRUE))<>P_15号様式!AA68,RIGHT(FIXED(P_15号様式!AA68,3,FALSE),4),\"\"))","v":""},{"$f":"IF(P_15号様式!AE68<> \"\",TEXT(INT(P_15号様式!AE68),\"#,##0\"),\"\")","v":""},{"$f":"IF(P_15号様式!AE68= \"\",\"\",IF(VALUE(FIXED(P_15号様式!AE68,0,TRUE))<>P_15号様式!AE68,RIGHT(FIXED(P_15号様式!AE68,3,FALSE),4),\"\"))","v":""},{"$f":"IF(P_15号様式!AI68<> \"\",TEXT(INT(P_15号様式!AI68),\"#,##0\"),\"\")","v":""},{"$f":"IF(P_15号様式!AI68= \"\",\"\",IF(VALUE(FIXED(P_15号様式!AI68,0,TRUE))<>P_15号様式!AI68,RIGHT(FIXED(P_15号様式!AI68,3,FALSE),4),\"\"))","v":""},{"$f":"IF(P_15号様式!AM68<> \"\",TEXT(INT(P_15号様式!AM68),\"#,##0\"),\"\")","v":""},{"$f":"IF(P_15号様式!AM68= \"\",\"\",IF(VALUE(FIXED(P_15号様式!AM68,0,TRUE))<>P_15号様式!AM68,RIGHT(FIXED(P_15号様式!AM68,3,FALSE),4),\"\"))","v":""},{"$f":"IF(P_15号様式!AQ68<> \"\",TEXT(INT(P_15号様式!AQ68),\"#,##0\"),\"\")","v":""},{"$f":"IF(P_15号様式!AQ68= \"\",\"\",IF(VALUE(FIXED(P_15号様式!AQ68,0,TRUE))<>P_15号様式!AQ68,RIGHT(FIXED(P_15号様式!AQ68,3,FALSE),4),\"\"))","v":""},{"$f":"IF(P_15号様式!AR68<> \"\",TEXT(INT(P_15号様式!AR68),\"#,##0\"),\"\")","v":""},null,{"$f":"IF(P_15号様式!AR68= \"\",\"\",IF(VALUE(FIXED(P_15号様式!AR68,0,TRUE))<>P_15号様式!AR68,RIGHT(FIXED(P_15号様式!AR68,3,FALSE),4),\"\"))","v":""}]
[{"$f":"IF(P_15号様式!C69=\"\",\"\",P_15号様式!C69)","v":""},null,{"$f":"IF(P_15号様式!G69<> \"\",TEXT(INT(P_15号様式!G69),\"#,##0\"),\"\")","v":""},{"$f":"IF(P_15号様式!G69= \"\",\"\",IF(VALUE(FIXED(P_15号様式!G69,0,TRUE))<>P_15号様式!G69,RIGHT(FIXED(P_15号様式!G69,3,FALSE),4),\"\"))","v":""},{"$f":"IF(P_15号様式!K69<> \"\",TEXT(INT(P_15号様式!K69),\"#,##0\"),\"\")","v":""},{"$f":"IF(P_15号様式!K69= \"\",\"\",IF(VALUE(FIXED(P_15号様式!K69,0,TRUE))<>P_15号様式!K69,RIGHT(FIXED(P_15号様式!K69,3,FALSE),4),\"\"))","v":""},{"$f":"IF(P_15号様式!O69<> \"\",TEXT(INT(P_15号様式!O69),\"#,##0\"),\"\")","v":""},{"$f":"IF(P_15号様式!O69= \"\",\"\",IF(VALUE(FIXED(P_15号様式!O69,0,TRUE))<>P_15号様式!O69,RIGHT(FIXED(P_15号様式!O69,3,FALSE),4),\"\"))","v":""},{"$f":"IF(P_15号様式!S69<> \"\",TEXT(INT(P_15号様式!S69),\"#,##0\"),\"\")","v":""},{"$f":"IF(P_15号様式!S69= \"\",\"\",IF(VALUE(FIXED(P_15号様式!S69,0,TRUE))<>P_15号様式!S69,RIGHT(FIXED(P_15号様式!S69,3,FALSE),4),\"\"))","v":""},{"$f":"IF(P_15号様式!W69<> \"\",TEXT(INT(P_15号様式!W69),\"#,##0\"),\"\")","v":""},{"$f":"IF(P_15号様式!W69= \"\",\"\",IF(VALUE(FIXED(P_15号様式!W69,0,TRUE))<>P_15号様式!W69,RIGHT(FIXED(P_15号様式!W69,3,FALSE),4),\"\"))","v":""},{"$f":"IF(P_15号様式!AA69<> \"\",TEXT(INT(P_15号様式!AA69),\"#,##0\"),\"\")","v":""},{"$f":"IF(P_15号様式!AA69= \"\",\"\",IF(VALUE(FIXED(P_15号様式!AA69,0,TRUE))<>P_15号様式!AA69,RIGHT(FIXED(P_15号様式!AA69,3,FALSE),4),\"\"))","v":""},{"$f":"IF(P_15号様式!AE69<> \"\",TEXT(INT(P_15号様式!AE69),\"#,##0\"),\"\")","v":""},{"$f":"IF(P_15号様式!AE69= \"\",\"\",IF(VALUE(FIXED(P_15号様式!AE69,0,TRUE))<>P_15号様式!AE69,RIGHT(FIXED(P_15号様式!AE69,3,FALSE),4),\"\"))","v":""},{"$f":"IF(P_15号様式!AI69<> \"\",TEXT(INT(P_15号様式!AI69),\"#,##0\"),\"\")","v":""},{"$f":"IF(P_15号様式!AI69= \"\",\"\",IF(VALUE(FIXED(P_15号様式!AI69,0,TRUE))<>P_15号様式!AI69,RIGHT(FIXED(P_15号様式!AI69,3,FALSE),4),\"\"))","v":""},{"$f":"IF(P_15号様式!AM69<> \"\",TEXT(INT(P_15号様式!AM69),\"#,##0\"),\"\")","v":""},{"$f":"IF(P_15号様式!AM69= \"\",\"\",IF(VALUE(FIXED(P_15号様式!AM69,0,TRUE))<>P_15号様式!AM69,RIGHT(FIXED(P_15号様式!AM69,3,FALSE),4),\"\"))","v":""},{"$f":"IF(P_15号様式!AQ69<> \"\",TEXT(INT(P_15号様式!AQ69),\"#,##0\"),\"\")","v":""},{"$f":"IF(P_15号様式!AQ69= \"\",\"\",IF(VALUE(FIXED(P_15号様式!AQ69,0,TRUE))<>P_15号様式!AQ69,RIGHT(FIXED(P_15号様式!AQ69,3,FALSE),4),\"\"))","v":""},{"$f":"IF(P_15号様式!AR69<> \"\",TEXT(INT(P_15号様式!AR69),\"#,##0\"),\"\")","v":""},null,{"$f":"IF(P_15号様式!AR69= \"\",\"\",IF(VALUE(FIXED(P_15号様式!AR69,0,TRUE))<>P_15号様式!AR69,RIGHT(FIXED(P_15号様式!AR69,3,FALSE),4),\"\"))","v":""}]
[{"$f":"IF(P_15号様式!C70=\"\",\"\",P_15号様式!C70)","v":""},null,{"$f":"IF(P_15号様式!G70<> \"\",TEXT(INT(P_15号様式!G70),\"#,##0\"),\"\")","v":""},{"$f":"IF(P_15号様式!G70= \"\",\"\",IF(VALUE(FIXED(P_15号様式!G70,0,TRUE))<>P_15号様式!G70,RIGHT(FIXED(P_15号様式!G70,3,FALSE),4),\"\"))","v":""},{"$f":"IF(P_15号様式!K70<> \"\",TEXT(INT(P_15号様式!K70),\"#,##0\"),\"\")","v":""},{"$f":"IF(P_15号様式!K70= \"\",\"\",IF(VALUE(FIXED(P_15号様式!K70,0,TRUE))<>P_15号様式!K70,RIGHT(FIXED(P_15号様式!K70,3,FALSE),4),\"\"))","v":""},{"$f":"IF(P_15号様式!O70<> \"\",TEXT(INT(P_15号様式!O70),\"#,##0\"),\"\")","v":""},{"$f":"IF(P_15号様式!O70= \"\",\"\",IF(VALUE(FIXED(P_15号様式!O70,0,TRUE))<>P_15号様式!O70,RIGHT(FIXED(P_15号様式!O70,3,FALSE),4),\"\"))","v":""},{"$f":"IF(P_15号様式!S70<> \"\",TEXT(INT(P_15号様式!S70),\"#,##0\"),\"\")","v":""},{"$f":"IF(P_15号様式!S70= \"\",\"\",IF(VALUE(FIXED(P_15号様式!S70,0,TRUE))<>P_15号様式!S70,RIGHT(FIXED(P_15号様式!S70,3,FALSE),4),\"\"))","v":""},{"$f":"IF(P_15号様式!W70<> \"\",TEXT(INT(P_15号様式!W70),\"#,##0\"),\"\")","v":""},{"$f":"IF(P_15号様式!W70= \"\",\"\",IF(VALUE(FIXED(P_15号様式!W70,0,TRUE))<>P_15号様式!W70,RIGHT(FIXED(P_15号様式!W70,3,FALSE),4),\"\"))","v":""},{"$f":"IF(P_15号様式!AA70<> \"\",TEXT(INT(P_15号様式!AA70),\"#,##0\"),\"\")","v":""},{"$f":"IF(P_15号様式!AA70= \"\",\"\",IF(VALUE(FIXED(P_15号様式!AA70,0,TRUE))<>P_15号様式!AA70,RIGHT(FIXED(P_15号様式!AA70,3,FALSE),4),\"\"))","v":""},{"$f":"IF(P_15号様式!AE70<> \"\",TEXT(INT(P_15号様式!AE70),\"#,##0\"),\"\")","v":""},{"$f":"IF(P_15号様式!AE70= \"\",\"\",IF(VALUE(FIXED(P_15号様式!AE70,0,TRUE))<>P_15号様式!AE70,RIGHT(FIXED(P_15号様式!AE70,3,FALSE),4),\"\"))","v":""},{"$f":"IF(P_15号様式!AI70<> \"\",TEXT(INT(P_15号様式!AI70),\"#,##0\"),\"\")","v":""},{"$f":"IF(P_15号様式!AI70= \"\",\"\",IF(VALUE(FIXED(P_15号様式!AI70,0,TRUE))<>P_15号様式!AI70,RIGHT(FIXED(P_15号様式!AI70,3,FALSE),4),\"\"))","v":""},{"$f":"IF(P_15号様式!AM70<> \"\",TEXT(INT(P_15号様式!AM70),\"#,##0\"),\"\")","v":""},{"$f":"IF(P_15号様式!AM70= \"\",\"\",IF(VALUE(FIXED(P_15号様式!AM70,0,TRUE))<>P_15号様式!AM70,RIGHT(FIXED(P_15号様式!AM70,3,FALSE),4),\"\"))","v":""},{"$f":"IF(P_15号様式!AQ70<> \"\",TEXT(INT(P_15号様式!AQ70),\"#,##0\"),\"\")","v":""},{"$f":"IF(P_15号様式!AQ70= \"\",\"\",IF(VALUE(FIXED(P_15号様式!AQ70,0,TRUE))<>P_15号様式!AQ70,RIGHT(FIXED(P_15号様式!AQ70,3,FALSE),4),\"\"))","v":""},{"$f":"IF(P_15号様式!AR70<> \"\",TEXT(INT(P_15号様式!AR70),\"#,##0\"),\"\")","v":""},null,{"$f":"IF(P_15号様式!AR70= \"\",\"\",IF(VALUE(FIXED(P_15号様式!AR70,0,TRUE))<>P_15号様式!AR70,RIGHT(FIXED(P_15号様式!AR70,3,FALSE),4),\"\"))","v":""}]
[{"$f":"IF(P_15号様式!C71=\"\",\"\",P_15号様式!C71)","v":""},null,{"$f":"IF(P_15号様式!G71<> \"\",TEXT(INT(P_15号様式!G71),\"#,##0\"),\"\")","v":""},{"$f":"IF(P_15号様式!G71= \"\",\"\",IF(VALUE(FIXED(P_15号様式!G71,0,TRUE))<>P_15号様式!G71,RIGHT(FIXED(P_15号様式!G71,3,FALSE),4),\"\"))","v":""},{"$f":"IF(P_15号様式!K71<> \"\",TEXT(INT(P_15号様式!K71),\"#,##0\"),\"\")","v":""},{"$f":"IF(P_15号様式!K71= \"\",\"\",IF(VALUE(FIXED(P_15号様式!K71,0,TRUE))<>P_15号様式!K71,RIGHT(FIXED(P_15号様式!K71,3,FALSE),4),\"\"))","v":""},{"$f":"IF(P_15号様式!O71<> \"\",TEXT(INT(P_15号様式!O71),\"#,##0\"),\"\")","v":""},{"$f":"IF(P_15号様式!O71= \"\",\"\",IF(VALUE(FIXED(P_15号様式!O71,0,TRUE))<>P_15号様式!O71,RIGHT(FIXED(P_15号様式!O71,3,FALSE),4),\"\"))","v":""},{"$f":"IF(P_15号様式!S71<> \"\",TEXT(INT(P_15号様式!S71),\"#,##0\"),\"\")","v":""},{"$f":"IF(P_15号様式!S71= \"\",\"\",IF(VALUE(FIXED(P_15号様式!S71,0,TRUE))<>P_15号様式!S71,RIGHT(FIXED(P_15号様式!S71,3,FALSE),4),\"\"))","v":""},{"$f":"IF(P_15号様式!W71<> \"\",TEXT(INT(P_15号様式!W71),\"#,##0\"),\"\")","v":""},{"$f":"IF(P_15号様式!W71= \"\",\"\",IF(VALUE(FIXED(P_15号様式!W71,0,TRUE))<>P_15号様式!W71,RIGHT(FIXED(P_15号様式!W71,3,FALSE),4),\"\"))","v":""},{"$f":"IF(P_15号様式!AA71<> \"\",TEXT(INT(P_15号様式!AA71),\"#,##0\"),\"\")","v":""},{"$f":"IF(P_15号様式!AA71= \"\",\"\",IF(VALUE(FIXED(P_15号様式!AA71,0,TRUE))<>P_15号様式!AA71,RIGHT(FIXED(P_15号様式!AA71,3,FALSE),4),\"\"))","v":""},{"$f":"IF(P_15号様式!AE71<> \"\",TEXT(INT(P_15号様式!AE71),\"#,##0\"),\"\")","v":""},{"$f":"IF(P_15号様式!AE71= \"\",\"\",IF(VALUE(FIXED(P_15号様式!AE71,0,TRUE))<>P_15号様式!AE71,RIGHT(FIXED(P_15号様式!AE71,3,FALSE),4),\"\"))","v":""},{"$f":"IF(P_15号様式!AI71<> \"\",TEXT(INT(P_15号様式!AI71),\"#,##0\"),\"\")","v":""},{"$f":"IF(P_15号様式!AI71= \"\",\"\",IF(VALUE(FIXED(P_15号様式!AI71,0,TRUE))<>P_15号様式!AI71,RIGHT(FIXED(P_15号様式!AI71,3,FALSE),4),\"\"))","v":""},{"$f":"IF(P_15号様式!AM71<> \"\",TEXT(INT(P_15号様式!AM71),\"#,##0\"),\"\")","v":""},{"$f":"IF(P_15号様式!AM71= \"\",\"\",IF(VALUE(FIXED(P_15号様式!AM71,0,TRUE))<>P_15号様式!AM71,RIGHT(FIXED(P_15号様式!AM71,3,FALSE),4),\"\"))","v":""},{"$f":"IF(P_15号様式!AQ71<> \"\",TEXT(INT(P_15号様式!AQ71),\"#,##0\"),\"\")","v":""},{"$f":"IF(P_15号様式!AQ71= \"\",\"\",IF(VALUE(FIXED(P_15号様式!AQ71,0,TRUE))<>P_15号様式!AQ71,RIGHT(FIXED(P_15号様式!AQ71,3,FALSE),4),\"\"))","v":""},{"$f":"IF(P_15号様式!AR71<> \"\",TEXT(INT(P_15号様式!AR71),\"#,##0\"),\"\")","v":""},null,{"$f":"IF(P_15号様式!AR71= \"\",\"\",IF(VALUE(FIXED(P_15号様式!AR71,0,TRUE))<>P_15号様式!AR71,RIGHT(FIXED(P_15号様式!AR71,3,FALSE),4),\"\"))","v":""}]
[{"$f":"IF(P_15号様式!C72=\"\",\"\",P_15号様式!C72)","v":""},null,{"$f":"IF(P_15号様式!G72<> \"\",TEXT(INT(P_15号様式!G72),\"#,##0\"),\"\")","v":""},{"$f":"IF(P_15号様式!G72= \"\",\"\",IF(VALUE(FIXED(P_15号様式!G72,0,TRUE))<>P_15号様式!G72,RIGHT(FIXED(P_15号様式!G72,3,FALSE),4),\"\"))","v":""},{"$f":"IF(P_15号様式!K72<> \"\",TEXT(INT(P_15号様式!K72),\"#,##0\"),\"\")","v":""},{"$f":"IF(P_15号様式!K72= \"\",\"\",IF(VALUE(FIXED(P_15号様式!K72,0,TRUE))<>P_15号様式!K72,RIGHT(FIXED(P_15号様式!K72,3,FALSE),4),\"\"))","v":""},{"$f":"IF(P_15号様式!O72<> \"\",TEXT(INT(P_15号様式!O72),\"#,##0\"),\"\")","v":""},{"$f":"IF(P_15号様式!O72= \"\",\"\",IF(VALUE(FIXED(P_15号様式!O72,0,TRUE))<>P_15号様式!O72,RIGHT(FIXED(P_15号様式!O72,3,FALSE),4),\"\"))","v":""},{"$f":"IF(P_15号様式!S72<> \"\",TEXT(INT(P_15号様式!S72),\"#,##0\"),\"\")","v":""},{"$f":"IF(P_15号様式!S72= \"\",\"\",IF(VALUE(FIXED(P_15号様式!S72,0,TRUE))<>P_15号様式!S72,RIGHT(FIXED(P_15号様式!S72,3,FALSE),4),\"\"))","v":""},{"$f":"IF(P_15号様式!W72<> \"\",TEXT(INT(P_15号様式!W72),\"#,##0\"),\"\")","v":""},{"$f":"IF(P_15号様式!W72= \"\",\"\",IF(VALUE(FIXED(P_15号様式!W72,0,TRUE))<>P_15号様式!W72,RIGHT(FIXED(P_15号様式!W72,3,FALSE),4),\"\"))","v":""},{"$f":"IF(P_15号様式!AA72<> \"\",TEXT(INT(P_15号様式!AA72),\"#,##0\"),\"\")","v":""},{"$f":"IF(P_15号様式!AA72= \"\",\"\",IF(VALUE(FIXED(P_15号様式!AA72,0,TRUE))<>P_15号様式!AA72,RIGHT(FIXED(P_15号様式!AA72,3,FALSE),4),\"\"))","v":""},{"$f":"IF(P_15号様式!AE72<> \"\",TEXT(INT(P_15号様式!AE72),\"#,##0\"),\"\")","v":""},{"$f":"IF(P_15号様式!AE72= \"\",\"\",IF(VALUE(FIXED(P_15号様式!AE72,0,TRUE))<>P_15号様式!AE72,RIGHT(FIXED(P_15号様式!AE72,3,FALSE),4),\"\"))","v":""},{"$f":"IF(P_15号様式!AI72<> \"\",TEXT(INT(P_15号様式!AI72),\"#,##0\"),\"\")","v":""},{"$f":"IF(P_15号様式!AI72= \"\",\"\",IF(VALUE(FIXED(P_15号様式!AI72,0,TRUE))<>P_15号様式!AI72,RIGHT(FIXED(P_15号様式!AI72,3,FALSE),4),\"\"))","v":""},{"$f":"IF(P_15号様式!AM72<> \"\",TEXT(INT(P_15号様式!AM72),\"#,##0\"),\"\")","v":""},{"$f":"IF(P_15号様式!AM72= \"\",\"\",IF(VALUE(FIXED(P_15号様式!AM72,0,TRUE))<>P_15号様式!AM72,RIGHT(FIXED(P_15号様式!AM72,3,FALSE),4),\"\"))","v":""},{"$f":"IF(P_15号様式!AQ72<> \"\",TEXT(INT(P_15号様式!AQ72),\"#,##0\"),\"\")","v":""},{"$f":"IF(P_15号様式!AQ72= \"\",\"\",IF(VALUE(FIXED(P_15号様式!AQ72,0,TRUE))<>P_15号様式!AQ72,RIGHT(FIXED(P_15号様式!AQ72,3,FALSE),4),\"\"))","v":""},{"$f":"IF(P_15号様式!AR72<> \"\",TEXT(INT(P_15号様式!AR72),\"#,##0\"),\"\")","v":""},null,{"$f":"IF(P_15号様式!AR72= \"\",\"\",IF(VALUE(FIXED(P_15号様式!AR72,0,TRUE))<>P_15号様式!AR72,RIGHT(FIXED(P_15号様式!AR72,3,FALSE),4),\"\"))","v":""}]
[{"$f":"IF(P_15号様式!C73=\"\",\"\",P_15号様式!C73)","v":""},null,{"$f":"IF(P_15号様式!G73<> \"\",TEXT(INT(P_15号様式!G73),\"#,##0\"),\"\")","v":""},{"$f":"IF(P_15号様式!G73= \"\",\"\",IF(VALUE(FIXED(P_15号様式!G73,0,TRUE))<>P_15号様式!G73,RIGHT(FIXED(P_15号様式!G73,3,FALSE),4),\"\"))","v":""},{"$f":"IF(P_15号様式!K73<> \"\",TEXT(INT(P_15号様式!K73),\"#,##0\"),\"\")","v":""},{"$f":"IF(P_15号様式!K73= \"\",\"\",IF(VALUE(FIXED(P_15号様式!K73,0,TRUE))<>P_15号様式!K73,RIGHT(FIXED(P_15号様式!K73,3,FALSE),4),\"\"))","v":""},{"$f":"IF(P_15号様式!O73<> \"\",TEXT(INT(P_15号様式!O73),\"#,##0\"),\"\")","v":""},{"$f":"IF(P_15号様式!O73= \"\",\"\",IF(VALUE(FIXED(P_15号様式!O73,0,TRUE))<>P_15号様式!O73,RIGHT(FIXED(P_15号様式!O73,3,FALSE),4),\"\"))","v":""},{"$f":"IF(P_15号様式!S73<> \"\",TEXT(INT(P_15号様式!S73),\"#,##0\"),\"\")","v":""},{"$f":"IF(P_15号様式!S73= \"\",\"\",IF(VALUE(FIXED(P_15号様式!S73,0,TRUE))<>P_15号様式!S73,RIGHT(FIXED(P_15号様式!S73,3,FALSE),4),\"\"))","v":""},{"$f":"IF(P_15号様式!W73<> \"\",TEXT(INT(P_15号様式!W73),\"#,##0\"),\"\")","v":""},{"$f":"IF(P_15号様式!W73= \"\",\"\",IF(VALUE(FIXED(P_15号様式!W73,0,TRUE))<>P_15号様式!W73,RIGHT(FIXED(P_15号様式!W73,3,FALSE),4),\"\"))","v":""},{"$f":"IF(P_15号様式!AA73<> \"\",TEXT(INT(P_15号様式!AA73),\"#,##0\"),\"\")","v":""},{"$f":"IF(P_15号様式!AA73= \"\",\"\",IF(VALUE(FIXED(P_15号様式!AA73,0,TRUE))<>P_15号様式!AA73,RIGHT(FIXED(P_15号様式!AA73,3,FALSE),4),\"\"))","v":""},{"$f":"IF(P_15号様式!AE73<> \"\",TEXT(INT(P_15号様式!AE73),\"#,##0\"),\"\")","v":""},{"$f":"IF(P_15号様式!AE73= \"\",\"\",IF(VALUE(FIXED(P_15号様式!AE73,0,TRUE))<>P_15号様式!AE73,RIGHT(FIXED(P_15号様式!AE73,3,FALSE),4),\"\"))","v":""},{"$f":"IF(P_15号様式!AI73<> \"\",TEXT(INT(P_15号様式!AI73),\"#,##0\"),\"\")","v":""},{"$f":"IF(P_15号様式!AI73= \"\",\"\",IF(VALUE(FIXED(P_15号様式!AI73,0,TRUE))<>P_15号様式!AI73,RIGHT(FIXED(P_15号様式!AI73,3,FALSE),4),\"\"))","v":""},{"$f":"IF(P_15号様式!AM73<> \"\",TEXT(INT(P_15号様式!AM73),\"#,##0\"),\"\")","v":""},{"$f":"IF(P_15号様式!AM73= \"\",\"\",IF(VALUE(FIXED(P_15号様式!AM73,0,TRUE))<>P_15号様式!AM73,RIGHT(FIXED(P_15号様式!AM73,3,FALSE),4),\"\"))","v":""},{"$f":"IF(P_15号様式!AQ73<> \"\",TEXT(INT(P_15号様式!AQ73),\"#,##0\"),\"\")","v":""},{"$f":"IF(P_15号様式!AQ73= \"\",\"\",IF(VALUE(FIXED(P_15号様式!AQ73,0,TRUE))<>P_15号様式!AQ73,RIGHT(FIXED(P_15号様式!AQ73,3,FALSE),4),\"\"))","v":""},{"$f":"IF(P_15号様式!AR73<> \"\",TEXT(INT(P_15号様式!AR73),\"#,##0\"),\"\")","v":""},null,{"$f":"IF(P_15号様式!AR73= \"\",\"\",IF(VALUE(FIXED(P_15号様式!AR73,0,TRUE))<>P_15号様式!AR73,RIGHT(FIXED(P_15号様式!AR73,3,FALSE),4),\"\"))","v":""}]
[{"$f":"IF(P_15号様式!C74=\"\",\"\",P_15号様式!C74)","v":""},null,{"$f":"IF(P_15号様式!G74<> \"\",TEXT(INT(P_15号様式!G74),\"#,##0\"),\"\")","v":""},{"$f":"IF(P_15号様式!G74= \"\",\"\",IF(VALUE(FIXED(P_15号様式!G74,0,TRUE))<>P_15号様式!G74,RIGHT(FIXED(P_15号様式!G74,3,FALSE),4),\"\"))","v":""},{"$f":"IF(P_15号様式!K74<> \"\",TEXT(INT(P_15号様式!K74),\"#,##0\"),\"\")","v":""},{"$f":"IF(P_15号様式!K74= \"\",\"\",IF(VALUE(FIXED(P_15号様式!K74,0,TRUE))<>P_15号様式!K74,RIGHT(FIXED(P_15号様式!K74,3,FALSE),4),\"\"))","v":""},{"$f":"IF(P_15号様式!O74<> \"\",TEXT(INT(P_15号様式!O74),\"#,##0\"),\"\")","v":""},{"$f":"IF(P_15号様式!O74= \"\",\"\",IF(VALUE(FIXED(P_15号様式!O74,0,TRUE))<>P_15号様式!O74,RIGHT(FIXED(P_15号様式!O74,3,FALSE),4),\"\"))","v":""},{"$f":"IF(P_15号様式!S74<> \"\",TEXT(INT(P_15号様式!S74),\"#,##0\"),\"\")","v":""},{"$f":"IF(P_15号様式!S74= \"\",\"\",IF(VALUE(FIXED(P_15号様式!S74,0,TRUE))<>P_15号様式!S74,RIGHT(FIXED(P_15号様式!S74,3,FALSE),4),\"\"))","v":""},{"$f":"IF(P_15号様式!W74<> \"\",TEXT(INT(P_15号様式!W74),\"#,##0\"),\"\")","v":""},{"$f":"IF(P_15号様式!W74= \"\",\"\",IF(VALUE(FIXED(P_15号様式!W74,0,TRUE))<>P_15号様式!W74,RIGHT(FIXED(P_15号様式!W74,3,FALSE),4),\"\"))","v":""},{"$f":"IF(P_15号様式!AA74<> \"\",TEXT(INT(P_15号様式!AA74),\"#,##0\"),\"\")","v":""},{"$f":"IF(P_15号様式!AA74= \"\",\"\",IF(VALUE(FIXED(P_15号様式!AA74,0,TRUE))<>P_15号様式!AA74,RIGHT(FIXED(P_15号様式!AA74,3,FALSE),4),\"\"))","v":""},{"$f":"IF(P_15号様式!AE74<> \"\",TEXT(INT(P_15号様式!AE74),\"#,##0\"),\"\")","v":""},{"$f":"IF(P_15号様式!AE74= \"\",\"\",IF(VALUE(FIXED(P_15号様式!AE74,0,TRUE))<>P_15号様式!AE74,RIGHT(FIXED(P_15号様式!AE74,3,FALSE),4),\"\"))","v":""},{"$f":"IF(P_15号様式!AI74<> \"\",TEXT(INT(P_15号様式!AI74),\"#,##0\"),\"\")","v":""},{"$f":"IF(P_15号様式!AI74= \"\",\"\",IF(VALUE(FIXED(P_15号様式!AI74,0,TRUE))<>P_15号様式!AI74,RIGHT(FIXED(P_15号様式!AI74,3,FALSE),4),\"\"))","v":""},{"$f":"IF(P_15号様式!AM74<> \"\",TEXT(INT(P_15号様式!AM74),\"#,##0\"),\"\")","v":""},{"$f":"IF(P_15号様式!AM74= \"\",\"\",IF(VALUE(FIXED(P_15号様式!AM74,0,TRUE))<>P_15号様式!AM74,RIGHT(FIXED(P_15号様式!AM74,3,FALSE),4),\"\"))","v":""},{"$f":"IF(P_15号様式!AQ74<> \"\",TEXT(INT(P_15号様式!AQ74),\"#,##0\"),\"\")","v":""},{"$f":"IF(P_15号様式!AQ74= \"\",\"\",IF(VALUE(FIXED(P_15号様式!AQ74,0,TRUE))<>P_15号様式!AQ74,RIGHT(FIXED(P_15号様式!AQ74,3,FALSE),4),\"\"))","v":""},{"$f":"IF(P_15号様式!AR74<> \"\",TEXT(INT(P_15号様式!AR74),\"#,##0\"),\"\")","v":""},null,{"$f":"IF(P_15号様式!AR74= \"\",\"\",IF(VALUE(FIXED(P_15号様式!AR74,0,TRUE))<>P_15号様式!AR74,RIGHT(FIXED(P_15号様式!AR74,3,FALSE),4),\"\"))","v":""}]
[{"$f":"IF(P_15号様式!C75=\"\",\"\",P_15号様式!C75)","v":""},null,{"$f":"IF(P_15号様式!G75<> \"\",TEXT(INT(P_15号様式!G75),\"#,##0\"),\"\")","v":""},{"$f":"IF(P_15号様式!G75= \"\",\"\",IF(VALUE(FIXED(P_15号様式!G75,0,TRUE))<>P_15号様式!G75,RIGHT(FIXED(P_15号様式!G75,3,FALSE),4),\"\"))","v":""},{"$f":"IF(P_15号様式!K75<> \"\",TEXT(INT(P_15号様式!K75),\"#,##0\"),\"\")","v":""},{"$f":"IF(P_15号様式!K75= \"\",\"\",IF(VALUE(FIXED(P_15号様式!K75,0,TRUE))<>P_15号様式!K75,RIGHT(FIXED(P_15号様式!K75,3,FALSE),4),\"\"))","v":""},{"$f":"IF(P_15号様式!O75<> \"\",TEXT(INT(P_15号様式!O75),\"#,##0\"),\"\")","v":""},{"$f":"IF(P_15号様式!O75= \"\",\"\",IF(VALUE(FIXED(P_15号様式!O75,0,TRUE))<>P_15号様式!O75,RIGHT(FIXED(P_15号様式!O75,3,FALSE),4),\"\"))","v":""},{"$f":"IF(P_15号様式!S75<> \"\",TEXT(INT(P_15号様式!S75),\"#,##0\"),\"\")","v":""},{"$f":"IF(P_15号様式!S75= \"\",\"\",IF(VALUE(FIXED(P_15号様式!S75,0,TRUE))<>P_15号様式!S75,RIGHT(FIXED(P_15号様式!S75,3,FALSE),4),\"\"))","v":""},{"$f":"IF(P_15号様式!W75<> \"\",TEXT(INT(P_15号様式!W75),\"#,##0\"),\"\")","v":""},{"$f":"IF(P_15号様式!W75= \"\",\"\",IF(VALUE(FIXED(P_15号様式!W75,0,TRUE))<>P_15号様式!W75,RIGHT(FIXED(P_15号様式!W75,3,FALSE),4),\"\"))","v":""},{"$f":"IF(P_15号様式!AA75<> \"\",TEXT(INT(P_15号様式!AA75),\"#,##0\"),\"\")","v":""},{"$f":"IF(P_15号様式!AA75= \"\",\"\",IF(VALUE(FIXED(P_15号様式!AA75,0,TRUE))<>P_15号様式!AA75,RIGHT(FIXED(P_15号様式!AA75,3,FALSE),4),\"\"))","v":""},{"$f":"IF(P_15号様式!AE75<> \"\",TEXT(INT(P_15号様式!AE75),\"#,##0\"),\"\")","v":""},{"$f":"IF(P_15号様式!AE75= \"\",\"\",IF(VALUE(FIXED(P_15号様式!AE75,0,TRUE))<>P_15号様式!AE75,RIGHT(FIXED(P_15号様式!AE75,3,FALSE),4),\"\"))","v":""},{"$f":"IF(P_15号様式!AI75<> \"\",TEXT(INT(P_15号様式!AI75),\"#,##0\"),\"\")","v":""},{"$f":"IF(P_15号様式!AI75= \"\",\"\",IF(VALUE(FIXED(P_15号様式!AI75,0,TRUE))<>P_15号様式!AI75,RIGHT(FIXED(P_15号様式!AI75,3,FALSE),4),\"\"))","v":""},{"$f":"IF(P_15号様式!AM75<> \"\",TEXT(INT(P_15号様式!AM75),\"#,##0\"),\"\")","v":""},{"$f":"IF(P_15号様式!AM75= \"\",\"\",IF(VALUE(FIXED(P_15号様式!AM75,0,TRUE))<>P_15号様式!AM75,RIGHT(FIXED(P_15号様式!AM75,3,FALSE),4),\"\"))","v":""},{"$f":"IF(P_15号様式!AQ75<> \"\",TEXT(INT(P_15号様式!AQ75),\"#,##0\"),\"\")","v":""},{"$f":"IF(P_15号様式!AQ75= \"\",\"\",IF(VALUE(FIXED(P_15号様式!AQ75,0,TRUE))<>P_15号様式!AQ75,RIGHT(FIXED(P_15号様式!AQ75,3,FALSE),4),\"\"))","v":""},{"$f":"IF(P_15号様式!AR75<> \"\",TEXT(INT(P_15号様式!AR75),\"#,##0\"),\"\")","v":""},null,{"$f":"IF(P_15号様式!AR75= \"\",\"\",IF(VALUE(FIXED(P_15号様式!AR75,0,TRUE))<>P_15号様式!AR75,RIGHT(FIXED(P_15号様式!AR75,3,FALSE),4),\"\"))","v":""}]
[{"$f":"IF(P_15号様式!C76=\"\",\"\",P_15号様式!C76)","v":""},null,{"$f":"IF(P_15号様式!G76<> \"\",TEXT(INT(P_15号様式!G76),\"#,##0\"),\"\")","v":""},{"$f":"IF(P_15号様式!G76= \"\",\"\",IF(VALUE(FIXED(P_15号様式!G76,0,TRUE))<>P_15号様式!G76,RIGHT(FIXED(P_15号様式!G76,3,FALSE),4),\"\"))","v":""},{"$f":"IF(P_15号様式!K76<> \"\",TEXT(INT(P_15号様式!K76),\"#,##0\"),\"\")","v":""},{"$f":"IF(P_15号様式!K76= \"\",\"\",IF(VALUE(FIXED(P_15号様式!K76,0,TRUE))<>P_15号様式!K76,RIGHT(FIXED(P_15号様式!K76,3,FALSE),4),\"\"))","v":""},{"$f":"IF(P_15号様式!O76<> \"\",TEXT(INT(P_15号様式!O76),\"#,##0\"),\"\")","v":""},{"$f":"IF(P_15号様式!O76= \"\",\"\",IF(VALUE(FIXED(P_15号様式!O76,0,TRUE))<>P_15号様式!O76,RIGHT(FIXED(P_15号様式!O76,3,FALSE),4),\"\"))","v":""},{"$f":"IF(P_15号様式!S76<> \"\",TEXT(INT(P_15号様式!S76),\"#,##0\"),\"\")","v":""},{"$f":"IF(P_15号様式!S76= \"\",\"\",IF(VALUE(FIXED(P_15号様式!S76,0,TRUE))<>P_15号様式!S76,RIGHT(FIXED(P_15号様式!S76,3,FALSE),4),\"\"))","v":""},{"$f":"IF(P_15号様式!W76<> \"\",TEXT(INT(P_15号様式!W76),\"#,##0\"),\"\")","v":""},{"$f":"IF(P_15号様式!W76= \"\",\"\",IF(VALUE(FIXED(P_15号様式!W76,0,TRUE))<>P_15号様式!W76,RIGHT(FIXED(P_15号様式!W76,3,FALSE),4),\"\"))","v":""},{"$f":"IF(P_15号様式!AA76<> \"\",TEXT(INT(P_15号様式!AA76),\"#,##0\"),\"\")","v":""},{"$f":"IF(P_15号様式!AA76= \"\",\"\",IF(VALUE(FIXED(P_15号様式!AA76,0,TRUE))<>P_15号様式!AA76,RIGHT(FIXED(P_15号様式!AA76,3,FALSE),4),\"\"))","v":""},{"$f":"IF(P_15号様式!AE76<> \"\",TEXT(INT(P_15号様式!AE76),\"#,##0\"),\"\")","v":""},{"$f":"IF(P_15号様式!AE76= \"\",\"\",IF(VALUE(FIXED(P_15号様式!AE76,0,TRUE))<>P_15号様式!AE76,RIGHT(FIXED(P_15号様式!AE76,3,FALSE),4),\"\"))","v":""},{"$f":"IF(P_15号様式!AI76<> \"\",TEXT(INT(P_15号様式!AI76),\"#,##0\"),\"\")","v":""},{"$f":"IF(P_15号様式!AI76= \"\",\"\",IF(VALUE(FIXED(P_15号様式!AI76,0,TRUE))<>P_15号様式!AI76,RIGHT(FIXED(P_15号様式!AI76,3,FALSE),4),\"\"))","v":""},{"$f":"IF(P_15号様式!AM76<> \"\",TEXT(INT(P_15号様式!AM76),\"#,##0\"),\"\")","v":""},{"$f":"IF(P_15号様式!AM76= \"\",\"\",IF(VALUE(FIXED(P_15号様式!AM76,0,TRUE))<>P_15号様式!AM76,RIGHT(FIXED(P_15号様式!AM76,3,FALSE),4),\"\"))","v":""},{"$f":"IF(P_15号様式!AQ76<> \"\",TEXT(INT(P_15号様式!AQ76),\"#,##0\"),\"\")","v":""},{"$f":"IF(P_15号様式!AQ76= \"\",\"\",IF(VALUE(FIXED(P_15号様式!AQ76,0,TRUE))<>P_15号様式!AQ76,RIGHT(FIXED(P_15号様式!AQ76,3,FALSE),4),\"\"))","v":""},{"$f":"IF(P_15号様式!AR76<> \"\",TEXT(INT(P_15号様式!AR76),\"#,##0\"),\"\")","v":""},null,{"$f":"IF(P_15号様式!AR76= \"\",\"\",IF(VALUE(FIXED(P_15号様式!AR76,0,TRUE))<>P_15号様式!AR76,RIGHT(FIXED(P_15号様式!AR76,3,FALSE),4),\"\"))","v":""}]
[{"$f":"IF(P_15号様式!C77=\"\",\"\",P_15号様式!C77)","v":""},null,{"$f":"IF(P_15号様式!G77<> \"\",TEXT(INT(P_15号様式!G77),\"#,##0\"),\"\")","v":""},{"$f":"IF(P_15号様式!G77= \"\",\"\",IF(VALUE(FIXED(P_15号様式!G77,0,TRUE))<>P_15号様式!G77,RIGHT(FIXED(P_15号様式!G77,3,FALSE),4),\"\"))","v":""},{"$f":"IF(P_15号様式!K77<> \"\",TEXT(INT(P_15号様式!K77),\"#,##0\"),\"\")","v":""},{"$f":"IF(P_15号様式!K77= \"\",\"\",IF(VALUE(FIXED(P_15号様式!K77,0,TRUE))<>P_15号様式!K77,RIGHT(FIXED(P_15号様式!K77,3,FALSE),4),\"\"))","v":""},{"$f":"IF(P_15号様式!O77<> \"\",TEXT(INT(P_15号様式!O77),\"#,##0\"),\"\")","v":""},{"$f":"IF(P_15号様式!O77= \"\",\"\",IF(VALUE(FIXED(P_15号様式!O77,0,TRUE))<>P_15号様式!O77,RIGHT(FIXED(P_15号様式!O77,3,FALSE),4),\"\"))","v":""},{"$f":"IF(P_15号様式!S77<> \"\",TEXT(INT(P_15号様式!S77),\"#,##0\"),\"\")","v":""},{"$f":"IF(P_15号様式!S77= \"\",\"\",IF(VALUE(FIXED(P_15号様式!S77,0,TRUE))<>P_15号様式!S77,RIGHT(FIXED(P_15号様式!S77,3,FALSE),4),\"\"))","v":""},{"$f":"IF(P_15号様式!W77<> \"\",TEXT(INT(P_15号様式!W77),\"#,##0\"),\"\")","v":""},{"$f":"IF(P_15号様式!W77= \"\",\"\",IF(VALUE(FIXED(P_15号様式!W77,0,TRUE))<>P_15号様式!W77,RIGHT(FIXED(P_15号様式!W77,3,FALSE),4),\"\"))","v":""},{"$f":"IF(P_15号様式!AA77<> \"\",TEXT(INT(P_15号様式!AA77),\"#,##0\"),\"\")","v":""},{"$f":"IF(P_15号様式!AA77= \"\",\"\",IF(VALUE(FIXED(P_15号様式!AA77,0,TRUE))<>P_15号様式!AA77,RIGHT(FIXED(P_15号様式!AA77,3,FALSE),4),\"\"))","v":""},{"$f":"IF(P_15号様式!AE77<> \"\",TEXT(INT(P_15号様式!AE77),\"#,##0\"),\"\")","v":""},{"$f":"IF(P_15号様式!AE77= \"\",\"\",IF(VALUE(FIXED(P_15号様式!AE77,0,TRUE))<>P_15号様式!AE77,RIGHT(FIXED(P_15号様式!AE77,3,FALSE),4),\"\"))","v":""},{"$f":"IF(P_15号様式!AI77<> \"\",TEXT(INT(P_15号様式!AI77),\"#,##0\"),\"\")","v":""},{"$f":"IF(P_15号様式!AI77= \"\",\"\",IF(VALUE(FIXED(P_15号様式!AI77,0,TRUE))<>P_15号様式!AI77,RIGHT(FIXED(P_15号様式!AI77,3,FALSE),4),\"\"))","v":""},{"$f":"IF(P_15号様式!AM77<> \"\",TEXT(INT(P_15号様式!AM77),\"#,##0\"),\"\")","v":""},{"$f":"IF(P_15号様式!AM77= \"\",\"\",IF(VALUE(FIXED(P_15号様式!AM77,0,TRUE))<>P_15号様式!AM77,RIGHT(FIXED(P_15号様式!AM77,3,FALSE),4),\"\"))","v":""},{"$f":"IF(P_15号様式!AQ77<> \"\",TEXT(INT(P_15号様式!AQ77),\"#,##0\"),\"\")","v":""},{"$f":"IF(P_15号様式!AQ77= \"\",\"\",IF(VALUE(FIXED(P_15号様式!AQ77,0,TRUE))<>P_15号様式!AQ77,RIGHT(FIXED(P_15号様式!AQ77,3,FALSE),4),\"\"))","v":""},{"$f":"IF(P_15号様式!AR77<> \"\",TEXT(INT(P_15号様式!AR77),\"#,##0\"),\"\")","v":""},null,{"$f":"IF(P_15号様式!AR77= \"\",\"\",IF(VALUE(FIXED(P_15号様式!AR77,0,TRUE))<>P_15号様式!AR77,RIGHT(FIXED(P_15号様式!AR77,3,FALSE),4),\"\"))","v":""}]
[{"$f":"IF(P_15号様式!C78=\"\",\"\",P_15号様式!C78)","v":""},null,{"$f":"IF(P_15号様式!G78<> \"\",TEXT(INT(P_15号様式!G78),\"#,##0\"),\"\")","v":""},{"$f":"IF(P_15号様式!G78= \"\",\"\",IF(VALUE(FIXED(P_15号様式!G78,0,TRUE))<>P_15号様式!G78,RIGHT(FIXED(P_15号様式!G78,3,FALSE),4),\"\"))","v":""},{"$f":"IF(P_15号様式!K78<> \"\",TEXT(INT(P_15号様式!K78),\"#,##0\"),\"\")","v":""},{"$f":"IF(P_15号様式!K78= \"\",\"\",IF(VALUE(FIXED(P_15号様式!K78,0,TRUE))<>P_15号様式!K78,RIGHT(FIXED(P_15号様式!K78,3,FALSE),4),\"\"))","v":""},{"$f":"IF(P_15号様式!O78<> \"\",TEXT(INT(P_15号様式!O78),\"#,##0\"),\"\")","v":""},{"$f":"IF(P_15号様式!O78= \"\",\"\",IF(VALUE(FIXED(P_15号様式!O78,0,TRUE))<>P_15号様式!O78,RIGHT(FIXED(P_15号様式!O78,3,FALSE),4),\"\"))","v":""},{"$f":"IF(P_15号様式!S78<> \"\",TEXT(INT(P_15号様式!S78),\"#,##0\"),\"\")","v":""},{"$f":"IF(P_15号様式!S78= \"\",\"\",IF(VALUE(FIXED(P_15号様式!S78,0,TRUE))<>P_15号様式!S78,RIGHT(FIXED(P_15号様式!S78,3,FALSE),4),\"\"))","v":""},{"$f":"IF(P_15号様式!W78<> \"\",TEXT(INT(P_15号様式!W78),\"#,##0\"),\"\")","v":""},{"$f":"IF(P_15号様式!W78= \"\",\"\",IF(VALUE(FIXED(P_15号様式!W78,0,TRUE))<>P_15号様式!W78,RIGHT(FIXED(P_15号様式!W78,3,FALSE),4),\"\"))","v":""},{"$f":"IF(P_15号様式!AA78<> \"\",TEXT(INT(P_15号様式!AA78),\"#,##0\"),\"\")","v":""},{"$f":"IF(P_15号様式!AA78= \"\",\"\",IF(VALUE(FIXED(P_15号様式!AA78,0,TRUE))<>P_15号様式!AA78,RIGHT(FIXED(P_15号様式!AA78,3,FALSE),4),\"\"))","v":""},{"$f":"IF(P_15号様式!AE78<> \"\",TEXT(INT(P_15号様式!AE78),\"#,##0\"),\"\")","v":""},{"$f":"IF(P_15号様式!AE78= \"\",\"\",IF(VALUE(FIXED(P_15号様式!AE78,0,TRUE))<>P_15号様式!AE78,RIGHT(FIXED(P_15号様式!AE78,3,FALSE),4),\"\"))","v":""},{"$f":"IF(P_15号様式!AI78<> \"\",TEXT(INT(P_15号様式!AI78),\"#,##0\"),\"\")","v":""},{"$f":"IF(P_15号様式!AI78= \"\",\"\",IF(VALUE(FIXED(P_15号様式!AI78,0,TRUE))<>P_15号様式!AI78,RIGHT(FIXED(P_15号様式!AI78,3,FALSE),4),\"\"))","v":""},{"$f":"IF(P_15号様式!AM78<> \"\",TEXT(INT(P_15号様式!AM78),\"#,##0\"),\"\")","v":""},{"$f":"IF(P_15号様式!AM78= \"\",\"\",IF(VALUE(FIXED(P_15号様式!AM78,0,TRUE))<>P_15号様式!AM78,RIGHT(FIXED(P_15号様式!AM78,3,FALSE),4),\"\"))","v":""},{"$f":"IF(P_15号様式!AQ78<> \"\",TEXT(INT(P_15号様式!AQ78),\"#,##0\"),\"\")","v":""},{"$f":"IF(P_15号様式!AQ78= \"\",\"\",IF(VALUE(FIXED(P_15号様式!AQ78,0,TRUE))<>P_15号様式!AQ78,RIGHT(FIXED(P_15号様式!AQ78,3,FALSE),4),\"\"))","v":""},{"$f":"IF(P_15号様式!AR78<> \"\",TEXT(INT(P_15号様式!AR78),\"#,##0\"),\"\")","v":""},null,{"$f":"IF(P_15号様式!AR78= \"\",\"\",IF(VALUE(FIXED(P_15号様式!AR78,0,TRUE))<>P_15号様式!AR78,RIGHT(FIXED(P_15号様式!AR78,3,FALSE),4),\"\"))","v":""}]
[{"$f":"IF(P_15号様式!C79=\"\",\"\",P_15号様式!C79)","v":""},null,{"$f":"IF(P_15号様式!G79<> \"\",TEXT(INT(P_15号様式!G79),\"#,##0\"),\"\")","v":""},{"$f":"IF(P_15号様式!G79= \"\",\"\",IF(VALUE(FIXED(P_15号様式!G79,0,TRUE))<>P_15号様式!G79,RIGHT(FIXED(P_15号様式!G79,3,FALSE),4),\"\"))","v":""},{"$f":"IF(P_15号様式!K79<> \"\",TEXT(INT(P_15号様式!K79),\"#,##0\"),\"\")","v":""},{"$f":"IF(P_15号様式!K79= \"\",\"\",IF(VALUE(FIXED(P_15号様式!K79,0,TRUE))<>P_15号様式!K79,RIGHT(FIXED(P_15号様式!K79,3,FALSE),4),\"\"))","v":""},{"$f":"IF(P_15号様式!O79<> \"\",TEXT(INT(P_15号様式!O79),\"#,##0\"),\"\")","v":""},{"$f":"IF(P_15号様式!O79= \"\",\"\",IF(VALUE(FIXED(P_15号様式!O79,0,TRUE))<>P_15号様式!O79,RIGHT(FIXED(P_15号様式!O79,3,FALSE),4),\"\"))","v":""},{"$f":"IF(P_15号様式!S79<> \"\",TEXT(INT(P_15号様式!S79),\"#,##0\"),\"\")","v":""},{"$f":"IF(P_15号様式!S79= \"\",\"\",IF(VALUE(FIXED(P_15号様式!S79,0,TRUE))<>P_15号様式!S79,RIGHT(FIXED(P_15号様式!S79,3,FALSE),4),\"\"))","v":""},{"$f":"IF(P_15号様式!W79<> \"\",TEXT(INT(P_15号様式!W79),\"#,##0\"),\"\")","v":""},{"$f":"IF(P_15号様式!W79= \"\",\"\",IF(VALUE(FIXED(P_15号様式!W79,0,TRUE))<>P_15号様式!W79,RIGHT(FIXED(P_15号様式!W79,3,FALSE),4),\"\"))","v":""},{"$f":"IF(P_15号様式!AA79<> \"\",TEXT(INT(P_15号様式!AA79),\"#,##0\"),\"\")","v":""},{"$f":"IF(P_15号様式!AA79= \"\",\"\",IF(VALUE(FIXED(P_15号様式!AA79,0,TRUE))<>P_15号様式!AA79,RIGHT(FIXED(P_15号様式!AA79,3,FALSE),4),\"\"))","v":""},{"$f":"IF(P_15号様式!AE79<> \"\",TEXT(INT(P_15号様式!AE79),\"#,##0\"),\"\")","v":""},{"$f":"IF(P_15号様式!AE79= \"\",\"\",IF(VALUE(FIXED(P_15号様式!AE79,0,TRUE))<>P_15号様式!AE79,RIGHT(FIXED(P_15号様式!AE79,3,FALSE),4),\"\"))","v":""},{"$f":"IF(P_15号様式!AI79<> \"\",TEXT(INT(P_15号様式!AI79),\"#,##0\"),\"\")","v":""},{"$f":"IF(P_15号様式!AI79= \"\",\"\",IF(VALUE(FIXED(P_15号様式!AI79,0,TRUE))<>P_15号様式!AI79,RIGHT(FIXED(P_15号様式!AI79,3,FALSE),4),\"\"))","v":""},{"$f":"IF(P_15号様式!AM79<> \"\",TEXT(INT(P_15号様式!AM79),\"#,##0\"),\"\")","v":""},{"$f":"IF(P_15号様式!AM79= \"\",\"\",IF(VALUE(FIXED(P_15号様式!AM79,0,TRUE))<>P_15号様式!AM79,RIGHT(FIXED(P_15号様式!AM79,3,FALSE),4),\"\"))","v":""},{"$f":"IF(P_15号様式!AQ79<> \"\",TEXT(INT(P_15号様式!AQ79),\"#,##0\"),\"\")","v":""},{"$f":"IF(P_15号様式!AQ79= \"\",\"\",IF(VALUE(FIXED(P_15号様式!AQ79,0,TRUE))<>P_15号様式!AQ79,RIGHT(FIXED(P_15号様式!AQ79,3,FALSE),4),\"\"))","v":""},{"$f":"IF(P_15号様式!AR79<> \"\",TEXT(INT(P_15号様式!AR79),\"#,##0\"),\"\")","v":""},null,{"$f":"IF(P_15号様式!AR79= \"\",\"\",IF(VALUE(FIXED(P_15号様式!AR79,0,TRUE))<>P_15号様式!AR79,RIGHT(FIXED(P_15号様式!AR79,3,FALSE),4),\"\"))","v":""}]
[{"$f":"IF(P_15号様式!C80=\"\",\"\",P_15号様式!C80)","v":""},null,{"$f":"IF(P_15号様式!G80<> \"\",TEXT(INT(P_15号様式!G80),\"#,##0\"),\"\")","v":""},{"$f":"IF(P_15号様式!G80= \"\",\"\",IF(VALUE(FIXED(P_15号様式!G80,0,TRUE))<>P_15号様式!G80,RIGHT(FIXED(P_15号様式!G80,3,FALSE),4),\"\"))","v":""},{"$f":"IF(P_15号様式!K80<> \"\",TEXT(INT(P_15号様式!K80),\"#,##0\"),\"\")","v":""},{"$f":"IF(P_15号様式!K80= \"\",\"\",IF(VALUE(FIXED(P_15号様式!K80,0,TRUE))<>P_15号様式!K80,RIGHT(FIXED(P_15号様式!K80,3,FALSE),4),\"\"))","v":""},{"$f":"IF(P_15号様式!O80<> \"\",TEXT(INT(P_15号様式!O80),\"#,##0\"),\"\")","v":""},{"$f":"IF(P_15号様式!O80= \"\",\"\",IF(VALUE(FIXED(P_15号様式!O80,0,TRUE))<>P_15号様式!O80,RIGHT(FIXED(P_15号様式!O80,3,FALSE),4),\"\"))","v":""},{"$f":"IF(P_15号様式!S80<> \"\",TEXT(INT(P_15号様式!S80),\"#,##0\"),\"\")","v":""},{"$f":"IF(P_15号様式!S80= \"\",\"\",IF(VALUE(FIXED(P_15号様式!S80,0,TRUE))<>P_15号様式!S80,RIGHT(FIXED(P_15号様式!S80,3,FALSE),4),\"\"))","v":""},{"$f":"IF(P_15号様式!W80<> \"\",TEXT(INT(P_15号様式!W80),\"#,##0\"),\"\")","v":""},{"$f":"IF(P_15号様式!W80= \"\",\"\",IF(VALUE(FIXED(P_15号様式!W80,0,TRUE))<>P_15号様式!W80,RIGHT(FIXED(P_15号様式!W80,3,FALSE),4),\"\"))","v":""},{"$f":"IF(P_15号様式!AA80<> \"\",TEXT(INT(P_15号様式!AA80),\"#,##0\"),\"\")","v":""},{"$f":"IF(P_15号様式!AA80= \"\",\"\",IF(VALUE(FIXED(P_15号様式!AA80,0,TRUE))<>P_15号様式!AA80,RIGHT(FIXED(P_15号様式!AA80,3,FALSE),4),\"\"))","v":""},{"$f":"IF(P_15号様式!AE80<> \"\",TEXT(INT(P_15号様式!AE80),\"#,##0\"),\"\")","v":""},{"$f":"IF(P_15号様式!AE80= \"\",\"\",IF(VALUE(FIXED(P_15号様式!AE80,0,TRUE))<>P_15号様式!AE80,RIGHT(FIXED(P_15号様式!AE80,3,FALSE),4),\"\"))","v":""},{"$f":"IF(P_15号様式!AI80<> \"\",TEXT(INT(P_15号様式!AI80),\"#,##0\"),\"\")","v":""},{"$f":"IF(P_15号様式!AI80= \"\",\"\",IF(VALUE(FIXED(P_15号様式!AI80,0,TRUE))<>P_15号様式!AI80,RIGHT(FIXED(P_15号様式!AI80,3,FALSE),4),\"\"))","v":""},{"$f":"IF(P_15号様式!AM80<> \"\",TEXT(INT(P_15号様式!AM80),\"#,##0\"),\"\")","v":""},{"$f":"IF(P_15号様式!AM80= \"\",\"\",IF(VALUE(FIXED(P_15号様式!AM80,0,TRUE))<>P_15号様式!AM80,RIGHT(FIXED(P_15号様式!AM80,3,FALSE),4),\"\"))","v":""},{"$f":"IF(P_15号様式!AQ80<> \"\",TEXT(INT(P_15号様式!AQ80),\"#,##0\"),\"\")","v":""},{"$f":"IF(P_15号様式!AQ80= \"\",\"\",IF(VALUE(FIXED(P_15号様式!AQ80,0,TRUE))<>P_15号様式!AQ80,RIGHT(FIXED(P_15号様式!AQ80,3,FALSE),4),\"\"))","v":""},{"$f":"IF(P_15号様式!AR80<> \"\",TEXT(INT(P_15号様式!AR80),\"#,##0\"),\"\")","v":""},null,{"$f":"IF(P_15号様式!AR80= \"\",\"\",IF(VALUE(FIXED(P_15号様式!AR80,0,TRUE))<>P_15号様式!AR80,RIGHT(FIXED(P_15号様式!AR80,3,FALSE),4),\"\"))","v":""}]
[{"$f":"IF(P_15号様式!C81=\"\",\"\",P_15号様式!C81)","v":""},null,{"$f":"IF(P_15号様式!G81<> \"\",TEXT(INT(P_15号様式!G81),\"#,##0\"),\"\")","v":""},{"$f":"IF(P_15号様式!G81= \"\",\"\",IF(VALUE(FIXED(P_15号様式!G81,0,TRUE))<>P_15号様式!G81,RIGHT(FIXED(P_15号様式!G81,3,FALSE),4),\"\"))","v":""},{"$f":"IF(P_15号様式!K81<> \"\",TEXT(INT(P_15号様式!K81),\"#,##0\"),\"\")","v":""},{"$f":"IF(P_15号様式!K81= \"\",\"\",IF(VALUE(FIXED(P_15号様式!K81,0,TRUE))<>P_15号様式!K81,RIGHT(FIXED(P_15号様式!K81,3,FALSE),4),\"\"))","v":""},{"$f":"IF(P_15号様式!O81<> \"\",TEXT(INT(P_15号様式!O81),\"#,##0\"),\"\")","v":""},{"$f":"IF(P_15号様式!O81= \"\",\"\",IF(VALUE(FIXED(P_15号様式!O81,0,TRUE))<>P_15号様式!O81,RIGHT(FIXED(P_15号様式!O81,3,FALSE),4),\"\"))","v":""},{"$f":"IF(P_15号様式!S81<> \"\",TEXT(INT(P_15号様式!S81),\"#,##0\"),\"\")","v":""},{"$f":"IF(P_15号様式!S81= \"\",\"\",IF(VALUE(FIXED(P_15号様式!S81,0,TRUE))<>P_15号様式!S81,RIGHT(FIXED(P_15号様式!S81,3,FALSE),4),\"\"))","v":""},{"$f":"IF(P_15号様式!W81<> \"\",TEXT(INT(P_15号様式!W81),\"#,##0\"),\"\")","v":""},{"$f":"IF(P_15号様式!W81= \"\",\"\",IF(VALUE(FIXED(P_15号様式!W81,0,TRUE))<>P_15号様式!W81,RIGHT(FIXED(P_15号様式!W81,3,FALSE),4),\"\"))","v":""},{"$f":"IF(P_15号様式!AA81<> \"\",TEXT(INT(P_15号様式!AA81),\"#,##0\"),\"\")","v":""},{"$f":"IF(P_15号様式!AA81= \"\",\"\",IF(VALUE(FIXED(P_15号様式!AA81,0,TRUE))<>P_15号様式!AA81,RIGHT(FIXED(P_15号様式!AA81,3,FALSE),4),\"\"))","v":""},{"$f":"IF(P_15号様式!AE81<> \"\",TEXT(INT(P_15号様式!AE81),\"#,##0\"),\"\")","v":""},{"$f":"IF(P_15号様式!AE81= \"\",\"\",IF(VALUE(FIXED(P_15号様式!AE81,0,TRUE))<>P_15号様式!AE81,RIGHT(FIXED(P_15号様式!AE81,3,FALSE),4),\"\"))","v":""},{"$f":"IF(P_15号様式!AI81<> \"\",TEXT(INT(P_15号様式!AI81),\"#,##0\"),\"\")","v":""},{"$f":"IF(P_15号様式!AI81= \"\",\"\",IF(VALUE(FIXED(P_15号様式!AI81,0,TRUE))<>P_15号様式!AI81,RIGHT(FIXED(P_15号様式!AI81,3,FALSE),4),\"\"))","v":""},{"$f":"IF(P_15号様式!AM81<> \"\",TEXT(INT(P_15号様式!AM81),\"#,##0\"),\"\")","v":""},{"$f":"IF(P_15号様式!AM81= \"\",\"\",IF(VALUE(FIXED(P_15号様式!AM81,0,TRUE))<>P_15号様式!AM81,RIGHT(FIXED(P_15号様式!AM81,3,FALSE),4),\"\"))","v":""},{"$f":"IF(P_15号様式!AQ81<> \"\",TEXT(INT(P_15号様式!AQ81),\"#,##0\"),\"\")","v":""},{"$f":"IF(P_15号様式!AQ81= \"\",\"\",IF(VALUE(FIXED(P_15号様式!AQ81,0,TRUE))<>P_15号様式!AQ81,RIGHT(FIXED(P_15号様式!AQ81,3,FALSE),4),\"\"))","v":""},{"$f":"IF(P_15号様式!AR81<> \"\",TEXT(INT(P_15号様式!AR81),\"#,##0\"),\"\")","v":""},null,{"$f":"IF(P_15号様式!AR81= \"\",\"\",IF(VALUE(FIXED(P_15号様式!AR81,0,TRUE))<>P_15号様式!AR81,RIGHT(FIXED(P_15号様式!AR81,3,FALSE),4),\"\"))","v":""}]
[{"$f":"IF(P_15号様式!C82=\"\",\"\",P_15号様式!C82)","v":""},null,{"$f":"IF(P_15号様式!G82<> \"\",TEXT(INT(P_15号様式!G82),\"#,##0\"),\"\")","v":""},{"$f":"IF(P_15号様式!G82= \"\",\"\",IF(VALUE(FIXED(P_15号様式!G82,0,TRUE))<>P_15号様式!G82,RIGHT(FIXED(P_15号様式!G82,3,FALSE),4),\"\"))","v":""},{"$f":"IF(P_15号様式!K82<> \"\",TEXT(INT(P_15号様式!K82),\"#,##0\"),\"\")","v":""},{"$f":"IF(P_15号様式!K82= \"\",\"\",IF(VALUE(FIXED(P_15号様式!K82,0,TRUE))<>P_15号様式!K82,RIGHT(FIXED(P_15号様式!K82,3,FALSE),4),\"\"))","v":""},{"$f":"IF(P_15号様式!O82<> \"\",TEXT(INT(P_15号様式!O82),\"#,##0\"),\"\")","v":""},{"$f":"IF(P_15号様式!O82= \"\",\"\",IF(VALUE(FIXED(P_15号様式!O82,0,TRUE))<>P_15号様式!O82,RIGHT(FIXED(P_15号様式!O82,3,FALSE),4),\"\"))","v":""},{"$f":"IF(P_15号様式!S82<> \"\",TEXT(INT(P_15号様式!S82),\"#,##0\"),\"\")","v":""},{"$f":"IF(P_15号様式!S82= \"\",\"\",IF(VALUE(FIXED(P_15号様式!S82,0,TRUE))<>P_15号様式!S82,RIGHT(FIXED(P_15号様式!S82,3,FALSE),4),\"\"))","v":""},{"$f":"IF(P_15号様式!W82<> \"\",TEXT(INT(P_15号様式!W82),\"#,##0\"),\"\")","v":""},{"$f":"IF(P_15号様式!W82= \"\",\"\",IF(VALUE(FIXED(P_15号様式!W82,0,TRUE))<>P_15号様式!W82,RIGHT(FIXED(P_15号様式!W82,3,FALSE),4),\"\"))","v":""},{"$f":"IF(P_15号様式!AA82<> \"\",TEXT(INT(P_15号様式!AA82),\"#,##0\"),\"\")","v":""},{"$f":"IF(P_15号様式!AA82= \"\",\"\",IF(VALUE(FIXED(P_15号様式!AA82,0,TRUE))<>P_15号様式!AA82,RIGHT(FIXED(P_15号様式!AA82,3,FALSE),4),\"\"))","v":""},{"$f":"IF(P_15号様式!AE82<> \"\",TEXT(INT(P_15号様式!AE82),\"#,##0\"),\"\")","v":""},{"$f":"IF(P_15号様式!AE82= \"\",\"\",IF(VALUE(FIXED(P_15号様式!AE82,0,TRUE))<>P_15号様式!AE82,RIGHT(FIXED(P_15号様式!AE82,3,FALSE),4),\"\"))","v":""},{"$f":"IF(P_15号様式!AI82<> \"\",TEXT(INT(P_15号様式!AI82),\"#,##0\"),\"\")","v":""},{"$f":"IF(P_15号様式!AI82= \"\",\"\",IF(VALUE(FIXED(P_15号様式!AI82,0,TRUE))<>P_15号様式!AI82,RIGHT(FIXED(P_15号様式!AI82,3,FALSE),4),\"\"))","v":""},{"$f":"IF(P_15号様式!AM82<> \"\",TEXT(INT(P_15号様式!AM82),\"#,##0\"),\"\")","v":""},{"$f":"IF(P_15号様式!AM82= \"\",\"\",IF(VALUE(FIXED(P_15号様式!AM82,0,TRUE))<>P_15号様式!AM82,RIGHT(FIXED(P_15号様式!AM82,3,FALSE),4),\"\"))","v":""},{"$f":"IF(P_15号様式!AQ82<> \"\",TEXT(INT(P_15号様式!AQ82),\"#,##0\"),\"\")","v":""},{"$f":"IF(P_15号様式!AQ82= \"\",\"\",IF(VALUE(FIXED(P_15号様式!AQ82,0,TRUE))<>P_15号様式!AQ82,RIGHT(FIXED(P_15号様式!AQ82,3,FALSE),4),\"\"))","v":""},{"$f":"IF(P_15号様式!AR82<> \"\",TEXT(INT(P_15号様式!AR82),\"#,##0\"),\"\")","v":""},null,{"$f":"IF(P_15号様式!AR82= \"\",\"\",IF(VALUE(FIXED(P_15号様式!AR82,0,TRUE))<>P_15号様式!AR82,RIGHT(FIXED(P_15号様式!AR82,3,FALSE),4),\"\"))","v":""}]
[{"$f":"IF(P_15号様式!C83=\"\",\"\",P_15号様式!C83)","v":""},null,{"$f":"IF(P_15号様式!G83<> \"\",TEXT(INT(P_15号様式!G83),\"#,##0\"),\"\")","v":""},{"$f":"IF(P_15号様式!G83= \"\",\"\",IF(VALUE(FIXED(P_15号様式!G83,0,TRUE))<>P_15号様式!G83,RIGHT(FIXED(P_15号様式!G83,3,FALSE),4),\"\"))","v":""},{"$f":"IF(P_15号様式!K83<> \"\",TEXT(INT(P_15号様式!K83),\"#,##0\"),\"\")","v":""},{"$f":"IF(P_15号様式!K83= \"\",\"\",IF(VALUE(FIXED(P_15号様式!K83,0,TRUE))<>P_15号様式!K83,RIGHT(FIXED(P_15号様式!K83,3,FALSE),4),\"\"))","v":""},{"$f":"IF(P_15号様式!O83<> \"\",TEXT(INT(P_15号様式!O83),\"#,##0\"),\"\")","v":""},{"$f":"IF(P_15号様式!O83= \"\",\"\",IF(VALUE(FIXED(P_15号様式!O83,0,TRUE))<>P_15号様式!O83,RIGHT(FIXED(P_15号様式!O83,3,FALSE),4),\"\"))","v":""},{"$f":"IF(P_15号様式!S83<> \"\",TEXT(INT(P_15号様式!S83),\"#,##0\"),\"\")","v":""},{"$f":"IF(P_15号様式!S83= \"\",\"\",IF(VALUE(FIXED(P_15号様式!S83,0,TRUE))<>P_15号様式!S83,RIGHT(FIXED(P_15号様式!S83,3,FALSE),4),\"\"))","v":""},{"$f":"IF(P_15号様式!W83<> \"\",TEXT(INT(P_15号様式!W83),\"#,##0\"),\"\")","v":""},{"$f":"IF(P_15号様式!W83= \"\",\"\",IF(VALUE(FIXED(P_15号様式!W83,0,TRUE))<>P_15号様式!W83,RIGHT(FIXED(P_15号様式!W83,3,FALSE),4),\"\"))","v":""},{"$f":"IF(P_15号様式!AA83<> \"\",TEXT(INT(P_15号様式!AA83),\"#,##0\"),\"\")","v":""},{"$f":"IF(P_15号様式!AA83= \"\",\"\",IF(VALUE(FIXED(P_15号様式!AA83,0,TRUE))<>P_15号様式!AA83,RIGHT(FIXED(P_15号様式!AA83,3,FALSE),4),\"\"))","v":""},{"$f":"IF(P_15号様式!AE83<> \"\",TEXT(INT(P_15号様式!AE83),\"#,##0\"),\"\")","v":""},{"$f":"IF(P_15号様式!AE83= \"\",\"\",IF(VALUE(FIXED(P_15号様式!AE83,0,TRUE))<>P_15号様式!AE83,RIGHT(FIXED(P_15号様式!AE83,3,FALSE),4),\"\"))","v":""},{"$f":"IF(P_15号様式!AI83<> \"\",TEXT(INT(P_15号様式!AI83),\"#,##0\"),\"\")","v":""},{"$f":"IF(P_15号様式!AI83= \"\",\"\",IF(VALUE(FIXED(P_15号様式!AI83,0,TRUE))<>P_15号様式!AI83,RIGHT(FIXED(P_15号様式!AI83,3,FALSE),4),\"\"))","v":""},{"$f":"IF(P_15号様式!AM83<> \"\",TEXT(INT(P_15号様式!AM83),\"#,##0\"),\"\")","v":""},{"$f":"IF(P_15号様式!AM83= \"\",\"\",IF(VALUE(FIXED(P_15号様式!AM83,0,TRUE))<>P_15号様式!AM83,RIGHT(FIXED(P_15号様式!AM83,3,FALSE),4),\"\"))","v":""},{"$f":"IF(P_15号様式!AQ83<> \"\",TEXT(INT(P_15号様式!AQ83),\"#,##0\"),\"\")","v":""},{"$f":"IF(P_15号様式!AQ83= \"\",\"\",IF(VALUE(FIXED(P_15号様式!AQ83,0,TRUE))<>P_15号様式!AQ83,RIGHT(FIXED(P_15号様式!AQ83,3,FALSE),4),\"\"))","v":""},{"$f":"IF(P_15号様式!AR83<> \"\",TEXT(INT(P_15号様式!AR83),\"#,##0\"),\"\")","v":""},null,{"$f":"IF(P_15号様式!AR83= \"\",\"\",IF(VALUE(FIXED(P_15号様式!AR83,0,TRUE))<>P_15号様式!AR83,RIGHT(FIXED(P_15号様式!AR83,3,FALSE),4),\"\"))","v":""}]
[{"$f":"IF(P_15号様式!C84=\"\",\"\",P_15号様式!C84)","v":""},null,{"$f":"IF(P_15号様式!G84<> \"\",TEXT(INT(P_15号様式!G84),\"#,##0\"),\"\")","v":""},{"$f":"IF(P_15号様式!G84= \"\",\"\",IF(VALUE(FIXED(P_15号様式!G84,0,TRUE))<>P_15号様式!G84,RIGHT(FIXED(P_15号様式!G84,3,FALSE),4),\"\"))","v":""},{"$f":"IF(P_15号様式!K84<> \"\",TEXT(INT(P_15号様式!K84),\"#,##0\"),\"\")","v":""},{"$f":"IF(P_15号様式!K84= \"\",\"\",IF(VALUE(FIXED(P_15号様式!K84,0,TRUE))<>P_15号様式!K84,RIGHT(FIXED(P_15号様式!K84,3,FALSE),4),\"\"))","v":""},{"$f":"IF(P_15号様式!O84<> \"\",TEXT(INT(P_15号様式!O84),\"#,##0\"),\"\")","v":""},{"$f":"IF(P_15号様式!O84= \"\",\"\",IF(VALUE(FIXED(P_15号様式!O84,0,TRUE))<>P_15号様式!O84,RIGHT(FIXED(P_15号様式!O84,3,FALSE),4),\"\"))","v":""},{"$f":"IF(P_15号様式!S84<> \"\",TEXT(INT(P_15号様式!S84),\"#,##0\"),\"\")","v":""},{"$f":"IF(P_15号様式!S84= \"\",\"\",IF(VALUE(FIXED(P_15号様式!S84,0,TRUE))<>P_15号様式!S84,RIGHT(FIXED(P_15号様式!S84,3,FALSE),4),\"\"))","v":""},{"$f":"IF(P_15号様式!W84<> \"\",TEXT(INT(P_15号様式!W84),\"#,##0\"),\"\")","v":""},{"$f":"IF(P_15号様式!W84= \"\",\"\",IF(VALUE(FIXED(P_15号様式!W84,0,TRUE))<>P_15号様式!W84,RIGHT(FIXED(P_15号様式!W84,3,FALSE),4),\"\"))","v":""},{"$f":"IF(P_15号様式!AA84<> \"\",TEXT(INT(P_15号様式!AA84),\"#,##0\"),\"\")","v":""},{"$f":"IF(P_15号様式!AA84= \"\",\"\",IF(VALUE(FIXED(P_15号様式!AA84,0,TRUE))<>P_15号様式!AA84,RIGHT(FIXED(P_15号様式!AA84,3,FALSE),4),\"\"))","v":""},{"$f":"IF(P_15号様式!AE84<> \"\",TEXT(INT(P_15号様式!AE84),\"#,##0\"),\"\")","v":""},{"$f":"IF(P_15号様式!AE84= \"\",\"\",IF(VALUE(FIXED(P_15号様式!AE84,0,TRUE))<>P_15号様式!AE84,RIGHT(FIXED(P_15号様式!AE84,3,FALSE),4),\"\"))","v":""},{"$f":"IF(P_15号様式!AI84<> \"\",TEXT(INT(P_15号様式!AI84),\"#,##0\"),\"\")","v":""},{"$f":"IF(P_15号様式!AI84= \"\",\"\",IF(VALUE(FIXED(P_15号様式!AI84,0,TRUE))<>P_15号様式!AI84,RIGHT(FIXED(P_15号様式!AI84,3,FALSE),4),\"\"))","v":""},{"$f":"IF(P_15号様式!AM84<> \"\",TEXT(INT(P_15号様式!AM84),\"#,##0\"),\"\")","v":""},{"$f":"IF(P_15号様式!AM84= \"\",\"\",IF(VALUE(FIXED(P_15号様式!AM84,0,TRUE))<>P_15号様式!AM84,RIGHT(FIXED(P_15号様式!AM84,3,FALSE),4),\"\"))","v":""},{"$f":"IF(P_15号様式!AQ84<> \"\",TEXT(INT(P_15号様式!AQ84),\"#,##0\"),\"\")","v":""},{"$f":"IF(P_15号様式!AQ84= \"\",\"\",IF(VALUE(FIXED(P_15号様式!AQ84,0,TRUE))<>P_15号様式!AQ84,RIGHT(FIXED(P_15号様式!AQ84,3,FALSE),4),\"\"))","v":""},{"$f":"IF(P_15号様式!AR84<> \"\",TEXT(INT(P_15号様式!AR84),\"#,##0\"),\"\")","v":""},null,{"$f":"IF(P_15号様式!AR84= \"\",\"\",IF(VALUE(FIXED(P_15号様式!AR84,0,TRUE))<>P_15号様式!AR84,RIGHT(FIXED(P_15号様式!AR84,3,FALSE),4),\"\"))","v":""}]
[{"$f":"IF(P_15号様式!C85=\"\",\"\",P_15号様式!C85)","v":""},null,{"$f":"IF(P_15号様式!G85<> \"\",TEXT(INT(P_15号様式!G85),\"#,##0\"),\"\")","v":""},{"$f":"IF(P_15号様式!G85= \"\",\"\",IF(VALUE(FIXED(P_15号様式!G85,0,TRUE))<>P_15号様式!G85,RIGHT(FIXED(P_15号様式!G85,3,FALSE),4),\"\"))","v":""},{"$f":"IF(P_15号様式!K85<> \"\",TEXT(INT(P_15号様式!K85),\"#,##0\"),\"\")","v":""},{"$f":"IF(P_15号様式!K85= \"\",\"\",IF(VALUE(FIXED(P_15号様式!K85,0,TRUE))<>P_15号様式!K85,RIGHT(FIXED(P_15号様式!K85,3,FALSE),4),\"\"))","v":""},{"$f":"IF(P_15号様式!O85<> \"\",TEXT(INT(P_15号様式!O85),\"#,##0\"),\"\")","v":""},{"$f":"IF(P_15号様式!O85= \"\",\"\",IF(VALUE(FIXED(P_15号様式!O85,0,TRUE))<>P_15号様式!O85,RIGHT(FIXED(P_15号様式!O85,3,FALSE),4),\"\"))","v":""},{"$f":"IF(P_15号様式!S85<> \"\",TEXT(INT(P_15号様式!S85),\"#,##0\"),\"\")","v":""},{"$f":"IF(P_15号様式!S85= \"\",\"\",IF(VALUE(FIXED(P_15号様式!S85,0,TRUE))<>P_15号様式!S85,RIGHT(FIXED(P_15号様式!S85,3,FALSE),4),\"\"))","v":""},{"$f":"IF(P_15号様式!W85<> \"\",TEXT(INT(P_15号様式!W85),\"#,##0\"),\"\")","v":""},{"$f":"IF(P_15号様式!W85= \"\",\"\",IF(VALUE(FIXED(P_15号様式!W85,0,TRUE))<>P_15号様式!W85,RIGHT(FIXED(P_15号様式!W85,3,FALSE),4),\"\"))","v":""},{"$f":"IF(P_15号様式!AA85<> \"\",TEXT(INT(P_15号様式!AA85),\"#,##0\"),\"\")","v":""},{"$f":"IF(P_15号様式!AA85= \"\",\"\",IF(VALUE(FIXED(P_15号様式!AA85,0,TRUE))<>P_15号様式!AA85,RIGHT(FIXED(P_15号様式!AA85,3,FALSE),4),\"\"))","v":""},{"$f":"IF(P_15号様式!AE85<> \"\",TEXT(INT(P_15号様式!AE85),\"#,##0\"),\"\")","v":""},{"$f":"IF(P_15号様式!AE85= \"\",\"\",IF(VALUE(FIXED(P_15号様式!AE85,0,TRUE))<>P_15号様式!AE85,RIGHT(FIXED(P_15号様式!AE85,3,FALSE),4),\"\"))","v":""},{"$f":"IF(P_15号様式!AI85<> \"\",TEXT(INT(P_15号様式!AI85),\"#,##0\"),\"\")","v":""},{"$f":"IF(P_15号様式!AI85= \"\",\"\",IF(VALUE(FIXED(P_15号様式!AI85,0,TRUE))<>P_15号様式!AI85,RIGHT(FIXED(P_15号様式!AI85,3,FALSE),4),\"\"))","v":""},{"$f":"IF(P_15号様式!AM85<> \"\",TEXT(INT(P_15号様式!AM85),\"#,##0\"),\"\")","v":""},{"$f":"IF(P_15号様式!AM85= \"\",\"\",IF(VALUE(FIXED(P_15号様式!AM85,0,TRUE))<>P_15号様式!AM85,RIGHT(FIXED(P_15号様式!AM85,3,FALSE),4),\"\"))","v":""},{"$f":"IF(P_15号様式!AQ85<> \"\",TEXT(INT(P_15号様式!AQ85),\"#,##0\"),\"\")","v":""},{"$f":"IF(P_15号様式!AQ85= \"\",\"\",IF(VALUE(FIXED(P_15号様式!AQ85,0,TRUE))<>P_15号様式!AQ85,RIGHT(FIXED(P_15号様式!AQ85,3,FALSE),4),\"\"))","v":""},{"$f":"IF(P_15号様式!AR85<> \"\",TEXT(INT(P_15号様式!AR85),\"#,##0\"),\"\")","v":""},null,{"$f":"IF(P_15号様式!AR85= \"\",\"\",IF(VALUE(FIXED(P_15号様式!AR85,0,TRUE))<>P_15号様式!AR85,RIGHT(FIXED(P_15号様式!AR85,3,FALSE),4),\"\"))","v":""}]
[{"$f":"IF(P_15号様式!C86=\"\",\"\",P_15号様式!C86)","v":""},null,{"$f":"IF(P_15号様式!G86<> \"\",TEXT(INT(P_15号様式!G86),\"#,##0\"),\"\")","v":""},{"$f":"IF(P_15号様式!G86= \"\",\"\",IF(VALUE(FIXED(P_15号様式!G86,0,TRUE))<>P_15号様式!G86,RIGHT(FIXED(P_15号様式!G86,3,FALSE),4),\"\"))","v":""},{"$f":"IF(P_15号様式!K86<> \"\",TEXT(INT(P_15号様式!K86),\"#,##0\"),\"\")","v":""},{"$f":"IF(P_15号様式!K86= \"\",\"\",IF(VALUE(FIXED(P_15号様式!K86,0,TRUE))<>P_15号様式!K86,RIGHT(FIXED(P_15号様式!K86,3,FALSE),4),\"\"))","v":""},{"$f":"IF(P_15号様式!O86<> \"\",TEXT(INT(P_15号様式!O86),\"#,##0\"),\"\")","v":""},{"$f":"IF(P_15号様式!O86= \"\",\"\",IF(VALUE(FIXED(P_15号様式!O86,0,TRUE))<>P_15号様式!O86,RIGHT(FIXED(P_15号様式!O86,3,FALSE),4),\"\"))","v":""},{"$f":"IF(P_15号様式!S86<> \"\",TEXT(INT(P_15号様式!S86),\"#,##0\"),\"\")","v":""},{"$f":"IF(P_15号様式!S86= \"\",\"\",IF(VALUE(FIXED(P_15号様式!S86,0,TRUE))<>P_15号様式!S86,RIGHT(FIXED(P_15号様式!S86,3,FALSE),4),\"\"))","v":""},{"$f":"IF(P_15号様式!W86<> \"\",TEXT(INT(P_15号様式!W86),\"#,##0\"),\"\")","v":""},{"$f":"IF(P_15号様式!W86= \"\",\"\",IF(VALUE(FIXED(P_15号様式!W86,0,TRUE))<>P_15号様式!W86,RIGHT(FIXED(P_15号様式!W86,3,FALSE),4),\"\"))","v":""},{"$f":"IF(P_15号様式!AA86<> \"\",TEXT(INT(P_15号様式!AA86),\"#,##0\"),\"\")","v":""},{"$f":"IF(P_15号様式!AA86= \"\",\"\",IF(VALUE(FIXED(P_15号様式!AA86,0,TRUE))<>P_15号様式!AA86,RIGHT(FIXED(P_15号様式!AA86,3,FALSE),4),\"\"))","v":""},{"$f":"IF(P_15号様式!AE86<> \"\",TEXT(INT(P_15号様式!AE86),\"#,##0\"),\"\")","v":""},{"$f":"IF(P_15号様式!AE86= \"\",\"\",IF(VALUE(FIXED(P_15号様式!AE86,0,TRUE))<>P_15号様式!AE86,RIGHT(FIXED(P_15号様式!AE86,3,FALSE),4),\"\"))","v":""},{"$f":"IF(P_15号様式!AI86<> \"\",TEXT(INT(P_15号様式!AI86),\"#,##0\"),\"\")","v":""},{"$f":"IF(P_15号様式!AI86= \"\",\"\",IF(VALUE(FIXED(P_15号様式!AI86,0,TRUE))<>P_15号様式!AI86,RIGHT(FIXED(P_15号様式!AI86,3,FALSE),4),\"\"))","v":""},{"$f":"IF(P_15号様式!AM86<> \"\",TEXT(INT(P_15号様式!AM86),\"#,##0\"),\"\")","v":""},{"$f":"IF(P_15号様式!AM86= \"\",\"\",IF(VALUE(FIXED(P_15号様式!AM86,0,TRUE))<>P_15号様式!AM86,RIGHT(FIXED(P_15号様式!AM86,3,FALSE),4),\"\"))","v":""},{"$f":"IF(P_15号様式!AQ86<> \"\",TEXT(INT(P_15号様式!AQ86),\"#,##0\"),\"\")","v":""},{"$f":"IF(P_15号様式!AQ86= \"\",\"\",IF(VALUE(FIXED(P_15号様式!AQ86,0,TRUE))<>P_15号様式!AQ86,RIGHT(FIXED(P_15号様式!AQ86,3,FALSE),4),\"\"))","v":""},{"$f":"IF(P_15号様式!AR86<> \"\",TEXT(INT(P_15号様式!AR86),\"#,##0\"),\"\")","v":""},null,{"$f":"IF(P_15号様式!AR86= \"\",\"\",IF(VALUE(FIXED(P_15号様式!AR86,0,TRUE))<>P_15号様式!AR86,RIGHT(FIXED(P_15号様式!AR86,3,FALSE),4),\"\"))","v":""}]
[{"$f":"IF(P_15号様式!C87=\"\",\"\",P_15号様式!C87)","v":""},null,{"$f":"IF(P_15号様式!G87<> \"\",TEXT(INT(P_15号様式!G87),\"#,##0\"),\"\")","v":""},{"$f":"IF(P_15号様式!G87= \"\",\"\",IF(VALUE(FIXED(P_15号様式!G87,0,TRUE))<>P_15号様式!G87,RIGHT(FIXED(P_15号様式!G87,3,FALSE),4),\"\"))","v":""},{"$f":"IF(P_15号様式!K87<> \"\",TEXT(INT(P_15号様式!K87),\"#,##0\"),\"\")","v":""},{"$f":"IF(P_15号様式!K87= \"\",\"\",IF(VALUE(FIXED(P_15号様式!K87,0,TRUE))<>P_15号様式!K87,RIGHT(FIXED(P_15号様式!K87,3,FALSE),4),\"\"))","v":""},{"$f":"IF(P_15号様式!O87<> \"\",TEXT(INT(P_15号様式!O87),\"#,##0\"),\"\")","v":""},{"$f":"IF(P_15号様式!O87= \"\",\"\",IF(VALUE(FIXED(P_15号様式!O87,0,TRUE))<>P_15号様式!O87,RIGHT(FIXED(P_15号様式!O87,3,FALSE),4),\"\"))","v":""},{"$f":"IF(P_15号様式!S87<> \"\",TEXT(INT(P_15号様式!S87),\"#,##0\"),\"\")","v":""},{"$f":"IF(P_15号様式!S87= \"\",\"\",IF(VALUE(FIXED(P_15号様式!S87,0,TRUE))<>P_15号様式!S87,RIGHT(FIXED(P_15号様式!S87,3,FALSE),4),\"\"))","v":""},{"$f":"IF(P_15号様式!W87<> \"\",TEXT(INT(P_15号様式!W87),\"#,##0\"),\"\")","v":""},{"$f":"IF(P_15号様式!W87= \"\",\"\",IF(VALUE(FIXED(P_15号様式!W87,0,TRUE))<>P_15号様式!W87,RIGHT(FIXED(P_15号様式!W87,3,FALSE),4),\"\"))","v":""},{"$f":"IF(P_15号様式!AA87<> \"\",TEXT(INT(P_15号様式!AA87),\"#,##0\"),\"\")","v":""},{"$f":"IF(P_15号様式!AA87= \"\",\"\",IF(VALUE(FIXED(P_15号様式!AA87,0,TRUE))<>P_15号様式!AA87,RIGHT(FIXED(P_15号様式!AA87,3,FALSE),4),\"\"))","v":""},{"$f":"IF(P_15号様式!AE87<> \"\",TEXT(INT(P_15号様式!AE87),\"#,##0\"),\"\")","v":""},{"$f":"IF(P_15号様式!AE87= \"\",\"\",IF(VALUE(FIXED(P_15号様式!AE87,0,TRUE))<>P_15号様式!AE87,RIGHT(FIXED(P_15号様式!AE87,3,FALSE),4),\"\"))","v":""},{"$f":"IF(P_15号様式!AI87<> \"\",TEXT(INT(P_15号様式!AI87),\"#,##0\"),\"\")","v":""},{"$f":"IF(P_15号様式!AI87= \"\",\"\",IF(VALUE(FIXED(P_15号様式!AI87,0,TRUE))<>P_15号様式!AI87,RIGHT(FIXED(P_15号様式!AI87,3,FALSE),4),\"\"))","v":""},{"$f":"IF(P_15号様式!AM87<> \"\",TEXT(INT(P_15号様式!AM87),\"#,##0\"),\"\")","v":""},{"$f":"IF(P_15号様式!AM87= \"\",\"\",IF(VALUE(FIXED(P_15号様式!AM87,0,TRUE))<>P_15号様式!AM87,RIGHT(FIXED(P_15号様式!AM87,3,FALSE),4),\"\"))","v":""},{"$f":"IF(P_15号様式!AQ87<> \"\",TEXT(INT(P_15号様式!AQ87),\"#,##0\"),\"\")","v":""},{"$f":"IF(P_15号様式!AQ87= \"\",\"\",IF(VALUE(FIXED(P_15号様式!AQ87,0,TRUE))<>P_15号様式!AQ87,RIGHT(FIXED(P_15号様式!AQ87,3,FALSE),4),\"\"))","v":""},{"$f":"IF(P_15号様式!AR87<> \"\",TEXT(INT(P_15号様式!AR87),\"#,##0\"),\"\")","v":""},null,{"$f":"IF(P_15号様式!AR87= \"\",\"\",IF(VALUE(FIXED(P_15号様式!AR87,0,TRUE))<>P_15号様式!AR87,RIGHT(FIXED(P_15号様式!AR87,3,FALSE),4),\"\"))","v":""}]
[]
["市　計",null,{"$f":"IF(P_15号様式!AS45<> \"\",TEXT(INT(P_15号様式!AS45),\"#,##0\"),\"\")","v":"2,962"},{"$f":"IF(P_15号様式!AS45= \"\",\"\",IF(VALUE(FIXED(P_15号様式!AS45,0,TRUE))<>P_15号様式!AS45,RIGHT(FIXED(P_15号様式!AS45,3,FALSE),4),\"\"))","v":""},{"$f":"IF(P_15号様式!AV45<> \"\",TEXT(INT(P_15号様式!AV45),\"#,##0\"),\"\")","v":"13,824"},{"$f":"IF(P_15号様式!AV45= \"\",\"\",IF(VALUE(FIXED(P_15号様式!AV45,0,TRUE))<>P_15号様式!AV45,RIGHT(FIXED(P_15号様式!AV45,3,FALSE),4),\"\"))","v":""},{"$f":"IF(P_15号様式!AY45<> \"\",TEXT(INT(P_15号様式!AY45),\"#,##0\"),\"\")","v":"29,000"},{"$f":"IF(P_15号様式!AY45= \"\",\"\",IF(VALUE(FIXED(P_15号様式!AY45,0,TRUE))<>P_15号様式!AY45,RIGHT(FIXED(P_15号様式!AY45,3,FALSE),4),\"\"))","v":""},{"$f":"IF(P_15号様式!BB45<> \"\",TEXT(INT(P_15号様式!BB45),\"#,##0\"),\"\")","v":"106,799"},{"$f":"IF(P_15号様式!BB45= \"\",\"\",IF(VALUE(FIXED(P_15号様式!BB45,0,TRUE))<>P_15号様式!BB45,RIGHT(FIXED(P_15号様式!BB45,3,FALSE),4),\"\"))","v":""},{"$f":"IF(P_15号様式!BE45<> \"\",TEXT(INT(P_15号様式!BE45),\"#,##0\"),\"\")","v":"71,369"},{"$f":"IF(P_15号様式!BE45= \"\",\"\",IF(VALUE(FIXED(P_15号様式!BE45,0,TRUE))<>P_15号様式!BE45,RIGHT(FIXED(P_15号様式!BE45,3,FALSE),4),\"\"))","v":""},{"$f":"IF(P_15号様式!BH45<> \"\",TEXT(INT(P_15号様式!BH45),\"#,##0\"),\"\")","v":"98,435"},{"$f":"IF(P_15号様式!BH45= \"\",\"\",IF(VALUE(FIXED(P_15号様式!BH45,0,TRUE))<>P_15号様式!BH45,RIGHT(FIXED(P_15号様式!BH45,3,FALSE),4),\"\"))","v":""},{"$f":"IF(P_15号様式!BK45<> \"\",TEXT(INT(P_15号様式!BK45),\"#,##0\"),\"\")","v":"8,017"},{"$f":"IF(P_15号様式!BK45= \"\",\"\",IF(VALUE(FIXED(P_15号様式!BK45,0,TRUE))<>P_15号様式!BK45,RIGHT(FIXED(P_15号様式!BK45,3,FALSE),4),\"\"))","v":""},{"$f":"IF(P_15号様式!BN45<> \"\",TEXT(INT(P_15号様式!BN45),\"#,##0\"),\"\")","v":""},{"$f":"IF(P_15号様式!BN45= \"\",\"\",IF(VALUE(FIXED(P_15号様式!BN45,0,TRUE))<>P_15号様式!BN45,RIGHT(FIXED(P_15号様式!BN45,3,FALSE),4),\"\"))","v":""},{"$f":"IF(P_15号様式!BQ45<> \"\",TEXT(INT(P_15号様式!BQ45),\"#,##0\"),\"\")","v":""},{"$f":"IF(P_15号様式!BQ45= \"\",\"\",IF(VALUE(FIXED(P_15号様式!BQ45,0,TRUE))<>P_15号様式!BQ45,RIGHT(FIXED(P_15号様式!BQ45,3,FALSE),4),\"\"))","v":""},{"$f":"IF(P_15号様式!BT45<> \"\",TEXT(INT(P_15号様式!BT45),\"#,##0\"),\"\")","v":""},{"$f":"IF(P_15号様式!BT45= \"\",\"\",IF(VALUE(FIXED(P_15号様式!BT45,0,TRUE))<>P_15号様式!BT45,RIGHT(FIXED(P_15号様式!BT45,3,FALSE),4),\"\"))","v":""},{"$f":"IF(P_15号様式!BW45<> \"\",TEXT(INT(P_15号様式!BW45),\"#,##0\"),\"\")","v":"330,406"},null,{"$f":"IF(P_15号様式!BW45= \"\",\"\",IF(VALUE(FIXED(P_15号様式!BW45,0,TRUE))<>P_15号様式!BW45,RIGHT(FIXED(P_15号様式!BW45,3,FALSE),4),\"\"))","v":""}]
["町村計",null,{"$f":"IF(P_15号様式!AT45<> \"\",TEXT(INT(P_15号様式!AT45),\"#,##0\"),\"\")","v":"660"},{"$f":"IF(P_15号様式!AT45= \"\",\"\",IF(VALUE(FIXED(P_15号様式!AT45,0,TRUE))<>P_15号様式!AT45,RIGHT(FIXED(P_15号様式!AT45,3,FALSE),4),\"\"))","v":""},{"$f":"IF(P_15号様式!AW45<> \"\",TEXT(INT(P_15号様式!AW45),\"#,##0\"),\"\")","v":"3,069"},{"$f":"IF(P_15号様式!AW45= \"\",\"\",IF(VALUE(FIXED(P_15号様式!AW45,0,TRUE))<>P_15号様式!AW45,RIGHT(FIXED(P_15号様式!AW45,3,FALSE),4),\"\"))","v":""},{"$f":"IF(P_15号様式!AZ45<> \"\",TEXT(INT(P_15号様式!AZ45),\"#,##0\"),\"\")","v":"6,596"},{"$f":"IF(P_15号様式!AZ45= \"\",\"\",IF(VALUE(FIXED(P_15号様式!AZ45,0,TRUE))<>P_15号様式!AZ45,RIGHT(FIXED(P_15号様式!AZ45,3,FALSE),4),\"\"))","v":""},{"$f":"IF(P_15号様式!BC45<> \"\",TEXT(INT(P_15号様式!BC45),\"#,##0\"),\"\")","v":"33,944"},{"$f":"IF(P_15号様式!BC45= \"\",\"\",IF(VALUE(FIXED(P_15号様式!BC45,0,TRUE))<>P_15号様式!BC45,RIGHT(FIXED(P_15号様式!BC45,3,FALSE),4),\"\"))","v":""},{"$f":"IF(P_15号様式!BF45<> \"\",TEXT(INT(P_15号様式!BF45),\"#,##0\"),\"\")","v":"20,901"},{"$f":"IF(P_15号様式!BF45= \"\",\"\",IF(VALUE(FIXED(P_15号様式!BF45,0,TRUE))<>P_15号様式!BF45,RIGHT(FIXED(P_15号様式!BF45,3,FALSE),4),\"\"))","v":""},{"$f":"IF(P_15号様式!BI45<> \"\",TEXT(INT(P_15号様式!BI45),\"#,##0\"),\"\")","v":"23,051"},{"$f":"IF(P_15号様式!BI45= \"\",\"\",IF(VALUE(FIXED(P_15号様式!BI45,0,TRUE))<>P_15号様式!BI45,RIGHT(FIXED(P_15号様式!BI45,3,FALSE),4),\"\"))","v":""},{"$f":"IF(P_15号様式!BL45<> \"\",TEXT(INT(P_15号様式!BL45),\"#,##0\"),\"\")","v":"2,233"},{"$f":"IF(P_15号様式!BL45= \"\",\"\",IF(VALUE(FIXED(P_15号様式!BL45,0,TRUE))<>P_15号様式!BL45,RIGHT(FIXED(P_15号様式!BL45,3,FALSE),4),\"\"))","v":""},{"$f":"IF(P_15号様式!BO45<> \"\",TEXT(INT(P_15号様式!BO45),\"#,##0\"),\"\")","v":""},{"$f":"IF(P_15号様式!BO45= \"\",\"\",IF(VALUE(FIXED(P_15号様式!BO45,0,TRUE))<>P_15号様式!BO45,RIGHT(FIXED(P_15号様式!BO45,3,FALSE),4),\"\"))","v":""},{"$f":"IF(P_15号様式!BR45<> \"\",TEXT(INT(P_15号様式!BR45),\"#,##0\"),\"\")","v":""},{"$f":"IF(P_15号様式!BR45= \"\",\"\",IF(VALUE(FIXED(P_15号様式!BR45,0,TRUE))<>P_15号様式!BR45,RIGHT(FIXED(P_15号様式!BR45,3,FALSE),4),\"\"))","v":""},{"$f":"IF(P_15号様式!BU45<> \"\",TEXT(INT(P_15号様式!BU45),\"#,##0\"),\"\")","v":""},{"$f":"IF(P_15号様式!BU45= \"\",\"\",IF(VALUE(FIXED(P_15号様式!BU45,0,TRUE))<>P_15号様式!BU45,RIGHT(FIXED(P_15号様式!BU45,3,FALSE),4),\"\"))","v":""},{"$f":"IF(P_15号様式!BX45<> \"\",TEXT(INT(P_15号様式!BX45),\"#,##0\"),\"\")","v":"90,454"},null,{"$f":"IF(P_15号様式!BX45= \"\",\"\",IF(VALUE(FIXED(P_15号様式!BX45,0,TRUE))<>P_15号様式!BX45,RIGHT(FIXED(P_15号様式!BX45,3,FALSE),4),\"\"))","v":""}]
["県計",null,{"$f":"IF(P_15号様式!AU45<> \"\",TEXT(INT(P_15号様式!AU45),\"#,##0\"),\"\")","v":"3,622"},{"$f":"IF(P_15号様式!AU45= \"\",\"\",IF(VALUE(FIXED(P_15号様式!AU45,0,TRUE))<>P_15号様式!AU45,RIGHT(FIXED(P_15号様式!AU45,3,FALSE),4),\"\"))","v":""},{"$f":"IF(P_15号様式!AX45<> \"\",TEXT(INT(P_15号様式!AX45),\"#,##0\"),\"\")","v":"16,893"},{"$f":"IF(P_15号様式!AX45= \"\",\"\",IF(VALUE(FIXED(P_15号様式!AX45,0,TRUE))<>P_15号様式!AX45,RIGHT(FIXED(P_15号様式!AX45,3,FALSE),4),\"\"))","v":""},{"$f":"IF(P_15号様式!BA45<> \"\",TEXT(INT(P_15号様式!BA45),\"#,##0\"),\"\")","v":"35,596"},{"$f":"IF(P_15号様式!BA45= \"\",\"\",IF(VALUE(FIXED(P_15号様式!BA45,0,TRUE))<>P_15号様式!BA45,RIGHT(FIXED(P_15号様式!BA45,3,FALSE),4),\"\"))","v":""},{"$f":"IF(P_15号様式!BD45<> \"\",TEXT(INT(P_15号様式!BD45),\"#,##0\"),\"\")","v":"140,743"},{"$f":"IF(P_15号様式!BD45= \"\",\"\",IF(VALUE(FIXED(P_15号様式!BD45,0,TRUE))<>P_15号様式!BD45,RIGHT(FIXED(P_15号様式!BD45,3,FALSE),4),\"\"))","v":""},{"$f":"IF(P_15号様式!BG45<> \"\",TEXT(INT(P_15号様式!BG45),\"#,##0\"),\"\")","v":"92,270"},{"$f":"IF(P_15号様式!BG45= \"\",\"\",IF(VALUE(FIXED(P_15号様式!BG45,0,TRUE))<>P_15号様式!BG45,RIGHT(FIXED(P_15号様式!BG45,3,FALSE),4),\"\"))","v":""},{"$f":"IF(P_15号様式!BJ45<> \"\",TEXT(INT(P_15号様式!BJ45),\"#,##0\"),\"\")","v":"121,486"},{"$f":"IF(P_15号様式!BJ45= \"\",\"\",IF(VALUE(FIXED(P_15号様式!BJ45,0,TRUE))<>P_15号様式!BJ45,RIGHT(FIXED(P_15号様式!BJ45,3,FALSE),4),\"\"))","v":""},{"$f":"IF(P_15号様式!BM45<> \"\",TEXT(INT(P_15号様式!BM45),\"#,##0\"),\"\")","v":"10,250"},{"$f":"IF(P_15号様式!BM45= \"\",\"\",IF(VALUE(FIXED(P_15号様式!BM45,0,TRUE))<>P_15号様式!BM45,RIGHT(FIXED(P_15号様式!BM45,3,FALSE),4),\"\"))","v":""},{"$f":"IF(P_15号様式!BP45<> \"\",TEXT(INT(P_15号様式!BP45),\"#,##0\"),\"\")","v":""},{"$f":"IF(P_15号様式!BP45= \"\",\"\",IF(VALUE(FIXED(P_15号様式!BP45,0,TRUE))<>P_15号様式!BP45,RIGHT(FIXED(P_15号様式!BP45,3,FALSE),4),\"\"))","v":""},{"$f":"IF(P_15号様式!BS45<> \"\",TEXT(INT(P_15号様式!BS45),\"#,##0\"),\"\")","v":""},{"$f":"IF(P_15号様式!BS45= \"\",\"\",IF(VALUE(FIXED(P_15号様式!BS45,0,TRUE))<>P_15号様式!BS45,RIGHT(FIXED(P_15号様式!BS45,3,FALSE),4),\"\"))","v":""},{"$f":"IF(P_15号様式!BV45<> \"\",TEXT(INT(P_15号様式!BV45),\"#,##0\"),\"\")","v":""},{"$f":"IF(P_15号様式!BV45= \"\",\"\",IF(VALUE(FIXED(P_15号様式!BV45,0,TRUE))<>P_15号様式!BV45,RIGHT(FIXED(P_15号様式!BV45,3,FALSE),4),\"\"))","v":""},{"$f":"IF(P_15号様式!BY45<> \"\",TEXT(INT(P_15号様式!BY45),\"#,##0\"),\"\")","v":"420,860"},null,{"$f":"IF(P_15号様式!BY45= \"\",\"\",IF(VALUE(FIXED(P_15号様式!BY45,0,TRUE))<>P_15号様式!BY45,RIGHT(FIXED(P_15号様式!BY45,3,FALSE),4),\"\"))","v":""}]

{"sheet":"パラメタシート","index":1,"n_rows":1,"n_cols":2,"rows_kept":1,"cut":false,"hidden":false,"merged":[]}
["執行日","2020-07-12"]

{"sheet":"P_15号様式","index":2,"n_rows":87,"n_cols":86,"rows_kept":87,"cut":false,"hidden":false,"merged":[]}
["頁番号","行番号","市区町村名","届出番号1","所属党派名1","候補者名1","得票数1","届出番号2","所属党派名2","候補者名2","得票数2","届出番号3","所属党派名3","候補者名3","得票数3","届出番号4","所属党派名4","候補者名4","得票数4","届出番号5","所属党派名5","候補者名5","得票数5","届出番号6","所属党派名6","候補者名6","得票数6","届出番号7","所属党派名7","候補者名7","得票数7","届出番号8","所属党派名8","候補者名8","得票数8","届出番号9","所属党派名9","候補者名9","得票数9","届出番号10","所属党派名10","候補者名10","得票数10","小計","市部計1","郡部計1","県計1","市部計2","郡部計2","県計2","市部計3","郡部計3","県計3","市部計4","郡部計4","県計4","市部計5","郡部計5","県計5","市部計6","郡部計6","県計6","市部計7","郡部計7","県計7","市部計8","郡部計8","県計8","市部計9","郡部計9","県計9","市部計10","郡部計10","県計10","市部計","郡部計","県計","選挙名","翌日開票区分","報告回数","開票時刻","開票確定時刻","投票結了フラグ","全体投票結了フラグ","開票率","全体開票率"]
[1,1,"　鹿児島市","01","無所属","武田　信弘",0,"02","無所属","横山　ふみ子",0,"03","無所属","青木　りゅうこ",0,"04","無所属","みたぞの　さとし",0,"05","無所属","いとう　祐一郎",0,"06","無所属","しおた　康一",0,"07","無所属","有川　ひろゆき",0,null,null,null,null,null,null,null,null,null,null,null,null,0,2962,660,3622,13824,3069,16893,29000,6596,35596,106799,33944,140743,71369,20901,92270,98435,23051,121486,8017,2233,10250,null,null,null,null,null,null,null,null,null,330406,90454,420860,"鹿児島県知事選挙","0",4,"22:30:00",null,"1","1",63.9553874813598,63.9553874813598]
[1,2,"　鹿屋市","01","無所属","武田　信弘",343,"02","無所属","横山　ふみ子",1127,"03","無所属","青木　りゅうこ",3653,"04","無所属","みたぞの　さとし",12353,"05","無所属","いとう　祐一郎",7911,"06","無所属","しおた　康一",9821,"07","無所属","有川　ひろゆき",828,null,null,null,null,null,null,null,null,null,null,null,null,36036,2962,660,3622,13824,3069,16893,29000,6596,35596,106799,33944,140743,71369,20901,92270,98435,23051,121486,8017,2233,10250,null,null,null,null,null,null,null,null,null,330406,90454,420860,"鹿児島県知事選挙","0",4,"22:30:00",null,"1","1",63.9553874813598,63.9553874813598]
[1,3,"　枕崎市","01","無所属","武田　信弘",71,"02","無所属","横山　ふみ子",252,"03","無所属","青木　りゅうこ",766,"04","無所属","みたぞの　さとし",3362,"05","無所属","いとう　祐一郎",1159,"06","無所属","しおた　康一",2632,"07","無所属","有川　ひろゆき",193,null,null,null,null,null,null,null,null,null,null,null,null,8435,2962,660,3622,13824,3069,16893,29000,6596,35596,106799,33944,140743,71369,20901,92270,98435,23051,121486,8017,2233,10250,null,null,null,null,null,null,null,null,null,330406,90454,420860,"鹿児島県知事選挙","0",4,"22:30:00",null,"1","1",63.9553874813598,63.9553874813598]
[1,4,"　阿久根市","01","無所属","武田　信弘",50,"02","無所属","横山　ふみ子",284,"03","無所属","青木　りゅうこ",619,"04","無所属","みたぞの　さとし",2300,"05","無所属","いとう　祐一郎",4130,"06","無所属","しおた　康一",2256,"07","無所属","有川　ひろゆき",161,null,null,null,null,null,null,null,null,null,null,null,null,9800,2962,660,3622,13824,3069,16893,29000,6596,35596,106799,33944,140743,71369,20901,92270,98435,23051,121486,8017,2233,10250,null,null,null,null,null,null,null,null,null,330406,90454,420860,"鹿児島県知事選挙","0",4,"22:30:00",null,"1","1",63.9553874813598,63.9553874813598]
[1,5,"　出水市","01","無所属","武田　信弘",173,"02","無所属","横山　ふみ子",786,"03","無所属","青木　りゅうこ",1436,"04","無所属","みたぞの　さとし",3667,"05","無所属","いとう　祐一郎",11169,"06","無所属","しおた　康一",5267,"07","無所属","有川　ひろゆき",364,null,null,null,null,null,null,null,null,null,null,null,null,22862,2962,660,3622,13824,3069,16893,29000,6596,35596,106799,33944,140743,71369,20901,92270,98435,23051,121486,8017,2233,10250,null,null,null,null,null,null,null,null,null,330406,90454,420860,"鹿児島県知事選挙","0",4,"22:30:00",null,"1","1",63.9553874813598,63.9553874813598]
[1,6,"　指宿市","01","無所属","武田　信弘",153,"02","無所属","横山　ふみ子",494,"03","無所属","青木　りゅうこ",1095,"04","無所属","みたぞの　さとし",9668,"05","無所属","いとう　祐一郎",2067,"06","無所属","しおた　康一",3740,"07","無所属","有川　ひろゆき",247,null,null,null,null,null,null,null,null,null,null,null,null,17464,2962,660,3622,13824,3069,16893,29000,6596,35596,106799,33944,140743,71369,20901,92270,98435,23051,121486,8017,2233,10250,null,null,null,null,null,null,null,null,null,330406,90454,420860,"鹿児島県知事選挙","0",4,"22:30:00",null,"1","1",63.9553874813598,63.9553874813598]
[1,7,"　西之表市","01","無所属","武田　信弘",36,"02","無所属","横山　ふみ子",465,"03","無所属","青木　りゅうこ",520,"04","無所属","みたぞの　さとし",2741,"05","無所属","いとう　祐一郎",1000,"06","無所属","しおた　康一",1824,"07","無所属","有川　ひろゆき",136,null,null,null,null,null,null,null,null,null,null,null,null,6722,2962,660,3622,13824,3069,16893,29000,6596,35596,106799,33944,140743,71369,20901,92270,98435,23051,121486,8017,2233,10250,null,null,null,null,null,null,null,null,null,330406,90454,420860,"鹿児島県知事選挙","0",4,"22:30:00",null,"1","1",63.9553874813598,63.9553874813598]
[1,8,"　垂水市","01","無所属","武田　信弘",39,"02","無所属","横山　ふみ子",264,"03","無所属","青木　りゅうこ",503,"04","無所属","みたぞの　さとし",2481,"05","無所属","いとう　祐一郎",1647,"06","無所属","しおた　康一",1331,"07","無所属","有川　ひろゆき",148,null,null,null,null,null,null,null,null,null,null,null,null,6413,2962,660,3622,13824,3069,16893,29000,6596,35596,106799,33944,140743,71369,20901,92270,98435,23051,121486,8017,2233,10250,null,null,null,null,null,null,null,null,null,330406,90454,420860,"鹿児島県知事選挙","0",4,"22:30:00",null,"1","1",63.9553874813598,63.9553874813598]
[1,9,"　薩摩川内市第１","01","無所属","武田　信弘",332,"02","無所属","横山　ふみ子",1733,"03","無所属","青木　りゅうこ",3023,"04","無所属","みたぞの　さとし",11530,"05","無所属","いとう　祐一郎",6997,"06","無所属","しおた　康一",14462,"07","無所属","有川　ひろゆき",762,null,null,null,null,null,null,null,null,null,null,null,null,38839,2962,660,3622,13824,3069,16893,29000,6596,35596,106799,33944,140743,71369,20901,92270,98435,23051,121486,8017,2233,10250,null,null,null,null,null,null,null,null,null,330406,90454,420860,"鹿児島県知事選挙","0",4,"22:30:00",null,"1","1",63.9553874813598,63.9553874813598]
[1,10,"　薩摩川内市第２","01","無所属","武田　信弘",5,"02","無所属","横山　ふみ子",33,"03","無所属","青木　りゅうこ",72,"04","無所属","みたぞの　さとし",398,"05","無所属","いとう　祐一郎",228,"06","無所属","しおた　康一",623,"07","無所属","有川　ひろゆき",25,null,null,null,null,null,null,null,null,null,null,null,null,1384,2962,660,3622,13824,3069,16893,29000,6596,35596,106799,33944,140743,71369,20901,92270,98435,23051,121486,8017,2233,10250,null,null,null,null,null,null,null,null,null,330406,90454,420860,"鹿児島県知事選挙","0",4,"22:30:00",null,"1","1",63.9553874813598,63.9553874813598]
[1,11,"　薩摩川内市第３","01","無所属","武田　信弘",7,"02","無所属","横山　ふみ子",40,"03","無所属","青木　りゅうこ",94,"04","無所属","みたぞの　さとし",433,"05","無所属","いとう　祐一郎",196,"06","無所属","しおた　康一",324,"07","無所属","有川　ひろゆき",46,null,null,null,null,null,null,null,null,null,null,null,null,1140,2962,660,3622,13824,3069,16893,29000,6596,35596,106799,33944,140743,71369,20901,92270,98435,23051,121486,8017,2233,10250,null,null,null,null,null,null,null,null,null,330406,90454,420860,"鹿児島県知事選挙","0",4,"22:30:00",null,"1","1",63.9553874813598,63.9553874813598]
[1,12,"＊（薩摩川内市）計","01","無所属","武田　信弘",344,"02","無所属","横山　ふみ子",1806,"03","無所属","青木　りゅうこ",3189,"04","無所属","みたぞの　さとし",12361,"05","無所属","いとう　祐一郎",7421,"06","無所属","しおた　康一",15409,"07","無所属","有川　ひろゆき",833,null,null,null,null,null,null,null,null,null,null,null,null,41363,2962,660,3622,13824,3069,16893,29000,6596,35596,106799,33944,140743,71369,20901,92270,98435,23051,121486,8017,2233,10250,null,null,null,null,null,null,null,null,null,330406,90454,420860,"鹿児島県知事選挙","0",4,"22:30:00",null,"1","1",63.9553874813598,63.9553874813598]
[1,13,"　日置市","01","無所属","武田　信弘",205,"02","無所属","横山　ふみ子",749,"03","無所属","青木　りゅうこ",2025,"04","無所属","みたぞの　さとし",5766,"05","無所属","いとう　祐一郎",4830,"06","無所属","しおた　康一",7375,"07","無所属","有川　ひろゆき",571,null,null,null,null,null,null,null,null,null,null,null,null,21521,2962,660,3622,13824,3069,16893,29000,6596,35596,106799,33944,140743,71369,20901,92270,98435,23051,121486,8017,2233,10250,null,null,null,null,null,null,null,null,null,330406,90454,420860,"鹿児島県知事選挙","0",4,"22:30:00",null,"1","1",63.9553874813598,63.9553874813598]
[1,14,"　曽於市","01","無所属","武田　信弘",181,"02","無所属","横山　ふみ子",559,"03","無所属","青木　りゅうこ",993,"04","無所属","みたぞの　さとし",5738,"05","無所属","いとう　祐一郎",2782,"06","無所属","しおた　康一",3288,"07","無所属","有川　ひろゆき",368,null,null,null,null,null,null,null,null,null,null,null,null,13909,2962,660,3622,13824,3069,16893,29000,6596,35596,106799,33944,140743,71369,20901,92270,98435,23051,121486,8017,2233,10250,null,null,null,null,null,null,null,null,null,330406,90454,420860,"鹿児島県知事選挙","0",4,"22:30:00",null,"1","1",63.9553874813598,63.9553874813598]
[1,15,"　霧島市","01","無所属","武田　信弘",400,"02","無所属","横山　ふみ子",2400,"03","無所属","青木　りゅうこ",3600,"04","無所属","みたぞの　さとし",7400,"05","無所属","いとう　祐一郎",7400,"06","無所属","しおた　康一",7400,"07","無所属","有川　ひろゆき",1400,null,null,null,null,null,null,null,null,null,null,null,null,30000,2962,660,3622,13824,3069,16893,29000,6596,35596,106799,33944,140743,71369,20901,92270,98435,23051,121486,8017,2233,10250,null,null,null,null,null,null,null,null,null,330406,90454,420860,"鹿児島県知事選挙","0",4,"22:30:00",null,"1","1",63.9553874813598,63.9553874813598]
[1,16,"　いちき串木野市","01","無所属","武田　信弘",130,"02","無所属","横山　ふみ子",425,"03","無所属","青木　りゅうこ",1029,"04","無所属","みたぞの　さとし",3018,"05","無所属","いとう　祐一郎",1976,"06","無所属","しおた　康一",6009,"07","無所属","有川　ひろゆき",198,null,null,null,null,null,null,null,null,null,null,null,null,12785,2962,660,3622,13824,3069,16893,29000,6596,35596,106799,33944,140743,71369,20901,92270,98435,23051,121486,8017,2233,10250,null,null,null,null,null,null,null,null,null,330406,90454,420860,"鹿児島県知事選挙","0",4,"22:30:00",null,"1","1",63.9553874813598,63.9553874813598]
[1,17,"　南さつま市","01","無所属","武田　信弘",184,"02","無所属","横山　ふみ子",581,"03","無所属","青木　りゅうこ",1337,"04","無所属","みたぞの　さとし",5033,"05","無所属","いとう　祐一郎",2585,"06","無所属","しおた　康一",5100,"07","無所属","有川　ひろゆき",366,null,null,null,null,null,null,null,null,null,null,null,null,15186,2962,660,3622,13824,3069,16893,29000,6596,35596,106799,33944,140743,71369,20901,92270,98435,23051,121486,8017,2233,10250,null,null,null,null,null,null,null,null,null,330406,90454,420860,"鹿児島県知事選挙","0",4,"22:30:00",null,"1","1",63.9553874813598,63.9553874813598]
[1,18,"　志布志市","01","無所属","武田　信弘",100,"02","無所属","横山　ふみ子",336,"03","無所属","青木　りゅうこ",1015,"04","無所属","みたぞの　さとし",4259,"05","無所属","いとう　祐一郎",2795,"06","無所属","しおた　康一",2835,"07","無所属","有川　ひろゆき",282,null,null,null,null,null,null,null,null,null,null,null,null,11622,2962,660,3622,13824,3069,16893,29000,6596,35596,106799,33944,140743,71369,20901,92270,98435,23051,121486,8017,2233,10250,null,null,null,null,null,null,null,null,null,330406,90454,420860,"鹿児島県知事選挙","0",4,"22:30:00",null,"1","1",63.9553874813598,63.9553874813598]
[1,19,"　奄美市","01","無所属","武田　信弘",112,"02","無所属","横山　ふみ子",1028,"03","無所属","青木　りゅうこ",1444,"04","無所属","みたぞの　さとし",7970,"05","無所属","いとう　祐一郎",3383,"06","無所属","しおた　康一",4230,"07","無所属","有川　ひろゆき",239,null,null,null,null,null,null,null,null,null,null,null,null,18406,2962,660,3622,13824,3069,16893,29000,6596,35596,106799,33944,140743,71369,20901,92270,98435,23051,121486,8017,2233,10250,null,null,null,null,null,null,null,null,null,330406,90454,420860,"鹿児島県知事選挙","0",4,"22:30:00",null,"1","1",63.9553874813598,63.9553874813598]
[1,20,"　南九州市","01","無所属","武田　信弘",131,"02","無所属","横山　ふみ子",433,"03","無所属","青木　りゅうこ",1312,"04","無所属","みたぞの　さとし",6489,"05","無所属","いとう　祐一郎",2001,"06","無所属","しおた　康一",4257,"07","無所属","有川　ひろゆき",318,null,null,null,null,null,null,null,null,null,null,null,null,14941,2962,660,3622,13824,3069,16893,29000,6596,35596,106799,33944,140743,71369,20901,92270,98435,23051,121486,8017,2233,10250,null,null,null,null,null,null,null,null,null,330406,90454,420860,"鹿児島県知事選挙","0",4,"22:30:00",null,"1","1",63.9553874813598,63.9553874813598]
[1,21,"　伊佐市","01","無所属","武田　信弘",110,"02","無所属","横山　ふみ子",412,"03","無所属","青木　りゅうこ",993,"04","無所属","みたぞの　さとし",4203,"05","無所属","いとう　祐一郎",1900,"06","無所属","しおた　康一",3416,"07","無所属","有川　ひろゆき",193,null,null,null,null,null,null,null,null,null,null,null,null,11227,2962,660,3622,13824,3069,16893,29000,6596,35596,106799,33944,140743,71369,20901,92270,98435,23051,121486,8017,2233,10250,null,null,null,null,null,null,null,null,null,330406,90454,420860,"鹿児島県知事選挙","0",4,"22:30:00",null,"1","1",63.9553874813598,63.9553874813598]
[1,22,"　姶良市","01","無所属","武田　信弘",200,"02","無所属","横山　ふみ子",1423,"03","無所属","青木　りゅうこ",3471,"04","無所属","みたぞの　さとし",7990,"05","無所属","いとう　祐一郎",5213,"06","無所属","しおた　康一",12245,"07","無所属","有川　ひろゆき",1172,null,null,null,null,null,null,null,null,null,null,null,null,31714,2962,660,3622,13824,3069,16893,29000,6596,35596,106799,33944,140743,71369,20901,92270,98435,23051,121486,8017,2233,10250,null,null,null,null,null,null,null,null,null,330406,90454,420860,"鹿児島県知事選挙","0",4,"22:30:00",null,"1","1",63.9553874813598,63.9553874813598]
[1,23,"　三島村","01","無所属","武田　信弘",4,"02","無所属","横山　ふみ子",8,"03","無所属","青木　りゅうこ",19,"04","無所属","みたぞの　さとし",63,"05","無所属","いとう　祐一郎",69,"06","無所属","しおた　康一",33,"07","無所属","有川　ひろゆき",12,null,null,null,null,null,null,null,null,null,null,null,null,208,2962,660,3622,13824,3069,16893,29000,6596,35596,106799,33944,140743,71369,20901,92270,98435,23051,121486,8017,2233,10250,null,null,null,null,null,null,null,null,null,330406,90454,420860,"鹿児島県知事選挙","0",4,"22:30:00",null,"1","1",63.9553874813598,63.9553874813598]
[1,24,"　十島村","01","無所属","武田　信弘",2,"02","無所属","横山　ふみ子",12,"03","無所属","青木　りゅうこ",28,"04","無所属","みたぞの　さとし",115,"05","無所属","いとう　祐一郎",69,"06","無所属","しおた　康一",147,"07","無所属","有川　ひろゆき",23,null,null,null,null,null,null,null,null,null,null,null,null,396,2962,660,3622,13824,3069,16893,29000,6596,35596,106799,33944,140743,71369,20901,92270,98435,23051,121486,8017,2233,10250,null,null,null,null,null,null,null,null,null,330406,90454,420860,"鹿児島県知事選挙","0",4,"22:30:00",null,"1","1",63.9553874813598,63.9553874813598]
[1,25,"＊（鹿児島郡）計","01","無所属","武田　信弘",6,"02","無所属","横山　ふみ子",20,"03","無所属","青木　りゅうこ",47,"04","無所属","みたぞの　さとし",178,"05","無所属","いとう　祐一郎",138,"06","無所属","しおた　康一",180,"07","無所属","有川　ひろゆき",35,null,null,null,null,null,null,null,null,null,null,null,null,604,2962,660,3622,13824,3069,16893,29000,6596,35596,106799,33944,140743,71369,20901,92270,98435,23051,121486,8017,2233,10250,null,null,null,null,null,null,null,null,null,330406,90454,420860,"鹿児島県知事選挙","0",4,"22:30:00",null,"1","1",63.9553874813598,63.9553874813598]
[1,26,"　さつま町","01","無所属","武田　信弘",87,"02","無所属","横山　ふみ子",293,"03","無所属","青木　りゅうこ",941,"04","無所属","みたぞの　さとし",3584,"05","無所属","いとう　祐一郎",1927,"06","無所属","しおた　康一",3184,"07","無所属","有川　ひろゆき",220,null,null,null,null,null,null,null,null,null,null,null,null,10236,2962,660,3622,13824,3069,16893,29000,6596,35596,106799,33944,140743,71369,20901,92270,98435,23051,121486,8017,2233,10250,null,null,null,null,null,null,null,null,null,330406,90454,420860,"鹿児島県知事選挙","0",4,"22:30:00",null,"1","1",63.9553874813598,63.9553874813598]
[1,27,"＊（薩摩郡）計","01","無所属","武田　信弘",87,"02","無所属","横山　ふみ子",293,"03","無所属","青木　りゅうこ",941,"04","無所属","みたぞの　さとし",3584,"05","無所属","いとう　祐一郎",1927,"06","無所属","しおた　康一",3184,"07","無所属","有川　ひろゆき",220,null,null,null,null,null,null,null,null,null,null,null,null,10236,2962,660,3622,13824,3069,16893,29000,6596,35596,106799,33944,140743,71369,20901,92270,98435,23051,121486,8017,2233,10250,null,null,null,null,null,null,null,null,null,330406,90454,420860,"鹿児島県知事選挙","0",4,"22:30:00",null,"1","1",63.9553874813598,63.9553874813598]
[1,28,"　長島町","01","無所属","武田　信弘",26,"02","無所属","横山　ふみ子",106,"03","無所属","青木　りゅうこ",207,"04","無所属","みたぞの　さとし",842,"05","無所属","いとう　祐一郎",4415,"06","無所属","しおた　康一",585,"07","無所属","有川　ひろゆき",78,null,null,null,null,null,null,null,null,null,null,null,null,6259,2962,660,3622,13824,3069,16893,29000,6596,35596,106799,33944,140743,71369,20901,92270,98435,23051,121486,8017,2233,10250,null,null,null,null,null,null,null,null,null,330406,90454,420860,"鹿児島県知事選挙","0",4,"22:30:00",null,"1","1",63.9553874813598,63.9553874813598]
[1,29,"＊（出水郡）計","01","無所属","武田　信弘",26,"02","無所属","横山　ふみ子",106,"03","無所属","青木　りゅうこ",207,"04","無所属","みたぞの　さとし",842,"05","無所属","いとう　祐一郎",4415,"06","無所属","しおた　康一",585,"07","無所属","有川　ひろゆき",78,null,null,null,null,null,null,null,null,null,null,null,null,6259,2962,660,3622,13824,3069,16893,29000,6596,35596,106799,33944,140743,71369,20901,92270,98435,23051,121486,8017,2233,10250,null,null,null,null,null,null,null,null,null,330406,90454,420860,"鹿児島県知事選挙","0",4,"22:30:00",null,"1","1",63.9553874813598,63.9553874813598]
[1,30,"　湧水町","01","無所属","武田　信弘",49,"02","無所属","横山　ふみ子",132,"03","無所属","青木　りゅうこ",400,"04","無所属","みたぞの　さとし",1719,"05","無所属","いとう　祐一郎",696,"06","無所属","しおた　康一",1391,"07","無所属","有川　ひろゆき",77,null,null,null,null,null,null,null,null,null,null,null,null,4464,2962,660,3622,13824,3069,16893,29000,6596,35596,106799,33944,140743,71369,20901,92270,98435,23051,121486,8017,2233,10250,null,null,null,null,null,null,null,null,null,330406,90454,420860,"鹿児島県知事選挙","0",4,"22:30:00",null,"1","1",63.9553874813598,63.9553874813598]
[1,31,"＊（姶良郡）計","01","無所属","武田　信弘",49,"02","無所属","横山　ふみ子",132,"03","無所属","青木　りゅうこ",400,"04","無所属","みたぞの　さとし",1719,"05","無所属","いとう　祐一郎",696,"06","無所属","しおた　康一",1391,"07","無所属","有川　ひろゆき",77,null,null,null,null,null,null,null,null,null,null,null,null,4464,2962,660,3622,13824,3069,16893,29000,6596,35596,106799,33944,140743,71369,20901,92270,98435,23051,121486,8017,2233,10250,null,null,null,null,null,null,null,null,null,330406,90454,420860,"鹿児島県知事選挙","0",4,"22:30:00",null,"1","1",63.9553874813598,63.9553874813598]
[1,32,"　大崎町","01","無所属","武田　信弘",65,"02","無所属","横山　ふみ子",170,"03","無所属","青木　りゅうこ",451,"04","無所属","みたぞの　さとし",1960,"05","無所属","いとう　祐一郎",1553,"06","無所属","しおた　康一",1269,"07","無所属","有川　ひろゆき",94,null,null,null,null,null,null,null,null,null,null,null,null,5562,2962,660,3622,13824,3069,16893,29000,6596,35596,106799,33944,140743,71369,20901,92270,98435,23051,121486,8017,2233,10250,null,null,null,null,null,null,null,null,null,330406,90454,420860,"鹿児島県知事選挙","0",4,"22:30:00",null,"1","1",63.9553874813598,63.9553874813598]
[1,33,"＊（曽於郡）計","01","無所属","武田　信弘",65,"02","無所属","横山　ふみ子",170,"03","無所属","青木　りゅうこ",451,"04","無所属","みたぞの　さとし",1960,"05","無所属","いとう　祐一郎",1553,"06","無所属","しおた　康一",1269,"07","無所属","有川　ひろゆき",94,null,null,null,null,null,null,null,null,null,null,null,null,5562,2962,660,3622,13824,3069,16893,29000,6596,35596,106799,33944,140743,71369,20901,92270,98435,23051,121486,8017,2233,10250,null,null,null,null,null,null,null,null,null,330406,90454,420860,"鹿児島県知事選挙","0",4,"22:30:00",null,"1","1",63.9553874813598,63.9553874813598]
[1,34,"　東串良町","01","無所属","武田　信弘",31,"02","無所属","横山　ふみ子",133,"03","無所属","青木　りゅうこ",222,"04","無所属","みたぞの　さとし",1072,"05","無所属","いとう　祐一郎",570,"06","無所属","しおた　康一",554,"07","無所属","有川　ひろゆき",52,null,null,null,null,null,null,null,null,null,null,null,null,2634,2962,660,3622,13824,3069,16893,29000,6596,35596,106799,33944,140743,71369,20901,92270,98435,23051,121486,8017,2233,10250,null,null,null,null,null,null,null,null,null,330406,90454,420860,"鹿児島県知事選挙","0",4,"22:30:00",null,"1","1",63.9553874813598,63.9553874813598]
[1,35,"　錦江町","01","無所属","武田　信弘",19,"02","無所属","横山　ふみ子",64,"03","無所属","青木　りゅうこ",293,"04","無所属","みたぞの　さとし",1575,"05","無所属","いとう　祐一郎",683,"06","無所属","しおた　康一",1126,"07","無所属","有川　ひろゆき",56,null,null,null,null,null,null,null,null,null,null,null,null,3816,2962,660,3622,13824,3069,16893,29000,6596,35596,106799,33944,140743,71369,20901,92270,98435,23051,121486,8017,2233,10250,null,null,null,null,null,null,null,null,null,330406,90454,420860,"鹿児島県知事選挙","0",4,"22:30:00",null,"1","1",63.9553874813598,63.9553874813598]
[1,36,"　南大隅町","01","無所属","武田　信弘",19,"02","無所属","横山　ふみ子",97,"03","無所属","青木　りゅうこ",382,"04","無所属","みたぞの　さとし",1309,"05","無所属","いとう　祐一郎",944,"06","無所属","しおた　康一",1000,"07","無所属","有川　ひろゆき",63,null,null,null,null,null,null,null,null,null,null,null,null,3814,2962,660,3622,13824,3069,16893,29000,6596,35596,106799,33944,140743,71369,20901,92270,98435,23051,121486,8017,2233,10250,null,null,null,null,null,null,null,null,null,330406,90454,420860,"鹿児島県知事選挙","0",4,"22:30:00",null,"1","1",63.9553874813598,63.9553874813598]
[1,37,"　肝付町","01","無所属","武田　信弘",55,"02","無所属","横山　ふみ子",198,"03","無所属","青木　りゅうこ",548,"04","無所属","みたぞの　さとし",2763,"05","無所属","いとう　祐一郎",1198,"06","無所属","しおた　康一",1502,"07","無所属","有川　ひろゆき",149,null,null,null,null,null,null,null,null,null,null,null,null,6413,2962,660,3622,13824,3069,16893,29000,6596,35596,106799,33944,140743,71369,20901,92270,98435,23051,121486,8017,2233,10250,null,null,null,null,null,null,null,null,null,330406,90454,420860,"鹿児島県知事選挙","0",4,"22:30:00",null,"1","1",63.9553874813598,63.9553874813598]
[1,38,"＊（肝属郡）計","01","無所属","武田　信弘",124,"02","無所属","横山　ふみ子",492,"03","無所属","青木　りゅうこ",1445,"04","無所属","みたぞの　さとし",6719,"05","無所属","いとう　祐一郎",3395,"06","無所属","しおた　康一",4182,"07","無所属","有川　ひろゆき",320,null,null,null,null,null,null,null,null,null,null,null,null,16677,2962,660,3622,13824,3069,16893,29000,6596,35596,106799,33944,140743,71369,20901,92270,98435,23051,121486,8017,2233,10250,null,null,null,null,null,null,null,null,null,330406,90454,420860,"鹿児島県知事選挙","0",4,"22:30:00",null,"1","1",63.9553874813598,63.9553874813598]
[1,39,"　中種子町","01","無所属","武田　信弘",29,"02","無所属","横山　ふみ子",159,"03","無所属","青木　りゅうこ",349,"04","無所属","みたぞの　さとし",1900,"05","無所属","いとう　祐一郎",591,"06","無所属","しおた　康一",923,"07","無所属","有川　ひろゆき",125,null,null,null,null,null,null,null,null,null,null,null,null,4076,2962,660,3622,13824,3069,16893,29000,6596,35596,106799,33944,140743,71369,20901,92270,98435,23051,121486,8017,2233,10250,null,null,null,null,null,null,null,null,null,330406,90454,420860,"鹿児島県知事選挙","0",4,"22:30:00",null,"1","1",63.9553874813598,63.9553874813598]
[1,40,"　南種子町","01","無所属","武田　信弘",17,"02","無所属","横山　ふみ子",131,"03","無所属","青木　りゅうこ",251,"04","無所属","みたぞの　さとし",1251,"05","無所属","いとう　祐一郎",544,"06","無所属","しおた　康一",528,"07","無所属","有川　ひろゆき",122,null,null,null,null,null,null,null,null,null,null,null,null,2844,2962,660,3622,13824,3069,16893,29000,6596,35596,106799,33944,140743,71369,20901,92270,98435,23051,121486,8017,2233,10250,null,null,null,null,null,null,null,null,null,330406,90454,420860,"鹿児島県知事選挙","0",4,"22:30:00",null,"1","1",63.9553874813598,63.9553874813598]
[1,41,"　屋久島町","01","無所属","武田　信弘",57,"02","無所属","横山　ふみ子",489,"03","無所属","青木　りゅうこ",529,"04","無所属","みたぞの　さとし",2565,"05","無所属","いとう　祐一郎",1118,"06","無所属","しおた　康一",1238,"07","無所属","有川　ひろゆき",181,null,null,null,null,null,null,null,null,null,null,null,null,6177,2962,660,3622,13824,3069,16893,29000,6596,35596,106799,33944,140743,71369,20901,92270,98435,23051,121486,8017,2233,10250,null,null,null,null,null,null,null,null,null,330406,90454,420860,"鹿児島県知事選挙","0",4,"22:30:00",null,"1","1",63.9553874813598,63.9553874813598]
[1,42,"＊（熊毛郡）計","01","無所属","武田　信弘",103,"02","無所属","横山　ふみ子",779,"03","無所属","青木　りゅうこ",1129,"04","無所属","みたぞの　さとし",5716,"05","無所属","いとう　祐一郎",2253,"06","無所属","しおた　康一",2689,"07","無所属","有川　ひろゆき",428,null,null,null,null,null,null,null,null,null,null,null,null,13097,2962,660,3622,13824,3069,16893,29000,6596,35596,106799,33944,140743,71369,20901,92270,98435,23051,121486,8017,2233,10250,null,null,null,null,null,null,null,null,null,330406,90454,420860,"鹿児島県知事選挙","0",4,"22:30:00",null,"1","1",63.9553874813598,63.9553874813598]
[1,43,"　大和村","01","無所属","武田　信弘",5,"02","無所属","横山　ふみ子",52,"03","無所属","青木　りゅうこ",47,"04","無所属","みたぞの　さとし",488,"05","無所属","いとう　祐一郎",169,"06","無所属","しおた　康一",137,"07","無所属","有川　ひろゆき",11,null,null,null,null,null,null,null,null,null,null,null,null,909,2962,660,3622,13824,3069,16893,29000,6596,35596,106799,33944,140743,71369,20901,92270,98435,23051,121486,8017,2233,10250,null,null,null,null,null,null,null,null,null,330406,90454,420860,"鹿児島県知事選挙","0",4,"22:30:00",null,"1","1",63.9553874813598,63.9553874813598]
[2,1,"　宇検村","01","無所属","武田　信弘",4,"02","無所属","横山　ふみ子",34,"03","無所属","青木　りゅうこ",83,"04","無所属","みたぞの　さとし",586,"05","無所属","いとう　祐一郎",270,"06","無所属","しおた　康一",162,"07","無所属","有川　ひろゆき",19,null,null,null,null,null,null,null,null,null,null,null,null,1158,2962,660,3622,13824,3069,16893,29000,6596,35596,106799,33944,140743,71369,20901,92270,98435,23051,121486,8017,2233,10250,null,null,null,null,null,null,null,null,null,330406,90454,420860,"鹿児島県知事選挙","0",4,"22:30:00",null,"1","1",63.9553874813598,63.9553874813598]
[2,2,"　瀬戸内町","01","無所属","武田　信弘",23,"02","無所属","横山　ふみ子",231,"03","無所属","青木　りゅうこ",360,"04","無所属","みたぞの　さとし",1622,"05","無所属","いとう　祐一郎",1253,"06","無所属","しおた　康一",1127,"07","無所属","有川　ひろゆき",105,null,null,null,null,null,null,null,null,null,null,null,null,4721,2962,660,3622,13824,3069,16893,29000,6596,35596,106799,33944,140743,71369,20901,92270,98435,23051,121486,8017,2233,10250,null,null,null,null,null,null,null,null,null,330406,90454,420860,"鹿児島県知事選挙","0",4,"22:30:00",null,"1","1",63.9553874813598,63.9553874813598]
[2,3,"　龍郷町","01","無所属","武田　信弘",20,"02","無所属","横山　ふみ子",126,"03","無所属","青木　りゅうこ",235,"04","無所属","みたぞの　さとし",1356,"05","無所属","いとう　祐一郎",632,"06","無所属","しおた　康一",681,"07","無所属","有川　ひろゆき",51,null,null,null,null,null,null,null,null,null,null,null,null,3101,2962,660,3622,13824,3069,16893,29000,6596,35596,106799,33944,140743,71369,20901,92270,98435,23051,121486,8017,2233,10250,null,null,null,null,null,null,null,null,null,330406,90454,420860,"鹿児島県知事選挙","0",4,"22:30:00",null,"1","1",63.9553874813598,63.9553874813598]
[2,4,"　喜界町","01","無所属","武田　信弘",16,"02","無所属","横山　ふみ子",103,"03","無所属","青木　りゅうこ",217,"04","無所属","みたぞの　さとし",1551,"05","無所属","いとう　祐一郎",744,"06","無所属","しおた　康一",727,"07","無所属","有川　ひろゆき",102,null,null,null,null,null,null,null,null,null,null,null,null,3460,2962,660,3622,13824,3069,16893,29000,6596,35596,106799,33944,140743,71369,20901,92270,98435,23051,121486,8017,2233,10250,null,null,null,null,null,null,null,null,null,330406,90454,420860,"鹿児島県知事選挙","0",4,"22:30:00",null,"1","1",63.9553874813598,63.9553874813598]
[2,5,"　徳之島町","01","無所属","武田　信弘",36,"02","無所属","横山　ふみ子",162,"03","無所属","青木　りゅうこ",274,"04","無所属","みたぞの　さとし",1850,"05","無所属","いとう　祐一郎",672,"06","無所属","しおた　康一",1952,"07","無所属","有川　ひろゆき",84,null,null,null,null,null,null,null,null,null,null,null,null,5030,2962,660,3622,13824,3069,16893,29000,6596,35596,106799,33944,140743,71369,20901,92270,98435,23051,121486,8017,2233,10250,null,null,null,null,null,null,null,null,null,330406,90454,420860,"鹿児島県知事選挙","0",4,"22:30:00",null,"1","1",63.9553874813598,63.9553874813598]
[2,6,"　天城町","01","無所属","武田　信弘",20,"02","無所属","横山　ふみ子",51,"03","無所属","青木　りゅうこ",109,"04","無所属","みたぞの　さとし",994,"05","無所属","いとう　祐一郎",533,"06","無所属","しおた　康一",1242,"07","無所属","有川　ひろゆき",96,null,null,null,null,null,null,null,null,null,null,null,null,3045,2962,660,3622,13824,3069,16893,29000,6596,35596,106799,33944,140743,71369,20901,92270,98435,23051,121486,8017,2233,10250,null,null,null,null,null,null,null,null,null,330406,90454,420860,"鹿児島県知事選挙","0",4,"22:30:00",null,"1","1",63.9553874813598,63.9553874813598]
[2,7,"　伊仙町","01","無所属","武田　信弘",9,"02","無所属","横山　ふみ子",92,"03","無所属","青木　りゅうこ",70,"04","無所属","みたぞの　さとし",896,"05","無所属","いとう　祐一郎",645,"06","無所属","しおた　康一",1623,"07","無所属","有川　ひろゆき",33,null,null,null,null,null,null,null,null,null,null,null,null,3368,2962,660,3622,13824,3069,16893,29000,6596,35596,106799,33944,140743,71369,20901,92270,98435,23051,121486,8017,2233,10250,null,null,null,null,null,null,null,null,null,330406,90454,420860,"鹿児島県知事選挙","0",4,"22:30:00",null,"1","1",63.9553874813598,63.9553874813598]
[2,8,"　和泊町","01","無所属","武田　信弘",14,"02","無所属","横山　ふみ子",80,"03","無所属","青木　りゅうこ",232,"04","無所属","みたぞの　さとし",1631,"05","無所属","いとう　祐一郎",602,"06","無所属","しおた　康一",547,"07","無所属","有川　ひろゆき",118,null,null,null,null,null,null,null,null,null,null,null,null,3224,2962,660,3622,13824,3069,16893,29000,6596,35596,106799,33944,140743,71369,20901,92270,98435,23051,121486,8017,2233,10250,null,null,null,null,null,null,null,null,null,330406,90454,420860,"鹿児島県知事選挙","0",4,"22:30:00",null,"1","1",63.9553874813598,63.9553874813598]
[2,9,"　知名町","01","無所属","武田　信弘",30,"02","無所属","横山　ふみ子",72,"03","無所属","青木　りゅうこ",181,"04","無所属","みたぞの　さとし",1058,"05","無所属","いとう　祐一郎",611,"06","無所属","しおた　康一",607,"07","無所属","有川　ひろゆき",276,null,null,null,null,null,null,null,null,null,null,null,null,2835,2962,660,3622,13824,3069,16893,29000,6596,35596,106799,33944,140743,71369,20901,92270,98435,23051,121486,8017,2233,10250,null,null,null,null,null,null,null,null,null,330406,90454,420860,"鹿児島県知事選挙","0",4,"22:30:00",null,"1","1",63.9553874813598,63.9553874813598]
[2,10,"　与論町","01","無所属","武田　信弘",23,"02","無所属","横山　ふみ子",74,"03","無所属","青木　りゅうこ",168,"04","無所属","みたぞの　さとし",1194,"05","無所属","いとう　祐一郎",393,"06","無所属","しおた　康一",766,"07","無所属","有川　ひろゆき",86,null,null,null,null,null,null,null,null,null,null,null,null,2704,2962,660,3622,13824,3069,16893,29000,6596,35596,106799,33944,140743,71369,20901,92270,98435,23051,121486,8017,2233,10250,null,null,null,null,null,null,null,null,null,330406,90454,420860,"鹿児島県知事選挙","0",4,"22:30:00",null,"1","1",63.9553874813598,63.9553874813598]
[2,11,"＊（大島郡）計","01","無所属","武田　信弘",200,"02","無所属","横山　ふみ子",1077,"03","無所属","青木　りゅうこ",1976,"04","無所属","みたぞの　さとし",13226,"05","無所属","いとう　祐一郎",6524,"06","無所属","しおた　康一",9571,"07","無所属","有川　ひろゆき",981,null,null,null,null,null,null,null,null,null,null,null,null,33555,2962,660,3622,13824,3069,16893,29000,6596,35596,106799,33944,140743,71369,20901,92270,98435,23051,121486,8017,2233,10250,null,null,null,null,null,null,null,null,null,330406,90454,420860,"鹿児島県知事選挙","0",4,"22:30:00",null,"1","1",63.9553874813598,63.9553874813598]
[2,12,null,"01","無所属","武田　信弘",null,"02","無所属","横山　ふみ子",null,"03","無所属","青木　りゅうこ",null,"04","無所属","みたぞの　さとし",null,"05","無所属","いとう　祐一郎",null,"06","無所属","しおた　康一",null,"07","無所属","有川　ひろゆき",null,null,null,null,null,null,null,null,null,null,null,null,null,null,2962,660,3622,13824,3069,16893,29000,6596,35596,106799,33944,140743,71369,20901,92270,98435,23051,121486,8017,2233,10250,null,null,null,null,null,null,null,null,null,330406,90454,420860,"鹿児島県知事選挙","0",4,"22:30:00",null,"1","1",63.9553874813598,63.9553874813598]
[2,13,null,"01","無所属","武田　信弘",null,"02","無所属","横山　ふみ子",null,"03","無所属","青木　りゅうこ",null,"04","無所属","みたぞの　さとし",null,"05","無所属","いとう　祐一郎",null,"06","無所属","しおた　康一",null,"07","無所属","有川　ひろゆき",null,null,null,null,null,null,null,null,null,null,null,null,null,null,2962,660,3622,13824,3069,16893,29000,6596,35596,106799,33944,140743,71369,20901,92270,98435,23051,121486,8017,2233,10250,null,null,null,null,null,null,null,null,null,330406,90454,420860,"鹿児島県知事選挙","0",4,"22:30:00",null,"1","1",63.9553874813598,63.9553874813598]
[2,14,null,"01","無所属","武田　信弘",null,"02","無所属","横山　ふみ子",null,"03","無所属","青木　りゅうこ",null,"04","無所属","みたぞの　さとし",null,"05","無所属","いとう　祐一郎",null,"06","無所属","しおた　康一",null,"07","無所属","有川　ひろゆき",null,null,null,null,null,null,null,null,null,null,null,null,null,null,2962,660,3622,13824,3069,16893,29000,6596,35596,106799,33944,140743,71369,20901,92270,98435,23051,121486,8017,2233,10250,null,null,null,null,null,null,null,null,null,330406,90454,420860,"鹿児島県知事選挙","0",4,"22:30:00",null,"1","1",63.9553874813598,63.9553874813598]
[2,15,null,"01","無所属","武田　信弘",null,"02","無所属","横山　ふみ子",null,"03","無所属","青木　りゅうこ",null,"04","無所属","みたぞの　さとし",null,"05","無所属","いとう　祐一郎",null,"06","無所属","しおた　康一",null,"07","無所属","有川　ひろゆき",null,null,null,null,null,null,null,null,null,null,null,null,null,null,2962,660,3622,13824,3069,16893,29000,6596,35596,106799,33944,140743,71369,20901,92270,98435,23051,121486,8017,2233,10250,null,null,null,null,null,null,null,null,null,330406,90454,420860,"鹿児島県知事選挙","0",4,"22:30:00",null,"1","1",63.9553874813598,63.9553874813598]
[2,16,null,"01","無所属","武田　信弘",null,"02","無所属","横山　ふみ子",null,"03","無所属","青木　りゅうこ",null,"04","無所属","みたぞの　さとし",null,"05","無所属","いとう　祐一郎",null,"06","無所属","しおた　康一",null,"07","無所属","有川　ひろゆき",null,null,null,null,null,null,null,null,null,null,null,null,null,null,2962,660,3622,13824,3069,16893,29000,6596,35596,106799,33944,140743,71369,20901,92270,98435,23051,121486,8017,2233,10250,null,null,null,null,null,null,null,null,null,330406,90454,420860,"鹿児島県知事選挙","0",4,"22:30:00",null,"1","1",63.9553874813598,63.9553874813598]
[2,17,null,"01","無所属","武田　信弘",null,"02","無所属","横山　ふみ子",null,"03","無所属","青木　りゅうこ",null,"04","無所属","みたぞの　さとし",null,"05","無所属","いとう　祐一郎",null,"06","無所属","しおた　康一",null,"07","無所属","有川　ひろゆき",null,null,null,null,null,null,null,null,null,null,null,null,null,null,2962,660,3622,13824,3069,16893,29000,6596,35596,106799,33944,140743,71369,20901,92270,98435,23051,121486,8017,2233,10250,null,null,null,null,null,null,null,null,null,330406,90454,420860,"鹿児島県知事選挙","0",4,"22:30:00",null,"1","1",63.9553874813598,63.9553874813598]
[2,18,null,"01","無所属","武田　信弘",null,"02","無所属","横山　ふみ子",null,"03","無所属","青木　りゅうこ",null,"04","無所属","みたぞの　さとし",null,"05","無所属","いとう　祐一郎",null,"06","無所属","しおた　康一",null,"07","無所属","有川　ひろゆき",null,null,null,null,null,null,null,null,null,null,null,null,null,null,2962,660,3622,13824,3069,16893,29000,6596,35596,106799,33944,140743,71369,20901,92270,98435,23051,121486,8017,2233,10250,null,null,null,null,null,null,null,null,null,330406,90454,420860,"鹿児島県知事選挙","0",4,"22:30:00",null,"1","1",63.9553874813598,63.9553874813598]
[2,19,null,"01","無所属","武田　信弘",null,"02","無所属","横山　ふみ子",null,"03","無所属","青木　りゅうこ",null,"04","無所属","みたぞの　さとし",null,"05","無所属","いとう　祐一郎",null,"06","無所属","しおた　康一",null,"07","無所属","有川　ひろゆき",null,null,null,null,null,null,null,null,null,null,null,null,null,null,2962,660,3622,13824,3069,16893,29000,6596,35596,106799,33944,140743,71369,20901,92270,98435,23051,121486,8017,2233,10250,null,null,null,null,null,null,null,null,null,330406,90454,420860,"鹿児島県知事選挙","0",4,"22:30:00",null,"1","1",63.9553874813598,63.9553874813598]
[2,20,null,"01","無所属","武田　信弘",null,"02","無所属","横山　ふみ子",null,"03","無所属","青木　りゅうこ",null,"04","無所属","みたぞの　さとし",null,"05","無所属","いとう　祐一郎",null,"06","無所属","しおた　康一",null,"07","無所属","有川　ひろゆき",null,null,null,null,null,null,null,null,null,null,null,null,null,null,2962,660,3622,13824,3069,16893,29000,6596,35596,106799,33944,140743,71369,20901,92270,98435,23051,121486,8017,2233,10250,null,null,null,null,null,null,null,null,null,330406,90454,420860,"鹿児島県知事選挙","0",4,"22:30:00",null,"1","1",63.9553874813598,63.9553874813598]
[2,21,null,"01","無所属","武田　信弘",null,"02","無所属","横山　ふみ子",null,"03","無所属","青木　りゅうこ",null,"04","無所属","みたぞの　さとし",null,"05","無所属","いとう　祐一郎",null,"06","無所属","しおた　康一",null,"07","無所属","有川　ひろゆき",null,null,null,null,null,null,null,null,null,null,null,null,null,null,2962,660,3622,13824,3069,16893,29000,6596,35596,106799,33944,140743,71369,20901,92270,98435,23051,121486,8017,2233,10250,null,null,null,null,null,null,null,null,null,330406,90454,420860,"鹿児島県知事選挙","0",4,"22:30:00",null,"1","1",63.9553874813598,63.9553874813598]
[2,22,null,"01","無所属","武田　信弘",null,"02","無所属","横山　ふみ子",null,"03","無所属","青木　りゅうこ",null,"04","無所属","みたぞの　さとし",null,"05","無所属","いとう　祐一郎",null,"06","無所属","しおた　康一",null,"07","無所属","有川　ひろゆき",null,null,null,null,null,null,null,null,null,null,null,null,null,null,2962,660,3622,13824,3069,16893,29000,6596,35596,106799,33944,140743,71369,20901,92270,98435,23051,121486,8017,2233,10250,null,null,null,null,null,null,null,null,null,330406,90454,420860,"鹿児島県知事選挙","0",4,"22:30:00",null,"1","1",63.9553874813598,63.9553874813598]
[2,23,null,"01","無所属","武田　信弘",null,"02","無所属","横山　ふみ子",null,"03","無所属","青木　りゅうこ",null,"04","無所属","みたぞの　さとし",null,"05","無所属","いとう　祐一郎",null,"06","無所属","しおた　康一",null,"07","無所属","有川　ひろゆき",null,null,null,null,null,null,null,null,null,null,null,null,null,null,2962,660,3622,13824,3069,16893,29000,6596,35596,106799,33944,140743,71369,20901,92270,98435,23051,121486,8017,2233,10250,null,null,null,null,null,null,null,null,null,330406,90454,420860,"鹿児島県知事選挙","0",4,"22:30:00",null,"1","1",63.9553874813598,63.9553874813598]
[2,24,null,"01","無所属","武田　信弘",null,"02","無所属","横山　ふみ子",null,"03","無所属","青木　りゅうこ",null,"04","無所属","みたぞの　さとし",null,"05","無所属","いとう　祐一郎",null,"06","無所属","しおた　康一",null,"07","無所属","有川　ひろゆき",null,null,null,null,null,null,null,null,null,null,null,null,null,null,2962,660,3622,13824,3069,16893,29000,6596,35596,106799,33944,140743,71369,20901,92270,98435,23051,121486,8017,2233,10250,null,null,null,null,null,null,null,null,null,330406,90454,420860,"鹿児島県知事選挙","0",4,"22:30:00",null,"1","1",63.9553874813598,63.9553874813598]
[2,25,null,"01","無所属","武田　信弘",null,"02","無所属","横山　ふみ子",null,"03","無所属","青木　りゅうこ",null,"04","無所属","みたぞの　さとし",null,"05","無所属","いとう　祐一郎",null,"06","無所属","しおた　康一",null,"07","無所属","有川　ひろゆき",null,null,null,null,null,null,null,null,null,null,null,null,null,null,2962,660,3622,13824,3069,16893,29000,6596,35596,106799,33944,140743,71369,20901,92270,98435,23051,121486,8017,2233,10250,null,null,null,null,null,null,null,null,null,330406,90454,420860,"鹿児島県知事選挙","0",4,"22:30:00",null,"1","1",63.9553874813598,63.9553874813598]
[2,26,null,"01","無所属","武田　信弘",null,"02","無所属","横山　ふみ子",null,"03","無所属","青木　りゅうこ",null,"04","無所属","みたぞの　さとし",null,"05","無所属","いとう　祐一郎",null,"06","無所属","しおた　康一",null,"07","無所属","有川　ひろゆき",null,null,null,null,null,null,null,null,null,null,null,null,null,null,2962,660,3622,13824,3069,16893,29000,6596,35596,106799,33944,140743,71369,20901,92270,98435,23051,121486,8017,2233,10250,null,null,null,null,null,null,null,null,null,330406,90454,420860,"鹿児島県知事選挙","0",4,"22:30:00",null,"1","1",63.9553874813598,63.9553874813598]
[2,27,null,"01","無所属","武田　信弘",null,"02","無所属","横山　ふみ子",null,"03","無所属","青木　りゅうこ",null,"04","無所属","みたぞの　さとし",null,"05","無所属","いとう　祐一郎",null,"06","無所属","しおた　康一",null,"07","無所属","有川　ひろゆき",null,null,null,null,null,null,null,null,null,null,null,null,null,null,2962,660,3622,13824,3069,16893,29000,6596,35596,106799,33944,140743,71369,20901,92270,98435,23051,121486,8017,2233,10250,null,null,null,null,null,null,null,null,null,330406,90454,420860,"鹿児島県知事選挙","0",4,"22:30:00",null,"1","1",63.9553874813598,63.9553874813598]
[2,28,null,"01","無所属","武田　信弘",null,"02","無所属","横山　ふみ子",null,"03","無所属","青木　りゅうこ",null,"04","無所属","みたぞの　さとし",null,"05","無所属","いとう　祐一郎",null,"06","無所属","しおた　康一",null,"07","無所属","有川　ひろゆき",null,null,null,null,null,null,null,null,null,null,null,null,null,null,2962,660,3622,13824,3069,16893,29000,6596,35596,106799,33944,140743,71369,20901,92270,98435,23051,121486,8017,2233,10250,null,null,null,null,null,null,null,null,null,330406,90454,420860,"鹿児島県知事選挙","0",4,"22:30:00",null,"1","1",63.9553874813598,63.9553874813598]
[2,29,null,"01","無所属","武田　信弘",null,"02","無所属","横山　ふみ子",null,"03","無所属","青木　りゅうこ",null,"04","無所属","みたぞの　さとし",null,"05","無所属","いとう　祐一郎",null,"06","無所属","しおた　康一",null,"07","無所属","有川　ひろゆき",null,null,null,null,null,null,null,null,null,null,null,null,null,null,2962,660,3622,13824,3069,16893,29000,6596,35596,106799,33944,140743,71369,20901,92270,98435,23051,121486,8017,2233,10250,null,null,null,null,null,null,null,null,null,330406,90454,420860,"鹿児島県知事選挙","0",4,"22:30:00",null,"1","1",63.9553874813598,63.9553874813598]
[2,30,null,"01","無所属","武田　信弘",null,"02","無所属","横山　ふみ子",null,"03","無所属","青木　りゅうこ",null,"04","無所属","みたぞの　さとし",null,"05","無所属","いとう　祐一郎",null,"06","無所属","しおた　康一",null,"07","無所属","有川　ひろゆき",null,null,null,null,null,null,null,null,null,null,null,null,null,null,2962,660,3622,13824,3069,16893,29000,6596,35596,106799,33944,140743,71369,20901,92270,98435,23051,121486,8017,2233,10250,null,null,null,null,null,null,null,null,null,330406,90454,420860,"鹿児島県知事選挙","0",4,"22:30:00",null,"1","1",63.9553874813598,63.9553874813598]
[2,31,null,"01","無所属","武田　信弘",null,"02","無所属","横山　ふみ子",null,"03","無所属","青木　りゅうこ",null,"04","無所属","みたぞの　さとし",null,"05","無所属","いとう　祐一郎",null,"06","無所属","しおた　康一",null,"07","無所属","有川　ひろゆき",null,null,null,null,null,null,null,null,null,null,null,null,null,null,2962,660,3622,13824,3069,16893,29000,6596,35596,106799,33944,140743,71369,20901,92270,98435,23051,121486,8017,2233,10250,null,null,null,null,null,null,null,null,null,330406,90454,420860,"鹿児島県知事選挙","0",4,"22:30:00",null,"1","1",63.9553874813598,63.9553874813598]
[2,32,null,"01","無所属","武田　信弘",null,"02","無所属","横山　ふみ子",null,"03","無所属","青木　りゅうこ",null,"04","無所属","みたぞの　さとし",null,"05","無所属","いとう　祐一郎",null,"06","無所属","しおた　康一",null,"07","無所属","有川　ひろゆき",null,null,null,null,null,null,null,null,null,null,null,null,null,null,2962,660,3622,13824,3069,16893,29000,6596,35596,106799,33944,140743,71369,20901,92270,98435,23051,121486,8017,2233,10250,null,null,null,null,null,null,null,null,null,330406,90454,420860,"鹿児島県知事選挙","0",4,"22:30:00",null,"1","1",63.9553874813598,63.9553874813598]
[2,33,null,"01","無所属","武田　信弘",null,"02","無所属","横山　ふみ子",null,"03","無所属","青木　りゅうこ",null,"04","無所属","みたぞの　さとし",null,"05","無所属","いとう　祐一郎",null,"06","無所属","しおた　康一",null,"07","無所属","有川　ひろゆき",null,null,null,null,null,null,null,null,null,null,null,null,null,null,2962,660,3622,13824,3069,16893,29000,6596,35596,106799,33944,140743,71369,20901,92270,98435,23051,121486,8017,2233,10250,null,null,null,null,null,null,null,null,null,330406,90454,420860,"鹿児島県知事選挙","0",4,"22:30:00",null,"1","1",63.9553874813598,63.9553874813598]
[2,34,null,"01","無所属","武田　信弘",null,"02","無所属","横山　ふみ子",null,"03","無所属","青木　りゅうこ",null,"04","無所属","みたぞの　さとし",null,"05","無所属","いとう　祐一郎",null,"06","無所属","しおた　康一",null,"07","無所属","有川　ひろゆき",null,null,null,null,null,null,null,null,null,null,null,null,null,null,2962,660,3622,13824,3069,16893,29000,6596,35596,106799,33944,140743,71369,20901,92270,98435,23051,121486,8017,2233,10250,null,null,null,null,null,null,null,null,null,330406,90454,420860,"鹿児島県知事選挙","0",4,"22:30:00",null,"1","1",63.9553874813598,63.9553874813598]
[2,35,null,"01","無所属","武田　信弘",null,"02","無所属","横山　ふみ子",null,"03","無所属","青木　りゅうこ",null,"04","無所属","みたぞの　さとし",null,"05","無所属","いとう　祐一郎",null,"06","無所属","しおた　康一",null,"07","無所属","有川　ひろゆき",null,null,null,null,null,null,null,null,null,null,null,null,null,null,2962,660,3622,13824,3069,16893,29000,6596,35596,106799,33944,140743,71369,20901,92270,98435,23051,121486,8017,2233,10250,null,null,null,null,null,null,null,null,null,330406,90454,420860,"鹿児島県知事選挙","0",4,"22:30:00",null,"1","1",63.9553874813598,63.9553874813598]
[2,36,null,"01","無所属","武田　信弘",null,"02","無所属","横山　ふみ子",null,"03","無所属","青木　りゅうこ",null,"04","無所属","みたぞの　さとし",null,"05","無所属","いとう　祐一郎",null,"06","無所属","しおた　康一",null,"07","無所属","有川　ひろゆき",null,null,null,null,null,null,null,null,null,null,null,null,null,null,2962,660,3622,13824,3069,16893,29000,6596,35596,106799,33944,140743,71369,20901,92270,98435,23051,121486,8017,2233,10250,null,null,null,null,null,null,null,null,null,330406,90454,420860,"鹿児島県知事選挙","0",4,"22:30:00",null,"1","1",63.9553874813598,63.9553874813598]
[2,37,null,"01","無所属","武田　信弘",null,"02","無所属","横山　ふみ子",null,"03","無所属","青木　りゅうこ",null,"04","無所属","みたぞの　さとし",null,"05","無所属","いとう　祐一郎",null,"06","無所属","しおた　康一",null,"07","無所属","有川　ひろゆき",null,null,null,null,null,null,null,null,null,null,null,null,null,null,2962,660,3622,13824,3069,16893,29000,6596,35596,106799,33944,140743,71369,20901,92270,98435,23051,121486,8017,2233,10250,null,null,null,null,null,null,null,null,null,330406,90454,420860,"鹿児島県知事選挙","0",4,"22:30:00",null,"1","1",63.9553874813598,63.9553874813598]
[2,38,null,"01","無所属","武田　信弘",null,"02","無所属","横山　ふみ子",null,"03","無所属","青木　りゅうこ",null,"04","無所属","みたぞの　さとし",null,"05","無所属","いとう　祐一郎",null,"06","無所属","しおた　康一",null,"07","無所属","有川　ひろゆき",null,null,null,null,null,null,null,null,null,null,null,null,null,null,2962,660,3622,13824,3069,16893,29000,6596,35596,106799,33944,140743,71369,20901,92270,98435,23051,121486,8017,2233,10250,null,null,null,null,null,null,null,null,null,330406,90454,420860,"鹿児島県知事選挙","0",4,"22:30:00",null,"1","1",63.9553874813598,63.9553874813598]
[2,39,null,"01","無所属","武田　信弘",null,"02","無所属","横山　ふみ子",null,"03","無所属","青木　りゅうこ",null,"04","無所属","みたぞの　さとし",null,"05","無所属","いとう　祐一郎",null,"06","無所属","しおた　康一",null,"07","無所属","有川　ひろゆき",null,null,null,null,null,null,null,null,null,null,null,null,null,null,2962,660,3622,13824,3069,16893,29000,6596,35596,106799,33944,140743,71369,20901,92270,98435,23051,121486,8017,2233,10250,null,null,null,null,null,null,null,null,null,330406,90454,420860,"鹿児島県知事選挙","0",4,"22:30:00",null,"1","1",63.9553874813598,63.9553874813598]
[2,40,null,"01","無所属","武田　信弘",null,"02","無所属","横山　ふみ子",null,"03","無所属","青木　りゅうこ",null,"04","無所属","みたぞの　さとし",null,"05","無所属","いとう　祐一郎",null,"06","無所属","しおた　康一",null,"07","無所属","有川　ひろゆき",null,null,null,null,null,null,null,null,null,null,null,null,null,null,2962,660,3622,13824,3069,16893,29000,6596,35596,106799,33944,140743,71369,20901,92270,98435,23051,121486,8017,2233,10250,null,null,null,null,null,null,null,null,null,330406,90454,420860,"鹿児島県知事選挙","0",4,"22:30:00",null,"1","1",63.9553874813598,63.9553874813598]
[2,41,null,"01","無所属","武田　信弘",null,"02","無所属","横山　ふみ子",null,"03","無所属","青木　りゅうこ",null,"04","無所属","みたぞの　さとし",null,"05","無所属","いとう　祐一郎",null,"06","無所属","しおた　康一",null,"07","無所属","有川　ひろゆき",null,null,null,null,null,null,null,null,null,null,null,null,null,null,2962,660,3622,13824,3069,16893,29000,6596,35596,106799,33944,140743,71369,20901,92270,98435,23051,121486,8017,2233,10250,null,null,null,null,null,null,null,null,null,330406,90454,420860,"鹿児島県知事選挙","0",4,"22:30:00",null,"1","1",63.9553874813598,63.9553874813598]
[2,42,null,"01","無所属","武田　信弘",null,"02","無所属","横山　ふみ子",null,"03","無所属","青木　りゅうこ",null,"04","無所属","みたぞの　さとし",null,"05","無所属","いとう　祐一郎",null,"06","無所属","しおた　康一",null,"07","無所属","有川　ひろゆき",null,null,null,null,null,null,null,null,null,null,null,null,null,null,2962,660,3622,13824,3069,16893,29000,6596,35596,106799,33944,140743,71369,20901,92270,98435,23051,121486,8017,2233,10250,null,null,null,null,null,null,null,null,null,330406,90454,420860,"鹿児島県知事選挙","0",4,"22:30:00",null,"1","1",63.9553874813598,63.9553874813598]
[2,43,null,"01","無所属","武田　信弘",null,"02","無所属","横山　ふみ子",null,"03","無所属","青木　りゅうこ",null,"04","無所属","みたぞの　さとし",null,"05","無所属","いとう　祐一郎",null,"06","無所属","しおた　康一",null,"07","無所属","有川　ひろゆき",null,null,null,null,null,null,null,null,null,null,null,null,null,null,2962,660,3622,13824,3069,16893,29000,6596,35596,106799,33944,140743,71369,20901,92270,98435,23051,121486,8017,2233,10250,null,null,null,null,null,null,null,null,null,330406,90454,420860,"鹿児島県知事選挙","0",4,"22:30:00",null,"1","1",63.9553874813598,63.9553874813598]