{"text_format":"1","workbook":"xlsx","n_sheets":3,"sheets":["投票速報_141_","パラメタシート","P_14号様式"],"not_rendered":{"charts":0,"images":0,"macros":1,"external_links":1,"defined_names":10,"comments":0,"pivot_tables":0},"unopened":[],"bounds":{"document_bytes":16777216,"sheet_cells":100000,"rows_first":2000,"rows_last":500,"rows_between":2000,"halvings":0,"cell_chars":16384,"cell_head_chars":4096},"cells_cut":0,"cells_raw":0,"read":"whole","date_system":"1900"}

{"sheet":"投票速報_141_","index":0,"n_rows":113,"n_cols":23,"rows_kept":113,"cut":false,"hidden":false,"merged":[[62,5,62,7],[63,5,64,7],[0,21,0,22],[57,21,57,22],[58,16,58,19],[59,13,59,15],[6,16,7,16],[62,19,65,19],[28,12,28,14],[29,12,29,14],[30,12,30,14],[31,12,31,14],[32,12,32,14],[33,12,33,14],[62,18,65,18],[35,12,35,14],[36,12,36,14],[62,8,64,10],[5,20,7,22],[79,12,79,14],[5,18,8,18],[66,12,66,14],[5,19,8,19],[8,12,8,14],[8,15,8,17],[38,12,38,14],[39,12,39,14],[57,0,58,2],[74,0,74,1],[75,0,75,1],[81,0,81,1],[82,0,82,1],[83,0,83,1],[84,0,84,1],[76,0,76,1],[77,0,77,1],[79,0,79,1],[80,0,80,1],[85,0,85,1],[86,0,86,1],[87,0,87,1],[88,0,88,1],[73,0,73,1],[70,0,70,1],[71,0,71,1],[72,0,72,1],[0,0,1,2],[3,1,3,4],[2,1,2,4],[14,0,14,1],[6,5,7,7],[5,11,5,12],[5,5,5,7],[3,7,3,9],[5,8,7,10],[5,0,8,1],[5,2,7,4],[13,0,13,1],[12,0,12,1],[10,0,10,1],[17,0,17,1],[18,0,18,1],[39,0,39,1],[6,11,7,12],[6,14,7,14],[22,0,22,1],[15,0,15,1],[16,0,16,1],[21,0,21,1],[78,0,78,1],[56,0,56,1],[60,1,60,4],[69,0,69,1],[59,1,59,4],[66,0,66,1],[67,0,67,1],[68,0,68,1],[62,0,65,1],[62,2,64,4],[23,0,23,1],[19,0,19,1],[20,0,20,1],[9,0,9,1],[11,0,11,1],[55,0,55,1],[54,0,54,1],[34,0,34,1],[46,0,46,1],[24,0,24,1],[25,0,25,1],[26,0,26,1],[27,0,27,1],[38,0,38,1],[49,0,49,1],[28,0,28,1],[37,0,37,1],[33,0,33,1],[31,0,31,1],[29,0,29,1],[35,0,35,1],[36,0,36,1],[30,0,30,1],[32,0,32,1],[51,0,51,1],[43,0,43,1],[45,0,45,1],[34,12,34,14],[58,13,58,15],[46,12,46,14],[47,12,47,14],[40,0,40,1],[47,15,47,17],[48,15,48,17],[51,12,51,14],[48,12,48,14],[37,12,37,14],[40,12,40,14],[44,12,44,14],[41,12,41,14],[45,12,45,14],[49,12,49,14],[50,12,50,14],[53,0,53,1],[44,0,44,1],[41,0,41,1],[50,0,50,1],[42,0,42,1],[48,0,48,1],[47,0,47,1],[89,0,89,1],[90,0,90,1],[91,0,91,1],[92,0,92,1],[93,0,93,1],[94,0,94,1],[95,0,95,1],[96,0,96,1],[97,0,97,1],[98,0,98,1],[99,0,99,1],[100,0,100,1],[101,0,101,1],[102,0,102,1],[103,0,103,1],[104,0,104,1],[105,0,105,1],[111,0,111,1],[112,0,112,1],[113,0,113,1],[106,0,106,1],[107,0,107,1],[108,0,108,1],[110,0,110,1],[107,12,107,14],[108,12,108,14],[110,12,110,14],[110,15,110,17],[3,21,3,22],[60,7,60,9],[9,12,9,14],[9,15,9,17],[10,12,10,14],[11,12,11,14],[12,12,12,14],[13,12,13,14],[60,21,60,22],[62,20,64,22],[63,11,64,12],[63,14,64,14],[63,16,64,16],[65,12,65,14],[69,15,69,17],[66,15,66,17],[28,15,28,17],[29,15,29,17],[24,15,24,17],[25,15,25,17],[30,15,30,17],[31,15,31,17],[32,15,32,17],[33,15,33,17],[53,15,53,17],[34,15,34,17],[35,15,35,17],[36,15,36,17],[37,15,37,17],[38,15,38,17],[39,15,39,17],[51,15,51,17],[40,15,40,17],[46,15,46,17],[26,12,26,14],[27,12,27,14],[20,12,20,14],[21,12,21,14],[22,12,22,14],[23,12,23,14],[25,12,25,14],[24,12,24,14],[26,15,26,17],[27,15,27,17],[18,12,18,14],[19,12,19,14],[17,12,17,14],[14,15,14,17],[15,15,15,17],[16,15,16,17],[14,12,14,14],[15,12,15,14],[16,12,16,14],[19,15,19,17],[10,15,10,17],[11,15,11,17],[12,15,12,17],[13,15,13,17],[22,15,22,17],[23,15,23,17],[17,15,17,17],[18,15,18,17],[20,15,20,17],[21,15,21,17],[54,15,54,17],[55,15,55,17],[49,15,49,17],[50,15,50,17],[55,12,55,14],[54,12,54,14],[41,15,41,17],[42,15,42,17],[43,15,43,17],[44,15,44,17],[45,15,45,17],[53,12,53,14],[42,12,42,14],[43,12,43,14],[71,15,71,17],[72,15,72,17],[67,12,67,14],[68,12,68,14],[56,12,56,14],[56,15,56,17],[62,11,62,12],[65,15,65,17],[70,15,70,17],[71,12,71,14],[72,12,72,14],[69,12,69,14],[70,12,70,14],[67,15,67,17],[68,15,68,17],[73,15,73,17],[74,15,74,17],[75,15,75,17],[76,15,76,17],[77,15,77,17],[76,12,76,14],[77,12,77,14],[78,15,78,17],[79,15,79,17],[73,12,73,14],[74,12,74,14],[75,12,75,14],[78,12,78,14],[80,15,80,17],[81,15,81,17],[82,15,82,17],[83,15,83,17],[84,15,84,17],[85,15,85,17],[86,15,86,17],[87,15,87,17],[88,15,88,17],[89,15,89,17],[90,15,90,17],[91,15,91,17],[92,15,92,17],[93,15,93,17],[94,15,94,17],[95,15,95,17],[96,15,96,17],[97,15,97,17],[98,15,98,17],[99,15,99,17],[100,15,100,17],[101,15,101,17],[102,15,102,17],[103,15,103,17],[104,15,104,17],[105,15,105,17],[106,15,106,17],[80,12,80,14],[81,12,81,14],[82,12,82,14],[83,12,83,14],[84,12,84,14],[85,12,85,14],[86,12,86,14],[87,12,87,14],[88,12,88,14],[89,12,89,14],[90,12,90,14],[91,12,91,14],[92,12,92,14],[93,12,93,14],[94,12,94,14],[95,12,95,14],[96,12,96,14],[97,12,97,14],[98,12,98,14],[99,12,99,14],[100,12,100,14],[101,12,101,14],[102,12,102,14],[103,12,103,14],[104,12,104,14],[105,12,105,14],[106,12,106,14],[107,15,107,17],[108,15,108,17],[111,12,111,14],[112,12,112,14],[113,12,113,14],[111,15,111,17],[112,15,112,17],[113,15,113,17],[1,6,2,10],[58,6,59,10],[1,20,1,22],[2,20,2,22],[1,16,1,19],[1,13,1,15],[2,13,2,15],[58,20,58,22],[59,20,59,22]]}
["第14号様式",null,null,null,null,null,null,null,null,null,null,null,null,null,null,null,null,null,null,null,null,{"$f":"IF(P_14号様式!A2=\"\",\" ページ\", P_14号様式!A2 & \"ページ\")","v":"1ページ"}]
[null,null,null,null,null,null,{"$f":"IF(P_14号様式!AG2=\"\",\"投　票　速　報\",\"投　票　速　報　（確定）\")","v":"投　票　速　報"},null,null,null,null,null,null,"中間報告",null,null,{"$f":"IF(P_14号様式!BR2=\"\",\"第　　　回\",\"第   \" & P_14号様式!BR2 & \"  回\")","v":"第   4  回"},null,null,null,{"$f":"IF(P_14号様式!BS2=\"\",\"時     　分　現在\",P_14号様式!BS2)","v":"16:00:00"}]
[null,{"$f":"IF(パラメタシート!B1=\"\",\"\",パラメタシート!B1)","v":"2020-07-12"},null,null,null,null,null,null,null,null,null,null,null,"結了報告",null,null,null,null,null,null,{"$f":"IF(P_14号様式!BM2=\"\",\"時     　分　結了\",P_14号様式!BM2)","v":"時     　分　結了"}]
[null,{"$f":"IF(P_14号様式!BQ2=\"\",\"\",P_14号様式!BQ2)","v":"鹿児島県知事選挙"},null,null,null,null,null,"（ 建 制 順 ）",null,null,null,null,null,null,null,null,null,null,null,null,null,"鹿 児 島 県"]
[]
["市区町村名",null,"当 日 有 権 者 数（ｅ'）\n（ 当日有権者見込（ｅ））",null,null,{"$f":"IF(P_14号様式!BS2=\"\",\"（ｆ）\",\"（ｱ）\")","v":"（ｱ）"},null,null,"（ｇ）\n棄　権　者　数",null,null,{"$f":"IF(P_14号様式!BS2=\"\",\"\",\"当日投票者\")","v":"当日投票者"},null,"(ｈ)",null,null,null,null,"投\n票\n率\n順\n位","投票\n結了\n時刻","前回選挙の投票率"]
[null,null,null,null,null,{"$f":"IF(P_14号様式!BS2=\"\",\"投 票 者 数\",\"当 日 投 票 者 数\")","v":"当 日 投 票 者 数"},null,null,null,null,null,"投 票 率 =",null,{"$f":"IF(P_14号様式!BS2=\"\",\"(ｆ)\",\"(ｱ)\")","v":"(ｱ)"},"(",{"$f":"IF(P_14号様式!BS2=\"\",\"(ｆ)\",\"(ｱ)\")","v":"(ｱ)"},")"]
[null,null,null,null,null,null,null,null,null,null,null,null,null,"(ｅ')",null,"(ｅ )"]
[null,null,"男","女","計","男","女","計","男","女","計","男","女",null,null,"計",null,null,null,null,"男","女","計"]
[{"$f":"IF(P_14号様式!C2=\"\",\"\",P_14号様式!C2)","v":"　 鹿児島市"},null,{"$f":"IF(P_14号様式!D2=\"\",\"\",P_14号様式!D2)","v":222199},{"$f":"IF(P_14号様式!E2=\"\",\"\",P_14号様式!E2)","v":266860},{"$f":"IF(P_14号様式!F2=\"\",\"\",P_14号様式!F2)","v":489059},{"$f":"IF(P_14号様式!G2=\"\",\"\",P_14号様式!G2)","v":55327},{"$f":"IF(P_14号様式!H2=\"\",\"\",P_14号様式!H2)","v":61995},{"$f":"IF(P_14号様式!I2=\"\",\"\",P_14号様式!I2)","v":117322},{"$f":"IF(P_14号様式!J2=\"\",\"\",P_14号様式!J2)","v":""},{"$f":"IF(P_14号様式!K2=\"\",\"\",P_14号様式!K2)","v":""},{"$f":"IF(P_14号様式!L2=\"\",\"\",P_14号様式!L2)","v":""},{"$f":"IF(P_14号様式!M2=\"\",\"\",P_14号様式!M2)","v":24.899752024086499},{"$f":"IF(P_14号様式!N2=\"\",\"\",P_14号様式!N2)","v":23.231282320317799},null,null,{"$f":"IF(P_14号様式!O2=\"\",\"\",P_14号様式!O2)","v":23.989334620158299},null,null,{"$f":"IF(P_14号様式!P2=\"\",\"\",P_14号様式!P2)","v":""},{"$f":"IF(P_14号様式!Q2=\"\",\"\",P_14号様式!Q2)","v":""},{"$f":"IF(P_14号様式!R2=\"\",\"\",P_14号様式!R2)","v":30.087224217547501},{"$f":"IF(P_14号様式!S2=\"\",\"\",P_14号様式!S2)","v":27.599873471894},{"$f":"IF(P_14号様式!T2=\"\",\"\",P_14号様式!T2)","v":28.7310540732474}]
[{"$f":"IF(P_14号様式!C3=\"\",\"\",P_14号様式!C3)","v":"　 鹿屋市"},null,{"$f":"IF(P_14号様式!D3=\"\",\"\",P_14号様式!D3)","v":38319},{"$f":"IF(P_14号様式!E3=\"\",\"\",P_14号様式!E3)","v":43151},{"$f":"IF(P_14号様式!F3=\"\",\"\",P_14号様式!F3)","v":81470},{"$f":"IF(P_14号様式!G3=\"\",\"\",P_14号様式!G3)","v":8880},{"$f":"IF(P_14号様式!H3=\"\",\"\",P_14号様式!H3)","v":9166},{"$f":"IF(P_14号様式!I3=\"\",\"\",P_14号様式!I3)","v":18046},{"$f":"IF(P_14号様式!J3=\"\",\"\",P_14号様式!J3)","v":""},{"$f":"IF(P_14号様式!K3=\"\",\"\",P_14号様式!K3)","v":""},{"$f":"IF(P_14号様式!L3=\"\",\"\",P_14号様式!L3)","v":""},{"$f":"IF(P_14号様式!M3=\"\",\"\",P_14号様式!M3)","v":23.1738824082048},{"$f":"IF(P_14号様式!N3=\"\",\"\",P_14号様式!N3)","v":21.241686171815299},null,null,{"$f":"IF(P_14号様式!O3=\"\",\"\",P_14号様式!O3)","v":22.150484841045799},null,null,{"$f":"IF(P_14号様式!P3=\"\",\"\",P_14号様式!P3)","v":""},{"$f":"IF(P_14号様式!Q3=\"\",\"\",P_14号様式!Q3)","v":""},{"$f":"IF(P_14号様式!R3=\"\",\"\",P_14号様式!R3)","v":30.524666786512199},{"$f":"IF(P_14号様式!S3=\"\",\"\",P_14号様式!S3)","v":27.641505172335901},{"$f":"IF(P_14号様式!T3=\"\",\"\",P_14号様式!T3)","v":28.990662516674099}]
[{"$f":"IF(P_14号様式!C4=\"\",\"\",P_14号様式!C4)","v":"　 枕崎市"},null,{"$f":"IF(P_14号様式!D4=\"\",\"\",P_14号様式!D4)","v":7991},{"$f":"IF(P_14号様式!E4=\"\",\"\",P_14号様式!E4)","v":9492},{"$f":"IF(P_14号様式!F4=\"\",\"\",P_14号様式!F4)","v":17483},{"$f":"IF(P_14号様式!G4=\"\",\"\",P_14号様式!G4)","v":2133},{"$f":"IF(P_14号様式!H4=\"\",\"\",P_14号様式!H4)","v":2262},{"$f":"IF(P_14号様式!I4=\"\",\"\",P_14号様式!I4)","v":4395},{"$f":"IF(P_14号様式!J4=\"\",\"\",P_14号様式!J4)","v":""},{"$f":"IF(P_14号様式!K4=\"\",\"\",P_14号様式!K4)","v":""},{"$f":"IF(P_14号様式!L4=\"\",\"\",P_14号様式!L4)","v":""},{"$f":"IF(P_14号様式!M4=\"\",\"\",P_14号様式!M4)","v":26.6925290952321},{"$f":"IF(P_14号様式!N4=\"\",\"\",P_14号様式!N4)","v":23.830594184576501},null,null,{"$f":"IF(P_14号様式!O4=\"\",\"\",P_14号様式!O4)","v":25.1387061717097},null,null,{"$f":"IF(P_14号様式!P4=\"\",\"\",P_14号様式!P4)","v":""},{"$f":"IF(P_14号様式!Q4=\"\",\"\",P_14号様式!Q4)","v":""},{"$f":"IF(P_14号様式!R4=\"\",\"\",P_14号様式!R4)","v":33.823529411764703},{"$f":"IF(P_14号様式!S4=\"\",\"\",P_14号様式!S4)","v":30.5870936438622},{"$f":"IF(P_14号様式!T4=\"\",\"\",P_14号様式!T4)","v":32.0499867056634}]
[{"$f":"IF(P_14号様式!C5=\"\",\"\",P_14号様式!C5)","v":"　 阿久根市"},null,{"$f":"IF(P_14号様式!D5=\"\",\"\",P_14号様式!D5)","v":7953},{"$f":"IF(P_14号様式!E5=\"\",\"\",P_14号様式!E5)","v":9175},{"$f":"IF(P_14号様式!F5=\"\",\"\",P_14号様式!F5)","v":17128},{"$f":"IF(P_14号様式!G5=\"\",\"\",P_14号様式!G5)","v":2330},{"$f":"IF(P_14号様式!H5=\"\",\"\",P_14号様式!H5)","v":2517},{"$f":"IF(P_14号様式!I5=\"\",\"\",P_14号様式!I5)","v":4847},{"$f":"IF(P_14号様式!J5=\"\",\"\",P_14号様式!J5)","v":""},{"$f":"IF(P_14号様式!K5=\"\",\"\",P_14号様式!K5)","v":""},{"$f":"IF(P_14号様式!L5=\"\",\"\",P_14号様式!L5)","v":""},{"$f":"IF(P_14号様式!M5=\"\",\"\",P_14号様式!M5)","v":29.297120583427599},{"$f":"IF(P_14号様式!N5=\"\",\"\",P_14号様式!N5)","v":27.433242506812},null,null,{"$f":"IF(P_14号様式!O5=\"\",\"\",P_14号様式!O5)","v":28.298692199906601},null,null,{"$f":"IF(P_14号様式!P5=\"\",\"\",P_14号様式!P5)","v":""},{"$f":"IF(P_14号様式!Q5=\"\",\"\",P_14号様式!Q5)","v":""},{"$f":"IF(P_14号様式!R5=\"\",\"\",P_14号様式!R5)","v":35.789836744079103},{"$f":"IF(P_14号様式!S5=\"\",\"\",P_14号様式!S5)","v":33.0575256107171},{"$f":"IF(P_14号様式!T5=\"\",\"\",P_14号様式!T5)","v":34.318302387267899}]
[{"$f":"IF(P_14号様式!C6=\"\",\"\",P_14号様式!C6)","v":"　 出水市"},null,{"$f":"IF(P_14号様式!D6=\"\",\"\",P_14号様式!D6)","v":20081},{"$f":"IF(P_14号様式!E6=\"\",\"\",P_14号様式!E6)","v":22975},{"$f":"IF(P_14号様式!F6=\"\",\"\",P_14号様式!F6)","v":43056},{"$f":"IF(P_14号様式!G6=\"\",\"\",P_14号様式!G6)","v":5241},{"$f":"IF(P_14号様式!H6=\"\",\"\",P_14号様式!H6)","v":5335},{"$f":"IF(P_14号様式!I6=\"\",\"\",P_14号様式!I6)","v":10576},{"$f":"IF(P_14号様式!J6=\"\",\"\",P_14号様式!J6)","v":""},{"$f":"IF(P_14号様式!K6=\"\",\"\",P_14号様式!K6)","v":""},{"$f":"IF(P_14号様式!L6=\"\",\"\",P_14号様式!L6)","v":""},{"$f":"IF(P_14号様式!M6=\"\",\"\",P_14号様式!M6)","v":26.099297843732899},{"$f":"IF(P_14号様式!N6=\"\",\"\",P_14号様式!N6)","v":23.220892274211099},null,null,{"$f":"IF(P_14号様式!O6=\"\",\"\",P_14号様式!O6)","v":24.563359345967999},null,null,{"$f":"IF(P_14号様式!P6=\"\",\"\",P_14号様式!P6)","v":""},{"$f":"IF(P_14号様式!Q6=\"\",\"\",P_14号様式!Q6)","v":""},{"$f":"IF(P_14号様式!R6=\"\",\"\",P_14号様式!R6)","v":33.458043826830597},{"$f":"IF(P_14号様式!S6=\"\",\"\",P_14号様式!S6)","v":30.5920227443766},{"$f":"IF(P_14号様式!T6=\"\",\"\",P_14号様式!T6)","v":31.9175711813749}]
[{"$f":"IF(P_14号様式!C7=\"\",\"\",P_14号様式!C7)","v":"　 指宿市"},null,{"$f":"IF(P_14号様式!D7=\"\",\"\",P_14号様式!D7)","v":15350},{"$f":"IF(P_14号様式!E7=\"\",\"\",P_14号様式!E7)","v":18186},{"$f":"IF(P_14号様式!F7=\"\",\"\",P_14号様式!F7)","v":33536},{"$f":"IF(P_14号様式!G7=\"\",\"\",P_14号様式!G7)","v":4390},{"$f":"IF(P_14号様式!H7=\"\",\"\",P_14号様式!H7)","v":4566},{"$f":"IF(P_14号様式!I7=\"\",\"\",P_14号様式!I7)","v":8956},{"$f":"IF(P_14号様式!J7=\"\",\"\",P_14号様式!J7)","v":""},{"$f":"IF(P_14号様式!K7=\"\",\"\",P_14号様式!K7)","v":""},{"$f":"IF(P_14号様式!L7=\"\",\"\",P_14号様式!L7)","v":""},{"$f":"IF(P_14号様式!M7=\"\",\"\",P_14号様式!M7)","v":28.599348534202001},{"$f":"IF(P_14号様式!N7=\"\",\"\",P_14号様式!N7)","v":25.107225338172199},null,null,{"$f":"IF(P_14号様式!O7=\"\",\"\",P_14号様式!O7)","v":26.705629770992399},null,null,{"$f":"IF(P_14号様式!P7=\"\",\"\",P_14号様式!P7)","v":""},{"$f":"IF(P_14号様式!Q7=\"\",\"\",P_14号様式!Q7)","v":""},{"$f":"IF(P_14号様式!R7=\"\",\"\",P_14号様式!R7)","v":35.066938120797097},{"$f":"IF(P_14号様式!S7=\"\",\"\",P_14号様式!S7)","v":31.2039185357051},{"$f":"IF(P_14号様式!T7=\"\",\"\",P_14号様式!T7)","v":32.962588473205301}]
[{"$f":"IF(P_14号様式!C8=\"\",\"\",P_14号様式!C8)","v":"　 西之表市"},null,{"$f":"IF(P_14号様式!D8=\"\",\"\",P_14号様式!D8)","v":5869},{"$f":"IF(P_14号様式!E8=\"\",\"\",P_14号様式!E8)","v":6556},{"$f":"IF(P_14号様式!F8=\"\",\"\",P_14号様式!F8)","v":12425},{"$f":"IF(P_14号様式!G8=\"\",\"\",P_14号様式!G8)","v":1877},{"$f":"IF(P_14号様式!H8=\"\",\"\",P_14号様式!H8)","v":1960},{"$f":"IF(P_14号様式!I8=\"\",\"\",P_14号様式!I8)","v":3837},{"$f":"IF(P_14号様式!J8=\"\",\"\",P_14号様式!J8)","v":""},{"$f":"IF(P_14号様式!K8=\"\",\"\",P_14号様式!K8)","v":""},{"$f":"IF(P_14号様式!L8=\"\",\"\",P_14号様式!L8)","v":""},{"$f":"IF(P_14号様式!M8=\"\",\"\",P_14号様式!M8)","v":31.9815982279775},{"$f":"IF(P_14号様式!N8=\"\",\"\",P_14号様式!N8)","v":29.896278218425898},null,null,{"$f":"IF(P_14号様式!O8=\"\",\"\",P_14号様式!O8)","v":30.881287726358099},null,null,{"$f":"IF(P_14号様式!P8=\"\",\"\",P_14号様式!P8)","v":""},{"$f":"IF(P_14号様式!Q8=\"\",\"\",P_14号様式!Q8)","v":""},{"$f":"IF(P_14号様式!R8=\"\",\"\",P_14号様式!R8)","v":39.210526315789501},{"$f":"IF(P_14号様式!S8=\"\",\"\",P_14号様式!S8)","v":36.6695303550974},{"$f":"IF(P_14号様式!T8=\"\",\"\",P_14号様式!T8)","v":37.852112676056301}]
[{"$f":"IF(P_14号様式!C9=\"\",\"\",P_14号様式!C9)","v":"　 垂水市"},null,{"$f":"IF(P_14号様式!D9=\"\",\"\",P_14号様式!D9)","v":5798},{"$f":"IF(P_14号様式!E9=\"\",\"\",P_14号様式!E9)","v":6600},{"$f":"IF(P_14号様式!F9=\"\",\"\",P_14号様式!F9)","v":12398},{"$f":"IF(P_14号様式!G9=\"\",\"\",P_14号様式!G9)","v":1306},{"$f":"IF(P_14号様式!H9=\"\",\"\",P_14号様式!H9)","v":1312},{"$f":"IF(P_14号様式!I9=\"\",\"\",P_14号様式!I9)","v":2618},{"$f":"IF(P_14号様式!J9=\"\",\"\",P_14号様式!J9)","v":""},{"$f":"IF(P_14号様式!K9=\"\",\"\",P_14号様式!K9)","v":""},{"$f":"IF(P_14号様式!L9=\"\",\"\",P_14号様式!L9)","v":""},{"$f":"IF(P_14号様式!M9=\"\",\"\",P_14号様式!M9)","v":22.5250086236633},{"$f":"IF(P_14号様式!N9=\"\",\"\",P_14号様式!N9)","v":19.8787878787879},null,null,{"$f":"IF(P_14号様式!O9=\"\",\"\",P_14号様式!O9)","v":21.11630908211},null,null,{"$f":"IF(P_14号様式!P9=\"\",\"\",P_14号様式!P9)","v":""},{"$f":"IF(P_14号様式!Q9=\"\",\"\",P_14号様式!Q9)","v":""},{"$f":"IF(P_14号様式!R9=\"\",\"\",P_14号様式!R9)","v":28.3328030544066},{"$f":"IF(P_14号様式!S9=\"\",\"\",P_14号様式!S9)","v":23.716814159291999},{"$f":"IF(P_14号様式!T9=\"\",\"\",P_14号様式!T9)","v":25.845499229697001}]
[{"$f":"IF(P_14号様式!C10=\"\",\"\",P_14号様式!C10)","v":"　 薩摩川内市第１"},null,{"$f":"IF(P_14号様式!D10=\"\",\"\",P_14号様式!D10)","v":34808},{"$f":"IF(P_14号様式!E10=\"\",\"\",P_14号様式!E10)","v":38623},{"$f":"IF(P_14号様式!F10=\"\",\"\",P_14号様式!F10)","v":73431},{"$f":"IF(P_14号様式!G10=\"\",\"\",P_14号様式!G10)","v":10230},{"$f":"IF(P_14号様式!H10=\"\",\"\",P_14号様式!H10)","v":10435},{"$f":"IF(P_14号様式!I10=\"\",\"\",P_14号様式!I10)","v":20665},{"$f":"IF(P_14号様式!J10=\"\",\"\",P_14号様式!J10)","v":""},{"$f":"IF(P_14号様式!K10=\"\",\"\",P_14号様式!K10)","v":""},{"$f":"IF(P_14号様式!L10=\"\",\"\",P_14号様式!L10)","v":""},{"$f":"IF(P_14号様式!M10=\"\",\"\",P_14号様式!M10)","v":29.389795449322001},{"$f":"IF(P_14号様式!N10=\"\",\"\",P_14号様式!N10)","v":27.017580198327401},null,null,{"$f":"IF(P_14号様式!O10=\"\",\"\",P_14号様式!O10)","v":28.142065340251399},null,null,{"$f":"IF(P_14号様式!P10=\"\",\"\",P_14号様式!P10)","v":""},{"$f":"IF(P_14号様式!Q10=\"\",\"\",P_14号様式!Q10)","v":""},{"$f":"IF(P_14号様式!R10=\"\",\"\",P_14号様式!R10)","v":34.7156161886588},{"$f":"IF(P_14号様式!S10=\"\",\"\",P_14号様式!S10)","v":32.3264976260228},{"$f":"IF(P_14号様式!T10=\"\",\"\",P_14号様式!T10)","v":33.449342096456803}]
[{"$f":"IF(P_14号様式!C11=\"\",\"\",P_14号様式!C11)","v":"　 薩摩川内市第２"},null,{"$f":"IF(P_14号様式!D11=\"\",\"\",P_14号様式!D11)","v":950},{"$f":"IF(P_14号様式!E11=\"\",\"\",P_14号様式!E11)","v":978},{"$f":"IF(P_14号様式!F11=\"\",\"\",P_14号様式!F11)","v":1928},{"$f":"IF(P_14号様式!G11=\"\",\"\",P_14号様式!G11)","v":395},{"$f":"IF(P_14号様式!H11=\"\",\"\",P_14号様式!H11)","v":351},{"$f":"IF(P_14号様式!I11=\"\",\"\",P_14号様式!I11)","v":746},{"$f":"IF(P_14号様式!J11=\"\",\"\",P_14号様式!J11)","v":""},{"$f":"IF(P_14号様式!K11=\"\",\"\",P_14号様式!K11)","v":""},{"$f":"IF(P_14号様式!L11=\"\",\"\",P_14号様式!L11)","v":""},{"$f":"IF(P_14号様式!M11=\"\",\"\",P_14号様式!M11)","v":41.578947368421098},{"$f":"IF(P_14号様式!N11=\"\",\"\",P_14号様式!N11)","v":35.889570552147198},null,null,{"$f":"IF(P_14号様式!O11=\"\",\"\",P_14号様式!O11)","v":38.692946058091302},null,null,{"$f":"IF(P_14号様式!P11=\"\",\"\",P_14号様式!P11)","v":""},{"$f":"IF(P_14号様式!Q11=\"\",\"\",P_14号様式!Q11)","v":""},{"$f":"IF(P_14号様式!R11=\"\",\"\",P_14号様式!R11)","v":49.390815370196798},{"$f":"IF(P_14号様式!S11=\"\",\"\",P_14号様式!S11)","v":45.962732919254698},{"$f":"IF(P_14号様式!T11=\"\",\"\",P_14号様式!T11)","v":47.629899726526901}]
[{"$f":"IF(P_14号様式!C12=\"\",\"\",P_14号様式!C12)","v":"　 薩摩川内市第３"},null,{"$f":"IF(P_14号様式!D12=\"\",\"\",P_14号様式!D12)","v":938},{"$f":"IF(P_14号様式!E12=\"\",\"\",P_14号様式!E12)","v":856},{"$f":"IF(P_14号様式!F12=\"\",\"\",P_14号様式!F12)","v":1794},{"$f":"IF(P_14号様式!G12=\"\",\"\",P_14号様式!G12)","v":315},{"$f":"IF(P_14号様式!H12=\"\",\"\",P_14号様式!H12)","v":281},{"$f":"IF(P_14号様式!I12=\"\",\"\",P_14号様式!I12)","v":596},{"$f":"IF(P_14号様式!J12=\"\",\"\",P_14号様式!J12)","v":""},{"$f":"IF(P_14号様式!K12=\"\",\"\",P_14号様式!K12)","v":""},{"$f":"IF(P_14号様式!L12=\"\",\"\",P_14号様式!L12)","v":""},{"$f":"IF(P_14号様式!M12=\"\",\"\",P_14号様式!M12)","v":33.582089552238799},{"$f":"IF(P_14号様式!N12=\"\",\"\",P_14号様式!N12)","v":32.827102803738299},null,null,{"$f":"IF(P_14号様式!O12=\"\",\"\",P_14号様式!O12)","v":33.221850613154999},null,null,{"$f":"IF(P_14号様式!P12=\"\",\"\",P_14号様式!P12)","v":""},{"$f":"IF(P_14号様式!Q12=\"\",\"\",P_14号様式!Q12)","v":""},{"$f":"IF(P_14号様式!R12=\"\",\"\",P_14号様式!R12)","v":39.528023598820099},{"$f":"IF(P_14号様式!S12=\"\",\"\",P_14号様式!S12)","v":41.871921182266},{"$f":"IF(P_14号様式!T12=\"\",\"\",P_14号様式!T12)","v":40.6988188976378}]
[{"$f":"IF(P_14号様式!C13=\"\",\"\",P_14号様式!C13)","v":"＊（薩摩川内市）計"},null,{"$f":"IF(P_14号様式!D13=\"\",\"\",P_14号様式!D13)","v":36696},{"$f":"IF(P_14号様式!E13=\"\",\"\",P_14号様式!E13)","v":40457},{"$f":"IF(P_14号様式!F13=\"\",\"\",P_14号様式!F13)","v":77153},{"$f":"IF(P_14号様式!G13=\"\",\"\",P_14号様式!G13)","v":10940},{"$f":"IF(P_14号様式!H13=\"\",\"\",P_14号様式!H13)","v":11067},{"$f":"IF(P_14号様式!I13=\"\",\"\",P_14号様式!I13)","v":22007},{"$f":"IF(P_14号様式!J13=\"\",\"\",P_14号様式!J13)","v":""},{"$f":"IF(P_14号様式!K13=\"\",\"\",P_14号様式!K13)","v":""},{"$f":"IF(P_14号様式!L13=\"\",\"\",P_14号様式!L13)","v":""},{"$f":"IF(P_14号様式!M13=\"\",\"\",P_14号様式!M13)","v":29.8125136254633},{"$f":"IF(P_14号様式!N13=\"\",\"\",P_14号様式!N13)","v":27.354969473762299},null,null,{"$f":"IF(P_14号様式!O13=\"\",\"\",P_14号様式!O13)","v":28.5238422355579},null,null,{"$f":"IF(P_14号様式!P13=\"\",\"\",P_14号様式!P13)","v":""},{"$f":"IF(P_14号様式!Q13=\"\",\"\",P_14号様式!Q13)","v":""},{"$f":"IF(P_14号様式!R13=\"\",\"\",P_14号様式!R13)","v":35.2681812071515},{"$f":"IF(P_14号様式!S13=\"\",\"\",P_14号様式!S13)","v":32.9268292682927},{"$f":"IF(P_14号様式!T13=\"\",\"\",P_14号様式!T13)","v":34.030126816413897}]
[{"$f":"IF(P_14号様式!C14=\"\",\"\",P_14号様式!C14)","v":"　 日置市"},null,{"$f":"IF(P_14号様式!D14=\"\",\"\",P_14号様式!D14)","v":18212},{"$f":"IF(P_14号様式!E14=\"\",\"\",P_14号様式!E14)","v":21114},{"$f":"IF(P_14号様式!F14=\"\",\"\",P_14号様式!F14)","v":39326},{"$f":"IF(P_14号様式!G14=\"\",\"\",P_14号様式!G14)","v":5529},{"$f":"IF(P_14号様式!H14=\"\",\"\",P_14号様式!H14)","v":5676},{"$f":"IF(P_14号様式!I14=\"\",\"\",P_14号様式!I14)","v":11205},{"$f":"IF(P_14号様式!J14=\"\",\"\",P_14号様式!J14)","v":""},{"$f":"IF(P_14号様式!K14=\"\",\"\",P_14号様式!K14)","v":""},{"$f":"IF(P_14号様式!L14=\"\",\"\",P_14号様式!L14)","v":""},{"$f":"IF(P_14号様式!M14=\"\",\"\",P_14号様式!M14)","v":30.359103887546699},{"$f":"IF(P_14号様式!N14=\"\",\"\",P_14号様式!N14)","v":26.882637112816099},null,null,{"$f":"IF(P_14号様式!O14=\"\",\"\",P_14号様式!O14)","v":28.492600315312998},null,null,{"$f":"IF(P_14号様式!P14=\"\",\"\",P_14号様式!P14)","v":""},{"$f":"IF(P_14号様式!Q14=\"\",\"\",P_14号様式!Q14)","v":""},{"$f":"IF(P_14号様式!R14=\"\",\"\",P_14号様式!R14)","v":36.998794486084201},{"$f":"IF(P_14号様式!S14=\"\",\"\",P_14号様式!S14)","v":33.690198889088002},{"$f":"IF(P_14号様式!T14=\"\",\"\",P_14号様式!T14)","v":35.214839504383697}]
[{"$f":"IF(P_14号様式!C15=\"\",\"\",P_14号様式!C15)","v":"　 曽於市"},null,{"$f":"IF(P_14号様式!D15=\"\",\"\",P_14号様式!D15)","v":13922},{"$f":"IF(P_14号様式!E15=\"\",\"\",P_14号様式!E15)","v":15944},{"$f":"IF(P_14号様式!F15=\"\",\"\",P_14号様式!F15)","v":29866},{"$f":"IF(P_14号様式!G15=\"\",\"\",P_14号様式!G15)","v":3065},{"$f":"IF(P_14号様式!H15=\"\",\"\",P_14号様式!H15)","v":2983},{"$f":"IF(P_14号様式!I15=\"\",\"\",P_14号様式!I15)","v":6048},{"$f":"IF(P_14号様式!J15=\"\",\"\",P_14号様式!J15)","v":""},{"$f":"IF(P_14号様式!K15=\"\",\"\",P_14号様式!K15)","v":""},{"$f":"IF(P_14号様式!L15=\"\",\"\",P_14号様式!L15)","v":""},{"$f":"IF(P_14号様式!M15=\"\",\"\",P_14号様式!M15)","v":22.015515012210901},{"$f":"IF(P_14号様式!N15=\"\",\"\",P_14号様式!N15)","v":18.7092323130958},null,null,{"$f":"IF(P_14号様式!O15=\"\",\"\",P_14号様式!O15)","v":20.250452019018301},null,null,{"$f":"IF(P_14号様式!P15=\"\",\"\",P_14号様式!P15)","v":""},{"$f":"IF(P_14号様式!Q15=\"\",\"\",P_14号様式!Q15)","v":""},{"$f":"IF(P_14号様式!R15=\"\",\"\",P_14号様式!R15)","v":31.867325146823301},{"$f":"IF(P_14号様式!S15=\"\",\"\",P_14号様式!S15)","v":27.4745394209864},{"$f":"IF(P_14号様式!T15=\"\",\"\",P_14号様式!T15)","v":29.5021871726942}]
[{"$f":"IF(P_14号様式!C16=\"\",\"\",P_14号様式!C16)","v":"　 霧島市"},null,{"$f":"IF(P_14号様式!D16=\"\",\"\",P_14号様式!D16)","v":47487},{"$f":"IF(P_14号様式!E16=\"\",\"\",P_14号様式!E16)","v":53047},{"$f":"IF(P_14号様式!F16=\"\",\"\",P_14号様式!F16)","v":100534},{"$f":"IF(P_14号様式!G16=\"\",\"\",P_14号様式!G16)","v":12082},{"$f":"IF(P_14号様式!H16=\"\",\"\",P_14号様式!H16)","v":12724},{"$f":"IF(P_14号様式!I16=\"\",\"\",P_14号様式!I16)","v":24806},{"$f":"IF(P_14号様式!J16=\"\",\"\",P_14号様式!J16)","v":""},{"$f":"IF(P_14号様式!K16=\"\",\"\",P_14号様式!K16)","v":""},{"$f":"IF(P_14号様式!L16=\"\",\"\",P_14号様式!L16)","v":""},{"$f":"IF(P_14号様式!M16=\"\",\"\",P_14号様式!M16)","v":25.442752753385101},{"$f":"IF(P_14号様式!N16=\"\",\"\",P_14号様式!N16)","v":23.9862763209984},null,null,{"$f":"IF(P_14号様式!O16=\"\",\"\",P_14号様式!O16)","v":24.674239560745601},null,null,{"$f":"IF(P_14号様式!P16=\"\",\"\",P_14号様式!P16)","v":""},{"$f":"IF(P_14号様式!Q16=\"\",\"\",P_14号様式!Q16)","v":""},{"$f":"IF(P_14号様式!R16=\"\",\"\",P_14号様式!R16)","v":31.855042016806699},{"$f":"IF(P_14号様式!S16=\"\",\"\",P_14号様式!S16)","v":29.697026022304801},{"$f":"IF(P_14号様式!T16=\"\",\"\",P_14号様式!T16)","v":30.710059171597599}]
[{"$f":"IF(P_14号様式!C17=\"\",\"\",P_14号様式!C17)","v":"　 いちき串木野市"},null,{"$f":"IF(P_14号様式!D17=\"\",\"\",P_14号様式!D17)","v":10688},{"$f":"IF(P_14号様式!E17=\"\",\"\",P_14号様式!E17)","v":12413},{"$f":"IF(P_14号様式!F17=\"\",\"\",P_14号様式!F17)","v":23101},{"$f":"IF(P_14号様式!G17=\"\",\"\",P_14号様式!G17)","v":2635},{"$f":"IF(P_14号様式!H17=\"\",\"\",P_14号様式!H17)","v":2711},{"$f":"IF(P_14号様式!I17=\"\",\"\",P_14号様式!I17)","v":5346},{"$f":"IF(P_14号様式!J17=\"\",\"\",P_14号様式!J17)","v":""},{"$f":"IF(P_14号様式!K17=\"\",\"\",P_14号様式!K17)","v":""},{"$f":"IF(P_14号様式!L17=\"\",\"\",P_14号様式!L17)","v":""},{"$f":"IF(P_14号様式!M17=\"\",\"\",P_14号様式!M17)","v":24.6538173652695},{"$f":"IF(P_14号様式!N17=\"\",\"\",P_14号様式!N17)","v":21.840006444856201},null,null,{"$f":"IF(P_14号様式!O17=\"\",\"\",P_14号様式!O17)","v":23.1418553309381},null,null,{"$f":"IF(P_14号様式!P17=\"\",\"\",P_14号様式!P17)","v":""},{"$f":"IF(P_14号様式!Q17=\"\",\"\",P_14号様式!Q17)","v":""},{"$f":"IF(P_14号様式!R17=\"\",\"\",P_14号様式!R17)","v":30.608432663227202},{"$f":"IF(P_14号様式!S17=\"\",\"\",P_14号様式!S17)","v":27.667863417615202},{"$f":"IF(P_14号様式!T17=\"\",\"\",P_14号様式!T17)","v":29.026425019520801}]
[{"$f":"IF(P_14号様式!C18=\"\",\"\",P_14号様式!C18)","v":"　 南さつま市"},null,{"$f":"IF(P_14号様式!D18=\"\",\"\",P_14号様式!D18)","v":12867},{"$f":"IF(P_14号様式!E18=\"\",\"\",P_14号様式!E18)","v":15235},{"$f":"IF(P_14号様式!F18=\"\",\"\",P_14号様式!F18)","v":28102},{"$f":"IF(P_14号様式!G18=\"\",\"\",P_14号様式!G18)","v":3511},{"$f":"IF(P_14号様式!H18=\"\",\"\",P_14号様式!H18)","v":3659},{"$f":"IF(P_14号様式!I18=\"\",\"\",P_14号様式!I18)","v":7170},{"$f":"IF(P_14号様式!J18=\"\",\"\",P_14号様式!J18)","v":""},{"$f":"IF(P_14号様式!K18=\"\",\"\",P_14号様式!K18)","v":""},{"$f":"IF(P_14号様式!L18=\"\",\"\",P_14号様式!L18)","v":""},{"$f":"IF(P_14号様式!M18=\"\",\"\",P_14号様式!M18)","v":27.286857853423498},{"$f":"IF(P_14号様式!N18=\"\",\"\",P_14号様式!N18)","v":24.017065966524498},null,null,{"$f":"IF(P_14号様式!O18=\"\",\"\",P_14号様式!O18)","v":25.5141982777027},null,null,{"$f":"IF(P_14号様式!P18=\"\",\"\",P_14号様式!P18)","v":""},{"$f":"IF(P_14号様式!Q18=\"\",\"\",P_14号様式!Q18)","v":""},{"$f":"IF(P_14号様式!R18=\"\",\"\",P_14号様式!R18)","v":36.682311528307402},{"$f":"IF(P_14号様式!S18=\"\",\"\",P_14号様式!S18)","v":32.668207811169196},{"$f":"IF(P_14号様式!T18=\"\",\"\",P_14号様式!T18)","v":34.488262286360303}]
[{"$f":"IF(P_14号様式!C19=\"\",\"\",P_14号様式!C19)","v":"　 志布志市"},null,{"$f":"IF(P_14号様式!D19=\"\",\"\",P_14号様式!D19)","v":11964},{"$f":"IF(P_14号様式!E19=\"\",\"\",P_14号様式!E19)","v":13229},{"$f":"IF(P_14号様式!F19=\"\",\"\",P_14号様式!F19)","v":25193},{"$f":"IF(P_14号様式!G19=\"\",\"\",P_14号様式!G19)","v":2723},{"$f":"IF(P_14号様式!H19=\"\",\"\",P_14号様式!H19)","v":2618},{"$f":"IF(P_14号様式!I19=\"\",\"\",P_14号様式!I19)","v":5341},{"$f":"IF(P_14号様式!J19=\"\",\"\",P_14号様式!J19)","v":""},{"$f":"IF(P_14号様式!K19=\"\",\"\",P_14号様式!K19)","v":""},{"$f":"IF(P_14号様式!L19=\"\",\"\",P_14号様式!L19)","v":""},{"$f":"IF(P_14号様式!M19=\"\",\"\",P_14号様式!M19)","v":22.759946506185202},{"$f":"IF(P_14号様式!N19=\"\",\"\",P_14号様式!N19)","v":19.789855620228298},null,null,{"$f":"IF(P_14号様式!O19=\"\",\"\",P_14号様式!O19)","v":21.200333425951701},null,null,{"$f":"IF(P_14号様式!P19=\"\",\"\",P_14号様式!P19)","v":""},{"$f":"IF(P_14号様式!Q19=\"\",\"\",P_14号様式!Q19)","v":""},{"$f":"IF(P_14号様式!R19=\"\",\"\",P_14号様式!R19)","v":32.656287046550197},{"$f":"IF(P_14号様式!S19=\"\",\"\",P_14号様式!S19)","v":29.1871402498947},{"$f":"IF(P_14号様式!T19=\"\",\"\",P_14号様式!T19)","v":30.818989553514999}]
[{"$f":"IF(P_14号様式!C20=\"\",\"\",P_14号様式!C20)","v":"　 奄美市"},null,{"$f":"IF(P_14号様式!D20=\"\",\"\",P_14号様式!D20)","v":16431},{"$f":"IF(P_14号様式!E20=\"\",\"\",P_14号様式!E20)","v":18341},{"$f":"IF(P_14号様式!F20=\"\",\"\",P_14号様式!F20)","v":34772},{"$f":"IF(P_14号様式!G20=\"\",\"\",P_14号様式!G20)","v":5076},{"$f":"IF(P_14号様式!H20=\"\",\"\",P_14号様式!H20)","v":5411},{"$f":"IF(P_14号様式!I20=\"\",\"\",P_14号様式!I20)","v":10487},{"$f":"IF(P_14号様式!J20=\"\",\"\",P_14号様式!J20)","v":""},{"$f":"IF(P_14号様式!K20=\"\",\"\",P_14号様式!K20)","v":""},{"$f":"IF(P_14号様式!L20=\"\",\"\",P_14号様式!L20)","v":""},{"$f":"IF(P_14号様式!M20=\"\",\"\",P_14号様式!M20)","v":30.892824538981198},{"$f":"IF(P_14号様式!N20=\"\",\"\",P_14号様式!N20)","v":29.502208167493599},null,null,{"$f":"IF(P_14号様式!O20=\"\",\"\",P_14号様式!O20)","v":30.159323593696101},null,null,{"$f":"IF(P_14号様式!P20=\"\",\"\",P_14号様式!P20)","v":""},{"$f":"IF(P_14号様式!Q20=\"\",\"\",P_14号様式!Q20)","v":""},{"$f":"IF(P_14号様式!R20=\"\",\"\",P_14号様式!R20)","v":33.998077847188902},{"$f":"IF(P_14号様式!S20=\"\",\"\",P_14号様式!S20)","v":31.111809703447602},{"$f":"IF(P_14号様式!T20=\"\",\"\",P_14号様式!T20)","v":32.456484020820497}]
[{"$f":"IF(P_14号様式!C21=\"\",\"\",P_14号様式!C21)","v":"　 南九州市"},null,{"$f":"IF(P_14号様式!D21=\"\",\"\",P_14号様式!D21)","v":13402},{"$f":"IF(P_14号様式!E21=\"\",\"\",P_14号様式!E21)","v":15639},{"$f":"IF(P_14号様式!F21=\"\",\"\",P_14号様式!F21)","v":29041},{"$f":"IF(P_14号様式!G21=\"\",\"\",P_14号様式!G21)","v":3317},{"$f":"IF(P_14号様式!H21=\"\",\"\",P_14号様式!H21)","v":3273},{"$f":"IF(P_14号様式!I21=\"\",\"\",P_14号様式!I21)","v":6590},{"$f":"IF(P_14号様式!J21=\"\",\"\",P_14号様式!J21)","v":""},{"$f":"IF(P_14号様式!K21=\"\",\"\",P_14号様式!K21)","v":""},{"$f":"IF(P_14号様式!L21=\"\",\"\",P_14号様式!L21)","v":""},{"$f":"IF(P_14号様式!M21=\"\",\"\",P_14号様式!M21)","v":24.750037307864499},{"$f":"IF(P_14号様式!N21=\"\",\"\",P_14号様式!N21)","v":20.928448110493001},null,null,{"$f":"IF(P_14号様式!O21=\"\",\"\",P_14号様式!O21)","v":22.6920560586757},null,null,{"$f":"IF(P_14号様式!P21=\"\",\"\",P_14号様式!P21)","v":""},{"$f":"IF(P_14号様式!Q21=\"\",\"\",P_14号様式!Q21)","v":""},{"$f":"IF(P_14号様式!R21=\"\",\"\",P_14号様式!R21)","v":37.649098474341201},{"$f":"IF(P_14号様式!S21=\"\",\"\",P_14号様式!S21)","v":32.496298489783797},{"$f":"IF(P_14号様式!T21=\"\",\"\",P_14号様式!T21)","v":34.869829100782603}]
[{"$f":"IF(P_14号様式!C22=\"\",\"\",P_14号様式!C22)","v":"　 伊佐市"},null,{"$f":"IF(P_14号様式!D22=\"\",\"\",P_14号様式!D22)","v":9872},{"$f":"IF(P_14号様式!E22=\"\",\"\",P_14号様式!E22)","v":11673},{"$f":"IF(P_14号様式!F22=\"\",\"\",P_14号様式!F22)","v":21545},{"$f":"IF(P_14号様式!G22=\"\",\"\",P_14号様式!G22)","v":3016},{"$f":"IF(P_14号様式!H22=\"\",\"\",P_14号様式!H22)","v":3330},{"$f":"IF(P_14号様式!I22=\"\",\"\",P_14号様式!I22)","v":6346},{"$f":"IF(P_14号様式!J22=\"\",\"\",P_14号様式!J22)","v":""},{"$f":"IF(P_14号様式!K22=\"\",\"\",P_14号様式!K22)","v":""},{"$f":"IF(P_14号様式!L22=\"\",\"\",P_14号様式!L22)","v":""},{"$f":"IF(P_14号様式!M22=\"\",\"\",P_14号様式!M22)","v":30.5510534846029},{"$f":"IF(P_14号様式!N22=\"\",\"\",P_14号様式!N22)","v":28.527370855821101},null,null,{"$f":"IF(P_14号様式!O22=\"\",\"\",P_14号様式!O22)","v":29.454629844511501},null,null,{"$f":"IF(P_14号様式!P22=\"\",\"\",P_14号様式!P22)","v":""},{"$f":"IF(P_14号様式!Q22=\"\",\"\",P_14号様式!Q22)","v":""},{"$f":"IF(P_14号様式!R22=\"\",\"\",P_14号様式!R22)","v":39.460227272727302},{"$f":"IF(P_14号様式!S22=\"\",\"\",P_14号様式!S22)","v":36.3909536612368},{"$f":"IF(P_14号様式!T22=\"\",\"\",P_14号様式!T22)","v":37.787641127294698}]
[{"$f":"IF(P_14号様式!C23=\"\",\"\",P_14号様式!C23)","v":"　 姶良市"},null,{"$f":"IF(P_14号様式!D23=\"\",\"\",P_14号様式!D23)","v":28740},{"$f":"IF(P_14号様式!E23=\"\",\"\",P_14号様式!E23)","v":33847},{"$f":"IF(P_14号様式!F23=\"\",\"\",P_14号様式!F23)","v":62587},{"$f":"IF(P_14号様式!G23=\"\",\"\",P_14号様式!G23)","v":7759},{"$f":"IF(P_14号様式!H23=\"\",\"\",P_14号様式!H23)","v":8416},{"$f":"IF(P_14号様式!I23=\"\",\"\",P_14号様式!I23)","v":16175},{"$f":"IF(P_14号様式!J23=\"\",\"\",P_14号様式!J23)","v":""},{"$f":"IF(P_14号様式!K23=\"\",\"\",P_14号様式!K23)","v":""},{"$f":"IF(P_14号様式!L23=\"\",\"\",P_14号様式!L23)","v":""},{"$f":"IF(P_14号様式!M23=\"\",\"\",P_14号様式!M23)","v":26.997216423103701},{"$f":"IF(P_14号様式!N23=\"\",\"\",P_14号様式!N23)","v":24.864832924631401},null,null,{"$f":"IF(P_14号様式!O23=\"\",\"\",P_14号様式!O23)","v":25.844025117037098},null,null,{"$f":"IF(P_14号様式!P23=\"\",\"\",P_14号様式!P23)","v":""},{"$f":"IF(P_14号様式!Q23=\"\",\"\",P_14号様式!Q23)","v":""},{"$f":"IF(P_14号様式!R23=\"\",\"\",P_14号様式!R23)","v":33.785026889329203},{"$f":"IF(P_14号様式!S23=\"\",\"\",P_14号様式!S23)","v":30.9651315006545},{"$f":"IF(P_14号様式!T23=\"\",\"\",P_14号様式!T23)","v":32.253216109638601}]
[{"$f":"IF(P_14号様式!C24=\"\",\"\",P_14号様式!C24)","v":"　 三島村"},null,{"$f":"IF(P_14号様式!D24=\"\",\"\",P_14号様式!D24)","v":119},{"$f":"IF(P_14号様式!E24=\"\",\"\",P_14号様式!E24)","v":135},{"$f":"IF(P_14号様式!F24=\"\",\"\",P_14号様式!F24)","v":254},{"$f":"IF(P_14号様式!G24=\"\",\"\",P_14号様式!G24)","v":0},{"$f":"IF(P_14号様式!H24=\"\",\"\",P_14号様式!H24)","v":0},{"$f":"IF(P_14号様式!I24=\"\",\"\",P_14号様式!I24)","v":0},{"$f":"IF(P_14号様式!J24=\"\",\"\",P_14号様式!J24)","v":""},{"$f":"IF(P_14号様式!K24=\"\",\"\",P_14号様式!K24)","v":""},{"$f":"IF(P_14号様式!L24=\"\",\"\",P_14号様式!L24)","v":""},{"$f":"IF(P_14号様式!M24=\"\",\"\",P_14号様式!M24)","v":0},{"$f":"IF(P_14号様式!N24=\"\",\"\",P_14号様式!N24)","v":0},null,null,{"$f":"IF(P_14号様式!O24=\"\",\"\",P_14号様式!O24)","v":0},null,null,{"$f":"IF(P_14号様式!P24=\"\",\"\",P_14号様式!P24)","v":""},{"$f":"IF(P_14号様式!Q24=\"\",\"\",P_14号様式!Q24)","v":""},{"$f":"IF(P_14号様式!R24=\"\",\"\",P_14号様式!R24)","v":0},{"$f":"IF(P_14号様式!S24=\"\",\"\",P_14号様式!S24)","v":0},{"$f":"IF(P_14号様式!T24=\"\",\"\",P_14号様式!T24)","v":0}]
[{"$f":"IF(P_14号様式!C25=\"\",\"\",P_14号様式!C25)","v":"　 十島村"},null,{"$f":"IF(P_14号様式!D25=\"\",\"\",P_14号様式!D25)","v":244},{"$f":"IF(P_14号様式!E25=\"\",\"\",P_14号様式!E25)","v":238},{"$f":"IF(P_14号様式!F25=\"\",\"\",P_14号様式!F25)","v":482},{"$f":"IF(P_14号様式!G25=\"\",\"\",P_14号様式!G25)","v":0},{"$f":"IF(P_14号様式!H25=\"\",\"\",P_14号様式!H25)","v":0},{"$f":"IF(P_14号様式!I25=\"\",\"\",P_14号様式!I25)","v":0},{"$f":"IF(P_14号様式!J25=\"\",\"\",P_14号様式!J25)","v":""},{"$f":"IF(P_14号様式!K25=\"\",\"\",P_14号様式!K25)","v":""},{"$f":"IF(P_14号様式!L25=\"\",\"\",P_14号様式!L25)","v":""},{"$f":"IF(P_14号様式!M25=\"\",\"\",P_14号様式!M25)","v":0},{"$f":"IF(P_14号様式!N25=\"\",\"\",P_14号様式!N25)","v":0},null,null,{"$f":"IF(P_14号様式!O25=\"\",\"\",P_14号様式!O25)","v":0},null,null,{"$f":"IF(P_14号様式!P25=\"\",\"\",P_14号様式!P25)","v":""},{"$f":"IF(P_14号様式!Q25=\"\",\"\",P_14号様式!Q25)","v":""},{"$f":"IF(P_14号様式!R25=\"\",\"\",P_14号様式!R25)","v":0},{"$f":"IF(P_14号様式!S25=\"\",\"\",P_14号様式!S25)","v":0},{"$f":"IF(P_14号様式!T25=\"\",\"\",P_14号様式!T25)","v":0}]
[{"$f":"IF(P_14号様式!C26=\"\",\"\",P_14号様式!C26)","v":"＊（鹿児島郡）計"},null,{"$f":"IF(P_14号様式!D26=\"\",\"\",P_14号様式!D26)","v":363},{"$f":"IF(P_14号様式!E26=\"\",\"\",P_14号様式!E26)","v":373},{"$f":"IF(P_14号様式!F26=\"\",\"\",P_14号様式!F26)","v":736},{"$f":"IF(P_14号様式!G26=\"\",\"\",P_14号様式!G26)","v":0},{"$f":"IF(P_14号様式!H26=\"\",\"\",P_14号様式!H26)","v":0},{"$f":"IF(P_14号様式!I26=\"\",\"\",P_14号様式!I26)","v":0},{"$f":"IF(P_14号様式!J26=\"\",\"\",P_14号様式!J26)","v":""},{"$f":"IF(P_14号様式!K26=\"\",\"\",P_14号様式!K26)","v":""},{"$f":"IF(P_14号様式!L26=\"\",\"\",P_14号様式!L26)","v":""},{"$f":"IF(P_14号様式!M26=\"\",\"\",P_14号様式!M26)","v":0},{"$f":"IF(P_14号様式!N26=\"\",\"\",P_14号様式!N26)","v":0},null,null,{"$f":"IF(P_14号様式!O26=\"\",\"\",P_14号様式!O26)","v":0},null,null,{"$f":"IF(P_14号様式!P26=\"\",\"\",P_14号様式!P26)","v":""},{"$f":"IF(P_14号様式!Q26=\"\",\"\",P_14号様式!Q26)","v":""},{"$f":"IF(P_14号様式!R26=\"\",\"\",P_14号様式!R26)","v":0},{"$f":"IF(P_14号様式!S26=\"\",\"\",P_14号様式!S26)","v":0},{"$f":"IF(P_14号様式!T26=\"\",\"\",P_14号様式!T26)","v":0}]
[{"$f":"IF(P_14号様式!C27=\"\",\"\",P_14号様式!C27)","v":"　 さつま町"},null,{"$f":"IF(P_14号様式!D27=\"\",\"\",P_14号様式!D27)","v":8050},{"$f":"IF(P_14号様式!E27=\"\",\"\",P_14号様式!E27)","v":9362},{"$f":"IF(P_14号様式!F27=\"\",\"\",P_14号様式!F27)","v":17412},{"$f":"IF(P_14号様式!G27=\"\",\"\",P_14号様式!G27)","v":2622},{"$f":"IF(P_14号様式!H27=\"\",\"\",P_14号様式!H27)","v":2667},{"$f":"IF(P_14号様式!I27=\"\",\"\",P_14号様式!I27)","v":5289},{"$f":"IF(P_14号様式!J27=\"\",\"\",P_14号様式!J27)","v":""},{"$f":"IF(P_14号様式!K27=\"\",\"\",P_14号様式!K27)","v":""},{"$f":"IF(P_14号様式!L27=\"\",\"\",P_14号様式!L27)","v":""},{"$f":"IF(P_14号様式!M27=\"\",\"\",P_14号様式!M27)","v":32.571428571428598},{"$f":"IF(P_14号様式!N27=\"\",\"\",P_14号様式!N27)","v":28.487502670369601},null,null,{"$f":"IF(P_14号様式!O27=\"\",\"\",P_14号様式!O27)","v":30.375603032391499},null,null,{"$f":"IF(P_14号様式!P27=\"\",\"\",P_14号様式!P27)","v":""},{"$f":"IF(P_14号様式!Q27=\"\",\"\",P_14号様式!Q27)","v":""},{"$f":"IF(P_14号様式!R27=\"\",\"\",P_14号様式!R27)","v":41.091326823664602},{"$f":"IF(P_14号様式!S27=\"\",\"\",P_14号様式!S27)","v":36.980327551119302},{"$f":"IF(P_14号様式!T27=\"\",\"\",P_14号様式!T27)","v":38.861438183347403}]
[{"$f":"IF(P_14号様式!C28=\"\",\"\",P_14号様式!C28)","v":"＊（薩摩郡）計"},null,{"$f":"IF(P_14号様式!D28=\"\",\"\",P_14号様式!D28)","v":8050},{"$f":"IF(P_14号様式!E28=\"\",\"\",P_14号様式!E28)","v":9362},{"$f":"IF(P_14号様式!F28=\"\",\"\",P_14号様式!F28)","v":17412},{"$f":"IF(P_14号様式!G28=\"\",\"\",P_14号様式!G28)","v":2622},{"$f":"IF(P_14号様式!H28=\"\",\"\",P_14号様式!H28)","v":2667},{"$f":"IF(P_14号様式!I28=\"\",\"\",P_14号様式!I28)","v":5289},{"$f":"IF(P_14号様式!J28=\"\",\"\",P_14号様式!J28)","v":""},{"$f":"IF(P_14号様式!K28=\"\",\"\",P_14号様式!K28)","v":""},{"$f":"IF(P_14号様式!L28=\"\",\"\",P_14号様式!L28)","v":""},{"$f":"IF(P_14号様式!M28=\"\",\"\",P_14号様式!M28)","v":32.571428571428598},{"$f":"IF(P_14号様式!N28=\"\",\"\",P_14号様式!N28)","v":28.487502670369601},null,null,{"$f":"IF(P_14号様式!O28=\"\",\"\",P_14号様式!O28)","v":30.375603032391499},null,null,{"$f":"IF(P_14号様式!P28=\"\",\"\",P_14号様式!P28)","v":""},{"$f":"IF(P_14号様式!Q28=\"\",\"\",P_14号様式!Q28)","v":""},{"$f":"IF(P_14号様式!R28=\"\",\"\",P_14号様式!R28)","v":41.091326823664602},{"$f":"IF(P_14号様式!S28=\"\",\"\",P_14号様式!S28)","v":36.980327551119302},{"$f":"IF(P_14号様式!T28=\"\",\"\",P_14号様式!T28)","v":38.861438183347403}]
[{"$f":"IF(P_14号様式!C29=\"\",\"\",P_14号様式!C29)","v":"　 長島町"},null,{"$f":"IF(P_14号様式!D29=\"\",\"\",P_14号様式!D29)","v":4030},{"$f":"IF(P_14号様式!E29=\"\",\"\",P_14号様式!E29)","v":4387},{"$f":"IF(P_14号様式!F29=\"\",\"\",P_14号様式!F29)","v":8417},{"$f":"IF(P_14号様式!G29=\"\",\"\",P_14号様式!G29)","v":1779},{"$f":"IF(P_14号様式!H29=\"\",\"\",P_14号様式!H29)","v":1773},{"$f":"IF(P_14号様式!I29=\"\",\"\",P_14号様式!I29)","v":3552},{"$f":"IF(P_14号様式!J29=\"\",\"\",P_14号様式!J29)","v":""},{"$f":"IF(P_14号様式!K29=\"\",\"\",P_14号様式!K29)","v":""},{"$f":"IF(P_14号様式!L29=\"\",\"\",P_14号様式!L29)","v":""},{"$f":"IF(P_14号様式!M29=\"\",\"\",P_14号様式!M29)","v":44.143920595533501},{"$f":"IF(P_14号様式!N29=\"\",\"\",P_14号様式!N29)","v":40.414862092546201},null,null,{"$f":"IF(P_14号様式!O29=\"\",\"\",P_14号様式!O29)","v":42.200308898657497},null,null,{"$f":"IF(P_14号様式!P29=\"\",\"\",P_14号様式!P29)","v":""},{"$f":"IF(P_14号様式!Q29=\"\",\"\",P_14号様式!Q29)","v":""},{"$f":"IF(P_14号様式!R29=\"\",\"\",P_14号様式!R29)","v":47.422680412371101},{"$f":"IF(P_14号様式!S29=\"\",\"\",P_14号様式!S29)","v":44.041228258535497},{"$f":"IF(P_14号様式!T29=\"\",\"\",P_14号様式!T29)","v":45.658263305322102}]
[{"$f":"IF(P_14号様式!C30=\"\",\"\",P_14号様式!C30)","v":"＊（出水郡）計"},null,{"$f":"IF(P_14号様式!D30=\"\",\"\",P_14号様式!D30)","v":4030},{"$f":"IF(P_14号様式!E30=\"\",\"\",P_14号様式!E30)","v":4387},{"$f":"IF(P_14号様式!F30=\"\",\"\",P_14号様式!F30)","v":8417},{"$f":"IF(P_14号様式!G30=\"\",\"\",P_14号様式!G30)","v":1779},{"$f":"IF(P_14号様式!H30=\"\",\"\",P_14号様式!H30)","v":1773},{"$f":"IF(P_14号様式!I30=\"\",\"\",P_14号様式!I30)","v":3552},{"$f":"IF(P_14号様式!J30=\"\",\"\",P_14号様式!J30)","v":""},{"$f":"IF(P_14号様式!K30=\"\",\"\",P_14号様式!K30)","v":""},{"$f":"IF(P_14号様式!L30=\"\",\"\",P_14号様式!L30)","v":""},{"$f":"IF(P_14号様式!M30=\"\",\"\",P_14号様式!M30)","v":44.143920595533501},{"$f":"IF(P_14号様式!N30=\"\",\"\",P_14号様式!N30)","v":40.414862092546201},null,null,{"$f":"IF(P_14号様式!O30=\"\",\"\",P_14号様式!O30)","v":42.200308898657497},null,null,{"$f":"IF(P_14号様式!P30=\"\",\"\",P_14号様式!P30)","v":""},{"$f":"IF(P_14号様式!Q30=\"\",\"\",P_14号様式!Q30)","v":""},{"$f":"IF(P_14号様式!R30=\"\",\"\",P_14号様式!R30)","v":47.422680412371101},{"$f":"IF(P_14号様式!S30=\"\",\"\",P_14号様式!S30)","v":44.041228258535497},{"$f":"IF(P_14号様式!T30=\"\",\"\",P_14号様式!T30)","v":45.658263305322102}]
[{"$f":"IF(P_14号様式!C31=\"\",\"\",P_14号様式!C31)","v":"　 湧水町"},null,{"$f":"IF(P_14号様式!D31=\"\",\"\",P_14号様式!D31)","v":3576},{"$f":"IF(P_14号様式!E31=\"\",\"\",P_14号様式!E31)","v":4143},{"$f":"IF(P_14号様式!F31=\"\",\"\",P_14号様式!F31)","v":7719},{"$f":"IF(P_14号様式!G31=\"\",\"\",P_14号様式!G31)","v":1157},{"$f":"IF(P_14号様式!H31=\"\",\"\",P_14号様式!H31)","v":1167},{"$f":"IF(P_14号様式!I31=\"\",\"\",P_14号様式!I31)","v":2324},{"$f":"IF(P_14号様式!J31=\"\",\"\",P_14号様式!J31)","v":""},{"$f":"IF(P_14号様式!K31=\"\",\"\",P_14号様式!K31)","v":""},{"$f":"IF(P_14号様式!L31=\"\",\"\",P_14号様式!L31)","v":""},{"$f":"IF(P_14号様式!M31=\"\",\"\",P_14号様式!M31)","v":32.354586129753898},{"$f":"IF(P_14号様式!N31=\"\",\"\",P_14号様式!N31)","v":28.167994207096299},null,null,{"$f":"IF(P_14号様式!O31=\"\",\"\",P_14号様式!O31)","v":30.1075268817204},null,null,{"$f":"IF(P_14号様式!P31=\"\",\"\",P_14号様式!P31)","v":""},{"$f":"IF(P_14号様式!Q31=\"\",\"\",P_14号様式!Q31)","v":""},{"$f":"IF(P_14号様式!R31=\"\",\"\",P_14号様式!R31)","v":36.9706417251234},{"$f":"IF(P_14号様式!S31=\"\",\"\",P_14号様式!S31)","v":32.851827533377097},{"$f":"IF(P_14号様式!T31=\"\",\"\",P_14号様式!T31)","v":34.735091470658098}]
[{"$f":"IF(P_14号様式!C32=\"\",\"\",P_14号様式!C32)","v":"＊（姶良郡）計"},null,{"$f":"IF(P_14号様式!D32=\"\",\"\",P_14号様式!D32)","v":3576},{"$f":"IF(P_14号様式!E32=\"\",\"\",P_14号様式!E32)","v":4143},{"$f":"IF(P_14号様式!F32=\"\",\"\",P_14号様式!F32)","v":7719},{"$f":"IF(P_14号様式!G32=\"\",\"\",P_14号様式!G32)","v":1157},{"$f":"IF(P_14号様式!H32=\"\",\"\",P_14号様式!H32)","v":1167},{"$f":"IF(P_14号様式!I32=\"\",\"\",P_14号様式!I32)","v":2324},{"$f":"IF(P_14号様式!J32=\"\",\"\",P_14号様式!J32)","v":""},{"$f":"IF(P_14号様式!K32=\"\",\"\",P_14号様式!K32)","v":""},{"$f":"IF(P_14号様式!L32=\"\",\"\",P_14号様式!L32)","v":""},{"$f":"IF(P_14号様式!M32=\"\",\"\",P_14号様式!M32)","v":32.354586129753898},{"$f":"IF(P_14号様式!N32=\"\",\"\",P_14号様式!N32)","v":28.167994207096299},null,null,{"$f":"IF(P_14号様式!O32=\"\",\"\",P_14号様式!O32)","v":30.1075268817204},null,null,{"$f":"IF(P_14号様式!P32=\"\",\"\",P_14号様式!P32)","v":""},{"$f":"IF(P_14号様式!Q32=\"\",\"\",P_14号様式!Q32)","v":""},{"$f":"IF(P_14号様式!R32=\"\",\"\",P_14号様式!R32)","v":36.9706417251234},{"$f":"IF(P_14号様式!S32=\"\",\"\",P_14号様式!S32)","v":32.851827533377097},{"$f":"IF(P_14号様式!T32=\"\",\"\",P_14号様式!T32)","v":34.735091470658098}]
[{"$f":"IF(P_14号様式!C33=\"\",\"\",P_14号様式!C33)","v":"　 大崎町"},null,{"$f":"IF(P_14号様式!D33=\"\",\"\",P_14号様式!D33)","v":5076},{"$f":"IF(P_14号様式!E33=\"\",\"\",P_14号様式!E33)","v":5621},{"$f":"IF(P_14号様式!F33=\"\",\"\",P_14号様式!F33)","v":10697},{"$f":"IF(P_14号様式!G33=\"\",\"\",P_14号様式!G33)","v":1396},{"$f":"IF(P_14号様式!H33=\"\",\"\",P_14号様式!H33)","v":1392},{"$f":"IF(P_14号様式!I33=\"\",\"\",P_14号様式!I33)","v":2788},{"$f":"IF(P_14号様式!J33=\"\",\"\",P_14号様式!J33)","v":""},{"$f":"IF(P_14号様式!K33=\"\",\"\",P_14号様式!K33)","v":""},{"$f":"IF(P_14号様式!L33=\"\",\"\",P_14号様式!L33)","v":""},{"$f":"IF(P_14号様式!M33=\"\",\"\",P_14号様式!M33)","v":27.5019700551615},{"$f":"IF(P_14号様式!N33=\"\",\"\",P_14号様式!N33)","v":24.764276819071299},null,null,{"$f":"IF(P_14号様式!O33=\"\",\"\",P_14号様式!O33)","v":26.063382256707499},null,null,{"$f":"IF(P_14号様式!P33=\"\",\"\",P_14号様式!P33)","v":""},{"$f":"IF(P_14号様式!Q33=\"\",\"\",P_14号様式!Q33)","v":""},{"$f":"IF(P_14号様式!R33=\"\",\"\",P_14号様式!R33)","v":33.278777959628997},{"$f":"IF(P_14号様式!S33=\"\",\"\",P_14号様式!S33)","v":28.396896153211198},{"$f":"IF(P_14号様式!T33=\"\",\"\",P_14号様式!T33)","v":30.719972308757399}]
[{"$f":"IF(P_14号様式!C34=\"\",\"\",P_14号様式!C34)","v":"＊（曽於郡）計"},null,{"$f":"IF(P_14号様式!D34=\"\",\"\",P_14号様式!D34)","v":5076},{"$f":"IF(P_14号様式!E34=\"\",\"\",P_14号様式!E34)","v":5621},{"$f":"IF(P_14号様式!F34=\"\",\"\",P_14号様式!F34)","v":10697},{"$f":"IF(P_14号様式!G34=\"\",\"\",P_14号様式!G34)","v":1396},{"$f":"IF(P_14号様式!H34=\"\",\"\",P_14号様式!H34)","v":1392},{"$f":"IF(P_14号様式!I34=\"\",\"\",P_14号様式!I34)","v":2788},{"$f":"IF(P_14号様式!J34=\"\",\"\",P_14号様式!J34)","v":""},{"$f":"IF(P_14号様式!K34=\"\",\"\",P_14号様式!K34)","v":""},{"$f":"IF(P_14号様式!L34=\"\",\"\",P_14号様式!L34)","v":""},{"$f":"IF(P_14号様式!M34=\"\",\"\",P_14号様式!M34)","v":27.5019700551615},{"$f":"IF(P_14号様式!N34=\"\",\"\",P_14号様式!N34)","v":24.764276819071299},null,null,{"$f":"IF(P_14号様式!O34=\"\",\"\",P_14号様式!O34)","v":26.063382256707499},null,null,{"$f":"IF(P_14号様式!P34=\"\",\"\",P_14号様式!P34)","v":""},{"$f":"IF(P_14号様式!Q34=\"\",\"\",P_14号様式!Q34)","v":""},{"$f":"IF(P_14号様式!R34=\"\",\"\",P_14号様式!R34)","v":33.278777959628997},{"$f":"IF(P_14号様式!S34=\"\",\"\",P_14号様式!S34)","v":28.396896153211198},{"$f":"IF(P_14号様式!T34=\"\",\"\",P_14号様式!T34)","v":30.719972308757399}]
[{"$f":"IF(P_14号様式!C35=\"\",\"\",P_14号様式!C35)","v":"　 東串良町"},null,{"$f":"IF(P_14号様式!D35=\"\",\"\",P_14号様式!D35)","v":2451},{"$f":"IF(P_14号様式!E35=\"\",\"\",P_14号様式!E35)","v":2819},{"$f":"IF(P_14号様式!F35=\"\",\"\",P_14号様式!F35)","v":5270},{"$f":"IF(P_14号様式!G35=\"\",\"\",P_14号様式!G35)","v":649},{"$f":"IF(P_14号様式!H35=\"\",\"\",P_14号様式!H35)","v":628},{"$f":"IF(P_14号様式!I35=\"\",\"\",P_14号様式!I35)","v":1277},{"$f":"IF(P_14号様式!J35=\"\",\"\",P_14号様式!J35)","v":""},{"$f":"IF(P_14号様式!K35=\"\",\"\",P_14号様式!K35)","v":""},{"$f":"IF(P_14号様式!L35=\"\",\"\",P_14号様式!L35)","v":""},{"$f":"IF(P_14号様式!M35=\"\",\"\",P_14号様式!M35)","v":26.478988168094698},{"$f":"IF(P_14号様式!N35=\"\",\"\",P_14号様式!N35)","v":22.2774033345158},null,null,{"$f":"IF(P_14号様式!O35=\"\",\"\",P_14号様式!O35)","v":24.231499051233399},null,null,{"$f":"IF(P_14号様式!P35=\"\",\"\",P_14号様式!P35)","v":""},{"$f":"IF(P_14号様式!Q35=\"\",\"\",P_14号様式!Q35)","v":""},{"$f":"IF(P_14号様式!R35=\"\",\"\",P_14号様式!R35)","v":32.446808510638299},{"$f":"IF(P_14号様式!S35=\"\",\"\",P_14号様式!S35)","v":28.791429527954499},{"$f":"IF(P_14号様式!T35=\"\",\"\",P_14号様式!T35)","v":30.503648336002801}]
[{"$f":"IF(P_14号様式!C36=\"\",\"\",P_14号様式!C36)","v":"　 錦江町"},null,{"$f":"IF(P_14号様式!D36=\"\",\"\",P_14号様式!D36)","v":2957},{"$f":"IF(P_14号様式!E36=\"\",\"\",P_14号様式!E36)","v":3285},{"$f":"IF(P_14号様式!F36=\"\",\"\",P_14号様式!F36)","v":6242},{"$f":"IF(P_14号様式!G36=\"\",\"\",P_14号様式!G36)","v":973},{"$f":"IF(P_14号様式!H36=\"\",\"\",P_14号様式!H36)","v":947},{"$f":"IF(P_14号様式!I36=\"\",\"\",P_14号様式!I36)","v":1920},{"$f":"IF(P_14号様式!J36=\"\",\"\",P_14号様式!J36)","v":""},{"$f":"IF(P_14号様式!K36=\"\",\"\",P_14号様式!K36)","v":""},{"$f":"IF(P_14号様式!L36=\"\",\"\",P_14号様式!L36)","v":""},{"$f":"IF(P_14号様式!M36=\"\",\"\",P_14号様式!M36)","v":32.90497125465},{"$f":"IF(P_14号様式!N36=\"\",\"\",P_14号様式!N36)","v":28.828006088280102},null,null,{"$f":"IF(P_14号様式!O36=\"\",\"\",P_14号様式!O36)","v":30.7593719961551},null,null,{"$f":"IF(P_14号様式!P36=\"\",\"\",P_14号様式!P36)","v":""},{"$f":"IF(P_14号様式!Q36=\"\",\"\",P_14号様式!Q36)","v":""},{"$f":"IF(P_14号様式!R36=\"\",\"\",P_14号様式!R36)","v":37.964955425760799},{"$f":"IF(P_14号様式!S36=\"\",\"\",P_14号様式!S36)","v":34.889962426194302},{"$f":"IF(P_14号様式!T36=\"\",\"\",P_14号様式!T36)","v":36.323255480727902}]
[{"$f":"IF(P_14号様式!C37=\"\",\"\",P_14号様式!C37)","v":"　 南大隅町"},null,{"$f":"IF(P_14号様式!D37=\"\",\"\",P_14号様式!D37)","v":2896},{"$f":"IF(P_14号様式!E37=\"\",\"\",P_14号様式!E37)","v":3205},{"$f":"IF(P_14号様式!F37=\"\",\"\",P_14号様式!F37)","v":6101},{"$f":"IF(P_14号様式!G37=\"\",\"\",P_14号様式!G37)","v":1082},{"$f":"IF(P_14号様式!H37=\"\",\"\",P_14号様式!H37)","v":1190},{"$f":"IF(P_14号様式!I37=\"\",\"\",P_14号様式!I37)","v":2272},{"$f":"IF(P_14号様式!J37=\"\",\"\",P_14号様式!J37)","v":""},{"$f":"IF(P_14号様式!K37=\"\",\"\",P_14号様式!K37)","v":""},{"$f":"IF(P_14号様式!L37=\"\",\"\",P_14号様式!L37)","v":""},{"$f":"IF(P_14号様式!M37=\"\",\"\",P_14号様式!M37)","v":37.361878453038699},{"$f":"IF(P_14号様式!N37=\"\",\"\",P_14号様式!N37)","v":37.129485179407197},null,null,{"$f":"IF(P_14号様式!O37=\"\",\"\",P_14号様式!O37)","v":37.239796754630397},null,null,{"$f":"IF(P_14号様式!P37=\"\",\"\",P_14号様式!P37)","v":""},{"$f":"IF(P_14号様式!Q37=\"\",\"\",P_14号様式!Q37)","v":""},{"$f":"IF(P_14号様式!R37=\"\",\"\",P_14号様式!R37)","v":40.8568767463521},{"$f":"IF(P_14号様式!S37=\"\",\"\",P_14号様式!S37)","v":38.471922246220302},{"$f":"IF(P_14号様式!T37=\"\",\"\",P_14号様式!T37)","v":39.581227436823099}]
[{"$f":"IF(P_14号様式!C38=\"\",\"\",P_14号様式!C38)","v":"　 肝付町"},null,{"$f":"IF(P_14号様式!D38=\"\",\"\",P_14号様式!D38)","v":5980},{"$f":"IF(P_14号様式!E38=\"\",\"\",P_14号様式!E38)","v":6611},{"$f":"IF(P_14号様式!F38=\"\",\"\",P_14号様式!F38)","v":12591},{"$f":"IF(P_14号様式!G38=\"\",\"\",P_14号様式!G38)","v":1810},{"$f":"IF(P_14号様式!H38=\"\",\"\",P_14号様式!H38)","v":1782},{"$f":"IF(P_14号様式!I38=\"\",\"\",P_14号様式!I38)","v":3592},{"$f":"IF(P_14号様式!J38=\"\",\"\",P_14号様式!J38)","v":""},{"$f":"IF(P_14号様式!K38=\"\",\"\",P_14号様式!K38)","v":""},{"$f":"IF(P_14号様式!L38=\"\",\"\",P_14号様式!L38)","v":""},{"$f":"IF(P_14号様式!M38=\"\",\"\",P_14号様式!M38)","v":30.267558528428101},{"$f":"IF(P_14号様式!N38=\"\",\"\",P_14号様式!N38)","v":26.955074875207998},null,null,{"$f":"IF(P_14号様式!O38=\"\",\"\",P_14号様式!O38)","v":28.528313874990101},null,null,{"$f":"IF(P_14号様式!P38=\"\",\"\",P_14号様式!P38)","v":""},{"$f":"IF(P_14号様式!Q38=\"\",\"\",P_14号様式!Q38)","v":""},{"$f":"IF(P_14号様式!R38=\"\",\"\",P_14号様式!R38)","v":37.188419259947402},{"$f":"IF(P_14号様式!S38=\"\",\"\",P_14号様式!S38)","v":32.635925671025497},{"$f":"IF(P_14号様式!T38=\"\",\"\",P_14号様式!T38)","v":34.778490236082803}]
[{"$f":"IF(P_14号様式!C39=\"\",\"\",P_14号様式!C39)","v":"＊（肝属郡）計"},null,{"$f":"IF(P_14号様式!D39=\"\",\"\",P_14号様式!D39)","v":14284},{"$f":"IF(P_14号様式!E39=\"\",\"\",P_14号様式!E39)","v":15920},{"$f":"IF(P_14号様式!F39=\"\",\"\",P_14号様式!F39)","v":30204},{"$f":"IF(P_14号様式!G39=\"\",\"\",P_14号様式!G39)","v":4514},{"$f":"IF(P_14号様式!H39=\"\",\"\",P_14号様式!H39)","v":4547},{"$f":"IF(P_14号様式!I39=\"\",\"\",P_14号様式!I39)","v":9061},{"$f":"IF(P_14号様式!J39=\"\",\"\",P_14号様式!J39)","v":""},{"$f":"IF(P_14号様式!K39=\"\",\"\",P_14号様式!K39)","v":""},{"$f":"IF(P_14号様式!L39=\"\",\"\",P_14号様式!L39)","v":""},{"$f":"IF(P_14号様式!M39=\"\",\"\",P_14号様式!M39)","v":31.601792215065799},{"$f":"IF(P_14号様式!N39=\"\",\"\",P_14号様式!N39)","v":28.5615577889447},null,null,{"$f":"IF(P_14号様式!O39=\"\",\"\",P_14号様式!O39)","v":29.999337836048198},null,null,{"$f":"IF(P_14号様式!P39=\"\",\"\",P_14号様式!P39)","v":""},{"$f":"IF(P_14号様式!Q39=\"\",\"\",P_14号様式!Q39)","v":""},{"$f":"IF(P_14号様式!R39=\"\",\"\",P_14号様式!R39)","v":37.308062961773203},{"$f":"IF(P_14号様式!S39=\"\",\"\",P_14号様式!S39)","v":33.683972401312097},{"$f":"IF(P_14号様式!T39=\"\",\"\",P_14号様式!T39)","v":35.380635846843298}]
[{"$f":"IF(P_14号様式!C40=\"\",\"\",P_14号様式!C40)","v":"　 中種子町"},null,{"$f":"IF(P_14号様式!D40=\"\",\"\",P_14号様式!D40)","v":3059},{"$f":"IF(P_14号様式!E40=\"\",\"\",P_14号様式!E40)","v":3455},{"$f":"IF(P_14号様式!F40=\"\",\"\",P_14号様式!F40)","v":6514},{"$f":"IF(P_14号様式!G40=\"\",\"\",P_14号様式!G40)","v":1198},{"$f":"IF(P_14号様式!H40=\"\",\"\",P_14号様式!H40)","v":1215},{"$f":"IF(P_14号様式!I40=\"\",\"\",P_14号様式!I40)","v":2413},{"$f":"IF(P_14号様式!J40=\"\",\"\",P_14号様式!J40)","v":""},{"$f":"IF(P_14号様式!K40=\"\",\"\",P_14号様式!K40)","v":""},{"$f":"IF(P_14号様式!L40=\"\",\"\",P_14号様式!L40)","v":""},{"$f":"IF(P_14号様式!M40=\"\",\"\",P_14号様式!M40)","v":39.163125204315101},{"$f":"IF(P_14号様式!N40=\"\",\"\",P_14号様式!N40)","v":35.166425470332896},null,null,{"$f":"IF(P_14号様式!O40=\"\",\"\",P_14号様式!O40)","v":37.043291372428598},null,null,{"$f":"IF(P_14号様式!P40=\"\",\"\",P_14号様式!P40)","v":""},{"$f":"IF(P_14号様式!Q40=\"\",\"\",P_14号様式!Q40)","v":""},{"$f":"IF(P_14号様式!R40=\"\",\"\",P_14号様式!R40)","v":46.6790813159528},{"$f":"IF(P_14号様式!S40=\"\",\"\",P_14号様式!S40)","v":42.927228127555203},{"$f":"IF(P_14号様式!T40=\"\",\"\",P_14号様式!T40)","v":44.681468582208701}]
[{"$f":"IF(P_14号様式!C41=\"\",\"\",P_14号様式!C41)","v":"　 南種子町"},null,{"$f":"IF(P_14号様式!D41=\"\",\"\",P_14号様式!D41)","v":2303},{"$f":"IF(P_14号様式!E41=\"\",\"\",P_14号様式!E41)","v":2346},{"$f":"IF(P_14号様式!F41=\"\",\"\",P_14号様式!F41)","v":4649},{"$f":"IF(P_14号様式!G41=\"\",\"\",P_14号様式!G41)","v":950},{"$f":"IF(P_14号様式!H41=\"\",\"\",P_14号様式!H41)","v":961},{"$f":"IF(P_14号様式!I41=\"\",\"\",P_14号様式!I41)","v":1911},{"$f":"IF(P_14号様式!J41=\"\",\"\",P_14号様式!J41)","v":""},{"$f":"IF(P_14号様式!K41=\"\",\"\",P_14号様式!K41)","v":""},{"$f":"IF(P_14号様式!L41=\"\",\"\",P_14号様式!L41)","v":""},{"$f":"IF(P_14号様式!M41=\"\",\"\",P_14号様式!M41)","v":41.250542770299603},{"$f":"IF(P_14号様式!N41=\"\",\"\",P_14号様式!N41)","v":40.963341858482501},null,null,{"$f":"IF(P_14号様式!O41=\"\",\"\",P_14号様式!O41)","v":41.105614110561397},null,null,{"$f":"IF(P_14号様式!P41=\"\",\"\",P_14号様式!P41)","v":""},{"$f":"IF(P_14号様式!Q41=\"\",\"\",P_14号様式!Q41)","v":""},{"$f":"IF(P_14号様式!R41=\"\",\"\",P_14号様式!R41)","v":52.194092827004198},{"$f":"IF(P_14号様式!S41=\"\",\"\",P_14号様式!S41)","v":48.571428571428598},{"$f":"IF(P_14号様式!T41=\"\",\"\",P_14号様式!T41)","v":50.339855818743601}]
[{"$f":"IF(P_14号様式!C42=\"\",\"\",P_14号様式!C42)","v":"　 屋久島町"},null,{"$f":"IF(P_14号様式!D42=\"\",\"\",P_14号様式!D42)","v":4869},{"$f":"IF(P_14号様式!E42=\"\",\"\",P_14号様式!E42)","v":5045},{"$f":"IF(P_14号様式!F42=\"\",\"\",P_14号様式!F42)","v":9914},{"$f":"IF(P_14号様式!G42=\"\",\"\",P_14号様式!G42)","v":1910},{"$f":"IF(P_14号様式!H42=\"\",\"\",P_14号様式!H42)","v":2001},{"$f":"IF(P_14号様式!I42=\"\",\"\",P_14号様式!I42)","v":3911},{"$f":"IF(P_14号様式!J42=\"\",\"\",P_14号様式!J42)","v":""},{"$f":"IF(P_14号様式!K42=\"\",\"\",P_14号様式!K42)","v":""},{"$f":"IF(P_14号様式!L42=\"\",\"\",P_14号様式!L42)","v":""},{"$f":"IF(P_14号様式!M42=\"\",\"\",P_14号様式!M42)","v":39.227767508728697},{"$f":"IF(P_14号様式!N42=\"\",\"\",P_14号様式!N42)","v":39.663032705649201},null,null,{"$f":"IF(P_14号様式!O42=\"\",\"\",P_14号様式!O42)","v":39.449263667540897},null,null,{"$f":"IF(P_14号様式!P42=\"\",\"\",P_14号様式!P42)","v":""},{"$f":"IF(P_14号様式!Q42=\"\",\"\",P_14号様式!Q42)","v":""},{"$f":"IF(P_14号様式!R42=\"\",\"\",P_14号様式!R42)","v":44.1820929353986},{"$f":"IF(P_14号様式!S42=\"\",\"\",P_14号様式!S42)","v":45.345889170590397},{"$f":"IF(P_14号様式!T42=\"\",\"\",P_14号様式!T42)","v":44.776257396449701}]
[{"$f":"IF(P_14号様式!C43=\"\",\"\",P_14号様式!C43)","v":"＊（熊毛郡）計"},null,{"$f":"IF(P_14号様式!D43=\"\",\"\",P_14号様式!D43)","v":10231},{"$f":"IF(P_14号様式!E43=\"\",\"\",P_14号様式!E43)","v":10846},{"$f":"IF(P_14号様式!F43=\"\",\"\",P_14号様式!F43)","v":21077},{"$f":"IF(P_14号様式!G43=\"\",\"\",P_14号様式!G43)","v":4058},{"$f":"IF(P_14号様式!H43=\"\",\"\",P_14号様式!H43)","v":4177},{"$f":"IF(P_14号様式!I43=\"\",\"\",P_14号様式!I43)","v":8235},{"$f":"IF(P_14号様式!J43=\"\",\"\",P_14号様式!J43)","v":""},{"$f":"IF(P_14号様式!K43=\"\",\"\",P_14号様式!K43)","v":""},{"$f":"IF(P_14号様式!L43=\"\",\"\",P_14号様式!L43)","v":""},{"$f":"IF(P_14号様式!M43=\"\",\"\",P_14号様式!M43)","v":39.663766982699599},{"$f":"IF(P_14号様式!N43=\"\",\"\",P_14号様式!N43)","v":38.511893785727501},null,null,{"$f":"IF(P_14号様式!O43=\"\",\"\",P_14号様式!O43)","v":39.071025288228903},null,null,{"$f":"IF(P_14号様式!P43=\"\",\"\",P_14号様式!P43)","v":""},{"$f":"IF(P_14号様式!Q43=\"\",\"\",P_14号様式!Q43)","v":""},{"$f":"IF(P_14号様式!R43=\"\",\"\",P_14号様式!R43)","v":46.665441851919901},{"$f":"IF(P_14号様式!S43=\"\",\"\",P_14号様式!S43)","v":45.272353545734802},{"$f":"IF(P_14号様式!T43=\"\",\"\",P_14号様式!T43)","v":45.944508465561597}]
[{"$f":"IF(P_14号様式!C44=\"\",\"\",P_14号様式!C44)","v":"　 大和村"},null,{"$f":"IF(P_14号様式!D44=\"\",\"\",P_14号様式!D44)","v":599},{"$f":"IF(P_14号様式!E44=\"\",\"\",P_14号様式!E44)","v":649},{"$f":"IF(P_14号様式!F44=\"\",\"\",P_14号様式!F44)","v":1248},{"$f":"IF(P_14号様式!G44=\"\",\"\",P_14号様式!G44)","v":274},{"$f":"IF(P_14号様式!H44=\"\",\"\",P_14号様式!H44)","v":312},{"$f":"IF(P_14号様式!I44=\"\",\"\",P_14号様式!I44)","v":586},{"$f":"IF(P_14号様式!J44=\"\",\"\",P_14号様式!J44)","v":""},{"$f":"IF(P_14号様式!K44=\"\",\"\",P_14号様式!K44)","v":""},{"$f":"IF(P_14号様式!L44=\"\",\"\",P_14号様式!L44)","v":""},{"$f":"IF(P_14号様式!M44=\"\",\"\",P_14号様式!M44)","v":45.7429048414023},{"$f":"IF(P_14号様式!N44=\"\",\"\",P_14号様式!N44)","v":48.073959938366698},null,null,{"$f":"IF(P_14号様式!O44=\"\",\"\",P_14号様式!O44)","v":46.955128205128197},null,null,{"$f":"IF(P_14号様式!P44=\"\",\"\",P_14号様式!P44)","v":""},{"$f":"IF(P_14号様式!Q44=\"\",\"\",P_14号様式!Q44)","v":""},{"$f":"IF(P_14号様式!R44=\"\",\"\",P_14号様式!R44)","v":49.681528662420398},{"$f":"IF(P_14号様式!S44=\"\",\"\",P_14号様式!S44)","v":51.925820256775999},{"$f":"IF(P_14号様式!T44=\"\",\"\",P_14号様式!T44)","v":50.865312264860798}]
[]
["市　計",null,{"$f":"IF(P_14号様式!U2=\"\",\"\",P_14号様式!U2)","v":543841},{"$f":"IF(P_14号様式!V2=\"\",\"\",P_14号様式!V2)","v":633934},{"$f":"IF(P_14号様式!W2=\"\",\"\",P_14号様式!W2)","v":1177775},{"$f":"IF(P_14号様式!X2=\"\",\"\",P_14号様式!X2)","v":141137},{"$f":"IF(P_14号様式!Y2=\"\",\"\",P_14号様式!Y2)","v":150981},{"$f":"IF(P_14号様式!Z2=\"\",\"\",P_14号様式!Z2)","v":292118},{"$f":"IF(P_14号様式!AA2=\"\",\"\",P_14号様式!AA2)","v":""},{"$f":"IF(P_14号様式!AB2=\"\",\"\",P_14号様式!AB2)","v":""},{"$f":"IF(P_14号様式!AC2=\"\",\"\",P_14号様式!AC2)","v":""},{"$f":"IF(P_14号様式!AD2=\"\",\"\",P_14号様式!AD2)","v":25.951886672759102},{"$f":"IF(P_14号様式!AE2=\"\",\"\",P_14号様式!AE2)","v":23.816517176866999},null,null,{"$f":"IF(P_14号様式!AF2=\"\",\"\",P_14号様式!AF2)","v":24.8025301946467},null,null,null,{"$f":"IF(P_14号様式!AG2=\"\",\"\",P_14号様式!AG2)","v":""},{"$f":"IF(P_14号様式!AH2=\"\",\"\",P_14号様式!AH2)","v":32.308276454043401},{"$f":"IF(P_14号様式!AI2=\"\",\"\",P_14号様式!AI2)","v":29.460694754395899},{"$f":"IF(P_14号様式!AJ2=\"\",\"\",P_14号様式!AJ2)","v":30.7704978144107}]
["町村計",null,{"$f":"IF(P_14号様式!AK2=\"\",\"\",P_14号様式!AK2)","v":71912},{"$f":"IF(P_14号様式!AL2=\"\",\"\",P_14号様式!AL2)","v":77813},{"$f":"IF(P_14号様式!AM2=\"\",\"\",P_14号様式!AM2)","v":149725},{"$f":"IF(P_14号様式!AN2=\"\",\"\",P_14号様式!AN2)","v":24260},{"$f":"IF(P_14号様式!AO2=\"\",\"\",P_14号様式!AO2)","v":23646},{"$f":"IF(P_14号様式!AP2=\"\",\"\",P_14号様式!AP2)","v":47906},{"$f":"IF(P_14号様式!AQ2=\"\",\"\",P_14号様式!AQ2)","v":""},{"$f":"IF(P_14号様式!AR2=\"\",\"\",P_14号様式!AR2)","v":""},{"$f":"IF(P_14号様式!AS2=\"\",\"\",P_14号様式!AS2)","v":""},{"$f":"IF(P_14号様式!AT2=\"\",\"\",P_14号様式!AT2)","v":33.735676938480402},{"$f":"IF(P_14号様式!AU2=\"\",\"\",P_14号様式!AU2)","v":30.388238469150401},null,null,{"$f":"IF(P_14号様式!AV2=\"\",\"\",P_14号様式!AV2)","v":31.995992653197501},null,null,null,{"$f":"IF(P_14号様式!AW2=\"\",\"\",P_14号様式!AW2)","v":""},{"$f":"IF(P_14号様式!AX2=\"\",\"\",P_14号様式!AX2)","v":39.280353949961501},{"$f":"IF(P_14号様式!AY2=\"\",\"\",P_14号様式!AY2)","v":35.485979087452499},{"$f":"IF(P_14号様式!AZ2=\"\",\"\",P_14号様式!AZ2)","v":37.294207648913698}]
["県計",null,{"$f":"IF(P_14号様式!BA2=\"\",\"\",P_14号様式!BA2)","v":615753},{"$f":"IF(P_14号様式!BB2=\"\",\"\",P_14号様式!BB2)","v":711747},{"$f":"IF(P_14号様式!BC2=\"\",\"\",P_14号様式!BC2)","v":1327500},{"$f":"IF(P_14号様式!BD2=\"\",\"\",P_14号様式!BD2)","v":165397},{"$f":"IF(P_14号様式!BE2=\"\",\"\",P_14号様式!BE2)","v":174627},{"$f":"IF(P_14号様式!BF2=\"\",\"\",P_14号様式!BF2)","v":340024},{"$f":"IF(P_14号様式!BG2=\"\",\"\",P_14号様式!BG2)","v":""},{"$f":"IF(P_14号様式!BH2=\"\",\"\",P_14号様式!BH2)","v":""},{"$f":"IF(P_14号様式!BI2=\"\",\"\",P_14号様式!BI2)","v":""},{"$f":"IF(P_14号様式!BJ2=\"\",\"\",P_14号様式!BJ2)","v":26.8609328740583},{"$f":"IF(P_14号様式!BK2=\"\",\"\",P_14号様式!BK2)","v":24.534982233855601},null,null,{"$f":"IF(P_14号様式!BL2=\"\",\"\",P_14号様式!BL2)","v":25.613860640301301},null,null,null,{"$f":"IF(P_14号様式!BM2=\"\",\"\",P_14号様式!BM2)","v":""},{"$f":"IF(P_14号様式!BN2=\"\",\"\",P_14号様式!BN2)","v":33.153100438062403},{"$f":"IF(P_14号様式!BO2=\"\",\"\",P_14号様式!BO2)","v":30.1491191867411},{"$f":"IF(P_14号様式!BP2=\"\",\"\",P_14号様式!BP2)","v":31.536712829511099}]
[]
["第14号様式",null,null,null,null,null,null,null,null,null,null,null,null,null,null,null,null,null,null,null,null,{"$f":"IF(P_14号様式!A45=\"\",\" ページ\", P_14号様式!A45 & \"ページ\")","v":"2ページ"}]
[null,null,null,null,null,null,{"$f":"G2","v":"投　票　速　報"},null,null,null,null,null,null,"中間報告",null,null,{"$f":"IF(P_14号様式!BR45=\"\",\"第　　　回\",\"第 　\" & P_14号様式!BR45 & \"　回\")","v":"第 　4　回"},null,null,null,{"$f":"IF(P_14号様式!BS45=\"\",\"時     　分　現在\",P_14号様式!BS45)","v":"16:00:00"}]
[null,{"$f":"IF(パラメタシート!B1=\"\",\"\",パラメタシート!B1)","v":"2020-07-12"},null,null,null,null,null,null,null,null,null,null,null,"結了報告",null,null,null,null,null,null,{"$f":"IF(P_14号様式!BM45=\"\",\"時     　分　結了\",P_14号様式!BM45)","v":"時     　分　結了"}]
[null,{"$f":"IF(P_14号様式!BQ45=\"\",\"\",P_14号様式!BQ45)","v":"鹿児島県知事選挙"},null,null,null,null,null,"（ 建 制 順 ）",null,null,null,null,null,null,null,null,null,null,null,null,null,"鹿 児 島 県"]
[]
["市区町村名",null,"当 日 有 権 者 数（ｅ'）\n（ 当日有権者見込（ｅ））",null,null,{"$f":"IF(P_14号様式!BS45=\"\",\"（ｆ）\",\"（ｱ）\")","v":"（ｱ）"},null,null,"（ｇ）\n棄　権　者　数",null,null,{"$f":"IF(P_14号様式!BS45=\"\",\"\",\"当日投票者\")","v":"当日投票者"},null,"(ｈ)",null,null,null,null,"投\n票\n率\n順\n位","投票\n結了\n時刻","前回選挙の投票率"]
[null,null,null,null,null,{"$f":"IF(P_14号様式!BS45=\"\",\"投 票 者 数\",\"当 日 投 票 者 数\")","v":"当 日 投 票 者 数"},null,null,null,null,null,"投 票 率 =",null,{"$f":"IF(P_14号様式!BS45=\"\",\"(ｆ)\",\"(ｱ)\")","v":"(ｱ)"},"(",{"$f":"IF(P_14号様式!BS45=\"\",\"(ｆ)\",\"(ｱ)\")","v":"(ｱ)"},")"]
[null,null,null,null,null,null,null,null,null,null,null,null,null,"(ｅ')",null,"(ｅ )"]
[null,null,"男","女","計","男","女","計","男","女","計","男","女",null,null,"計",null,null,null,null,"男","女","計"]
[{"$f":"IF(P_14号様式!C45=\"\",\"\",P_14号様式!C45)","v":"　 宇検村"},null,{"$f":"IF(P_14号様式!D45=\"\",\"\",P_14号様式!D45)","v":702},{"$f":"IF(P_14号様式!E45=\"\",\"\",P_14号様式!E45)","v":730},{"$f":"IF(P_14号様式!F45=\"\",\"\",P_14号様式!F45)","v":1432},{"$f":"IF(P_14号様式!G45=\"\",\"\",P_14号様式!G45)","v":233},{"$f":"IF(P_14号様式!H45=\"\",\"\",P_14号様式!H45)","v":217},{"$f":"IF(P_14号様式!I45=\"\",\"\",P_14号様式!I45)","v":450},{"$f":"IF(P_14号様式!J45=\"\",\"\",P_14号様式!J45)","v":""},{"$f":"IF(P_14号様式!K45=\"\",\"\",P_14号様式!K45)","v":""},{"$f":"IF(P_14号様式!L45=\"\",\"\",P_14号様式!L45)","v":""},{"$f":"IF(P_14号様式!M45=\"\",\"\",P_14号様式!M45)","v":33.190883190883198},{"$f":"IF(P_14号様式!N45=\"\",\"\",P_14号様式!N45)","v":29.7260273972603},null,null,{"$f":"IF(P_14号様式!O45=\"\",\"\",P_14号様式!O45)","v":31.4245810055866},null,null,{"$f":"IF(P_14号様式!P45=\"\",\"\",P_14号様式!P45)","v":""},{"$f":"IF(P_14号様式!Q45=\"\",\"\",P_14号様式!Q45)","v":""},{"$f":"IF(P_14号様式!R45=\"\",\"\",P_14号様式!R45)","v":34.072022160664801},{"$f":"IF(P_14号様式!S45=\"\",\"\",P_14号様式!S45)","v":25.907384230287899},{"$f":"IF(P_14号様式!T45=\"\",\"\",P_14号様式!T45)","v":29.7830374753452}]
[{"$f":"IF(P_14号様式!C46=\"\",\"\",P_14号様式!C46)","v":"　 瀬戸内町"},null,{"$f":"IF(P_14号様式!D46=\"\",\"\",P_14号様式!D46)","v":3593},{"$f":"IF(P_14号様式!E46=\"\",\"\",P_14号様式!E46)","v":3835},{"$f":"IF(P_14号様式!F46=\"\",\"\",P_14号様式!F46)","v":7428},{"$f":"IF(P_14号様式!G46=\"\",\"\",P_14号様式!G46)","v":1063},{"$f":"IF(P_14号様式!H46=\"\",\"\",P_14号様式!H46)","v":935},{"$f":"IF(P_14号様式!I46=\"\",\"\",P_14号様式!I46)","v":1998},{"$f":"IF(P_14号様式!J46=\"\",\"\",P_14号様式!J46)","v":""},{"$f":"IF(P_14号様式!K46=\"\",\"\",P_14号様式!K46)","v":""},{"$f":"IF(P_14号様式!L46=\"\",\"\",P_14号様式!L46)","v":""},{"$f":"IF(P_14号様式!M46=\"\",\"\",P_14号様式!M46)","v":29.5853047592541},{"$f":"IF(P_14号様式!N46=\"\",\"\",P_14号様式!N46)","v":24.380704041721},null,null,{"$f":"IF(P_14号様式!O46=\"\",\"\",P_14号様式!O46)","v":26.898222940226201},null,null,{"$f":"IF(P_14号様式!P46=\"\",\"\",P_14号様式!P46)","v":""},{"$f":"IF(P_14号様式!Q46=\"\",\"\",P_14号様式!Q46)","v":""},{"$f":"IF(P_14号様式!R46=\"\",\"\",P_14号様式!R46)","v":35.413839891451801},{"$f":"IF(P_14号様式!S46=\"\",\"\",P_14号様式!S46)","v":30.614250614250601},{"$f":"IF(P_14号様式!T46=\"\",\"\",P_14号様式!T46)","v":32.8949065119278}]
[{"$f":"IF(P_14号様式!C47=\"\",\"\",P_14号様式!C47)","v":"　 龍郷町"},null,{"$f":"IF(P_14号様式!D47=\"\",\"\",P_14号様式!D47)","v":2275},{"$f":"IF(P_14号様式!E47=\"\",\"\",P_14号様式!E47)","v":2525},{"$f":"IF(P_14号様式!F47=\"\",\"\",P_14号様式!F47)","v":4800},{"$f":"IF(P_14号様式!G47=\"\",\"\",P_14号様式!G47)","v":801},{"$f":"IF(P_14号様式!H47=\"\",\"\",P_14号様式!H47)","v":850},{"$f":"IF(P_14号様式!I47=\"\",\"\",P_14号様式!I47)","v":1651},{"$f":"IF(P_14号様式!J47=\"\",\"\",P_14号様式!J47)","v":""},{"$f":"IF(P_14号様式!K47=\"\",\"\",P_14号様式!K47)","v":""},{"$f":"IF(P_14号様式!L47=\"\",\"\",P_14号様式!L47)","v":""},{"$f":"IF(P_14号様式!M47=\"\",\"\",P_14号様式!M47)","v":35.208791208791197},{"$f":"IF(P_14号様式!N47=\"\",\"\",P_14号様式!N47)","v":33.6633663366337},null,null,{"$f":"IF(P_14号様式!O47=\"\",\"\",P_14号様式!O47)","v":34.3958333333333},null,null,{"$f":"IF(P_14号様式!P47=\"\",\"\",P_14号様式!P47)","v":""},{"$f":"IF(P_14号様式!Q47=\"\",\"\",P_14号様式!Q47)","v":""},{"$f":"IF(P_14号様式!R47=\"\",\"\",P_14号様式!R47)","v":37.347826086956502},{"$f":"IF(P_14号様式!S47=\"\",\"\",P_14号様式!S47)","v":37.8551420568227},{"$f":"IF(P_14号様式!T47=\"\",\"\",P_14号様式!T47)","v":37.612002500520902}]
[{"$f":"IF(P_14号様式!C48=\"\",\"\",P_14号様式!C48)","v":"　 喜界町"},null,{"$f":"IF(P_14号様式!D48=\"\",\"\",P_14号様式!D48)","v":2818},{"$f":"IF(P_14号様式!E48=\"\",\"\",P_14号様式!E48)","v":2950},{"$f":"IF(P_14号様式!F48=\"\",\"\",P_14号様式!F48)","v":5768},{"$f":"IF(P_14号様式!G48=\"\",\"\",P_14号様式!G48)","v":705},{"$f":"IF(P_14号様式!H48=\"\",\"\",P_14号様式!H48)","v":618},{"$f":"IF(P_14号様式!I48=\"\",\"\",P_14号様式!I48)","v":1323},{"$f":"IF(P_14号様式!J48=\"\",\"\",P_14号様式!J48)","v":""},{"$f":"IF(P_14号様式!K48=\"\",\"\",P_14号様式!K48)","v":""},{"$f":"IF(P_14号様式!L48=\"\",\"\",P_14号様式!L48)","v":""},{"$f":"IF(P_14号様式!M48=\"\",\"\",P_14号様式!M48)","v":25.017743080198699},{"$f":"IF(P_14号様式!N48=\"\",\"\",P_14号様式!N48)","v":20.9491525423729},null,null,{"$f":"IF(P_14号様式!O48=\"\",\"\",P_14号様式!O48)","v":22.9368932038835},null,null,{"$f":"IF(P_14号様式!P48=\"\",\"\",P_14号様式!P48)","v":""},{"$f":"IF(P_14号様式!Q48=\"\",\"\",P_14号様式!Q48)","v":""},{"$f":"IF(P_14号様式!R48=\"\",\"\",P_14号様式!R48)","v":31.372549019607799},{"$f":"IF(P_14号様式!S48=\"\",\"\",P_14号様式!S48)","v":25.166402535657699},{"$f":"IF(P_14号様式!T48=\"\",\"\",P_14号様式!T48)","v":28.1694748895796}]
[{"$f":"IF(P_14号様式!C49=\"\",\"\",P_14号様式!C49)","v":"　 徳之島町"},null,{"$f":"IF(P_14号様式!D49=\"\",\"\",P_14号様式!D49)","v":4198},{"$f":"IF(P_14号様式!E49=\"\",\"\",P_14号様式!E49)","v":4394},{"$f":"IF(P_14号様式!F49=\"\",\"\",P_14号様式!F49)","v":8592},{"$f":"IF(P_14号様式!G49=\"\",\"\",P_14号様式!G49)","v":1229},{"$f":"IF(P_14号様式!H49=\"\",\"\",P_14号様式!H49)","v":1053},{"$f":"IF(P_14号様式!I49=\"\",\"\",P_14号様式!I49)","v":2282},{"$f":"IF(P_14号様式!J49=\"\",\"\",P_14号様式!J49)","v":""},{"$f":"IF(P_14号様式!K49=\"\",\"\",P_14号様式!K49)","v":""},{"$f":"IF(P_14号様式!L49=\"\",\"\",P_14号様式!L49)","v":""},{"$f":"IF(P_14号様式!M49=\"\",\"\",P_14号様式!M49)","v":29.275845640781299},{"$f":"IF(P_14号様式!N49=\"\",\"\",P_14号様式!N49)","v":23.964497041420099},null,null,{"$f":"IF(P_14号様式!O49=\"\",\"\",P_14号様式!O49)","v":26.559590316573601},null,null,{"$f":"IF(P_14号様式!P49=\"\",\"\",P_14号様式!P49)","v":""},{"$f":"IF(P_14号様式!Q49=\"\",\"\",P_14号様式!Q49)","v":""},{"$f":"IF(P_14号様式!R49=\"\",\"\",P_14号様式!R49)","v":31.107602075344001},{"$f":"IF(P_14号様式!S49=\"\",\"\",P_14号様式!S49)","v":25.8506312861117},{"$f":"IF(P_14号様式!T49=\"\",\"\",P_14号様式!T49)","v":28.409839666154198}]
[{"$f":"IF(P_14号様式!C50=\"\",\"\",P_14号様式!C50)","v":"　 天城町"},null,{"$f":"IF(P_14号様式!D50=\"\",\"\",P_14号様式!D50)","v":2422},{"$f":"IF(P_14号様式!E50=\"\",\"\",P_14号様式!E50)","v":2356},{"$f":"IF(P_14号様式!F50=\"\",\"\",P_14号様式!F50)","v":4778},{"$f":"IF(P_14号様式!G50=\"\",\"\",P_14号様式!G50)","v":996},{"$f":"IF(P_14号様式!H50=\"\",\"\",P_14号様式!H50)","v":959},{"$f":"IF(P_14号様式!I50=\"\",\"\",P_14号様式!I50)","v":1955},{"$f":"IF(P_14号様式!J50=\"\",\"\",P_14号様式!J50)","v":""},{"$f":"IF(P_14号様式!K50=\"\",\"\",P_14号様式!K50)","v":""},{"$f":"IF(P_14号様式!L50=\"\",\"\",P_14号様式!L50)","v":""},{"$f":"IF(P_14号様式!M50=\"\",\"\",P_14号様式!M50)","v":41.123038810900098},{"$f":"IF(P_14号様式!N50=\"\",\"\",P_14号様式!N50)","v":40.704584040747001},null,null,{"$f":"IF(P_14号様式!O50=\"\",\"\",P_14号様式!O50)","v":40.916701548765197},null,null,{"$f":"IF(P_14号様式!P50=\"\",\"\",P_14号様式!P50)","v":""},{"$f":"IF(P_14号様式!Q50=\"\",\"\",P_14号様式!Q50)","v":""},{"$f":"IF(P_14号様式!R50=\"\",\"\",P_14号様式!R50)","v":44.142746314972797},{"$f":"IF(P_14号様式!S50=\"\",\"\",P_14号様式!S50)","v":43.039489429597097},{"$f":"IF(P_14号様式!T50=\"\",\"\",P_14号様式!T50)","v":43.598820058996999}]
[{"$f":"IF(P_14号様式!C51=\"\",\"\",P_14号様式!C51)","v":"　 伊仙町"},null,{"$f":"IF(P_14号様式!D51=\"\",\"\",P_14号様式!D51)","v":2686},{"$f":"IF(P_14号様式!E51=\"\",\"\",P_14号様式!E51)","v":2588},{"$f":"IF(P_14号様式!F51=\"\",\"\",P_14号様式!F51)","v":5274},{"$f":"IF(P_14号様式!G51=\"\",\"\",P_14号様式!G51)","v":1074},{"$f":"IF(P_14号様式!H51=\"\",\"\",P_14号様式!H51)","v":945},{"$f":"IF(P_14号様式!I51=\"\",\"\",P_14号様式!I51)","v":2019},{"$f":"IF(P_14号様式!J51=\"\",\"\",P_14号様式!J51)","v":""},{"$f":"IF(P_14号様式!K51=\"\",\"\",P_14号様式!K51)","v":""},{"$f":"IF(P_14号様式!L51=\"\",\"\",P_14号様式!L51)","v":""},{"$f":"IF(P_14号様式!M51=\"\",\"\",P_14号様式!M51)","v":39.985107967237496},{"$f":"IF(P_14号様式!N51=\"\",\"\",P_14号様式!N51)","v":36.514683153013898},null,null,{"$f":"IF(P_14号様式!O51=\"\",\"\",P_14号様式!O51)","v":38.282138794084197},null,null,{"$f":"IF(P_14号様式!P51=\"\",\"\",P_14号様式!P51)","v":""},{"$f":"IF(P_14号様式!Q51=\"\",\"\",P_14号様式!Q51)","v":""},{"$f":"IF(P_14号様式!R51=\"\",\"\",P_14号様式!R51)","v":39.064697609001399},{"$f":"IF(P_14号様式!S51=\"\",\"\",P_14号様式!S51)","v":34.825519915403603},{"$f":"IF(P_14号様式!T51=\"\",\"\",P_14号様式!T51)","v":36.9477204717479}]
[{"$f":"IF(P_14号様式!C52=\"\",\"\",P_14号様式!C52)","v":"　 和泊町"},null,{"$f":"IF(P_14号様式!D52=\"\",\"\",P_14号様式!D52)","v":2508},{"$f":"IF(P_14号様式!E52=\"\",\"\",P_14号様式!E52)","v":2610},{"$f":"IF(P_14号様式!F52=\"\",\"\",P_14号様式!F52)","v":5118},{"$f":"IF(P_14号様式!G52=\"\",\"\",P_14号様式!G52)","v":746},{"$f":"IF(P_14号様式!H52=\"\",\"\",P_14号様式!H52)","v":686},{"$f":"IF(P_14号様式!I52=\"\",\"\",P_14号様式!I52)","v":1432},{"$f":"IF(P_14号様式!J52=\"\",\"\",P_14号様式!J52)","v":""},{"$f":"IF(P_14号様式!K52=\"\",\"\",P_14号様式!K52)","v":""},{"$f":"IF(P_14号様式!L52=\"\",\"\",P_14号様式!L52)","v":""},{"$f":"IF(P_14号様式!M52=\"\",\"\",P_14号様式!M52)","v":29.7448165869219},{"$f":"IF(P_14号様式!N52=\"\",\"\",P_14号様式!N52)","v":26.283524904214602},null,null,{"$f":"IF(P_14号様式!O52=\"\",\"\",P_14号様式!O52)","v":27.979679562329},null,null,{"$f":"IF(P_14号様式!P52=\"\",\"\",P_14号様式!P52)","v":""},{"$f":"IF(P_14号様式!Q52=\"\",\"\",P_14号様式!Q52)","v":""},{"$f":"IF(P_14号様式!R52=\"\",\"\",P_14号様式!R52)","v":39.622641509433997},{"$f":"IF(P_14号様式!S52=\"\",\"\",P_14号様式!S52)","v":33.873290136789102},{"$f":"IF(P_14号様式!T52=\"\",\"\",P_14号様式!T52)","v":36.680176860722199}]
[{"$f":"IF(P_14号様式!C53=\"\",\"\",P_14号様式!C53)","v":"　 知名町"},null,{"$f":"IF(P_14号様式!D53=\"\",\"\",P_14号様式!D53)","v":2434},{"$f":"IF(P_14号様式!E53=\"\",\"\",P_14号様式!E53)","v":2334},{"$f":"IF(P_14号様式!F53=\"\",\"\",P_14号様式!F53)","v":4768},{"$f":"IF(P_14号様式!G53=\"\",\"\",P_14号様式!G53)","v":864},{"$f":"IF(P_14号様式!H53=\"\",\"\",P_14号様式!H53)","v":712},{"$f":"IF(P_14号様式!I53=\"\",\"\",P_14号様式!I53)","v":1576},{"$f":"IF(P_14号様式!J53=\"\",\"\",P_14号様式!J53)","v":""},{"$f":"IF(P_14号様式!K53=\"\",\"\",P_14号様式!K53)","v":""},{"$f":"IF(P_14号様式!L53=\"\",\"\",P_14号様式!L53)","v":""},{"$f":"IF(P_14号様式!M53=\"\",\"\",P_14号様式!M53)","v":35.4971240755957},{"$f":"IF(P_14号様式!N53=\"\",\"\",P_14号様式!N53)","v":30.505569837189402},null,null,{"$f":"IF(P_14号様式!O53=\"\",\"\",P_14号様式!O53)","v":33.0536912751678},null,null,{"$f":"IF(P_14号様式!P53=\"\",\"\",P_14号様式!P53)","v":""},{"$f":"IF(P_14号様式!Q53=\"\",\"\",P_14号様式!Q53)","v":""},{"$f":"IF(P_14号様式!R53=\"\",\"\",P_14号様式!R53)","v":43.373967754620502},{"$f":"IF(P_14号様式!S53=\"\",\"\",P_14号様式!S53)","v":37.599049128367703},{"$f":"IF(P_14号様式!T53=\"\",\"\",P_14号様式!T53)","v":40.497335701598601}]
[{"$f":"IF(P_14号様式!C54=\"\",\"\",P_14号様式!C54)","v":"　 与論町"},null,{"$f":"IF(P_14号様式!D54=\"\",\"\",P_14号様式!D54)","v":2067},{"$f":"IF(P_14号様式!E54=\"\",\"\",P_14号様式!E54)","v":2190},{"$f":"IF(P_14号様式!F54=\"\",\"\",P_14号様式!F54)","v":4257},{"$f":"IF(P_14号様式!G54=\"\",\"\",P_14号様式!G54)","v":749},{"$f":"IF(P_14号様式!H54=\"\",\"\",P_14号様式!H54)","v":636},{"$f":"IF(P_14号様式!I54=\"\",\"\",P_14号様式!I54)","v":1385},{"$f":"IF(P_14号様式!J54=\"\",\"\",P_14号様式!J54)","v":""},{"$f":"IF(P_14号様式!K54=\"\",\"\",P_14号様式!K54)","v":""},{"$f":"IF(P_14号様式!L54=\"\",\"\",P_14号様式!L54)","v":""},{"$f":"IF(P_14号様式!M54=\"\",\"\",P_14号様式!M54)","v":36.2360909530721},{"$f":"IF(P_14号様式!N54=\"\",\"\",P_14号様式!N54)","v":29.041095890411},null,null,{"$f":"IF(P_14号様式!O54=\"\",\"\",P_14号様式!O54)","v":32.534648813718597},null,null,{"$f":"IF(P_14号様式!P54=\"\",\"\",P_14号様式!P54)","v":""},{"$f":"IF(P_14号様式!Q54=\"\",\"\",P_14号様式!Q54)","v":""},{"$f":"IF(P_14号様式!R54=\"\",\"\",P_14号様式!R54)","v":43.735224586288403},{"$f":"IF(P_14号様式!S54=\"\",\"\",P_14号様式!S54)","v":35.830762450418703},{"$f":"IF(P_14号様式!T54=\"\",\"\",P_14号様式!T54)","v":39.644160583941598}]
[{"$f":"IF(P_14号様式!C55=\"\",\"\",P_14号様式!C55)","v":"＊（大島郡）計"},null,{"$f":"IF(P_14号様式!D55=\"\",\"\",P_14号様式!D55)","v":26302},{"$f":"IF(P_14号様式!E55=\"\",\"\",P_14号様式!E55)","v":27161},{"$f":"IF(P_14号様式!F55=\"\",\"\",P_14号様式!F55)","v":53463},{"$f":"IF(P_14号様式!G55=\"\",\"\",P_14号様式!G55)","v":8734},{"$f":"IF(P_14号様式!H55=\"\",\"\",P_14号様式!H55)","v":7923},{"$f":"IF(P_14号様式!I55=\"\",\"\",P_14号様式!I55)","v":16657},{"$f":"IF(P_14号様式!J55=\"\",\"\",P_14号様式!J55)","v":""},{"$f":"IF(P_14号様式!K55=\"\",\"\",P_14号様式!K55)","v":""},{"$f":"IF(P_14号様式!L55=\"\",\"\",P_14号様式!L55)","v":""},{"$f":"IF(P_14号様式!M55=\"\",\"\",P_14号様式!M55)","v":33.206600258535502},{"$f":"IF(P_14号様式!N55=\"\",\"\",P_14号様式!N55)","v":29.170501822466001},null,null,{"$f":"IF(P_14号様式!O55=\"\",\"\",P_14号様式!O55)","v":31.156126667040802},null,null,{"$f":"IF(P_14号様式!P55=\"\",\"\",P_14号様式!P55)","v":""},{"$f":"IF(P_14号様式!Q55=\"\",\"\",P_14号様式!Q55)","v":""},{"$f":"IF(P_14号様式!R55=\"\",\"\",P_14号様式!R55)","v":37.718531468531502},{"$f":"IF(P_14号様式!S55=\"\",\"\",P_14号様式!S55)","v":33.093849784811901},{"$f":"IF(P_14号様式!T55=\"\",\"\",P_14号様式!T55)","v":35.350465628776597}]
[{"$f":"IF(P_14号様式!C56=\"\",\"\",P_14号様式!C56)","v":""},null,{"$f":"IF(P_14号様式!D56=\"\",\"\",P_14号様式!D56)","v":""},{"$f":"IF(P_14号様式!E56=\"\",\"\",P_14号様式!E56)","v":""},{"$f":"IF(P_14号様式!F56=\"\",\"\",P_14号様式!F56)","v":""},{"$f":"IF(P_14号様式!G56=\"\",\"\",P_14号様式!G56)","v":""},{"$f":"IF(P_14号様式!H56=\"\",\"\",P_14号様式!H56)","v":""},{"$f":"IF(P_14号様式!I56=\"\",\"\",P_14号様式!I56)","v":""},{"$f":"IF(P_14号様式!J56=\"\",\"\",P_14号様式!J56)","v":""},{"$f":"IF(P_14号様式!K56=\"\",\"\",P_14号様式!K56)","v":""},{"$f":"IF(P_14号様式!L56=\"\",\"\",P_14号様式!L56)","v":""},{"$f":"IF(P_14号様式!M56=\"\",\"\",P_14号様式!M56)","v":""},{"$f":"IF(P_14号様式!N56=\"\",\"\",P_14号様式!N56)","v":""},null,null,{"$f":"IF(P_14号様式!O56=\"\",\"\",P_14号様式!O56)","v":""},null,null,{"$f":"IF(P_14号様式!P56=\"\",\"\",P_14号様式!P56)","v":""},{"$f":"IF(P_14号様式!Q56=\"\",\"\",P_14号様式!Q56)","v":""},{"$f":"IF(P_14号様式!R56=\"\",\"\",P_14号様式!R56)","v":""},{"$f":"IF(P_14号様式!S56=\"\",\"\",P_14号様式!S56)","v":""},{"$f":"IF(P_14号様式!T56=\"\",\"\",P_14号様式!T56)","v":""}]
[{"$f":"IF(P_14号様式!C57=\"\",\"\",P_14号様式!C57)","v":""},null,{"$f":"IF(P_14号様式!D57=\"\",\"\",P_14号様式!D57)","v":""},{"$f":"IF(P_14号様式!E57=\"\",\"\",P_14号様式!E57)","v":""},{"$f":"IF(P_14号様式!F57=\"\",\"\",P_14号様式!F57)","v":""},{"$f":"IF(P_14号様式!G57=\"\",\"\",P_14号様式!G57)","v":""},{"$f":"IF(P_14号様式!H57=\"\",\"\",P_14号様式!H57)","v":""},{"$f":"IF(P_14号様式!I57=\"\",\"\",P_14号様式!I57)","v":""},{"$f":"IF(P_14号様式!J57=\"\",\"\",P_14号様式!J57)","v":""},{"$f":"IF(P_14号様式!K57=\"\",\"\",P_14号様式!K57)","v":""},{"$f":"IF(P_14号様式!L57=\"\",\"\",P_14号様式!L57)","v":""},{"$f":"IF(P_14号様式!M57=\"\",\"\",P_14号様式!M57)","v":""},{"$f":"IF(P_14号様式!N57=\"\",\"\",P_14号様式!N57)","v":""},null,null,{"$f":"IF(P_14号様式!O57=\"\",\"\",P_14号様式!O57)","v":""},null,null,{"$f":"IF(P_14号様式!P57=\"\",\"\",P_14号様式!P57)","v":""},{"$f":"IF(P_14号様式!Q57=\"\",\"\",P_14号様式!Q57)","v":""},{"$f":"IF(P_14号様式!R57=\"\",\"\",P_14号様式!R57)","v":""},{"$f":"IF(P_14号様式!S57=\"\",\"\",P_14号様式!S57)","v":""},{"$f":"IF(P_14号様式!T57=\"\",\"\",P_14号様式!T57)","v":""}]
[{"$f":"IF(P_14号様式!C58=\"\",\"\",P_14号様式!C58)","v":""},null,{"$f":"IF(P_14号様式!D58=\"\",\"\",P_14号様式!D58)","v":""},{"$f":"IF(P_14号様式!E58=\"\",\"\",P_14号様式!E58)","v":""},{"$f":"IF(P_14号様式!F58=\"\",\"\",P_14号様式!F58)","v":""},{"$f":"IF(P_14号様式!G58=\"\",\"\",P_14号様式!G58)","v":""},{"$f":"IF(P_14号様式!H58=\"\",\"\",P_14号様式!H58)","v":""},{"$f":"IF(P_14号様式!I58=\"\",\"\",P_14号様式!I58)","v":""},{"$f":"IF(P_14号様式!J58=\"\",\"\",P_14号様式!J58)","v":""},{"$f":"IF(P_14号様式!K58=\"\",\"\",P_14号様式!K58)","v":""},{"$f":"IF(P_14号様式!L58=\"\",\"\",P_14号様式!L58)","v":""},{"$f":"IF(P_14号様式!M58=\"\",\"\",P_14号様式!M58)","v":""},{"$f":"IF(P_14号様式!N58=\"\",\"\",P_14号様式!N58)","v":""},null,null,{"$f":"IF(P_14号様式!O58=\"\",\"\",P_14号様式!O58)","v":""},null,null,{"$f":"IF(P_14号様式!P58=\"\",\"\",P_14号様式!P58)","v":""},{"$f":"IF(P_14号様式!Q58=\"\",\"\",P_14号様式!Q58)","v":""},{"$f":"IF(P_14号様式!R58=\"\",\"\",P_14号様式!R58)","v":""},{"$f":"IF(P_14号様式!S58=\"\",\"\",P_14号様式!S58)","v":""},{"$f":"IF(P_14号様式!T58=\"\",\"\",P_14号様式!T58)","v":""}]
[{"$f":"IF(P_14号様式!C59=\"\",\"\",P_14号様式!C59)","v":""},null,{"$f":"IF(P_14号様式!D59=\"\",\"\",P_14号様式!D59)","v":""},{"$f":"IF(P_14号様式!E59=\"\",\"\",P_14号様式!E59)","v":""},{"$f":"IF(P_14号様式!F59=\"\",\"\",P_14号様式!F59)","v":""},{"$f":"IF(P_14号様式!G59=\"\",\"\",P_14号様式!G59)","v":""},{"$f":"IF(P_14号様式!H59=\"\",\"\",P_14号様式!H59)","v":""},{"$f":"IF(P_14号様式!I59=\"\",\"\",P_14号様式!I59)","v":""},{"$f":"IF(P_14号様式!J59=\"\",\"\",P_14号様式!J59)","v":""},{"$f":"IF(P_14号様式!K59=\"\",\"\",P_14号様式!K59)","v":""},{"$f":"IF(P_14号様式!L59=\"\",\"\",P_14号様式!L59)","v":""},{"$f":"IF(P_14号様式!M59=\"\",\"\",P_14号様式!M59)","v":""},{"$f":"IF(P_14号様式!N59=\"\",\"\",P_14号様式!N59)","v":""},null,null,{"$f":"IF(P_14号様式!O59=\"\",\"\",P_14号様式!O59)","v":""},null,null,{"$f":"IF(P_14号様式!P59=\"\",\"\",P_14号様式!P59)","v":""},{"$f":"IF(P_14号様式!Q59=\"\",\"\",P_14号様式!Q59)","v":""},{"$f":"IF(P_14号様式!R59=\"\",\"\",P_14号様式!R59)","v":""},{"$f":"IF(P_14号様式!S59=\"\",\"\",P_14号様式!S59)","v":""},{"$f":"IF(P_14号様式!T59=\"\",\"\",P_14号様式!T59)","v":""}]
[{"$f":"IF(P_14号様式!C60=\"\",\"\",P_14号様式!C60)","v":""},null,{"$f":"IF(P_14号様式!D60=\"\",\"\",P_14号様式!D60)","v":""},{"$f":"IF(P_14号様式!E60=\"\",\"\",P_14号様式!E60)","v":""},{"$f":"IF(P_14号様式!F60=\"\",\"\",P_14号様式!F60)","v":""},{"$f":"IF(P_14号様式!G60=\"\",\"\",P_14号様式!G60)","v":""},{"$f":"IF(P_14号様式!H60=\"\",\"\",P_14号様式!H60)","v":""},{"$f":"IF(P_14号様式!I60=\"\",\"\",P_14号様式!I60)","v":""},{"$f":"IF(P_14号様式!J60=\"\",\"\",P_14号様式!J60)","v":""},{"$f":"IF(P_14号様式!K60=\"\",\"\",P_14号様式!K60)","v":""},{"$f":"IF(P_14号様式!L60=\"\",\"\",P_14号様式!L60)","v":""},{"$f":"IF(P_14号様式!M60=\"\",\"\",P_14号様式!M60)","v":""},{"$f":"IF(P_14号様式!N60=\"\",\"\",P_14号様式!N60)","v":""},null,null,{"$f":"IF(P_14号様式!O60=\"\",\"\",P_14号様式!O60)","v":""},null,null,{"$f":"IF(P_14号様式!P60=\"\",\"\",P_14号様式!P60)","v":""},{"$f":"IF(P_14号様式!Q60=\"\",\"\",P_14号様式!Q60)","v":""},{"$f":"IF(P_14号様式!R60=\"\",\"\",P_14号様式!R60)","v":""},{"$f":"IF(P_14号様式!S60=\"\",\"\",P_14号様式!S60)","v":""},{"$f":"IF(P_14号様式!T60=\"\",\"\",P_14号様式!T60)","v":""}]
[{"$f":"IF(P_14号様式!C61=\"\",\"\",P_14号様式!C61)","v":""},null,{"$f":"IF(P_14号様式!D61=\"\",\"\",P_14号様式!D61)","v":""},{"$f":"IF(P_14号様式!E61=\"\",\"\",P_14号様式!E61)","v":""},{"$f":"IF(P_14号様式!F61=\"\",\"\",P_14号様式!F61)","v":""},{"$f":"IF(P_14号様式!G61=\"\",\"\",P_14号様式!G61)","v":""},{"$f":"IF(P_14号様式!H61=\"\",\"\",P_14号様式!H61)","v":""},{"$f":"IF(P_14号様式!I61=\"\",\"\",P_14号様式!I61)","v":""},{"$f":"IF(P_14号様式!J61=\"\",\"\",P_14号様式!J61)","v":""},{"$f":"IF(P_14号様式!K61=\"\",\"\",P_14号様式!K61)","v":""},{"$f":"IF(P_14号様式!L61=\"\",\"\",P_14号様式!L61)","v":""},{"$f":"IF(P_14号様式!M61=\"\",\"\",P_14号様式!M61)","v":""},{"$f":"IF(P_14号様式!N61=\"\",\"\",P_14号様式!N61)","v":""},null,null,{"$f":"IF(P_14号様式!O61=\"\",\"\",P_14号様式!O61)","v":""},null,null,{"$f":"IF(P_14号様式!P61=\"\",\"\",P_14号様式!P61)","v":""},{"$f":"IF(P_14号様式!Q61=\"\",\"\",P_14号様式!Q61)","v":""},{"$f":"IF(P_14号様式!R61=\"\",\"\",P_14号様式!R61)","v":""},{"$f":"IF(P_14号様式!S61=\"\",\"\",P_14号様式!S61)","v":""},{"$f":"IF(P_14号様式!T61=\"\",\"\",P_14号様式!T61)","v":""}]
[{"$f":"IF(P_14号様式!C62=\"\",\"\",P_14号様式!C62)","v":""},null,{"$f":"IF(P_14号様式!D62=\"\",\"\",P_14号様式!D62)","v":""},{"$f":"IF(P_14号様式!E62=\"\",\"\",P_14号様式!E62)","v":""},{"$f":"IF(P_14号様式!F62=\"\",\"\",P_14号様式!F62)","v":""},{"$f":"IF(P_14号様式!G62=\"\",\"\",P_14号様式!G62)","v":""},{"$f":"IF(P_14号様式!H62=\"\",\"\",P_14号様式!H62)","v":""},{"$f":"IF(P_14号様式!I62=\"\",\"\",P_14号様式!I62)","v":""},{"$f":"IF(P_14号様式!J62=\"\",\"\",P_14号様式!J62)","v":""},{"$f":"IF(P_14号様式!K62=\"\",\"\",P_14号様式!K62)","v":""},{"$f":"IF(P_14号様式!L62=\"\",\"\",P_14号様式!L62)","v":""},{"$f":"IF(P_14号様式!M62=\"\",\"\",P_14号様式!M62)","v":""},{"$f":"IF(P_14号様式!N62=\"\",\"\",P_14号様式!N62)","v":""},null,null,{"$f":"IF(P_14号様式!O62=\"\",\"\",P_14号様式!O62)","v":""},null,null,{"$f":"IF(P_14号様式!P62=\"\",\"\",P_14号様式!P62)","v":""},{"$f":"IF(P_14号様式!Q62=\"\",\"\",P_14号様式!Q62)","v":""},{"$f":"IF(P_14号様式!R62=\"\",\"\",P_14号様式!R62)","v":""},{"$f":"IF(P_14号様式!S62=\"\",\"\",P_14号様式!S62)","v":""},{"$f":"IF(P_14号様式!T62=\"\",\"\",P_14号様式!T62)","v":""}]
[{"$f":"IF(P_14号様式!C63=\"\",\"\",P_14号様式!C63)","v":""},null,{"$f":"IF(P_14号様式!D63=\"\",\"\",P_14号様式!D63)","v":""},{"$f":"IF(P_14号様式!E63=\"\",\"\",P_14号様式!E63)","v":""},{"$f":"IF(P_14号様式!F63=\"\",\"\",P_14号様式!F63)","v":""},{"$f":"IF(P_14号様式!G63=\"\",\"\",P_14号様式!G63)","v":""},{"$f":"IF(P_14号様式!H63=\"\",\"\",P_14号様式!H63)","v":""},{"$f":"IF(P_14号様式!I63=\"\",\"\",P_14号様式!I63)","v":""},{"$f":"IF(P_14号様式!J63=\"\",\"\",P_14号様式!J63)","v":""},{"$f":"IF(P_14号様式!K63=\"\",\"\",P_14号様式!K63)","v":""},{"$f":"IF(P_14号様式!L63=\"\",\"\",P_14号様式!L63)","v":""},{"$f":"IF(P_14号様式!M63=\"\",\"\",P_14号様式!M63)","v":""},{"$f":"IF(P_14号様式!N63=\"\",\"\",P_14号様式!N63)","v":""},null,null,{"$f":"IF(P_14号様式!O63=\"\",\"\",P_14号様式!O63)","v":""},null,null,{"$f":"IF(P_14号様式!P63=\"\",\"\",P_14号様式!P63)","v":""},{"$f":"IF(P_14号様式!Q63=\"\",\"\",P_14号様式!Q63)","v":""},{"$f":"IF(P_14号様式!R63=\"\",\"\",P_14号様式!R63)","v":""},{"$f":"IF(P_14号様式!S63=\"\",\"\",P_14号様式!S63)","v":""},{"$f":"IF(P_14号様式!T63=\"\",\"\",P_14号様式!T63)","v":""}]
[{"$f":"IF(P_14号様式!C64=\"\",\"\",P_14号様式!C64)","v":""},null,{"$f":"IF(P_14号様式!D64=\"\",\"\",P_14号様式!D64)","v":""},{"$f":"IF(P_14号様式!E64=\"\",\"\",P_14号様式!E64)","v":""},{"$f":"IF(P_14号様式!F64=\"\",\"\",P_14号様式!F64)","v":""},{"$f":"IF(P_14号様式!G64=\"\",\"\",P_14号様式!G64)","v":""},{"$f":"IF(P_14号様式!H64=\"\",\"\",P_14号様式!H64)","v":""},{"$f":"IF(P_14号様式!I64=\"\",\"\",P_14号様式!I64)","v":""},{"$f":"IF(P_14号様式!J64=\"\",\"\",P_14号様式!J64)","v":""},{"$f":"IF(P_14号様式!K64=\"\",\"\",P_14号様式!K64)","v":""},{"$f":"IF(P_14号様式!L64=\"\",\"\",P_14号様式!L64)","v":""},{"$f":"IF(P_14号様式!M64=\"\",\"\",P_14号様式!M64)","v":""},{"$f":"IF(P_14号様式!N64=\"\",\"\",P_14号様式!N64)","v":""},null,null,{"$f":"IF(P_14号様式!O64=\"\",\"\",P_14号様式!O64)","v":""},null,null,{"$f":"IF(P_14号様式!P64=\"\",\"\",P_14号様式!P64)","v":""},{"$f":"IF(P_14号様式!Q64=\"\",\"\",P_14号様式!Q64)","v":""},{"$f":"IF(P_14号様式!R64=\"\",\"\",P_14号様式!R64)","v":""},{"$f":"IF(P_14号様式!S64=\"\",\"\",P_14号様式!S64)","v":""},{"$f":"IF(P_14号様式!T64=\"\",\"\",P_14号様式!T64)","v":""}]
[{"$f":"IF(P_14号様式!C65=\"\",\"\",P_14号様式!C65)","v":""},null,{"$f":"IF(P_14号様式!D65=\"\",\"\",P_14号様式!D65)","v":""},{"$f":"IF(P_14号様式!E65=\"\",\"\",P_14号様式!E65)","v":""},{"$f":"IF(P_14号様式!F65=\"\",\"\",P_14号様式!F65)","v":""},{"$f":"IF(P_14号様式!G65=\"\",\"\",P_14号様式!G65)","v":""},{"$f":"IF(P_14号様式!H65=\"\",\"\",P_14号様式!H65)","v":""},{"$f":"IF(P_14号様式!I65=\"\",\"\",P_14号様式!I65)","v":""},{"$f":"IF(P_14号様式!J65=\"\",\"\",P_14号様式!J65)","v":""},{"$f":"IF(P_14号様式!K65=\"\",\"\",P_14号様式!K65)","v":""},{"$f":"IF(P_14号様式!L65=\"\",\"\",P_14号様式!L65)","v":""},{"$f":"IF(P_14号様式!M65=\"\",\"\",P_14号様式!M65)","v":""},{"$f":"IF(P_14号様式!N65=\"\",\"\",P_14号様式!N65)","v":""},null,null,{"$f":"IF(P_14号様式!O65=\"\",\"\",P_14号様式!O65)","v":""},null,null,{"$f":"IF(P_14号様式!P65=\"\",\"\",P_14号様式!P65)","v":""},{"$f":"IF(P_14号様式!Q65=\"\",\"\",P_14号様式!Q65)","v":""},{"$f":"IF(P_14号様式!R65=\"\",\"\",P_14号様式!R65)","v":""},{"$f":"IF(P_14号様式!S65=\"\",\"\",P_14号様式!S65)","v":""},{"$f":"IF(P_14号様式!T65=\"\",\"\",P_14号様式!T65)","v":""}]
[{"$f":"IF(P_14号様式!C66=\"\",\"\",P_14号様式!C66)","v":""},null,{"$f":"IF(P_14号様式!D66=\"\",\"\",P_14号様式!D66)","v":""},{"$f":"IF(P_14号様式!E66=\"\",\"\",P_14号様式!E66)","v":""},{"$f":"IF(P_14号様式!F66=\"\",\"\",P_14号様式!F66)","v":""},{"$f":"IF(P_14号様式!G66=\"\",\"\",P_14号様式!G66)","v":""},{"$f":"IF(P_14号様式!H66=\"\",\"\",P_14号様式!H66)","v":""},{"$f":"IF(P_14号様式!I66=\"\",\"\",P_14号様式!I66)","v":""},{"$f":"IF(P_14号様式!J66=\"\",\"\",P_14号様式!J66)","v":""},{"$f":"IF(P_14号様式!K66=\"\",\"\",P_14号様式!K66)","v":""},{"$f":"IF(P_14号様式!L66=\"\",\"\",P_14号様式!L66)","v":""},{"$f":"IF(P_14号様式!M66=\"\",\"\",P_14号様式!M66)","v":""},{"$f":"IF(P_14号様式!N66=\"\",\"\",P_14号様式!N66)","v":""},null,null,{"$f":"IF(P_14号様式!O66=\"\",\"\",P_14号様式!O66)","v":""},null,null,{"$f":"IF(P_14号様式!P66=\"\",\"\",P_14号様式!P66)","v":""},{"$f":"IF(P_14号様式!Q66=\"\",\"\",P_14号様式!Q66)","v":""},{"$f":"IF(P_14号様式!R66=\"\",\"\",P_14号様式!R66)","v":""},{"$f":"IF(P_14号様式!S66=\"\",\"\",P_14号様式!S66)","v":""},{"$f":"IF(P_14号様式!T66=\"\",\"\",P_14号様式!T66)","v":""}]
[{"$f":"IF(P_14号様式!C67=\"\",\"\",P_14号様式!C67)","v":""},null,{"$f":"IF(P_14号様式!D67=\"\",\"\",P_14号様式!D67)","v":""},{"$f":"IF(P_14号様式!E67=\"\",\"\",P_14号様式!E67)","v":""},{"$f":"IF(P_14号様式!F67=\"\",\"\",P_14号様式!F67)","v":""},{"$f":"IF(P_14号様式!G67=\"\",\"\",P_14号様式!G67)","v":""},{"$f":"IF(P_14号様式!H67=\"\",\"\",P_14号様式!H67)","v":""},{"$f":"IF(P_14号様式!I67=\"\",\"\",P_14号様式!I67)","v":""},{"$f":"IF(P_14号様式!J67=\"\",\"\",P_14号様式!J67)","v":""},{"$f":"IF(P_14号様式!K67=\"\",\"\",P_14号様式!K67)","v":""},{"$f":"IF(P_14号様式!L67=\"\",\"\",P_14号様式!L67)","v":""},{"$f":"IF(P_14号様式!M67=\"\",\"\",P_14号様式!M67)","v":""},{"$f":"IF(P_14号様式!N67=\"\",\"\",P_14号様式!N67)","v":""},null,null,{"$f":"IF(P_14号様式!O67=\"\",\"\",P_14号様式!O67)","v":""},null,null,{"$f":"IF(P_14号様式!P67=\"\",\"\",P_14号様式!P67)","v":""},{"$f":"IF(P_14号様式!Q67=\"\",\"\",P_14号様式!Q67)","v":""},{"$f":"IF(P_14号様式!R67=\"\",\"\",P_14号様式!R67)","v":""},{"$f":"IF(P_14号様式!S67=\"\",\"\",P_14号様式!S67)","v":""},{"$f":"IF(P_14号様式!T67=\"\",\"\",P_14号様式!T67)","v":""}]
[{"$f":"IF(P_14号様式!C68=\"\",\"\",P_14号様式!C68)","v":""},null,{"$f":"IF(P_14号様式!D68=\"\",\"\",P_14号様式!D68)","v":""},{"$f":"IF(P_14号様式!E68=\"\",\"\",P_14号様式!E68)","v":""},{"$f":"IF(P_14号様式!F68=\"\",\"\",P_14号様式!F68)","v":""},{"$f":"IF(P_14号様式!G68=\"\",\"\",P_14号様式!G68)","v":""},{"$f":"IF(P_14号様式!H68=\"\",\"\",P_14号様式!H68)","v":""},{"$f":"IF(P_14号様式!I68=\"\",\"\",P_14号様式!I68)","v":""},{"$f":"IF(P_14号様式!J68=\"\",\"\",P_14号様式!J68)","v":""},{"$f":"IF(P_14号様式!K68=\"\",\"\",P_14号様式!K68)","v":""},{"$f":"IF(P_14号様式!L68=\"\",\"\",P_14号様式!L68)","v":""},{"$f":"IF(P_14号様式!M68=\"\",\"\",P_14号様式!M68)","v":""},{"$f":"IF(P_14号様式!N68=\"\",\"\",P_14号様式!N68)","v":""},null,null,{"$f":"IF(P_14号様式!O68=\"\",\"\",P_14号様式!O68)","v":""},null,null,{"$f":"IF(P_14号様式!P68=\"\",\"\",P_14号様式!P68)","v":""},{"$f":"IF(P_14号様式!Q68=\"\",\"\",P_14号様式!Q68)","v":""},{"$f":"IF(P_14号様式!R68=\"\",\"\",P_14号様式!R68)","v":""},{"$f":"IF(P_14号様式!S68=\"\",\"\",P_14号様式!S68)","v":""},{"$f":"IF(P_14号様式!T68=\"\",\"\",P_14号様式!T68)","v":""}]
[{"$f":"IF(P_14号様式!C69=\"\",\"\",P_14号様式!C69)","v":""},null,{"$f":"IF(P_14号様式!D69=\"\",\"\",P_14号様式!D69)","v":""},{"$f":"IF(P_14号様式!E69=\"\",\"\",P_14号様式!E69)","v":""},{"$f":"IF(P_14号様式!F69=\"\",\"\",P_14号様式!F69)","v":""},{"$f":"IF(P_14号様式!G69=\"\",\"\",P_14号様式!G69)","v":""},{"$f":"IF(P_14号様式!H69=\"\",\"\",P_14号様式!H69)","v":""},{"$f":"IF(P_14号様式!I69=\"\",\"\",P_14号様式!I69)","v":""},{"$f":"IF(P_14号様式!J69=\"\",\"\",P_14号様式!J69)","v":""},{"$f":"IF(P_14号様式!K69=\"\",\"\",P_14号様式!K69)","v":""},{"$f":"IF(P_14号様式!L69=\"\",\"\",P_14号様式!L69)","v":""},{"$f":"IF(P_14号様式!M69=\"\",\"\",P_14号様式!M69)","v":""},{"$f":"IF(P_14号様式!N69=\"\",\"\",P_14号様式!N69)","v":""},null,null,{"$f":"IF(P_14号様式!O69=\"\",\"\",P_14号様式!O69)","v":""},null,null,{"$f":"IF(P_14号様式!P69=\"\",\"\",P_14号様式!P69)","v":""},{"$f":"IF(P_14号様式!Q69=\"\",\"\",P_14号様式!Q69)","v":""},{"$f":"IF(P_14号様式!R69=\"\",\"\",P_14号様式!R69)","v":""},{"$f":"IF(P_14号様式!S69=\"\",\"\",P_14号様式!S69)","v":""},{"$f":"IF(P_14号様式!T69=\"\",\"\",P_14号様式!T69)","v":""}]
[{"$f":"IF(P_14号様式!C70=\"\",\"\",P_14号様式!C70)","v":""},null,{"$f":"IF(P_14号様式!D70=\"\",\"\",P_14号様式!D70)","v":""},{"$f":"IF(P_14号様式!E70=\"\",\"\",P_14号様式!E70)","v":""},{"$f":"IF(P_14号様式!F70=\"\",\"\",P_14号様式!F70)","v":""},{"$f":"IF(P_14号様式!G70=\"\",\"\",P_14号様式!G70)","v":""},{"$f":"IF(P_14号様式!H70=\"\",\"\",P_14号様式!H70)","v":""},{"$f":"IF(P_14号様式!I70=\"\",\"\",P_14号様式!I70)","v":""},{"$f":"IF(P_14号様式!J70=\"\",\"\",P_14号様式!J70)","v":""},{"$f":"IF(P_14号様式!K70=\"\",\"\",P_14号様式!K70)","v":""},{"$f":"IF(P_14号様式!L70=\"\",\"\",P_14号様式!L70)","v":""},{"$f":"IF(P_14号様式!M70=\"\",\"\",P_14号様式!M70)","v":""},{"$f":"IF(P_14号様式!N70=\"\",\"\",P_14号様式!N70)","v":""},null,null,{"$f":"IF(P_14号様式!O70=\"\",\"\",P_14号様式!O70)","v":""},null,null,{"$f":"IF(P_14号様式!P70=\"\",\"\",P_14号様式!P70)","v":""},{"$f":"IF(P_14号様式!Q70=\"\",\"\",P_14号様式!Q70)","v":""},{"$f":"IF(P_14号様式!R70=\"\",\"\",P_14号様式!R70)","v":""},{"$f":"IF(P_14号様式!S70=\"\",\"\",P_14号様式!S70)","v":""},{"$f":"IF(P_14号様式!T70=\"\",\"\",P_14号様式!T70)","v":""}]
[{"$f":"IF(P_14号様式!C71=\"\",\"\",P_14号様式!C71)","v":""},null,{"$f":"IF(P_14号様式!D71=\"\",\"\",P_14号様式!D71)","v":""},{"$f":"IF(P_14号様式!E71=\"\",\"\",P_14号様式!E71)","v":""},{"$f":"IF(P_14号様式!F71=\"\",\"\",P_14号様式!F71)","v":""},{"$f":"IF(P_14号様式!G71=\"\",\"\",P_14号様式!G71)","v":""},{"$f":"IF(P_14号様式!H71=\"\",\"\",P_14号様式!H71)","v":""},{"$f":"IF(P_14号様式!I71=\"\",\"\",P_14号様式!I71)","v":""},{"$f":"IF(P_14号様式!J71=\"\",\"\",P_14号様式!J71)","v":""},{"$f":"IF(P_14号様式!K71=\"\",\"\",P_14号様式!K71)","v":""},{"$f":"IF(P_14号様式!L71=\"\",\"\",P_14号様式!L71)","v":""},{"$f":"IF(P_14号様式!M71=\"\",\"\",P_14号様式!M71)","v":""},{"$f":"IF(P_14号様式!N71=\"\",\"\",P_14号様式!N71)","v":""},null,null,{"$f":"IF(P_14号様式!O71=\"\",\"\",P_14号様式!O71)","v":""},null,null,{"$f":"IF(P_14号様式!P71=\"\",\"\",P_14号様式!P71)","v":""},{"$f":"IF(P_14号様式!Q71=\"\",\"\",P_14号様式!Q71)","v":""},{"$f":"IF(P_14号様式!R71=\"\",\"\",P_14号様式!R71)","v":""},{"$f":"IF(P_14号様式!S71=\"\",\"\",P_14号様式!S71)","v":""},{"$f":"IF(P_14号様式!T71=\"\",\"\",P_14号様式!T71)","v":""}]
[{"$f":"IF(P_14号様式!C72=\"\",\"\",P_14号様式!C72)","v":""},null,{"$f":"IF(P_14号様式!D72=\"\",\"\",P_14号様式!D72)","v":""},{"$f":"IF(P_14号様式!E72=\"\",\"\",P_14号様式!E72)","v":""},{"$f":"IF(P_14号様式!F72=\"\",\"\",P_14号様式!F72)","v":""},{"$f":"IF(P_14号様式!G72=\"\",\"\",P_14号様式!G72)","v":""},{"$f":"IF(P_14号様式!H72=\"\",\"\",P_14号様式!H72)","v":""},{"$f":"IF(P_14号様式!I72=\"\",\"\",P_14号様式!I72)","v":""},{"$f":"IF(P_14号様式!J72=\"\",\"\",P_14号様式!J72)","v":""},{"$f":"IF(P_14号様式!K72=\"\",\"\",P_14号様式!K72)","v":""},{"$f":"IF(P_14号様式!L72=\"\",\"\",P_14号様式!L72)","v":""},{"$f":"IF(P_14号様式!M72=\"\",\"\",P_14号様式!M72)","v":""},{"$f":"IF(P_14号様式!N72=\"\",\"\",P_14号様式!N72)","v":""},null,null,{"$f":"IF(P_14号様式!O72=\"\",\"\",P_14号様式!O72)","v":""},null,null,{"$f":"IF(P_14号様式!P72=\"\",\"\",P_14号様式!P72)","v":""},{"$f":"IF(P_14号様式!Q72=\"\",\"\",P_14号様式!Q72)","v":""},{"$f":"IF(P_14号様式!R72=\"\",\"\",P_14号様式!R72)","v":""},{"$f":"IF(P_14号様式!S72=\"\",\"\",P_14号様式!S72)","v":""},{"$f":"IF(P_14号様式!T72=\"\",\"\",P_14号様式!T72)","v":""}]
[{"$f":"IF(P_14号様式!C73=\"\",\"\",P_14号様式!C73)","v":""},null,{"$f":"IF(P_14号様式!D73=\"\",\"\",P_14号様式!D73)","v":""},{"$f":"IF(P_14号様式!E73=\"\",\"\",P_14号様式!E73)","v":""},{"$f":"IF(P_14号様式!F73=\"\",\"\",P_14号様式!F73)","v":""},{"$f":"IF(P_14号様式!G73=\"\",\"\",P_14号様式!G73)","v":""},{"$f":"IF(P_14号様式!H73=\"\",\"\",P_14号様式!H73)","v":""},{"$f":"IF(P_14号様式!I73=\"\",\"\",P_14号様式!I73)","v":""},{"$f":"IF(P_14号様式!J73=\"\",\"\",P_14号様式!J73)","v":""},{"$f":"IF(P_14号様式!K73=\"\",\"\",P_14号様式!K73)","v":""},{"$f":"IF(P_14号様式!L73=\"\",\"\",P_14号様式!L73)","v":""},{"$f":"IF(P_14号様式!M73=\"\",\"\",P_14号様式!M73)","v":""},{"$f":"IF(P_14号様式!N73=\"\",\"\",P_14号様式!N73)","v":""},null,null,{"$f":"IF(P_14号様式!O73=\"\",\"\",P_14号様式!O73)","v":""},null,null,{"$f":"IF(P_14号様式!P73=\"\",\"\",P_14号様式!P73)","v":""},{"$f":"IF(P_14号様式!Q73=\"\",\"\",P_14号様式!Q73)","v":""},{"$f":"IF(P_14号様式!R73=\"\",\"\",P_14号様式!R73)","v":""},{"$f":"IF(P_14号様式!S73=\"\",\"\",P_14号様式!S73)","v":""},{"$f":"IF(P_14号様式!T73=\"\",\"\",P_14号様式!T73)","v":""}]
[{"$f":"IF(P_14号様式!C74=\"\",\"\",P_14号様式!C74)","v":""},null,{"$f":"IF(P_14号様式!D74=\"\",\"\",P_14号様式!D74)","v":""},{"$f":"IF(P_14号様式!E74=\"\",\"\",P_14号様式!E74)","v":""},{"$f":"IF(P_14号様式!F74=\"\",\"\",P_14号様式!F74)","v":""},{"$f":"IF(P_14号様式!G74=\"\",\"\",P_14号様式!G74)","v":""},{"$f":"IF(P_14号様式!H74=\"\",\"\",P_14号様式!H74)","v":""},{"$f":"IF(P_14号様式!I74=\"\",\"\",P_14号様式!I74)","v":""},{"$f":"IF(P_14号様式!J74=\"\",\"\",P_14号様式!J74)","v":""},{"$f":"IF(P_14号様式!K74=\"\",\"\",P_14号様式!K74)","v":""},{"$f":"IF(P_14号様式!L74=\"\",\"\",P_14号様式!L74)","v":""},{"$f":"IF(P_14号様式!M74=\"\",\"\",P_14号様式!M74)","v":""},{"$f":"IF(P_14号様式!N74=\"\",\"\",P_14号様式!N74)","v":""},null,null,{"$f":"IF(P_14号様式!O74=\"\",\"\",P_14号様式!O74)","v":""},null,null,{"$f":"IF(P_14号様式!P74=\"\",\"\",P_14号様式!P74)","v":""},{"$f":"IF(P_14号様式!Q74=\"\",\"\",P_14号様式!Q74)","v":""},{"$f":"IF(P_14号様式!R74=\"\",\"\",P_14号様式!R74)","v":""},{"$f":"IF(P_14号様式!S74=\"\",\"\",P_14号様式!S74)","v":""},{"$f":"IF(P_14号様式!T74=\"\",\"\",P_14号様式!T74)","v":""}]
[{"$f":"IF(P_14号様式!C75=\"\",\"\",P_14号様式!C75)","v":""},null,{"$f":"IF(P_14号様式!D75=\"\",\"\",P_14号様式!D75)","v":""},{"$f":"IF(P_14号様式!E75=\"\",\"\",P_14号様式!E75)","v":""},{"$f":"IF(P_14号様式!F75=\"\",\"\",P_14号様式!F75)","v":""},{"$f":"IF(P_14号様式!G75=\"\",\"\",P_14号様式!G75)","v":""},{"$f":"IF(P_14号様式!H75=\"\",\"\",P_14号様式!H75)","v":""},{"$f":"IF(P_14号様式!I75=\"\",\"\",P_14号様式!I75)","v":""},{"$f":"IF(P_14号様式!J75=\"\",\"\",P_14号様式!J75)","v":""},{"$f":"IF(P_14号様式!K75=\"\",\"\",P_14号様式!K75)","v":""},{"$f":"IF(P_14号様式!L75=\"\",\"\",P_14号様式!L75)","v":""},{"$f":"IF(P_14号様式!M75=\"\",\"\",P_14号様式!M75)","v":""},{"$f":"IF(P_14号様式!N75=\"\",\"\",P_14号様式!N75)","v":""},null,null,{"$f":"IF(P_14号様式!O75=\"\",\"\",P_14号様式!O75)","v":""},null,null,{"$f":"IF(P_14号様式!P75=\"\",\"\",P_14号様式!P75)","v":""},{"$f":"IF(P_14号様式!Q75=\"\",\"\",P_14号様式!Q75)","v":""},{"$f":"IF(P_14号様式!R75=\"\",\"\",P_14号様式!R75)","v":""},{"$f":"IF(P_14号様式!S75=\"\",\"\",P_14号様式!S75)","v":""},{"$f":"IF(P_14号様式!T75=\"\",\"\",P_14号様式!T75)","v":""}]
[{"$f":"IF(P_14号様式!C76=\"\",\"\",P_14号様式!C76)","v":""},null,{"$f":"IF(P_14号様式!D76=\"\",\"\",P_14号様式!D76)","v":""},{"$f":"IF(P_14号様式!E76=\"\",\"\",P_14号様式!E76)","v":""},{"$f":"IF(P_14号様式!F76=\"\",\"\",P_14号様式!F76)","v":""},{"$f":"IF(P_14号様式!G76=\"\",\"\",P_14号様式!G76)","v":""},{"$f":"IF(P_14号様式!H76=\"\",\"\",P_14号様式!H76)","v":""},{"$f":"IF(P_14号様式!I76=\"\",\"\",P_14号様式!I76)","v":""},{"$f":"IF(P_14号様式!J76=\"\",\"\",P_14号様式!J76)","v":""},{"$f":"IF(P_14号様式!K76=\"\",\"\",P_14号様式!K76)","v":""},{"$f":"IF(P_14号様式!L76=\"\",\"\",P_14号様式!L76)","v":""},{"$f":"IF(P_14号様式!M76=\"\",\"\",P_14号様式!M76)","v":""},{"$f":"IF(P_14号様式!N76=\"\",\"\",P_14号様式!N76)","v":""},null,null,{"$f":"IF(P_14号様式!O76=\"\",\"\",P_14号様式!O76)","v":""},null,null,{"$f":"IF(P_14号様式!P76=\"\",\"\",P_14号様式!P76)","v":""},{"$f":"IF(P_14号様式!Q76=\"\",\"\",P_14号様式!Q76)","v":""},{"$f":"IF(P_14号様式!R76=\"\",\"\",P_14号様式!R76)","v":""},{"$f":"IF(P_14号様式!S76=\"\",\"\",P_14号様式!S76)","v":""},{"$f":"IF(P_14号様式!T76=\"\",\"\",P_14号様式!T76)","v":""}]
[{"$f":"IF(P_14号様式!C77=\"\",\"\",P_14号様式!C77)","v":""},null,{"$f":"IF(P_14号様式!D77=\"\",\"\",P_14号様式!D77)","v":""},{"$f":"IF(P_14号様式!E77=\"\",\"\",P_14号様式!E77)","v":""},{"$f":"IF(P_14号様式!F77=\"\",\"\",P_14号様式!F77)","v":""},{"$f":"IF(P_14号様式!G77=\"\",\"\",P_14号様式!G77)","v":""},{"$f":"IF(P_14号様式!H77=\"\",\"\",P_14号様式!H77)","v":""},{"$f":"IF(P_14号様式!I77=\"\",\"\",P_14号様式!I77)","v":""},{"$f":"IF(P_14号様式!J77=\"\",\"\",P_14号様式!J77)","v":""},{"$f":"IF(P_14号様式!K77=\"\",\"\",P_14号様式!K77)","v":""},{"$f":"IF(P_14号様式!L77=\"\",\"\",P_14号様式!L77)","v":""},{"$f":"IF(P_14号様式!M77=\"\",\"\",P_14号様式!M77)","v":""},{"$f":"IF(P_14号様式!N77=\"\",\"\",P_14号様式!N77)","v":""},null,null,{"$f":"IF(P_14号様式!O77=\"\",\"\",P_14号様式!O77)","v":""},null,null,{"$f":"IF(P_14号様式!P77=\"\",\"\",P_14号様式!P77)","v":""},{"$f":"IF(P_14号様式!Q77=\"\",\"\",P_14号様式!Q77)","v":""},{"$f":"IF(P_14号様式!R77=\"\",\"\",P_14号様式!R77)","v":""},{"$f":"IF(P_14号様式!S77=\"\",\"\",P_14号様式!S77)","v":""},{"$f":"IF(P_14号様式!T77=\"\",\"\",P_14号様式!T77)","v":""}]
[{"$f":"IF(P_14号様式!C78=\"\",\"\",P_14号様式!C78)","v":""},null,{"$f":"IF(P_14号様式!D78=\"\",\"\",P_14号様式!D78)","v":""},{"$f":"IF(P_14号様式!E78=\"\",\"\",P_14号様式!E78)","v":""},{"$f":"IF(P_14号様式!F78=\"\",\"\",P_14号様式!F78)","v":""},{"$f":"IF(P_14号様式!G78=\"\",\"\",P_14号様式!G78)","v":""},{"$f":"IF(P_14号様式!H78=\"\",\"\",P_14号様式!H78)","v":""},{"$f":"IF(P_14号様式!I78=\"\",\"\",P_14号様式!I78)","v":""},{"$f":"IF(P_14号様式!J78=\"\",\"\",P_14号様式!J78)","v":""},{"$f":"IF(P_14号様式!K78=\"\",\"\",P_14号様式!K78)","v":""},{"$f":"IF(P_14号様式!L78=\"\",\"\",P_14号様式!L78)","v":""},{"$f":"IF(P_14号様式!M78=\"\",\"\",P_14号様式!M78)","v":""},{"$f":"IF(P_14号様式!N78=\"\",\"\",P_14号様式!N78)","v":""},null,null,{"$f":"IF(P_14号様式!O78=\"\",\"\",P_14号様式!O78)","v":""},null,null,{"$f":"IF(P_14号様式!P78=\"\",\"\",P_14号様式!P78)","v":""},{"$f":"IF(P_14号様式!Q78=\"\",\"\",P_14号様式!Q78)","v":""},{"$f":"IF(P_14号様式!R78=\"\",\"\",P_14号様式!R78)","v":""},{"$f":"IF(P_14号様式!S78=\"\",\"\",P_14号様式!S78)","v":""},{"$f":"IF(P_14号様式!T78=\"\",\"\",P_14号様式!T78)","v":""}]
[{"$f":"IF(P_14号様式!C79=\"\",\"\",P_14号様式!C79)","v":""},null,{"$f":"IF(P_14号様式!D79=\"\",\"\",P_14号様式!D79)","v":""},{"$f":"IF(P_14号様式!E79=\"\",\"\",P_14号様式!E79)","v":""},{"$f":"IF(P_14号様式!F79=\"\",\"\",P_14号様式!F79)","v":""},{"$f":"IF(P_14号様式!G79=\"\",\"\",P_14号様式!G79)","v":""},{"$f":"IF(P_14号様式!H79=\"\",\"\",P_14号様式!H79)","v":""},{"$f":"IF(P_14号様式!I79=\"\",\"\",P_14号様式!I79)","v":""},{"$f":"IF(P_14号様式!J79=\"\",\"\",P_14号様式!J79)","v":""},{"$f":"IF(P_14号様式!K79=\"\",\"\",P_14号様式!K79)","v":""},{"$f":"IF(P_14号様式!L79=\"\",\"\",P_14号様式!L79)","v":""},{"$f":"IF(P_14号様式!M79=\"\",\"\",P_14号様式!M79)","v":""},{"$f":"IF(P_14号様式!N79=\"\",\"\",P_14号様式!N79)","v":""},null,null,{"$f":"IF(P_14号様式!O79=\"\",\"\",P_14号様式!O79)","v":""},null,null,{"$f":"IF(P_14号様式!P79=\"\",\"\",P_14号様式!P79)","v":""},{"$f":"IF(P_14号様式!Q79=\"\",\"\",P_14号様式!Q79)","v":""},{"$f":"IF(P_14号様式!R79=\"\",\"\",P_14号様式!R79)","v":""},{"$f":"IF(P_14号様式!S79=\"\",\"\",P_14号様式!S79)","v":""},{"$f":"IF(P_14号様式!T79=\"\",\"\",P_14号様式!T79)","v":""}]
[{"$f":"IF(P_14号様式!C80=\"\",\"\",P_14号様式!C80)","v":""},null,{"$f":"IF(P_14号様式!D80=\"\",\"\",P_14号様式!D80)","v":""},{"$f":"IF(P_14号様式!E80=\"\",\"\",P_14号様式!E80)","v":""},{"$f":"IF(P_14号様式!F80=\"\",\"\",P_14号様式!F80)","v":""},{"$f":"IF(P_14号様式!G80=\"\",\"\",P_14号様式!G80)","v":""},{"$f":"IF(P_14号様式!H80=\"\",\"\",P_14号様式!H80)","v":""},{"$f":"IF(P_14号様式!I80=\"\",\"\",P_14号様式!I80)","v":""},{"$f":"IF(P_14号様式!J80=\"\",\"\",P_14号様式!J80)","v":""},{"$f":"IF(P_14号様式!K80=\"\",\"\",P_14号様式!K80)","v":""},{"$f":"IF(P_14号様式!L80=\"\",\"\",P_14号様式!L80)","v":""},{"$f":"IF(P_14号様式!M80=\"\",\"\",P_14号様式!M80)","v":""},{"$f":"IF(P_14号様式!N80=\"\",\"\",P_14号様式!N80)","v":""},null,null,{"$f":"IF(P_14号様式!O80=\"\",\"\",P_14号様式!O80)","v":""},null,null,{"$f":"IF(P_14号様式!P80=\"\",\"\",P_14号様式!P80)","v":""},{"$f":"IF(P_14号様式!Q80=\"\",\"\",P_14号様式!Q80)","v":""},{"$f":"IF(P_14号様式!R80=\"\",\"\",P_14号様式!R80)","v":""},{"$f":"IF(P_14号様式!S80=\"\",\"\",P_14号様式!S80)","v":""},{"$f":"IF(P_14号様式!T80=\"\",\"\",P_14号様式!T80)","v":""}]
[{"$f":"IF(P_14号様式!C81=\"\",\"\",P_14号様式!C81)","v":""},null,{"$f":"IF(P_14号様式!D81=\"\",\"\",P_14号様式!D81)","v":""},{"$f":"IF(P_14号様式!E81=\"\",\"\",P_14号様式!E81)","v":""},{"$f":"IF(P_14号様式!F81=\"\",\"\",P_14号様式!F81)","v":""},{"$f":"IF(P_14号様式!G81=\"\",\"\",P_14号様式!G81)","v":""},{"$f":"IF(P_14号様式!H81=\"\",\"\",P_14号様式!H81)","v":""},{"$f":"IF(P_14号様式!I81=\"\",\"\",P_14号様式!I81)","v":""},{"$f":"IF(P_14号様式!J81=\"\",\"\",P_14号様式!J81)","v":""},{"$f":"IF(P_14号様式!K81=\"\",\"\",P_14号様式!K81)","v":""},{"$f":"IF(P_14号様式!L81=\"\",\"\",P_14号様式!L81)","v":""},{"$f":"IF(P_14号様式!M81=\"\",\"\",P_14号様式!M81)","v":""},{"$f":"IF(P_14号様式!N81=\"\",\"\",P_14号様式!N81)","v":""},null,null,{"$f":"IF(P_14号様式!O81=\"\",\"\",P_14号様式!O81)","v":""},null,null,{"$f":"IF(P_14号様式!P81=\"\",\"\",P_14号様式!P81)","v":""},{"$f":"IF(P_14号様式!Q81=\"\",\"\",P_14号様式!Q81)","v":""},{"$f":"IF(P_14号様式!R81=\"\",\"\",P_14号様式!R81)","v":""},{"$f":"IF(P_14号様式!S81=\"\",\"\",P_14号様式!S81)","v":""},{"$f":"IF(P_14号様式!T81=\"\",\"\",P_14号様式!T81)","v":""}]
[{"$f":"IF(P_14号様式!C82=\"\",\"\",P_14号様式!C82)","v":""},null,{"$f":"IF(P_14号様式!D82=\"\",\"\",P_14号様式!D82)","v":""},{"$f":"IF(P_14号様式!E82=\"\",\"\",P_14号様式!E82)","v":""},{"$f":"IF(P_14号様式!F82=\"\",\"\",P_14号様式!F82)","v":""},{"$f":"IF(P_14号様式!G82=\"\",\"\",P_14号様式!G82)","v":""},{"$f":"IF(P_14号様式!H82=\"\",\"\",P_14号様式!H82)","v":""},{"$f":"IF(P_14号様式!I82=\"\",\"\",P_14号様式!I82)","v":""},{"$f":"IF(P_14号様式!J82=\"\",\"\",P_14号様式!J82)","v":""},{"$f":"IF(P_14号様式!K82=\"\",\"\",P_14号様式!K82)","v":""},{"$f":"IF(P_14号様式!L82=\"\",\"\",P_14号様式!L82)","v":""},{"$f":"IF(P_14号様式!M82=\"\",\"\",P_14号様式!M82)","v":""},{"$f":"IF(P_14号様式!N82=\"\",\"\",P_14号様式!N82)","v":""},null,null,{"$f":"IF(P_14号様式!O82=\"\",\"\",P_14号様式!O82)","v":""},null,null,{"$f":"IF(P_14号様式!P82=\"\",\"\",P_14号様式!P82)","v":""},{"$f":"IF(P_14号様式!Q82=\"\",\"\",P_14号様式!Q82)","v":""},{"$f":"IF(P_14号様式!R82=\"\",\"\",P_14号様式!R82)","v":""},{"$f":"IF(P_14号様式!S82=\"\",\"\",P_14号様式!S82)","v":""},{"$f":"IF(P_14号様式!T82=\"\",\"\",P_14号様式!T82)","v":""}]
[{"$f":"IF(P_14号様式!C83=\"\",\"\",P_14号様式!C83)","v":""},null,{"$f":"IF(P_14号様式!D83=\"\",\"\",P_14号様式!D83)","v":""},{"$f":"IF(P_14号様式!E83=\"\",\"\",P_14号様式!E83)","v":""},{"$f":"IF(P_14号様式!F83=\"\",\"\",P_14号様式!F83)","v":""},{"$f":"IF(P_14号様式!G83=\"\",\"\",P_14号様式!G83)","v":""},{"$f":"IF(P_14号様式!H83=\"\",\"\",P_14号様式!H83)","v":""},{"$f":"IF(P_14号様式!I83=\"\",\"\",P_14号様式!I83)","v":""},{"$f":"IF(P_14号様式!J83=\"\",\"\",P_14号様式!J83)","v":""},{"$f":"IF(P_14号様式!K83=\"\",\"\",P_14号様式!K83)","v":""},{"$f":"IF(P_14号様式!L83=\"\",\"\",P_14号様式!L83)","v":""},{"$f":"IF(P_14号様式!M83=\"\",\"\",P_14号様式!M83)","v":""},{"$f":"IF(P_14号様式!N83=\"\",\"\",P_14号様式!N83)","v":""},null,null,{"$f":"IF(P_14号様式!O83=\"\",\"\",P_14号様式!O83)","v":""},null,null,{"$f":"IF(P_14号様式!P83=\"\",\"\",P_14号様式!P83)","v":""},{"$f":"IF(P_14号様式!Q83=\"\",\"\",P_14号様式!Q83)","v":""},{"$f":"IF(P_14号様式!R83=\"\",\"\",P_14号様式!R83)","v":""},{"$f":"IF(P_14号様式!S83=\"\",\"\",P_14号様式!S83)","v":""},{"$f":"IF(P_14号様式!T83=\"\",\"\",P_14号様式!T83)","v":""}]
[{"$f":"IF(P_14号様式!C84=\"\",\"\",P_14号様式!C84)","v":""},null,{"$f":"IF(P_14号様式!D84=\"\",\"\",P_14号様式!D84)","v":""},{"$f":"IF(P_14号様式!E84=\"\",\"\",P_14号様式!E84)","v":""},{"$f":"IF(P_14号様式!F84=\"\",\"\",P_14号様式!F84)","v":""},{"$f":"IF(P_14号様式!G84=\"\",\"\",P_14号様式!G84)","v":""},{"$f":"IF(P_14号様式!H84=\"\",\"\",P_14号様式!H84)","v":""},{"$f":"IF(P_14号様式!I84=\"\",\"\",P_14号様式!I84)","v":""},{"$f":"IF(P_14号様式!J84=\"\",\"\",P_14号様式!J84)","v":""},{"$f":"IF(P_14号様式!K84=\"\",\"\",P_14号様式!K84)","v":""},{"$f":"IF(P_14号様式!L84=\"\",\"\",P_14号様式!L84)","v":""},{"$f":"IF(P_14号様式!M84=\"\",\"\",P_14号様式!M84)","v":""},{"$f":"IF(P_14号様式!N84=\"\",\"\",P_14号様式!N84)","v":""},null,null,{"$f":"IF(P_14号様式!O84=\"\",\"\",P_14号様式!O84)","v":""},null,null,{"$f":"IF(P_14号様式!P84=\"\",\"\",P_14号様式!P84)","v":""},{"$f":"IF(P_14号様式!Q84=\"\",\"\",P_14号様式!Q84)","v":""},{"$f":"IF(P_14号様式!R84=\"\",\"\",P_14号様式!R84)","v":""},{"$f":"IF(P_14号様式!S84=\"\",\"\",P_14号様式!S84)","v":""},{"$f":"IF(P_14号様式!T84=\"\",\"\",P_14号様式!T84)","v":""}]
[{"$f":"IF(P_14号様式!C85=\"\",\"\",P_14号様式!C85)","v":""},null,{"$f":"IF(P_14号様式!D85=\"\",\"\",P_14号様式!D85)","v":""},{"$f":"IF(P_14号様式!E85=\"\",\"\",P_14号様式!E85)","v":""},{"$f":"IF(P_14号様式!F85=\"\",\"\",P_14号様式!F85)","v":""},{"$f":"IF(P_14号様式!G85=\"\",\"\",P_14号様式!G85)","v":""},{"$f":"IF(P_14号様式!H85=\"\",\"\",P_14号様式!H85)","v":""},{"$f":"IF(P_14号様式!I85=\"\",\"\",P_14号様式!I85)","v":""},{"$f":"IF(P_14号様式!J85=\"\",\"\",P_14号様式!J85)","v":""},{"$f":"IF(P_14号様式!K85=\"\",\"\",P_14号様式!K85)","v":""},{"$f":"IF(P_14号様式!L85=\"\",\"\",P_14号様式!L85)","v":""},{"$f":"IF(P_14号様式!M85=\"\",\"\",P_14号様式!M85)","v":""},{"$f":"IF(P_14号様式!N85=\"\",\"\",P_14号様式!N85)","v":""},null,null,{"$f":"IF(P_14号様式!O85=\"\",\"\",P_14号様式!O85)","v":""},null,null,{"$f":"IF(P_14号様式!P85=\"\",\"\",P_14号様式!P85)","v":""},{"$f":"IF(P_14号様式!Q85=\"\",\"\",P_14号様式!Q85)","v":""},{"$f":"IF(P_14号様式!R85=\"\",\"\",P_14号様式!R85)","v":""},{"$f":"IF(P_14号様式!S85=\"\",\"\",P_14号様式!S85)","v":""},{"$f":"IF(P_14号様式!T85=\"\",\"\",P_14号様式!T85)","v":""}]
[{"$f":"IF(P_14号様式!C86=\"\",\"\",P_14号様式!C86)","v":""},null,{"$f":"IF(P_14号様式!D86=\"\",\"\",P_14号様式!D86)","v":""},{"$f":"IF(P_14号様式!E86=\"\",\"\",P_14号様式!E86)","v":""},{"$f":"IF(P_14号様式!F86=\"\",\"\",P_14号様式!F86)","v":""},{"$f":"IF(P_14号様式!G86=\"\",\"\",P_14号様式!G86)","v":""},{"$f":"IF(P_14号様式!H86=\"\",\"\",P_14号様式!H86)","v":""},{"$f":"IF(P_14号様式!I86=\"\",\"\",P_14号様式!I86)","v":""},{"$f":"IF(P_14号様式!J86=\"\",\"\",P_14号様式!J86)","v":""},{"$f":"IF(P_14号様式!K86=\"\",\"\",P_14号様式!K86)","v":""},{"$f":"IF(P_14号様式!L86=\"\",\"\",P_14号様式!L86)","v":""},{"$f":"IF(P_14号様式!M86=\"\",\"\",P_14号様式!M86)","v":""},{"$f":"IF(P_14号様式!N86=\"\",\"\",P_14号様式!N86)","v":""},null,null,{"$f":"IF(P_14号様式!O86=\"\",\"\",P_14号様式!O86)","v":""},null,null,{"$f":"IF(P_14号様式!P86=\"\",\"\",P_14号様式!P86)","v":""},{"$f":"IF(P_14号様式!Q86=\"\",\"\",P_14号様式!Q86)","v":""},{"$f":"IF(P_14号様式!R86=\"\",\"\",P_14号様式!R86)","v":""},{"$f":"IF(P_14号様式!S86=\"\",\"\",P_14号様式!S86)","v":""},{"$f":"IF(P_14号様式!T86=\"\",\"\",P_14号様式!T86)","v":""}]
[{"$f":"IF(P_14号様式!C87=\"\",\"\",P_14号様式!C87)","v":""},null,{"$f":"IF(P_14号様式!D87=\"\",\"\",P_14号様式!D87)","v":""},{"$f":"IF(P_14号様式!E87=\"\",\"\",P_14号様式!E87)","v":""},{"$f":"IF(P_14号様式!F87=\"\",\"\",P_14号様式!F87)","v":""},{"$f":"IF(P_14号様式!G87=\"\",\"\",P_14号様式!G87)","v":""},{"$f":"IF(P_14号様式!H87=\"\",\"\",P_14号様式!H87)","v":""},{"$f":"IF(P_14号様式!I87=\"\",\"\",P_14号様式!I87)","v":""},{"$f":"IF(P_14号様式!J87=\"\",\"\",P_14号様式!J87)","v":""},{"$f":"IF(P_14号様式!K87=\"\",\"\",P_14号様式!K87)","v":""},{"$f":"IF(P_14号様式!L87=\"\",\"\",P_14号様式!L87)","v":""},{"$f":"IF(P_14号様式!M87=\"\",\"\",P_14号様式!M87)","v":""},{"$f":"IF(P_14号様式!N87=\"\",\"\",P_14号様式!N87)","v":""},null,null,{"$f":"IF(P_14号様式!O87=\"\",\"\",P_14号様式!O87)","v":""},null,null,{"$f":"IF(P_14号様式!P87=\"\",\"\",P_14号様式!P87)","v":""},{"$f":"IF(P_14号様式!Q87=\"\",\"\",P_14号様式!Q87)","v":""},{"$f":"IF(P_14号様式!R87=\"\",\"\",P_14号様式!R87)","v":""},{"$f":"IF(P_14号様式!S87=\"\",\"\",P_14号様式!S87)","v":""},{"$f":"IF(P_14号様式!T87=\"\",\"\",P_14号様式!T87)","v":""}]
[]
["市　計",null,{"$f":"IF(P_14号様式!U45=\"\",\"\",P_14号様式!U45)","v":543841},{"$f":"IF(P_14号様式!V45=\"\",\"\",P_14号様式!V45)","v":633934},{"$f":"IF(P_14号様式!W45=\"\",\"\",P_14号様式!W45)","v":1177775},{"$f":"IF(P_14号様式!X45=\"\",\"\",P_14号様式!X45)","v":141137},{"$f":"IF(P_14号様式!Y45=\"\",\"\",P_14号様式!Y45)","v":150981},{"$f":"IF(P_14号様式!Z45=\"\",\"\",P_14号様式!Z45)","v":292118},{"$f":"IF(P_14号様式!AA45=\"\",\"\",P_14号様式!AA45)","v":""},{"$f":"IF(P_14号様式!AB45=\"\",\"\",P_14号様式!AB45)","v":""},{"$f":"IF(P_14号様式!AC45=\"\",\"\",P_14号様式!AC45)","v":""},{"$f":"IF(P_14号様式!AD45=\"\",\"\",P_14号様式!AD45)","v":25.951886672759102},{"$f":"IF(P_14号様式!AE45=\"\",\"\",P_14号様式!AE45)","v":23.816517176866999},null,null,{"$f":"IF(P_14号様式!AF45=\"\",\"\",P_14号様式!AF45)","v":24.8025301946467},null,null,null,{"$f":"IF(P_14号様式!AG45=\"\",\"\",P_14号様式!AG45)","v":""},{"$f":"IF(P_14号様式!AH45=\"\",\"\",P_14号様式!AH45)","v":32.308276454043401},{"$f":"IF(P_14号様式!AI45=\"\",\"\",P_14号様式!AI45)","v":29.460694754395899},{"$f":"IF(P_14号様式!AJ45=\"\",\"\",P_14号様式!AJ45)","v":30.7704978144107}]
["町村計",null,{"$f":"IF(P_14号様式!AK45=\"\",\"\",P_14号様式!AK45)","v":71912},{"$f":"IF(P_14号様式!AL45=\"\",\"\",P_14号様式!AL45)","v":77813},{"$f":"IF(P_14号様式!AM45=\"\",\"\",P_14号様式!AM45)","v":149725},{"$f":"IF(P_14号様式!AN45=\"\",\"\",P_14号様式!AN45)","v":24260},{"$f":"IF(P_14号様式!AO45=\"\",\"\",P_14号様式!AO45)","v":23646},{"$f":"IF(P_14号様式!AP45=\"\",\"\",P_14号様式!AP45)","v":47906},{"$f":"IF(P_14号様式!AQ45=\"\",\"\",P_14号様式!AQ45)","v":""},{"$f":"IF(P_14号様式!AR45=\"\",\"\",P_14号様式!AR45)","v":""},{"$f":"IF(P_14号様式!AS45=\"\",\"\",P_14号様式!AS45)","v":""},{"$f":"IF(P_14号様式!AT45=\"\",\"\",P_14号様式!AT45)","v":33.735676938480402},{"$f":"IF(P_14号様式!AU45=\"\",\"\",P_14号様式!AU45)","v":30.388238469150401},null,null,{"$f":"IF(P_14号様式!AV45=\"\",\"\",P_14号様式!AV45)","v":31.995992653197501},null,null,null,{"$f":"IF(P_14号様式!AW45=\"\",\"\",P_14号様式!AW45)","v":""},{"$f":"IF(P_14号様式!AX45=\"\",\"\",P_14号様式!AX45)","v":39.280353949961501},{"$f":"IF(P_14号様式!AY45=\"\",\"\",P_14号様式!AY45)","v":35.485979087452499},{"$f":"IF(P_14号様式!AZ45=\"\",\"\",P_14号様式!AZ45)","v":37.294207648913698}]
["県計",null,{"$f":"IF(P_14号様式!BA45=\"\",\"\",P_14号様式!BA45)","v":615753},{"$f":"IF(P_14号様式!BB45=\"\",\"\",P_14号様式!BB45)","v":711747},{"$f":"IF(P_14号様式!BC45=\"\",\"\",P_14号様式!BC45)","v":1327500},{"$f":"IF(P_14号様式!BD45=\"\",\"\",P_14号様式!BD45)","v":165397},{"$f":"IF(P_14号様式!BE45=\"\",\"\",P_14号様式!BE45)","v":174627},{"$f":"IF(P_14号様式!BF45=\"\",\"\",P_14号様式!BF45)","v":340024},{"$f":"IF(P_14号様式!BG45=\"\",\"\",P_14号様式!BG45)","v":""},{"$f":"IF(P_14号様式!BH45=\"\",\"\",P_14号様式!BH45)","v":""},{"$f":"IF(P_14号様式!BI45=\"\",\"\",P_14号様式!BI45)","v":""},{"$f":"IF(P_14号様式!BJ45=\"\",\"\",P_14号様式!BJ45)","v":26.8609328740583},{"$f":"IF(P_14号様式!BK45=\"\",\"\",P_14号様式!BK45)","v":24.534982233855601},null,null,{"$f":"IF(P_14号様式!BL45=\"\",\"\",P_14号様式!BL45)","v":25.613860640301301},null,null,null,{"$f":"IF(P_14号様式!BM45=\"\",\"\",P_14号様式!BM45)","v":""},{"$f":"IF(P_14号様式!BN45=\"\",\"\",P_14号様式!BN45)","v":33.153100438062403},{"$f":"IF(P_14号様式!BO45=\"\",\"\",P_14号様式!BO45)","v":30.1491191867411},{"$f":"IF(P_14号様式!BP45=\"\",\"\",P_14号様式!BP45)","v":31.536712829511099}]

{"sheet":"パラメタシート","index":1,"n_rows":1,"n_cols":2,"rows_kept":1,"cut":false,"hidden":false,"merged":[]}
["執行日","2020-07-12"]

{"sheet":"P_14号様式","index":2,"n_rows":87,"n_cols":71,"rows_kept":87,"cut":false,"hidden":false,"merged":[]}
["頁番号","行番号","市区町村名","当日有権者男","当日有権者女","当日有権者計","投票者男","投票者女","投票者計","棄権者男","棄権者女","棄権者計","投票率男","投票率女","投票率計","投票率順位","投票結了時刻","前回投票率男","前回投票率女","前回投票率計","市部有権者男","市部有権者女","市部有権者計","市部投票者男","市部投票者女","市部投票者計","市部棄権者男","市部棄権者女","市部棄権者計","市部投票率男","市部投票率女","市部投票率計","市部投票結了時刻","市部前回投票率男","市部前回投票率女","市部前回投票率計","郡部有権者男","郡部有権者女","郡部有権者計","郡部投票者男","郡部投票者女","郡部投票者計","郡部棄権者男","郡部棄権者女","郡部棄権者計","郡部投票率男","郡部投票率女","郡部投票率計","郡部投票結了時刻","郡部前回投票率男","郡部前回投票率女","郡部前回投票率計","県計有権者男","県計有権者女","県計有権者計","県計投票者男","県計投票者女","県計投票者計","県計棄権者男","県計棄権者女","県計棄権者計","県計投票率男","県計投票率女","県計投票率計","県計投票結了時刻","県計前回投票率男","県計前回投票率女","県計前回投票率計","選挙名","報告回数","投票時刻"]
[1,1,"　 鹿児島市",222199,266860,489059,55327,61995,117322,null,null,null,24.899752024086499,23.231282320317799,23.989334620158299,null,null,30.087224217547501,27.599873471894,28.7310540732474,543841,633934,1177775,141137,150981,292118,null,null,null,25.951886672759102,23.816517176866999,24.8025301946467,null,32.308276454043401,29.460694754395899,30.7704978144107,71912,77813,149725,24260,23646,47906,null,null,null,33.735676938480402,30.388238469150401,31.995992653197501,null,39.280353949961501,35.485979087452499,37.294207648913698,615753,711747,1327500,165397,174627,340024,null,null,null,26.8609328740583,24.534982233855601,25.613860640301301,null,33.153100438062403,30.1491191867411,31.536712829511099,"鹿児島県知事選挙",4,"16:00:00"]
[1,2,"　 鹿屋市",38319,43151,81470,8880,9166,18046,null,null,null,23.1738824082048,21.241686171815299,22.150484841045799,null,null,30.524666786512199,27.641505172335901,28.990662516674099,543841,633934,1177775,141137,150981,292118,null,null,null,25.951886672759102,23.816517176866999,24.8025301946467,null,32.308276454043401,29.460694754395899,30.7704978144107,71912,77813,149725,24260,23646,47906,null,null,null,33.735676938480402,30.388238469150401,31.995992653197501,null,39.280353949961501,35.485979087452499,37.294207648913698,615753,711747,1327500,165397,174627,340024,null,null,null,26.8609328740583,24.534982233855601,25.613860640301301,null,33.153100438062403,30.1491191867411,31.536712829511099,"鹿児島県知事選挙",4,"16:00:00"]
[1,3,"　 枕崎市",7991,9492,17483,2133,2262,4395,null,null,null,26.6925290952321,23.830594184576501,25.1387061717097,null,null,33.823529411764703,30.5870936438622,32.0499867056634,543841,633934,1177775,141137,150981,292118,null,null,null,25.951886672759102,23.816517176866999,24.8025301946467,null,32.308276454043401,29.460694754395899,30.7704978144107,71912,77813,149725,24260,23646,47906,null,null,null,33.735676938480402,30.388238469150401,31.995992653197501,null,39.280353949961501,35.485979087452499,37.294207648913698,615753,711747,1327500,165397,174627,340024,null,null,null,26.8609328740583,24.534982233855601,25.613860640301301,null,33.153100438062403,30.1491191867411,31.536712829511099,"鹿児島県知事選挙",4,"16:00:00"]
[1,4,"　 阿久根市",7953,9175,17128,2330,2517,4847,null,null,null,29.297120583427599,27.433242506812,28.298692199906601,null,null,35.789836744079103,33.0575256107171,34.318302387267899,543841,633934,1177775,141137,150981,292118,null,null,null,25.951886672759102,23.816517176866999,24.8025301946467,null,32.308276454043401,29.460694754395899,30.7704978144107,71912,77813,149725,24260,23646,47906,null,null,null,33.735676938480402,30.388238469150401,31.995992653197501,null,39.280353949961501,35.485979087452499,37.294207648913698,615753,711747,1327500,165397,174627,340024,null,null,null,26.8609328740583,24.534982233855601,25.613860640301301,null,33.153100438062403,30.1491191867411,31.536712829511099,"鹿児島県知事選挙",4,"16:00:00"]
[1,5,"　 出水市",20081,22975,43056,5241,5335,10576,null,null,null,26.099297843732899,23.220892274211099,24.563359345967999,null,null,33.458043826830597,30.5920227443766,31.9175711813749,543841,633934,1177775,141137,150981,292118,null,null,null,25.951886672759102,23.816517176866999,24.8025301946467,null,32.308276454043401,29.460694754395899,30.7704978144107,71912,77813,149725,24260,23646,47906,null,null,null,33.735676938480402,30.388238469150401,31.995992653197501,null,39.280353949961501,35.485979087452499,37.294207648913698,615753,711747,1327500,165397,174627,340024,null,null,null,26.8609328740583,24.534982233855601,25.613860640301301,null,33.153100438062403,30.1491191867411,31.536712829511099,"鹿児島県知事選挙",4,"16:00:00"]
[1,6,"　 指宿市",15350,18186,33536,4390,4566,8956,null,null,null,28.599348534202001,25.107225338172199,26.705629770992399,null,null,35.066938120797097,31.2039185357051,32.962588473205301,543841,633934,1177775,141137,150981,292118,null,null,null,25.951886672759102,23.816517176866999,24.8025301946467,null,32.308276454043401,29.460694754395899,30.7704978144107,71912,77813,149725,24260,23646,47906,null,null,null,33.735676938480402,30.388238469150401,31.995992653197501,null,39.280353949961501,35.485979087452499,37.294207648913698,615753,711747,1327500,165397,174627,340024,null,null,null,26.8609328740583,24.534982233855601,25.613860640301301,null,33.153100438062403,30.1491191867411,31.536712829511099,"鹿児島県知事選挙",4,"16:00:00"]
[1,7,"　 西之表市",5869,6556,12425,1877,1960,3837,null,null,null,31.9815982279775,29.896278218425898,30.881287726358099,null,null,39.210526315789501,36.6695303550974,37.852112676056301,543841,633934,1177775,141137,150981,292118,null,null,null,25.951886672759102,23.816517176866999,24.8025301946467,null,32.308276454043401,29.460694754395899,30.7704978144107,71912,77813,149725,24260,23646,47906,null,null,null,33.735676938480402,30.388238469150401,31.995992653197501,null,39.280353949961501,35.485979087452499,37.294207648913698,615753,711747,1327500,165397,174627,340024,null,null,null,26.8609328740583,24.534982233855601,25.613860640301301,null,33.153100438062403,30.1491191867411,31.536712829511099,"鹿児島県知事選挙",4,"16:00:00"]
[1,8,"　 垂水市",5798,6600,12398,1306,1312,2618,null,null,null,22.5250086236633,19.8787878787879,21.11630908211,null,null,28.3328030544066,23.716814159291999,25.845499229697001,543841,633934,1177775,141137,150981,292118,null,null,null,25.951886672759102,23.816517176866999,24.8025301946467,null,32.308276454043401,29.460694754395899,30.7704978144107,71912,77813,149725,24260,23646,47906,null,null,null,33.735676938480402,30.388238469150401,31.995992653197501,null,39.280353949961501,35.485979087452499,37.294207648913698,615753,711747,1327500,165397,174627,340024,null,null,null,26.8609328740583,24.534982233855601,25.613860640301301,null,33.153100438062403,30.1491191867411,31.536712829511099,"鹿児島県知事選挙",4,"16:00:00"]
[1,9,"　 薩摩川内市第１",34808,38623,73431,10230,10435,20665,null,null,null,29.389795449322001,27.017580198327401,28.142065340251399,null,null,34.7156161886588,32.3264976260228,33.449342096456803,543841,633934,1177775,141137,150981,292118,null,null,null,25.951886672759102,23.816517176866999,24.8025301946467,null,32.308276454043401,29.460694754395899,30.7704978144107,71912,77813,149725,24260,23646,47906,null,null,null,33.735676938480402,30.388238469150401,31.995992653197501,null,39.280353949961501,35.485979087452499,37.294207648913698,615753,711747,1327500,165397,174627,340024,null,null,null,26.8609328740583,24.534982233855601,25.613860640301301,null,33.153100438062403,30.1491191867411,31.536712829511099,"鹿児島県知事選挙",4,"16:00:00"]
[1,10,"　 薩摩川内市第２",950,978,1928,395,351,746,null,null,null,41.578947368421098,35.889570552147198,38.692946058091302,null,null,49.390815370196798,45.962732919254698,47.629899726526901,543841,633934,1177775,141137,150981,292118,null,null,null,25.951886672759102,23.816517176866999,24.8025301946467,null,32.308276454043401,29.460694754395899,30.7704978144107,71912,77813,149725,24260,23646,47906,null,null,null,33.735676938480402,30.388238469150401,31.995992653197501,null,39.280353949961501,35.485979087452499,37.294207648913698,615753,711747,1327500,165397,174627,340024,null,null,null,26.8609328740583,24.534982233855601,25.613860640301301,null,33.153100438062403,30.1491191867411,31.536712829511099,"鹿児島県知事選挙",4,"16:00:00"]
[1,11,"　 薩摩川内市第３",938,856,1794,315,281,596,null,null,null,33.582089552238799,32.827102803738299,33.221850613154999,null,null,39.528023598820099,41.871921182266,40.6988188976378,543841,633934,1177775,141137,150981,292118,null,null,null,25.951886672759102,23.816517176866999,24.8025301946467,null,32.308276454043401,29.460694754395899,30.7704978144107,71912,77813,149725,24260,23646,47906,null,null,null,33.735676938480402,30.388238469150401,31.995992653197501,null,39.280353949961501,35.485979087452499,37.294207648913698,615753,711747,1327500,165397,174627,340024,null,null,null,26.8609328740583,24.534982233855601,25.613860640301301,null,33.153100438062403,30.1491191867411,31.536712829511099,"鹿児島県知事選挙",4,"16:00:00"]
[1,12,"＊（薩摩川内市）計",36696,40457,77153,10940,11067,22007,null,null,null,29.8125136254633,27.354969473762299,28.5238422355579,null,null,35.2681812071515,32.9268292682927,34.030126816413897,543841,633934,1177775,141137,150981,292118,null,null,null,25.951886672759102,23.816517176866999,24.8025301946467,null,32.308276454043401,29.460694754395899,30.7704978144107,71912,77813,149725,24260,23646,47906,null,null,null,33.735676938480402,30.388238469150401,31.995992653197501,null,39.280353949961501,35.485979087452499,37.294207648913698,615753,711747,1327500,165397,174627,340024,null,null,null,26.8609328740583,24.534982233855601,25.613860640301301,null,33.153100438062403,30.1491191867411,31.536712829511099,"鹿児島県知事選挙",4,"16:00:00"]
[1,13,"　 日置市",18212,21114,39326,5529,5676,11205,null,null,null,30.359103887546699,26.882637112816099,28.492600315312998,null,null,36.998794486084201,33.690198889088002,35.214839504383697,543841,633934,1177775,141137,150981,292118,null,null,null,25.951886672759102,23.816517176866999,24.8025301946467,null,32.308276454043401,29.460694754395899,30.7704978144107,71912,77813,149725,24260,23646,47906,null,null,null,33.735676938480402,30.388238469150401,31.995992653197501,null,39.280353949961501,35.485979087452499,37.294207648913698,615753,711747,1327500,165397,174627,340024,null,null,null,26.8609328740583,24.534982233855601,25.613860640301301,null,33.153100438062403,30.1491191867411,31.536712829511099,"鹿児島県知事選挙",4,"16:00:00"]
[1,14,"　 曽於市",13922,15944,29866,3065,2983,6048,null,null,null,22.015515012210901,18.7092323130958,20.250452019018301,null,null,31.867325146823301,27.4745394209864,29.5021871726942,543841,633934,1177775,141137,150981,292118,null,null,null,25.951886672759102,23.816517176866999,24.8025301946467,null,32.308276454043401,29.460694754395899,30.7704978144107,71912,77813,149725,24260,23646,47906,null,null,null,33.735676938480402,30.388238469150401,31.995992653197501,null,39.280353949961501,35.485979087452499,37.294207648913698,615753,711747,1327500,165397,174627,340024,null,null,null,26.8609328740583,24.534982233855601,25.613860640301301,null,33.153100438062403,30.1491191867411,31.536712829511099,"鹿児島県知事選挙",4,"16:00:00"]
[1,15,"　 霧島市",47487,53047,100534,12082,12724,24806,null,null,null,25.442752753385101,23.9862763209984,24.674239560745601,null,null,31.855042016806699,29.697026022304801,30.710059171597599,543841,633934,1177775,141137,150981,292118,null,null,null,25.951886672759102,23.816517176866999,24.8025301946467,null,32.308276454043401,29.460694754395899,30.7704978144107,71912,77813,149725,24260,23646,47906,null,null,null,33.735676938480402,30.388238469150401,31.995992653197501,null,39.280353949961501,35.485979087452499,37.294207648913698,615753,711747,1327500,165397,174627,340024,null,null,null,26.8609328740583,24.534982233855601,25.613860640301301,null,33.153100438062403,30.1491191867411,31.536712829511099,"鹿児島県知事選挙",4,"16:00:00"]
[1,16,"　 いちき串木野市",10688,12413,23101,2635,2711,5346,null,null,null,24.6538173652695,21.840006444856201,23.1418553309381,null,null,30.608432663227202,27.667863417615202,29.026425019520801,543841,633934,1177775,141137,150981,292118,null,null,null,25.951886672759102,23.816517176866999,24.8025301946467,null,32.308276454043401,29.460694754395899,30.7704978144107,71912,77813,149725,24260,23646,47906,null,null,null,33.735676938480402,30.388238469150401,31.995992653197501,null,39.280353949961501,35.485979087452499,37.294207648913698,615753,711747,1327500,165397,174627,340024,null,null,null,26.8609328740583,24.534982233855601,25.613860640301301,null,33.153100438062403,30.1491191867411,31.536712829511099,"鹿児島県知事選挙",4,"16:00:00"]
[1,17,"　 南さつま市",12867,15235,28102,3511,3659,7170,null,null,null,27.286857853423498,24.017065966524498,25.5141982777027,null,null,36.682311528307402,32.668207811169196,34.488262286360303,543841,633934,1177775,141137,150981,292118,null,null,null,25.951886672759102,23.816517176866999,24.8025301946467,null,32.308276454043401,29.460694754395899,30.7704978144107,71912,77813,149725,24260,23646,47906,null,null,null,33.735676938480402,30.388238469150401,31.995992653197501,null,39.280353949961501,35.485979087452499,37.294207648913698,615753,711747,1327500,165397,174627,340024,null,null,null,26.8609328740583,24.534982233855601,25.613860640301301,null,33.153100438062403,30.1491191867411,31.536712829511099,"鹿児島県知事選挙",4,"16:00:00"]
[1,18,"　 志布志市",11964,13229,25193,2723,2618,5341,null,null,null,22.759946506185202,19.789855620228298,21.200333425951701,null,null,32.656287046550197,29.1871402498947,30.818989553514999,543841,633934,1177775,141137,150981,292118,null,null,null,25.951886672759102,23.816517176866999,24.8025301946467,null,32.308276454043401,29.460694754395899,30.7704978144107,71912,77813,149725,24260,23646,47906,null,null,null,33.735676938480402,30.388238469150401,31.995992653197501,null,39.280353949961501,35.485979087452499,37.294207648913698,615753,711747,1327500,165397,174627,340024,null,null,null,26.8609328740583,24.534982233855601,25.613860640301301,null,33.153100438062403,30.1491191867411,31.536712829511099,"鹿児島県知事選挙",4,"16:00:00"]
[1,19,"　 奄美市",16431,18341,34772,5076,5411,10487,null,null,null,30.892824538981198,29.502208167493599,30.159323593696101,null,null,33.998077847188902,31.111809703447602,32.456484020820497,543841,633934,1177775,141137,150981,292118,null,null,null,25.951886672759102,23.816517176866999,24.8025301946467,null,32.308276454043401,29.460694754395899,30.7704978144107,71912,77813,149725,24260,23646,47906,null,null,null,33.735676938480402,30.388238469150401,31.995992653197501,null,39.280353949961501,35.485979087452499,37.294207648913698,615753,711747,1327500,165397,174627,340024,null,null,null,26.8609328740583,24.534982233855601,25.613860640301301,null,33.153100438062403,30.1491191867411,31.536712829511099,"鹿児島県知事選挙",4,"16:00:00"]
[1,20,"　 南九州市",13402,15639,29041,3317,3273,6590,null,null,null,24.750037307864499,20.928448110493001,22.6920560586757,null,null,37.649098474341201,32.496298489783797,34.869829100782603,543841,633934,1177775,141137,150981,292118,null,null,null,25.951886672759102,23.816517176866999,24.8025301946467,null,32.308276454043401,29.460694754395899,30.7704978144107,71912,77813,149725,24260,23646,47906,null,null,null,33.735676938480402,30.388238469150401,31.995992653197501,null,39.280353949961501,35.485979087452499,37.294207648913698,615753,711747,1327500,165397,174627,340024,null,null,null,26.8609328740583,24.534982233855601,25.613860640301301,null,33.153100438062403,30.1491191867411,31.536712829511099,"鹿児島県知事選挙",4,"16:00:00"]
[1,21,"　 伊佐市",9872,11673,21545,3016,3330,6346,null,null,null,30.5510534846029,28.527370855821101,29.454629844511501,null,null,39.460227272727302,36.3909536612368,37.787641127294698,543841,633934,1177775,141137,150981,292118,null,null,null,25.951886672759102,23.816517176866999,24.8025301946467,null,32.308276454043401,29.460694754395899,30.7704978144107,71912,77813,149725,24260,23646,47906,null,null,null,33.735676938480402,30.388238469150401,31.995992653197501,null,39.280353949961501,35.485979087452499,37.294207648913698,615753,711747,1327500,165397,174627,340024,null,null,null,26.8609328740583,24.534982233855601,25.613860640301301,null,33.153100438062403,30.1491191867411,31.536712829511099,"鹿児島県知事選挙",4,"16:00:00"]
[1,22,"　 姶良市",28740,33847,62587,7759,8416,16175,null,null,null,26.997216423103701,24.864832924631401,25.844025117037098,null,null,33.785026889329203,30.9651315006545,32.253216109638601,543841,633934,1177775,141137,150981,292118,null,null,null,25.951886672759102,23.816517176866999,24.8025301946467,null,32.308276454043401,29.460694754395899,30.7704978144107,71912,77813,149725,24260,23646,47906,null,null,null,33.735676938480402,30.388238469150401,31.995992653197501,null,39.280353949961501,35.485979087452499,37.294207648913698,615753,711747,1327500,165397,174627,340024,null,null,null,26.8609328740583,24.534982233855601,25.613860640301301,null,33.153100438062403,30.1491191867411,31.536712829511099,"鹿児島県知事選挙",4,"16:00:00"]
[1,23,"　 三島村",119,135,254,0,0,0,null,null,null,0,0,0,null,null,0,0,0,543841,633934,1177775,141137,150981,292118,null,null,null,25.951886672759102,23.816517176866999,24.8025301946467,null,32.308276454043401,29.460694754395899,30.7704978144107,71912,77813,149725,24260,23646,47906,null,null,null,33.735676938480402,30.388238469150401,31.995992653197501,null,39.280353949961501,35.485979087452499,37.294207648913698,615753,711747,1327500,165397,174627,340024,null,null,null,26.8609328740583,24.534982233855601,25.613860640301301,null,33.153100438062403,30.1491191867411,31.536712829511099,"鹿児島県知事選挙",4,"16:00:00"]
[1,24,"　 十島村",244,238,482,0,0,0,null,null,null,0,0,0,null,null,0,0,0,543841,633934,1177775,141137,150981,292118,null,null,null,25.951886672759102,23.816517176866999,24.8025301946467,null,32.308276454043401,29.460694754395899,30.7704978144107,71912,77813,149725,24260,23646,47906,null,null,null,33.735676938480402,30.388238469150401,31.995992653197501,null,39.280353949961501,35.485979087452499,37.294207648913698,615753,711747,1327500,165397,174627,340024,null,null,null,26.8609328740583,24.534982233855601,25.613860640301301,null,33.153100438062403,30.1491191867411,31.536712829511099,"鹿児島県知事選挙",4,"16:00:00"]
[1,25,"＊（鹿児島郡）計",363,373,736,0,0,0,null,null,null,0,0,0,null,null,0,0,0,543841,633934,1177775,141137,150981,292118,null,null,null,25.951886672759102,23.816517176866999,24.8025301946467,null,32.308276454043401,29.460694754395899,30.7704978144107,71912,77813,149725,24260,23646,47906,null,null,null,33.735676938480402,30.388238469150401,31.995992653197501,null,39.280353949961501,35.485979087452499,37.294207648913698,615753,711747,1327500,165397,174627,340024,null,null,null,26.8609328740583,24.534982233855601,25.613860640301301,null,33.153100438062403,30.1491191867411,31.536712829511099,"鹿児島県知事選挙",4,"16:00:00"]
[1,26,"　 さつま町",8050,9362,17412,2622,2667,5289,null,null,null,32.571428571428598,28.487502670369601,30.375603032391499,null,null,41.091326823664602,36.980327551119302,38.861438183347403,543841,633934,1177775,141137,150981,292118,null,null,null,25.951886672759102,23.816517176866999,24.8025301946467,null,32.308276454043401,29.460694754395899,30.7704978144107,71912,77813,149725,24260,23646,47906,null,null,null,33.735676938480402,30.388238469150401,31.995992653197501,null,39.280353949961501,35.485979087452499,37.294207648913698,615753,711747,1327500,165397,174627,340024,null,null,null,26.8609328740583,24.534982233855601,25.613860640301301,null,33.153100438062403,30.1491191867411,31.536712829511099,"鹿児島県知事選挙",4,"16:00:00"]
[1,27,"＊（薩摩郡）計",8050,9362,17412,2622,2667,5289,null,null,null,32.571428571428598,28.487502670369601,30.375603032391499,null,null,41.091326823664602,36.980327551119302,38.861438183347403,543841,633934,1177775,141137,150981,292118,null,null,null,25.951886672759102,23.816517176866999,24.8025301946467,null,32.308276454043401,29.460694754395899,30.7704978144107,71912,77813,149725,24260,23646,47906,null,null,null,33.735676938480402,30.388238469150401,31.995992653197501,null,39.280353949961501,35.485979087452499,37.294207648913698,615753,711747,1327500,165397,174627,340024,null,null,null,26.8609328740583,24.534982233855601,25.613860640301301,null,33.153100438062403,30.1491191867411,31.536712829511099,"鹿児島県知事選挙",4,"16:00:00"]
[1,28,"　 長島町",4030,4387,8417,1779,1773,3552,null,null,null,44.143920595533501,40.414862092546201,42.200308898657497,null,null,47.422680412371101,44.041228258535497,45.658263305322102,543841,633934,1177775,141137,150981,292118,null,null,null,25.951886672759102,23.816517176866999,24.8025301946467,null,32.308276454043401,29.460694754395899,30.7704978144107,71912,77813,149725,24260,23646,47906,null,null,null,33.735676938480402,30.388238469150401,31.995992653197501,null,39.280353949961501,35.485979087452499,37.294207648913698,615753,711747,1327500,165397,174627,340024,null,null,null,26.8609328740583,24.534982233855601,25.613860640301301,null,33.153100438062403,30.1491191867411,31.536712829511099,"鹿児島県知事選挙",4,"16:00:00"]
[1,29,"＊（出水郡）計",4030,4387,8417,1779,1773,3552,null,null,null,44.143920595533501,40.414862092546201,42.200308898657497,null,null,47.422680412371101,44.041228258535497,45.658263305322102,543841,633934,1177775,141137,150981,292118,null,null,null,25.951886672759102,23.816517176866999,24.8025301946467,null,32.308276454043401,29.460694754395899,30.7704978144107,71912,77813,149725,24260,23646,47906,null,null,null,33.735676938480402,30.388238469150401,31.995992653197501,null,39.280353949961501,35.485979087452499,37.294207648913698,615753,711747,1327500,165397,174627,340024,null,null,null,26.8609328740583,24.534982233855601,25.613860640301301,null,33.153100438062403,30.1491191867411,31.536712829511099,"鹿児島県知事選挙",4,"16:00:00"]
[1,30,"　 湧水町",3576,4143,7719,1157,1167,2324,null,null,null,32.354586129753898,28.167994207096299,30.1075268817204,null,null,36.9706417251234,32.851827533377097,34.735091470658098,543841,633934,1177775,141137,150981,292118,null,null,null,25.951886672759102,23.816517176866999,24.8025301946467,null,32.308276454043401,29.460694754395899,30.7704978144107,71912,77813,149725,24260,23646,47906,null,null,null,33.735676938480402,30.388238469150401,31.995992653197501,null,39.280353949961501,35.485979087452499,37.294207648913698,615753,711747,1327500,165397,174627,340024,null,null,null,26.8609328740583,24.534982233855601,25.613860640301301,null,33.153100438062403,30.1491191867411,31.536712829511099,"鹿児島県知事選挙",4,"16:00:00"]
[1,31,"＊（姶良郡）計",3576,4143,7719,1157,1167,2324,null,null,null,32.354586129753898,28.167994207096299,30.1075268817204,null,null,36.9706417251234,32.851827533377097,34.735091470658098,543841,633934,1177775,141137,150981,292118,null,null,null,25.951886672759102,23.816517176866999,24.8025301946467,null,32.308276454043401,29.460694754395899,30.7704978144107,71912,77813,149725,24260,23646,47906,null,null,null,33.735676938480402,30.388238469150401,31.995992653197501,null,39.280353949961501,35.485979087452499,37.294207648913698,615753,711747,1327500,165397,174627,340024,null,null,null,26.8609328740583,24.534982233855601,25.613860640301301,null,33.153100438062403,30.1491191867411,31.536712829511099,"鹿児島県知事選挙",4,"16:00:00"]
[1,32,"　 大崎町",5076,5621,10697,1396,1392,2788,null,null,null,27.5019700551615,24.764276819071299,26.063382256707499,null,null,33.278777959628997,28.396896153211198,30.719972308757399,543841,633934,1177775,141137,150981,292118,null,null,null,25.951886672759102,23.816517176866999,24.8025301946467,null,32.308276454043401,29.460694754395899,30.7704978144107,71912,77813,149725,24260,23646,47906,null,null,null,33.735676938480402,30.388238469150401,31.995992653197501,null,39.280353949961501,35.485979087452499,37.294207648913698,615753,711747,1327500,165397,174627,340024,null,null,null,26.8609328740583,24.534982233855601,25.613860640301301,null,33.153100438062403,30.1491191867411,31.536712829511099,"鹿児島県知事選挙",4,"16:00:00"]
[1,33,"＊（曽於郡）計",5076,5621,10697,1396,1392,2788,null,null,null,27.5019700551615,24.764276819071299,26.063382256707499,null,null,33.278777959628997,28.396896153211198,30.719972308757399,543841,633934,1177775,141137,150981,292118,null,null,null,25.951886672759102,23.816517176866999,24.8025301946467,null,32.308276454043401,29.460694754395899,30.7704978144107,71912,77813,149725,24260,23646,47906,null,null,null,33.735676938480402,30.388238469150401,31.995992653197501,null,39.280353949961501,35.485979087452499,37.294207648913698,615753,711747,1327500,165397,174627,340024,null,null,null,26.8609328740583,24.534982233855601,25.613860640301301,null,33.153100438062403,30.1491191867411,31.536712829511099,"鹿児島県知事選挙",4,"16:00:00"]
[1,34,"　 東串良町",2451,2819,5270,649,628,1277,null,null,null,26.478988168094698,22.2774033345158,24.231499051233399,null,null,32.446808510638299,28.791429527954499,30.503648336002801,543841,633934,1177775,141137,150981,292118,null,null,null,25.951886672759102,23.816517176866999,24.8025301946467,null,32.308276454043401,29.460694754395899,30.7704978144107,71912,77813,149725,24260,23646,47906,null,null,null,33.735676938480402,30.388238469150401,31.995992653197501,null,39.280353949961501,35.485979087452499,37.294207648913698,615753,711747,1327500,165397,174627,340024,null,null,null,26.8609328740583,24.534982233855601,25.613860640301301,null,33.153100438062403,30.1491191867411,31.536712829511099,"鹿児島県知事選挙",4,"16:00:00"]
[1,35,"　 錦江町",2957,3285,6242,973,947,1920,null,null,null,32.90497125465,28.828006088280102,30.7593719961551,null,null,37.964955425760799,34.889962426194302,36.323255480727902,543841,633934,1177775,141137,150981,292118,null,null,null,25.951886672759102,23.816517176866999,24.8025301946467,null,32.308276454043401,29.460694754395899,30.7704978144107,71912,77813,149725,24260,23646,47906,null,null,null,33.735676938480402,30.388238469150401,31.995992653197501,null,39.280353949961501,35.485979087452499,37.294207648913698,615753,711747,1327500,165397,174627,340024,null,null,null,26.8609328740583,24.534982233855601,25.613860640301301,null,33.153100438062403,30.1491191867411,31.536712829511099,"鹿児島県知事選挙",4,"16:00:00"]
[1,36,"　 南大隅町",2896,3205,6101,1082,1190,2272,null,null,null,37.361878453038699,37.129485179407197,37.239796754630397,null,null,40.8568767463521,38.471922246220302,39.581227436823099,543841,633934,1177775,141137,150981,292118,null,null,null,25.951886672759102,23.816517176866999,24.8025301946467,null,32.308276454043401,29.460694754395899,30.7704978144107,71912,77813,149725,24260,23646,47906,null,null,null,33.735676938480402,30.388238469150401,31.995992653197501,null,39.280353949961501,35.485979087452499,37.294207648913698,615753,711747,1327500,165397,174627,340024,null,null,null,26.8609328740583,24.534982233855601,25.613860640301301,null,33.153100438062403,30.1491191867411,31.536712829511099,"鹿児島県知事選挙",4,"16:00:00"]
[1,37,"　 肝付町",5980,6611,12591,1810,1782,3592,null,null,null,30.267558528428101,26.955074875207998,28.528313874990101,null,null,37.188419259947402,32.635925671025497,34.778490236082803,543841,633934,1177775,141137,150981,292118,null,null,null,25.951886672759102,23.816517176866999,24.8025301946467,null,32.308276454043401,29.460694754395899,30.7704978144107,71912,77813,149725,24260,23646,47906,null,null,null,33.735676938480402,30.388238469150401,31.995992653197501,null,39.280353949961501,35.485979087452499,37.294207648913698,615753,711747,1327500,165397,174627,340024,null,null,null,26.8609328740583,24.534982233855601,25.613860640301301,null,33.153100438062403,30.1491191867411,31.536712829511099,"鹿児島県知事選挙",4,"16:00:00"]
[1,38,"＊（肝属郡）計",14284,15920,30204,4514,4547,9061,null,null,null,31.601792215065799,28.5615577889447,29.999337836048198,null,null,37.308062961773203,33.683972401312097,35.380635846843298,543841,633934,1177775,141137,150981,292118,null,null,null,25.951886672759102,23.816517176866999,24.8025301946467,null,32.308276454043401,29.460694754395899,30.7704978144107,71912,77813,149725,24260,23646,47906,null,null,null,33.735676938480402,30.388238469150401,31.995992653197501,null,39.280353949961501,35.485979087452499,37.294207648913698,615753,711747,1327500,165397,174627,340024,null,null,null,26.8609328740583,24.534982233855601,25.613860640301301,null,33.153100438062403,30.1491191867411,31.536712829511099,"鹿児島県知事選挙",4,"16:00:00"]
[1,39,"　 中種子町",3059,3455,6514,1198,1215,2413,null,null,null,39.163125204315101,35.166425470332896,37.043291372428598,null,null,46.6790813159528,42.927228127555203,44.681468582208701,543841,633934,1177775,141137,150981,292118,null,null,null,25.951886672759102,23.816517176866999,24.8025301946467,null,32.308276454043401,29.460694754395899,30.7704978144107,71912,77813,149725,24260,23646,47906,null,null,null,33.735676938480402,30.388238469150401,31.995992653197501,null,39.280353949961501,35.485979087452499,37.294207648913698,615753,711747,1327500,165397,174627,340024,null,null,null,26.8609328740583,24.534982233855601,25.613860640301301,null,33.153100438062403,30.1491191867411,31.536712829511099,"鹿児島県知事選挙",4,"16:00:00"]
[1,40,"　 南種子町",2303,2346,4649,950,961,1911,null,null,null,41.250542770299603,40.963341858482501,41.105614110561397,null,null,52.194092827004198,48.571428571428598,50.339855818743601,543841,633934,1177775,141137,150981,292118,null,null,null,25.951886672759102,23.816517176866999,24.8025301946467,null,32.308276454043401,29.460694754395899,30.7704978144107,71912,77813,149725,24260,23646,47906,null,null,null,33.735676938480402,30.388238469150401,31.995992653197501,null,39.280353949961501,35.485979087452499,37.294207648913698,615753,711747,1327500,165397,174627,340024,null,null,null,26.8609328740583,24.534982233855601,25.613860640301301,null,33.153100438062403,30.1491191867411,31.536712829511099,"鹿児島県知事選挙",4,"16:00:00"]
[1,41,"　 屋久島町",4869,5045,9914,1910,2001,3911,null,null,null,39.227767508728697,39.663032705649201,39.449263667540897,null,null,44.1820929353986,45.345889170590397,44.776257396449701,543841,633934,1177775,141137,150981,292118,null,null,null,25.951886672759102,23.816517176866999,24.8025301946467,null,32.308276454043401,29.460694754395899,30.7704978144107,71912,77813,149725,24260,23646,47906,null,null,null,33.735676938480402,30.388238469150401,31.995992653197501,null,39.280353949961501,35.485979087452499,37.294207648913698,615753,711747,1327500,165397,174627,340024,null,null,null,26.8609328740583,24.534982233855601,25.613860640301301,null,33.153100438062403,30.1491191867411,31.536712829511099,"鹿児島県知事選挙",4,"16:00:00"]
[1,42,"＊（熊毛郡）計",10231,10846,21077,4058,4177,8235,null,null,null,39.663766982699599,38.511893785727501,39.071025288228903,null,null,46.665441851919901,45.272353545734802,45.944508465561597,543841,633934,1177775,141137,150981,292118,null,null,null,25.951886672759102,23.816517176866999,24.8025301946467,null,32.308276454043401,29.460694754395899,30.7704978144107,71912,77813,149725,24260,23646,47906,null,null,null,33.735676938480402,30.388238469150401,31.995992653197501,null,39.280353949961501,35.485979087452499,37.294207648913698,615753,711747,1327500,165397,174627,340024,null,null,null,26.8609328740583,24.534982233855601,25.613860640301301,null,33.153100438062403,30.1491191867411,31.536712829511099,"鹿児島県知事選挙",4,"16:00:00"]
[1,43,"　 大和村",599,649,1248,274,312,586,null,null,null,45.7429048414023,48.073959938366698,46.955128205128197,null,null,49.681528662420398,51.925820256775999,50.865312264860798,543841,633934,1177775,141137,150981,292118,null,null,null,25.951886672759102,23.816517176866999,24.8025301946467,null,32.308276454043401,29.460694754395899,30.7704978144107,71912,77813,149725,24260,23646,47906,null,null,null,33.735676938480402,30.388238469150401,31.995992653197501,null,39.280353949961501,35.485979087452499,37.294207648913698,615753,711747,1327500,165397,174627,340024,null,null,null,26.8609328740583,24.534982233855601,25.613860640301301,null,33.153100438062403,30.1491191867411,31.536712829511099,"鹿児島県知事選挙",4,"16:00:00"]
[2,1,"　 宇検村",702,730,1432,233,217,450,null,null,null,33.190883190883198,29.7260273972603,31.4245810055866,null,null,34.072022160664801,25.907384230287899,29.7830374753452,543841,633934,1177775,141137,150981,292118,null,null,null,25.951886672759102,23.816517176866999,24.8025301946467,null,32.308276454043401,29.460694754395899,30.7704978144107,71912,77813,149725,24260,23646,47906,null,null,null,33.735676938480402,30.388238469150401,31.995992653197501,null,39.280353949961501,35.485979087452499,37.294207648913698,615753,711747,1327500,165397,174627,340024,null,null,null,26.8609328740583,24.534982233855601,25.613860640301301,null,33.153100438062403,30.1491191867411,31.536712829511099,"鹿児島県知事選挙",4,"16:00:00"]
[2,2,"　 瀬戸内町",3593,3835,7428,1063,935,1998,null,null,null,29.5853047592541,24.380704041721,26.898222940226201,null,null,35.413839891451801,30.614250614250601,32.8949065119278,543841,633934,1177775,141137,150981,292118,null,null,null,25.951886672759102,23.816517176866999,24.8025301946467,null,32.308276454043401,29.460694754395899,30.7704978144107,71912,77813,149725,24260,23646,47906,null,null,null,33.735676938480402,30.388238469150401,31.995992653197501,null,39.280353949961501,35.485979087452499,37.294207648913698,615753,711747,1327500,165397,174627,340024,null,null,null,26.8609328740583,24.534982233855601,25.613860640301301,null,33.153100438062403,30.1491191867411,31.536712829511099,"鹿児島県知事選挙",4,"16:00:00"]
[2,3,"　 龍郷町",2275,2525,4800,801,850,1651,null,null,null,35.208791208791197,33.6633663366337,34.3958333333333,null,null,37.347826086956502,37.8551420568227,37.612002500520902,543841,633934,1177775,141137,150981,292118,null,null,null,25.951886672759102,23.816517176866999,24.8025301946467,null,32.308276454043401,29.460694754395899,30.7704978144107,71912,77813,149725,24260,23646,47906,null,null,null,33.735676938480402,30.388238469150401,31.995992653197501,null,39.280353949961501,35.485979087452499,37.294207648913698,615753,711747,1327500,165397,174627,340024,null,null,null,26.8609328740583,24.534982233855601,25.613860640301301,null,33.153100438062403,30.1491191867411,31.536712829511099,"鹿児島県知事選挙",4,"16:00:00"]
[2,4,"　 喜界町",2818,2950,5768,705,618,1323,null,null,null,25.017743080198699,20.9491525423729,22.9368932038835,null,null,31.372549019607799,25.166402535657699,28.1694748895796,543841,633934,1177775,141137,150981,292118,null,null,null,25.951886672759102,23.816517176866999,24.8025301946467,null,32.308276454043401,29.460694754395899,30.7704978144107,71912,77813,149725,24260,23646,47906,null,null,null,33.735676938480402,30.388238469150401,31.995992653197501,null,39.280353949961501,35.485979087452499,37.294207648913698,615753,711747,1327500,165397,174627,340024,null,null,null,26.8609328740583,24.534982233855601,25.613860640301301,null,33.153100438062403,30.1491191867411,31.536712829511099,"鹿児島県知事選挙",4,"16:00:00"]
[2,5,"　 徳之島町",4198,4394,8592,1229,1053,2282,null,null,null,29.275845640781299,23.964497041420099,26.559590316573601,null,null,31.107602075344001,25.8506312861117,28.409839666154198,543841,633934,1177775,141137,150981,292118,null,null,null,25.951886672759102,23.816517176866999,24.8025301946467,null,32.308276454043401,29.460694754395899,30.7704978144107,71912,77813,149725,24260,23646,47906,null,null,null,33.735676938480402,30.388238469150401,31.995992653197501,null,39.280353949961501,35.485979087452499,37.294207648913698,615753,711747,1327500,165397,174627,340024,null,null,null,26.8609328740583,24.534982233855601,25.613860640301301,null,33.153100438062403,30.1491191867411,31.536712829511099,"鹿児島県知事選挙",4,"16:00:00"]
[2,6,"　 天城町",2422,2356,4778,996,959,1955,null,null,null,41.123038810900098,40.704584040747001,40.916701548765197,null,null,44.142746314972797,43.039489429597097,43.598820058996999,543841,633934,1177775,141137,150981,292118,null,null,null,25.951886672759102,23.816517176866999,24.8025301946467,null,32.308276454043401,29.460694754395899,30.7704978144107,71912,77813,149725,24260,23646,47906,null,null,null,33.735676938480402,30.388238469150401,31.995992653197501,null,39.280353949961501,35.485979087452499,37.294207648913698,615753,711747,1327500,165397,174627,340024,null,null,null,26.8609328740583,24.534982233855601,25.613860640301301,null,33.153100438062403,30.1491191867411,31.536712829511099,"鹿児島県知事選挙",4,"16:00:00"]
[2,7,"　 伊仙町",2686,2588,5274,1074,945,2019,null,null,null,39.985107967237496,36.514683153013898,38.282138794084197,null,null,39.064697609001399,34.825519915403603,36.9477204717479,543841,633934,1177775,141137,150981,292118,null,null,null,25.951886672759102,23.816517176866999,24.8025301946467,null,32.308276454043401,29.460694754395899,30.7704978144107,71912,77813,149725,24260,23646,47906,null,null,null,33.735676938480402,30.388238469150401,31.995992653197501,null,39.280353949961501,35.485979087452499,37.294207648913698,615753,711747,1327500,165397,174627,340024,null,null,null,26.8609328740583,24.534982233855601,25.613860640301301,null,33.153100438062403,30.1491191867411,31.536712829511099,"鹿児島県知事選挙",4,"16:00:00"]
[2,8,"　 和泊町",2508,2610,5118,746,686,1432,null,null,null,29.7448165869219,26.283524904214602,27.979679562329,null,null,39.622641509433997,33.873290136789102,36.680176860722199,543841,633934,1177775,141137,150981,292118,null,null,null,25.951886672759102,23.816517176866999,24.8025301946467,null,32.308276454043401,29.460694754395899,30.7704978144107,71912,77813,149725,24260,23646,47906,null,null,null,33.735676938480402,30.388238469150401,31.995992653197501,null,39.280353949961501,35.485979087452499,37.294207648913698,615753,711747,1327500,165397,174627,340024,null,null,null,26.8609328740583,24.534982233855601,25.613860640301301,null,33.153100438062403,30.1491191867411,31.536712829511099,"鹿児島県知事選挙",4,"16:00:00"]
[2,9,"　 知名町",2434,2334,4768,864,712,1576,null,null,null,35.4971240755957,30.505569837189402,33.0536912751678,null,null,43.373967754620502,37.599049128367703,40.497335701598601,543841,633934,1177775,141137,150981,292118,null,null,null,25.951886672759102,23.816517176866999,24.8025301946467,null,32.308276454043401,29.460694754395899,30.7704978144107,71912,77813,149725,24260,23646,47906,null,null,null,33.735676938480402,30.388238469150401,31.995992653197501,null,39.280353949961501,35.485979087452499,37.294207648913698,615753,711747,1327500,165397,174627,340024,null,null,null,26.8609328740583,24.534982233855601,25.613860640301301,null,33.153100438062403,30.1491191867411,31.536712829511099,"鹿児島県知事選挙",4,"16:00:00"]
[2,10,"　 与論町",2067,2190,4257,749,636,1385,null,null,null,36.2360909530721,29.041095890411,32.534648813718597,null,null,43.735224586288403,35.830762450418703,39.644160583941598,543841,633934,1177775,141137,150981,292118,null,null,null,25.951886672759102,23.816517176866999,24.8025301946467,null,32.308276454043401,29.460694754395899,30.7704978144107,71912,77813,149725,24260,23646,47906,null,null,null,33.735676938480402,30.388238469150401,31.995992653197501,null,39.280353949961501,35.485979087452499,37.294207648913698,615753,711747,1327500,165397,174627,340024,null,null,null,26.8609328740583,24.534982233855601,25.613860640301301,null,33.153100438062403,30.1491191867411,31.536712829511099,"鹿児島県知事選挙",4,"16:00:00"]
[2,11,"＊（大島郡）計",26302,27161,53463,8734,7923,16657,null,null,null,33.206600258535502,29.170501822466001,31.156126667040802,null,null,37.718531468531502,33.093849784811901,35.350465628776597,543841,633934,1177775,141137,150981,292118,null,null,null,25.951886672759102,23.816517176866999,24.8025301946467,null,32.308276454043401,29.460694754395899,30.7704978144107,71912,77813,149725,24260,23646,47906,null,null,null,33.735676938480402,30.388238469150401,31.995992653197501,null,39.280353949961501,35.485979087452499,37.294207648913698,615753,711747,1327500,165397,174627,340024,null,null,null,26.8609328740583,24.534982233855601,25.613860640301301,null,33.153100438062403,30.1491191867411,31.536712829511099,"鹿児島県知事選挙",4,"16:00:00"]
[2,12,null,null,null,null,null,null,null,null,null,null,null,null,null,null,null,null,null,null,543841,633934,1177775,141137,150981,292118,null,null,null,25.951886672759102,23.816517176866999,24.8025301946467,null,32.308276454043401,29.460694754395899,30.7704978144107,71912,77813,149725,24260,23646,47906,null,null,null,33.735676938480402,30.388238469150401,31.995992653197501,null,39.280353949961501,35.485979087452499,37.294207648913698,615753,711747,1327500,165397,174627,340024,null,null,null,26.8609328740583,24.534982233855601,25.613860640301301,null,33.153100438062403,30.1491191867411,31.536712829511099,"鹿児島県知事選挙",4,"16:00:00"]
[2,13,null,null,null,null,null,null,null,null,null,null,null,null,null,null,null,null,null,null,543841,633934,1177775,141137,150981,292118,null,null,null,25.951886672759102,23.816517176866999,24.8025301946467,null,32.308276454043401,29.460694754395899,30.7704978144107,71912,77813,149725,24260,23646,47906,null,null,null,33.735676938480402,30.388238469150401,31.995992653197501,null,39.280353949961501,35.485979087452499,37.294207648913698,615753,711747,1327500,165397,174627,340024,null,null,null,26.8609328740583,24.534982233855601,25.613860640301301,null,33.153100438062403,30.1491191867411,31.536712829511099,"鹿児島県知事選挙",4,"16:00:00"]
[2,14,null,null,null,null,null,null,null,null,null,null,null,null,null,null,null,null,null,null,543841,633934,1177775,141137,150981,292118,null,null,null,25.951886672759102,23.816517176866999,24.8025301946467,null,32.308276454043401,29.460694754395899,30.7704978144107,71912,77813,149725,24260,23646,47906,null,null,null,33.735676938480402,30.388238469150401,31.995992653197501,null,39.280353949961501,35.485979087452499,37.294207648913698,615753,711747,1327500,165397,174627,340024,null,null,null,26.8609328740583,24.534982233855601,25.613860640301301,null,33.153100438062403,30.1491191867411,31.536712829511099,"鹿児島県知事選挙",4,"16:00:00"]
[2,15,null,null,null,null,null,null,null,null,null,null,null,null,null,null,null,null,null,null,543841,633934,1177775,141137,150981,292118,null,null,null,25.951886672759102,23.816517176866999,24.8025301946467,null,32.308276454043401,29.460694754395899,30.7704978144107,71912,77813,149725,24260,23646,47906,null,null,null,33.735676938480402,30.388238469150401,31.995992653197501,null,39.280353949961501,35.485979087452499,37.294207648913698,615753,711747,1327500,165397,174627,340024,null,null,null,26.8609328740583,24.534982233855601,25.613860640301301,null,33.153100438062403,30.1491191867411,31.536712829511099,"鹿児島県知事選挙",4,"16:00:00"]
[2,16,null,null,null,null,null,null,null,null,null,null,null,null,null,null,null,null,null,null,543841,633934,1177775,141137,150981,292118,null,null,null,25.951886672759102,23.816517176866999,24.8025301946467,null,32.308276454043401,29.460694754395899,30.7704978144107,71912,77813,149725,24260,23646,47906,null,null,null,33.735676938480402,30.388238469150401,31.995992653197501,null,39.280353949961501,35.485979087452499,37.294207648913698,615753,711747,1327500,165397,174627,340024,null,null,null,26.8609328740583,24.534982233855601,25.613860640301301,null,33.153100438062403,30.1491191867411,31.536712829511099,"鹿児島県知事選挙",4,"16:00:00"]
[2,17,null,null,null,null,null,null,null,null,null,null,null,null,null,null,null,null,null,null,543841,633934,1177775,141137,150981,292118,null,null,null,25.951886672759102,23.816517176866999,24.8025301946467,null,32.308276454043401,29.460694754395899,30.7704978144107,71912,77813,149725,24260,23646,47906,null,null,null,33.735676938480402,30.388238469150401,31.995992653197501,null,39.280353949961501,35.485979087452499,37.294207648913698,615753,711747,1327500,165397,174627,340024,null,null,null,26.8609328740583,24.534982233855601,25.613860640301301,null,33.153100438062403,30.1491191867411,31.536712829511099,"鹿児島県知事選挙",4,"16:00:00"]
[2,18,null,null,null,null,null,null,null,null,null,null,null,null,null,null,null,null,null,null,543841,633934,1177775,141137,150981,292118,null,null,null,25.951886672759102,23.816517176866999,24.8025301946467,null,32.308276454043401,29.460694754395899,30.7704978144107,71912,77813,149725,24260,23646,47906,null,null,null,33.735676938480402,30.388238469150401,31.995992653197501,null,39.280353949961501,35.485979087452499,37.294207648913698,615753,711747,1327500,165397,174627,340024,null,null,null,26.8609328740583,24.534982233855601,25.613860640301301,null,33.153100438062403,30.1491191867411,31.536712829511099,"鹿児島県知事選挙",4,"16:00:00"]
[2,19,null,null,null,null,null,null,null,null,null,null,null,null,null,null,null,null,null,null,543841,633934,1177775,141137,150981,292118,null,null,null,25.951886672759102,23.816517176866999,24.8025301946467,null,32.308276454043401,29.460694754395899,30.7704978144107,71912,77813,149725,24260,23646,47906,null,null,null,33.735676938480402,30.388238469150401,31.995992653197501,null,39.280353949961501,35.485979087452499,37.294207648913698,615753,711747,1327500,165397,174627,340024,null,null,null,26.8609328740583,24.534982233855601,25.613860640301301,null,33.153100438062403,30.1491191867411,31.536712829511099,"鹿児島県知事選挙",4,"16:00:00"]
[2,20,null,null,null,null,null,null,null,null,null,null,null,null,null,null,null,null,null,null,543841,633934,1177775,141137,150981,292118,null,null,null,25.951886672759102,23.816517176866999,24.8025301946467,null,32.308276454043401,29.460694754395899,30.7704978144107,71912,77813,149725,24260,23646,47906,null,null,null,33.735676938480402,30.388238469150401,31.995992653197501,null,39.280353949961501,35.485979087452499,37.294207648913698,615753,711747,1327500,165397,174627,340024,null,null,null,26.8609328740583,24.534982233855601,25.613860640301301,null,33.153100438062403,30.1491191867411,31.536712829511099,"鹿児島県知事選挙",4,"16:00:00"]
[2,21,null,null,null,null,null,null,null,null,null,null,null,null,null,null,null,null,null,null,543841,633934,1177775,141137,150981,292118,null,null,null,25.951886672759102,23.816517176866999,24.8025301946467,null,32.308276454043401,29.460694754395899,30.7704978144107,71912,77813,149725,24260,23646,47906,null,null,null,33.735676938480402,30.388238469150401,31.995992653197501,null,39.280353949961501,35.485979087452499,37.294207648913698,615753,711747,1327500,165397,174627,340024,null,null,null,26.8609328740583,24.534982233855601,25.613860640301301,null,33.153100438062403,30.1491191867411,31.536712829511099,"鹿児島県知事選挙",4,"16:00:00"]
[2,22,null,null,null,null,null,null,null,null,null,null,null,null,null,null,null,null,null,null,543841,633934,1177775,141137,150981,292118,null,null,null,25.951886672759102,23.816517176866999,24.8025301946467,null,32.308276454043401,29.460694754395899,30.7704978144107,71912,77813,149725,24260,23646,47906,null,null,null,33.735676938480402,30.388238469150401,31.995992653197501,null,39.280353949961501,35.485979087452499,37.294207648913698,615753,711747,1327500,165397,174627,340024,null,null,null,26.8609328740583,24.534982233855601,25.613860640301301,null,33.153100438062403,30.1491191867411,31.536712829511099,"鹿児島県知事選挙",4,"16:00:00"]
[2,23,null,null,null,null,null,null,null,null,null,null,null,null,null,null,null,null,null,null,543841,633934,1177775,141137,150981,292118,null,null,null,25.951886672759102,23.816517176866999,24.8025301946467,null,32.308276454043401,29.460694754395899,30.7704978144107,71912,77813,149725,24260,23646,47906,null,null,null,33.735676938480402,30.388238469150401,31.995992653197501,null,39.280353949961501,35.485979087452499,37.294207648913698,615753,711747,1327500,165397,174627,340024,null,null,null,26.8609328740583,24.534982233855601,25.613860640301301,null,33.153100438062403,30.1491191867411,31.536712829511099,"鹿児島県知事選挙",4,"16:00:00"]
[2,24,null,null,null,null,null,null,null,null,null,null,null,null,null,null,null,null,null,null,543841,633934,1177775,141137,150981,292118,null,null,null,25.951886672759102,23.816517176866999,24.8025301946467,null,32.308276454043401,29.460694754395899,30.7704978144107,71912,77813,149725,24260,23646,47906,null,null,null,33.735676938480402,30.388238469150401,31.995992653197501,null,39.280353949961501,35.485979087452499,37.294207648913698,615753,711747,1327500,165397,174627,340024,null,null,null,26.8609328740583,24.534982233855601,25.613860640301301,null,33.153100438062403,30.1491191867411,31.536712829511099,"鹿児島県知事選挙",4,"16:00:00"]
[2,25,null,null,null,null,null,null,null,null,null,null,null,null,null,null,null,null,null,null,543841,633934,1177775,141137,150981,292118,null,null,null,25.951886672759102,23.816517176866999,24.8025301946467,null,32.308276454043401,29.460694754395899,30.7704978144107,71912,77813,149725,24260,23646,47906,null,null,null,33.735676938480402,30.388238469150401,31.995992653197501,null,39.280353949961501,35.485979087452499,37.294207648913698,615753,711747,1327500,165397,174627,340024,null,null,null,26.8609328740583,24.534982233855601,25.613860640301301,null,33.153100438062403,30.1491191867411,31.536712829511099,"鹿児島県知事選挙",4,"16:00:00"]
[2,26,null,null,null,null,null,null,null,null,null,null,null,null,null,null,null,null,null,null,543841,633934,1177775,141137,150981,292118,null,null,null,25.951886672759102,23.816517176866999,24.8025301946467,null,32.308276454043401,29.460694754395899,30.7704978144107,71912,77813,149725,24260,23646,47906,null,null,null,33.735676938480402,30.388238469150401,31.995992653197501,null,39.280353949961501,35.485979087452499,37.294207648913698,615753,711747,1327500,165397,174627,340024,null,null,null,26.8609328740583,24.534982233855601,25.613860640301301,null,33.153100438062403,30.1491191867411,31.536712829511099,"鹿児島県知事選挙",4,"16:00:00"]
[2,27,null,null,null,null,null,null,null,null,null,null,null,null,null,null,null,null,null,null,543841,633934,1177775,141137,150981,292118,null,null,null,25.951886672759102,23.816517176866999,24.8025301946467,null,32.308276454043401,29.460694754395899,30.7704978144107,71912,77813,149725,24260,23646,47906,null,null,null,33.735676938480402,30.388238469150401,31.995992653197501,null,39.280353949961501,35.485979087452499,37.294207648913698,615753,711747,1327500,165397,174627,340024,null,null,null,26.8609328740583,24.534982233855601,25.613860640301301,null,33.153100438062403,30.1491191867411,31.536712829511099,"鹿児島県知事選挙",4,"16:00:00"]
[2,28,null,null,null,null,null,null,null,null,null,null,null,null,null,null,null,null,null,null,543841,633934,1177775,141137,150981,292118,null,null,null,25.951886672759102,23.816517176866999,24.8025301946467,null,32.308276454043401,29.460694754395899,30.7704978144107,71912,77813,149725,24260,23646,47906,null,null,null,33.735676938480402,30.388238469150401,31.995992653197501,null,39.280353949961501,35.485979087452499,37.294207648913698,615753,711747,1327500,165397,174627,340024,null,null,null,26.8609328740583,24.534982233855601,25.613860640301301,null,33.153100438062403,30.1491191867411,31.536712829511099,"鹿児島県知事選挙",4,"16:00:00"]
[2,29,null,null,null,null,null,null,null,null,null,null,null,null,null,null,null,null,null,null,543841,633934,1177775,141137,150981,292118,null,null,null,25.951886672759102,23.816517176866999,24.8025301946467,null,32.308276454043401,29.460694754395899,30.7704978144107,71912,77813,149725,24260,23646,47906,null,null,null,33.735676938480402,30.388238469150401,31.995992653197501,null,39.280353949961501,35.485979087452499,37.294207648913698,615753,711747,1327500,165397,174627,340024,null,null,null,26.8609328740583,24.534982233855601,25.613860640301301,null,33.153100438062403,30.1491191867411,31.536712829511099,"鹿児島県知事選挙",4,"16:00:00"]
[2,30,null,null,null,null,null,null,null,null,null,null,null,null,null,null,null,null,null,null,543841,633934,1177775,141137,150981,292118,null,null,null,25.951886672759102,23.816517176866999,24.8025301946467,null,32.308276454043401,29.460694754395899,30.7704978144107,71912,77813,149725,24260,23646,47906,null,null,null,33.735676938480402,30.388238469150401,31.995992653197501,null,39.280353949961501,35.485979087452499,37.294207648913698,615753,711747,1327500,165397,174627,340024,null,null,null,26.8609328740583,24.534982233855601,25.613860640301301,null,33.153100438062403,30.1491191867411,31.536712829511099,"鹿児島県知事選挙",4,"16:00:00"]
[2,31,null,null,null,null,null,null,null,null,null,null,null,null,null,null,null,null,null,null,543841,633934,1177775,141137,150981,292118,null,null,null,25.951886672759102,23.816517176866999,24.8025301946467,null,32.308276454043401,29.460694754395899,30.7704978144107,71912,77813,149725,24260,23646,47906,null,null,null,33.735676938480402,30.388238469150401,31.995992653197501,null,39.280353949961501,35.485979087452499,37.294207648913698,615753,711747,1327500,165397,174627,340024,null,null,null,26.8609328740583,24.534982233855601,25.613860640301301,null,33.153100438062403,30.1491191867411,31.536712829511099,"鹿児島県知事選挙",4,"16:00:00"]
[2,32,null,null,null,null,null,null,null,null,null,null,null,null,null,null,null,null,null,null,543841,633934,1177775,141137,150981,292118,null,null,null,25.951886672759102,23.816517176866999,24.8025301946467,null,32.308276454043401,29.460694754395899,30.7704978144107,71912,77813,149725,24260,23646,47906,null,null,null,33.735676938480402,30.388238469150401,31.995992653197501,null,39.280353949961501,35.485979087452499,37.294207648913698,615753,711747,1327500,165397,174627,340024,null,null,null,26.8609328740583,24.534982233855601,25.613860640301301,null,33.153100438062403,30.1491191867411,31.536712829511099,"鹿児島県知事選挙",4,"16:00:00"]
[2,33,null,null,null,null,null,null,null,null,null,null,null,null,null,null,null,null,null,null,543841,633934,1177775,141137,150981,292118,null,null,null,25.951886672759102,23.816517176866999,24.8025301946467,null,32.308276454043401,29.460694754395899,30.7704978144107,71912,77813,149725,24260,23646,47906,null,null,null,33.735676938480402,30.388238469150401,31.995992653197501,null,39.280353949961501,35.485979087452499,37.294207648913698,615753,711747,1327500,165397,174627,340024,null,null,null,26.8609328740583,24.534982233855601,25.613860640301301,null,33.153100438062403,30.1491191867411,31.536712829511099,"鹿児島県知事選挙",4,"16:00:00"]
[2,34,null,null,null,null,null,null,null,null,null,null,null,null,null,null,null,null,null,null,543841,633934,1177775,141137,150981,292118,null,null,null,25.951886672759102,23.816517176866999,24.8025301946467,null,32.308276454043401,29.460694754395899,30.7704978144107,71912,77813,149725,24260,23646,47906,null,null,null,33.735676938480402,30.388238469150401,31.995992653197501,null,39.280353949961501,35.485979087452499,37.294207648913698,615753,711747,1327500,165397,174627,340024,null,null,null,26.8609328740583,24.534982233855601,25.613860640301301,null,33.153100438062403,30.1491191867411,31.536712829511099,"鹿児島県知事選挙",4,"16:00:00"]
[2,35,null,null,null,null,null,null,null,null,null,null,null,null,null,null,null,null,null,null,543841,633934,1177775,141137,150981,292118,null,null,null,25.951886672759102,23.816517176866999,24.8025301946467,null,32.308276454043401,29.460694754395899,30.7704978144107,71912,77813,149725,24260,23646,47906,null,null,null,33.735676938480402,30.388238469150401,31.995992653197501,null,39.280353949961501,35.485979087452499,37.294207648913698,615753,711747,1327500,165397,174627,340024,null,null,null,26.8609328740583,24.534982233855601,25.613860640301301,null,33.153100438062403,30.1491191867411,31.536712829511099,"鹿児島県知事選挙",4,"16:00:00"]
[2,36,null,null,null,null,null,null,null,null,null,null,null,null,null,null,null,null,null,null,543841,633934,1177775,141137,150981,292118,null,null,null,25.951886672759102,23.816517176866999,24.8025301946467,null,32.308276454043401,29.460694754395899,30.7704978144107,71912,77813,149725,24260,23646,47906,null,null,null,33.735676938480402,30.388238469150401,31.995992653197501,null,39.280353949961501,35.485979087452499,37.294207648913698,615753,711747,1327500,165397,174627,340024,null,null,null,26.8609328740583,24.534982233855601,25.613860640301301,null,33.153100438062403,30.1491191867411,31.536712829511099,"鹿児島県知事選挙",4,"16:00:00"]
[2,37,null,null,null,null,null,null,null,null,null,null,null,null,null,null,null,null,null,null,543841,633934,1177775,141137,150981,292118,null,null,null,25.951886672759102,23.816517176866999,24.8025301946467,null,32.308276454043401,29.460694754395899,30.7704978144107,71912,77813,149725,24260,23646,47906,null,null,null,33.735676938480402,30.388238469150401,31.995992653197501,null,39.280353949961501,35.485979087452499,37.294207648913698,615753,711747,1327500,165397,174627,340024,null,null,null,26.8609328740583,24.534982233855601,25.613860640301301,null,33.153100438062403,30.1491191867411,31.536712829511099,"鹿児島県知事選挙",4,"16:00:00"]
[2,38,null,null,null,null,null,null,null,null,null,null,null,null,null,null,null,null,null,null,543841,633934,1177775,141137,150981,292118,null,null,null,25.951886672759102,23.816517176866999,24.8025301946467,null,32.308276454043401,29.460694754395899,30.7704978144107,71912,77813,149725,24260,23646,47906,null,null,null,33.735676938480402,30.388238469150401,31.995992653197501,null,39.280353949961501,35.485979087452499,37.294207648913698,615753,711747,1327500,165397,174627,340024,null,null,null,26.8609328740583,24.534982233855601,25.613860640301301,null,33.153100438062403,30.1491191867411,31.536712829511099,"鹿児島県知事選挙",4,"16:00:00"]
[2,39,null,null,null,null,null,null,null,null,null,null,null,null,null,null,null,null,null,null,543841,633934,1177775,141137,150981,292118,null,null,null,25.951886672759102,23.816517176866999,24.8025301946467,null,32.308276454043401,29.460694754395899,30.7704978144107,71912,77813,149725,24260,23646,47906,null,null,null,33.735676938480402,30.388238469150401,31.995992653197501,null,39.280353949961501,35.485979087452499,37.294207648913698,615753,711747,1327500,165397,174627,340024,null,null,null,26.8609328740583,24.534982233855601,25.613860640301301,null,33.153100438062403,30.1491191867411,31.536712829511099,"鹿児島県知事選挙",4,"16:00:00"]
[2,40,null,null,null,null,null,null,null,null,null,null,null,null,null,null,null,null,null,null,543841,633934,1177775,141137,150981,292118,null,null,null,25.951886672759102,23.816517176866999,24.8025301946467,null,32.308276454043401,29.460694754395899,30.7704978144107,71912,77813,149725,24260,23646,47906,null,null,null,33.735676938480402,30.388238469150401,31.995992653197501,null,39.280353949961501,35.485979087452499,37.294207648913698,615753,711747,1327500,165397,174627,340024,null,null,null,26.8609328740583,24.534982233855601,25.613860640301301,null,33.153100438062403,30.1491191867411,31.536712829511099,"鹿児島県知事選挙",4,"16:00:00"]
[2,41,null,null,null,null,null,null,null,null,null,null,null,null,null,null,null,null,null,null,543841,633934,1177775,141137,150981,292118,null,null,null,25.951886672759102,23.816517176866999,24.8025301946467,null,32.308276454043401,29.460694754395899,30.7704978144107,71912,77813,149725,24260,23646,47906,null,null,null,33.735676938480402,30.388238469150401,31.995992653197501,null,39.280353949961501,35.485979087452499,37.294207648913698,615753,711747,1327500,165397,174627,340024,null,null,null,26.8609328740583,24.534982233855601,25.613860640301301,null,33.153100438062403,30.1491191867411,31.536712829511099,"鹿児島県知事選挙",4,"16:00:00"]
[2,42,null,null,null,null,null,null,null,null,null,null,null,null,null,null,null,null,null,null,543841,633934,1177775,141137,150981,292118,null,null,null,25.951886672759102,23.816517176866999,24.8025301946467,null,32.308276454043401,29.460694754395899,30.7704978144107,71912,77813,149725,24260,23646,47906,null,null,null,33.735676938480402,30.388238469150401,31.995992653197501,null,39.280353949961501,35.485979087452499,37.294207648913698,615753,711747,1327500,165397,174627,340024,null,null,null,26.8609328740583,24.534982233855601,25.613860640301301,null,33.153100438062403,30.1491191867411,31.536712829511099,"鹿児島県知事選挙",4,"16:00:00"]
[2,43,null,null,null,null,null,null,null,null,null,null,null,null,null,null,null,null,null,null,543841,633934,1177775,141137,150981,292118,null,null,null,25.951886672759102,23.816517176866999,24.8025301946467,null,32.308276454043401,29.460694754395899,30.7704978144107,71912,77813,149725,24260,23646,47906,null,null,null,33.735676938480402,30.388238469150401,31.995992653197501,null,39.280353949961501,35.485979087452499,37.294207648913698,615753,711747,1327500,165397,174627,340024,null,null,null,26.8609328740583,24.534982233855601,25.613860640301301,null,33.153100438062403,30.1491191867411,31.536712829511099,"鹿児島県知事選挙",4,"16:00:00"]