{"text_format":"1","workbook":"xlsx","n_sheets":3,"sheets":["参比開票速報（参考　政党別特定枠候補者投票数）_203_","パラメタシート","P_20号3様式1"],"not_rendered":{"charts":0,"images":0,"macros":1,"external_links":0,"defined_names":2,"comments":0,"pivot_tables":0},"unopened":[],"bounds":{"document_bytes":16777216,"sheet_cells":100000,"rows_first":2000,"rows_last":500,"rows_between":2000,"halvings":0,"cell_chars":16384,"cell_head_chars":4096},"cells_cut":0,"cells_raw":0,"read":"whole","date_system":"1900"}

{"sheet":"参比開票速報（参考　政党別特定枠候補者投票数）_203_","index":0,"n_rows":324,"n_cols":19,"rows_kept":324,"cut":false,"hidden":false,"merged":[[272,11,272,14],[273,11,273,14],[275,7,275,8],[167,9,167,10],[167,11,167,12],[167,13,167,14],[167,1,167,2],[167,3,167,4],[167,5,167,6],[270,17,270,18],[271,17,271,18],[272,15,272,18],[273,15,273,18],[274,15,274,16],[274,17,274,18],[275,15,275,16],[275,17,275,18],[270,1,271,14],[272,0,272,2],[273,0,273,2],[275,3,275,4],[275,5,275,6],[274,0,275,0],[274,3,274,4],[274,5,274,6],[274,7,274,8],[113,3,113,4],[113,5,113,6],[112,13,112,14],[112,3,112,4],[112,5,112,6],[112,7,112,8],[216,17,216,18],[217,17,217,18],[218,15,218,18],[219,15,219,18],[220,15,220,16],[220,17,220,18],[221,15,221,16],[221,17,221,18],[216,1,217,14],[218,0,218,2],[219,0,219,2],[162,17,162,18],[163,17,163,18],[164,15,164,18],[165,15,165,18],[166,15,166,16],[166,17,166,18],[167,15,167,16],[167,17,167,18],[162,1,163,14],[164,0,164,2],[165,0,165,2],[221,1,221,2],[221,3,221,4],[221,5,221,6],[221,7,221,8],[59,5,59,6],[58,13,58,14],[2,11,2,14],[4,11,4,12],[4,0,5,0],[5,3,5,4],[108,17,108,18],[109,17,109,18],[110,15,110,18],[111,15,111,18],[112,15,112,16],[112,17,112,18],[113,15,113,16],[113,17,113,18],[108,1,109,14],[110,0,110,2],[111,0,111,2],[54,17,54,18],[55,17,55,18],[56,15,56,18],[57,15,57,18],[58,15,58,16],[58,17,58,18],[59,15,59,16],[59,17,59,18],[54,1,55,14],[56,0,56,2],[57,0,57,2],[110,11,110,14],[111,11,111,14],[113,13,113,14],[113,1,113,2],[274,9,274,10],[274,11,274,12],[274,13,274,14],[275,1,275,2],[0,17,0,18],[1,17,1,18],[2,15,2,18],[3,15,3,18],[4,15,4,16],[4,17,4,18],[5,15,5,16],[5,17,5,18],[0,1,1,14],[2,0,2,2],[3,0,3,2],[58,7,58,8],[58,9,58,10],[58,11,58,12],[56,11,56,14],[57,11,57,14],[58,0,59,0],[59,7,59,8],[58,1,58,2],[58,3,58,4],[58,5,58,6],[59,9,59,10],[59,11,59,12],[59,13,59,14],[59,1,59,2],[59,3,59,4],[5,5,5,6],[5,13,5,14],[3,11,3,14],[4,9,4,10],[5,9,5,10],[5,11,5,12],[5,7,5,8],[5,1,5,2],[4,1,4,2],[4,3,4,4],[4,7,4,8],[4,13,4,14],[4,5,4,6],[220,0,221,0],[164,11,164,14],[165,11,165,14],[221,9,221,10],[221,11,221,12],[221,13,221,14],[112,0,113,0],[220,7,220,8],[220,9,220,10],[220,11,220,12],[218,11,218,14],[219,11,219,14],[166,7,166,8],[112,9,112,10],[112,11,112,12],[166,1,166,2],[166,3,166,4],[166,5,166,6],[112,1,112,2],[166,0,167,0],[113,7,113,8],[113,9,113,10],[113,11,113,12],[220,13,220,14],[167,7,167,8],[166,9,166,10],[166,11,166,12],[166,13,166,14],[220,1,220,2],[220,3,220,4],[220,5,220,6],[275,9,275,10],[275,11,275,12],[275,13,275,14],[274,1,274,2]]}
["第20号の3様式","「政党等得票数」のうち、公選法第６８条の３の規定により政党等の有効投票とみなされた投票の状況",null,null,null,null,null,null,null,null,null,null,null,null,null,null,null,{"$f":"P_20号3様式1!A2","v":1}]
[null,null,null,null,null,null,null,null,null,null,null,null,null,null,null,null,null,"鹿 児 島 県"]
[{"$f":"IF(パラメタシート!B1=\"\",\"\",パラメタシート!B1)","v":"2019-07-21"},null,null,null,null,null,null,null,null,null,null,{"$f":"IF(P_20号3様式1!BY2=\"0\",\"即日 開票　　中間報告\",\"翌日 開票　　中間報告\")","v":"即日 開票　　中間報告"},null,null,null,{"$f":" IF(P_20号3様式1!BZ2=\"\",\"時　　    分        \",P_20号3様式1!BZ2)","v":"時　　    分        "}]
[{"$f":"IF(P_20号3様式1!BX2=\"\",\"\",\"     　　\"&P_20号3様式1!BX2)","v":"     　　参議院比例代表選出議員選挙"},null,null,null,null,null,null,null,null,null,null,"開票　　結了報告",null,null,null,{"$f":" IF(P_20号3様式1!CA2=\"\",\"時　　    分        \",P_20号3様式1!CA2)","v":"02:55:00"}]
["市 区 町 村 名",{"$f":"IF(P_20号3様式1!AB2=\"\",\"\",P_20号3様式1!AB2)","v":"自由民主党"},null,{"$f":"IF(P_20号3様式1!D2=\"\",\"\",P_20号3様式1!D2)","v":"01"},null,{"$f":"IF(P_20号3様式1!G2=\"\",\"\",P_20号3様式1!G2)","v":"02"},null,{"$f":"IF(P_20号3様式1!J2=\"\",\"\",P_20号3様式1!J2)","v":""},null,{"$f":"IF(P_20号3様式1!M2=\"\",\"\",P_20号3様式1!M2)","v":""},null,{"$f":"IF(P_20号3様式1!P2=\"\",\"\",P_20号3様式1!P2)","v":""},null,{"$f":"IF(P_20号3様式1!S2=\"\",\"\",P_20号3様式1!S2)","v":""},null,{"$f":"IF(P_20号3様式1!V2=\"\",\"\",P_20号3様式1!V2)","v":""},null,{"$f":"IF(P_20号3様式1!Y2=\"\",\"\",P_20号3様式1!Y2)","v":""}]
[null,"特定枠名簿登録者\nへの投票総数",null,{"$f":"IF(P_20号3様式1!E2=\"\",\"\",P_20号3様式1!E2)","v":"三木　とおる"},null,{"$f":"IF(P_20号3様式1!H2=\"\",\"\",P_20号3様式1!H2)","v":"三浦　靖"},null,{"$f":"IF(P_20号3様式1!K2=\"\",\"\",P_20号3様式1!K2)","v":""},null,{"$f":"IF(P_20号3様式1!N2=\"\",\"\",P_20号3様式1!N2)","v":""},null,{"$f":"IF(P_20号3様式1!Q2=\"\",\"\",P_20号3様式1!Q2)","v":""},null,{"$f":"IF(P_20号3様式1!T2=\"\",\"\",P_20号3様式1!T2)","v":""},null,{"$f":"IF(P_20号3様式1!W2=\"\",\"\",P_20号3様式1!W2)","v":""},null,{"$f":"IF(P_20号3様式1!Z2=\"\",\"\",P_20号3様式1!Z2)","v":""}]
[{"$f":"IF(P_20号3様式1!C2=\"\",\"\",P_20号3様式1!C2)","v":"鹿児島市"},{"$f":"IF(P_20号3様式1!AE2<> \"\",TEXT(INT(P_20号3様式1!AE2),\"#,##0\"),\"\")","v":"45"},{"$f":"IF(P_20号3様式1!AE2= \"\",\"\",IF(VALUE(FIXED(P_20号3様式1!AE2,0,TRUE))<>P_20号3様式1!AE2,RIGHT(FIXED(P_20号3様式1!AE2,3,FALSE),4),\"\"))","v":".000"},{"$f":"IF(P_20号3様式1!F2<> \"\",IF(P_20号3様式1!F2<> \"-\",TEXT(INT(P_20号3様式1!F2),\"#,##0\"),\"-\"),\"\")","v":"32"},{"$f":"IF(P_20号3様式1!F2<> \"\",IF(P_20号3様式1!F2<> \"-\",IF(VALUE(FIXED(P_20号3様式1!F2,0,TRUE))<>P_20号3様式1!F2,RIGHT(FIXED(P_20号3様式1!F2,3,FALSE),4),\"\"),\"\"),\"\")","v":".000"},{"$f":"IF(P_20号3様式1!I2<> \"\",IF(P_20号3様式1!I2<> \"-\",TEXT(INT(P_20号3様式1!I2),\"#,##0\"),\"-\"),\"\")","v":"13"},{"$f":"IF(P_20号3様式1!I2<> \"\",IF(P_20号3様式1!I2<> \"-\",IF(VALUE(FIXED(P_20号3様式1!I2,0,TRUE))<>P_20号3様式1!I2,RIGHT(FIXED(P_20号3様式1!I2,3,FALSE),4),\"\"),\"\"),\"\")","v":".000"},{"$f":"IF(P_20号3様式1!L2<> \"\",IF(P_20号3様式1!L2<> \"-\",TEXT(INT(P_20号3様式1!L2),\"#,##0\"),\"-\"),\"\")","v":""},{"$f":"IF(P_20号3様式1!L2<> \"\",IF(P_20号3様式1!L2<> \"-\",IF(VALUE(FIXED(P_20号3様式1!L2,0,TRUE))<>P_20号3様式1!L2,RIGHT(FIXED(P_20号3様式1!L2,3,FALSE),4),\"\"),\"\"),\"\")","v":""},{"$f":"IF(P_20号3様式1!O2<> \"\",IF(P_20号3様式1!O2<> \"-\",TEXT(INT(P_20号3様式1!O2),\"#,##0\"),\"-\"),\"\")","v":""},{"$f":"IF(P_20号3様式1!O2<> \"\",IF(P_20号3様式1!O2<> \"-\",IF(VALUE(FIXED(P_20号3様式1!O2,0,TRUE))<>P_20号3様式1!O2,RIGHT(FIXED(P_20号3様式1!O2,3,FALSE),4),\"\"),\"\"),\"\")","v":""},{"$f":"IF(P_20号3様式1!R2<> \"\",IF(P_20号3様式1!R2<> \"-\",TEXT(INT(P_20号3様式1!R2),\"#,##0\"),\"-\"),\"\")","v":""},{"$f":"IF(P_20号3様式1!R2<> \"\",IF(P_20号3様式1!R2<> \"-\",IF(VALUE(FIXED(P_20号3様式1!R2,0,TRUE))<>P_20号3様式1!R2,RIGHT(FIXED(P_20号3様式1!R2,3,FALSE),4),\"\"),\"\"),\"\")","v":""},{"$f":"IF(P_20号3様式1!U2<> \"\",IF(P_20号3様式1!U2<> \"-\",TEXT(INT(P_20号3様式1!U2),\"#,##0\"),\"-\"),\"\")","v":""},{"$f":"IF(P_20号3様式1!U2<> \"\",IF(P_20号3様式1!U2<> \"-\",IF(VALUE(FIXED(P_20号3様式1!U2,0,TRUE))<>P_20号3様式1!U2,RIGHT(FIXED(P_20号3様式1!U2,3,FALSE),4),\"\"),\"\"),\"\")","v":""},{"$f":"IF(P_20号3様式1!X2<> \"\",IF(P_20号3様式1!X2<> \"-\",TEXT(INT(P_20号3様式1!X2),\"#,##0\"),\"-\"),\"\")","v":""},{"$f":"IF(P_20号3様式1!X2<> \"\",IF(P_20号3様式1!X2<> \"-\",IF(VALUE(FIXED(P_20号3様式1!X2,0,TRUE))<>P_20号3様式1!X2,RIGHT(FIXED(P_20号3様式1!X2,3,FALSE),4),\"\"),\"\"),\"\")","v":""},{"$f":"IF(P_20号3様式1!AA2<> \"\",IF(P_20号3様式1!AA2<> \"-\",TEXT(INT(P_20号3様式1!AA2),\"#,##0\"),\"-\"),\"\")","v":""},{"$f":"IF(P_20号3様式1!AA2<> \"\",IF(P_20号3様式1!AA2<> \"-\",IF(VALUE(FIXED(P_20号3様式1!AA2,0,TRUE))<>P_20号3様式1!AA2,RIGHT(FIXED(P_20号3様式1!AA2,3,FALSE),4),\"\"),\"\"),\"\")","v":""}]
[{"$f":"IF(P_20号3様式1!C3=\"\",\"\",P_20号3様式1!C3)","v":"鹿屋市"},{"$f":"IF(P_20号3様式1!AE3<> \"\",TEXT(INT(P_20号3様式1!AE3),\"#,##0\"),\"\")","v":"18"},{"$f":"IF(P_20号3様式1!AE3= \"\",\"\",IF(VALUE(FIXED(P_20号3様式1!AE3,0,TRUE))<>P_20号3様式1!AE3,RIGHT(FIXED(P_20号3様式1!AE3,3,FALSE),4),\"\"))","v":".000"},{"$f":"IF(P_20号3様式1!F3<> \"\",IF(P_20号3様式1!F3<> \"-\",TEXT(INT(P_20号3様式1!F3),\"#,##0\"),\"-\"),\"\")","v":"17"},{"$f":"IF(P_20号3様式1!F3<> \"\",IF(P_20号3様式1!F3<> \"-\",IF(VALUE(FIXED(P_20号3様式1!F3,0,TRUE))<>P_20号3様式1!F3,RIGHT(FIXED(P_20号3様式1!F3,3,FALSE),4),\"\"),\"\"),\"\")","v":".000"},{"$f":"IF(P_20号3様式1!I3<> \"\",IF(P_20号3様式1!I3<> \"-\",TEXT(INT(P_20号3様式1!I3),\"#,##0\"),\"-\"),\"\")","v":"1"},{"$f":"IF(P_20号3様式1!I3<> \"\",IF(P_20号3様式1!I3<> \"-\",IF(VALUE(FIXED(P_20号3様式1!I3,0,TRUE))<>P_20号3様式1!I3,RIGHT(FIXED(P_20号3様式1!I3,3,FALSE),4),\"\"),\"\"),\"\")","v":".000"},{"$f":"IF(P_20号3様式1!L3<> \"\",IF(P_20号3様式1!L3<> \"-\",TEXT(INT(P_20号3様式1!L3),\"#,##0\"),\"-\"),\"\")","v":""},{"$f":"IF(P_20号3様式1!L3<> \"\",IF(P_20号3様式1!L3<> \"-\",IF(VALUE(FIXED(P_20号3様式1!L3,0,TRUE))<>P_20号3様式1!L3,RIGHT(FIXED(P_20号3様式1!L3,3,FALSE),4),\"\"),\"\"),\"\")","v":""},{"$f":"IF(P_20号3様式1!O3<> \"\",IF(P_20号3様式1!O3<> \"-\",TEXT(INT(P_20号3様式1!O3),\"#,##0\"),\"-\"),\"\")","v":""},{"$f":"IF(P_20号3様式1!O3<> \"\",IF(P_20号3様式1!O3<> \"-\",IF(VALUE(FIXED(P_20号3様式1!O3,0,TRUE))<>P_20号3様式1!O3,RIGHT(FIXED(P_20号3様式1!O3,3,FALSE),4),\"\"),\"\"),\"\")","v":""},{"$f":"IF(P_20号3様式1!R3<> \"\",IF(P_20号3様式1!R3<> \"-\",TEXT(INT(P_20号3様式1!R3),\"#,##0\"),\"-\"),\"\")","v":""},{"$f":"IF(P_20号3様式1!R3<> \"\",IF(P_20号3様式1!R3<> \"-\",IF(VALUE(FIXED(P_20号3様式1!R3,0,TRUE))<>P_20号3様式1!R3,RIGHT(FIXED(P_20号3様式1!R3,3,FALSE),4),\"\"),\"\"),\"\")","v":""},{"$f":"IF(P_20号3様式1!U3<> \"\",IF(P_20号3様式1!U3<> \"-\",TEXT(INT(P_20号3様式1!U3),\"#,##0\"),\"-\"),\"\")","v":""},{"$f":"IF(P_20号3様式1!U3<> \"\",IF(P_20号3様式1!U3<> \"-\",IF(VALUE(FIXED(P_20号3様式1!U3,0,TRUE))<>P_20号3様式1!U3,RIGHT(FIXED(P_20号3様式1!U3,3,FALSE),4),\"\"),\"\"),\"\")","v":""},{"$f":"IF(P_20号3様式1!X3<> \"\",IF(P_20号3様式1!X3<> \"-\",TEXT(INT(P_20号3様式1!X3),\"#,##0\"),\"-\"),\"\")","v":""},{"$f":"IF(P_20号3様式1!X3<> \"\",IF(P_20号3様式1!X3<> \"-\",IF(VALUE(FIXED(P_20号3様式1!X3,0,TRUE))<>P_20号3様式1!X3,RIGHT(FIXED(P_20号3様式1!X3,3,FALSE),4),\"\"),\"\"),\"\")","v":""},{"$f":"IF(P_20号3様式1!AA3<> \"\",IF(P_20号3様式1!AA3<> \"-\",TEXT(INT(P_20号3様式1!AA3),\"#,##0\"),\"-\"),\"\")","v":""},{"$f":"IF(P_20号3様式1!AA3<> \"\",IF(P_20号3様式1!AA3<> \"-\",IF(VALUE(FIXED(P_20号3様式1!AA3,0,TRUE))<>P_20号3様式1!AA3,RIGHT(FIXED(P_20号3様式1!AA3,3,FALSE),4),\"\"),\"\"),\"\")","v":""}]
[{"$f":"IF(P_20号3様式1!C4=\"\",\"\",P_20号3様式1!C4)","v":"枕崎市"},{"$f":"IF(P_20号3様式1!AE4<> \"\",TEXT(INT(P_20号3様式1!AE4),\"#,##0\"),\"\")","v":"1"},{"$f":"IF(P_20号3様式1!AE4= \"\",\"\",IF(VALUE(FIXED(P_20号3様式1!AE4,0,TRUE))<>P_20号3様式1!AE4,RIGHT(FIXED(P_20号3様式1!AE4,3,FALSE),4),\"\"))","v":".000"},{"$f":"IF(P_20号3様式1!F4<> \"\",IF(P_20号3様式1!F4<> \"-\",TEXT(INT(P_20号3様式1!F4),\"#,##0\"),\"-\"),\"\")","v":"0"},{"$f":"IF(P_20号3様式1!F4<> \"\",IF(P_20号3様式1!F4<> \"-\",IF(VALUE(FIXED(P_20号3様式1!F4,0,TRUE))<>P_20号3様式1!F4,RIGHT(FIXED(P_20号3様式1!F4,3,FALSE),4),\"\"),\"\"),\"\")","v":".000"},{"$f":"IF(P_20号3様式1!I4<> \"\",IF(P_20号3様式1!I4<> \"-\",TEXT(INT(P_20号3様式1!I4),\"#,##0\"),\"-\"),\"\")","v":"1"},{"$f":"IF(P_20号3様式1!I4<> \"\",IF(P_20号3様式1!I4<> \"-\",IF(VALUE(FIXED(P_20号3様式1!I4,0,TRUE))<>P_20号3様式1!I4,RIGHT(FIXED(P_20号3様式1!I4,3,FALSE),4),\"\"),\"\"),\"\")","v":".000"},{"$f":"IF(P_20号3様式1!L4<> \"\",IF(P_20号3様式1!L4<> \"-\",TEXT(INT(P_20号3様式1!L4),\"#,##0\"),\"-\"),\"\")","v":""},{"$f":"IF(P_20号3様式1!L4<> \"\",IF(P_20号3様式1!L4<> \"-\",IF(VALUE(FIXED(P_20号3様式1!L4,0,TRUE))<>P_20号3様式1!L4,RIGHT(FIXED(P_20号3様式1!L4,3,FALSE),4),\"\"),\"\"),\"\")","v":""},{"$f":"IF(P_20号3様式1!O4<> \"\",IF(P_20号3様式1!O4<> \"-\",TEXT(INT(P_20号3様式1!O4),\"#,##0\"),\"-\"),\"\")","v":""},{"$f":"IF(P_20号3様式1!O4<> \"\",IF(P_20号3様式1!O4<> \"-\",IF(VALUE(FIXED(P_20号3様式1!O4,0,TRUE))<>P_20号3様式1!O4,RIGHT(FIXED(P_20号3様式1!O4,3,FALSE),4),\"\"),\"\"),\"\")","v":""},{"$f":"IF(P_20号3様式1!R4<> \"\",IF(P_20号3様式1!R4<> \"-\",TEXT(INT(P_20号3様式1!R4),\"#,##0\"),\"-\"),\"\")","v":""},{"$f":"IF(P_20号3様式1!R4<> \"\",IF(P_20号3様式1!R4<> \"-\",IF(VALUE(FIXED(P_20号3様式1!R4,0,TRUE))<>P_20号3様式1!R4,RIGHT(FIXED(P_20号3様式1!R4,3,FALSE),4),\"\"),\"\"),\"\")","v":""},{"$f":"IF(P_20号3様式1!U4<> \"\",IF(P_20号3様式1!U4<> \"-\",TEXT(INT(P_20号3様式1!U4),\"#,##0\"),\"-\"),\"\")","v":""},{"$f":"IF(P_20号3様式1!U4<> \"\",IF(P_20号3様式1!U4<> \"-\",IF(VALUE(FIXED(P_20号3様式1!U4,0,TRUE))<>P_20号3様式1!U4,RIGHT(FIXED(P_20号3様式1!U4,3,FALSE),4),\"\"),\"\"),\"\")","v":""},{"$f":"IF(P_20号3様式1!X4<> \"\",IF(P_20号3様式1!X4<> \"-\",TEXT(INT(P_20号3様式1!X4),\"#,##0\"),\"-\"),\"\")","v":""},{"$f":"IF(P_20号3様式1!X4<> \"\",IF(P_20号3様式1!X4<> \"-\",IF(VALUE(FIXED(P_20号3様式1!X4,0,TRUE))<>P_20号3様式1!X4,RIGHT(FIXED(P_20号3様式1!X4,3,FALSE),4),\"\"),\"\"),\"\")","v":""},{"$f":"IF(P_20号3様式1!AA4<> \"\",IF(P_20号3様式1!AA4<> \"-\",TEXT(INT(P_20号3様式1!AA4),\"#,##0\"),\"-\"),\"\")","v":""},{"$f":"IF(P_20号3様式1!AA4<> \"\",IF(P_20号3様式1!AA4<> \"-\",IF(VALUE(FIXED(P_20号3様式1!AA4,0,TRUE))<>P_20号3様式1!AA4,RIGHT(FIXED(P_20号3様式1!AA4,3,FALSE),4),\"\"),\"\"),\"\")","v":""}]
[{"$f":"IF(P_20号3様式1!C5=\"\",\"\",P_20号3様式1!C5)","v":"阿久根市"},{"$f":"IF(P_20号3様式1!AE5<> \"\",TEXT(INT(P_20号3様式1!AE5),\"#,##0\"),\"\")","v":"2"},{"$f":"IF(P_20号3様式1!AE5= \"\",\"\",IF(VALUE(FIXED(P_20号3様式1!AE5,0,TRUE))<>P_20号3様式1!AE5,RIGHT(FIXED(P_20号3様式1!AE5,3,FALSE),4),\"\"))","v":".000"},{"$f":"IF(P_20号3様式1!F5<> \"\",IF(P_20号3様式1!F5<> \"-\",TEXT(INT(P_20号3様式1!F5),\"#,##0\"),\"-\"),\"\")","v":"1"},{"$f":"IF(P_20号3様式1!F5<> \"\",IF(P_20号3様式1!F5<> \"-\",IF(VALUE(FIXED(P_20号3様式1!F5,0,TRUE))<>P_20号3様式1!F5,RIGHT(FIXED(P_20号3様式1!F5,3,FALSE),4),\"\"),\"\"),\"\")","v":".000"},{"$f":"IF(P_20号3様式1!I5<> \"\",IF(P_20号3様式1!I5<> \"-\",TEXT(INT(P_20号3様式1!I5),\"#,##0\"),\"-\"),\"\")","v":"1"},{"$f":"IF(P_20号3様式1!I5<> \"\",IF(P_20号3様式1!I5<> \"-\",IF(VALUE(FIXED(P_20号3様式1!I5,0,TRUE))<>P_20号3様式1!I5,RIGHT(FIXED(P_20号3様式1!I5,3,FALSE),4),\"\"),\"\"),\"\")","v":".000"},{"$f":"IF(P_20号3様式1!L5<> \"\",IF(P_20号3様式1!L5<> \"-\",TEXT(INT(P_20号3様式1!L5),\"#,##0\"),\"-\"),\"\")","v":""},{"$f":"IF(P_20号3様式1!L5<> \"\",IF(P_20号3様式1!L5<> \"-\",IF(VALUE(FIXED(P_20号3様式1!L5,0,TRUE))<>P_20号3様式1!L5,RIGHT(FIXED(P_20号3様式1!L5,3,FALSE),4),\"\"),\"\"),\"\")","v":""},{"$f":"IF(P_20号3様式1!O5<> \"\",IF(P_20号3様式1!O5<> \"-\",TEXT(INT(P_20号3様式1!O5),\"#,##0\"),\"-\"),\"\")","v":""},{"$f":"IF(P_20号3様式1!O5<> \"\",IF(P_20号3様式1!O5<> \"-\",IF(VALUE(FIXED(P_20号3様式1!O5,0,TRUE))<>P_20号3様式1!O5,RIGHT(FIXED(P_20号3様式1!O5,3,FALSE),4),\"\"),\"\"),\"\")","v":""},{"$f":"IF(P_20号3様式1!R5<> \"\",IF(P_20号3様式1!R5<> \"-\",TEXT(INT(P_20号3様式1!R5),\"#,##0\"),\"-\"),\"\")","v":""},{"$f":"IF(P_20号3様式1!R5<> \"\",IF(P_20号3様式1!R5<> \"-\",IF(VALUE(FIXED(P_20号3様式1!R5,0,TRUE))<>P_20号3様式1!R5,RIGHT(FIXED(P_20号3様式1!R5,3,FALSE),4),\"\"),\"\"),\"\")","v":""},{"$f":"IF(P_20号3様式1!U5<> \"\",IF(P_20号3様式1!U5<> \"-\",TEXT(INT(P_20号3様式1!U5),\"#,##0\"),\"-\"),\"\")","v":""},{"$f":"IF(P_20号3様式1!U5<> \"\",IF(P_20号3様式1!U5<> \"-\",IF(VALUE(FIXED(P_20号3様式1!U5,0,TRUE))<>P_20号3様式1!U5,RIGHT(FIXED(P_20号3様式1!U5,3,FALSE),4),\"\"),\"\"),\"\")","v":""},{"$f":"IF(P_20号3様式1!X5<> \"\",IF(P_20号3様式1!X5<> \"-\",TEXT(INT(P_20号3様式1!X5),\"#,##0\"),\"-\"),\"\")","v":""},{"$f":"IF(P_20号3様式1!X5<> \"\",IF(P_20号3様式1!X5<> \"-\",IF(VALUE(FIXED(P_20号3様式1!X5,0,TRUE))<>P_20号3様式1!X5,RIGHT(FIXED(P_20号3様式1!X5,3,FALSE),4),\"\"),\"\"),\"\")","v":""},{"$f":"IF(P_20号3様式1!AA5<> \"\",IF(P_20号3様式1!AA5<> \"-\",TEXT(INT(P_20号3様式1!AA5),\"#,##0\"),\"-\"),\"\")","v":""},{"$f":"IF(P_20号3様式1!AA5<> \"\",IF(P_20号3様式1!AA5<> \"-\",IF(VALUE(FIXED(P_20号3様式1!AA5,0,TRUE))<>P_20号3様式1!AA5,RIGHT(FIXED(P_20号3様式1!AA5,3,FALSE),4),\"\"),\"\"),\"\")","v":""}]
[{"$f":"IF(P_20号3様式1!C6=\"\",\"\",P_20号3様式1!C6)","v":"出水市"},{"$f":"IF(P_20号3様式1!AE6<> \"\",TEXT(INT(P_20号3様式1!AE6),\"#,##0\"),\"\")","v":"4"},{"$f":"IF(P_20号3様式1!AE6= \"\",\"\",IF(VALUE(FIXED(P_20号3様式1!AE6,0,TRUE))<>P_20号3様式1!AE6,RIGHT(FIXED(P_20号3様式1!AE6,3,FALSE),4),\"\"))","v":".000"},{"$f":"IF(P_20号3様式1!F6<> \"\",IF(P_20号3様式1!F6<> \"-\",TEXT(INT(P_20号3様式1!F6),\"#,##0\"),\"-\"),\"\")","v":"3"},{"$f":"IF(P_20号3様式1!F6<> \"\",IF(P_20号3様式1!F6<> \"-\",IF(VALUE(FIXED(P_20号3様式1!F6,0,TRUE))<>P_20号3様式1!F6,RIGHT(FIXED(P_20号3様式1!F6,3,FALSE),4),\"\"),\"\"),\"\")","v":".000"},{"$f":"IF(P_20号3様式1!I6<> \"\",IF(P_20号3様式1!I6<> \"-\",TEXT(INT(P_20号3様式1!I6),\"#,##0\"),\"-\"),\"\")","v":"1"},{"$f":"IF(P_20号3様式1!I6<> \"\",IF(P_20号3様式1!I6<> \"-\",IF(VALUE(FIXED(P_20号3様式1!I6,0,TRUE))<>P_20号3様式1!I6,RIGHT(FIXED(P_20号3様式1!I6,3,FALSE),4),\"\"),\"\"),\"\")","v":".000"},{"$f":"IF(P_20号3様式1!L6<> \"\",IF(P_20号3様式1!L6<> \"-\",TEXT(INT(P_20号3様式1!L6),\"#,##0\"),\"-\"),\"\")","v":""},{"$f":"IF(P_20号3様式1!L6<> \"\",IF(P_20号3様式1!L6<> \"-\",IF(VALUE(FIXED(P_20号3様式1!L6,0,TRUE))<>P_20号3様式1!L6,RIGHT(FIXED(P_20号3様式1!L6,3,FALSE),4),\"\"),\"\"),\"\")","v":""},{"$f":"IF(P_20号3様式1!O6<> \"\",IF(P_20号3様式1!O6<> \"-\",TEXT(INT(P_20号3様式1!O6),\"#,##0\"),\"-\"),\"\")","v":""},{"$f":"IF(P_20号3様式1!O6<> \"\",IF(P_20号3様式1!O6<> \"-\",IF(VALUE(FIXED(P_20号3様式1!O6,0,TRUE))<>P_20号3様式1!O6,RIGHT(FIXED(P_20号3様式1!O6,3,FALSE),4),\"\"),\"\"),\"\")","v":""},{"$f":"IF(P_20号3様式1!R6<> \"\",IF(P_20号3様式1!R6<> \"-\",TEXT(INT(P_20号3様式1!R6),\"#,##0\"),\"-\"),\"\")","v":""},{"$f":"IF(P_20号3様式1!R6<> \"\",IF(P_20号3様式1!R6<> \"-\",IF(VALUE(FIXED(P_20号3様式1!R6,0,TRUE))<>P_20号3様式1!R6,RIGHT(FIXED(P_20号3様式1!R6,3,FALSE),4),\"\"),\"\"),\"\")","v":""},{"$f":"IF(P_20号3様式1!U6<> \"\",IF(P_20号3様式1!U6<> \"-\",TEXT(INT(P_20号3様式1!U6),\"#,##0\"),\"-\"),\"\")","v":""},{"$f":"IF(P_20号3様式1!U6<> \"\",IF(P_20号3様式1!U6<> \"-\",IF(VALUE(FIXED(P_20号3様式1!U6,0,TRUE))<>P_20号3様式1!U6,RIGHT(FIXED(P_20号3様式1!U6,3,FALSE),4),\"\"),\"\"),\"\")","v":""},{"$f":"IF(P_20号3様式1!X6<> \"\",IF(P_20号3様式1!X6<> \"-\",TEXT(INT(P_20号3様式1!X6),\"#,##0\"),\"-\"),\"\")","v":""},{"$f":"IF(P_20号3様式1!X6<> \"\",IF(P_20号3様式1!X6<> \"-\",IF(VALUE(FIXED(P_20号3様式1!X6,0,TRUE))<>P_20号3様式1!X6,RIGHT(FIXED(P_20号3様式1!X6,3,FALSE),4),\"\"),\"\"),\"\")","v":""},{"$f":"IF(P_20号3様式1!AA6<> \"\",IF(P_20号3様式1!AA6<> \"-\",TEXT(INT(P_20号3様式1!AA6),\"#,##0\"),\"-\"),\"\")","v":""},{"$f":"IF(P_20号3様式1!AA6<> \"\",IF(P_20号3様式1!AA6<> \"-\",IF(VALUE(FIXED(P_20号3様式1!AA6,0,TRUE))<>P_20号3様式1!AA6,RIGHT(FIXED(P_20号3様式1!AA6,3,FALSE),4),\"\"),\"\"),\"\")","v":""}]
[{"$f":"IF(P_20号3様式1!C7=\"\",\"\",P_20号3様式1!C7)","v":"指宿市"},{"$f":"IF(P_20号3様式1!AE7<> \"\",TEXT(INT(P_20号3様式1!AE7),\"#,##0\"),\"\")","v":"5"},{"$f":"IF(P_20号3様式1!AE7= \"\",\"\",IF(VALUE(FIXED(P_20号3様式1!AE7,0,TRUE))<>P_20号3様式1!AE7,RIGHT(FIXED(P_20号3様式1!AE7,3,FALSE),4),\"\"))","v":".500"},{"$f":"IF(P_20号3様式1!F7<> \"\",IF(P_20号3様式1!F7<> \"-\",TEXT(INT(P_20号3様式1!F7),\"#,##0\"),\"-\"),\"\")","v":"4"},{"$f":"IF(P_20号3様式1!F7<> \"\",IF(P_20号3様式1!F7<> \"-\",IF(VALUE(FIXED(P_20号3様式1!F7,0,TRUE))<>P_20号3様式1!F7,RIGHT(FIXED(P_20号3様式1!F7,3,FALSE),4),\"\"),\"\"),\"\")","v":".500"},{"$f":"IF(P_20号3様式1!I7<> \"\",IF(P_20号3様式1!I7<> \"-\",TEXT(INT(P_20号3様式1!I7),\"#,##0\"),\"-\"),\"\")","v":"1"},{"$f":"IF(P_20号3様式1!I7<> \"\",IF(P_20号3様式1!I7<> \"-\",IF(VALUE(FIXED(P_20号3様式1!I7,0,TRUE))<>P_20号3様式1!I7,RIGHT(FIXED(P_20号3様式1!I7,3,FALSE),4),\"\"),\"\"),\"\")","v":".000"},{"$f":"IF(P_20号3様式1!L7<> \"\",IF(P_20号3様式1!L7<> \"-\",TEXT(INT(P_20号3様式1!L7),\"#,##0\"),\"-\"),\"\")","v":""},{"$f":"IF(P_20号3様式1!L7<> \"\",IF(P_20号3様式1!L7<> \"-\",IF(VALUE(FIXED(P_20号3様式1!L7,0,TRUE))<>P_20号3様式1!L7,RIGHT(FIXED(P_20号3様式1!L7,3,FALSE),4),\"\"),\"\"),\"\")","v":""},{"$f":"IF(P_20号3様式1!O7<> \"\",IF(P_20号3様式1!O7<> \"-\",TEXT(INT(P_20号3様式1!O7),\"#,##0\"),\"-\"),\"\")","v":""},{"$f":"IF(P_20号3様式1!O7<> \"\",IF(P_20号3様式1!O7<> \"-\",IF(VALUE(FIXED(P_20号3様式1!O7,0,TRUE))<>P_20号3様式1!O7,RIGHT(FIXED(P_20号3様式1!O7,3,FALSE),4),\"\"),\"\"),\"\")","v":""},{"$f":"IF(P_20号3様式1!R7<> \"\",IF(P_20号3様式1!R7<> \"-\",TEXT(INT(P_20号3様式1!R7),\"#,##0\"),\"-\"),\"\")","v":""},{"$f":"IF(P_20号3様式1!R7<> \"\",IF(P_20号3様式1!R7<> \"-\",IF(VALUE(FIXED(P_20号3様式1!R7,0,TRUE))<>P_20号3様式1!R7,RIGHT(FIXED(P_20号3様式1!R7,3,FALSE),4),\"\"),\"\"),\"\")","v":""},{"$f":"IF(P_20号3様式1!U7<> \"\",IF(P_20号3様式1!U7<> \"-\",TEXT(INT(P_20号3様式1!U7),\"#,##0\"),\"-\"),\"\")","v":""},{"$f":"IF(P_20号3様式1!U7<> \"\",IF(P_20号3様式1!U7<> \"-\",IF(VALUE(FIXED(P_20号3様式1!U7,0,TRUE))<>P_20号3様式1!U7,RIGHT(FIXED(P_20号3様式1!U7,3,FALSE),4),\"\"),\"\"),\"\")","v":""},{"$f":"IF(P_20号3様式1!X7<> \"\",IF(P_20号3様式1!X7<> \"-\",TEXT(INT(P_20号3様式1!X7),\"#,##0\"),\"-\"),\"\")","v":""},{"$f":"IF(P_20号3様式1!X7<> \"\",IF(P_20号3様式1!X7<> \"-\",IF(VALUE(FIXED(P_20号3様式1!X7,0,TRUE))<>P_20号3様式1!X7,RIGHT(FIXED(P_20号3様式1!X7,3,FALSE),4),\"\"),\"\"),\"\")","v":""},{"$f":"IF(P_20号3様式1!AA7<> \"\",IF(P_20号3様式1!AA7<> \"-\",TEXT(INT(P_20号3様式1!AA7),\"#,##0\"),\"-\"),\"\")","v":""},{"$f":"IF(P_20号3様式1!AA7<> \"\",IF(P_20号3様式1!AA7<> \"-\",IF(VALUE(FIXED(P_20号3様式1!AA7,0,TRUE))<>P_20号3様式1!AA7,RIGHT(FIXED(P_20号3様式1!AA7,3,FALSE),4),\"\"),\"\"),\"\")","v":""}]
[{"$f":"IF(P_20号3様式1!C8=\"\",\"\",P_20号3様式1!C8)","v":"西之表市"},{"$f":"IF(P_20号3様式1!AE8<> \"\",TEXT(INT(P_20号3様式1!AE8),\"#,##0\"),\"\")","v":"1"},{"$f":"IF(P_20号3様式1!AE8= \"\",\"\",IF(VALUE(FIXED(P_20号3様式1!AE8,0,TRUE))<>P_20号3様式1!AE8,RIGHT(FIXED(P_20号3様式1!AE8,3,FALSE),4),\"\"))","v":".000"},{"$f":"IF(P_20号3様式1!F8<> \"\",IF(P_20号3様式1!F8<> \"-\",TEXT(INT(P_20号3様式1!F8),\"#,##0\"),\"-\"),\"\")","v":"1"},{"$f":"IF(P_20号3様式1!F8<> \"\",IF(P_20号3様式1!F8<> \"-\",IF(VALUE(FIXED(P_20号3様式1!F8,0,TRUE))<>P_20号3様式1!F8,RIGHT(FIXED(P_20号3様式1!F8,3,FALSE),4),\"\"),\"\"),\"\")","v":".000"},{"$f":"IF(P_20号3様式1!I8<> \"\",IF(P_20号3様式1!I8<> \"-\",TEXT(INT(P_20号3様式1!I8),\"#,##0\"),\"-\"),\"\")","v":"0"},{"$f":"IF(P_20号3様式1!I8<> \"\",IF(P_20号3様式1!I8<> \"-\",IF(VALUE(FIXED(P_20号3様式1!I8,0,TRUE))<>P_20号3様式1!I8,RIGHT(FIXED(P_20号3様式1!I8,3,FALSE),4),\"\"),\"\"),\"\")","v":".000"},{"$f":"IF(P_20号3様式1!L8<> \"\",IF(P_20号3様式1!L8<> \"-\",TEXT(INT(P_20号3様式1!L8),\"#,##0\"),\"-\"),\"\")","v":""},{"$f":"IF(P_20号3様式1!L8<> \"\",IF(P_20号3様式1!L8<> \"-\",IF(VALUE(FIXED(P_20号3様式1!L8,0,TRUE))<>P_20号3様式1!L8,RIGHT(FIXED(P_20号3様式1!L8,3,FALSE),4),\"\"),\"\"),\"\")","v":""},{"$f":"IF(P_20号3様式1!O8<> \"\",IF(P_20号3様式1!O8<> \"-\",TEXT(INT(P_20号3様式1!O8),\"#,##0\"),\"-\"),\"\")","v":""},{"$f":"IF(P_20号3様式1!O8<> \"\",IF(P_20号3様式1!O8<> \"-\",IF(VALUE(FIXED(P_20号3様式1!O8,0,TRUE))<>P_20号3様式1!O8,RIGHT(FIXED(P_20号3様式1!O8,3,FALSE),4),\"\"),\"\"),\"\")","v":""},{"$f":"IF(P_20号3様式1!R8<> \"\",IF(P_20号3様式1!R8<> \"-\",TEXT(INT(P_20号3様式1!R8),\"#,##0\"),\"-\"),\"\")","v":""},{"$f":"IF(P_20号3様式1!R8<> \"\",IF(P_20号3様式1!R8<> \"-\",IF(VALUE(FIXED(P_20号3様式1!R8,0,TRUE))<>P_20号3様式1!R8,RIGHT(FIXED(P_20号3様式1!R8,3,FALSE),4),\"\"),\"\"),\"\")","v":""},{"$f":"IF(P_20号3様式1!U8<> \"\",IF(P_20号3様式1!U8<> \"-\",TEXT(INT(P_20号3様式1!U8),\"#,##0\"),\"-\"),\"\")","v":""},{"$f":"IF(P_20号3様式1!U8<> \"\",IF(P_20号3様式1!U8<> \"-\",IF(VALUE(FIXED(P_20号3様式1!U8,0,TRUE))<>P_20号3様式1!U8,RIGHT(FIXED(P_20号3様式1!U8,3,FALSE),4),\"\"),\"\"),\"\")","v":""},{"$f":"IF(P_20号3様式1!X8<> \"\",IF(P_20号3様式1!X8<> \"-\",TEXT(INT(P_20号3様式1!X8),\"#,##0\"),\"-\"),\"\")","v":""},{"$f":"IF(P_20号3様式1!X8<> \"\",IF(P_20号3様式1!X8<> \"-\",IF(VALUE(FIXED(P_20号3様式1!X8,0,TRUE))<>P_20号3様式1!X8,RIGHT(FIXED(P_20号3様式1!X8,3,FALSE),4),\"\"),\"\"),\"\")","v":""},{"$f":"IF(P_20号3様式1!AA8<> \"\",IF(P_20号3様式1!AA8<> \"-\",TEXT(INT(P_20号3様式1!AA8),\"#,##0\"),\"-\"),\"\")","v":""},{"$f":"IF(P_20号3様式1!AA8<> \"\",IF(P_20号3様式1!AA8<> \"-\",IF(VALUE(FIXED(P_20号3様式1!AA8,0,TRUE))<>P_20号3様式1!AA8,RIGHT(FIXED(P_20号3様式1!AA8,3,FALSE),4),\"\"),\"\"),\"\")","v":""}]
[{"$f":"IF(P_20号3様式1!C9=\"\",\"\",P_20号3様式1!C9)","v":"垂水市"},{"$f":"IF(P_20号3様式1!AE9<> \"\",TEXT(INT(P_20号3様式1!AE9),\"#,##0\"),\"\")","v":"2"},{"$f":"IF(P_20号3様式1!AE9= \"\",\"\",IF(VALUE(FIXED(P_20号3様式1!AE9,0,TRUE))<>P_20号3様式1!AE9,RIGHT(FIXED(P_20号3様式1!AE9,3,FALSE),4),\"\"))","v":".000"},{"$f":"IF(P_20号3様式1!F9<> \"\",IF(P_20号3様式1!F9<> \"-\",TEXT(INT(P_20号3様式1!F9),\"#,##0\"),\"-\"),\"\")","v":"1"},{"$f":"IF(P_20号3様式1!F9<> \"\",IF(P_20号3様式1!F9<> \"-\",IF(VALUE(FIXED(P_20号3様式1!F9,0,TRUE))<>P_20号3様式1!F9,RIGHT(FIXED(P_20号3様式1!F9,3,FALSE),4),\"\"),\"\"),\"\")","v":".000"},{"$f":"IF(P_20号3様式1!I9<> \"\",IF(P_20号3様式1!I9<> \"-\",TEXT(INT(P_20号3様式1!I9),\"#,##0\"),\"-\"),\"\")","v":"1"},{"$f":"IF(P_20号3様式1!I9<> \"\",IF(P_20号3様式1!I9<> \"-\",IF(VALUE(FIXED(P_20号3様式1!I9,0,TRUE))<>P_20号3様式1!I9,RIGHT(FIXED(P_20号3様式1!I9,3,FALSE),4),\"\"),\"\"),\"\")","v":".000"},{"$f":"IF(P_20号3様式1!L9<> \"\",IF(P_20号3様式1!L9<> \"-\",TEXT(INT(P_20号3様式1!L9),\"#,##0\"),\"-\"),\"\")","v":""},{"$f":"IF(P_20号3様式1!L9<> \"\",IF(P_20号3様式1!L9<> \"-\",IF(VALUE(FIXED(P_20号3様式1!L9,0,TRUE))<>P_20号3様式1!L9,RIGHT(FIXED(P_20号3様式1!L9,3,FALSE),4),\"\"),\"\"),\"\")","v":""},{"$f":"IF(P_20号3様式1!O9<> \"\",IF(P_20号3様式1!O9<> \"-\",TEXT(INT(P_20号3様式1!O9),\"#,##0\"),\"-\"),\"\")","v":""},{"$f":"IF(P_20号3様式1!O9<> \"\",IF(P_20号3様式1!O9<> \"-\",IF(VALUE(FIXED(P_20号3様式1!O9,0,TRUE))<>P_20号3様式1!O9,RIGHT(FIXED(P_20号3様式1!O9,3,FALSE),4),\"\"),\"\"),\"\")","v":""},{"$f":"IF(P_20号3様式1!R9<> \"\",IF(P_20号3様式1!R9<> \"-\",TEXT(INT(P_20号3様式1!R9),\"#,##0\"),\"-\"),\"\")","v":""},{"$f":"IF(P_20号3様式1!R9<> \"\",IF(P_20号3様式1!R9<> \"-\",IF(VALUE(FIXED(P_20号3様式1!R9,0,TRUE))<>P_20号3様式1!R9,RIGHT(FIXED(P_20号3様式1!R9,3,FALSE),4),\"\"),\"\"),\"\")","v":""},{"$f":"IF(P_20号3様式1!U9<> \"\",IF(P_20号3様式1!U9<> \"-\",TEXT(INT(P_20号3様式1!U9),\"#,##0\"),\"-\"),\"\")","v":""},{"$f":"IF(P_20号3様式1!U9<> \"\",IF(P_20号3様式1!U9<> \"-\",IF(VALUE(FIXED(P_20号3様式1!U9,0,TRUE))<>P_20号3様式1!U9,RIGHT(FIXED(P_20号3様式1!U9,3,FALSE),4),\"\"),\"\"),\"\")","v":""},{"$f":"IF(P_20号3様式1!X9<> \"\",IF(P_20号3様式1!X9<> \"-\",TEXT(INT(P_20号3様式1!X9),\"#,##0\"),\"-\"),\"\")","v":""},{"$f":"IF(P_20号3様式1!X9<> \"\",IF(P_20号3様式1!X9<> \"-\",IF(VALUE(FIXED(P_20号3様式1!X9,0,TRUE))<>P_20号3様式1!X9,RIGHT(FIXED(P_20号3様式1!X9,3,FALSE),4),\"\"),\"\"),\"\")","v":""},{"$f":"IF(P_20号3様式1!AA9<> \"\",IF(P_20号3様式1!AA9<> \"-\",TEXT(INT(P_20号3様式1!AA9),\"#,##0\"),\"-\"),\"\")","v":""},{"$f":"IF(P_20号3様式1!AA9<> \"\",IF(P_20号3様式1!AA9<> \"-\",IF(VALUE(FIXED(P_20号3様式1!AA9,0,TRUE))<>P_20号3様式1!AA9,RIGHT(FIXED(P_20号3様式1!AA9,3,FALSE),4),\"\"),\"\"),\"\")","v":""}]
[{"$f":"IF(P_20号3様式1!C10=\"\",\"\",P_20号3様式1!C10)","v":"薩摩川内市第１"},{"$f":"IF(P_20号3様式1!AE10<> \"\",TEXT(INT(P_20号3様式1!AE10),\"#,##0\"),\"\")","v":"17"},{"$f":"IF(P_20号3様式1!AE10= \"\",\"\",IF(VALUE(FIXED(P_20号3様式1!AE10,0,TRUE))<>P_20号3様式1!AE10,RIGHT(FIXED(P_20号3様式1!AE10,3,FALSE),4),\"\"))","v":".000"},{"$f":"IF(P_20号3様式1!F10<> \"\",IF(P_20号3様式1!F10<> \"-\",TEXT(INT(P_20号3様式1!F10),\"#,##0\"),\"-\"),\"\")","v":"16"},{"$f":"IF(P_20号3様式1!F10<> \"\",IF(P_20号3様式1!F10<> \"-\",IF(VALUE(FIXED(P_20号3様式1!F10,0,TRUE))<>P_20号3様式1!F10,RIGHT(FIXED(P_20号3様式1!F10,3,FALSE),4),\"\"),\"\"),\"\")","v":".000"},{"$f":"IF(P_20号3様式1!I10<> \"\",IF(P_20号3様式1!I10<> \"-\",TEXT(INT(P_20号3様式1!I10),\"#,##0\"),\"-\"),\"\")","v":"1"},{"$f":"IF(P_20号3様式1!I10<> \"\",IF(P_20号3様式1!I10<> \"-\",IF(VALUE(FIXED(P_20号3様式1!I10,0,TRUE))<>P_20号3様式1!I10,RIGHT(FIXED(P_20号3様式1!I10,3,FALSE),4),\"\"),\"\"),\"\")","v":".000"},{"$f":"IF(P_20号3様式1!L10<> \"\",IF(P_20号3様式1!L10<> \"-\",TEXT(INT(P_20号3様式1!L10),\"#,##0\"),\"-\"),\"\")","v":""},{"$f":"IF(P_20号3様式1!L10<> \"\",IF(P_20号3様式1!L10<> \"-\",IF(VALUE(FIXED(P_20号3様式1!L10,0,TRUE))<>P_20号3様式1!L10,RIGHT(FIXED(P_20号3様式1!L10,3,FALSE),4),\"\"),\"\"),\"\")","v":""},{"$f":"IF(P_20号3様式1!O10<> \"\",IF(P_20号3様式1!O10<> \"-\",TEXT(INT(P_20号3様式1!O10),\"#,##0\"),\"-\"),\"\")","v":""},{"$f":"IF(P_20号3様式1!O10<> \"\",IF(P_20号3様式1!O10<> \"-\",IF(VALUE(FIXED(P_20号3様式1!O10,0,TRUE))<>P_20号3様式1!O10,RIGHT(FIXED(P_20号3様式1!O10,3,FALSE),4),\"\"),\"\"),\"\")","v":""},{"$f":"IF(P_20号3様式1!R10<> \"\",IF(P_20号3様式1!R10<> \"-\",TEXT(INT(P_20号3様式1!R10),\"#,##0\"),\"-\"),\"\")","v":""},{"$f":"IF(P_20号3様式1!R10<> \"\",IF(P_20号3様式1!R10<> \"-\",IF(VALUE(FIXED(P_20号3様式1!R10,0,TRUE))<>P_20号3様式1!R10,RIGHT(FIXED(P_20号3様式1!R10,3,FALSE),4),\"\"),\"\"),\"\")","v":""},{"$f":"IF(P_20号3様式1!U10<> \"\",IF(P_20号3様式1!U10<> \"-\",TEXT(INT(P_20号3様式1!U10),\"#,##0\"),\"-\"),\"\")","v":""},{"$f":"IF(P_20号3様式1!U10<> \"\",IF(P_20号3様式1!U10<> \"-\",IF(VALUE(FIXED(P_20号3様式1!U10,0,TRUE))<>P_20号3様式1!U10,RIGHT(FIXED(P_20号3様式1!U10,3,FALSE),4),\"\"),\"\"),\"\")","v":""},{"$f":"IF(P_20号3様式1!X10<> \"\",IF(P_20号3様式1!X10<> \"-\",TEXT(INT(P_20号3様式1!X10),\"#,##0\"),\"-\"),\"\")","v":""},{"$f":"IF(P_20号3様式1!X10<> \"\",IF(P_20号3様式1!X10<> \"-\",IF(VALUE(FIXED(P_20号3様式1!X10,0,TRUE))<>P_20号3様式1!X10,RIGHT(FIXED(P_20号3様式1!X10,3,FALSE),4),\"\"),\"\"),\"\")","v":""},{"$f":"IF(P_20号3様式1!AA10<> \"\",IF(P_20号3様式1!AA10<> \"-\",TEXT(INT(P_20号3様式1!AA10),\"#,##0\"),\"-\"),\"\")","v":""},{"$f":"IF(P_20号3様式1!AA10<> \"\",IF(P_20号3様式1!AA10<> \"-\",IF(VALUE(FIXED(P_20号3様式1!AA10,0,TRUE))<>P_20号3様式1!AA10,RIGHT(FIXED(P_20号3様式1!AA10,3,FALSE),4),\"\"),\"\"),\"\")","v":""}]
[{"$f":"IF(P_20号3様式1!C11=\"\",\"\",P_20号3様式1!C11)","v":"薩摩川内市第２"},{"$f":"IF(P_20号3様式1!AE11<> \"\",TEXT(INT(P_20号3様式1!AE11),\"#,##0\"),\"\")","v":"0"},{"$f":"IF(P_20号3様式1!AE11= \"\",\"\",IF(VALUE(FIXED(P_20号3様式1!AE11,0,TRUE))<>P_20号3様式1!AE11,RIGHT(FIXED(P_20号3様式1!AE11,3,FALSE),4),\"\"))","v":".000"},{"$f":"IF(P_20号3様式1!F11<> \"\",IF(P_20号3様式1!F11<> \"-\",TEXT(INT(P_20号3様式1!F11),\"#,##0\"),\"-\"),\"\")","v":"0"},{"$f":"IF(P_20号3様式1!F11<> \"\",IF(P_20号3様式1!F11<> \"-\",IF(VALUE(FIXED(P_20号3様式1!F11,0,TRUE))<>P_20号3様式1!F11,RIGHT(FIXED(P_20号3様式1!F11,3,FALSE),4),\"\"),\"\"),\"\")","v":".000"},{"$f":"IF(P_20号3様式1!I11<> \"\",IF(P_20号3様式1!I11<> \"-\",TEXT(INT(P_20号3様式1!I11),\"#,##0\"),\"-\"),\"\")","v":"0"},{"$f":"IF(P_20号3様式1!I11<> \"\",IF(P_20号3様式1!I11<> \"-\",IF(VALUE(FIXED(P_20号3様式1!I11,0,TRUE))<>P_20号3様式1!I11,RIGHT(FIXED(P_20号3様式1!I11,3,FALSE),4),\"\"),\"\"),\"\")","v":".000"},{"$f":"IF(P_20号3様式1!L11<> \"\",IF(P_20号3様式1!L11<> \"-\",TEXT(INT(P_20号3様式1!L11),\"#,##0\"),\"-\"),\"\")","v":""},{"$f":"IF(P_20号3様式1!L11<> \"\",IF(P_20号3様式1!L11<> \"-\",IF(VALUE(FIXED(P_20号3様式1!L11,0,TRUE))<>P_20号3様式1!L11,RIGHT(FIXED(P_20号3様式1!L11,3,FALSE),4),\"\"),\"\"),\"\")","v":""},{"$f":"IF(P_20号3様式1!O11<> \"\",IF(P_20号3様式1!O11<> \"-\",TEXT(INT(P_20号3様式1!O11),\"#,##0\"),\"-\"),\"\")","v":""},{"$f":"IF(P_20号3様式1!O11<> \"\",IF(P_20号3様式1!O11<> \"-\",IF(VALUE(FIXED(P_20号3様式1!O11,0,TRUE))<>P_20号3様式1!O11,RIGHT(FIXED(P_20号3様式1!O11,3,FALSE),4),\"\"),\"\"),\"\")","v":""},{"$f":"IF(P_20号3様式1!R11<> \"\",IF(P_20号3様式1!R11<> \"-\",TEXT(INT(P_20号3様式1!R11),\"#,##0\"),\"-\"),\"\")","v":""},{"$f":"IF(P_20号3様式1!R11<> \"\",IF(P_20号3様式1!R11<> \"-\",IF(VALUE(FIXED(P_20号3様式1!R11,0,TRUE))<>P_20号3様式1!R11,RIGHT(FIXED(P_20号3様式1!R11,3,FALSE),4),\"\"),\"\"),\"\")","v":""},{"$f":"IF(P_20号3様式1!U11<> \"\",IF(P_20号3様式1!U11<> \"-\",TEXT(INT(P_20号3様式1!U11),\"#,##0\"),\"-\"),\"\")","v":""},{"$f":"IF(P_20号3様式1!U11<> \"\",IF(P_20号3様式1!U11<> \"-\",IF(VALUE(FIXED(P_20号3様式1!U11,0,TRUE))<>P_20号3様式1!U11,RIGHT(FIXED(P_20号3様式1!U11,3,FALSE),4),\"\"),\"\"),\"\")","v":""},{"$f":"IF(P_20号3様式1!X11<> \"\",IF(P_20号3様式1!X11<> \"-\",TEXT(INT(P_20号3様式1!X11),\"#,##0\"),\"-\"),\"\")","v":""},{"$f":"IF(P_20号3様式1!X11<> \"\",IF(P_20号3様式1!X11<> \"-\",IF(VALUE(FIXED(P_20号3様式1!X11,0,TRUE))<>P_20号3様式1!X11,RIGHT(FIXED(P_20号3様式1!X11,3,FALSE),4),\"\"),\"\"),\"\")","v":""},{"$f":"IF(P_20号3様式1!AA11<> \"\",IF(P_20号3様式1!AA11<> \"-\",TEXT(INT(P_20号3様式1!AA11),\"#,##0\"),\"-\"),\"\")","v":""},{"$f":"IF(P_20号3様式1!AA11<> \"\",IF(P_20号3様式1!AA11<> \"-\",IF(VALUE(FIXED(P_20号3様式1!AA11,0,TRUE))<>P_20号3様式1!AA11,RIGHT(FIXED(P_20号3様式1!AA11,3,FALSE),4),\"\"),\"\"),\"\")","v":""}]
[{"$f":"IF(P_20号3様式1!C12=\"\",\"\",P_20号3様式1!C12)","v":"薩摩川内市第３"},{"$f":"IF(P_20号3様式1!AE12<> \"\",TEXT(INT(P_20号3様式1!AE12),\"#,##0\"),\"\")","v":"0"},{"$f":"IF(P_20号3様式1!AE12= \"\",\"\",IF(VALUE(FIXED(P_20号3様式1!AE12,0,TRUE))<>P_20号3様式1!AE12,RIGHT(FIXED(P_20号3様式1!AE12,3,FALSE),4),\"\"))","v":".000"},{"$f":"IF(P_20号3様式1!F12<> \"\",IF(P_20号3様式1!F12<> \"-\",TEXT(INT(P_20号3様式1!F12),\"#,##0\"),\"-\"),\"\")","v":"0"},{"$f":"IF(P_20号3様式1!F12<> \"\",IF(P_20号3様式1!F12<> \"-\",IF(VALUE(FIXED(P_20号3様式1!F12,0,TRUE))<>P_20号3様式1!F12,RIGHT(FIXED(P_20号3様式1!F12,3,FALSE),4),\"\"),\"\"),\"\")","v":".000"},{"$f":"IF(P_20号3様式1!I12<> \"\",IF(P_20号3様式1!I12<> \"-\",TEXT(INT(P_20号3様式1!I12),\"#,##0\"),\"-\"),\"\")","v":"0"},{"$f":"IF(P_20号3様式1!I12<> \"\",IF(P_20号3様式1!I12<> \"-\",IF(VALUE(FIXED(P_20号3様式1!I12,0,TRUE))<>P_20号3様式1!I12,RIGHT(FIXED(P_20号3様式1!I12,3,FALSE),4),\"\"),\"\"),\"\")","v":".000"},{"$f":"IF(P_20号3様式1!L12<> \"\",IF(P_20号3様式1!L12<> \"-\",TEXT(INT(P_20号3様式1!L12),\"#,##0\"),\"-\"),\"\")","v":""},{"$f":"IF(P_20号3様式1!L12<> \"\",IF(P_20号3様式1!L12<> \"-\",IF(VALUE(FIXED(P_20号3様式1!L12,0,TRUE))<>P_20号3様式1!L12,RIGHT(FIXED(P_20号3様式1!L12,3,FALSE),4),\"\"),\"\"),\"\")","v":""},{"$f":"IF(P_20号3様式1!O12<> \"\",IF(P_20号3様式1!O12<> \"-\",TEXT(INT(P_20号3様式1!O12),\"#,##0\"),\"-\"),\"\")","v":""},{"$f":"IF(P_20号3様式1!O12<> \"\",IF(P_20号3様式1!O12<> \"-\",IF(VALUE(FIXED(P_20号3様式1!O12,0,TRUE))<>P_20号3様式1!O12,RIGHT(FIXED(P_20号3様式1!O12,3,FALSE),4),\"\"),\"\"),\"\")","v":""},{"$f":"IF(P_20号3様式1!R12<> \"\",IF(P_20号3様式1!R12<> \"-\",TEXT(INT(P_20号3様式1!R12),\"#,##0\"),\"-\"),\"\")","v":""},{"$f":"IF(P_20号3様式1!R12<> \"\",IF(P_20号3様式1!R12<> \"-\",IF(VALUE(FIXED(P_20号3様式1!R12,0,TRUE))<>P_20号3様式1!R12,RIGHT(FIXED(P_20号3様式1!R12,3,FALSE),4),\"\"),\"\"),\"\")","v":""},{"$f":"IF(P_20号3様式1!U12<> \"\",IF(P_20号3様式1!U12<> \"-\",TEXT(INT(P_20号3様式1!U12),\"#,##0\"),\"-\"),\"\")","v":""},{"$f":"IF(P_20号3様式1!U12<> \"\",IF(P_20号3様式1!U12<> \"-\",IF(VALUE(FIXED(P_20号3様式1!U12,0,TRUE))<>P_20号3様式1!U12,RIGHT(FIXED(P_20号3様式1!U12,3,FALSE),4),\"\"),\"\"),\"\")","v":""},{"$f":"IF(P_20号3様式1!X12<> \"\",IF(P_20号3様式1!X12<> \"-\",TEXT(INT(P_20号3様式1!X12),\"#,##0\"),\"-\"),\"\")","v":""},{"$f":"IF(P_20号3様式1!X12<> \"\",IF(P_20号3様式1!X12<> \"-\",IF(VALUE(FIXED(P_20号3様式1!X12,0,TRUE))<>P_20号3様式1!X12,RIGHT(FIXED(P_20号3様式1!X12,3,FALSE),4),\"\"),\"\"),\"\")","v":""},{"$f":"IF(P_20号3様式1!AA12<> \"\",IF(P_20号3様式1!AA12<> \"-\",TEXT(INT(P_20号3様式1!AA12),\"#,##0\"),\"-\"),\"\")","v":""},{"$f":"IF(P_20号3様式1!AA12<> \"\",IF(P_20号3様式1!AA12<> \"-\",IF(VALUE(FIXED(P_20号3様式1!AA12,0,TRUE))<>P_20号3様式1!AA12,RIGHT(FIXED(P_20号3様式1!AA12,3,FALSE),4),\"\"),\"\"),\"\")","v":""}]
[{"$f":"IF(P_20号3様式1!C13=\"\",\"\",P_20号3様式1!C13)","v":"＊（薩摩川内市）計"},{"$f":"IF(P_20号3様式1!AE13<> \"\",TEXT(INT(P_20号3様式1!AE13),\"#,##0\"),\"\")","v":"17"},{"$f":"IF(P_20号3様式1!AE13= \"\",\"\",IF(VALUE(FIXED(P_20号3様式1!AE13,0,TRUE))<>P_20号3様式1!AE13,RIGHT(FIXED(P_20号3様式1!AE13,3,FALSE),4),\"\"))","v":".000"},{"$f":"IF(P_20号3様式1!F13<> \"\",IF(P_20号3様式1!F13<> \"-\",TEXT(INT(P_20号3様式1!F13),\"#,##0\"),\"-\"),\"\")","v":"16"},{"$f":"IF(P_20号3様式1!F13<> \"\",IF(P_20号3様式1!F13<> \"-\",IF(VALUE(FIXED(P_20号3様式1!F13,0,TRUE))<>P_20号3様式1!F13,RIGHT(FIXED(P_20号3様式1!F13,3,FALSE),4),\"\"),\"\"),\"\")","v":".000"},{"$f":"IF(P_20号3様式1!I13<> \"\",IF(P_20号3様式1!I13<> \"-\",TEXT(INT(P_20号3様式1!I13),\"#,##0\"),\"-\"),\"\")","v":"1"},{"$f":"IF(P_20号3様式1!I13<> \"\",IF(P_20号3様式1!I13<> \"-\",IF(VALUE(FIXED(P_20号3様式1!I13,0,TRUE))<>P_20号3様式1!I13,RIGHT(FIXED(P_20号3様式1!I13,3,FALSE),4),\"\"),\"\"),\"\")","v":".000"},{"$f":"IF(P_20号3様式1!L13<> \"\",IF(P_20号3様式1!L13<> \"-\",TEXT(INT(P_20号3様式1!L13),\"#,##0\"),\"-\"),\"\")","v":""},{"$f":"IF(P_20号3様式1!L13<> \"\",IF(P_20号3様式1!L13<> \"-\",IF(VALUE(FIXED(P_20号3様式1!L13,0,TRUE))<>P_20号3様式1!L13,RIGHT(FIXED(P_20号3様式1!L13,3,FALSE),4),\"\"),\"\"),\"\")","v":""},{"$f":"IF(P_20号3様式1!O13<> \"\",IF(P_20号3様式1!O13<> \"-\",TEXT(INT(P_20号3様式1!O13),\"#,##0\"),\"-\"),\"\")","v":""},{"$f":"IF(P_20号3様式1!O13<> \"\",IF(P_20号3様式1!O13<> \"-\",IF(VALUE(FIXED(P_20号3様式1!O13,0,TRUE))<>P_20号3様式1!O13,RIGHT(FIXED(P_20号3様式1!O13,3,FALSE),4),\"\"),\"\"),\"\")","v":""},{"$f":"IF(P_20号3様式1!R13<> \"\",IF(P_20号3様式1!R13<> \"-\",TEXT(INT(P_20号3様式1!R13),\"#,##0\"),\"-\"),\"\")","v":""},{"$f":"IF(P_20号3様式1!R13<> \"\",IF(P_20号3様式1!R13<> \"-\",IF(VALUE(FIXED(P_20号3様式1!R13,0,TRUE))<>P_20号3様式1!R13,RIGHT(FIXED(P_20号3様式1!R13,3,FALSE),4),\"\"),\"\"),\"\")","v":""},{"$f":"IF(P_20号3様式1!U13<> \"\",IF(P_20号3様式1!U13<> \"-\",TEXT(INT(P_20号3様式1!U13),\"#,##0\"),\"-\"),\"\")","v":""},{"$f":"IF(P_20号3様式1!U13<> \"\",IF(P_20号3様式1!U13<> \"-\",IF(VALUE(FIXED(P_20号3様式1!U13,0,TRUE))<>P_20号3様式1!U13,RIGHT(FIXED(P_20号3様式1!U13,3,FALSE),4),\"\"),\"\"),\"\")","v":""},{"$f":"IF(P_20号3様式1!X13<> \"\",IF(P_20号3様式1!X13<> \"-\",TEXT(INT(P_20号3様式1!X13),\"#,##0\"),\"-\"),\"\")","v":""},{"$f":"IF(P_20号3様式1!X13<> \"\",IF(P_20号3様式1!X13<> \"-\",IF(VALUE(FIXED(P_20号3様式1!X13,0,TRUE))<>P_20号3様式1!X13,RIGHT(FIXED(P_20号3様式1!X13,3,FALSE),4),\"\"),\"\"),\"\")","v":""},{"$f":"IF(P_20号3様式1!AA13<> \"\",IF(P_20号3様式1!AA13<> \"-\",TEXT(INT(P_20号3様式1!AA13),\"#,##0\"),\"-\"),\"\")","v":""},{"$f":"IF(P_20号3様式1!AA13<> \"\",IF(P_20号3様式1!AA13<> \"-\",IF(VALUE(FIXED(P_20号3様式1!AA13,0,TRUE))<>P_20号3様式1!AA13,RIGHT(FIXED(P_20号3様式1!AA13,3,FALSE),4),\"\"),\"\"),\"\")","v":""}]
[{"$f":"IF(P_20号3様式1!C14=\"\",\"\",P_20号3様式1!C14)","v":"日置市"},{"$f":"IF(P_20号3様式1!AE14<> \"\",TEXT(INT(P_20号3様式1!AE14),\"#,##0\"),\"\")","v":"2"},{"$f":"IF(P_20号3様式1!AE14= \"\",\"\",IF(VALUE(FIXED(P_20号3様式1!AE14,0,TRUE))<>P_20号3様式1!AE14,RIGHT(FIXED(P_20号3様式1!AE14,3,FALSE),4),\"\"))","v":".000"},{"$f":"IF(P_20号3様式1!F14<> \"\",IF(P_20号3様式1!F14<> \"-\",TEXT(INT(P_20号3様式1!F14),\"#,##0\"),\"-\"),\"\")","v":"2"},{"$f":"IF(P_20号3様式1!F14<> \"\",IF(P_20号3様式1!F14<> \"-\",IF(VALUE(FIXED(P_20号3様式1!F14,0,TRUE))<>P_20号3様式1!F14,RIGHT(FIXED(P_20号3様式1!F14,3,FALSE),4),\"\"),\"\"),\"\")","v":".000"},{"$f":"IF(P_20号3様式1!I14<> \"\",IF(P_20号3様式1!I14<> \"-\",TEXT(INT(P_20号3様式1!I14),\"#,##0\"),\"-\"),\"\")","v":"0"},{"$f":"IF(P_20号3様式1!I14<> \"\",IF(P_20号3様式1!I14<> \"-\",IF(VALUE(FIXED(P_20号3様式1!I14,0,TRUE))<>P_20号3様式1!I14,RIGHT(FIXED(P_20号3様式1!I14,3,FALSE),4),\"\"),\"\"),\"\")","v":".000"},{"$f":"IF(P_20号3様式1!L14<> \"\",IF(P_20号3様式1!L14<> \"-\",TEXT(INT(P_20号3様式1!L14),\"#,##0\"),\"-\"),\"\")","v":""},{"$f":"IF(P_20号3様式1!L14<> \"\",IF(P_20号3様式1!L14<> \"-\",IF(VALUE(FIXED(P_20号3様式1!L14,0,TRUE))<>P_20号3様式1!L14,RIGHT(FIXED(P_20号3様式1!L14,3,FALSE),4),\"\"),\"\"),\"\")","v":""},{"$f":"IF(P_20号3様式1!O14<> \"\",IF(P_20号3様式1!O14<> \"-\",TEXT(INT(P_20号3様式1!O14),\"#,##0\"),\"-\"),\"\")","v":""},{"$f":"IF(P_20号3様式1!O14<> \"\",IF(P_20号3様式1!O14<> \"-\",IF(VALUE(FIXED(P_20号3様式1!O14,0,TRUE))<>P_20号3様式1!O14,RIGHT(FIXED(P_20号3様式1!O14,3,FALSE),4),\"\"),\"\"),\"\")","v":""},{"$f":"IF(P_20号3様式1!R14<> \"\",IF(P_20号3様式1!R14<> \"-\",TEXT(INT(P_20号3様式1!R14),\"#,##0\"),\"-\"),\"\")","v":""},{"$f":"IF(P_20号3様式1!R14<> \"\",IF(P_20号3様式1!R14<> \"-\",IF(VALUE(FIXED(P_20号3様式1!R14,0,TRUE))<>P_20号3様式1!R14,RIGHT(FIXED(P_20号3様式1!R14,3,FALSE),4),\"\"),\"\"),\"\")","v":""},{"$f":"IF(P_20号3様式1!U14<> \"\",IF(P_20号3様式1!U14<> \"-\",TEXT(INT(P_20号3様式1!U14),\"#,##0\"),\"-\"),\"\")","v":""},{"$f":"IF(P_20号3様式1!U14<> \"\",IF(P_20号3様式1!U14<> \"-\",IF(VALUE(FIXED(P_20号3様式1!U14,0,TRUE))<>P_20号3様式1!U14,RIGHT(FIXED(P_20号3様式1!U14,3,FALSE),4),\"\"),\"\"),\"\")","v":""},{"$f":"IF(P_20号3様式1!X14<> \"\",IF(P_20号3様式1!X14<> \"-\",TEXT(INT(P_20号3様式1!X14),\"#,##0\"),\"-\"),\"\")","v":""},{"$f":"IF(P_20号3様式1!X14<> \"\",IF(P_20号3様式1!X14<> \"-\",IF(VALUE(FIXED(P_20号3様式1!X14,0,TRUE))<>P_20号3様式1!X14,RIGHT(FIXED(P_20号3様式1!X14,3,FALSE),4),\"\"),\"\"),\"\")","v":""},{"$f":"IF(P_20号3様式1!AA14<> \"\",IF(P_20号3様式1!AA14<> \"-\",TEXT(INT(P_20号3様式1!AA14),\"#,##0\"),\"-\"),\"\")","v":""},{"$f":"IF(P_20号3様式1!AA14<> \"\",IF(P_20号3様式1!AA14<> \"-\",IF(VALUE(FIXED(P_20号3様式1!AA14,0,TRUE))<>P_20号3様式1!AA14,RIGHT(FIXED(P_20号3様式1!AA14,3,FALSE),4),\"\"),\"\"),\"\")","v":""}]
[{"$f":"IF(P_20号3様式1!C15=\"\",\"\",P_20号3様式1!C15)","v":"曽於市"},{"$f":"IF(P_20号3様式1!AE15<> \"\",TEXT(INT(P_20号3様式1!AE15),\"#,##0\"),\"\")","v":"5"},{"$f":"IF(P_20号3様式1!AE15= \"\",\"\",IF(VALUE(FIXED(P_20号3様式1!AE15,0,TRUE))<>P_20号3様式1!AE15,RIGHT(FIXED(P_20号3様式1!AE15,3,FALSE),4),\"\"))","v":".000"},{"$f":"IF(P_20号3様式1!F15<> \"\",IF(P_20号3様式1!F15<> \"-\",TEXT(INT(P_20号3様式1!F15),\"#,##0\"),\"-\"),\"\")","v":"5"},{"$f":"IF(P_20号3様式1!F15<> \"\",IF(P_20号3様式1!F15<> \"-\",IF(VALUE(FIXED(P_20号3様式1!F15,0,TRUE))<>P_20号3様式1!F15,RIGHT(FIXED(P_20号3様式1!F15,3,FALSE),4),\"\"),\"\"),\"\")","v":".000"},{"$f":"IF(P_20号3様式1!I15<> \"\",IF(P_20号3様式1!I15<> \"-\",TEXT(INT(P_20号3様式1!I15),\"#,##0\"),\"-\"),\"\")","v":"0"},{"$f":"IF(P_20号3様式1!I15<> \"\",IF(P_20号3様式1!I15<> \"-\",IF(VALUE(FIXED(P_20号3様式1!I15,0,TRUE))<>P_20号3様式1!I15,RIGHT(FIXED(P_20号3様式1!I15,3,FALSE),4),\"\"),\"\"),\"\")","v":".000"},{"$f":"IF(P_20号3様式1!L15<> \"\",IF(P_20号3様式1!L15<> \"-\",TEXT(INT(P_20号3様式1!L15),\"#,##0\"),\"-\"),\"\")","v":""},{"$f":"IF(P_20号3様式1!L15<> \"\",IF(P_20号3様式1!L15<> \"-\",IF(VALUE(FIXED(P_20号3様式1!L15,0,TRUE))<>P_20号3様式1!L15,RIGHT(FIXED(P_20号3様式1!L15,3,FALSE),4),\"\"),\"\"),\"\")","v":""},{"$f":"IF(P_20号3様式1!O15<> \"\",IF(P_20号3様式1!O15<> \"-\",TEXT(INT(P_20号3様式1!O15),\"#,##0\"),\"-\"),\"\")","v":""},{"$f":"IF(P_20号3様式1!O15<> \"\",IF(P_20号3様式1!O15<> \"-\",IF(VALUE(FIXED(P_20号3様式1!O15,0,TRUE))<>P_20号3様式1!O15,RIGHT(FIXED(P_20号3様式1!O15,3,FALSE),4),\"\"),\"\"),\"\")","v":""},{"$f":"IF(P_20号3様式1!R15<> \"\",IF(P_20号3様式1!R15<> \"-\",TEXT(INT(P_20号3様式1!R15),\"#,##0\"),\"-\"),\"\")","v":""},{"$f":"IF(P_20号3様式1!R15<> \"\",IF(P_20号3様式1!R15<> \"-\",IF(VALUE(FIXED(P_20号3様式1!R15,0,TRUE))<>P_20号3様式1!R15,RIGHT(FIXED(P_20号3様式1!R15,3,FALSE),4),\"\"),\"\"),\"\")","v":""},{"$f":"IF(P_20号3様式1!U15<> \"\",IF(P_20号3様式1!U15<> \"-\",TEXT(INT(P_20号3様式1!U15),\"#,##0\"),\"-\"),\"\")","v":""},{"$f":"IF(P_20号3様式1!U15<> \"\",IF(P_20号3様式1!U15<> \"-\",IF(VALUE(FIXED(P_20号3様式1!U15,0,TRUE))<>P_20号3様式1!U15,RIGHT(FIXED(P_20号3様式1!U15,3,FALSE),4),\"\"),\"\"),\"\")","v":""},{"$f":"IF(P_20号3様式1!X15<> \"\",IF(P_20号3様式1!X15<> \"-\",TEXT(INT(P_20号3様式1!X15),\"#,##0\"),\"-\"),\"\")","v":""},{"$f":"IF(P_20号3様式1!X15<> \"\",IF(P_20号3様式1!X15<> \"-\",IF(VALUE(FIXED(P_20号3様式1!X15,0,TRUE))<>P_20号3様式1!X15,RIGHT(FIXED(P_20号3様式1!X15,3,FALSE),4),\"\"),\"\"),\"\")","v":""},{"$f":"IF(P_20号3様式1!AA15<> \"\",IF(P_20号3様式1!AA15<> \"-\",TEXT(INT(P_20号3様式1!AA15),\"#,##0\"),\"-\"),\"\")","v":""},{"$f":"IF(P_20号3様式1!AA15<> \"\",IF(P_20号3様式1!AA15<> \"-\",IF(VALUE(FIXED(P_20号3様式1!AA15,0,TRUE))<>P_20号3様式1!AA15,RIGHT(FIXED(P_20号3様式1!AA15,3,FALSE),4),\"\"),\"\"),\"\")","v":""}]
[{"$f":"IF(P_20号3様式1!C16=\"\",\"\",P_20号3様式1!C16)","v":"霧島市"},{"$f":"IF(P_20号3様式1!AE16<> \"\",TEXT(INT(P_20号3様式1!AE16),\"#,##0\"),\"\")","v":"17"},{"$f":"IF(P_20号3様式1!AE16= \"\",\"\",IF(VALUE(FIXED(P_20号3様式1!AE16,0,TRUE))<>P_20号3様式1!AE16,RIGHT(FIXED(P_20号3様式1!AE16,3,FALSE),4),\"\"))","v":".000"},{"$f":"IF(P_20号3様式1!F16<> \"\",IF(P_20号3様式1!F16<> \"-\",TEXT(INT(P_20号3様式1!F16),\"#,##0\"),\"-\"),\"\")","v":"13"},{"$f":"IF(P_20号3様式1!F16<> \"\",IF(P_20号3様式1!F16<> \"-\",IF(VALUE(FIXED(P_20号3様式1!F16,0,TRUE))<>P_20号3様式1!F16,RIGHT(FIXED(P_20号3様式1!F16,3,FALSE),4),\"\"),\"\"),\"\")","v":".000"},{"$f":"IF(P_20号3様式1!I16<> \"\",IF(P_20号3様式1!I16<> \"-\",TEXT(INT(P_20号3様式1!I16),\"#,##0\"),\"-\"),\"\")","v":"4"},{"$f":"IF(P_20号3様式1!I16<> \"\",IF(P_20号3様式1!I16<> \"-\",IF(VALUE(FIXED(P_20号3様式1!I16,0,TRUE))<>P_20号3様式1!I16,RIGHT(FIXED(P_20号3様式1!I16,3,FALSE),4),\"\"),\"\"),\"\")","v":".000"},{"$f":"IF(P_20号3様式1!L16<> \"\",IF(P_20号3様式1!L16<> \"-\",TEXT(INT(P_20号3様式1!L16),\"#,##0\"),\"-\"),\"\")","v":""},{"$f":"IF(P_20号3様式1!L16<> \"\",IF(P_20号3様式1!L16<> \"-\",IF(VALUE(FIXED(P_20号3様式1!L16,0,TRUE))<>P_20号3様式1!L16,RIGHT(FIXED(P_20号3様式1!L16,3,FALSE),4),\"\"),\"\"),\"\")","v":""},{"$f":"IF(P_20号3様式1!O16<> \"\",IF(P_20号3様式1!O16<> \"-\",TEXT(INT(P_20号3様式1!O16),\"#,##0\"),\"-\"),\"\")","v":""},{"$f":"IF(P_20号3様式1!O16<> \"\",IF(P_20号3様式1!O16<> \"-\",IF(VALUE(FIXED(P_20号3様式1!O16,0,TRUE))<>P_20号3様式1!O16,RIGHT(FIXED(P_20号3様式1!O16,3,FALSE),4),\"\"),\"\"),\"\")","v":""},{"$f":"IF(P_20号3様式1!R16<> \"\",IF(P_20号3様式1!R16<> \"-\",TEXT(INT(P_20号3様式1!R16),\"#,##0\"),\"-\"),\"\")","v":""},{"$f":"IF(P_20号3様式1!R16<> \"\",IF(P_20号3様式1!R16<> \"-\",IF(VALUE(FIXED(P_20号3様式1!R16,0,TRUE))<>P_20号3様式1!R16,RIGHT(FIXED(P_20号3様式1!R16,3,FALSE),4),\"\"),\"\"),\"\")","v":""},{"$f":"IF(P_20号3様式1!U16<> \"\",IF(P_20号3様式1!U16<> \"-\",TEXT(INT(P_20号3様式1!U16),\"#,##0\"),\"-\"),\"\")","v":""},{"$f":"IF(P_20号3様式1!U16<> \"\",IF(P_20号3様式1!U16<> \"-\",IF(VALUE(FIXED(P_20号3様式1!U16,0,TRUE))<>P_20号3様式1!U16,RIGHT(FIXED(P_20号3様式1!U16,3,FALSE),4),\"\"),\"\"),\"\")","v":""},{"$f":"IF(P_20号3様式1!X16<> \"\",IF(P_20号3様式1!X16<> \"-\",TEXT(INT(P_20号3様式1!X16),\"#,##0\"),\"-\"),\"\")","v":""},{"$f":"IF(P_20号3様式1!X16<> \"\",IF(P_20号3様式1!X16<> \"-\",IF(VALUE(FIXED(P_20号3様式1!X16,0,TRUE))<>P_20号3様式1!X16,RIGHT(FIXED(P_20号3様式1!X16,3,FALSE),4),\"\"),\"\"),\"\")","v":""},{"$f":"IF(P_20号3様式1!AA16<> \"\",IF(P_20号3様式1!AA16<> \"-\",TEXT(INT(P_20号3様式1!AA16),\"#,##0\"),\"-\"),\"\")","v":""},{"$f":"IF(P_20号3様式1!AA16<> \"\",IF(P_20号3様式1!AA16<> \"-\",IF(VALUE(FIXED(P_20号3様式1!AA16,0,TRUE))<>P_20号3様式1!AA16,RIGHT(FIXED(P_20号3様式1!AA16,3,FALSE),4),\"\"),\"\"),\"\")","v":""}]
[{"$f":"IF(P_20号3様式1!C17=\"\",\"\",P_20号3様式1!C17)","v":"いちき串木野市"},{"$f":"IF(P_20号3様式1!AE17<> \"\",TEXT(INT(P_20号3様式1!AE17),\"#,##0\"),\"\")","v":"3"},{"$f":"IF(P_20号3様式1!AE17= \"\",\"\",IF(VALUE(FIXED(P_20号3様式1!AE17,0,TRUE))<>P_20号3様式1!AE17,RIGHT(FIXED(P_20号3様式1!AE17,3,FALSE),4),\"\"))","v":".000"},{"$f":"IF(P_20号3様式1!F17<> \"\",IF(P_20号3様式1!F17<> \"-\",TEXT(INT(P_20号3様式1!F17),\"#,##0\"),\"-\"),\"\")","v":"2"},{"$f":"IF(P_20号3様式1!F17<> \"\",IF(P_20号3様式1!F17<> \"-\",IF(VALUE(FIXED(P_20号3様式1!F17,0,TRUE))<>P_20号3様式1!F17,RIGHT(FIXED(P_20号3様式1!F17,3,FALSE),4),\"\"),\"\"),\"\")","v":".000"},{"$f":"IF(P_20号3様式1!I17<> \"\",IF(P_20号3様式1!I17<> \"-\",TEXT(INT(P_20号3様式1!I17),\"#,##0\"),\"-\"),\"\")","v":"1"},{"$f":"IF(P_20号3様式1!I17<> \"\",IF(P_20号3様式1!I17<> \"-\",IF(VALUE(FIXED(P_20号3様式1!I17,0,TRUE))<>P_20号3様式1!I17,RIGHT(FIXED(P_20号3様式1!I17,3,FALSE),4),\"\"),\"\"),\"\")","v":".000"},{"$f":"IF(P_20号3様式1!L17<> \"\",IF(P_20号3様式1!L17<> \"-\",TEXT(INT(P_20号3様式1!L17),\"#,##0\"),\"-\"),\"\")","v":""},{"$f":"IF(P_20号3様式1!L17<> \"\",IF(P_20号3様式1!L17<> \"-\",IF(VALUE(FIXED(P_20号3様式1!L17,0,TRUE))<>P_20号3様式1!L17,RIGHT(FIXED(P_20号3様式1!L17,3,FALSE),4),\"\"),\"\"),\"\")","v":""},{"$f":"IF(P_20号3様式1!O17<> \"\",IF(P_20号3様式1!O17<> \"-\",TEXT(INT(P_20号3様式1!O17),\"#,##0\"),\"-\"),\"\")","v":""},{"$f":"IF(P_20号3様式1!O17<> \"\",IF(P_20号3様式1!O17<> \"-\",IF(VALUE(FIXED(P_20号3様式1!O17,0,TRUE))<>P_20号3様式1!O17,RIGHT(FIXED(P_20号3様式1!O17,3,FALSE),4),\"\"),\"\"),\"\")","v":""},{"$f":"IF(P_20号3様式1!R17<> \"\",IF(P_20号3様式1!R17<> \"-\",TEXT(INT(P_20号3様式1!R17),\"#,##0\"),\"-\"),\"\")","v":""},{"$f":"IF(P_20号3様式1!R17<> \"\",IF(P_20号3様式1!R17<> \"-\",IF(VALUE(FIXED(P_20号3様式1!R17,0,TRUE))<>P_20号3様式1!R17,RIGHT(FIXED(P_20号3様式1!R17,3,FALSE),4),\"\"),\"\"),\"\")","v":""},{"$f":"IF(P_20号3様式1!U17<> \"\",IF(P_20号3様式1!U17<> \"-\",TEXT(INT(P_20号3様式1!U17),\"#,##0\"),\"-\"),\"\")","v":""},{"$f":"IF(P_20号3様式1!U17<> \"\",IF(P_20号3様式1!U17<> \"-\",IF(VALUE(FIXED(P_20号3様式1!U17,0,TRUE))<>P_20号3様式1!U17,RIGHT(FIXED(P_20号3様式1!U17,3,FALSE),4),\"\"),\"\"),\"\")","v":""},{"$f":"IF(P_20号3様式1!X17<> \"\",IF(P_20号3様式1!X17<> \"-\",TEXT(INT(P_20号3様式1!X17),\"#,##0\"),\"-\"),\"\")","v":""},{"$f":"IF(P_20号3様式1!X17<> \"\",IF(P_20号3様式1!X17<> \"-\",IF(VALUE(FIXED(P_20号3様式1!X17,0,TRUE))<>P_20号3様式1!X17,RIGHT(FIXED(P_20号3様式1!X17,3,FALSE),4),\"\"),\"\"),\"\")","v":""},{"$f":"IF(P_20号3様式1!AA17<> \"\",IF(P_20号3様式1!AA17<> \"-\",TEXT(INT(P_20号3様式1!AA17),\"#,##0\"),\"-\"),\"\")","v":""},{"$f":"IF(P_20号3様式1!AA17<> \"\",IF(P_20号3様式1!AA17<> \"-\",IF(VALUE(FIXED(P_20号3様式1!AA17,0,TRUE))<>P_20号3様式1!AA17,RIGHT(FIXED(P_20号3様式1!AA17,3,FALSE),4),\"\"),\"\"),\"\")","v":""}]
[{"$f":"IF(P_20号3様式1!C18=\"\",\"\",P_20号3様式1!C18)","v":"南さつま市"},{"$f":"IF(P_20号3様式1!AE18<> \"\",TEXT(INT(P_20号3様式1!AE18),\"#,##0\"),\"\")","v":"9"},{"$f":"IF(P_20号3様式1!AE18= \"\",\"\",IF(VALUE(FIXED(P_20号3様式1!AE18,0,TRUE))<>P_20号3様式1!AE18,RIGHT(FIXED(P_20号3様式1!AE18,3,FALSE),4),\"\"))","v":".000"},{"$f":"IF(P_20号3様式1!F18<> \"\",IF(P_20号3様式1!F18<> \"-\",TEXT(INT(P_20号3様式1!F18),\"#,##0\"),\"-\"),\"\")","v":"6"},{"$f":"IF(P_20号3様式1!F18<> \"\",IF(P_20号3様式1!F18<> \"-\",IF(VALUE(FIXED(P_20号3様式1!F18,0,TRUE))<>P_20号3様式1!F18,RIGHT(FIXED(P_20号3様式1!F18,3,FALSE),4),\"\"),\"\"),\"\")","v":".000"},{"$f":"IF(P_20号3様式1!I18<> \"\",IF(P_20号3様式1!I18<> \"-\",TEXT(INT(P_20号3様式1!I18),\"#,##0\"),\"-\"),\"\")","v":"3"},{"$f":"IF(P_20号3様式1!I18<> \"\",IF(P_20号3様式1!I18<> \"-\",IF(VALUE(FIXED(P_20号3様式1!I18,0,TRUE))<>P_20号3様式1!I18,RIGHT(FIXED(P_20号3様式1!I18,3,FALSE),4),\"\"),\"\"),\"\")","v":".000"},{"$f":"IF(P_20号3様式1!L18<> \"\",IF(P_20号3様式1!L18<> \"-\",TEXT(INT(P_20号3様式1!L18),\"#,##0\"),\"-\"),\"\")","v":""},{"$f":"IF(P_20号3様式1!L18<> \"\",IF(P_20号3様式1!L18<> \"-\",IF(VALUE(FIXED(P_20号3様式1!L18,0,TRUE))<>P_20号3様式1!L18,RIGHT(FIXED(P_20号3様式1!L18,3,FALSE),4),\"\"),\"\"),\"\")","v":""},{"$f":"IF(P_20号3様式1!O18<> \"\",IF(P_20号3様式1!O18<> \"-\",TEXT(INT(P_20号3様式1!O18),\"#,##0\"),\"-\"),\"\")","v":""},{"$f":"IF(P_20号3様式1!O18<> \"\",IF(P_20号3様式1!O18<> \"-\",IF(VALUE(FIXED(P_20号3様式1!O18,0,TRUE))<>P_20号3様式1!O18,RIGHT(FIXED(P_20号3様式1!O18,3,FALSE),4),\"\"),\"\"),\"\")","v":""},{"$f":"IF(P_20号3様式1!R18<> \"\",IF(P_20号3様式1!R18<> \"-\",TEXT(INT(P_20号3様式1!R18),\"#,##0\"),\"-\"),\"\")","v":""},{"$f":"IF(P_20号3様式1!R18<> \"\",IF(P_20号3様式1!R18<> \"-\",IF(VALUE(FIXED(P_20号3様式1!R18,0,TRUE))<>P_20号3様式1!R18,RIGHT(FIXED(P_20号3様式1!R18,3,FALSE),4),\"\"),\"\"),\"\")","v":""},{"$f":"IF(P_20号3様式1!U18<> \"\",IF(P_20号3様式1!U18<> \"-\",TEXT(INT(P_20号3様式1!U18),\"#,##0\"),\"-\"),\"\")","v":""},{"$f":"IF(P_20号3様式1!U18<> \"\",IF(P_20号3様式1!U18<> \"-\",IF(VALUE(FIXED(P_20号3様式1!U18,0,TRUE))<>P_20号3様式1!U18,RIGHT(FIXED(P_20号3様式1!U18,3,FALSE),4),\"\"),\"\"),\"\")","v":""},{"$f":"IF(P_20号3様式1!X18<> \"\",IF(P_20号3様式1!X18<> \"-\",TEXT(INT(P_20号3様式1!X18),\"#,##0\"),\"-\"),\"\")","v":""},{"$f":"IF(P_20号3様式1!X18<> \"\",IF(P_20号3様式1!X18<> \"-\",IF(VALUE(FIXED(P_20号3様式1!X18,0,TRUE))<>P_20号3様式1!X18,RIGHT(FIXED(P_20号3様式1!X18,3,FALSE),4),\"\"),\"\"),\"\")","v":""},{"$f":"IF(P_20号3様式1!AA18<> \"\",IF(P_20号3様式1!AA18<> \"-\",TEXT(INT(P_20号3様式1!AA18),\"#,##0\"),\"-\"),\"\")","v":""},{"$f":"IF(P_20号3様式1!AA18<> \"\",IF(P_20号3様式1!AA18<> \"-\",IF(VALUE(FIXED(P_20号3様式1!AA18,0,TRUE))<>P_20号3様式1!AA18,RIGHT(FIXED(P_20号3様式1!AA18,3,FALSE),4),\"\"),\"\"),\"\")","v":""}]
[{"$f":"IF(P_20号3様式1!C19=\"\",\"\",P_20号3様式1!C19)","v":"志布志市"},{"$f":"IF(P_20号3様式1!AE19<> \"\",TEXT(INT(P_20号3様式1!AE19),\"#,##0\"),\"\")","v":"4"},{"$f":"IF(P_20号3様式1!AE19= \"\",\"\",IF(VALUE(FIXED(P_20号3様式1!AE19,0,TRUE))<>P_20号3様式1!AE19,RIGHT(FIXED(P_20号3様式1!AE19,3,FALSE),4),\"\"))","v":".000"},{"$f":"IF(P_20号3様式1!F19<> \"\",IF(P_20号3様式1!F19<> \"-\",TEXT(INT(P_20号3様式1!F19),\"#,##0\"),\"-\"),\"\")","v":"4"},{"$f":"IF(P_20号3様式1!F19<> \"\",IF(P_20号3様式1!F19<> \"-\",IF(VALUE(FIXED(P_20号3様式1!F19,0,TRUE))<>P_20号3様式1!F19,RIGHT(FIXED(P_20号3様式1!F19,3,FALSE),4),\"\"),\"\"),\"\")","v":".000"},{"$f":"IF(P_20号3様式1!I19<> \"\",IF(P_20号3様式1!I19<> \"-\",TEXT(INT(P_20号3様式1!I19),\"#,##0\"),\"-\"),\"\")","v":"0"},{"$f":"IF(P_20号3様式1!I19<> \"\",IF(P_20号3様式1!I19<> \"-\",IF(VALUE(FIXED(P_20号3様式1!I19,0,TRUE))<>P_20号3様式1!I19,RIGHT(FIXED(P_20号3様式1!I19,3,FALSE),4),\"\"),\"\"),\"\")","v":".000"},{"$f":"IF(P_20号3様式1!L19<> \"\",IF(P_20号3様式1!L19<> \"-\",TEXT(INT(P_20号3様式1!L19),\"#,##0\"),\"-\"),\"\")","v":""},{"$f":"IF(P_20号3様式1!L19<> \"\",IF(P_20号3様式1!L19<> \"-\",IF(VALUE(FIXED(P_20号3様式1!L19,0,TRUE))<>P_20号3様式1!L19,RIGHT(FIXED(P_20号3様式1!L19,3,FALSE),4),\"\"),\"\"),\"\")","v":""},{"$f":"IF(P_20号3様式1!O19<> \"\",IF(P_20号3様式1!O19<> \"-\",TEXT(INT(P_20号3様式1!O19),\"#,##0\"),\"-\"),\"\")","v":""},{"$f":"IF(P_20号3様式1!O19<> \"\",IF(P_20号3様式1!O19<> \"-\",IF(VALUE(FIXED(P_20号3様式1!O19,0,TRUE))<>P_20号3様式1!O19,RIGHT(FIXED(P_20号3様式1!O19,3,FALSE),4),\"\"),\"\"),\"\")","v":""},{"$f":"IF(P_20号3様式1!R19<> \"\",IF(P_20号3様式1!R19<> \"-\",TEXT(INT(P_20号3様式1!R19),\"#,##0\"),\"-\"),\"\")","v":""},{"$f":"IF(P_20号3様式1!R19<> \"\",IF(P_20号3様式1!R19<> \"-\",IF(VALUE(FIXED(P_20号3様式1!R19,0,TRUE))<>P_20号3様式1!R19,RIGHT(FIXED(P_20号3様式1!R19,3,FALSE),4),\"\"),\"\"),\"\")","v":""},{"$f":"IF(P_20号3様式1!U19<> \"\",IF(P_20号3様式1!U19<> \"-\",TEXT(INT(P_20号3様式1!U19),\"#,##0\"),\"-\"),\"\")","v":""},{"$f":"IF(P_20号3様式1!U19<> \"\",IF(P_20号3様式1!U19<> \"-\",IF(VALUE(FIXED(P_20号3様式1!U19,0,TRUE))<>P_20号3様式1!U19,RIGHT(FIXED(P_20号3様式1!U19,3,FALSE),4),\"\"),\"\"),\"\")","v":""},{"$f":"IF(P_20号3様式1!X19<> \"\",IF(P_20号3様式1!X19<> \"-\",TEXT(INT(P_20号3様式1!X19),\"#,##0\"),\"-\"),\"\")","v":""},{"$f":"IF(P_20号3様式1!X19<> \"\",IF(P_20号3様式1!X19<> \"-\",IF(VALUE(FIXED(P_20号3様式1!X19,0,TRUE))<>P_20号3様式1!X19,RIGHT(FIXED(P_20号3様式1!X19,3,FALSE),4),\"\"),\"\"),\"\")","v":""},{"$f":"IF(P_20号3様式1!AA19<> \"\",IF(P_20号3様式1!AA19<> \"-\",TEXT(INT(P_20号3様式1!AA19),\"#,##0\"),\"-\"),\"\")","v":""},{"$f":"IF(P_20号3様式1!AA19<> \"\",IF(P_20号3様式1!AA19<> \"-\",IF(VALUE(FIXED(P_20号3様式1!AA19,0,TRUE))<>P_20号3様式1!AA19,RIGHT(FIXED(P_20号3様式1!AA19,3,FALSE),4),\"\"),\"\"),\"\")","v":""}]
[{"$f":"IF(P_20号3様式1!C20=\"\",\"\",P_20号3様式1!C20)","v":"奄美市"},{"$f":"IF(P_20号3様式1!AE20<> \"\",TEXT(INT(P_20号3様式1!AE20),\"#,##0\"),\"\")","v":"9"},{"$f":"IF(P_20号3様式1!AE20= \"\",\"\",IF(VALUE(FIXED(P_20号3様式1!AE20,0,TRUE))<>P_20号3様式1!AE20,RIGHT(FIXED(P_20号3様式1!AE20,3,FALSE),4),\"\"))","v":".000"},{"$f":"IF(P_20号3様式1!F20<> \"\",IF(P_20号3様式1!F20<> \"-\",TEXT(INT(P_20号3様式1!F20),\"#,##0\"),\"-\"),\"\")","v":"7"},{"$f":"IF(P_20号3様式1!F20<> \"\",IF(P_20号3様式1!F20<> \"-\",IF(VALUE(FIXED(P_20号3様式1!F20,0,TRUE))<>P_20号3様式1!F20,RIGHT(FIXED(P_20号3様式1!F20,3,FALSE),4),\"\"),\"\"),\"\")","v":".000"},{"$f":"IF(P_20号3様式1!I20<> \"\",IF(P_20号3様式1!I20<> \"-\",TEXT(INT(P_20号3様式1!I20),\"#,##0\"),\"-\"),\"\")","v":"2"},{"$f":"IF(P_20号3様式1!I20<> \"\",IF(P_20号3様式1!I20<> \"-\",IF(VALUE(FIXED(P_20号3様式1!I20,0,TRUE))<>P_20号3様式1!I20,RIGHT(FIXED(P_20号3様式1!I20,3,FALSE),4),\"\"),\"\"),\"\")","v":".000"},{"$f":"IF(P_20号3様式1!L20<> \"\",IF(P_20号3様式1!L20<> \"-\",TEXT(INT(P_20号3様式1!L20),\"#,##0\"),\"-\"),\"\")","v":""},{"$f":"IF(P_20号3様式1!L20<> \"\",IF(P_20号3様式1!L20<> \"-\",IF(VALUE(FIXED(P_20号3様式1!L20,0,TRUE))<>P_20号3様式1!L20,RIGHT(FIXED(P_20号3様式1!L20,3,FALSE),4),\"\"),\"\"),\"\")","v":""},{"$f":"IF(P_20号3様式1!O20<> \"\",IF(P_20号3様式1!O20<> \"-\",TEXT(INT(P_20号3様式1!O20),\"#,##0\"),\"-\"),\"\")","v":""},{"$f":"IF(P_20号3様式1!O20<> \"\",IF(P_20号3様式1!O20<> \"-\",IF(VALUE(FIXED(P_20号3様式1!O20,0,TRUE))<>P_20号3様式1!O20,RIGHT(FIXED(P_20号3様式1!O20,3,FALSE),4),\"\"),\"\"),\"\")","v":""},{"$f":"IF(P_20号3様式1!R20<> \"\",IF(P_20号3様式1!R20<> \"-\",TEXT(INT(P_20号3様式1!R20),\"#,##0\"),\"-\"),\"\")","v":""},{"$f":"IF(P_20号3様式1!R20<> \"\",IF(P_20号3様式1!R20<> \"-\",IF(VALUE(FIXED(P_20号3様式1!R20,0,TRUE))<>P_20号3様式1!R20,RIGHT(FIXED(P_20号3様式1!R20,3,FALSE),4),\"\"),\"\"),\"\")","v":""},{"$f":"IF(P_20号3様式1!U20<> \"\",IF(P_20号3様式1!U20<> \"-\",TEXT(INT(P_20号3様式1!U20),\"#,##0\"),\"-\"),\"\")","v":""},{"$f":"IF(P_20号3様式1!U20<> \"\",IF(P_20号3様式1!U20<> \"-\",IF(VALUE(FIXED(P_20号3様式1!U20,0,TRUE))<>P_20号3様式1!U20,RIGHT(FIXED(P_20号3様式1!U20,3,FALSE),4),\"\"),\"\"),\"\")","v":""},{"$f":"IF(P_20号3様式1!X20<> \"\",IF(P_20号3様式1!X20<> \"-\",TEXT(INT(P_20号3様式1!X20),\"#,##0\"),\"-\"),\"\")","v":""},{"$f":"IF(P_20号3様式1!X20<> \"\",IF(P_20号3様式1!X20<> \"-\",IF(VALUE(FIXED(P_20号3様式1!X20,0,TRUE))<>P_20号3様式1!X20,RIGHT(FIXED(P_20号3様式1!X20,3,FALSE),4),\"\"),\"\"),\"\")","v":""},{"$f":"IF(P_20号3様式1!AA20<> \"\",IF(P_20号3様式1!AA20<> \"-\",TEXT(INT(P_20号3様式1!AA20),\"#,##0\"),\"-\"),\"\")","v":""},{"$f":"IF(P_20号3様式1!AA20<> \"\",IF(P_20号3様式1!AA20<> \"-\",IF(VALUE(FIXED(P_20号3様式1!AA20,0,TRUE))<>P_20号3様式1!AA20,RIGHT(FIXED(P_20号3様式1!AA20,3,FALSE),4),\"\"),\"\"),\"\")","v":""}]
[{"$f":"IF(P_20号3様式1!C21=\"\",\"\",P_20号3様式1!C21)","v":"南九州市"},{"$f":"IF(P_20号3様式1!AE21<> \"\",TEXT(INT(P_20号3様式1!AE21),\"#,##0\"),\"\")","v":"6"},{"$f":"IF(P_20号3様式1!AE21= \"\",\"\",IF(VALUE(FIXED(P_20号3様式1!AE21,0,TRUE))<>P_20号3様式1!AE21,RIGHT(FIXED(P_20号3様式1!AE21,3,FALSE),4),\"\"))","v":".000"},{"$f":"IF(P_20号3様式1!F21<> \"\",IF(P_20号3様式1!F21<> \"-\",TEXT(INT(P_20号3様式1!F21),\"#,##0\"),\"-\"),\"\")","v":"3"},{"$f":"IF(P_20号3様式1!F21<> \"\",IF(P_20号3様式1!F21<> \"-\",IF(VALUE(FIXED(P_20号3様式1!F21,0,TRUE))<>P_20号3様式1!F21,RIGHT(FIXED(P_20号3様式1!F21,3,FALSE),4),\"\"),\"\"),\"\")","v":".000"},{"$f":"IF(P_20号3様式1!I21<> \"\",IF(P_20号3様式1!I21<> \"-\",TEXT(INT(P_20号3様式1!I21),\"#,##0\"),\"-\"),\"\")","v":"3"},{"$f":"IF(P_20号3様式1!I21<> \"\",IF(P_20号3様式1!I21<> \"-\",IF(VALUE(FIXED(P_20号3様式1!I21,0,TRUE))<>P_20号3様式1!I21,RIGHT(FIXED(P_20号3様式1!I21,3,FALSE),4),\"\"),\"\"),\"\")","v":".000"},{"$f":"IF(P_20号3様式1!L21<> \"\",IF(P_20号3様式1!L21<> \"-\",TEXT(INT(P_20号3様式1!L21),\"#,##0\"),\"-\"),\"\")","v":""},{"$f":"IF(P_20号3様式1!L21<> \"\",IF(P_20号3様式1!L21<> \"-\",IF(VALUE(FIXED(P_20号3様式1!L21,0,TRUE))<>P_20号3様式1!L21,RIGHT(FIXED(P_20号3様式1!L21,3,FALSE),4),\"\"),\"\"),\"\")","v":""},{"$f":"IF(P_20号3様式1!O21<> \"\",IF(P_20号3様式1!O21<> \"-\",TEXT(INT(P_20号3様式1!O21),\"#,##0\"),\"-\"),\"\")","v":""},{"$f":"IF(P_20号3様式1!O21<> \"\",IF(P_20号3様式1!O21<> \"-\",IF(VALUE(FIXED(P_20号3様式1!O21,0,TRUE))<>P_20号3様式1!O21,RIGHT(FIXED(P_20号3様式1!O21,3,FALSE),4),\"\"),\"\"),\"\")","v":""},{"$f":"IF(P_20号3様式1!R21<> \"\",IF(P_20号3様式1!R21<> \"-\",TEXT(INT(P_20号3様式1!R21),\"#,##0\"),\"-\"),\"\")","v":""},{"$f":"IF(P_20号3様式1!R21<> \"\",IF(P_20号3様式1!R21<> \"-\",IF(VALUE(FIXED(P_20号3様式1!R21,0,TRUE))<>P_20号3様式1!R21,RIGHT(FIXED(P_20号3様式1!R21,3,FALSE),4),\"\"),\"\"),\"\")","v":""},{"$f":"IF(P_20号3様式1!U21<> \"\",IF(P_20号3様式1!U21<> \"-\",TEXT(INT(P_20号3様式1!U21),\"#,##0\"),\"-\"),\"\")","v":""},{"$f":"IF(P_20号3様式1!U21<> \"\",IF(P_20号3様式1!U21<> \"-\",IF(VALUE(FIXED(P_20号3様式1!U21,0,TRUE))<>P_20号3様式1!U21,RIGHT(FIXED(P_20号3様式1!U21,3,FALSE),4),\"\"),\"\"),\"\")","v":""},{"$f":"IF(P_20号3様式1!X21<> \"\",IF(P_20号3様式1!X21<> \"-\",TEXT(INT(P_20号3様式1!X21),\"#,##0\"),\"-\"),\"\")","v":""},{"$f":"IF(P_20号3様式1!X21<> \"\",IF(P_20号3様式1!X21<> \"-\",IF(VALUE(FIXED(P_20号3様式1!X21,0,TRUE))<>P_20号3様式1!X21,RIGHT(FIXED(P_20号3様式1!X21,3,FALSE),4),\"\"),\"\"),\"\")","v":""},{"$f":"IF(P_20号3様式1!AA21<> \"\",IF(P_20号3様式1!AA21<> \"-\",TEXT(INT(P_20号3様式1!AA21),\"#,##0\"),\"-\"),\"\")","v":""},{"$f":"IF(P_20号3様式1!AA21<> \"\",IF(P_20号3様式1!AA21<> \"-\",IF(VALUE(FIXED(P_20号3様式1!AA21,0,TRUE))<>P_20号3様式1!AA21,RIGHT(FIXED(P_20号3様式1!AA21,3,FALSE),4),\"\"),\"\"),\"\")","v":""}]
[{"$f":"IF(P_20号3様式1!C22=\"\",\"\",P_20号3様式1!C22)","v":"伊佐市"},{"$f":"IF(P_20号3様式1!AE22<> \"\",TEXT(INT(P_20号3様式1!AE22),\"#,##0\"),\"\")","v":"3"},{"$f":"IF(P_20号3様式1!AE22= \"\",\"\",IF(VALUE(FIXED(P_20号3様式1!AE22,0,TRUE))<>P_20号3様式1!AE22,RIGHT(FIXED(P_20号3様式1!AE22,3,FALSE),4),\"\"))","v":".000"},{"$f":"IF(P_20号3様式1!F22<> \"\",IF(P_20号3様式1!F22<> \"-\",TEXT(INT(P_20号3様式1!F22),\"#,##0\"),\"-\"),\"\")","v":"3"},{"$f":"IF(P_20号3様式1!F22<> \"\",IF(P_20号3様式1!F22<> \"-\",IF(VALUE(FIXED(P_20号3様式1!F22,0,TRUE))<>P_20号3様式1!F22,RIGHT(FIXED(P_20号3様式1!F22,3,FALSE),4),\"\"),\"\"),\"\")","v":".000"},{"$f":"IF(P_20号3様式1!I22<> \"\",IF(P_20号3様式1!I22<> \"-\",TEXT(INT(P_20号3様式1!I22),\"#,##0\"),\"-\"),\"\")","v":"0"},{"$f":"IF(P_20号3様式1!I22<> \"\",IF(P_20号3様式1!I22<> \"-\",IF(VALUE(FIXED(P_20号3様式1!I22,0,TRUE))<>P_20号3様式1!I22,RIGHT(FIXED(P_20号3様式1!I22,3,FALSE),4),\"\"),\"\"),\"\")","v":".000"},{"$f":"IF(P_20号3様式1!L22<> \"\",IF(P_20号3様式1!L22<> \"-\",TEXT(INT(P_20号3様式1!L22),\"#,##0\"),\"-\"),\"\")","v":""},{"$f":"IF(P_20号3様式1!L22<> \"\",IF(P_20号3様式1!L22<> \"-\",IF(VALUE(FIXED(P_20号3様式1!L22,0,TRUE))<>P_20号3様式1!L22,RIGHT(FIXED(P_20号3様式1!L22,3,FALSE),4),\"\"),\"\"),\"\")","v":""},{"$f":"IF(P_20号3様式1!O22<> \"\",IF(P_20号3様式1!O22<> \"-\",TEXT(INT(P_20号3様式1!O22),\"#,##0\"),\"-\"),\"\")","v":""},{"$f":"IF(P_20号3様式1!O22<> \"\",IF(P_20号3様式1!O22<> \"-\",IF(VALUE(FIXED(P_20号3様式1!O22,0,TRUE))<>P_20号3様式1!O22,RIGHT(FIXED(P_20号3様式1!O22,3,FALSE),4),\"\"),\"\"),\"\")","v":""},{"$f":"IF(P_20号3様式1!R22<> \"\",IF(P_20号3様式1!R22<> \"-\",TEXT(INT(P_20号3様式1!R22),\"#,##0\"),\"-\"),\"\")","v":""},{"$f":"IF(P_20号3様式1!R22<> \"\",IF(P_20号3様式1!R22<> \"-\",IF(VALUE(FIXED(P_20号3様式1!R22,0,TRUE))<>P_20号3様式1!R22,RIGHT(FIXED(P_20号3様式1!R22,3,FALSE),4),\"\"),\"\"),\"\")","v":""},{"$f":"IF(P_20号3様式1!U22<> \"\",IF(P_20号3様式1!U22<> \"-\",TEXT(INT(P_20号3様式1!U22),\"#,##0\"),\"-\"),\"\")","v":""},{"$f":"IF(P_20号3様式1!U22<> \"\",IF(P_20号3様式1!U22<> \"-\",IF(VALUE(FIXED(P_20号3様式1!U22,0,TRUE))<>P_20号3様式1!U22,RIGHT(FIXED(P_20号3様式1!U22,3,FALSE),4),\"\"),\"\"),\"\")","v":""},{"$f":"IF(P_20号3様式1!X22<> \"\",IF(P_20号3様式1!X22<> \"-\",TEXT(INT(P_20号3様式1!X22),\"#,##0\"),\"-\"),\"\")","v":""},{"$f":"IF(P_20号3様式1!X22<> \"\",IF(P_20号3様式1!X22<> \"-\",IF(VALUE(FIXED(P_20号3様式1!X22,0,TRUE))<>P_20号3様式1!X22,RIGHT(FIXED(P_20号3様式1!X22,3,FALSE),4),\"\"),\"\"),\"\")","v":""},{"$f":"IF(P_20号3様式1!AA22<> \"\",IF(P_20号3様式1!AA22<> \"-\",TEXT(INT(P_20号3様式1!AA22),\"#,##0\"),\"-\"),\"\")","v":""},{"$f":"IF(P_20号3様式1!AA22<> \"\",IF(P_20号3様式1!AA22<> \"-\",IF(VALUE(FIXED(P_20号3様式1!AA22,0,TRUE))<>P_20号3様式1!AA22,RIGHT(FIXED(P_20号3様式1!AA22,3,FALSE),4),\"\"),\"\"),\"\")","v":""}]
[{"$f":"IF(P_20号3様式1!C23=\"\",\"\",P_20号3様式1!C23)","v":"姶良市"},{"$f":"IF(P_20号3様式1!AE23<> \"\",TEXT(INT(P_20号3様式1!AE23),\"#,##0\"),\"\")","v":"14"},{"$f":"IF(P_20号3様式1!AE23= \"\",\"\",IF(VALUE(FIXED(P_20号3様式1!AE23,0,TRUE))<>P_20号3様式1!AE23,RIGHT(FIXED(P_20号3様式1!AE23,3,FALSE),4),\"\"))","v":".000"},{"$f":"IF(P_20号3様式1!F23<> \"\",IF(P_20号3様式1!F23<> \"-\",TEXT(INT(P_20号3様式1!F23),\"#,##0\"),\"-\"),\"\")","v":"11"},{"$f":"IF(P_20号3様式1!F23<> \"\",IF(P_20号3様式1!F23<> \"-\",IF(VALUE(FIXED(P_20号3様式1!F23,0,TRUE))<>P_20号3様式1!F23,RIGHT(FIXED(P_20号3様式1!F23,3,FALSE),4),\"\"),\"\"),\"\")","v":".000"},{"$f":"IF(P_20号3様式1!I23<> \"\",IF(P_20号3様式1!I23<> \"-\",TEXT(INT(P_20号3様式1!I23),\"#,##0\"),\"-\"),\"\")","v":"3"},{"$f":"IF(P_20号3様式1!I23<> \"\",IF(P_20号3様式1!I23<> \"-\",IF(VALUE(FIXED(P_20号3様式1!I23,0,TRUE))<>P_20号3様式1!I23,RIGHT(FIXED(P_20号3様式1!I23,3,FALSE),4),\"\"),\"\"),\"\")","v":".000"},{"$f":"IF(P_20号3様式1!L23<> \"\",IF(P_20号3様式1!L23<> \"-\",TEXT(INT(P_20号3様式1!L23),\"#,##0\"),\"-\"),\"\")","v":""},{"$f":"IF(P_20号3様式1!L23<> \"\",IF(P_20号3様式1!L23<> \"-\",IF(VALUE(FIXED(P_20号3様式1!L23,0,TRUE))<>P_20号3様式1!L23,RIGHT(FIXED(P_20号3様式1!L23,3,FALSE),4),\"\"),\"\"),\"\")","v":""},{"$f":"IF(P_20号3様式1!O23<> \"\",IF(P_20号3様式1!O23<> \"-\",TEXT(INT(P_20号3様式1!O23),\"#,##0\"),\"-\"),\"\")","v":""},{"$f":"IF(P_20号3様式1!O23<> \"\",IF(P_20号3様式1!O23<> \"-\",IF(VALUE(FIXED(P_20号3様式1!O23,0,TRUE))<>P_20号3様式1!O23,RIGHT(FIXED(P_20号3様式1!O23,3,FALSE),4),\"\"),\"\"),\"\")","v":""},{"$f":"IF(P_20号3様式1!R23<> \"\",IF(P_20号3様式1!R23<> \"-\",TEXT(INT(P_20号3様式1!R23),\"#,##0\"),\"-\"),\"\")","v":""},{"$f":"IF(P_20号3様式1!R23<> \"\",IF(P_20号3様式1!R23<> \"-\",IF(VALUE(FIXED(P_20号3様式1!R23,0,TRUE))<>P_20号3様式1!R23,RIGHT(FIXED(P_20号3様式1!R23,3,FALSE),4),\"\"),\"\"),\"\")","v":""},{"$f":"IF(P_20号3様式1!U23<> \"\",IF(P_20号3様式1!U23<> \"-\",TEXT(INT(P_20号3様式1!U23),\"#,##0\"),\"-\"),\"\")","v":""},{"$f":"IF(P_20号3様式1!U23<> \"\",IF(P_20号3様式1!U23<> \"-\",IF(VALUE(FIXED(P_20号3様式1!U23,0,TRUE))<>P_20号3様式1!U23,RIGHT(FIXED(P_20号3様式1!U23,3,FALSE),4),\"\"),\"\"),\"\")","v":""},{"$f":"IF(P_20号3様式1!X23<> \"\",IF(P_20号3様式1!X23<> \"-\",TEXT(INT(P_20号3様式1!X23),\"#,##0\"),\"-\"),\"\")","v":""},{"$f":"IF(P_20号3様式1!X23<> \"\",IF(P_20号3様式1!X23<> \"-\",IF(VALUE(FIXED(P_20号3様式1!X23,0,TRUE))<>P_20号3様式1!X23,RIGHT(FIXED(P_20号3様式1!X23,3,FALSE),4),\"\"),\"\"),\"\")","v":""},{"$f":"IF(P_20号3様式1!AA23<> \"\",IF(P_20号3様式1!AA23<> \"-\",TEXT(INT(P_20号3様式1!AA23),\"#,##0\"),\"-\"),\"\")","v":""},{"$f":"IF(P_20号3様式1!AA23<> \"\",IF(P_20号3様式1!AA23<> \"-\",IF(VALUE(FIXED(P_20号3様式1!AA23,0,TRUE))<>P_20号3様式1!AA23,RIGHT(FIXED(P_20号3様式1!AA23,3,FALSE),4),\"\"),\"\"),\"\")","v":""}]
[{"$f":"IF(P_20号3様式1!C24=\"\",\"\",P_20号3様式1!C24)","v":"三島村"},{"$f":"IF(P_20号3様式1!AE24<> \"\",TEXT(INT(P_20号3様式1!AE24),\"#,##0\"),\"\")","v":"0"},{"$f":"IF(P_20号3様式1!AE24= \"\",\"\",IF(VALUE(FIXED(P_20号3様式1!AE24,0,TRUE))<>P_20号3様式1!AE24,RIGHT(FIXED(P_20号3様式1!AE24,3,FALSE),4),\"\"))","v":".000"},{"$f":"IF(P_20号3様式1!F24<> \"\",IF(P_20号3様式1!F24<> \"-\",TEXT(INT(P_20号3様式1!F24),\"#,##0\"),\"-\"),\"\")","v":"0"},{"$f":"IF(P_20号3様式1!F24<> \"\",IF(P_20号3様式1!F24<> \"-\",IF(VALUE(FIXED(P_20号3様式1!F24,0,TRUE))<>P_20号3様式1!F24,RIGHT(FIXED(P_20号3様式1!F24,3,FALSE),4),\"\"),\"\"),\"\")","v":".000"},{"$f":"IF(P_20号3様式1!I24<> \"\",IF(P_20号3様式1!I24<> \"-\",TEXT(INT(P_20号3様式1!I24),\"#,##0\"),\"-\"),\"\")","v":"0"},{"$f":"IF(P_20号3様式1!I24<> \"\",IF(P_20号3様式1!I24<> \"-\",IF(VALUE(FIXED(P_20号3様式1!I24,0,TRUE))<>P_20号3様式1!I24,RIGHT(FIXED(P_20号3様式1!I24,3,FALSE),4),\"\"),\"\"),\"\")","v":".000"},{"$f":"IF(P_20号3様式1!L24<> \"\",IF(P_20号3様式1!L24<> \"-\",TEXT(INT(P_20号3様式1!L24),\"#,##0\"),\"-\"),\"\")","v":""},{"$f":"IF(P_20号3様式1!L24<> \"\",IF(P_20号3様式1!L24<> \"-\",IF(VALUE(FIXED(P_20号3様式1!L24,0,TRUE))<>P_20号3様式1!L24,RIGHT(FIXED(P_20号3様式1!L24,3,FALSE),4),\"\"),\"\"),\"\")","v":""},{"$f":"IF(P_20号3様式1!O24<> \"\",IF(P_20号3様式1!O24<> \"-\",TEXT(INT(P_20号3様式1!O24),\"#,##0\"),\"-\"),\"\")","v":""},{"$f":"IF(P_20号3様式1!O24<> \"\",IF(P_20号3様式1!O24<> \"-\",IF(VALUE(FIXED(P_20号3様式1!O24,0,TRUE))<>P_20号3様式1!O24,RIGHT(FIXED(P_20号3様式1!O24,3,FALSE),4),\"\"),\"\"),\"\")","v":""},{"$f":"IF(P_20号3様式1!R24<> \"\",IF(P_20号3様式1!R24<> \"-\",TEXT(INT(P_20号3様式1!R24),\"#,##0\"),\"-\"),\"\")","v":""},{"$f":"IF(P_20号3様式1!R24<> \"\",IF(P_20号3様式1!R24<> \"-\",IF(VALUE(FIXED(P_20号3様式1!R24,0,TRUE))<>P_20号3様式1!R24,RIGHT(FIXED(P_20号3様式1!R24,3,FALSE),4),\"\"),\"\"),\"\")","v":""},{"$f":"IF(P_20号3様式1!U24<> \"\",IF(P_20号3様式1!U24<> \"-\",TEXT(INT(P_20号3様式1!U24),\"#,##0\"),\"-\"),\"\")","v":""},{"$f":"IF(P_20号3様式1!U24<> \"\",IF(P_20号3様式1!U24<> \"-\",IF(VALUE(FIXED(P_20号3様式1!U24,0,TRUE))<>P_20号3様式1!U24,RIGHT(FIXED(P_20号3様式1!U24,3,FALSE),4),\"\"),\"\"),\"\")","v":""},{"$f":"IF(P_20号3様式1!X24<> \"\",IF(P_20号3様式1!X24<> \"-\",TEXT(INT(P_20号3様式1!X24),\"#,##0\"),\"-\"),\"\")","v":""},{"$f":"IF(P_20号3様式1!X24<> \"\",IF(P_20号3様式1!X24<> \"-\",IF(VALUE(FIXED(P_20号3様式1!X24,0,TRUE))<>P_20号3様式1!X24,RIGHT(FIXED(P_20号3様式1!X24,3,FALSE),4),\"\"),\"\"),\"\")","v":""},{"$f":"IF(P_20号3様式1!AA24<> \"\",IF(P_20号3様式1!AA24<> \"-\",TEXT(INT(P_20号3様式1!AA24),\"#,##0\"),\"-\"),\"\")","v":""},{"$f":"IF(P_20号3様式1!AA24<> \"\",IF(P_20号3様式1!AA24<> \"-\",IF(VALUE(FIXED(P_20号3様式1!AA24,0,TRUE))<>P_20号3様式1!AA24,RIGHT(FIXED(P_20号3様式1!AA24,3,FALSE),4),\"\"),\"\"),\"\")","v":""}]
[{"$f":"IF(P_20号3様式1!C25=\"\",\"\",P_20号3様式1!C25)","v":"十島村"},{"$f":"IF(P_20号3様式1!AE25<> \"\",TEXT(INT(P_20号3様式1!AE25),\"#,##0\"),\"\")","v":"0"},{"$f":"IF(P_20号3様式1!AE25= \"\",\"\",IF(VALUE(FIXED(P_20号3様式1!AE25,0,TRUE))<>P_20号3様式1!AE25,RIGHT(FIXED(P_20号3様式1!AE25,3,FALSE),4),\"\"))","v":".000"},{"$f":"IF(P_20号3様式1!F25<> \"\",IF(P_20号3様式1!F25<> \"-\",TEXT(INT(P_20号3様式1!F25),\"#,##0\"),\"-\"),\"\")","v":"0"},{"$f":"IF(P_20号3様式1!F25<> \"\",IF(P_20号3様式1!F25<> \"-\",IF(VALUE(FIXED(P_20号3様式1!F25,0,TRUE))<>P_20号3様式1!F25,RIGHT(FIXED(P_20号3様式1!F25,3,FALSE),4),\"\"),\"\"),\"\")","v":".000"},{"$f":"IF(P_20号3様式1!I25<> \"\",IF(P_20号3様式1!I25<> \"-\",TEXT(INT(P_20号3様式1!I25),\"#,##0\"),\"-\"),\"\")","v":"0"},{"$f":"IF(P_20号3様式1!I25<> \"\",IF(P_20号3様式1!I25<> \"-\",IF(VALUE(FIXED(P_20号3様式1!I25,0,TRUE))<>P_20号3様式1!I25,RIGHT(FIXED(P_20号3様式1!I25,3,FALSE),4),\"\"),\"\"),\"\")","v":".000"},{"$f":"IF(P_20号3様式1!L25<> \"\",IF(P_20号3様式1!L25<> \"-\",TEXT(INT(P_20号3様式1!L25),\"#,##0\"),\"-\"),\"\")","v":""},{"$f":"IF(P_20号3様式1!L25<> \"\",IF(P_20号3様式1!L25<> \"-\",IF(VALUE(FIXED(P_20号3様式1!L25,0,TRUE))<>P_20号3様式1!L25,RIGHT(FIXED(P_20号3様式1!L25,3,FALSE),4),\"\"),\"\"),\"\")","v":""},{"$f":"IF(P_20号3様式1!O25<> \"\",IF(P_20号3様式1!O25<> \"-\",TEXT(INT(P_20号3様式1!O25),\"#,##0\"),\"-\"),\"\")","v":""},{"$f":"IF(P_20号3様式1!O25<> \"\",IF(P_20号3様式1!O25<> \"-\",IF(VALUE(FIXED(P_20号3様式1!O25,0,TRUE))<>P_20号3様式1!O25,RIGHT(FIXED(P_20号3様式1!O25,3,FALSE),4),\"\"),\"\"),\"\")","v":""},{"$f":"IF(P_20号3様式1!R25<> \"\",IF(P_20号3様式1!R25<> \"-\",TEXT(INT(P_20号3様式1!R25),\"#,##0\"),\"-\"),\"\")","v":""},{"$f":"IF(P_20号3様式1!R25<> \"\",IF(P_20号3様式1!R25<> \"-\",IF(VALUE(FIXED(P_20号3様式1!R25,0,TRUE))<>P_20号3様式1!R25,RIGHT(FIXED(P_20号3様式1!R25,3,FALSE),4),\"\"),\"\"),\"\")","v":""},{"$f":"IF(P_20号3様式1!U25<> \"\",IF(P_20号3様式1!U25<> \"-\",TEXT(INT(P_20号3様式1!U25),\"#,##0\"),\"-\"),\"\")","v":""},{"$f":"IF(P_20号3様式1!U25<> \"\",IF(P_20号3様式1!U25<> \"-\",IF(VALUE(FIXED(P_20号3様式1!U25,0,TRUE))<>P_20号3様式1!U25,RIGHT(FIXED(P_20号3様式1!U25,3,FALSE),4),\"\"),\"\"),\"\")","v":""},{"$f":"IF(P_20号3様式1!X25<> \"\",IF(P_20号3様式1!X25<> \"-\",TEXT(INT(P_20号3様式1!X25),\"#,##0\"),\"-\"),\"\")","v":""},{"$f":"IF(P_20号3様式1!X25<> \"\",IF(P_20号3様式1!X25<> \"-\",IF(VALUE(FIXED(P_20号3様式1!X25,0,TRUE))<>P_20号3様式1!X25,RIGHT(FIXED(P_20号3様式1!X25,3,FALSE),4),\"\"),\"\"),\"\")","v":""},{"$f":"IF(P_20号3様式1!AA25<> \"\",IF(P_20号3様式1!AA25<> \"-\",TEXT(INT(P_20号3様式1!AA25),\"#,##0\"),\"-\"),\"\")","v":""},{"$f":"IF(P_20号3様式1!AA25<> \"\",IF(P_20号3様式1!AA25<> \"-\",IF(VALUE(FIXED(P_20号3様式1!AA25,0,TRUE))<>P_20号3様式1!AA25,RIGHT(FIXED(P_20号3様式1!AA25,3,FALSE),4),\"\"),\"\"),\"\")","v":""}]
[{"$f":"IF(P_20号3様式1!C26=\"\",\"\",P_20号3様式1!C26)","v":"＊（鹿児島郡）計"},{"$f":"IF(P_20号3様式1!AE26<> \"\",TEXT(INT(P_20号3様式1!AE26),\"#,##0\"),\"\")","v":"0"},{"$f":"IF(P_20号3様式1!AE26= \"\",\"\",IF(VALUE(FIXED(P_20号3様式1!AE26,0,TRUE))<>P_20号3様式1!AE26,RIGHT(FIXED(P_20号3様式1!AE26,3,FALSE),4),\"\"))","v":".000"},{"$f":"IF(P_20号3様式1!F26<> \"\",IF(P_20号3様式1!F26<> \"-\",TEXT(INT(P_20号3様式1!F26),\"#,##0\"),\"-\"),\"\")","v":"0"},{"$f":"IF(P_20号3様式1!F26<> \"\",IF(P_20号3様式1!F26<> \"-\",IF(VALUE(FIXED(P_20号3様式1!F26,0,TRUE))<>P_20号3様式1!F26,RIGHT(FIXED(P_20号3様式1!F26,3,FALSE),4),\"\"),\"\"),\"\")","v":".000"},{"$f":"IF(P_20号3様式1!I26<> \"\",IF(P_20号3様式1!I26<> \"-\",TEXT(INT(P_20号3様式1!I26),\"#,##0\"),\"-\"),\"\")","v":"0"},{"$f":"IF(P_20号3様式1!I26<> \"\",IF(P_20号3様式1!I26<> \"-\",IF(VALUE(FIXED(P_20号3様式1!I26,0,TRUE))<>P_20号3様式1!I26,RIGHT(FIXED(P_20号3様式1!I26,3,FALSE),4),\"\"),\"\"),\"\")","v":".000"},{"$f":"IF(P_20号3様式1!L26<> \"\",IF(P_20号3様式1!L26<> \"-\",TEXT(INT(P_20号3様式1!L26),\"#,##0\"),\"-\"),\"\")","v":""},{"$f":"IF(P_20号3様式1!L26<> \"\",IF(P_20号3様式1!L26<> \"-\",IF(VALUE(FIXED(P_20号3様式1!L26,0,TRUE))<>P_20号3様式1!L26,RIGHT(FIXED(P_20号3様式1!L26,3,FALSE),4),\"\"),\"\"),\"\")","v":""},{"$f":"IF(P_20号3様式1!O26<> \"\",IF(P_20号3様式1!O26<> \"-\",TEXT(INT(P_20号3様式1!O26),\"#,##0\"),\"-\"),\"\")","v":""},{"$f":"IF(P_20号3様式1!O26<> \"\",IF(P_20号3様式1!O26<> \"-\",IF(VALUE(FIXED(P_20号3様式1!O26,0,TRUE))<>P_20号3様式1!O26,RIGHT(FIXED(P_20号3様式1!O26,3,FALSE),4),\"\"),\"\"),\"\")","v":""},{"$f":"IF(P_20号3様式1!R26<> \"\",IF(P_20号3様式1!R26<> \"-\",TEXT(INT(P_20号3様式1!R26),\"#,##0\"),\"-\"),\"\")","v":""},{"$f":"IF(P_20号3様式1!R26<> \"\",IF(P_20号3様式1!R26<> \"-\",IF(VALUE(FIXED(P_20号3様式1!R26,0,TRUE))<>P_20号3様式1!R26,RIGHT(FIXED(P_20号3様式1!R26,3,FALSE),4),\"\"),\"\"),\"\")","v":""},{"$f":"IF(P_20号3様式1!U26<> \"\",IF(P_20号3様式1!U26<> \"-\",TEXT(INT(P_20号3様式1!U26),\"#,##0\"),\"-\"),\"\")","v":""},{"$f":"IF(P_20号3様式1!U26<> \"\",IF(P_20号3様式1!U26<> \"-\",IF(VALUE(FIXED(P_20号3様式1!U26,0,TRUE))<>P_20号3様式1!U26,RIGHT(FIXED(P_20号3様式1!U26,3,FALSE),4),\"\"),\"\"),\"\")","v":""},{"$f":"IF(P_20号3様式1!X26<> \"\",IF(P_20号3様式1!X26<> \"-\",TEXT(INT(P_20号3様式1!X26),\"#,##0\"),\"-\"),\"\")","v":""},{"$f":"IF(P_20号3様式1!X26<> \"\",IF(P_20号3様式1!X26<> \"-\",IF(VALUE(FIXED(P_20号3様式1!X26,0,TRUE))<>P_20号3様式1!X26,RIGHT(FIXED(P_20号3様式1!X26,3,FALSE),4),\"\"),\"\"),\"\")","v":""},{"$f":"IF(P_20号3様式1!AA26<> \"\",IF(P_20号3様式1!AA26<> \"-\",TEXT(INT(P_20号3様式1!AA26),\"#,##0\"),\"-\"),\"\")","v":""},{"$f":"IF(P_20号3様式1!AA26<> \"\",IF(P_20号3様式1!AA26<> \"-\",IF(VALUE(FIXED(P_20号3様式1!AA26,0,TRUE))<>P_20号3様式1!AA26,RIGHT(FIXED(P_20号3様式1!AA26,3,FALSE),4),\"\"),\"\"),\"\")","v":""}]
[{"$f":"IF(P_20号3様式1!C27=\"\",\"\",P_20号3様式1!C27)","v":"さつま町"},{"$f":"IF(P_20号3様式1!AE27<> \"\",TEXT(INT(P_20号3様式1!AE27),\"#,##0\"),\"\")","v":"3"},{"$f":"IF(P_20号3様式1!AE27= \"\",\"\",IF(VALUE(FIXED(P_20号3様式1!AE27,0,TRUE))<>P_20号3様式1!AE27,RIGHT(FIXED(P_20号3様式1!AE27,3,FALSE),4),\"\"))","v":".000"},{"$f":"IF(P_20号3様式1!F27<> \"\",IF(P_20号3様式1!F27<> \"-\",TEXT(INT(P_20号3様式1!F27),\"#,##0\"),\"-\"),\"\")","v":"2"},{"$f":"IF(P_20号3様式1!F27<> \"\",IF(P_20号3様式1!F27<> \"-\",IF(VALUE(FIXED(P_20号3様式1!F27,0,TRUE))<>P_20号3様式1!F27,RIGHT(FIXED(P_20号3様式1!F27,3,FALSE),4),\"\"),\"\"),\"\")","v":".000"},{"$f":"IF(P_20号3様式1!I27<> \"\",IF(P_20号3様式1!I27<> \"-\",TEXT(INT(P_20号3様式1!I27),\"#,##0\"),\"-\"),\"\")","v":"1"},{"$f":"IF(P_20号3様式1!I27<> \"\",IF(P_20号3様式1!I27<> \"-\",IF(VALUE(FIXED(P_20号3様式1!I27,0,TRUE))<>P_20号3様式1!I27,RIGHT(FIXED(P_20号3様式1!I27,3,FALSE),4),\"\"),\"\"),\"\")","v":".000"},{"$f":"IF(P_20号3様式1!L27<> \"\",IF(P_20号3様式1!L27<> \"-\",TEXT(INT(P_20号3様式1!L27),\"#,##0\"),\"-\"),\"\")","v":""},{"$f":"IF(P_20号3様式1!L27<> \"\",IF(P_20号3様式1!L27<> \"-\",IF(VALUE(FIXED(P_20号3様式1!L27,0,TRUE))<>P_20号3様式1!L27,RIGHT(FIXED(P_20号3様式1!L27,3,FALSE),4),\"\"),\"\"),\"\")","v":""},{"$f":"IF(P_20号3様式1!O27<> \"\",IF(P_20号3様式1!O27<> \"-\",TEXT(INT(P_20号3様式1!O27),\"#,##0\"),\"-\"),\"\")","v":""},{"$f":"IF(P_20号3様式1!O27<> \"\",IF(P_20号3様式1!O27<> \"-\",IF(VALUE(FIXED(P_20号3様式1!O27,0,TRUE))<>P_20号3様式1!O27,RIGHT(FIXED(P_20号3様式1!O27,3,FALSE),4),\"\"),\"\"),\"\")","v":""},{"$f":"IF(P_20号3様式1!R27<> \"\",IF(P_20号3様式1!R27<> \"-\",TEXT(INT(P_20号3様式1!R27),\"#,##0\"),\"-\"),\"\")","v":""},{"$f":"IF(P_20号3様式1!R27<> \"\",IF(P_20号3様式1!R27<> \"-\",IF(VALUE(FIXED(P_20号3様式1!R27,0,TRUE))<>P_20号3様式1!R27,RIGHT(FIXED(P_20号3様式1!R27,3,FALSE),4),\"\"),\"\"),\"\")","v":""},{"$f":"IF(P_20号3様式1!U27<> \"\",IF(P_20号3様式1!U27<> \"-\",TEXT(INT(P_20号3様式1!U27),\"#,##0\"),\"-\"),\"\")","v":""},{"$f":"IF(P_20号3様式1!U27<> \"\",IF(P_20号3様式1!U27<> \"-\",IF(VALUE(FIXED(P_20号3様式1!U27,0,TRUE))<>P_20号3様式1!U27,RIGHT(FIXED(P_20号3様式1!U27,3,FALSE),4),\"\"),\"\"),\"\")","v":""},{"$f":"IF(P_20号3様式1!X27<> \"\",IF(P_20号3様式1!X27<> \"-\",TEXT(INT(P_20号3様式1!X27),\"#,##0\"),\"-\"),\"\")","v":""},{"$f":"IF(P_20号3様式1!X27<> \"\",IF(P_20号3様式1!X27<> \"-\",IF(VALUE(FIXED(P_20号3様式1!X27,0,TRUE))<>P_20号3様式1!X27,RIGHT(FIXED(P_20号3様式1!X27,3,FALSE),4),\"\"),\"\"),\"\")","v":""},{"$f":"IF(P_20号3様式1!AA27<> \"\",IF(P_20号3様式1!AA27<> \"-\",TEXT(INT(P_20号3様式1!AA27),\"#,##0\"),\"-\"),\"\")","v":""},{"$f":"IF(P_20号3様式1!AA27<> \"\",IF(P_20号3様式1!AA27<> \"-\",IF(VALUE(FIXED(P_20号3様式1!AA27,0,TRUE))<>P_20号3様式1!AA27,RIGHT(FIXED(P_20号3様式1!AA27,3,FALSE),4),\"\"),\"\"),\"\")","v":""}]
[{"$f":"IF(P_20号3様式1!C28=\"\",\"\",P_20号3様式1!C28)","v":"＊（薩摩郡）計"},{"$f":"IF(P_20号3様式1!AE28<> \"\",TEXT(INT(P_20号3様式1!AE28),\"#,##0\"),\"\")","v":"3"},{"$f":"IF(P_20号3様式1!AE28= \"\",\"\",IF(VALUE(FIXED(P_20号3様式1!AE28,0,TRUE))<>P_20号3様式1!AE28,RIGHT(FIXED(P_20号3様式1!AE28,3,FALSE),4),\"\"))","v":".000"},{"$f":"IF(P_20号3様式1!F28<> \"\",IF(P_20号3様式1!F28<> \"-\",TEXT(INT(P_20号3様式1!F28),\"#,##0\"),\"-\"),\"\")","v":"2"},{"$f":"IF(P_20号3様式1!F28<> \"\",IF(P_20号3様式1!F28<> \"-\",IF(VALUE(FIXED(P_20号3様式1!F28,0,TRUE))<>P_20号3様式1!F28,RIGHT(FIXED(P_20号3様式1!F28,3,FALSE),4),\"\"),\"\"),\"\")","v":".000"},{"$f":"IF(P_20号3様式1!I28<> \"\",IF(P_20号3様式1!I28<> \"-\",TEXT(INT(P_20号3様式1!I28),\"#,##0\"),\"-\"),\"\")","v":"1"},{"$f":"IF(P_20号3様式1!I28<> \"\",IF(P_20号3様式1!I28<> \"-\",IF(VALUE(FIXED(P_20号3様式1!I28,0,TRUE))<>P_20号3様式1!I28,RIGHT(FIXED(P_20号3様式1!I28,3,FALSE),4),\"\"),\"\"),\"\")","v":".000"},{"$f":"IF(P_20号3様式1!L28<> \"\",IF(P_20号3様式1!L28<> \"-\",TEXT(INT(P_20号3様式1!L28),\"#,##0\"),\"-\"),\"\")","v":""},{"$f":"IF(P_20号3様式1!L28<> \"\",IF(P_20号3様式1!L28<> \"-\",IF(VALUE(FIXED(P_20号3様式1!L28,0,TRUE))<>P_20号3様式1!L28,RIGHT(FIXED(P_20号3様式1!L28,3,FALSE),4),\"\"),\"\"),\"\")","v":""},{"$f":"IF(P_20号3様式1!O28<> \"\",IF(P_20号3様式1!O28<> \"-\",TEXT(INT(P_20号3様式1!O28),\"#,##0\"),\"-\"),\"\")","v":""},{"$f":"IF(P_20号3様式1!O28<> \"\",IF(P_20号3様式1!O28<> \"-\",IF(VALUE(FIXED(P_20号3様式1!O28,0,TRUE))<>P_20号3様式1!O28,RIGHT(FIXED(P_20号3様式1!O28,3,FALSE),4),\"\"),\"\"),\"\")","v":""},{"$f":"IF(P_20号3様式1!R28<> \"\",IF(P_20号3様式1!R28<> \"-\",TEXT(INT(P_20号3様式1!R28),\"#,##0\"),\"-\"),\"\")","v":""},{"$f":"IF(P_20号3様式1!R28<> \"\",IF(P_20号3様式1!R28<> \"-\",IF(VALUE(FIXED(P_20号3様式1!R28,0,TRUE))<>P_20号3様式1!R28,RIGHT(FIXED(P_20号3様式1!R28,3,FALSE),4),\"\"),\"\"),\"\")","v":""},{"$f":"IF(P_20号3様式1!U28<> \"\",IF(P_20号3様式1!U28<> \"-\",TEXT(INT(P_20号3様式1!U28),\"#,##0\"),\"-\"),\"\")","v":""},{"$f":"IF(P_20号3様式1!U28<> \"\",IF(P_20号3様式1!U28<> \"-\",IF(VALUE(FIXED(P_20号3様式1!U28,0,TRUE))<>P_20号3様式1!U28,RIGHT(FIXED(P_20号3様式1!U28,3,FALSE),4),\"\"),\"\"),\"\")","v":""},{"$f":"IF(P_20号3様式1!X28<> \"\",IF(P_20号3様式1!X28<> \"-\",TEXT(INT(P_20号3様式1!X28),\"#,##0\"),\"-\"),\"\")","v":""},{"$f":"IF(P_20号3様式1!X28<> \"\",IF(P_20号3様式1!X28<> \"-\",IF(VALUE(FIXED(P_20号3様式1!X28,0,TRUE))<>P_20号3様式1!X28,RIGHT(FIXED(P_20号3様式1!X28,3,FALSE),4),\"\"),\"\"),\"\")","v":""},{"$f":"IF(P_20号3様式1!AA28<> \"\",IF(P_20号3様式1!AA28<> \"-\",TEXT(INT(P_20号3様式1!AA28),\"#,##0\"),\"-\"),\"\")","v":""},{"$f":"IF(P_20号3様式1!AA28<> \"\",IF(P_20号3様式1!AA28<> \"-\",IF(VALUE(FIXED(P_20号3様式1!AA28,0,TRUE))<>P_20号3様式1!AA28,RIGHT(FIXED(P_20号3様式1!AA28,3,FALSE),4),\"\"),\"\"),\"\")","v":""}]
[{"$f":"IF(P_20号3様式1!C29=\"\",\"\",P_20号3様式1!C29)","v":"長島町"},{"$f":"IF(P_20号3様式1!AE29<> \"\",TEXT(INT(P_20号3様式1!AE29),\"#,##0\"),\"\")","v":"0"},{"$f":"IF(P_20号3様式1!AE29= \"\",\"\",IF(VALUE(FIXED(P_20号3様式1!AE29,0,TRUE))<>P_20号3様式1!AE29,RIGHT(FIXED(P_20号3様式1!AE29,3,FALSE),4),\"\"))","v":".000"},{"$f":"IF(P_20号3様式1!F29<> \"\",IF(P_20号3様式1!F29<> \"-\",TEXT(INT(P_20号3様式1!F29),\"#,##0\"),\"-\"),\"\")","v":"0"},{"$f":"IF(P_20号3様式1!F29<> \"\",IF(P_20号3様式1!F29<> \"-\",IF(VALUE(FIXED(P_20号3様式1!F29,0,TRUE))<>P_20号3様式1!F29,RIGHT(FIXED(P_20号3様式1!F29,3,FALSE),4),\"\"),\"\"),\"\")","v":".000"},{"$f":"IF(P_20号3様式1!I29<> \"\",IF(P_20号3様式1!I29<> \"-\",TEXT(INT(P_20号3様式1!I29),\"#,##0\"),\"-\"),\"\")","v":"0"},{"$f":"IF(P_20号3様式1!I29<> \"\",IF(P_20号3様式1!I29<> \"-\",IF(VALUE(FIXED(P_20号3様式1!I29,0,TRUE))<>P_20号3様式1!I29,RIGHT(FIXED(P_20号3様式1!I29,3,FALSE),4),\"\"),\"\"),\"\")","v":".000"},{"$f":"IF(P_20号3様式1!L29<> \"\",IF(P_20号3様式1!L29<> \"-\",TEXT(INT(P_20号3様式1!L29),\"#,##0\"),\"-\"),\"\")","v":""},{"$f":"IF(P_20号3様式1!L29<> \"\",IF(P_20号3様式1!L29<> \"-\",IF(VALUE(FIXED(P_20号3様式1!L29,0,TRUE))<>P_20号3様式1!L29,RIGHT(FIXED(P_20号3様式1!L29,3,FALSE),4),\"\"),\"\"),\"\")","v":""},{"$f":"IF(P_20号3様式1!O29<> \"\",IF(P_20号3様式1!O29<> \"-\",TEXT(INT(P_20号3様式1!O29),\"#,##0\"),\"-\"),\"\")","v":""},{"$f":"IF(P_20号3様式1!O29<> \"\",IF(P_20号3様式1!O29<> \"-\",IF(VALUE(FIXED(P_20号3様式1!O29,0,TRUE))<>P_20号3様式1!O29,RIGHT(FIXED(P_20号3様式1!O29,3,FALSE),4),\"\"),\"\"),\"\")","v":""},{"$f":"IF(P_20号3様式1!R29<> \"\",IF(P_20号3様式1!R29<> \"-\",TEXT(INT(P_20号3様式1!R29),\"#,##0\"),\"-\"),\"\")","v":""},{"$f":"IF(P_20号3様式1!R29<> \"\",IF(P_20号3様式1!R29<> \"-\",IF(VALUE(FIXED(P_20号3様式1!R29,0,TRUE))<>P_20号3様式1!R29,RIGHT(FIXED(P_20号3様式1!R29,3,FALSE),4),\"\"),\"\"),\"\")","v":""},{"$f":"IF(P_20号3様式1!U29<> \"\",IF(P_20号3様式1!U29<> \"-\",TEXT(INT(P_20号3様式1!U29),\"#,##0\"),\"-\"),\"\")","v":""},{"$f":"IF(P_20号3様式1!U29<> \"\",IF(P_20号3様式1!U29<> \"-\",IF(VALUE(FIXED(P_20号3様式1!U29,0,TRUE))<>P_20号3様式1!U29,RIGHT(FIXED(P_20号3様式1!U29,3,FALSE),4),\"\"),\"\"),\"\")","v":""},{"$f":"IF(P_20号3様式1!X29<> \"\",IF(P_20号3様式1!X29<> \"-\",TEXT(INT(P_20号3様式1!X29),\"#,##0\"),\"-\"),\"\")","v":""},{"$f":"IF(P_20号3様式1!X29<> \"\",IF(P_20号3様式1!X29<> \"-\",IF(VALUE(FIXED(P_20号3様式1!X29,0,TRUE))<>P_20号3様式1!X29,RIGHT(FIXED(P_20号3様式1!X29,3,FALSE),4),\"\"),\"\"),\"\")","v":""},{"$f":"IF(P_20号3様式1!AA29<> \"\",IF(P_20号3様式1!AA29<> \"-\",TEXT(INT(P_20号3様式1!AA29),\"#,##0\"),\"-\"),\"\")","v":""},{"$f":"IF(P_20号3様式1!AA29<> \"\",IF(P_20号3様式1!AA29<> \"-\",IF(VALUE(FIXED(P_20号3様式1!AA29,0,TRUE))<>P_20号3様式1!AA29,RIGHT(FIXED(P_20号3様式1!AA29,3,FALSE),4),\"\"),\"\"),\"\")","v":""}]
[{"$f":"IF(P_20号3様式1!C30=\"\",\"\",P_20号3様式1!C30)","v":"＊（出水郡）計"},{"$f":"IF(P_20号3様式1!AE30<> \"\",TEXT(INT(P_20号3様式1!AE30),\"#,##0\"),\"\")","v":"0"},{"$f":"IF(P_20号3様式1!AE30= \"\",\"\",IF(VALUE(FIXED(P_20号3様式1!AE30,0,TRUE))<>P_20号3様式1!AE30,RIGHT(FIXED(P_20号3様式1!AE30,3,FALSE),4),\"\"))","v":".000"},{"$f":"IF(P_20号3様式1!F30<> \"\",IF(P_20号3様式1!F30<> \"-\",TEXT(INT(P_20号3様式1!F30),\"#,##0\"),\"-\"),\"\")","v":"0"},{"$f":"IF(P_20号3様式1!F30<> \"\",IF(P_20号3様式1!F30<> \"-\",IF(VALUE(FIXED(P_20号3様式1!F30,0,TRUE))<>P_20号3様式1!F30,RIGHT(FIXED(P_20号3様式1!F30,3,FALSE),4),\"\"),\"\"),\"\")","v":".000"},{"$f":"IF(P_20号3様式1!I30<> \"\",IF(P_20号3様式1!I30<> \"-\",TEXT(INT(P_20号3様式1!I30),\"#,##0\"),\"-\"),\"\")","v":"0"},{"$f":"IF(P_20号3様式1!I30<> \"\",IF(P_20号3様式1!I30<> \"-\",IF(VALUE(FIXED(P_20号3様式1!I30,0,TRUE))<>P_20号3様式1!I30,RIGHT(FIXED(P_20号3様式1!I30,3,FALSE),4),\"\"),\"\"),\"\")","v":".000"},{"$f":"IF(P_20号3様式1!L30<> \"\",IF(P_20号3様式1!L30<> \"-\",TEXT(INT(P_20号3様式1!L30),\"#,##0\"),\"-\"),\"\")","v":""},{"$f":"IF(P_20号3様式1!L30<> \"\",IF(P_20号3様式1!L30<> \"-\",IF(VALUE(FIXED(P_20号3様式1!L30,0,TRUE))<>P_20号3様式1!L30,RIGHT(FIXED(P_20号3様式1!L30,3,FALSE),4),\"\"),\"\"),\"\")","v":""},{"$f":"IF(P_20号3様式1!O30<> \"\",IF(P_20号3様式1!O30<> \"-\",TEXT(INT(P_20号3様式1!O30),\"#,##0\"),\"-\"),\"\")","v":""},{"$f":"IF(P_20号3様式1!O30<> \"\",IF(P_20号3様式1!O30<> \"-\",IF(VALUE(FIXED(P_20号3様式1!O30,0,TRUE))<>P_20号3様式1!O30,RIGHT(FIXED(P_20号3様式1!O30,3,FALSE),4),\"\"),\"\"),\"\")","v":""},{"$f":"IF(P_20号3様式1!R30<> \"\",IF(P_20号3様式1!R30<> \"-\",TEXT(INT(P_20号3様式1!R30),\"#,##0\"),\"-\"),\"\")","v":""},{"$f":"IF(P_20号3様式1!R30<> \"\",IF(P_20号3様式1!R30<> \"-\",IF(VALUE(FIXED(P_20号3様式1!R30,0,TRUE))<>P_20号3様式1!R30,RIGHT(FIXED(P_20号3様式1!R30,3,FALSE),4),\"\"),\"\"),\"\")","v":""},{"$f":"IF(P_20号3様式1!U30<> \"\",IF(P_20号3様式1!U30<> \"-\",TEXT(INT(P_20号3様式1!U30),\"#,##0\"),\"-\"),\"\")","v":""},{"$f":"IF(P_20号3様式1!U30<> \"\",IF(P_20号3様式1!U30<> \"-\",IF(VALUE(FIXED(P_20号3様式1!U30,0,TRUE))<>P_20号3様式1!U30,RIGHT(FIXED(P_20号3様式1!U30,3,FALSE),4),\"\"),\"\"),\"\")","v":""},{"$f":"IF(P_20号3様式1!X30<> \"\",IF(P_20号3様式1!X30<> \"-\",TEXT(INT(P_20号3様式1!X30),\"#,##0\"),\"-\"),\"\")","v":""},{"$f":"IF(P_20号3様式1!X30<> \"\",IF(P_20号3様式1!X30<> \"-\",IF(VALUE(FIXED(P_20号3様式1!X30,0,TRUE))<>P_20号3様式1!X30,RIGHT(FIXED(P_20号3様式1!X30,3,FALSE),4),\"\"),\"\"),\"\")","v":""},{"$f":"IF(P_20号3様式1!AA30<> \"\",IF(P_20号3様式1!AA30<> \"-\",TEXT(INT(P_20号3様式1!AA30),\"#,##0\"),\"-\"),\"\")","v":""},{"$f":"IF(P_20号3様式1!AA30<> \"\",IF(P_20号3様式1!AA30<> \"-\",IF(VALUE(FIXED(P_20号3様式1!AA30,0,TRUE))<>P_20号3様式1!AA30,RIGHT(FIXED(P_20号3様式1!AA30,3,FALSE),4),\"\"),\"\"),\"\")","v":""}]
[{"$f":"IF(P_20号3様式1!C31=\"\",\"\",P_20号3様式1!C31)","v":"湧水町"},{"$f":"IF(P_20号3様式1!AE31<> \"\",TEXT(INT(P_20号3様式1!AE31),\"#,##0\"),\"\")","v":"0"},{"$f":"IF(P_20号3様式1!AE31= \"\",\"\",IF(VALUE(FIXED(P_20号3様式1!AE31,0,TRUE))<>P_20号3様式1!AE31,RIGHT(FIXED(P_20号3様式1!AE31,3,FALSE),4),\"\"))","v":".000"},{"$f":"IF(P_20号3様式1!F31<> \"\",IF(P_20号3様式1!F31<> \"-\",TEXT(INT(P_20号3様式1!F31),\"#,##0\"),\"-\"),\"\")","v":"0"},{"$f":"IF(P_20号3様式1!F31<> \"\",IF(P_20号3様式1!F31<> \"-\",IF(VALUE(FIXED(P_20号3様式1!F31,0,TRUE))<>P_20号3様式1!F31,RIGHT(FIXED(P_20号3様式1!F31,3,FALSE),4),\"\"),\"\"),\"\")","v":".000"},{"$f":"IF(P_20号3様式1!I31<> \"\",IF(P_20号3様式1!I31<> \"-\",TEXT(INT(P_20号3様式1!I31),\"#,##0\"),\"-\"),\"\")","v":"0"},{"$f":"IF(P_20号3様式1!I31<> \"\",IF(P_20号3様式1!I31<> \"-\",IF(VALUE(FIXED(P_20号3様式1!I31,0,TRUE))<>P_20号3様式1!I31,RIGHT(FIXED(P_20号3様式1!I31,3,FALSE),4),\"\"),\"\"),\"\")","v":".000"},{"$f":"IF(P_20号3様式1!L31<> \"\",IF(P_20号3様式1!L31<> \"-\",TEXT(INT(P_20号3様式1!L31),\"#,##0\"),\"-\"),\"\")","v":""},{"$f":"IF(P_20号3様式1!L31<> \"\",IF(P_20号3様式1!L31<> \"-\",IF(VALUE(FIXED(P_20号3様式1!L31,0,TRUE))<>P_20号3様式1!L31,RIGHT(FIXED(P_20号3様式1!L31,3,FALSE),4),\"\"),\"\"),\"\")","v":""},{"$f":"IF(P_20号3様式1!O31<> \"\",IF(P_20号3様式1!O31<> \"-\",TEXT(INT(P_20号3様式1!O31),\"#,##0\"),\"-\"),\"\")","v":""},{"$f":"IF(P_20号3様式1!O31<> \"\",IF(P_20号3様式1!O31<> \"-\",IF(VALUE(FIXED(P_20号3様式1!O31,0,TRUE))<>P_20号3様式1!O31,RIGHT(FIXED(P_20号3様式1!O31,3,FALSE),4),\"\"),\"\"),\"\")","v":""},{"$f":"IF(P_20号3様式1!R31<> \"\",IF(P_20号3様式1!R31<> \"-\",TEXT(INT(P_20号3様式1!R31),\"#,##0\"),\"-\"),\"\")","v":""},{"$f":"IF(P_20号3様式1!R31<> \"\",IF(P_20号3様式1!R31<> \"-\",IF(VALUE(FIXED(P_20号3様式1!R31,0,TRUE))<>P_20号3様式1!R31,RIGHT(FIXED(P_20号3様式1!R31,3,FALSE),4),\"\"),\"\"),\"\")","v":""},{"$f":"IF(P_20号3様式1!U31<> \"\",IF(P_20号3様式1!U31<> \"-\",TEXT(INT(P_20号3様式1!U31),\"#,##0\"),\"-\"),\"\")","v":""},{"$f":"IF(P_20号3様式1!U31<> \"\",IF(P_20号3様式1!U31<> \"-\",IF(VALUE(FIXED(P_20号3様式1!U31,0,TRUE))<>P_20号3様式1!U31,RIGHT(FIXED(P_20号3様式1!U31,3,FALSE),4),\"\"),\"\"),\"\")","v":""},{"$f":"IF(P_20号3様式1!X31<> \"\",IF(P_20号3様式1!X31<> \"-\",TEXT(INT(P_20号3様式1!X31),\"#,##0\"),\"-\"),\"\")","v":""},{"$f":"IF(P_20号3様式1!X31<> \"\",IF(P_20号3様式1!X31<> \"-\",IF(VALUE(FIXED(P_20号3様式1!X31,0,TRUE))<>P_20号3様式1!X31,RIGHT(FIXED(P_20号3様式1!X31,3,FALSE),4),\"\"),\"\"),\"\")","v":""},{"$f":"IF(P_20号3様式1!AA31<> \"\",IF(P_20号3様式1!AA31<> \"-\",TEXT(INT(P_20号3様式1!AA31),\"#,##0\"),\"-\"),\"\")","v":""},{"$f":"IF(P_20号3様式1!AA31<> \"\",IF(P_20号3様式1!AA31<> \"-\",IF(VALUE(FIXED(P_20号3様式1!AA31,0,TRUE))<>P_20号3様式1!AA31,RIGHT(FIXED(P_20号3様式1!AA31,3,FALSE),4),\"\"),\"\"),\"\")","v":""}]
[{"$f":"IF(P_20号3様式1!C32=\"\",\"\",P_20号3様式1!C32)","v":"＊（姶良郡）計"},{"$f":"IF(P_20号3様式1!AE32<> \"\",TEXT(INT(P_20号3様式1!AE32),\"#,##0\"),\"\")","v":"0"},{"$f":"IF(P_20号3様式1!AE32= \"\",\"\",IF(VALUE(FIXED(P_20号3様式1!AE32,0,TRUE))<>P_20号3様式1!AE32,RIGHT(FIXED(P_20号3様式1!AE32,3,FALSE),4),\"\"))","v":".000"},{"$f":"IF(P_20号3様式1!F32<> \"\",IF(P_20号3様式1!F32<> \"-\",TEXT(INT(P_20号3様式1!F32),\"#,##0\"),\"-\"),\"\")","v":"0"},{"$f":"IF(P_20号3様式1!F32<> \"\",IF(P_20号3様式1!F32<> \"-\",IF(VALUE(FIXED(P_20号3様式1!F32,0,TRUE))<>P_20号3様式1!F32,RIGHT(FIXED(P_20号3様式1!F32,3,FALSE),4),\"\"),\"\"),\"\")","v":".000"},{"$f":"IF(P_20号3様式1!I32<> \"\",IF(P_20号3様式1!I32<> \"-\",TEXT(INT(P_20号3様式1!I32),\"#,##0\"),\"-\"),\"\")","v":"0"},{"$f":"IF(P_20号3様式1!I32<> \"\",IF(P_20号3様式1!I32<> \"-\",IF(VALUE(FIXED(P_20号3様式1!I32,0,TRUE))<>P_20号3様式1!I32,RIGHT(FIXED(P_20号3様式1!I32,3,FALSE),4),\"\"),\"\"),\"\")","v":".000"},{"$f":"IF(P_20号3様式1!L32<> \"\",IF(P_20号3様式1!L32<> \"-\",TEXT(INT(P_20号3様式1!L32),\"#,##0\"),\"-\"),\"\")","v":""},{"$f":"IF(P_20号3様式1!L32<> \"\",IF(P_20号3様式1!L32<> \"-\",IF(VALUE(FIXED(P_20号3様式1!L32,0,TRUE))<>P_20号3様式1!L32,RIGHT(FIXED(P_20号3様式1!L32,3,FALSE),4),\"\"),\"\"),\"\")","v":""},{"$f":"IF(P_20号3様式1!O32<> \"\",IF(P_20号3様式1!O32<> \"-\",TEXT(INT(P_20号3様式1!O32),\"#,##0\"),\"-\"),\"\")","v":""},{"$f":"IF(P_20号3様式1!O32<> \"\",IF(P_20号3様式1!O32<> \"-\",IF(VALUE(FIXED(P_20号3様式1!O32,0,TRUE))<>P_20号3様式1!O32,RIGHT(FIXED(P_20号3様式1!O32,3,FALSE),4),\"\"),\"\"),\"\")","v":""},{"$f":"IF(P_20号3様式1!R32<> \"\",IF(P_20号3様式1!R32<> \"-\",TEXT(INT(P_20号3様式1!R32),\"#,##0\"),\"-\"),\"\")","v":""},{"$f":"IF(P_20号3様式1!R32<> \"\",IF(P_20号3様式1!R32<> \"-\",IF(VALUE(FIXED(P_20号3様式1!R32,0,TRUE))<>P_20号3様式1!R32,RIGHT(FIXED(P_20号3様式1!R32,3,FALSE),4),\"\"),\"\"),\"\")","v":""},{"$f":"IF(P_20号3様式1!U32<> \"\",IF(P_20号3様式1!U32<> \"-\",TEXT(INT(P_20号3様式1!U32),\"#,##0\"),\"-\"),\"\")","v":""},{"$f":"IF(P_20号3様式1!U32<> \"\",IF(P_20号3様式1!U32<> \"-\",IF(VALUE(FIXED(P_20号3様式1!U32,0,TRUE))<>P_20号3様式1!U32,RIGHT(FIXED(P_20号3様式1!U32,3,FALSE),4),\"\"),\"\"),\"\")","v":""},{"$f":"IF(P_20号3様式1!X32<> \"\",IF(P_20号3様式1!X32<> \"-\",TEXT(INT(P_20号3様式1!X32),\"#,##0\"),\"-\"),\"\")","v":""},{"$f":"IF(P_20号3様式1!X32<> \"\",IF(P_20号3様式1!X32<> \"-\",IF(VALUE(FIXED(P_20号3様式1!X32,0,TRUE))<>P_20号3様式1!X32,RIGHT(FIXED(P_20号3様式1!X32,3,FALSE),4),\"\"),\"\"),\"\")","v":""},{"$f":"IF(P_20号3様式1!AA32<> \"\",IF(P_20号3様式1!AA32<> \"-\",TEXT(INT(P_20号3様式1!AA32),\"#,##0\"),\"-\"),\"\")","v":""},{"$f":"IF(P_20号3様式1!AA32<> \"\",IF(P_20号3様式1!AA32<> \"-\",IF(VALUE(FIXED(P_20号3様式1!AA32,0,TRUE))<>P_20号3様式1!AA32,RIGHT(FIXED(P_20号3様式1!AA32,3,FALSE),4),\"\"),\"\"),\"\")","v":""}]
[{"$f":"IF(P_20号3様式1!C33=\"\",\"\",P_20号3様式1!C33)","v":"大崎町"},{"$f":"IF(P_20号3様式1!AE33<> \"\",TEXT(INT(P_20号3様式1!AE33),\"#,##0\"),\"\")","v":"2"},{"$f":"IF(P_20号3様式1!AE33= \"\",\"\",IF(VALUE(FIXED(P_20号3様式1!AE33,0,TRUE))<>P_20号3様式1!AE33,RIGHT(FIXED(P_20号3様式1!AE33,3,FALSE),4),\"\"))","v":".000"},{"$f":"IF(P_20号3様式1!F33<> \"\",IF(P_20号3様式1!F33<> \"-\",TEXT(INT(P_20号3様式1!F33),\"#,##0\"),\"-\"),\"\")","v":"2"},{"$f":"IF(P_20号3様式1!F33<> \"\",IF(P_20号3様式1!F33<> \"-\",IF(VALUE(FIXED(P_20号3様式1!F33,0,TRUE))<>P_20号3様式1!F33,RIGHT(FIXED(P_20号3様式1!F33,3,FALSE),4),\"\"),\"\"),\"\")","v":".000"},{"$f":"IF(P_20号3様式1!I33<> \"\",IF(P_20号3様式1!I33<> \"-\",TEXT(INT(P_20号3様式1!I33),\"#,##0\"),\"-\"),\"\")","v":"0"},{"$f":"IF(P_20号3様式1!I33<> \"\",IF(P_20号3様式1!I33<> \"-\",IF(VALUE(FIXED(P_20号3様式1!I33,0,TRUE))<>P_20号3様式1!I33,RIGHT(FIXED(P_20号3様式1!I33,3,FALSE),4),\"\"),\"\"),\"\")","v":".000"},{"$f":"IF(P_20号3様式1!L33<> \"\",IF(P_20号3様式1!L33<> \"-\",TEXT(INT(P_20号3様式1!L33),\"#,##0\"),\"-\"),\"\")","v":""},{"$f":"IF(P_20号3様式1!L33<> \"\",IF(P_20号3様式1!L33<> \"-\",IF(VALUE(FIXED(P_20号3様式1!L33,0,TRUE))<>P_20号3様式1!L33,RIGHT(FIXED(P_20号3様式1!L33,3,FALSE),4),\"\"),\"\"),\"\")","v":""},{"$f":"IF(P_20号3様式1!O33<> \"\",IF(P_20号3様式1!O33<> \"-\",TEXT(INT(P_20号3様式1!O33),\"#,##0\"),\"-\"),\"\")","v":""},{"$f":"IF(P_20号3様式1!O33<> \"\",IF(P_20号3様式1!O33<> \"-\",IF(VALUE(FIXED(P_20号3様式1!O33,0,TRUE))<>P_20号3様式1!O33,RIGHT(FIXED(P_20号3様式1!O33,3,FALSE),4),\"\"),\"\"),\"\")","v":""},{"$f":"IF(P_20号3様式1!R33<> \"\",IF(P_20号3様式1!R33<> \"-\",TEXT(INT(P_20号3様式1!R33),\"#,##0\"),\"-\"),\"\")","v":""},{"$f":"IF(P_20号3様式1!R33<> \"\",IF(P_20号3様式1!R33<> \"-\",IF(VALUE(FIXED(P_20号3様式1!R33,0,TRUE))<>P_20号3様式1!R33,RIGHT(FIXED(P_20号3様式1!R33,3,FALSE),4),\"\"),\"\"),\"\")","v":""},{"$f":"IF(P_20号3様式1!U33<> \"\",IF(P_20号3様式1!U33<> \"-\",TEXT(INT(P_20号3様式1!U33),\"#,##0\"),\"-\"),\"\")","v":""},{"$f":"IF(P_20号3様式1!U33<> \"\",IF(P_20号3様式1!U33<> \"-\",IF(VALUE(FIXED(P_20号3様式1!U33,0,TRUE))<>P_20号3様式1!U33,RIGHT(FIXED(P_20号3様式1!U33,3,FALSE),4),\"\"),\"\"),\"\")","v":""},{"$f":"IF(P_20号3様式1!X33<> \"\",IF(P_20号3様式1!X33<> \"-\",TEXT(INT(P_20号3様式1!X33),\"#,##0\"),\"-\"),\"\")","v":""},{"$f":"IF(P_20号3様式1!X33<> \"\",IF(P_20号3様式1!X33<> \"-\",IF(VALUE(FIXED(P_20号3様式1!X33,0,TRUE))<>P_20号3様式1!X33,RIGHT(FIXED(P_20号3様式1!X33,3,FALSE),4),\"\"),\"\"),\"\")","v":""},{"$f":"IF(P_20号3様式1!AA33<> \"\",IF(P_20号3様式1!AA33<> \"-\",TEXT(INT(P_20号3様式1!AA33),\"#,##0\"),\"-\"),\"\")","v":""},{"$f":"IF(P_20号3様式1!AA33<> \"\",IF(P_20号3様式1!AA33<> \"-\",IF(VALUE(FIXED(P_20号3様式1!AA33,0,TRUE))<>P_20号3様式1!AA33,RIGHT(FIXED(P_20号3様式1!AA33,3,FALSE),4),\"\"),\"\"),\"\")","v":""}]
[{"$f":"IF(P_20号3様式1!C34=\"\",\"\",P_20号3様式1!C34)","v":"＊（曽於郡）計"},{"$f":"IF(P_20号3様式1!AE34<> \"\",TEXT(INT(P_20号3様式1!AE34),\"#,##0\"),\"\")","v":"2"},{"$f":"IF(P_20号3様式1!AE34= \"\",\"\",IF(VALUE(FIXED(P_20号3様式1!AE34,0,TRUE))<>P_20号3様式1!AE34,RIGHT(FIXED(P_20号3様式1!AE34,3,FALSE),4),\"\"))","v":".000"},{"$f":"IF(P_20号3様式1!F34<> \"\",IF(P_20号3様式1!F34<> \"-\",TEXT(INT(P_20号3様式1!F34),\"#,##0\"),\"-\"),\"\")","v":"2"},{"$f":"IF(P_20号3様式1!F34<> \"\",IF(P_20号3様式1!F34<> \"-\",IF(VALUE(FIXED(P_20号3様式1!F34,0,TRUE))<>P_20号3様式1!F34,RIGHT(FIXED(P_20号3様式1!F34,3,FALSE),4),\"\"),\"\"),\"\")","v":".000"},{"$f":"IF(P_20号3様式1!I34<> \"\",IF(P_20号3様式1!I34<> \"-\",TEXT(INT(P_20号3様式1!I34),\"#,##0\"),\"-\"),\"\")","v":"0"},{"$f":"IF(P_20号3様式1!I34<> \"\",IF(P_20号3様式1!I34<> \"-\",IF(VALUE(FIXED(P_20号3様式1!I34,0,TRUE))<>P_20号3様式1!I34,RIGHT(FIXED(P_20号3様式1!I34,3,FALSE),4),\"\"),\"\"),\"\")","v":".000"},{"$f":"IF(P_20号3様式1!L34<> \"\",IF(P_20号3様式1!L34<> \"-\",TEXT(INT(P_20号3様式1!L34),\"#,##0\"),\"-\"),\"\")","v":""},{"$f":"IF(P_20号3様式1!L34<> \"\",IF(P_20号3様式1!L34<> \"-\",IF(VALUE(FIXED(P_20号3様式1!L34,0,TRUE))<>P_20号3様式1!L34,RIGHT(FIXED(P_20号3様式1!L34,3,FALSE),4),\"\"),\"\"),\"\")","v":""},{"$f":"IF(P_20号3様式1!O34<> \"\",IF(P_20号3様式1!O34<> \"-\",TEXT(INT(P_20号3様式1!O34),\"#,##0\"),\"-\"),\"\")","v":""},{"$f":"IF(P_20号3様式1!O34<> \"\",IF(P_20号3様式1!O34<> \"-\",IF(VALUE(FIXED(P_20号3様式1!O34,0,TRUE))<>P_20号3様式1!O34,RIGHT(FIXED(P_20号3様式1!O34,3,FALSE),4),\"\"),\"\"),\"\")","v":""},{"$f":"IF(P_20号3様式1!R34<> \"\",IF(P_20号3様式1!R34<> \"-\",TEXT(INT(P_20号3様式1!R34),\"#,##0\"),\"-\"),\"\")","v":""},{"$f":"IF(P_20号3様式1!R34<> \"\",IF(P_20号3様式1!R34<> \"-\",IF(VALUE(FIXED(P_20号3様式1!R34,0,TRUE))<>P_20号3様式1!R34,RIGHT(FIXED(P_20号3様式1!R34,3,FALSE),4),\"\"),\"\"),\"\")","v":""},{"$f":"IF(P_20号3様式1!U34<> \"\",IF(P_20号3様式1!U34<> \"-\",TEXT(INT(P_20号3様式1!U34),\"#,##0\"),\"-\"),\"\")","v":""},{"$f":"IF(P_20号3様式1!U34<> \"\",IF(P_20号3様式1!U34<> \"-\",IF(VALUE(FIXED(P_20号3様式1!U34,0,TRUE))<>P_20号3様式1!U34,RIGHT(FIXED(P_20号3様式1!U34,3,FALSE),4),\"\"),\"\"),\"\")","v":""},{"$f":"IF(P_20号3様式1!X34<> \"\",IF(P_20号3様式1!X34<> \"-\",TEXT(INT(P_20号3様式1!X34),\"#,##0\"),\"-\"),\"\")","v":""},{"$f":"IF(P_20号3様式1!X34<> \"\",IF(P_20号3様式1!X34<> \"-\",IF(VALUE(FIXED(P_20号3様式1!X34,0,TRUE))<>P_20号3様式1!X34,RIGHT(FIXED(P_20号3様式1!X34,3,FALSE),4),\"\"),\"\"),\"\")","v":""},{"$f":"IF(P_20号3様式1!AA34<> \"\",IF(P_20号3様式1!AA34<> \"-\",TEXT(INT(P_20号3様式1!AA34),\"#,##0\"),\"-\"),\"\")","v":""},{"$f":"IF(P_20号3様式1!AA34<> \"\",IF(P_20号3様式1!AA34<> \"-\",IF(VALUE(FIXED(P_20号3様式1!AA34,0,TRUE))<>P_20号3様式1!AA34,RIGHT(FIXED(P_20号3様式1!AA34,3,FALSE),4),\"\"),\"\"),\"\")","v":""}]
[{"$f":"IF(P_20号3様式1!C35=\"\",\"\",P_20号3様式1!C35)","v":"東串良町"},{"$f":"IF(P_20号3様式1!AE35<> \"\",TEXT(INT(P_20号3様式1!AE35),\"#,##0\"),\"\")","v":"1"},{"$f":"IF(P_20号3様式1!AE35= \"\",\"\",IF(VALUE(FIXED(P_20号3様式1!AE35,0,TRUE))<>P_20号3様式1!AE35,RIGHT(FIXED(P_20号3様式1!AE35,3,FALSE),4),\"\"))","v":".000"},{"$f":"IF(P_20号3様式1!F35<> \"\",IF(P_20号3様式1!F35<> \"-\",TEXT(INT(P_20号3様式1!F35),\"#,##0\"),\"-\"),\"\")","v":"1"},{"$f":"IF(P_20号3様式1!F35<> \"\",IF(P_20号3様式1!F35<> \"-\",IF(VALUE(FIXED(P_20号3様式1!F35,0,TRUE))<>P_20号3様式1!F35,RIGHT(FIXED(P_20号3様式1!F35,3,FALSE),4),\"\"),\"\"),\"\")","v":".000"},{"$f":"IF(P_20号3様式1!I35<> \"\",IF(P_20号3様式1!I35<> \"-\",TEXT(INT(P_20号3様式1!I35),\"#,##0\"),\"-\"),\"\")","v":"0"},{"$f":"IF(P_20号3様式1!I35<> \"\",IF(P_20号3様式1!I35<> \"-\",IF(VALUE(FIXED(P_20号3様式1!I35,0,TRUE))<>P_20号3様式1!I35,RIGHT(FIXED(P_20号3様式1!I35,3,FALSE),4),\"\"),\"\"),\"\")","v":".000"},{"$f":"IF(P_20号3様式1!L35<> \"\",IF(P_20号3様式1!L35<> \"-\",TEXT(INT(P_20号3様式1!L35),\"#,##0\"),\"-\"),\"\")","v":""},{"$f":"IF(P_20号3様式1!L35<> \"\",IF(P_20号3様式1!L35<> \"-\",IF(VALUE(FIXED(P_20号3様式1!L35,0,TRUE))<>P_20号3様式1!L35,RIGHT(FIXED(P_20号3様式1!L35,3,FALSE),4),\"\"),\"\"),\"\")","v":""},{"$f":"IF(P_20号3様式1!O35<> \"\",IF(P_20号3様式1!O35<> \"-\",TEXT(INT(P_20号3様式1!O35),\"#,##0\"),\"-\"),\"\")","v":""},{"$f":"IF(P_20号3様式1!O35<> \"\",IF(P_20号3様式1!O35<> \"-\",IF(VALUE(FIXED(P_20号3様式1!O35,0,TRUE))<>P_20号3様式1!O35,RIGHT(FIXED(P_20号3様式1!O35,3,FALSE),4),\"\"),\"\"),\"\")","v":""},{"$f":"IF(P_20号3様式1!R35<> \"\",IF(P_20号3様式1!R35<> \"-\",TEXT(INT(P_20号3様式1!R35),\"#,##0\"),\"-\"),\"\")","v":""},{"$f":"IF(P_20号3様式1!R35<> \"\",IF(P_20号3様式1!R35<> \"-\",IF(VALUE(FIXED(P_20号3様式1!R35,0,TRUE))<>P_20号3様式1!R35,RIGHT(FIXED(P_20号3様式1!R35,3,FALSE),4),\"\"),\"\"),\"\")","v":""},{"$f":"IF(P_20号3様式1!U35<> \"\",IF(P_20号3様式1!U35<> \"-\",TEXT(INT(P_20号3様式1!U35),\"#,##0\"),\"-\"),\"\")","v":""},{"$f":"IF(P_20号3様式1!U35<> \"\",IF(P_20号3様式1!U35<> \"-\",IF(VALUE(FIXED(P_20号3様式1!U35,0,TRUE))<>P_20号3様式1!U35,RIGHT(FIXED(P_20号3様式1!U35,3,FALSE),4),\"\"),\"\"),\"\")","v":""},{"$f":"IF(P_20号3様式1!X35<> \"\",IF(P_20号3様式1!X35<> \"-\",TEXT(INT(P_20号3様式1!X35),\"#,##0\"),\"-\"),\"\")","v":""},{"$f":"IF(P_20号3様式1!X35<> \"\",IF(P_20号3様式1!X35<> \"-\",IF(VALUE(FIXED(P_20号3様式1!X35,0,TRUE))<>P_20号3様式1!X35,RIGHT(FIXED(P_20号3様式1!X35,3,FALSE),4),\"\"),\"\"),\"\")","v":""},{"$f":"IF(P_20号3様式1!AA35<> \"\",IF(P_20号3様式1!AA35<> \"-\",TEXT(INT(P_20号3様式1!AA35),\"#,##0\"),\"-\"),\"\")","v":""},{"$f":"IF(P_20号3様式1!AA35<> \"\",IF(P_20号3様式1!AA35<> \"-\",IF(VALUE(FIXED(P_20号3様式1!AA35,0,TRUE))<>P_20号3様式1!AA35,RIGHT(FIXED(P_20号3様式1!AA35,3,FALSE),4),\"\"),\"\"),\"\")","v":""}]
[{"$f":"IF(P_20号3様式1!C36=\"\",\"\",P_20号3様式1!C36)","v":"錦江町"},{"$f":"IF(P_20号3様式1!AE36<> \"\",TEXT(INT(P_20号3様式1!AE36),\"#,##0\"),\"\")","v":"0"},{"$f":"IF(P_20号3様式1!AE36= \"\",\"\",IF(VALUE(FIXED(P_20号3様式1!AE36,0,TRUE))<>P_20号3様式1!AE36,RIGHT(FIXED(P_20号3様式1!AE36,3,FALSE),4),\"\"))","v":".000"},{"$f":"IF(P_20号3様式1!F36<> \"\",IF(P_20号3様式1!F36<> \"-\",TEXT(INT(P_20号3様式1!F36),\"#,##0\"),\"-\"),\"\")","v":"0"},{"$f":"IF(P_20号3様式1!F36<> \"\",IF(P_20号3様式1!F36<> \"-\",IF(VALUE(FIXED(P_20号3様式1!F36,0,TRUE))<>P_20号3様式1!F36,RIGHT(FIXED(P_20号3様式1!F36,3,FALSE),4),\"\"),\"\"),\"\")","v":".000"},{"$f":"IF(P_20号3様式1!I36<> \"\",IF(P_20号3様式1!I36<> \"-\",TEXT(INT(P_20号3様式1!I36),\"#,##0\"),\"-\"),\"\")","v":"0"},{"$f":"IF(P_20号3様式1!I36<> \"\",IF(P_20号3様式1!I36<> \"-\",IF(VALUE(FIXED(P_20号3様式1!I36,0,TRUE))<>P_20号3様式1!I36,RIGHT(FIXED(P_20号3様式1!I36,3,FALSE),4),\"\"),\"\"),\"\")","v":".000"},{"$f":"IF(P_20号3様式1!L36<> \"\",IF(P_20号3様式1!L36<> \"-\",TEXT(INT(P_20号3様式1!L36),\"#,##0\"),\"-\"),\"\")","v":""},{"$f":"IF(P_20号3様式1!L36<> \"\",IF(P_20号3様式1!L36<> \"-\",IF(VALUE(FIXED(P_20号3様式1!L36,0,TRUE))<>P_20号3様式1!L36,RIGHT(FIXED(P_20号3様式1!L36,3,FALSE),4),\"\"),\"\"),\"\")","v":""},{"$f":"IF(P_20号3様式1!O36<> \"\",IF(P_20号3様式1!O36<> \"-\",TEXT(INT(P_20号3様式1!O36),\"#,##0\"),\"-\"),\"\")","v":""},{"$f":"IF(P_20号3様式1!O36<> \"\",IF(P_20号3様式1!O36<> \"-\",IF(VALUE(FIXED(P_20号3様式1!O36,0,TRUE))<>P_20号3様式1!O36,RIGHT(FIXED(P_20号3様式1!O36,3,FALSE),4),\"\"),\"\"),\"\")","v":""},{"$f":"IF(P_20号3様式1!R36<> \"\",IF(P_20号3様式1!R36<> \"-\",TEXT(INT(P_20号3様式1!R36),\"#,##0\"),\"-\"),\"\")","v":""},{"$f":"IF(P_20号3様式1!R36<> \"\",IF(P_20号3様式1!R36<> \"-\",IF(VALUE(FIXED(P_20号3様式1!R36,0,TRUE))<>P_20号3様式1!R36,RIGHT(FIXED(P_20号3様式1!R36,3,FALSE),4),\"\"),\"\"),\"\")","v":""},{"$f":"IF(P_20号3様式1!U36<> \"\",IF(P_20号3様式1!U36<> \"-\",TEXT(INT(P_20号3様式1!U36),\"#,##0\"),\"-\"),\"\")","v":""},{"$f":"IF(P_20号3様式1!U36<> \"\",IF(P_20号3様式1!U36<> \"-\",IF(VALUE(FIXED(P_20号3様式1!U36,0,TRUE))<>P_20号3様式1!U36,RIGHT(FIXED(P_20号3様式1!U36,3,FALSE),4),\"\"),\"\"),\"\")","v":""},{"$f":"IF(P_20号3様式1!X36<> \"\",IF(P_20号3様式1!X36<> \"-\",TEXT(INT(P_20号3様式1!X36),\"#,##0\"),\"-\"),\"\")","v":""},{"$f":"IF(P_20号3様式1!X36<> \"\",IF(P_20号3様式1!X36<> \"-\",IF(VALUE(FIXED(P_20号3様式1!X36,0,TRUE))<>P_20号3様式1!X36,RIGHT(FIXED(P_20号3様式1!X36,3,FALSE),4),\"\"),\"\"),\"\")","v":""},{"$f":"IF(P_20号3様式1!AA36<> \"\",IF(P_20号3様式1!AA36<> \"-\",TEXT(INT(P_20号3様式1!AA36),\"#,##0\"),\"-\"),\"\")","v":""},{"$f":"IF(P_20号3様式1!AA36<> \"\",IF(P_20号3様式1!AA36<> \"-\",IF(VALUE(FIXED(P_20号3様式1!AA36,0,TRUE))<>P_20号3様式1!AA36,RIGHT(FIXED(P_20号3様式1!AA36,3,FALSE),4),\"\"),\"\"),\"\")","v":""}]
[{"$f":"IF(P_20号3様式1!C37=\"\",\"\",P_20号3様式1!C37)","v":"南大隅町"},{"$f":"IF(P_20号3様式1!AE37<> \"\",TEXT(INT(P_20号3様式1!AE37),\"#,##0\"),\"\")","v":"0"},{"$f":"IF(P_20号3様式1!AE37= \"\",\"\",IF(VALUE(FIXED(P_20号3様式1!AE37,0,TRUE))<>P_20号3様式1!AE37,RIGHT(FIXED(P_20号3様式1!AE37,3,FALSE),4),\"\"))","v":".000"},{"$f":"IF(P_20号3様式1!F37<> \"\",IF(P_20号3様式1!F37<> \"-\",TEXT(INT(P_20号3様式1!F37),\"#,##0\"),\"-\"),\"\")","v":"0"},{"$f":"IF(P_20号3様式1!F37<> \"\",IF(P_20号3様式1!F37<> \"-\",IF(VALUE(FIXED(P_20号3様式1!F37,0,TRUE))<>P_20号3様式1!F37,RIGHT(FIXED(P_20号3様式1!F37,3,FALSE),4),\"\"),\"\"),\"\")","v":".000"},{"$f":"IF(P_20号3様式1!I37<> \"\",IF(P_20号3様式1!I37<> \"-\",TEXT(INT(P_20号3様式1!I37),\"#,##0\"),\"-\"),\"\")","v":"0"},{"$f":"IF(P_20号3様式1!I37<> \"\",IF(P_20号3様式1!I37<> \"-\",IF(VALUE(FIXED(P_20号3様式1!I37,0,TRUE))<>P_20号3様式1!I37,RIGHT(FIXED(P_20号3様式1!I37,3,FALSE),4),\"\"),\"\"),\"\")","v":".000"},{"$f":"IF(P_20号3様式1!L37<> \"\",IF(P_20号3様式1!L37<> \"-\",TEXT(INT(P_20号3様式1!L37),\"#,##0\"),\"-\"),\"\")","v":""},{"$f":"IF(P_20号3様式1!L37<> \"\",IF(P_20号3様式1!L37<> \"-\",IF(VALUE(FIXED(P_20号3様式1!L37,0,TRUE))<>P_20号3様式1!L37,RIGHT(FIXED(P_20号3様式1!L37,3,FALSE),4),\"\"),\"\"),\"\")","v":""},{"$f":"IF(P_20号3様式1!O37<> \"\",IF(P_20号3様式1!O37<> \"-\",TEXT(INT(P_20号3様式1!O37),\"#,##0\"),\"-\"),\"\")","v":""},{"$f":"IF(P_20号3様式1!O37<> \"\",IF(P_20号3様式1!O37<> \"-\",IF(VALUE(FIXED(P_20号3様式1!O37,0,TRUE))<>P_20号3様式1!O37,RIGHT(FIXED(P_20号3様式1!O37,3,FALSE),4),\"\"),\"\"),\"\")","v":""},{"$f":"IF(P_20号3様式1!R37<> \"\",IF(P_20号3様式1!R37<> \"-\",TEXT(INT(P_20号3様式1!R37),\"#,##0\"),\"-\"),\"\")","v":""},{"$f":"IF(P_20号3様式1!R37<> \"\",IF(P_20号3様式1!R37<> \"-\",IF(VALUE(FIXED(P_20号3様式1!R37,0,TRUE))<>P_20号3様式1!R37,RIGHT(FIXED(P_20号3様式1!R37,3,FALSE),4),\"\"),\"\"),\"\")","v":""},{"$f":"IF(P_20号3様式1!U37<> \"\",IF(P_20号3様式1!U37<> \"-\",TEXT(INT(P_20号3様式1!U37),\"#,##0\"),\"-\"),\"\")","v":""},{"$f":"IF(P_20号3様式1!U37<> \"\",IF(P_20号3様式1!U37<> \"-\",IF(VALUE(FIXED(P_20号3様式1!U37,0,TRUE))<>P_20号3様式1!U37,RIGHT(FIXED(P_20号3様式1!U37,3,FALSE),4),\"\"),\"\"),\"\")","v":""},{"$f":"IF(P_20号3様式1!X37<> \"\",IF(P_20号3様式1!X37<> \"-\",TEXT(INT(P_20号3様式1!X37),\"#,##0\"),\"-\"),\"\")","v":""},{"$f":"IF(P_20号3様式1!X37<> \"\",IF(P_20号3様式1!X37<> \"-\",IF(VALUE(FIXED(P_20号3様式1!X37,0,TRUE))<>P_20号3様式1!X37,RIGHT(FIXED(P_20号3様式1!X37,3,FALSE),4),\"\"),\"\"),\"\")","v":""},{"$f":"IF(P_20号3様式1!AA37<> \"\",IF(P_20号3様式1!AA37<> \"-\",TEXT(INT(P_20号3様式1!AA37),\"#,##0\"),\"-\"),\"\")","v":""},{"$f":"IF(P_20号3様式1!AA37<> \"\",IF(P_20号3様式1!AA37<> \"-\",IF(VALUE(FIXED(P_20号3様式1!AA37,0,TRUE))<>P_20号3様式1!AA37,RIGHT(FIXED(P_20号3様式1!AA37,3,FALSE),4),\"\"),\"\"),\"\")","v":""}]
[{"$f":"IF(P_20号3様式1!C38=\"\",\"\",P_20号3様式1!C38)","v":"肝付町"},{"$f":"IF(P_20号3様式1!AE38<> \"\",TEXT(INT(P_20号3様式1!AE38),\"#,##0\"),\"\")","v":"5"},{"$f":"IF(P_20号3様式1!AE38= \"\",\"\",IF(VALUE(FIXED(P_20号3様式1!AE38,0,TRUE))<>P_20号3様式1!AE38,RIGHT(FIXED(P_20号3様式1!AE38,3,FALSE),4),\"\"))","v":".000"},{"$f":"IF(P_20号3様式1!F38<> \"\",IF(P_20号3様式1!F38<> \"-\",TEXT(INT(P_20号3様式1!F38),\"#,##0\"),\"-\"),\"\")","v":"4"},{"$f":"IF(P_20号3様式1!F38<> \"\",IF(P_20号3様式1!F38<> \"-\",IF(VALUE(FIXED(P_20号3様式1!F38,0,TRUE))<>P_20号3様式1!F38,RIGHT(FIXED(P_20号3様式1!F38,3,FALSE),4),\"\"),\"\"),\"\")","v":".000"},{"$f":"IF(P_20号3様式1!I38<> \"\",IF(P_20号3様式1!I38<> \"-\",TEXT(INT(P_20号3様式1!I38),\"#,##0\"),\"-\"),\"\")","v":"1"},{"$f":"IF(P_20号3様式1!I38<> \"\",IF(P_20号3様式1!I38<> \"-\",IF(VALUE(FIXED(P_20号3様式1!I38,0,TRUE))<>P_20号3様式1!I38,RIGHT(FIXED(P_20号3様式1!I38,3,FALSE),4),\"\"),\"\"),\"\")","v":".000"},{"$f":"IF(P_20号3様式1!L38<> \"\",IF(P_20号3様式1!L38<> \"-\",TEXT(INT(P_20号3様式1!L38),\"#,##0\"),\"-\"),\"\")","v":""},{"$f":"IF(P_20号3様式1!L38<> \"\",IF(P_20号3様式1!L38<> \"-\",IF(VALUE(FIXED(P_20号3様式1!L38,0,TRUE))<>P_20号3様式1!L38,RIGHT(FIXED(P_20号3様式1!L38,3,FALSE),4),\"\"),\"\"),\"\")","v":""},{"$f":"IF(P_20号3様式1!O38<> \"\",IF(P_20号3様式1!O38<> \"-\",TEXT(INT(P_20号3様式1!O38),\"#,##0\"),\"-\"),\"\")","v":""},{"$f":"IF(P_20号3様式1!O38<> \"\",IF(P_20号3様式1!O38<> \"-\",IF(VALUE(FIXED(P_20号3様式1!O38,0,TRUE))<>P_20号3様式1!O38,RIGHT(FIXED(P_20号3様式1!O38,3,FALSE),4),\"\"),\"\"),\"\")","v":""},{"$f":"IF(P_20号3様式1!R38<> \"\",IF(P_20号3様式1!R38<> \"-\",TEXT(INT(P_20号3様式1!R38),\"#,##0\"),\"-\"),\"\")","v":""},{"$f":"IF(P_20号3様式1!R38<> \"\",IF(P_20号3様式1!R38<> \"-\",IF(VALUE(FIXED(P_20号3様式1!R38,0,TRUE))<>P_20号3様式1!R38,RIGHT(FIXED(P_20号3様式1!R38,3,FALSE),4),\"\"),\"\"),\"\")","v":""},{"$f":"IF(P_20号3様式1!U38<> \"\",IF(P_20号3様式1!U38<> \"-\",TEXT(INT(P_20号3様式1!U38),\"#,##0\"),\"-\"),\"\")","v":""},{"$f":"IF(P_20号3様式1!U38<> \"\",IF(P_20号3様式1!U38<> \"-\",IF(VALUE(FIXED(P_20号3様式1!U38,0,TRUE))<>P_20号3様式1!U38,RIGHT(FIXED(P_20号3様式1!U38,3,FALSE),4),\"\"),\"\"),\"\")","v":""},{"$f":"IF(P_20号3様式1!X38<> \"\",IF(P_20号3様式1!X38<> \"-\",TEXT(INT(P_20号3様式1!X38),\"#,##0\"),\"-\"),\"\")","v":""},{"$f":"IF(P_20号3様式1!X38<> \"\",IF(P_20号3様式1!X38<> \"-\",IF(VALUE(FIXED(P_20号3様式1!X38,0,TRUE))<>P_20号3様式1!X38,RIGHT(FIXED(P_20号3様式1!X38,3,FALSE),4),\"\"),\"\"),\"\")","v":""},{"$f":"IF(P_20号3様式1!AA38<> \"\",IF(P_20号3様式1!AA38<> \"-\",TEXT(INT(P_20号3様式1!AA38),\"#,##0\"),\"-\"),\"\")","v":""},{"$f":"IF(P_20号3様式1!AA38<> \"\",IF(P_20号3様式1!AA38<> \"-\",IF(VALUE(FIXED(P_20号3様式1!AA38,0,TRUE))<>P_20号3様式1!AA38,RIGHT(FIXED(P_20号3様式1!AA38,3,FALSE),4),\"\"),\"\"),\"\")","v":""}]
[{"$f":"IF(P_20号3様式1!C39=\"\",\"\",P_20号3様式1!C39)","v":"＊（肝属郡）計"},{"$f":"IF(P_20号3様式1!AE39<> \"\",TEXT(INT(P_20号3様式1!AE39),\"#,##0\"),\"\")","v":"6"},{"$f":"IF(P_20号3様式1!AE39= \"\",\"\",IF(VALUE(FIXED(P_20号3様式1!AE39,0,TRUE))<>P_20号3様式1!AE39,RIGHT(FIXED(P_20号3様式1!AE39,3,FALSE),4),\"\"))","v":".000"},{"$f":"IF(P_20号3様式1!F39<> \"\",IF(P_20号3様式1!F39<> \"-\",TEXT(INT(P_20号3様式1!F39),\"#,##0\"),\"-\"),\"\")","v":"5"},{"$f":"IF(P_20号3様式1!F39<> \"\",IF(P_20号3様式1!F39<> \"-\",IF(VALUE(FIXED(P_20号3様式1!F39,0,TRUE))<>P_20号3様式1!F39,RIGHT(FIXED(P_20号3様式1!F39,3,FALSE),4),\"\"),\"\"),\"\")","v":".000"},{"$f":"IF(P_20号3様式1!I39<> \"\",IF(P_20号3様式1!I39<> \"-\",TEXT(INT(P_20号3様式1!I39),\"#,##0\"),\"-\"),\"\")","v":"1"},{"$f":"IF(P_20号3様式1!I39<> \"\",IF(P_20号3様式1!I39<> \"-\",IF(VALUE(FIXED(P_20号3様式1!I39,0,TRUE))<>P_20号3様式1!I39,RIGHT(FIXED(P_20号3様式1!I39,3,FALSE),4),\"\"),\"\"),\"\")","v":".000"},{"$f":"IF(P_20号3様式1!L39<> \"\",IF(P_20号3様式1!L39<> \"-\",TEXT(INT(P_20号3様式1!L39),\"#,##0\"),\"-\"),\"\")","v":""},{"$f":"IF(P_20号3様式1!L39<> \"\",IF(P_20号3様式1!L39<> \"-\",IF(VALUE(FIXED(P_20号3様式1!L39,0,TRUE))<>P_20号3様式1!L39,RIGHT(FIXED(P_20号3様式1!L39,3,FALSE),4),\"\"),\"\"),\"\")","v":""},{"$f":"IF(P_20号3様式1!O39<> \"\",IF(P_20号3様式1!O39<> \"-\",TEXT(INT(P_20号3様式1!O39),\"#,##0\"),\"-\"),\"\")","v":""},{"$f":"IF(P_20号3様式1!O39<> \"\",IF(P_20号3様式1!O39<> \"-\",IF(VALUE(FIXED(P_20号3様式1!O39,0,TRUE))<>P_20号3様式1!O39,RIGHT(FIXED(P_20号3様式1!O39,3,FALSE),4),\"\"),\"\"),\"\")","v":""},{"$f":"IF(P_20号3様式1!R39<> \"\",IF(P_20号3様式1!R39<> \"-\",TEXT(INT(P_20号3様式1!R39),\"#,##0\"),\"-\"),\"\")","v":""},{"$f":"IF(P_20号3様式1!R39<> \"\",IF(P_20号3様式1!R39<> \"-\",IF(VALUE(FIXED(P_20号3様式1!R39,0,TRUE))<>P_20号3様式1!R39,RIGHT(FIXED(P_20号3様式1!R39,3,FALSE),4),\"\"),\"\"),\"\")","v":""},{"$f":"IF(P_20号3様式1!U39<> \"\",IF(P_20号3様式1!U39<> \"-\",TEXT(INT(P_20号3様式1!U39),\"#,##0\"),\"-\"),\"\")","v":""},{"$f":"IF(P_20号3様式1!U39<> \"\",IF(P_20号3様式1!U39<> \"-\",IF(VALUE(FIXED(P_20号3様式1!U39,0,TRUE))<>P_20号3様式1!U39,RIGHT(FIXED(P_20号3様式1!U39,3,FALSE),4),\"\"),\"\"),\"\")","v":""},{"$f":"IF(P_20号3様式1!X39<> \"\",IF(P_20号3様式1!X39<> \"-\",TEXT(INT(P_20号3様式1!X39),\"#,##0\"),\"-\"),\"\")","v":""},{"$f":"IF(P_20号3様式1!X39<> \"\",IF(P_20号3様式1!X39<> \"-\",IF(VALUE(FIXED(P_20号3様式1!X39,0,TRUE))<>P_20号3様式1!X39,RIGHT(FIXED(P_20号3様式1!X39,3,FALSE),4),\"\"),\"\"),\"\")","v":""},{"$f":"IF(P_20号3様式1!AA39<> \"\",IF(P_20号3様式1!AA39<> \"-\",TEXT(INT(P_20号3様式1!AA39),\"#,##0\"),\"-\"),\"\")","v":""},{"$f":"IF(P_20号3様式1!AA39<> \"\",IF(P_20号3様式1!AA39<> \"-\",IF(VALUE(FIXED(P_20号3様式1!AA39,0,TRUE))<>P_20号3様式1!AA39,RIGHT(FIXED(P_20号3様式1!AA39,3,FALSE),4),\"\"),\"\"),\"\")","v":""}]
[{"$f":"IF(P_20号3様式1!C40=\"\",\"\",P_20号3様式1!C40)","v":"中種子町"},{"$f":"IF(P_20号3様式1!AE40<> \"\",TEXT(INT(P_20号3様式1!AE40),\"#,##0\"),\"\")","v":"3"},{"$f":"IF(P_20号3様式1!AE40= \"\",\"\",IF(VALUE(FIXED(P_20号3様式1!AE40,0,TRUE))<>P_20号3様式1!AE40,RIGHT(FIXED(P_20号3様式1!AE40,3,FALSE),4),\"\"))","v":".000"},{"$f":"IF(P_20号3様式1!F40<> \"\",IF(P_20号3様式1!F40<> \"-\",TEXT(INT(P_20号3様式1!F40),\"#,##0\"),\"-\"),\"\")","v":"2"},{"$f":"IF(P_20号3様式1!F40<> \"\",IF(P_20号3様式1!F40<> \"-\",IF(VALUE(FIXED(P_20号3様式1!F40,0,TRUE))<>P_20号3様式1!F40,RIGHT(FIXED(P_20号3様式1!F40,3,FALSE),4),\"\"),\"\"),\"\")","v":".000"},{"$f":"IF(P_20号3様式1!I40<> \"\",IF(P_20号3様式1!I40<> \"-\",TEXT(INT(P_20号3様式1!I40),\"#,##0\"),\"-\"),\"\")","v":"1"},{"$f":"IF(P_20号3様式1!I40<> \"\",IF(P_20号3様式1!I40<> \"-\",IF(VALUE(FIXED(P_20号3様式1!I40,0,TRUE))<>P_20号3様式1!I40,RIGHT(FIXED(P_20号3様式1!I40,3,FALSE),4),\"\"),\"\"),\"\")","v":".000"},{"$f":"IF(P_20号3様式1!L40<> \"\",IF(P_20号3様式1!L40<> \"-\",TEXT(INT(P_20号3様式1!L40),\"#,##0\"),\"-\"),\"\")","v":""},{"$f":"IF(P_20号3様式1!L40<> \"\",IF(P_20号3様式1!L40<> \"-\",IF(VALUE(FIXED(P_20号3様式1!L40,0,TRUE))<>P_20号3様式1!L40,RIGHT(FIXED(P_20号3様式1!L40,3,FALSE),4),\"\"),\"\"),\"\")","v":""},{"$f":"IF(P_20号3様式1!O40<> \"\",IF(P_20号3様式1!O40<> \"-\",TEXT(INT(P_20号3様式1!O40),\"#,##0\"),\"-\"),\"\")","v":""},{"$f":"IF(P_20号3様式1!O40<> \"\",IF(P_20号3様式1!O40<> \"-\",IF(VALUE(FIXED(P_20号3様式1!O40,0,TRUE))<>P_20号3様式1!O40,RIGHT(FIXED(P_20号3様式1!O40,3,FALSE),4),\"\"),\"\"),\"\")","v":""},{"$f":"IF(P_20号3様式1!R40<> \"\",IF(P_20号3様式1!R40<> \"-\",TEXT(INT(P_20号3様式1!R40),\"#,##0\"),\"-\"),\"\")","v":""},{"$f":"IF(P_20号3様式1!R40<> \"\",IF(P_20号3様式1!R40<> \"-\",IF(VALUE(FIXED(P_20号3様式1!R40,0,TRUE))<>P_20号3様式1!R40,RIGHT(FIXED(P_20号3様式1!R40,3,FALSE),4),\"\"),\"\"),\"\")","v":""},{"$f":"IF(P_20号3様式1!U40<> \"\",IF(P_20号3様式1!U40<> \"-\",TEXT(INT(P_20号3様式1!U40),\"#,##0\"),\"-\"),\"\")","v":""},{"$f":"IF(P_20号3様式1!U40<> \"\",IF(P_20号3様式1!U40<> \"-\",IF(VALUE(FIXED(P_20号3様式1!U40,0,TRUE))<>P_20号3様式1!U40,RIGHT(FIXED(P_20号3様式1!U40,3,FALSE),4),\"\"),\"\"),\"\")","v":""},{"$f":"IF(P_20号3様式1!X40<> \"\",IF(P_20号3様式1!X40<> \"-\",TEXT(INT(P_20号3様式1!X40),\"#,##0\"),\"-\"),\"\")","v":""},{"$f":"IF(P_20号3様式1!X40<> \"\",IF(P_20号3様式1!X40<> \"-\",IF(VALUE(FIXED(P_20号3様式1!X40,0,TRUE))<>P_20号3様式1!X40,RIGHT(FIXED(P_20号3様式1!X40,3,FALSE),4),\"\"),\"\"),\"\")","v":""},{"$f":"IF(P_20号3様式1!AA40<> \"\",IF(P_20号3様式1!AA40<> \"-\",TEXT(INT(P_20号3様式1!AA40),\"#,##0\"),\"-\"),\"\")","v":""},{"$f":"IF(P_20号3様式1!AA40<> \"\",IF(P_20号3様式1!AA40<> \"-\",IF(VALUE(FIXED(P_20号3様式1!AA40,0,TRUE))<>P_20号3様式1!AA40,RIGHT(FIXED(P_20号3様式1!AA40,3,FALSE),4),\"\"),\"\"),\"\")","v":""}]
[{"$f":"IF(P_20号3様式1!C41=\"\",\"\",P_20号3様式1!C41)","v":"南種子町"},{"$f":"IF(P_20号3様式1!AE41<> \"\",TEXT(INT(P_20号3様式1!AE41),\"#,##0\"),\"\")","v":"1"},{"$f":"IF(P_20号3様式1!AE41= \"\",\"\",IF(VALUE(FIXED(P_20号3様式1!AE41,0,TRUE))<>P_20号3様式1!AE41,RIGHT(FIXED(P_20号3様式1!AE41,3,FALSE),4),\"\"))","v":".000"},{"$f":"IF(P_20号3様式1!F41<> \"\",IF(P_20号3様式1!F41<> \"-\",TEXT(INT(P_20号3様式1!F41),\"#,##0\"),\"-\"),\"\")","v":"0"},{"$f":"IF(P_20号3様式1!F41<> \"\",IF(P_20号3様式1!F41<> \"-\",IF(VALUE(FIXED(P_20号3様式1!F41,0,TRUE))<>P_20号3様式1!F41,RIGHT(FIXED(P_20号3様式1!F41,3,FALSE),4),\"\"),\"\"),\"\")","v":".000"},{"$f":"IF(P_20号3様式1!I41<> \"\",IF(P_20号3様式1!I41<> \"-\",TEXT(INT(P_20号3様式1!I41),\"#,##0\"),\"-\"),\"\")","v":"1"},{"$f":"IF(P_20号3様式1!I41<> \"\",IF(P_20号3様式1!I41<> \"-\",IF(VALUE(FIXED(P_20号3様式1!I41,0,TRUE))<>P_20号3様式1!I41,RIGHT(FIXED(P_20号3様式1!I41,3,FALSE),4),\"\"),\"\"),\"\")","v":".000"},{"$f":"IF(P_20号3様式1!L41<> \"\",IF(P_20号3様式1!L41<> \"-\",TEXT(INT(P_20号3様式1!L41),\"#,##0\"),\"-\"),\"\")","v":""},{"$f":"IF(P_20号3様式1!L41<> \"\",IF(P_20号3様式1!L41<> \"-\",IF(VALUE(FIXED(P_20号3様式1!L41,0,TRUE))<>P_20号3様式1!L41,RIGHT(FIXED(P_20号3様式1!L41,3,FALSE),4),\"\"),\"\"),\"\")","v":""},{"$f":"IF(P_20号3様式1!O41<> \"\",IF(P_20号3様式1!O41<> \"-\",TEXT(INT(P_20号3様式1!O41),\"#,##0\"),\"-\"),\"\")","v":""},{"$f":"IF(P_20号3様式1!O41<> \"\",IF(P_20号3様式1!O41<> \"-\",IF(VALUE(FIXED(P_20号3様式1!O41,0,TRUE))<>P_20号3様式1!O41,RIGHT(FIXED(P_20号3様式1!O41,3,FALSE),4),\"\"),\"\"),\"\")","v":""},{"$f":"IF(P_20号3様式1!R41<> \"\",IF(P_20号3様式1!R41<> \"-\",TEXT(INT(P_20号3様式1!R41),\"#,##0\"),\"-\"),\"\")","v":""},{"$f":"IF(P_20号3様式1!R41<> \"\",IF(P_20号3様式1!R41<> \"-\",IF(VALUE(FIXED(P_20号3様式1!R41,0,TRUE))<>P_20号3様式1!R41,RIGHT(FIXED(P_20号3様式1!R41,3,FALSE),4),\"\"),\"\"),\"\")","v":""},{"$f":"IF(P_20号3様式1!U41<> \"\",IF(P_20号3様式1!U41<> \"-\",TEXT(INT(P_20号3様式1!U41),\"#,##0\"),\"-\"),\"\")","v":""},{"$f":"IF(P_20号3様式1!U41<> \"\",IF(P_20号3様式1!U41<> \"-\",IF(VALUE(FIXED(P_20号3様式1!U41,0,TRUE))<>P_20号3様式1!U41,RIGHT(FIXED(P_20号3様式1!U41,3,FALSE),4),\"\"),\"\"),\"\")","v":""},{"$f":"IF(P_20号3様式1!X41<> \"\",IF(P_20号3様式1!X41<> \"-\",TEXT(INT(P_20号3様式1!X41),\"#,##0\"),\"-\"),\"\")","v":""},{"$f":"IF(P_20号3様式1!X41<> \"\",IF(P_20号3様式1!X41<> \"-\",IF(VALUE(FIXED(P_20号3様式1!X41,0,TRUE))<>P_20号3様式1!X41,RIGHT(FIXED(P_20号3様式1!X41,3,FALSE),4),\"\"),\"\"),\"\")","v":""},{"$f":"IF(P_20号3様式1!AA41<> \"\",IF(P_20号3様式1!AA41<> \"-\",TEXT(INT(P_20号3様式1!AA41),\"#,##0\"),\"-\"),\"\")","v":""},{"$f":"IF(P_20号3様式1!AA41<> \"\",IF(P_20号3様式1!AA41<> \"-\",IF(VALUE(FIXED(P_20号3様式1!AA41,0,TRUE))<>P_20号3様式1!AA41,RIGHT(FIXED(P_20号3様式1!AA41,3,FALSE),4),\"\"),\"\"),\"\")","v":""}]
[{"$f":"IF(P_20号3様式1!C42=\"\",\"\",P_20号3様式1!C42)","v":"屋久島町"},{"$f":"IF(P_20号3様式1!AE42<> \"\",TEXT(INT(P_20号3様式1!AE42),\"#,##0\"),\"\")","v":"0"},{"$f":"IF(P_20号3様式1!AE42= \"\",\"\",IF(VALUE(FIXED(P_20号3様式1!AE42,0,TRUE))<>P_20号3様式1!AE42,RIGHT(FIXED(P_20号3様式1!AE42,3,FALSE),4),\"\"))","v":".000"},{"$f":"IF(P_20号3様式1!F42<> \"\",IF(P_20号3様式1!F42<> \"-\",TEXT(INT(P_20号3様式1!F42),\"#,##0\"),\"-\"),\"\")","v":"0"},{"$f":"IF(P_20号3様式1!F42<> \"\",IF(P_20号3様式1!F42<> \"-\",IF(VALUE(FIXED(P_20号3様式1!F42,0,TRUE))<>P_20号3様式1!F42,RIGHT(FIXED(P_20号3様式1!F42,3,FALSE),4),\"\"),\"\"),\"\")","v":".000"},{"$f":"IF(P_20号3様式1!I42<> \"\",IF(P_20号3様式1!I42<> \"-\",TEXT(INT(P_20号3様式1!I42),\"#,##0\"),\"-\"),\"\")","v":"0"},{"$f":"IF(P_20号3様式1!I42<> \"\",IF(P_20号3様式1!I42<> \"-\",IF(VALUE(FIXED(P_20号3様式1!I42,0,TRUE))<>P_20号3様式1!I42,RIGHT(FIXED(P_20号3様式1!I42,3,FALSE),4),\"\"),\"\"),\"\")","v":".000"},{"$f":"IF(P_20号3様式1!L42<> \"\",IF(P_20号3様式1!L42<> \"-\",TEXT(INT(P_20号3様式1!L42),\"#,##0\"),\"-\"),\"\")","v":""},{"$f":"IF(P_20号3様式1!L42<> \"\",IF(P_20号3様式1!L42<> \"-\",IF(VALUE(FIXED(P_20号3様式1!L42,0,TRUE))<>P_20号3様式1!L42,RIGHT(FIXED(P_20号3様式1!L42,3,FALSE),4),\"\"),\"\"),\"\")","v":""},{"$f":"IF(P_20号3様式1!O42<> \"\",IF(P_20号3様式1!O42<> \"-\",TEXT(INT(P_20号3様式1!O42),\"#,##0\"),\"-\"),\"\")","v":""},{"$f":"IF(P_20号3様式1!O42<> \"\",IF(P_20号3様式1!O42<> \"-\",IF(VALUE(FIXED(P_20号3様式1!O42,0,TRUE))<>P_20号3様式1!O42,RIGHT(FIXED(P_20号3様式1!O42,3,FALSE),4),\"\"),\"\"),\"\")","v":""},{"$f":"IF(P_20号3様式1!R42<> \"\",IF(P_20号3様式1!R42<> \"-\",TEXT(INT(P_20号3様式1!R42),\"#,##0\"),\"-\"),\"\")","v":""},{"$f":"IF(P_20号3様式1!R42<> \"\",IF(P_20号3様式1!R42<> \"-\",IF(VALUE(FIXED(P_20号3様式1!R42,0,TRUE))<>P_20号3様式1!R42,RIGHT(FIXED(P_20号3様式1!R42,3,FALSE),4),\"\"),\"\"),\"\")","v":""},{"$f":"IF(P_20号3様式1!U42<> \"\",IF(P_20号3様式1!U42<> \"-\",TEXT(INT(P_20号3様式1!U42),\"#,##0\"),\"-\"),\"\")","v":""},{"$f":"IF(P_20号3様式1!U42<> \"\",IF(P_20号3様式1!U42<> \"-\",IF(VALUE(FIXED(P_20号3様式1!U42,0,TRUE))<>P_20号3様式1!U42,RIGHT(FIXED(P_20号3様式1!U42,3,FALSE),4),\"\"),\"\"),\"\")","v":""},{"$f":"IF(P_20号3様式1!X42<> \"\",IF(P_20号3様式1!X42<> \"-\",TEXT(INT(P_20号3様式1!X42),\"#,##0\"),\"-\"),\"\")","v":""},{"$f":"IF(P_20号3様式1!X42<> \"\",IF(P_20号3様式1!X42<> \"-\",IF(VALUE(FIXED(P_20号3様式1!X42,0,TRUE))<>P_20号3様式1!X42,RIGHT(FIXED(P_20号3様式1!X42,3,FALSE),4),\"\"),\"\"),\"\")","v":""},{"$f":"IF(P_20号3様式1!AA42<> \"\",IF(P_20号3様式1!AA42<> \"-\",TEXT(INT(P_20号3様式1!AA42),\"#,##0\"),\"-\"),\"\")","v":""},{"$f":"IF(P_20号3様式1!AA42<> \"\",IF(P_20号3様式1!AA42<> \"-\",IF(VALUE(FIXED(P_20号3様式1!AA42,0,TRUE))<>P_20号3様式1!AA42,RIGHT(FIXED(P_20号3様式1!AA42,3,FALSE),4),\"\"),\"\"),\"\")","v":""}]
[{"$f":"IF(P_20号3様式1!C43=\"\",\"\",P_20号3様式1!C43)","v":"＊（熊毛郡）計"},{"$f":"IF(P_20号3様式1!AE43<> \"\",TEXT(INT(P_20号3様式1!AE43),\"#,##0\"),\"\")","v":"4"},{"$f":"IF(P_20号3様式1!AE43= \"\",\"\",IF(VALUE(FIXED(P_20号3様式1!AE43,0,TRUE))<>P_20号3様式1!AE43,RIGHT(FIXED(P_20号3様式1!AE43,3,FALSE),4),\"\"))","v":".000"},{"$f":"IF(P_20号3様式1!F43<> \"\",IF(P_20号3様式1!F43<> \"-\",TEXT(INT(P_20号3様式1!F43),\"#,##0\"),\"-\"),\"\")","v":"2"},{"$f":"IF(P_20号3様式1!F43<> \"\",IF(P_20号3様式1!F43<> \"-\",IF(VALUE(FIXED(P_20号3様式1!F43,0,TRUE))<>P_20号3様式1!F43,RIGHT(FIXED(P_20号3様式1!F43,3,FALSE),4),\"\"),\"\"),\"\")","v":".000"},{"$f":"IF(P_20号3様式1!I43<> \"\",IF(P_20号3様式1!I43<> \"-\",TEXT(INT(P_20号3様式1!I43),\"#,##0\"),\"-\"),\"\")","v":"2"},{"$f":"IF(P_20号3様式1!I43<> \"\",IF(P_20号3様式1!I43<> \"-\",IF(VALUE(FIXED(P_20号3様式1!I43,0,TRUE))<>P_20号3様式1!I43,RIGHT(FIXED(P_20号3様式1!I43,3,FALSE),4),\"\"),\"\"),\"\")","v":".000"},{"$f":"IF(P_20号3様式1!L43<> \"\",IF(P_20号3様式1!L43<> \"-\",TEXT(INT(P_20号3様式1!L43),\"#,##0\"),\"-\"),\"\")","v":""},{"$f":"IF(P_20号3様式1!L43<> \"\",IF(P_20号3様式1!L43<> \"-\",IF(VALUE(FIXED(P_20号3様式1!L43,0,TRUE))<>P_20号3様式1!L43,RIGHT(FIXED(P_20号3様式1!L43,3,FALSE),4),\"\"),\"\"),\"\")","v":""},{"$f":"IF(P_20号3様式1!O43<> \"\",IF(P_20号3様式1!O43<> \"-\",TEXT(INT(P_20号3様式1!O43),\"#,##0\"),\"-\"),\"\")","v":""},{"$f":"IF(P_20号3様式1!O43<> \"\",IF(P_20号3様式1!O43<> \"-\",IF(VALUE(FIXED(P_20号3様式1!O43,0,TRUE))<>P_20号3様式1!O43,RIGHT(FIXED(P_20号3様式1!O43,3,FALSE),4),\"\"),\"\"),\"\")","v":""},{"$f":"IF(P_20号3様式1!R43<> \"\",IF(P_20号3様式1!R43<> \"-\",TEXT(INT(P_20号3様式1!R43),\"#,##0\"),\"-\"),\"\")","v":""},{"$f":"IF(P_20号3様式1!R43<> \"\",IF(P_20号3様式1!R43<> \"-\",IF(VALUE(FIXED(P_20号3様式1!R43,0,TRUE))<>P_20号3様式1!R43,RIGHT(FIXED(P_20号3様式1!R43,3,FALSE),4),\"\"),\"\"),\"\")","v":""},{"$f":"IF(P_20号3様式1!U43<> \"\",IF(P_20号3様式1!U43<> \"-\",TEXT(INT(P_20号3様式1!U43),\"#,##0\"),\"-\"),\"\")","v":""},{"$f":"IF(P_20号3様式1!U43<> \"\",IF(P_20号3様式1!U43<> \"-\",IF(VALUE(FIXED(P_20号3様式1!U43,0,TRUE))<>P_20号3様式1!U43,RIGHT(FIXED(P_20号3様式1!U43,3,FALSE),4),\"\"),\"\"),\"\")","v":""},{"$f":"IF(P_20号3様式1!X43<> \"\",IF(P_20号3様式1!X43<> \"-\",TEXT(INT(P_20号3様式1!X43),\"#,##0\"),\"-\"),\"\")","v":""},{"$f":"IF(P_20号3様式1!X43<> \"\",IF(P_20号3様式1!X43<> \"-\",IF(VALUE(FIXED(P_20号3様式1!X43,0,TRUE))<>P_20号3様式1!X43,RIGHT(FIXED(P_20号3様式1!X43,3,FALSE),4),\"\"),\"\"),\"\")","v":""},{"$f":"IF(P_20号3様式1!AA43<> \"\",IF(P_20号3様式1!AA43<> \"-\",TEXT(INT(P_20号3様式1!AA43),\"#,##0\"),\"-\"),\"\")","v":""},{"$f":"IF(P_20号3様式1!AA43<> \"\",IF(P_20号3様式1!AA43<> \"-\",IF(VALUE(FIXED(P_20号3様式1!AA43,0,TRUE))<>P_20号3様式1!AA43,RIGHT(FIXED(P_20号3様式1!AA43,3,FALSE),4),\"\"),\"\"),\"\")","v":""}]
[{"$f":"IF(P_20号3様式1!C44=\"\",\"\",P_20号3様式1!C44)","v":"大和村"},{"$f":"IF(P_20号3様式1!AE44<> \"\",TEXT(INT(P_20号3様式1!AE44),\"#,##0\"),\"\")","v":"0"},{"$f":"IF(P_20号3様式1!AE44= \"\",\"\",IF(VALUE(FIXED(P_20号3様式1!AE44,0,TRUE))<>P_20号3様式1!AE44,RIGHT(FIXED(P_20号3様式1!AE44,3,FALSE),4),\"\"))","v":".000"},{"$f":"IF(P_20号3様式1!F44<> \"\",IF(P_20号3様式1!F44<> \"-\",TEXT(INT(P_20号3様式1!F44),\"#,##0\"),\"-\"),\"\")","v":"0"},{"$f":"IF(P_20号3様式1!F44<> \"\",IF(P_20号3様式1!F44<> \"-\",IF(VALUE(FIXED(P_20号3様式1!F44,0,TRUE))<>P_20号3様式1!F44,RIGHT(FIXED(P_20号3様式1!F44,3,FALSE),4),\"\"),\"\"),\"\")","v":".000"},{"$f":"IF(P_20号3様式1!I44<> \"\",IF(P_20号3様式1!I44<> \"-\",TEXT(INT(P_20号3様式1!I44),\"#,##0\"),\"-\"),\"\")","v":"0"},{"$f":"IF(P_20号3様式1!I44<> \"\",IF(P_20号3様式1!I44<> \"-\",IF(VALUE(FIXED(P_20号3様式1!I44,0,TRUE))<>P_20号3様式1!I44,RIGHT(FIXED(P_20号3様式1!I44,3,FALSE),4),\"\"),\"\"),\"\")","v":".000"},{"$f":"IF(P_20号3様式1!L44<> \"\",IF(P_20号3様式1!L44<> \"-\",TEXT(INT(P_20号3様式1!L44),\"#,##0\"),\"-\"),\"\")","v":""},{"$f":"IF(P_20号3様式1!L44<> \"\",IF(P_20号3様式1!L44<> \"-\",IF(VALUE(FIXED(P_20号3様式1!L44,0,TRUE))<>P_20号3様式1!L44,RIGHT(FIXED(P_20号3様式1!L44,3,FALSE),4),\"\"),\"\"),\"\")","v":""},{"$f":"IF(P_20号3様式1!O44<> \"\",IF(P_20号3様式1!O44<> \"-\",TEXT(INT(P_20号3様式1!O44),\"#,##0\"),\"-\"),\"\")","v":""},{"$f":"IF(P_20号3様式1!O44<> \"\",IF(P_20号3様式1!O44<> \"-\",IF(VALUE(FIXED(P_20号3様式1!O44,0,TRUE))<>P_20号3様式1!O44,RIGHT(FIXED(P_20号3様式1!O44,3,FALSE),4),\"\"),\"\"),\"\")","v":""},{"$f":"IF(P_20号3様式1!R44<> \"\",IF(P_20号3様式1!R44<> \"-\",TEXT(INT(P_20号3様式1!R44),\"#,##0\"),\"-\"),\"\")","v":""},{"$f":"IF(P_20号3様式1!R44<> \"\",IF(P_20号3様式1!R44<> \"-\",IF(VALUE(FIXED(P_20号3様式1!R44,0,TRUE))<>P_20号3様式1!R44,RIGHT(FIXED(P_20号3様式1!R44,3,FALSE),4),\"\"),\"\"),\"\")","v":""},{"$f":"IF(P_20号3様式1!U44<> \"\",IF(P_20号3様式1!U44<> \"-\",TEXT(INT(P_20号3様式1!U44),\"#,##0\"),\"-\"),\"\")","v":""},{"$f":"IF(P_20号3様式1!U44<> \"\",IF(P_20号3様式1!U44<> \"-\",IF(VALUE(FIXED(P_20号3様式1!U44,0,TRUE))<>P_20号3様式1!U44,RIGHT(FIXED(P_20号3様式1!U44,3,FALSE),4),\"\"),\"\"),\"\")","v":""},{"$f":"IF(P_20号3様式1!X44<> \"\",IF(P_20号3様式1!X44<> \"-\",TEXT(INT(P_20号3様式1!X44),\"#,##0\"),\"-\"),\"\")","v":""},{"$f":"IF(P_20号3様式1!X44<> \"\",IF(P_20号3様式1!X44<> \"-\",IF(VALUE(FIXED(P_20号3様式1!X44,0,TRUE))<>P_20号3様式1!X44,RIGHT(FIXED(P_20号3様式1!X44,3,FALSE),4),\"\"),\"\"),\"\")","v":""},{"$f":"IF(P_20号3様式1!AA44<> \"\",IF(P_20号3様式1!AA44<> \"-\",TEXT(INT(P_20号3様式1!AA44),\"#,##0\"),\"-\"),\"\")","v":""},{"$f":"IF(P_20号3様式1!AA44<> \"\",IF(P_20号3様式1!AA44<> \"-\",IF(VALUE(FIXED(P_20号3様式1!AA44,0,TRUE))<>P_20号3様式1!AA44,RIGHT(FIXED(P_20号3様式1!AA44,3,FALSE),4),\"\"),\"\"),\"\")","v":""}]
[]
["政   令   市   計",{"$f":"IF(P_20号3様式1!AH2<> \"\",TEXT(INT(P_20号3様式1!AH2),\"#,##0\"),\"\")","v":""},{"$f":"IF(P_20号3様式1!AH2= \"\",\"\",IF(VALUE(FIXED(P_20号3様式1!AH2,0,TRUE))<>P_20号3様式1!AH2,RIGHT(FIXED(P_20号3様式1!AH2,3,FALSE),4),\"\"))","v":""},{"$f":"IF(P_20号3様式1!AI2<> \"\",IF(P_20号3様式1!AI2<> \"-\",TEXT(INT(P_20号3様式1!AI2),\"#,##0\"),\"-\"),\"\")","v":""},{"$f":"IF(P_20号3様式1!AI2<> \"\",IF(P_20号3様式1!AI2<> \"-\",IF(VALUE(FIXED(P_20号3様式1!AI2,0,TRUE))<>P_20号3様式1!AI2,RIGHT(FIXED(P_20号3様式1!AI2,3,FALSE),4),\"\"),\"\"),\"\")","v":""},{"$f":"IF(P_20号3様式1!AJ2<> \"\",IF(P_20号3様式1!AJ2<> \"-\",TEXT(INT(P_20号3様式1!AJ2),\"#,##0\"),\"-\"),\"\")","v":""},{"$f":"IF(P_20号3様式1!AJ2<> \"\",IF(P_20号3様式1!AJ2<> \"-\",IF(VALUE(FIXED(P_20号3様式1!AJ2,0,TRUE))<>P_20号3様式1!AJ2,RIGHT(FIXED(P_20号3様式1!AJ2,3,FALSE),4),\"\"),\"\"),\"\")","v":""},{"$f":"IF(P_20号3様式1!AK2<> \"\",IF(P_20号3様式1!AK2<> \"-\",TEXT(INT(P_20号3様式1!AK2),\"#,##0\"),\"-\"),\"\")","v":""},{"$f":"IF(P_20号3様式1!AK2<> \"\",IF(P_20号3様式1!AK2<> \"-\",IF(VALUE(FIXED(P_20号3様式1!AK2,0,TRUE))<>P_20号3様式1!AK2,RIGHT(FIXED(P_20号3様式1!AK2,3,FALSE),4),\"\"),\"\"),\"\")","v":""},{"$f":"IF(P_20号3様式1!AL2<> \"\",IF(P_20号3様式1!AL2<> \"-\",TEXT(INT(P_20号3様式1!AL2),\"#,##0\"),\"-\"),\"\")","v":""},{"$f":"IF(P_20号3様式1!AL2<> \"\",IF(P_20号3様式1!AL2<> \"-\",IF(VALUE(FIXED(P_20号3様式1!AL2,0,TRUE))<>P_20号3様式1!AL2,RIGHT(FIXED(P_20号3様式1!AL2,3,FALSE),4),\"\"),\"\"),\"\")","v":""},{"$f":"IF(P_20号3様式1!AM2<> \"\",IF(P_20号3様式1!AM2<> \"-\",TEXT(INT(P_20号3様式1!AM2),\"#,##0\"),\"-\"),\"\")","v":""},{"$f":"IF(P_20号3様式1!AM2<> \"\",IF(P_20号3様式1!AM2<> \"-\",IF(VALUE(FIXED(P_20号3様式1!AM2,0,TRUE))<>P_20号3様式1!AM2,RIGHT(FIXED(P_20号3様式1!AM2,3,FALSE),4),\"\"),\"\"),\"\")","v":""},{"$f":"IF(P_20号3様式1!AN2<> \"\",IF(P_20号3様式1!AN2<> \"-\",TEXT(INT(P_20号3様式1!AN2),\"#,##0\"),\"-\"),\"\")","v":""},{"$f":"IF(P_20号3様式1!AN2<> \"\",IF(P_20号3様式1!AN2<> \"-\",IF(VALUE(FIXED(P_20号3様式1!AN2,0,TRUE))<>P_20号3様式1!AN2,RIGHT(FIXED(P_20号3様式1!AN2,3,FALSE),4),\"\"),\"\"),\"\")","v":""},{"$f":"IF(P_20号3様式1!AO2<> \"\",IF(P_20号3様式1!AO2<> \"-\",TEXT(INT(P_20号3様式1!AO2),\"#,##0\"),\"-\"),\"\")","v":""},{"$f":"IF(P_20号3様式1!AO2<> \"\",IF(P_20号3様式1!AO2<> \"-\",IF(VALUE(FIXED(P_20号3様式1!AO2,0,TRUE))<>P_20号3様式1!AO2,RIGHT(FIXED(P_20号3様式1!AO2,3,FALSE),4),\"\"),\"\"),\"\")","v":""},{"$f":"IF(P_20号3様式1!AP2<> \"\",IF(P_20号3様式1!AP2<> \"-\",TEXT(INT(P_20号3様式1!AP2),\"#,##0\"),\"-\"),\"\")","v":""},{"$f":"IF(P_20号3様式1!AP2<> \"\",IF(P_20号3様式1!AP2<> \"-\",IF(VALUE(FIXED(P_20号3様式1!AP2,0,TRUE))<>P_20号3様式1!AP2,RIGHT(FIXED(P_20号3様式1!AP2,3,FALSE),4),\"\"),\"\"),\"\")","v":""}]
["そ  の  他  市  計",{"$f":"IF(P_20号3様式1!AS2<> \"\",TEXT(INT(P_20号3様式1!AS2),\"#,##0\"),\"\")","v":"167"},{"$f":"IF(P_20号3様式1!AS2= \"\",\"\",IF(VALUE(FIXED(P_20号3様式1!AS2,0,TRUE))<>P_20号3様式1!AS2,RIGHT(FIXED(P_20号3様式1!AS2,3,FALSE),4),\"\"))","v":".500"},{"$f":"IF(P_20号3様式1!AT2<> \"\",IF(P_20号3様式1!AT2<> \"-\",TEXT(INT(P_20号3様式1!AT2),\"#,##0\"),\"-\"),\"\")","v":"131"},{"$f":"IF(P_20号3様式1!AT2<> \"\",IF(P_20号3様式1!AT2<> \"-\",IF(VALUE(FIXED(P_20号3様式1!AT2,0,TRUE))<>P_20号3様式1!AT2,RIGHT(FIXED(P_20号3様式1!AT2,3,FALSE),4),\"\"),\"\"),\"\")","v":".500"},{"$f":"IF(P_20号3様式1!AU2<> \"\",IF(P_20号3様式1!AU2<> \"-\",TEXT(INT(P_20号3様式1!AU2),\"#,##0\"),\"-\"),\"\")","v":"36"},{"$f":"IF(P_20号3様式1!AU2<> \"\",IF(P_20号3様式1!AU2<> \"-\",IF(VALUE(FIXED(P_20号3様式1!AU2,0,TRUE))<>P_20号3様式1!AU2,RIGHT(FIXED(P_20号3様式1!AU2,3,FALSE),4),\"\"),\"\"),\"\")","v":".000"},{"$f":"IF(P_20号3様式1!AV2<> \"\",IF(P_20号3様式1!AV2<> \"-\",TEXT(INT(P_20号3様式1!AV2),\"#,##0\"),\"-\"),\"\")","v":""},{"$f":"IF(P_20号3様式1!AV2<> \"\",IF(P_20号3様式1!AV2<> \"-\",IF(VALUE(FIXED(P_20号3様式1!AV2,0,TRUE))<>P_20号3様式1!AV2,RIGHT(FIXED(P_20号3様式1!AV2,3,FALSE),4),\"\"),\"\"),\"\")","v":""},{"$f":"IF(P_20号3様式1!AW2<> \"\",IF(P_20号3様式1!AW2<> \"-\",TEXT(INT(P_20号3様式1!AW2),\"#,##0\"),\"-\"),\"\")","v":""},{"$f":"IF(P_20号3様式1!AW2<> \"\",IF(P_20号3様式1!AW2<> \"-\",IF(VALUE(FIXED(P_20号3様式1!AW2,0,TRUE))<>P_20号3様式1!AW2,RIGHT(FIXED(P_20号3様式1!AW2,3,FALSE),4),\"\"),\"\"),\"\")","v":""},{"$f":"IF(P_20号3様式1!AX2<> \"\",IF(P_20号3様式1!AX2<> \"-\",TEXT(INT(P_20号3様式1!AX2),\"#,##0\"),\"-\"),\"\")","v":""},{"$f":"IF(P_20号3様式1!AX2<> \"\",IF(P_20号3様式1!AX2<> \"-\",IF(VALUE(FIXED(P_20号3様式1!AX2,0,TRUE))<>P_20号3様式1!AX2,RIGHT(FIXED(P_20号3様式1!AX2,3,FALSE),4),\"\"),\"\"),\"\")","v":""},{"$f":"IF(P_20号3様式1!AY2<> \"\",IF(P_20号3様式1!AY2<> \"-\",TEXT(INT(P_20号3様式1!AY2),\"#,##0\"),\"-\"),\"\")","v":""},{"$f":"IF(P_20号3様式1!AY2<> \"\",IF(P_20号3様式1!AY2<> \"-\",IF(VALUE(FIXED(P_20号3様式1!AY2,0,TRUE))<>P_20号3様式1!AY2,RIGHT(FIXED(P_20号3様式1!AY2,3,FALSE),4),\"\"),\"\"),\"\")","v":""},{"$f":"IF(P_20号3様式1!AZ2<> \"\",IF(P_20号3様式1!AZ2<> \"-\",TEXT(INT(P_20号3様式1!AZ2),\"#,##0\"),\"-\"),\"\")","v":""},{"$f":"IF(P_20号3様式1!AZ2<> \"\",IF(P_20号3様式1!AZ2<> \"-\",IF(VALUE(FIXED(P_20号3様式1!AZ2,0,TRUE))<>P_20号3様式1!AZ2,RIGHT(FIXED(P_20号3様式1!AZ2,3,FALSE),4),\"\"),\"\"),\"\")","v":""},{"$f":"IF(P_20号3様式1!BA2<> \"\",IF(P_20号3様式1!BA2<> \"-\",TEXT(INT(P_20号3様式1!BA2),\"#,##0\"),\"-\"),\"\")","v":""},{"$f":"IF(P_20号3様式1!BA2<> \"\",IF(P_20号3様式1!BA2<> \"-\",IF(VALUE(FIXED(P_20号3様式1!BA2,0,TRUE))<>P_20号3様式1!BA2,RIGHT(FIXED(P_20号3様式1!BA2,3,FALSE),4),\"\"),\"\"),\"\")","v":""}]
["町村計　",{"$f":"IF(P_20号3様式1!BD2<> \"\",TEXT(INT(P_20号3様式1!BD2),\"#,##0\"),\"\")","v":"28"},{"$f":"IF(P_20号3様式1!BD2= \"\",\"\",IF(VALUE(FIXED(P_20号3様式1!BD2,0,TRUE))<>P_20号3様式1!BD2,RIGHT(FIXED(P_20号3様式1!BD2,3,FALSE),4),\"\"))","v":".000"},{"$f":"IF(P_20号3様式1!BE2<> \"\",IF(P_20号3様式1!BE2<> \"-\",TEXT(INT(P_20号3様式1!BE2),\"#,##0\"),\"-\"),\"\")","v":"21"},{"$f":"IF(P_20号3様式1!BE2<> \"\",IF(P_20号3様式1!BE2<> \"-\",IF(VALUE(FIXED(P_20号3様式1!BE2,0,TRUE))<>P_20号3様式1!BE2,RIGHT(FIXED(P_20号3様式1!BE2,3,FALSE),4),\"\"),\"\"),\"\")","v":".000"},{"$f":"IF(P_20号3様式1!BF2<> \"\",IF(P_20号3様式1!BF2<> \"-\",TEXT(INT(P_20号3様式1!BF2),\"#,##0\"),\"-\"),\"\")","v":"7"},{"$f":"IF(P_20号3様式1!BF2<> \"\",IF(P_20号3様式1!BF2<> \"-\",IF(VALUE(FIXED(P_20号3様式1!BF2,0,TRUE))<>P_20号3様式1!BF2,RIGHT(FIXED(P_20号3様式1!BF2,3,FALSE),4),\"\"),\"\"),\"\")","v":".000"},{"$f":"IF(P_20号3様式1!BG2<> \"\",IF(P_20号3様式1!BG2<> \"-\",TEXT(INT(P_20号3様式1!BG2),\"#,##0\"),\"-\"),\"\")","v":""},{"$f":"IF(P_20号3様式1!BG2<> \"\",IF(P_20号3様式1!BG2<> \"-\",IF(VALUE(FIXED(P_20号3様式1!BG2,0,TRUE))<>P_20号3様式1!BG2,RIGHT(FIXED(P_20号3様式1!BG2,3,FALSE),4),\"\"),\"\"),\"\")","v":""},{"$f":"IF(P_20号3様式1!BH2<> \"\",IF(P_20号3様式1!BH2<> \"-\",TEXT(INT(P_20号3様式1!BH2),\"#,##0\"),\"-\"),\"\")","v":""},{"$f":"IF(P_20号3様式1!BH2<> \"\",IF(P_20号3様式1!BH2<> \"-\",IF(VALUE(FIXED(P_20号3様式1!BH2,0,TRUE))<>P_20号3様式1!BH2,RIGHT(FIXED(P_20号3様式1!BH2,3,FALSE),4),\"\"),\"\"),\"\")","v":""},{"$f":"IF(P_20号3様式1!BI2<> \"\",IF(P_20号3様式1!BI2<> \"-\",TEXT(INT(P_20号3様式1!BI2),\"#,##0\"),\"-\"),\"\")","v":""},{"$f":"IF(P_20号3様式1!BI2<> \"\",IF(P_20号3様式1!BI2<> \"-\",IF(VALUE(FIXED(P_20号3様式1!BI2,0,TRUE))<>P_20号3様式1!BI2,RIGHT(FIXED(P_20号3様式1!BI2,3,FALSE),4),\"\"),\"\"),\"\")","v":""},{"$f":"IF(P_20号3様式1!BJ2<> \"\",IF(P_20号3様式1!BJ2<> \"-\",TEXT(INT(P_20号3様式1!BJ2),\"#,##0\"),\"-\"),\"\")","v":""},{"$f":"IF(P_20号3様式1!BJ2<> \"\",IF(P_20号3様式1!BJ2<> \"-\",IF(VALUE(FIXED(P_20号3様式1!BJ2,0,TRUE))<>P_20号3様式1!BJ2,RIGHT(FIXED(P_20号3様式1!BJ2,3,FALSE),4),\"\"),\"\"),\"\")","v":""},{"$f":"IF(P_20号3様式1!BK2<> \"\",IF(P_20号3様式1!BK2<> \"-\",TEXT(INT(P_20号3様式1!BK2),\"#,##0\"),\"-\"),\"\")","v":""},{"$f":"IF(P_20号3様式1!BK2<> \"\",IF(P_20号3様式1!BK2<> \"-\",IF(VALUE(FIXED(P_20号3様式1!BK2,0,TRUE))<>P_20号3様式1!BK2,RIGHT(FIXED(P_20号3様式1!BK2,3,FALSE),4),\"\"),\"\"),\"\")","v":""},{"$f":"IF(P_20号3様式1!BL2<> \"\",IF(P_20号3様式1!BL2<> \"-\",TEXT(INT(P_20号3様式1!BL2),\"#,##0\"),\"-\"),\"\")","v":""},{"$f":"IF(P_20号3様式1!BL2<> \"\",IF(P_20号3様式1!BL2<> \"-\",IF(VALUE(FIXED(P_20号3様式1!BL2,0,TRUE))<>P_20号3様式1!BL2,RIGHT(FIXED(P_20号3様式1!BL2,3,FALSE),4),\"\"),\"\"),\"\")","v":""}]
["県             計",{"$f":"IF(P_20号3様式1!BO2<> \"\",TEXT(INT(P_20号3様式1!BO2),\"#,##0\"),\"\")","v":"195"},{"$f":"IF(P_20号3様式1!BO2= \"\",\"\",IF(VALUE(FIXED(P_20号3様式1!BO2,0,TRUE))<>P_20号3様式1!BO2,RIGHT(FIXED(P_20号3様式1!BO2,3,FALSE),4),\"\"))","v":".500"},{"$f":"IF(P_20号3様式1!BP2<> \"\",IF(P_20号3様式1!BP2<> \"-\",TEXT(INT(P_20号3様式1!BP2),\"#,##0\"),\"-\"),\"\")","v":"152"},{"$f":"IF(P_20号3様式1!BP2<> \"\",IF(P_20号3様式1!BP2<> \"-\",IF(VALUE(FIXED(P_20号3様式1!BP2,0,TRUE))<>P_20号3様式1!BP2,RIGHT(FIXED(P_20号3様式1!BP2,3,FALSE),4),\"\"),\"\"),\"\")","v":".500"},{"$f":"IF(P_20号3様式1!BQ2<> \"\",IF(P_20号3様式1!BQ2<> \"-\",TEXT(INT(P_20号3様式1!BQ2),\"#,##0\"),\"-\"),\"\")","v":"43"},{"$f":"IF(P_20号3様式1!BQ2<> \"\",IF(P_20号3様式1!BQ2<> \"-\",IF(VALUE(FIXED(P_20号3様式1!BQ2,0,TRUE))<>P_20号3様式1!BQ2,RIGHT(FIXED(P_20号3様式1!BQ2,3,FALSE),4),\"\"),\"\"),\"\")","v":".000"},{"$f":"IF(P_20号3様式1!BR2<> \"\",IF(P_20号3様式1!BR2<> \"-\",TEXT(INT(P_20号3様式1!BR2),\"#,##0\"),\"-\"),\"\")","v":""},{"$f":"IF(P_20号3様式1!BR2<> \"\",IF(P_20号3様式1!BR2<> \"-\",IF(VALUE(FIXED(P_20号3様式1!BR2,0,TRUE))<>P_20号3様式1!BR2,RIGHT(FIXED(P_20号3様式1!BR2,3,FALSE),4),\"\"),\"\"),\"\")","v":""},{"$f":"IF(P_20号3様式1!BS2<> \"\",IF(P_20号3様式1!BS2<> \"-\",TEXT(INT(P_20号3様式1!BS2),\"#,##0\"),\"-\"),\"\")","v":""},{"$f":"IF(P_20号3様式1!BS2<> \"\",IF(P_20号3様式1!BS2<> \"-\",IF(VALUE(FIXED(P_20号3様式1!BS2,0,TRUE))<>P_20号3様式1!BS2,RIGHT(FIXED(P_20号3様式1!BS2,3,FALSE),4),\"\"),\"\"),\"\")","v":""},{"$f":"IF(P_20号3様式1!BT2<> \"\",IF(P_20号3様式1!BT2<> \"-\",TEXT(INT(P_20号3様式1!BT2),\"#,##0\"),\"-\"),\"\")","v":""},{"$f":"IF(P_20号3様式1!BT2<> \"\",IF(P_20号3様式1!BT2<> \"-\",IF(VALUE(FIXED(P_20号3様式1!BT2,0,TRUE))<>P_20号3様式1!BT2,RIGHT(FIXED(P_20号3様式1!BT2,3,FALSE),4),\"\"),\"\"),\"\")","v":""},{"$f":"IF(P_20号3様式1!BU2<> \"\",IF(P_20号3様式1!BU2<> \"-\",TEXT(INT(P_20号3様式1!BU2),\"#,##0\"),\"-\"),\"\")","v":""},{"$f":"IF(P_20号3様式1!BU2<> \"\",IF(P_20号3様式1!BU2<> \"-\",IF(VALUE(FIXED(P_20号3様式1!BU2,0,TRUE))<>P_20号3様式1!BU2,RIGHT(FIXED(P_20号3様式1!BU2,3,FALSE),4),\"\"),\"\"),\"\")","v":""},{"$f":"IF(P_20号3様式1!BV2<> \"\",IF(P_20号3様式1!BV2<> \"-\",TEXT(INT(P_20号3様式1!BV2),\"#,##0\"),\"-\"),\"\")","v":""},{"$f":"IF(P_20号3様式1!BV2<> \"\",IF(P_20号3様式1!BV2<> \"-\",IF(VALUE(FIXED(P_20号3様式1!BV2,0,TRUE))<>P_20号3様式1!BV2,RIGHT(FIXED(P_20号3様式1!BV2,3,FALSE),4),\"\"),\"\"),\"\")","v":""},{"$f":"IF(P_20号3様式1!BW2<> \"\",IF(P_20号3様式1!BW2<> \"-\",TEXT(INT(P_20号3様式1!BW2),\"#,##0\"),\"-\"),\"\")","v":""},{"$f":"IF(P_20号3様式1!BW2<> \"\",IF(P_20号3様式1!BW2<> \"-\",IF(VALUE(FIXED(P_20号3様式1!BW2,0,TRUE))<>P_20号3様式1!BW2,RIGHT(FIXED(P_20号3様式1!BW2,3,FALSE),4),\"\"),\"\"),\"\")","v":""}]
["第20号の3様式",{"$f":"+B$1","v":"「政党等得票数」のうち、公選法第６８条の３の規定により政党等の有効投票とみなされた投票の状況"},null,null,null,"開　票　速　報",null,null,null,null,null,null,null,null,null,null,null,{"$f":"P_20号3様式1!A45","v":2}]
[null,null,null,null,null,null,null,null,null,null,null,null,null,null,null,null,null,"鹿 児 島 県"]
[{"$f":"IF(パラメタシート!B1=\"\",\"\",パラメタシート!B1)","v":"2019-07-21"},null,null,null,null,null,null,null,null,null,null,{"$f":"IF(P_20号3様式1!BY45=\"0\",\"即日 開票　　中間報告\",\"翌日 開票　　中間報告\")","v":"即日 開票　　中間報告"},null,null,null,{"$f":" IF(P_20号3様式1!BZ45=\"\",\"時　　    分        \",P_20号3様式1!BZ45)","v":"時　　    分        "}]
[{"$f":"IF(P_20号3様式1!BX45=\"\",\"\",\"     　　\" & P_20号3様式1!BX45)","v":"     　　参議院比例代表選出議員選挙"},null,null,null,null,null,null,null,null,null,null,"開票　　結了報告",null,null,null,{"$f":" IF(P_20号3様式1!CA45=\"\",\"時　　    分        \",P_20号3様式1!CA45)","v":"02:55:00"}]
["市 区 町 村 名",{"$f":"IF(P_20号3様式1!AB45 = \"\", \"\", P_20号3様式1!AB45)","v":"労働の解放をめざす労働者党"},null,{"$f":"IF(P_20号3様式1!D45 = \"\", \"\", P_20号3様式1!D45)","v":"01"},null,{"$f":"IF(P_20号3様式1!G45 = \"\", \"\", P_20号3様式1!G45)","v":""},null,{"$f":"IF(P_20号3様式1!J45 = \"\", \"\", P_20号3様式1!J45)","v":""},null,{"$f":"IF(P_20号3様式1!M45 = \"\", \"\", P_20号3様式1!M45)","v":""},null,{"$f":"IF(P_20号3様式1!P45 = \"\", \"\", P_20号3様式1!P45)","v":""},null,{"$f":"IF(P_20号3様式1!S45 = \"\", \"\", P_20号3様式1!S45)","v":""},null,{"$f":"IF(P_20号3様式1!V45 = \"\", \"\", P_20号3様式1!V45)","v":""},null,{"$f":"IF(P_20号3様式1!Y45 = \"\", \"\", P_20号3様式1!Y45)","v":""}]
[null,{"$f":"+B$6","v":"特定枠名簿登録者\nへの投票総数"},null,{"$f":"IF(P_20号3様式1!E45 = \"\", \"\", P_20号3様式1!E45)","v":"伊藤　恵子"},null,{"$f":"IF(P_20号3様式1!H45 = \"\", \"\", P_20号3様式1!H45)","v":""},null,{"$f":"IF(P_20号3様式1!K45 = \"\", \"\", P_20号3様式1!K45)","v":""},null,{"$f":"IF(P_20号3様式1!N45 = \"\", \"\", P_20号3様式1!N45)","v":""},null,{"$f":"IF(P_20号3様式1!Q45 = \"\", \"\", P_20号3様式1!Q45)","v":""},null,{"$f":"IF(P_20号3様式1!T45 = \"\", \"\", P_20号3様式1!T45)","v":""},null,{"$f":"IF(P_20号3様式1!W45 = \"\", \"\", P_20号3様式1!W45)","v":""},null,{"$f":"IF(P_20号3様式1!Z45 = \"\", \"\", P_20号3様式1!Z45)","v":""}]
[{"$f":"IF(P_20号3様式1!C45=\"\",\"\",P_20号3様式1!C45)","v":"鹿児島市"},{"$f":"IF(P_20号3様式1!AE45<> \"\",TEXT(INT(P_20号3様式1!AE45),\"#,##0\"),\"\")","v":"33"},{"$f":"IF(P_20号3様式1!AE45= \"\",\"\",IF(VALUE(FIXED(P_20号3様式1!AE45,0,TRUE))<>P_20号3様式1!AE45,RIGHT(FIXED(P_20号3様式1!AE45,3,FALSE),4),\"\"))","v":".000"},{"$f":"IF(P_20号3様式1!F45<> \"\",IF(P_20号3様式1!F45<> \"-\",TEXT(INT(P_20号3様式1!F45),\"#,##0\"),\"-\"),\"\")","v":"33"},{"$f":"IF(P_20号3様式1!F45<> \"\",IF(P_20号3様式1!F45<> \"-\",IF(VALUE(FIXED(P_20号3様式1!F45,0,TRUE))<>P_20号3様式1!F45,RIGHT(FIXED(P_20号3様式1!F45,3,FALSE),4),\"\"),\"\"),\"\")","v":".000"},{"$f":"IF(P_20号3様式1!I45<> \"\",IF(P_20号3様式1!I45<> \"-\",TEXT(INT(P_20号3様式1!I45),\"#,##0\"),\"-\"),\"\")","v":""},{"$f":"IF(P_20号3様式1!I45<> \"\",IF(P_20号3様式1!I45<> \"-\",IF(VALUE(FIXED(P_20号3様式1!I45,0,TRUE))<>P_20号3様式1!I45,RIGHT(FIXED(P_20号3様式1!I45,3,FALSE),4),\"\"),\"\"),\"\")","v":""},{"$f":"IF(P_20号3様式1!L45<> \"\",IF(P_20号3様式1!L45<> \"-\",TEXT(INT(P_20号3様式1!L45),\"#,##0\"),\"-\"),\"\")","v":""},{"$f":"IF(P_20号3様式1!L45<> \"\",IF(P_20号3様式1!L45<> \"-\",IF(VALUE(FIXED(P_20号3様式1!L45,0,TRUE))<>P_20号3様式1!L45,RIGHT(FIXED(P_20号3様式1!L45,3,FALSE),4),\"\"),\"\"),\"\")","v":""},{"$f":"IF(P_20号3様式1!O45<> \"\",IF(P_20号3様式1!O45<> \"-\",TEXT(INT(P_20号3様式1!O45),\"#,##0\"),\"-\"),\"\")","v":""},{"$f":"IF(P_20号3様式1!O45<> \"\",IF(P_20号3様式1!O45<> \"-\",IF(VALUE(FIXED(P_20号3様式1!O45,0,TRUE))<>P_20号3様式1!O45,RIGHT(FIXED(P_20号3様式1!O45,3,FALSE),4),\"\"),\"\"),\"\")","v":""},{"$f":"IF(P_20号3様式1!R45<> \"\",IF(P_20号3様式1!R45<> \"-\",TEXT(INT(P_20号3様式1!R45),\"#,##0\"),\"-\"),\"\")","v":""},{"$f":"IF(P_20号3様式1!R45<> \"\",IF(P_20号3様式1!R45<> \"-\",IF(VALUE(FIXED(P_20号3様式1!R45,0,TRUE))<>P_20号3様式1!R45,RIGHT(FIXED(P_20号3様式1!R45,3,FALSE),4),\"\"),\"\"),\"\")","v":""},{"$f":"IF(P_20号3様式1!U45<> \"\",IF(P_20号3様式1!U45<> \"-\",TEXT(INT(P_20号3様式1!U45),\"#,##0\"),\"-\"),\"\")","v":""},{"$f":"IF(P_20号3様式1!U45<> \"\",IF(P_20号3様式1!U45<> \"-\",IF(VALUE(FIXED(P_20号3様式1!U45,0,TRUE))<>P_20号3様式1!U45,RIGHT(FIXED(P_20号3様式1!U45,3,FALSE),4),\"\"),\"\"),\"\")","v":""},{"$f":"IF(P_20号3様式1!X45<> \"\",IF(P_20号3様式1!X45<> \"-\",TEXT(INT(P_20号3様式1!X45),\"#,##0\"),\"-\"),\"\")","v":""},{"$f":"IF(P_20号3様式1!X45<> \"\",IF(P_20号3様式1!X45<> \"-\",IF(VALUE(FIXED(P_20号3様式1!X45,0,TRUE))<>P_20号3様式1!X45,RIGHT(FIXED(P_20号3様式1!X45,3,FALSE),4),\"\"),\"\"),\"\")","v":""},{"$f":"IF(P_20号3様式1!AA45<> \"\",IF(P_20号3様式1!AA45<> \"-\",TEXT(INT(P_20号3様式1!AA45),\"#,##0\"),\"-\"),\"\")","v":""},{"$f":"IF(P_20号3様式1!AA45<> \"\",IF(P_20号3様式1!AA45<> \"-\",IF(VALUE(FIXED(P_20号3様式1!AA45,0,TRUE))<>P_20号3様式1!AA45,RIGHT(FIXED(P_20号3様式1!AA45,3,FALSE),4),\"\"),\"\"),\"\")","v":""}]
[{"$f":"IF(P_20号3様式1!C46=\"\",\"\",P_20号3様式1!C46)","v":"鹿屋市"},{"$f":"IF(P_20号3様式1!AE46<> \"\",TEXT(INT(P_20号3様式1!AE46),\"#,##0\"),\"\")","v":"10"},{"$f":"IF(P_20号3様式1!AE46= \"\",\"\",IF(VALUE(FIXED(P_20号3様式1!AE46,0,TRUE))<>P_20号3様式1!AE46,RIGHT(FIXED(P_20号3様式1!AE46,3,FALSE),4),\"\"))","v":".714"},{"$f":"IF(P_20号3様式1!F46<> \"\",IF(P_20号3様式1!F46<> \"-\",TEXT(INT(P_20号3様式1!F46),\"#,##0\"),\"-\"),\"\")","v":"10"},{"$f":"IF(P_20号3様式1!F46<> \"\",IF(P_20号3様式1!F46<> \"-\",IF(VALUE(FIXED(P_20号3様式1!F46,0,TRUE))<>P_20号3様式1!F46,RIGHT(FIXED(P_20号3様式1!F46,3,FALSE),4),\"\"),\"\"),\"\")","v":".714"},{"$f":"IF(P_20号3様式1!I46<> \"\",IF(P_20号3様式1!I46<> \"-\",TEXT(INT(P_20号3様式1!I46),\"#,##0\"),\"-\"),\"\")","v":""},{"$f":"IF(P_20号3様式1!I46<> \"\",IF(P_20号3様式1!I46<> \"-\",IF(VALUE(FIXED(P_20号3様式1!I46,0,TRUE))<>P_20号3様式1!I46,RIGHT(FIXED(P_20号3様式1!I46,3,FALSE),4),\"\"),\"\"),\"\")","v":""},{"$f":"IF(P_20号3様式1!L46<> \"\",IF(P_20号3様式1!L46<> \"-\",TEXT(INT(P_20号3様式1!L46),\"#,##0\"),\"-\"),\"\")","v":""},{"$f":"IF(P_20号3様式1!L46<> \"\",IF(P_20号3様式1!L46<> \"-\",IF(VALUE(FIXED(P_20号3様式1!L46,0,TRUE))<>P_20号3様式1!L46,RIGHT(FIXED(P_20号3様式1!L46,3,FALSE),4),\"\"),\"\"),\"\")","v":""},{"$f":"IF(P_20号3様式1!O46<> \"\",IF(P_20号3様式1!O46<> \"-\",TEXT(INT(P_20号3様式1!O46),\"#,##0\"),\"-\"),\"\")","v":""},{"$f":"IF(P_20号3様式1!O46<> \"\",IF(P_20号3様式1!O46<> \"-\",IF(VALUE(FIXED(P_20号3様式1!O46,0,TRUE))<>P_20号3様式1!O46,RIGHT(FIXED(P_20号3様式1!O46,3,FALSE),4),\"\"),\"\"),\"\")","v":""},{"$f":"IF(P_20号3様式1!R46<> \"\",IF(P_20号3様式1!R46<> \"-\",TEXT(INT(P_20号3様式1!R46),\"#,##0\"),\"-\"),\"\")","v":""},{"$f":"IF(P_20号3様式1!R46<> \"\",IF(P_20号3様式1!R46<> \"-\",IF(VALUE(FIXED(P_20号3様式1!R46,0,TRUE))<>P_20号3様式1!R46,RIGHT(FIXED(P_20号3様式1!R46,3,FALSE),4),\"\"),\"\"),\"\")","v":""},{"$f":"IF(P_20号3様式1!U46<> \"\",IF(P_20号3様式1!U46<> \"-\",TEXT(INT(P_20号3様式1!U46),\"#,##0\"),\"-\"),\"\")","v":""},{"$f":"IF(P_20号3様式1!U46<> \"\",IF(P_20号3様式1!U46<> \"-\",IF(VALUE(FIXED(P_20号3様式1!U46,0,TRUE))<>P_20号3様式1!U46,RIGHT(FIXED(P_20号3様式1!U46,3,FALSE),4),\"\"),\"\"),\"\")","v":""},{"$f":"IF(P_20号3様式1!X46<> \"\",IF(P_20号3様式1!X46<> \"-\",TEXT(INT(P_20号3様式1!X46),\"#,##0\"),\"-\"),\"\")","v":""},{"$f":"IF(P_20号3様式1!X46<> \"\",IF(P_20号3様式1!X46<> \"-\",IF(VALUE(FIXED(P_20号3様式1!X46,0,TRUE))<>P_20号3様式1!X46,RIGHT(FIXED(P_20号3様式1!X46,3,FALSE),4),\"\"),\"\"),\"\")","v":""},{"$f":"IF(P_20号3様式1!AA46<> \"\",IF(P_20号3様式1!AA46<> \"-\",TEXT(INT(P_20号3様式1!AA46),\"#,##0\"),\"-\"),\"\")","v":""},{"$f":"IF(P_20号3様式1!AA46<> \"\",IF(P_20号3様式1!AA46<> \"-\",IF(VALUE(FIXED(P_20号3様式1!AA46,0,TRUE))<>P_20号3様式1!AA46,RIGHT(FIXED(P_20号3様式1!AA46,3,FALSE),4),\"\"),\"\"),\"\")","v":""}]
[{"$f":"IF(P_20号3様式1!C47=\"\",\"\",P_20号3様式1!C47)","v":"枕崎市"},{"$f":"IF(P_20号3様式1!AE47<> \"\",TEXT(INT(P_20号3様式1!AE47),\"#,##0\"),\"\")","v":"1"},{"$f":"IF(P_20号3様式1!AE47= \"\",\"\",IF(VALUE(FIXED(P_20号3様式1!AE47,0,TRUE))<>P_20号3様式1!AE47,RIGHT(FIXED(P_20号3様式1!AE47,3,FALSE),4),\"\"))","v":".000"},{"$f":"IF(P_20号3様式1!F47<> \"\",IF(P_20号3様式1!F47<> \"-\",TEXT(INT(P_20号3様式1!F47),\"#,##0\"),\"-\"),\"\")","v":"1"},{"$f":"IF(P_20号3様式1!F47<> \"\",IF(P_20号3様式1!F47<> \"-\",IF(VALUE(FIXED(P_20号3様式1!F47,0,TRUE))<>P_20号3様式1!F47,RIGHT(FIXED(P_20号3様式1!F47,3,FALSE),4),\"\"),\"\"),\"\")","v":".000"},{"$f":"IF(P_20号3様式1!I47<> \"\",IF(P_20号3様式1!I47<> \"-\",TEXT(INT(P_20号3様式1!I47),\"#,##0\"),\"-\"),\"\")","v":""},{"$f":"IF(P_20号3様式1!I47<> \"\",IF(P_20号3様式1!I47<> \"-\",IF(VALUE(FIXED(P_20号3様式1!I47,0,TRUE))<>P_20号3様式1!I47,RIGHT(FIXED(P_20号3様式1!I47,3,FALSE),4),\"\"),\"\"),\"\")","v":""},{"$f":"IF(P_20号3様式1!L47<> \"\",IF(P_20号3様式1!L47<> \"-\",TEXT(INT(P_20号3様式1!L47),\"#,##0\"),\"-\"),\"\")","v":""},{"$f":"IF(P_20号3様式1!L47<> \"\",IF(P_20号3様式1!L47<> \"-\",IF(VALUE(FIXED(P_20号3様式1!L47,0,TRUE))<>P_20号3様式1!L47,RIGHT(FIXED(P_20号3様式1!L47,3,FALSE),4),\"\"),\"\"),\"\")","v":""},{"$f":"IF(P_20号3様式1!O47<> \"\",IF(P_20号3様式1!O47<> \"-\",TEXT(INT(P_20号3様式1!O47),\"#,##0\"),\"-\"),\"\")","v":""},{"$f":"IF(P_20号3様式1!O47<> \"\",IF(P_20号3様式1!O47<> \"-\",IF(VALUE(FIXED(P_20号3様式1!O47,0,TRUE))<>P_20号3様式1!O47,RIGHT(FIXED(P_20号3様式1!O47,3,FALSE),4),\"\"),\"\"),\"\")","v":""},{"$f":"IF(P_20号3様式1!R47<> \"\",IF(P_20号3様式1!R47<> \"-\",TEXT(INT(P_20号3様式1!R47),\"#,##0\"),\"-\"),\"\")","v":""},{"$f":"IF(P_20号3様式1!R47<> \"\",IF(P_20号3様式1!R47<> \"-\",IF(VALUE(FIXED(P_20号3様式1!R47,0,TRUE))<>P_20号3様式1!R47,RIGHT(FIXED(P_20号3様式1!R47,3,FALSE),4),\"\"),\"\"),\"\")","v":""},{"$f":"IF(P_20号3様式1!U47<> \"\",IF(P_20号3様式1!U47<> \"-\",TEXT(INT(P_20号3様式1!U47),\"#,##0\"),\"-\"),\"\")","v":""},{"$f":"IF(P_20号3様式1!U47<> \"\",IF(P_20号3様式1!U47<> \"-\",IF(VALUE(FIXED(P_20号3様式1!U47,0,TRUE))<>P_20号3様式1!U47,RIGHT(FIXED(P_20号3様式1!U47,3,FALSE),4),\"\"),\"\"),\"\")","v":""},{"$f":"IF(P_20号3様式1!X47<> \"\",IF(P_20号3様式1!X47<> \"-\",TEXT(INT(P_20号3様式1!X47),\"#,##0\"),\"-\"),\"\")","v":""},{"$f":"IF(P_20号3様式1!X47<> \"\",IF(P_20号3様式1!X47<> \"-\",IF(VALUE(FIXED(P_20号3様式1!X47,0,TRUE))<>P_20号3様式1!X47,RIGHT(FIXED(P_20号3様式1!X47,3,FALSE),4),\"\"),\"\"),\"\")","v":""},{"$f":"IF(P_20号3様式1!AA47<> \"\",IF(P_20号3様式1!AA47<> \"-\",TEXT(INT(P_20号3様式1!AA47),\"#,##0\"),\"-\"),\"\")","v":""},{"$f":"IF(P_20号3様式1!AA47<> \"\",IF(P_20号3様式1!AA47<> \"-\",IF(VALUE(FIXED(P_20号3様式1!AA47,0,TRUE))<>P_20号3様式1!AA47,RIGHT(FIXED(P_20号3様式1!AA47,3,FALSE),4),\"\"),\"\"),\"\")","v":""}]
[{"$f":"IF(P_20号3様式1!C48=\"\",\"\",P_20号3様式1!C48)","v":"阿久根市"},{"$f":"IF(P_20号3様式1!AE48<> \"\",TEXT(INT(P_20号3様式1!AE48),\"#,##0\"),\"\")","v":"0"},{"$f":"IF(P_20号3様式1!AE48= \"\",\"\",IF(VALUE(FIXED(P_20号3様式1!AE48,0,TRUE))<>P_20号3様式1!AE48,RIGHT(FIXED(P_20号3様式1!AE48,3,FALSE),4),\"\"))","v":".000"},{"$f":"IF(P_20号3様式1!F48<> \"\",IF(P_20号3様式1!F48<> \"-\",TEXT(INT(P_20号3様式1!F48),\"#,##0\"),\"-\"),\"\")","v":"0"},{"$f":"IF(P_20号3様式1!F48<> \"\",IF(P_20号3様式1!F48<> \"-\",IF(VALUE(FIXED(P_20号3様式1!F48,0,TRUE))<>P_20号3様式1!F48,RIGHT(FIXED(P_20号3様式1!F48,3,FALSE),4),\"\"),\"\"),\"\")","v":".000"},{"$f":"IF(P_20号3様式1!I48<> \"\",IF(P_20号3様式1!I48<> \"-\",TEXT(INT(P_20号3様式1!I48),\"#,##0\"),\"-\"),\"\")","v":""},{"$f":"IF(P_20号3様式1!I48<> \"\",IF(P_20号3様式1!I48<> \"-\",IF(VALUE(FIXED(P_20号3様式1!I48,0,TRUE))<>P_20号3様式1!I48,RIGHT(FIXED(P_20号3様式1!I48,3,FALSE),4),\"\"),\"\"),\"\")","v":""},{"$f":"IF(P_20号3様式1!L48<> \"\",IF(P_20号3様式1!L48<> \"-\",TEXT(INT(P_20号3様式1!L48),\"#,##0\"),\"-\"),\"\")","v":""},{"$f":"IF(P_20号3様式1!L48<> \"\",IF(P_20号3様式1!L48<> \"-\",IF(VALUE(FIXED(P_20号3様式1!L48,0,TRUE))<>P_20号3様式1!L48,RIGHT(FIXED(P_20号3様式1!L48,3,FALSE),4),\"\"),\"\"),\"\")","v":""},{"$f":"IF(P_20号3様式1!O48<> \"\",IF(P_20号3様式1!O48<> \"-\",TEXT(INT(P_20号3様式1!O48),\"#,##0\"),\"-\"),\"\")","v":""},{"$f":"IF(P_20号3様式1!O48<> \"\",IF(P_20号3様式1!O48<> \"-\",IF(VALUE(FIXED(P_20号3様式1!O48,0,TRUE))<>P_20号3様式1!O48,RIGHT(FIXED(P_20号3様式1!O48,3,FALSE),4),\"\"),\"\"),\"\")","v":""},{"$f":"IF(P_20号3様式1!R48<> \"\",IF(P_20号3様式1!R48<> \"-\",TEXT(INT(P_20号3様式1!R48),\"#,##0\"),\"-\"),\"\")","v":""},{"$f":"IF(P_20号3様式1!R48<> \"\",IF(P_20号3様式1!R48<> \"-\",IF(VALUE(FIXED(P_20号3様式1!R48,0,TRUE))<>P_20号3様式1!R48,RIGHT(FIXED(P_20号3様式1!R48,3,FALSE),4),\"\"),\"\"),\"\")","v":""},{"$f":"IF(P_20号3様式1!U48<> \"\",IF(P_20号3様式1!U48<> \"-\",TEXT(INT(P_20号3様式1!U48),\"#,##0\"),\"-\"),\"\")","v":""},{"$f":"IF(P_20号3様式1!U48<> \"\",IF(P_20号3様式1!U48<> \"-\",IF(VALUE(FIXED(P_20号3様式1!U48,0,TRUE))<>P_20号3様式1!U48,RIGHT(FIXED(P_20号3様式1!U48,3,FALSE),4),\"\"),\"\"),\"\")","v":""},{"$f":"IF(P_20号3様式1!X48<> \"\",IF(P_20号3様式1!X48<> \"-\",TEXT(INT(P_20号3様式1!X48),\"#,##0\"),\"-\"),\"\")","v":""},{"$f":"IF(P_20号3様式1!X48<> \"\",IF(P_20号3様式1!X48<> \"-\",IF(VALUE(FIXED(P_20号3様式1!X48,0,TRUE))<>P_20号3様式1!X48,RIGHT(FIXED(P_20号3様式1!X48,3,FALSE),4),\"\"),\"\"),\"\")","v":""},{"$f":"IF(P_20号3様式1!AA48<> \"\",IF(P_20号3様式1!AA48<> \"-\",TEXT(INT(P_20号3様式1!AA48),\"#,##0\"),\"-\"),\"\")","v":""},{"$f":"IF(P_20号3様式1!AA48<> \"\",IF(P_20号3様式1!AA48<> \"-\",IF(VALUE(FIXED(P_20号3様式1!AA48,0,TRUE))<>P_20号3様式1!AA48,RIGHT(FIXED(P_20号3様式1!AA48,3,FALSE),4),\"\"),\"\"),\"\")","v":""}]
[{"$f":"IF(P_20号3様式1!C49=\"\",\"\",P_20号3様式1!C49)","v":"出水市"},{"$f":"IF(P_20号3様式1!AE49<> \"\",TEXT(INT(P_20号3様式1!AE49),\"#,##0\"),\"\")","v":"4"},{"$f":"IF(P_20号3様式1!AE49= \"\",\"\",IF(VALUE(FIXED(P_20号3様式1!AE49,0,TRUE))<>P_20号3様式1!AE49,RIGHT(FIXED(P_20号3様式1!AE49,3,FALSE),4),\"\"))","v":".000"},{"$f":"IF(P_20号3様式1!F49<> \"\",IF(P_20号3様式1!F49<> \"-\",TEXT(INT(P_20号3様式1!F49),\"#,##0\"),\"-\"),\"\")","v":"4"},{"$f":"IF(P_20号3様式1!F49<> \"\",IF(P_20号3様式1!F49<> \"-\",IF(VALUE(FIXED(P_20号3様式1!F49,0,TRUE))<>P_20号3様式1!F49,RIGHT(FIXED(P_20号3様式1!F49,3,FALSE),4),\"\"),\"\"),\"\")","v":".000"},{"$f":"IF(P_20号3様式1!I49<> \"\",IF(P_20号3様式1!I49<> \"-\",TEXT(INT(P_20号3様式1!I49),\"#,##0\"),\"-\"),\"\")","v":""},{"$f":"IF(P_20号3様式1!I49<> \"\",IF(P_20号3様式1!I49<> \"-\",IF(VALUE(FIXED(P_20号3様式1!I49,0,TRUE))<>P_20号3様式1!I49,RIGHT(FIXED(P_20号3様式1!I49,3,FALSE),4),\"\"),\"\"),\"\")","v":""},{"$f":"IF(P_20号3様式1!L49<> \"\",IF(P_20号3様式1!L49<> \"-\",TEXT(INT(P_20号3様式1!L49),\"#,##0\"),\"-\"),\"\")","v":""},{"$f":"IF(P_20号3様式1!L49<> \"\",IF(P_20号3様式1!L49<> \"-\",IF(VALUE(FIXED(P_20号3様式1!L49,0,TRUE))<>P_20号3様式1!L49,RIGHT(FIXED(P_20号3様式1!L49,3,FALSE),4),\"\"),\"\"),\"\")","v":""},{"$f":"IF(P_20号3様式1!O49<> \"\",IF(P_20号3様式1!O49<> \"-\",TEXT(INT(P_20号3様式1!O49),\"#,##0\"),\"-\"),\"\")","v":""},{"$f":"IF(P_20号3様式1!O49<> \"\",IF(P_20号3様式1!O49<> \"-\",IF(VALUE(FIXED(P_20号3様式1!O49,0,TRUE))<>P_20号3様式1!O49,RIGHT(FIXED(P_20号3様式1!O49,3,FALSE),4),\"\"),\"\"),\"\")","v":""},{"$f":"IF(P_20号3様式1!R49<> \"\",IF(P_20号3様式1!R49<> \"-\",TEXT(INT(P_20号3様式1!R49),\"#,##0\"),\"-\"),\"\")","v":""},{"$f":"IF(P_20号3様式1!R49<> \"\",IF(P_20号3様式1!R49<> \"-\",IF(VALUE(FIXED(P_20号3様式1!R49,0,TRUE))<>P_20号3様式1!R49,RIGHT(FIXED(P_20号3様式1!R49,3,FALSE),4),\"\"),\"\"),\"\")","v":""},{"$f":"IF(P_20号3様式1!U49<> \"\",IF(P_20号3様式1!U49<> \"-\",TEXT(INT(P_20号3様式1!U49),\"#,##0\"),\"-\"),\"\")","v":""},{"$f":"IF(P_20号3様式1!U49<> \"\",IF(P_20号3様式1!U49<> \"-\",IF(VALUE(FIXED(P_20号3様式1!U49,0,TRUE))<>P_20号3様式1!U49,RIGHT(FIXED(P_20号3様式1!U49,3,FALSE),4),\"\"),\"\"),\"\")","v":""},{"$f":"IF(P_20号3様式1!X49<> \"\",IF(P_20号3様式1!X49<> \"-\",TEXT(INT(P_20号3様式1!X49),\"#,##0\"),\"-\"),\"\")","v":""},{"$f":"IF(P_20号3様式1!X49<> \"\",IF(P_20号3様式1!X49<> \"-\",IF(VALUE(FIXED(P_20号3様式1!X49,0,TRUE))<>P_20号3様式1!X49,RIGHT(FIXED(P_20号3様式1!X49,3,FALSE),4),\"\"),\"\"),\"\")","v":""},{"$f":"IF(P_20号3様式1!AA49<> \"\",IF(P_20号3様式1!AA49<> \"-\",TEXT(INT(P_20号3様式1!AA49),\"#,##0\"),\"-\"),\"\")","v":""},{"$f":"IF(P_20号3様式1!AA49<> \"\",IF(P_20号3様式1!AA49<> \"-\",IF(VALUE(FIXED(P_20号3様式1!AA49,0,TRUE))<>P_20号3様式1!AA49,RIGHT(FIXED(P_20号3様式1!AA49,3,FALSE),4),\"\"),\"\"),\"\")","v":""}]
[{"$f":"IF(P_20号3様式1!C50=\"\",\"\",P_20号3様式1!C50)","v":"指宿市"},{"$f":"IF(P_20号3様式1!AE50<> \"\",TEXT(INT(P_20号3様式1!AE50),\"#,##0\"),\"\")","v":"4"},{"$f":"IF(P_20号3様式1!AE50= \"\",\"\",IF(VALUE(FIXED(P_20号3様式1!AE50,0,TRUE))<>P_20号3様式1!AE50,RIGHT(FIXED(P_20号3様式1!AE50,3,FALSE),4),\"\"))","v":".000"},{"$f":"IF(P_20号3様式1!F50<> \"\",IF(P_20号3様式1!F50<> \"-\",TEXT(INT(P_20号3様式1!F50),\"#,##0\"),\"-\"),\"\")","v":"4"},{"$f":"IF(P_20号3様式1!F50<> \"\",IF(P_20号3様式1!F50<> \"-\",IF(VALUE(FIXED(P_20号3様式1!F50,0,TRUE))<>P_20号3様式1!F50,RIGHT(FIXED(P_20号3様式1!F50,3,FALSE),4),\"\"),\"\"),\"\")","v":".000"},{"$f":"IF(P_20号3様式1!I50<> \"\",IF(P_20号3様式1!I50<> \"-\",TEXT(INT(P_20号3様式1!I50),\"#,##0\"),\"-\"),\"\")","v":""},{"$f":"IF(P_20号3様式1!I50<> \"\",IF(P_20号3様式1!I50<> \"-\",IF(VALUE(FIXED(P_20号3様式1!I50,0,TRUE))<>P_20号3様式1!I50,RIGHT(FIXED(P_20号3様式1!I50,3,FALSE),4),\"\"),\"\"),\"\")","v":""},{"$f":"IF(P_20号3様式1!L50<> \"\",IF(P_20号3様式1!L50<> \"-\",TEXT(INT(P_20号3様式1!L50),\"#,##0\"),\"-\"),\"\")","v":""},{"$f":"IF(P_20号3様式1!L50<> \"\",IF(P_20号3様式1!L50<> \"-\",IF(VALUE(FIXED(P_20号3様式1!L50,0,TRUE))<>P_20号3様式1!L50,RIGHT(FIXED(P_20号3様式1!L50,3,FALSE),4),\"\"),\"\"),\"\")","v":""},{"$f":"IF(P_20号3様式1!O50<> \"\",IF(P_20号3様式1!O50<> \"-\",TEXT(INT(P_20号3様式1!O50),\"#,##0\"),\"-\"),\"\")","v":""},{"$f":"IF(P_20号3様式1!O50<> \"\",IF(P_20号3様式1!O50<> \"-\",IF(VALUE(FIXED(P_20号3様式1!O50,0,TRUE))<>P_20号3様式1!O50,RIGHT(FIXED(P_20号3様式1!O50,3,FALSE),4),\"\"),\"\"),\"\")","v":""},{"$f":"IF(P_20号3様式1!R50<> \"\",IF(P_20号3様式1!R50<> \"-\",TEXT(INT(P_20号3様式1!R50),\"#,##0\"),\"-\"),\"\")","v":""},{"$f":"IF(P_20号3様式1!R50<> \"\",IF(P_20号3様式1!R50<> \"-\",IF(VALUE(FIXED(P_20号3様式1!R50,0,TRUE))<>P_20号3様式1!R50,RIGHT(FIXED(P_20号3様式1!R50,3,FALSE),4),\"\"),\"\"),\"\")","v":""},{"$f":"IF(P_20号3様式1!U50<> \"\",IF(P_20号3様式1!U50<> \"-\",TEXT(INT(P_20号3様式1!U50),\"#,##0\"),\"-\"),\"\")","v":""},{"$f":"IF(P_20号3様式1!U50<> \"\",IF(P_20号3様式1!U50<> \"-\",IF(VALUE(FIXED(P_20号3様式1!U50,0,TRUE))<>P_20号3様式1!U50,RIGHT(FIXED(P_20号3様式1!U50,3,FALSE),4),\"\"),\"\"),\"\")","v":""},{"$f":"IF(P_20号3様式1!X50<> \"\",IF(P_20号3様式1!X50<> \"-\",TEXT(INT(P_20号3様式1!X50),\"#,##0\"),\"-\"),\"\")","v":""},{"$f":"IF(P_20号3様式1!X50<> \"\",IF(P_20号3様式1!X50<> \"-\",IF(VALUE(FIXED(P_20号3様式1!X50,0,TRUE))<>P_20号3様式1!X50,RIGHT(FIXED(P_20号3様式1!X50,3,FALSE),4),\"\"),\"\"),\"\")","v":""},{"$f":"IF(P_20号3様式1!AA50<> \"\",IF(P_20号3様式1!AA50<> \"-\",TEXT(INT(P_20号3様式1!AA50),\"#,##0\"),\"-\"),\"\")","v":""},{"$f":"IF(P_20号3様式1!AA50<> \"\",IF(P_20号3様式1!AA50<> \"-\",IF(VALUE(FIXED(P_20号3様式1!AA50,0,TRUE))<>P_20号3様式1!AA50,RIGHT(FIXED(P_20号3様式1!AA50,3,FALSE),4),\"\"),\"\"),\"\")","v":""}]
[{"$f":"IF(P_20号3様式1!C51=\"\",\"\",P_20号3様式1!C51)","v":"西之表市"},{"$f":"IF(P_20号3様式1!AE51<> \"\",TEXT(INT(P_20号3様式1!AE51),\"#,##0\"),\"\")","v":"0"},{"$f":"IF(P_20号3様式1!AE51= \"\",\"\",IF(VALUE(FIXED(P_20号3様式1!AE51,0,TRUE))<>P_20号3様式1!AE51,RIGHT(FIXED(P_20号3様式1!AE51,3,FALSE),4),\"\"))","v":".000"},{"$f":"IF(P_20号3様式1!F51<> \"\",IF(P_20号3様式1!F51<> \"-\",TEXT(INT(P_20号3様式1!F51),\"#,##0\"),\"-\"),\"\")","v":"0"},{"$f":"IF(P_20号3様式1!F51<> \"\",IF(P_20号3様式1!F51<> \"-\",IF(VALUE(FIXED(P_20号3様式1!F51,0,TRUE))<>P_20号3様式1!F51,RIGHT(FIXED(P_20号3様式1!F51,3,FALSE),4),\"\"),\"\"),\"\")","v":".000"},{"$f":"IF(P_20号3様式1!I51<> \"\",IF(P_20号3様式1!I51<> \"-\",TEXT(INT(P_20号3様式1!I51),\"#,##0\"),\"-\"),\"\")","v":""},{"$f":"IF(P_20号3様式1!I51<> \"\",IF(P_20号3様式1!I51<> \"-\",IF(VALUE(FIXED(P_20号3様式1!I51,0,TRUE))<>P_20号3様式1!I51,RIGHT(FIXED(P_20号3様式1!I51,3,FALSE),4),\"\"),\"\"),\"\")","v":""},{"$f":"IF(P_20号3様式1!L51<> \"\",IF(P_20号3様式1!L51<> \"-\",TEXT(INT(P_20号3様式1!L51),\"#,##0\"),\"-\"),\"\")","v":""},{"$f":"IF(P_20号3様式1!L51<> \"\",IF(P_20号3様式1!L51<> \"-\",IF(VALUE(FIXED(P_20号3様式1!L51,0,TRUE))<>P_20号3様式1!L51,RIGHT(FIXED(P_20号3様式1!L51,3,FALSE),4),\"\"),\"\"),\"\")","v":""},{"$f":"IF(P_20号3様式1!O51<> \"\",IF(P_20号3様式1!O51<> \"-\",TEXT(INT(P_20号3様式1!O51),\"#,##0\"),\"-\"),\"\")","v":""},{"$f":"IF(P_20号3様式1!O51<> \"\",IF(P_20号3様式1!O51<> \"-\",IF(VALUE(FIXED(P_20号3様式1!O51,0,TRUE))<>P_20号3様式1!O51,RIGHT(FIXED(P_20号3様式1!O51,3,FALSE),4),\"\"),\"\"),\"\")","v":""},{"$f":"IF(P_20号3様式1!R51<> \"\",IF(P_20号3様式1!R51<> \"-\",TEXT(INT(P_20号3様式1!R51),\"#,##0\"),\"-\"),\"\")","v":""},{"$f":"IF(P_20号3様式1!R51<> \"\",IF(P_20号3様式1!R51<> \"-\",IF(VALUE(FIXED(P_20号3様式1!R51,0,TRUE))<>P_20号3様式1!R51,RIGHT(FIXED(P_20号3様式1!R51,3,FALSE),4),\"\"),\"\"),\"\")","v":""},{"$f":"IF(P_20号3様式1!U51<> \"\",IF(P_20号3様式1!U51<> \"-\",TEXT(INT(P_20号3様式1!U51),\"#,##0\"),\"-\"),\"\")","v":""},{"$f":"IF(P_20号3様式1!U51<> \"\",IF(P_20号3様式1!U51<> \"-\",IF(VALUE(FIXED(P_20号3様式1!U51,0,TRUE))<>P_20号3様式1!U51,RIGHT(FIXED(P_20号3様式1!U51,3,FALSE),4),\"\"),\"\"),\"\")","v":""},{"$f":"IF(P_20号3様式1!X51<> \"\",IF(P_20号3様式1!X51<> \"-\",TEXT(INT(P_20号3様式1!X51),\"#,##0\"),\"-\"),\"\")","v":""},{"$f":"IF(P_20号3様式1!X51<> \"\",IF(P_20号3様式1!X51<> \"-\",IF(VALUE(FIXED(P_20号3様式1!X51,0,TRUE))<>P_20号3様式1!X51,RIGHT(FIXED(P_20号3様式1!X51,3,FALSE),4),\"\"),\"\"),\"\")","v":""},{"$f":"IF(P_20号3様式1!AA51<> \"\",IF(P_20号3様式1!AA51<> \"-\",TEXT(INT(P_20号3様式1!AA51),\"#,##0\"),\"-\"),\"\")","v":""},{"$f":"IF(P_20号3様式1!AA51<> \"\",IF(P_20号3様式1!AA51<> \"-\",IF(VALUE(FIXED(P_20号3様式1!AA51,0,TRUE))<>P_20号3様式1!AA51,RIGHT(FIXED(P_20号3様式1!AA51,3,FALSE),4),\"\"),\"\"),\"\")","v":""}]
[{"$f":"IF(P_20号3様式1!C52=\"\",\"\",P_20号3様式1!C52)","v":"垂水市"},{"$f":"IF(P_20号3様式1!AE52<> \"\",TEXT(INT(P_20号3様式1!AE52),\"#,##0\"),\"\")","v":"1"},{"$f":"IF(P_20号3様式1!AE52= \"\",\"\",IF(VALUE(FIXED(P_20号3様式1!AE52,0,TRUE))<>P_20号3様式1!AE52,RIGHT(FIXED(P_20号3様式1!AE52,3,FALSE),4),\"\"))","v":".000"},{"$f":"IF(P_20号3様式1!F52<> \"\",IF(P_20号3様式1!F52<> \"-\",TEXT(INT(P_20号3様式1!F52),\"#,##0\"),\"-\"),\"\")","v":"1"},{"$f":"IF(P_20号3様式1!F52<> \"\",IF(P_20号3様式1!F52<> \"-\",IF(VALUE(FIXED(P_20号3様式1!F52,0,TRUE))<>P_20号3様式1!F52,RIGHT(FIXED(P_20号3様式1!F52,3,FALSE),4),\"\"),\"\"),\"\")","v":".000"},{"$f":"IF(P_20号3様式1!I52<> \"\",IF(P_20号3様式1!I52<> \"-\",TEXT(INT(P_20号3様式1!I52),\"#,##0\"),\"-\"),\"\")","v":""},{"$f":"IF(P_20号3様式1!I52<> \"\",IF(P_20号3様式1!I52<> \"-\",IF(VALUE(FIXED(P_20号3様式1!I52,0,TRUE))<>P_20号3様式1!I52,RIGHT(FIXED(P_20号3様式1!I52,3,FALSE),4),\"\"),\"\"),\"\")","v":""},{"$f":"IF(P_20号3様式1!L52<> \"\",IF(P_20号3様式1!L52<> \"-\",TEXT(INT(P_20号3様式1!L52),\"#,##0\"),\"-\"),\"\")","v":""},{"$f":"IF(P_20号3様式1!L52<> \"\",IF(P_20号3様式1!L52<> \"-\",IF(VALUE(FIXED(P_20号3様式1!L52,0,TRUE))<>P_20号3様式1!L52,RIGHT(FIXED(P_20号3様式1!L52,3,FALSE),4),\"\"),\"\"),\"\")","v":""},{"$f":"IF(P_20号3様式1!O52<> \"\",IF(P_20号3様式1!O52<> \"-\",TEXT(INT(P_20号3様式1!O52),\"#,##0\"),\"-\"),\"\")","v":""},{"$f":"IF(P_20号3様式1!O52<> \"\",IF(P_20号3様式1!O52<> \"-\",IF(VALUE(FIXED(P_20号3様式1!O52,0,TRUE))<>P_20号3様式1!O52,RIGHT(FIXED(P_20号3様式1!O52,3,FALSE),4),\"\"),\"\"),\"\")","v":""},{"$f":"IF(P_20号3様式1!R52<> \"\",IF(P_20号3様式1!R52<> \"-\",TEXT(INT(P_20号3様式1!R52),\"#,##0\"),\"-\"),\"\")","v":""},{"$f":"IF(P_20号3様式1!R52<> \"\",IF(P_20号3様式1!R52<> \"-\",IF(VALUE(FIXED(P_20号3様式1!R52,0,TRUE))<>P_20号3様式1!R52,RIGHT(FIXED(P_20号3様式1!R52,3,FALSE),4),\"\"),\"\"),\"\")","v":""},{"$f":"IF(P_20号3様式1!U52<> \"\",IF(P_20号3様式1!U52<> \"-\",TEXT(INT(P_20号3様式1!U52),\"#,##0\"),\"-\"),\"\")","v":""},{"$f":"IF(P_20号3様式1!U52<> \"\",IF(P_20号3様式1!U52<> \"-\",IF(VALUE(FIXED(P_20号3様式1!U52,0,TRUE))<>P_20号3様式1!U52,RIGHT(FIXED(P_20号3様式1!U52,3,FALSE),4),\"\"),\"\"),\"\")","v":""},{"$f":"IF(P_20号3様式1!X52<> \"\",IF(P_20号3様式1!X52<> \"-\",TEXT(INT(P_20号3様式1!X52),\"#,##0\"),\"-\"),\"\")","v":""},{"$f":"IF(P_20号3様式1!X52<> \"\",IF(P_20号3様式1!X52<> \"-\",IF(VALUE(FIXED(P_20号3様式1!X52,0,TRUE))<>P_20号3様式1!X52,RIGHT(FIXED(P_20号3様式1!X52,3,FALSE),4),\"\"),\"\"),\"\")","v":""},{"$f":"IF(P_20号3様式1!AA52<> \"\",IF(P_20号3様式1!AA52<> \"-\",TEXT(INT(P_20号3様式1!AA52),\"#,##0\"),\"-\"),\"\")","v":""},{"$f":"IF(P_20号3様式1!AA52<> \"\",IF(P_20号3様式1!AA52<> \"-\",IF(VALUE(FIXED(P_20号3様式1!AA52,0,TRUE))<>P_20号3様式1!AA52,RIGHT(FIXED(P_20号3様式1!AA52,3,FALSE),4),\"\"),\"\"),\"\")","v":""}]
[{"$f":"IF(P_20号3様式1!C53=\"\",\"\",P_20号3様式1!C53)","v":"薩摩川内市第１"},{"$f":"IF(P_20号3様式1!AE53<> \"\",TEXT(INT(P_20号3様式1!AE53),\"#,##0\"),\"\")","v":"4"},{"$f":"IF(P_20号3様式1!AE53= \"\",\"\",IF(VALUE(FIXED(P_20号3様式1!AE53,0,TRUE))<>P_20号3様式1!AE53,RIGHT(FIXED(P_20号3様式1!AE53,3,FALSE),4),\"\"))","v":".000"},{"$f":"IF(P_20号3様式1!F53<> \"\",IF(P_20号3様式1!F53<> \"-\",TEXT(INT(P_20号3様式1!F53),\"#,##0\"),\"-\"),\"\")","v":"4"},{"$f":"IF(P_20号3様式1!F53<> \"\",IF(P_20号3様式1!F53<> \"-\",IF(VALUE(FIXED(P_20号3様式1!F53,0,TRUE))<>P_20号3様式1!F53,RIGHT(FIXED(P_20号3様式1!F53,3,FALSE),4),\"\"),\"\"),\"\")","v":".000"},{"$f":"IF(P_20号3様式1!I53<> \"\",IF(P_20号3様式1!I53<> \"-\",TEXT(INT(P_20号3様式1!I53),\"#,##0\"),\"-\"),\"\")","v":""},{"$f":"IF(P_20号3様式1!I53<> \"\",IF(P_20号3様式1!I53<> \"-\",IF(VALUE(FIXED(P_20号3様式1!I53,0,TRUE))<>P_20号3様式1!I53,RIGHT(FIXED(P_20号3様式1!I53,3,FALSE),4),\"\"),\"\"),\"\")","v":""},{"$f":"IF(P_20号3様式1!L53<> \"\",IF(P_20号3様式1!L53<> \"-\",TEXT(INT(P_20号3様式1!L53),\"#,##0\"),\"-\"),\"\")","v":""},{"$f":"IF(P_20号3様式1!L53<> \"\",IF(P_20号3様式1!L53<> \"-\",IF(VALUE(FIXED(P_20号3様式1!L53,0,TRUE))<>P_20号3様式1!L53,RIGHT(FIXED(P_20号3様式1!L53,3,FALSE),4),\"\"),\"\"),\"\")","v":""},{"$f":"IF(P_20号3様式1!O53<> \"\",IF(P_20号3様式1!O53<> \"-\",TEXT(INT(P_20号3様式1!O53),\"#,##0\"),\"-\"),\"\")","v":""},{"$f":"IF(P_20号3様式1!O53<> \"\",IF(P_20号3様式1!O53<> \"-\",IF(VALUE(FIXED(P_20号3様式1!O53,0,TRUE))<>P_20号3様式1!O53,RIGHT(FIXED(P_20号3様式1!O53,3,FALSE),4),\"\"),\"\"),\"\")","v":""},{"$f":"IF(P_20号3様式1!R53<> \"\",IF(P_20号3様式1!R53<> \"-\",TEXT(INT(P_20号3様式1!R53),\"#,##0\"),\"-\"),\"\")","v":""},{"$f":"IF(P_20号3様式1!R53<> \"\",IF(P_20号3様式1!R53<> \"-\",IF(VALUE(FIXED(P_20号3様式1!R53,0,TRUE))<>P_20号3様式1!R53,RIGHT(FIXED(P_20号3様式1!R53,3,FALSE),4),\"\"),\"\"),\"\")","v":""},{"$f":"IF(P_20号3様式1!U53<> \"\",IF(P_20号3様式1!U53<> \"-\",TEXT(INT(P_20号3様式1!U53),\"#,##0\"),\"-\"),\"\")","v":""},{"$f":"IF(P_20号3様式1!U53<> \"\",IF(P_20号3様式1!U53<> \"-\",IF(VALUE(FIXED(P_20号3様式1!U53,0,TRUE))<>P_20号3様式1!U53,RIGHT(FIXED(P_20号3様式1!U53,3,FALSE),4),\"\"),\"\"),\"\")","v":""},{"$f":"IF(P_20号3様式1!X53<> \"\",IF(P_20号3様式1!X53<> \"-\",TEXT(INT(P_20号3様式1!X53),\"#,##0\"),\"-\"),\"\")","v":""},{"$f":"IF(P_20号3様式1!X53<> \"\",IF(P_20号3様式1!X53<> \"-\",IF(VALUE(FIXED(P_20号3様式1!X53,0,TRUE))<>P_20号3様式1!X53,RIGHT(FIXED(P_20号3様式1!X53,3,FALSE),4),\"\"),\"\"),\"\")","v":""},{"$f":"IF(P_20号3様式1!AA53<> \"\",IF(P_20号3様式1!AA53<> \"-\",TEXT(INT(P_20号3様式1!AA53),\"#,##0\"),\"-\"),\"\")","v":""},{"$f":"IF(P_20号3様式1!AA53<> \"\",IF(P_20号3様式1!AA53<> \"-\",IF(VALUE(FIXED(P_20号3様式1!AA53,0,TRUE))<>P_20号3様式1!AA53,RIGHT(FIXED(P_20号3様式1!AA53,3,FALSE),4),\"\"),\"\"),\"\")","v":""}]
[{"$f":"IF(P_20号3様式1!C54=\"\",\"\",P_20号3様式1!C54)","v":"薩摩川内市第２"},{"$f":"IF(P_20号3様式1!AE54<> \"\",TEXT(INT(P_20号3様式1!AE54),\"#,##0\"),\"\")","v":"0"},{"$f":"IF(P_20号3様式1!AE54= \"\",\"\",IF(VALUE(FIXED(P_20号3様式1!AE54,0,TRUE))<>P_20号3様式1!AE54,RIGHT(FIXED(P_20号3様式1!AE54,3,FALSE),4),\"\"))","v":".000"},{"$f":"IF(P_20号3様式1!F54<> \"\",IF(P_20号3様式1!F54<> \"-\",TEXT(INT(P_20号3様式1!F54),\"#,##0\"),\"-\"),\"\")","v":"0"},{"$f":"IF(P_20号3様式1!F54<> \"\",IF(P_20号3様式1!F54<> \"-\",IF(VALUE(FIXED(P_20号3様式1!F54,0,TRUE))<>P_20号3様式1!F54,RIGHT(FIXED(P_20号3様式1!F54,3,FALSE),4),\"\"),\"\"),\"\")","v":".000"},{"$f":"IF(P_20号3様式1!I54<> \"\",IF(P_20号3様式1!I54<> \"-\",TEXT(INT(P_20号3様式1!I54),\"#,##0\"),\"-\"),\"\")","v":""},{"$f":"IF(P_20号3様式1!I54<> \"\",IF(P_20号3様式1!I54<> \"-\",IF(VALUE(FIXED(P_20号3様式1!I54,0,TRUE))<>P_20号3様式1!I54,RIGHT(FIXED(P_20号3様式1!I54,3,FALSE),4),\"\"),\"\"),\"\")","v":""},{"$f":"IF(P_20号3様式1!L54<> \"\",IF(P_20号3様式1!L54<> \"-\",TEXT(INT(P_20号3様式1!L54),\"#,##0\"),\"-\"),\"\")","v":""},{"$f":"IF(P_20号3様式1!L54<> \"\",IF(P_20号3様式1!L54<> \"-\",IF(VALUE(FIXED(P_20号3様式1!L54,0,TRUE))<>P_20号3様式1!L54,RIGHT(FIXED(P_20号3様式1!L54,3,FALSE),4),\"\"),\"\"),\"\")","v":""},{"$f":"IF(P_20号3様式1!O54<> \"\",IF(P_20号3様式1!O54<> \"-\",TEXT(INT(P_20号3様式1!O54),\"#,##0\"),\"-\"),\"\")","v":""},{"$f":"IF(P_20号3様式1!O54<> \"\",IF(P_20号3様式1!O54<> \"-\",IF(VALUE(FIXED(P_20号3様式1!O54,0,TRUE))<>P_20号3様式1!O54,RIGHT(FIXED(P_20号3様式1!O54,3,FALSE),4),\"\"),\"\"),\"\")","v":""},{"$f":"IF(P_20号3様式1!R54<> \"\",IF(P_20号3様式1!R54<> \"-\",TEXT(INT(P_20号3様式1!R54),\"#,##0\"),\"-\"),\"\")","v":""},{"$f":"IF(P_20号3様式1!R54<> \"\",IF(P_20号3様式1!R54<> \"-\",IF(VALUE(FIXED(P_20号3様式1!R54,0,TRUE))<>P_20号3様式1!R54,RIGHT(FIXED(P_20号3様式1!R54,3,FALSE),4),\"\"),\"\"),\"\")","v":""},{"$f":"IF(P_20号3様式1!U54<> \"\",IF(P_20号3様式1!U54<> \"-\",TEXT(INT(P_20号3様式1!U54),\"#,##0\"),\"-\"),\"\")","v":""},{"$f":"IF(P_20号3様式1!U54<> \"\",IF(P_20号3様式1!U54<> \"-\",IF(VALUE(FIXED(P_20号3様式1!U54,0,TRUE))<>P_20号3様式1!U54,RIGHT(FIXED(P_20号3様式1!U54,3,FALSE),4),\"\"),\"\"),\"\")","v":""},{"$f":"IF(P_20号3様式1!X54<> \"\",IF(P_20号3様式1!X54<> \"-\",TEXT(INT(P_20号3様式1!X54),\"#,##0\"),\"-\"),\"\")","v":""},{"$f":"IF(P_20号3様式1!X54<> \"\",IF(P_20号3様式1!X54<> \"-\",IF(VALUE(FIXED(P_20号3様式1!X54,0,TRUE))<>P_20号3様式1!X54,RIGHT(FIXED(P_20号3様式1!X54,3,FALSE),4),\"\"),\"\"),\"\")","v":""},{"$f":"IF(P_20号3様式1!AA54<> \"\",IF(P_20号3様式1!AA54<> \"-\",TEXT(INT(P_20号3様式1!AA54),\"#,##0\"),\"-\"),\"\")","v":""},{"$f":"IF(P_20号3様式1!AA54<> \"\",IF(P_20号3様式1!AA54<> \"-\",IF(VALUE(FIXED(P_20号3様式1!AA54,0,TRUE))<>P_20号3様式1!AA54,RIGHT(FIXED(P_20号3様式1!AA54,3,FALSE),4),\"\"),\"\"),\"\")","v":""}]
[{"$f":"IF(P_20号3様式1!C55=\"\",\"\",P_20号3様式1!C55)","v":"薩摩川内市第３"},{"$f":"IF(P_20号3様式1!AE55<> \"\",TEXT(INT(P_20号3様式1!AE55),\"#,##0\"),\"\")","v":"0"},{"$f":"IF(P_20号3様式1!AE55= \"\",\"\",IF(VALUE(FIXED(P_20号3様式1!AE55,0,TRUE))<>P_20号3様式1!AE55,RIGHT(FIXED(P_20号3様式1!AE55,3,FALSE),4),\"\"))","v":".000"},{"$f":"IF(P_20号3様式1!F55<> \"\",IF(P_20号3様式1!F55<> \"-\",TEXT(INT(P_20号3様式1!F55),\"#,##0\"),\"-\"),\"\")","v":"0"},{"$f":"IF(P_20号3様式1!F55<> \"\",IF(P_20号3様式1!F55<> \"-\",IF(VALUE(FIXED(P_20号3様式1!F55,0,TRUE))<>P_20号3様式1!F55,RIGHT(FIXED(P_20号3様式1!F55,3,FALSE),4),\"\"),\"\"),\"\")","v":".000"},{"$f":"IF(P_20号3様式1!I55<> \"\",IF(P_20号3様式1!I55<> \"-\",TEXT(INT(P_20号3様式1!I55),\"#,##0\"),\"-\"),\"\")","v":""},{"$f":"IF(P_20号3様式1!I55<> \"\",IF(P_20号3様式1!I55<> \"-\",IF(VALUE(FIXED(P_20号3様式1!I55,0,TRUE))<>P_20号3様式1!I55,RIGHT(FIXED(P_20号3様式1!I55,3,FALSE),4),\"\"),\"\"),\"\")","v":""},{"$f":"IF(P_20号3様式1!L55<> \"\",IF(P_20号3様式1!L55<> \"-\",TEXT(INT(P_20号3様式1!L55),\"#,##0\"),\"-\"),\"\")","v":""},{"$f":"IF(P_20号3様式1!L55<> \"\",IF(P_20号3様式1!L55<> \"-\",IF(VALUE(FIXED(P_20号3様式1!L55,0,TRUE))<>P_20号3様式1!L55,RIGHT(FIXED(P_20号3様式1!L55,3,FALSE),4),\"\"),\"\"),\"\")","v":""},{"$f":"IF(P_20号3様式1!O55<> \"\",IF(P_20号3様式1!O55<> \"-\",TEXT(INT(P_20号3様式1!O55),\"#,##0\"),\"-\"),\"\")","v":""},{"$f":"IF(P_20号3様式1!O55<> \"\",IF(P_20号3様式1!O55<> \"-\",IF(VALUE(FIXED(P_20号3様式1!O55,0,TRUE))<>P_20号3様式1!O55,RIGHT(FIXED(P_20号3様式1!O55,3,FALSE),4),\"\"),\"\"),\"\")","v":""},{"$f":"IF(P_20号3様式1!R55<> \"\",IF(P_20号3様式1!R55<> \"-\",TEXT(INT(P_20号3様式1!R55),\"#,##0\"),\"-\"),\"\")","v":""},{"$f":"IF(P_20号3様式1!R55<> \"\",IF(P_20号3様式1!R55<> \"-\",IF(VALUE(FIXED(P_20号3様式1!R55,0,TRUE))<>P_20号3様式1!R55,RIGHT(FIXED(P_20号3様式1!R55,3,FALSE),4),\"\"),\"\"),\"\")","v":""},{"$f":"IF(P_20号3様式1!U55<> \"\",IF(P_20号3様式1!U55<> \"-\",TEXT(INT(P_20号3様式1!U55),\"#,##0\"),\"-\"),\"\")","v":""},{"$f":"IF(P_20号3様式1!U55<> \"\",IF(P_20号3様式1!U55<> \"-\",IF(VALUE(FIXED(P_20号3様式1!U55,0,TRUE))<>P_20号3様式1!U55,RIGHT(FIXED(P_20号3様式1!U55,3,FALSE),4),\"\"),\"\"),\"\")","v":""},{"$f":"IF(P_20号3様式1!X55<> \"\",IF(P_20号3様式1!X55<> \"-\",TEXT(INT(P_20号3様式1!X55),\"#,##0\"),\"-\"),\"\")","v":""},{"$f":"IF(P_20号3様式1!X55<> \"\",IF(P_20号3様式1!X55<> \"-\",IF(VALUE(FIXED(P_20号3様式1!X55,0,TRUE))<>P_20号3様式1!X55,RIGHT(FIXED(P_20号3様式1!X55,3,FALSE),4),\"\"),\"\"),\"\")","v":""},{"$f":"IF(P_20号3様式1!AA55<> \"\",IF(P_20号3様式1!AA55<> \"-\",TEXT(INT(P_20号3様式1!AA55),\"#,##0\"),\"-\"),\"\")","v":""},{"$f":"IF(P_20号3様式1!AA55<> \"\",IF(P_20号3様式1!AA55<> \"-\",IF(VALUE(FIXED(P_20号3様式1!AA55,0,TRUE))<>P_20号3様式1!AA55,RIGHT(FIXED(P_20号3様式1!AA55,3,FALSE),4),\"\"),\"\"),\"\")","v":""}]
[{"$f":"IF(P_20号3様式1!C56=\"\",\"\",P_20号3様式1!C56)","v":"＊（薩摩川内市）計"},{"$f":"IF(P_20号3様式1!AE56<> \"\",TEXT(INT(P_20号3様式1!AE56),\"#,##0\"),\"\")","v":"4"},{"$f":"IF(P_20号3様式1!AE56= \"\",\"\",IF(VALUE(FIXED(P_20号3様式1!AE56,0,TRUE))<>P_20号3様式1!AE56,RIGHT(FIXED(P_20号3様式1!AE56,3,FALSE),4),\"\"))","v":".000"},{"$f":"IF(P_20号3様式1!F56<> \"\",IF(P_20号3様式1!F56<> \"-\",TEXT(INT(P_20号3様式1!F56),\"#,##0\"),\"-\"),\"\")","v":"4"},{"$f":"IF(P_20号3様式1!F56<> \"\",IF(P_20号3様式1!F56<> \"-\",IF(VALUE(FIXED(P_20号3様式1!F56,0,TRUE))<>P_20号3様式1!F56,RIGHT(FIXED(P_20号3様式1!F56,3,FALSE),4),\"\"),\"\"),\"\")","v":".000"},{"$f":"IF(P_20号3様式1!I56<> \"\",IF(P_20号3様式1!I56<> \"-\",TEXT(INT(P_20号3様式1!I56),\"#,##0\"),\"-\"),\"\")","v":""},{"$f":"IF(P_20号3様式1!I56<> \"\",IF(P_20号3様式1!I56<> \"-\",IF(VALUE(FIXED(P_20号3様式1!I56,0,TRUE))<>P_20号3様式1!I56,RIGHT(FIXED(P_20号3様式1!I56,3,FALSE),4),\"\"),\"\"),\"\")","v":""},{"$f":"IF(P_20号3様式1!L56<> \"\",IF(P_20号3様式1!L56<> \"-\",TEXT(INT(P_20号3様式1!L56),\"#,##0\"),\"-\"),\"\")","v":""},{"$f":"IF(P_20号3様式1!L56<> \"\",IF(P_20号3様式1!L56<> \"-\",IF(VALUE(FIXED(P_20号3様式1!L56,0,TRUE))<>P_20号3様式1!L56,RIGHT(FIXED(P_20号3様式1!L56,3,FALSE),4),\"\"),\"\"),\"\")","v":""},{"$f":"IF(P_20号3様式1!O56<> \"\",IF(P_20号3様式1!O56<> \"-\",TEXT(INT(P_20号3様式1!O56),\"#,##0\"),\"-\"),\"\")","v":""},{"$f":"IF(P_20号3様式1!O56<> \"\",IF(P_20号3様式1!O56<> \"-\",IF(VALUE(FIXED(P_20号3様式1!O56,0,TRUE))<>P_20号3様式1!O56,RIGHT(FIXED(P_20号3様式1!O56,3,FALSE),4),\"\"),\"\"),\"\")","v":""},{"$f":"IF(P_20号3様式1!R56<> \"\",IF(P_20号3様式1!R56<> \"-\",TEXT(INT(P_20号3様式1!R56),\"#,##0\"),\"-\"),\"\")","v":""},{"$f":"IF(P_20号3様式1!R56<> \"\",IF(P_20号3様式1!R56<> \"-\",IF(VALUE(FIXED(P_20号3様式1!R56,0,TRUE))<>P_20号3様式1!R56,RIGHT(FIXED(P_20号3様式1!R56,3,FALSE),4),\"\"),\"\"),\"\")","v":""},{"$f":"IF(P_20号3様式1!U56<> \"\",IF(P_20号3様式1!U56<> \"-\",TEXT(INT(P_20号3様式1!U56),\"#,##0\"),\"-\"),\"\")","v":""},{"$f":"IF(P_20号3様式1!U56<> \"\",IF(P_20号3様式1!U56<> \"-\",IF(VALUE(FIXED(P_20号3様式1!U56,0,TRUE))<>P_20号3様式1!U56,RIGHT(FIXED(P_20号3様式1!U56,3,FALSE),4),\"\"),\"\"),\"\")","v":""},{"$f":"IF(P_20号3様式1!X56<> \"\",IF(P_20号3様式1!X56<> \"-\",TEXT(INT(P_20号3様式1!X56),\"#,##0\"),\"-\"),\"\")","v":""},{"$f":"IF(P_20号3様式1!X56<> \"\",IF(P_20号3様式1!X56<> \"-\",IF(VALUE(FIXED(P_20号3様式1!X56,0,TRUE))<>P_20号3様式1!X56,RIGHT(FIXED(P_20号3様式1!X56,3,FALSE),4),\"\"),\"\"),\"\")","v":""},{"$f":"IF(P_20号3様式1!AA56<> \"\",IF(P_20号3様式1!AA56<> \"-\",TEXT(INT(P_20号3様式1!AA56),\"#,##0\"),\"-\"),\"\")","v":""},{"$f":"IF(P_20号3様式1!AA56<> \"\",IF(P_20号3様式1!AA56<> \"-\",IF(VALUE(FIXED(P_20号3様式1!AA56,0,TRUE))<>P_20号3様式1!AA56,RIGHT(FIXED(P_20号3様式1!AA56,3,FALSE),4),\"\"),\"\"),\"\")","v":""}]
[{"$f":"IF(P_20号3様式1!C57=\"\",\"\",P_20号3様式1!C57)","v":"日置市"},{"$f":"IF(P_20号3様式1!AE57<> \"\",TEXT(INT(P_20号3様式1!AE57),\"#,##0\"),\"\")","v":"3"},{"$f":"IF(P_20号3様式1!AE57= \"\",\"\",IF(VALUE(FIXED(P_20号3様式1!AE57,0,TRUE))<>P_20号3様式1!AE57,RIGHT(FIXED(P_20号3様式1!AE57,3,FALSE),4),\"\"))","v":".000"},{"$f":"IF(P_20号3様式1!F57<> \"\",IF(P_20号3様式1!F57<> \"-\",TEXT(INT(P_20号3様式1!F57),\"#,##0\"),\"-\"),\"\")","v":"3"},{"$f":"IF(P_20号3様式1!F57<> \"\",IF(P_20号3様式1!F57<> \"-\",IF(VALUE(FIXED(P_20号3様式1!F57,0,TRUE))<>P_20号3様式1!F57,RIGHT(FIXED(P_20号3様式1!F57,3,FALSE),4),\"\"),\"\"),\"\")","v":".000"},{"$f":"IF(P_20号3様式1!I57<> \"\",IF(P_20号3様式1!I57<> \"-\",TEXT(INT(P_20号3様式1!I57),\"#,##0\"),\"-\"),\"\")","v":""},{"$f":"IF(P_20号3様式1!I57<> \"\",IF(P_20号3様式1!I57<> \"-\",IF(VALUE(FIXED(P_20号3様式1!I57,0,TRUE))<>P_20号3様式1!I57,RIGHT(FIXED(P_20号3様式1!I57,3,FALSE),4),\"\"),\"\"),\"\")","v":""},{"$f":"IF(P_20号3様式1!L57<> \"\",IF(P_20号3様式1!L57<> \"-\",TEXT(INT(P_20号3様式1!L57),\"#,##0\"),\"-\"),\"\")","v":""},{"$f":"IF(P_20号3様式1!L57<> \"\",IF(P_20号3様式1!L57<> \"-\",IF(VALUE(FIXED(P_20号3様式1!L57,0,TRUE))<>P_20号3様式1!L57,RIGHT(FIXED(P_20号3様式1!L57,3,FALSE),4),\"\"),\"\"),\"\")","v":""},{"$f":"IF(P_20号3様式1!O57<> \"\",IF(P_20号3様式1!O57<> \"-\",TEXT(INT(P_20号3様式1!O57),\"#,##0\"),\"-\"),\"\")","v":""},{"$f":"IF(P_20号3様式1!O57<> \"\",IF(P_20号3様式1!O57<> \"-\",IF(VALUE(FIXED(P_20号3様式1!O57,0,TRUE))<>P_20号3様式1!O57,RIGHT(FIXED(P_20号3様式1!O57,3,FALSE),4),\"\"),\"\"),\"\")","v":""},{"$f":"IF(P_20号3様式1!R57<> \"\",IF(P_20号3様式1!R57<> \"-\",TEXT(INT(P_20号3様式1!R57),\"#,##0\"),\"-\"),\"\")","v":""},{"$f":"IF(P_20号3様式1!R57<> \"\",IF(P_20号3様式1!R57<> \"-\",IF(VALUE(FIXED(P_20号3様式1!R57,0,TRUE))<>P_20号3様式1!R57,RIGHT(FIXED(P_20号3様式1!R57,3,FALSE),4),\"\"),\"\"),\"\")","v":""},{"$f":"IF(P_20号3様式1!U57<> \"\",IF(P_20号3様式1!U57<> \"-\",TEXT(INT(P_20号3様式1!U57),\"#,##0\"),\"-\"),\"\")","v":""},{"$f":"IF(P_20号3様式1!U57<> \"\",IF(P_20号3様式1!U57<> \"-\",IF(VALUE(FIXED(P_20号3様式1!U57,0,TRUE))<>P_20号3様式1!U57,RIGHT(FIXED(P_20号3様式1!U57,3,FALSE),4),\"\"),\"\"),\"\")","v":""},{"$f":"IF(P_20号3様式1!X57<> \"\",IF(P_20号3様式1!X57<> \"-\",TEXT(INT(P_20号3様式1!X57),\"#,##0\"),\"-\"),\"\")","v":""},{"$f":"IF(P_20号3様式1!X57<> \"\",IF(P_20号3様式1!X57<> \"-\",IF(VALUE(FIXED(P_20号3様式1!X57,0,TRUE))<>P_20号3様式1!X57,RIGHT(FIXED(P_20号3様式1!X57,3,FALSE),4),\"\"),\"\"),\"\")","v":""},{"$f":"IF(P_20号3様式1!AA57<> \"\",IF(P_20号3様式1!AA57<> \"-\",TEXT(INT(P_20号3様式1!AA57),\"#,##0\"),\"-\"),\"\")","v":""},{"$f":"IF(P_20号3様式1!AA57<> \"\",IF(P_20号3様式1!AA57<> \"-\",IF(VALUE(FIXED(P_20号3様式1!AA57,0,TRUE))<>P_20号3様式1!AA57,RIGHT(FIXED(P_20号3様式1!AA57,3,FALSE),4),\"\"),\"\"),\"\")","v":""}]
[{"$f":"IF(P_20号3様式1!C58=\"\",\"\",P_20号3様式1!C58)","v":"曽於市"},{"$f":"IF(P_20号3様式1!AE58<> \"\",TEXT(INT(P_20号3様式1!AE58),\"#,##0\"),\"\")","v":"2"},{"$f":"IF(P_20号3様式1!AE58= \"\",\"\",IF(VALUE(FIXED(P_20号3様式1!AE58,0,TRUE))<>P_20号3様式1!AE58,RIGHT(FIXED(P_20号3様式1!AE58,3,FALSE),4),\"\"))","v":".000"},{"$f":"IF(P_20号3様式1!F58<> \"\",IF(P_20号3様式1!F58<> \"-\",TEXT(INT(P_20号3様式1!F58),\"#,##0\"),\"-\"),\"\")","v":"2"},{"$f":"IF(P_20号3様式1!F58<> \"\",IF(P_20号3様式1!F58<> \"-\",IF(VALUE(FIXED(P_20号3様式1!F58,0,TRUE))<>P_20号3様式1!F58,RIGHT(FIXED(P_20号3様式1!F58,3,FALSE),4),\"\"),\"\"),\"\")","v":".000"},{"$f":"IF(P_20号3様式1!I58<> \"\",IF(P_20号3様式1!I58<> \"-\",TEXT(INT(P_20号3様式1!I58),\"#,##0\"),\"-\"),\"\")","v":""},{"$f":"IF(P_20号3様式1!I58<> \"\",IF(P_20号3様式1!I58<> \"-\",IF(VALUE(FIXED(P_20号3様式1!I58,0,TRUE))<>P_20号3様式1!I58,RIGHT(FIXED(P_20号3様式1!I58,3,FALSE),4),\"\"),\"\"),\"\")","v":""},{"$f":"IF(P_20号3様式1!L58<> \"\",IF(P_20号3様式1!L58<> \"-\",TEXT(INT(P_20号3様式1!L58),\"#,##0\"),\"-\"),\"\")","v":""},{"$f":"IF(P_20号3様式1!L58<> \"\",IF(P_20号3様式1!L58<> \"-\",IF(VALUE(FIXED(P_20号3様式1!L58,0,TRUE))<>P_20号3様式1!L58,RIGHT(FIXED(P_20号3様式1!L58,3,FALSE),4),\"\"),\"\"),\"\")","v":""},{"$f":"IF(P_20号3様式1!O58<> \"\",IF(P_20号3様式1!O58<> \"-\",TEXT(INT(P_20号3様式1!O58),\"#,##0\"),\"-\"),\"\")","v":""},{"$f":"IF(P_20号3様式1!O58<> \"\",IF(P_20号3様式1!O58<> \"-\",IF(VALUE(FIXED(P_20号3様式1!O58,0,TRUE))<>P_20号3様式1!O58,RIGHT(FIXED(P_20号3様式1!O58,3,FALSE),4),\"\"),\"\"),\"\")","v":""},{"$f":"IF(P_20号3様式1!R58<> \"\",IF(P_20号3様式1!R58<> \"-\",TEXT(INT(P_20号3様式1!R58),\"#,##0\"),\"-\"),\"\")","v":""},{"$f":"IF(P_20号3様式1!R58<> \"\",IF(P_20号3様式1!R58<> \"-\",IF(VALUE(FIXED(P_20号3様式1!R58,0,TRUE))<>P_20号3様式1!R58,RIGHT(FIXED(P_20号3様式1!R58,3,FALSE),4),\"\"),\"\"),\"\")","v":""},{"$f":"IF(P_20号3様式1!U58<> \"\",IF(P_20号3様式1!U58<> \"-\",TEXT(INT(P_20号3様式1!U58),\"#,##0\"),\"-\"),\"\")","v":""},{"$f":"IF(P_20号3様式1!U58<> \"\",IF(P_20号3様式1!U58<> \"-\",IF(VALUE(FIXED(P_20号3様式1!U58,0,TRUE))<>P_20号3様式1!U58,RIGHT(FIXED(P_20号3様式1!U58,3,FALSE),4),\"\"),\"\"),\"\")","v":""},{"$f":"IF(P_20号3様式1!X58<> \"\",IF(P_20号3様式1!X58<> \"-\",TEXT(INT(P_20号3様式1!X58),\"#,##0\"),\"-\"),\"\")","v":""},{"$f":"IF(P_20号3様式1!X58<> \"\",IF(P_20号3様式1!X58<> \"-\",IF(VALUE(FIXED(P_20号3様式1!X58,0,TRUE))<>P_20号3様式1!X58,RIGHT(FIXED(P_20号3様式1!X58,3,FALSE),4),\"\"),\"\"),\"\")","v":""},{"$f":"IF(P_20号3様式1!AA58<> \"\",IF(P_20号3様式1!AA58<> \"-\",TEXT(INT(P_20号3様式1!AA58),\"#,##0\"),\"-\"),\"\")","v":""},{"$f":"IF(P_20号3様式1!AA58<> \"\",IF(P_20号3様式1!AA58<> \"-\",IF(VALUE(FIXED(P_20号3様式1!AA58,0,TRUE))<>P_20号3様式1!AA58,RIGHT(FIXED(P_20号3様式1!AA58,3,FALSE),4),\"\"),\"\"),\"\")","v":""}]
[{"$f":"IF(P_20号3様式1!C59=\"\",\"\",P_20号3様式1!C59)","v":"霧島市"},{"$f":"IF(P_20号3様式1!AE59<> \"\",TEXT(INT(P_20号3様式1!AE59),\"#,##0\"),\"\")","v":"4"},{"$f":"IF(P_20号3様式1!AE59= \"\",\"\",IF(VALUE(FIXED(P_20号3様式1!AE59,0,TRUE))<>P_20号3様式1!AE59,RIGHT(FIXED(P_20号3様式1!AE59,3,FALSE),4),\"\"))","v":".000"},{"$f":"IF(P_20号3様式1!F59<> \"\",IF(P_20号3様式1!F59<> \"-\",TEXT(INT(P_20号3様式1!F59),\"#,##0\"),\"-\"),\"\")","v":"4"},{"$f":"IF(P_20号3様式1!F59<> \"\",IF(P_20号3様式1!F59<> \"-\",IF(VALUE(FIXED(P_20号3様式1!F59,0,TRUE))<>P_20号3様式1!F59,RIGHT(FIXED(P_20号3様式1!F59,3,FALSE),4),\"\"),\"\"),\"\")","v":".000"},{"$f":"IF(P_20号3様式1!I59<> \"\",IF(P_20号3様式1!I59<> \"-\",TEXT(INT(P_20号3様式1!I59),\"#,##0\"),\"-\"),\"\")","v":""},{"$f":"IF(P_20号3様式1!I59<> \"\",IF(P_20号3様式1!I59<> \"-\",IF(VALUE(FIXED(P_20号3様式1!I59,0,TRUE))<>P_20号3様式1!I59,RIGHT(FIXED(P_20号3様式1!I59,3,FALSE),4),\"\"),\"\"),\"\")","v":""},{"$f":"IF(P_20号3様式1!L59<> \"\",IF(P_20号3様式1!L59<> \"-\",TEXT(INT(P_20号3様式1!L59),\"#,##0\"),\"-\"),\"\")","v":""},{"$f":"IF(P_20号3様式1!L59<> \"\",IF(P_20号3様式1!L59<> \"-\",IF(VALUE(FIXED(P_20号3様式1!L59,0,TRUE))<>P_20号3様式1!L59,RIGHT(FIXED(P_20号3様式1!L59,3,FALSE),4),\"\"),\"\"),\"\")","v":""},{"$f":"IF(P_20号3様式1!O59<> \"\",IF(P_20号3様式1!O59<> \"-\",TEXT(INT(P_20号3様式1!O59),\"#,##0\"),\"-\"),\"\")","v":""},{"$f":"IF(P_20号3様式1!O59<> \"\",IF(P_20号3様式1!O59<> \"-\",IF(VALUE(FIXED(P_20号3様式1!O59,0,TRUE))<>P_20号3様式1!O59,RIGHT(FIXED(P_20号3様式1!O59,3,FALSE),4),\"\"),\"\"),\"\")","v":""},{"$f":"IF(P_20号3様式1!R59<> \"\",IF(P_20号3様式1!R59<> \"-\",TEXT(INT(P_20号3様式1!R59),\"#,##0\"),\"-\"),\"\")","v":""},{"$f":"IF(P_20号3様式1!R59<> \"\",IF(P_20号3様式1!R59<> \"-\",IF(VALUE(FIXED(P_20号3様式1!R59,0,TRUE))<>P_20号3様式1!R59,RIGHT(FIXED(P_20号3様式1!R59,3,FALSE),4),\"\"),\"\"),\"\")","v":""},{"$f":"IF(P_20号3様式1!U59<> \"\",IF(P_20号3様式1!U59<> \"-\",TEXT(INT(P_20号3様式1!U59),\"#,##0\"),\"-\"),\"\")","v":""},{"$f":"IF(P_20号3様式1!U59<> \"\",IF(P_20号3様式1!U59<> \"-\",IF(VALUE(FIXED(P_20号3様式1!U59,0,TRUE))<>P_20号3様式1!U59,RIGHT(FIXED(P_20号3様式1!U59,3,FALSE),4),\"\"),\"\"),\"\")","v":""},{"$f":"IF(P_20号3様式1!X59<> \"\",IF(P_20号3様式1!X59<> \"-\",TEXT(INT(P_20号3様式1!X59),\"#,##0\"),\"-\"),\"\")","v":""},{"$f":"IF(P_20号3様式1!X59<> \"\",IF(P_20号3様式1!X59<> \"-\",IF(VALUE(FIXED(P_20号3様式1!X59,0,TRUE))<>P_20号3様式1!X59,RIGHT(FIXED(P_20号3様式1!X59,3,FALSE),4),\"\"),\"\"),\"\")","v":""},{"$f":"IF(P_20号3様式1!AA59<> \"\",IF(P_20号3様式1!AA59<> \"-\",TEXT(INT(P_20号3様式1!AA59),\"#,##0\"),\"-\"),\"\")","v":""},{"$f":"IF(P_20号3様式1!AA59<> \"\",IF(P_20号3様式1!AA59<> \"-\",IF(VALUE(FIXED(P_20号3様式1!AA59,0,TRUE))<>P_20号3様式1!AA59,RIGHT(FIXED(P_20号3様式1!AA59,3,FALSE),4),\"\"),\"\"),\"\")","v":""}]
[{"$f":"IF(P_20号3様式1!C60=\"\",\"\",P_20号3様式1!C60)","v":"いちき串木野市"},{"$f":"IF(P_20号3様式1!AE60<> \"\",TEXT(INT(P_20号3様式1!AE60),\"#,##0\"),\"\")","v":"1"},{"$f":"IF(P_20号3様式1!AE60= \"\",\"\",IF(VALUE(FIXED(P_20号3様式1!AE60,0,TRUE))<>P_20号3様式1!AE60,RIGHT(FIXED(P_20号3様式1!AE60,3,FALSE),4),\"\"))","v":".000"},{"$f":"IF(P_20号3様式1!F60<> \"\",IF(P_20号3様式1!F60<> \"-\",TEXT(INT(P_20号3様式1!F60),\"#,##0\"),\"-\"),\"\")","v":"1"},{"$f":"IF(P_20号3様式1!F60<> \"\",IF(P_20号3様式1!F60<> \"-\",IF(VALUE(FIXED(P_20号3様式1!F60,0,TRUE))<>P_20号3様式1!F60,RIGHT(FIXED(P_20号3様式1!F60,3,FALSE),4),\"\"),\"\"),\"\")","v":".000"},{"$f":"IF(P_20号3様式1!I60<> \"\",IF(P_20号3様式1!I60<> \"-\",TEXT(INT(P_20号3様式1!I60),\"#,##0\"),\"-\"),\"\")","v":""},{"$f":"IF(P_20号3様式1!I60<> \"\",IF(P_20号3様式1!I60<> \"-\",IF(VALUE(FIXED(P_20号3様式1!I60,0,TRUE))<>P_20号3様式1!I60,RIGHT(FIXED(P_20号3様式1!I60,3,FALSE),4),\"\"),\"\"),\"\")","v":""},{"$f":"IF(P_20号3様式1!L60<> \"\",IF(P_20号3様式1!L60<> \"-\",TEXT(INT(P_20号3様式1!L60),\"#,##0\"),\"-\"),\"\")","v":""},{"$f":"IF(P_20号3様式1!L60<> \"\",IF(P_20号3様式1!L60<> \"-\",IF(VALUE(FIXED(P_20号3様式1!L60,0,TRUE))<>P_20号3様式1!L60,RIGHT(FIXED(P_20号3様式1!L60,3,FALSE),4),\"\"),\"\"),\"\")","v":""},{"$f":"IF(P_20号3様式1!O60<> \"\",IF(P_20号3様式1!O60<> \"-\",TEXT(INT(P_20号3様式1!O60),\"#,##0\"),\"-\"),\"\")","v":""},{"$f":"IF(P_20号3様式1!O60<> \"\",IF(P_20号3様式1!O60<> \"-\",IF(VALUE(FIXED(P_20号3様式1!O60,0,TRUE))<>P_20号3様式1!O60,RIGHT(FIXED(P_20号3様式1!O60,3,FALSE),4),\"\"),\"\"),\"\")","v":""},{"$f":"IF(P_20号3様式1!R60<> \"\",IF(P_20号3様式1!R60<> \"-\",TEXT(INT(P_20号3様式1!R60),\"#,##0\"),\"-\"),\"\")","v":""},{"$f":"IF(P_20号3様式1!R60<> \"\",IF(P_20号3様式1!R60<> \"-\",IF(VALUE(FIXED(P_20号3様式1!R60,0,TRUE))<>P_20号3様式1!R60,RIGHT(FIXED(P_20号3様式1!R60,3,FALSE),4),\"\"),\"\"),\"\")","v":""},{"$f":"IF(P_20号3様式1!U60<> \"\",IF(P_20号3様式1!U60<> \"-\",TEXT(INT(P_20号3様式1!U60),\"#,##0\"),\"-\"),\"\")","v":""},{"$f":"IF(P_20号3様式1!U60<> \"\",IF(P_20号3様式1!U60<> \"-\",IF(VALUE(FIXED(P_20号3様式1!U60,0,TRUE))<>P_20号3様式1!U60,RIGHT(FIXED(P_20号3様式1!U60,3,FALSE),4),\"\"),\"\"),\"\")","v":""},{"$f":"IF(P_20号3様式1!X60<> \"\",IF(P_20号3様式1!X60<> \"-\",TEXT(INT(P_20号3様式1!X60),\"#,##0\"),\"-\"),\"\")","v":""},{"$f":"IF(P_20号3様式1!X60<> \"\",IF(P_20号3様式1!X60<> \"-\",IF(VALUE(FIXED(P_20号3様式1!X60,0,TRUE))<>P_20号3様式1!X60,RIGHT(FIXED(P_20号3様式1!X60,3,FALSE),4),\"\"),\"\"),\"\")","v":""},{"$f":"IF(P_20号3様式1!AA60<> \"\",IF(P_20号3様式1!AA60<> \"-\",TEXT(INT(P_20号3様式1!AA60),\"#,##0\"),\"-\"),\"\")","v":""},{"$f":"IF(P_20号3様式1!AA60<> \"\",IF(P_20号3様式1!AA60<> \"-\",IF(VALUE(FIXED(P_20号3様式1!AA60,0,TRUE))<>P_20号3様式1!AA60,RIGHT(FIXED(P_20号3様式1!AA60,3,FALSE),4),\"\"),\"\"),\"\")","v":""}]
[{"$f":"IF(P_20号3様式1!C61=\"\",\"\",P_20号3様式1!C61)","v":"南さつま市"},{"$f":"IF(P_20号3様式1!AE61<> \"\",TEXT(INT(P_20号3様式1!AE61),\"#,##0\"),\"\")","v":"4"},{"$f":"IF(P_20号3様式1!AE61= \"\",\"\",IF(VALUE(FIXED(P_20号3様式1!AE61,0,TRUE))<>P_20号3様式1!AE61,RIGHT(FIXED(P_20号3様式1!AE61,3,FALSE),4),\"\"))","v":".000"},{"$f":"IF(P_20号3様式1!F61<> \"\",IF(P_20号3様式1!F61<> \"-\",TEXT(INT(P_20号3様式1!F61),\"#,##0\"),\"-\"),\"\")","v":"4"},{"$f":"IF(P_20号3様式1!F61<> \"\",IF(P_20号3様式1!F61<> \"-\",IF(VALUE(FIXED(P_20号3様式1!F61,0,TRUE))<>P_20号3様式1!F61,RIGHT(FIXED(P_20号3様式1!F61,3,FALSE),4),\"\"),\"\"),\"\")","v":".000"},{"$f":"IF(P_20号3様式1!I61<> \"\",IF(P_20号3様式1!I61<> \"-\",TEXT(INT(P_20号3様式1!I61),\"#,##0\"),\"-\"),\"\")","v":""},{"$f":"IF(P_20号3様式1!I61<> \"\",IF(P_20号3様式1!I61<> \"-\",IF(VALUE(FIXED(P_20号3様式1!I61,0,TRUE))<>P_20号3様式1!I61,RIGHT(FIXED(P_20号3様式1!I61,3,FALSE),4),\"\"),\"\"),\"\")","v":""},{"$f":"IF(P_20号3様式1!L61<> \"\",IF(P_20号3様式1!L61<> \"-\",TEXT(INT(P_20号3様式1!L61),\"#,##0\"),\"-\"),\"\")","v":""},{"$f":"IF(P_20号3様式1!L61<> \"\",IF(P_20号3様式1!L61<> \"-\",IF(VALUE(FIXED(P_20号3様式1!L61,0,TRUE))<>P_20号3様式1!L61,RIGHT(FIXED(P_20号3様式1!L61,3,FALSE),4),\"\"),\"\"),\"\")","v":""},{"$f":"IF(P_20号3様式1!O61<> \"\",IF(P_20号3様式1!O61<> \"-\",TEXT(INT(P_20号3様式1!O61),\"#,##0\"),\"-\"),\"\")","v":""},{"$f":"IF(P_20号3様式1!O61<> \"\",IF(P_20号3様式1!O61<> \"-\",IF(VALUE(FIXED(P_20号3様式1!O61,0,TRUE))<>P_20号3様式1!O61,RIGHT(FIXED(P_20号3様式1!O61,3,FALSE),4),\"\"),\"\"),\"\")","v":""},{"$f":"IF(P_20号3様式1!R61<> \"\",IF(P_20号3様式1!R61<> \"-\",TEXT(INT(P_20号3様式1!R61),\"#,##0\"),\"-\"),\"\")","v":""},{"$f":"IF(P_20号3様式1!R61<> \"\",IF(P_20号3様式1!R61<> \"-\",IF(VALUE(FIXED(P_20号3様式1!R61,0,TRUE))<>P_20号3様式1!R61,RIGHT(FIXED(P_20号3様式1!R61,3,FALSE),4),\"\"),\"\"),\"\")","v":""},{"$f":"IF(P_20号3様式1!U61<> \"\",IF(P_20号3様式1!U61<> \"-\",TEXT(INT(P_20号3様式1!U61),\"#,##0\"),\"-\"),\"\")","v":""},{"$f":"IF(P_20号3様式1!U61<> \"\",IF(P_20号3様式1!U61<> \"-\",IF(VALUE(FIXED(P_20号3様式1!U61,0,TRUE))<>P_20号3様式1!U61,RIGHT(FIXED(P_20号3様式1!U61,3,FALSE),4),\"\"),\"\"),\"\")","v":""},{"$f":"IF(P_20号3様式1!X61<> \"\",IF(P_20号3様式1!X61<> \"-\",TEXT(INT(P_20号3様式1!X61),\"#,##0\"),\"-\"),\"\")","v":""},{"$f":"IF(P_20号3様式1!X61<> \"\",IF(P_20号3様式1!X61<> \"-\",IF(VALUE(FIXED(P_20号3様式1!X61,0,TRUE))<>P_20号3様式1!X61,RIGHT(FIXED(P_20号3様式1!X61,3,FALSE),4),\"\"),\"\"),\"\")","v":""},{"$f":"IF(P_20号3様式1!AA61<> \"\",IF(P_20号3様式1!AA61<> \"-\",TEXT(INT(P_20号3様式1!AA61),\"#,##0\"),\"-\"),\"\")","v":""},{"$f":"IF(P_20号3様式1!AA61<> \"\",IF(P_20号3様式1!AA61<> \"-\",IF(VALUE(FIXED(P_20号3様式1!AA61,0,TRUE))<>P_20号3様式1!AA61,RIGHT(FIXED(P_20号3様式1!AA61,3,FALSE),4),\"\"),\"\"),\"\")","v":""}]
[{"$f":"IF(P_20号3様式1!C62=\"\",\"\",P_20号3様式1!C62)","v":"志布志市"},{"$f":"IF(P_20号3様式1!AE62<> \"\",TEXT(INT(P_20号3様式1!AE62),\"#,##0\"),\"\")","v":"3"},{"$f":"IF(P_20号3様式1!AE62= \"\",\"\",IF(VALUE(FIXED(P_20号3様式1!AE62,0,TRUE))<>P_20号3様式1!AE62,RIGHT(FIXED(P_20号3様式1!AE62,3,FALSE),4),\"\"))","v":".000"},{"$f":"IF(P_20号3様式1!F62<> \"\",IF(P_20号3様式1!F62<> \"-\",TEXT(INT(P_20号3様式1!F62),\"#,##0\"),\"-\"),\"\")","v":"3"},{"$f":"IF(P_20号3様式1!F62<> \"\",IF(P_20号3様式1!F62<> \"-\",IF(VALUE(FIXED(P_20号3様式1!F62,0,TRUE))<>P_20号3様式1!F62,RIGHT(FIXED(P_20号3様式1!F62,3,FALSE),4),\"\"),\"\"),\"\")","v":".000"},{"$f":"IF(P_20号3様式1!I62<> \"\",IF(P_20号3様式1!I62<> \"-\",TEXT(INT(P_20号3様式1!I62),\"#,##0\"),\"-\"),\"\")","v":""},{"$f":"IF(P_20号3様式1!I62<> \"\",IF(P_20号3様式1!I62<> \"-\",IF(VALUE(FIXED(P_20号3様式1!I62,0,TRUE))<>P_20号3様式1!I62,RIGHT(FIXED(P_20号3様式1!I62,3,FALSE),4),\"\"),\"\"),\"\")","v":""},{"$f":"IF(P_20号3様式1!L62<> \"\",IF(P_20号3様式1!L62<> \"-\",TEXT(INT(P_20号3様式1!L62),\"#,##0\"),\"-\"),\"\")","v":""},{"$f":"IF(P_20号3様式1!L62<> \"\",IF(P_20号3様式1!L62<> \"-\",IF(VALUE(FIXED(P_20号3様式1!L62,0,TRUE))<>P_20号3様式1!L62,RIGHT(FIXED(P_20号3様式1!L62,3,FALSE),4),\"\"),\"\"),\"\")","v":""},{"$f":"IF(P_20号3様式1!O62<> \"\",IF(P_20号3様式1!O62<> \"-\",TEXT(INT(P_20号3様式1!O62),\"#,##0\"),\"-\"),\"\")","v":""},{"$f":"IF(P_20号3様式1!O62<> \"\",IF(P_20号3様式1!O62<> \"-\",IF(VALUE(FIXED(P_20号3様式1!O62,0,TRUE))<>P_20号3様式1!O62,RIGHT(FIXED(P_20号3様式1!O62,3,FALSE),4),\"\"),\"\"),\"\")","v":""},{"$f":"IF(P_20号3様式1!R62<> \"\",IF(P_20号3様式1!R62<> \"-\",TEXT(INT(P_20号3様式1!R62),\"#,##0\"),\"-\"),\"\")","v":""},{"$f":"IF(P_20号3様式1!R62<> \"\",IF(P_20号3様式1!R62<> \"-\",IF(VALUE(FIXED(P_20号3様式1!R62,0,TRUE))<>P_20号3様式1!R62,RIGHT(FIXED(P_20号3様式1!R62,3,FALSE),4),\"\"),\"\"),\"\")","v":""},{"$f":"IF(P_20号3様式1!U62<> \"\",IF(P_20号3様式1!U62<> \"-\",TEXT(INT(P_20号3様式1!U62),\"#,##0\"),\"-\"),\"\")","v":""},{"$f":"IF(P_20号3様式1!U62<> \"\",IF(P_20号3様式1!U62<> \"-\",IF(VALUE(FIXED(P_20号3様式1!U62,0,TRUE))<>P_20号3様式1!U62,RIGHT(FIXED(P_20号3様式1!U62,3,FALSE),4),\"\"),\"\"),\"\")","v":""},{"$f":"IF(P_20号3様式1!X62<> \"\",IF(P_20号3様式1!X62<> \"-\",TEXT(INT(P_20号3様式1!X62),\"#,##0\"),\"-\"),\"\")","v":""},{"$f":"IF(P_20号3様式1!X62<> \"\",IF(P_20号3様式1!X62<> \"-\",IF(VALUE(FIXED(P_20号3様式1!X62,0,TRUE))<>P_20号3様式1!X62,RIGHT(FIXED(P_20号3様式1!X62,3,FALSE),4),\"\"),\"\"),\"\")","v":""},{"$f":"IF(P_20号3様式1!AA62<> \"\",IF(P_20号3様式1!AA62<> \"-\",TEXT(INT(P_20号3様式1!AA62),\"#,##0\"),\"-\"),\"\")","v":""},{"$f":"IF(P_20号3様式1!AA62<> \"\",IF(P_20号3様式1!AA62<> \"-\",IF(VALUE(FIXED(P_20号3様式1!AA62,0,TRUE))<>P_20号3様式1!AA62,RIGHT(FIXED(P_20号3様式1!AA62,3,FALSE),4),\"\"),\"\"),\"\")","v":""}]
[{"$f":"IF(P_20号3様式1!C63=\"\",\"\",P_20号3様式1!C63)","v":"奄美市"},{"$f":"IF(P_20号3様式1!AE63<> \"\",TEXT(INT(P_20号3様式1!AE63),\"#,##0\"),\"\")","v":"1"},{"$f":"IF(P_20号3様式1!AE63= \"\",\"\",IF(VALUE(FIXED(P_20号3様式1!AE63,0,TRUE))<>P_20号3様式1!AE63,RIGHT(FIXED(P_20号3様式1!AE63,3,FALSE),4),\"\"))","v":".000"},{"$f":"IF(P_20号3様式1!F63<> \"\",IF(P_20号3様式1!F63<> \"-\",TEXT(INT(P_20号3様式1!F63),\"#,##0\"),\"-\"),\"\")","v":"1"},{"$f":"IF(P_20号3様式1!F63<> \"\",IF(P_20号3様式1!F63<> \"-\",IF(VALUE(FIXED(P_20号3様式1!F63,0,TRUE))<>P_20号3様式1!F63,RIGHT(FIXED(P_20号3様式1!F63,3,FALSE),4),\"\"),\"\"),\"\")","v":".000"},{"$f":"IF(P_20号3様式1!I63<> \"\",IF(P_20号3様式1!I63<> \"-\",TEXT(INT(P_20号3様式1!I63),\"#,##0\"),\"-\"),\"\")","v":""},{"$f":"IF(P_20号3様式1!I63<> \"\",IF(P_20号3様式1!I63<> \"-\",IF(VALUE(FIXED(P_20号3様式1!I63,0,TRUE))<>P_20号3様式1!I63,RIGHT(FIXED(P_20号3様式1!I63,3,FALSE),4),\"\"),\"\"),\"\")","v":""},{"$f":"IF(P_20号3様式1!L63<> \"\",IF(P_20号3様式1!L63<> \"-\",TEXT(INT(P_20号3様式1!L63),\"#,##0\"),\"-\"),\"\")","v":""},{"$f":"IF(P_20号3様式1!L63<> \"\",IF(P_20号3様式1!L63<> \"-\",IF(VALUE(FIXED(P_20号3様式1!L63,0,TRUE))<>P_20号3様式1!L63,RIGHT(FIXED(P_20号3様式1!L63,3,FALSE),4),\"\"),\"\"),\"\")","v":""},{"$f":"IF(P_20号3様式1!O63<> \"\",IF(P_20号3様式1!O63<> \"-\",TEXT(INT(P_20号3様式1!O63),\"#,##0\"),\"-\"),\"\")","v":""},{"$f":"IF(P_20号3様式1!O63<> \"\",IF(P_20号3様式1!O63<> \"-\",IF(VALUE(FIXED(P_20号3様式1!O63,0,TRUE))<>P_20号3様式1!O63,RIGHT(FIXED(P_20号3様式1!O63,3,FALSE),4),\"\"),\"\"),\"\")","v":""},{"$f":"IF(P_20号3様式1!R63<> \"\",IF(P_20号3様式1!R63<> \"-\",TEXT(INT(P_20号3様式1!R63),\"#,##0\"),\"-\"),\"\")","v":""},{"$f":"IF(P_20号3様式1!R63<> \"\",IF(P_20号3様式1!R63<> \"-\",IF(VALUE(FIXED(P_20号3様式1!R63,0,TRUE))<>P_20号3様式1!R63,RIGHT(FIXED(P_20号3様式1!R63,3,FALSE),4),\"\"),\"\"),\"\")","v":""},{"$f":"IF(P_20号3様式1!U63<> \"\",IF(P_20号3様式1!U63<> \"-\",TEXT(INT(P_20号3様式1!U63),\"#,##0\"),\"-\"),\"\")","v":""},{"$f":"IF(P_20号3様式1!U63<> \"\",IF(P_20号3様式1!U63<> \"-\",IF(VALUE(FIXED(P_20号3様式1!U63,0,TRUE))<>P_20号3様式1!U63,RIGHT(FIXED(P_20号3様式1!U63,3,FALSE),4),\"\"),\"\"),\"\")","v":""},{"$f":"IF(P_20号3様式1!X63<> \"\",IF(P_20号3様式1!X63<> \"-\",TEXT(INT(P_20号3様式1!X63),\"#,##0\"),\"-\"),\"\")","v":""},{"$f":"IF(P_20号3様式1!X63<> \"\",IF(P_20号3様式1!X63<> \"-\",IF(VALUE(FIXED(P_20号3様式1!X63,0,TRUE))<>P_20号3様式1!X63,RIGHT(FIXED(P_20号3様式1!X63,3,FALSE),4),\"\"),\"\"),\"\")","v":""},{"$f":"IF(P_20号3様式1!AA63<> \"\",IF(P_20号3様式1!AA63<> \"-\",TEXT(INT(P_20号3様式1!AA63),\"#,##0\"),\"-\"),\"\")","v":""},{"$f":"IF(P_20号3様式1!AA63<> \"\",IF(P_20号3様式1!AA63<> \"-\",IF(VALUE(FIXED(P_20号3様式1!AA63,0,TRUE))<>P_20号3様式1!AA63,RIGHT(FIXED(P_20号3様式1!AA63,3,FALSE),4),\"\"),\"\"),\"\")","v":""}]
[{"$f":"IF(P_20号3様式1!C64=\"\",\"\",P_20号3様式1!C64)","v":"南九州市"},{"$f":"IF(P_20号3様式1!AE64<> \"\",TEXT(INT(P_20号3様式1!AE64),\"#,##0\"),\"\")","v":"1"},{"$f":"IF(P_20号3様式1!AE64= \"\",\"\",IF(VALUE(FIXED(P_20号3様式1!AE64,0,TRUE))<>P_20号3様式1!AE64,RIGHT(FIXED(P_20号3様式1!AE64,3,FALSE),4),\"\"))","v":".000"},{"$f":"IF(P_20号3様式1!F64<> \"\",IF(P_20号3様式1!F64<> \"-\",TEXT(INT(P_20号3様式1!F64),\"#,##0\"),\"-\"),\"\")","v":"1"},{"$f":"IF(P_20号3様式1!F64<> \"\",IF(P_20号3様式1!F64<> \"-\",IF(VALUE(FIXED(P_20号3様式1!F64,0,TRUE))<>P_20号3様式1!F64,RIGHT(FIXED(P_20号3様式1!F64,3,FALSE),4),\"\"),\"\"),\"\")","v":".000"},{"$f":"IF(P_20号3様式1!I64<> \"\",IF(P_20号3様式1!I64<> \"-\",TEXT(INT(P_20号3様式1!I64),\"#,##0\"),\"-\"),\"\")","v":""},{"$f":"IF(P_20号3様式1!I64<> \"\",IF(P_20号3様式1!I64<> \"-\",IF(VALUE(FIXED(P_20号3様式1!I64,0,TRUE))<>P_20号3様式1!I64,RIGHT(FIXED(P_20号3様式1!I64,3,FALSE),4),\"\"),\"\"),\"\")","v":""},{"$f":"IF(P_20号3様式1!L64<> \"\",IF(P_20号3様式1!L64<> \"-\",TEXT(INT(P_20号3様式1!L64),\"#,##0\"),\"-\"),\"\")","v":""},{"$f":"IF(P_20号3様式1!L64<> \"\",IF(P_20号3様式1!L64<> \"-\",IF(VALUE(FIXED(P_20号3様式1!L64,0,TRUE))<>P_20号3様式1!L64,RIGHT(FIXED(P_20号3様式1!L64,3,FALSE),4),\"\"),\"\"),\"\")","v":""},{"$f":"IF(P_20号3様式1!O64<> \"\",IF(P_20号3様式1!O64<> \"-\",TEXT(INT(P_20号3様式1!O64),\"#,##0\"),\"-\"),\"\")","v":""},{"$f":"IF(P_20号3様式1!O64<> \"\",IF(P_20号3様式1!O64<> \"-\",IF(VALUE(FIXED(P_20号3様式1!O64,0,TRUE))<>P_20号3様式1!O64,RIGHT(FIXED(P_20号3様式1!O64,3,FALSE),4),\"\"),\"\"),\"\")","v":""},{"$f":"IF(P_20号3様式1!R64<> \"\",IF(P_20号3様式1!R64<> \"-\",TEXT(INT(P_20号3様式1!R64),\"#,##0\"),\"-\"),\"\")","v":""},{"$f":"IF(P_20号3様式1!R64<> \"\",IF(P_20号3様式1!R64<> \"-\",IF(VALUE(FIXED(P_20号3様式1!R64,0,TRUE))<>P_20号3様式1!R64,RIGHT(FIXED(P_20号3様式1!R64,3,FALSE),4),\"\"),\"\"),\"\")","v":""},{"$f":"IF(P_20号3様式1!U64<> \"\",IF(P_20号3様式1!U64<> \"-\",TEXT(INT(P_20号3様式1!U64),\"#,##0\"),\"-\"),\"\")","v":""},{"$f":"IF(P_20号3様式1!U64<> \"\",IF(P_20号3様式1!U64<> \"-\",IF(VALUE(FIXED(P_20号3様式1!U64,0,TRUE))<>P_20号3様式1!U64,RIGHT(FIXED(P_20号3様式1!U64,3,FALSE),4),\"\"),\"\"),\"\")","v":""},{"$f":"IF(P_20号3様式1!X64<> \"\",IF(P_20号3様式1!X64<> \"-\",TEXT(INT(P_20号3様式1!X64),\"#,##0\"),\"-\"),\"\")","v":""},{"$f":"IF(P_20号3様式1!X64<> \"\",IF(P_20号3様式1!X64<> \"-\",IF(VALUE(FIXED(P_20号3様式1!X64,0,TRUE))<>P_20号3様式1!X64,RIGHT(FIXED(P_20号3様式1!X64,3,FALSE),4),\"\"),\"\"),\"\")","v":""},{"$f":"IF(P_20号3様式1!AA64<> \"\",IF(P_20号3様式1!AA64<> \"-\",TEXT(INT(P_20号3様式1!AA64),\"#,##0\"),\"-\"),\"\")","v":""},{"$f":"IF(P_20号3様式1!AA64<> \"\",IF(P_20号3様式1!AA64<> \"-\",IF(VALUE(FIXED(P_20号3様式1!AA64,0,TRUE))<>P_20号3様式1!AA64,RIGHT(FIXED(P_20号3様式1!AA64,3,FALSE),4),\"\"),\"\"),\"\")","v":""}]
[{"$f":"IF(P_20号3様式1!C65=\"\",\"\",P_20号3様式1!C65)","v":"伊佐市"},{"$f":"IF(P_20号3様式1!AE65<> \"\",TEXT(INT(P_20号3様式1!AE65),\"#,##0\"),\"\")","v":"1"},{"$f":"IF(P_20号3様式1!AE65= \"\",\"\",IF(VALUE(FIXED(P_20号3様式1!AE65,0,TRUE))<>P_20号3様式1!AE65,RIGHT(FIXED(P_20号3様式1!AE65,3,FALSE),4),\"\"))","v":".000"},{"$f":"IF(P_20号3様式1!F65<> \"\",IF(P_20号3様式1!F65<> \"-\",TEXT(INT(P_20号3様式1!F65),\"#,##0\"),\"-\"),\"\")","v":"1"},{"$f":"IF(P_20号3様式1!F65<> \"\",IF(P_20号3様式1!F65<> \"-\",IF(VALUE(FIXED(P_20号3様式1!F65,0,TRUE))<>P_20号3様式1!F65,RIGHT(FIXED(P_20号3様式1!F65,3,FALSE),4),\"\"),\"\"),\"\")","v":".000"},{"$f":"IF(P_20号3様式1!I65<> \"\",IF(P_20号3様式1!I65<> \"-\",TEXT(INT(P_20号3様式1!I65),\"#,##0\"),\"-\"),\"\")","v":""},{"$f":"IF(P_20号3様式1!I65<> \"\",IF(P_20号3様式1!I65<> \"-\",IF(VALUE(FIXED(P_20号3様式1!I65,0,TRUE))<>P_20号3様式1!I65,RIGHT(FIXED(P_20号3様式1!I65,3,FALSE),4),\"\"),\"\"),\"\")","v":""},{"$f":"IF(P_20号3様式1!L65<> \"\",IF(P_20号3様式1!L65<> \"-\",TEXT(INT(P_20号3様式1!L65),\"#,##0\"),\"-\"),\"\")","v":""},{"$f":"IF(P_20号3様式1!L65<> \"\",IF(P_20号3様式1!L65<> \"-\",IF(VALUE(FIXED(P_20号3様式1!L65,0,TRUE))<>P_20号3様式1!L65,RIGHT(FIXED(P_20号3様式1!L65,3,FALSE),4),\"\"),\"\"),\"\")","v":""},{"$f":"IF(P_20号3様式1!O65<> \"\",IF(P_20号3様式1!O65<> \"-\",TEXT(INT(P_20号3様式1!O65),\"#,##0\"),\"-\"),\"\")","v":""},{"$f":"IF(P_20号3様式1!O65<> \"\",IF(P_20号3様式1!O65<> \"-\",IF(VALUE(FIXED(P_20号3様式1!O65,0,TRUE))<>P_20号3様式1!O65,RIGHT(FIXED(P_20号3様式1!O65,3,FALSE),4),\"\"),\"\"),\"\")","v":""},{"$f":"IF(P_20号3様式1!R65<> \"\",IF(P_20号3様式1!R65<> \"-\",TEXT(INT(P_20号3様式1!R65),\"#,##0\"),\"-\"),\"\")","v":""},{"$f":"IF(P_20号3様式1!R65<> \"\",IF(P_20号3様式1!R65<> \"-\",IF(VALUE(FIXED(P_20号3様式1!R65,0,TRUE))<>P_20号3様式1!R65,RIGHT(FIXED(P_20号3様式1!R65,3,FALSE),4),\"\"),\"\"),\"\")","v":""},{"$f":"IF(P_20号3様式1!U65<> \"\",IF(P_20号3様式1!U65<> \"-\",TEXT(INT(P_20号3様式1!U65),\"#,##0\"),\"-\"),\"\")","v":""},{"$f":"IF(P_20号3様式1!U65<> \"\",IF(P_20号3様式1!U65<> \"-\",IF(VALUE(FIXED(P_20号3様式1!U65,0,TRUE))<>P_20号3様式1!U65,RIGHT(FIXED(P_20号3様式1!U65,3,FALSE),4),\"\"),\"\"),\"\")","v":""},{"$f":"IF(P_20号3様式1!X65<> \"\",IF(P_20号3様式1!X65<> \"-\",TEXT(INT(P_20号3様式1!X65),\"#,##0\"),\"-\"),\"\")","v":""},{"$f":"IF(P_20号3様式1!X65<> \"\",IF(P_20号3様式1!X65<> \"-\",IF(VALUE(FIXED(P_20号3様式1!X65,0,TRUE))<>P_20号3様式1!X65,RIGHT(FIXED(P_20号3様式1!X65,3,FALSE),4),\"\"),\"\"),\"\")","v":""},{"$f":"IF(P_20号3様式1!AA65<> \"\",IF(P_20号3様式1!AA65<> \"-\",TEXT(INT(P_20号3様式1!AA65),\"#,##0\"),\"-\"),\"\")","v":""},{"$f":"IF(P_20号3様式1!AA65<> \"\",IF(P_20号3様式1!AA65<> \"-\",IF(VALUE(FIXED(P_20号3様式1!AA65,0,TRUE))<>P_20号3様式1!AA65,RIGHT(FIXED(P_20号3様式1!AA65,3,FALSE),4),\"\"),\"\"),\"\")","v":""}]
[{"$f":"IF(P_20号3様式1!C66=\"\",\"\",P_20号3様式1!C66)","v":"姶良市"},{"$f":"IF(P_20号3様式1!AE66<> \"\",TEXT(INT(P_20号3様式1!AE66),\"#,##0\"),\"\")","v":"7"},{"$f":"IF(P_20号3様式1!AE66= \"\",\"\",IF(VALUE(FIXED(P_20号3様式1!AE66,0,TRUE))<>P_20号3様式1!AE66,RIGHT(FIXED(P_20号3様式1!AE66,3,FALSE),4),\"\"))","v":".875"},{"$f":"IF(P_20号3様式1!F66<> \"\",IF(P_20号3様式1!F66<> \"-\",TEXT(INT(P_20号3様式1!F66),\"#,##0\"),\"-\"),\"\")","v":"7"},{"$f":"IF(P_20号3様式1!F66<> \"\",IF(P_20号3様式1!F66<> \"-\",IF(VALUE(FIXED(P_20号3様式1!F66,0,TRUE))<>P_20号3様式1!F66,RIGHT(FIXED(P_20号3様式1!F66,3,FALSE),4),\"\"),\"\"),\"\")","v":".875"},{"$f":"IF(P_20号3様式1!I66<> \"\",IF(P_20号3様式1!I66<> \"-\",TEXT(INT(P_20号3様式1!I66),\"#,##0\"),\"-\"),\"\")","v":""},{"$f":"IF(P_20号3様式1!I66<> \"\",IF(P_20号3様式1!I66<> \"-\",IF(VALUE(FIXED(P_20号3様式1!I66,0,TRUE))<>P_20号3様式1!I66,RIGHT(FIXED(P_20号3様式1!I66,3,FALSE),4),\"\"),\"\"),\"\")","v":""},{"$f":"IF(P_20号3様式1!L66<> \"\",IF(P_20号3様式1!L66<> \"-\",TEXT(INT(P_20号3様式1!L66),\"#,##0\"),\"-\"),\"\")","v":""},{"$f":"IF(P_20号3様式1!L66<> \"\",IF(P_20号3様式1!L66<> \"-\",IF(VALUE(FIXED(P_20号3様式1!L66,0,TRUE))<>P_20号3様式1!L66,RIGHT(FIXED(P_20号3様式1!L66,3,FALSE),4),\"\"),\"\"),\"\")","v":""},{"$f":"IF(P_20号3様式1!O66<> \"\",IF(P_20号3様式1!O66<> \"-\",TEXT(INT(P_20号3様式1!O66),\"#,##0\"),\"-\"),\"\")","v":""},{"$f":"IF(P_20号3様式1!O66<> \"\",IF(P_20号3様式1!O66<> \"-\",IF(VALUE(FIXED(P_20号3様式1!O66,0,TRUE))<>P_20号3様式1!O66,RIGHT(FIXED(P_20号3様式1!O66,3,FALSE),4),\"\"),\"\"),\"\")","v":""},{"$f":"IF(P_20号3様式1!R66<> \"\",IF(P_20号3様式1!R66<> \"-\",TEXT(INT(P_20号3様式1!R66),\"#,##0\"),\"-\"),\"\")","v":""},{"$f":"IF(P_20号3様式1!R66<> \"\",IF(P_20号3様式1!R66<> \"-\",IF(VALUE(FIXED(P_20号3様式1!R66,0,TRUE))<>P_20号3様式1!R66,RIGHT(FIXED(P_20号3様式1!R66,3,FALSE),4),\"\"),\"\"),\"\")","v":""},{"$f":"IF(P_20号3様式1!U66<> \"\",IF(P_20号3様式1!U66<> \"-\",TEXT(INT(P_20号3様式1!U66),\"#,##0\"),\"-\"),\"\")","v":""},{"$f":"IF(P_20号3様式1!U66<> \"\",IF(P_20号3様式1!U66<> \"-\",IF(VALUE(FIXED(P_20号3様式1!U66,0,TRUE))<>P_20号3様式1!U66,RIGHT(FIXED(P_20号3様式1!U66,3,FALSE),4),\"\"),\"\"),\"\")","v":""},{"$f":"IF(P_20号3様式1!X66<> \"\",IF(P_20号3様式1!X66<> \"-\",TEXT(INT(P_20号3様式1!X66),\"#,##0\"),\"-\"),\"\")","v":""},{"$f":"IF(P_20号3様式1!X66<> \"\",IF(P_20号3様式1!X66<> \"-\",IF(VALUE(FIXED(P_20号3様式1!X66,0,TRUE))<>P_20号3様式1!X66,RIGHT(FIXED(P_20号3様式1!X66,3,FALSE),4),\"\"),\"\"),\"\")","v":""},{"$f":"IF(P_20号3様式1!AA66<> \"\",IF(P_20号3様式1!AA66<> \"-\",TEXT(INT(P_20号3様式1!AA66),\"#,##0\"),\"-\"),\"\")","v":""},{"$f":"IF(P_20号3様式1!AA66<> \"\",IF(P_20号3様式1!AA66<> \"-\",IF(VALUE(FIXED(P_20号3様式1!AA66,0,TRUE))<>P_20号3様式1!AA66,RIGHT(FIXED(P_20号3様式1!AA66,3,FALSE),4),\"\"),\"\"),\"\")","v":""}]
[{"$f":"IF(P_20号3様式1!C67=\"\",\"\",P_20号3様式1!C67)","v":"三島村"},{"$f":"IF(P_20号3様式1!AE67<> \"\",TEXT(INT(P_20号3様式1!AE67),\"#,##0\"),\"\")","v":"1"},{"$f":"IF(P_20号3様式1!AE67= \"\",\"\",IF(VALUE(FIXED(P_20号3様式1!AE67,0,TRUE))<>P_20号3様式1!AE67,RIGHT(FIXED(P_20号3様式1!AE67,3,FALSE),4),\"\"))","v":".000"},{"$f":"IF(P_20号3様式1!F67<> \"\",IF(P_20号3様式1!F67<> \"-\",TEXT(INT(P_20号3様式1!F67),\"#,##0\"),\"-\"),\"\")","v":"1"},{"$f":"IF(P_20号3様式1!F67<> \"\",IF(P_20号3様式1!F67<> \"-\",IF(VALUE(FIXED(P_20号3様式1!F67,0,TRUE))<>P_20号3様式1!F67,RIGHT(FIXED(P_20号3様式1!F67,3,FALSE),4),\"\"),\"\"),\"\")","v":".000"},{"$f":"IF(P_20号3様式1!I67<> \"\",IF(P_20号3様式1!I67<> \"-\",TEXT(INT(P_20号3様式1!I67),\"#,##0\"),\"-\"),\"\")","v":""},{"$f":"IF(P_20号3様式1!I67<> \"\",IF(P_20号3様式1!I67<> \"-\",IF(VALUE(FIXED(P_20号3様式1!I67,0,TRUE))<>P_20号3様式1!I67,RIGHT(FIXED(P_20号3様式1!I67,3,FALSE),4),\"\"),\"\"),\"\")","v":""},{"$f":"IF(P_20号3様式1!L67<> \"\",IF(P_20号3様式1!L67<> \"-\",TEXT(INT(P_20号3様式1!L67),\"#,##0\"),\"-\"),\"\")","v":""},{"$f":"IF(P_20号3様式1!L67<> \"\",IF(P_20号3様式1!L67<> \"-\",IF(VALUE(FIXED(P_20号3様式1!L67,0,TRUE))<>P_20号3様式1!L67,RIGHT(FIXED(P_20号3様式1!L67,3,FALSE),4),\"\"),\"\"),\"\")","v":""},{"$f":"IF(P_20号3様式1!O67<> \"\",IF(P_20号3様式1!O67<> \"-\",TEXT(INT(P_20号3様式1!O67),\"#,##0\"),\"-\"),\"\")","v":""},{"$f":"IF(P_20号3様式1!O67<> \"\",IF(P_20号3様式1!O67<> \"-\",IF(VALUE(FIXED(P_20号3様式1!O67,0,TRUE))<>P_20号3様式1!O67,RIGHT(FIXED(P_20号3様式1!O67,3,FALSE),4),\"\"),\"\"),\"\")","v":""},{"$f":"IF(P_20号3様式1!R67<> \"\",IF(P_20号3様式1!R67<> \"-\",TEXT(INT(P_20号3様式1!R67),\"#,##0\"),\"-\"),\"\")","v":""},{"$f":"IF(P_20号3様式1!R67<> \"\",IF(P_20号3様式1!R67<> \"-\",IF(VALUE(FIXED(P_20号3様式1!R67,0,TRUE))<>P_20号3様式1!R67,RIGHT(FIXED(P_20号3様式1!R67,3,FALSE),4),\"\"),\"\"),\"\")","v":""},{"$f":"IF(P_20号3様式1!U67<> \"\",IF(P_20号3様式1!U67<> \"-\",TEXT(INT(P_20号3様式1!U67),\"#,##0\"),\"-\"),\"\")","v":""},{"$f":"IF(P_20号3様式1!U67<> \"\",IF(P_20号3様式1!U67<> \"-\",IF(VALUE(FIXED(P_20号3様式1!U67,0,TRUE))<>P_20号3様式1!U67,RIGHT(FIXED(P_20号3様式1!U67,3,FALSE),4),\"\"),\"\"),\"\")","v":""},{"$f":"IF(P_20号3様式1!X67<> \"\",IF(P_20号3様式1!X67<> \"-\",TEXT(INT(P_20号3様式1!X67),\"#,##0\"),\"-\"),\"\")","v":""},{"$f":"IF(P_20号3様式1!X67<> \"\",IF(P_20号3様式1!X67<> \"-\",IF(VALUE(FIXED(P_20号3様式1!X67,0,TRUE))<>P_20号3様式1!X67,RIGHT(FIXED(P_20号3様式1!X67,3,FALSE),4),\"\"),\"\"),\"\")","v":""},{"$f":"IF(P_20号3様式1!AA67<> \"\",IF(P_20号3様式1!AA67<> \"-\",TEXT(INT(P_20号3様式1!AA67),\"#,##0\"),\"-\"),\"\")","v":""},{"$f":"IF(P_20号3様式1!AA67<> \"\",IF(P_20号3様式1!AA67<> \"-\",IF(VALUE(FIXED(P_20号3様式1!AA67,0,TRUE))<>P_20号3様式1!AA67,RIGHT(FIXED(P_20号3様式1!AA67,3,FALSE),4),\"\"),\"\"),\"\")","v":""}]
[{"$f":"IF(P_20号3様式1!C68=\"\",\"\",P_20号3様式1!C68)","v":"十島村"},{"$f":"IF(P_20号3様式1!AE68<> \"\",TEXT(INT(P_20号3様式1!AE68),\"#,##0\"),\"\")","v":"0"},{"$f":"IF(P_20号3様式1!AE68= \"\",\"\",IF(VALUE(FIXED(P_20号3様式1!AE68,0,TRUE))<>P_20号3様式1!AE68,RIGHT(FIXED(P_20号3様式1!AE68,3,FALSE),4),\"\"))","v":".000"},{"$f":"IF(P_20号3様式1!F68<> \"\",IF(P_20号3様式1!F68<> \"-\",TEXT(INT(P_20号3様式1!F68),\"#,##0\"),\"-\"),\"\")","v":"0"},{"$f":"IF(P_20号3様式1!F68<> \"\",IF(P_20号3様式1!F68<> \"-\",IF(VALUE(FIXED(P_20号3様式1!F68,0,TRUE))<>P_20号3様式1!F68,RIGHT(FIXED(P_20号3様式1!F68,3,FALSE),4),\"\"),\"\"),\"\")","v":".000"},{"$f":"IF(P_20号3様式1!I68<> \"\",IF(P_20号3様式1!I68<> \"-\",TEXT(INT(P_20号3様式1!I68),\"#,##0\"),\"-\"),\"\")","v":""},{"$f":"IF(P_20号3様式1!I68<> \"\",IF(P_20号3様式1!I68<> \"-\",IF(VALUE(FIXED(P_20号3様式1!I68,0,TRUE))<>P_20号3様式1!I68,RIGHT(FIXED(P_20号3様式1!I68,3,FALSE),4),\"\"),\"\"),\"\")","v":""},{"$f":"IF(P_20号3様式1!L68<> \"\",IF(P_20号3様式1!L68<> \"-\",TEXT(INT(P_20号3様式1!L68),\"#,##0\"),\"-\"),\"\")","v":""},{"$f":"IF(P_20号3様式1!L68<> \"\",IF(P_20号3様式1!L68<> \"-\",IF(VALUE(FIXED(P_20号3様式1!L68,0,TRUE))<>P_20号3様式1!L68,RIGHT(FIXED(P_20号3様式1!L68,3,FALSE),4),\"\"),\"\"),\"\")","v":""},{"$f":"IF(P_20号3様式1!O68<> \"\",IF(P_20号3様式1!O68<> \"-\",TEXT(INT(P_20号3様式1!O68),\"#,##0\"),\"-\"),\"\")","v":""},{"$f":"IF(P_20号3様式1!O68<> \"\",IF(P_20号3様式1!O68<> \"-\",IF(VALUE(FIXED(P_20号3様式1!O68,0,TRUE))<>P_20号3様式1!O68,RIGHT(FIXED(P_20号3様式1!O68,3,FALSE),4),\"\"),\"\"),\"\")","v":""},{"$f":"IF(P_20号3様式1!R68<> \"\",IF(P_20号3様式1!R68<> \"-\",TEXT(INT(P_20号3様式1!R68),\"#,##0\"),\"-\"),\"\")","v":""},{"$f":"IF(P_20号3様式1!R68<> \"\",IF(P_20号3様式1!R68<> \"-\",IF(VALUE(FIXED(P_20号3様式1!R68,0,TRUE))<>P_20号3様式1!R68,RIGHT(FIXED(P_20号3様式1!R68,3,FALSE),4),\"\"),\"\"),\"\")","v":""},{"$f":"IF(P_20号3様式1!U68<> \"\",IF(P_20号3様式1!U68<> \"-\",TEXT(INT(P_20号3様式1!U68),\"#,##0\"),\"-\"),\"\")","v":""},{"$f":"IF(P_20号3様式1!U68<> \"\",IF(P_20号3様式1!U68<> \"-\",IF(VALUE(FIXED(P_20号3様式1!U68,0,TRUE))<>P_20号3様式1!U68,RIGHT(FIXED(P_20号3様式1!U68,3,FALSE),4),\"\"),\"\"),\"\")","v":""},{"$f":"IF(P_20号3様式1!X68<> \"\",IF(P_20号3様式1!X68<> \"-\",TEXT(INT(P_20号3様式1!X68),\"#,##0\"),\"-\"),\"\")","v":""},{"$f":"IF(P_20号3様式1!X68<> \"\",IF(P_20号3様式1!X68<> \"-\",IF(VALUE(FIXED(P_20号3様式1!X68,0,TRUE))<>P_20号3様式1!X68,RIGHT(FIXED(P_20号3様式1!X68,3,FALSE),4),\"\"),\"\"),\"\")","v":""},{"$f":"IF(P_20号3様式1!AA68<> \"\",IF(P_20号3様式1!AA68<> \"-\",TEXT(INT(P_20号3様式1!AA68),\"#,##0\"),\"-\"),\"\")","v":""},{"$f":"IF(P_20号3様式1!AA68<> \"\",IF(P_20号3様式1!AA68<> \"-\",IF(VALUE(FIXED(P_20号3様式1!AA68,0,TRUE))<>P_20号3様式1!AA68,RIGHT(FIXED(P_20号3様式1!AA68,3,FALSE),4),\"\"),\"\"),\"\")","v":""}]
[{"$f":"IF(P_20号3様式1!C69=\"\",\"\",P_20号3様式1!C69)","v":"＊（鹿児島郡）計"},{"$f":"IF(P_20号3様式1!AE69<> \"\",TEXT(INT(P_20号3様式1!AE69),\"#,##0\"),\"\")","v":"1"},{"$f":"IF(P_20号3様式1!AE69= \"\",\"\",IF(VALUE(FIXED(P_20号3様式1!AE69,0,TRUE))<>P_20号3様式1!AE69,RIGHT(FIXED(P_20号3様式1!AE69,3,FALSE),4),\"\"))","v":".000"},{"$f":"IF(P_20号3様式1!F69<> \"\",IF(P_20号3様式1!F69<> \"-\",TEXT(INT(P_20号3様式1!F69),\"#,##0\"),\"-\"),\"\")","v":"1"},{"$f":"IF(P_20号3様式1!F69<> \"\",IF(P_20号3様式1!F69<> \"-\",IF(VALUE(FIXED(P_20号3様式1!F69,0,TRUE))<>P_20号3様式1!F69,RIGHT(FIXED(P_20号3様式1!F69,3,FALSE),4),\"\"),\"\"),\"\")","v":".000"},{"$f":"IF(P_20号3様式1!I69<> \"\",IF(P_20号3様式1!I69<> \"-\",TEXT(INT(P_20号3様式1!I69),\"#,##0\"),\"-\"),\"\")","v":""},{"$f":"IF(P_20号3様式1!I69<> \"\",IF(P_20号3様式1!I69<> \"-\",IF(VALUE(FIXED(P_20号3様式1!I69,0,TRUE))<>P_20号3様式1!I69,RIGHT(FIXED(P_20号3様式1!I69,3,FALSE),4),\"\"),\"\"),\"\")","v":""},{"$f":"IF(P_20号3様式1!L69<> \"\",IF(P_20号3様式1!L69<> \"-\",TEXT(INT(P_20号3様式1!L69),\"#,##0\"),\"-\"),\"\")","v":""},{"$f":"IF(P_20号3様式1!L69<> \"\",IF(P_20号3様式1!L69<> \"-\",IF(VALUE(FIXED(P_20号3様式1!L69,0,TRUE))<>P_20号3様式1!L69,RIGHT(FIXED(P_20号3様式1!L69,3,FALSE),4),\"\"),\"\"),\"\")","v":""},{"$f":"IF(P_20号3様式1!O69<> \"\",IF(P_20号3様式1!O69<> \"-\",TEXT(INT(P_20号3様式1!O69),\"#,##0\"),\"-\"),\"\")","v":""},{"$f":"IF(P_20号3様式1!O69<> \"\",IF(P_20号3様式1!O69<> \"-\",IF(VALUE(FIXED(P_20号3様式1!O69,0,TRUE))<>P_20号3様式1!O69,RIGHT(FIXED(P_20号3様式1!O69,3,FALSE),4),\"\"),\"\"),\"\")","v":""},{"$f":"IF(P_20号3様式1!R69<> \"\",IF(P_20号3様式1!R69<> \"-\",TEXT(INT(P_20号3様式1!R69),\"#,##0\"),\"-\"),\"\")","v":""},{"$f":"IF(P_20号3様式1!R69<> \"\",IF(P_20号3様式1!R69<> \"-\",IF(VALUE(FIXED(P_20号3様式1!R69,0,TRUE))<>P_20号3様式1!R69,RIGHT(FIXED(P_20号3様式1!R69,3,FALSE),4),\"\"),\"\"),\"\")","v":""},{"$f":"IF(P_20号3様式1!U69<> \"\",IF(P_20号3様式1!U69<> \"-\",TEXT(INT(P_20号3様式1!U69),\"#,##0\"),\"-\"),\"\")","v":""},{"$f":"IF(P_20号3様式1!U69<> \"\",IF(P_20号3様式1!U69<> \"-\",IF(VALUE(FIXED(P_20号3様式1!U69,0,TRUE))<>P_20号3様式1!U69,RIGHT(FIXED(P_20号3様式1!U69,3,FALSE),4),\"\"),\"\"),\"\")","v":""},{"$f":"IF(P_20号3様式1!X69<> \"\",IF(P_20号3様式1!X69<> \"-\",TEXT(INT(P_20号3様式1!X69),\"#,##0\"),\"-\"),\"\")","v":""},{"$f":"IF(P_20号3様式1!X69<> \"\",IF(P_20号3様式1!X69<> \"-\",IF(VALUE(FIXED(P_20号3様式1!X69,0,TRUE))<>P_20号3様式1!X69,RIGHT(FIXED(P_20号3様式1!X69,3,FALSE),4),\"\"),\"\"),\"\")","v":""},{"$f":"IF(P_20号3様式1!AA69<> \"\",IF(P_20号3様式1!AA69<> \"-\",TEXT(INT(P_20号3様式1!AA69),\"#,##0\"),\"-\"),\"\")","v":""},{"$f":"IF(P_20号3様式1!AA69<> \"\",IF(P_20号3様式1!AA69<> \"-\",IF(VALUE(FIXED(P_20号3様式1!AA69,0,TRUE))<>P_20号3様式1!AA69,RIGHT(FIXED(P_20号3様式1!AA69,3,FALSE),4),\"\"),\"\"),\"\")","v":""}]
[{"$f":"IF(P_20号3様式1!C70=\"\",\"\",P_20号3様式1!C70)","v":"さつま町"},{"$f":"IF(P_20号3様式1!AE70<> \"\",TEXT(INT(P_20号3様式1!AE70),\"#,##0\"),\"\")","v":"0"},{"$f":"IF(P_20号3様式1!AE70= \"\",\"\",IF(VALUE(FIXED(P_20号3様式1!AE70,0,TRUE))<>P_20号3様式1!AE70,RIGHT(FIXED(P_20号3様式1!AE70,3,FALSE),4),\"\"))","v":".000"},{"$f":"IF(P_20号3様式1!F70<> \"\",IF(P_20号3様式1!F70<> \"-\",TEXT(INT(P_20号3様式1!F70),\"#,##0\"),\"-\"),\"\")","v":"0"},{"$f":"IF(P_20号3様式1!F70<> \"\",IF(P_20号3様式1!F70<> \"-\",IF(VALUE(FIXED(P_20号3様式1!F70,0,TRUE))<>P_20号3様式1!F70,RIGHT(FIXED(P_20号3様式1!F70,3,FALSE),4),\"\"),\"\"),\"\")","v":".000"},{"$f":"IF(P_20号3様式1!I70<> \"\",IF(P_20号3様式1!I70<> \"-\",TEXT(INT(P_20号3様式1!I70),\"#,##0\"),\"-\"),\"\")","v":""},{"$f":"IF(P_20号3様式1!I70<> \"\",IF(P_20号3様式1!I70<> \"-\",IF(VALUE(FIXED(P_20号3様式1!I70,0,TRUE))<>P_20号3様式1!I70,RIGHT(FIXED(P_20号3様式1!I70,3,FALSE),4),\"\"),\"\"),\"\")","v":""},{"$f":"IF(P_20号3様式1!L70<> \"\",IF(P_20号3様式1!L70<> \"-\",TEXT(INT(P_20号3様式1!L70),\"#,##0\"),\"-\"),\"\")","v":""},{"$f":"IF(P_20号3様式1!L70<> \"\",IF(P_20号3様式1!L70<> \"-\",IF(VALUE(FIXED(P_20号3様式1!L70,0,TRUE))<>P_20号3様式1!L70,RIGHT(FIXED(P_20号3様式1!L70,3,FALSE),4),\"\"),\"\"),\"\")","v":""},{"$f":"IF(P_20号3様式1!O70<> \"\",IF(P_20号3様式1!O70<> \"-\",TEXT(INT(P_20号3様式1!O70),\"#,##0\"),\"-\"),\"\")","v":""},{"$f":"IF(P_20号3様式1!O70<> \"\",IF(P_20号3様式1!O70<> \"-\",IF(VALUE(FIXED(P_20号3様式1!O70,0,TRUE))<>P_20号3様式1!O70,RIGHT(FIXED(P_20号3様式1!O70,3,FALSE),4),\"\"),\"\"),\"\")","v":""},{"$f":"IF(P_20号3様式1!R70<> \"\",IF(P_20号3様式1!R70<> \"-\",TEXT(INT(P_20号3様式1!R70),\"#,##0\"),\"-\"),\"\")","v":""},{"$f":"IF(P_20号3様式1!R70<> \"\",IF(P_20号3様式1!R70<> \"-\",IF(VALUE(FIXED(P_20号3様式1!R70,0,TRUE))<>P_20号3様式1!R70,RIGHT(FIXED(P_20号3様式1!R70,3,FALSE),4),\"\"),\"\"),\"\")","v":""},{"$f":"IF(P_20号3様式1!U70<> \"\",IF(P_20号3様式1!U70<> \"-\",TEXT(INT(P_20号3様式1!U70),\"#,##0\"),\"-\"),\"\")","v":""},{"$f":"IF(P_20号3様式1!U70<> \"\",IF(P_20号3様式1!U70<> \"-\",IF(VALUE(FIXED(P_20号3様式1!U70,0,TRUE))<>P_20号3様式1!U70,RIGHT(FIXED(P_20号3様式1!U70,3,FALSE),4),\"\"),\"\"),\"\")","v":""},{"$f":"IF(P_20号3様式1!X70<> \"\",IF(P_20号3様式1!X70<> \"-\",TEXT(INT(P_20号3様式1!X70),\"#,##0\"),\"-\"),\"\")","v":""},{"$f":"IF(P_20号3様式1!X70<> \"\",IF(P_20号3様式1!X70<> \"-\",IF(VALUE(FIXED(P_20号3様式1!X70,0,TRUE))<>P_20号3様式1!X70,RIGHT(FIXED(P_20号3様式1!X70,3,FALSE),4),\"\"),\"\"),\"\")","v":""},{"$f":"IF(P_20号3様式1!AA70<> \"\",IF(P_20号3様式1!AA70<> \"-\",TEXT(INT(P_20号3様式1!AA70),\"#,##0\"),\"-\"),\"\")","v":""},{"$f":"IF(P_20号3様式1!AA70<> \"\",IF(P_20号3様式1!AA70<> \"-\",IF(VALUE(FIXED(P_20号3様式1!AA70,0,TRUE))<>P_20号3様式1!AA70,RIGHT(FIXED(P_20号3様式1!AA70,3,FALSE),4),\"\"),\"\"),\"\")","v":""}]
[{"$f":"IF(P_20号3様式1!C71=\"\",\"\",P_20号3様式1!C71)","v":"＊（薩摩郡）計"},{"$f":"IF(P_20号3様式1!AE71<> \"\",TEXT(INT(P_20号3様式1!AE71),\"#,##0\"),\"\")","v":"0"},{"$f":"IF(P_20号3様式1!AE71= \"\",\"\",IF(VALUE(FIXED(P_20号3様式1!AE71,0,TRUE))<>P_20号3様式1!AE71,RIGHT(FIXED(P_20号3様式1!AE71,3,FALSE),4),\"\"))","v":".000"},{"$f":"IF(P_20号3様式1!F71<> \"\",IF(P_20号3様式1!F71<> \"-\",TEXT(INT(P_20号3様式1!F71),\"#,##0\"),\"-\"),\"\")","v":"0"},{"$f":"IF(P_20号3様式1!F71<> \"\",IF(P_20号3様式1!F71<> \"-\",IF(VALUE(FIXED(P_20号3様式1!F71,0,TRUE))<>P_20号3様式1!F71,RIGHT(FIXED(P_20号3様式1!F71,3,FALSE),4),\"\"),\"\"),\"\")","v":".000"},{"$f":"IF(P_20号3様式1!I71<> \"\",IF(P_20号3様式1!I71<> \"-\",TEXT(INT(P_20号3様式1!I71),\"#,##0\"),\"-\"),\"\")","v":""},{"$f":"IF(P_20号3様式1!I71<> \"\",IF(P_20号3様式1!I71<> \"-\",IF(VALUE(FIXED(P_20号3様式1!I71,0,TRUE))<>P_20号3様式1!I71,RIGHT(FIXED(P_20号3様式1!I71,3,FALSE),4),\"\"),\"\"),\"\")","v":""},{"$f":"IF(P_20号3様式1!L71<> \"\",IF(P_20号3様式1!L71<> \"-\",TEXT(INT(P_20号3様式1!L71),\"#,##0\"),\"-\"),\"\")","v":""},{"$f":"IF(P_20号3様式1!L71<> \"\",IF(P_20号3様式1!L71<> \"-\",IF(VALUE(FIXED(P_20号3様式1!L71,0,TRUE))<>P_20号3様式1!L71,RIGHT(FIXED(P_20号3様式1!L71,3,FALSE),4),\"\"),\"\"),\"\")","v":""},{"$f":"IF(P_20号3様式1!O71<> \"\",IF(P_20号3様式1!O71<> \"-\",TEXT(INT(P_20号3様式1!O71),\"#,##0\"),\"-\"),\"\")","v":""},{"$f":"IF(P_20号3様式1!O71<> \"\",IF(P_20号3様式1!O71<> \"-\",IF(VALUE(FIXED(P_20号3様式1!O71,0,TRUE))<>P_20号3様式1!O71,RIGHT(FIXED(P_20号3様式1!O71,3,FALSE),4),\"\"),\"\"),\"\")","v":""},{"$f":"IF(P_20号3様式1!R71<> \"\",IF(P_20号3様式1!R71<> \"-\",TEXT(INT(P_20号3様式1!R71),\"#,##0\"),\"-\"),\"\")","v":""},{"$f":"IF(P_20号3様式1!R71<> \"\",IF(P_20号3様式1!R71<> \"-\",IF(VALUE(FIXED(P_20号3様式1!R71,0,TRUE))<>P_20号3様式1!R71,RIGHT(FIXED(P_20号3様式1!R71,3,FALSE),4),\"\"),\"\"),\"\")","v":""},{"$f":"IF(P_20号3様式1!U71<> \"\",IF(P_20号3様式1!U71<> \"-\",TEXT(INT(P_20号3様式1!U71),\"#,##0\"),\"-\"),\"\")","v":""},{"$f":"IF(P_20号3様式1!U71<> \"\",IF(P_20号3様式1!U71<> \"-\",IF(VALUE(FIXED(P_20号3様式1!U71,0,TRUE))<>P_20号3様式1!U71,RIGHT(FIXED(P_20号3様式1!U71,3,FALSE),4),\"\"),\"\"),\"\")","v":""},{"$f":"IF(P_20号3様式1!X71<> \"\",IF(P_20号3様式1!X71<> \"-\",TEXT(INT(P_20号3様式1!X71),\"#,##0\"),\"-\"),\"\")","v":""},{"$f":"IF(P_20号3様式1!X71<> \"\",IF(P_20号3様式1!X71<> \"-\",IF(VALUE(FIXED(P_20号3様式1!X71,0,TRUE))<>P_20号3様式1!X71,RIGHT(FIXED(P_20号3様式1!X71,3,FALSE),4),\"\"),\"\"),\"\")","v":""},{"$f":"IF(P_20号3様式1!AA71<> \"\",IF(P_20号3様式1!AA71<> \"-\",TEXT(INT(P_20号3様式1!AA71),\"#,##0\"),\"-\"),\"\")","v":""},{"$f":"IF(P_20号3様式1!AA71<> \"\",IF(P_20号3様式1!AA71<> \"-\",IF(VALUE(FIXED(P_20号3様式1!AA71,0,TRUE))<>P_20号3様式1!AA71,RIGHT(FIXED(P_20号3様式1!AA71,3,FALSE),4),\"\"),\"\"),\"\")","v":""}]
[{"$f":"IF(P_20号3様式1!C72=\"\",\"\",P_20号3様式1!C72)","v":"長島町"},{"$f":"IF(P_20号3様式1!AE72<> \"\",TEXT(INT(P_20号3様式1!AE72),\"#,##0\"),\"\")","v":"2"},{"$f":"IF(P_20号3様式1!AE72= \"\",\"\",IF(VALUE(FIXED(P_20号3様式1!AE72,0,TRUE))<>P_20号3様式1!AE72,RIGHT(FIXED(P_20号3様式1!AE72,3,FALSE),4),\"\"))","v":".000"},{"$f":"IF(P_20号3様式1!F72<> \"\",IF(P_20号3様式1!F72<> \"-\",TEXT(INT(P_20号3様式1!F72),\"#,##0\"),\"-\"),\"\")","v":"2"},{"$f":"IF(P_20号3様式1!F72<> \"\",IF(P_20号3様式1!F72<> \"-\",IF(VALUE(FIXED(P_20号3様式1!F72,0,TRUE))<>P_20号3様式1!F72,RIGHT(FIXED(P_20号3様式1!F72,3,FALSE),4),\"\"),\"\"),\"\")","v":".000"},{"$f":"IF(P_20号3様式1!I72<> \"\",IF(P_20号3様式1!I72<> \"-\",TEXT(INT(P_20号3様式1!I72),\"#,##0\"),\"-\"),\"\")","v":""},{"$f":"IF(P_20号3様式1!I72<> \"\",IF(P_20号3様式1!I72<> \"-\",IF(VALUE(FIXED(P_20号3様式1!I72,0,TRUE))<>P_20号3様式1!I72,RIGHT(FIXED(P_20号3様式1!I72,3,FALSE),4),\"\"),\"\"),\"\")","v":""},{"$f":"IF(P_20号3様式1!L72<> \"\",IF(P_20号3様式1!L72<> \"-\",TEXT(INT(P_20号3様式1!L72),\"#,##0\"),\"-\"),\"\")","v":""},{"$f":"IF(P_20号3様式1!L72<> \"\",IF(P_20号3様式1!L72<> \"-\",IF(VALUE(FIXED(P_20号3様式1!L72,0,TRUE))<>P_20号3様式1!L72,RIGHT(FIXED(P_20号3様式1!L72,3,FALSE),4),\"\"),\"\"),\"\")","v":""},{"$f":"IF(P_20号3様式1!O72<> \"\",IF(P_20号3様式1!O72<> \"-\",TEXT(INT(P_20号3様式1!O72),\"#,##0\"),\"-\"),\"\")","v":""},{"$f":"IF(P_20号3様式1!O72<> \"\",IF(P_20号3様式1!O72<> \"-\",IF(VALUE(FIXED(P_20号3様式1!O72,0,TRUE))<>P_20号3様式1!O72,RIGHT(FIXED(P_20号3様式1!O72,3,FALSE),4),\"\"),\"\"),\"\")","v":""},{"$f":"IF(P_20号3様式1!R72<> \"\",IF(P_20号3様式1!R72<> \"-\",TEXT(INT(P_20号3様式1!R72),\"#,##0\"),\"-\"),\"\")","v":""},{"$f":"IF(P_20号3様式1!R72<> \"\",IF(P_20号3様式1!R72<> \"-\",IF(VALUE(FIXED(P_20号3様式1!R72,0,TRUE))<>P_20号3様式1!R72,RIGHT(FIXED(P_20号3様式1!R72,3,FALSE),4),\"\"),\"\"),\"\")","v":""},{"$f":"IF(P_20号3様式1!U72<> \"\",IF(P_20号3様式1!U72<> \"-\",TEXT(INT(P_20号3様式1!U72),\"#,##0\"),\"-\"),\"\")","v":""},{"$f":"IF(P_20号3様式1!U72<> \"\",IF(P_20号3様式1!U72<> \"-\",IF(VALUE(FIXED(P_20号3様式1!U72,0,TRUE))<>P_20号3様式1!U72,RIGHT(FIXED(P_20号3様式1!U72,3,FALSE),4),\"\"),\"\"),\"\")","v":""},{"$f":"IF(P_20号3様式1!X72<> \"\",IF(P_20号3様式1!X72<> \"-\",TEXT(INT(P_20号3様式1!X72),\"#,##0\"),\"-\"),\"\")","v":""},{"$f":"IF(P_20号3様式1!X72<> \"\",IF(P_20号3様式1!X72<> \"-\",IF(VALUE(FIXED(P_20号3様式1!X72,0,TRUE))<>P_20号3様式1!X72,RIGHT(FIXED(P_20号3様式1!X72,3,FALSE),4),\"\"),\"\"),\"\")","v":""},{"$f":"IF(P_20号3様式1!AA72<> \"\",IF(P_20号3様式1!AA72<> \"-\",TEXT(INT(P_20号3様式1!AA72),\"#,##0\"),\"-\"),\"\")","v":""},{"$f":"IF(P_20号3様式1!AA72<> \"\",IF(P_20号3様式1!AA72<> \"-\",IF(VALUE(FIXED(P_20号3様式1!AA72,0,TRUE))<>P_20号3様式1!AA72,RIGHT(FIXED(P_20号3様式1!AA72,3,FALSE),4),\"\"),\"\"),\"\")","v":""}]
[{"$f":"IF(P_20号3様式1!C73=\"\",\"\",P_20号3様式1!C73)","v":"＊（出水郡）計"},{"$f":"IF(P_20号3様式1!AE73<> \"\",TEXT(INT(P_20号3様式1!AE73),\"#,##0\"),\"\")","v":"2"},{"$f":"IF(P_20号3様式1!AE73= \"\",\"\",IF(VALUE(FIXED(P_20号3様式1!AE73,0,TRUE))<>P_20号3様式1!AE73,RIGHT(FIXED(P_20号3様式1!AE73,3,FALSE),4),\"\"))","v":".000"},{"$f":"IF(P_20号3様式1!F73<> \"\",IF(P_20号3様式1!F73<> \"-\",TEXT(INT(P_20号3様式1!F73),\"#,##0\"),\"-\"),\"\")","v":"2"},{"$f":"IF(P_20号3様式1!F73<> \"\",IF(P_20号3様式1!F73<> \"-\",IF(VALUE(FIXED(P_20号3様式1!F73,0,TRUE))<>P_20号3様式1!F73,RIGHT(FIXED(P_20号3様式1!F73,3,FALSE),4),\"\"),\"\"),\"\")","v":".000"},{"$f":"IF(P_20号3様式1!I73<> \"\",IF(P_20号3様式1!I73<> \"-\",TEXT(INT(P_20号3様式1!I73),\"#,##0\"),\"-\"),\"\")","v":""},{"$f":"IF(P_20号3様式1!I73<> \"\",IF(P_20号3様式1!I73<> \"-\",IF(VALUE(FIXED(P_20号3様式1!I73,0,TRUE))<>P_20号3様式1!I73,RIGHT(FIXED(P_20号3様式1!I73,3,FALSE),4),\"\"),\"\"),\"\")","v":""},{"$f":"IF(P_20号3様式1!L73<> \"\",IF(P_20号3様式1!L73<> \"-\",TEXT(INT(P_20号3様式1!L73),\"#,##0\"),\"-\"),\"\")","v":""},{"$f":"IF(P_20号3様式1!L73<> \"\",IF(P_20号3様式1!L73<> \"-\",IF(VALUE(FIXED(P_20号3様式1!L73,0,TRUE))<>P_20号3様式1!L73,RIGHT(FIXED(P_20号3様式1!L73,3,FALSE),4),\"\"),\"\"),\"\")","v":""},{"$f":"IF(P_20号3様式1!O73<> \"\",IF(P_20号3様式1!O73<> \"-\",TEXT(INT(P_20号3様式1!O73),\"#,##0\"),\"-\"),\"\")","v":""},{"$f":"IF(P_20号3様式1!O73<> \"\",IF(P_20号3様式1!O73<> \"-\",IF(VALUE(FIXED(P_20号3様式1!O73,0,TRUE))<>P_20号3様式1!O73,RIGHT(FIXED(P_20号3様式1!O73,3,FALSE),4),\"\"),\"\"),\"\")","v":""},{"$f":"IF(P_20号3様式1!R73<> \"\",IF(P_20号3様式1!R73<> \"-\",TEXT(INT(P_20号3様式1!R73),\"#,##0\"),\"-\"),\"\")","v":""},{"$f":"IF(P_20号3様式1!R73<> \"\",IF(P_20号3様式1!R73<> \"-\",IF(VALUE(FIXED(P_20号3様式1!R73,0,TRUE))<>P_20号3様式1!R73,RIGHT(FIXED(P_20号3様式1!R73,3,FALSE),4),\"\"),\"\"),\"\")","v":""},{"$f":"IF(P_20号3様式1!U73<> \"\",IF(P_20号3様式1!U73<> \"-\",TEXT(INT(P_20号3様式1!U73),\"#,##0\"),\"-\"),\"\")","v":""},{"$f":"IF(P_20号3様式1!U73<> \"\",IF(P_20号3様式1!U73<> \"-\",IF(VALUE(FIXED(P_20号3様式1!U73,0,TRUE))<>P_20号3様式1!U73,RIGHT(FIXED(P_20号3様式1!U73,3,FALSE),4),\"\"),\"\"),\"\")","v":""},{"$f":"IF(P_20号3様式1!X73<> \"\",IF(P_20号3様式1!X73<> \"-\",TEXT(INT(P_20号3様式1!X73),\"#,##0\"),\"-\"),\"\")","v":""},{"$f":"IF(P_20号3様式1!X73<> \"\",IF(P_20号3様式1!X73<> \"-\",IF(VALUE(FIXED(P_20号3様式1!X73,0,TRUE))<>P_20号3様式1!X73,RIGHT(FIXED(P_20号3様式1!X73,3,FALSE),4),\"\"),\"\"),\"\")","v":""},{"$f":"IF(P_20号3様式1!AA73<> \"\",IF(P_20号3様式1!AA73<> \"-\",TEXT(INT(P_20号3様式1!AA73),\"#,##0\"),\"-\"),\"\")","v":""},{"$f":"IF(P_20号3様式1!AA73<> \"\",IF(P_20号3様式1!AA73<> \"-\",IF(VALUE(FIXED(P_20号3様式1!AA73,0,TRUE))<>P_20号3様式1!AA73,RIGHT(FIXED(P_20号3様式1!AA73,3,FALSE),4),\"\"),\"\"),\"\")","v":""}]
[{"$f":"IF(P_20号3様式1!C74=\"\",\"\",P_20号3様式1!C74)","v":"湧水町"},{"$f":"IF(P_20号3様式1!AE74<> \"\",TEXT(INT(P_20号3様式1!AE74),\"#,##0\"),\"\")","v":"0"},{"$f":"IF(P_20号3様式1!AE74= \"\",\"\",IF(VALUE(FIXED(P_20号3様式1!AE74,0,TRUE))<>P_20号3様式1!AE74,RIGHT(FIXED(P_20号3様式1!AE74,3,FALSE),4),\"\"))","v":".000"},{"$f":"IF(P_20号3様式1!F74<> \"\",IF(P_20号3様式1!F74<> \"-\",TEXT(INT(P_20号3様式1!F74),\"#,##0\"),\"-\"),\"\")","v":"0"},{"$f":"IF(P_20号3様式1!F74<> \"\",IF(P_20号3様式1!F74<> \"-\",IF(VALUE(FIXED(P_20号3様式1!F74,0,TRUE))<>P_20号3様式1!F74,RIGHT(FIXED(P_20号3様式1!F74,3,FALSE),4),\"\"),\"\"),\"\")","v":".000"},{"$f":"IF(P_20号3様式1!I74<> \"\",IF(P_20号3様式1!I74<> \"-\",TEXT(INT(P_20号3様式1!I74),\"#,##0\"),\"-\"),\"\")","v":""},{"$f":"IF(P_20号3様式1!I74<> \"\",IF(P_20号3様式1!I74<> \"-\",IF(VALUE(FIXED(P_20号3様式1!I74,0,TRUE))<>P_20号3様式1!I74,RIGHT(FIXED(P_20号3様式1!I74,3,FALSE),4),\"\"),\"\"),\"\")","v":""},{"$f":"IF(P_20号3様式1!L74<> \"\",IF(P_20号3様式1!L74<> \"-\",TEXT(INT(P_20号3様式1!L74),\"#,##0\"),\"-\"),\"\")","v":""},{"$f":"IF(P_20号3様式1!L74<> \"\",IF(P_20号3様式1!L74<> \"-\",IF(VALUE(FIXED(P_20号3様式1!L74,0,TRUE))<>P_20号3様式1!L74,RIGHT(FIXED(P_20号3様式1!L74,3,FALSE),4),\"\"),\"\"),\"\")","v":""},{"$f":"IF(P_20号3様式1!O74<> \"\",IF(P_20号3様式1!O74<> \"-\",TEXT(INT(P_20号3様式1!O74),\"#,##0\"),\"-\"),\"\")","v":""},{"$f":"IF(P_20号3様式1!O74<> \"\",IF(P_20号3様式1!O74<> \"-\",IF(VALUE(FIXED(P_20号3様式1!O74,0,TRUE))<>P_20号3様式1!O74,RIGHT(FIXED(P_20号3様式1!O74,3,FALSE),4),\"\"),\"\"),\"\")","v":""},{"$f":"IF(P_20号3様式1!R74<> \"\",IF(P_20号3様式1!R74<> \"-\",TEXT(INT(P_20号3様式1!R74),\"#,##0\"),\"-\"),\"\")","v":""},{"$f":"IF(P_20号3様式1!R74<> \"\",IF(P_20号3様式1!R74<> \"-\",IF(VALUE(FIXED(P_20号3様式1!R74,0,TRUE))<>P_20号3様式1!R74,RIGHT(FIXED(P_20号3様式1!R74,3,FALSE),4),\"\"),\"\"),\"\")","v":""},{"$f":"IF(P_20号3様式1!U74<> \"\",IF(P_20号3様式1!U74<> \"-\",TEXT(INT(P_20号3様式1!U74),\"#,##0\"),\"-\"),\"\")","v":""},{"$f":"IF(P_20号3様式1!U74<> \"\",IF(P_20号3様式1!U74<> \"-\",IF(VALUE(FIXED(P_20号3様式1!U74,0,TRUE))<>P_20号3様式1!U74,RIGHT(FIXED(P_20号3様式1!U74,3,FALSE),4),\"\"),\"\"),\"\")","v":""},{"$f":"IF(P_20号3様式1!X74<> \"\",IF(P_20号3様式1!X74<> \"-\",TEXT(INT(P_20号3様式1!X74),\"#,##0\"),\"-\"),\"\")","v":""},{"$f":"IF(P_20号3様式1!X74<> \"\",IF(P_20号3様式1!X74<> \"-\",IF(VALUE(FIXED(P_20号3様式1!X74,0,TRUE))<>P_20号3様式1!X74,RIGHT(FIXED(P_20号3様式1!X74,3,FALSE),4),\"\"),\"\"),\"\")","v":""},{"$f":"IF(P_20号3様式1!AA74<> \"\",IF(P_20号3様式1!AA74<> \"-\",TEXT(INT(P_20号3様式1!AA74),\"#,##0\"),\"-\"),\"\")","v":""},{"$f":"IF(P_20号3様式1!AA74<> \"\",IF(P_20号3様式1!AA74<> \"-\",IF(VALUE(FIXED(P_20号3様式1!AA74,0,TRUE))<>P_20号3様式1!AA74,RIGHT(FIXED(P_20号3様式1!AA74,3,FALSE),4),\"\"),\"\"),\"\")","v":""}]
[{"$f":"IF(P_20号3様式1!C75=\"\",\"\",P_20号3様式1!C75)","v":"＊（姶良郡）計"},{"$f":"IF(P_20号3様式1!AE75<> \"\",TEXT(INT(P_20号3様式1!AE75),\"#,##0\"),\"\")","v":"0"},{"$f":"IF(P_20号3様式1!AE75= \"\",\"\",IF(VALUE(FIXED(P_20号3様式1!AE75,0,TRUE))<>P_20号3様式1!AE75,RIGHT(FIXED(P_20号3様式1!AE75,3,FALSE),4),\"\"))","v":".000"},{"$f":"IF(P_20号3様式1!F75<> \"\",IF(P_20号3様式1!F75<> \"-\",TEXT(INT(P_20号3様式1!F75),\"#,##0\"),\"-\"),\"\")","v":"0"},{"$f":"IF(P_20号3様式1!F75<> \"\",IF(P_20号3様式1!F75<> \"-\",IF(VALUE(FIXED(P_20号3様式1!F75,0,TRUE))<>P_20号3様式1!F75,RIGHT(FIXED(P_20号3様式1!F75,3,FALSE),4),\"\"),\"\"),\"\")","v":".000"},{"$f":"IF(P_20号3様式1!I75<> \"\",IF(P_20号3様式1!I75<> \"-\",TEXT(INT(P_20号3様式1!I75),\"#,##0\"),\"-\"),\"\")","v":""},{"$f":"IF(P_20号3様式1!I75<> \"\",IF(P_20号3様式1!I75<> \"-\",IF(VALUE(FIXED(P_20号3様式1!I75,0,TRUE))<>P_20号3様式1!I75,RIGHT(FIXED(P_20号3様式1!I75,3,FALSE),4),\"\"),\"\"),\"\")","v":""},{"$f":"IF(P_20号3様式1!L75<> \"\",IF(P_20号3様式1!L75<> \"-\",TEXT(INT(P_20号3様式1!L75),\"#,##0\"),\"-\"),\"\")","v":""},{"$f":"IF(P_20号3様式1!L75<> \"\",IF(P_20号3様式1!L75<> \"-\",IF(VALUE(FIXED(P_20号3様式1!L75,0,TRUE))<>P_20号3様式1!L75,RIGHT(FIXED(P_20号3様式1!L75,3,FALSE),4),\"\"),\"\"),\"\")","v":""},{"$f":"IF(P_20号3様式1!O75<> \"\",IF(P_20号3様式1!O75<> \"-\",TEXT(INT(P_20号3様式1!O75),\"#,##0\"),\"-\"),\"\")","v":""},{"$f":"IF(P_20号3様式1!O75<> \"\",IF(P_20号3様式1!O75<> \"-\",IF(VALUE(FIXED(P_20号3様式1!O75,0,TRUE))<>P_20号3様式1!O75,RIGHT(FIXED(P_20号3様式1!O75,3,FALSE),4),\"\"),\"\"),\"\")","v":""},{"$f":"IF(P_20号3様式1!R75<> \"\",IF(P_20号3様式1!R75<> \"-\",TEXT(INT(P_20号3様式1!R75),\"#,##0\"),\"-\"),\"\")","v":""},{"$f":"IF(P_20号3様式1!R75<> \"\",IF(P_20号3様式1!R75<> \"-\",IF(VALUE(FIXED(P_20号3様式1!R75,0,TRUE))<>P_20号3様式1!R75,RIGHT(FIXED(P_20号3様式1!R75,3,FALSE),4),\"\"),\"\"),\"\")","v":""},{"$f":"IF(P_20号3様式1!U75<> \"\",IF(P_20号3様式1!U75<> \"-\",TEXT(INT(P_20号3様式1!U75),\"#,##0\"),\"-\"),\"\")","v":""},{"$f":"IF(P_20号3様式1!U75<> \"\",IF(P_20号3様式1!U75<> \"-\",IF(VALUE(FIXED(P_20号3様式1!U75,0,TRUE))<>P_20号3様式1!U75,RIGHT(FIXED(P_20号3様式1!U75,3,FALSE),4),\"\"),\"\"),\"\")","v":""},{"$f":"IF(P_20号3様式1!X75<> \"\",IF(P_20号3様式1!X75<> \"-\",TEXT(INT(P_20号3様式1!X75),\"#,##0\"),\"-\"),\"\")","v":""},{"$f":"IF(P_20号3様式1!X75<> \"\",IF(P_20号3様式1!X75<> \"-\",IF(VALUE(FIXED(P_20号3様式1!X75,0,TRUE))<>P_20号3様式1!X75,RIGHT(FIXED(P_20号3様式1!X75,3,FALSE),4),\"\"),\"\"),\"\")","v":""},{"$f":"IF(P_20号3様式1!AA75<> \"\",IF(P_20号3様式1!AA75<> \"-\",TEXT(INT(P_20号3様式1!AA75),\"#,##0\"),\"-\"),\"\")","v":""},{"$f":"IF(P_20号3様式1!AA75<> \"\",IF(P_20号3様式1!AA75<> \"-\",IF(VALUE(FIXED(P_20号3様式1!AA75,0,TRUE))<>P_20号3様式1!AA75,RIGHT(FIXED(P_20号3様式1!AA75,3,FALSE),4),\"\"),\"\"),\"\")","v":""}]
[{"$f":"IF(P_20号3様式1!C76=\"\",\"\",P_20号3様式1!C76)","v":"大崎町"},{"$f":"IF(P_20号3様式1!AE76<> \"\",TEXT(INT(P_20号3様式1!AE76),\"#,##0\"),\"\")","v":"1"},{"$f":"IF(P_20号3様式1!AE76= \"\",\"\",IF(VALUE(FIXED(P_20号3様式1!AE76,0,TRUE))<>P_20号3様式1!AE76,RIGHT(FIXED(P_20号3様式1!AE76,3,FALSE),4),\"\"))","v":".000"},{"$f":"IF(P_20号3様式1!F76<> \"\",IF(P_20号3様式1!F76<> \"-\",TEXT(INT(P_20号3様式1!F76),\"#,##0\"),\"-\"),\"\")","v":"1"},{"$f":"IF(P_20号3様式1!F76<> \"\",IF(P_20号3様式1!F76<> \"-\",IF(VALUE(FIXED(P_20号3様式1!F76,0,TRUE))<>P_20号3様式1!F76,RIGHT(FIXED(P_20号3様式1!F76,3,FALSE),4),\"\"),\"\"),\"\")","v":".000"},{"$f":"IF(P_20号3様式1!I76<> \"\",IF(P_20号3様式1!I76<> \"-\",TEXT(INT(P_20号3様式1!I76),\"#,##0\"),\"-\"),\"\")","v":""},{"$f":"IF(P_20号3様式1!I76<> \"\",IF(P_20号3様式1!I76<> \"-\",IF(VALUE(FIXED(P_20号3様式1!I76,0,TRUE))<>P_20号3様式1!I76,RIGHT(FIXED(P_20号3様式1!I76,3,FALSE),4),\"\"),\"\"),\"\")","v":""},{"$f":"IF(P_20号3様式1!L76<> \"\",IF(P_20号3様式1!L76<> \"-\",TEXT(INT(P_20号3様式1!L76),\"#,##0\"),\"-\"),\"\")","v":""},{"$f":"IF(P_20号3様式1!L76<> \"\",IF(P_20号3様式1!L76<> \"-\",IF(VALUE(FIXED(P_20号3様式1!L76,0,TRUE))<>P_20号3様式1!L76,RIGHT(FIXED(P_20号3様式1!L76,3,FALSE),4),\"\"),\"\"),\"\")","v":""},{"$f":"IF(P_20号3様式1!O76<> \"\",IF(P_20号3様式1!O76<> \"-\",TEXT(INT(P_20号3様式1!O76),\"#,##0\"),\"-\"),\"\")","v":""},{"$f":"IF(P_20号3様式1!O76<> \"\",IF(P_20号3様式1!O76<> \"-\",IF(VALUE(FIXED(P_20号3様式1!O76,0,TRUE))<>P_20号3様式1!O76,RIGHT(FIXED(P_20号3様式1!O76,3,FALSE),4),\"\"),\"\"),\"\")","v":""},{"$f":"IF(P_20号3様式1!R76<> \"\",IF(P_20号3様式1!R76<> \"-\",TEXT(INT(P_20号3様式1!R76),\"#,##0\"),\"-\"),\"\")","v":""},{"$f":"IF(P_20号3様式1!R76<> \"\",IF(P_20号3様式1!R76<> \"-\",IF(VALUE(FIXED(P_20号3様式1!R76,0,TRUE))<>P_20号3様式1!R76,RIGHT(FIXED(P_20号3様式1!R76,3,FALSE),4),\"\"),\"\"),\"\")","v":""},{"$f":"IF(P_20号3様式1!U76<> \"\",IF(P_20号3様式1!U76<> \"-\",TEXT(INT(P_20号3様式1!U76),\"#,##0\"),\"-\"),\"\")","v":""},{"$f":"IF(P_20号3様式1!U76<> \"\",IF(P_20号3様式1!U76<> \"-\",IF(VALUE(FIXED(P_20号3様式1!U76,0,TRUE))<>P_20号3様式1!U76,RIGHT(FIXED(P_20号3様式1!U76,3,FALSE),4),\"\"),\"\"),\"\")","v":""},{"$f":"IF(P_20号3様式1!X76<> \"\",IF(P_20号3様式1!X76<> \"-\",TEXT(INT(P_20号3様式1!X76),\"#,##0\"),\"-\"),\"\")","v":""},{"$f":"IF(P_20号3様式1!X76<> \"\",IF(P_20号3様式1!X76<> \"-\",IF(VALUE(FIXED(P_20号3様式1!X76,0,TRUE))<>P_20号3様式1!X76,RIGHT(FIXED(P_20号3様式1!X76,3,FALSE),4),\"\"),\"\"),\"\")","v":""},{"$f":"IF(P_20号3様式1!AA76<> \"\",IF(P_20号3様式1!AA76<> \"-\",TEXT(INT(P_20号3様式1!AA76),\"#,##0\"),\"-\"),\"\")","v":""},{"$f":"IF(P_20号3様式1!AA76<> \"\",IF(P_20号3様式1!AA76<> \"-\",IF(VALUE(FIXED(P_20号3様式1!AA76,0,TRUE))<>P_20号3様式1!AA76,RIGHT(FIXED(P_20号3様式1!AA76,3,FALSE),4),\"\"),\"\"),\"\")","v":""}]
[{"$f":"IF(P_20号3様式1!C77=\"\",\"\",P_20号3様式1!C77)","v":"＊（曽於郡）計"},{"$f":"IF(P_20号3様式1!AE77<> \"\",TEXT(INT(P_20号3様式1!AE77),\"#,##0\"),\"\")","v":"1"},{"$f":"IF(P_20号3様式1!AE77= \"\",\"\",IF(VALUE(FIXED(P_20号3様式1!AE77,0,TRUE))<>P_20号3様式1!AE77,RIGHT(FIXED(P_20号3様式1!AE77,3,FALSE),4),\"\"))","v":".000"},{"$f":"IF(P_20号3様式1!F77<> \"\",IF(P_20号3様式1!F77<> \"-\",TEXT(INT(P_20号3様式1!F77),\"#,##0\"),\"-\"),\"\")","v":"1"},{"$f":"IF(P_20号3様式1!F77<> \"\",IF(P_20号3様式1!F77<> \"-\",IF(VALUE(FIXED(P_20号3様式1!F77,0,TRUE))<>P_20号3様式1!F77,RIGHT(FIXED(P_20号3様式1!F77,3,FALSE),4),\"\"),\"\"),\"\")","v":".000"},{"$f":"IF(P_20号3様式1!I77<> \"\",IF(P_20号3様式1!I77<> \"-\",TEXT(INT(P_20号3様式1!I77),\"#,##0\"),\"-\"),\"\")","v":""},{"$f":"IF(P_20号3様式1!I77<> \"\",IF(P_20号3様式1!I77<> \"-\",IF(VALUE(FIXED(P_20号3様式1!I77,0,TRUE))<>P_20号3様式1!I77,RIGHT(FIXED(P_20号3様式1!I77,3,FALSE),4),\"\"),\"\"),\"\")","v":""},{"$f":"IF(P_20号3様式1!L77<> \"\",IF(P_20号3様式1!L77<> \"-\",TEXT(INT(P_20号3様式1!L77),\"#,##0\"),\"-\"),\"\")","v":""},{"$f":"IF(P_20号3様式1!L77<> \"\",IF(P_20号3様式1!L77<> \"-\",IF(VALUE(FIXED(P_20号3様式1!L77,0,TRUE))<>P_20号3様式1!L77,RIGHT(FIXED(P_20号3様式1!L77,3,FALSE),4),\"\"),\"\"),\"\")","v":""},{"$f":"IF(P_20号3様式1!O77<> \"\",IF(P_20号3様式1!O77<> \"-\",TEXT(INT(P_20号3様式1!O77),\"#,##0\"),\"-\"),\"\")","v":""},{"$f":"IF(P_20号3様式1!O77<> \"\",IF(P_20号3様式1!O77<> \"-\",IF(VALUE(FIXED(P_20号3様式1!O77,0,TRUE))<>P_20号3様式1!O77,RIGHT(FIXED(P_20号3様式1!O77,3,FALSE),4),\"\"),\"\"),\"\")","v":""},{"$f":"IF(P_20号3様式1!R77<> \"\",IF(P_20号3様式1!R77<> \"-\",TEXT(INT(P_20号3様式1!R77),\"#,##0\"),\"-\"),\"\")","v":""},{"$f":"IF(P_20号3様式1!R77<> \"\",IF(P_20号3様式1!R77<> \"-\",IF(VALUE(FIXED(P_20号3様式1!R77,0,TRUE))<>P_20号3様式1!R77,RIGHT(FIXED(P_20号3様式1!R77,3,FALSE),4),\"\"),\"\"),\"\")","v":""},{"$f":"IF(P_20号3様式1!U77<> \"\",IF(P_20号3様式1!U77<> \"-\",TEXT(INT(P_20号3様式1!U77),\"#,##0\"),\"-\"),\"\")","v":""},{"$f":"IF(P_20号3様式1!U77<> \"\",IF(P_20号3様式1!U77<> \"-\",IF(VALUE(FIXED(P_20号3様式1!U77,0,TRUE))<>P_20号3様式1!U77,RIGHT(FIXED(P_20号3様式1!U77,3,FALSE),4),\"\"),\"\"),\"\")","v":""},{"$f":"IF(P_20号3様式1!X77<> \"\",IF(P_20号3様式1!X77<> \"-\",TEXT(INT(P_20号3様式1!X77),\"#,##0\"),\"-\"),\"\")","v":""},{"$f":"IF(P_20号3様式1!X77<> \"\",IF(P_20号3様式1!X77<> \"-\",IF(VALUE(FIXED(P_20号3様式1!X77,0,TRUE))<>P_20号3様式1!X77,RIGHT(FIXED(P_20号3様式1!X77,3,FALSE),4),\"\"),\"\"),\"\")","v":""},{"$f":"IF(P_20号3様式1!AA77<> \"\",IF(P_20号3様式1!AA77<> \"-\",TEXT(INT(P_20号3様式1!AA77),\"#,##0\"),\"-\"),\"\")","v":""},{"$f":"IF(P_20号3様式1!AA77<> \"\",IF(P_20号3様式1!AA77<> \"-\",IF(VALUE(FIXED(P_20号3様式1!AA77,0,TRUE))<>P_20号3様式1!AA77,RIGHT(FIXED(P_20号3様式1!AA77,3,FALSE),4),\"\"),\"\"),\"\")","v":""}]
[{"$f":"IF(P_20号3様式1!C78=\"\",\"\",P_20号3様式1!C78)","v":"東串良町"},{"$f":"IF(P_20号3様式1!AE78<> \"\",TEXT(INT(P_20号3様式1!AE78),\"#,##0\"),\"\")","v":"0"},{"$f":"IF(P_20号3様式1!AE78= \"\",\"\",IF(VALUE(FIXED(P_20号3様式1!AE78,0,TRUE))<>P_20号3様式1!AE78,RIGHT(FIXED(P_20号3様式1!AE78,3,FALSE),4),\"\"))","v":".000"},{"$f":"IF(P_20号3様式1!F78<> \"\",IF(P_20号3様式1!F78<> \"-\",TEXT(INT(P_20号3様式1!F78),\"#,##0\"),\"-\"),\"\")","v":"0"},{"$f":"IF(P_20号3様式1!F78<> \"\",IF(P_20号3様式1!F78<> \"-\",IF(VALUE(FIXED(P_20号3様式1!F78,0,TRUE))<>P_20号3様式1!F78,RIGHT(FIXED(P_20号3様式1!F78,3,FALSE),4),\"\"),\"\"),\"\")","v":".000"},{"$f":"IF(P_20号3様式1!I78<> \"\",IF(P_20号3様式1!I78<> \"-\",TEXT(INT(P_20号3様式1!I78),\"#,##0\"),\"-\"),\"\")","v":""},{"$f":"IF(P_20号3様式1!I78<> \"\",IF(P_20号3様式1!I78<> \"-\",IF(VALUE(FIXED(P_20号3様式1!I78,0,TRUE))<>P_20号3様式1!I78,RIGHT(FIXED(P_20号3様式1!I78,3,FALSE),4),\"\"),\"\"),\"\")","v":""},{"$f":"IF(P_20号3様式1!L78<> \"\",IF(P_20号3様式1!L78<> \"-\",TEXT(INT(P_20号3様式1!L78),\"#,##0\"),\"-\"),\"\")","v":""},{"$f":"IF(P_20号3様式1!L78<> \"\",IF(P_20号3様式1!L78<> \"-\",IF(VALUE(FIXED(P_20号3様式1!L78,0,TRUE))<>P_20号3様式1!L78,RIGHT(FIXED(P_20号3様式1!L78,3,FALSE),4),\"\"),\"\"),\"\")","v":""},{"$f":"IF(P_20号3様式1!O78<> \"\",IF(P_20号3様式1!O78<> \"-\",TEXT(INT(P_20号3様式1!O78),\"#,##0\"),\"-\"),\"\")","v":""},{"$f":"IF(P_20号3様式1!O78<> \"\",IF(P_20号3様式1!O78<> \"-\",IF(VALUE(FIXED(P_20号3様式1!O78,0,TRUE))<>P_20号3様式1!O78,RIGHT(FIXED(P_20号3様式1!O78,3,FALSE),4),\"\"),\"\"),\"\")","v":""},{"$f":"IF(P_20号3様式1!R78<> \"\",IF(P_20号3様式1!R78<> \"-\",TEXT(INT(P_20号3様式1!R78),\"#,##0\"),\"-\"),\"\")","v":""},{"$f":"IF(P_20号3様式1!R78<> \"\",IF(P_20号3様式1!R78<> \"-\",IF(VALUE(FIXED(P_20号3様式1!R78,0,TRUE))<>P_20号3様式1!R78,RIGHT(FIXED(P_20号3様式1!R78,3,FALSE),4),\"\"),\"\"),\"\")","v":""},{"$f":"IF(P_20号3様式1!U78<> \"\",IF(P_20号3様式1!U78<> \"-\",TEXT(INT(P_20号3様式1!U78),\"#,##0\"),\"-\"),\"\")","v":""},{"$f":"IF(P_20号3様式1!U78<> \"\",IF(P_20号3様式1!U78<> \"-\",IF(VALUE(FIXED(P_20号3様式1!U78,0,TRUE))<>P_20号3様式1!U78,RIGHT(FIXED(P_20号3様式1!U78,3,FALSE),4),\"\"),\"\"),\"\")","v":""},{"$f":"IF(P_20号3様式1!X78<> \"\",IF(P_20号3様式1!X78<> \"-\",TEXT(INT(P_20号3様式1!X78),\"#,##0\"),\"-\"),\"\")","v":""},{"$f":"IF(P_20号3様式1!X78<> \"\",IF(P_20号3様式1!X78<> \"-\",IF(VALUE(FIXED(P_20号3様式1!X78,0,TRUE))<>P_20号3様式1!X78,RIGHT(FIXED(P_20号3様式1!X78,3,FALSE),4),\"\"),\"\"),\"\")","v":""},{"$f":"IF(P_20号3様式1!AA78<> \"\",IF(P_20号3様式1!AA78<> \"-\",TEXT(INT(P_20号3様式1!AA78),\"#,##0\"),\"-\"),\"\")","v":""},{"$f":"IF(P_20号3様式1!AA78<> \"\",IF(P_20号3様式1!AA78<> \"-\",IF(VALUE(FIXED(P_20号3様式1!AA78,0,TRUE))<>P_20号3様式1!AA78,RIGHT(FIXED(P_20号3様式1!AA78,3,FALSE),4),\"\"),\"\"),\"\")","v":""}]
[{"$f":"IF(P_20号3様式1!C79=\"\",\"\",P_20号3様式1!C79)","v":"錦江町"},{"$f":"IF(P_20号3様式1!AE79<> \"\",TEXT(INT(P_20号3様式1!AE79),\"#,##0\"),\"\")","v":"0"},{"$f":"IF(P_20号3様式1!AE79= \"\",\"\",IF(VALUE(FIXED(P_20号3様式1!AE79,0,TRUE))<>P_20号3様式1!AE79,RIGHT(FIXED(P_20号3様式1!AE79,3,FALSE),4),\"\"))","v":".000"},{"$f":"IF(P_20号3様式1!F79<> \"\",IF(P_20号3様式1!F79<> \"-\",TEXT(INT(P_20号3様式1!F79),\"#,##0\"),\"-\"),\"\")","v":"0"},{"$f":"IF(P_20号3様式1!F79<> \"\",IF(P_20号3様式1!F79<> \"-\",IF(VALUE(FIXED(P_20号3様式1!F79,0,TRUE))<>P_20号3様式1!F79,RIGHT(FIXED(P_20号3様式1!F79,3,FALSE),4),\"\"),\"\"),\"\")","v":".000"},{"$f":"IF(P_20号3様式1!I79<> \"\",IF(P_20号3様式1!I79<> \"-\",TEXT(INT(P_20号3様式1!I79),\"#,##0\"),\"-\"),\"\")","v":""},{"$f":"IF(P_20号3様式1!I79<> \"\",IF(P_20号3様式1!I79<> \"-\",IF(VALUE(FIXED(P_20号3様式1!I79,0,TRUE))<>P_20号3様式1!I79,RIGHT(FIXED(P_20号3様式1!I79,3,FALSE),4),\"\"),\"\"),\"\")","v":""},{"$f":"IF(P_20号3様式1!L79<> \"\",IF(P_20号3様式1!L79<> \"-\",TEXT(INT(P_20号3様式1!L79),\"#,##0\"),\"-\"),\"\")","v":""},{"$f":"IF(P_20号3様式1!L79<> \"\",IF(P_20号3様式1!L79<> \"-\",IF(VALUE(FIXED(P_20号3様式1!L79,0,TRUE))<>P_20号3様式1!L79,RIGHT(FIXED(P_20号3様式1!L79,3,FALSE),4),\"\"),\"\"),\"\")","v":""},{"$f":"IF(P_20号3様式1!O79<> \"\",IF(P_20号3様式1!O79<> \"-\",TEXT(INT(P_20号3様式1!O79),\"#,##0\"),\"-\"),\"\")","v":""},{"$f":"IF(P_20号3様式1!O79<> \"\",IF(P_20号3様式1!O79<> \"-\",IF(VALUE(FIXED(P_20号3様式1!O79,0,TRUE))<>P_20号3様式1!O79,RIGHT(FIXED(P_20号3様式1!O79,3,FALSE),4),\"\"),\"\"),\"\")","v":""},{"$f":"IF(P_20号3様式1!R79<> \"\",IF(P_20号3様式1!R79<> \"-\",TEXT(INT(P_20号3様式1!R79),\"#,##0\"),\"-\"),\"\")","v":""},{"$f":"IF(P_20号3様式1!R79<> \"\",IF(P_20号3様式1!R79<> \"-\",IF(VALUE(FIXED(P_20号3様式1!R79,0,TRUE))<>P_20号3様式1!R79,RIGHT(FIXED(P_20号3様式1!R79,3,FALSE),4),\"\"),\"\"),\"\")","v":""},{"$f":"IF(P_20号3様式1!U79<> \"\",IF(P_20号3様式1!U79<> \"-\",TEXT(INT(P_20号3様式1!U79),\"#,##0\"),\"-\"),\"\")","v":""},{"$f":"IF(P_20号3様式1!U79<> \"\",IF(P_20号3様式1!U79<> \"-\",IF(VALUE(FIXED(P_20号3様式1!U79,0,TRUE))<>P_20号3様式1!U79,RIGHT(FIXED(P_20号3様式1!U79,3,FALSE),4),\"\"),\"\"),\"\")","v":""},{"$f":"IF(P_20号3様式1!X79<> \"\",IF(P_20号3様式1!X79<> \"-\",TEXT(INT(P_20号3様式1!X79),\"#,##0\"),\"-\"),\"\")","v":""},{"$f":"IF(P_20号3様式1!X79<> \"\",IF(P_20号3様式1!X79<> \"-\",IF(VALUE(FIXED(P_20号3様式1!X79,0,TRUE))<>P_20号3様式1!X79,RIGHT(FIXED(P_20号3様式1!X79,3,FALSE),4),\"\"),\"\"),\"\")","v":""},{"$f":"IF(P_20号3様式1!AA79<> \"\",IF(P_20号3様式1!AA79<> \"-\",TEXT(INT(P_20号3様式1!AA79),\"#,##0\"),\"-\"),\"\")","v":""},{"$f":"IF(P_20号3様式1!AA79<> \"\",IF(P_20号3様式1!AA79<> \"-\",IF(VALUE(FIXED(P_20号3様式1!AA79,0,TRUE))<>P_20号3様式1!AA79,RIGHT(FIXED(P_20号3様式1!AA79,3,FALSE),4),\"\"),\"\"),\"\")","v":""}]
[{"$f":"IF(P_20号3様式1!C80=\"\",\"\",P_20号3様式1!C80)","v":"南大隅町"},{"$f":"IF(P_20号3様式1!AE80<> \"\",TEXT(INT(P_20号3様式1!AE80),\"#,##0\"),\"\")","v":"0"},{"$f":"IF(P_20号3様式1!AE80= \"\",\"\",IF(VALUE(FIXED(P_20号3様式1!AE80,0,TRUE))<>P_20号3様式1!AE80,RIGHT(FIXED(P_20号3様式1!AE80,3,FALSE),4),\"\"))","v":".000"},{"$f":"IF(P_20号3様式1!F80<> \"\",IF(P_20号3様式1!F80<> \"-\",TEXT(INT(P_20号3様式1!F80),\"#,##0\"),\"-\"),\"\")","v":"0"},{"$f":"IF(P_20号3様式1!F80<> \"\",IF(P_20号3様式1!F80<> \"-\",IF(VALUE(FIXED(P_20号3様式1!F80,0,TRUE))<>P_20号3様式1!F80,RIGHT(FIXED(P_20号3様式1!F80,3,FALSE),4),\"\"),\"\"),\"\")","v":".000"},{"$f":"IF(P_20号3様式1!I80<> \"\",IF(P_20号3様式1!I80<> \"-\",TEXT(INT(P_20号3様式1!I80),\"#,##0\"),\"-\"),\"\")","v":""},{"$f":"IF(P_20号3様式1!I80<> \"\",IF(P_20号3様式1!I80<> \"-\",IF(VALUE(FIXED(P_20号3様式1!I80,0,TRUE))<>P_20号3様式1!I80,RIGHT(FIXED(P_20号3様式1!I80,3,FALSE),4),\"\"),\"\"),\"\")","v":""},{"$f":"IF(P_20号3様式1!L80<> \"\",IF(P_20号3様式1!L80<> \"-\",TEXT(INT(P_20号3様式1!L80),\"#,##0\"),\"-\"),\"\")","v":""},{"$f":"IF(P_20号3様式1!L80<> \"\",IF(P_20号3様式1!L80<> \"-\",IF(VALUE(FIXED(P_20号3様式1!L80,0,TRUE))<>P_20号3様式1!L80,RIGHT(FIXED(P_20号3様式1!L80,3,FALSE),4),\"\"),\"\"),\"\")","v":""},{"$f":"IF(P_20号3様式1!O80<> \"\",IF(P_20号3様式1!O80<> \"-\",TEXT(INT(P_20号3様式1!O80),\"#,##0\"),\"-\"),\"\")","v":""},{"$f":"IF(P_20号3様式1!O80<> \"\",IF(P_20号3様式1!O80<> \"-\",IF(VALUE(FIXED(P_20号3様式1!O80,0,TRUE))<>P_20号3様式1!O80,RIGHT(FIXED(P_20号3様式1!O80,3,FALSE),4),\"\"),\"\"),\"\")","v":""},{"$f":"IF(P_20号3様式1!R80<> \"\",IF(P_20号3様式1!R80<> \"-\",TEXT(INT(P_20号3様式1!R80),\"#,##0\"),\"-\"),\"\")","v":""},{"$f":"IF(P_20号3様式1!R80<> \"\",IF(P_20号3様式1!R80<> \"-\",IF(VALUE(FIXED(P_20号3様式1!R80,0,TRUE))<>P_20号3様式1!R80,RIGHT(FIXED(P_20号3様式1!R80,3,FALSE),4),\"\"),\"\"),\"\")","v":""},{"$f":"IF(P_20号3様式1!U80<> \"\",IF(P_20号3様式1!U80<> \"-\",TEXT(INT(P_20号3様式1!U80),\"#,##0\"),\"-\"),\"\")","v":""},{"$f":"IF(P_20号3様式1!U80<> \"\",IF(P_20号3様式1!U80<> \"-\",IF(VALUE(FIXED(P_20号3様式1!U80,0,TRUE))<>P_20号3様式1!U80,RIGHT(FIXED(P_20号3様式1!U80,3,FALSE),4),\"\"),\"\"),\"\")","v":""},{"$f":"IF(P_20号3様式1!X80<> \"\",IF(P_20号3様式1!X80<> \"-\",TEXT(INT(P_20号3様式1!X80),\"#,##0\"),\"-\"),\"\")","v":""},{"$f":"IF(P_20号3様式1!X80<> \"\",IF(P_20号3様式1!X80<> \"-\",IF(VALUE(FIXED(P_20号3様式1!X80,0,TRUE))<>P_20号3様式1!X80,RIGHT(FIXED(P_20号3様式1!X80,3,FALSE),4),\"\"),\"\"),\"\")","v":""},{"$f":"IF(P_20号3様式1!AA80<> \"\",IF(P_20号3様式1!AA80<> \"-\",TEXT(INT(P_20号3様式1!AA80),\"#,##0\"),\"-\"),\"\")","v":""},{"$f":"IF(P_20号3様式1!AA80<> \"\",IF(P_20号3様式1!AA80<> \"-\",IF(VALUE(FIXED(P_20号3様式1!AA80,0,TRUE))<>P_20号3様式1!AA80,RIGHT(FIXED(P_20号3様式1!AA80,3,FALSE),4),\"\"),\"\"),\"\")","v":""}]
[{"$f":"IF(P_20号3様式1!C81=\"\",\"\",P_20号3様式1!C81)","v":"肝付町"},{"$f":"IF(P_20号3様式1!AE81<> \"\",TEXT(INT(P_20号3様式1!AE81),\"#,##0\"),\"\")","v":"0"},{"$f":"IF(P_20号3様式1!AE81= \"\",\"\",IF(VALUE(FIXED(P_20号3様式1!AE81,0,TRUE))<>P_20号3様式1!AE81,RIGHT(FIXED(P_20号3様式1!AE81,3,FALSE),4),\"\"))","v":".000"},{"$f":"IF(P_20号3様式1!F81<> \"\",IF(P_20号3様式1!F81<> \"-\",TEXT(INT(P_20号3様式1!F81),\"#,##0\"),\"-\"),\"\")","v":"0"},{"$f":"IF(P_20号3様式1!F81<> \"\",IF(P_20号3様式1!F81<> \"-\",IF(VALUE(FIXED(P_20号3様式1!F81,0,TRUE))<>P_20号3様式1!F81,RIGHT(FIXED(P_20号3様式1!F81,3,FALSE),4),\"\"),\"\"),\"\")","v":".000"},{"$f":"IF(P_20号3様式1!I81<> \"\",IF(P_20号3様式1!I81<> \"-\",TEXT(INT(P_20号3様式1!I81),\"#,##0\"),\"-\"),\"\")","v":""},{"$f":"IF(P_20号3様式1!I81<> \"\",IF(P_20号3様式1!I81<> \"-\",IF(VALUE(FIXED(P_20号3様式1!I81,0,TRUE))<>P_20号3様式1!I81,RIGHT(FIXED(P_20号3様式1!I81,3,FALSE),4),\"\"),\"\"),\"\")","v":""},{"$f":"IF(P_20号3様式1!L81<> \"\",IF(P_20号3様式1!L81<> \"-\",TEXT(INT(P_20号3様式1!L81),\"#,##0\"),\"-\"),\"\")","v":""},{"$f":"IF(P_20号3様式1!L81<> \"\",IF(P_20号3様式1!L81<> \"-\",IF(VALUE(FIXED(P_20号3様式1!L81,0,TRUE))<>P_20号3様式1!L81,RIGHT(FIXED(P_20号3様式1!L81,3,FALSE),4),\"\"),\"\"),\"\")","v":""},{"$f":"IF(P_20号3様式1!O81<> \"\",IF(P_20号3様式1!O81<> \"-\",TEXT(INT(P_20号3様式1!O81),\"#,##0\"),\"-\"),\"\")","v":""},{"$f":"IF(P_20号3様式1!O81<> \"\",IF(P_20号3様式1!O81<> \"-\",IF(VALUE(FIXED(P_20号3様式1!O81,0,TRUE))<>P_20号3様式1!O81,RIGHT(FIXED(P_20号3様式1!O81,3,FALSE),4),\"\"),\"\"),\"\")","v":""},{"$f":"IF(P_20号3様式1!R81<> \"\",IF(P_20号3様式1!R81<> \"-\",TEXT(INT(P_20号3様式1!R81),\"#,##0\"),\"-\"),\"\")","v":""},{"$f":"IF(P_20号3様式1!R81<> \"\",IF(P_20号3様式1!R81<> \"-\",IF(VALUE(FIXED(P_20号3様式1!R81,0,TRUE))<>P_20号3様式1!R81,RIGHT(FIXED(P_20号3様式1!R81,3,FALSE),4),\"\"),\"\"),\"\")","v":""},{"$f":"IF(P_20号3様式1!U81<> \"\",IF(P_20号3様式1!U81<> \"-\",TEXT(INT(P_20号3様式1!U81),\"#,##0\"),\"-\"),\"\")","v":""},{"$f":"IF(P_20号3様式1!U81<> \"\",IF(P_20号3様式1!U81<> \"-\",IF(VALUE(FIXED(P_20号3様式1!U81,0,TRUE))<>P_20号3様式1!U81,RIGHT(FIXED(P_20号3様式1!U81,3,FALSE),4),\"\"),\"\"),\"\")","v":""},{"$f":"IF(P_20号3様式1!X81<> \"\",IF(P_20号3様式1!X81<> \"-\",TEXT(INT(P_20号3様式1!X81),\"#,##0\"),\"-\"),\"\")","v":""},{"$f":"IF(P_20号3様式1!X81<> \"\",IF(P_20号3様式1!X81<> \"-\",IF(VALUE(FIXED(P_20号3様式1!X81,0,TRUE))<>P_20号3様式1!X81,RIGHT(FIXED(P_20号3様式1!X81,3,FALSE),4),\"\"),\"\"),\"\")","v":""},{"$f":"IF(P_20号3様式1!AA81<> \"\",IF(P_20号3様式1!AA81<> \"-\",TEXT(INT(P_20号3様式1!AA81),\"#,##0\"),\"-\"),\"\")","v":""},{"$f":"IF(P_20号3様式1!AA81<> \"\",IF(P_20号3様式1!AA81<> \"-\",IF(VALUE(FIXED(P_20号3様式1!AA81,0,TRUE))<>P_20号3様式1!AA81,RIGHT(FIXED(P_20号3様式1!AA81,3,FALSE),4),\"\"),\"\"),\"\")","v":""}]
[{"$f":"IF(P_20号3様式1!C82=\"\",\"\",P_20号3様式1!C82)","v":"＊（肝属郡）計"},{"$f":"IF(P_20号3様式1!AE82<> \"\",TEXT(INT(P_20号3様式1!AE82),\"#,##0\"),\"\")","v":"0"},{"$f":"IF(P_20号3様式1!AE82= \"\",\"\",IF(VALUE(FIXED(P_20号3様式1!AE82,0,TRUE))<>P_20号3様式1!AE82,RIGHT(FIXED(P_20号3様式1!AE82,3,FALSE),4),\"\"))","v":".000"},{"$f":"IF(P_20号3様式1!F82<> \"\",IF(P_20号3様式1!F82<> \"-\",TEXT(INT(P_20号3様式1!F82),\"#,##0\"),\"-\"),\"\")","v":"0"},{"$f":"IF(P_20号3様式1!F82<> \"\",IF(P_20号3様式1!F82<> \"-\",IF(VALUE(FIXED(P_20号3様式1!F82,0,TRUE))<>P_20号3様式1!F82,RIGHT(FIXED(P_20号3様式1!F82,3,FALSE),4),\"\"),\"\"),\"\")","v":".000"},{"$f":"IF(P_20号3様式1!I82<> \"\",IF(P_20号3様式1!I82<> \"-\",TEXT(INT(P_20号3様式1!I82),\"#,##0\"),\"-\"),\"\")","v":""},{"$f":"IF(P_20号3様式1!I82<> \"\",IF(P_20号3様式1!I82<> \"-\",IF(VALUE(FIXED(P_20号3様式1!I82,0,TRUE))<>P_20号3様式1!I82,RIGHT(FIXED(P_20号3様式1!I82,3,FALSE),4),\"\"),\"\"),\"\")","v":""},{"$f":"IF(P_20号3様式1!L82<> \"\",IF(P_20号3様式1!L82<> \"-\",TEXT(INT(P_20号3様式1!L82),\"#,##0\"),\"-\"),\"\")","v":""},{"$f":"IF(P_20号3様式1!L82<> \"\",IF(P_20号3様式1!L82<> \"-\",IF(VALUE(FIXED(P_20号3様式1!L82,0,TRUE))<>P_20号3様式1!L82,RIGHT(FIXED(P_20号3様式1!L82,3,FALSE),4),\"\"),\"\"),\"\")","v":""},{"$f":"IF(P_20号3様式1!O82<> \"\",IF(P_20号3様式1!O82<> \"-\",TEXT(INT(P_20号3様式1!O82),\"#,##0\"),\"-\"),\"\")","v":""},{"$f":"IF(P_20号3様式1!O82<> \"\",IF(P_20号3様式1!O82<> \"-\",IF(VALUE(FIXED(P_20号3様式1!O82,0,TRUE))<>P_20号3様式1!O82,RIGHT(FIXED(P_20号3様式1!O82,3,FALSE),4),\"\"),\"\"),\"\")","v":""},{"$f":"IF(P_20号3様式1!R82<> \"\",IF(P_20号3様式1!R82<> \"-\",TEXT(INT(P_20号3様式1!R82),\"#,##0\"),\"-\"),\"\")","v":""},{"$f":"IF(P_20号3様式1!R82<> \"\",IF(P_20号3様式1!R82<> \"-\",IF(VALUE(FIXED(P_20号3様式1!R82,0,TRUE))<>P_20号3様式1!R82,RIGHT(FIXED(P_20号3様式1!R82,3,FALSE),4),\"\"),\"\"),\"\")","v":""},{"$f":"IF(P_20号3様式1!U82<> \"\",IF(P_20号3様式1!U82<> \"-\",TEXT(INT(P_20号3様式1!U82),\"#,##0\"),\"-\"),\"\")","v":""},{"$f":"IF(P_20号3様式1!U82<> \"\",IF(P_20号3様式1!U82<> \"-\",IF(VALUE(FIXED(P_20号3様式1!U82,0,TRUE))<>P_20号3様式1!U82,RIGHT(FIXED(P_20号3様式1!U82,3,FALSE),4),\"\"),\"\"),\"\")","v":""},{"$f":"IF(P_20号3様式1!X82<> \"\",IF(P_20号3様式1!X82<> \"-\",TEXT(INT(P_20号3様式1!X82),\"#,##0\"),\"-\"),\"\")","v":""},{"$f":"IF(P_20号3様式1!X82<> \"\",IF(P_20号3様式1!X82<> \"-\",IF(VALUE(FIXED(P_20号3様式1!X82,0,TRUE))<>P_20号3様式1!X82,RIGHT(FIXED(P_20号3様式1!X82,3,FALSE),4),\"\"),\"\"),\"\")","v":""},{"$f":"IF(P_20号3様式1!AA82<> \"\",IF(P_20号3様式1!AA82<> \"-\",TEXT(INT(P_20号3様式1!AA82),\"#,##0\"),\"-\"),\"\")","v":""},{"$f":"IF(P_20号3様式1!AA82<> \"\",IF(P_20号3様式1!AA82<> \"-\",IF(VALUE(FIXED(P_20号3様式1!AA82,0,TRUE))<>P_20号3様式1!AA82,RIGHT(FIXED(P_20号3様式1!AA82,3,FALSE),4),\"\"),\"\"),\"\")","v":""}]
[{"$f":"IF(P_20号3様式1!C83=\"\",\"\",P_20号3様式1!C83)","v":"中種子町"},{"$f":"IF(P_20号3様式1!AE83<> \"\",TEXT(INT(P_20号3様式1!AE83),\"#,##0\"),\"\")","v":"1"},{"$f":"IF(P_20号3様式1!AE83= \"\",\"\",IF(VALUE(FIXED(P_20号3様式1!AE83,0,TRUE))<>P_20号3様式1!AE83,RIGHT(FIXED(P_20号3様式1!AE83,3,FALSE),4),\"\"))","v":".000"},{"$f":"IF(P_20号3様式1!F83<> \"\",IF(P_20号3様式1!F83<> \"-\",TEXT(INT(P_20号3様式1!F83),\"#,##0\"),\"-\"),\"\")","v":"1"},{"$f":"IF(P_20号3様式1!F83<> \"\",IF(P_20号3様式1!F83<> \"-\",IF(VALUE(FIXED(P_20号3様式1!F83,0,TRUE))<>P_20号3様式1!F83,RIGHT(FIXED(P_20号3様式1!F83,3,FALSE),4),\"\"),\"\"),\"\")","v":".000"},{"$f":"IF(P_20号3様式1!I83<> \"\",IF(P_20号3様式1!I83<> \"-\",TEXT(INT(P_20号3様式1!I83),\"#,##0\"),\"-\"),\"\")","v":""},{"$f":"IF(P_20号3様式1!I83<> \"\",IF(P_20号3様式1!I83<> \"-\",IF(VALUE(FIXED(P_20号3様式1!I83,0,TRUE))<>P_20号3様式1!I83,RIGHT(FIXED(P_20号3様式1!I83,3,FALSE),4),\"\"),\"\"),\"\")","v":""},{"$f":"IF(P_20号3様式1!L83<> \"\",IF(P_20号3様式1!L83<> \"-\",TEXT(INT(P_20号3様式1!L83),\"#,##0\"),\"-\"),\"\")","v":""},{"$f":"IF(P_20号3様式1!L83<> \"\",IF(P_20号3様式1!L83<> \"-\",IF(VALUE(FIXED(P_20号3様式1!L83,0,TRUE))<>P_20号3様式1!L83,RIGHT(FIXED(P_20号3様式1!L83,3,FALSE),4),\"\"),\"\"),\"\")","v":""},{"$f":"IF(P_20号3様式1!O83<> \"\",IF(P_20号3様式1!O83<> \"-\",TEXT(INT(P_20号3様式1!O83),\"#,##0\"),\"-\"),\"\")","v":""},{"$f":"IF(P_20号3様式1!O83<> \"\",IF(P_20号3様式1!O83<> \"-\",IF(VALUE(FIXED(P_20号3様式1!O83,0,TRUE))<>P_20号3様式1!O83,RIGHT(FIXED(P_20号3様式1!O83,3,FALSE),4),\"\"),\"\"),\"\")","v":""},{"$f":"IF(P_20号3様式1!R83<> \"\",IF(P_20号3様式1!R83<> \"-\",TEXT(INT(P_20号3様式1!R83),\"#,##0\"),\"-\"),\"\")","v":""},{"$f":"IF(P_20号3様式1!R83<> \"\",IF(P_20号3様式1!R83<> \"-\",IF(VALUE(FIXED(P_20号3様式1!R83,0,TRUE))<>P_20号3様式1!R83,RIGHT(FIXED(P_20号3様式1!R83,3,FALSE),4),\"\"),\"\"),\"\")","v":""},{"$f":"IF(P_20号3様式1!U83<> \"\",IF(P_20号3様式1!U83<> \"-\",TEXT(INT(P_20号3様式1!U83),\"#,##0\"),\"-\"),\"\")","v":""},{"$f":"IF(P_20号3様式1!U83<> \"\",IF(P_20号3様式1!U83<> \"-\",IF(VALUE(FIXED(P_20号3様式1!U83,0,TRUE))<>P_20号3様式1!U83,RIGHT(FIXED(P_20号3様式1!U83,3,FALSE),4),\"\"),\"\"),\"\")","v":""},{"$f":"IF(P_20号3様式1!X83<> \"\",IF(P_20号3様式1!X83<> \"-\",TEXT(INT(P_20号3様式1!X83),\"#,##0\"),\"-\"),\"\")","v":""},{"$f":"IF(P_20号3様式1!X83<> \"\",IF(P_20号3様式1!X83<> \"-\",IF(VALUE(FIXED(P_20号3様式1!X83,0,TRUE))<>P_20号3様式1!X83,RIGHT(FIXED(P_20号3様式1!X83,3,FALSE),4),\"\"),\"\"),\"\")","v":""},{"$f":"IF(P_20号3様式1!AA83<> \"\",IF(P_20号3様式1!AA83<> \"-\",TEXT(INT(P_20号3様式1!AA83),\"#,##0\"),\"-\"),\"\")","v":""},{"$f":"IF(P_20号3様式1!AA83<> \"\",IF(P_20号3様式1!AA83<> \"-\",IF(VALUE(FIXED(P_20号3様式1!AA83,0,TRUE))<>P_20号3様式1!AA83,RIGHT(FIXED(P_20号3様式1!AA83,3,FALSE),4),\"\"),\"\"),\"\")","v":""}]
[{"$f":"IF(P_20号3様式1!C84=\"\",\"\",P_20号3様式1!C84)","v":"南種子町"},{"$f":"IF(P_20号3様式1!AE84<> \"\",TEXT(INT(P_20号3様式1!AE84),\"#,##0\"),\"\")","v":"0"},{"$f":"IF(P_20号3様式1!AE84= \"\",\"\",IF(VALUE(FIXED(P_20号3様式1!AE84,0,TRUE))<>P_20号3様式1!AE84,RIGHT(FIXED(P_20号3様式1!AE84,3,FALSE),4),\"\"))","v":".000"},{"$f":"IF(P_20号3様式1!F84<> \"\",IF(P_20号3様式1!F84<> \"-\",TEXT(INT(P_20号3様式1!F84),\"#,##0\"),\"-\"),\"\")","v":"0"},{"$f":"IF(P_20号3様式1!F84<> \"\",IF(P_20号3様式1!F84<> \"-\",IF(VALUE(FIXED(P_20号3様式1!F84,0,TRUE))<>P_20号3様式1!F84,RIGHT(FIXED(P_20号3様式1!F84,3,FALSE),4),\"\"),\"\"),\"\")","v":".000"},{"$f":"IF(P_20号3様式1!I84<> \"\",IF(P_20号3様式1!I84<> \"-\",TEXT(INT(P_20号3様式1!I84),\"#,##0\"),\"-\"),\"\")","v":""},{"$f":"IF(P_20号3様式1!I84<> \"\",IF(P_20号3様式1!I84<> \"-\",IF(VALUE(FIXED(P_20号3様式1!I84,0,TRUE))<>P_20号3様式1!I84,RIGHT(FIXED(P_20号3様式1!I84,3,FALSE),4),\"\"),\"\"),\"\")","v":""},{"$f":"IF(P_20号3様式1!L84<> \"\",IF(P_20号3様式1!L84<> \"-\",TEXT(INT(P_20号3様式1!L84),\"#,##0\"),\"-\"),\"\")","v":""},{"$f":"IF(P_20号3様式1!L84<> \"\",IF(P_20号3様式1!L84<> \"-\",IF(VALUE(FIXED(P_20号3様式1!L84,0,TRUE))<>P_20号3様式1!L84,RIGHT(FIXED(P_20号3様式1!L84,3,FALSE),4),\"\"),\"\"),\"\")","v":""},{"$f":"IF(P_20号3様式1!O84<> \"\",IF(P_20号3様式1!O84<> \"-\",TEXT(INT(P_20号3様式1!O84),\"#,##0\"),\"-\"),\"\")","v":""},{"$f":"IF(P_20号3様式1!O84<> \"\",IF(P_20号3様式1!O84<> \"-\",IF(VALUE(FIXED(P_20号3様式1!O84,0,TRUE))<>P_20号3様式1!O84,RIGHT(FIXED(P_20号3様式1!O84,3,FALSE),4),\"\"),\"\"),\"\")","v":""},{"$f":"IF(P_20号3様式1!R84<> \"\",IF(P_20号3様式1!R84<> \"-\",TEXT(INT(P_20号3様式1!R84),\"#,##0\"),\"-\"),\"\")","v":""},{"$f":"IF(P_20号3様式1!R84<> \"\",IF(P_20号3様式1!R84<> \"-\",IF(VALUE(FIXED(P_20号3様式1!R84,0,TRUE))<>P_20号3様式1!R84,RIGHT(FIXED(P_20号3様式1!R84,3,FALSE),4),\"\"),\"\"),\"\")","v":""},{"$f":"IF(P_20号3様式1!U84<> \"\",IF(P_20号3様式1!U84<> \"-\",TEXT(INT(P_20号3様式1!U84),\"#,##0\"),\"-\"),\"\")","v":""},{"$f":"IF(P_20号3様式1!U84<> \"\",IF(P_20号3様式1!U84<> \"-\",IF(VALUE(FIXED(P_20号3様式1!U84,0,TRUE))<>P_20号3様式1!U84,RIGHT(FIXED(P_20号3様式1!U84,3,FALSE),4),\"\"),\"\"),\"\")","v":""},{"$f":"IF(P_20号3様式1!X84<> \"\",IF(P_20号3様式1!X84<> \"-\",TEXT(INT(P_20号3様式1!X84),\"#,##0\"),\"-\"),\"\")","v":""},{"$f":"IF(P_20号3様式1!X84<> \"\",IF(P_20号3様式1!X84<> \"-\",IF(VALUE(FIXED(P_20号3様式1!X84,0,TRUE))<>P_20号3様式1!X84,RIGHT(FIXED(P_20号3様式1!X84,3,FALSE),4),\"\"),\"\"),\"\")","v":""},{"$f":"IF(P_20号3様式1!AA84<> \"\",IF(P_20号3様式1!AA84<> \"-\",TEXT(INT(P_20号3様式1!AA84),\"#,##0\"),\"-\"),\"\")","v":""},{"$f":"IF(P_20号3様式1!AA84<> \"\",IF(P_20号3様式1!AA84<> \"-\",IF(VALUE(FIXED(P_20号3様式1!AA84,0,TRUE))<>P_20号3様式1!AA84,RIGHT(FIXED(P_20号3様式1!AA84,3,FALSE),4),\"\"),\"\"),\"\")","v":""}]
[{"$f":"IF(P_20号3様式1!C85=\"\",\"\",P_20号3様式1!C85)","v":"屋久島町"},{"$f":"IF(P_20号3様式1!AE85<> \"\",TEXT(INT(P_20号3様式1!AE85),\"#,##0\"),\"\")","v":"0"},{"$f":"IF(P_20号3様式1!AE85= \"\",\"\",IF(VALUE(FIXED(P_20号3様式1!AE85,0,TRUE))<>P_20号3様式1!AE85,RIGHT(FIXED(P_20号3様式1!AE85,3,FALSE),4),\"\"))","v":".000"},{"$f":"IF(P_20号3様式1!F85<> \"\",IF(P_20号3様式1!F85<> \"-\",TEXT(INT(P_20号3様式1!F85),\"#,##0\"),\"-\"),\"\")","v":"0"},{"$f":"IF(P_20号3様式1!F85<> \"\",IF(P_20号3様式1!F85<> \"-\",IF(VALUE(FIXED(P_20号3様式1!F85,0,TRUE))<>P_20号3様式1!F85,RIGHT(FIXED(P_20号3様式1!F85,3,FALSE),4),\"\"),\"\"),\"\")","v":".000"},{"$f":"IF(P_20号3様式1!I85<> \"\",IF(P_20号3様式1!I85<> \"-\",TEXT(INT(P_20号3様式1!I85),\"#,##0\"),\"-\"),\"\")","v":""},{"$f":"IF(P_20号3様式1!I85<> \"\",IF(P_20号3様式1!I85<> \"-\",IF(VALUE(FIXED(P_20号3様式1!I85,0,TRUE))<>P_20号3様式1!I85,RIGHT(FIXED(P_20号3様式1!I85,3,FALSE),4),\"\"),\"\"),\"\")","v":""},{"$f":"IF(P_20号3様式1!L85<> \"\",IF(P_20号3様式1!L85<> \"-\",TEXT(INT(P_20号3様式1!L85),\"#,##0\"),\"-\"),\"\")","v":""},{"$f":"IF(P_20号3様式1!L85<> \"\",IF(P_20号3様式1!L85<> \"-\",IF(VALUE(FIXED(P_20号3様式1!L85,0,TRUE))<>P_20号3様式1!L85,RIGHT(FIXED(P_20号3様式1!L85,3,FALSE),4),\"\"),\"\"),\"\")","v":""},{"$f":"IF(P_20号3様式1!O85<> \"\",IF(P_20号3様式1!O85<> \"-\",TEXT(INT(P_20号3様式1!O85),\"#,##0\"),\"-\"),\"\")","v":""},{"$f":"IF(P_20号3様式1!O85<> \"\",IF(P_20号3様式1!O85<> \"-\",IF(VALUE(FIXED(P_20号3様式1!O85,0,TRUE))<>P_20号3様式1!O85,RIGHT(FIXED(P_20号3様式1!O85,3,FALSE),4),\"\"),\"\"),\"\")","v":""},{"$f":"IF(P_20号3様式1!R85<> \"\",IF(P_20号3様式1!R85<> \"-\",TEXT(INT(P_20号3様式1!R85),\"#,##0\"),\"-\"),\"\")","v":""},{"$f":"IF(P_20号3様式1!R85<> \"\",IF(P_20号3様式1!R85<> \"-\",IF(VALUE(FIXED(P_20号3様式1!R85,0,TRUE))<>P_20号3様式1!R85,RIGHT(FIXED(P_20号3様式1!R85,3,FALSE),4),\"\"),\"\"),\"\")","v":""},{"$f":"IF(P_20号3様式1!U85<> \"\",IF(P_20号3様式1!U85<> \"-\",TEXT(INT(P_20号3様式1!U85),\"#,##0\"),\"-\"),\"\")","v":""},{"$f":"IF(P_20号3様式1!U85<> \"\",IF(P_20号3様式1!U85<> \"-\",IF(VALUE(FIXED(P_20号3様式1!U85,0,TRUE))<>P_20号3様式1!U85,RIGHT(FIXED(P_20号3様式1!U85,3,FALSE),4),\"\"),\"\"),\"\")","v":""},{"$f":"IF(P_20号3様式1!X85<> \"\",IF(P_20号3様式1!X85<> \"-\",TEXT(INT(P_20号3様式1!X85),\"#,##0\"),\"-\"),\"\")","v":""},{"$f":"IF(P_20号3様式1!X85<> \"\",IF(P_20号3様式1!X85<> \"-\",IF(VALUE(FIXED(P_20号3様式1!X85,0,TRUE))<>P_20号3様式1!X85,RIGHT(FIXED(P_20号3様式1!X85,3,FALSE),4),\"\"),\"\"),\"\")","v":""},{"$f":"IF(P_20号3様式1!AA85<> \"\",IF(P_20号3様式1!AA85<> \"-\",TEXT(INT(P_20号3様式1!AA85),\"#,##0\"),\"-\"),\"\")","v":""},{"$f":"IF(P_20号3様式1!AA85<> \"\",IF(P_20号3様式1!AA85<> \"-\",IF(VALUE(FIXED(P_20号3様式1!AA85,0,TRUE))<>P_20号3様式1!AA85,RIGHT(FIXED(P_20号3様式1!AA85,3,FALSE),4),\"\"),\"\"),\"\")","v":""}]
[{"$f":"IF(P_20号3様式1!C86=\"\",\"\",P_20号3様式1!C86)","v":"＊（熊毛郡）計"},{"$f":"IF(P_20号3様式1!AE86<> \"\",TEXT(INT(P_20号3様式1!AE86),\"#,##0\"),\"\")","v":"1"},{"$f":"IF(P_20号3様式1!AE86= \"\",\"\",IF(VALUE(FIXED(P_20号3様式1!AE86,0,TRUE))<>P_20号3様式1!AE86,RIGHT(FIXED(P_20号3様式1!AE86,3,FALSE),4),\"\"))","v":".000"},{"$f":"IF(P_20号3様式1!F86<> \"\",IF(P_20号3様式1!F86<> \"-\",TEXT(INT(P_20号3様式1!F86),\"#,##0\"),\"-\"),\"\")","v":"1"},{"$f":"IF(P_20号3様式1!F86<> \"\",IF(P_20号3様式1!F86<> \"-\",IF(VALUE(FIXED(P_20号3様式1!F86,0,TRUE))<>P_20号3様式1!F86,RIGHT(FIXED(P_20号3様式1!F86,3,FALSE),4),\"\"),\"\"),\"\")","v":".000"},{"$f":"IF(P_20号3様式1!I86<> \"\",IF(P_20号3様式1!I86<> \"-\",TEXT(INT(P_20号3様式1!I86),\"#,##0\"),\"-\"),\"\")","v":""},{"$f":"IF(P_20号3様式1!I86<> \"\",IF(P_20号3様式1!I86<> \"-\",IF(VALUE(FIXED(P_20号3様式1!I86,0,TRUE))<>P_20号3様式1!I86,RIGHT(FIXED(P_20号3様式1!I86,3,FALSE),4),\"\"),\"\"),\"\")","v":""},{"$f":"IF(P_20号3様式1!L86<> \"\",IF(P_20号3様式1!L86<> \"-\",TEXT(INT(P_20号3様式1!L86),\"#,##0\"),\"-\"),\"\")","v":""},{"$f":"IF(P_20号3様式1!L86<> \"\",IF(P_20号3様式1!L86<> \"-\",IF(VALUE(FIXED(P_20号3様式1!L86,0,TRUE))<>P_20号3様式1!L86,RIGHT(FIXED(P_20号3様式1!L86,3,FALSE),4),\"\"),\"\"),\"\")","v":""},{"$f":"IF(P_20号3様式1!O86<> \"\",IF(P_20号3様式1!O86<> \"-\",TEXT(INT(P_20号3様式1!O86),\"#,##0\"),\"-\"),\"\")","v":""},{"$f":"IF(P_20号3様式1!O86<> \"\",IF(P_20号3様式1!O86<> \"-\",IF(VALUE(FIXED(P_20号3様式1!O86,0,TRUE))<>P_20号3様式1!O86,RIGHT(FIXED(P_20号3様式1!O86,3,FALSE),4),\"\"),\"\"),\"\")","v":""},{"$f":"IF(P_20号3様式1!R86<> \"\",IF(P_20号3様式1!R86<> \"-\",TEXT(INT(P_20号3様式1!R86),\"#,##0\"),\"-\"),\"\")","v":""},{"$f":"IF(P_20号3様式1!R86<> \"\",IF(P_20号3様式1!R86<> \"-\",IF(VALUE(FIXED(P_20号3様式1!R86,0,TRUE))<>P_20号3様式1!R86,RIGHT(FIXED(P_20号3様式1!R86,3,FALSE),4),\"\"),\"\"),\"\")","v":""},{"$f":"IF(P_20号3様式1!U86<> \"\",IF(P_20号3様式1!U86<> \"-\",TEXT(INT(P_20号3様式1!U86),\"#,##0\"),\"-\"),\"\")","v":""},{"$f":"IF(P_20号3様式1!U86<> \"\",IF(P_20号3様式1!U86<> \"-\",IF(VALUE(FIXED(P_20号3様式1!U86,0,TRUE))<>P_20号3様式1!U86,RIGHT(FIXED(P_20号3様式1!U86,3,FALSE),4),\"\"),\"\"),\"\")","v":""},{"$f":"IF(P_20号3様式1!X86<> \"\",IF(P_20号3様式1!X86<> \"-\",TEXT(INT(P_20号3様式1!X86),\"#,##0\"),\"-\"),\"\")","v":""},{"$f":"IF(P_20号3様式1!X86<> \"\",IF(P_20号3様式1!X86<> \"-\",IF(VALUE(FIXED(P_20号3様式1!X86,0,TRUE))<>P_20号3様式1!X86,RIGHT(FIXED(P_20号3様式1!X86,3,FALSE),4),\"\"),\"\"),\"\")","v":""},{"$f":"IF(P_20号3様式1!AA86<> \"\",IF(P_20号3様式1!AA86<> \"-\",TEXT(INT(P_20号3様式1!AA86),\"#,##0\"),\"-\"),\"\")","v":""},{"$f":"IF(P_20号3様式1!AA86<> \"\",IF(P_20号3様式1!AA86<> \"-\",IF(VALUE(FIXED(P_20号3様式1!AA86,0,TRUE))<>P_20号3様式1!AA86,RIGHT(FIXED(P_20号3様式1!AA86,3,FALSE),4),\"\"),\"\"),\"\")","v":""}]
[{"$f":"IF(P_20号3様式1!C87=\"\",\"\",P_20号3様式1!C87)","v":"大和村"},{"$f":"IF(P_20号3様式1!AE87<> \"\",TEXT(INT(P_20号3様式1!AE87),\"#,##0\"),\"\")","v":"0"},{"$f":"IF(P_20号3様式1!AE87= \"\",\"\",IF(VALUE(FIXED(P_20号3様式1!AE87,0,TRUE))<>P_20号3様式1!AE87,RIGHT(FIXED(P_20号3様式1!AE87,3,FALSE),4),\"\"))","v":".000"},{"$f":"IF(P_20号3様式1!F87<> \"\",IF(P_20号3様式1!F87<> \"-\",TEXT(INT(P_20号3様式1!F87),\"#,##0\"),\"-\"),\"\")","v":"0"},{"$f":"IF(P_20号3様式1!F87<> \"\",IF(P_20号3様式1!F87<> \"-\",IF(VALUE(FIXED(P_20号3様式1!F87,0,TRUE))<>P_20号3様式1!F87,RIGHT(FIXED(P_20号3様式1!F87,3,FALSE),4),\"\"),\"\"),\"\")","v":".000"},{"$f":"IF(P_20号3様式1!I87<> \"\",IF(P_20号3様式1!I87<> \"-\",TEXT(INT(P_20号3様式1!I87),\"#,##0\"),\"-\"),\"\")","v":""},{"$f":"IF(P_20号3様式1!I87<> \"\",IF(P_20号3様式1!I87<> \"-\",IF(VALUE(FIXED(P_20号3様式1!I87,0,TRUE))<>P_20号3様式1!I87,RIGHT(FIXED(P_20号3様式1!I87,3,FALSE),4),\"\"),\"\"),\"\")","v":""},{"$f":"IF(P_20号3様式1!L87<> \"\",IF(P_20号3様式1!L87<> \"-\",TEXT(INT(P_20号3様式1!L87),\"#,##0\"),\"-\"),\"\")","v":""},{"$f":"IF(P_20号3様式1!L87<> \"\",IF(P_20号3様式1!L87<> \"-\",IF(VALUE(FIXED(P_20号3様式1!L87,0,TRUE))<>P_20号3様式1!L87,RIGHT(FIXED(P_20号3様式1!L87,3,FALSE),4),\"\"),\"\"),\"\")","v":""},{"$f":"IF(P_20号3様式1!O87<> \"\",IF(P_20号3様式1!O87<> \"-\",TEXT(INT(P_20号3様式1!O87),\"#,##0\"),\"-\"),\"\")","v":""},{"$f":"IF(P_20号3様式1!O87<> \"\",IF(P_20号3様式1!O87<> \"-\",IF(VALUE(FIXED(P_20号3様式1!O87,0,TRUE))<>P_20号3様式1!O87,RIGHT(FIXED(P_20号3様式1!O87,3,FALSE),4),\"\"),\"\"),\"\")","v":""},{"$f":"IF(P_20号3様式1!R87<> \"\",IF(P_20号3様式1!R87<> \"-\",TEXT(INT(P_20号3様式1!R87),\"#,##0\"),\"-\"),\"\")","v":""},{"$f":"IF(P_20号3様式1!R87<> \"\",IF(P_20号3様式1!R87<> \"-\",IF(VALUE(FIXED(P_20号3様式1!R87,0,TRUE))<>P_20号3様式1!R87,RIGHT(FIXED(P_20号3様式1!R87,3,FALSE),4),\"\"),\"\"),\"\")","v":""},{"$f":"IF(P_20号3様式1!U87<> \"\",IF(P_20号3様式1!U87<> \"-\",TEXT(INT(P_20号3様式1!U87),\"#,##0\"),\"-\"),\"\")","v":""},{"$f":"IF(P_20号3様式1!U87<> \"\",IF(P_20号3様式1!U87<> \"-\",IF(VALUE(FIXED(P_20号3様式1!U87,0,TRUE))<>P_20号3様式1!U87,RIGHT(FIXED(P_20号3様式1!U87,3,FALSE),4),\"\"),\"\"),\"\")","v":""},{"$f":"IF(P_20号3様式1!X87<> \"\",IF(P_20号3様式1!X87<> \"-\",TEXT(INT(P_20号3様式1!X87),\"#,##0\"),\"-\"),\"\")","v":""},{"$f":"IF(P_20号3様式1!X87<> \"\",IF(P_20号3様式1!X87<> \"-\",IF(VALUE(FIXED(P_20号3様式1!X87,0,TRUE))<>P_20号3様式1!X87,RIGHT(FIXED(P_20号3様式1!X87,3,FALSE),4),\"\"),\"\"),\"\")","v":""},{"$f":"IF(P_20号3様式1!AA87<> \"\",IF(P_20号3様式1!AA87<> \"-\",TEXT(INT(P_20号3様式1!AA87),\"#,##0\"),\"-\"),\"\")","v":""},{"$f":"IF(P_20号3様式1!AA87<> \"\",IF(P_20号3様式1!AA87<> \"-\",IF(VALUE(FIXED(P_20号3様式1!AA87,0,TRUE))<>P_20号3様式1!AA87,RIGHT(FIXED(P_20号3様式1!AA87,3,FALSE),4),\"\"),\"\"),\"\")","v":""}]
[]
["政   令   市   計",{"$f":"IF(P_20号3様式1!AH45<> \"\",TEXT(INT(P_20号3様式1!AH45),\"#,##0\"),\"\")","v":""},{"$f":"IF(P_20号3様式1!AH45= \"\",\"\",IF(VALUE(FIXED(P_20号3様式1!AH45,0,TRUE))<>P_20号3様式1!AH45,RIGHT(FIXED(P_20号3様式1!AH45,3,FALSE),4),\"\"))","v":""},{"$f":"IF(P_20号3様式1!AI45<> \"\",IF(P_20号3様式1!AI45<> \"-\",TEXT(INT(P_20号3様式1!AI45),\"#,##0\"),\"-\"),\"\")","v":""},{"$f":"IF(P_20号3様式1!AI45<> \"\",IF(P_20号3様式1!AI45<> \"-\",IF(VALUE(FIXED(P_20号3様式1!AI45,0,TRUE))<>P_20号3様式1!AI45,RIGHT(FIXED(P_20号3様式1!AI45,3,FALSE),4),\"\"),\"\"),\"\")","v":""},{"$f":"IF(P_20号3様式1!AJ45<> \"\",IF(P_20号3様式1!AJ45<> \"-\",TEXT(INT(P_20号3様式1!AJ45),\"#,##0\"),\"-\"),\"\")","v":""},{"$f":"IF(P_20号3様式1!AJ45<> \"\",IF(P_20号3様式1!AJ45<> \"-\",IF(VALUE(FIXED(P_20号3様式1!AJ45,0,TRUE))<>P_20号3様式1!AJ45,RIGHT(FIXED(P_20号3様式1!AJ45,3,FALSE),4),\"\"),\"\"),\"\")","v":""},{"$f":"IF(P_20号3様式1!AK45<> \"\",IF(P_20号3様式1!AK45<> \"-\",TEXT(INT(P_20号3様式1!AK45),\"#,##0\"),\"-\"),\"\")","v":""},{"$f":"IF(P_20号3様式1!AK45<> \"\",IF(P_20号3様式1!AK45<> \"-\",IF(VALUE(FIXED(P_20号3様式1!AK45,0,TRUE))<>P_20号3様式1!AK45,RIGHT(FIXED(P_20号3様式1!AK45,3,FALSE),4),\"\"),\"\"),\"\")","v":""},{"$f":"IF(P_20号3様式1!AL45<> \"\",IF(P_20号3様式1!AL45<> \"-\",TEXT(INT(P_20号3様式1!AL45),\"#,##0\"),\"-\"),\"\")","v":""},{"$f":"IF(P_20号3様式1!AL45<> \"\",IF(P_20号3様式1!AL45<> \"-\",IF(VALUE(FIXED(P_20号3様式1!AL45,0,TRUE))<>P_20号3様式1!AL45,RIGHT(FIXED(P_20号3様式1!AL45,3,FALSE),4),\"\"),\"\"),\"\")","v":""},{"$f":"IF(P_20号3様式1!AM45<> \"\",IF(P_20号3様式1!AM45<> \"-\",TEXT(INT(P_20号3様式1!AM45),\"#,##0\"),\"-\"),\"\")","v":""},{"$f":"IF(P_20号3様式1!AM45<> \"\",IF(P_20号3様式1!AM45<> \"-\",IF(VALUE(FIXED(P_20号3様式1!AM45,0,TRUE))<>P_20号3様式1!AM45,RIGHT(FIXED(P_20号3様式1!AM45,3,FALSE),4),\"\"),\"\"),\"\")","v":""},{"$f":"IF(P_20号3様式1!AN45<> \"\",IF(P_20号3様式1!AN45<> \"-\",TEXT(INT(P_20号3様式1!AN45),\"#,##0\"),\"-\"),\"\")","v":""},{"$f":"IF(P_20号3様式1!AN45<> \"\",IF(P_20号3様式1!AN45<> \"-\",IF(VALUE(FIXED(P_20号3様式1!AN45,0,TRUE))<>P_20号3様式1!AN45,RIGHT(FIXED(P_20号3様式1!AN45,3,FALSE),4),\"\"),\"\"),\"\")","v":""},{"$f":"IF(P_20号3様式1!AO45<> \"\",IF(P_20号3様式1!AO45<> \"-\",TEXT(INT(P_20号3様式1!AO45),\"#,##0\"),\"-\"),\"\")","v":""},{"$f":"IF(P_20号3様式1!AO45<> \"\",IF(P_20号3様式1!AO45<> \"-\",IF(VALUE(FIXED(P_20号3様式1!AO45,0,TRUE))<>P_20号3様式1!AO45,RIGHT(FIXED(P_20号3様式1!AO45,3,FALSE),4),\"\"),\"\"),\"\")","v":""},{"$f":"IF(P_20号3様式1!AP45<> \"\",IF(P_20号3様式1!AP45<> \"-\",TEXT(INT(P_20号3様式1!AP45),\"#,##0\"),\"-\"),\"\")","v":""},{"$f":"IF(P_20号3様式1!AP45<> \"\",IF(P_20号3様式1!AP45<> \"-\",IF(VALUE(FIXED(P_20号3様式1!AP45,0,TRUE))<>P_20号3様式1!AP45,RIGHT(FIXED(P_20号3様式1!AP45,3,FALSE),4),\"\"),\"\"),\"\")","v":""}]
["そ  の  他  市  計",{"$f":"IF(P_20号3様式1!AS45<> \"\",TEXT(INT(P_20号3様式1!AS45),\"#,##0\"),\"\")","v":"85"},{"$f":"IF(P_20号3様式1!AS45= \"\",\"\",IF(VALUE(FIXED(P_20号3様式1!AS45,0,TRUE))<>P_20号3様式1!AS45,RIGHT(FIXED(P_20号3様式1!AS45,3,FALSE),4),\"\"))","v":".589"},{"$f":"IF(P_20号3様式1!AT45<> \"\",IF(P_20号3様式1!AT45<> \"-\",TEXT(INT(P_20号3様式1!AT45),\"#,##0\"),\"-\"),\"\")","v":"85"},{"$f":"IF(P_20号3様式1!AT45<> \"\",IF(P_20号3様式1!AT45<> \"-\",IF(VALUE(FIXED(P_20号3様式1!AT45,0,TRUE))<>P_20号3様式1!AT45,RIGHT(FIXED(P_20号3様式1!AT45,3,FALSE),4),\"\"),\"\"),\"\")","v":".589"},{"$f":"IF(P_20号3様式1!AU45<> \"\",IF(P_20号3様式1!AU45<> \"-\",TEXT(INT(P_20号3様式1!AU45),\"#,##0\"),\"-\"),\"\")","v":""},{"$f":"IF(P_20号3様式1!AU45<> \"\",IF(P_20号3様式1!AU45<> \"-\",IF(VALUE(FIXED(P_20号3様式1!AU45,0,TRUE))<>P_20号3様式1!AU45,RIGHT(FIXED(P_20号3様式1!AU45,3,FALSE),4),\"\"),\"\"),\"\")","v":""},{"$f":"IF(P_20号3様式1!AV45<> \"\",IF(P_20号3様式1!AV45<> \"-\",TEXT(INT(P_20号3様式1!AV45),\"#,##0\"),\"-\"),\"\")","v":""},{"$f":"IF(P_20号3様式1!AV45<> \"\",IF(P_20号3様式1!AV45<> \"-\",IF(VALUE(FIXED(P_20号3様式1!AV45,0,TRUE))<>P_20号3様式1!AV45,RIGHT(FIXED(P_20号3様式1!AV45,3,FALSE),4),\"\"),\"\"),\"\")","v":""},{"$f":"IF(P_20号3様式1!AW45<> \"\",IF(P_20号3様式1!AW45<> \"-\",TEXT(INT(P_20号3様式1!AW45),\"#,##0\"),\"-\"),\"\")","v":""},{"$f":"IF(P_20号3様式1!AW45<> \"\",IF(P_20号3様式1!AW45<> \"-\",IF(VALUE(FIXED(P_20号3様式1!AW45,0,TRUE))<>P_20号3様式1!AW45,RIGHT(FIXED(P_20号3様式1!AW45,3,FALSE),4),\"\"),\"\"),\"\")","v":""},{"$f":"IF(P_20号3様式1!AX45<> \"\",IF(P_20号3様式1!AX45<> \"-\",TEXT(INT(P_20号3様式1!AX45),\"#,##0\"),\"-\"),\"\")","v":""},{"$f":"IF(P_20号3様式1!AX45<> \"\",IF(P_20号3様式1!AX45<> \"-\",IF(VALUE(FIXED(P_20号3様式1!AX45,0,TRUE))<>P_20号3様式1!AX45,RIGHT(FIXED(P_20号3様式1!AX45,3,FALSE),4),\"\"),\"\"),\"\")","v":""},{"$f":"IF(P_20号3様式1!AY45<> \"\",IF(P_20号3様式1!AY45<> \"-\",TEXT(INT(P_20号3様式1!AY45),\"#,##0\"),\"-\"),\"\")","v":""},{"$f":"IF(P_20号3様式1!AY45<> \"\",IF(P_20号3様式1!AY45<> \"-\",IF(VALUE(FIXED(P_20号3様式1!AY45,0,TRUE))<>P_20号3様式1!AY45,RIGHT(FIXED(P_20号3様式1!AY45,3,FALSE),4),\"\"),\"\"),\"\")","v":""},{"$f":"IF(P_20号3様式1!AZ45<> \"\",IF(P_20号3様式1!AZ45<> \"-\",TEXT(INT(P_20号3様式1!AZ45),\"#,##0\"),\"-\"),\"\")","v":""},{"$f":"IF(P_20号3様式1!AZ45<> \"\",IF(P_20号3様式1!AZ45<> \"-\",IF(VALUE(FIXED(P_20号3様式1!AZ45,0,TRUE))<>P_20号3様式1!AZ45,RIGHT(FIXED(P_20号3様式1!AZ45,3,FALSE),4),\"\"),\"\"),\"\")","v":""},{"$f":"IF(P_20号3様式1!BA45<> \"\",IF(P_20号3様式1!BA45<> \"-\",TEXT(INT(P_20号3様式1!BA45),\"#,##0\"),\"-\"),\"\")","v":""},{"$f":"IF(P_20号3様式1!BA45<> \"\",IF(P_20号3様式1!BA45<> \"-\",IF(VALUE(FIXED(P_20号3様式1!BA45,0,TRUE))<>P_20号3様式1!BA45,RIGHT(FIXED(P_20号3様式1!BA45,3,FALSE),4),\"\"),\"\"),\"\")","v":""}]
["町村計　",{"$f":"IF(P_20号3様式1!BD45<> \"\",TEXT(INT(P_20号3様式1!BD45),\"#,##0\"),\"\")","v":"6"},{"$f":"IF(P_20号3様式1!BD45= \"\",\"\",IF(VALUE(FIXED(P_20号3様式1!BD45,0,TRUE))<>P_20号3様式1!BD45,RIGHT(FIXED(P_20号3様式1!BD45,3,FALSE),4),\"\"))","v":".000"},{"$f":"IF(P_20号3様式1!BE45<> \"\",IF(P_20号3様式1!BE45<> \"-\",TEXT(INT(P_20号3様式1!BE45),\"#,##0\"),\"-\"),\"\")","v":"6"},{"$f":"IF(P_20号3様式1!BE45<> \"\",IF(P_20号3様式1!BE45<> \"-\",IF(VALUE(FIXED(P_20号3様式1!BE45,0,TRUE))<>P_20号3様式1!BE45,RIGHT(FIXED(P_20号3様式1!BE45,3,FALSE),4),\"\"),\"\"),\"\")","v":".000"},{"$f":"IF(P_20号3様式1!BF45<> \"\",IF(P_20号3様式1!BF45<> \"-\",TEXT(INT(P_20号3様式1!BF45),\"#,##0\"),\"-\"),\"\")","v":""},{"$f":"IF(P_20号3様式1!BF45<> \"\",IF(P_20号3様式1!BF45<> \"-\",IF(VALUE(FIXED(P_20号3様式1!BF45,0,TRUE))<>P_20号3様式1!BF45,RIGHT(FIXED(P_20号3様式1!BF45,3,FALSE),4),\"\"),\"\"),\"\")","v":""},{"$f":"IF(P_20号3様式1!BG45<> \"\",IF(P_20号3様式1!BG45<> \"-\",TEXT(INT(P_20号3様式1!BG45),\"#,##0\"),\"-\"),\"\")","v":""},{"$f":"IF(P_20号3様式1!BG45<> \"\",IF(P_20号3様式1!BG45<> \"-\",IF(VALUE(FIXED(P_20号3様式1!BG45,0,TRUE))<>P_20号3様式1!BG45,RIGHT(FIXED(P_20号3様式1!BG45,3,FALSE),4),\"\"),\"\"),\"\")","v":""},{"$f":"IF(P_20号3様式1!BH45<> \"\",IF(P_20号3様式1!BH45<> \"-\",TEXT(INT(P_20号3様式1!BH45),\"#,##0\"),\"-\"),\"\")","v":""},{"$f":"IF(P_20号3様式1!BH45<> \"\",IF(P_20号3様式1!BH45<> \"-\",IF(VALUE(FIXED(P_20号3様式1!BH45,0,TRUE))<>P_20号3様式1!BH45,RIGHT(FIXED(P_20号3様式1!BH45,3,FALSE),4),\"\"),\"\"),\"\")","v":""},{"$f":"IF(P_20号3様式1!BI45<> \"\",IF(P_20号3様式1!BI45<> \"-\",TEXT(INT(P_20号3様式1!BI45),\"#,##0\"),\"-\"),\"\")","v":""},{"$f":"IF(P_20号3様式1!BI45<> \"\",IF(P_20号3様式1!BI45<> \"-\",IF(VALUE(FIXED(P_20号3様式1!BI45,0,TRUE))<>P_20号3様式1!BI45,RIGHT(FIXED(P_20号3様式1!BI45,3,FALSE),4),\"\"),\"\"),\"\")","v":""},{"$f":"IF(P_20号3様式1!BJ45<> \"\",IF(P_20号3様式1!BJ45<> \"-\",TEXT(INT(P_20号3様式1!BJ45),\"#,##0\"),\"-\"),\"\")","v":""},{"$f":"IF(P_20号3様式1!BJ45<> \"\",IF(P_20号3様式1!BJ45<> \"-\",IF(VALUE(FIXED(P_20号3様式1!BJ45,0,TRUE))<>P_20号3様式1!BJ45,RIGHT(FIXED(P_20号3様式1!BJ45,3,FALSE),4),\"\"),\"\"),\"\")","v":""},{"$f":"IF(P_20号3様式1!BK45<> \"\",IF(P_20号3様式1!BK45<> \"-\",TEXT(INT(P_20号3様式1!BK45),\"#,##0\"),\"-\"),\"\")","v":""},{"$f":"IF(P_20号3様式1!BK45<> \"\",IF(P_20号3様式1!BK45<> \"-\",IF(VALUE(FIXED(P_20号3様式1!BK45,0,TRUE))<>P_20号3様式1!BK45,RIGHT(FIXED(P_20号3様式1!BK45,3,FALSE),4),\"\"),\"\"),\"\")","v":""},{"$f":"IF(P_20号3様式1!BL45<> \"\",IF(P_20号3様式1!BL45<> \"-\",TEXT(INT(P_20号3様式1!BL45),\"#,##0\"),\"-\"),\"\")","v":""},{"$f":"IF(P_20号3様式1!BL45<> \"\",IF(P_20号3様式1!BL45<> \"-\",IF(VALUE(FIXED(P_20号3様式1!BL45,0,TRUE))<>P_20号3様式1!BL45,RIGHT(FIXED(P_20号3様式1!BL45,3,FALSE),4),\"\"),\"\"),\"\")","v":""}]
["県             計",{"$f":"IF(P_20号3様式1!BO45<> \"\",TEXT(INT(P_20号3様式1!BO45),\"#,##0\"),\"\")","v":"91"},{"$f":"IF(P_20号3様式1!BO45= \"\",\"\",IF(VALUE(FIXED(P_20号3様式1!BO45,0,TRUE))<>P_20号3様式1!BO45,RIGHT(FIXED(P_20号3様式1!BO45,3,FALSE),4),\"\"))","v":".589"},{"$f":"IF(P_20号3様式1!BP45<> \"\",IF(P_20号3様式1!BP45<> \"-\",TEXT(INT(P_20号3様式1!BP45),\"#,##0\"),\"-\"),\"\")","v":"91"},{"$f":"IF(P_20号3様式1!BP45<> \"\",IF(P_20号3様式1!BP45<> \"-\",IF(VALUE(FIXED(P_20号3様式1!BP45,0,TRUE))<>P_20号3様式1!BP45,RIGHT(FIXED(P_20号3様式1!BP45,3,FALSE),4),\"\"),\"\"),\"\")","v":".589"},{"$f":"IF(P_20号3様式1!BQ45<> \"\",IF(P_20号3様式1!BQ45<> \"-\",TEXT(INT(P_20号3様式1!BQ45),\"#,##0\"),\"-\"),\"\")","v":""},{"$f":"IF(P_20号3様式1!BQ45<> \"\",IF(P_20号3様式1!BQ45<> \"-\",IF(VALUE(FIXED(P_20号3様式1!BQ45,0,TRUE))<>P_20号3様式1!BQ45,RIGHT(FIXED(P_20号3様式1!BQ45,3,FALSE),4),\"\"),\"\"),\"\")","v":""},{"$f":"IF(P_20号3様式1!BR45<> \"\",IF(P_20号3様式1!BR45<> \"-\",TEXT(INT(P_20号3様式1!BR45),\"#,##0\"),\"-\"),\"\")","v":""},{"$f":"IF(P_20号3様式1!BR45<> \"\",IF(P_20号3様式1!BR45<> \"-\",IF(VALUE(FIXED(P_20号3様式1!BR45,0,TRUE))<>P_20号3様式1!BR45,RIGHT(FIXED(P_20号3様式1!BR45,3,FALSE),4),\"\"),\"\"),\"\")","v":""},{"$f":"IF(P_20号3様式1!BS45<> \"\",IF(P_20号3様式1!BS45<> \"-\",TEXT(INT(P_20号3様式1!BS45),\"#,##0\"),\"-\"),\"\")","v":""},{"$f":"IF(P_20号3様式1!BS45<> \"\",IF(P_20号3様式1!BS45<> \"-\",IF(VALUE(FIXED(P_20号3様式1!BS45,0,TRUE))<>P_20号3様式1!BS45,RIGHT(FIXED(P_20号3様式1!BS45,3,FALSE),4),\"\"),\"\"),\"\")","v":""},{"$f":"IF(P_20号3様式1!BT45<> \"\",IF(P_20号3様式1!BT45<> \"-\",TEXT(INT(P_20号3様式1!BT45),\"#,##0\"),\"-\"),\"\")","v":""},{"$f":"IF(P_20号3様式1!BT45<> \"\",IF(P_20号3様式1!BT45<> \"-\",IF(VALUE(FIXED(P_20号3様式1!BT45,0,TRUE))<>P_20号3様式1!BT45,RIGHT(FIXED(P_20号3様式1!BT45,3,FALSE),4),\"\"),\"\"),\"\")","v":""},{"$f":"IF(P_20号3様式1!BU45<> \"\",IF(P_20号3様式1!BU45<> \"-\",TEXT(INT(P_20号3様式1!BU45),\"#,##0\"),\"-\"),\"\")","v":""},{"$f":"IF(P_20号3様式1!BU45<> \"\",IF(P_20号3様式1!BU45<> \"-\",IF(VALUE(FIXED(P_20号3様式1!BU45,0,TRUE))<>P_20号3様式1!BU45,RIGHT(FIXED(P_20号3様式1!BU45,3,FALSE),4),\"\"),\"\"),\"\")","v":""},{"$f":"IF(P_20号3様式1!BV45<> \"\",IF(P_20号3様式1!BV45<> \"-\",TEXT(INT(P_20号3様式1!BV45),\"#,##0\"),\"-\"),\"\")","v":""},{"$f":"IF(P_20号3様式1!BV45<> \"\",IF(P_20号3様式1!BV45<> \"-\",IF(VALUE(FIXED(P_20号3様式1!BV45,0,TRUE))<>P_20号3様式1!BV45,RIGHT(FIXED(P_20号3様式1!BV45,3,FALSE),4),\"\"),\"\"),\"\")","v":""},{"$f":"IF(P_20号3様式1!BW45<> \"\",IF(P_20号3様式1!BW45<> \"-\",TEXT(INT(P_20号3様式1!BW45),\"#,##0\"),\"-\"),\"\")","v":""},{"$f":"IF(P_20号3様式1!BW45<> \"\",IF(P_20号3様式1!BW45<> \"-\",IF(VALUE(FIXED(P_20号3様式1!BW45,0,TRUE))<>P_20号3様式1!BW45,RIGHT(FIXED(P_20号3様式1!BW45,3,FALSE),4),\"\"),\"\"),\"\")","v":""}]
["第20号の3様式",{"$f":"+B$1","v":"「政党等得票数」のうち、公選法第６８条の３の規定により政党等の有効投票とみなされた投票の状況"},null,null,null,"開　票　速　報",null,null,null,null,null,null,null,null,null,null,null,{"$f":"P_20号3様式1!A88","v":3}]
[null,null,null,null,null,null,null,null,null,null,null,null,null,null,null,null,null,"鹿 児 島 県"]
[{"$f":"IF(パラメタシート!B1=\"\",\"\",パラメタシート!B1)","v":"2019-07-21"},null,null,null,null,null,null,null,null,null,null,{"$f":"IF(P_20号3様式1!BY88=\"0\",\"即日 開票　　中間報告\",\"翌日 開票　　中間報告\")","v":"即日 開票　　中間報告"},null,null,null,{"$f":" IF(P_20号3様式1!BZ88=\"\",\"時　　    分        \",P_20号3様式1!BZ88)","v":"時　　    分        "}]
[{"$f":"IF(P_20号3様式1!BX88=\"\",\"\",\"     　　\" & P_20号3様式1!BX88)","v":"     　　参議院比例代表選出議員選挙"},null,null,null,null,null,null,null,null,null,null,"開票　　結了報告",null,null,null,{"$f":" IF(P_20号3様式1!CA88=\"\",\"時　　    分        \",P_20号3様式1!CA88)","v":"02:55:00"}]
["市 区 町 村 名",{"$f":"IF(P_20号3様式1!AB88 = \"\", \"\", P_20号3様式1!AB88)","v":"れいわ新選組"},null,{"$f":"IF(P_20号3様式1!D88 = \"\", \"\", P_20号3様式1!D88)","v":"01"},null,{"$f":"IF(P_20号3様式1!G88 = \"\", \"\", P_20号3様式1!G88)","v":"02"},null,{"$f":"IF(P_20号3様式1!J88 = \"\", \"\", P_20号3様式1!J88)","v":""},null,{"$f":"IF(P_20号3様式1!M88 = \"\", \"\", P_20号3様式1!M88)","v":""},null,{"$f":"IF(P_20号3様式1!P88 = \"\", \"\", P_20号3様式1!P88)","v":""},null,{"$f":"IF(P_20号3様式1!S88 = \"\", \"\", P_20号3様式1!S88)","v":""},null,{"$f":"IF(P_20号3様式1!V88 = \"\", \"\", P_20号3様式1!V88)","v":""},null,{"$f":"IF(P_20号3様式1!Y88 = \"\", \"\", P_20号3様式1!Y88)","v":""}]
[null,{"$f":"+B$6","v":"特定枠名簿登録者\nへの投票総数"},null,{"$f":"IF(P_20号3様式1!E88 = \"\", \"\", P_20号3様式1!E88)","v":"ふなご　やすひこ"},null,{"$f":"IF(P_20号3様式1!H88 = \"\", \"\", P_20号3様式1!H88)","v":"木村　英子"},null,{"$f":"IF(P_20号3様式1!K88 = \"\", \"\", P_20号3様式1!K88)","v":""},null,{"$f":"IF(P_20号3様式1!N88 = \"\", \"\", P_20号3様式1!N88)","v":""},null,{"$f":"IF(P_20号3様式1!Q88 = \"\", \"\", P_20号3様式1!Q88)","v":""},null,{"$f":"IF(P_20号3様式1!T88 = \"\", \"\", P_20号3様式1!T88)","v":""},null,{"$f":"IF(P_20号3様式1!W88 = \"\", \"\", P_20号3様式1!W88)","v":""},null,{"$f":"IF(P_20号3様式1!Z88 = \"\", \"\", P_20号3様式1!Z88)","v":""}]
[{"$f":"IF(P_20号3様式1!C88=\"\",\"\",P_20号3様式1!C88)","v":"鹿児島市"},{"$f":"IF(P_20号3様式1!AE88<> \"\",TEXT(INT(P_20号3様式1!AE88),\"#,##0\"),\"\")","v":"37"},{"$f":"IF(P_20号3様式1!AE88= \"\",\"\",IF(VALUE(FIXED(P_20号3様式1!AE88,0,TRUE))<>P_20号3様式1!AE88,RIGHT(FIXED(P_20号3様式1!AE88,3,FALSE),4),\"\"))","v":".078"},{"$f":"IF(P_20号3様式1!F88<> \"\",IF(P_20号3様式1!F88<> \"-\",TEXT(INT(P_20号3様式1!F88),\"#,##0\"),\"-\"),\"\")","v":"18"},{"$f":"IF(P_20号3様式1!F88<> \"\",IF(P_20号3様式1!F88<> \"-\",IF(VALUE(FIXED(P_20号3様式1!F88,0,TRUE))<>P_20号3様式1!F88,RIGHT(FIXED(P_20号3様式1!F88,3,FALSE),4),\"\"),\"\"),\"\")","v":".000"},{"$f":"IF(P_20号3様式1!I88<> \"\",IF(P_20号3様式1!I88<> \"-\",TEXT(INT(P_20号3様式1!I88),\"#,##0\"),\"-\"),\"\")","v":"19"},{"$f":"IF(P_20号3様式1!I88<> \"\",IF(P_20号3様式1!I88<> \"-\",IF(VALUE(FIXED(P_20号3様式1!I88,0,TRUE))<>P_20号3様式1!I88,RIGHT(FIXED(P_20号3様式1!I88,3,FALSE),4),\"\"),\"\"),\"\")","v":".078"},{"$f":"IF(P_20号3様式1!L88<> \"\",IF(P_20号3様式1!L88<> \"-\",TEXT(INT(P_20号3様式1!L88),\"#,##0\"),\"-\"),\"\")","v":""},{"$f":"IF(P_20号3様式1!L88<> \"\",IF(P_20号3様式1!L88<> \"-\",IF(VALUE(FIXED(P_20号3様式1!L88,0,TRUE))<>P_20号3様式1!L88,RIGHT(FIXED(P_20号3様式1!L88,3,FALSE),4),\"\"),\"\"),\"\")","v":""},{"$f":"IF(P_20号3様式1!O88<> \"\",IF(P_20号3様式1!O88<> \"-\",TEXT(INT(P_20号3様式1!O88),\"#,##0\"),\"-\"),\"\")","v":""},{"$f":"IF(P_20号3様式1!O88<> \"\",IF(P_20号3様式1!O88<> \"-\",IF(VALUE(FIXED(P_20号3様式1!O88,0,TRUE))<>P_20号3様式1!O88,RIGHT(FIXED(P_20号3様式1!O88,3,FALSE),4),\"\"),\"\"),\"\")","v":""},{"$f":"IF(P_20号3様式1!R88<> \"\",IF(P_20号3様式1!R88<> \"-\",TEXT(INT(P_20号3様式1!R88),\"#,##0\"),\"-\"),\"\")","v":""},{"$f":"IF(P_20号3様式1!R88<> \"\",IF(P_20号3様式1!R88<> \"-\",IF(VALUE(FIXED(P_20号3様式1!R88,0,TRUE))<>P_20号3様式1!R88,RIGHT(FIXED(P_20号3様式1!R88,3,FALSE),4),\"\"),\"\"),\"\")","v":""},{"$f":"IF(P_20号3様式1!U88<> \"\",IF(P_20号3様式1!U88<> \"-\",TEXT(INT(P_20号3様式1!U88),\"#,##0\"),\"-\"),\"\")","v":""},{"$f":"IF(P_20号3様式1!U88<> \"\",IF(P_20号3様式1!U88<> \"-\",IF(VALUE(FIXED(P_20号3様式1!U88,0,TRUE))<>P_20号3様式1!U88,RIGHT(FIXED(P_20号3様式1!U88,3,FALSE),4),\"\"),\"\"),\"\")","v":""},{"$f":"IF(P_20号3様式1!X88<> \"\",IF(P_20号3様式1!X88<> \"-\",TEXT(INT(P_20号3様式1!X88),\"#,##0\"),\"-\"),\"\")","v":""},{"$f":"IF(P_20号3様式1!X88<> \"\",IF(P_20号3様式1!X88<> \"-\",IF(VALUE(FIXED(P_20号3様式1!X88,0,TRUE))<>P_20号3様式1!X88,RIGHT(FIXED(P_20号3様式1!X88,3,FALSE),4),\"\"),\"\"),\"\")","v":""},{"$f":"IF(P_20号3様式1!AA88<> \"\",IF(P_20号3様式1!AA88<> \"-\",TEXT(INT(P_20号3様式1!AA88),\"#,##0\"),\"-\"),\"\")","v":""},{"$f":"IF(P_20号3様式1!AA88<> \"\",IF(P_20号3様式1!AA88<> \"-\",IF(VALUE(FIXED(P_20号3様式1!AA88,0,TRUE))<>P_20号3様式1!AA88,RIGHT(FIXED(P_20号3様式1!AA88,3,FALSE),4),\"\"),\"\"),\"\")","v":""}]
[{"$f":"IF(P_20号3様式1!C89=\"\",\"\",P_20号3様式1!C89)","v":"鹿屋市"},{"$f":"IF(P_20号3様式1!AE89<> \"\",TEXT(INT(P_20号3様式1!AE89),\"#,##0\"),\"\")","v":"11"},{"$f":"IF(P_20号3様式1!AE89= \"\",\"\",IF(VALUE(FIXED(P_20号3様式1!AE89,0,TRUE))<>P_20号3様式1!AE89,RIGHT(FIXED(P_20号3様式1!AE89,3,FALSE),4),\"\"))","v":".267"},{"$f":"IF(P_20号3様式1!F89<> \"\",IF(P_20号3様式1!F89<> \"-\",TEXT(INT(P_20号3様式1!F89),\"#,##0\"),\"-\"),\"\")","v":"4"},{"$f":"IF(P_20号3様式1!F89<> \"\",IF(P_20号3様式1!F89<> \"-\",IF(VALUE(FIXED(P_20号3様式1!F89,0,TRUE))<>P_20号3様式1!F89,RIGHT(FIXED(P_20号3様式1!F89,3,FALSE),4),\"\"),\"\"),\"\")","v":".000"},{"$f":"IF(P_20号3様式1!I89<> \"\",IF(P_20号3様式1!I89<> \"-\",TEXT(INT(P_20号3様式1!I89),\"#,##0\"),\"-\"),\"\")","v":"7"},{"$f":"IF(P_20号3様式1!I89<> \"\",IF(P_20号3様式1!I89<> \"-\",IF(VALUE(FIXED(P_20号3様式1!I89,0,TRUE))<>P_20号3様式1!I89,RIGHT(FIXED(P_20号3様式1!I89,3,FALSE),4),\"\"),\"\"),\"\")","v":".267"},{"$f":"IF(P_20号3様式1!L89<> \"\",IF(P_20号3様式1!L89<> \"-\",TEXT(INT(P_20号3様式1!L89),\"#,##0\"),\"-\"),\"\")","v":""},{"$f":"IF(P_20号3様式1!L89<> \"\",IF(P_20号3様式1!L89<> \"-\",IF(VALUE(FIXED(P_20号3様式1!L89,0,TRUE))<>P_20号3様式1!L89,RIGHT(FIXED(P_20号3様式1!L89,3,FALSE),4),\"\"),\"\"),\"\")","v":""},{"$f":"IF(P_20号3様式1!O89<> \"\",IF(P_20号3様式1!O89<> \"-\",TEXT(INT(P_20号3様式1!O89),\"#,##0\"),\"-\"),\"\")","v":""},{"$f":"IF(P_20号3様式1!O89<> \"\",IF(P_20号3様式1!O89<> \"-\",IF(VALUE(FIXED(P_20号3様式1!O89,0,TRUE))<>P_20号3様式1!O89,RIGHT(FIXED(P_20号3様式1!O89,3,FALSE),4),\"\"),\"\"),\"\")","v":""},{"$f":"IF(P_20号3様式1!R89<> \"\",IF(P_20号3様式1!R89<> \"-\",TEXT(INT(P_20号3様式1!R89),\"#,##0\"),\"-\"),\"\")","v":""},{"$f":"IF(P_20号3様式1!R89<> \"\",IF(P_20号3様式1!R89<> \"-\",IF(VALUE(FIXED(P_20号3様式1!R89,0,TRUE))<>P_20号3様式1!R89,RIGHT(FIXED(P_20号3様式1!R89,3,FALSE),4),\"\"),\"\"),\"\")","v":""},{"$f":"IF(P_20号3様式1!U89<> \"\",IF(P_20号3様式1!U89<> \"-\",TEXT(INT(P_20号3様式1!U89),\"#,##0\"),\"-\"),\"\")","v":""},{"$f":"IF(P_20号3様式1!U89<> \"\",IF(P_20号3様式1!U89<> \"-\",IF(VALUE(FIXED(P_20号3様式1!U89,0,TRUE))<>P_20号3様式1!U89,RIGHT(FIXED(P_20号3様式1!U89,3,FALSE),4),\"\"),\"\"),\"\")","v":""},{"$f":"IF(P_20号3様式1!X89<> \"\",IF(P_20号3様式1!X89<> \"-\",TEXT(INT(P_20号3様式1!X89),\"#,##0\"),\"-\"),\"\")","v":""},{"$f":"IF(P_20号3様式1!X89<> \"\",IF(P_20号3様式1!X89<> \"-\",IF(VALUE(FIXED(P_20号3様式1!X89,0,TRUE))<>P_20号3様式1!X89,RIGHT(FIXED(P_20号3様式1!X89,3,FALSE),4),\"\"),\"\"),\"\")","v":""},{"$f":"IF(P_20号3様式1!AA89<> \"\",IF(P_20号3様式1!AA89<> \"-\",TEXT(INT(P_20号3様式1!AA89),\"#,##0\"),\"-\"),\"\")","v":""},{"$f":"IF(P_20号3様式1!AA89<> \"\",IF(P_20号3様式1!AA89<> \"-\",IF(VALUE(FIXED(P_20号3様式1!AA89,0,TRUE))<>P_20号3様式1!AA89,RIGHT(FIXED(P_20号3様式1!AA89,3,FALSE),4),\"\"),\"\"),\"\")","v":""}]
[{"$f":"IF(P_20号3様式1!C90=\"\",\"\",P_20号3様式1!C90)","v":"枕崎市"},{"$f":"IF(P_20号3様式1!AE90<> \"\",TEXT(INT(P_20号3様式1!AE90),\"#,##0\"),\"\")","v":"0"},{"$f":"IF(P_20号3様式1!AE90= \"\",\"\",IF(VALUE(FIXED(P_20号3様式1!AE90,0,TRUE))<>P_20号3様式1!AE90,RIGHT(FIXED(P_20号3様式1!AE90,3,FALSE),4),\"\"))","v":".000"},{"$f":"IF(P_20号3様式1!F90<> \"\",IF(P_20号3様式1!F90<> \"-\",TEXT(INT(P_20号3様式1!F90),\"#,##0\"),\"-\"),\"\")","v":"0"},{"$f":"IF(P_20号3様式1!F90<> \"\",IF(P_20号3様式1!F90<> \"-\",IF(VALUE(FIXED(P_20号3様式1!F90,0,TRUE))<>P_20号3様式1!F90,RIGHT(FIXED(P_20号3様式1!F90,3,FALSE),4),\"\"),\"\"),\"\")","v":".000"},{"$f":"IF(P_20号3様式1!I90<> \"\",IF(P_20号3様式1!I90<> \"-\",TEXT(INT(P_20号3様式1!I90),\"#,##0\"),\"-\"),\"\")","v":"0"},{"$f":"IF(P_20号3様式1!I90<> \"\",IF(P_20号3様式1!I90<> \"-\",IF(VALUE(FIXED(P_20号3様式1!I90,0,TRUE))<>P_20号3様式1!I90,RIGHT(FIXED(P_20号3様式1!I90,3,FALSE),4),\"\"),\"\"),\"\")","v":".000"},{"$f":"IF(P_20号3様式1!L90<> \"\",IF(P_20号3様式1!L90<> \"-\",TEXT(INT(P_20号3様式1!L90),\"#,##0\"),\"-\"),\"\")","v":""},{"$f":"IF(P_20号3様式1!L90<> \"\",IF(P_20号3様式1!L90<> \"-\",IF(VALUE(FIXED(P_20号3様式1!L90,0,TRUE))<>P_20号3様式1!L90,RIGHT(FIXED(P_20号3様式1!L90,3,FALSE),4),\"\"),\"\"),\"\")","v":""},{"$f":"IF(P_20号3様式1!O90<> \"\",IF(P_20号3様式1!O90<> \"-\",TEXT(INT(P_20号3様式1!O90),\"#,##0\"),\"-\"),\"\")","v":""},{"$f":"IF(P_20号3様式1!O90<> \"\",IF(P_20号3様式1!O90<> \"-\",IF(VALUE(FIXED(P_20号3様式1!O90,0,TRUE))<>P_20号3様式1!O90,RIGHT(FIXED(P_20号3様式1!O90,3,FALSE),4),\"\"),\"\"),\"\")","v":""},{"$f":"IF(P_20号3様式1!R90<> \"\",IF(P_20号3様式1!R90<> \"-\",TEXT(INT(P_20号3様式1!R90),\"#,##0\"),\"-\"),\"\")","v":""},{"$f":"IF(P_20号3様式1!R90<> \"\",IF(P_20号3様式1!R90<> \"-\",IF(VALUE(FIXED(P_20号3様式1!R90,0,TRUE))<>P_20号3様式1!R90,RIGHT(FIXED(P_20号3様式1!R90,3,FALSE),4),\"\"),\"\"),\"\")","v":""},{"$f":"IF(P_20号3様式1!U90<> \"\",IF(P_20号3様式1!U90<> \"-\",TEXT(INT(P_20号3様式1!U90),\"#,##0\"),\"-\"),\"\")","v":""},{"$f":"IF(P_20号3様式1!U90<> \"\",IF(P_20号3様式1!U90<> \"-\",IF(VALUE(FIXED(P_20号3様式1!U90,0,TRUE))<>P_20号3様式1!U90,RIGHT(FIXED(P_20号3様式1!U90,3,FALSE),4),\"\"),\"\"),\"\")","v":""},{"$f":"IF(P_20号3様式1!X90<> \"\",IF(P_20号3様式1!X90<> \"-\",TEXT(INT(P_20号3様式1!X90),\"#,##0\"),\"-\"),\"\")","v":""},{"$f":"IF(P_20号3様式1!X90<> \"\",IF(P_20号3様式1!X90<> \"-\",IF(VALUE(FIXED(P_20号3様式1!X90,0,TRUE))<>P_20号3様式1!X90,RIGHT(FIXED(P_20号3様式1!X90,3,FALSE),4),\"\"),\"\"),\"\")","v":""},{"$f":"IF(P_20号3様式1!AA90<> \"\",IF(P_20号3様式1!AA90<> \"-\",TEXT(INT(P_20号3様式1!AA90),\"#,##0\"),\"-\"),\"\")","v":""},{"$f":"IF(P_20号3様式1!AA90<> \"\",IF(P_20号3様式1!AA90<> \"-\",IF(VALUE(FIXED(P_20号3様式1!AA90,0,TRUE))<>P_20号3様式1!AA90,RIGHT(FIXED(P_20号3様式1!AA90,3,FALSE),4),\"\"),\"\"),\"\")","v":""}]
[{"$f":"IF(P_20号3様式1!C91=\"\",\"\",P_20号3様式1!C91)","v":"阿久根市"},{"$f":"IF(P_20号3様式1!AE91<> \"\",TEXT(INT(P_20号3様式1!AE91),\"#,##0\"),\"\")","v":"1"},{"$f":"IF(P_20号3様式1!AE91= \"\",\"\",IF(VALUE(FIXED(P_20号3様式1!AE91,0,TRUE))<>P_20号3様式1!AE91,RIGHT(FIXED(P_20号3様式1!AE91,3,FALSE),4),\"\"))","v":".020"},{"$f":"IF(P_20号3様式1!F91<> \"\",IF(P_20号3様式1!F91<> \"-\",TEXT(INT(P_20号3様式1!F91),\"#,##0\"),\"-\"),\"\")","v":"0"},{"$f":"IF(P_20号3様式1!F91<> \"\",IF(P_20号3様式1!F91<> \"-\",IF(VALUE(FIXED(P_20号3様式1!F91,0,TRUE))<>P_20号3様式1!F91,RIGHT(FIXED(P_20号3様式1!F91,3,FALSE),4),\"\"),\"\"),\"\")","v":".000"},{"$f":"IF(P_20号3様式1!I91<> \"\",IF(P_20号3様式1!I91<> \"-\",TEXT(INT(P_20号3様式1!I91),\"#,##0\"),\"-\"),\"\")","v":"1"},{"$f":"IF(P_20号3様式1!I91<> \"\",IF(P_20号3様式1!I91<> \"-\",IF(VALUE(FIXED(P_20号3様式1!I91,0,TRUE))<>P_20号3様式1!I91,RIGHT(FIXED(P_20号3様式1!I91,3,FALSE),4),\"\"),\"\"),\"\")","v":".020"},{"$f":"IF(P_20号3様式1!L91<> \"\",IF(P_20号3様式1!L91<> \"-\",TEXT(INT(P_20号3様式1!L91),\"#,##0\"),\"-\"),\"\")","v":""},{"$f":"IF(P_20号3様式1!L91<> \"\",IF(P_20号3様式1!L91<> \"-\",IF(VALUE(FIXED(P_20号3様式1!L91,0,TRUE))<>P_20号3様式1!L91,RIGHT(FIXED(P_20号3様式1!L91,3,FALSE),4),\"\"),\"\"),\"\")","v":""},{"$f":"IF(P_20号3様式1!O91<> \"\",IF(P_20号3様式1!O91<> \"-\",TEXT(INT(P_20号3様式1!O91),\"#,##0\"),\"-\"),\"\")","v":""},{"$f":"IF(P_20号3様式1!O91<> \"\",IF(P_20号3様式1!O91<> \"-\",IF(VALUE(FIXED(P_20号3様式1!O91,0,TRUE))<>P_20号3様式1!O91,RIGHT(FIXED(P_20号3様式1!O91,3,FALSE),4),\"\"),\"\"),\"\")","v":""},{"$f":"IF(P_20号3様式1!R91<> \"\",IF(P_20号3様式1!R91<> \"-\",TEXT(INT(P_20号3様式1!R91),\"#,##0\"),\"-\"),\"\")","v":""},{"$f":"IF(P_20号3様式1!R91<> \"\",IF(P_20号3様式1!R91<> \"-\",IF(VALUE(FIXED(P_20号3様式1!R91,0,TRUE))<>P_20号3様式1!R91,RIGHT(FIXED(P_20号3様式1!R91,3,FALSE),4),\"\"),\"\"),\"\")","v":""},{"$f":"IF(P_20号3様式1!U91<> \"\",IF(P_20号3様式1!U91<> \"-\",TEXT(INT(P_20号3様式1!U91),\"#,##0\"),\"-\"),\"\")","v":""},{"$f":"IF(P_20号3様式1!U91<> \"\",IF(P_20号3様式1!U91<> \"-\",IF(VALUE(FIXED(P_20号3様式1!U91,0,TRUE))<>P_20号3様式1!U91,RIGHT(FIXED(P_20号3様式1!U91,3,FALSE),4),\"\"),\"\"),\"\")","v":""},{"$f":"IF(P_20号3様式1!X91<> \"\",IF(P_20号3様式1!X91<> \"-\",TEXT(INT(P_20号3様式1!X91),\"#,##0\"),\"-\"),\"\")","v":""},{"$f":"IF(P_20号3様式1!X91<> \"\",IF(P_20号3様式1!X91<> \"-\",IF(VALUE(FIXED(P_20号3様式1!X91,0,TRUE))<>P_20号3様式1!X91,RIGHT(FIXED(P_20号3様式1!X91,3,FALSE),4),\"\"),\"\"),\"\")","v":""},{"$f":"IF(P_20号3様式1!AA91<> \"\",IF(P_20号3様式1!AA91<> \"-\",TEXT(INT(P_20号3様式1!AA91),\"#,##0\"),\"-\"),\"\")","v":""},{"$f":"IF(P_20号3様式1!AA91<> \"\",IF(P_20号3様式1!AA91<> \"-\",IF(VALUE(FIXED(P_20号3様式1!AA91,0,TRUE))<>P_20号3様式1!AA91,RIGHT(FIXED(P_20号3様式1!AA91,3,FALSE),4),\"\"),\"\"),\"\")","v":""}]
[{"$f":"IF(P_20号3様式1!C92=\"\",\"\",P_20号3様式1!C92)","v":"出水市"},{"$f":"IF(P_20号3様式1!AE92<> \"\",TEXT(INT(P_20号3様式1!AE92),\"#,##0\"),\"\")","v":"6"},{"$f":"IF(P_20号3様式1!AE92= \"\",\"\",IF(VALUE(FIXED(P_20号3様式1!AE92,0,TRUE))<>P_20号3様式1!AE92,RIGHT(FIXED(P_20号3様式1!AE92,3,FALSE),4),\"\"))","v":".017"},{"$f":"IF(P_20号3様式1!F92<> \"\",IF(P_20号3様式1!F92<> \"-\",TEXT(INT(P_20号3様式1!F92),\"#,##0\"),\"-\"),\"\")","v":"3"},{"$f":"IF(P_20号3様式1!F92<> \"\",IF(P_20号3様式1!F92<> \"-\",IF(VALUE(FIXED(P_20号3様式1!F92,0,TRUE))<>P_20号3様式1!F92,RIGHT(FIXED(P_20号3様式1!F92,3,FALSE),4),\"\"),\"\"),\"\")","v":".000"},{"$f":"IF(P_20号3様式1!I92<> \"\",IF(P_20号3様式1!I92<> \"-\",TEXT(INT(P_20号3様式1!I92),\"#,##0\"),\"-\"),\"\")","v":"3"},{"$f":"IF(P_20号3様式1!I92<> \"\",IF(P_20号3様式1!I92<> \"-\",IF(VALUE(FIXED(P_20号3様式1!I92,0,TRUE))<>P_20号3様式1!I92,RIGHT(FIXED(P_20号3様式1!I92,3,FALSE),4),\"\"),\"\"),\"\")","v":".017"},{"$f":"IF(P_20号3様式1!L92<> \"\",IF(P_20号3様式1!L92<> \"-\",TEXT(INT(P_20号3様式1!L92),\"#,##0\"),\"-\"),\"\")","v":""},{"$f":"IF(P_20号3様式1!L92<> \"\",IF(P_20号3様式1!L92<> \"-\",IF(VALUE(FIXED(P_20号3様式1!L92,0,TRUE))<>P_20号3様式1!L92,RIGHT(FIXED(P_20号3様式1!L92,3,FALSE),4),\"\"),\"\"),\"\")","v":""},{"$f":"IF(P_20号3様式1!O92<> \"\",IF(P_20号3様式1!O92<> \"-\",TEXT(INT(P_20号3様式1!O92),\"#,##0\"),\"-\"),\"\")","v":""},{"$f":"IF(P_20号3様式1!O92<> \"\",IF(P_20号3様式1!O92<> \"-\",IF(VALUE(FIXED(P_20号3様式1!O92,0,TRUE))<>P_20号3様式1!O92,RIGHT(FIXED(P_20号3様式1!O92,3,FALSE),4),\"\"),\"\"),\"\")","v":""},{"$f":"IF(P_20号3様式1!R92<> \"\",IF(P_20号3様式1!R92<> \"-\",TEXT(INT(P_20号3様式1!R92),\"#,##0\"),\"-\"),\"\")","v":""},{"$f":"IF(P_20号3様式1!R92<> \"\",IF(P_20号3様式1!R92<> \"-\",IF(VALUE(FIXED(P_20号3様式1!R92,0,TRUE))<>P_20号3様式1!R92,RIGHT(FIXED(P_20号3様式1!R92,3,FALSE),4),\"\"),\"\"),\"\")","v":""},{"$f":"IF(P_20号3様式1!U92<> \"\",IF(P_20号3様式1!U92<> \"-\",TEXT(INT(P_20号3様式1!U92),\"#,##0\"),\"-\"),\"\")","v":""},{"$f":"IF(P_20号3様式1!U92<> \"\",IF(P_20号3様式1!U92<> \"-\",IF(VALUE(FIXED(P_20号3様式1!U92,0,TRUE))<>P_20号3様式1!U92,RIGHT(FIXED(P_20号3様式1!U92,3,FALSE),4),\"\"),\"\"),\"\")","v":""},{"$f":"IF(P_20号3様式1!X92<> \"\",IF(P_20号3様式1!X92<> \"-\",TEXT(INT(P_20号3様式1!X92),\"#,##0\"),\"-\"),\"\")","v":""},{"$f":"IF(P_20号3様式1!X92<> \"\",IF(P_20号3様式1!X92<> \"-\",IF(VALUE(FIXED(P_20号3様式1!X92,0,TRUE))<>P_20号3様式1!X92,RIGHT(FIXED(P_20号3様式1!X92,3,FALSE),4),\"\"),\"\"),\"\")","v":""},{"$f":"IF(P_20号3様式1!AA92<> \"\",IF(P_20号3様式1!AA92<> \"-\",TEXT(INT(P_20号3様式1!AA92),\"#,##0\"),\"-\"),\"\")","v":""},{"$f":"IF(P_20号3様式1!AA92<> \"\",IF(P_20号3様式1!AA92<> \"-\",IF(VALUE(FIXED(P_20号3様式1!AA92,0,TRUE))<>P_20号3様式1!AA92,RIGHT(FIXED(P_20号3様式1!AA92,3,FALSE),4),\"\"),\"\"),\"\")","v":""}]
[{"$f":"IF(P_20号3様式1!C93=\"\",\"\",P_20号3様式1!C93)","v":"指宿市"},{"$f":"IF(P_20号3様式1!AE93<> \"\",TEXT(INT(P_20号3様式1!AE93),\"#,##0\"),\"\")","v":"5"},{"$f":"IF(P_20号3様式1!AE93= \"\",\"\",IF(VALUE(FIXED(P_20号3様式1!AE93,0,TRUE))<>P_20号3様式1!AE93,RIGHT(FIXED(P_20号3様式1!AE93,3,FALSE),4),\"\"))","v":".222"},{"$f":"IF(P_20号3様式1!F93<> \"\",IF(P_20号3様式1!F93<> \"-\",TEXT(INT(P_20号3様式1!F93),\"#,##0\"),\"-\"),\"\")","v":"0"},{"$f":"IF(P_20号3様式1!F93<> \"\",IF(P_20号3様式1!F93<> \"-\",IF(VALUE(FIXED(P_20号3様式1!F93,0,TRUE))<>P_20号3様式1!F93,RIGHT(FIXED(P_20号3様式1!F93,3,FALSE),4),\"\"),\"\"),\"\")","v":".000"},{"$f":"IF(P_20号3様式1!I93<> \"\",IF(P_20号3様式1!I93<> \"-\",TEXT(INT(P_20号3様式1!I93),\"#,##0\"),\"-\"),\"\")","v":"5"},{"$f":"IF(P_20号3様式1!I93<> \"\",IF(P_20号3様式1!I93<> \"-\",IF(VALUE(FIXED(P_20号3様式1!I93,0,TRUE))<>P_20号3様式1!I93,RIGHT(FIXED(P_20号3様式1!I93,3,FALSE),4),\"\"),\"\"),\"\")","v":".222"},{"$f":"IF(P_20号3様式1!L93<> \"\",IF(P_20号3様式1!L93<> \"-\",TEXT(INT(P_20号3様式1!L93),\"#,##0\"),\"-\"),\"\")","v":""},{"$f":"IF(P_20号3様式1!L93<> \"\",IF(P_20号3様式1!L93<> \"-\",IF(VALUE(FIXED(P_20号3様式1!L93,0,TRUE))<>P_20号3様式1!L93,RIGHT(FIXED(P_20号3様式1!L93,3,FALSE),4),\"\"),\"\"),\"\")","v":""},{"$f":"IF(P_20号3様式1!O93<> \"\",IF(P_20号3様式1!O93<> \"-\",TEXT(INT(P_20号3様式1!O93),\"#,##0\"),\"-\"),\"\")","v":""},{"$f":"IF(P_20号3様式1!O93<> \"\",IF(P_20号3様式1!O93<> \"-\",IF(VALUE(FIXED(P_20号3様式1!O93,0,TRUE))<>P_20号3様式1!O93,RIGHT(FIXED(P_20号3様式1!O93,3,FALSE),4),\"\"),\"\"),\"\")","v":""},{"$f":"IF(P_20号3様式1!R93<> \"\",IF(P_20号3様式1!R93<> \"-\",TEXT(INT(P_20号3様式1!R93),\"#,##0\"),\"-\"),\"\")","v":""},{"$f":"IF(P_20号3様式1!R93<> \"\",IF(P_20号3様式1!R93<> \"-\",IF(VALUE(FIXED(P_20号3様式1!R93,0,TRUE))<>P_20号3様式1!R93,RIGHT(FIXED(P_20号3様式1!R93,3,FALSE),4),\"\"),\"\"),\"\")","v":""},{"$f":"IF(P_20号3様式1!U93<> \"\",IF(P_20号3様式1!U93<> \"-\",TEXT(INT(P_20号3様式1!U93),\"#,##0\"),\"-\"),\"\")","v":""},{"$f":"IF(P_20号3様式1!U93<> \"\",IF(P_20号3様式1!U93<> \"-\",IF(VALUE(FIXED(P_20号3様式1!U93,0,TRUE))<>P_20号3様式1!U93,RIGHT(FIXED(P_20号3様式1!U93,3,FALSE),4),\"\"),\"\"),\"\")","v":""},{"$f":"IF(P_20号3様式1!X93<> \"\",IF(P_20号3様式1!X93<> \"-\",TEXT(INT(P_20号3様式1!X93),\"#,##0\"),\"-\"),\"\")","v":""},{"$f":"IF(P_20号3様式1!X93<> \"\",IF(P_20号3様式1!X93<> \"-\",IF(VALUE(FIXED(P_20号3様式1!X93,0,TRUE))<>P_20号3様式1!X93,RIGHT(FIXED(P_20号3様式1!X93,3,FALSE),4),\"\"),\"\"),\"\")","v":""},{"$f":"IF(P_20号3様式1!AA93<> \"\",IF(P_20号3様式1!AA93<> \"-\",TEXT(INT(P_20号3様式1!AA93),\"#,##0\"),\"-\"),\"\")","v":""},{"$f":"IF(P_20号3様式1!AA93<> \"\",IF(P_20号3様式1!AA93<> \"-\",IF(VALUE(FIXED(P_20号3様式1!AA93,0,TRUE))<>P_20号3様式1!AA93,RIGHT(FIXED(P_20号3様式1!AA93,3,FALSE),4),\"\"),\"\"),\"\")","v":""}]
[{"$f":"IF(P_20号3様式1!C94=\"\",\"\",P_20号3様式1!C94)","v":"西之表市"},{"$f":"IF(P_20号3様式1!AE94<> \"\",TEXT(INT(P_20号3様式1!AE94),\"#,##0\"),\"\")","v":"2"},{"$f":"IF(P_20号3様式1!AE94= \"\",\"\",IF(VALUE(FIXED(P_20号3様式1!AE94,0,TRUE))<>P_20号3様式1!AE94,RIGHT(FIXED(P_20号3様式1!AE94,3,FALSE),4),\"\"))","v":".000"},{"$f":"IF(P_20号3様式1!F94<> \"\",IF(P_20号3様式1!F94<> \"-\",TEXT(INT(P_20号3様式1!F94),\"#,##0\"),\"-\"),\"\")","v":"1"},{"$f":"IF(P_20号3様式1!F94<> \"\",IF(P_20号3様式1!F94<> \"-\",IF(VALUE(FIXED(P_20号3様式1!F94,0,TRUE))<>P_20号3様式1!F94,RIGHT(FIXED(P_20号3様式1!F94,3,FALSE),4),\"\"),\"\"),\"\")","v":".000"},{"$f":"IF(P_20号3様式1!I94<> \"\",IF(P_20号3様式1!I94<> \"-\",TEXT(INT(P_20号3様式1!I94),\"#,##0\"),\"-\"),\"\")","v":"1"},{"$f":"IF(P_20号3様式1!I94<> \"\",IF(P_20号3様式1!I94<> \"-\",IF(VALUE(FIXED(P_20号3様式1!I94,0,TRUE))<>P_20号3様式1!I94,RIGHT(FIXED(P_20号3様式1!I94,3,FALSE),4),\"\"),\"\"),\"\")","v":".000"},{"$f":"IF(P_20号3様式1!L94<> \"\",IF(P_20号3様式1!L94<> \"-\",TEXT(INT(P_20号3様式1!L94),\"#,##0\"),\"-\"),\"\")","v":""},{"$f":"IF(P_20号3様式1!L94<> \"\",IF(P_20号3様式1!L94<> \"-\",IF(VALUE(FIXED(P_20号3様式1!L94,0,TRUE))<>P_20号3様式1!L94,RIGHT(FIXED(P_20号3様式1!L94,3,FALSE),4),\"\"),\"\"),\"\")","v":""},{"$f":"IF(P_20号3様式1!O94<> \"\",IF(P_20号3様式1!O94<> \"-\",TEXT(INT(P_20号3様式1!O94),\"#,##0\"),\"-\"),\"\")","v":""},{"$f":"IF(P_20号3様式1!O94<> \"\",IF(P_20号3様式1!O94<> \"-\",IF(VALUE(FIXED(P_20号3様式1!O94,0,TRUE))<>P_20号3様式1!O94,RIGHT(FIXED(P_20号3様式1!O94,3,FALSE),4),\"\"),\"\"),\"\")","v":""},{"$f":"IF(P_20号3様式1!R94<> \"\",IF(P_20号3様式1!R94<> \"-\",TEXT(INT(P_20号3様式1!R94),\"#,##0\"),\"-\"),\"\")","v":""},{"$f":"IF(P_20号3様式1!R94<> \"\",IF(P_20号3様式1!R94<> \"-\",IF(VALUE(FIXED(P_20号3様式1!R94,0,TRUE))<>P_20号3様式1!R94,RIGHT(FIXED(P_20号3様式1!R94,3,FALSE),4),\"\"),\"\"),\"\")","v":""},{"$f":"IF(P_20号3様式1!U94<> \"\",IF(P_20号3様式1!U94<> \"-\",TEXT(INT(P_20号3様式1!U94),\"#,##0\"),\"-\"),\"\")","v":""},{"$f":"IF(P_20号3様式1!U94<> \"\",IF(P_20号3様式1!U94<> \"-\",IF(VALUE(FIXED(P_20号3様式1!U94,0,TRUE))<>P_20号3様式1!U94,RIGHT(FIXED(P_20号3様式1!U94,3,FALSE),4),\"\"),\"\"),\"\")","v":""},{"$f":"IF(P_20号3様式1!X94<> \"\",IF(P_20号3様式1!X94<> \"-\",TEXT(INT(P_20号3様式1!X94),\"#,##0\"),\"-\"),\"\")","v":""},{"$f":"IF(P_20号3様式1!X94<> \"\",IF(P_20号3様式1!X94<> \"-\",IF(VALUE(FIXED(P_20号3様式1!X94,0,TRUE))<>P_20号3様式1!X94,RIGHT(FIXED(P_20号3様式1!X94,3,FALSE),4),\"\"),\"\"),\"\")","v":""},{"$f":"IF(P_20号3様式1!AA94<> \"\",IF(P_20号3様式1!AA94<> \"-\",TEXT(INT(P_20号3様式1!AA94),\"#,##0\"),\"-\"),\"\")","v":""},{"$f":"IF(P_20号3様式1!AA94<> \"\",IF(P_20号3様式1!AA94<> \"-\",IF(VALUE(FIXED(P_20号3様式1!AA94,0,TRUE))<>P_20号3様式1!AA94,RIGHT(FIXED(P_20号3様式1!AA94,3,FALSE),4),\"\"),\"\"),\"\")","v":""}]
[{"$f":"IF(P_20号3様式1!C95=\"\",\"\",P_20号3様式1!C95)","v":"垂水市"},{"$f":"IF(P_20号3様式1!AE95<> \"\",TEXT(INT(P_20号3様式1!AE95),\"#,##0\"),\"\")","v":"2"},{"$f":"IF(P_20号3様式1!AE95= \"\",\"\",IF(VALUE(FIXED(P_20号3様式1!AE95,0,TRUE))<>P_20号3様式1!AE95,RIGHT(FIXED(P_20号3様式1!AE95,3,FALSE),4),\"\"))","v":".000"},{"$f":"IF(P_20号3様式1!F95<> \"\",IF(P_20号3様式1!F95<> \"-\",TEXT(INT(P_20号3様式1!F95),\"#,##0\"),\"-\"),\"\")","v":"0"},{"$f":"IF(P_20号3様式1!F95<> \"\",IF(P_20号3様式1!F95<> \"-\",IF(VALUE(FIXED(P_20号3様式1!F95,0,TRUE))<>P_20号3様式1!F95,RIGHT(FIXED(P_20号3様式1!F95,3,FALSE),4),\"\"),\"\"),\"\")","v":".000"},{"$f":"IF(P_20号3様式1!I95<> \"\",IF(P_20号3様式1!I95<> \"-\",TEXT(INT(P_20号3様式1!I95),\"#,##0\"),\"-\"),\"\")","v":"2"},{"$f":"IF(P_20号3様式1!I95<> \"\",IF(P_20号3様式1!I95<> \"-\",IF(VALUE(FIXED(P_20号3様式1!I95,0,TRUE))<>P_20号3様式1!I95,RIGHT(FIXED(P_20号3様式1!I95,3,FALSE),4),\"\"),\"\"),\"\")","v":".000"},{"$f":"IF(P_20号3様式1!L95<> \"\",IF(P_20号3様式1!L95<> \"-\",TEXT(INT(P_20号3様式1!L95),\"#,##0\"),\"-\"),\"\")","v":""},{"$f":"IF(P_20号3様式1!L95<> \"\",IF(P_20号3様式1!L95<> \"-\",IF(VALUE(FIXED(P_20号3様式1!L95,0,TRUE))<>P_20号3様式1!L95,RIGHT(FIXED(P_20号3様式1!L95,3,FALSE),4),\"\"),\"\"),\"\")","v":""},{"$f":"IF(P_20号3様式1!O95<> \"\",IF(P_20号3様式1!O95<> \"-\",TEXT(INT(P_20号3様式1!O95),\"#,##0\"),\"-\"),\"\")","v":""},{"$f":"IF(P_20号3様式1!O95<> \"\",IF(P_20号3様式1!O95<> \"-\",IF(VALUE(FIXED(P_20号3様式1!O95,0,TRUE))<>P_20号3様式1!O95,RIGHT(FIXED(P_20号3様式1!O95,3,FALSE),4),\"\"),\"\"),\"\")","v":""},{"$f":"IF(P_20号3様式1!R95<> \"\",IF(P_20号3様式1!R95<> \"-\",TEXT(INT(P_20号3様式1!R95),\"#,##0\"),\"-\"),\"\")","v":""},{"$f":"IF(P_20号3様式1!R95<> \"\",IF(P_20号3様式1!R95<> \"-\",IF(VALUE(FIXED(P_20号3様式1!R95,0,TRUE))<>P_20号3様式1!R95,RIGHT(FIXED(P_20号3様式1!R95,3,FALSE),4),\"\"),\"\"),\"\")","v":""},{"$f":"IF(P_20号3様式1!U95<> \"\",IF(P_20号3様式1!U95<> \"-\",TEXT(INT(P_20号3様式1!U95),\"#,##0\"),\"-\"),\"\")","v":""},{"$f":"IF(P_20号3様式1!U95<> \"\",IF(P_20号3様式1!U95<> \"-\",IF(VALUE(FIXED(P_20号3様式1!U95,0,TRUE))<>P_20号3様式1!U95,RIGHT(FIXED(P_20号3様式1!U95,3,FALSE),4),\"\"),\"\"),\"\")","v":""},{"$f":"IF(P_20号3様式1!X95<> \"\",IF(P_20号3様式1!X95<> \"-\",TEXT(INT(P_20号3様式1!X95),\"#,##0\"),\"-\"),\"\")","v":""},{"$f":"IF(P_20号3様式1!X95<> \"\",IF(P_20号3様式1!X95<> \"-\",IF(VALUE(FIXED(P_20号3様式1!X95,0,TRUE))<>P_20号3様式1!X95,RIGHT(FIXED(P_20号3様式1!X95,3,FALSE),4),\"\"),\"\"),\"\")","v":""},{"$f":"IF(P_20号3様式1!AA95<> \"\",IF(P_20号3様式1!AA95<> \"-\",TEXT(INT(P_20号3様式1!AA95),\"#,##0\"),\"-\"),\"\")","v":""},{"$f":"IF(P_20号3様式1!AA95<> \"\",IF(P_20号3様式1!AA95<> \"-\",IF(VALUE(FIXED(P_20号3様式1!AA95,0,TRUE))<>P_20号3様式1!AA95,RIGHT(FIXED(P_20号3様式1!AA95,3,FALSE),4),\"\"),\"\"),\"\")","v":""}]
[{"$f":"IF(P_20号3様式1!C96=\"\",\"\",P_20号3様式1!C96)","v":"薩摩川内市第１"},{"$f":"IF(P_20号3様式1!AE96<> \"\",TEXT(INT(P_20号3様式1!AE96),\"#,##0\"),\"\")","v":"10"},{"$f":"IF(P_20号3様式1!AE96= \"\",\"\",IF(VALUE(FIXED(P_20号3様式1!AE96,0,TRUE))<>P_20号3様式1!AE96,RIGHT(FIXED(P_20号3様式1!AE96,3,FALSE),4),\"\"))","v":".112"},{"$f":"IF(P_20号3様式1!F96<> \"\",IF(P_20号3様式1!F96<> \"-\",TEXT(INT(P_20号3様式1!F96),\"#,##0\"),\"-\"),\"\")","v":"1"},{"$f":"IF(P_20号3様式1!F96<> \"\",IF(P_20号3様式1!F96<> \"-\",IF(VALUE(FIXED(P_20号3様式1!F96,0,TRUE))<>P_20号3様式1!F96,RIGHT(FIXED(P_20号3様式1!F96,3,FALSE),4),\"\"),\"\"),\"\")","v":".000"},{"$f":"IF(P_20号3様式1!I96<> \"\",IF(P_20号3様式1!I96<> \"-\",TEXT(INT(P_20号3様式1!I96),\"#,##0\"),\"-\"),\"\")","v":"9"},{"$f":"IF(P_20号3様式1!I96<> \"\",IF(P_20号3様式1!I96<> \"-\",IF(VALUE(FIXED(P_20号3様式1!I96,0,TRUE))<>P_20号3様式1!I96,RIGHT(FIXED(P_20号3様式1!I96,3,FALSE),4),\"\"),\"\"),\"\")","v":".112"},{"$f":"IF(P_20号3様式1!L96<> \"\",IF(P_20号3様式1!L96<> \"-\",TEXT(INT(P_20号3様式1!L96),\"#,##0\"),\"-\"),\"\")","v":""},{"$f":"IF(P_20号3様式1!L96<> \"\",IF(P_20号3様式1!L96<> \"-\",IF(VALUE(FIXED(P_20号3様式1!L96,0,TRUE))<>P_20号3様式1!L96,RIGHT(FIXED(P_20号3様式1!L96,3,FALSE),4),\"\"),\"\"),\"\")","v":""},{"$f":"IF(P_20号3様式1!O96<> \"\",IF(P_20号3様式1!O96<> \"-\",TEXT(INT(P_20号3様式1!O96),\"#,##0\"),\"-\"),\"\")","v":""},{"$f":"IF(P_20号3様式1!O96<> \"\",IF(P_20号3様式1!O96<> \"-\",IF(VALUE(FIXED(P_20号3様式1!O96,0,TRUE))<>P_20号3様式1!O96,RIGHT(FIXED(P_20号3様式1!O96,3,FALSE),4),\"\"),\"\"),\"\")","v":""},{"$f":"IF(P_20号3様式1!R96<> \"\",IF(P_20号3様式1!R96<> \"-\",TEXT(INT(P_20号3様式1!R96),\"#,##0\"),\"-\"),\"\")","v":""},{"$f":"IF(P_20号3様式1!R96<> \"\",IF(P_20号3様式1!R96<> \"-\",IF(VALUE(FIXED(P_20号3様式1!R96,0,TRUE))<>P_20号3様式1!R96,RIGHT(FIXED(P_20号3様式1!R96,3,FALSE),4),\"\"),\"\"),\"\")","v":""},{"$f":"IF(P_20号3様式1!U96<> \"\",IF(P_20号3様式1!U96<> \"-\",TEXT(INT(P_20号3様式1!U96),\"#,##0\"),\"-\"),\"\")","v":""},{"$f":"IF(P_20号3様式1!U96<> \"\",IF(P_20号3様式1!U96<> \"-\",IF(VALUE(FIXED(P_20号3様式1!U96,0,TRUE))<>P_20号3様式1!U96,RIGHT(FIXED(P_20号3様式1!U96,3,FALSE),4),\"\"),\"\"),\"\")","v":""},{"$f":"IF(P_20号3様式1!X96<> \"\",IF(P_20号3様式1!X96<> \"-\",TEXT(INT(P_20号3様式1!X96),\"#,##0\"),\"-\"),\"\")","v":""},{"$f":"IF(P_20号3様式1!X96<> \"\",IF(P_20号3様式1!X96<> \"-\",IF(VALUE(FIXED(P_20号3様式1!X96,0,TRUE))<>P_20号3様式1!X96,RIGHT(FIXED(P_20号3様式1!X96,3,FALSE),4),\"\"),\"\"),\"\")","v":""},{"$f":"IF(P_20号3様式1!AA96<> \"\",IF(P_20号3様式1!AA96<> \"-\",TEXT(INT(P_20号3様式1!AA96),\"#,##0\"),\"-\"),\"\")","v":""},{"$f":"IF(P_20号3様式1!AA96<> \"\",IF(P_20号3様式1!AA96<> \"-\",IF(VALUE(FIXED(P_20号3様式1!AA96,0,TRUE))<>P_20号3様式1!AA96,RIGHT(FIXED(P_20号3様式1!AA96,3,FALSE),4),\"\"),\"\"),\"\")","v":""}]
[{"$f":"IF(P_20号3様式1!C97=\"\",\"\",P_20号3様式1!C97)","v":"薩摩川内市第２"},{"$f":"IF(P_20号3様式1!AE97<> \"\",TEXT(INT(P_20号3様式1!AE97),\"#,##0\"),\"\")","v":"0"},{"$f":"IF(P_20号3様式1!AE97= \"\",\"\",IF(VALUE(FIXED(P_20号3様式1!AE97,0,TRUE))<>P_20号3様式1!AE97,RIGHT(FIXED(P_20号3様式1!AE97,3,FALSE),4),\"\"))","v":".000"},{"$f":"IF(P_20号3様式1!F97<> \"\",IF(P_20号3様式1!F97<> \"-\",TEXT(INT(P_20号3様式1!F97),\"#,##0\"),\"-\"),\"\")","v":"0"},{"$f":"IF(P_20号3様式1!F97<> \"\",IF(P_20号3様式1!F97<> \"-\",IF(VALUE(FIXED(P_20号3様式1!F97,0,TRUE))<>P_20号3様式1!F97,RIGHT(FIXED(P_20号3様式1!F97,3,FALSE),4),\"\"),\"\"),\"\")","v":".000"},{"$f":"IF(P_20号3様式1!I97<> \"\",IF(P_20号3様式1!I97<> \"-\",TEXT(INT(P_20号3様式1!I97),\"#,##0\"),\"-\"),\"\")","v":"0"},{"$f":"IF(P_20号3様式1!I97<> \"\",IF(P_20号3様式1!I97<> \"-\",IF(VALUE(FIXED(P_20号3様式1!I97,0,TRUE))<>P_20号3様式1!I97,RIGHT(FIXED(P_20号3様式1!I97,3,FALSE),4),\"\"),\"\"),\"\")","v":".000"},{"$f":"IF(P_20号3様式1!L97<> \"\",IF(P_20号3様式1!L97<> \"-\",TEXT(INT(P_20号3様式1!L97),\"#,##0\"),\"-\"),\"\")","v":""},{"$f":"IF(P_20号3様式1!L97<> \"\",IF(P_20号3様式1!L97<> \"-\",IF(VALUE(FIXED(P_20号3様式1!L97,0,TRUE))<>P_20号3様式1!L97,RIGHT(FIXED(P_20号3様式1!L97,3,FALSE),4),\"\"),\"\"),\"\")","v":""},{"$f":"IF(P_20号3様式1!O97<> \"\",IF(P_20号3様式1!O97<> \"-\",TEXT(INT(P_20号3様式1!O97),\"#,##0\"),\"-\"),\"\")","v":""},{"$f":"IF(P_20号3様式1!O97<> \"\",IF(P_20号3様式1!O97<> \"-\",IF(VALUE(FIXED(P_20号3様式1!O97,0,TRUE))<>P_20号3様式1!O97,RIGHT(FIXED(P_20号3様式1!O97,3,FALSE),4),\"\"),\"\"),\"\")","v":""},{"$f":"IF(P_20号3様式1!R97<> \"\",IF(P_20号3様式1!R97<> \"-\",TEXT(INT(P_20号3様式1!R97),\"#,##0\"),\"-\"),\"\")","v":""},{"$f":"IF(P_20号3様式1!R97<> \"\",IF(P_20号3様式1!R97<> \"-\",IF(VALUE(FIXED(P_20号3様式1!R97,0,TRUE))<>P_20号3様式1!R97,RIGHT(FIXED(P_20号3様式1!R97,3,FALSE),4),\"\"),\"\"),\"\")","v":""},{"$f":"IF(P_20号3様式1!U97<> \"\",IF(P_20号3様式1!U97<> \"-\",TEXT(INT(P_20号3様式1!U97),\"#,##0\"),\"-\"),\"\")","v":""},{"$f":"IF(P_20号3様式1!U97<> \"\",IF(P_20号3様式1!U97<> \"-\",IF(VALUE(FIXED(P_20号3様式1!U97,0,TRUE))<>P_20号3様式1!U97,RIGHT(FIXED(P_20号3様式1!U97,3,FALSE),4),\"\"),\"\"),\"\")","v":""},{"$f":"IF(P_20号3様式1!X97<> \"\",IF(P_20号3様式1!X97<> \"-\",TEXT(INT(P_20号3様式1!X97),\"#,##0\"),\"-\"),\"\")","v":""},{"$f":"IF(P_20号3様式1!X97<> \"\",IF(P_20号3様式1!X97<> \"-\",IF(VALUE(FIXED(P_20号3様式1!X97,0,TRUE))<>P_20号3様式1!X97,RIGHT(FIXED(P_20号3様式1!X97,3,FALSE),4),\"\"),\"\"),\"\")","v":""},{"$f":"IF(P_20号3様式1!AA97<> \"\",IF(P_20号3様式1!AA97<> \"-\",TEXT(INT(P_20号3様式1!AA97),\"#,##0\"),\"-\"),\"\")","v":""},{"$f":"IF(P_20号3様式1!AA97<> \"\",IF(P_20号3様式1!AA97<> \"-\",IF(VALUE(FIXED(P_20号3様式1!AA97,0,TRUE))<>P_20号3様式1!AA97,RIGHT(FIXED(P_20号3様式1!AA97,3,FALSE),4),\"\"),\"\"),\"\")","v":""}]
[{"$f":"IF(P_20号3様式1!C98=\"\",\"\",P_20号3様式1!C98)","v":"薩摩川内市第３"},{"$f":"IF(P_20号3様式1!AE98<> \"\",TEXT(INT(P_20号3様式1!AE98),\"#,##0\"),\"\")","v":"0"},{"$f":"IF(P_20号3様式1!AE98= \"\",\"\",IF(VALUE(FIXED(P_20号3様式1!AE98,0,TRUE))<>P_20号3様式1!AE98,RIGHT(FIXED(P_20号3様式1!AE98,3,FALSE),4),\"\"))","v":".000"},{"$f":"IF(P_20号3様式1!F98<> \"\",IF(P_20号3様式1!F98<> \"-\",TEXT(INT(P_20号3様式1!F98),\"#,##0\"),\"-\"),\"\")","v":"0"},{"$f":"IF(P_20号3様式1!F98<> \"\",IF(P_20号3様式1!F98<> \"-\",IF(VALUE(FIXED(P_20号3様式1!F98,0,TRUE))<>P_20号3様式1!F98,RIGHT(FIXED(P_20号3様式1!F98,3,FALSE),4),\"\"),\"\"),\"\")","v":".000"},{"$f":"IF(P_20号3様式1!I98<> \"\",IF(P_20号3様式1!I98<> \"-\",TEXT(INT(P_20号3様式1!I98),\"#,##0\"),\"-\"),\"\")","v":"0"},{"$f":"IF(P_20号3様式1!I98<> \"\",IF(P_20号3様式1!I98<> \"-\",IF(VALUE(FIXED(P_20号3様式1!I98,0,TRUE))<>P_20号3様式1!I98,RIGHT(FIXED(P_20号3様式1!I98,3,FALSE),4),\"\"),\"\"),\"\")","v":".000"},{"$f":"IF(P_20号3様式1!L98<> \"\",IF(P_20号3様式1!L98<> \"-\",TEXT(INT(P_20号3様式1!L98),\"#,##0\"),\"-\"),\"\")","v":""},{"$f":"IF(P_20号3様式1!L98<> \"\",IF(P_20号3様式1!L98<> \"-\",IF(VALUE(FIXED(P_20号3様式1!L98,0,TRUE))<>P_20号3様式1!L98,RIGHT(FIXED(P_20号3様式1!L98,3,FALSE),4),\"\"),\"\"),\"\")","v":""},{"$f":"IF(P_20号3様式1!O98<> \"\",IF(P_20号3様式1!O98<> \"-\",TEXT(INT(P_20号3様式1!O98),\"#,##0\"),\"-\"),\"\")","v":""},{"$f":"IF(P_20号3様式1!O98<> \"\",IF(P_20号3様式1!O98<> \"-\",IF(VALUE(FIXED(P_20号3様式1!O98,0,TRUE))<>P_20号3様式1!O98,RIGHT(FIXED(P_20号3様式1!O98,3,FALSE),4),\"\"),\"\"),\"\")","v":""},{"$f":"IF(P_20号3様式1!R98<> \"\",IF(P_20号3様式1!R98<> \"-\",TEXT(INT(P_20号3様式1!R98),\"#,##0\"),\"-\"),\"\")","v":""},{"$f":"IF(P_20号3様式1!R98<> \"\",IF(P_20号3様式1!R98<> \"-\",IF(VALUE(FIXED(P_20号3様式1!R98,0,TRUE))<>P_20号3様式1!R98,RIGHT(FIXED(P_20号3様式1!R98,3,FALSE),4),\"\"),\"\"),\"\")","v":""},{"$f":"IF(P_20号3様式1!U98<> \"\",IF(P_20号3様式1!U98<> \"-\",TEXT(INT(P_20号3様式1!U98),\"#,##0\"),\"-\"),\"\")","v":""},{"$f":"IF(P_20号3様式1!U98<> \"\",IF(P_20号3様式1!U98<> \"-\",IF(VALUE(FIXED(P_20号3様式1!U98,0,TRUE))<>P_20号3様式1!U98,RIGHT(FIXED(P_20号3様式1!U98,3,FALSE),4),\"\"),\"\"),\"\")","v":""},{"$f":"IF(P_20号3様式1!X98<> \"\",IF(P_20号3様式1!X98<> \"-\",TEXT(INT(P_20号3様式1!X98),\"#,##0\"),\"-\"),\"\")","v":""},{"$f":"IF(P_20号3様式1!X98<> \"\",IF(P_20号3様式1!X98<> \"-\",IF(VALUE(FIXED(P_20号3様式1!X98,0,TRUE))<>P_20号3様式1!X98,RIGHT(FIXED(P_20号3様式1!X98,3,FALSE),4),\"\"),\"\"),\"\")","v":""},{"$f":"IF(P_20号3様式1!AA98<> \"\",IF(P_20号3様式1!AA98<> \"-\",TEXT(INT(P_20号3様式1!AA98),\"#,##0\"),\"-\"),\"\")","v":""},{"$f":"IF(P_20号3様式1!AA98<> \"\",IF(P_20号3様式1!AA98<> \"-\",IF(VALUE(FIXED(P_20号3様式1!AA98,0,TRUE))<>P_20号3様式1!AA98,RIGHT(FIXED(P_20号3様式1!AA98,3,FALSE),4),\"\"),\"\"),\"\")","v":""}]
[{"$f":"IF(P_20号3様式1!C99=\"\",\"\",P_20号3様式1!C99)","v":"＊（薩摩川内市）計"},{"$f":"IF(P_20号3様式1!AE99<> \"\",TEXT(INT(P_20号3様式1!AE99),\"#,##0\"),\"\")","v":"10"},{"$f":"IF(P_20号3様式1!AE99= \"\",\"\",IF(VALUE(FIXED(P_20号3様式1!AE99,0,TRUE))<>P_20号3様式1!AE99,RIGHT(FIXED(P_20号3様式1!AE99,3,FALSE),4),\"\"))","v":".112"},{"$f":"IF(P_20号3様式1!F99<> \"\",IF(P_20号3様式1!F99<> \"-\",TEXT(INT(P_20号3様式1!F99),\"#,##0\"),\"-\"),\"\")","v":"1"},{"$f":"IF(P_20号3様式1!F99<> \"\",IF(P_20号3様式1!F99<> \"-\",IF(VALUE(FIXED(P_20号3様式1!F99,0,TRUE))<>P_20号3様式1!F99,RIGHT(FIXED(P_20号3様式1!F99,3,FALSE),4),\"\"),\"\"),\"\")","v":".000"},{"$f":"IF(P_20号3様式1!I99<> \"\",IF(P_20号3様式1!I99<> \"-\",TEXT(INT(P_20号3様式1!I99),\"#,##0\"),\"-\"),\"\")","v":"9"},{"$f":"IF(P_20号3様式1!I99<> \"\",IF(P_20号3様式1!I99<> \"-\",IF(VALUE(FIXED(P_20号3様式1!I99,0,TRUE))<>P_20号3様式1!I99,RIGHT(FIXED(P_20号3様式1!I99,3,FALSE),4),\"\"),\"\"),\"\")","v":".112"},{"$f":"IF(P_20号3様式1!L99<> \"\",IF(P_20号3様式1!L99<> \"-\",TEXT(INT(P_20号3様式1!L99),\"#,##0\"),\"-\"),\"\")","v":""},{"$f":"IF(P_20号3様式1!L99<> \"\",IF(P_20号3様式1!L99<> \"-\",IF(VALUE(FIXED(P_20号3様式1!L99,0,TRUE))<>P_20号3様式1!L99,RIGHT(FIXED(P_20号3様式1!L99,3,FALSE),4),\"\"),\"\"),\"\")","v":""},{"$f":"IF(P_20号3様式1!O99<> \"\",IF(P_20号3様式1!O99<> \"-\",TEXT(INT(P_20号3様式1!O99),\"#,##0\"),\"-\"),\"\")","v":""},{"$f":"IF(P_20号3様式1!O99<> \"\",IF(P_20号3様式1!O99<> \"-\",IF(VALUE(FIXED(P_20号3様式1!O99,0,TRUE))<>P_20号3様式1!O99,RIGHT(FIXED(P_20号3様式1!O99,3,FALSE),4),\"\"),\"\"),\"\")","v":""},{"$f":"IF(P_20号3様式1!R99<> \"\",IF(P_20号3様式1!R99<> \"-\",TEXT(INT(P_20号3様式1!R99),\"#,##0\"),\"-\"),\"\")","v":""},{"$f":"IF(P_20号3様式1!R99<> \"\",IF(P_20号3様式1!R99<> \"-\",IF(VALUE(FIXED(P_20号3様式1!R99,0,TRUE))<>P_20号3様式1!R99,RIGHT(FIXED(P_20号3様式1!R99,3,FALSE),4),\"\"),\"\"),\"\")","v":""},{"$f":"IF(P_20号3様式1!U99<> \"\",IF(P_20号3様式1!U99<> \"-\",TEXT(INT(P_20号3様式1!U99),\"#,##0\"),\"-\"),\"\")","v":""},{"$f":"IF(P_20号3様式1!U99<> \"\",IF(P_20号3様式1!U99<> \"-\",IF(VALUE(FIXED(P_20号3様式1!U99,0,TRUE))<>P_20号3様式1!U99,RIGHT(FIXED(P_20号3様式1!U99,3,FALSE),4),\"\"),\"\"),\"\")","v":""},{"$f":"IF(P_20号3様式1!X99<> \"\",IF(P_20号3様式1!X99<> \"-\",TEXT(INT(P_20号3様式1!X99),\"#,##0\"),\"-\"),\"\")","v":""},{"$f":"IF(P_20号3様式1!X99<> \"\",IF(P_20号3様式1!X99<> \"-\",IF(VALUE(FIXED(P_20号3様式1!X99,0,TRUE))<>P_20号3様式1!X99,RIGHT(FIXED(P_20号3様式1!X99,3,FALSE),4),\"\"),\"\"),\"\")","v":""},{"$f":"IF(P_20号3様式1!AA99<> \"\",IF(P_20号3様式1!AA99<> \"-\",TEXT(INT(P_20号3様式1!AA99),\"#,##0\"),\"-\"),\"\")","v":""},{"$f":"IF(P_20号3様式1!AA99<> \"\",IF(P_20号3様式1!AA99<> \"-\",IF(VALUE(FIXED(P_20号3様式1!AA99,0,TRUE))<>P_20号3様式1!AA99,RIGHT(FIXED(P_20号3様式1!AA99,3,FALSE),4),\"\"),\"\"),\"\")","v":""}]
[{"$f":"IF(P_20号3様式1!C100=\"\",\"\",P_20号3様式1!C100)","v":"日置市"},{"$f":"IF(P_20号3様式1!AE100<> \"\",TEXT(INT(P_20号3様式1!AE100),\"#,##0\"),\"\")","v":"11"},{"$f":"IF(P_20号3様式1!AE100= \"\",\"\",IF(VALUE(FIXED(P_20号3様式1!AE100,0,TRUE))<>P_20号3様式1!AE100,RIGHT(FIXED(P_20号3様式1!AE100,3,FALSE),4),\"\"))","v":".233"},{"$f":"IF(P_20号3様式1!F100<> \"\",IF(P_20号3様式1!F100<> \"-\",TEXT(INT(P_20号3様式1!F100),\"#,##0\"),\"-\"),\"\")","v":"4"},{"$f":"IF(P_20号3様式1!F100<> \"\",IF(P_20号3様式1!F100<> \"-\",IF(VALUE(FIXED(P_20号3様式1!F100,0,TRUE))<>P_20号3様式1!F100,RIGHT(FIXED(P_20号3様式1!F100,3,FALSE),4),\"\"),\"\"),\"\")","v":".000"},{"$f":"IF(P_20号3様式1!I100<> \"\",IF(P_20号3様式1!I100<> \"-\",TEXT(INT(P_20号3様式1!I100),\"#,##0\"),\"-\"),\"\")","v":"7"},{"$f":"IF(P_20号3様式1!I100<> \"\",IF(P_20号3様式1!I100<> \"-\",IF(VALUE(FIXED(P_20号3様式1!I100,0,TRUE))<>P_20号3様式1!I100,RIGHT(FIXED(P_20号3様式1!I100,3,FALSE),4),\"\"),\"\"),\"\")","v":".233"},{"$f":"IF(P_20号3様式1!L100<> \"\",IF(P_20号3様式1!L100<> \"-\",TEXT(INT(P_20号3様式1!L100),\"#,##0\"),\"-\"),\"\")","v":""},{"$f":"IF(P_20号3様式1!L100<> \"\",IF(P_20号3様式1!L100<> \"-\",IF(VALUE(FIXED(P_20号3様式1!L100,0,TRUE))<>P_20号3様式1!L100,RIGHT(FIXED(P_20号3様式1!L100,3,FALSE),4),\"\"),\"\"),\"\")","v":""},{"$f":"IF(P_20号3様式1!O100<> \"\",IF(P_20号3様式1!O100<> \"-\",TEXT(INT(P_20号3様式1!O100),\"#,##0\"),\"-\"),\"\")","v":""},{"$f":"IF(P_20号3様式1!O100<> \"\",IF(P_20号3様式1!O100<> \"-\",IF(VALUE(FIXED(P_20号3様式1!O100,0,TRUE))<>P_20号3様式1!O100,RIGHT(FIXED(P_20号3様式1!O100,3,FALSE),4),\"\"),\"\"),\"\")","v":""},{"$f":"IF(P_20号3様式1!R100<> \"\",IF(P_20号3様式1!R100<> \"-\",TEXT(INT(P_20号3様式1!R100),\"#,##0\"),\"-\"),\"\")","v":""},{"$f":"IF(P_20号3様式1!R100<> \"\",IF(P_20号3様式1!R100<> \"-\",IF(VALUE(FIXED(P_20号3様式1!R100,0,TRUE))<>P_20号3様式1!R100,RIGHT(FIXED(P_20号3様式1!R100,3,FALSE),4),\"\"),\"\"),\"\")","v":""},{"$f":"IF(P_20号3様式1!U100<> \"\",IF(P_20号3様式1!U100<> \"-\",TEXT(INT(P_20号3様式1!U100),\"#,##0\"),\"-\"),\"\")","v":""},{"$f":"IF(P_20号3様式1!U100<> \"\",IF(P_20号3様式1!U100<> \"-\",IF(VALUE(FIXED(P_20号3様式1!U100,0,TRUE))<>P_20号3様式1!U100,RIGHT(FIXED(P_20号3様式1!U100,3,FALSE),4),\"\"),\"\"),\"\")","v":""},{"$f":"IF(P_20号3様式1!X100<> \"\",IF(P_20号3様式1!X100<> \"-\",TEXT(INT(P_20号3様式1!X100),\"#,##0\"),\"-\"),\"\")","v":""},{"$f":"IF(P_20号3様式1!X100<> \"\",IF(P_20号3様式1!X100<> \"-\",IF(VALUE(FIXED(P_20号3様式1!X100,0,TRUE))<>P_20号3様式1!X100,RIGHT(FIXED(P_20号3様式1!X100,3,FALSE),4),\"\"),\"\"),\"\")","v":""},{"$f":"IF(P_20号3様式1!AA100<> \"\",IF(P_20号3様式1!AA100<> \"-\",TEXT(INT(P_20号3様式1!AA100),\"#,##0\"),\"-\"),\"\")","v":""},{"$f":"IF(P_20号3様式1!AA100<> \"\",IF(P_20号3様式1!AA100<> \"-\",IF(VALUE(FIXED(P_20号3様式1!AA100,0,TRUE))<>P_20号3様式1!AA100,RIGHT(FIXED(P_20号3様式1!AA100,3,FALSE),4),\"\"),\"\"),\"\")","v":""}]
[{"$f":"IF(P_20号3様式1!C101=\"\",\"\",P_20号3様式1!C101)","v":"曽於市"},{"$f":"IF(P_20号3様式1!AE101<> \"\",TEXT(INT(P_20号3様式1!AE101),\"#,##0\"),\"\")","v":"5"},{"$f":"IF(P_20号3様式1!AE101= \"\",\"\",IF(VALUE(FIXED(P_20号3様式1!AE101,0,TRUE))<>P_20号3様式1!AE101,RIGHT(FIXED(P_20号3様式1!AE101,3,FALSE),4),\"\"))","v":".047"},{"$f":"IF(P_20号3様式1!F101<> \"\",IF(P_20号3様式1!F101<> \"-\",TEXT(INT(P_20号3様式1!F101),\"#,##0\"),\"-\"),\"\")","v":"1"},{"$f":"IF(P_20号3様式1!F101<> \"\",IF(P_20号3様式1!F101<> \"-\",IF(VALUE(FIXED(P_20号3様式1!F101,0,TRUE))<>P_20号3様式1!F101,RIGHT(FIXED(P_20号3様式1!F101,3,FALSE),4),\"\"),\"\"),\"\")","v":".000"},{"$f":"IF(P_20号3様式1!I101<> \"\",IF(P_20号3様式1!I101<> \"-\",TEXT(INT(P_20号3様式1!I101),\"#,##0\"),\"-\"),\"\")","v":"4"},{"$f":"IF(P_20号3様式1!I101<> \"\",IF(P_20号3様式1!I101<> \"-\",IF(VALUE(FIXED(P_20号3様式1!I101,0,TRUE))<>P_20号3様式1!I101,RIGHT(FIXED(P_20号3様式1!I101,3,FALSE),4),\"\"),\"\"),\"\")","v":".047"},{"$f":"IF(P_20号3様式1!L101<> \"\",IF(P_20号3様式1!L101<> \"-\",TEXT(INT(P_20号3様式1!L101),\"#,##0\"),\"-\"),\"\")","v":""},{"$f":"IF(P_20号3様式1!L101<> \"\",IF(P_20号3様式1!L101<> \"-\",IF(VALUE(FIXED(P_20号3様式1!L101,0,TRUE))<>P_20号3様式1!L101,RIGHT(FIXED(P_20号3様式1!L101,3,FALSE),4),\"\"),\"\"),\"\")","v":""},{"$f":"IF(P_20号3様式1!O101<> \"\",IF(P_20号3様式1!O101<> \"-\",TEXT(INT(P_20号3様式1!O101),\"#,##0\"),\"-\"),\"\")","v":""},{"$f":"IF(P_20号3様式1!O101<> \"\",IF(P_20号3様式1!O101<> \"-\",IF(VALUE(FIXED(P_20号3様式1!O101,0,TRUE))<>P_20号3様式1!O101,RIGHT(FIXED(P_20号3様式1!O101,3,FALSE),4),\"\"),\"\"),\"\")","v":""},{"$f":"IF(P_20号3様式1!R101<> \"\",IF(P_20号3様式1!R101<> \"-\",TEXT(INT(P_20号3様式1!R101),\"#,##0\"),\"-\"),\"\")","v":""},{"$f":"IF(P_20号3様式1!R101<> \"\",IF(P_20号3様式1!R101<> \"-\",IF(VALUE(FIXED(P_20号3様式1!R101,0,TRUE))<>P_20号3様式1!R101,RIGHT(FIXED(P_20号3様式1!R101,3,FALSE),4),\"\"),\"\"),\"\")","v":""},{"$f":"IF(P_20号3様式1!U101<> \"\",IF(P_20号3様式1!U101<> \"-\",TEXT(INT(P_20号3様式1!U101),\"#,##0\"),\"-\"),\"\")","v":""},{"$f":"IF(P_20号3様式1!U101<> \"\",IF(P_20号3様式1!U101<> \"-\",IF(VALUE(FIXED(P_20号3様式1!U101,0,TRUE))<>P_20号3様式1!U101,RIGHT(FIXED(P_20号3様式1!U101,3,FALSE),4),\"\"),\"\"),\"\")","v":""},{"$f":"IF(P_20号3様式1!X101<> \"\",IF(P_20号3様式1!X101<> \"-\",TEXT(INT(P_20号3様式1!X101),\"#,##0\"),\"-\"),\"\")","v":""},{"$f":"IF(P_20号3様式1!X101<> \"\",IF(P_20号3様式1!X101<> \"-\",IF(VALUE(FIXED(P_20号3様式1!X101,0,TRUE))<>P_20号3様式1!X101,RIGHT(FIXED(P_20号3様式1!X101,3,FALSE),4),\"\"),\"\"),\"\")","v":""},{"$f":"IF(P_20号3様式1!AA101<> \"\",IF(P_20号3様式1!AA101<> \"-\",TEXT(INT(P_20号3様式1!AA101),\"#,##0\"),\"-\"),\"\")","v":""},{"$f":"IF(P_20号3様式1!AA101<> \"\",IF(P_20号3様式1!AA101<> \"-\",IF(VALUE(FIXED(P_20号3様式1!AA101,0,TRUE))<>P_20号3様式1!AA101,RIGHT(FIXED(P_20号3様式1!AA101,3,FALSE),4),\"\"),\"\"),\"\")","v":""}]
[{"$f":"IF(P_20号3様式1!C102=\"\",\"\",P_20号3様式1!C102)","v":"霧島市"},{"$f":"IF(P_20号3様式1!AE102<> \"\",TEXT(INT(P_20号3様式1!AE102),\"#,##0\"),\"\")","v":"7"},{"$f":"IF(P_20号3様式1!AE102= \"\",\"\",IF(VALUE(FIXED(P_20号3様式1!AE102,0,TRUE))<>P_20号3様式1!AE102,RIGHT(FIXED(P_20号3様式1!AE102,3,FALSE),4),\"\"))","v":".050"},{"$f":"IF(P_20号3様式1!F102<> \"\",IF(P_20号3様式1!F102<> \"-\",TEXT(INT(P_20号3様式1!F102),\"#,##0\"),\"-\"),\"\")","v":"3"},{"$f":"IF(P_20号3様式1!F102<> \"\",IF(P_20号3様式1!F102<> \"-\",IF(VALUE(FIXED(P_20号3様式1!F102,0,TRUE))<>P_20号3様式1!F102,RIGHT(FIXED(P_20号3様式1!F102,3,FALSE),4),\"\"),\"\"),\"\")","v":".000"},{"$f":"IF(P_20号3様式1!I102<> \"\",IF(P_20号3様式1!I102<> \"-\",TEXT(INT(P_20号3様式1!I102),\"#,##0\"),\"-\"),\"\")","v":"4"},{"$f":"IF(P_20号3様式1!I102<> \"\",IF(P_20号3様式1!I102<> \"-\",IF(VALUE(FIXED(P_20号3様式1!I102,0,TRUE))<>P_20号3様式1!I102,RIGHT(FIXED(P_20号3様式1!I102,3,FALSE),4),\"\"),\"\"),\"\")","v":".050"},{"$f":"IF(P_20号3様式1!L102<> \"\",IF(P_20号3様式1!L102<> \"-\",TEXT(INT(P_20号3様式1!L102),\"#,##0\"),\"-\"),\"\")","v":""},{"$f":"IF(P_20号3様式1!L102<> \"\",IF(P_20号3様式1!L102<> \"-\",IF(VALUE(FIXED(P_20号3様式1!L102,0,TRUE))<>P_20号3様式1!L102,RIGHT(FIXED(P_20号3様式1!L102,3,FALSE),4),\"\"),\"\"),\"\")","v":""},{"$f":"IF(P_20号3様式1!O102<> \"\",IF(P_20号3様式1!O102<> \"-\",TEXT(INT(P_20号3様式1!O102),\"#,##0\"),\"-\"),\"\")","v":""},{"$f":"IF(P_20号3様式1!O102<> \"\",IF(P_20号3様式1!O102<> \"-\",IF(VALUE(FIXED(P_20号3様式1!O102,0,TRUE))<>P_20号3様式1!O102,RIGHT(FIXED(P_20号3様式1!O102,3,FALSE),4),\"\"),\"\"),\"\")","v":""},{"$f":"IF(P_20号3様式1!R102<> \"\",IF(P_20号3様式1!R102<> \"-\",TEXT(INT(P_20号3様式1!R102),\"#,##0\"),\"-\"),\"\")","v":""},{"$f":"IF(P_20号3様式1!R102<> \"\",IF(P_20号3様式1!R102<> \"-\",IF(VALUE(FIXED(P_20号3様式1!R102,0,TRUE))<>P_20号3様式1!R102,RIGHT(FIXED(P_20号3様式1!R102,3,FALSE),4),\"\"),\"\"),\"\")","v":""},{"$f":"IF(P_20号3様式1!U102<> \"\",IF(P_20号3様式1!U102<> \"-\",TEXT(INT(P_20号3様式1!U102),\"#,##0\"),\"-\"),\"\")","v":""},{"$f":"IF(P_20号3様式1!U102<> \"\",IF(P_20号3様式1!U102<> \"-\",IF(VALUE(FIXED(P_20号3様式1!U102,0,TRUE))<>P_20号3様式1!U102,RIGHT(FIXED(P_20号3様式1!U102,3,FALSE),4),\"\"),\"\"),\"\")","v":""},{"$f":"IF(P_20号3様式1!X102<> \"\",IF(P_20号3様式1!X102<> \"-\",TEXT(INT(P_20号3様式1!X102),\"#,##0\"),\"-\"),\"\")","v":""},{"$f":"IF(P_20号3様式1!X102<> \"\",IF(P_20号3様式1!X102<> \"-\",IF(VALUE(FIXED(P_20号3様式1!X102,0,TRUE))<>P_20号3様式1!X102,RIGHT(FIXED(P_20号3様式1!X102,3,FALSE),4),\"\"),\"\"),\"\")","v":""},{"$f":"IF(P_20号3様式1!AA102<> \"\",IF(P_20号3様式1!AA102<> \"-\",TEXT(INT(P_20号3様式1!AA102),\"#,##0\"),\"-\"),\"\")","v":""},{"$f":"IF(P_20号3様式1!AA102<> \"\",IF(P_20号3様式1!AA102<> \"-\",IF(VALUE(FIXED(P_20号3様式1!AA102,0,TRUE))<>P_20号3様式1!AA102,RIGHT(FIXED(P_20号3様式1!AA102,3,FALSE),4),\"\"),\"\"),\"\")","v":""}]
[{"$f":"IF(P_20号3様式1!C103=\"\",\"\",P_20号3様式1!C103)","v":"いちき串木野市"},{"$f":"IF(P_20号3様式1!AE103<> \"\",TEXT(INT(P_20号3様式1!AE103),\"#,##0\"),\"\")","v":"4"},{"$f":"IF(P_20号3様式1!AE103= \"\",\"\",IF(VALUE(FIXED(P_20号3様式1!AE103,0,TRUE))<>P_20号3様式1!AE103,RIGHT(FIXED(P_20号3様式1!AE103,3,FALSE),4),\"\"))","v":".092"},{"$f":"IF(P_20号3様式1!F103<> \"\",IF(P_20号3様式1!F103<> \"-\",TEXT(INT(P_20号3様式1!F103),\"#,##0\"),\"-\"),\"\")","v":"2"},{"$f":"IF(P_20号3様式1!F103<> \"\",IF(P_20号3様式1!F103<> \"-\",IF(VALUE(FIXED(P_20号3様式1!F103,0,TRUE))<>P_20号3様式1!F103,RIGHT(FIXED(P_20号3様式1!F103,3,FALSE),4),\"\"),\"\"),\"\")","v":".000"},{"$f":"IF(P_20号3様式1!I103<> \"\",IF(P_20号3様式1!I103<> \"-\",TEXT(INT(P_20号3様式1!I103),\"#,##0\"),\"-\"),\"\")","v":"2"},{"$f":"IF(P_20号3様式1!I103<> \"\",IF(P_20号3様式1!I103<> \"-\",IF(VALUE(FIXED(P_20号3様式1!I103,0,TRUE))<>P_20号3様式1!I103,RIGHT(FIXED(P_20号3様式1!I103,3,FALSE),4),\"\"),\"\"),\"\")","v":".092"},{"$f":"IF(P_20号3様式1!L103<> \"\",IF(P_20号3様式1!L103<> \"-\",TEXT(INT(P_20号3様式1!L103),\"#,##0\"),\"-\"),\"\")","v":""},{"$f":"IF(P_20号3様式1!L103<> \"\",IF(P_20号3様式1!L103<> \"-\",IF(VALUE(FIXED(P_20号3様式1!L103,0,TRUE))<>P_20号3様式1!L103,RIGHT(FIXED(P_20号3様式1!L103,3,FALSE),4),\"\"),\"\"),\"\")","v":""},{"$f":"IF(P_20号3様式1!O103<> \"\",IF(P_20号3様式1!O103<> \"-\",TEXT(INT(P_20号3様式1!O103),\"#,##0\"),\"-\"),\"\")","v":""},{"$f":"IF(P_20号3様式1!O103<> \"\",IF(P_20号3様式1!O103<> \"-\",IF(VALUE(FIXED(P_20号3様式1!O103,0,TRUE))<>P_20号3様式1!O103,RIGHT(FIXED(P_20号3様式1!O103,3,FALSE),4),\"\"),\"\"),\"\")","v":""},{"$f":"IF(P_20号3様式1!R103<> \"\",IF(P_20号3様式1!R103<> \"-\",TEXT(INT(P_20号3様式1!R103),\"#,##0\"),\"-\"),\"\")","v":""},{"$f":"IF(P_20号3様式1!R103<> \"\",IF(P_20号3様式1!R103<> \"-\",IF(VALUE(FIXED(P_20号3様式1!R103,0,TRUE))<>P_20号3様式1!R103,RIGHT(FIXED(P_20号3様式1!R103,3,FALSE),4),\"\"),\"\"),\"\")","v":""},{"$f":"IF(P_20号3様式1!U103<> \"\",IF(P_20号3様式1!U103<> \"-\",TEXT(INT(P_20号3様式1!U103),\"#,##0\"),\"-\"),\"\")","v":""},{"$f":"IF(P_20号3様式1!U103<> \"\",IF(P_20号3様式1!U103<> \"-\",IF(VALUE(FIXED(P_20号3様式1!U103,0,TRUE))<>P_20号3様式1!U103,RIGHT(FIXED(P_20号3様式1!U103,3,FALSE),4),\"\"),\"\"),\"\")","v":""},{"$f":"IF(P_20号3様式1!X103<> \"\",IF(P_20号3様式1!X103<> \"-\",TEXT(INT(P_20号3様式1!X103),\"#,##0\"),\"-\"),\"\")","v":""},{"$f":"IF(P_20号3様式1!X103<> \"\",IF(P_20号3様式1!X103<> \"-\",IF(VALUE(FIXED(P_20号3様式1!X103,0,TRUE))<>P_20号3様式1!X103,RIGHT(FIXED(P_20号3様式1!X103,3,FALSE),4),\"\"),\"\"),\"\")","v":""},{"$f":"IF(P_20号3様式1!AA103<> \"\",IF(P_20号3様式1!AA103<> \"-\",TEXT(INT(P_20号3様式1!AA103),\"#,##0\"),\"-\"),\"\")","v":""},{"$f":"IF(P_20号3様式1!AA103<> \"\",IF(P_20号3様式1!AA103<> \"-\",IF(VALUE(FIXED(P_20号3様式1!AA103,0,TRUE))<>P_20号3様式1!AA103,RIGHT(FIXED(P_20号3様式1!AA103,3,FALSE),4),\"\"),\"\"),\"\")","v":""}]
[{"$f":"IF(P_20号3様式1!C104=\"\",\"\",P_20号3様式1!C104)","v":"南さつま市"},{"$f":"IF(P_20号3様式1!AE104<> \"\",TEXT(INT(P_20号3様式1!AE104),\"#,##0\"),\"\")","v":"8"},{"$f":"IF(P_20号3様式1!AE104= \"\",\"\",IF(VALUE(FIXED(P_20号3様式1!AE104,0,TRUE))<>P_20号3様式1!AE104,RIGHT(FIXED(P_20号3様式1!AE104,3,FALSE),4),\"\"))","v":".064"},{"$f":"IF(P_20号3様式1!F104<> \"\",IF(P_20号3様式1!F104<> \"-\",TEXT(INT(P_20号3様式1!F104),\"#,##0\"),\"-\"),\"\")","v":"2"},{"$f":"IF(P_20号3様式1!F104<> \"\",IF(P_20号3様式1!F104<> \"-\",IF(VALUE(FIXED(P_20号3様式1!F104,0,TRUE))<>P_20号3様式1!F104,RIGHT(FIXED(P_20号3様式1!F104,3,FALSE),4),\"\"),\"\"),\"\")","v":".000"},{"$f":"IF(P_20号3様式1!I104<> \"\",IF(P_20号3様式1!I104<> \"-\",TEXT(INT(P_20号3様式1!I104),\"#,##0\"),\"-\"),\"\")","v":"6"},{"$f":"IF(P_20号3様式1!I104<> \"\",IF(P_20号3様式1!I104<> \"-\",IF(VALUE(FIXED(P_20号3様式1!I104,0,TRUE))<>P_20号3様式1!I104,RIGHT(FIXED(P_20号3様式1!I104,3,FALSE),4),\"\"),\"\"),\"\")","v":".064"},{"$f":"IF(P_20号3様式1!L104<> \"\",IF(P_20号3様式1!L104<> \"-\",TEXT(INT(P_20号3様式1!L104),\"#,##0\"),\"-\"),\"\")","v":""},{"$f":"IF(P_20号3様式1!L104<> \"\",IF(P_20号3様式1!L104<> \"-\",IF(VALUE(FIXED(P_20号3様式1!L104,0,TRUE))<>P_20号3様式1!L104,RIGHT(FIXED(P_20号3様式1!L104,3,FALSE),4),\"\"),\"\"),\"\")","v":""},{"$f":"IF(P_20号3様式1!O104<> \"\",IF(P_20号3様式1!O104<> \"-\",TEXT(INT(P_20号3様式1!O104),\"#,##0\"),\"-\"),\"\")","v":""},{"$f":"IF(P_20号3様式1!O104<> \"\",IF(P_20号3様式1!O104<> \"-\",IF(VALUE(FIXED(P_20号3様式1!O104,0,TRUE))<>P_20号3様式1!O104,RIGHT(FIXED(P_20号3様式1!O104,3,FALSE),4),\"\"),\"\"),\"\")","v":""},{"$f":"IF(P_20号3様式1!R104<> \"\",IF(P_20号3様式1!R104<> \"-\",TEXT(INT(P_20号3様式1!R104),\"#,##0\"),\"-\"),\"\")","v":""},{"$f":"IF(P_20号3様式1!R104<> \"\",IF(P_20号3様式1!R104<> \"-\",IF(VALUE(FIXED(P_20号3様式1!R104,0,TRUE))<>P_20号3様式1!R104,RIGHT(FIXED(P_20号3様式1!R104,3,FALSE),4),\"\"),\"\"),\"\")","v":""},{"$f":"IF(P_20号3様式1!U104<> \"\",IF(P_20号3様式1!U104<> \"-\",TEXT(INT(P_20号3様式1!U104),\"#,##0\"),\"-\"),\"\")","v":""},{"$f":"IF(P_20号3様式1!U104<> \"\",IF(P_20号3様式1!U104<> \"-\",IF(VALUE(FIXED(P_20号3様式1!U104,0,TRUE))<>P_20号3様式1!U104,RIGHT(FIXED(P_20号3様式1!U104,3,FALSE),4),\"\"),\"\"),\"\")","v":""},{"$f":"IF(P_20号3様式1!X104<> \"\",IF(P_20号3様式1!X104<> \"-\",TEXT(INT(P_20号3様式1!X104),\"#,##0\"),\"-\"),\"\")","v":""},{"$f":"IF(P_20号3様式1!X104<> \"\",IF(P_20号3様式1!X104<> \"-\",IF(VALUE(FIXED(P_20号3様式1!X104,0,TRUE))<>P_20号3様式1!X104,RIGHT(FIXED(P_20号3様式1!X104,3,FALSE),4),\"\"),\"\"),\"\")","v":""},{"$f":"IF(P_20号3様式1!AA104<> \"\",IF(P_20号3様式1!AA104<> \"-\",TEXT(INT(P_20号3様式1!AA104),\"#,##0\"),\"-\"),\"\")","v":""},{"$f":"IF(P_20号3様式1!AA104<> \"\",IF(P_20号3様式1!AA104<> \"-\",IF(VALUE(FIXED(P_20号3様式1!AA104,0,TRUE))<>P_20号3様式1!AA104,RIGHT(FIXED(P_20号3様式1!AA104,3,FALSE),4),\"\"),\"\"),\"\")","v":""}]
[{"$f":"IF(P_20号3様式1!C105=\"\",\"\",P_20号3様式1!C105)","v":"志布志市"},{"$f":"IF(P_20号3様式1!AE105<> \"\",TEXT(INT(P_20号3様式1!AE105),\"#,##0\"),\"\")","v":"4"},{"$f":"IF(P_20号3様式1!AE105= \"\",\"\",IF(VALUE(FIXED(P_20号3様式1!AE105,0,TRUE))<>P_20号3様式1!AE105,RIGHT(FIXED(P_20号3様式1!AE105,3,FALSE),4),\"\"))","v":".210"},{"$f":"IF(P_20号3様式1!F105<> \"\",IF(P_20号3様式1!F105<> \"-\",TEXT(INT(P_20号3様式1!F105),\"#,##0\"),\"-\"),\"\")","v":"1"},{"$f":"IF(P_20号3様式1!F105<> \"\",IF(P_20号3様式1!F105<> \"-\",IF(VALUE(FIXED(P_20号3様式1!F105,0,TRUE))<>P_20号3様式1!F105,RIGHT(FIXED(P_20号3様式1!F105,3,FALSE),4),\"\"),\"\"),\"\")","v":".000"},{"$f":"IF(P_20号3様式1!I105<> \"\",IF(P_20号3様式1!I105<> \"-\",TEXT(INT(P_20号3様式1!I105),\"#,##0\"),\"-\"),\"\")","v":"3"},{"$f":"IF(P_20号3様式1!I105<> \"\",IF(P_20号3様式1!I105<> \"-\",IF(VALUE(FIXED(P_20号3様式1!I105,0,TRUE))<>P_20号3様式1!I105,RIGHT(FIXED(P_20号3様式1!I105,3,FALSE),4),\"\"),\"\"),\"\")","v":".210"},{"$f":"IF(P_20号3様式1!L105<> \"\",IF(P_20号3様式1!L105<> \"-\",TEXT(INT(P_20号3様式1!L105),\"#,##0\"),\"-\"),\"\")","v":""},{"$f":"IF(P_20号3様式1!L105<> \"\",IF(P_20号3様式1!L105<> \"-\",IF(VALUE(FIXED(P_20号3様式1!L105,0,TRUE))<>P_20号3様式1!L105,RIGHT(FIXED(P_20号3様式1!L105,3,FALSE),4),\"\"),\"\"),\"\")","v":""},{"$f":"IF(P_20号3様式1!O105<> \"\",IF(P_20号3様式1!O105<> \"-\",TEXT(INT(P_20号3様式1!O105),\"#,##0\"),\"-\"),\"\")","v":""},{"$f":"IF(P_20号3様式1!O105<> \"\",IF(P_20号3様式1!O105<> \"-\",IF(VALUE(FIXED(P_20号3様式1!O105,0,TRUE))<>P_20号3様式1!O105,RIGHT(FIXED(P_20号3様式1!O105,3,FALSE),4),\"\"),\"\"),\"\")","v":""},{"$f":"IF(P_20号3様式1!R105<> \"\",IF(P_20号3様式1!R105<> \"-\",TEXT(INT(P_20号3様式1!R105),\"#,##0\"),\"-\"),\"\")","v":""},{"$f":"IF(P_20号3様式1!R105<> \"\",IF(P_20号3様式1!R105<> \"-\",IF(VALUE(FIXED(P_20号3様式1!R105,0,TRUE))<>P_20号3様式1!R105,RIGHT(FIXED(P_20号3様式1!R105,3,FALSE),4),\"\"),\"\"),\"\")","v":""},{"$f":"IF(P_20号3様式1!U105<> \"\",IF(P_20号3様式1!U105<> \"-\",TEXT(INT(P_20号3様式1!U105),\"#,##0\"),\"-\"),\"\")","v":""},{"$f":"IF(P_20号3様式1!U105<> \"\",IF(P_20号3様式1!U105<> \"-\",IF(VALUE(FIXED(P_20号3様式1!U105,0,TRUE))<>P_20号3様式1!U105,RIGHT(FIXED(P_20号3様式1!U105,3,FALSE),4),\"\"),\"\"),\"\")","v":""},{"$f":"IF(P_20号3様式1!X105<> \"\",IF(P_20号3様式1!X105<> \"-\",TEXT(INT(P_20号3様式1!X105),\"#,##0\"),\"-\"),\"\")","v":""},{"$f":"IF(P_20号3様式1!X105<> \"\",IF(P_20号3様式1!X105<> \"-\",IF(VALUE(FIXED(P_20号3様式1!X105,0,TRUE))<>P_20号3様式1!X105,RIGHT(FIXED(P_20号3様式1!X105,3,FALSE),4),\"\"),\"\"),\"\")","v":""},{"$f":"IF(P_20号3様式1!AA105<> \"\",IF(P_20号3様式1!AA105<> \"-\",TEXT(INT(P_20号3様式1!AA105),\"#,##0\"),\"-\"),\"\")","v":""},{"$f":"IF(P_20号3様式1!AA105<> \"\",IF(P_20号3様式1!AA105<> \"-\",IF(VALUE(FIXED(P_20号3様式1!AA105,0,TRUE))<>P_20号3様式1!AA105,RIGHT(FIXED(P_20号3様式1!AA105,3,FALSE),4),\"\"),\"\"),\"\")","v":""}]
[{"$f":"IF(P_20号3様式1!C106=\"\",\"\",P_20号3様式1!C106)","v":"奄美市"},{"$f":"IF(P_20号3様式1!AE106<> \"\",TEXT(INT(P_20号3様式1!AE106),\"#,##0\"),\"\")","v":"2"},{"$f":"IF(P_20号3様式1!AE106= \"\",\"\",IF(VALUE(FIXED(P_20号3様式1!AE106,0,TRUE))<>P_20号3様式1!AE106,RIGHT(FIXED(P_20号3様式1!AE106,3,FALSE),4),\"\"))","v":".000"},{"$f":"IF(P_20号3様式1!F106<> \"\",IF(P_20号3様式1!F106<> \"-\",TEXT(INT(P_20号3様式1!F106),\"#,##0\"),\"-\"),\"\")","v":"2"},{"$f":"IF(P_20号3様式1!F106<> \"\",IF(P_20号3様式1!F106<> \"-\",IF(VALUE(FIXED(P_20号3様式1!F106,0,TRUE))<>P_20号3様式1!F106,RIGHT(FIXED(P_20号3様式1!F106,3,FALSE),4),\"\"),\"\"),\"\")","v":".000"},{"$f":"IF(P_20号3様式1!I106<> \"\",IF(P_20号3様式1!I106<> \"-\",TEXT(INT(P_20号3様式1!I106),\"#,##0\"),\"-\"),\"\")","v":"0"},{"$f":"IF(P_20号3様式1!I106<> \"\",IF(P_20号3様式1!I106<> \"-\",IF(VALUE(FIXED(P_20号3様式1!I106,0,TRUE))<>P_20号3様式1!I106,RIGHT(FIXED(P_20号3様式1!I106,3,FALSE),4),\"\"),\"\"),\"\")","v":".000"},{"$f":"IF(P_20号3様式1!L106<> \"\",IF(P_20号3様式1!L106<> \"-\",TEXT(INT(P_20号3様式1!L106),\"#,##0\"),\"-\"),\"\")","v":""},{"$f":"IF(P_20号3様式1!L106<> \"\",IF(P_20号3様式1!L106<> \"-\",IF(VALUE(FIXED(P_20号3様式1!L106,0,TRUE))<>P_20号3様式1!L106,RIGHT(FIXED(P_20号3様式1!L106,3,FALSE),4),\"\"),\"\"),\"\")","v":""},{"$f":"IF(P_20号3様式1!O106<> \"\",IF(P_20号3様式1!O106<> \"-\",TEXT(INT(P_20号3様式1!O106),\"#,##0\"),\"-\"),\"\")","v":""},{"$f":"IF(P_20号3様式1!O106<> \"\",IF(P_20号3様式1!O106<> \"-\",IF(VALUE(FIXED(P_20号3様式1!O106,0,TRUE))<>P_20号3様式1!O106,RIGHT(FIXED(P_20号3様式1!O106,3,FALSE),4),\"\"),\"\"),\"\")","v":""},{"$f":"IF(P_20号3様式1!R106<> \"\",IF(P_20号3様式1!R106<> \"-\",TEXT(INT(P_20号3様式1!R106),\"#,##0\"),\"-\"),\"\")","v":""},{"$f":"IF(P_20号3様式1!R106<> \"\",IF(P_20号3様式1!R106<> \"-\",IF(VALUE(FIXED(P_20号3様式1!R106,0,TRUE))<>P_20号3様式1!R106,RIGHT(FIXED(P_20号3様式1!R106,3,FALSE),4),\"\"),\"\"),\"\")","v":""},{"$f":"IF(P_20号3様式1!U106<> \"\",IF(P_20号3様式1!U106<> \"-\",TEXT(INT(P_20号3様式1!U106),\"#,##0\"),\"-\"),\"\")","v":""},{"$f":"IF(P_20号3様式1!U106<> \"\",IF(P_20号3様式1!U106<> \"-\",IF(VALUE(FIXED(P_20号3様式1!U106,0,TRUE))<>P_20号3様式1!U106,RIGHT(FIXED(P_20号3様式1!U106,3,FALSE),4),\"\"),\"\"),\"\")","v":""},{"$f":"IF(P_20号3様式1!X106<> \"\",IF(P_20号3様式1!X106<> \"-\",TEXT(INT(P_20号3様式1!X106),\"#,##0\"),\"-\"),\"\")","v":""},{"$f":"IF(P_20号3様式1!X106<> \"\",IF(P_20号3様式1!X106<> \"-\",IF(VALUE(FIXED(P_20号3様式1!X106,0,TRUE))<>P_20号3様式1!X106,RIGHT(FIXED(P_20号3様式1!X106,3,FALSE),4),\"\"),\"\"),\"\")","v":""},{"$f":"IF(P_20号3様式1!AA106<> \"\",IF(P_20号3様式1!AA106<> \"-\",TEXT(INT(P_20号3様式1!AA106),\"#,##0\"),\"-\"),\"\")","v":""},{"$f":"IF(P_20号3様式1!AA106<> \"\",IF(P_20号3様式1!AA106<> \"-\",IF(VALUE(FIXED(P_20号3様式1!AA106,0,TRUE))<>P_20号3様式1!AA106,RIGHT(FIXED(P_20号3様式1!AA106,3,FALSE),4),\"\"),\"\"),\"\")","v":""}]
[{"$f":"IF(P_20号3様式1!C107=\"\",\"\",P_20号3様式1!C107)","v":"南九州市"},{"$f":"IF(P_20号3様式1!AE107<> \"\",TEXT(INT(P_20号3様式1!AE107),\"#,##0\"),\"\")","v":"4"},{"$f":"IF(P_20号3様式1!AE107= \"\",\"\",IF(VALUE(FIXED(P_20号3様式1!AE107,0,TRUE))<>P_20号3様式1!AE107,RIGHT(FIXED(P_20号3様式1!AE107,3,FALSE),4),\"\"))","v":".083"},{"$f":"IF(P_20号3様式1!F107<> \"\",IF(P_20号3様式1!F107<> \"-\",TEXT(INT(P_20号3様式1!F107),\"#,##0\"),\"-\"),\"\")","v":"2"},{"$f":"IF(P_20号3様式1!F107<> \"\",IF(P_20号3様式1!F107<> \"-\",IF(VALUE(FIXED(P_20号3様式1!F107,0,TRUE))<>P_20号3様式1!F107,RIGHT(FIXED(P_20号3様式1!F107,3,FALSE),4),\"\"),\"\"),\"\")","v":".000"},{"$f":"IF(P_20号3様式1!I107<> \"\",IF(P_20号3様式1!I107<> \"-\",TEXT(INT(P_20号3様式1!I107),\"#,##0\"),\"-\"),\"\")","v":"2"},{"$f":"IF(P_20号3様式1!I107<> \"\",IF(P_20号3様式1!I107<> \"-\",IF(VALUE(FIXED(P_20号3様式1!I107,0,TRUE))<>P_20号3様式1!I107,RIGHT(FIXED(P_20号3様式1!I107,3,FALSE),4),\"\"),\"\"),\"\")","v":".083"},{"$f":"IF(P_20号3様式1!L107<> \"\",IF(P_20号3様式1!L107<> \"-\",TEXT(INT(P_20号3様式1!L107),\"#,##0\"),\"-\"),\"\")","v":""},{"$f":"IF(P_20号3様式1!L107<> \"\",IF(P_20号3様式1!L107<> \"-\",IF(VALUE(FIXED(P_20号3様式1!L107,0,TRUE))<>P_20号3様式1!L107,RIGHT(FIXED(P_20号3様式1!L107,3,FALSE),4),\"\"),\"\"),\"\")","v":""},{"$f":"IF(P_20号3様式1!O107<> \"\",IF(P_20号3様式1!O107<> \"-\",TEXT(INT(P_20号3様式1!O107),\"#,##0\"),\"-\"),\"\")","v":""},{"$f":"IF(P_20号3様式1!O107<> \"\",IF(P_20号3様式1!O107<> \"-\",IF(VALUE(FIXED(P_20号3様式1!O107,0,TRUE))<>P_20号3様式1!O107,RIGHT(FIXED(P_20号3様式1!O107,3,FALSE),4),\"\"),\"\"),\"\")","v":""},{"$f":"IF(P_20号3様式1!R107<> \"\",IF(P_20号3様式1!R107<> \"-\",TEXT(INT(P_20号3様式1!R107),\"#,##0\"),\"-\"),\"\")","v":""},{"$f":"IF(P_20号3様式1!R107<> \"\",IF(P_20号3様式1!R107<> \"-\",IF(VALUE(FIXED(P_20号3様式1!R107,0,TRUE))<>P_20号3様式1!R107,RIGHT(FIXED(P_20号3様式1!R107,3,FALSE),4),\"\"),\"\"),\"\")","v":""},{"$f":"IF(P_20号3様式1!U107<> \"\",IF(P_20号3様式1!U107<> \"-\",TEXT(INT(P_20号3様式1!U107),\"#,##0\"),\"-\"),\"\")","v":""},{"$f":"IF(P_20号3様式1!U107<> \"\",IF(P_20号3様式1!U107<> \"-\",IF(VALUE(FIXED(P_20号3様式1!U107,0,TRUE))<>P_20号3様式1!U107,RIGHT(FIXED(P_20号3様式1!U107,3,FALSE),4),\"\"),\"\"),\"\")","v":""},{"$f":"IF(P_20号3様式1!X107<> \"\",IF(P_20号3様式1!X107<> \"-\",TEXT(INT(P_20号3様式1!X107),\"#,##0\"),\"-\"),\"\")","v":""},{"$f":"IF(P_20号3様式1!X107<> \"\",IF(P_20号3様式1!X107<> \"-\",IF(VALUE(FIXED(P_20号3様式1!X107,0,TRUE))<>P_20号3様式1!X107,RIGHT(FIXED(P_20号3様式1!X107,3,FALSE),4),\"\"),\"\"),\"\")","v":""},{"$f":"IF(P_20号3様式1!AA107<> \"\",IF(P_20号3様式1!AA107<> \"-\",TEXT(INT(P_20号3様式1!AA107),\"#,##0\"),\"-\"),\"\")","v":""},{"$f":"IF(P_20号3様式1!AA107<> \"\",IF(P_20号3様式1!AA107<> \"-\",IF(VALUE(FIXED(P_20号3様式1!AA107,0,TRUE))<>P_20号3様式1!AA107,RIGHT(FIXED(P_20号3様式1!AA107,3,FALSE),4),\"\"),\"\"),\"\")","v":""}]
[{"$f":"IF(P_20号3様式1!C108=\"\",\"\",P_20号3様式1!C108)","v":"伊佐市"},{"$f":"IF(P_20号3様式1!AE108<> \"\",TEXT(INT(P_20号3様式1!AE108),\"#,##0\"),\"\")","v":"1"},{"$f":"IF(P_20号3様式1!AE108= \"\",\"\",IF(VALUE(FIXED(P_20号3様式1!AE108,0,TRUE))<>P_20号3様式1!AE108,RIGHT(FIXED(P_20号3様式1!AE108,3,FALSE),4),\"\"))","v":".000"},{"$f":"IF(P_20号3様式1!F108<> \"\",IF(P_20号3様式1!F108<> \"-\",TEXT(INT(P_20号3様式1!F108),\"#,##0\"),\"-\"),\"\")","v":"1"},{"$f":"IF(P_20号3様式1!F108<> \"\",IF(P_20号3様式1!F108<> \"-\",IF(VALUE(FIXED(P_20号3様式1!F108,0,TRUE))<>P_20号3様式1!F108,RIGHT(FIXED(P_20号3様式1!F108,3,FALSE),4),\"\"),\"\"),\"\")","v":".000"},{"$f":"IF(P_20号3様式1!I108<> \"\",IF(P_20号3様式1!I108<> \"-\",TEXT(INT(P_20号3様式1!I108),\"#,##0\"),\"-\"),\"\")","v":"0"},{"$f":"IF(P_20号3様式1!I108<> \"\",IF(P_20号3様式1!I108<> \"-\",IF(VALUE(FIXED(P_20号3様式1!I108,0,TRUE))<>P_20号3様式1!I108,RIGHT(FIXED(P_20号3様式1!I108,3,FALSE),4),\"\"),\"\"),\"\")","v":".000"},{"$f":"IF(P_20号3様式1!L108<> \"\",IF(P_20号3様式1!L108<> \"-\",TEXT(INT(P_20号3様式1!L108),\"#,##0\"),\"-\"),\"\")","v":""},{"$f":"IF(P_20号3様式1!L108<> \"\",IF(P_20号3様式1!L108<> \"-\",IF(VALUE(FIXED(P_20号3様式1!L108,0,TRUE))<>P_20号3様式1!L108,RIGHT(FIXED(P_20号3様式1!L108,3,FALSE),4),\"\"),\"\"),\"\")","v":""},{"$f":"IF(P_20号3様式1!O108<> \"\",IF(P_20号3様式1!O108<> \"-\",TEXT(INT(P_20号3様式1!O108),\"#,##0\"),\"-\"),\"\")","v":""},{"$f":"IF(P_20号3様式1!O108<> \"\",IF(P_20号3様式1!O108<> \"-\",IF(VALUE(FIXED(P_20号3様式1!O108,0,TRUE))<>P_20号3様式1!O108,RIGHT(FIXED(P_20号3様式1!O108,3,FALSE),4),\"\"),\"\"),\"\")","v":""},{"$f":"IF(P_20号3様式1!R108<> \"\",IF(P_20号3様式1!R108<> \"-\",TEXT(INT(P_20号3様式1!R108),\"#,##0\"),\"-\"),\"\")","v":""},{"$f":"IF(P_20号3様式1!R108<> \"\",IF(P_20号3様式1!R108<> \"-\",IF(VALUE(FIXED(P_20号3様式1!R108,0,TRUE))<>P_20号3様式1!R108,RIGHT(FIXED(P_20号3様式1!R108,3,FALSE),4),\"\"),\"\"),\"\")","v":""},{"$f":"IF(P_20号3様式1!U108<> \"\",IF(P_20号3様式1!U108<> \"-\",TEXT(INT(P_20号3様式1!U108),\"#,##0\"),\"-\"),\"\")","v":""},{"$f":"IF(P_20号3様式1!U108<> \"\",IF(P_20号3様式1!U108<> \"-\",IF(VALUE(FIXED(P_20号3様式1!U108,0,TRUE))<>P_20号3様式1!U108,RIGHT(FIXED(P_20号3様式1!U108,3,FALSE),4),\"\"),\"\"),\"\")","v":""},{"$f":"IF(P_20号3様式1!X108<> \"\",IF(P_20号3様式1!X108<> \"-\",TEXT(INT(P_20号3様式1!X108),\"#,##0\"),\"-\"),\"\")","v":""},{"$f":"IF(P_20号3様式1!X108<> \"\",IF(P_20号3様式1!X108<> \"-\",IF(VALUE(FIXED(P_20号3様式1!X108,0,TRUE))<>P_20号3様式1!X108,RIGHT(FIXED(P_20号3様式1!X108,3,FALSE),4),\"\"),\"\"),\"\")","v":""},{"$f":"IF(P_20号3様式1!AA108<> \"\",IF(P_20号3様式1!AA108<> \"-\",TEXT(INT(P_20号3様式1!AA108),\"#,##0\"),\"-\"),\"\")","v":""},{"$f":"IF(P_20号3様式1!AA108<> \"\",IF(P_20号3様式1!AA108<> \"-\",IF(VALUE(FIXED(P_20号3様式1!AA108,0,TRUE))<>P_20号3様式1!AA108,RIGHT(FIXED(P_20号3様式1!AA108,3,FALSE),4),\"\"),\"\"),\"\")","v":""}]
[{"$f":"IF(P_20号3様式1!C109=\"\",\"\",P_20号3様式1!C109)","v":"姶良市"},{"$f":"IF(P_20号3様式1!AE109<> \"\",TEXT(INT(P_20号3様式1!AE109),\"#,##0\"),\"\")","v":"14"},{"$f":"IF(P_20号3様式1!AE109= \"\",\"\",IF(VALUE(FIXED(P_20号3様式1!AE109,0,TRUE))<>P_20号3様式1!AE109,RIGHT(FIXED(P_20号3様式1!AE109,3,FALSE),4),\"\"))","v":".069"},{"$f":"IF(P_20号3様式1!F109<> \"\",IF(P_20号3様式1!F109<> \"-\",TEXT(INT(P_20号3様式1!F109),\"#,##0\"),\"-\"),\"\")","v":"6"},{"$f":"IF(P_20号3様式1!F109<> \"\",IF(P_20号3様式1!F109<> \"-\",IF(VALUE(FIXED(P_20号3様式1!F109,0,TRUE))<>P_20号3様式1!F109,RIGHT(FIXED(P_20号3様式1!F109,3,FALSE),4),\"\"),\"\"),\"\")","v":".000"},{"$f":"IF(P_20号3様式1!I109<> \"\",IF(P_20号3様式1!I109<> \"-\",TEXT(INT(P_20号3様式1!I109),\"#,##0\"),\"-\"),\"\")","v":"8"},{"$f":"IF(P_20号3様式1!I109<> \"\",IF(P_20号3様式1!I109<> \"-\",IF(VALUE(FIXED(P_20号3様式1!I109,0,TRUE))<>P_20号3様式1!I109,RIGHT(FIXED(P_20号3様式1!I109,3,FALSE),4),\"\"),\"\"),\"\")","v":".069"},{"$f":"IF(P_20号3様式1!L109<> \"\",IF(P_20号3様式1!L109<> \"-\",TEXT(INT(P_20号3様式1!L109),\"#,##0\"),\"-\"),\"\")","v":""},{"$f":"IF(P_20号3様式1!L109<> \"\",IF(P_20号3様式1!L109<> \"-\",IF(VALUE(FIXED(P_20号3様式1!L109,0,TRUE))<>P_20号3様式1!L109,RIGHT(FIXED(P_20号3様式1!L109,3,FALSE),4),\"\"),\"\"),\"\")","v":""},{"$f":"IF(P_20号3様式1!O109<> \"\",IF(P_20号3様式1!O109<> \"-\",TEXT(INT(P_20号3様式1!O109),\"#,##0\"),\"-\"),\"\")","v":""},{"$f":"IF(P_20号3様式1!O109<> \"\",IF(P_20号3様式1!O109<> \"-\",IF(VALUE(FIXED(P_20号3様式1!O109,0,TRUE))<>P_20号3様式1!O109,RIGHT(FIXED(P_20号3様式1!O109,3,FALSE),4),\"\"),\"\"),\"\")","v":""},{"$f":"IF(P_20号3様式1!R109<> \"\",IF(P_20号3様式1!R109<> \"-\",TEXT(INT(P_20号3様式1!R109),\"#,##0\"),\"-\"),\"\")","v":""},{"$f":"IF(P_20号3様式1!R109<> \"\",IF(P_20号3様式1!R109<> \"-\",IF(VALUE(FIXED(P_20号3様式1!R109,0,TRUE))<>P_20号3様式1!R109,RIGHT(FIXED(P_20号3様式1!R109,3,FALSE),4),\"\"),\"\"),\"\")","v":""},{"$f":"IF(P_20号3様式1!U109<> \"\",IF(P_20号3様式1!U109<> \"-\",TEXT(INT(P_20号3様式1!U109),\"#,##0\"),\"-\"),\"\")","v":""},{"$f":"IF(P_20号3様式1!U109<> \"\",IF(P_20号3様式1!U109<> \"-\",IF(VALUE(FIXED(P_20号3様式1!U109,0,TRUE))<>P_20号3様式1!U109,RIGHT(FIXED(P_20号3様式1!U109,3,FALSE),4),\"\"),\"\"),\"\")","v":""},{"$f":"IF(P_20号3様式1!X109<> \"\",IF(P_20号3様式1!X109<> \"-\",TEXT(INT(P_20号3様式1!X109),\"#,##0\"),\"-\"),\"\")","v":""},{"$f":"IF(P_20号3様式1!X109<> \"\",IF(P_20号3様式1!X109<> \"-\",IF(VALUE(FIXED(P_20号3様式1!X109,0,TRUE))<>P_20号3様式1!X109,RIGHT(FIXED(P_20号3様式1!X109,3,FALSE),4),\"\"),\"\"),\"\")","v":""},{"$f":"IF(P_20号3様式1!AA109<> \"\",IF(P_20号3様式1!AA109<> \"-\",TEXT(INT(P_20号3様式1!AA109),\"#,##0\"),\"-\"),\"\")","v":""},{"$f":"IF(P_20号3様式1!AA109<> \"\",IF(P_20号3様式1!AA109<> \"-\",IF(VALUE(FIXED(P_20号3様式1!AA109,0,TRUE))<>P_20号3様式1!AA109,RIGHT(FIXED(P_20号3様式1!AA109,3,FALSE),4),\"\"),\"\"),\"\")","v":""}]
[{"$f":"IF(P_20号3様式1!C110=\"\",\"\",P_20号3様式1!C110)","v":"三島村"},{"$f":"IF(P_20号3様式1!AE110<> \"\",TEXT(INT(P_20号3様式1!AE110),\"#,##0\"),\"\")","v":"0"},{"$f":"IF(P_20号3様式1!AE110= \"\",\"\",IF(VALUE(FIXED(P_20号3様式1!AE110,0,TRUE))<>P_20号3様式1!AE110,RIGHT(FIXED(P_20号3様式1!AE110,3,FALSE),4),\"\"))","v":".000"},{"$f":"IF(P_20号3様式1!F110<> \"\",IF(P_20号3様式1!F110<> \"-\",TEXT(INT(P_20号3様式1!F110),\"#,##0\"),\"-\"),\"\")","v":"0"},{"$f":"IF(P_20号3様式1!F110<> \"\",IF(P_20号3様式1!F110<> \"-\",IF(VALUE(FIXED(P_20号3様式1!F110,0,TRUE))<>P_20号3様式1!F110,RIGHT(FIXED(P_20号3様式1!F110,3,FALSE),4),\"\"),\"\"),\"\")","v":".000"},{"$f":"IF(P_20号3様式1!I110<> \"\",IF(P_20号3様式1!I110<> \"-\",TEXT(INT(P_20号3様式1!I110),\"#,##0\"),\"-\"),\"\")","v":"0"},{"$f":"IF(P_20号3様式1!I110<> \"\",IF(P_20号3様式1!I110<> \"-\",IF(VALUE(FIXED(P_20号3様式1!I110,0,TRUE))<>P_20号3様式1!I110,RIGHT(FIXED(P_20号3様式1!I110,3,FALSE),4),\"\"),\"\"),\"\")","v":".000"},{"$f":"IF(P_20号3様式1!L110<> \"\",IF(P_20号3様式1!L110<> \"-\",TEXT(INT(P_20号3様式1!L110),\"#,##0\"),\"-\"),\"\")","v":""},{"$f":"IF(P_20号3様式1!L110<> \"\",IF(P_20号3様式1!L110<> \"-\",IF(VALUE(FIXED(P_20号3様式1!L110,0,TRUE))<>P_20号3様式1!L110,RIGHT(FIXED(P_20号3様式1!L110,3,FALSE),4),\"\"),\"\"),\"\")","v":""},{"$f":"IF(P_20号3様式1!O110<> \"\",IF(P_20号3様式1!O110<> \"-\",TEXT(INT(P_20号3様式1!O110),\"#,##0\"),\"-\"),\"\")","v":""},{"$f":"IF(P_20号3様式1!O110<> \"\",IF(P_20号3様式1!O110<> \"-\",IF(VALUE(FIXED(P_20号3様式1!O110,0,TRUE))<>P_20号3様式1!O110,RIGHT(FIXED(P_20号3様式1!O110,3,FALSE),4),\"\"),\"\"),\"\")","v":""},{"$f":"IF(P_20号3様式1!R110<> \"\",IF(P_20号3様式1!R110<> \"-\",TEXT(INT(P_20号3様式1!R110),\"#,##0\"),\"-\"),\"\")","v":""},{"$f":"IF(P_20号3様式1!R110<> \"\",IF(P_20号3様式1!R110<> \"-\",IF(VALUE(FIXED(P_20号3様式1!R110,0,TRUE))<>P_20号3様式1!R110,RIGHT(FIXED(P_20号3様式1!R110,3,FALSE),4),\"\"),\"\"),\"\")","v":""},{"$f":"IF(P_20号3様式1!U110<> \"\",IF(P_20号3様式1!U110<> \"-\",TEXT(INT(P_20号3様式1!U110),\"#,##0\"),\"-\"),\"\")","v":""},{"$f":"IF(P_20号3様式1!U110<> \"\",IF(P_20号3様式1!U110<> \"-\",IF(VALUE(FIXED(P_20号3様式1!U110,0,TRUE))<>P_20号3様式1!U110,RIGHT(FIXED(P_20号3様式1!U110,3,FALSE),4),\"\"),\"\"),\"\")","v":""},{"$f":"IF(P_20号3様式1!X110<> \"\",IF(P_20号3様式1!X110<> \"-\",TEXT(INT(P_20号3様式1!X110),\"#,##0\"),\"-\"),\"\")","v":""},{"$f":"IF(P_20号3様式1!X110<> \"\",IF(P_20号3様式1!X110<> \"-\",IF(VALUE(FIXED(P_20号3様式1!X110,0,TRUE))<>P_20号3様式1!X110,RIGHT(FIXED(P_20号3様式1!X110,3,FALSE),4),\"\"),\"\"),\"\")","v":""},{"$f":"IF(P_20号3様式1!AA110<> \"\",IF(P_20号3様式1!AA110<> \"-\",TEXT(INT(P_20号3様式1!AA110),\"#,##0\"),\"-\"),\"\")","v":""},{"$f":"IF(P_20号3様式1!AA110<> \"\",IF(P_20号3様式1!AA110<> \"-\",IF(VALUE(FIXED(P_20号3様式1!AA110,0,TRUE))<>P_20号3様式1!AA110,RIGHT(FIXED(P_20号3様式1!AA110,3,FALSE),4),\"\"),\"\"),\"\")","v":""}]
[{"$f":"IF(P_20号3様式1!C111=\"\",\"\",P_20号3様式1!C111)","v":"十島村"},{"$f":"IF(P_20号3様式1!AE111<> \"\",TEXT(INT(P_20号3様式1!AE111),\"#,##0\"),\"\")","v":"0"},{"$f":"IF(P_20号3様式1!AE111= \"\",\"\",IF(VALUE(FIXED(P_20号3様式1!AE111,0,TRUE))<>P_20号3様式1!AE111,RIGHT(FIXED(P_20号3様式1!AE111,3,FALSE),4),\"\"))","v":".000"},{"$f":"IF(P_20号3様式1!F111<> \"\",IF(P_20号3様式1!F111<> \"-\",TEXT(INT(P_20号3様式1!F111),\"#,##0\"),\"-\"),\"\")","v":"0"},{"$f":"IF(P_20号3様式1!F111<> \"\",IF(P_20号3様式1!F111<> \"-\",IF(VALUE(FIXED(P_20号3様式1!F111,0,TRUE))<>P_20号3様式1!F111,RIGHT(FIXED(P_20号3様式1!F111,3,FALSE),4),\"\"),\"\"),\"\")","v":".000"},{"$f":"IF(P_20号3様式1!I111<> \"\",IF(P_20号3様式1!I111<> \"-\",TEXT(INT(P_20号3様式1!I111),\"#,##0\"),\"-\"),\"\")","v":"0"},{"$f":"IF(P_20号3様式1!I111<> \"\",IF(P_20号3様式1!I111<> \"-\",IF(VALUE(FIXED(P_20号3様式1!I111,0,TRUE))<>P_20号3様式1!I111,RIGHT(FIXED(P_20号3様式1!I111,3,FALSE),4),\"\"),\"\"),\"\")","v":".000"},{"$f":"IF(P_20号3様式1!L111<> \"\",IF(P_20号3様式1!L111<> \"-\",TEXT(INT(P_20号3様式1!L111),\"#,##0\"),\"-\"),\"\")","v":""},{"$f":"IF(P_20号3様式1!L111<> \"\",IF(P_20号3様式1!L111<> \"-\",IF(VALUE(FIXED(P_20号3様式1!L111,0,TRUE))<>P_20号3様式1!L111,RIGHT(FIXED(P_20号3様式1!L111,3,FALSE),4),\"\"),\"\"),\"\")","v":""},{"$f":"IF(P_20号3様式1!O111<> \"\",IF(P_20号3様式1!O111<> \"-\",TEXT(INT(P_20号3様式1!O111),\"#,##0\"),\"-\"),\"\")","v":""},{"$f":"IF(P_20号3様式1!O111<> \"\",IF(P_20号3様式1!O111<> \"-\",IF(VALUE(FIXED(P_20号3様式1!O111,0,TRUE))<>P_20号3様式1!O111,RIGHT(FIXED(P_20号3様式1!O111,3,FALSE),4),\"\"),\"\"),\"\")","v":""},{"$f":"IF(P_20号3様式1!R111<> \"\",IF(P_20号3様式1!R111<> \"-\",TEXT(INT(P_20号3様式1!R111),\"#,##0\"),\"-\"),\"\")","v":""},{"$f":"IF(P_20号3様式1!R111<> \"\",IF(P_20号3様式1!R111<> \"-\",IF(VALUE(FIXED(P_20号3様式1!R111,0,TRUE))<>P_20号3様式1!R111,RIGHT(FIXED(P_20号3様式1!R111,3,FALSE),4),\"\"),\"\"),\"\")","v":""},{"$f":"IF(P_20号3様式1!U111<> \"\",IF(P_20号3様式1!U111<> \"-\",TEXT(INT(P_20号3様式1!U111),\"#,##0\"),\"-\"),\"\")","v":""},{"$f":"IF(P_20号3様式1!U111<> \"\",IF(P_20号3様式1!U111<> \"-\",IF(VALUE(FIXED(P_20号3様式1!U111,0,TRUE))<>P_20号3様式1!U111,RIGHT(FIXED(P_20号3様式1!U111,3,FALSE),4),\"\"),\"\"),\"\")","v":""},{"$f":"IF(P_20号3様式1!X111<> \"\",IF(P_20号3様式1!X111<> \"-\",TEXT(INT(P_20号3様式1!X111),\"#,##0\"),\"-\"),\"\")","v":""},{"$f":"IF(P_20号3様式1!X111<> \"\",IF(P_20号3様式1!X111<> \"-\",IF(VALUE(FIXED(P_20号3様式1!X111,0,TRUE))<>P_20号3様式1!X111,RIGHT(FIXED(P_20号3様式1!X111,3,FALSE),4),\"\"),\"\"),\"\")","v":""},{"$f":"IF(P_20号3様式1!AA111<> \"\",IF(P_20号3様式1!AA111<> \"-\",TEXT(INT(P_20号3様式1!AA111),\"#,##0\"),\"-\"),\"\")","v":""},{"$f":"IF(P_20号3様式1!AA111<> \"\",IF(P_20号3様式1!AA111<> \"-\",IF(VALUE(FIXED(P_20号3様式1!AA111,0,TRUE))<>P_20号3様式1!AA111,RIGHT(FIXED(P_20号3様式1!AA111,3,FALSE),4),\"\"),\"\"),\"\")","v":""}]
[{"$f":"IF(P_20号3様式1!C112=\"\",\"\",P_20号3様式1!C112)","v":"＊（鹿児島郡）計"},{"$f":"IF(P_20号3様式1!AE112<> \"\",TEXT(INT(P_20号3様式1!AE112),\"#,##0\"),\"\")","v":"0"},{"$f":"IF(P_20号3様式1!AE112= \"\",\"\",IF(VALUE(FIXED(P_20号3様式1!AE112,0,TRUE))<>P_20号3様式1!AE112,RIGHT(FIXED(P_20号3様式1!AE112,3,FALSE),4),\"\"))","v":".000"},{"$f":"IF(P_20号3様式1!F112<> \"\",IF(P_20号3様式1!F112<> \"-\",TEXT(INT(P_20号3様式1!F112),\"#,##0\"),\"-\"),\"\")","v":"0"},{"$f":"IF(P_20号3様式1!F112<> \"\",IF(P_20号3様式1!F112<> \"-\",IF(VALUE(FIXED(P_20号3様式1!F112,0,TRUE))<>P_20号3様式1!F112,RIGHT(FIXED(P_20号3様式1!F112,3,FALSE),4),\"\"),\"\"),\"\")","v":".000"},{"$f":"IF(P_20号3様式1!I112<> \"\",IF(P_20号3様式1!I112<> \"-\",TEXT(INT(P_20号3様式1!I112),\"#,##0\"),\"-\"),\"\")","v":"0"},{"$f":"IF(P_20号3様式1!I112<> \"\",IF(P_20号3様式1!I112<> \"-\",IF(VALUE(FIXED(P_20号3様式1!I112,0,TRUE))<>P_20号3様式1!I112,RIGHT(FIXED(P_20号3様式1!I112,3,FALSE),4),\"\"),\"\"),\"\")","v":".000"},{"$f":"IF(P_20号3様式1!L112<> \"\",IF(P_20号3様式1!L112<> \"-\",TEXT(INT(P_20号3様式1!L112),\"#,##0\"),\"-\"),\"\")","v":""},{"$f":"IF(P_20号3様式1!L112<> \"\",IF(P_20号3様式1!L112<> \"-\",IF(VALUE(FIXED(P_20号3様式1!L112,0,TRUE))<>P_20号3様式1!L112,RIGHT(FIXED(P_20号3様式1!L112,3,FALSE),4),\"\"),\"\"),\"\")","v":""},{"$f":"IF(P_20号3様式1!O112<> \"\",IF(P_20号3様式1!O112<> \"-\",TEXT(INT(P_20号3様式1!O112),\"#,##0\"),\"-\"),\"\")","v":""},{"$f":"IF(P_20号3様式1!O112<> \"\",IF(P_20号3様式1!O112<> \"-\",IF(VALUE(FIXED(P_20号3様式1!O112,0,TRUE))<>P_20号3様式1!O112,RIGHT(FIXED(P_20号3様式1!O112,3,FALSE),4),\"\"),\"\"),\"\")","v":""},{"$f":"IF(P_20号3様式1!R112<> \"\",IF(P_20号3様式1!R112<> \"-\",TEXT(INT(P_20号3様式1!R112),\"#,##0\"),\"-\"),\"\")","v":""},{"$f":"IF(P_20号3様式1!R112<> \"\",IF(P_20号3様式1!R112<> \"-\",IF(VALUE(FIXED(P_20号3様式1!R112,0,TRUE))<>P_20号3様式1!R112,RIGHT(FIXED(P_20号3様式1!R112,3,FALSE),4),\"\"),\"\"),\"\")","v":""},{"$f":"IF(P_20号3様式1!U112<> \"\",IF(P_20号3様式1!U112<> \"-\",TEXT(INT(P_20号3様式1!U112),\"#,##0\"),\"-\"),\"\")","v":""},{"$f":"IF(P_20号3様式1!U112<> \"\",IF(P_20号3様式1!U112<> \"-\",IF(VALUE(FIXED(P_20号3様式1!U112,0,TRUE))<>P_20号3様式1!U112,RIGHT(FIXED(P_20号3様式1!U112,3,FALSE),4),\"\"),\"\"),\"\")","v":""},{"$f":"IF(P_20号3様式1!X112<> \"\",IF(P_20号3様式1!X112<> \"-\",TEXT(INT(P_20号3様式1!X112),\"#,##0\"),\"-\"),\"\")","v":""},{"$f":"IF(P_20号3様式1!X112<> \"\",IF(P_20号3様式1!X112<> \"-\",IF(VALUE(FIXED(P_20号3様式1!X112,0,TRUE))<>P_20号3様式1!X112,RIGHT(FIXED(P_20号3様式1!X112,3,FALSE),4),\"\"),\"\"),\"\")","v":""},{"$f":"IF(P_20号3様式1!AA112<> \"\",IF(P_20号3様式1!AA112<> \"-\",TEXT(INT(P_20号3様式1!AA112),\"#,##0\"),\"-\"),\"\")","v":""},{"$f":"IF(P_20号3様式1!AA112<> \"\",IF(P_20号3様式1!AA112<> \"-\",IF(VALUE(FIXED(P_20号3様式1!AA112,0,TRUE))<>P_20号3様式1!AA112,RIGHT(FIXED(P_20号3様式1!AA112,3,FALSE),4),\"\"),\"\"),\"\")","v":""}]
[{"$f":"IF(P_20号3様式1!C113=\"\",\"\",P_20号3様式1!C113)","v":"さつま町"},{"$f":"IF(P_20号3様式1!AE113<> \"\",TEXT(INT(P_20号3様式1!AE113),\"#,##0\"),\"\")","v":"1"},{"$f":"IF(P_20号3様式1!AE113= \"\",\"\",IF(VALUE(FIXED(P_20号3様式1!AE113,0,TRUE))<>P_20号3様式1!AE113,RIGHT(FIXED(P_20号3様式1!AE113,3,FALSE),4),\"\"))","v":".047"},{"$f":"IF(P_20号3様式1!F113<> \"\",IF(P_20号3様式1!F113<> \"-\",TEXT(INT(P_20号3様式1!F113),\"#,##0\"),\"-\"),\"\")","v":"0"},{"$f":"IF(P_20号3様式1!F113<> \"\",IF(P_20号3様式1!F113<> \"-\",IF(VALUE(FIXED(P_20号3様式1!F113,0,TRUE))<>P_20号3様式1!F113,RIGHT(FIXED(P_20号3様式1!F113,3,FALSE),4),\"\"),\"\"),\"\")","v":".000"},{"$f":"IF(P_20号3様式1!I113<> \"\",IF(P_20号3様式1!I113<> \"-\",TEXT(INT(P_20号3様式1!I113),\"#,##0\"),\"-\"),\"\")","v":"1"},{"$f":"IF(P_20号3様式1!I113<> \"\",IF(P_20号3様式1!I113<> \"-\",IF(VALUE(FIXED(P_20号3様式1!I113,0,TRUE))<>P_20号3様式1!I113,RIGHT(FIXED(P_20号3様式1!I113,3,FALSE),4),\"\"),\"\"),\"\")","v":".047"},{"$f":"IF(P_20号3様式1!L113<> \"\",IF(P_20号3様式1!L113<> \"-\",TEXT(INT(P_20号3様式1!L113),\"#,##0\"),\"-\"),\"\")","v":""},{"$f":"IF(P_20号3様式1!L113<> \"\",IF(P_20号3様式1!L113<> \"-\",IF(VALUE(FIXED(P_20号3様式1!L113,0,TRUE))<>P_20号3様式1!L113,RIGHT(FIXED(P_20号3様式1!L113,3,FALSE),4),\"\"),\"\"),\"\")","v":""},{"$f":"IF(P_20号3様式1!O113<> \"\",IF(P_20号3様式1!O113<> \"-\",TEXT(INT(P_20号3様式1!O113),\"#,##0\"),\"-\"),\"\")","v":""},{"$f":"IF(P_20号3様式1!O113<> \"\",IF(P_20号3様式1!O113<> \"-\",IF(VALUE(FIXED(P_20号3様式1!O113,0,TRUE))<>P_20号3様式1!O113,RIGHT(FIXED(P_20号3様式1!O113,3,FALSE),4),\"\"),\"\"),\"\")","v":""},{"$f":"IF(P_20号3様式1!R113<> \"\",IF(P_20号3様式1!R113<> \"-\",TEXT(INT(P_20号3様式1!R113),\"#,##0\"),\"-\"),\"\")","v":""},{"$f":"IF(P_20号3様式1!R113<> \"\",IF(P_20号3様式1!R113<> \"-\",IF(VALUE(FIXED(P_20号3様式1!R113,0,TRUE))<>P_20号3様式1!R113,RIGHT(FIXED(P_20号3様式1!R113,3,FALSE),4),\"\"),\"\"),\"\")","v":""},{"$f":"IF(P_20号3様式1!U113<> \"\",IF(P_20号3様式1!U113<> \"-\",TEXT(INT(P_20号3様式1!U113),\"#,##0\"),\"-\"),\"\")","v":""},{"$f":"IF(P_20号3様式1!U113<> \"\",IF(P_20号3様式1!U113<> \"-\",IF(VALUE(FIXED(P_20号3様式1!U113,0,TRUE))<>P_20号3様式1!U113,RIGHT(FIXED(P_20号3様式1!U113,3,FALSE),4),\"\"),\"\"),\"\")","v":""},{"$f":"IF(P_20号3様式1!X113<> \"\",IF(P_20号3様式1!X113<> \"-\",TEXT(INT(P_20号3様式1!X113),\"#,##0\"),\"-\"),\"\")","v":""},{"$f":"IF(P_20号3様式1!X113<> \"\",IF(P_20号3様式1!X113<> \"-\",IF(VALUE(FIXED(P_20号3様式1!X113,0,TRUE))<>P_20号3様式1!X113,RIGHT(FIXED(P_20号3様式1!X113,3,FALSE),4),\"\"),\"\"),\"\")","v":""},{"$f":"IF(P_20号3様式1!AA113<> \"\",IF(P_20号3様式1!AA113<> \"-\",TEXT(INT(P_20号3様式1!AA113),\"#,##0\"),\"-\"),\"\")","v":""},{"$f":"IF(P_20号3様式1!AA113<> \"\",IF(P_20号3様式1!AA113<> \"-\",IF(VALUE(FIXED(P_20号3様式1!AA113,0,TRUE))<>P_20号3様式1!AA113,RIGHT(FIXED(P_20号3様式1!AA113,3,FALSE),4),\"\"),\"\"),\"\")","v":""}]
[{"$f":"IF(P_20号3様式1!C114=\"\",\"\",P_20号3様式1!C114)","v":"＊（薩摩郡）計"},{"$f":"IF(P_20号3様式1!AE114<> \"\",TEXT(INT(P_20号3様式1!AE114),\"#,##0\"),\"\")","v":"1"},{"$f":"IF(P_20号3様式1!AE114= \"\",\"\",IF(VALUE(FIXED(P_20号3様式1!AE114,0,TRUE))<>P_20号3様式1!AE114,RIGHT(FIXED(P_20号3様式1!AE114,3,FALSE),4),\"\"))","v":".047"},{"$f":"IF(P_20号3様式1!F114<> \"\",IF(P_20号3様式1!F114<> \"-\",TEXT(INT(P_20号3様式1!F114),\"#,##0\"),\"-\"),\"\")","v":"0"},{"$f":"IF(P_20号3様式1!F114<> \"\",IF(P_20号3様式1!F114<> \"-\",IF(VALUE(FIXED(P_20号3様式1!F114,0,TRUE))<>P_20号3様式1!F114,RIGHT(FIXED(P_20号3様式1!F114,3,FALSE),4),\"\"),\"\"),\"\")","v":".000"},{"$f":"IF(P_20号3様式1!I114<> \"\",IF(P_20号3様式1!I114<> \"-\",TEXT(INT(P_20号3様式1!I114),\"#,##0\"),\"-\"),\"\")","v":"1"},{"$f":"IF(P_20号3様式1!I114<> \"\",IF(P_20号3様式1!I114<> \"-\",IF(VALUE(FIXED(P_20号3様式1!I114,0,TRUE))<>P_20号3様式1!I114,RIGHT(FIXED(P_20号3様式1!I114,3,FALSE),4),\"\"),\"\"),\"\")","v":".047"},{"$f":"IF(P_20号3様式1!L114<> \"\",IF(P_20号3様式1!L114<> \"-\",TEXT(INT(P_20号3様式1!L114),\"#,##0\"),\"-\"),\"\")","v":""},{"$f":"IF(P_20号3様式1!L114<> \"\",IF(P_20号3様式1!L114<> \"-\",IF(VALUE(FIXED(P_20号3様式1!L114,0,TRUE))<>P_20号3様式1!L114,RIGHT(FIXED(P_20号3様式1!L114,3,FALSE),4),\"\"),\"\"),\"\")","v":""},{"$f":"IF(P_20号3様式1!O114<> \"\",IF(P_20号3様式1!O114<> \"-\",TEXT(INT(P_20号3様式1!O114),\"#,##0\"),\"-\"),\"\")","v":""},{"$f":"IF(P_20号3様式1!O114<> \"\",IF(P_20号3様式1!O114<> \"-\",IF(VALUE(FIXED(P_20号3様式1!O114,0,TRUE))<>P_20号3様式1!O114,RIGHT(FIXED(P_20号3様式1!O114,3,FALSE),4),\"\"),\"\"),\"\")","v":""},{"$f":"IF(P_20号3様式1!R114<> \"\",IF(P_20号3様式1!R114<> \"-\",TEXT(INT(P_20号3様式1!R114),\"#,##0\"),\"-\"),\"\")","v":""},{"$f":"IF(P_20号3様式1!R114<> \"\",IF(P_20号3様式1!R114<> \"-\",IF(VALUE(FIXED(P_20号3様式1!R114,0,TRUE))<>P_20号3様式1!R114,RIGHT(FIXED(P_20号3様式1!R114,3,FALSE),4),\"\"),\"\"),\"\")","v":""},{"$f":"IF(P_20号3様式1!U114<> \"\",IF(P_20号3様式1!U114<> \"-\",TEXT(INT(P_20号3様式1!U114),\"#,##0\"),\"-\"),\"\")","v":""},{"$f":"IF(P_20号3様式1!U114<> \"\",IF(P_20号3様式1!U114<> \"-\",IF(VALUE(FIXED(P_20号3様式1!U114,0,TRUE))<>P_20号3様式1!U114,RIGHT(FIXED(P_20号3様式1!U114,3,FALSE),4),\"\"),\"\"),\"\")","v":""},{"$f":"IF(P_20号3様式1!X114<> \"\",IF(P_20号3様式1!X114<> \"-\",TEXT(INT(P_20号3様式1!X114),\"#,##0\"),\"-\"),\"\")","v":""},{"$f":"IF(P_20号3様式1!X114<> \"\",IF(P_20号3様式1!X114<> \"-\",IF(VALUE(FIXED(P_20号3様式1!X114,0,TRUE))<>P_20号3様式1!X114,RIGHT(FIXED(P_20号3様式1!X114,3,FALSE),4),\"\"),\"\"),\"\")","v":""},{"$f":"IF(P_20号3様式1!AA114<> \"\",IF(P_20号3様式1!AA114<> \"-\",TEXT(INT(P_20号3様式1!AA114),\"#,##0\"),\"-\"),\"\")","v":""},{"$f":"IF(P_20号3様式1!AA114<> \"\",IF(P_20号3様式1!AA114<> \"-\",IF(VALUE(FIXED(P_20号3様式1!AA114,0,TRUE))<>P_20号3様式1!AA114,RIGHT(FIXED(P_20号3様式1!AA114,3,FALSE),4),\"\"),\"\"),\"\")","v":""}]
[{"$f":"IF(P_20号3様式1!C115=\"\",\"\",P_20号3様式1!C115)","v":"長島町"},{"$f":"IF(P_20号3様式1!AE115<> \"\",TEXT(INT(P_20号3様式1!AE115),\"#,##0\"),\"\")","v":"3"},{"$f":"IF(P_20号3様式1!AE115= \"\",\"\",IF(VALUE(FIXED(P_20号3様式1!AE115,0,TRUE))<>P_20号3様式1!AE115,RIGHT(FIXED(P_20号3様式1!AE115,3,FALSE),4),\"\"))","v":".193"},{"$f":"IF(P_20号3様式1!F115<> \"\",IF(P_20号3様式1!F115<> \"-\",TEXT(INT(P_20号3様式1!F115),\"#,##0\"),\"-\"),\"\")","v":"0"},{"$f":"IF(P_20号3様式1!F115<> \"\",IF(P_20号3様式1!F115<> \"-\",IF(VALUE(FIXED(P_20号3様式1!F115,0,TRUE))<>P_20号3様式1!F115,RIGHT(FIXED(P_20号3様式1!F115,3,FALSE),4),\"\"),\"\"),\"\")","v":".000"},{"$f":"IF(P_20号3様式1!I115<> \"\",IF(P_20号3様式1!I115<> \"-\",TEXT(INT(P_20号3様式1!I115),\"#,##0\"),\"-\"),\"\")","v":"3"},{"$f":"IF(P_20号3様式1!I115<> \"\",IF(P_20号3様式1!I115<> \"-\",IF(VALUE(FIXED(P_20号3様式1!I115,0,TRUE))<>P_20号3様式1!I115,RIGHT(FIXED(P_20号3様式1!I115,3,FALSE),4),\"\"),\"\"),\"\")","v":".193"},{"$f":"IF(P_20号3様式1!L115<> \"\",IF(P_20号3様式1!L115<> \"-\",TEXT(INT(P_20号3様式1!L115),\"#,##0\"),\"-\"),\"\")","v":""},{"$f":"IF(P_20号3様式1!L115<> \"\",IF(P_20号3様式1!L115<> \"-\",IF(VALUE(FIXED(P_20号3様式1!L115,0,TRUE))<>P_20号3様式1!L115,RIGHT(FIXED(P_20号3様式1!L115,3,FALSE),4),\"\"),\"\"),\"\")","v":""},{"$f":"IF(P_20号3様式1!O115<> \"\",IF(P_20号3様式1!O115<> \"-\",TEXT(INT(P_20号3様式1!O115),\"#,##0\"),\"-\"),\"\")","v":""},{"$f":"IF(P_20号3様式1!O115<> \"\",IF(P_20号3様式1!O115<> \"-\",IF(VALUE(FIXED(P_20号3様式1!O115,0,TRUE))<>P_20号3様式1!O115,RIGHT(FIXED(P_20号3様式1!O115,3,FALSE),4),\"\"),\"\"),\"\")","v":""},{"$f":"IF(P_20号3様式1!R115<> \"\",IF(P_20号3様式1!R115<> \"-\",TEXT(INT(P_20号3様式1!R115),\"#,##0\"),\"-\"),\"\")","v":""},{"$f":"IF(P_20号3様式1!R115<> \"\",IF(P_20号3様式1!R115<> \"-\",IF(VALUE(FIXED(P_20号3様式1!R115,0,TRUE))<>P_20号3様式1!R115,RIGHT(FIXED(P_20号3様式1!R115,3,FALSE),4),\"\"),\"\"),\"\")","v":""},{"$f":"IF(P_20号3様式1!U115<> \"\",IF(P_20号3様式1!U115<> \"-\",TEXT(INT(P_20号3様式1!U115),\"#,##0\"),\"-\"),\"\")","v":""},{"$f":"IF(P_20号3様式1!U115<> \"\",IF(P_20号3様式1!U115<> \"-\",IF(VALUE(FIXED(P_20号3様式1!U115,0,TRUE))<>P_20号3様式1!U115,RIGHT(FIXED(P_20号3様式1!U115,3,FALSE),4),\"\"),\"\"),\"\")","v":""},{"$f":"IF(P_20号3様式1!X115<> \"\",IF(P_20号3様式1!X115<> \"-\",TEXT(INT(P_20号3様式1!X115),\"#,##0\"),\"-\"),\"\")","v":""},{"$f":"IF(P_20号3様式1!X115<> \"\",IF(P_20号3様式1!X115<> \"-\",IF(VALUE(FIXED(P_20号3様式1!X115,0,TRUE))<>P_20号3様式1!X115,RIGHT(FIXED(P_20号3様式1!X115,3,FALSE),4),\"\"),\"\"),\"\")","v":""},{"$f":"IF(P_20号3様式1!AA115<> \"\",IF(P_20号3様式1!AA115<> \"-\",TEXT(INT(P_20号3様式1!AA115),\"#,##0\"),\"-\"),\"\")","v":""},{"$f":"IF(P_20号3様式1!AA115<> \"\",IF(P_20号3様式1!AA115<> \"-\",IF(VALUE(FIXED(P_20号3様式1!AA115,0,TRUE))<>P_20号3様式1!AA115,RIGHT(FIXED(P_20号3様式1!AA115,3,FALSE),4),\"\"),\"\"),\"\")","v":""}]
[{"$f":"IF(P_20号3様式1!C116=\"\",\"\",P_20号3様式1!C116)","v":"＊（出水郡）計"},{"$f":"IF(P_20号3様式1!AE116<> \"\",TEXT(INT(P_20号3様式1!AE116),\"#,##0\"),\"\")","v":"3"},{"$f":"IF(P_20号3様式1!AE116= \"\",\"\",IF(VALUE(FIXED(P_20号3様式1!AE116,0,TRUE))<>P_20号3様式1!AE116,RIGHT(FIXED(P_20号3様式1!AE116,3,FALSE),4),\"\"))","v":".193"},{"$f":"IF(P_20号3様式1!F116<> \"\",IF(P_20号3様式1!F116<> \"-\",TEXT(INT(P_20号3様式1!F116),\"#,##0\"),\"-\"),\"\")","v":"0"},{"$f":"IF(P_20号3様式1!F116<> \"\",IF(P_20号3様式1!F116<> \"-\",IF(VALUE(FIXED(P_20号3様式1!F116,0,TRUE))<>P_20号3様式1!F116,RIGHT(FIXED(P_20号3様式1!F116,3,FALSE),4),\"\"),\"\"),\"\")","v":".000"},{"$f":"IF(P_20号3様式1!I116<> \"\",IF(P_20号3様式1!I116<> \"-\",TEXT(INT(P_20号3様式1!I116),\"#,##0\"),\"-\"),\"\")","v":"3"},{"$f":"IF(P_20号3様式1!I116<> \"\",IF(P_20号3様式1!I116<> \"-\",IF(VALUE(FIXED(P_20号3様式1!I116,0,TRUE))<>P_20号3様式1!I116,RIGHT(FIXED(P_20号3様式1!I116,3,FALSE),4),\"\"),\"\"),\"\")","v":".193"},{"$f":"IF(P_20号3様式1!L116<> \"\",IF(P_20号3様式1!L116<> \"-\",TEXT(INT(P_20号3様式1!L116),\"#,##0\"),\"-\"),\"\")","v":""},{"$f":"IF(P_20号3様式1!L116<> \"\",IF(P_20号3様式1!L116<> \"-\",IF(VALUE(FIXED(P_20号3様式1!L116,0,TRUE))<>P_20号3様式1!L116,RIGHT(FIXED(P_20号3様式1!L116,3,FALSE),4),\"\"),\"\"),\"\")","v":""},{"$f":"IF(P_20号3様式1!O116<> \"\",IF(P_20号3様式1!O116<> \"-\",TEXT(INT(P_20号3様式1!O116),\"#,##0\"),\"-\"),\"\")","v":""},{"$f":"IF(P_20号3様式1!O116<> \"\",IF(P_20号3様式1!O116<> \"-\",IF(VALUE(FIXED(P_20号3様式1!O116,0,TRUE))<>P_20号3様式1!O116,RIGHT(FIXED(P_20号3様式1!O116,3,FALSE),4),\"\"),\"\"),\"\")","v":""},{"$f":"IF(P_20号3様式1!R116<> \"\",IF(P_20号3様式1!R116<> \"-\",TEXT(INT(P_20号3様式1!R116),\"#,##0\"),\"-\"),\"\")","v":""},{"$f":"IF(P_20号3様式1!R116<> \"\",IF(P_20号3様式1!R116<> \"-\",IF(VALUE(FIXED(P_20号3様式1!R116,0,TRUE))<>P_20号3様式1!R116,RIGHT(FIXED(P_20号3様式1!R116,3,FALSE),4),\"\"),\"\"),\"\")","v":""},{"$f":"IF(P_20号3様式1!U116<> \"\",IF(P_20号3様式1!U116<> \"-\",TEXT(INT(P_20号3様式1!U116),\"#,##0\"),\"-\"),\"\")","v":""},{"$f":"IF(P_20号3様式1!U116<> \"\",IF(P_20号3様式1!U116<> \"-\",IF(VALUE(FIXED(P_20号3様式1!U116,0,TRUE))<>P_20号3様式1!U116,RIGHT(FIXED(P_20号3様式1!U116,3,FALSE),4),\"\"),\"\"),\"\")","v":""},{"$f":"IF(P_20号3様式1!X116<> \"\",IF(P_20号3様式1!X116<> \"-\",TEXT(INT(P_20号3様式1!X116),\"#,##0\"),\"-\"),\"\")","v":""},{"$f":"IF(P_20号3様式1!X116<> \"\",IF(P_20号3様式1!X116<> \"-\",IF(VALUE(FIXED(P_20号3様式1!X116,0,TRUE))<>P_20号3様式1!X116,RIGHT(FIXED(P_20号3様式1!X116,3,FALSE),4),\"\"),\"\"),\"\")","v":""},{"$f":"IF(P_20号3様式1!AA116<> \"\",IF(P_20号3様式1!AA116<> \"-\",TEXT(INT(P_20号3様式1!AA116),\"#,##0\"),\"-\"),\"\")","v":""},{"$f":"IF(P_20号3様式1!AA116<> \"\",IF(P_20号3様式1!AA116<> \"-\",IF(VALUE(FIXED(P_20号3様式1!AA116,0,TRUE))<>P_20号3様式1!AA116,RIGHT(FIXED(P_20号3様式1!AA116,3,FALSE),4),\"\"),\"\"),\"\")","v":""}]
[{"$f":"IF(P_20号3様式1!C117=\"\",\"\",P_20号3様式1!C117)","v":"湧水町"},{"$f":"IF(P_20号3様式1!AE117<> \"\",TEXT(INT(P_20号3様式1!AE117),\"#,##0\"),\"\")","v":"1"},{"$f":"IF(P_20号3様式1!AE117= \"\",\"\",IF(VALUE(FIXED(P_20号3様式1!AE117,0,TRUE))<>P_20号3様式1!AE117,RIGHT(FIXED(P_20号3様式1!AE117,3,FALSE),4),\"\"))","v":".050"},{"$f":"IF(P_20号3様式1!F117<> \"\",IF(P_20号3様式1!F117<> \"-\",TEXT(INT(P_20号3様式1!F117),\"#,##0\"),\"-\"),\"\")","v":"0"},{"$f":"IF(P_20号3様式1!F117<> \"\",IF(P_20号3様式1!F117<> \"-\",IF(VALUE(FIXED(P_20号3様式1!F117,0,TRUE))<>P_20号3様式1!F117,RIGHT(FIXED(P_20号3様式1!F117,3,FALSE),4),\"\"),\"\"),\"\")","v":".000"},{"$f":"IF(P_20号3様式1!I117<> \"\",IF(P_20号3様式1!I117<> \"-\",TEXT(INT(P_20号3様式1!I117),\"#,##0\"),\"-\"),\"\")","v":"1"},{"$f":"IF(P_20号3様式1!I117<> \"\",IF(P_20号3様式1!I117<> \"-\",IF(VALUE(FIXED(P_20号3様式1!I117,0,TRUE))<>P_20号3様式1!I117,RIGHT(FIXED(P_20号3様式1!I117,3,FALSE),4),\"\"),\"\"),\"\")","v":".050"},{"$f":"IF(P_20号3様式1!L117<> \"\",IF(P_20号3様式1!L117<> \"-\",TEXT(INT(P_20号3様式1!L117),\"#,##0\"),\"-\"),\"\")","v":""},{"$f":"IF(P_20号3様式1!L117<> \"\",IF(P_20号3様式1!L117<> \"-\",IF(VALUE(FIXED(P_20号3様式1!L117,0,TRUE))<>P_20号3様式1!L117,RIGHT(FIXED(P_20号3様式1!L117,3,FALSE),4),\"\"),\"\"),\"\")","v":""},{"$f":"IF(P_20号3様式1!O117<> \"\",IF(P_20号3様式1!O117<> \"-\",TEXT(INT(P_20号3様式1!O117),\"#,##0\"),\"-\"),\"\")","v":""},{"$f":"IF(P_20号3様式1!O117<> \"\",IF(P_20号3様式1!O117<> \"-\",IF(VALUE(FIXED(P_20号3様式1!O117,0,TRUE))<>P_20号3様式1!O117,RIGHT(FIXED(P_20号3様式1!O117,3,FALSE),4),\"\"),\"\"),\"\")","v":""},{"$f":"IF(P_20号3様式1!R117<> \"\",IF(P_20号3様式1!R117<> \"-\",TEXT(INT(P_20号3様式1!R117),\"#,##0\"),\"-\"),\"\")","v":""},{"$f":"IF(P_20号3様式1!R117<> \"\",IF(P_20号3様式1!R117<> \"-\",IF(VALUE(FIXED(P_20号3様式1!R117,0,TRUE))<>P_20号3様式1!R117,RIGHT(FIXED(P_20号3様式1!R117,3,FALSE),4),\"\"),\"\"),\"\")","v":""},{"$f":"IF(P_20号3様式1!U117<> \"\",IF(P_20号3様式1!U117<> \"-\",TEXT(INT(P_20号3様式1!U117),\"#,##0\"),\"-\"),\"\")","v":""},{"$f":"IF(P_20号3様式1!U117<> \"\",IF(P_20号3様式1!U117<> \"-\",IF(VALUE(FIXED(P_20号3様式1!U117,0,TRUE))<>P_20号3様式1!U117,RIGHT(FIXED(P_20号3様式1!U117,3,FALSE),4),\"\"),\"\"),\"\")","v":""},{"$f":"IF(P_20号3様式1!X117<> \"\",IF(P_20号3様式1!X117<> \"-\",TEXT(INT(P_20号3様式1!X117),\"#,##0\"),\"-\"),\"\")","v":""},{"$f":"IF(P_20号3様式1!X117<> \"\",IF(P_20号3様式1!X117<> \"-\",IF(VALUE(FIXED(P_20号3様式1!X117,0,TRUE))<>P_20号3様式1!X117,RIGHT(FIXED(P_20号3様式1!X117,3,FALSE),4),\"\"),\"\"),\"\")","v":""},{"$f":"IF(P_20号3様式1!AA117<> \"\",IF(P_20号3様式1!AA117<> \"-\",TEXT(INT(P_20号3様式1!AA117),\"#,##0\"),\"-\"),\"\")","v":""},{"$f":"IF(P_20号3様式1!AA117<> \"\",IF(P_20号3様式1!AA117<> \"-\",IF(VALUE(FIXED(P_20号3様式1!AA117,0,TRUE))<>P_20号3様式1!AA117,RIGHT(FIXED(P_20号3様式1!AA117,3,FALSE),4),\"\"),\"\"),\"\")","v":""}]
[{"$f":"IF(P_20号3様式1!C118=\"\",\"\",P_20号3様式1!C118)","v":"＊（姶良郡）計"},{"$f":"IF(P_20号3様式1!AE118<> \"\",TEXT(INT(P_20号3様式1!AE118),\"#,##0\"),\"\")","v":"1"},{"$f":"IF(P_20号3様式1!AE118= \"\",\"\",IF(VALUE(FIXED(P_20号3様式1!AE118,0,TRUE))<>P_20号3様式1!AE118,RIGHT(FIXED(P_20号3様式1!AE118,3,FALSE),4),\"\"))","v":".050"},{"$f":"IF(P_20号3様式1!F118<> \"\",IF(P_20号3様式1!F118<> \"-\",TEXT(INT(P_20号3様式1!F118),\"#,##0\"),\"-\"),\"\")","v":"0"},{"$f":"IF(P_20号3様式1!F118<> \"\",IF(P_20号3様式1!F118<> \"-\",IF(VALUE(FIXED(P_20号3様式1!F118,0,TRUE))<>P_20号3様式1!F118,RIGHT(FIXED(P_20号3様式1!F118,3,FALSE),4),\"\"),\"\"),\"\")","v":".000"},{"$f":"IF(P_20号3様式1!I118<> \"\",IF(P_20号3様式1!I118<> \"-\",TEXT(INT(P_20号3様式1!I118),\"#,##0\"),\"-\"),\"\")","v":"1"},{"$f":"IF(P_20号3様式1!I118<> \"\",IF(P_20号3様式1!I118<> \"-\",IF(VALUE(FIXED(P_20号3様式1!I118,0,TRUE))<>P_20号3様式1!I118,RIGHT(FIXED(P_20号3様式1!I118,3,FALSE),4),\"\"),\"\"),\"\")","v":".050"},{"$f":"IF(P_20号3様式1!L118<> \"\",IF(P_20号3様式1!L118<> \"-\",TEXT(INT(P_20号3様式1!L118),\"#,##0\"),\"-\"),\"\")","v":""},{"$f":"IF(P_20号3様式1!L118<> \"\",IF(P_20号3様式1!L118<> \"-\",IF(VALUE(FIXED(P_20号3様式1!L118,0,TRUE))<>P_20号3様式1!L118,RIGHT(FIXED(P_20号3様式1!L118,3,FALSE),4),\"\"),\"\"),\"\")","v":""},{"$f":"IF(P_20号3様式1!O118<> \"\",IF(P_20号3様式1!O118<> \"-\",TEXT(INT(P_20号3様式1!O118),\"#,##0\"),\"-\"),\"\")","v":""},{"$f":"IF(P_20号3様式1!O118<> \"\",IF(P_20号3様式1!O118<> \"-\",IF(VALUE(FIXED(P_20号3様式1!O118,0,TRUE))<>P_20号3様式1!O118,RIGHT(FIXED(P_20号3様式1!O118,3,FALSE),4),\"\"),\"\"),\"\")","v":""},{"$f":"IF(P_20号3様式1!R118<> \"\",IF(P_20号3様式1!R118<> \"-\",TEXT(INT(P_20号3様式1!R118),\"#,##0\"),\"-\"),\"\")","v":""},{"$f":"IF(P_20号3様式1!R118<> \"\",IF(P_20号3様式1!R118<> \"-\",IF(VALUE(FIXED(P_20号3様式1!R118,0,TRUE))<>P_20号3様式1!R118,RIGHT(FIXED(P_20号3様式1!R118,3,FALSE),4),\"\"),\"\"),\"\")","v":""},{"$f":"IF(P_20号3様式1!U118<> \"\",IF(P_20号3様式1!U118<> \"-\",TEXT(INT(P_20号3様式1!U118),\"#,##0\"),\"-\"),\"\")","v":""},{"$f":"IF(P_20号3様式1!U118<> \"\",IF(P_20号3様式1!U118<> \"-\",IF(VALUE(FIXED(P_20号3様式1!U118,0,TRUE))<>P_20号3様式1!U118,RIGHT(FIXED(P_20号3様式1!U118,3,FALSE),4),\"\"),\"\"),\"\")","v":""},{"$f":"IF(P_20号3様式1!X118<> \"\",IF(P_20号3様式1!X118<> \"-\",TEXT(INT(P_20号3様式1!X118),\"#,##0\"),\"-\"),\"\")","v":""},{"$f":"IF(P_20号3様式1!X118<> \"\",IF(P_20号3様式1!X118<> \"-\",IF(VALUE(FIXED(P_20号3様式1!X118,0,TRUE))<>P_20号3様式1!X118,RIGHT(FIXED(P_20号3様式1!X118,3,FALSE),4),\"\"),\"\"),\"\")","v":""},{"$f":"IF(P_20号3様式1!AA118<> \"\",IF(P_20号3様式1!AA118<> \"-\",TEXT(INT(P_20号3様式1!AA118),\"#,##0\"),\"-\"),\"\")","v":""},{"$f":"IF(P_20号3様式1!AA118<> \"\",IF(P_20号3様式1!AA118<> \"-\",IF(VALUE(FIXED(P_20号3様式1!AA118,0,TRUE))<>P_20号3様式1!AA118,RIGHT(FIXED(P_20号3様式1!AA118,3,FALSE),4),\"\"),\"\"),\"\")","v":""}]
[{"$f":"IF(P_20号3様式1!C119=\"\",\"\",P_20号3様式1!C119)","v":"大崎町"},{"$f":"IF(P_20号3様式1!AE119<> \"\",TEXT(INT(P_20号3様式1!AE119),\"#,##0\"),\"\")","v":"1"},{"$f":"IF(P_20号3様式1!AE119= \"\",\"\",IF(VALUE(FIXED(P_20号3様式1!AE119,0,TRUE))<>P_20号3様式1!AE119,RIGHT(FIXED(P_20号3様式1!AE119,3,FALSE),4),\"\"))","v":".090"},{"$f":"IF(P_20号3様式1!F119<> \"\",IF(P_20号3様式1!F119<> \"-\",TEXT(INT(P_20号3様式1!F119),\"#,##0\"),\"-\"),\"\")","v":"0"},{"$f":"IF(P_20号3様式1!F119<> \"\",IF(P_20号3様式1!F119<> \"-\",IF(VALUE(FIXED(P_20号3様式1!F119,0,TRUE))<>P_20号3様式1!F119,RIGHT(FIXED(P_20号3様式1!F119,3,FALSE),4),\"\"),\"\"),\"\")","v":".000"},{"$f":"IF(P_20号3様式1!I119<> \"\",IF(P_20号3様式1!I119<> \"-\",TEXT(INT(P_20号3様式1!I119),\"#,##0\"),\"-\"),\"\")","v":"1"},{"$f":"IF(P_20号3様式1!I119<> \"\",IF(P_20号3様式1!I119<> \"-\",IF(VALUE(FIXED(P_20号3様式1!I119,0,TRUE))<>P_20号3様式1!I119,RIGHT(FIXED(P_20号3様式1!I119,3,FALSE),4),\"\"),\"\"),\"\")","v":".090"},{"$f":"IF(P_20号3様式1!L119<> \"\",IF(P_20号3様式1!L119<> \"-\",TEXT(INT(P_20号3様式1!L119),\"#,##0\"),\"-\"),\"\")","v":""},{"$f":"IF(P_20号3様式1!L119<> \"\",IF(P_20号3様式1!L119<> \"-\",IF(VALUE(FIXED(P_20号3様式1!L119,0,TRUE))<>P_20号3様式1!L119,RIGHT(FIXED(P_20号3様式1!L119,3,FALSE),4),\"\"),\"\"),\"\")","v":""},{"$f":"IF(P_20号3様式1!O119<> \"\",IF(P_20号3様式1!O119<> \"-\",TEXT(INT(P_20号3様式1!O119),\"#,##0\"),\"-\"),\"\")","v":""},{"$f":"IF(P_20号3様式1!O119<> \"\",IF(P_20号3様式1!O119<> \"-\",IF(VALUE(FIXED(P_20号3様式1!O119,0,TRUE))<>P_20号3様式1!O119,RIGHT(FIXED(P_20号3様式1!O119,3,FALSE),4),\"\"),\"\"),\"\")","v":""},{"$f":"IF(P_20号3様式1!R119<> \"\",IF(P_20号3様式1!R119<> \"-\",TEXT(INT(P_20号3様式1!R119),\"#,##0\"),\"-\"),\"\")","v":""},{"$f":"IF(P_20号3様式1!R119<> \"\",IF(P_20号3様式1!R119<> \"-\",IF(VALUE(FIXED(P_20号3様式1!R119,0,TRUE))<>P_20号3様式1!R119,RIGHT(FIXED(P_20号3様式1!R119,3,FALSE),4),\"\"),\"\"),\"\")","v":""},{"$f":"IF(P_20号3様式1!U119<> \"\",IF(P_20号3様式1!U119<> \"-\",TEXT(INT(P_20号3様式1!U119),\"#,##0\"),\"-\"),\"\")","v":""},{"$f":"IF(P_20号3様式1!U119<> \"\",IF(P_20号3様式1!U119<> \"-\",IF(VALUE(FIXED(P_20号3様式1!U119,0,TRUE))<>P_20号3様式1!U119,RIGHT(FIXED(P_20号3様式1!U119,3,FALSE),4),\"\"),\"\"),\"\")","v":""},{"$f":"IF(P_20号3様式1!X119<> \"\",IF(P_20号3様式1!X119<> \"-\",TEXT(INT(P_20号3様式1!X119),\"#,##0\"),\"-\"),\"\")","v":""},{"$f":"IF(P_20号3様式1!X119<> \"\",IF(P_20号3様式1!X119<> \"-\",IF(VALUE(FIXED(P_20号3様式1!X119,0,TRUE))<>P_20号3様式1!X119,RIGHT(FIXED(P_20号3様式1!X119,3,FALSE),4),\"\"),\"\"),\"\")","v":""},{"$f":"IF(P_20号3様式1!AA119<> \"\",IF(P_20号3様式1!AA119<> \"-\",TEXT(INT(P_20号3様式1!AA119),\"#,##0\"),\"-\"),\"\")","v":""},{"$f":"IF(P_20号3様式1!AA119<> \"\",IF(P_20号3様式1!AA119<> \"-\",IF(VALUE(FIXED(P_20号3様式1!AA119,0,TRUE))<>P_20号3様式1!AA119,RIGHT(FIXED(P_20号3様式1!AA119,3,FALSE),4),\"\"),\"\"),\"\")","v":""}]
[{"$f":"IF(P_20号3様式1!C120=\"\",\"\",P_20号3様式1!C120)","v":"＊（曽於郡）計"},{"$f":"IF(P_20号3様式1!AE120<> \"\",TEXT(INT(P_20号3様式1!AE120),\"#,##0\"),\"\")","v":"1"},{"$f":"IF(P_20号3様式1!AE120= \"\",\"\",IF(VALUE(FIXED(P_20号3様式1!AE120,0,TRUE))<>P_20号3様式1!AE120,RIGHT(FIXED(P_20号3様式1!AE120,3,FALSE),4),\"\"))","v":".090"},{"$f":"IF(P_20号3様式1!F120<> \"\",IF(P_20号3様式1!F120<> \"-\",TEXT(INT(P_20号3様式1!F120),\"#,##0\"),\"-\"),\"\")","v":"0"},{"$f":"IF(P_20号3様式1!F120<> \"\",IF(P_20号3様式1!F120<> \"-\",IF(VALUE(FIXED(P_20号3様式1!F120,0,TRUE))<>P_20号3様式1!F120,RIGHT(FIXED(P_20号3様式1!F120,3,FALSE),4),\"\"),\"\"),\"\")","v":".000"},{"$f":"IF(P_20号3様式1!I120<> \"\",IF(P_20号3様式1!I120<> \"-\",TEXT(INT(P_20号3様式1!I120),\"#,##0\"),\"-\"),\"\")","v":"1"},{"$f":"IF(P_20号3様式1!I120<> \"\",IF(P_20号3様式1!I120<> \"-\",IF(VALUE(FIXED(P_20号3様式1!I120,0,TRUE))<>P_20号3様式1!I120,RIGHT(FIXED(P_20号3様式1!I120,3,FALSE),4),\"\"),\"\"),\"\")","v":".090"},{"$f":"IF(P_20号3様式1!L120<> \"\",IF(P_20号3様式1!L120<> \"-\",TEXT(INT(P_20号3様式1!L120),\"#,##0\"),\"-\"),\"\")","v":""},{"$f":"IF(P_20号3様式1!L120<> \"\",IF(P_20号3様式1!L120<> \"-\",IF(VALUE(FIXED(P_20号3様式1!L120,0,TRUE))<>P_20号3様式1!L120,RIGHT(FIXED(P_20号3様式1!L120,3,FALSE),4),\"\"),\"\"),\"\")","v":""},{"$f":"IF(P_20号3様式1!O120<> \"\",IF(P_20号3様式1!O120<> \"-\",TEXT(INT(P_20号3様式1!O120),\"#,##0\"),\"-\"),\"\")","v":""},{"$f":"IF(P_20号3様式1!O120<> \"\",IF(P_20号3様式1!O120<> \"-\",IF(VALUE(FIXED(P_20号3様式1!O120,0,TRUE))<>P_20号3様式1!O120,RIGHT(FIXED(P_20号3様式1!O120,3,FALSE),4),\"\"),\"\"),\"\")","v":""},{"$f":"IF(P_20号3様式1!R120<> \"\",IF(P_20号3様式1!R120<> \"-\",TEXT(INT(P_20号3様式1!R120),\"#,##0\"),\"-\"),\"\")","v":""},{"$f":"IF(P_20号3様式1!R120<> \"\",IF(P_20号3様式1!R120<> \"-\",IF(VALUE(FIXED(P_20号3様式1!R120,0,TRUE))<>P_20号3様式1!R120,RIGHT(FIXED(P_20号3様式1!R120,3,FALSE),4),\"\"),\"\"),\"\")","v":""},{"$f":"IF(P_20号3様式1!U120<> \"\",IF(P_20号3様式1!U120<> \"-\",TEXT(INT(P_20号3様式1!U120),\"#,##0\"),\"-\"),\"\")","v":""},{"$f":"IF(P_20号3様式1!U120<> \"\",IF(P_20号3様式1!U120<> \"-\",IF(VALUE(FIXED(P_20号3様式1!U120,0,TRUE))<>P_20号3様式1!U120,RIGHT(FIXED(P_20号3様式1!U120,3,FALSE),4),\"\"),\"\"),\"\")","v":""},{"$f":"IF(P_20号3様式1!X120<> \"\",IF(P_20号3様式1!X120<> \"-\",TEXT(INT(P_20号3様式1!X120),\"#,##0\"),\"-\"),\"\")","v":""},{"$f":"IF(P_20号3様式1!X120<> \"\",IF(P_20号3様式1!X120<> \"-\",IF(VALUE(FIXED(P_20号3様式1!X120,0,TRUE))<>P_20号3様式1!X120,RIGHT(FIXED(P_20号3様式1!X120,3,FALSE),4),\"\"),\"\"),\"\")","v":""},{"$f":"IF(P_20号3様式1!AA120<> \"\",IF(P_20号3様式1!AA120<> \"-\",TEXT(INT(P_20号3様式1!AA120),\"#,##0\"),\"-\"),\"\")","v":""},{"$f":"IF(P_20号3様式1!AA120<> \"\",IF(P_20号3様式1!AA120<> \"-\",IF(VALUE(FIXED(P_20号3様式1!AA120,0,TRUE))<>P_20号3様式1!AA120,RIGHT(FIXED(P_20号3様式1!AA120,3,FALSE),4),\"\"),\"\"),\"\")","v":""}]
[{"$f":"IF(P_20号3様式1!C121=\"\",\"\",P_20号3様式1!C121)","v":"東串良町"},{"$f":"IF(P_20号3様式1!AE121<> \"\",TEXT(INT(P_20号3様式1!AE121),\"#,##0\"),\"\")","v":"0"},{"$f":"IF(P_20号3様式1!AE121= \"\",\"\",IF(VALUE(FIXED(P_20号3様式1!AE121,0,TRUE))<>P_20号3様式1!AE121,RIGHT(FIXED(P_20号3様式1!AE121,3,FALSE),4),\"\"))","v":".000"},{"$f":"IF(P_20号3様式1!F121<> \"\",IF(P_20号3様式1!F121<> \"-\",TEXT(INT(P_20号3様式1!F121),\"#,##0\"),\"-\"),\"\")","v":"0"},{"$f":"IF(P_20号3様式1!F121<> \"\",IF(P_20号3様式1!F121<> \"-\",IF(VALUE(FIXED(P_20号3様式1!F121,0,TRUE))<>P_20号3様式1!F121,RIGHT(FIXED(P_20号3様式1!F121,3,FALSE),4),\"\"),\"\"),\"\")","v":".000"},{"$f":"IF(P_20号3様式1!I121<> \"\",IF(P_20号3様式1!I121<> \"-\",TEXT(INT(P_20号3様式1!I121),\"#,##0\"),\"-\"),\"\")","v":"0"},{"$f":"IF(P_20号3様式1!I121<> \"\",IF(P_20号3様式1!I121<> \"-\",IF(VALUE(FIXED(P_20号3様式1!I121,0,TRUE))<>P_20号3様式1!I121,RIGHT(FIXED(P_20号3様式1!I121,3,FALSE),4),\"\"),\"\"),\"\")","v":".000"},{"$f":"IF(P_20号3様式1!L121<> \"\",IF(P_20号3様式1!L121<> \"-\",TEXT(INT(P_20号3様式1!L121),\"#,##0\"),\"-\"),\"\")","v":""},{"$f":"IF(P_20号3様式1!L121<> \"\",IF(P_20号3様式1!L121<> \"-\",IF(VALUE(FIXED(P_20号3様式1!L121,0,TRUE))<>P_20号3様式1!L121,RIGHT(FIXED(P_20号3様式1!L121,3,FALSE),4),\"\"),\"\"),\"\")","v":""},{"$f":"IF(P_20号3様式1!O121<> \"\",IF(P_20号3様式1!O121<> \"-\",TEXT(INT(P_20号3様式1!O121),\"#,##0\"),\"-\"),\"\")","v":""},{"$f":"IF(P_20号3様式1!O121<> \"\",IF(P_20号3様式1!O121<> \"-\",IF(VALUE(FIXED(P_20号3様式1!O121,0,TRUE))<>P_20号3様式1!O121,RIGHT(FIXED(P_20号3様式1!O121,3,FALSE),4),\"\"),\"\"),\"\")","v":""},{"$f":"IF(P_20号3様式1!R121<> \"\",IF(P_20号3様式1!R121<> \"-\",TEXT(INT(P_20号3様式1!R121),\"#,##0\"),\"-\"),\"\")","v":""},{"$f":"IF(P_20号3様式1!R121<> \"\",IF(P_20号3様式1!R121<> \"-\",IF(VALUE(FIXED(P_20号3様式1!R121,0,TRUE))<>P_20号3様式1!R121,RIGHT(FIXED(P_20号3様式1!R121,3,FALSE),4),\"\"),\"\"),\"\")","v":""},{"$f":"IF(P_20号3様式1!U121<> \"\",IF(P_20号3様式1!U121<> \"-\",TEXT(INT(P_20号3様式1!U121),\"#,##0\"),\"-\"),\"\")","v":""},{"$f":"IF(P_20号3様式1!U121<> \"\",IF(P_20号3様式1!U121<> \"-\",IF(VALUE(FIXED(P_20号3様式1!U121,0,TRUE))<>P_20号3様式1!U121,RIGHT(FIXED(P_20号3様式1!U121,3,FALSE),4),\"\"),\"\"),\"\")","v":""},{"$f":"IF(P_20号3様式1!X121<> \"\",IF(P_20号3様式1!X121<> \"-\",TEXT(INT(P_20号3様式1!X121),\"#,##0\"),\"-\"),\"\")","v":""},{"$f":"IF(P_20号3様式1!X121<> \"\",IF(P_20号3様式1!X121<> \"-\",IF(VALUE(FIXED(P_20号3様式1!X121,0,TRUE))<>P_20号3様式1!X121,RIGHT(FIXED(P_20号3様式1!X121,3,FALSE),4),\"\"),\"\"),\"\")","v":""},{"$f":"IF(P_20号3様式1!AA121<> \"\",IF(P_20号3様式1!AA121<> \"-\",TEXT(INT(P_20号3様式1!AA121),\"#,##0\"),\"-\"),\"\")","v":""},{"$f":"IF(P_20号3様式1!AA121<> \"\",IF(P_20号3様式1!AA121<> \"-\",IF(VALUE(FIXED(P_20号3様式1!AA121,0,TRUE))<>P_20号3様式1!AA121,RIGHT(FIXED(P_20号3様式1!AA121,3,FALSE),4),\"\"),\"\"),\"\")","v":""}]
[{"$f":"IF(P_20号3様式1!C122=\"\",\"\",P_20号3様式1!C122)","v":"錦江町"},{"$f":"IF(P_20号3様式1!AE122<> \"\",TEXT(INT(P_20号3様式1!AE122),\"#,##0\"),\"\")","v":"1"},{"$f":"IF(P_20号3様式1!AE122= \"\",\"\",IF(VALUE(FIXED(P_20号3様式1!AE122,0,TRUE))<>P_20号3様式1!AE122,RIGHT(FIXED(P_20号3様式1!AE122,3,FALSE),4),\"\"))","v":".000"},{"$f":"IF(P_20号3様式1!F122<> \"\",IF(P_20号3様式1!F122<> \"-\",TEXT(INT(P_20号3様式1!F122),\"#,##0\"),\"-\"),\"\")","v":"1"},{"$f":"IF(P_20号3様式1!F122<> \"\",IF(P_20号3様式1!F122<> \"-\",IF(VALUE(FIXED(P_20号3様式1!F122,0,TRUE))<>P_20号3様式1!F122,RIGHT(FIXED(P_20号3様式1!F122,3,FALSE),4),\"\"),\"\"),\"\")","v":".000"},{"$f":"IF(P_20号3様式1!I122<> \"\",IF(P_20号3様式1!I122<> \"-\",TEXT(INT(P_20号3様式1!I122),\"#,##0\"),\"-\"),\"\")","v":"0"},{"$f":"IF(P_20号3様式1!I122<> \"\",IF(P_20号3様式1!I122<> \"-\",IF(VALUE(FIXED(P_20号3様式1!I122,0,TRUE))<>P_20号3様式1!I122,RIGHT(FIXED(P_20号3様式1!I122,3,FALSE),4),\"\"),\"\"),\"\")","v":".000"},{"$f":"IF(P_20号3様式1!L122<> \"\",IF(P_20号3様式1!L122<> \"-\",TEXT(INT(P_20号3様式1!L122),\"#,##0\"),\"-\"),\"\")","v":""},{"$f":"IF(P_20号3様式1!L122<> \"\",IF(P_20号3様式1!L122<> \"-\",IF(VALUE(FIXED(P_20号3様式1!L122,0,TRUE))<>P_20号3様式1!L122,RIGHT(FIXED(P_20号3様式1!L122,3,FALSE),4),\"\"),\"\"),\"\")","v":""},{"$f":"IF(P_20号3様式1!O122<> \"\",IF(P_20号3様式1!O122<> \"-\",TEXT(INT(P_20号3様式1!O122),\"#,##0\"),\"-\"),\"\")","v":""},{"$f":"IF(P_20号3様式1!O122<> \"\",IF(P_20号3様式1!O122<> \"-\",IF(VALUE(FIXED(P_20号3様式1!O122,0,TRUE))<>P_20号3様式1!O122,RIGHT(FIXED(P_20号3様式1!O122,3,FALSE),4),\"\"),\"\"),\"\")","v":""},{"$f":"IF(P_20号3様式1!R122<> \"\",IF(P_20号3様式1!R122<> \"-\",TEXT(INT(P_20号3様式1!R122),\"#,##0\"),\"-\"),\"\")","v":""},{"$f":"IF(P_20号3様式1!R122<> \"\",IF(P_20号3様式1!R122<> \"-\",IF(VALUE(FIXED(P_20号3様式1!R122,0,TRUE))<>P_20号3様式1!R122,RIGHT(FIXED(P_20号3様式1!R122,3,FALSE),4),\"\"),\"\"),\"\")","v":""},{"$f":"IF(P_20号3様式1!U122<> \"\",IF(P_20号3様式1!U122<> \"-\",TEXT(INT(P_20号3様式1!U122),\"#,##0\"),\"-\"),\"\")","v":""},{"$f":"IF(P_20号3様式1!U122<> \"\",IF(P_20号3様式1!U122<> \"-\",IF(VALUE(FIXED(P_20号3様式1!U122,0,TRUE))<>P_20号3様式1!U122,RIGHT(FIXED(P_20号3様式1!U122,3,FALSE),4),\"\"),\"\"),\"\")","v":""},{"$f":"IF(P_20号3様式1!X122<> \"\",IF(P_20号3様式1!X122<> \"-\",TEXT(INT(P_20号3様式1!X122),\"#,##0\"),\"-\"),\"\")","v":""},{"$f":"IF(P_20号3様式1!X122<> \"\",IF(P_20号3様式1!X122<> \"-\",IF(VALUE(FIXED(P_20号3様式1!X122,0,TRUE))<>P_20号3様式1!X122,RIGHT(FIXED(P_20号3様式1!X122,3,FALSE),4),\"\"),\"\"),\"\")","v":""},{"$f":"IF(P_20号3様式1!AA122<> \"\",IF(P_20号3様式1!AA122<> \"-\",TEXT(INT(P_20号3様式1!AA122),\"#,##0\"),\"-\"),\"\")","v":""},{"$f":"IF(P_20号3様式1!AA122<> \"\",IF(P_20号3様式1!AA122<> \"-\",IF(VALUE(FIXED(P_20号3様式1!AA122,0,TRUE))<>P_20号3様式1!AA122,RIGHT(FIXED(P_20号3様式1!AA122,3,FALSE),4),\"\"),\"\"),\"\")","v":""}]
[{"$f":"IF(P_20号3様式1!C123=\"\",\"\",P_20号3様式1!C123)","v":"南大隅町"},{"$f":"IF(P_20号3様式1!AE123<> \"\",TEXT(INT(P_20号3様式1!AE123),\"#,##0\"),\"\")","v":"1"},{"$f":"IF(P_20号3様式1!AE123= \"\",\"\",IF(VALUE(FIXED(P_20号3様式1!AE123,0,TRUE))<>P_20号3様式1!AE123,RIGHT(FIXED(P_20号3様式1!AE123,3,FALSE),4),\"\"))","v":".000"},{"$f":"IF(P_20号3様式1!F123<> \"\",IF(P_20号3様式1!F123<> \"-\",TEXT(INT(P_20号3様式1!F123),\"#,##0\"),\"-\"),\"\")","v":"1"},{"$f":"IF(P_20号3様式1!F123<> \"\",IF(P_20号3様式1!F123<> \"-\",IF(VALUE(FIXED(P_20号3様式1!F123,0,TRUE))<>P_20号3様式1!F123,RIGHT(FIXED(P_20号3様式1!F123,3,FALSE),4),\"\"),\"\"),\"\")","v":".000"},{"$f":"IF(P_20号3様式1!I123<> \"\",IF(P_20号3様式1!I123<> \"-\",TEXT(INT(P_20号3様式1!I123),\"#,##0\"),\"-\"),\"\")","v":"0"},{"$f":"IF(P_20号3様式1!I123<> \"\",IF(P_20号3様式1!I123<> \"-\",IF(VALUE(FIXED(P_20号3様式1!I123,0,TRUE))<>P_20号3様式1!I123,RIGHT(FIXED(P_20号3様式1!I123,3,FALSE),4),\"\"),\"\"),\"\")","v":".000"},{"$f":"IF(P_20号3様式1!L123<> \"\",IF(P_20号3様式1!L123<> \"-\",TEXT(INT(P_20号3様式1!L123),\"#,##0\"),\"-\"),\"\")","v":""},{"$f":"IF(P_20号3様式1!L123<> \"\",IF(P_20号3様式1!L123<> \"-\",IF(VALUE(FIXED(P_20号3様式1!L123,0,TRUE))<>P_20号3様式1!L123,RIGHT(FIXED(P_20号3様式1!L123,3,FALSE),4),\"\"),\"\"),\"\")","v":""},{"$f":"IF(P_20号3様式1!O123<> \"\",IF(P_20号3様式1!O123<> \"-\",TEXT(INT(P_20号3様式1!O123),\"#,##0\"),\"-\"),\"\")","v":""},{"$f":"IF(P_20号3様式1!O123<> \"\",IF(P_20号3様式1!O123<> \"-\",IF(VALUE(FIXED(P_20号3様式1!O123,0,TRUE))<>P_20号3様式1!O123,RIGHT(FIXED(P_20号3様式1!O123,3,FALSE),4),\"\"),\"\"),\"\")","v":""},{"$f":"IF(P_20号3様式1!R123<> \"\",IF(P_20号3様式1!R123<> \"-\",TEXT(INT(P_20号3様式1!R123),\"#,##0\"),\"-\"),\"\")","v":""},{"$f":"IF(P_20号3様式1!R123<> \"\",IF(P_20号3様式1!R123<> \"-\",IF(VALUE(FIXED(P_20号3様式1!R123,0,TRUE))<>P_20号3様式1!R123,RIGHT(FIXED(P_20号3様式1!R123,3,FALSE),4),\"\"),\"\"),\"\")","v":""},{"$f":"IF(P_20号3様式1!U123<> \"\",IF(P_20号3様式1!U123<> \"-\",TEXT(INT(P_20号3様式1!U123),\"#,##0\"),\"-\"),\"\")","v":""},{"$f":"IF(P_20号3様式1!U123<> \"\",IF(P_20号3様式1!U123<> \"-\",IF(VALUE(FIXED(P_20号3様式1!U123,0,TRUE))<>P_20号3様式1!U123,RIGHT(FIXED(P_20号3様式1!U123,3,FALSE),4),\"\"),\"\"),\"\")","v":""},{"$f":"IF(P_20号3様式1!X123<> \"\",IF(P_20号3様式1!X123<> \"-\",TEXT(INT(P_20号3様式1!X123),\"#,##0\"),\"-\"),\"\")","v":""},{"$f":"IF(P_20号3様式1!X123<> \"\",IF(P_20号3様式1!X123<> \"-\",IF(VALUE(FIXED(P_20号3様式1!X123,0,TRUE))<>P_20号3様式1!X123,RIGHT(FIXED(P_20号3様式1!X123,3,FALSE),4),\"\"),\"\"),\"\")","v":""},{"$f":"IF(P_20号3様式1!AA123<> \"\",IF(P_20号3様式1!AA123<> \"-\",TEXT(INT(P_20号3様式1!AA123),\"#,##0\"),\"-\"),\"\")","v":""},{"$f":"IF(P_20号3様式1!AA123<> \"\",IF(P_20号3様式1!AA123<> \"-\",IF(VALUE(FIXED(P_20号3様式1!AA123,0,TRUE))<>P_20号3様式1!AA123,RIGHT(FIXED(P_20号3様式1!AA123,3,FALSE),4),\"\"),\"\"),\"\")","v":""}]
[{"$f":"IF(P_20号3様式1!C124=\"\",\"\",P_20号3様式1!C124)","v":"肝付町"},{"$f":"IF(P_20号3様式1!AE124<> \"\",TEXT(INT(P_20号3様式1!AE124),\"#,##0\"),\"\")","v":"4"},{"$f":"IF(P_20号3様式1!AE124= \"\",\"\",IF(VALUE(FIXED(P_20号3様式1!AE124,0,TRUE))<>P_20号3様式1!AE124,RIGHT(FIXED(P_20号3様式1!AE124,3,FALSE),4),\"\"))","v":".000"},{"$f":"IF(P_20号3様式1!F124<> \"\",IF(P_20号3様式1!F124<> \"-\",TEXT(INT(P_20号3様式1!F124),\"#,##0\"),\"-\"),\"\")","v":"2"},{"$f":"IF(P_20号3様式1!F124<> \"\",IF(P_20号3様式1!F124<> \"-\",IF(VALUE(FIXED(P_20号3様式1!F124,0,TRUE))<>P_20号3様式1!F124,RIGHT(FIXED(P_20号3様式1!F124,3,FALSE),4),\"\"),\"\"),\"\")","v":".000"},{"$f":"IF(P_20号3様式1!I124<> \"\",IF(P_20号3様式1!I124<> \"-\",TEXT(INT(P_20号3様式1!I124),\"#,##0\"),\"-\"),\"\")","v":"2"},{"$f":"IF(P_20号3様式1!I124<> \"\",IF(P_20号3様式1!I124<> \"-\",IF(VALUE(FIXED(P_20号3様式1!I124,0,TRUE))<>P_20号3様式1!I124,RIGHT(FIXED(P_20号3様式1!I124,3,FALSE),4),\"\"),\"\"),\"\")","v":".000"},{"$f":"IF(P_20号3様式1!L124<> \"\",IF(P_20号3様式1!L124<> \"-\",TEXT(INT(P_20号3様式1!L124),\"#,##0\"),\"-\"),\"\")","v":""},{"$f":"IF(P_20号3様式1!L124<> \"\",IF(P_20号3様式1!L124<> \"-\",IF(VALUE(FIXED(P_20号3様式1!L124,0,TRUE))<>P_20号3様式1!L124,RIGHT(FIXED(P_20号3様式1!L124,3,FALSE),4),\"\"),\"\"),\"\")","v":""},{"$f":"IF(P_20号3様式1!O124<> \"\",IF(P_20号3様式1!O124<> \"-\",TEXT(INT(P_20号3様式1!O124),\"#,##0\"),\"-\"),\"\")","v":""},{"$f":"IF(P_20号3様式1!O124<> \"\",IF(P_20号3様式1!O124<> \"-\",IF(VALUE(FIXED(P_20号3様式1!O124,0,TRUE))<>P_20号3様式1!O124,RIGHT(FIXED(P_20号3様式1!O124,3,FALSE),4),\"\"),\"\"),\"\")","v":""},{"$f":"IF(P_20号3様式1!R124<> \"\",IF(P_20号3様式1!R124<> \"-\",TEXT(INT(P_20号3様式1!R124),\"#,##0\"),\"-\"),\"\")","v":""},{"$f":"IF(P_20号3様式1!R124<> \"\",IF(P_20号3様式1!R124<> \"-\",IF(VALUE(FIXED(P_20号3様式1!R124,0,TRUE))<>P_20号3様式1!R124,RIGHT(FIXED(P_20号3様式1!R124,3,FALSE),4),\"\"),\"\"),\"\")","v":""},{"$f":"IF(P_20号3様式1!U124<> \"\",IF(P_20号3様式1!U124<> \"-\",TEXT(INT(P_20号3様式1!U124),\"#,##0\"),\"-\"),\"\")","v":""},{"$f":"IF(P_20号3様式1!U124<> \"\",IF(P_20号3様式1!U124<> \"-\",IF(VALUE(FIXED(P_20号3様式1!U124,0,TRUE))<>P_20号3様式1!U124,RIGHT(FIXED(P_20号3様式1!U124,3,FALSE),4),\"\"),\"\"),\"\")","v":""},{"$f":"IF(P_20号3様式1!X124<> \"\",IF(P_20号3様式1!X124<> \"-\",TEXT(INT(P_20号3様式1!X124),\"#,##0\"),\"-\"),\"\")","v":""},{"$f":"IF(P_20号3様式1!X124<> \"\",IF(P_20号3様式1!X124<> \"-\",IF(VALUE(FIXED(P_20号3様式1!X124,0,TRUE))<>P_20号3様式1!X124,RIGHT(FIXED(P_20号3様式1!X124,3,FALSE),4),\"\"),\"\"),\"\")","v":""},{"$f":"IF(P_20号3様式1!AA124<> \"\",IF(P_20号3様式1!AA124<> \"-\",TEXT(INT(P_20号3様式1!AA124),\"#,##0\"),\"-\"),\"\")","v":""},{"$f":"IF(P_20号3様式1!AA124<> \"\",IF(P_20号3様式1!AA124<> \"-\",IF(VALUE(FIXED(P_20号3様式1!AA124,0,TRUE))<>P_20号3様式1!AA124,RIGHT(FIXED(P_20号3様式1!AA124,3,FALSE),4),\"\"),\"\"),\"\")","v":""}]
[{"$f":"IF(P_20号3様式1!C125=\"\",\"\",P_20号3様式1!C125)","v":"＊（肝属郡）計"},{"$f":"IF(P_20号3様式1!AE125<> \"\",TEXT(INT(P_20号3様式1!AE125),\"#,##0\"),\"\")","v":"6"},{"$f":"IF(P_20号3様式1!AE125= \"\",\"\",IF(VALUE(FIXED(P_20号3様式1!AE125,0,TRUE))<>P_20号3様式1!AE125,RIGHT(FIXED(P_20号3様式1!AE125,3,FALSE),4),\"\"))","v":".000"},{"$f":"IF(P_20号3様式1!F125<> \"\",IF(P_20号3様式1!F125<> \"-\",TEXT(INT(P_20号3様式1!F125),\"#,##0\"),\"-\"),\"\")","v":"4"},{"$f":"IF(P_20号3様式1!F125<> \"\",IF(P_20号3様式1!F125<> \"-\",IF(VALUE(FIXED(P_20号3様式1!F125,0,TRUE))<>P_20号3様式1!F125,RIGHT(FIXED(P_20号3様式1!F125,3,FALSE),4),\"\"),\"\"),\"\")","v":".000"},{"$f":"IF(P_20号3様式1!I125<> \"\",IF(P_20号3様式1!I125<> \"-\",TEXT(INT(P_20号3様式1!I125),\"#,##0\"),\"-\"),\"\")","v":"2"},{"$f":"IF(P_20号3様式1!I125<> \"\",IF(P_20号3様式1!I125<> \"-\",IF(VALUE(FIXED(P_20号3様式1!I125,0,TRUE))<>P_20号3様式1!I125,RIGHT(FIXED(P_20号3様式1!I125,3,FALSE),4),\"\"),\"\"),\"\")","v":".000"},{"$f":"IF(P_20号3様式1!L125<> \"\",IF(P_20号3様式1!L125<> \"-\",TEXT(INT(P_20号3様式1!L125),\"#,##0\"),\"-\"),\"\")","v":""},{"$f":"IF(P_20号3様式1!L125<> \"\",IF(P_20号3様式1!L125<> \"-\",IF(VALUE(FIXED(P_20号3様式1!L125,0,TRUE))<>P_20号3様式1!L125,RIGHT(FIXED(P_20号3様式1!L125,3,FALSE),4),\"\"),\"\"),\"\")","v":""},{"$f":"IF(P_20号3様式1!O125<> \"\",IF(P_20号3様式1!O125<> \"-\",TEXT(INT(P_20号3様式1!O125),\"#,##0\"),\"-\"),\"\")","v":""},{"$f":"IF(P_20号3様式1!O125<> \"\",IF(P_20号3様式1!O125<> \"-\",IF(VALUE(FIXED(P_20号3様式1!O125,0,TRUE))<>P_20号3様式1!O125,RIGHT(FIXED(P_20号3様式1!O125,3,FALSE),4),\"\"),\"\"),\"\")","v":""},{"$f":"IF(P_20号3様式1!R125<> \"\",IF(P_20号3様式1!R125<> \"-\",TEXT(INT(P_20号3様式1!R125),\"#,##0\"),\"-\"),\"\")","v":""},{"$f":"IF(P_20号3様式1!R125<> \"\",IF(P_20号3様式1!R125<> \"-\",IF(VALUE(FIXED(P_20号3様式1!R125,0,TRUE))<>P_20号3様式1!R125,RIGHT(FIXED(P_20号3様式1!R125,3,FALSE),4),\"\"),\"\"),\"\")","v":""},{"$f":"IF(P_20号3様式1!U125<> \"\",IF(P_20号3様式1!U125<> \"-\",TEXT(INT(P_20号3様式1!U125),\"#,##0\"),\"-\"),\"\")","v":""},{"$f":"IF(P_20号3様式1!U125<> \"\",IF(P_20号3様式1!U125<> \"-\",IF(VALUE(FIXED(P_20号3様式1!U125,0,TRUE))<>P_20号3様式1!U125,RIGHT(FIXED(P_20号3様式1!U125,3,FALSE),4),\"\"),\"\"),\"\")","v":""},{"$f":"IF(P_20号3様式1!X125<> \"\",IF(P_20号3様式1!X125<> \"-\",TEXT(INT(P_20号3様式1!X125),\"#,##0\"),\"-\"),\"\")","v":""},{"$f":"IF(P_20号3様式1!X125<> \"\",IF(P_20号3様式1!X125<> \"-\",IF(VALUE(FIXED(P_20号3様式1!X125,0,TRUE))<>P_20号3様式1!X125,RIGHT(FIXED(P_20号3様式1!X125,3,FALSE),4),\"\"),\"\"),\"\")","v":""},{"$f":"IF(P_20号3様式1!AA125<> \"\",IF(P_20号3様式1!AA125<> \"-\",TEXT(INT(P_20号3様式1!AA125),\"#,##0\"),\"-\"),\"\")","v":""},{"$f":"IF(P_20号3様式1!AA125<> \"\",IF(P_20号3様式1!AA125<> \"-\",IF(VALUE(FIXED(P_20号3様式1!AA125,0,TRUE))<>P_20号3様式1!AA125,RIGHT(FIXED(P_20号3様式1!AA125,3,FALSE),4),\"\"),\"\"),\"\")","v":""}]
[{"$f":"IF(P_20号3様式1!C126=\"\",\"\",P_20号3様式1!C126)","v":"中種子町"},{"$f":"IF(P_20号3様式1!AE126<> \"\",TEXT(INT(P_20号3様式1!AE126),\"#,##0\"),\"\")","v":"1"},{"$f":"IF(P_20号3様式1!AE126= \"\",\"\",IF(VALUE(FIXED(P_20号3様式1!AE126,0,TRUE))<>P_20号3様式1!AE126,RIGHT(FIXED(P_20号3様式1!AE126,3,FALSE),4),\"\"))","v":".000"},{"$f":"IF(P_20号3様式1!F126<> \"\",IF(P_20号3様式1!F126<> \"-\",TEXT(INT(P_20号3様式1!F126),\"#,##0\"),\"-\"),\"\")","v":"1"},{"$f":"IF(P_20号3様式1!F126<> \"\",IF(P_20号3様式1!F126<> \"-\",IF(VALUE(FIXED(P_20号3様式1!F126,0,TRUE))<>P_20号3様式1!F126,RIGHT(FIXED(P_20号3様式1!F126,3,FALSE),4),\"\"),\"\"),\"\")","v":".000"},{"$f":"IF(P_20号3様式1!I126<> \"\",IF(P_20号3様式1!I126<> \"-\",TEXT(INT(P_20号3様式1!I126),\"#,##0\"),\"-\"),\"\")","v":"0"},{"$f":"IF(P_20号3様式1!I126<> \"\",IF(P_20号3様式1!I126<> \"-\",IF(VALUE(FIXED(P_20号3様式1!I126,0,TRUE))<>P_20号3様式1!I126,RIGHT(FIXED(P_20号3様式1!I126,3,FALSE),4),\"\"),\"\"),\"\")","v":".000"},{"$f":"IF(P_20号3様式1!L126<> \"\",IF(P_20号3様式1!L126<> \"-\",TEXT(INT(P_20号3様式1!L126),\"#,##0\"),\"-\"),\"\")","v":""},{"$f":"IF(P_20号3様式1!L126<> \"\",IF(P_20号3様式1!L126<> \"-\",IF(VALUE(FIXED(P_20号3様式1!L126,0,TRUE))<>P_20号3様式1!L126,RIGHT(FIXED(P_20号3様式1!L126,3,FALSE),4),\"\"),\"\"),\"\")","v":""},{"$f":"IF(P_20号3様式1!O126<> \"\",IF(P_20号3様式1!O126<> \"-\",TEXT(INT(P_20号3様式1!O126),\"#,##0\"),\"-\"),\"\")","v":""},{"$f":"IF(P_20号3様式1!O126<> \"\",IF(P_20号3様式1!O126<> \"-\",IF(VALUE(FIXED(P_20号3様式1!O126,0,TRUE))<>P_20号3様式1!O126,RIGHT(FIXED(P_20号3様式1!O126,3,FALSE),4),\"\"),\"\"),\"\")","v":""},{"$f":"IF(P_20号3様式1!R126<> \"\",IF(P_20号3様式1!R126<> \"-\",TEXT(INT(P_20号3様式1!R126),\"#,##0\"),\"-\"),\"\")","v":""},{"$f":"IF(P_20号3様式1!R126<> \"\",IF(P_20号3様式1!R126<> \"-\",IF(VALUE(FIXED(P_20号3様式1!R126,0,TRUE))<>P_20号3様式1!R126,RIGHT(FIXED(P_20号3様式1!R126,3,FALSE),4),\"\"),\"\"),\"\")","v":""},{"$f":"IF(P_20号3様式1!U126<> \"\",IF(P_20号3様式1!U126<> \"-\",TEXT(INT(P_20号3様式1!U126),\"#,##0\"),\"-\"),\"\")","v":""},{"$f":"IF(P_20号3様式1!U126<> \"\",IF(P_20号3様式1!U126<> \"-\",IF(VALUE(FIXED(P_20号3様式1!U126,0,TRUE))<>P_20号3様式1!U126,RIGHT(FIXED(P_20号3様式1!U126,3,FALSE),4),\"\"),\"\"),\"\")","v":""},{"$f":"IF(P_20号3様式1!X126<> \"\",IF(P_20号3様式1!X126<> \"-\",TEXT(INT(P_20号3様式1!X126),\"#,##0\"),\"-\"),\"\")","v":""},{"$f":"IF(P_20号3様式1!X126<> \"\",IF(P_20号3様式1!X126<> \"-\",IF(VALUE(FIXED(P_20号3様式1!X126,0,TRUE))<>P_20号3様式1!X126,RIGHT(FIXED(P_20号3様式1!X126,3,FALSE),4),\"\"),\"\"),\"\")","v":""},{"$f":"IF(P_20号3様式1!AA126<> \"\",IF(P_20号3様式1!AA126<> \"-\",TEXT(INT(P_20号3様式1!AA126),\"#,##0\"),\"-\"),\"\")","v":""},{"$f":"IF(P_20号3様式1!AA126<> \"\",IF(P_20号3様式1!AA126<> \"-\",IF(VALUE(FIXED(P_20号3様式1!AA126,0,TRUE))<>P_20号3様式1!AA126,RIGHT(FIXED(P_20号3様式1!AA126,3,FALSE),4),\"\"),\"\"),\"\")","v":""}]
[{"$f":"IF(P_20号3様式1!C127=\"\",\"\",P_20号3様式1!C127)","v":"南種子町"},{"$f":"IF(P_20号3様式1!AE127<> \"\",TEXT(INT(P_20号3様式1!AE127),\"#,##0\"),\"\")","v":"1"},{"$f":"IF(P_20号3様式1!AE127= \"\",\"\",IF(VALUE(FIXED(P_20号3様式1!AE127,0,TRUE))<>P_20号3様式1!AE127,RIGHT(FIXED(P_20号3様式1!AE127,3,FALSE),4),\"\"))","v":".000"},{"$f":"IF(P_20号3様式1!F127<> \"\",IF(P_20号3様式1!F127<> \"-\",TEXT(INT(P_20号3様式1!F127),\"#,##0\"),\"-\"),\"\")","v":"0"},{"$f":"IF(P_20号3様式1!F127<> \"\",IF(P_20号3様式1!F127<> \"-\",IF(VALUE(FIXED(P_20号3様式1!F127,0,TRUE))<>P_20号3様式1!F127,RIGHT(FIXED(P_20号3様式1!F127,3,FALSE),4),\"\"),\"\"),\"\")","v":".000"},{"$f":"IF(P_20号3様式1!I127<> \"\",IF(P_20号3様式1!I127<> \"-\",TEXT(INT(P_20号3様式1!I127),\"#,##0\"),\"-\"),\"\")","v":"1"},{"$f":"IF(P_20号3様式1!I127<> \"\",IF(P_20号3様式1!I127<> \"-\",IF(VALUE(FIXED(P_20号3様式1!I127,0,TRUE))<>P_20号3様式1!I127,RIGHT(FIXED(P_20号3様式1!I127,3,FALSE),4),\"\"),\"\"),\"\")","v":".000"},{"$f":"IF(P_20号3様式1!L127<> \"\",IF(P_20号3様式1!L127<> \"-\",TEXT(INT(P_20号3様式1!L127),\"#,##0\"),\"-\"),\"\")","v":""},{"$f":"IF(P_20号3様式1!L127<> \"\",IF(P_20号3様式1!L127<> \"-\",IF(VALUE(FIXED(P_20号3様式1!L127,0,TRUE))<>P_20号3様式1!L127,RIGHT(FIXED(P_20号3様式1!L127,3,FALSE),4),\"\"),\"\"),\"\")","v":""},{"$f":"IF(P_20号3様式1!O127<> \"\",IF(P_20号3様式1!O127<> \"-\",TEXT(INT(P_20号3様式1!O127),\"#,##0\"),\"-\"),\"\")","v":""},{"$f":"IF(P_20号3様式1!O127<> \"\",IF(P_20号3様式1!O127<> \"-\",IF(VALUE(FIXED(P_20号3様式1!O127,0,TRUE))<>P_20号3様式1!O127,RIGHT(FIXED(P_20号3様式1!O127,3,FALSE),4),\"\"),\"\"),\"\")","v":""},{"$f":"IF(P_20号3様式1!R127<> \"\",IF(P_20号3様式1!R127<> \"-\",TEXT(INT(P_20号3様式1!R127),\"#,##0\"),\"-\"),\"\")","v":""},{"$f":"IF(P_20号3様式1!R127<> \"\",IF(P_20号3様式1!R127<> \"-\",IF(VALUE(FIXED(P_20号3様式1!R127,0,TRUE))<>P_20号3様式1!R127,RIGHT(FIXED(P_20号3様式1!R127,3,FALSE),4),\"\"),\"\"),\"\")","v":""},{"$f":"IF(P_20号3様式1!U127<> \"\",IF(P_20号3様式1!U127<> \"-\",TEXT(INT(P_20号3様式1!U127),\"#,##0\"),\"-\"),\"\")","v":""},{"$f":"IF(P_20号3様式1!U127<> \"\",IF(P_20号3様式1!U127<> \"-\",IF(VALUE(FIXED(P_20号3様式1!U127,0,TRUE))<>P_20号3様式1!U127,RIGHT(FIXED(P_20号3様式1!U127,3,FALSE),4),\"\"),\"\"),\"\")","v":""},{"$f":"IF(P_20号3様式1!X127<> \"\",IF(P_20号3様式1!X127<> \"-\",TEXT(INT(P_20号3様式1!X127),\"#,##0\"),\"-\"),\"\")","v":""},{"$f":"IF(P_20号3様式1!X127<> \"\",IF(P_20号3様式1!X127<> \"-\",IF(VALUE(FIXED(P_20号3様式1!X127,0,TRUE))<>P_20号3様式1!X127,RIGHT(FIXED(P_20号3様式1!X127,3,FALSE),4),\"\"),\"\"),\"\")","v":""},{"$f":"IF(P_20号3様式1!AA127<> \"\",IF(P_20号3様式1!AA127<> \"-\",TEXT(INT(P_20号3様式1!AA127),\"#,##0\"),\"-\"),\"\")","v":""},{"$f":"IF(P_20号3様式1!AA127<> \"\",IF(P_20号3様式1!AA127<> \"-\",IF(VALUE(FIXED(P_20号3様式1!AA127,0,TRUE))<>P_20号3様式1!AA127,RIGHT(FIXED(P_20号3様式1!AA127,3,FALSE),4),\"\"),\"\"),\"\")","v":""}]
[{"$f":"IF(P_20号3様式1!C128=\"\",\"\",P_20号3様式1!C128)","v":"屋久島町"},{"$f":"IF(P_20号3様式1!AE128<> \"\",TEXT(INT(P_20号3様式1!AE128),\"#,##0\"),\"\")","v":"2"},{"$f":"IF(P_20号3様式1!AE128= \"\",\"\",IF(VALUE(FIXED(P_20号3様式1!AE128,0,TRUE))<>P_20号3様式1!AE128,RIGHT(FIXED(P_20号3様式1!AE128,3,FALSE),4),\"\"))","v":".333"},{"$f":"IF(P_20号3様式1!F128<> \"\",IF(P_20号3様式1!F128<> \"-\",TEXT(INT(P_20号3様式1!F128),\"#,##0\"),\"-\"),\"\")","v":"0"},{"$f":"IF(P_20号3様式1!F128<> \"\",IF(P_20号3様式1!F128<> \"-\",IF(VALUE(FIXED(P_20号3様式1!F128,0,TRUE))<>P_20号3様式1!F128,RIGHT(FIXED(P_20号3様式1!F128,3,FALSE),4),\"\"),\"\"),\"\")","v":".000"},{"$f":"IF(P_20号3様式1!I128<> \"\",IF(P_20号3様式1!I128<> \"-\",TEXT(INT(P_20号3様式1!I128),\"#,##0\"),\"-\"),\"\")","v":"2"},{"$f":"IF(P_20号3様式1!I128<> \"\",IF(P_20号3様式1!I128<> \"-\",IF(VALUE(FIXED(P_20号3様式1!I128,0,TRUE))<>P_20号3様式1!I128,RIGHT(FIXED(P_20号3様式1!I128,3,FALSE),4),\"\"),\"\"),\"\")","v":".333"},{"$f":"IF(P_20号3様式1!L128<> \"\",IF(P_20号3様式1!L128<> \"-\",TEXT(INT(P_20号3様式1!L128),\"#,##0\"),\"-\"),\"\")","v":""},{"$f":"IF(P_20号3様式1!L128<> \"\",IF(P_20号3様式1!L128<> \"-\",IF(VALUE(FIXED(P_20号3様式1!L128,0,TRUE))<>P_20号3様式1!L128,RIGHT(FIXED(P_20号3様式1!L128,3,FALSE),4),\"\"),\"\"),\"\")","v":""},{"$f":"IF(P_20号3様式1!O128<> \"\",IF(P_20号3様式1!O128<> \"-\",TEXT(INT(P_20号3様式1!O128),\"#,##0\"),\"-\"),\"\")","v":""},{"$f":"IF(P_20号3様式1!O128<> \"\",IF(P_20号3様式1!O128<> \"-\",IF(VALUE(FIXED(P_20号3様式1!O128,0,TRUE))<>P_20号3様式1!O128,RIGHT(FIXED(P_20号3様式1!O128,3,FALSE),4),\"\"),\"\"),\"\")","v":""},{"$f":"IF(P_20号3様式1!R128<> \"\",IF(P_20号3様式1!R128<> \"-\",TEXT(INT(P_20号3様式1!R128),\"#,##0\"),\"-\"),\"\")","v":""},{"$f":"IF(P_20号3様式1!R128<> \"\",IF(P_20号3様式1!R128<> \"-\",IF(VALUE(FIXED(P_20号3様式1!R128,0,TRUE))<>P_20号3様式1!R128,RIGHT(FIXED(P_20号3様式1!R128,3,FALSE),4),\"\"),\"\"),\"\")","v":""},{"$f":"IF(P_20号3様式1!U128<> \"\",IF(P_20号3様式1!U128<> \"-\",TEXT(INT(P_20号3様式1!U128),\"#,##0\"),\"-\"),\"\")","v":""},{"$f":"IF(P_20号3様式1!U128<> \"\",IF(P_20号3様式1!U128<> \"-\",IF(VALUE(FIXED(P_20号3様式1!U128,0,TRUE))<>P_20号3様式1!U128,RIGHT(FIXED(P_20号3様式1!U128,3,FALSE),4),\"\"),\"\"),\"\")","v":""},{"$f":"IF(P_20号3様式1!X128<> \"\",IF(P_20号3様式1!X128<> \"-\",TEXT(INT(P_20号3様式1!X128),\"#,##0\"),\"-\"),\"\")","v":""},{"$f":"IF(P_20号3様式1!X128<> \"\",IF(P_20号3様式1!X128<> \"-\",IF(VALUE(FIXED(P_20号3様式1!X128,0,TRUE))<>P_20号3様式1!X128,RIGHT(FIXED(P_20号3様式1!X128,3,FALSE),4),\"\"),\"\"),\"\")","v":""},{"$f":"IF(P_20号3様式1!AA128<> \"\",IF(P_20号3様式1!AA128<> \"-\",TEXT(INT(P_20号3様式1!AA128),\"#,##0\"),\"-\"),\"\")","v":""},{"$f":"IF(P_20号3様式1!AA128<> \"\",IF(P_20号3様式1!AA128<> \"-\",IF(VALUE(FIXED(P_20号3様式1!AA128,0,TRUE))<>P_20号3様式1!AA128,RIGHT(FIXED(P_20号3様式1!AA128,3,FALSE),4),\"\"),\"\"),\"\")","v":""}]
[{"$f":"IF(P_20号3様式1!C129=\"\",\"\",P_20号3様式1!C129)","v":"＊（熊毛郡）計"},{"$f":"IF(P_20号3様式1!AE129<> \"\",TEXT(INT(P_20号3様式1!AE129),\"#,##0\"),\"\")","v":"4"},{"$f":"IF(P_20号3様式1!AE129= \"\",\"\",IF(VALUE(FIXED(P_20号3様式1!AE129,0,TRUE))<>P_20号3様式1!AE129,RIGHT(FIXED(P_20号3様式1!AE129,3,FALSE),4),\"\"))","v":".333"},{"$f":"IF(P_20号3様式1!F129<> \"\",IF(P_20号3様式1!F129<> \"-\",TEXT(INT(P_20号3様式1!F129),\"#,##0\"),\"-\"),\"\")","v":"1"},{"$f":"IF(P_20号3様式1!F129<> \"\",IF(P_20号3様式1!F129<> \"-\",IF(VALUE(FIXED(P_20号3様式1!F129,0,TRUE))<>P_20号3様式1!F129,RIGHT(FIXED(P_20号3様式1!F129,3,FALSE),4),\"\"),\"\"),\"\")","v":".000"},{"$f":"IF(P_20号3様式1!I129<> \"\",IF(P_20号3様式1!I129<> \"-\",TEXT(INT(P_20号3様式1!I129),\"#,##0\"),\"-\"),\"\")","v":"3"},{"$f":"IF(P_20号3様式1!I129<> \"\",IF(P_20号3様式1!I129<> \"-\",IF(VALUE(FIXED(P_20号3様式1!I129,0,TRUE))<>P_20号3様式1!I129,RIGHT(FIXED(P_20号3様式1!I129,3,FALSE),4),\"\"),\"\"),\"\")","v":".333"},{"$f":"IF(P_20号3様式1!L129<> \"\",IF(P_20号3様式1!L129<> \"-\",TEXT(INT(P_20号3様式1!L129),\"#,##0\"),\"-\"),\"\")","v":""},{"$f":"IF(P_20号3様式1!L129<> \"\",IF(P_20号3様式1!L129<> \"-\",IF(VALUE(FIXED(P_20号3様式1!L129,0,TRUE))<>P_20号3様式1!L129,RIGHT(FIXED(P_20号3様式1!L129,3,FALSE),4),\"\"),\"\"),\"\")","v":""},{"$f":"IF(P_20号3様式1!O129<> \"\",IF(P_20号3様式1!O129<> \"-\",TEXT(INT(P_20号3様式1!O129),\"#,##0\"),\"-\"),\"\")","v":""},{"$f":"IF(P_20号3様式1!O129<> \"\",IF(P_20号3様式1!O129<> \"-\",IF(VALUE(FIXED(P_20号3様式1!O129,0,TRUE))<>P_20号3様式1!O129,RIGHT(FIXED(P_20号3様式1!O129,3,FALSE),4),\"\"),\"\"),\"\")","v":""},{"$f":"IF(P_20号3様式1!R129<> \"\",IF(P_20号3様式1!R129<> \"-\",TEXT(INT(P_20号3様式1!R129),\"#,##0\"),\"-\"),\"\")","v":""},{"$f":"IF(P_20号3様式1!R129<> \"\",IF(P_20号3様式1!R129<> \"-\",IF(VALUE(FIXED(P_20号3様式1!R129,0,TRUE))<>P_20号3様式1!R129,RIGHT(FIXED(P_20号3様式1!R129,3,FALSE),4),\"\"),\"\"),\"\")","v":""},{"$f":"IF(P_20号3様式1!U129<> \"\",IF(P_20号3様式1!U129<> \"-\",TEXT(INT(P_20号3様式1!U129),\"#,##0\"),\"-\"),\"\")","v":""},{"$f":"IF(P_20号3様式1!U129<> \"\",IF(P_20号3様式1!U129<> \"-\",IF(VALUE(FIXED(P_20号3様式1!U129,0,TRUE))<>P_20号3様式1!U129,RIGHT(FIXED(P_20号3様式1!U129,3,FALSE),4),\"\"),\"\"),\"\")","v":""},{"$f":"IF(P_20号3様式1!X129<> \"\",IF(P_20号3様式1!X129<> \"-\",TEXT(INT(P_20号3様式1!X129),\"#,##0\"),\"-\"),\"\")","v":""},{"$f":"IF(P_20号3様式1!X129<> \"\",IF(P_20号3様式1!X129<> \"-\",IF(VALUE(FIXED(P_20号3様式1!X129,0,TRUE))<>P_20号3様式1!X129,RIGHT(FIXED(P_20号3様式1!X129,3,FALSE),4),\"\"),\"\"),\"\")","v":""},{"$f":"IF(P_20号3様式1!AA129<> \"\",IF(P_20号3様式1!AA129<> \"-\",TEXT(INT(P_20号3様式1!AA129),\"#,##0\"),\"-\"),\"\")","v":""},{"$f":"IF(P_20号3様式1!AA129<> \"\",IF(P_20号3様式1!AA129<> \"-\",IF(VALUE(FIXED(P_20号3様式1!AA129,0,TRUE))<>P_20号3様式1!AA129,RIGHT(FIXED(P_20号3様式1!AA129,3,FALSE),4),\"\"),\"\"),\"\")","v":""}]
[{"$f":"IF(P_20号3様式1!C130=\"\",\"\",P_20号3様式1!C130)","v":"大和村"},{"$f":"IF(P_20号3様式1!AE130<> \"\",TEXT(INT(P_20号3様式1!AE130),\"#,##0\"),\"\")","v":"0"},{"$f":"IF(P_20号3様式1!AE130= \"\",\"\",IF(VALUE(FIXED(P_20号3様式1!AE130,0,TRUE))<>P_20号3様式1!AE130,RIGHT(FIXED(P_20号3様式1!AE130,3,FALSE),4),\"\"))","v":".000"},{"$f":"IF(P_20号3様式1!F130<> \"\",IF(P_20号3様式1!F130<> \"-\",TEXT(INT(P_20号3様式1!F130),\"#,##0\"),\"-\"),\"\")","v":"0"},{"$f":"IF(P_20号3様式1!F130<> \"\",IF(P_20号3様式1!F130<> \"-\",IF(VALUE(FIXED(P_20号3様式1!F130,0,TRUE))<>P_20号3様式1!F130,RIGHT(FIXED(P_20号3様式1!F130,3,FALSE),4),\"\"),\"\"),\"\")","v":".000"},{"$f":"IF(P_20号3様式1!I130<> \"\",IF(P_20号3様式1!I130<> \"-\",TEXT(INT(P_20号3様式1!I130),\"#,##0\"),\"-\"),\"\")","v":"0"},{"$f":"IF(P_20号3様式1!I130<> \"\",IF(P_20号3様式1!I130<> \"-\",IF(VALUE(FIXED(P_20号3様式1!I130,0,TRUE))<>P_20号3様式1!I130,RIGHT(FIXED(P_20号3様式1!I130,3,FALSE),4),\"\"),\"\"),\"\")","v":".000"},{"$f":"IF(P_20号3様式1!L130<> \"\",IF(P_20号3様式1!L130<> \"-\",TEXT(INT(P_20号3様式1!L130),\"#,##0\"),\"-\"),\"\")","v":""},{"$f":"IF(P_20号3様式1!L130<> \"\",IF(P_20号3様式1!L130<> \"-\",IF(VALUE(FIXED(P_20号3様式1!L130,0,TRUE))<>P_20号3様式1!L130,RIGHT(FIXED(P_20号3様式1!L130,3,FALSE),4),\"\"),\"\"),\"\")","v":""},{"$f":"IF(P_20号3様式1!O130<> \"\",IF(P_20号3様式1!O130<> \"-\",TEXT(INT(P_20号3様式1!O130),\"#,##0\"),\"-\"),\"\")","v":""},{"$f":"IF(P_20号3様式1!O130<> \"\",IF(P_20号3様式1!O130<> \"-\",IF(VALUE(FIXED(P_20号3様式1!O130,0,TRUE))<>P_20号3様式1!O130,RIGHT(FIXED(P_20号3様式1!O130,3,FALSE),4),\"\"),\"\"),\"\")","v":""},{"$f":"IF(P_20号3様式1!R130<> \"\",IF(P_20号3様式1!R130<> \"-\",TEXT(INT(P_20号3様式1!R130),\"#,##0\"),\"-\"),\"\")","v":""},{"$f":"IF(P_20号3様式1!R130<> \"\",IF(P_20号3様式1!R130<> \"-\",IF(VALUE(FIXED(P_20号3様式1!R130,0,TRUE))<>P_20号3様式1!R130,RIGHT(FIXED(P_20号3様式1!R130,3,FALSE),4),\"\"),\"\"),\"\")","v":""},{"$f":"IF(P_20号3様式1!U130<> \"\",IF(P_20号3様式1!U130<> \"-\",TEXT(INT(P_20号3様式1!U130),\"#,##0\"),\"-\"),\"\")","v":""},{"$f":"IF(P_20号3様式1!U130<> \"\",IF(P_20号3様式1!U130<> \"-\",IF(VALUE(FIXED(P_20号3様式1!U130,0,TRUE))<>P_20号3様式1!U130,RIGHT(FIXED(P_20号3様式1!U130,3,FALSE),4),\"\"),\"\"),\"\")","v":""},{"$f":"IF(P_20号3様式1!X130<> \"\",IF(P_20号3様式1!X130<> \"-\",TEXT(INT(P_20号3様式1!X130),\"#,##0\"),\"-\"),\"\")","v":""},{"$f":"IF(P_20号3様式1!X130<> \"\",IF(P_20号3様式1!X130<> \"-\",IF(VALUE(FIXED(P_20号3様式1!X130,0,TRUE))<>P_20号3様式1!X130,RIGHT(FIXED(P_20号3様式1!X130,3,FALSE),4),\"\"),\"\"),\"\")","v":""},{"$f":"IF(P_20号3様式1!AA130<> \"\",IF(P_20号3様式1!AA130<> \"-\",TEXT(INT(P_20号3様式1!AA130),\"#,##0\"),\"-\"),\"\")","v":""},{"$f":"IF(P_20号3様式1!AA130<> \"\",IF(P_20号3様式1!AA130<> \"-\",IF(VALUE(FIXED(P_20号3様式1!AA130,0,TRUE))<>P_20号3様式1!AA130,RIGHT(FIXED(P_20号3様式1!AA130,3,FALSE),4),\"\"),\"\"),\"\")","v":""}]
[]
["政   令   市   計",{"$f":"IF(P_20号3様式1!AH88<> \"\",TEXT(INT(P_20号3様式1!AH88),\"#,##0\"),\"\")","v":""},{"$f":"IF(P_20号3様式1!AH88= \"\",\"\",IF(VALUE(FIXED(P_20号3様式1!AH88,0,TRUE))<>P_20号3様式1!AH88,RIGHT(FIXED(P_20号3様式1!AH88,3,FALSE),4),\"\"))","v":""},{"$f":"IF(P_20号3様式1!AI88<> \"\",IF(P_20号3様式1!AI88<> \"-\",TEXT(INT(P_20号3様式1!AI88),\"#,##0\"),\"-\"),\"\")","v":""},{"$f":"IF(P_20号3様式1!AI88<> \"\",IF(P_20号3様式1!AI88<> \"-\",IF(VALUE(FIXED(P_20号3様式1!AI88,0,TRUE))<>P_20号3様式1!AI88,RIGHT(FIXED(P_20号3様式1!AI88,3,FALSE),4),\"\"),\"\"),\"\")","v":""},{"$f":"IF(P_20号3様式1!AJ88<> \"\",IF(P_20号3様式1!AJ88<> \"-\",TEXT(INT(P_20号3様式1!AJ88),\"#,##0\"),\"-\"),\"\")","v":""},{"$f":"IF(P_20号3様式1!AJ88<> \"\",IF(P_20号3様式1!AJ88<> \"-\",IF(VALUE(FIXED(P_20号3様式1!AJ88,0,TRUE))<>P_20号3様式1!AJ88,RIGHT(FIXED(P_20号3様式1!AJ88,3,FALSE),4),\"\"),\"\"),\"\")","v":""},{"$f":"IF(P_20号3様式1!AK88<> \"\",IF(P_20号3様式1!AK88<> \"-\",TEXT(INT(P_20号3様式1!AK88),\"#,##0\"),\"-\"),\"\")","v":""},{"$f":"IF(P_20号3様式1!AK88<> \"\",IF(P_20号3様式1!AK88<> \"-\",IF(VALUE(FIXED(P_20号3様式1!AK88,0,TRUE))<>P_20号3様式1!AK88,RIGHT(FIXED(P_20号3様式1!AK88,3,FALSE),4),\"\"),\"\"),\"\")","v":""},{"$f":"IF(P_20号3様式1!AL88<> \"\",IF(P_20号3様式1!AL88<> \"-\",TEXT(INT(P_20号3様式1!AL88),\"#,##0\"),\"-\"),\"\")","v":""},{"$f":"IF(P_20号3様式1!AL88<> \"\",IF(P_20号3様式1!AL88<> \"-\",IF(VALUE(FIXED(P_20号3様式1!AL88,0,TRUE))<>P_20号3様式1!AL88,RIGHT(FIXED(P_20号3様式1!AL88,3,FALSE),4),\"\"),\"\"),\"\")","v":""},{"$f":"IF(P_20号3様式1!AM88<> \"\",IF(P_20号3様式1!AM88<> \"-\",TEXT(INT(P_20号3様式1!AM88),\"#,##0\"),\"-\"),\"\")","v":""},{"$f":"IF(P_20号3様式1!AM88<> \"\",IF(P_20号3様式1!AM88<> \"-\",IF(VALUE(FIXED(P_20号3様式1!AM88,0,TRUE))<>P_20号3様式1!AM88,RIGHT(FIXED(P_20号3様式1!AM88,3,FALSE),4),\"\"),\"\"),\"\")","v":""},{"$f":"IF(P_20号3様式1!AN88<> \"\",IF(P_20号3様式1!AN88<> \"-\",TEXT(INT(P_20号3様式1!AN88),\"#,##0\"),\"-\"),\"\")","v":""},{"$f":"IF(P_20号3様式1!AN88<> \"\",IF(P_20号3様式1!AN88<> \"-\",IF(VALUE(FIXED(P_20号3様式1!AN88,0,TRUE))<>P_20号3様式1!AN88,RIGHT(FIXED(P_20号3様式1!AN88,3,FALSE),4),\"\"),\"\"),\"\")","v":""},{"$f":"IF(P_20号3様式1!AO88<> \"\",IF(P_20号3様式1!AO88<> \"-\",TEXT(INT(P_20号3様式1!AO88),\"#,##0\"),\"-\"),\"\")","v":""},{"$f":"IF(P_20号3様式1!AO88<> \"\",IF(P_20号3様式1!AO88<> \"-\",IF(VALUE(FIXED(P_20号3様式1!AO88,0,TRUE))<>P_20号3様式1!AO88,RIGHT(FIXED(P_20号3様式1!AO88,3,FALSE),4),\"\"),\"\"),\"\")","v":""},{"$f":"IF(P_20号3様式1!AP88<> \"\",IF(P_20号3様式1!AP88<> \"-\",TEXT(INT(P_20号3様式1!AP88),\"#,##0\"),\"-\"),\"\")","v":""},{"$f":"IF(P_20号3様式1!AP88<> \"\",IF(P_20号3様式1!AP88<> \"-\",IF(VALUE(FIXED(P_20号3様式1!AP88,0,TRUE))<>P_20号3様式1!AP88,RIGHT(FIXED(P_20号3様式1!AP88,3,FALSE),4),\"\"),\"\"),\"\")","v":""}]
["そ  の  他  市  計",{"$f":"IF(P_20号3様式1!AS88<> \"\",TEXT(INT(P_20号3様式1!AS88),\"#,##0\"),\"\")","v":"135"},{"$f":"IF(P_20号3様式1!AS88= \"\",\"\",IF(VALUE(FIXED(P_20号3様式1!AS88,0,TRUE))<>P_20号3様式1!AS88,RIGHT(FIXED(P_20号3様式1!AS88,3,FALSE),4),\"\"))","v":".564"},{"$f":"IF(P_20号3様式1!AT88<> \"\",IF(P_20号3様式1!AT88<> \"-\",TEXT(INT(P_20号3様式1!AT88),\"#,##0\"),\"-\"),\"\")","v":"51"},{"$f":"IF(P_20号3様式1!AT88<> \"\",IF(P_20号3様式1!AT88<> \"-\",IF(VALUE(FIXED(P_20号3様式1!AT88,0,TRUE))<>P_20号3様式1!AT88,RIGHT(FIXED(P_20号3様式1!AT88,3,FALSE),4),\"\"),\"\"),\"\")","v":".000"},{"$f":"IF(P_20号3様式1!AU88<> \"\",IF(P_20号3様式1!AU88<> \"-\",TEXT(INT(P_20号3様式1!AU88),\"#,##0\"),\"-\"),\"\")","v":"84"},{"$f":"IF(P_20号3様式1!AU88<> \"\",IF(P_20号3様式1!AU88<> \"-\",IF(VALUE(FIXED(P_20号3様式1!AU88,0,TRUE))<>P_20号3様式1!AU88,RIGHT(FIXED(P_20号3様式1!AU88,3,FALSE),4),\"\"),\"\"),\"\")","v":".564"},{"$f":"IF(P_20号3様式1!AV88<> \"\",IF(P_20号3様式1!AV88<> \"-\",TEXT(INT(P_20号3様式1!AV88),\"#,##0\"),\"-\"),\"\")","v":""},{"$f":"IF(P_20号3様式1!AV88<> \"\",IF(P_20号3様式1!AV88<> \"-\",IF(VALUE(FIXED(P_20号3様式1!AV88,0,TRUE))<>P_20号3様式1!AV88,RIGHT(FIXED(P_20号3様式1!AV88,3,FALSE),4),\"\"),\"\"),\"\")","v":""},{"$f":"IF(P_20号3様式1!AW88<> \"\",IF(P_20号3様式1!AW88<> \"-\",TEXT(INT(P_20号3様式1!AW88),\"#,##0\"),\"-\"),\"\")","v":""},{"$f":"IF(P_20号3様式1!AW88<> \"\",IF(P_20号3様式1!AW88<> \"-\",IF(VALUE(FIXED(P_20号3様式1!AW88,0,TRUE))<>P_20号3様式1!AW88,RIGHT(FIXED(P_20号3様式1!AW88,3,FALSE),4),\"\"),\"\"),\"\")","v":""},{"$f":"IF(P_20号3様式1!AX88<> \"\",IF(P_20号3様式1!AX88<> \"-\",TEXT(INT(P_20号3様式1!AX88),\"#,##0\"),\"-\"),\"\")","v":""},{"$f":"IF(P_20号3様式1!AX88<> \"\",IF(P_20号3様式1!AX88<> \"-\",IF(VALUE(FIXED(P_20号3様式1!AX88,0,TRUE))<>P_20号3様式1!AX88,RIGHT(FIXED(P_20号3様式1!AX88,3,FALSE),4),\"\"),\"\"),\"\")","v":""},{"$f":"IF(P_20号3様式1!AY88<> \"\",IF(P_20号3様式1!AY88<> \"-\",TEXT(INT(P_20号3様式1!AY88),\"#,##0\"),\"-\"),\"\")","v":""},{"$f":"IF(P_20号3様式1!AY88<> \"\",IF(P_20号3様式1!AY88<> \"-\",IF(VALUE(FIXED(P_20号3様式1!AY88,0,TRUE))<>P_20号3様式1!AY88,RIGHT(FIXED(P_20号3様式1!AY88,3,FALSE),4),\"\"),\"\"),\"\")","v":""},{"$f":"IF(P_20号3様式1!AZ88<> \"\",IF(P_20号3様式1!AZ88<> \"-\",TEXT(INT(P_20号3様式1!AZ88),\"#,##0\"),\"-\"),\"\")","v":""},{"$f":"IF(P_20号3様式1!AZ88<> \"\",IF(P_20号3様式1!AZ88<> \"-\",IF(VALUE(FIXED(P_20号3様式1!AZ88,0,TRUE))<>P_20号3様式1!AZ88,RIGHT(FIXED(P_20号3様式1!AZ88,3,FALSE),4),\"\"),\"\"),\"\")","v":""},{"$f":"IF(P_20号3様式1!BA88<> \"\",IF(P_20号3様式1!BA88<> \"-\",TEXT(INT(P_20号3様式1!BA88),\"#,##0\"),\"-\"),\"\")","v":""},{"$f":"IF(P_20号3様式1!BA88<> \"\",IF(P_20号3様式1!BA88<> \"-\",IF(VALUE(FIXED(P_20号3様式1!BA88,0,TRUE))<>P_20号3様式1!BA88,RIGHT(FIXED(P_20号3様式1!BA88,3,FALSE),4),\"\"),\"\"),\"\")","v":""}]
["町村計　",{"$f":"IF(P_20号3様式1!BD88<> \"\",TEXT(INT(P_20号3様式1!BD88),\"#,##0\"),\"\")","v":"26"},{"$f":"IF(P_20号3様式1!BD88= \"\",\"\",IF(VALUE(FIXED(P_20号3様式1!BD88,0,TRUE))<>P_20号3様式1!BD88,RIGHT(FIXED(P_20号3様式1!BD88,3,FALSE),4),\"\"))","v":".568"},{"$f":"IF(P_20号3様式1!BE88<> \"\",IF(P_20号3様式1!BE88<> \"-\",TEXT(INT(P_20号3様式1!BE88),\"#,##0\"),\"-\"),\"\")","v":"6"},{"$f":"IF(P_20号3様式1!BE88<> \"\",IF(P_20号3様式1!BE88<> \"-\",IF(VALUE(FIXED(P_20号3様式1!BE88,0,TRUE))<>P_20号3様式1!BE88,RIGHT(FIXED(P_20号3様式1!BE88,3,FALSE),4),\"\"),\"\"),\"\")","v":".000"},{"$f":"IF(P_20号3様式1!BF88<> \"\",IF(P_20号3様式1!BF88<> \"-\",TEXT(INT(P_20号3様式1!BF88),\"#,##0\"),\"-\"),\"\")","v":"20"},{"$f":"IF(P_20号3様式1!BF88<> \"\",IF(P_20号3様式1!BF88<> \"-\",IF(VALUE(FIXED(P_20号3様式1!BF88,0,TRUE))<>P_20号3様式1!BF88,RIGHT(FIXED(P_20号3様式1!BF88,3,FALSE),4),\"\"),\"\"),\"\")","v":".568"},{"$f":"IF(P_20号3様式1!BG88<> \"\",IF(P_20号3様式1!BG88<> \"-\",TEXT(INT(P_20号3様式1!BG88),\"#,##0\"),\"-\"),\"\")","v":""},{"$f":"IF(P_20号3様式1!BG88<> \"\",IF(P_20号3様式1!BG88<> \"-\",IF(VALUE(FIXED(P_20号3様式1!BG88,0,TRUE))<>P_20号3様式1!BG88,RIGHT(FIXED(P_20号3様式1!BG88,3,FALSE),4),\"\"),\"\"),\"\")","v":""},{"$f":"IF(P_20号3様式1!BH88<> \"\",IF(P_20号3様式1!BH88<> \"-\",TEXT(INT(P_20号3様式1!BH88),\"#,##0\"),\"-\"),\"\")","v":""},{"$f":"IF(P_20号3様式1!BH88<> \"\",IF(P_20号3様式1!BH88<> \"-\",IF(VALUE(FIXED(P_20号3様式1!BH88,0,TRUE))<>P_20号3様式1!BH88,RIGHT(FIXED(P_20号3様式1!BH88,3,FALSE),4),\"\"),\"\"),\"\")","v":""},{"$f":"IF(P_20号3様式1!BI88<> \"\",IF(P_20号3様式1!BI88<> \"-\",TEXT(INT(P_20号3様式1!BI88),\"#,##0\"),\"-\"),\"\")","v":""},{"$f":"IF(P_20号3様式1!BI88<> \"\",IF(P_20号3様式1!BI88<> \"-\",IF(VALUE(FIXED(P_20号3様式1!BI88,0,TRUE))<>P_20号3様式1!BI88,RIGHT(FIXED(P_20号3様式1!BI88,3,FALSE),4),\"\"),\"\"),\"\")","v":""},{"$f":"IF(P_20号3様式1!BJ88<> \"\",IF(P_20号3様式1!BJ88<> \"-\",TEXT(INT(P_20号3様式1!BJ88),\"#,##0\"),\"-\"),\"\")","v":""},{"$f":"IF(P_20号3様式1!BJ88<> \"\",IF(P_20号3様式1!BJ88<> \"-\",IF(VALUE(FIXED(P_20号3様式1!BJ88,0,TRUE))<>P_20号3様式1!BJ88,RIGHT(FIXED(P_20号3様式1!BJ88,3,FALSE),4),\"\"),\"\"),\"\")","v":""},{"$f":"IF(P_20号3様式1!BK88<> \"\",IF(P_20号3様式1!BK88<> \"-\",TEXT(INT(P_20号3様式1!BK88),\"#,##0\"),\"-\"),\"\")","v":""},{"$f":"IF(P_20号3様式1!BK88<> \"\",IF(P_20号3様式1!BK88<> \"-\",IF(VALUE(FIXED(P_20号3様式1!BK88,0,TRUE))<>P_20号3様式1!BK88,RIGHT(FIXED(P_20号3様式1!BK88,3,FALSE),4),\"\"),\"\"),\"\")","v":""},{"$f":"IF(P_20号3様式1!BL88<> \"\",IF(P_20号3様式1!BL88<> \"-\",TEXT(INT(P_20号3様式1!BL88),\"#,##0\"),\"-\"),\"\")","v":""},{"$f":"IF(P_20号3様式1!BL88<> \"\",IF(P_20号3様式1!BL88<> \"-\",IF(VALUE(FIXED(P_20号3様式1!BL88,0,TRUE))<>P_20号3様式1!BL88,RIGHT(FIXED(P_20号3様式1!BL88,3,FALSE),4),\"\"),\"\"),\"\")","v":""}]
["県             計",{"$f":"IF(P_20号3様式1!BO88<> \"\",TEXT(INT(P_20号3様式1!BO88),\"#,##0\"),\"\")","v":"162"},{"$f":"IF(P_20号3様式1!BO88= \"\",\"\",IF(VALUE(FIXED(P_20号3様式1!BO88,0,TRUE))<>P_20号3様式1!BO88,RIGHT(FIXED(P_20号3様式1!BO88,3,FALSE),4),\"\"))","v":".132"},{"$f":"IF(P_20号3様式1!BP88<> \"\",IF(P_20号3様式1!BP88<> \"-\",TEXT(INT(P_20号3様式1!BP88),\"#,##0\"),\"-\"),\"\")","v":"57"},{"$f":"IF(P_20号3様式1!BP88<> \"\",IF(P_20号3様式1!BP88<> \"-\",IF(VALUE(FIXED(P_20号3様式1!BP88,0,TRUE))<>P_20号3様式1!BP88,RIGHT(FIXED(P_20号3様式1!BP88,3,FALSE),4),\"\"),\"\"),\"\")","v":".000"},{"$f":"IF(P_20号3様式1!BQ88<> \"\",IF(P_20号3様式1!BQ88<> \"-\",TEXT(INT(P_20号3様式1!BQ88),\"#,##0\"),\"-\"),\"\")","v":"105"},{"$f":"IF(P_20号3様式1!BQ88<> \"\",IF(P_20号3様式1!BQ88<> \"-\",IF(VALUE(FIXED(P_20号3様式1!BQ88,0,TRUE))<>P_20号3様式1!BQ88,RIGHT(FIXED(P_20号3様式1!BQ88,3,FALSE),4),\"\"),\"\"),\"\")","v":".132"},{"$f":"IF(P_20号3様式1!BR88<> \"\",IF(P_20号3様式1!BR88<> \"-\",TEXT(INT(P_20号3様式1!BR88),\"#,##0\"),\"-\"),\"\")","v":""},{"$f":"IF(P_20号3様式1!BR88<> \"\",IF(P_20号3様式1!BR88<> \"-\",IF(VALUE(FIXED(P_20号3様式1!BR88,0,TRUE))<>P_20号3様式1!BR88,RIGHT(FIXED(P_20号3様式1!BR88,3,FALSE),4),\"\"),\"\"),\"\")","v":""},{"$f":"IF(P_20号3様式1!BS88<> \"\",IF(P_20号3様式1!BS88<> \"-\",TEXT(INT(P_20号3様式1!BS88),\"#,##0\"),\"-\"),\"\")","v":""},{"$f":"IF(P_20号3様式1!BS88<> \"\",IF(P_20号3様式1!BS88<> \"-\",IF(VALUE(FIXED(P_20号3様式1!BS88,0,TRUE))<>P_20号3様式1!BS88,RIGHT(FIXED(P_20号3様式1!BS88,3,FALSE),4),\"\"),\"\"),\"\")","v":""},{"$f":"IF(P_20号3様式1!BT88<> \"\",IF(P_20号3様式1!BT88<> \"-\",TEXT(INT(P_20号3様式1!BT88),\"#,##0\"),\"-\"),\"\")","v":""},{"$f":"IF(P_20号3様式1!BT88<> \"\",IF(P_20号3様式1!BT88<> \"-\",IF(VALUE(FIXED(P_20号3様式1!BT88,0,TRUE))<>P_20号3様式1!BT88,RIGHT(FIXED(P_20号3様式1!BT88,3,FALSE),4),\"\"),\"\"),\"\")","v":""},{"$f":"IF(P_20号3様式1!BU88<> \"\",IF(P_20号3様式1!BU88<> \"-\",TEXT(INT(P_20号3様式1!BU88),\"#,##0\"),\"-\"),\"\")","v":""},{"$f":"IF(P_20号3様式1!BU88<> \"\",IF(P_20号3様式1!BU88<> \"-\",IF(VALUE(FIXED(P_20号3様式1!BU88,0,TRUE))<>P_20号3様式1!BU88,RIGHT(FIXED(P_20号3様式1!BU88,3,FALSE),4),\"\"),\"\"),\"\")","v":""},{"$f":"IF(P_20号3様式1!BV88<> \"\",IF(P_20号3様式1!BV88<> \"-\",TEXT(INT(P_20号3様式1!BV88),\"#,##0\"),\"-\"),\"\")","v":""},{"$f":"IF(P_20号3様式1!BV88<> \"\",IF(P_20号3様式1!BV88<> \"-\",IF(VALUE(FIXED(P_20号3様式1!BV88,0,TRUE))<>P_20号3様式1!BV88,RIGHT(FIXED(P_20号3様式1!BV88,3,FALSE),4),\"\"),\"\"),\"\")","v":""},{"$f":"IF(P_20号3様式1!BW88<> \"\",IF(P_20号3様式1!BW88<> \"-\",TEXT(INT(P_20号3様式1!BW88),\"#,##0\"),\"-\"),\"\")","v":""},{"$f":"IF(P_20号3様式1!BW88<> \"\",IF(P_20号3様式1!BW88<> \"-\",IF(VALUE(FIXED(P_20号3様式1!BW88,0,TRUE))<>P_20号3様式1!BW88,RIGHT(FIXED(P_20号3様式1!BW88,3,FALSE),4),\"\"),\"\"),\"\")","v":""}]
["第20号の3様式",{"$f":"+B$1","v":"「政党等得票数」のうち、公選法第６８条の３の規定により政党等の有効投票とみなされた投票の状況"},null,null,null,"開　票　速　報",null,null,null,null,null,null,null,null,null,null,null,{"$f":"P_20号3様式1!A131","v":4}]
[null,null,null,null,null,null,null,null,null,null,null,null,null,null,null,null,null,"鹿 児 島 県"]
[{"$f":"IF(パラメタシート!B1=\"\",\"\",パラメタシート!B1)","v":"2019-07-21"},null,null,null,null,null,null,null,null,null,null,{"$f":"IF(P_20号3様式1!BY131=\"0\",\"即日 開票　　中間報告\",\"翌日 開票　　中間報告\")","v":"即日 開票　　中間報告"},null,null,null,{"$f":" IF(P_20号3様式1!BZ131=\"\",\"時　　    分        \",P_20号3様式1!BZ131)","v":"時　　    分        "}]
[{"$f":"IF(P_20号3様式1!BX131=\"\",\"\",\"     　　\" & P_20号3様式1!BX131)","v":"     　　参議院比例代表選出議員選挙"},null,null,null,null,null,null,null,null,null,null,"開票　　結了報告",null,null,null,{"$f":" IF(P_20号3様式1!CA131=\"\",\"時　　    分        \",P_20号3様式1!CA131)","v":"02:55:00"}]
["市 区 町 村 名",{"$f":"IF(P_20号3様式1!AB131 = \"\", \"\", P_20号3様式1!AB131)","v":"自由民主党"},null,{"$f":"IF(P_20号3様式1!D131 = \"\", \"\", P_20号3様式1!D131)","v":"01"},null,{"$f":"IF(P_20号3様式1!G131 = \"\", \"\", P_20号3様式1!G131)","v":"02"},null,{"$f":"IF(P_20号3様式1!J131 = \"\", \"\", P_20号3様式1!J131)","v":""},null,{"$f":"IF(P_20号3様式1!M131 = \"\", \"\", P_20号3様式1!M131)","v":""},null,{"$f":"IF(P_20号3様式1!P131 = \"\", \"\", P_20号3様式1!P131)","v":""},null,{"$f":"IF(P_20号3様式1!S131 = \"\", \"\", P_20号3様式1!S131)","v":""},null,{"$f":"IF(P_20号3様式1!V131 = \"\", \"\", P_20号3様式1!V131)","v":""},null,{"$f":"IF(P_20号3様式1!Y131 = \"\", \"\", P_20号3様式1!Y131)","v":""}]
[null,{"$f":"+B$6","v":"特定枠名簿登録者\nへの投票総数"},null,{"$f":"IF(P_20号3様式1!E131 = \"\", \"\", P_20号3様式1!E131)","v":"三木　とおる"},null,{"$f":"IF(P_20号3様式1!H131 = \"\", \"\", P_20号3様式1!H131)","v":"三浦　靖"},null,{"$f":"IF(P_20号3様式1!K131 = \"\", \"\", P_20号3様式1!K131)","v":""},null,{"$f":"IF(P_20号3様式1!N131 = \"\", \"\", P_20号3様式1!N131)","v":""},null,{"$f":"IF(P_20号3様式1!Q131 = \"\", \"\", P_20号3様式1!Q131)","v":""},null,{"$f":"IF(P_20号3様式1!T131 = \"\", \"\", P_20号3様式1!T131)","v":""},null,{"$f":"IF(P_20号3様式1!W131 = \"\", \"\", P_20号3様式1!W131)","v":""},null,{"$f":"IF(P_20号3様式1!Z131 = \"\", \"\", P_20号3様式1!Z131)","v":""}]
[{"$f":"IF(P_20号3様式1!C131=\"\",\"\",P_20号3様式1!C131)","v":"宇検村"},{"$f":"IF(P_20号3様式1!AE131<> \"\",TEXT(INT(P_20号3様式1!AE131),\"#,##0\"),\"\")","v":"0"},{"$f":"IF(P_20号3様式1!AE131= \"\",\"\",IF(VALUE(FIXED(P_20号3様式1!AE131,0,TRUE))<>P_20号3様式1!AE131,RIGHT(FIXED(P_20号3様式1!AE131,3,FALSE),4),\"\"))","v":".000"},{"$f":"IF(P_20号3様式1!F131<> \"\",IF(P_20号3様式1!F131<> \"-\",TEXT(INT(P_20号3様式1!F131),\"#,##0\"),\"-\"),\"\")","v":"0"},{"$f":"IF(P_20号3様式1!F131<> \"\",IF(P_20号3様式1!F131<> \"-\",IF(VALUE(FIXED(P_20号3様式1!F131,0,TRUE))<>P_20号3様式1!F131,RIGHT(FIXED(P_20号3様式1!F131,3,FALSE),4),\"\"),\"\"),\"\")","v":".000"},{"$f":"IF(P_20号3様式1!I131<> \"\",IF(P_20号3様式1!I131<> \"-\",TEXT(INT(P_20号3様式1!I131),\"#,##0\"),\"-\"),\"\")","v":"0"},{"$f":"IF(P_20号3様式1!I131<> \"\",IF(P_20号3様式1!I131<> \"-\",IF(VALUE(FIXED(P_20号3様式1!I131,0,TRUE))<>P_20号3様式1!I131,RIGHT(FIXED(P_20号3様式1!I131,3,FALSE),4),\"\"),\"\"),\"\")","v":".000"},{"$f":"IF(P_20号3様式1!L131<> \"\",IF(P_20号3様式1!L131<> \"-\",TEXT(INT(P_20号3様式1!L131),\"#,##0\"),\"-\"),\"\")","v":""},{"$f":"IF(P_20号3様式1!L131<> \"\",IF(P_20号3様式1!L131<> \"-\",IF(VALUE(FIXED(P_20号3様式1!L131,0,TRUE))<>P_20号3様式1!L131,RIGHT(FIXED(P_20号3様式1!L131,3,FALSE),4),\"\"),\"\"),\"\")","v":""},{"$f":"IF(P_20号3様式1!O131<> \"\",IF(P_20号3様式1!O131<> \"-\",TEXT(INT(P_20号3様式1!O131),\"#,##0\"),\"-\"),\"\")","v":""},{"$f":"IF(P_20号3様式1!O131<> \"\",IF(P_20号3様式1!O131<> \"-\",IF(VALUE(FIXED(P_20号3様式1!O131,0,TRUE))<>P_20号3様式1!O131,RIGHT(FIXED(P_20号3様式1!O131,3,FALSE),4),\"\"),\"\"),\"\")","v":""},{"$f":"IF(P_20号3様式1!R131<> \"\",IF(P_20号3様式1!R131<> \"-\",TEXT(INT(P_20号3様式1!R131),\"#,##0\"),\"-\"),\"\")","v":""},{"$f":"IF(P_20号3様式1!R131<> \"\",IF(P_20号3様式1!R131<> \"-\",IF(VALUE(FIXED(P_20号3様式1!R131,0,TRUE))<>P_20号3様式1!R131,RIGHT(FIXED(P_20号3様式1!R131,3,FALSE),4),\"\"),\"\"),\"\")","v":""},{"$f":"IF(P_20号3様式1!U131<> \"\",IF(P_20号3様式1!U131<> \"-\",TEXT(INT(P_20号3様式1!U131),\"#,##0\"),\"-\"),\"\")","v":""},{"$f":"IF(P_20号3様式1!U131<> \"\",IF(P_20号3様式1!U131<> \"-\",IF(VALUE(FIXED(P_20号3様式1!U131,0,TRUE))<>P_20号3様式1!U131,RIGHT(FIXED(P_20号3様式1!U131,3,FALSE),4),\"\"),\"\"),\"\")","v":""},{"$f":"IF(P_20号3様式1!X131<> \"\",IF(P_20号3様式1!X131<> \"-\",TEXT(INT(P_20号3様式1!X131),\"#,##0\"),\"-\"),\"\")","v":""},{"$f":"IF(P_20号3様式1!X131<> \"\",IF(P_20号3様式1!X131<> \"-\",IF(VALUE(FIXED(P_20号3様式1!X131,0,TRUE))<>P_20号3様式1!X131,RIGHT(FIXED(P_20号3様式1!X131,3,FALSE),4),\"\"),\"\"),\"\")","v":""},{"$f":"IF(P_20号3様式1!AA131<> \"\",IF(P_20号3様式1!AA131<> \"-\",TEXT(INT(P_20号3様式1!AA131),\"#,##0\"),\"-\"),\"\")","v":""},{"$f":"IF(P_20号3様式1!AA131<> \"\",IF(P_20号3様式1!AA131<> \"-\",IF(VALUE(FIXED(P_20号3様式1!AA131,0,TRUE))<>P_20号3様式1!AA131,RIGHT(FIXED(P_20号3様式1!AA131,3,FALSE),4),\"\"),\"\"),\"\")","v":""}]
[{"$f":"IF(P_20号3様式1!C132=\"\",\"\",P_20号3様式1!C132)","v":"瀬戸内町"},{"$f":"IF(P_20号3様式1!AE132<> \"\",TEXT(INT(P_20号3様式1!AE132),\"#,##0\"),\"\")","v":"1"},{"$f":"IF(P_20号3様式1!AE132= \"\",\"\",IF(VALUE(FIXED(P_20号3様式1!AE132,0,TRUE))<>P_20号3様式1!AE132,RIGHT(FIXED(P_20号3様式1!AE132,3,FALSE),4),\"\"))","v":".000"},{"$f":"IF(P_20号3様式1!F132<> \"\",IF(P_20号3様式1!F132<> \"-\",TEXT(INT(P_20号3様式1!F132),\"#,##0\"),\"-\"),\"\")","v":"0"},{"$f":"IF(P_20号3様式1!F132<> \"\",IF(P_20号3様式1!F132<> \"-\",IF(VALUE(FIXED(P_20号3様式1!F132,0,TRUE))<>P_20号3様式1!F132,RIGHT(FIXED(P_20号3様式1!F132,3,FALSE),4),\"\"),\"\"),\"\")","v":".000"},{"$f":"IF(P_20号3様式1!I132<> \"\",IF(P_20号3様式1!I132<> \"-\",TEXT(INT(P_20号3様式1!I132),\"#,##0\"),\"-\"),\"\")","v":"1"},{"$f":"IF(P_20号3様式1!I132<> \"\",IF(P_20号3様式1!I132<> \"-\",IF(VALUE(FIXED(P_20号3様式1!I132,0,TRUE))<>P_20号3様式1!I132,RIGHT(FIXED(P_20号3様式1!I132,3,FALSE),4),\"\"),\"\"),\"\")","v":".000"},{"$f":"IF(P_20号3様式1!L132<> \"\",IF(P_20号3様式1!L132<> \"-\",TEXT(INT(P_20号3様式1!L132),\"#,##0\"),\"-\"),\"\")","v":""},{"$f":"IF(P_20号3様式1!L132<> \"\",IF(P_20号3様式1!L132<> \"-\",IF(VALUE(FIXED(P_20号3様式1!L132,0,TRUE))<>P_20号3様式1!L132,RIGHT(FIXED(P_20号3様式1!L132,3,FALSE),4),\"\"),\"\"),\"\")","v":""},{"$f":"IF(P_20号3様式1!O132<> \"\",IF(P_20号3様式1!O132<> \"-\",TEXT(INT(P_20号3様式1!O132),\"#,##0\"),\"-\"),\"\")","v":""},{"$f":"IF(P_20号3様式1!O132<> \"\",IF(P_20号3様式1!O132<> \"-\",IF(VALUE(FIXED(P_20号3様式1!O132,0,TRUE))<>P_20号3様式1!O132,RIGHT(FIXED(P_20号3様式1!O132,3,FALSE),4),\"\"),\"\"),\"\")","v":""},{"$f":"IF(P_20号3様式1!R132<> \"\",IF(P_20号3様式1!R132<> \"-\",TEXT(INT(P_20号3様式1!R132),\"#,##0\"),\"-\"),\"\")","v":""},{"$f":"IF(P_20号3様式1!R132<> \"\",IF(P_20号3様式1!R132<> \"-\",IF(VALUE(FIXED(P_20号3様式1!R132,0,TRUE))<>P_20号3様式1!R132,RIGHT(FIXED(P_20号3様式1!R132,3,FALSE),4),\"\"),\"\"),\"\")","v":""},{"$f":"IF(P_20号3様式1!U132<> \"\",IF(P_20号3様式1!U132<> \"-\",TEXT(INT(P_20号3様式1!U132),\"#,##0\"),\"-\"),\"\")","v":""},{"$f":"IF(P_20号3様式1!U132<> \"\",IF(P_20号3様式1!U132<> \"-\",IF(VALUE(FIXED(P_20号3様式1!U132,0,TRUE))<>P_20号3様式1!U132,RIGHT(FIXED(P_20号3様式1!U132,3,FALSE),4),\"\"),\"\"),\"\")","v":""},{"$f":"IF(P_20号3様式1!X132<> \"\",IF(P_20号3様式1!X132<> \"-\",TEXT(INT(P_20号3様式1!X132),\"#,##0\"),\"-\"),\"\")","v":""},{"$f":"IF(P_20号3様式1!X132<> \"\",IF(P_20号3様式1!X132<> \"-\",IF(VALUE(FIXED(P_20号3様式1!X132,0,TRUE))<>P_20号3様式1!X132,RIGHT(FIXED(P_20号3様式1!X132,3,FALSE),4),\"\"),\"\"),\"\")","v":""},{"$f":"IF(P_20号3様式1!AA132<> \"\",IF(P_20号3様式1!AA132<> \"-\",TEXT(INT(P_20号3様式1!AA132),\"#,##0\"),\"-\"),\"\")","v":""},{"$f":"IF(P_20号3様式1!AA132<> \"\",IF(P_20号3様式1!AA132<> \"-\",IF(VALUE(FIXED(P_20号3様式1!AA132,0,TRUE))<>P_20号3様式1!AA132,RIGHT(FIXED(P_20号3様式1!AA132,3,FALSE),4),\"\"),\"\"),\"\")","v":""}]
[{"$f":"IF(P_20号3様式1!C133=\"\",\"\",P_20号3様式1!C133)","v":"龍郷町"},{"$f":"IF(P_20号3様式1!AE133<> \"\",TEXT(INT(P_20号3様式1!AE133),\"#,##0\"),\"\")","v":"1"},{"$f":"IF(P_20号3様式1!AE133= \"\",\"\",IF(VALUE(FIXED(P_20号3様式1!AE133,0,TRUE))<>P_20号3様式1!AE133,RIGHT(FIXED(P_20号3様式1!AE133,3,FALSE),4),\"\"))","v":".000"},{"$f":"IF(P_20号3様式1!F133<> \"\",IF(P_20号3様式1!F133<> \"-\",TEXT(INT(P_20号3様式1!F133),\"#,##0\"),\"-\"),\"\")","v":"1"},{"$f":"IF(P_20号3様式1!F133<> \"\",IF(P_20号3様式1!F133<> \"-\",IF(VALUE(FIXED(P_20号3様式1!F133,0,TRUE))<>P_20号3様式1!F133,RIGHT(FIXED(P_20号3様式1!F133,3,FALSE),4),\"\"),\"\"),\"\")","v":".000"},{"$f":"IF(P_20号3様式1!I133<> \"\",IF(P_20号3様式1!I133<> \"-\",TEXT(INT(P_20号3様式1!I133),\"#,##0\"),\"-\"),\"\")","v":"0"},{"$f":"IF(P_20号3様式1!I133<> \"\",IF(P_20号3様式1!I133<> \"-\",IF(VALUE(FIXED(P_20号3様式1!I133,0,TRUE))<>P_20号3様式1!I133,RIGHT(FIXED(P_20号3様式1!I133,3,FALSE),4),\"\"),\"\"),\"\")","v":".000"},{"$f":"IF(P_20号3様式1!L133<> \"\",IF(P_20号3様式1!L133<> \"-\",TEXT(INT(P_20号3様式1!L133),\"#,##0\"),\"-\"),\"\")","v":""},{"$f":"IF(P_20号3様式1!L133<> \"\",IF(P_20号3様式1!L133<> \"-\",IF(VALUE(FIXED(P_20号3様式1!L133,0,TRUE))<>P_20号3様式1!L133,RIGHT(FIXED(P_20号3様式1!L133,3,FALSE),4),\"\"),\"\"),\"\")","v":""},{"$f":"IF(P_20号3様式1!O133<> \"\",IF(P_20号3様式1!O133<> \"-\",TEXT(INT(P_20号3様式1!O133),\"#,##0\"),\"-\"),\"\")","v":""},{"$f":"IF(P_20号3様式1!O133<> \"\",IF(P_20号3様式1!O133<> \"-\",IF(VALUE(FIXED(P_20号3様式1!O133,0,TRUE))<>P_20号3様式1!O133,RIGHT(FIXED(P_20号3様式1!O133,3,FALSE),4),\"\"),\"\"),\"\")","v":""},{"$f":"IF(P_20号3様式1!R133<> \"\",IF(P_20号3様式1!R133<> \"-\",TEXT(INT(P_20号3様式1!R133),\"#,##0\"),\"-\"),\"\")","v":""},{"$f":"IF(P_20号3様式1!R133<> \"\",IF(P_20号3様式1!R133<> \"-\",IF(VALUE(FIXED(P_20号3様式1!R133,0,TRUE))<>P_20号3様式1!R133,RIGHT(FIXED(P_20号3様式1!R133,3,FALSE),4),\"\"),\"\"),\"\")","v":""},{"$f":"IF(P_20号3様式1!U133<> \"\",IF(P_20号3様式1!U133<> \"-\",TEXT(INT(P_20号3様式1!U133),\"#,##0\"),\"-\"),\"\")","v":""},{"$f":"IF(P_20号3様式1!U133<> \"\",IF(P_20号3様式1!U133<> \"-\",IF(VALUE(FIXED(P_20号3様式1!U133,0,TRUE))<>P_20号3様式1!U133,RIGHT(FIXED(P_20号3様式1!U133,3,FALSE),4),\"\"),\"\"),\"\")","v":""},{"$f":"IF(P_20号3様式1!X133<> \"\",IF(P_20号3様式1!X133<> \"-\",TEXT(INT(P_20号3様式1!X133),\"#,##0\"),\"-\"),\"\")","v":""},{"$f":"IF(P_20号3様式1!X133<> \"\",IF(P_20号3様式1!X133<> \"-\",IF(VALUE(FIXED(P_20号3様式1!X133,0,TRUE))<>P_20号3様式1!X133,RIGHT(FIXED(P_20号3様式1!X133,3,FALSE),4),\"\"),\"\"),\"\")","v":""},{"$f":"IF(P_20号3様式1!AA133<> \"\",IF(P_20号3様式1!AA133<> \"-\",TEXT(INT(P_20号3様式1!AA133),\"#,##0\"),\"-\"),\"\")","v":""},{"$f":"IF(P_20号3様式1!AA133<> \"\",IF(P_20号3様式1!AA133<> \"-\",IF(VALUE(FIXED(P_20号3様式1!AA133,0,TRUE))<>P_20号3様式1!AA133,RIGHT(FIXED(P_20号3様式1!AA133,3,FALSE),4),\"\"),\"\"),\"\")","v":""}]
[{"$f":"IF(P_20号3様式1!C134=\"\",\"\",P_20号3様式1!C134)","v":"喜界町"},{"$f":"IF(P_20号3様式1!AE134<> \"\",TEXT(INT(P_20号3様式1!AE134),\"#,##0\"),\"\")","v":"2"},{"$f":"IF(P_20号3様式1!AE134= \"\",\"\",IF(VALUE(FIXED(P_20号3様式1!AE134,0,TRUE))<>P_20号3様式1!AE134,RIGHT(FIXED(P_20号3様式1!AE134,3,FALSE),4),\"\"))","v":".000"},{"$f":"IF(P_20号3様式1!F134<> \"\",IF(P_20号3様式1!F134<> \"-\",TEXT(INT(P_20号3様式1!F134),\"#,##0\"),\"-\"),\"\")","v":"2"},{"$f":"IF(P_20号3様式1!F134<> \"\",IF(P_20号3様式1!F134<> \"-\",IF(VALUE(FIXED(P_20号3様式1!F134,0,TRUE))<>P_20号3様式1!F134,RIGHT(FIXED(P_20号3様式1!F134,3,FALSE),4),\"\"),\"\"),\"\")","v":".000"},{"$f":"IF(P_20号3様式1!I134<> \"\",IF(P_20号3様式1!I134<> \"-\",TEXT(INT(P_20号3様式1!I134),\"#,##0\"),\"-\"),\"\")","v":"0"},{"$f":"IF(P_20号3様式1!I134<> \"\",IF(P_20号3様式1!I134<> \"-\",IF(VALUE(FIXED(P_20号3様式1!I134,0,TRUE))<>P_20号3様式1!I134,RIGHT(FIXED(P_20号3様式1!I134,3,FALSE),4),\"\"),\"\"),\"\")","v":".000"},{"$f":"IF(P_20号3様式1!L134<> \"\",IF(P_20号3様式1!L134<> \"-\",TEXT(INT(P_20号3様式1!L134),\"#,##0\"),\"-\"),\"\")","v":""},{"$f":"IF(P_20号3様式1!L134<> \"\",IF(P_20号3様式1!L134<> \"-\",IF(VALUE(FIXED(P_20号3様式1!L134,0,TRUE))<>P_20号3様式1!L134,RIGHT(FIXED(P_20号3様式1!L134,3,FALSE),4),\"\"),\"\"),\"\")","v":""},{"$f":"IF(P_20号3様式1!O134<> \"\",IF(P_20号3様式1!O134<> \"-\",TEXT(INT(P_20号3様式1!O134),\"#,##0\"),\"-\"),\"\")","v":""},{"$f":"IF(P_20号3様式1!O134<> \"\",IF(P_20号3様式1!O134<> \"-\",IF(VALUE(FIXED(P_20号3様式1!O134,0,TRUE))<>P_20号3様式1!O134,RIGHT(FIXED(P_20号3様式1!O134,3,FALSE),4),\"\"),\"\"),\"\")","v":""},{"$f":"IF(P_20号3様式1!R134<> \"\",IF(P_20号3様式1!R134<> \"-\",TEXT(INT(P_20号3様式1!R134),\"#,##0\"),\"-\"),\"\")","v":""},{"$f":"IF(P_20号3様式1!R134<> \"\",IF(P_20号3様式1!R134<> \"-\",IF(VALUE(FIXED(P_20号3様式1!R134,0,TRUE))<>P_20号3様式1!R134,RIGHT(FIXED(P_20号3様式1!R134,3,FALSE),4),\"\"),\"\"),\"\")","v":""},{"$f":"IF(P_20号3様式1!U134<> \"\",IF(P_20号3様式1!U134<> \"-\",TEXT(INT(P_20号3様式1!U134),\"#,##0\"),\"-\"),\"\")","v":""},{"$f":"IF(P_20号3様式1!U134<> \"\",IF(P_20号3様式1!U134<> \"-\",IF(VALUE(FIXED(P_20号3様式1!U134,0,TRUE))<>P_20号3様式1!U134,RIGHT(FIXED(P_20号3様式1!U134,3,FALSE),4),\"\"),\"\"),\"\")","v":""},{"$f":"IF(P_20号3様式1!X134<> \"\",IF(P_20号3様式1!X134<> \"-\",TEXT(INT(P_20号3様式1!X134),\"#,##0\"),\"-\"),\"\")","v":""},{"$f":"IF(P_20号3様式1!X134<> \"\",IF(P_20号3様式1!X134<> \"-\",IF(VALUE(FIXED(P_20号3様式1!X134,0,TRUE))<>P_20号3様式1!X134,RIGHT(FIXED(P_20号3様式1!X134,3,FALSE),4),\"\"),\"\"),\"\")","v":""},{"$f":"IF(P_20号3様式1!AA134<> \"\",IF(P_20号3様式1!AA134<> \"-\",TEXT(INT(P_20号3様式1!AA134),\"#,##0\"),\"-\"),\"\")","v":""},{"$f":"IF(P_20号3様式1!AA134<> \"\",IF(P_20号3様式1!AA134<> \"-\",IF(VALUE(FIXED(P_20号3様式1!AA134,0,TRUE))<>P_20号3様式1!AA134,RIGHT(FIXED(P_20号3様式1!AA134,3,FALSE),4),\"\"),\"\"),\"\")","v":""}]
[{"$f":"IF(P_20号3様式1!C135=\"\",\"\",P_20号3様式1!C135)","v":"徳之島町"},{"$f":"IF(P_20号3様式1!AE135<> \"\",TEXT(INT(P_20号3様式1!AE135),\"#,##0\"),\"\")","v":"0"},{"$f":"IF(P_20号3様式1!AE135= \"\",\"\",IF(VALUE(FIXED(P_20号3様式1!AE135,0,TRUE))<>P_20号3様式1!AE135,RIGHT(FIXED(P_20号3様式1!AE135,3,FALSE),4),\"\"))","v":".000"},{"$f":"IF(P_20号3様式1!F135<> \"\",IF(P_20号3様式1!F135<> \"-\",TEXT(INT(P_20号3様式1!F135),\"#,##0\"),\"-\"),\"\")","v":"0"},{"$f":"IF(P_20号3様式1!F135<> \"\",IF(P_20号3様式1!F135<> \"-\",IF(VALUE(FIXED(P_20号3様式1!F135,0,TRUE))<>P_20号3様式1!F135,RIGHT(FIXED(P_20号3様式1!F135,3,FALSE),4),\"\"),\"\"),\"\")","v":".000"},{"$f":"IF(P_20号3様式1!I135<> \"\",IF(P_20号3様式1!I135<> \"-\",TEXT(INT(P_20号3様式1!I135),\"#,##0\"),\"-\"),\"\")","v":"0"},{"$f":"IF(P_20号3様式1!I135<> \"\",IF(P_20号3様式1!I135<> \"-\",IF(VALUE(FIXED(P_20号3様式1!I135,0,TRUE))<>P_20号3様式1!I135,RIGHT(FIXED(P_20号3様式1!I135,3,FALSE),4),\"\"),\"\"),\"\")","v":".000"},{"$f":"IF(P_20号3様式1!L135<> \"\",IF(P_20号3様式1!L135<> \"-\",TEXT(INT(P_20号3様式1!L135),\"#,##0\"),\"-\"),\"\")","v":""},{"$f":"IF(P_20号3様式1!L135<> \"\",IF(P_20号3様式1!L135<> \"-\",IF(VALUE(FIXED(P_20号3様式1!L135,0,TRUE))<>P_20号3様式1!L135,RIGHT(FIXED(P_20号3様式1!L135,3,FALSE),4),\"\"),\"\"),\"\")","v":""},{"$f":"IF(P_20号3様式1!O135<> \"\",IF(P_20号3様式1!O135<> \"-\",TEXT(INT(P_20号3様式1!O135),\"#,##0\"),\"-\"),\"\")","v":""},{"$f":"IF(P_20号3様式1!O135<> \"\",IF(P_20号3様式1!O135<> \"-\",IF(VALUE(FIXED(P_20号3様式1!O135,0,TRUE))<>P_20号3様式1!O135,RIGHT(FIXED(P_20号3様式1!O135,3,FALSE),4),\"\"),\"\"),\"\")","v":""},{"$f":"IF(P_20号3様式1!R135<> \"\",IF(P_20号3様式1!R135<> \"-\",TEXT(INT(P_20号3様式1!R135),\"#,##0\"),\"-\"),\"\")","v":""},{"$f":"IF(P_20号3様式1!R135<> \"\",IF(P_20号3様式1!R135<> \"-\",IF(VALUE(FIXED(P_20号3様式1!R135,0,TRUE))<>P_20号3様式1!R135,RIGHT(FIXED(P_20号3様式1!R135,3,FALSE),4),\"\"),\"\"),\"\")","v":""},{"$f":"IF(P_20号3様式1!U135<> \"\",IF(P_20号3様式1!U135<> \"-\",TEXT(INT(P_20号3様式1!U135),\"#,##0\"),\"-\"),\"\")","v":""},{"$f":"IF(P_20号3様式1!U135<> \"\",IF(P_20号3様式1!U135<> \"-\",IF(VALUE(FIXED(P_20号3様式1!U135,0,TRUE))<>P_20号3様式1!U135,RIGHT(FIXED(P_20号3様式1!U135,3,FALSE),4),\"\"),\"\"),\"\")","v":""},{"$f":"IF(P_20号3様式1!X135<> \"\",IF(P_20号3様式1!X135<> \"-\",TEXT(INT(P_20号3様式1!X135),\"#,##0\"),\"-\"),\"\")","v":""},{"$f":"IF(P_20号3様式1!X135<> \"\",IF(P_20号3様式1!X135<> \"-\",IF(VALUE(FIXED(P_20号3様式1!X135,0,TRUE))<>P_20号3様式1!X135,RIGHT(FIXED(P_20号3様式1!X135,3,FALSE),4),\"\"),\"\"),\"\")","v":""},{"$f":"IF(P_20号3様式1!AA135<> \"\",IF(P_20号3様式1!AA135<> \"-\",TEXT(INT(P_20号3様式1!AA135),\"#,##0\"),\"-\"),\"\")","v":""},{"$f":"IF(P_20号3様式1!AA135<> \"\",IF(P_20号3様式1!AA135<> \"-\",IF(VALUE(FIXED(P_20号3様式1!AA135,0,TRUE))<>P_20号3様式1!AA135,RIGHT(FIXED(P_20号3様式1!AA135,3,FALSE),4),\"\"),\"\"),\"\")","v":""}]
[{"$f":"IF(P_20号3様式1!C136=\"\",\"\",P_20号3様式1!C136)","v":"天城町"},{"$f":"IF(P_20号3様式1!AE136<> \"\",TEXT(INT(P_20号3様式1!AE136),\"#,##0\"),\"\")","v":"1"},{"$f":"IF(P_20号3様式1!AE136= \"\",\"\",IF(VALUE(FIXED(P_20号3様式1!AE136,0,TRUE))<>P_20号3様式1!AE136,RIGHT(FIXED(P_20号3様式1!AE136,3,FALSE),4),\"\"))","v":".000"},{"$f":"IF(P_20号3様式1!F136<> \"\",IF(P_20号3様式1!F136<> \"-\",TEXT(INT(P_20号3様式1!F136),\"#,##0\"),\"-\"),\"\")","v":"1"},{"$f":"IF(P_20号3様式1!F136<> \"\",IF(P_20号3様式1!F136<> \"-\",IF(VALUE(FIXED(P_20号3様式1!F136,0,TRUE))<>P_20号3様式1!F136,RIGHT(FIXED(P_20号3様式1!F136,3,FALSE),4),\"\"),\"\"),\"\")","v":".000"},{"$f":"IF(P_20号3様式1!I136<> \"\",IF(P_20号3様式1!I136<> \"-\",TEXT(INT(P_20号3様式1!I136),\"#,##0\"),\"-\"),\"\")","v":"0"},{"$f":"IF(P_20号3様式1!I136<> \"\",IF(P_20号3様式1!I136<> \"-\",IF(VALUE(FIXED(P_20号3様式1!I136,0,TRUE))<>P_20号3様式1!I136,RIGHT(FIXED(P_20号3様式1!I136,3,FALSE),4),\"\"),\"\"),\"\")","v":".000"},{"$f":"IF(P_20号3様式1!L136<> \"\",IF(P_20号3様式1!L136<> \"-\",TEXT(INT(P_20号3様式1!L136),\"#,##0\"),\"-\"),\"\")","v":""},{"$f":"IF(P_20号3様式1!L136<> \"\",IF(P_20号3様式1!L136<> \"-\",IF(VALUE(FIXED(P_20号3様式1!L136,0,TRUE))<>P_20号3様式1!L136,RIGHT(FIXED(P_20号3様式1!L136,3,FALSE),4),\"\"),\"\"),\"\")","v":""},{"$f":"IF(P_20号3様式1!O136<> \"\",IF(P_20号3様式1!O136<> \"-\",TEXT(INT(P_20号3様式1!O136),\"#,##0\"),\"-\"),\"\")","v":""},{"$f":"IF(P_20号3様式1!O136<> \"\",IF(P_20号3様式1!O136<> \"-\",IF(VALUE(FIXED(P_20号3様式1!O136,0,TRUE))<>P_20号3様式1!O136,RIGHT(FIXED(P_20号3様式1!O136,3,FALSE),4),\"\"),\"\"),\"\")","v":""},{"$f":"IF(P_20号3様式1!R136<> \"\",IF(P_20号3様式1!R136<> \"-\",TEXT(INT(P_20号3様式1!R136),\"#,##0\"),\"-\"),\"\")","v":""},{"$f":"IF(P_20号3様式1!R136<> \"\",IF(P_20号3様式1!R136<> \"-\",IF(VALUE(FIXED(P_20号3様式1!R136,0,TRUE))<>P_20号3様式1!R136,RIGHT(FIXED(P_20号3様式1!R136,3,FALSE),4),\"\"),\"\"),\"\")","v":""},{"$f":"IF(P_20号3様式1!U136<> \"\",IF(P_20号3様式1!U136<> \"-\",TEXT(INT(P_20号3様式1!U136),\"#,##0\"),\"-\"),\"\")","v":""},{"$f":"IF(P_20号3様式1!U136<> \"\",IF(P_20号3様式1!U136<> \"-\",IF(VALUE(FIXED(P_20号3様式1!U136,0,TRUE))<>P_20号3様式1!U136,RIGHT(FIXED(P_20号3様式1!U136,3,FALSE),4),\"\"),\"\"),\"\")","v":""},{"$f":"IF(P_20号3様式1!X136<> \"\",IF(P_20号3様式1!X136<> \"-\",TEXT(INT(P_20号3様式1!X136),\"#,##0\"),\"-\"),\"\")","v":""},{"$f":"IF(P_20号3様式1!X136<> \"\",IF(P_20号3様式1!X136<> \"-\",IF(VALUE(FIXED(P_20号3様式1!X136,0,TRUE))<>P_20号3様式1!X136,RIGHT(FIXED(P_20号3様式1!X136,3,FALSE),4),\"\"),\"\"),\"\")","v":""},{"$f":"IF(P_20号3様式1!AA136<> \"\",IF(P_20号3様式1!AA136<> \"-\",TEXT(INT(P_20号3様式1!AA136),\"#,##0\"),\"-\"),\"\")","v":""},{"$f":"IF(P_20号3様式1!AA136<> \"\",IF(P_20号3様式1!AA136<> \"-\",IF(VALUE(FIXED(P_20号3様式1!AA136,0,TRUE))<>P_20号3様式1!AA136,RIGHT(FIXED(P_20号3様式1!AA136,3,FALSE),4),\"\"),\"\"),\"\")","v":""}]
[{"$f":"IF(P_20号3様式1!C137=\"\",\"\",P_20号3様式1!C137)","v":"伊仙町"},{"$f":"IF(P_20号3様式1!AE137<> \"\",TEXT(INT(P_20号3様式1!AE137),\"#,##0\"),\"\")","v":"3"},{"$f":"IF(P_20号3様式1!AE137= \"\",\"\",IF(VALUE(FIXED(P_20号3様式1!AE137,0,TRUE))<>P_20号3様式1!AE137,RIGHT(FIXED(P_20号3様式1!AE137,3,FALSE),4),\"\"))","v":".000"},{"$f":"IF(P_20号3様式1!F137<> \"\",IF(P_20号3様式1!F137<> \"-\",TEXT(INT(P_20号3様式1!F137),\"#,##0\"),\"-\"),\"\")","v":"2"},{"$f":"IF(P_20号3様式1!F137<> \"\",IF(P_20号3様式1!F137<> \"-\",IF(VALUE(FIXED(P_20号3様式1!F137,0,TRUE))<>P_20号3様式1!F137,RIGHT(FIXED(P_20号3様式1!F137,3,FALSE),4),\"\"),\"\"),\"\")","v":".000"},{"$f":"IF(P_20号3様式1!I137<> \"\",IF(P_20号3様式1!I137<> \"-\",TEXT(INT(P_20号3様式1!I137),\"#,##0\"),\"-\"),\"\")","v":"1"},{"$f":"IF(P_20号3様式1!I137<> \"\",IF(P_20号3様式1!I137<> \"-\",IF(VALUE(FIXED(P_20号3様式1!I137,0,TRUE))<>P_20号3様式1!I137,RIGHT(FIXED(P_20号3様式1!I137,3,FALSE),4),\"\"),\"\"),\"\")","v":".000"},{"$f":"IF(P_20号3様式1!L137<> \"\",IF(P_20号3様式1!L137<> \"-\",TEXT(INT(P_20号3様式1!L137),\"#,##0\"),\"-\"),\"\")","v":""},{"$f":"IF(P_20号3様式1!L137<> \"\",IF(P_20号3様式1!L137<> \"-\",IF(VALUE(FIXED(P_20号3様式1!L137,0,TRUE))<>P_20号3様式1!L137,RIGHT(FIXED(P_20号3様式1!L137,3,FALSE),4),\"\"),\"\"),\"\")","v":""},{"$f":"IF(P_20号3様式1!O137<> \"\",IF(P_20号3様式1!O137<> \"-\",TEXT(INT(P_20号3様式1!O137),\"#,##0\"),\"-\"),\"\")","v":""},{"$f":"IF(P_20号3様式1!O137<> \"\",IF(P_20号3様式1!O137<> \"-\",IF(VALUE(FIXED(P_20号3様式1!O137,0,TRUE))<>P_20号3様式1!O137,RIGHT(FIXED(P_20号3様式1!O137,3,FALSE),4),\"\"),\"\"),\"\")","v":""},{"$f":"IF(P_20号3様式1!R137<> \"\",IF(P_20号3様式1!R137<> \"-\",TEXT(INT(P_20号3様式1!R137),\"#,##0\"),\"-\"),\"\")","v":""},{"$f":"IF(P_20号3様式1!R137<> \"\",IF(P_20号3様式1!R137<> \"-\",IF(VALUE(FIXED(P_20号3様式1!R137,0,TRUE))<>P_20号3様式1!R137,RIGHT(FIXED(P_20号3様式1!R137,3,FALSE),4),\"\"),\"\"),\"\")","v":""},{"$f":"IF(P_20号3様式1!U137<> \"\",IF(P_20号3様式1!U137<> \"-\",TEXT(INT(P_20号3様式1!U137),\"#,##0\"),\"-\"),\"\")","v":""},{"$f":"IF(P_20号3様式1!U137<> \"\",IF(P_20号3様式1!U137<> \"-\",IF(VALUE(FIXED(P_20号3様式1!U137,0,TRUE))<>P_20号3様式1!U137,RIGHT(FIXED(P_20号3様式1!U137,3,FALSE),4),\"\"),\"\"),\"\")","v":""},{"$f":"IF(P_20号3様式1!X137<> \"\",IF(P_20号3様式1!X137<> \"-\",TEXT(INT(P_20号3様式1!X137),\"#,##0\"),\"-\"),\"\")","v":""},{"$f":"IF(P_20号3様式1!X137<> \"\",IF(P_20号3様式1!X137<> \"-\",IF(VALUE(FIXED(P_20号3様式1!X137,0,TRUE))<>P_20号3様式1!X137,RIGHT(FIXED(P_20号3様式1!X137,3,FALSE),4),\"\"),\"\"),\"\")","v":""},{"$f":"IF(P_20号3様式1!AA137<> \"\",IF(P_20号3様式1!AA137<> \"-\",TEXT(INT(P_20号3様式1!AA137),\"#,##0\"),\"-\"),\"\")","v":""},{"$f":"IF(P_20号3様式1!AA137<> \"\",IF(P_20号3様式1!AA137<> \"-\",IF(VALUE(FIXED(P_20号3様式1!AA137,0,TRUE))<>P_20号3様式1!AA137,RIGHT(FIXED(P_20号3様式1!AA137,3,FALSE),4),\"\"),\"\"),\"\")","v":""}]
[{"$f":"IF(P_20号3様式1!C138=\"\",\"\",P_20号3様式1!C138)","v":"和泊町"},{"$f":"IF(P_20号3様式1!AE138<> \"\",TEXT(INT(P_20号3様式1!AE138),\"#,##0\"),\"\")","v":"0"},{"$f":"IF(P_20号3様式1!AE138= \"\",\"\",IF(VALUE(FIXED(P_20号3様式1!AE138,0,TRUE))<>P_20号3様式1!AE138,RIGHT(FIXED(P_20号3様式1!AE138,3,FALSE),4),\"\"))","v":".000"},{"$f":"IF(P_20号3様式1!F138<> \"\",IF(P_20号3様式1!F138<> \"-\",TEXT(INT(P_20号3様式1!F138),\"#,##0\"),\"-\"),\"\")","v":"0"},{"$f":"IF(P_20号3様式1!F138<> \"\",IF(P_20号3様式1!F138<> \"-\",IF(VALUE(FIXED(P_20号3様式1!F138,0,TRUE))<>P_20号3様式1!F138,RIGHT(FIXED(P_20号3様式1!F138,3,FALSE),4),\"\"),\"\"),\"\")","v":".000"},{"$f":"IF(P_20号3様式1!I138<> \"\",IF(P_20号3様式1!I138<> \"-\",TEXT(INT(P_20号3様式1!I138),\"#,##0\"),\"-\"),\"\")","v":"0"},{"$f":"IF(P_20号3様式1!I138<> \"\",IF(P_20号3様式1!I138<> \"-\",IF(VALUE(FIXED(P_20号3様式1!I138,0,TRUE))<>P_20号3様式1!I138,RIGHT(FIXED(P_20号3様式1!I138,3,FALSE),4),\"\"),\"\"),\"\")","v":".000"},{"$f":"IF(P_20号3様式1!L138<> \"\",IF(P_20号3様式1!L138<> \"-\",TEXT(INT(P_20号3様式1!L138),\"#,##0\"),\"-\"),\"\")","v":""},{"$f":"IF(P_20号3様式1!L138<> \"\",IF(P_20号3様式1!L138<> \"-\",IF(VALUE(FIXED(P_20号3様式1!L138,0,TRUE))<>P_20号3様式1!L138,RIGHT(FIXED(P_20号3様式1!L138,3,FALSE),4),\"\"),\"\"),\"\")","v":""},{"$f":"IF(P_20号3様式1!O138<> \"\",IF(P_20号3様式1!O138<> \"-\",TEXT(INT(P_20号3様式1!O138),\"#,##0\"),\"-\"),\"\")","v":""},{"$f":"IF(P_20号3様式1!O138<> \"\",IF(P_20号3様式1!O138<> \"-\",IF(VALUE(FIXED(P_20号3様式1!O138,0,TRUE))<>P_20号3様式1!O138,RIGHT(FIXED(P_20号3様式1!O138,3,FALSE),4),\"\"),\"\"),\"\")","v":""},{"$f":"IF(P_20号3様式1!R138<> \"\",IF(P_20号3様式1!R138<> \"-\",TEXT(INT(P_20号3様式1!R138),\"#,##0\"),\"-\"),\"\")","v":""},{"$f":"IF(P_20号3様式1!R138<> \"\",IF(P_20号3様式1!R138<> \"-\",IF(VALUE(FIXED(P_20号3様式1!R138,0,TRUE))<>P_20号3様式1!R138,RIGHT(FIXED(P_20号3様式1!R138,3,FALSE),4),\"\"),\"\"),\"\")","v":""},{"$f":"IF(P_20号3様式1!U138<> \"\",IF(P_20号3様式1!U138<> \"-\",TEXT(INT(P_20号3様式1!U138),\"#,##0\"),\"-\"),\"\")","v":""},{"$f":"IF(P_20号3様式1!U138<> \"\",IF(P_20号3様式1!U138<> \"-\",IF(VALUE(FIXED(P_20号3様式1!U138,0,TRUE))<>P_20号3様式1!U138,RIGHT(FIXED(P_20号3様式1!U138,3,FALSE),4),\"\"),\"\"),\"\")","v":""},{"$f":"IF(P_20号3様式1!X138<> \"\",IF(P_20号3様式1!X138<> \"-\",TEXT(INT(P_20号3様式1!X138),\"#,##0\"),\"-\"),\"\")","v":""},{"$f":"IF(P_20号3様式1!X138<> \"\",IF(P_20号3様式1!X138<> \"-\",IF(VALUE(FIXED(P_20号3様式1!X138,0,TRUE))<>P_20号3様式1!X138,RIGHT(FIXED(P_20号3様式1!X138,3,FALSE),4),\"\"),\"\"),\"\")","v":""},{"$f":"IF(P_20号3様式1!AA138<> \"\",IF(P_20号3様式1!AA138<> \"-\",TEXT(INT(P_20号3様式1!AA138),\"#,##0\"),\"-\"),\"\")","v":""},{"$f":"IF(P_20号3様式1!AA138<> \"\",IF(P_20号3様式1!AA138<> \"-\",IF(VALUE(FIXED(P_20号3様式1!AA138,0,TRUE))<>P_20号3様式1!AA138,RIGHT(FIXED(P_20号3様式1!AA138,3,FALSE),4),\"\"),\"\"),\"\")","v":""}]
[{"$f":"IF(P_20号3様式1!C139=\"\",\"\",P_20号3様式1!C139)","v":"知名町"},{"$f":"IF(P_20号3様式1!AE139<> \"\",TEXT(INT(P_20号3様式1!AE139),\"#,##0\"),\"\")","v":"5"},{"$f":"IF(P_20号3様式1!AE139= \"\",\"\",IF(VALUE(FIXED(P_20号3様式1!AE139,0,TRUE))<>P_20号3様式1!AE139,RIGHT(FIXED(P_20号3様式1!AE139,3,FALSE),4),\"\"))","v":".000"},{"$f":"IF(P_20号3様式1!F139<> \"\",IF(P_20号3様式1!F139<> \"-\",TEXT(INT(P_20号3様式1!F139),\"#,##0\"),\"-\"),\"\")","v":"4"},{"$f":"IF(P_20号3様式1!F139<> \"\",IF(P_20号3様式1!F139<> \"-\",IF(VALUE(FIXED(P_20号3様式1!F139,0,TRUE))<>P_20号3様式1!F139,RIGHT(FIXED(P_20号3様式1!F139,3,FALSE),4),\"\"),\"\"),\"\")","v":".000"},{"$f":"IF(P_20号3様式1!I139<> \"\",IF(P_20号3様式1!I139<> \"-\",TEXT(INT(P_20号3様式1!I139),\"#,##0\"),\"-\"),\"\")","v":"1"},{"$f":"IF(P_20号3様式1!I139<> \"\",IF(P_20号3様式1!I139<> \"-\",IF(VALUE(FIXED(P_20号3様式1!I139,0,TRUE))<>P_20号3様式1!I139,RIGHT(FIXED(P_20号3様式1!I139,3,FALSE),4),\"\"),\"\"),\"\")","v":".000"},{"$f":"IF(P_20号3様式1!L139<> \"\",IF(P_20号3様式1!L139<> \"-\",TEXT(INT(P_20号3様式1!L139),\"#,##0\"),\"-\"),\"\")","v":""},{"$f":"IF(P_20号3様式1!L139<> \"\",IF(P_20号3様式1!L139<> \"-\",IF(VALUE(FIXED(P_20号3様式1!L139,0,TRUE))<>P_20号3様式1!L139,RIGHT(FIXED(P_20号3様式1!L139,3,FALSE),4),\"\"),\"\"),\"\")","v":""},{"$f":"IF(P_20号3様式1!O139<> \"\",IF(P_20号3様式1!O139<> \"-\",TEXT(INT(P_20号3様式1!O139),\"#,##0\"),\"-\"),\"\")","v":""},{"$f":"IF(P_20号3様式1!O139<> \"\",IF(P_20号3様式1!O139<> \"-\",IF(VALUE(FIXED(P_20号3様式1!O139,0,TRUE))<>P_20号3様式1!O139,RIGHT(FIXED(P_20号3様式1!O139,3,FALSE),4),\"\"),\"\"),\"\")","v":""},{"$f":"IF(P_20号3様式1!R139<> \"\",IF(P_20号3様式1!R139<> \"-\",TEXT(INT(P_20号3様式1!R139),\"#,##0\"),\"-\"),\"\")","v":""},{"$f":"IF(P_20号3様式1!R139<> \"\",IF(P_20号3様式1!R139<> \"-\",IF(VALUE(FIXED(P_20号3様式1!R139,0,TRUE))<>P_20号3様式1!R139,RIGHT(FIXED(P_20号3様式1!R139,3,FALSE),4),\"\"),\"\"),\"\")","v":""},{"$f":"IF(P_20号3様式1!U139<> \"\",IF(P_20号3様式1!U139<> \"-\",TEXT(INT(P_20号3様式1!U139),\"#,##0\"),\"-\"),\"\")","v":""},{"$f":"IF(P_20号3様式1!U139<> \"\",IF(P_20号3様式1!U139<> \"-\",IF(VALUE(FIXED(P_20号3様式1!U139,0,TRUE))<>P_20号3様式1!U139,RIGHT(FIXED(P_20号3様式1!U139,3,FALSE),4),\"\"),\"\"),\"\")","v":""},{"$f":"IF(P_20号3様式1!X139<> \"\",IF(P_20号3様式1!X139<> \"-\",TEXT(INT(P_20号3様式1!X139),\"#,##0\"),\"-\"),\"\")","v":""},{"$f":"IF(P_20号3様式1!X139<> \"\",IF(P_20号3様式1!X139<> \"-\",IF(VALUE(FIXED(P_20号3様式1!X139,0,TRUE))<>P_20号3様式1!X139,RIGHT(FIXED(P_20号3様式1!X139,3,FALSE),4),\"\"),\"\"),\"\")","v":""},{"$f":"IF(P_20号3様式1!AA139<> \"\",IF(P_20号3様式1!AA139<> \"-\",TEXT(INT(P_20号3様式1!AA139),\"#,##0\"),\"-\"),\"\")","v":""},{"$f":"IF(P_20号3様式1!AA139<> \"\",IF(P_20号3様式1!AA139<> \"-\",IF(VALUE(FIXED(P_20号3様式1!AA139,0,TRUE))<>P_20号3様式1!AA139,RIGHT(FIXED(P_20号3様式1!AA139,3,FALSE),4),\"\"),\"\"),\"\")","v":""}]
[{"$f":"IF(P_20号3様式1!C140=\"\",\"\",P_20号3様式1!C140)","v":"与論町"},{"$f":"IF(P_20号3様式1!AE140<> \"\",TEXT(INT(P_20号3様式1!AE140),\"#,##0\"),\"\")","v":"0"},{"$f":"IF(P_20号3様式1!AE140= \"\",\"\",IF(VALUE(FIXED(P_20号3様式1!AE140,0,TRUE))<>P_20号3様式1!AE140,RIGHT(FIXED(P_20号3様式1!AE140,3,FALSE),4),\"\"))","v":".000"},{"$f":"IF(P_20号3様式1!F140<> \"\",IF(P_20号3様式1!F140<> \"-\",TEXT(INT(P_20号3様式1!F140),\"#,##0\"),\"-\"),\"\")","v":"0"},{"$f":"IF(P_20号3様式1!F140<> \"\",IF(P_20号3様式1!F140<> \"-\",IF(VALUE(FIXED(P_20号3様式1!F140,0,TRUE))<>P_20号3様式1!F140,RIGHT(FIXED(P_20号3様式1!F140,3,FALSE),4),\"\"),\"\"),\"\")","v":".000"},{"$f":"IF(P_20号3様式1!I140<> \"\",IF(P_20号3様式1!I140<> \"-\",TEXT(INT(P_20号3様式1!I140),\"#,##0\"),\"-\"),\"\")","v":"0"},{"$f":"IF(P_20号3様式1!I140<> \"\",IF(P_20号3様式1!I140<> \"-\",IF(VALUE(FIXED(P_20号3様式1!I140,0,TRUE))<>P_20号3様式1!I140,RIGHT(FIXED(P_20号3様式1!I140,3,FALSE),4),\"\"),\"\"),\"\")","v":".000"},{"$f":"IF(P_20号3様式1!L140<> \"\",IF(P_20号3様式1!L140<> \"-\",TEXT(INT(P_20号3様式1!L140),\"#,##0\"),\"-\"),\"\")","v":""},{"$f":"IF(P_20号3様式1!L140<> \"\",IF(P_20号3様式1!L140<> \"-\",IF(VALUE(FIXED(P_20号3様式1!L140,0,TRUE))<>P_20号3様式1!L140,RIGHT(FIXED(P_20号3様式1!L140,3,FALSE),4),\"\"),\"\"),\"\")","v":""},{"$f":"IF(P_20号3様式1!O140<> \"\",IF(P_20号3様式1!O140<> \"-\",TEXT(INT(P_20号3様式1!O140),\"#,##0\"),\"-\"),\"\")","v":""},{"$f":"IF(P_20号3様式1!O140<> \"\",IF(P_20号3様式1!O140<> \"-\",IF(VALUE(FIXED(P_20号3様式1!O140,0,TRUE))<>P_20号3様式1!O140,RIGHT(FIXED(P_20号3様式1!O140,3,FALSE),4),\"\"),\"\"),\"\")","v":""},{"$f":"IF(P_20号3様式1!R140<> \"\",IF(P_20号3様式1!R140<> \"-\",TEXT(INT(P_20号3様式1!R140),\"#,##0\"),\"-\"),\"\")","v":""},{"$f":"IF(P_20号3様式1!R140<> \"\",IF(P_20号3様式1!R140<> \"-\",IF(VALUE(FIXED(P_20号3様式1!R140,0,TRUE))<>P_20号3様式1!R140,RIGHT(FIXED(P_20号3様式1!R140,3,FALSE),4),\"\"),\"\"),\"\")","v":""},{"$f":"IF(P_20号3様式1!U140<> \"\",IF(P_20号3様式1!U140<> \"-\",TEXT(INT(P_20号3様式1!U140),\"#,##0\"),\"-\"),\"\")","v":""},{"$f":"IF(P_20号3様式1!U140<> \"\",IF(P_20号3様式1!U140<> \"-\",IF(VALUE(FIXED(P_20号3様式1!U140,0,TRUE))<>P_20号3様式1!U140,RIGHT(FIXED(P_20号3様式1!U140,3,FALSE),4),\"\"),\"\"),\"\")","v":""},{"$f":"IF(P_20号3様式1!X140<> \"\",IF(P_20号3様式1!X140<> \"-\",TEXT(INT(P_20号3様式1!X140),\"#,##0\"),\"-\"),\"\")","v":""},{"$f":"IF(P_20号3様式1!X140<> \"\",IF(P_20号3様式1!X140<> \"-\",IF(VALUE(FIXED(P_20号3様式1!X140,0,TRUE))<>P_20号3様式1!X140,RIGHT(FIXED(P_20号3様式1!X140,3,FALSE),4),\"\"),\"\"),\"\")","v":""},{"$f":"IF(P_20号3様式1!AA140<> \"\",IF(P_20号3様式1!AA140<> \"-\",TEXT(INT(P_20号3様式1!AA140),\"#,##0\"),\"-\"),\"\")","v":""},{"$f":"IF(P_20号3様式1!AA140<> \"\",IF(P_20号3様式1!AA140<> \"-\",IF(VALUE(FIXED(P_20号3様式1!AA140,0,TRUE))<>P_20号3様式1!AA140,RIGHT(FIXED(P_20号3様式1!AA140,3,FALSE),4),\"\"),\"\"),\"\")","v":""}]
[{"$f":"IF(P_20号3様式1!C141=\"\",\"\",P_20号3様式1!C141)","v":"＊（大島郡）計"},{"$f":"IF(P_20号3様式1!AE141<> \"\",TEXT(INT(P_20号3様式1!AE141),\"#,##0\"),\"\")","v":"13"},{"$f":"IF(P_20号3様式1!AE141= \"\",\"\",IF(VALUE(FIXED(P_20号3様式1!AE141,0,TRUE))<>P_20号3様式1!AE141,RIGHT(FIXED(P_20号3様式1!AE141,3,FALSE),4),\"\"))","v":".000"},{"$f":"IF(P_20号3様式1!F141<> \"\",IF(P_20号3様式1!F141<> \"-\",TEXT(INT(P_20号3様式1!F141),\"#,##0\"),\"-\"),\"\")","v":"10"},{"$f":"IF(P_20号3様式1!F141<> \"\",IF(P_20号3様式1!F141<> \"-\",IF(VALUE(FIXED(P_20号3様式1!F141,0,TRUE))<>P_20号3様式1!F141,RIGHT(FIXED(P_20号3様式1!F141,3,FALSE),4),\"\"),\"\"),\"\")","v":".000"},{"$f":"IF(P_20号3様式1!I141<> \"\",IF(P_20号3様式1!I141<> \"-\",TEXT(INT(P_20号3様式1!I141),\"#,##0\"),\"-\"),\"\")","v":"3"},{"$f":"IF(P_20号3様式1!I141<> \"\",IF(P_20号3様式1!I141<> \"-\",IF(VALUE(FIXED(P_20号3様式1!I141,0,TRUE))<>P_20号3様式1!I141,RIGHT(FIXED(P_20号3様式1!I141,3,FALSE),4),\"\"),\"\"),\"\")","v":".000"},{"$f":"IF(P_20号3様式1!L141<> \"\",IF(P_20号3様式1!L141<> \"-\",TEXT(INT(P_20号3様式1!L141),\"#,##0\"),\"-\"),\"\")","v":""},{"$f":"IF(P_20号3様式1!L141<> \"\",IF(P_20号3様式1!L141<> \"-\",IF(VALUE(FIXED(P_20号3様式1!L141,0,TRUE))<>P_20号3様式1!L141,RIGHT(FIXED(P_20号3様式1!L141,3,FALSE),4),\"\"),\"\"),\"\")","v":""},{"$f":"IF(P_20号3様式1!O141<> \"\",IF(P_20号3様式1!O141<> \"-\",TEXT(INT(P_20号3様式1!O141),\"#,##0\"),\"-\"),\"\")","v":""},{"$f":"IF(P_20号3様式1!O141<> \"\",IF(P_20号3様式1!O141<> \"-\",IF(VALUE(FIXED(P_20号3様式1!O141,0,TRUE))<>P_20号3様式1!O141,RIGHT(FIXED(P_20号3様式1!O141,3,FALSE),4),\"\"),\"\"),\"\")","v":""},{"$f":"IF(P_20号3様式1!R141<> \"\",IF(P_20号3様式1!R141<> \"-\",TEXT(INT(P_20号3様式1!R141),\"#,##0\"),\"-\"),\"\")","v":""},{"$f":"IF(P_20号3様式1!R141<> \"\",IF(P_20号3様式1!R141<> \"-\",IF(VALUE(FIXED(P_20号3様式1!R141,0,TRUE))<>P_20号3様式1!R141,RIGHT(FIXED(P_20号3様式1!R141,3,FALSE),4),\"\"),\"\"),\"\")","v":""},{"$f":"IF(P_20号3様式1!U141<> \"\",IF(P_20号3様式1!U141<> \"-\",TEXT(INT(P_20号3様式1!U141),\"#,##0\"),\"-\"),\"\")","v":""},{"$f":"IF(P_20号3様式1!U141<> \"\",IF(P_20号3様式1!U141<> \"-\",IF(VALUE(FIXED(P_20号3様式1!U141,0,TRUE))<>P_20号3様式1!U141,RIGHT(FIXED(P_20号3様式1!U141,3,FALSE),4),\"\"),\"\"),\"\")","v":""},{"$f":"IF(P_20号3様式1!X141<> \"\",IF(P_20号3様式1!X141<> \"-\",TEXT(INT(P_20号3様式1!X141),\"#,##0\"),\"-\"),\"\")","v":""},{"$f":"IF(P_20号3様式1!X141<> \"\",IF(P_20号3様式1!X141<> \"-\",IF(VALUE(FIXED(P_20号3様式1!X141,0,TRUE))<>P_20号3様式1!X141,RIGHT(FIXED(P_20号3様式1!X141,3,FALSE),4),\"\"),\"\"),\"\")","v":""},{"$f":"IF(P_20号3様式1!AA141<> \"\",IF(P_20号3様式1!AA141<> \"-\",TEXT(INT(P_20号3様式1!AA141),\"#,##0\"),\"-\"),\"\")","v":""},{"$f":"IF(P_20号3様式1!AA141<> \"\",IF(P_20号3様式1!AA141<> \"-\",IF(VALUE(FIXED(P_20号3様式1!AA141,0,TRUE))<>P_20号3様式1!AA141,RIGHT(FIXED(P_20号3様式1!AA141,3,FALSE),4),\"\"),\"\"),\"\")","v":""}]
[{"$f":"IF(P_20号3様式1!C142=\"\",\"\",P_20号3様式1!C142)","v":""},{"$f":"IF(P_20号3様式1!AE142<> \"\",TEXT(INT(P_20号3様式1!AE142),\"#,##0\"),\"\")","v":""},{"$f":"IF(P_20号3様式1!AE142= \"\",\"\",IF(VALUE(FIXED(P_20号3様式1!AE142,0,TRUE))<>P_20号3様式1!AE142,RIGHT(FIXED(P_20号3様式1!AE142,3,FALSE),4),\"\"))","v":""},{"$f":"IF(P_20号3様式1!F142<> \"\",IF(P_20号3様式1!F142<> \"-\",TEXT(INT(P_20号3様式1!F142),\"#,##0\"),\"-\"),\"\")","v":""},{"$f":"IF(P_20号3様式1!F142<> \"\",IF(P_20号3様式1!F142<> \"-\",IF(VALUE(FIXED(P_20号3様式1!F142,0,TRUE))<>P_20号3様式1!F142,RIGHT(FIXED(P_20号3様式1!F142,3,FALSE),4),\"\"),\"\"),\"\")","v":""},{"$f":"IF(P_20号3様式1!I142<> \"\",IF(P_20号3様式1!I142<> \"-\",TEXT(INT(P_20号3様式1!I142),\"#,##0\"),\"-\"),\"\")","v":""},{"$f":"IF(P_20号3様式1!I142<> \"\",IF(P_20号3様式1!I142<> \"-\",IF(VALUE(FIXED(P_20号3様式1!I142,0,TRUE))<>P_20号3様式1!I142,RIGHT(FIXED(P_20号3様式1!I142,3,FALSE),4),\"\"),\"\"),\"\")","v":""},{"$f":"IF(P_20号3様式1!L142<> \"\",IF(P_20号3様式1!L142<> \"-\",TEXT(INT(P_20号3様式1!L142),\"#,##0\"),\"-\"),\"\")","v":""},{"$f":"IF(P_20号3様式1!L142<> \"\",IF(P_20号3様式1!L142<> \"-\",IF(VALUE(FIXED(P_20号3様式1!L142,0,TRUE))<>P_20号3様式1!L142,RIGHT(FIXED(P_20号3様式1!L142,3,FALSE),4),\"\"),\"\"),\"\")","v":""},{"$f":"IF(P_20号3様式1!O142<> \"\",IF(P_20号3様式1!O142<> \"-\",TEXT(INT(P_20号3様式1!O142),\"#,##0\"),\"-\"),\"\")","v":""},{"$f":"IF(P_20号3様式1!O142<> \"\",IF(P_20号3様式1!O142<> \"-\",IF(VALUE(FIXED(P_20号3様式1!O142,0,TRUE))<>P_20号3様式1!O142,RIGHT(FIXED(P_20号3様式1!O142,3,FALSE),4),\"\"),\"\"),\"\")","v":""},{"$f":"IF(P_20号3様式1!R142<> \"\",IF(P_20号3様式1!R142<> \"-\",TEXT(INT(P_20号3様式1!R142),\"#,##0\"),\"-\"),\"\")","v":""},{"$f":"IF(P_20号3様式1!R142<> \"\",IF(P_20号3様式1!R142<> \"-\",IF(VALUE(FIXED(P_20号3様式1!R142,0,TRUE))<>P_20号3様式1!R142,RIGHT(FIXED(P_20号3様式1!R142,3,FALSE),4),\"\"),\"\"),\"\")","v":""},{"$f":"IF(P_20号3様式1!U142<> \"\",IF(P_20号3様式1!U142<> \"-\",TEXT(INT(P_20号3様式1!U142),\"#,##0\"),\"-\"),\"\")","v":""},{"$f":"IF(P_20号3様式1!U142<> \"\",IF(P_20号3様式1!U142<> \"-\",IF(VALUE(FIXED(P_20号3様式1!U142,0,TRUE))<>P_20号3様式1!U142,RIGHT(FIXED(P_20号3様式1!U142,3,FALSE),4),\"\"),\"\"),\"\")","v":""},{"$f":"IF(P_20号3様式1!X142<> \"\",IF(P_20号3様式1!X142<> \"-\",TEXT(INT(P_20号3様式1!X142),\"#,##0\"),\"-\"),\"\")","v":""},{"$f":"IF(P_20号3様式1!X142<> \"\",IF(P_20号3様式1!X142<> \"-\",IF(VALUE(FIXED(P_20号3様式1!X142,0,TRUE))<>P_20号3様式1!X142,RIGHT(FIXED(P_20号3様式1!X142,3,FALSE),4),\"\"),\"\"),\"\")","v":""},{"$f":"IF(P_20号3様式1!AA142<> \"\",IF(P_20号3様式1!AA142<> \"-\",TEXT(INT(P_20号3様式1!AA142),\"#,##0\"),\"-\"),\"\")","v":""},{"$f":"IF(P_20号3様式1!AA142<> \"\",IF(P_20号3様式1!AA142<> \"-\",IF(VALUE(FIXED(P_20号3様式1!AA142,0,TRUE))<>P_20号3様式1!AA142,RIGHT(FIXED(P_20号3様式1!AA142,3,FALSE),4),\"\"),\"\"),\"\")","v":""}]
[{"$f":"IF(P_20号3様式1!C143=\"\",\"\",P_20号3様式1!C143)","v":""},{"$f":"IF(P_20号3様式1!AE143<> \"\",TEXT(INT(P_20号3様式1!AE143),\"#,##0\"),\"\")","v":""},{"$f":"IF(P_20号3様式1!AE143= \"\",\"\",IF(VALUE(FIXED(P_20号3様式1!AE143,0,TRUE))<>P_20号3様式1!AE143,RIGHT(FIXED(P_20号3様式1!AE143,3,FALSE),4),\"\"))","v":""},{"$f":"IF(P_20号3様式1!F143<> \"\",IF(P_20号3様式1!F143<> \"-\",TEXT(INT(P_20号3様式1!F143),\"#,##0\"),\"-\"),\"\")","v":""},{"$f":"IF(P_20号3様式1!F143<> \"\",IF(P_20号3様式1!F143<> \"-\",IF(VALUE(FIXED(P_20号3様式1!F143,0,TRUE))<>P_20号3様式1!F143,RIGHT(FIXED(P_20号3様式1!F143,3,FALSE),4),\"\"),\"\"),\"\")","v":""},{"$f":"IF(P_20号3様式1!I143<> \"\",IF(P_20号3様式1!I143<> \"-\",TEXT(INT(P_20号3様式1!I143),\"#,##0\"),\"-\"),\"\")","v":""},{"$f":"IF(P_20号3様式1!I143<> \"\",IF(P_20号3様式1!I143<> \"-\",IF(VALUE(FIXED(P_20号3様式1!I143,0,TRUE))<>P_20号3様式1!I143,RIGHT(FIXED(P_20号3様式1!I143,3,FALSE),4),\"\"),\"\"),\"\")","v":""},{"$f":"IF(P_20号3様式1!L143<> \"\",IF(P_20号3様式1!L143<> \"-\",TEXT(INT(P_20号3様式1!L143),\"#,##0\"),\"-\"),\"\")","v":""},{"$f":"IF(P_20号3様式1!L143<> \"\",IF(P_20号3様式1!L143<> \"-\",IF(VALUE(FIXED(P_20号3様式1!L143,0,TRUE))<>P_20号3様式1!L143,RIGHT(FIXED(P_20号3様式1!L143,3,FALSE),4),\"\"),\"\"),\"\")","v":""},{"$f":"IF(P_20号3様式1!O143<> \"\",IF(P_20号3様式1!O143<> \"-\",TEXT(INT(P_20号3様式1!O143),\"#,##0\"),\"-\"),\"\")","v":""},{"$f":"IF(P_20号3様式1!O143<> \"\",IF(P_20号3様式1!O143<> \"-\",IF(VALUE(FIXED(P_20号3様式1!O143,0,TRUE))<>P_20号3様式1!O143,RIGHT(FIXED(P_20号3様式1!O143,3,FALSE),4),\"\"),\"\"),\"\")","v":""},{"$f":"IF(P_20号3様式1!R143<> \"\",IF(P_20号3様式1!R143<> \"-\",TEXT(INT(P_20号3様式1!R143),\"#,##0\"),\"-\"),\"\")","v":""},{"$f":"IF(P_20号3様式1!R143<> \"\",IF(P_20号3様式1!R143<> \"-\",IF(VALUE(FIXED(P_20号3様式1!R143,0,TRUE))<>P_20号3様式1!R143,RIGHT(FIXED(P_20号3様式1!R143,3,FALSE),4),\"\"),\"\"),\"\")","v":""},{"$f":"IF(P_20号3様式1!U143<> \"\",IF(P_20号3様式1!U143<> \"-\",TEXT(INT(P_20号3様式1!U143),\"#,##0\"),\"-\"),\"\")","v":""},{"$f":"IF(P_20号3様式1!U143<> \"\",IF(P_20号3様式1!U143<> \"-\",IF(VALUE(FIXED(P_20号3様式1!U143,0,TRUE))<>P_20号3様式1!U143,RIGHT(FIXED(P_20号3様式1!U143,3,FALSE),4),\"\"),\"\"),\"\")","v":""},{"$f":"IF(P_20号3様式1!X143<> \"\",IF(P_20号3様式1!X143<> \"-\",TEXT(INT(P_20号3様式1!X143),\"#,##0\"),\"-\"),\"\")","v":""},{"$f":"IF(P_20号3様式1!X143<> \"\",IF(P_20号3様式1!X143<> \"-\",IF(VALUE(FIXED(P_20号3様式1!X143,0,TRUE))<>P_20号3様式1!X143,RIGHT(FIXED(P_20号3様式1!X143,3,FALSE),4),\"\"),\"\"),\"\")","v":""},{"$f":"IF(P_20号3様式1!AA143<> \"\",IF(P_20号3様式1!AA143<> \"-\",TEXT(INT(P_20号3様式1!AA143),\"#,##0\"),\"-\"),\"\")","v":""},{"$f":"IF(P_20号3様式1!AA143<> \"\",IF(P_20号3様式1!AA143<> \"-\",IF(VALUE(FIXED(P_20号3様式1!AA143,0,TRUE))<>P_20号3様式1!AA143,RIGHT(FIXED(P_20号3様式1!AA143,3,FALSE),4),\"\"),\"\"),\"\")","v":""}]
[{"$f":"IF(P_20号3様式1!C144=\"\",\"\",P_20号3様式1!C144)","v":""},{"$f":"IF(P_20号3様式1!AE144<> \"\",TEXT(INT(P_20号3様式1!AE144),\"#,##0\"),\"\")","v":""},{"$f":"IF(P_20号3様式1!AE144= \"\",\"\",IF(VALUE(FIXED(P_20号3様式1!AE144,0,TRUE))<>P_20号3様式1!AE144,RIGHT(FIXED(P_20号3様式1!AE144,3,FALSE),4),\"\"))","v":""},{"$f":"IF(P_20号3様式1!F144<> \"\",IF(P_20号3様式1!F144<> \"-\",TEXT(INT(P_20号3様式1!F144),\"#,##0\"),\"-\"),\"\")","v":""},{"$f":"IF(P_20号3様式1!F144<> \"\",IF(P_20号3様式1!F144<> \"-\",IF(VALUE(FIXED(P_20号3様式1!F144,0,TRUE))<>P_20号3様式1!F144,RIGHT(FIXED(P_20号3様式1!F144,3,FALSE),4),\"\"),\"\"),\"\")","v":""},{"$f":"IF(P_20号3様式1!I144<> \"\",IF(P_20号3様式1!I144<> \"-\",TEXT(INT(P_20号3様式1!I144),\"#,##0\"),\"-\"),\"\")","v":""},{"$f":"IF(P_20号3様式1!I144<> \"\",IF(P_20号3様式1!I144<> \"-\",IF(VALUE(FIXED(P_20号3様式1!I144,0,TRUE))<>P_20号3様式1!I144,RIGHT(FIXED(P_20号3様式1!I144,3,FALSE),4),\"\"),\"\"),\"\")","v":""},{"$f":"IF(P_20号3様式1!L144<> \"\",IF(P_20号3様式1!L144<> \"-\",TEXT(INT(P_20号3様式1!L144),\"#,##0\"),\"-\"),\"\")","v":""},{"$f":"IF(P_20号3様式1!L144<> \"\",IF(P_20号3様式1!L144<> \"-\",IF(VALUE(FIXED(P_20号3様式1!L144,0,TRUE))<>P_20号3様式1!L144,RIGHT(FIXED(P_20号3様式1!L144,3,FALSE),4),\"\"),\"\"),\"\")","v":""},{"$f":"IF(P_20号3様式1!O144<> \"\",IF(P_20号3様式1!O144<> \"-\",TEXT(INT(P_20号3様式1!O144),\"#,##0\"),\"-\"),\"\")","v":""},{"$f":"IF(P_20号3様式1!O144<> \"\",IF(P_20号3様式1!O144<> \"-\",IF(VALUE(FIXED(P_20号3様式1!O144,0,TRUE))<>P_20号3様式1!O144,RIGHT(FIXED(P_20号3様式1!O144,3,FALSE),4),\"\"),\"\"),\"\")","v":""},{"$f":"IF(P_20号3様式1!R144<> \"\",IF(P_20号3様式1!R144<> \"-\",TEXT(INT(P_20号3様式1!R144),\"#,##0\"),\"-\"),\"\")","v":""},{"$f":"IF(P_20号3様式1!R144<> \"\",IF(P_20号3様式1!R144<> \"-\",IF(VALUE(FIXED(P_20号3様式1!R144,0,TRUE))<>P_20号3様式1!R144,RIGHT(FIXED(P_20号3様式1!R144,3,FALSE),4),\"\"),\"\"),\"\")","v":""},{"$f":"IF(P_20号3様式1!U144<> \"\",IF(P_20号3様式1!U144<> \"-\",TEXT(INT(P_20号3様式1!U144),\"#,##0\"),\"-\"),\"\")","v":""},{"$f":"IF(P_20号3様式1!U144<> \"\",IF(P_20号3様式1!U144<> \"-\",IF(VALUE(FIXED(P_20号3様式1!U144,0,TRUE))<>P_20号3様式1!U144,RIGHT(FIXED(P_20号3様式1!U144,3,FALSE),4),\"\"),\"\"),\"\")","v":""},{"$f":"IF(P_20号3様式1!X144<> \"\",IF(P_20号3様式1!X144<> \"-\",TEXT(INT(P_20号3様式1!X144),\"#,##0\"),\"-\"),\"\")","v":""},{"$f":"IF(P_20号3様式1!X144<> \"\",IF(P_20号3様式1!X144<> \"-\",IF(VALUE(FIXED(P_20号3様式1!X144,0,TRUE))<>P_20号3様式1!X144,RIGHT(FIXED(P_20号3様式1!X144,3,FALSE),4),\"\"),\"\"),\"\")","v":""},{"$f":"IF(P_20号3様式1!AA144<> \"\",IF(P_20号3様式1!AA144<> \"-\",TEXT(INT(P_20号3様式1!AA144),\"#,##0\"),\"-\"),\"\")","v":""},{"$f":"IF(P_20号3様式1!AA144<> \"\",IF(P_20号3様式1!AA144<> \"-\",IF(VALUE(FIXED(P_20号3様式1!AA144,0,TRUE))<>P_20号3様式1!AA144,RIGHT(FIXED(P_20号3様式1!AA144,3,FALSE),4),\"\"),\"\"),\"\")","v":""}]
[{"$f":"IF(P_20号3様式1!C145=\"\",\"\",P_20号3様式1!C145)","v":""},{"$f":"IF(P_20号3様式1!AE145<> \"\",TEXT(INT(P_20号3様式1!AE145),\"#,##0\"),\"\")","v":""},{"$f":"IF(P_20号3様式1!AE145= \"\",\"\",IF(VALUE(FIXED(P_20号3様式1!AE145,0,TRUE))<>P_20号3様式1!AE145,RIGHT(FIXED(P_20号3様式1!AE145,3,FALSE),4),\"\"))","v":""},{"$f":"IF(P_20号3様式1!F145<> \"\",IF(P_20号3様式1!F145<> \"-\",TEXT(INT(P_20号3様式1!F145),\"#,##0\"),\"-\"),\"\")","v":""},{"$f":"IF(P_20号3様式1!F145<> \"\",IF(P_20号3様式1!F145<> \"-\",IF(VALUE(FIXED(P_20号3様式1!F145,0,TRUE))<>P_20号3様式1!F145,RIGHT(FIXED(P_20号3様式1!F145,3,FALSE),4),\"\"),\"\"),\"\")","v":""},{"$f":"IF(P_20号3様式1!I145<> \"\",IF(P_20号3様式1!I145<> \"-\",TEXT(INT(P_20号3様式1!I145),\"#,##0\"),\"-\"),\"\")","v":""},{"$f":"IF(P_20号3様式1!I145<> \"\",IF(P_20号3様式1!I145<> \"-\",IF(VALUE(FIXED(P_20号3様式1!I145,0,TRUE))<>P_20号3様式1!I145,RIGHT(FIXED(P_20号3様式1!I145,3,FALSE),4),\"\"),\"\"),\"\")","v":""},{"$f":"IF(P_20号3様式1!L145<> \"\",IF(P_20号3様式1!L145<> \"-\",TEXT(INT(P_20号3様式1!L145),\"#,##0\"),\"-\"),\"\")","v":""},{"$f":"IF(P_20号3様式1!L145<> \"\",IF(P_20号3様式1!L145<> \"-\",IF(VALUE(FIXED(P_20号3様式1!L145,0,TRUE))<>P_20号3様式1!L145,RIGHT(FIXED(P_20号3様式1!L145,3,FALSE),4),\"\"),\"\"),\"\")","v":""},{"$f":"IF(P_20号3様式1!O145<> \"\",IF(P_20号3様式1!O145<> \"-\",TEXT(INT(P_20号3様式1!O145),\"#,##0\"),\"-\"),\"\")","v":""},{"$f":"IF(P_20号3様式1!O145<> \"\",IF(P_20号3様式1!O145<> \"-\",IF(VALUE(FIXED(P_20号3様式1!O145,0,TRUE))<>P_20号3様式1!O145,RIGHT(FIXED(P_20号3様式1!O145,3,FALSE),4),\"\"),\"\"),\"\")","v":""},{"$f":"IF(P_20号3様式1!R145<> \"\",IF(P_20号3様式1!R145<> \"-\",TEXT(INT(P_20号3様式1!R145),\"#,##0\"),\"-\"),\"\")","v":""},{"$f":"IF(P_20号3様式1!R145<> \"\",IF(P_20号3様式1!R145<> \"-\",IF(VALUE(FIXED(P_20号3様式1!R145,0,TRUE))<>P_20号3様式1!R145,RIGHT(FIXED(P_20号3様式1!R145,3,FALSE),4),\"\"),\"\"),\"\")","v":""},{"$f":"IF(P_20号3様式1!U145<> \"\",IF(P_20号3様式1!U145<> \"-\",TEXT(INT(P_20号3様式1!U145),\"#,##0\"),\"-\"),\"\")","v":""},{"$f":"IF(P_20号3様式1!U145<> \"\",IF(P_20号3様式1!U145<> \"-\",IF(VALUE(FIXED(P_20号3様式1!U145,0,TRUE))<>P_20号3様式1!U145,RIGHT(FIXED(P_20号3様式1!U145,3,FALSE),4),\"\"),\"\"),\"\")","v":""},{"$f":"IF(P_20号3様式1!X145<> \"\",IF(P_20号3様式1!X145<> \"-\",TEXT(INT(P_20号3様式1!X145),\"#,##0\"),\"-\"),\"\")","v":""},{"$f":"IF(P_20号3様式1!X145<> \"\",IF(P_20号3様式1!X145<> \"-\",IF(VALUE(FIXED(P_20号3様式1!X145,0,TRUE))<>P_20号3様式1!X145,RIGHT(FIXED(P_20号3様式1!X145,3,FALSE),4),\"\"),\"\"),\"\")","v":""},{"$f":"IF(P_20号3様式1!AA145<> \"\",IF(P_20号3様式1!AA145<> \"-\",TEXT(INT(P_20号3様式1!AA145),\"#,##0\"),\"-\"),\"\")","v":""},{"$f":"IF(P_20号3様式1!AA145<> \"\",IF(P_20号3様式1!AA145<> \"-\",IF(VALUE(FIXED(P_20号3様式1!AA145,0,TRUE))<>P_20号3様式1!AA145,RIGHT(FIXED(P_20号3様式1!AA145,3,FALSE),4),\"\"),\"\"),\"\")","v":""}]
[{"$f":"IF(P_20号3様式1!C146=\"\",\"\",P_20号3様式1!C146)","v":""},{"$f":"IF(P_20号3様式1!AE146<> \"\",TEXT(INT(P_20号3様式1!AE146),\"#,##0\"),\"\")","v":""},{"$f":"IF(P_20号3様式1!AE146= \"\",\"\",IF(VALUE(FIXED(P_20号3様式1!AE146,0,TRUE))<>P_20号3様式1!AE146,RIGHT(FIXED(P_20号3様式1!AE146,3,FALSE),4),\"\"))","v":""},{"$f":"IF(P_20号3様式1!F146<> \"\",IF(P_20号3様式1!F146<> \"-\",TEXT(INT(P_20号3様式1!F146),\"#,##0\"),\"-\"),\"\")","v":""},{"$f":"IF(P_20号3様式1!F146<> \"\",IF(P_20号3様式1!F146<> \"-\",IF(VALUE(FIXED(P_20号3様式1!F146,0,TRUE))<>P_20号3様式1!F146,RIGHT(FIXED(P_20号3様式1!F146,3,FALSE),4),\"\"),\"\"),\"\")","v":""},{"$f":"IF(P_20号3様式1!I146<> \"\",IF(P_20号3様式1!I146<> \"-\",TEXT(INT(P_20号3様式1!I146),\"#,##0\"),\"-\"),\"\")","v":""},{"$f":"IF(P_20号3様式1!I146<> \"\",IF(P_20号3様式1!I146<> \"-\",IF(VALUE(FIXED(P_20号3様式1!I146,0,TRUE))<>P_20号3様式1!I146,RIGHT(FIXED(P_20号3様式1!I146,3,FALSE),4),\"\"),\"\"),\"\")","v":""},{"$f":"IF(P_20号3様式1!L146<> \"\",IF(P_20号3様式1!L146<> \"-\",TEXT(INT(P_20号3様式1!L146),\"#,##0\"),\"-\"),\"\")","v":""},{"$f":"IF(P_20号3様式1!L146<> \"\",IF(P_20号3様式1!L146<> \"-\",IF(VALUE(FIXED(P_20号3様式1!L146,0,TRUE))<>P_20号3様式1!L146,RIGHT(FIXED(P_20号3様式1!L146,3,FALSE),4),\"\"),\"\"),\"\")","v":""},{"$f":"IF(P_20号3様式1!O146<> \"\",IF(P_20号3様式1!O146<> \"-\",TEXT(INT(P_20号3様式1!O146),\"#,##0\"),\"-\"),\"\")","v":""},{"$f":"IF(P_20号3様式1!O146<> \"\",IF(P_20号3様式1!O146<> \"-\",IF(VALUE(FIXED(P_20号3様式1!O146,0,TRUE))<>P_20号3様式1!O146,RIGHT(FIXED(P_20号3様式1!O146,3,FALSE),4),\"\"),\"\"),\"\")","v":""},{"$f":"IF(P_20号3様式1!R146<> \"\",IF(P_20号3様式1!R146<> \"-\",TEXT(INT(P_20号3様式1!R146),\"#,##0\"),\"-\"),\"\")","v":""},{"$f":"IF(P_20号3様式1!R146<> \"\",IF(P_20号3様式1!R146<> \"-\",IF(VALUE(FIXED(P_20号3様式1!R146,0,TRUE))<>P_20号3様式1!R146,RIGHT(FIXED(P_20号3様式1!R146,3,FALSE),4),\"\"),\"\"),\"\")","v":""},{"$f":"IF(P_20号3様式1!U146<> \"\",IF(P_20号3様式1!U146<> \"-\",TEXT(INT(P_20号3様式1!U146),\"#,##0\"),\"-\"),\"\")","v":""},{"$f":"IF(P_20号3様式1!U146<> \"\",IF(P_20号3様式1!U146<> \"-\",IF(VALUE(FIXED(P_20号3様式1!U146,0,TRUE))<>P_20号3様式1!U146,RIGHT(FIXED(P_20号3様式1!U146,3,FALSE),4),\"\"),\"\"),\"\")","v":""},{"$f":"IF(P_20号3様式1!X146<> \"\",IF(P_20号3様式1!X146<> \"-\",TEXT(INT(P_20号3様式1!X146),\"#,##0\"),\"-\"),\"\")","v":""},{"$f":"IF(P_20号3様式1!X146<> \"\",IF(P_20号3様式1!X146<> \"-\",IF(VALUE(FIXED(P_20号3様式1!X146,0,TRUE))<>P_20号3様式1!X146,RIGHT(FIXED(P_20号3様式1!X146,3,FALSE),4),\"\"),\"\"),\"\")","v":""},{"$f":"IF(P_20号3様式1!AA146<> \"\",IF(P_20号3様式1!AA146<> \"-\",TEXT(INT(P_20号3様式1!AA146),\"#,##0\"),\"-\"),\"\")","v":""},{"$f":"IF(P_20号3様式1!AA146<> \"\",IF(P_20号3様式1!AA146<> \"-\",IF(VALUE(FIXED(P_20号3様式1!AA146,0,TRUE))<>P_20号3様式1!AA146,RIGHT(FIXED(P_20号3様式1!AA146,3,FALSE),4),\"\"),\"\"),\"\")","v":""}]
[{"$f":"IF(P_20号3様式1!C147=\"\",\"\",P_20号3様式1!C147)","v":""},{"$f":"IF(P_20号3様式1!AE147<> \"\",TEXT(INT(P_20号3様式1!AE147),\"#,##0\"),\"\")","v":""},{"$f":"IF(P_20号3様式1!AE147= \"\",\"\",IF(VALUE(FIXED(P_20号3様式1!AE147,0,TRUE))<>P_20号3様式1!AE147,RIGHT(FIXED(P_20号3様式1!AE147,3,FALSE),4),\"\"))","v":""},{"$f":"IF(P_20号3様式1!F147<> \"\",IF(P_20号3様式1!F147<> \"-\",TEXT(INT(P_20号3様式1!F147),\"#,##0\"),\"-\"),\"\")","v":""},{"$f":"IF(P_20号3様式1!F147<> \"\",IF(P_20号3様式1!F147<> \"-\",IF(VALUE(FIXED(P_20号3様式1!F147,0,TRUE))<>P_20号3様式1!F147,RIGHT(FIXED(P_20号3様式1!F147,3,FALSE),4),\"\"),\"\"),\"\")","v":""},{"$f":"IF(P_20号3様式1!I147<> \"\",IF(P_20号3様式1!I147<> \"-\",TEXT(INT(P_20号3様式1!I147),\"#,##0\"),\"-\"),\"\")","v":""},{"$f":"IF(P_20号3様式1!I147<> \"\",IF(P_20号3様式1!I147<> \"-\",IF(VALUE(FIXED(P_20号3様式1!I147,0,TRUE))<>P_20号3様式1!I147,RIGHT(FIXED(P_20号3様式1!I147,3,FALSE),4),\"\"),\"\"),\"\")","v":""},{"$f":"IF(P_20号3様式1!L147<> \"\",IF(P_20号3様式1!L147<> \"-\",TEXT(INT(P_20号3様式1!L147),\"#,##0\"),\"-\"),\"\")","v":""},{"$f":"IF(P_20号3様式1!L147<> \"\",IF(P_20号3様式1!L147<> \"-\",IF(VALUE(FIXED(P_20号3様式1!L147,0,TRUE))<>P_20号3様式1!L147,RIGHT(FIXED(P_20号3様式1!L147,3,FALSE),4),\"\"),\"\"),\"\")","v":""},{"$f":"IF(P_20号3様式1!O147<> \"\",IF(P_20号3様式1!O147<> \"-\",TEXT(INT(P_20号3様式1!O147),\"#,##0\"),\"-\"),\"\")","v":""},{"$f":"IF(P_20号3様式1!O147<> \"\",IF(P_20号3様式1!O147<> \"-\",IF(VALUE(FIXED(P_20号3様式1!O147,0,TRUE))<>P_20号3様式1!O147,RIGHT(FIXED(P_20号3様式1!O147,3,FALSE),4),\"\"),\"\"),\"\")","v":""},{"$f":"IF(P_20号3様式1!R147<> \"\",IF(P_20号3様式1!R147<> \"-\",TEXT(INT(P_20号3様式1!R147),\"#,##0\"),\"-\"),\"\")","v":""},{"$f":"IF(P_20号3様式1!R147<> \"\",IF(P_20号3様式1!R147<> \"-\",IF(VALUE(FIXED(P_20号3様式1!R147,0,TRUE))<>P_20号3様式1!R147,RIGHT(FIXED(P_20号3様式1!R147,3,FALSE),4),\"\"),\"\"),\"\")","v":""},{"$f":"IF(P_20号3様式1!U147<> \"\",IF(P_20号3様式1!U147<> \"-\",TEXT(INT(P_20号3様式1!U147),\"#,##0\"),\"-\"),\"\")","v":""},{"$f":"IF(P_20号3様式1!U147<> \"\",IF(P_20号3様式1!U147<> \"-\",IF(VALUE(FIXED(P_20号3様式1!U147,0,TRUE))<>P_20号3様式1!U147,RIGHT(FIXED(P_20号3様式1!U147,3,FALSE),4),\"\"),\"\"),\"\")","v":""},{"$f":"IF(P_20号3様式1!X147<> \"\",IF(P_20号3様式1!X147<> \"-\",TEXT(INT(P_20号3様式1!X147),\"#,##0\"),\"-\"),\"\")","v":""},{"$f":"IF(P_20号3様式1!X147<> \"\",IF(P_20号3様式1!X147<> \"-\",IF(VALUE(FIXED(P_20号3様式1!X147,0,TRUE))<>P_20号3様式1!X147,RIGHT(FIXED(P_20号3様式1!X147,3,FALSE),4),\"\"),\"\"),\"\")","v":""},{"$f":"IF(P_20号3様式1!AA147<> \"\",IF(P_20号3様式1!AA147<> \"-\",TEXT(INT(P_20号3様式1!AA147),\"#,##0\"),\"-\"),\"\")","v":""},{"$f":"IF(P_20号3様式1!AA147<> \"\",IF(P_20号3様式1!AA147<> \"-\",IF(VALUE(FIXED(P_20号3様式1!AA147,0,TRUE))<>P_20号3様式1!AA147,RIGHT(FIXED(P_20号3様式1!AA147,3,FALSE),4),\"\"),\"\"),\"\")","v":""}]
[{"$f":"IF(P_20号3様式1!C148=\"\",\"\",P_20号3様式1!C148)","v":""},{"$f":"IF(P_20号3様式1!AE148<> \"\",TEXT(INT(P_20号3様式1!AE148),\"#,##0\"),\"\")","v":""},{"$f":"IF(P_20号3様式1!AE148= \"\",\"\",IF(VALUE(FIXED(P_20号3様式1!AE148,0,TRUE))<>P_20号3様式1!AE148,RIGHT(FIXED(P_20号3様式1!AE148,3,FALSE),4),\"\"))","v":""},{"$f":"IF(P_20号3様式1!F148<> \"\",IF(P_20号3様式1!F148<> \"-\",TEXT(INT(P_20号3様式1!F148),\"#,##0\"),\"-\"),\"\")","v":""},{"$f":"IF(P_20号3様式1!F148<> \"\",IF(P_20号3様式1!F148<> \"-\",IF(VALUE(FIXED(P_20号3様式1!F148,0,TRUE))<>P_20号3様式1!F148,RIGHT(FIXED(P_20号3様式1!F148,3,FALSE),4),\"\"),\"\"),\"\")","v":""},{"$f":"IF(P_20号3様式1!I148<> \"\",IF(P_20号3様式1!I148<> \"-\",TEXT(INT(P_20号3様式1!I148),\"#,##0\"),\"-\"),\"\")","v":""},{"$f":"IF(P_20号3様式1!I148<> \"\",IF(P_20号3様式1!I148<> \"-\",IF(VALUE(FIXED(P_20号3様式1!I148,0,TRUE))<>P_20号3様式1!I148,RIGHT(FIXED(P_20号3様式1!I148,3,FALSE),4),\"\"),\"\"),\"\")","v":""},{"$f":"IF(P_20号3様式1!L148<> \"\",IF(P_20号3様式1!L148<> \"-\",TEXT(INT(P_20号3様式1!L148),\"#,##0\"),\"-\"),\"\")","v":""},{"$f":"IF(P_20号3様式1!L148<> \"\",IF(P_20号3様式1!L148<> \"-\",IF(VALUE(FIXED(P_20号3様式1!L148,0,TRUE))<>P_20号3様式1!L148,RIGHT(FIXED(P_20号3様式1!L148,3,FALSE),4),\"\"),\"\"),\"\")","v":""},{"$f":"IF(P_20号3様式1!O148<> \"\",IF(P_20号3様式1!O148<> \"-\",TEXT(INT(P_20号3様式1!O148),\"#,##0\"),\"-\"),\"\")","v":""},{"$f":"IF(P_20号3様式1!O148<> \"\",IF(P_20号3様式1!O148<> \"-\",IF(VALUE(FIXED(P_20号3様式1!O148,0,TRUE))<>P_20号3様式1!O148,RIGHT(FIXED(P_20号3様式1!O148,3,FALSE),4),\"\"),\"\"),\"\")","v":""},{"$f":"IF(P_20号3様式1!R148<> \"\",IF(P_20号3様式1!R148<> \"-\",TEXT(INT(P_20号3様式1!R148),\"#,##0\"),\"-\"),\"\")","v":""},{"$f":"IF(P_20号3様式1!R148<> \"\",IF(P_20号3様式1!R148<> \"-\",IF(VALUE(FIXED(P_20号3様式1!R148,0,TRUE))<>P_20号3様式1!R148,RIGHT(FIXED(P_20号3様式1!R148,3,FALSE),4),\"\"),\"\"),\"\")","v":""},{"$f":"IF(P_20号3様式1!U148<> \"\",IF(P_20号3様式1!U148<> \"-\",TEXT(INT(P_20号3様式1!U148),\"#,##0\"),\"-\"),\"\")","v":""},{"$f":"IF(P_20号3様式1!U148<> \"\",IF(P_20号3様式1!U148<> \"-\",IF(VALUE(FIXED(P_20号3様式1!U148,0,TRUE))<>P_20号3様式1!U148,RIGHT(FIXED(P_20号3様式1!U148,3,FALSE),4),\"\"),\"\"),\"\")","v":""},{"$f":"IF(P_20号3様式1!X148<> \"\",IF(P_20号3様式1!X148<> \"-\",TEXT(INT(P_20号3様式1!X148),\"#,##0\"),\"-\"),\"\")","v":""},{"$f":"IF(P_20号3様式1!X148<> \"\",IF(P_20号3様式1!X148<> \"-\",IF(VALUE(FIXED(P_20号3様式1!X148,0,TRUE))<>P_20号3様式1!X148,RIGHT(FIXED(P_20号3様式1!X148,3,FALSE),4),\"\"),\"\"),\"\")","v":""},{"$f":"IF(P_20号3様式1!AA148<> \"\",IF(P_20号3様式1!AA148<> \"-\",TEXT(INT(P_20号3様式1!AA148),\"#,##0\"),\"-\"),\"\")","v":""},{"$f":"IF(P_20号3様式1!AA148<> \"\",IF(P_20号3様式1!AA148<> \"-\",IF(VALUE(FIXED(P_20号3様式1!AA148,0,TRUE))<>P_20号3様式1!AA148,RIGHT(FIXED(P_20号3様式1!AA148,3,FALSE),4),\"\"),\"\"),\"\")","v":""}]
[{"$f":"IF(P_20号3様式1!C149=\"\",\"\",P_20号3様式1!C149)","v":""},{"$f":"IF(P_20号3様式1!AE149<> \"\",TEXT(INT(P_20号3様式1!AE149),\"#,##0\"),\"\")","v":""},{"$f":"IF(P_20号3様式1!AE149= \"\",\"\",IF(VALUE(FIXED(P_20号3様式1!AE149,0,TRUE))<>P_20号3様式1!AE149,RIGHT(FIXED(P_20号3様式1!AE149,3,FALSE),4),\"\"))","v":""},{"$f":"IF(P_20号3様式1!F149<> \"\",IF(P_20号3様式1!F149<> \"-\",TEXT(INT(P_20号3様式1!F149),\"#,##0\"),\"-\"),\"\")","v":""},{"$f":"IF(P_20号3様式1!F149<> \"\",IF(P_20号3様式1!F149<> \"-\",IF(VALUE(FIXED(P_20号3様式1!F149,0,TRUE))<>P_20号3様式1!F149,RIGHT(FIXED(P_20号3様式1!F149,3,FALSE),4),\"\"),\"\"),\"\")","v":""},{"$f":"IF(P_20号3様式1!I149<> \"\",IF(P_20号3様式1!I149<> \"-\",TEXT(INT(P_20号3様式1!I149),\"#,##0\"),\"-\"),\"\")","v":""},{"$f":"IF(P_20号3様式1!I149<> \"\",IF(P_20号3様式1!I149<> \"-\",IF(VALUE(FIXED(P_20号3様式1!I149,0,TRUE))<>P_20号3様式1!I149,RIGHT(FIXED(P_20号3様式1!I149,3,FALSE),4),\"\"),\"\"),\"\")","v":""},{"$f":"IF(P_20号3様式1!L149<> \"\",IF(P_20号3様式1!L149<> \"-\",TEXT(INT(P_20号3様式1!L149),\"#,##0\"),\"-\"),\"\")","v":""},{"$f":"IF(P_20号3様式1!L149<> \"\",IF(P_20号3様式1!L149<> \"-\",IF(VALUE(FIXED(P_20号3様式1!L149,0,TRUE))<>P_20号3様式1!L149,RIGHT(FIXED(P_20号3様式1!L149,3,FALSE),4),\"\"),\"\"),\"\")","v":""},{"$f":"IF(P_20号3様式1!O149<> \"\",IF(P_20号3様式1!O149<> \"-\",TEXT(INT(P_20号3様式1!O149),\"#,##0\"),\"-\"),\"\")","v":""},{"$f":"IF(P_20号3様式1!O149<> \"\",IF(P_20号3様式1!O149<> \"-\",IF(VALUE(FIXED(P_20号3様式1!O149,0,TRUE))<>P_20号3様式1!O149,RIGHT(FIXED(P_20号3様式1!O149,3,FALSE),4),\"\"),\"\"),\"\")","v":""},{"$f":"IF(P_20号3様式1!R149<> \"\",IF(P_20号3様式1!R149<> \"-\",TEXT(INT(P_20号3様式1!R149),\"#,##0\"),\"-\"),\"\")","v":""},{"$f":"IF(P_20号3様式1!R149<> \"\",IF(P_20号3様式1!R149<> \"-\",IF(VALUE(FIXED(P_20号3様式1!R149,0,TRUE))<>P_20号3様式1!R149,RIGHT(FIXED(P_20号3様式1!R149,3,FALSE),4),\"\"),\"\"),\"\")","v":""},{"$f":"IF(P_20号3様式1!U149<> \"\",IF(P_20号3様式1!U149<> \"-\",TEXT(INT(P_20号3様式1!U149),\"#,##0\"),\"-\"),\"\")","v":""},{"$f":"IF(P_20号3様式1!U149<> \"\",IF(P_20号3様式1!U149<> \"-\",IF(VALUE(FIXED(P_20号3様式1!U149,0,TRUE))<>P_20号3様式1!U149,RIGHT(FIXED(P_20号3様式1!U149,3,FALSE),4),\"\"),\"\"),\"\")","v":""},{"$f":"IF(P_20号3様式1!X149<> \"\",IF(P_20号3様式1!X149<> \"-\",TEXT(INT(P_20号3様式1!X149),\"#,##0\"),\"-\"),\"\")","v":""},{"$f":"IF(P_20号3様式1!X149<> \"\",IF(P_20号3様式1!X149<> \"-\",IF(VALUE(FIXED(P_20号3様式1!X149,0,TRUE))<>P_20号3様式1!X149,RIGHT(FIXED(P_20号3様式1!X149,3,FALSE),4),\"\"),\"\"),\"\")","v":""},{"$f":"IF(P_20号3様式1!AA149<> \"\",IF(P_20号3様式1!AA149<> \"-\",TEXT(INT(P_20号3様式1!AA149),\"#,##0\"),\"-\"),\"\")","v":""},{"$f":"IF(P_20号3様式1!AA149<> \"\",IF(P_20号3様式1!AA149<> \"-\",IF(VALUE(FIXED(P_20号3様式1!AA149,0,TRUE))<>P_20号3様式1!AA149,RIGHT(FIXED(P_20号3様式1!AA149,3,FALSE),4),\"\"),\"\"),\"\")","v":""}]
[{"$f":"IF(P_20号3様式1!C150=\"\",\"\",P_20号3様式1!C150)","v":""},{"$f":"IF(P_20号3様式1!AE150<> \"\",TEXT(INT(P_20号3様式1!AE150),\"#,##0\"),\"\")","v":""},{"$f":"IF(P_20号3様式1!AE150= \"\",\"\",IF(VALUE(FIXED(P_20号3様式1!AE150,0,TRUE))<>P_20号3様式1!AE150,RIGHT(FIXED(P_20号3様式1!AE150,3,FALSE),4),\"\"))","v":""},{"$f":"IF(P_20号3様式1!F150<> \"\",IF(P_20号3様式1!F150<> \"-\",TEXT(INT(P_20号3様式1!F150),\"#,##0\"),\"-\"),\"\")","v":""},{"$f":"IF(P_20号3様式1!F150<> \"\",IF(P_20号3様式1!F150<> \"-\",IF(VALUE(FIXED(P_20号3様式1!F150,0,TRUE))<>P_20号3様式1!F150,RIGHT(FIXED(P_20号3様式1!F150,3,FALSE),4),\"\"),\"\"),\"\")","v":""},{"$f":"IF(P_20号3様式1!I150<> \"\",IF(P_20号3様式1!I150<> \"-\",TEXT(INT(P_20号3様式1!I150),\"#,##0\"),\"-\"),\"\")","v":""},{"$f":"IF(P_20号3様式1!I150<> \"\",IF(P_20号3様式1!I150<> \"-\",IF(VALUE(FIXED(P_20号3様式1!I150,0,TRUE))<>P_20号3様式1!I150,RIGHT(FIXED(P_20号3様式1!I150,3,FALSE),4),\"\"),\"\"),\"\")","v":""},{"$f":"IF(P_20号3様式1!L150<> \"\",IF(P_20号3様式1!L150<> \"-\",TEXT(INT(P_20号3様式1!L150),\"#,##0\"),\"-\"),\"\")","v":""},{"$f":"IF(P_20号3様式1!L150<> \"\",IF(P_20号3様式1!L150<> \"-\",IF(VALUE(FIXED(P_20号3様式1!L150,0,TRUE))<>P_20号3様式1!L150,RIGHT(FIXED(P_20号3様式1!L150,3,FALSE),4),\"\"),\"\"),\"\")","v":""},{"$f":"IF(P_20号3様式1!O150<> \"\",IF(P_20号3様式1!O150<> \"-\",TEXT(INT(P_20号3様式1!O150),\"#,##0\"),\"-\"),\"\")","v":""},{"$f":"IF(P_20号3様式1!O150<> \"\",IF(P_20号3様式1!O150<> \"-\",IF(VALUE(FIXED(P_20号3様式1!O150,0,TRUE))<>P_20号3様式1!O150,RIGHT(FIXED(P_20号3様式1!O150,3,FALSE),4),\"\"),\"\"),\"\")","v":""},{"$f":"IF(P_20号3様式1!R150<> \"\",IF(P_20号3様式1!R150<> \"-\",TEXT(INT(P_20号3様式1!R150),\"#,##0\"),\"-\"),\"\")","v":""},{"$f":"IF(P_20号3様式1!R150<> \"\",IF(P_20号3様式1!R150<> \"-\",IF(VALUE(FIXED(P_20号3様式1!R150,0,TRUE))<>P_20号3様式1!R150,RIGHT(FIXED(P_20号3様式1!R150,3,FALSE),4),\"\"),\"\"),\"\")","v":""},{"$f":"IF(P_20号3様式1!U150<> \"\",IF(P_20号3様式1!U150<> \"-\",TEXT(INT(P_20号3様式1!U150),\"#,##0\"),\"-\"),\"\")","v":""},{"$f":"IF(P_20号3様式1!U150<> \"\",IF(P_20号3様式1!U150<> \"-\",IF(VALUE(FIXED(P_20号3様式1!U150,0,TRUE))<>P_20号3様式1!U150,RIGHT(FIXED(P_20号3様式1!U150,3,FALSE),4),\"\"),\"\"),\"\")","v":""},{"$f":"IF(P_20号3様式1!X150<> \"\",IF(P_20号3様式1!X150<> \"-\",TEXT(INT(P_20号3様式1!X150),\"#,##0\"),\"-\"),\"\")","v":""},{"$f":"IF(P_20号3様式1!X150<> \"\",IF(P_20号3様式1!X150<> \"-\",IF(VALUE(FIXED(P_20号3様式1!X150,0,TRUE))<>P_20号3様式1!X150,RIGHT(FIXED(P_20号3様式1!X150,3,FALSE),4),\"\"),\"\"),\"\")","v":""},{"$f":"IF(P_20号3様式1!AA150<> \"\",IF(P_20号3様式1!AA150<> \"-\",TEXT(INT(P_20号3様式1!AA150),\"#,##0\"),\"-\"),\"\")","v":""},{"$f":"IF(P_20号3様式1!AA150<> \"\",IF(P_20号3様式1!AA150<> \"-\",IF(VALUE(FIXED(P_20号3様式1!AA150,0,TRUE))<>P_20号3様式1!AA150,RIGHT(FIXED(P_20号3様式1!AA150,3,FALSE),4),\"\"),\"\"),\"\")","v":""}]
[{"$f":"IF(P_20号3様式1!C151=\"\",\"\",P_20号3様式1!C151)","v":""},{"$f":"IF(P_20号3様式1!AE151<> \"\",TEXT(INT(P_20号3様式1!AE151),\"#,##0\"),\"\")","v":""},{"$f":"IF(P_20号3様式1!AE151= \"\",\"\",IF(VALUE(FIXED(P_20号3様式1!AE151,0,TRUE))<>P_20号3様式1!AE151,RIGHT(FIXED(P_20号3様式1!AE151,3,FALSE),4),\"\"))","v":""},{"$f":"IF(P_20号3様式1!F151<> \"\",IF(P_20号3様式1!F151<> \"-\",TEXT(INT(P_20号3様式1!F151),\"#,##0\"),\"-\"),\"\")","v":""},{"$f":"IF(P_20号3様式1!F151<> \"\",IF(P_20号3様式1!F151<> \"-\",IF(VALUE(FIXED(P_20号3様式1!F151,0,TRUE))<>P_20号3様式1!F151,RIGHT(FIXED(P_20号3様式1!F151,3,FALSE),4),\"\"),\"\"),\"\")","v":""},{"$f":"IF(P_20号3様式1!I151<> \"\",IF(P_20号3様式1!I151<> \"-\",TEXT(INT(P_20号3様式1!I151),\"#,##0\"),\"-\"),\"\")","v":""},{"$f":"IF(P_20号3様式1!I151<> \"\",IF(P_20号3様式1!I151<> \"-\",IF(VALUE(FIXED(P_20号3様式1!I151,0,TRUE))<>P_20号3様式1!I151,RIGHT(FIXED(P_20号3様式1!I151,3,FALSE),4),\"\"),\"\"),\"\")","v":""},{"$f":"IF(P_20号3様式1!L151<> \"\",IF(P_20号3様式1!L151<> \"-\",TEXT(INT(P_20号3様式1!L151),\"#,##0\"),\"-\"),\"\")","v":""},{"$f":"IF(P_20号3様式1!L151<> \"\",IF(P_20号3様式1!L151<> \"-\",IF(VALUE(FIXED(P_20号3様式1!L151,0,TRUE))<>P_20号3様式1!L151,RIGHT(FIXED(P_20号3様式1!L151,3,FALSE),4),\"\"),\"\"),\"\")","v":""},{"$f":"IF(P_20号3様式1!O151<> \"\",IF(P_20号3様式1!O151<> \"-\",TEXT(INT(P_20号3様式1!O151),\"#,##0\"),\"-\"),\"\")","v":""},{"$f":"IF(P_20号3様式1!O151<> \"\",IF(P_20号3様式1!O151<> \"-\",IF(VALUE(FIXED(P_20号3様式1!O151,0,TRUE))<>P_20号3様式1!O151,RIGHT(FIXED(P_20号3様式1!O151,3,FALSE),4),\"\"),\"\"),\"\")","v":""},{"$f":"IF(P_20号3様式1!R151<> \"\",IF(P_20号3様式1!R151<> \"-\",TEXT(INT(P_20号3様式1!R151),\"#,##0\"),\"-\"),\"\")","v":""},{"$f":"IF(P_20号3様式1!R151<> \"\",IF(P_20号3様式1!R151<> \"-\",IF(VALUE(FIXED(P_20号3様式1!R151,0,TRUE))<>P_20号3様式1!R151,RIGHT(FIXED(P_20号3様式1!R151,3,FALSE),4),\"\"),\"\"),\"\")","v":""},{"$f":"IF(P_20号3様式1!U151<> \"\",IF(P_20号3様式1!U151<> \"-\",TEXT(INT(P_20号3様式1!U151),\"#,##0\"),\"-\"),\"\")","v":""},{"$f":"IF(P_20号3様式1!U151<> \"\",IF(P_20号3様式1!U151<> \"-\",IF(VALUE(FIXED(P_20号3様式1!U151,0,TRUE))<>P_20号3様式1!U151,RIGHT(FIXED(P_20号3様式1!U151,3,FALSE),4),\"\"),\"\"),\"\")","v":""},{"$f":"IF(P_20号3様式1!X151<> \"\",IF(P_20号3様式1!X151<> \"-\",TEXT(INT(P_20号3様式1!X151),\"#,##0\"),\"-\"),\"\")","v":""},{"$f":"IF(P_20号3様式1!X151<> \"\",IF(P_20号3様式1!X151<> \"-\",IF(VALUE(FIXED(P_20号3様式1!X151,0,TRUE))<>P_20号3様式1!X151,RIGHT(FIXED(P_20号3様式1!X151,3,FALSE),4),\"\"),\"\"),\"\")","v":""},{"$f":"IF(P_20号3様式1!AA151<> \"\",IF(P_20号3様式1!AA151<> \"-\",TEXT(INT(P_20号3様式1!AA151),\"#,##0\"),\"-\"),\"\")","v":""},{"$f":"IF(P_20号3様式1!AA151<> \"\",IF(P_20号3様式1!AA151<> \"-\",IF(VALUE(FIXED(P_20号3様式1!AA151,0,TRUE))<>P_20号3様式1!AA151,RIGHT(FIXED(P_20号3様式1!AA151,3,FALSE),4),\"\"),\"\"),\"\")","v":""}]
[{"$f":"IF(P_20号3様式1!C152=\"\",\"\",P_20号3様式1!C152)","v":""},{"$f":"IF(P_20号3様式1!AE152<> \"\",TEXT(INT(P_20号3様式1!AE152),\"#,##0\"),\"\")","v":""},{"$f":"IF(P_20号3様式1!AE152= \"\",\"\",IF(VALUE(FIXED(P_20号3様式1!AE152,0,TRUE))<>P_20号3様式1!AE152,RIGHT(FIXED(P_20号3様式1!AE152,3,FALSE),4),\"\"))","v":""},{"$f":"IF(P_20号3様式1!F152<> \"\",IF(P_20号3様式1!F152<> \"-\",TEXT(INT(P_20号3様式1!F152),\"#,##0\"),\"-\"),\"\")","v":""},{"$f":"IF(P_20号3様式1!F152<> \"\",IF(P_20号3様式1!F152<> \"-\",IF(VALUE(FIXED(P_20号3様式1!F152,0,TRUE))<>P_20号3様式1!F152,RIGHT(FIXED(P_20号3様式1!F152,3,FALSE),4),\"\"),\"\"),\"\")","v":""},{"$f":"IF(P_20号3様式1!I152<> \"\",IF(P_20号3様式1!I152<> \"-\",TEXT(INT(P_20号3様式1!I152),\"#,##0\"),\"-\"),\"\")","v":""},{"$f":"IF(P_20号3様式1!I152<> \"\",IF(P_20号3様式1!I152<> \"-\",IF(VALUE(FIXED(P_20号3様式1!I152,0,TRUE))<>P_20号3様式1!I152,RIGHT(FIXED(P_20号3様式1!I152,3,FALSE),4),\"\"),\"\"),\"\")","v":""},{"$f":"IF(P_20号3様式1!L152<> \"\",IF(P_20号3様式1!L152<> \"-\",TEXT(INT(P_20号3様式1!L152),\"#,##0\"),\"-\"),\"\")","v":""},{"$f":"IF(P_20号3様式1!L152<> \"\",IF(P_20号3様式1!L152<> \"-\",IF(VALUE(FIXED(P_20号3様式1!L152,0,TRUE))<>P_20号3様式1!L152,RIGHT(FIXED(P_20号3様式1!L152,3,FALSE),4),\"\"),\"\"),\"\")","v":""},{"$f":"IF(P_20号3様式1!O152<> \"\",IF(P_20号3様式1!O152<> \"-\",TEXT(INT(P_20号3様式1!O152),\"#,##0\"),\"-\"),\"\")","v":""},{"$f":"IF(P_20号3様式1!O152<> \"\",IF(P_20号3様式1!O152<> \"-\",IF(VALUE(FIXED(P_20号3様式1!O152,0,TRUE))<>P_20号3様式1!O152,RIGHT(FIXED(P_20号3様式1!O152,3,FALSE),4),\"\"),\"\"),\"\")","v":""},{"$f":"IF(P_20号3様式1!R152<> \"\",IF(P_20号3様式1!R152<> \"-\",TEXT(INT(P_20号3様式1!R152),\"#,##0\"),\"-\"),\"\")","v":""},{"$f":"IF(P_20号3様式1!R152<> \"\",IF(P_20号3様式1!R152<> \"-\",IF(VALUE(FIXED(P_20号3様式1!R152,0,TRUE))<>P_20号3様式1!R152,RIGHT(FIXED(P_20号3様式1!R152,3,FALSE),4),\"\"),\"\"),\"\")","v":""},{"$f":"IF(P_20号3様式1!U152<> \"\",IF(P_20号3様式1!U152<> \"-\",TEXT(INT(P_20号3様式1!U152),\"#,##0\"),\"-\"),\"\")","v":""},{"$f":"IF(P_20号3様式1!U152<> \"\",IF(P_20号3様式1!U152<> \"-\",IF(VALUE(FIXED(P_20号3様式1!U152,0,TRUE))<>P_20号3様式1!U152,RIGHT(FIXED(P_20号3様式1!U152,3,FALSE),4),\"\"),\"\"),\"\")","v":""},{"$f":"IF(P_20号3様式1!X152<> \"\",IF(P_20号3様式1!X152<> \"-\",TEXT(INT(P_20号3様式1!X152),\"#,##0\"),\"-\"),\"\")","v":""},{"$f":"IF(P_20号3様式1!X152<> \"\",IF(P_20号3様式1!X152<> \"-\",IF(VALUE(FIXED(P_20号3様式1!X152,0,TRUE))<>P_20号3様式1!X152,RIGHT(FIXED(P_20号3様式1!X152,3,FALSE),4),\"\"),\"\"),\"\")","v":""},{"$f":"IF(P_20号3様式1!AA152<> \"\",IF(P_20号3様式1!AA152<> \"-\",TEXT(INT(P_20号3様式1!AA152),\"#,##0\"),\"-\"),\"\")","v":""},{"$f":"IF(P_20号3様式1!AA152<> \"\",IF(P_20号3様式1!AA152<> \"-\",IF(VALUE(FIXED(P_20号3様式1!AA152,0,TRUE))<>P_20号3様式1!AA152,RIGHT(FIXED(P_20号3様式1!AA152,3,FALSE),4),\"\"),\"\"),\"\")","v":""}]
[{"$f":"IF(P_20号3様式1!C153=\"\",\"\",P_20号3様式1!C153)","v":""},{"$f":"IF(P_20号3様式1!AE153<> \"\",TEXT(INT(P_20号3様式1!AE153),\"#,##0\"),\"\")","v":""},{"$f":"IF(P_20号3様式1!AE153= \"\",\"\",IF(VALUE(FIXED(P_20号3様式1!AE153,0,TRUE))<>P_20号3様式1!AE153,RIGHT(FIXED(P_20号3様式1!AE153,3,FALSE),4),\"\"))","v":""},{"$f":"IF(P_20号3様式1!F153<> \"\",IF(P_20号3様式1!F153<> \"-\",TEXT(INT(P_20号3様式1!F153),\"#,##0\"),\"-\"),\"\")","v":""},{"$f":"IF(P_20号3様式1!F153<> \"\",IF(P_20号3様式1!F153<> \"-\",IF(VALUE(FIXED(P_20号3様式1!F153,0,TRUE))<>P_20号3様式1!F153,RIGHT(FIXED(P_20号3様式1!F153,3,FALSE),4),\"\"),\"\"),\"\")","v":""},{"$f":"IF(P_20号3様式1!I153<> \"\",IF(P_20号3様式1!I153<> \"-\",TEXT(INT(P_20号3様式1!I153),\"#,##0\"),\"-\"),\"\")","v":""},{"$f":"IF(P_20号3様式1!I153<> \"\",IF(P_20号3様式1!I153<> \"-\",IF(VALUE(FIXED(P_20号3様式1!I153,0,TRUE))<>P_20号3様式1!I153,RIGHT(FIXED(P_20号3様式1!I153,3,FALSE),4),\"\"),\"\"),\"\")","v":""},{"$f":"IF(P_20号3様式1!L153<> \"\",IF(P_20号3様式1!L153<> \"-\",TEXT(INT(P_20号3様式1!L153),\"#,##0\"),\"-\"),\"\")","v":""},{"$f":"IF(P_20号3様式1!L153<> \"\",IF(P_20号3様式1!L153<> \"-\",IF(VALUE(FIXED(P_20号3様式1!L153,0,TRUE))<>P_20号3様式1!L153,RIGHT(FIXED(P_20号3様式1!L153,3,FALSE),4),\"\"),\"\"),\"\")","v":""},{"$f":"IF(P_20号3様式1!O153<> \"\",IF(P_20号3様式1!O153<> \"-\",TEXT(INT(P_20号3様式1!O153),\"#,##0\"),\"-\"),\"\")","v":""},{"$f":"IF(P_20号3様式1!O153<> \"\",IF(P_20号3様式1!O153<> \"-\",IF(VALUE(FIXED(P_20号3様式1!O153,0,TRUE))<>P_20号3様式1!O153,RIGHT(FIXED(P_20号3様式1!O153,3,FALSE),4),\"\"),\"\"),\"\")","v":""},{"$f":"IF(P_20号3様式1!R153<> \"\",IF(P_20号3様式1!R153<> \"-\",TEXT(INT(P_20号3様式1!R153),\"#,##0\"),\"-\"),\"\")","v":""},{"$f":"IF(P_20号3様式1!R153<> \"\",IF(P_20号3様式1!R153<> \"-\",IF(VALUE(FIXED(P_20号3様式1!R153,0,TRUE))<>P_20号3様式1!R153,RIGHT(FIXED(P_20号3様式1!R153,3,FALSE),4),\"\"),\"\"),\"\")","v":""},{"$f":"IF(P_20号3様式1!U153<> \"\",IF(P_20号3様式1!U153<> \"-\",TEXT(INT(P_20号3様式1!U153),\"#,##0\"),\"-\"),\"\")","v":""},{"$f":"IF(P_20号3様式1!U153<> \"\",IF(P_20号3様式1!U153<> \"-\",IF(VALUE(FIXED(P_20号3様式1!U153,0,TRUE))<>P_20号3様式1!U153,RIGHT(FIXED(P_20号3様式1!U153,3,FALSE),4),\"\"),\"\"),\"\")","v":""},{"$f":"IF(P_20号3様式1!X153<> \"\",IF(P_20号3様式1!X153<> \"-\",TEXT(INT(P_20号3様式1!X153),\"#,##0\"),\"-\"),\"\")","v":""},{"$f":"IF(P_20号3様式1!X153<> \"\",IF(P_20号3様式1!X153<> \"-\",IF(VALUE(FIXED(P_20号3様式1!X153,0,TRUE))<>P_20号3様式1!X153,RIGHT(FIXED(P_20号3様式1!X153,3,FALSE),4),\"\"),\"\"),\"\")","v":""},{"$f":"IF(P_20号3様式1!AA153<> \"\",IF(P_20号3様式1!AA153<> \"-\",TEXT(INT(P_20号3様式1!AA153),\"#,##0\"),\"-\"),\"\")","v":""},{"$f":"IF(P_20号3様式1!AA153<> \"\",IF(P_20号3様式1!AA153<> \"-\",IF(VALUE(FIXED(P_20号3様式1!AA153,0,TRUE))<>P_20号3様式1!AA153,RIGHT(FIXED(P_20号3様式1!AA153,3,FALSE),4),\"\"),\"\"),\"\")","v":""}]
[{"$f":"IF(P_20号3様式1!C154=\"\",\"\",P_20号3様式1!C154)","v":""},{"$f":"IF(P_20号3様式1!AE154<> \"\",TEXT(INT(P_20号3様式1!AE154),\"#,##0\"),\"\")","v":""},{"$f":"IF(P_20号3様式1!AE154= \"\",\"\",IF(VALUE(FIXED(P_20号3様式1!AE154,0,TRUE))<>P_20号3様式1!AE154,RIGHT(FIXED(P_20号3様式1!AE154,3,FALSE),4),\"\"))","v":""},{"$f":"IF(P_20号3様式1!F154<> \"\",IF(P_20号3様式1!F154<> \"-\",TEXT(INT(P_20号3様式1!F154),\"#,##0\"),\"-\"),\"\")","v":""},{"$f":"IF(P_20号3様式1!F154<> \"\",IF(P_20号3様式1!F154<> \"-\",IF(VALUE(FIXED(P_20号3様式1!F154,0,TRUE))<>P_20号3様式1!F154,RIGHT(FIXED(P_20号3様式1!F154,3,FALSE),4),\"\"),\"\"),\"\")","v":""},{"$f":"IF(P_20号3様式1!I154<> \"\",IF(P_20号3様式1!I154<> \"-\",TEXT(INT(P_20号3様式1!I154),\"#,##0\"),\"-\"),\"\")","v":""},{"$f":"IF(P_20号3様式1!I154<> \"\",IF(P_20号3様式1!I154<> \"-\",IF(VALUE(FIXED(P_20号3様式1!I154,0,TRUE))<>P_20号3様式1!I154,RIGHT(FIXED(P_20号3様式1!I154,3,FALSE),4),\"\"),\"\"),\"\")","v":""},{"$f":"IF(P_20号3様式1!L154<> \"\",IF(P_20号3様式1!L154<> \"-\",TEXT(INT(P_20号3様式1!L154),\"#,##0\"),\"-\"),\"\")","v":""},{"$f":"IF(P_20号3様式1!L154<> \"\",IF(P_20号3様式1!L154<> \"-\",IF(VALUE(FIXED(P_20号3様式1!L154,0,TRUE))<>P_20号3様式1!L154,RIGHT(FIXED(P_20号3様式1!L154,3,FALSE),4),\"\"),\"\"),\"\")","v":""},{"$f":"IF(P_20号3様式1!O154<> \"\",IF(P_20号3様式1!O154<> \"-\",TEXT(INT(P_20号3様式1!O154),\"#,##0\"),\"-\"),\"\")","v":""},{"$f":"IF(P_20号3様式1!O154<> \"\",IF(P_20号3様式1!O154<> \"-\",IF(VALUE(FIXED(P_20号3様式1!O154,0,TRUE))<>P_20号3様式1!O154,RIGHT(FIXED(P_20号3様式1!O154,3,FALSE),4),\"\"),\"\"),\"\")","v":""},{"$f":"IF(P_20号3様式1!R154<> \"\",IF(P_20号3様式1!R154<> \"-\",TEXT(INT(P_20号3様式1!R154),\"#,##0\"),\"-\"),\"\")","v":""},{"$f":"IF(P_20号3様式1!R154<> \"\",IF(P_20号3様式1!R154<> \"-\",IF(VALUE(FIXED(P_20号3様式1!R154,0,TRUE))<>P_20号3様式1!R154,RIGHT(FIXED(P_20号3様式1!R154,3,FALSE),4),\"\"),\"\"),\"\")","v":""},{"$f":"IF(P_20号3様式1!U154<> \"\",IF(P_20号3様式1!U154<> \"-\",TEXT(INT(P_20号3様式1!U154),\"#,##0\"),\"-\"),\"\")","v":""},{"$f":"IF(P_20号3様式1!U154<> \"\",IF(P_20号3様式1!U154<> \"-\",IF(VALUE(FIXED(P_20号3様式1!U154,0,TRUE))<>P_20号3様式1!U154,RIGHT(FIXED(P_20号3様式1!U154,3,FALSE),4),\"\"),\"\"),\"\")","v":""},{"$f":"IF(P_20号3様式1!X154<> \"\",IF(P_20号3様式1!X154<> \"-\",TEXT(INT(P_20号3様式1!X154),\"#,##0\"),\"-\"),\"\")","v":""},{"$f":"IF(P_20号3様式1!X154<> \"\",IF(P_20号3様式1!X154<> \"-\",IF(VALUE(FIXED(P_20号3様式1!X154,0,TRUE))<>P_20号3様式1!X154,RIGHT(FIXED(P_20号3様式1!X154,3,FALSE),4),\"\"),\"\"),\"\")","v":""},{"$f":"IF(P_20号3様式1!AA154<> \"\",IF(P_20号3様式1!AA154<> \"-\",TEXT(INT(P_20号3様式1!AA154),\"#,##0\"),\"-\"),\"\")","v":""},{"$f":"IF(P_20号3様式1!AA154<> \"\",IF(P_20号3様式1!AA154<> \"-\",IF(VALUE(FIXED(P_20号3様式1!AA154,0,TRUE))<>P_20号3様式1!AA154,RIGHT(FIXED(P_20号3様式1!AA154,3,FALSE),4),\"\"),\"\"),\"\")","v":""}]
[{"$f":"IF(P_20号3様式1!C155=\"\",\"\",P_20号3様式1!C155)","v":""},{"$f":"IF(P_20号3様式1!AE155<> \"\",TEXT(INT(P_20号3様式1!AE155),\"#,##0\"),\"\")","v":""},{"$f":"IF(P_20号3様式1!AE155= \"\",\"\",IF(VALUE(FIXED(P_20号3様式1!AE155,0,TRUE))<>P_20号3様式1!AE155,RIGHT(FIXED(P_20号3様式1!AE155,3,FALSE),4),\"\"))","v":""},{"$f":"IF(P_20号3様式1!F155<> \"\",IF(P_20号3様式1!F155<> \"-\",TEXT(INT(P_20号3様式1!F155),\"#,##0\"),\"-\"),\"\")","v":""},{"$f":"IF(P_20号3様式1!F155<> \"\",IF(P_20号3様式1!F155<> \"-\",IF(VALUE(FIXED(P_20号3様式1!F155,0,TRUE))<>P_20号3様式1!F155,RIGHT(FIXED(P_20号3様式1!F155,3,FALSE),4),\"\"),\"\"),\"\")","v":""},{"$f":"IF(P_20号3様式1!I155<> \"\",IF(P_20号3様式1!I155<> \"-\",TEXT(INT(P_20号3様式1!I155),\"#,##0\"),\"-\"),\"\")","v":""},{"$f":"IF(P_20号3様式1!I155<> \"\",IF(P_20号3様式1!I155<> \"-\",IF(VALUE(FIXED(P_20号3様式1!I155,0,TRUE))<>P_20号3様式1!I155,RIGHT(FIXED(P_20号3様式1!I155,3,FALSE),4),\"\"),\"\"),\"\")","v":""},{"$f":"IF(P_20号3様式1!L155<> \"\",IF(P_20号3様式1!L155<> \"-\",TEXT(INT(P_20号3様式1!L155),\"#,##0\"),\"-\"),\"\")","v":""},{"$f":"IF(P_20号3様式1!L155<> \"\",IF(P_20号3様式1!L155<> \"-\",IF(VALUE(FIXED(P_20号3様式1!L155,0,TRUE))<>P_20号3様式1!L155,RIGHT(FIXED(P_20号3様式1!L155,3,FALSE),4),\"\"),\"\"),\"\")","v":""},{"$f":"IF(P_20号3様式1!O155<> \"\",IF(P_20号3様式1!O155<> \"-\",TEXT(INT(P_20号3様式1!O155),\"#,##0\"),\"-\"),\"\")","v":""},{"$f":"IF(P_20号3様式1!O155<> \"\",IF(P_20号3様式1!O155<> \"-\",IF(VALUE(FIXED(P_20号3様式1!O155,0,TRUE))<>P_20号3様式1!O155,RIGHT(FIXED(P_20号3様式1!O155,3,FALSE),4),\"\"),\"\"),\"\")","v":""},{"$f":"IF(P_20号3様式1!R155<> \"\",IF(P_20号3様式1!R155<> \"-\",TEXT(INT(P_20号3様式1!R155),\"#,##0\"),\"-\"),\"\")","v":""},{"$f":"IF(P_20号3様式1!R155<> \"\",IF(P_20号3様式1!R155<> \"-\",IF(VALUE(FIXED(P_20号3様式1!R155,0,TRUE))<>P_20号3様式1!R155,RIGHT(FIXED(P_20号3様式1!R155,3,FALSE),4),\"\"),\"\"),\"\")","v":""},{"$f":"IF(P_20号3様式1!U155<> \"\",IF(P_20号3様式1!U155<> \"-\",TEXT(INT(P_20号3様式1!U155),\"#,##0\"),\"-\"),\"\")","v":""},{"$f":"IF(P_20号3様式1!U155<> \"\",IF(P_20号3様式1!U155<> \"-\",IF(VALUE(FIXED(P_20号3様式1!U155,0,TRUE))<>P_20号3様式1!U155,RIGHT(FIXED(P_20号3様式1!U155,3,FALSE),4),\"\"),\"\"),\"\")","v":""},{"$f":"IF(P_20号3様式1!X155<> \"\",IF(P_20号3様式1!X155<> \"-\",TEXT(INT(P_20号3様式1!X155),\"#,##0\"),\"-\"),\"\")","v":""},{"$f":"IF(P_20号3様式1!X155<> \"\",IF(P_20号3様式1!X155<> \"-\",IF(VALUE(FIXED(P_20号3様式1!X155,0,TRUE))<>P_20号3様式1!X155,RIGHT(FIXED(P_20号3様式1!X155,3,FALSE),4),\"\"),\"\"),\"\")","v":""},{"$f":"IF(P_20号3様式1!AA155<> \"\",IF(P_20号3様式1!AA155<> \"-\",TEXT(INT(P_20号3様式1!AA155),\"#,##0\"),\"-\"),\"\")","v":""},{"$f":"IF(P_20号3様式1!AA155<> \"\",IF(P_20号3様式1!AA155<> \"-\",IF(VALUE(FIXED(P_20号3様式1!AA155,0,TRUE))<>P_20号3様式1!AA155,RIGHT(FIXED(P_20号3様式1!AA155,3,FALSE),4),\"\"),\"\"),\"\")","v":""}]
[{"$f":"IF(P_20号3様式1!C156=\"\",\"\",P_20号3様式1!C156)","v":""},{"$f":"IF(P_20号3様式1!AE156<> \"\",TEXT(INT(P_20号3様式1!AE156),\"#,##0\"),\"\")","v":""},{"$f":"IF(P_20号3様式1!AE156= \"\",\"\",IF(VALUE(FIXED(P_20号3様式1!AE156,0,TRUE))<>P_20号3様式1!AE156,RIGHT(FIXED(P_20号3様式1!AE156,3,FALSE),4),\"\"))","v":""},{"$f":"IF(P_20号3様式1!F156<> \"\",IF(P_20号3様式1!F156<> \"-\",TEXT(INT(P_20号3様式1!F156),\"#,##0\"),\"-\"),\"\")","v":""},{"$f":"IF(P_20号3様式1!F156<> \"\",IF(P_20号3様式1!F156<> \"-\",IF(VALUE(FIXED(P_20号3様式1!F156,0,TRUE))<>P_20号3様式1!F156,RIGHT(FIXED(P_20号3様式1!F156,3,FALSE),4),\"\"),\"\"),\"\")","v":""},{"$f":"IF(P_20号3様式1!I156<> \"\",IF(P_20号3様式1!I156<> \"-\",TEXT(INT(P_20号3様式1!I156),\"#,##0\"),\"-\"),\"\")","v":""},{"$f":"IF(P_20号3様式1!I156<> \"\",IF(P_20号3様式1!I156<> \"-\",IF(VALUE(FIXED(P_20号3様式1!I156,0,TRUE))<>P_20号3様式1!I156,RIGHT(FIXED(P_20号3様式1!I156,3,FALSE),4),\"\"),\"\"),\"\")","v":""},{"$f":"IF(P_20号3様式1!L156<> \"\",IF(P_20号3様式1!L156<> \"-\",TEXT(INT(P_20号3様式1!L156),\"#,##0\"),\"-\"),\"\")","v":""},{"$f":"IF(P_20号3様式1!L156<> \"\",IF(P_20号3様式1!L156<> \"-\",IF(VALUE(FIXED(P_20号3様式1!L156,0,TRUE))<>P_20号3様式1!L156,RIGHT(FIXED(P_20号3様式1!L156,3,FALSE),4),\"\"),\"\"),\"\")","v":""},{"$f":"IF(P_20号3様式1!O156<> \"\",IF(P_20号3様式1!O156<> \"-\",TEXT(INT(P_20号3様式1!O156),\"#,##0\"),\"-\"),\"\")","v":""},{"$f":"IF(P_20号3様式1!O156<> \"\",IF(P_20号3様式1!O156<> \"-\",IF(VALUE(FIXED(P_20号3様式1!O156,0,TRUE))<>P_20号3様式1!O156,RIGHT(FIXED(P_20号3様式1!O156,3,FALSE),4),\"\"),\"\"),\"\")","v":""},{"$f":"IF(P_20号3様式1!R156<> \"\",IF(P_20号3様式1!R156<> \"-\",TEXT(INT(P_20号3様式1!R156),\"#,##0\"),\"-\"),\"\")","v":""},{"$f":"IF(P_20号3様式1!R156<> \"\",IF(P_20号3様式1!R156<> \"-\",IF(VALUE(FIXED(P_20号3様式1!R156,0,TRUE))<>P_20号3様式1!R156,RIGHT(FIXED(P_20号3様式1!R156,3,FALSE),4),\"\"),\"\"),\"\")","v":""},{"$f":"IF(P_20号3様式1!U156<> \"\",IF(P_20号3様式1!U156<> \"-\",TEXT(INT(P_20号3様式1!U156),\"#,##0\"),\"-\"),\"\")","v":""},{"$f":"IF(P_20号3様式1!U156<> \"\",IF(P_20号3様式1!U156<> \"-\",IF(VALUE(FIXED(P_20号3様式1!U156,0,TRUE))<>P_20号3様式1!U156,RIGHT(FIXED(P_20号3様式1!U156,3,FALSE),4),\"\"),\"\"),\"\")","v":""},{"$f":"IF(P_20号3様式1!X156<> \"\",IF(P_20号3様式1!X156<> \"-\",TEXT(INT(P_20号3様式1!X156),\"#,##0\"),\"-\"),\"\")","v":""},{"$f":"IF(P_20号3様式1!X156<> \"\",IF(P_20号3様式1!X156<> \"-\",IF(VALUE(FIXED(P_20号3様式1!X156,0,TRUE))<>P_20号3様式1!X156,RIGHT(FIXED(P_20号3様式1!X156,3,FALSE),4),\"\"),\"\"),\"\")","v":""},{"$f":"IF(P_20号3様式1!AA156<> \"\",IF(P_20号3様式1!AA156<> \"-\",TEXT(INT(P_20号3様式1!AA156),\"#,##0\"),\"-\"),\"\")","v":""},{"$f":"IF(P_20号3様式1!AA156<> \"\",IF(P_20号3様式1!AA156<> \"-\",IF(VALUE(FIXED(P_20号3様式1!AA156,0,TRUE))<>P_20号3様式1!AA156,RIGHT(FIXED(P_20号3様式1!AA156,3,FALSE),4),\"\"),\"\"),\"\")","v":""}]
[{"$f":"IF(P_20号3様式1!C157=\"\",\"\",P_20号3様式1!C157)","v":""},{"$f":"IF(P_20号3様式1!AE157<> \"\",TEXT(INT(P_20号3様式1!AE157),\"#,##0\"),\"\")","v":""},{"$f":"IF(P_20号3様式1!AE157= \"\",\"\",IF(VALUE(FIXED(P_20号3様式1!AE157,0,TRUE))<>P_20号3様式1!AE157,RIGHT(FIXED(P_20号3様式1!AE157,3,FALSE),4),\"\"))","v":""},{"$f":"IF(P_20号3様式1!F157<> \"\",IF(P_20号3様式1!F157<> \"-\",TEXT(INT(P_20号3様式1!F157),\"#,##0\"),\"-\"),\"\")","v":""},{"$f":"IF(P_20号3様式1!F157<> \"\",IF(P_20号3様式1!F157<> \"-\",IF(VALUE(FIXED(P_20号3様式1!F157,0,TRUE))<>P_20号3様式1!F157,RIGHT(FIXED(P_20号3様式1!F157,3,FALSE),4),\"\"),\"\"),\"\")","v":""},{"$f":"IF(P_20号3様式1!I157<> \"\",IF(P_20号3様式1!I157<> \"-\",TEXT(INT(P_20号3様式1!I157),\"#,##0\"),\"-\"),\"\")","v":""},{"$f":"IF(P_20号3様式1!I157<> \"\",IF(P_20号3様式1!I157<> \"-\",IF(VALUE(FIXED(P_20号3様式1!I157,0,TRUE))<>P_20号3様式1!I157,RIGHT(FIXED(P_20号3様式1!I157,3,FALSE),4),\"\"),\"\"),\"\")","v":""},{"$f":"IF(P_20号3様式1!L157<> \"\",IF(P_20号3様式1!L157<> \"-\",TEXT(INT(P_20号3様式1!L157),\"#,##0\"),\"-\"),\"\")","v":""},{"$f":"IF(P_20号3様式1!L157<> \"\",IF(P_20号3様式1!L157<> \"-\",IF(VALUE(FIXED(P_20号3様式1!L157,0,TRUE))<>P_20号3様式1!L157,RIGHT(FIXED(P_20号3様式1!L157,3,FALSE),4),\"\"),\"\"),\"\")","v":""},{"$f":"IF(P_20号3様式1!O157<> \"\",IF(P_20号3様式1!O157<> \"-\",TEXT(INT(P_20号3様式1!O157),\"#,##0\"),\"-\"),\"\")","v":""},{"$f":"IF(P_20号3様式1!O157<> \"\",IF(P_20号3様式1!O157<> \"-\",IF(VALUE(FIXED(P_20号3様式1!O157,0,TRUE))<>P_20号3様式1!O157,RIGHT(FIXED(P_20号3様式1!O157,3,FALSE),4),\"\"),\"\"),\"\")","v":""},{"$f":"IF(P_20号3様式1!R157<> \"\",IF(P_20号3様式1!R157<> \"-\",TEXT(INT(P_20号3様式1!R157),\"#,##0\"),\"-\"),\"\")","v":""},{"$f":"IF(P_20号3様式1!R157<> \"\",IF(P_20号3様式1!R157<> \"-\",IF(VALUE(FIXED(P_20号3様式1!R157,0,TRUE))<>P_20号3様式1!R157,RIGHT(FIXED(P_20号3様式1!R157,3,FALSE),4),\"\"),\"\"),\"\")","v":""},{"$f":"IF(P_20号3様式1!U157<> \"\",IF(P_20号3様式1!U157<> \"-\",TEXT(INT(P_20号3様式1!U157),\"#,##0\"),\"-\"),\"\")","v":""},{"$f":"IF(P_20号3様式1!U157<> \"\",IF(P_20号3様式1!U157<> \"-\",IF(VALUE(FIXED(P_20号3様式1!U157,0,TRUE))<>P_20号3様式1!U157,RIGHT(FIXED(P_20号3様式1!U157,3,FALSE),4),\"\"),\"\"),\"\")","v":""},{"$f":"IF(P_20号3様式1!X157<> \"\",IF(P_20号3様式1!X157<> \"-\",TEXT(INT(P_20号3様式1!X157),\"#,##0\"),\"-\"),\"\")","v":""},{"$f":"IF(P_20号3様式1!X157<> \"\",IF(P_20号3様式1!X157<> \"-\",IF(VALUE(FIXED(P_20号3様式1!X157,0,TRUE))<>P_20号3様式1!X157,RIGHT(FIXED(P_20号3様式1!X157,3,FALSE),4),\"\"),\"\"),\"\")","v":""},{"$f":"IF(P_20号3様式1!AA157<> \"\",IF(P_20号3様式1!AA157<> \"-\",TEXT(INT(P_20号3様式1!AA157),\"#,##0\"),\"-\"),\"\")","v":""},{"$f":"IF(P_20号3様式1!AA157<> \"\",IF(P_20号3様式1!AA157<> \"-\",IF(VALUE(FIXED(P_20号3様式1!AA157,0,TRUE))<>P_20号3様式1!AA157,RIGHT(FIXED(P_20号3様式1!AA157,3,FALSE),4),\"\"),\"\"),\"\")","v":""}]
[{"$f":"IF(P_20号3様式1!C158=\"\",\"\",P_20号3様式1!C158)","v":""},{"$f":"IF(P_20号3様式1!AE158<> \"\",TEXT(INT(P_20号3様式1!AE158),\"#,##0\"),\"\")","v":""},{"$f":"IF(P_20号3様式1!AE158= \"\",\"\",IF(VALUE(FIXED(P_20号3様式1!AE158,0,TRUE))<>P_20号3様式1!AE158,RIGHT(FIXED(P_20号3様式1!AE158,3,FALSE),4),\"\"))","v":""},{"$f":"IF(P_20号3様式1!F158<> \"\",IF(P_20号3様式1!F158<> \"-\",TEXT(INT(P_20号3様式1!F158),\"#,##0\"),\"-\"),\"\")","v":""},{"$f":"IF(P_20号3様式1!F158<> \"\",IF(P_20号3様式1!F158<> \"-\",IF(VALUE(FIXED(P_20号3様式1!F158,0,TRUE))<>P_20号3様式1!F158,RIGHT(FIXED(P_20号3様式1!F158,3,FALSE),4),\"\"),\"\"),\"\")","v":""},{"$f":"IF(P_20号3様式1!I158<> \"\",IF(P_20号3様式1!I158<> \"-\",TEXT(INT(P_20号3様式1!I158),\"#,##0\"),\"-\"),\"\")","v":""},{"$f":"IF(P_20号3様式1!I158<> \"\",IF(P_20号3様式1!I158<> \"-\",IF(VALUE(FIXED(P_20号3様式1!I158,0,TRUE))<>P_20号3様式1!I158,RIGHT(FIXED(P_20号3様式1!I158,3,FALSE),4),\"\"),\"\"),\"\")","v":""},{"$f":"IF(P_20号3様式1!L158<> \"\",IF(P_20号3様式1!L158<> \"-\",TEXT(INT(P_20号3様式1!L158),\"#,##0\"),\"-\"),\"\")","v":""},{"$f":"IF(P_20号3様式1!L158<> \"\",IF(P_20号3様式1!L158<> \"-\",IF(VALUE(FIXED(P_20号3様式1!L158,0,TRUE))<>P_20号3様式1!L158,RIGHT(FIXED(P_20号3様式1!L158,3,FALSE),4),\"\"),\"\"),\"\")","v":""},{"$f":"IF(P_20号3様式1!O158<> \"\",IF(P_20号3様式1!O158<> \"-\",TEXT(INT(P_20号3様式1!O158),\"#,##0\"),\"-\"),\"\")","v":""},{"$f":"IF(P_20号3様式1!O158<> \"\",IF(P_20号3様式1!O158<> \"-\",IF(VALUE(FIXED(P_20号3様式1!O158,0,TRUE))<>P_20号3様式1!O158,RIGHT(FIXED(P_20号3様式1!O158,3,FALSE),4),\"\"),\"\"),\"\")","v":""},{"$f":"IF(P_20号3様式1!R158<> \"\",IF(P_20号3様式1!R158<> \"-\",TEXT(INT(P_20号3様式1!R158),\"#,##0\"),\"-\"),\"\")","v":""},{"$f":"IF(P_20号3様式1!R158<> \"\",IF(P_20号3様式1!R158<> \"-\",IF(VALUE(FIXED(P_20号3様式1!R158,0,TRUE))<>P_20号3様式1!R158,RIGHT(FIXED(P_20号3様式1!R158,3,FALSE),4),\"\"),\"\"),\"\")","v":""},{"$f":"IF(P_20号3様式1!U158<> \"\",IF(P_20号3様式1!U158<> \"-\",TEXT(INT(P_20号3様式1!U158),\"#,##0\"),\"-\"),\"\")","v":""},{"$f":"IF(P_20号3様式1!U158<> \"\",IF(P_20号3様式1!U158<> \"-\",IF(VALUE(FIXED(P_20号3様式1!U158,0,TRUE))<>P_20号3様式1!U158,RIGHT(FIXED(P_20号3様式1!U158,3,FALSE),4),\"\"),\"\"),\"\")","v":""},{"$f":"IF(P_20号3様式1!X158<> \"\",IF(P_20号3様式1!X158<> \"-\",TEXT(INT(P_20号3様式1!X158),\"#,##0\"),\"-\"),\"\")","v":""},{"$f":"IF(P_20号3様式1!X158<> \"\",IF(P_20号3様式1!X158<> \"-\",IF(VALUE(FIXED(P_20号3様式1!X158,0,TRUE))<>P_20号3様式1!X158,RIGHT(FIXED(P_20号3様式1!X158,3,FALSE),4),\"\"),\"\"),\"\")","v":""},{"$f":"IF(P_20号3様式1!AA158<> \"\",IF(P_20号3様式1!AA158<> \"-\",TEXT(INT(P_20号3様式1!AA158),\"#,##0\"),\"-\"),\"\")","v":""},{"$f":"IF(P_20号3様式1!AA158<> \"\",IF(P_20号3様式1!AA158<> \"-\",IF(VALUE(FIXED(P_20号3様式1!AA158,0,TRUE))<>P_20号3様式1!AA158,RIGHT(FIXED(P_20号3様式1!AA158,3,FALSE),4),\"\"),\"\"),\"\")","v":""}]
[{"$f":"IF(P_20号3様式1!C159=\"\",\"\",P_20号3様式1!C159)","v":""},{"$f":"IF(P_20号3様式1!AE159<> \"\",TEXT(INT(P_20号3様式1!AE159),\"#,##0\"),\"\")","v":""},{"$f":"IF(P_20号3様式1!AE159= \"\",\"\",IF(VALUE(FIXED(P_20号3様式1!AE159,0,TRUE))<>P_20号3様式1!AE159,RIGHT(FIXED(P_20号3様式1!AE159,3,FALSE),4),\"\"))","v":""},{"$f":"IF(P_20号3様式1!F159<> \"\",IF(P_20号3様式1!F159<> \"-\",TEXT(INT(P_20号3様式1!F159),\"#,##0\"),\"-\"),\"\")","v":""},{"$f":"IF(P_20号3様式1!F159<> \"\",IF(P_20号3様式1!F159<> \"-\",IF(VALUE(FIXED(P_20号3様式1!F159,0,TRUE))<>P_20号3様式1!F159,RIGHT(FIXED(P_20号3様式1!F159,3,FALSE),4),\"\"),\"\"),\"\")","v":""},{"$f":"IF(P_20号3様式1!I159<> \"\",IF(P_20号3様式1!I159<> \"-\",TEXT(INT(P_20号3様式1!I159),\"#,##0\"),\"-\"),\"\")","v":""},{"$f":"IF(P_20号3様式1!I159<> \"\",IF(P_20号3様式1!I159<> \"-\",IF(VALUE(FIXED(P_20号3様式1!I159,0,TRUE))<>P_20号3様式1!I159,RIGHT(FIXED(P_20号3様式1!I159,3,FALSE),4),\"\"),\"\"),\"\")","v":""},{"$f":"IF(P_20号3様式1!L159<> \"\",IF(P_20号3様式1!L159<> \"-\",TEXT(INT(P_20号3様式1!L159),\"#,##0\"),\"-\"),\"\")","v":""},{"$f":"IF(P_20号3様式1!L159<> \"\",IF(P_20号3様式1!L159<> \"-\",IF(VALUE(FIXED(P_20号3様式1!L159,0,TRUE))<>P_20号3様式1!L159,RIGHT(FIXED(P_20号3様式1!L159,3,FALSE),4),\"\"),\"\"),\"\")","v":""},{"$f":"IF(P_20号3様式1!O159<> \"\",IF(P_20号3様式1!O159<> \"-\",TEXT(INT(P_20号3様式1!O159),\"#,##0\"),\"-\"),\"\")","v":""},{"$f":"IF(P_20号3様式1!O159<> \"\",IF(P_20号3様式1!O159<> \"-\",IF(VALUE(FIXED(P_20号3様式1!O159,0,TRUE))<>P_20号3様式1!O159,RIGHT(FIXED(P_20号3様式1!O159,3,FALSE),4),\"\"),\"\"),\"\")","v":""},{"$f":"IF(P_20号3様式1!R159<> \"\",IF(P_20号3様式1!R159<> \"-\",TEXT(INT(P_20号3様式1!R159),\"#,##0\"),\"-\"),\"\")","v":""},{"$f":"IF(P_20号3様式1!R159<> \"\",IF(P_20号3様式1!R159<> \"-\",IF(VALUE(FIXED(P_20号3様式1!R159,0,TRUE))<>P_20号3様式1!R159,RIGHT(FIXED(P_20号3様式1!R159,3,FALSE),4),\"\"),\"\"),\"\")","v":""},{"$f":"IF(P_20号3様式1!U159<> \"\",IF(P_20号3様式1!U159<> \"-\",TEXT(INT(P_20号3様式1!U159),\"#,##0\"),\"-\"),\"\")","v":""},{"$f":"IF(P_20号3様式1!U159<> \"\",IF(P_20号3様式1!U159<> \"-\",IF(VALUE(FIXED(P_20号3様式1!U159,0,TRUE))<>P_20号3様式1!U159,RIGHT(FIXED(P_20号3様式1!U159,3,FALSE),4),\"\"),\"\"),\"\")","v":""},{"$f":"IF(P_20号3様式1!X159<> \"\",IF(P_20号3様式1!X159<> \"-\",TEXT(INT(P_20号3様式1!X159),\"#,##0\"),\"-\"),\"\")","v":""},{"$f":"IF(P_20号3様式1!X159<> \"\",IF(P_20号3様式1!X159<> \"-\",IF(VALUE(FIXED(P_20号3様式1!X159,0,TRUE))<>P_20号3様式1!X159,RIGHT(FIXED(P_20号3様式1!X159,3,FALSE),4),\"\"),\"\"),\"\")","v":""},{"$f":"IF(P_20号3様式1!AA159<> \"\",IF(P_20号3様式1!AA159<> \"-\",TEXT(INT(P_20号3様式1!AA159),\"#,##0\"),\"-\"),\"\")","v":""},{"$f":"IF(P_20号3様式1!AA159<> \"\",IF(P_20号3様式1!AA159<> \"-\",IF(VALUE(FIXED(P_20号3様式1!AA159,0,TRUE))<>P_20号3様式1!AA159,RIGHT(FIXED(P_20号3様式1!AA159,3,FALSE),4),\"\"),\"\"),\"\")","v":""}]
[{"$f":"IF(P_20号3様式1!C160=\"\",\"\",P_20号3様式1!C160)","v":""},{"$f":"IF(P_20号3様式1!AE160<> \"\",TEXT(INT(P_20号3様式1!AE160),\"#,##0\"),\"\")","v":""},{"$f":"IF(P_20号3様式1!AE160= \"\",\"\",IF(VALUE(FIXED(P_20号3様式1!AE160,0,TRUE))<>P_20号3様式1!AE160,RIGHT(FIXED(P_20号3様式1!AE160,3,FALSE),4),\"\"))","v":""},{"$f":"IF(P_20号3様式1!F160<> \"\",IF(P_20号3様式1!F160<> \"-\",TEXT(INT(P_20号3様式1!F160),\"#,##0\"),\"-\"),\"\")","v":""},{"$f":"IF(P_20号3様式1!F160<> \"\",IF(P_20号3様式1!F160<> \"-\",IF(VALUE(FIXED(P_20号3様式1!F160,0,TRUE))<>P_20号3様式1!F160,RIGHT(FIXED(P_20号3様式1!F160,3,FALSE),4),\"\"),\"\"),\"\")","v":""},{"$f":"IF(P_20号3様式1!I160<> \"\",IF(P_20号3様式1!I160<> \"-\",TEXT(INT(P_20号3様式1!I160),\"#,##0\"),\"-\"),\"\")","v":""},{"$f":"IF(P_20号3様式1!I160<> \"\",IF(P_20号3様式1!I160<> \"-\",IF(VALUE(FIXED(P_20号3様式1!I160,0,TRUE))<>P_20号3様式1!I160,RIGHT(FIXED(P_20号3様式1!I160,3,FALSE),4),\"\"),\"\"),\"\")","v":""},{"$f":"IF(P_20号3様式1!L160<> \"\",IF(P_20号3様式1!L160<> \"-\",TEXT(INT(P_20号3様式1!L160),\"#,##0\"),\"-\"),\"\")","v":""},{"$f":"IF(P_20号3様式1!L160<> \"\",IF(P_20号3様式1!L160<> \"-\",IF(VALUE(FIXED(P_20号3様式1!L160,0,TRUE))<>P_20号3様式1!L160,RIGHT(FIXED(P_20号3様式1!L160,3,FALSE),4),\"\"),\"\"),\"\")","v":""},{"$f":"IF(P_20号3様式1!O160<> \"\",IF(P_20号3様式1!O160<> \"-\",TEXT(INT(P_20号3様式1!O160),\"#,##0\"),\"-\"),\"\")","v":""},{"$f":"IF(P_20号3様式1!O160<> \"\",IF(P_20号3様式1!O160<> \"-\",IF(VALUE(FIXED(P_20号3様式1!O160,0,TRUE))<>P_20号3様式1!O160,RIGHT(FIXED(P_20号3様式1!O160,3,FALSE),4),\"\"),\"\"),\"\")","v":""},{"$f":"IF(P_20号3様式1!R160<> \"\",IF(P_20号3様式1!R160<> \"-\",TEXT(INT(P_20号3様式1!R160),\"#,##0\"),\"-\"),\"\")","v":""},{"$f":"IF(P_20号3様式1!R160<> \"\",IF(P_20号3様式1!R160<> \"-\",IF(VALUE(FIXED(P_20号3様式1!R160,0,TRUE))<>P_20号3様式1!R160,RIGHT(FIXED(P_20号3様式1!R160,3,FALSE),4),\"\"),\"\"),\"\")","v":""},{"$f":"IF(P_20号3様式1!U160<> \"\",IF(P_20号3様式1!U160<> \"-\",TEXT(INT(P_20号3様式1!U160),\"#,##0\"),\"-\"),\"\")","v":""},{"$f":"IF(P_20号3様式1!U160<> \"\",IF(P_20号3様式1!U160<> \"-\",IF(VALUE(FIXED(P_20号3様式1!U160,0,TRUE))<>P_20号3様式1!U160,RIGHT(FIXED(P_20号3様式1!U160,3,FALSE),4),\"\"),\"\"),\"\")","v":""},{"$f":"IF(P_20号3様式1!X160<> \"\",IF(P_20号3様式1!X160<> \"-\",TEXT(INT(P_20号3様式1!X160),\"#,##0\"),\"-\"),\"\")","v":""},{"$f":"IF(P_20号3様式1!X160<> \"\",IF(P_20号3様式1!X160<> \"-\",IF(VALUE(FIXED(P_20号3様式1!X160,0,TRUE))<>P_20号3様式1!X160,RIGHT(FIXED(P_20号3様式1!X160,3,FALSE),4),\"\"),\"\"),\"\")","v":""},{"$f":"IF(P_20号3様式1!AA160<> \"\",IF(P_20号3様式1!AA160<> \"-\",TEXT(INT(P_20号3様式1!AA160),\"#,##0\"),\"-\"),\"\")","v":""},{"$f":"IF(P_20号3様式1!AA160<> \"\",IF(P_20号3様式1!AA160<> \"-\",IF(VALUE(FIXED(P_20号3様式1!AA160,0,TRUE))<>P_20号3様式1!AA160,RIGHT(FIXED(P_20号3様式1!AA160,3,FALSE),4),\"\"),\"\"),\"\")","v":""}]
[{"$f":"IF(P_20号3様式1!C161=\"\",\"\",P_20号3様式1!C161)","v":""},{"$f":"IF(P_20号3様式1!AE161<> \"\",TEXT(INT(P_20号3様式1!AE161),\"#,##0\"),\"\")","v":""},{"$f":"IF(P_20号3様式1!AE161= \"\",\"\",IF(VALUE(FIXED(P_20号3様式1!AE161,0,TRUE))<>P_20号3様式1!AE161,RIGHT(FIXED(P_20号3様式1!AE161,3,FALSE),4),\"\"))","v":""},{"$f":"IF(P_20号3様式1!F161<> \"\",IF(P_20号3様式1!F161<> \"-\",TEXT(INT(P_20号3様式1!F161),\"#,##0\"),\"-\"),\"\")","v":""},{"$f":"IF(P_20号3様式1!F161<> \"\",IF(P_20号3様式1!F161<> \"-\",IF(VALUE(FIXED(P_20号3様式1!F161,0,TRUE))<>P_20号3様式1!F161,RIGHT(FIXED(P_20号3様式1!F161,3,FALSE),4),\"\"),\"\"),\"\")","v":""},{"$f":"IF(P_20号3様式1!I161<> \"\",IF(P_20号3様式1!I161<> \"-\",TEXT(INT(P_20号3様式1!I161),\"#,##0\"),\"-\"),\"\")","v":""},{"$f":"IF(P_20号3様式1!I161<> \"\",IF(P_20号3様式1!I161<> \"-\",IF(VALUE(FIXED(P_20号3様式1!I161,0,TRUE))<>P_20号3様式1!I161,RIGHT(FIXED(P_20号3様式1!I161,3,FALSE),4),\"\"),\"\"),\"\")","v":""},{"$f":"IF(P_20号3様式1!L161<> \"\",IF(P_20号3様式1!L161<> \"-\",TEXT(INT(P_20号3様式1!L161),\"#,##0\"),\"-\"),\"\")","v":""},{"$f":"IF(P_20号3様式1!L161<> \"\",IF(P_20号3様式1!L161<> \"-\",IF(VALUE(FIXED(P_20号3様式1!L161,0,TRUE))<>P_20号3様式1!L161,RIGHT(FIXED(P_20号3様式1!L161,3,FALSE),4),\"\"),\"\"),\"\")","v":""},{"$f":"IF(P_20号3様式1!O161<> \"\",IF(P_20号3様式1!O161<> \"-\",TEXT(INT(P_20号3様式1!O161),\"#,##0\"),\"-\"),\"\")","v":""},{"$f":"IF(P_20号3様式1!O161<> \"\",IF(P_20号3様式1!O161<> \"-\",IF(VALUE(FIXED(P_20号3様式1!O161,0,TRUE))<>P_20号3様式1!O161,RIGHT(FIXED(P_20号3様式1!O161,3,FALSE),4),\"\"),\"\"),\"\")","v":""},{"$f":"IF(P_20号3様式1!R161<> \"\",IF(P_20号3様式1!R161<> \"-\",TEXT(INT(P_20号3様式1!R161),\"#,##0\"),\"-\"),\"\")","v":""},{"$f":"IF(P_20号3様式1!R161<> \"\",IF(P_20号3様式1!R161<> \"-\",IF(VALUE(FIXED(P_20号3様式1!R161,0,TRUE))<>P_20号3様式1!R161,RIGHT(FIXED(P_20号3様式1!R161,3,FALSE),4),\"\"),\"\"),\"\")","v":""},{"$f":"IF(P_20号3様式1!U161<> \"\",IF(P_20号3様式1!U161<> \"-\",TEXT(INT(P_20号3様式1!U161),\"#,##0\"),\"-\"),\"\")","v":""},{"$f":"IF(P_20号3様式1!U161<> \"\",IF(P_20号3様式1!U161<> \"-\",IF(VALUE(FIXED(P_20号3様式1!U161,0,TRUE))<>P_20号3様式1!U161,RIGHT(FIXED(P_20号3様式1!U161,3,FALSE),4),\"\"),\"\"),\"\")","v":""},{"$f":"IF(P_20号3様式1!X161<> \"\",IF(P_20号3様式1!X161<> \"-\",TEXT(INT(P_20号3様式1!X161),\"#,##0\"),\"-\"),\"\")","v":""},{"$f":"IF(P_20号3様式1!X161<> \"\",IF(P_20号3様式1!X161<> \"-\",IF(VALUE(FIXED(P_20号3様式1!X161,0,TRUE))<>P_20号3様式1!X161,RIGHT(FIXED(P_20号3様式1!X161,3,FALSE),4),\"\"),\"\"),\"\")","v":""},{"$f":"IF(P_20号3様式1!AA161<> \"\",IF(P_20号3様式1!AA161<> \"-\",TEXT(INT(P_20号3様式1!AA161),\"#,##0\"),\"-\"),\"\")","v":""},{"$f":"IF(P_20号3様式1!AA161<> \"\",IF(P_20号3様式1!AA161<> \"-\",IF(VALUE(FIXED(P_20号3様式1!AA161,0,TRUE))<>P_20号3様式1!AA161,RIGHT(FIXED(P_20号3様式1!AA161,3,FALSE),4),\"\"),\"\"),\"\")","v":""}]
[{"$f":"IF(P_20号3様式1!C162=\"\",\"\",P_20号3様式1!C162)","v":""},{"$f":"IF(P_20号3様式1!AE162<> \"\",TEXT(INT(P_20号3様式1!AE162),\"#,##0\"),\"\")","v":""},{"$f":"IF(P_20号3様式1!AE162= \"\",\"\",IF(VALUE(FIXED(P_20号3様式1!AE162,0,TRUE))<>P_20号3様式1!AE162,RIGHT(FIXED(P_20号3様式1!AE162,3,FALSE),4),\"\"))","v":""},{"$f":"IF(P_20号3様式1!F162<> \"\",IF(P_20号3様式1!F162<> \"-\",TEXT(INT(P_20号3様式1!F162),\"#,##0\"),\"-\"),\"\")","v":""},{"$f":"IF(P_20号3様式1!F162<> \"\",IF(P_20号3様式1!F162<> \"-\",IF(VALUE(FIXED(P_20号3様式1!F162,0,TRUE))<>P_20号3様式1!F162,RIGHT(FIXED(P_20号3様式1!F162,3,FALSE),4),\"\"),\"\"),\"\")","v":""},{"$f":"IF(P_20号3様式1!I162<> \"\",IF(P_20号3様式1!I162<> \"-\",TEXT(INT(P_20号3様式1!I162),\"#,##0\"),\"-\"),\"\")","v":""},{"$f":"IF(P_20号3様式1!I162<> \"\",IF(P_20号3様式1!I162<> \"-\",IF(VALUE(FIXED(P_20号3様式1!I162,0,TRUE))<>P_20号3様式1!I162,RIGHT(FIXED(P_20号3様式1!I162,3,FALSE),4),\"\"),\"\"),\"\")","v":""},{"$f":"IF(P_20号3様式1!L162<> \"\",IF(P_20号3様式1!L162<> \"-\",TEXT(INT(P_20号3様式1!L162),\"#,##0\"),\"-\"),\"\")","v":""},{"$f":"IF(P_20号3様式1!L162<> \"\",IF(P_20号3様式1!L162<> \"-\",IF(VALUE(FIXED(P_20号3様式1!L162,0,TRUE))<>P_20号3様式1!L162,RIGHT(FIXED(P_20号3様式1!L162,3,FALSE),4),\"\"),\"\"),\"\")","v":""},{"$f":"IF(P_20号3様式1!O162<> \"\",IF(P_20号3様式1!O162<> \"-\",TEXT(INT(P_20号3様式1!O162),\"#,##0\"),\"-\"),\"\")","v":""},{"$f":"IF(P_20号3様式1!O162<> \"\",IF(P_20号3様式1!O162<> \"-\",IF(VALUE(FIXED(P_20号3様式1!O162,0,TRUE))<>P_20号3様式1!O162,RIGHT(FIXED(P_20号3様式1!O162,3,FALSE),4),\"\"),\"\"),\"\")","v":""},{"$f":"IF(P_20号3様式1!R162<> \"\",IF(P_20号3様式1!R162<> \"-\",TEXT(INT(P_20号3様式1!R162),\"#,##0\"),\"-\"),\"\")","v":""},{"$f":"IF(P_20号3様式1!R162<> \"\",IF(P_20号3様式1!R162<> \"-\",IF(VALUE(FIXED(P_20号3様式1!R162,0,TRUE))<>P_20号3様式1!R162,RIGHT(FIXED(P_20号3様式1!R162,3,FALSE),4),\"\"),\"\"),\"\")","v":""},{"$f":"IF(P_20号3様式1!U162<> \"\",IF(P_20号3様式1!U162<> \"-\",TEXT(INT(P_20号3様式1!U162),\"#,##0\"),\"-\"),\"\")","v":""},{"$f":"IF(P_20号3様式1!U162<> \"\",IF(P_20号3様式1!U162<> \"-\",IF(VALUE(FIXED(P_20号3様式1!U162,0,TRUE))<>P_20号3様式1!U162,RIGHT(FIXED(P_20号3様式1!U162,3,FALSE),4),\"\"),\"\"),\"\")","v":""},{"$f":"IF(P_20号3様式1!X162<> \"\",IF(P_20号3様式1!X162<> \"-\",TEXT(INT(P_20号3様式1!X162),\"#,##0\"),\"-\"),\"\")","v":""},{"$f":"IF(P_20号3様式1!X162<> \"\",IF(P_20号3様式1!X162<> \"-\",IF(VALUE(FIXED(P_20号3様式1!X162,0,TRUE))<>P_20号3様式1!X162,RIGHT(FIXED(P_20号3様式1!X162,3,FALSE),4),\"\"),\"\"),\"\")","v":""},{"$f":"IF(P_20号3様式1!AA162<> \"\",IF(P_20号3様式1!AA162<> \"-\",TEXT(INT(P_20号3様式1!AA162),\"#,##0\"),\"-\"),\"\")","v":""},{"$f":"IF(P_20号3様式1!AA162<> \"\",IF(P_20号3様式1!AA162<> \"-\",IF(VALUE(FIXED(P_20号3様式1!AA162,0,TRUE))<>P_20号3様式1!AA162,RIGHT(FIXED(P_20号3様式1!AA162,3,FALSE),4),\"\"),\"\"),\"\")","v":""}]
[{"$f":"IF(P_20号3様式1!C163=\"\",\"\",P_20号3様式1!C163)","v":""},{"$f":"IF(P_20号3様式1!AE163<> \"\",TEXT(INT(P_20号3様式1!AE163),\"#,##0\"),\"\")","v":""},{"$f":"IF(P_20号3様式1!AE163= \"\",\"\",IF(VALUE(FIXED(P_20号3様式1!AE163,0,TRUE))<>P_20号3様式1!AE163,RIGHT(FIXED(P_20号3様式1!AE163,3,FALSE),4),\"\"))","v":""},{"$f":"IF(P_20号3様式1!F163<> \"\",IF(P_20号3様式1!F163<> \"-\",TEXT(INT(P_20号3様式1!F163),\"#,##0\"),\"-\"),\"\")","v":""},{"$f":"IF(P_20号3様式1!F163<> \"\",IF(P_20号3様式1!F163<> \"-\",IF(VALUE(FIXED(P_20号3様式1!F163,0,TRUE))<>P_20号3様式1!F163,RIGHT(FIXED(P_20号3様式1!F163,3,FALSE),4),\"\"),\"\"),\"\")","v":""},{"$f":"IF(P_20号3様式1!I163<> \"\",IF(P_20号3様式1!I163<> \"-\",TEXT(INT(P_20号3様式1!I163),\"#,##0\"),\"-\"),\"\")","v":""},{"$f":"IF(P_20号3様式1!I163<> \"\",IF(P_20号3様式1!I163<> \"-\",IF(VALUE(FIXED(P_20号3様式1!I163,0,TRUE))<>P_20号3様式1!I163,RIGHT(FIXED(P_20号3様式1!I163,3,FALSE),4),\"\"),\"\"),\"\")","v":""},{"$f":"IF(P_20号3様式1!L163<> \"\",IF(P_20号3様式1!L163<> \"-\",TEXT(INT(P_20号3様式1!L163),\"#,##0\"),\"-\"),\"\")","v":""},{"$f":"IF(P_20号3様式1!L163<> \"\",IF(P_20号3様式1!L163<> \"-\",IF(VALUE(FIXED(P_20号3様式1!L163,0,TRUE))<>P_20号3様式1!L163,RIGHT(FIXED(P_20号3様式1!L163,3,FALSE),4),\"\"),\"\"),\"\")","v":""},{"$f":"IF(P_20号3様式1!O163<> \"\",IF(P_20号3様式1!O163<> \"-\",TEXT(INT(P_20号3様式1!O163),\"#,##0\"),\"-\"),\"\")","v":""},{"$f":"IF(P_20号3様式1!O163<> \"\",IF(P_20号3様式1!O163<> \"-\",IF(VALUE(FIXED(P_20号3様式1!O163,0,TRUE))<>P_20号3様式1!O163,RIGHT(FIXED(P_20号3様式1!O163,3,FALSE),4),\"\"),\"\"),\"\")","v":""},{"$f":"IF(P_20号3様式1!R163<> \"\",IF(P_20号3様式1!R163<> \"-\",TEXT(INT(P_20号3様式1!R163),\"#,##0\"),\"-\"),\"\")","v":""},{"$f":"IF(P_20号3様式1!R163<> \"\",IF(P_20号3様式1!R163<> \"-\",IF(VALUE(FIXED(P_20号3様式1!R163,0,TRUE))<>P_20号3様式1!R163,RIGHT(FIXED(P_20号3様式1!R163,3,FALSE),4),\"\"),\"\"),\"\")","v":""},{"$f":"IF(P_20号3様式1!U163<> \"\",IF(P_20号3様式1!U163<> \"-\",TEXT(INT(P_20号3様式1!U163),\"#,##0\"),\"-\"),\"\")","v":""},{"$f":"IF(P_20号3様式1!U163<> \"\",IF(P_20号3様式1!U163<> \"-\",IF(VALUE(FIXED(P_20号3様式1!U163,0,TRUE))<>P_20号3様式1!U163,RIGHT(FIXED(P_20号3様式1!U163,3,FALSE),4),\"\"),\"\"),\"\")","v":""},{"$f":"IF(P_20号3様式1!X163<> \"\",IF(P_20号3様式1!X163<> \"-\",TEXT(INT(P_20号3様式1!X163),\"#,##0\"),\"-\"),\"\")","v":""},{"$f":"IF(P_20号3様式1!X163<> \"\",IF(P_20号3様式1!X163<> \"-\",IF(VALUE(FIXED(P_20号3様式1!X163,0,TRUE))<>P_20号3様式1!X163,RIGHT(FIXED(P_20号3様式1!X163,3,FALSE),4),\"\"),\"\"),\"\")","v":""},{"$f":"IF(P_20号3様式1!AA163<> \"\",IF(P_20号3様式1!AA163<> \"-\",TEXT(INT(P_20号3様式1!AA163),\"#,##0\"),\"-\"),\"\")","v":""},{"$f":"IF(P_20号3様式1!AA163<> \"\",IF(P_20号3様式1!AA163<> \"-\",IF(VALUE(FIXED(P_20号3様式1!AA163,0,TRUE))<>P_20号3様式1!AA163,RIGHT(FIXED(P_20号3様式1!AA163,3,FALSE),4),\"\"),\"\"),\"\")","v":""}]
[{"$f":"IF(P_20号3様式1!C164=\"\",\"\",P_20号3様式1!C164)","v":""},{"$f":"IF(P_20号3様式1!AE164<> \"\",TEXT(INT(P_20号3様式1!AE164),\"#,##0\"),\"\")","v":""},{"$f":"IF(P_20号3様式1!AE164= \"\",\"\",IF(VALUE(FIXED(P_20号3様式1!AE164,0,TRUE))<>P_20号3様式1!AE164,RIGHT(FIXED(P_20号3様式1!AE164,3,FALSE),4),\"\"))","v":""},{"$f":"IF(P_20号3様式1!F164<> \"\",IF(P_20号3様式1!F164<> \"-\",TEXT(INT(P_20号3様式1!F164),\"#,##0\"),\"-\"),\"\")","v":""},{"$f":"IF(P_20号3様式1!F164<> \"\",IF(P_20号3様式1!F164<> \"-\",IF(VALUE(FIXED(P_20号3様式1!F164,0,TRUE))<>P_20号3様式1!F164,RIGHT(FIXED(P_20号3様式1!F164,3,FALSE),4),\"\"),\"\"),\"\")","v":""},{"$f":"IF(P_20号3様式1!I164<> \"\",IF(P_20号3様式1!I164<> \"-\",TEXT(INT(P_20号3様式1!I164),\"#,##0\"),\"-\"),\"\")","v":""},{"$f":"IF(P_20号3様式1!I164<> \"\",IF(P_20号3様式1!I164<> \"-\",IF(VALUE(FIXED(P_20号3様式1!I164,0,TRUE))<>P_20号3様式1!I164,RIGHT(FIXED(P_20号3様式1!I164,3,FALSE),4),\"\"),\"\"),\"\")","v":""},{"$f":"IF(P_20号3様式1!L164<> \"\",IF(P_20号3様式1!L164<> \"-\",TEXT(INT(P_20号3様式1!L164),\"#,##0\"),\"-\"),\"\")","v":""},{"$f":"IF(P_20号3様式1!L164<> \"\",IF(P_20号3様式1!L164<> \"-\",IF(VALUE(FIXED(P_20号3様式1!L164,0,TRUE))<>P_20号3様式1!L164,RIGHT(FIXED(P_20号3様式1!L164,3,FALSE),4),\"\"),\"\"),\"\")","v":""},{"$f":"IF(P_20号3様式1!O164<> \"\",IF(P_20号3様式1!O164<> \"-\",TEXT(INT(P_20号3様式1!O164),\"#,##0\"),\"-\"),\"\")","v":""},{"$f":"IF(P_20号3様式1!O164<> \"\",IF(P_20号3様式1!O164<> \"-\",IF(VALUE(FIXED(P_20号3様式1!O164,0,TRUE))<>P_20号3様式1!O164,RIGHT(FIXED(P_20号3様式1!O164,3,FALSE),4),\"\"),\"\"),\"\")","v":""},{"$f":"IF(P_20号3様式1!R164<> \"\",IF(P_20号3様式1!R164<> \"-\",TEXT(INT(P_20号3様式1!R164),\"#,##0\"),\"-\"),\"\")","v":""},{"$f":"IF(P_20号3様式1!R164<> \"\",IF(P_20号3様式1!R164<> \"-\",IF(VALUE(FIXED(P_20号3様式1!R164,0,TRUE))<>P_20号3様式1!R164,RIGHT(FIXED(P_20号3様式1!R164,3,FALSE),4),\"\"),\"\"),\"\")","v":""},{"$f":"IF(P_20号3様式1!U164<> \"\",IF(P_20号3様式1!U164<> \"-\",TEXT(INT(P_20号3様式1!U164),\"#,##0\"),\"-\"),\"\")","v":""},{"$f":"IF(P_20号3様式1!U164<> \"\",IF(P_20号3様式1!U164<> \"-\",IF(VALUE(FIXED(P_20号3様式1!U164,0,TRUE))<>P_20号3様式1!U164,RIGHT(FIXED(P_20号3様式1!U164,3,FALSE),4),\"\"),\"\"),\"\")","v":""},{"$f":"IF(P_20号3様式1!X164<> \"\",IF(P_20号3様式1!X164<> \"-\",TEXT(INT(P_20号3様式1!X164),\"#,##0\"),\"-\"),\"\")","v":""},{"$f":"IF(P_20号3様式1!X164<> \"\",IF(P_20号3様式1!X164<> \"-\",IF(VALUE(FIXED(P_20号3様式1!X164,0,TRUE))<>P_20号3様式1!X164,RIGHT(FIXED(P_20号3様式1!X164,3,FALSE),4),\"\"),\"\"),\"\")","v":""},{"$f":"IF(P_20号3様式1!AA164<> \"\",IF(P_20号3様式1!AA164<> \"-\",TEXT(INT(P_20号3様式1!AA164),\"#,##0\"),\"-\"),\"\")","v":""},{"$f":"IF(P_20号3様式1!AA164<> \"\",IF(P_20号3様式1!AA164<> \"-\",IF(VALUE(FIXED(P_20号3様式1!AA164,0,TRUE))<>P_20号3様式1!AA164,RIGHT(FIXED(P_20号3様式1!AA164,3,FALSE),4),\"\"),\"\"),\"\")","v":""}]
[{"$f":"IF(P_20号3様式1!C165=\"\",\"\",P_20号3様式1!C165)","v":""},{"$f":"IF(P_20号3様式1!AE165<> \"\",TEXT(INT(P_20号3様式1!AE165),\"#,##0\"),\"\")","v":""},{"$f":"IF(P_20号3様式1!AE165= \"\",\"\",IF(VALUE(FIXED(P_20号3様式1!AE165,0,TRUE))<>P_20号3様式1!AE165,RIGHT(FIXED(P_20号3様式1!AE165,3,FALSE),4),\"\"))","v":""},{"$f":"IF(P_20号3様式1!F165<> \"\",IF(P_20号3様式1!F165<> \"-\",TEXT(INT(P_20号3様式1!F165),\"#,##0\"),\"-\"),\"\")","v":""},{"$f":"IF(P_20号3様式1!F165<> \"\",IF(P_20号3様式1!F165<> \"-\",IF(VALUE(FIXED(P_20号3様式1!F165,0,TRUE))<>P_20号3様式1!F165,RIGHT(FIXED(P_20号3様式1!F165,3,FALSE),4),\"\"),\"\"),\"\")","v":""},{"$f":"IF(P_20号3様式1!I165<> \"\",IF(P_20号3様式1!I165<> \"-\",TEXT(INT(P_20号3様式1!I165),\"#,##0\"),\"-\"),\"\")","v":""},{"$f":"IF(P_20号3様式1!I165<> \"\",IF(P_20号3様式1!I165<> \"-\",IF(VALUE(FIXED(P_20号3様式1!I165,0,TRUE))<>P_20号3様式1!I165,RIGHT(FIXED(P_20号3様式1!I165,3,FALSE),4),\"\"),\"\"),\"\")","v":""},{"$f":"IF(P_20号3様式1!L165<> \"\",IF(P_20号3様式1!L165<> \"-\",TEXT(INT(P_20号3様式1!L165),\"#,##0\"),\"-\"),\"\")","v":""},{"$f":"IF(P_20号3様式1!L165<> \"\",IF(P_20号3様式1!L165<> \"-\",IF(VALUE(FIXED(P_20号3様式1!L165,0,TRUE))<>P_20号3様式1!L165,RIGHT(FIXED(P_20号3様式1!L165,3,FALSE),4),\"\"),\"\"),\"\")","v":""},{"$f":"IF(P_20号3様式1!O165<> \"\",IF(P_20号3様式1!O165<> \"-\",TEXT(INT(P_20号3様式1!O165),\"#,##0\"),\"-\"),\"\")","v":""},{"$f":"IF(P_20号3様式1!O165<> \"\",IF(P_20号3様式1!O165<> \"-\",IF(VALUE(FIXED(P_20号3様式1!O165,0,TRUE))<>P_20号3様式1!O165,RIGHT(FIXED(P_20号3様式1!O165,3,FALSE),4),\"\"),\"\"),\"\")","v":""},{"$f":"IF(P_20号3様式1!R165<> \"\",IF(P_20号3様式1!R165<> \"-\",TEXT(INT(P_20号3様式1!R165),\"#,##0\"),\"-\"),\"\")","v":""},{"$f":"IF(P_20号3様式1!R165<> \"\",IF(P_20号3様式1!R165<> \"-\",IF(VALUE(FIXED(P_20号3様式1!R165,0,TRUE))<>P_20号3様式1!R165,RIGHT(FIXED(P_20号3様式1!R165,3,FALSE),4),\"\"),\"\"),\"\")","v":""},{"$f":"IF(P_20号3様式1!U165<> \"\",IF(P_20号3様式1!U165<> \"-\",TEXT(INT(P_20号3様式1!U165),\"#,##0\"),\"-\"),\"\")","v":""},{"$f":"IF(P_20号3様式1!U165<> \"\",IF(P_20号3様式1!U165<> \"-\",IF(VALUE(FIXED(P_20号3様式1!U165,0,TRUE))<>P_20号3様式1!U165,RIGHT(FIXED(P_20号3様式1!U165,3,FALSE),4),\"\"),\"\"),\"\")","v":""},{"$f":"IF(P_20号3様式1!X165<> \"\",IF(P_20号3様式1!X165<> \"-\",TEXT(INT(P_20号3様式1!X165),\"#,##0\"),\"-\"),\"\")","v":""},{"$f":"IF(P_20号3様式1!X165<> \"\",IF(P_20号3様式1!X165<> \"-\",IF(VALUE(FIXED(P_20号3様式1!X165,0,TRUE))<>P_20号3様式1!X165,RIGHT(FIXED(P_20号3様式1!X165,3,FALSE),4),\"\"),\"\"),\"\")","v":""},{"$f":"IF(P_20号3様式1!AA165<> \"\",IF(P_20号3様式1!AA165<> \"-\",TEXT(INT(P_20号3様式1!AA165),\"#,##0\"),\"-\"),\"\")","v":""},{"$f":"IF(P_20号3様式1!AA165<> \"\",IF(P_20号3様式1!AA165<> \"-\",IF(VALUE(FIXED(P_20号3様式1!AA165,0,TRUE))<>P_20号3様式1!AA165,RIGHT(FIXED(P_20号3様式1!AA165,3,FALSE),4),\"\"),\"\"),\"\")","v":""}]
[{"$f":"IF(P_20号3様式1!C166=\"\",\"\",P_20号3様式1!C166)","v":""},{"$f":"IF(P_20号3様式1!AE166<> \"\",TEXT(INT(P_20号3様式1!AE166),\"#,##0\"),\"\")","v":""},{"$f":"IF(P_20号3様式1!AE166= \"\",\"\",IF(VALUE(FIXED(P_20号3様式1!AE166,0,TRUE))<>P_20号3様式1!AE166,RIGHT(FIXED(P_20号3様式1!AE166,3,FALSE),4),\"\"))","v":""},{"$f":"IF(P_20号3様式1!F166<> \"\",IF(P_20号3様式1!F166<> \"-\",TEXT(INT(P_20号3様式1!F166),\"#,##0\"),\"-\"),\"\")","v":""},{"$f":"IF(P_20号3様式1!F166<> \"\",IF(P_20号3様式1!F166<> \"-\",IF(VALUE(FIXED(P_20号3様式1!F166,0,TRUE))<>P_20号3様式1!F166,RIGHT(FIXED(P_20号3様式1!F166,3,FALSE),4),\"\"),\"\"),\"\")","v":""},{"$f":"IF(P_20号3様式1!I166<> \"\",IF(P_20号3様式1!I166<> \"-\",TEXT(INT(P_20号3様式1!I166),\"#,##0\"),\"-\"),\"\")","v":""},{"$f":"IF(P_20号3様式1!I166<> \"\",IF(P_20号3様式1!I166<> \"-\",IF(VALUE(FIXED(P_20号3様式1!I166,0,TRUE))<>P_20号3様式1!I166,RIGHT(FIXED(P_20号3様式1!I166,3,FALSE),4),\"\"),\"\"),\"\")","v":""},{"$f":"IF(P_20号3様式1!L166<> \"\",IF(P_20号3様式1!L166<> \"-\",TEXT(INT(P_20号3様式1!L166),\"#,##0\"),\"-\"),\"\")","v":""},{"$f":"IF(P_20号3様式1!L166<> \"\",IF(P_20号3様式1!L166<> \"-\",IF(VALUE(FIXED(P_20号3様式1!L166,0,TRUE))<>P_20号3様式1!L166,RIGHT(FIXED(P_20号3様式1!L166,3,FALSE),4),\"\"),\"\"),\"\")","v":""},{"$f":"IF(P_20号3様式1!O166<> \"\",IF(P_20号3様式1!O166<> \"-\",TEXT(INT(P_20号3様式1!O166),\"#,##0\"),\"-\"),\"\")","v":""},{"$f":"IF(P_20号3様式1!O166<> \"\",IF(P_20号3様式1!O166<> \"-\",IF(VALUE(FIXED(P_20号3様式1!O166,0,TRUE))<>P_20号3様式1!O166,RIGHT(FIXED(P_20号3様式1!O166,3,FALSE),4),\"\"),\"\"),\"\")","v":""},{"$f":"IF(P_20号3様式1!R166<> \"\",IF(P_20号3様式1!R166<> \"-\",TEXT(INT(P_20号3様式1!R166),\"#,##0\"),\"-\"),\"\")","v":""},{"$f":"IF(P_20号3様式1!R166<> \"\",IF(P_20号3様式1!R166<> \"-\",IF(VALUE(FIXED(P_20号3様式1!R166,0,TRUE))<>P_20号3様式1!R166,RIGHT(FIXED(P_20号3様式1!R166,3,FALSE),4),\"\"),\"\"),\"\")","v":""},{"$f":"IF(P_20号3様式1!U166<> \"\",IF(P_20号3様式1!U166<> \"-\",TEXT(INT(P_20号3様式1!U166),\"#,##0\"),\"-\"),\"\")","v":""},{"$f":"IF(P_20号3様式1!U166<> \"\",IF(P_20号3様式1!U166<> \"-\",IF(VALUE(FIXED(P_20号3様式1!U166,0,TRUE))<>P_20号3様式1!U166,RIGHT(FIXED(P_20号3様式1!U166,3,FALSE),4),\"\"),\"\"),\"\")","v":""},{"$f":"IF(P_20号3様式1!X166<> \"\",IF(P_20号3様式1!X166<> \"-\",TEXT(INT(P_20号3様式1!X166),\"#,##0\"),\"-\"),\"\")","v":""},{"$f":"IF(P_20号3様式1!X166<> \"\",IF(P_20号3様式1!X166<> \"-\",IF(VALUE(FIXED(P_20号3様式1!X166,0,TRUE))<>P_20号3様式1!X166,RIGHT(FIXED(P_20号3様式1!X166,3,FALSE),4),\"\"),\"\"),\"\")","v":""},{"$f":"IF(P_20号3様式1!AA166<> \"\",IF(P_20号3様式1!AA166<> \"-\",TEXT(INT(P_20号3様式1!AA166),\"#,##0\"),\"-\"),\"\")","v":""},{"$f":"IF(P_20号3様式1!AA166<> \"\",IF(P_20号3様式1!AA166<> \"-\",IF(VALUE(FIXED(P_20号3様式1!AA166,0,TRUE))<>P_20号3様式1!AA166,RIGHT(FIXED(P_20号3様式1!AA166,3,FALSE),4),\"\"),\"\"),\"\")","v":""}]
[{"$f":"IF(P_20号3様式1!C167=\"\",\"\",P_20号3様式1!C167)","v":""},{"$f":"IF(P_20号3様式1!AE167<> \"\",TEXT(INT(P_20号3様式1!AE167),\"#,##0\"),\"\")","v":""},{"$f":"IF(P_20号3様式1!AE167= \"\",\"\",IF(VALUE(FIXED(P_20号3様式1!AE167,0,TRUE))<>P_20号3様式1!AE167,RIGHT(FIXED(P_20号3様式1!AE167,3,FALSE),4),\"\"))","v":""},{"$f":"IF(P_20号3様式1!F167<> \"\",IF(P_20号3様式1!F167<> \"-\",TEXT(INT(P_20号3様式1!F167),\"#,##0\"),\"-\"),\"\")","v":""},{"$f":"IF(P_20号3様式1!F167<> \"\",IF(P_20号3様式1!F167<> \"-\",IF(VALUE(FIXED(P_20号3様式1!F167,0,TRUE))<>P_20号3様式1!F167,RIGHT(FIXED(P_20号3様式1!F167,3,FALSE),4),\"\"),\"\"),\"\")","v":""},{"$f":"IF(P_20号3様式1!I167<> \"\",IF(P_20号3様式1!I167<> \"-\",TEXT(INT(P_20号3様式1!I167),\"#,##0\"),\"-\"),\"\")","v":""},{"$f":"IF(P_20号3様式1!I167<> \"\",IF(P_20号3様式1!I167<> \"-\",IF(VALUE(FIXED(P_20号3様式1!I167,0,TRUE))<>P_20号3様式1!I167,RIGHT(FIXED(P_20号3様式1!I167,3,FALSE),4),\"\"),\"\"),\"\")","v":""},{"$f":"IF(P_20号3様式1!L167<> \"\",IF(P_20号3様式1!L167<> \"-\",TEXT(INT(P_20号3様式1!L167),\"#,##0\"),\"-\"),\"\")","v":""},{"$f":"IF(P_20号3様式1!L167<> \"\",IF(P_20号3様式1!L167<> \"-\",IF(VALUE(FIXED(P_20号3様式1!L167,0,TRUE))<>P_20号3様式1!L167,RIGHT(FIXED(P_20号3様式1!L167,3,FALSE),4),\"\"),\"\"),\"\")","v":""},{"$f":"IF(P_20号3様式1!O167<> \"\",IF(P_20号3様式1!O167<> \"-\",TEXT(INT(P_20号3様式1!O167),\"#,##0\"),\"-\"),\"\")","v":""},{"$f":"IF(P_20号3様式1!O167<> \"\",IF(P_20号3様式1!O167<> \"-\",IF(VALUE(FIXED(P_20号3様式1!O167,0,TRUE))<>P_20号3様式1!O167,RIGHT(FIXED(P_20号3様式1!O167,3,FALSE),4),\"\"),\"\"),\"\")","v":""},{"$f":"IF(P_20号3様式1!R167<> \"\",IF(P_20号3様式1!R167<> \"-\",TEXT(INT(P_20号3様式1!R167),\"#,##0\"),\"-\"),\"\")","v":""},{"$f":"IF(P_20号3様式1!R167<> \"\",IF(P_20号3様式1!R167<> \"-\",IF(VALUE(FIXED(P_20号3様式1!R167,0,TRUE))<>P_20号3様式1!R167,RIGHT(FIXED(P_20号3様式1!R167,3,FALSE),4),\"\"),\"\"),\"\")","v":""},{"$f":"IF(P_20号3様式1!U167<> \"\",IF(P_20号3様式1!U167<> \"-\",TEXT(INT(P_20号3様式1!U167),\"#,##0\"),\"-\"),\"\")","v":""},{"$f":"IF(P_20号3様式1!U167<> \"\",IF(P_20号3様式1!U167<> \"-\",IF(VALUE(FIXED(P_20号3様式1!U167,0,TRUE))<>P_20号3様式1!U167,RIGHT(FIXED(P_20号3様式1!U167,3,FALSE),4),\"\"),\"\"),\"\")","v":""},{"$f":"IF(P_20号3様式1!X167<> \"\",IF(P_20号3様式1!X167<> \"-\",TEXT(INT(P_20号3様式1!X167),\"#,##0\"),\"-\"),\"\")","v":""},{"$f":"IF(P_20号3様式1!X167<> \"\",IF(P_20号3様式1!X167<> \"-\",IF(VALUE(FIXED(P_20号3様式1!X167,0,TRUE))<>P_20号3様式1!X167,RIGHT(FIXED(P_20号3様式1!X167,3,FALSE),4),\"\"),\"\"),\"\")","v":""},{"$f":"IF(P_20号3様式1!AA167<> \"\",IF(P_20号3様式1!AA167<> \"-\",TEXT(INT(P_20号3様式1!AA167),\"#,##0\"),\"-\"),\"\")","v":""},{"$f":"IF(P_20号3様式1!AA167<> \"\",IF(P_20号3様式1!AA167<> \"-\",IF(VALUE(FIXED(P_20号3様式1!AA167,0,TRUE))<>P_20号3様式1!AA167,RIGHT(FIXED(P_20号3様式1!AA167,3,FALSE),4),\"\"),\"\"),\"\")","v":""}]
[{"$f":"IF(P_20号3様式1!C168=\"\",\"\",P_20号3様式1!C168)","v":""},{"$f":"IF(P_20号3様式1!AE168<> \"\",TEXT(INT(P_20号3様式1!AE168),\"#,##0\"),\"\")","v":""},{"$f":"IF(P_20号3様式1!AE168= \"\",\"\",IF(VALUE(FIXED(P_20号3様式1!AE168,0,TRUE))<>P_20号3様式1!AE168,RIGHT(FIXED(P_20号3様式1!AE168,3,FALSE),4),\"\"))","v":""},{"$f":"IF(P_20号3様式1!F168<> \"\",IF(P_20号3様式1!F168<> \"-\",TEXT(INT(P_20号3様式1!F168),\"#,##0\"),\"-\"),\"\")","v":""},{"$f":"IF(P_20号3様式1!F168<> \"\",IF(P_20号3様式1!F168<> \"-\",IF(VALUE(FIXED(P_20号3様式1!F168,0,TRUE))<>P_20号3様式1!F168,RIGHT(FIXED(P_20号3様式1!F168,3,FALSE),4),\"\"),\"\"),\"\")","v":""},{"$f":"IF(P_20号3様式1!I168<> \"\",IF(P_20号3様式1!I168<> \"-\",TEXT(INT(P_20号3様式1!I168),\"#,##0\"),\"-\"),\"\")","v":""},{"$f":"IF(P_20号3様式1!I168<> \"\",IF(P_20号3様式1!I168<> \"-\",IF(VALUE(FIXED(P_20号3様式1!I168,0,TRUE))<>P_20号3様式1!I168,RIGHT(FIXED(P_20号3様式1!I168,3,FALSE),4),\"\"),\"\"),\"\")","v":""},{"$f":"IF(P_20号3様式1!L168<> \"\",IF(P_20号3様式1!L168<> \"-\",TEXT(INT(P_20号3様式1!L168),\"#,##0\"),\"-\"),\"\")","v":""},{"$f":"IF(P_20号3様式1!L168<> \"\",IF(P_20号3様式1!L168<> \"-\",IF(VALUE(FIXED(P_20号3様式1!L168,0,TRUE))<>P_20号3様式1!L168,RIGHT(FIXED(P_20号3様式1!L168,3,FALSE),4),\"\"),\"\"),\"\")","v":""},{"$f":"IF(P_20号3様式1!O168<> \"\",IF(P_20号3様式1!O168<> \"-\",TEXT(INT(P_20号3様式1!O168),\"#,##0\"),\"-\"),\"\")","v":""},{"$f":"IF(P_20号3様式1!O168<> \"\",IF(P_20号3様式1!O168<> \"-\",IF(VALUE(FIXED(P_20号3様式1!O168,0,TRUE))<>P_20号3様式1!O168,RIGHT(FIXED(P_20号3様式1!O168,3,FALSE),4),\"\"),\"\"),\"\")","v":""},{"$f":"IF(P_20号3様式1!R168<> \"\",IF(P_20号3様式1!R168<> \"-\",TEXT(INT(P_20号3様式1!R168),\"#,##0\"),\"-\"),\"\")","v":""},{"$f":"IF(P_20号3様式1!R168<> \"\",IF(P_20号3様式1!R168<> \"-\",IF(VALUE(FIXED(P_20号3様式1!R168,0,TRUE))<>P_20号3様式1!R168,RIGHT(FIXED(P_20号3様式1!R168,3,FALSE),4),\"\"),\"\"),\"\")","v":""},{"$f":"IF(P_20号3様式1!U168<> \"\",IF(P_20号3様式1!U168<> \"-\",TEXT(INT(P_20号3様式1!U168),\"#,##0\"),\"-\"),\"\")","v":""},{"$f":"IF(P_20号3様式1!U168<> \"\",IF(P_20号3様式1!U168<> \"-\",IF(VALUE(FIXED(P_20号3様式1!U168,0,TRUE))<>P_20号3様式1!U168,RIGHT(FIXED(P_20号3様式1!U168,3,FALSE),4),\"\"),\"\"),\"\")","v":""},{"$f":"IF(P_20号3様式1!X168<> \"\",IF(P_20号3様式1!X168<> \"-\",TEXT(INT(P_20号3様式1!X168),\"#,##0\"),\"-\"),\"\")","v":""},{"$f":"IF(P_20号3様式1!X168<> \"\",IF(P_20号3様式1!X168<> \"-\",IF(VALUE(FIXED(P_20号3様式1!X168,0,TRUE))<>P_20号3様式1!X168,RIGHT(FIXED(P_20号3様式1!X168,3,FALSE),4),\"\"),\"\"),\"\")","v":""},{"$f":"IF(P_20号3様式1!AA168<> \"\",IF(P_20号3様式1!AA168<> \"-\",TEXT(INT(P_20号3様式1!AA168),\"#,##0\"),\"-\"),\"\")","v":""},{"$f":"IF(P_20号3様式1!AA168<> \"\",IF(P_20号3様式1!AA168<> \"-\",IF(VALUE(FIXED(P_20号3様式1!AA168,0,TRUE))<>P_20号3様式1!AA168,RIGHT(FIXED(P_20号3様式1!AA168,3,FALSE),4),\"\"),\"\"),\"\")","v":""}]
[{"$f":"IF(P_20号3様式1!C169=\"\",\"\",P_20号3様式1!C169)","v":""},{"$f":"IF(P_20号3様式1!AE169<> \"\",TEXT(INT(P_20号3様式1!AE169),\"#,##0\"),\"\")","v":""},{"$f":"IF(P_20号3様式1!AE169= \"\",\"\",IF(VALUE(FIXED(P_20号3様式1!AE169,0,TRUE))<>P_20号3様式1!AE169,RIGHT(FIXED(P_20号3様式1!AE169,3,FALSE),4),\"\"))","v":""},{"$f":"IF(P_20号3様式1!F169<> \"\",IF(P_20号3様式1!F169<> \"-\",TEXT(INT(P_20号3様式1!F169),\"#,##0\"),\"-\"),\"\")","v":""},{"$f":"IF(P_20号3様式1!F169<> \"\",IF(P_20号3様式1!F169<> \"-\",IF(VALUE(FIXED(P_20号3様式1!F169,0,TRUE))<>P_20号3様式1!F169,RIGHT(FIXED(P_20号3様式1!F169,3,FALSE),4),\"\"),\"\"),\"\")","v":""},{"$f":"IF(P_20号3様式1!I169<> \"\",IF(P_20号3様式1!I169<> \"-\",TEXT(INT(P_20号3様式1!I169),\"#,##0\"),\"-\"),\"\")","v":""},{"$f":"IF(P_20号3様式1!I169<> \"\",IF(P_20号3様式1!I169<> \"-\",IF(VALUE(FIXED(P_20号3様式1!I169,0,TRUE))<>P_20号3様式1!I169,RIGHT(FIXED(P_20号3様式1!I169,3,FALSE),4),\"\"),\"\"),\"\")","v":""},{"$f":"IF(P_20号3様式1!L169<> \"\",IF(P_20号3様式1!L169<> \"-\",TEXT(INT(P_20号3様式1!L169),\"#,##0\"),\"-\"),\"\")","v":""},{"$f":"IF(P_20号3様式1!L169<> \"\",IF(P_20号3様式1!L169<> \"-\",IF(VALUE(FIXED(P_20号3様式1!L169,0,TRUE))<>P_20号3様式1!L169,RIGHT(FIXED(P_20号3様式1!L169,3,FALSE),4),\"\"),\"\"),\"\")","v":""},{"$f":"IF(P_20号3様式1!O169<> \"\",IF(P_20号3様式1!O169<> \"-\",TEXT(INT(P_20号3様式1!O169),\"#,##0\"),\"-\"),\"\")","v":""},{"$f":"IF(P_20号3様式1!O169<> \"\",IF(P_20号3様式1!O169<> \"-\",IF(VALUE(FIXED(P_20号3様式1!O169,0,TRUE))<>P_20号3様式1!O169,RIGHT(FIXED(P_20号3様式1!O169,3,FALSE),4),\"\"),\"\"),\"\")","v":""},{"$f":"IF(P_20号3様式1!R169<> \"\",IF(P_20号3様式1!R169<> \"-\",TEXT(INT(P_20号3様式1!R169),\"#,##0\"),\"-\"),\"\")","v":""},{"$f":"IF(P_20号3様式1!R169<> \"\",IF(P_20号3様式1!R169<> \"-\",IF(VALUE(FIXED(P_20号3様式1!R169,0,TRUE))<>P_20号3様式1!R169,RIGHT(FIXED(P_20号3様式1!R169,3,FALSE),4),\"\"),\"\"),\"\")","v":""},{"$f":"IF(P_20号3様式1!U169<> \"\",IF(P_20号3様式1!U169<> \"-\",TEXT(INT(P_20号3様式1!U169),\"#,##0\"),\"-\"),\"\")","v":""},{"$f":"IF(P_20号3様式1!U169<> \"\",IF(P_20号3様式1!U169<> \"-\",IF(VALUE(FIXED(P_20号3様式1!U169,0,TRUE))<>P_20号3様式1!U169,RIGHT(FIXED(P_20号3様式1!U169,3,FALSE),4),\"\"),\"\"),\"\")","v":""},{"$f":"IF(P_20号3様式1!X169<> \"\",IF(P_20号3様式1!X169<> \"-\",TEXT(INT(P_20号3様式1!X169),\"#,##0\"),\"-\"),\"\")","v":""},{"$f":"IF(P_20号3様式1!X169<> \"\",IF(P_20号3様式1!X169<> \"-\",IF(VALUE(FIXED(P_20号3様式1!X169,0,TRUE))<>P_20号3様式1!X169,RIGHT(FIXED(P_20号3様式1!X169,3,FALSE),4),\"\"),\"\"),\"\")","v":""},{"$f":"IF(P_20号3様式1!AA169<> \"\",IF(P_20号3様式1!AA169<> \"-\",TEXT(INT(P_20号3様式1!AA169),\"#,##0\"),\"-\"),\"\")","v":""},{"$f":"IF(P_20号3様式1!AA169<> \"\",IF(P_20号3様式1!AA169<> \"-\",IF(VALUE(FIXED(P_20号3様式1!AA169,0,TRUE))<>P_20号3様式1!AA169,RIGHT(FIXED(P_20号3様式1!AA169,3,FALSE),4),\"\"),\"\"),\"\")","v":""}]
[{"$f":"IF(P_20号3様式1!C170=\"\",\"\",P_20号3様式1!C170)","v":""},{"$f":"IF(P_20号3様式1!AE170<> \"\",TEXT(INT(P_20号3様式1!AE170),\"#,##0\"),\"\")","v":""},{"$f":"IF(P_20号3様式1!AE170= \"\",\"\",IF(VALUE(FIXED(P_20号3様式1!AE170,0,TRUE))<>P_20号3様式1!AE170,RIGHT(FIXED(P_20号3様式1!AE170,3,FALSE),4),\"\"))","v":""},{"$f":"IF(P_20号3様式1!F170<> \"\",IF(P_20号3様式1!F170<> \"-\",TEXT(INT(P_20号3様式1!F170),\"#,##0\"),\"-\"),\"\")","v":""},{"$f":"IF(P_20号3様式1!F170<> \"\",IF(P_20号3様式1!F170<> \"-\",IF(VALUE(FIXED(P_20号3様式1!F170,0,TRUE))<>P_20号3様式1!F170,RIGHT(FIXED(P_20号3様式1!F170,3,FALSE),4),\"\"),\"\"),\"\")","v":""},{"$f":"IF(P_20号3様式1!I170<> \"\",IF(P_20号3様式1!I170<> \"-\",TEXT(INT(P_20号3様式1!I170),\"#,##0\"),\"-\"),\"\")","v":""},{"$f":"IF(P_20号3様式1!I170<> \"\",IF(P_20号3様式1!I170<> \"-\",IF(VALUE(FIXED(P_20号3様式1!I170,0,TRUE))<>P_20号3様式1!I170,RIGHT(FIXED(P_20号3様式1!I170,3,FALSE),4),\"\"),\"\"),\"\")","v":""},{"$f":"IF(P_20号3様式1!L170<> \"\",IF(P_20号3様式1!L170<> \"-\",TEXT(INT(P_20号3様式1!L170),\"#,##0\"),\"-\"),\"\")","v":""},{"$f":"IF(P_20号3様式1!L170<> \"\",IF(P_20号3様式1!L170<> \"-\",IF(VALUE(FIXED(P_20号3様式1!L170,0,TRUE))<>P_20号3様式1!L170,RIGHT(FIXED(P_20号3様式1!L170,3,FALSE),4),\"\"),\"\"),\"\")","v":""},{"$f":"IF(P_20号3様式1!O170<> \"\",IF(P_20号3様式1!O170<> \"-\",TEXT(INT(P_20号3様式1!O170),\"#,##0\"),\"-\"),\"\")","v":""},{"$f":"IF(P_20号3様式1!O170<> \"\",IF(P_20号3様式1!O170<> \"-\",IF(VALUE(FIXED(P_20号3様式1!O170,0,TRUE))<>P_20号3様式1!O170,RIGHT(FIXED(P_20号3様式1!O170,3,FALSE),4),\"\"),\"\"),\"\")","v":""},{"$f":"IF(P_20号3様式1!R170<> \"\",IF(P_20号3様式1!R170<> \"-\",TEXT(INT(P_20号3様式1!R170),\"#,##0\"),\"-\"),\"\")","v":""},{"$f":"IF(P_20号3様式1!R170<> \"\",IF(P_20号3様式1!R170<> \"-\",IF(VALUE(FIXED(P_20号3様式1!R170,0,TRUE))<>P_20号3様式1!R170,RIGHT(FIXED(P_20号3様式1!R170,3,FALSE),4),\"\"),\"\"),\"\")","v":""},{"$f":"IF(P_20号3様式1!U170<> \"\",IF(P_20号3様式1!U170<> \"-\",TEXT(INT(P_20号3様式1!U170),\"#,##0\"),\"-\"),\"\")","v":""},{"$f":"IF(P_20号3様式1!U170<> \"\",IF(P_20号3様式1!U170<> \"-\",IF(VALUE(FIXED(P_20号3様式1!U170,0,TRUE))<>P_20号3様式1!U170,RIGHT(FIXED(P_20号3様式1!U170,3,FALSE),4),\"\"),\"\"),\"\")","v":""},{"$f":"IF(P_20号3様式1!X170<> \"\",IF(P_20号3様式1!X170<> \"-\",TEXT(INT(P_20号3様式1!X170),\"#,##0\"),\"-\"),\"\")","v":""},{"$f":"IF(P_20号3様式1!X170<> \"\",IF(P_20号3様式1!X170<> \"-\",IF(VALUE(FIXED(P_20号3様式1!X170,0,TRUE))<>P_20号3様式1!X170,RIGHT(FIXED(P_20号3様式1!X170,3,FALSE),4),\"\"),\"\"),\"\")","v":""},{"$f":"IF(P_20号3様式1!AA170<> \"\",IF(P_20号3様式1!AA170<> \"-\",TEXT(INT(P_20号3様式1!AA170),\"#,##0\"),\"-\"),\"\")","v":""},{"$f":"IF(P_20号3様式1!AA170<> \"\",IF(P_20号3様式1!AA170<> \"-\",IF(VALUE(FIXED(P_20号3様式1!AA170,0,TRUE))<>P_20号3様式1!AA170,RIGHT(FIXED(P_20号3様式1!AA170,3,FALSE),4),\"\"),\"\"),\"\")","v":""}]
[{"$f":"IF(P_20号3様式1!C171=\"\",\"\",P_20号3様式1!C171)","v":""},{"$f":"IF(P_20号3様式1!AE171<> \"\",TEXT(INT(P_20号3様式1!AE171),\"#,##0\"),\"\")","v":""},{"$f":"IF(P_20号3様式1!AE171= \"\",\"\",IF(VALUE(FIXED(P_20号3様式1!AE171,0,TRUE))<>P_20号3様式1!AE171,RIGHT(FIXED(P_20号3様式1!AE171,3,FALSE),4),\"\"))","v":""},{"$f":"IF(P_20号3様式1!F171<> \"\",IF(P_20号3様式1!F171<> \"-\",TEXT(INT(P_20号3様式1!F171),\"#,##0\"),\"-\"),\"\")","v":""},{"$f":"IF(P_20号3様式1!F171<> \"\",IF(P_20号3様式1!F171<> \"-\",IF(VALUE(FIXED(P_20号3様式1!F171,0,TRUE))<>P_20号3様式1!F171,RIGHT(FIXED(P_20号3様式1!F171,3,FALSE),4),\"\"),\"\"),\"\")","v":""},{"$f":"IF(P_20号3様式1!I171<> \"\",IF(P_20号3様式1!I171<> \"-\",TEXT(INT(P_20号3様式1!I171),\"#,##0\"),\"-\"),\"\")","v":""},{"$f":"IF(P_20号3様式1!I171<> \"\",IF(P_20号3様式1!I171<> \"-\",IF(VALUE(FIXED(P_20号3様式1!I171,0,TRUE))<>P_20号3様式1!I171,RIGHT(FIXED(P_20号3様式1!I171,3,FALSE),4),\"\"),\"\"),\"\")","v":""},{"$f":"IF(P_20号3様式1!L171<> \"\",IF(P_20号3様式1!L171<> \"-\",TEXT(INT(P_20号3様式1!L171),\"#,##0\"),\"-\"),\"\")","v":""},{"$f":"IF(P_20号3様式1!L171<> \"\",IF(P_20号3様式1!L171<> \"-\",IF(VALUE(FIXED(P_20号3様式1!L171,0,TRUE))<>P_20号3様式1!L171,RIGHT(FIXED(P_20号3様式1!L171,3,FALSE),4),\"\"),\"\"),\"\")","v":""},{"$f":"IF(P_20号3様式1!O171<> \"\",IF(P_20号3様式1!O171<> \"-\",TEXT(INT(P_20号3様式1!O171),\"#,##0\"),\"-\"),\"\")","v":""},{"$f":"IF(P_20号3様式1!O171<> \"\",IF(P_20号3様式1!O171<> \"-\",IF(VALUE(FIXED(P_20号3様式1!O171,0,TRUE))<>P_20号3様式1!O171,RIGHT(FIXED(P_20号3様式1!O171,3,FALSE),4),\"\"),\"\"),\"\")","v":""},{"$f":"IF(P_20号3様式1!R171<> \"\",IF(P_20号3様式1!R171<> \"-\",TEXT(INT(P_20号3様式1!R171),\"#,##0\"),\"-\"),\"\")","v":""},{"$f":"IF(P_20号3様式1!R171<> \"\",IF(P_20号3様式1!R171<> \"-\",IF(VALUE(FIXED(P_20号3様式1!R171,0,TRUE))<>P_20号3様式1!R171,RIGHT(FIXED(P_20号3様式1!R171,3,FALSE),4),\"\"),\"\"),\"\")","v":""},{"$f":"IF(P_20号3様式1!U171<> \"\",IF(P_20号3様式1!U171<> \"-\",TEXT(INT(P_20号3様式1!U171),\"#,##0\"),\"-\"),\"\")","v":""},{"$f":"IF(P_20号3様式1!U171<> \"\",IF(P_20号3様式1!U171<> \"-\",IF(VALUE(FIXED(P_20号3様式1!U171,0,TRUE))<>P_20号3様式1!U171,RIGHT(FIXED(P_20号3様式1!U171,3,FALSE),4),\"\"),\"\"),\"\")","v":""},{"$f":"IF(P_20号3様式1!X171<> \"\",IF(P_20号3様式1!X171<> \"-\",TEXT(INT(P_20号3様式1!X171),\"#,##0\"),\"-\"),\"\")","v":""},{"$f":"IF(P_20号3様式1!X171<> \"\",IF(P_20号3様式1!X171<> \"-\",IF(VALUE(FIXED(P_20号3様式1!X171,0,TRUE))<>P_20号3様式1!X171,RIGHT(FIXED(P_20号3様式1!X171,3,FALSE),4),\"\"),\"\"),\"\")","v":""},{"$f":"IF(P_20号3様式1!AA171<> \"\",IF(P_20号3様式1!AA171<> \"-\",TEXT(INT(P_20号3様式1!AA171),\"#,##0\"),\"-\"),\"\")","v":""},{"$f":"IF(P_20号3様式1!AA171<> \"\",IF(P_20号3様式1!AA171<> \"-\",IF(VALUE(FIXED(P_20号3様式1!AA171,0,TRUE))<>P_20号3様式1!AA171,RIGHT(FIXED(P_20号3様式1!AA171,3,FALSE),4),\"\"),\"\"),\"\")","v":""}]
[{"$f":"IF(P_20号3様式1!C172=\"\",\"\",P_20号3様式1!C172)","v":""},{"$f":"IF(P_20号3様式1!AE172<> \"\",TEXT(INT(P_20号3様式1!AE172),\"#,##0\"),\"\")","v":""},{"$f":"IF(P_20号3様式1!AE172= \"\",\"\",IF(VALUE(FIXED(P_20号3様式1!AE172,0,TRUE))<>P_20号3様式1!AE172,RIGHT(FIXED(P_20号3様式1!AE172,3,FALSE),4),\"\"))","v":""},{"$f":"IF(P_20号3様式1!F172<> \"\",IF(P_20号3様式1!F172<> \"-\",TEXT(INT(P_20号3様式1!F172),\"#,##0\"),\"-\"),\"\")","v":""},{"$f":"IF(P_20号3様式1!F172<> \"\",IF(P_20号3様式1!F172<> \"-\",IF(VALUE(FIXED(P_20号3様式1!F172,0,TRUE))<>P_20号3様式1!F172,RIGHT(FIXED(P_20号3様式1!F172,3,FALSE),4),\"\"),\"\"),\"\")","v":""},{"$f":"IF(P_20号3様式1!I172<> \"\",IF(P_20号3様式1!I172<> \"-\",TEXT(INT(P_20号3様式1!I172),\"#,##0\"),\"-\"),\"\")","v":""},{"$f":"IF(P_20号3様式1!I172<> \"\",IF(P_20号3様式1!I172<> \"-\",IF(VALUE(FIXED(P_20号3様式1!I172,0,TRUE))<>P_20号3様式1!I172,RIGHT(FIXED(P_20号3様式1!I172,3,FALSE),4),\"\"),\"\"),\"\")","v":""},{"$f":"IF(P_20号3様式1!L172<> \"\",IF(P_20号3様式1!L172<> \"-\",TEXT(INT(P_20号3様式1!L172),\"#,##0\"),\"-\"),\"\")","v":""},{"$f":"IF(P_20号3様式1!L172<> \"\",IF(P_20号3様式1!L172<> \"-\",IF(VALUE(FIXED(P_20号3様式1!L172,0,TRUE))<>P_20号3様式1!L172,RIGHT(FIXED(P_20号3様式1!L172,3,FALSE),4),\"\"),\"\"),\"\")","v":""},{"$f":"IF(P_20号3様式1!O172<> \"\",IF(P_20号3様式1!O172<> \"-\",TEXT(INT(P_20号3様式1!O172),\"#,##0\"),\"-\"),\"\")","v":""},{"$f":"IF(P_20号3様式1!O172<> \"\",IF(P_20号3様式1!O172<> \"-\",IF(VALUE(FIXED(P_20号3様式1!O172,0,TRUE))<>P_20号3様式1!O172,RIGHT(FIXED(P_20号3様式1!O172,3,FALSE),4),\"\"),\"\"),\"\")","v":""},{"$f":"IF(P_20号3様式1!R172<> \"\",IF(P_20号3様式1!R172<> \"-\",TEXT(INT(P_20号3様式1!R172),\"#,##0\"),\"-\"),\"\")","v":""},{"$f":"IF(P_20号3様式1!R172<> \"\",IF(P_20号3様式1!R172<> \"-\",IF(VALUE(FIXED(P_20号3様式1!R172,0,TRUE))<>P_20号3様式1!R172,RIGHT(FIXED(P_20号3様式1!R172,3,FALSE),4),\"\"),\"\"),\"\")","v":""},{"$f":"IF(P_20号3様式1!U172<> \"\",IF(P_20号3様式1!U172<> \"-\",TEXT(INT(P_20号3様式1!U172),\"#,##0\"),\"-\"),\"\")","v":""},{"$f":"IF(P_20号3様式1!U172<> \"\",IF(P_20号3様式1!U172<> \"-\",IF(VALUE(FIXED(P_20号3様式1!U172,0,TRUE))<>P_20号3様式1!U172,RIGHT(FIXED(P_20号3様式1!U172,3,FALSE),4),\"\"),\"\"),\"\")","v":""},{"$f":"IF(P_20号3様式1!X172<> \"\",IF(P_20号3様式1!X172<> \"-\",TEXT(INT(P_20号3様式1!X172),\"#,##0\"),\"-\"),\"\")","v":""},{"$f":"IF(P_20号3様式1!X172<> \"\",IF(P_20号3様式1!X172<> \"-\",IF(VALUE(FIXED(P_20号3様式1!X172,0,TRUE))<>P_20号3様式1!X172,RIGHT(FIXED(P_20号3様式1!X172,3,FALSE),4),\"\"),\"\"),\"\")","v":""},{"$f":"IF(P_20号3様式1!AA172<> \"\",IF(P_20号3様式1!AA172<> \"-\",TEXT(INT(P_20号3様式1!AA172),\"#,##0\"),\"-\"),\"\")","v":""},{"$f":"IF(P_20号3様式1!AA172<> \"\",IF(P_20号3様式1!AA172<> \"-\",IF(VALUE(FIXED(P_20号3様式1!AA172,0,TRUE))<>P_20号3様式1!AA172,RIGHT(FIXED(P_20号3様式1!AA172,3,FALSE),4),\"\"),\"\"),\"\")","v":""}]
[{"$f":"IF(P_20号3様式1!C173=\"\",\"\",P_20号3様式1!C173)","v":""},{"$f":"IF(P_20号3様式1!AE173<> \"\",TEXT(INT(P_20号3様式1!AE173),\"#,##0\"),\"\")","v":""},{"$f":"IF(P_20号3様式1!AE173= \"\",\"\",IF(VALUE(FIXED(P_20号3様式1!AE173,0,TRUE))<>P_20号3様式1!AE173,RIGHT(FIXED(P_20号3様式1!AE173,3,FALSE),4),\"\"))","v":""},{"$f":"IF(P_20号3様式1!F173<> \"\",IF(P_20号3様式1!F173<> \"-\",TEXT(INT(P_20号3様式1!F173),\"#,##0\"),\"-\"),\"\")","v":""},{"$f":"IF(P_20号3様式1!F173<> \"\",IF(P_20号3様式1!F173<> \"-\",IF(VALUE(FIXED(P_20号3様式1!F173,0,TRUE))<>P_20号3様式1!F173,RIGHT(FIXED(P_20号3様式1!F173,3,FALSE),4),\"\"),\"\"),\"\")","v":""},{"$f":"IF(P_20号3様式1!I173<> \"\",IF(P_20号3様式1!I173<> \"-\",TEXT(INT(P_20号3様式1!I173),\"#,##0\"),\"-\"),\"\")","v":""},{"$f":"IF(P_20号3様式1!I173<> \"\",IF(P_20号3様式1!I173<> \"-\",IF(VALUE(FIXED(P_20号3様式1!I173,0,TRUE))<>P_20号3様式1!I173,RIGHT(FIXED(P_20号3様式1!I173,3,FALSE),4),\"\"),\"\"),\"\")","v":""},{"$f":"IF(P_20号3様式1!L173<> \"\",IF(P_20号3様式1!L173<> \"-\",TEXT(INT(P_20号3様式1!L173),\"#,##0\"),\"-\"),\"\")","v":""},{"$f":"IF(P_20号3様式1!L173<> \"\",IF(P_20号3様式1!L173<> \"-\",IF(VALUE(FIXED(P_20号3様式1!L173,0,TRUE))<>P_20号3様式1!L173,RIGHT(FIXED(P_20号3様式1!L173,3,FALSE),4),\"\"),\"\"),\"\")","v":""},{"$f":"IF(P_20号3様式1!O173<> \"\",IF(P_20号3様式1!O173<> \"-\",TEXT(INT(P_20号3様式1!O173),\"#,##0\"),\"-\"),\"\")","v":""},{"$f":"IF(P_20号3様式1!O173<> \"\",IF(P_20号3様式1!O173<> \"-\",IF(VALUE(FIXED(P_20号3様式1!O173,0,TRUE))<>P_20号3様式1!O173,RIGHT(FIXED(P_20号3様式1!O173,3,FALSE),4),\"\"),\"\"),\"\")","v":""},{"$f":"IF(P_20号3様式1!R173<> \"\",IF(P_20号3様式1!R173<> \"-\",TEXT(INT(P_20号3様式1!R173),\"#,##0\"),\"-\"),\"\")","v":""},{"$f":"IF(P_20号3様式1!R173<> \"\",IF(P_20号3様式1!R173<> \"-\",IF(VALUE(FIXED(P_20号3様式1!R173,0,TRUE))<>P_20号3様式1!R173,RIGHT(FIXED(P_20号3様式1!R173,3,FALSE),4),\"\"),\"\"),\"\")","v":""},{"$f":"IF(P_20号3様式1!U173<> \"\",IF(P_20号3様式1!U173<> \"-\",TEXT(INT(P_20号3様式1!U173),\"#,##0\"),\"-\"),\"\")","v":""},{"$f":"IF(P_20号3様式1!U173<> \"\",IF(P_20号3様式1!U173<> \"-\",IF(VALUE(FIXED(P_20号3様式1!U173,0,TRUE))<>P_20号3様式1!U173,RIGHT(FIXED(P_20号3様式1!U173,3,FALSE),4),\"\"),\"\"),\"\")","v":""},{"$f":"IF(P_20号3様式1!X173<> \"\",IF(P_20号3様式1!X173<> \"-\",TEXT(INT(P_20号3様式1!X173),\"#,##0\"),\"-\"),\"\")","v":""},{"$f":"IF(P_20号3様式1!X173<> \"\",IF(P_20号3様式1!X173<> \"-\",IF(VALUE(FIXED(P_20号3様式1!X173,0,TRUE))<>P_20号3様式1!X173,RIGHT(FIXED(P_20号3様式1!X173,3,FALSE),4),\"\"),\"\"),\"\")","v":""},{"$f":"IF(P_20号3様式1!AA173<> \"\",IF(P_20号3様式1!AA173<> \"-\",TEXT(INT(P_20号3様式1!AA173),\"#,##0\"),\"-\"),\"\")","v":""},{"$f":"IF(P_20号3様式1!AA173<> \"\",IF(P_20号3様式1!AA173<> \"-\",IF(VALUE(FIXED(P_20号3様式1!AA173,0,TRUE))<>P_20号3様式1!AA173,RIGHT(FIXED(P_20号3様式1!AA173,3,FALSE),4),\"\"),\"\"),\"\")","v":""}]
[]
["政   令   市   計",{"$f":"IF(P_20号3様式1!AH131<> \"\",TEXT(INT(P_20号3様式1!AH131),\"#,##0\"),\"\")","v":""},{"$f":"IF(P_20号3様式1!AH131= \"\",\"\",IF(VALUE(FIXED(P_20号3様式1!AH131,0,TRUE))<>P_20号3様式1!AH131,RIGHT(FIXED(P_20号3様式1!AH131,3,FALSE),4),\"\"))","v":""},{"$f":"IF(P_20号3様式1!AI131<> \"\",IF(P_20号3様式1!AI131<> \"-\",TEXT(INT(P_20号3様式1!AI131),\"#,##0\"),\"-\"),\"\")","v":""},{"$f":"IF(P_20号3様式1!AI131<> \"\",IF(P_20号3様式1!AI131<> \"-\",IF(VALUE(FIXED(P_20号3様式1!AI131,0,TRUE))<>P_20号3様式1!AI131,RIGHT(FIXED(P_20号3様式1!AI131,3,FALSE),4),\"\"),\"\"),\"\")","v":""},{"$f":"IF(P_20号3様式1!AJ131<> \"\",IF(P_20号3様式1!AJ131<> \"-\",TEXT(INT(P_20号3様式1!AJ131),\"#,##0\"),\"-\"),\"\")","v":""},{"$f":"IF(P_20号3様式1!AJ131<> \"\",IF(P_20号3様式1!AJ131<> \"-\",IF(VALUE(FIXED(P_20号3様式1!AJ131,0,TRUE))<>P_20号3様式1!AJ131,RIGHT(FIXED(P_20号3様式1!AJ131,3,FALSE),4),\"\"),\"\"),\"\")","v":""},{"$f":"IF(P_20号3様式1!AK131<> \"\",IF(P_20号3様式1!AK131<> \"-\",TEXT(INT(P_20号3様式1!AK131),\"#,##0\"),\"-\"),\"\")","v":""},{"$f":"IF(P_20号3様式1!AK131<> \"\",IF(P_20号3様式1!AK131<> \"-\",IF(VALUE(FIXED(P_20号3様式1!AK131,0,TRUE))<>P_20号3様式1!AK131,RIGHT(FIXED(P_20号3様式1!AK131,3,FALSE),4),\"\"),\"\"),\"\")","v":""},{"$f":"IF(P_20号3様式1!AL131<> \"\",IF(P_20号3様式1!AL131<> \"-\",TEXT(INT(P_20号3様式1!AL131),\"#,##0\"),\"-\"),\"\")","v":""},{"$f":"IF(P_20号3様式1!AL131<> \"\",IF(P_20号3様式1!AL131<> \"-\",IF(VALUE(FIXED(P_20号3様式1!AL131,0,TRUE))<>P_20号3様式1!AL131,RIGHT(FIXED(P_20号3様式1!AL131,3,FALSE),4),\"\"),\"\"),\"\")","v":""},{"$f":"IF(P_20号3様式1!AM131<> \"\",IF(P_20号3様式1!AM131<> \"-\",TEXT(INT(P_20号3様式1!AM131),\"#,##0\"),\"-\"),\"\")","v":""},{"$f":"IF(P_20号3様式1!AM131<> \"\",IF(P_20号3様式1!AM131<> \"-\",IF(VALUE(FIXED(P_20号3様式1!AM131,0,TRUE))<>P_20号3様式1!AM131,RIGHT(FIXED(P_20号3様式1!AM131,3,FALSE),4),\"\"),\"\"),\"\")","v":""},{"$f":"IF(P_20号3様式1!AN131<> \"\",IF(P_20号3様式1!AN131<> \"-\",TEXT(INT(P_20号3様式1!AN131),\"#,##0\"),\"-\"),\"\")","v":""},{"$f":"IF(P_20号3様式1!AN131<> \"\",IF(P_20号3様式1!AN131<> \"-\",IF(VALUE(FIXED(P_20号3様式1!AN131,0,TRUE))<>P_20号3様式1!AN131,RIGHT(FIXED(P_20号3様式1!AN131,3,FALSE),4),\"\"),\"\"),\"\")","v":""},{"$f":"IF(P_20号3様式1!AO131<> \"\",IF(P_20号3様式1!AO131<> \"-\",TEXT(INT(P_20号3様式1!AO131),\"#,##0\"),\"-\"),\"\")","v":""},{"$f":"IF(P_20号3様式1!AO131<> \"\",IF(P_20号3様式1!AO131<> \"-\",IF(VALUE(FIXED(P_20号3様式1!AO131,0,TRUE))<>P_20号3様式1!AO131,RIGHT(FIXED(P_20号3様式1!AO131,3,FALSE),4),\"\"),\"\"),\"\")","v":""},{"$f":"IF(P_20号3様式1!AP131<> \"\",IF(P_20号3様式1!AP131<> \"-\",TEXT(INT(P_20号3様式1!AP131),\"#,##0\"),\"-\"),\"\")","v":""},{"$f":"IF(P_20号3様式1!AP131<> \"\",IF(P_20号3様式1!AP131<> \"-\",IF(VALUE(FIXED(P_20号3様式1!AP131,0,TRUE))<>P_20号3様式1!AP131,RIGHT(FIXED(P_20号3様式1!AP131,3,FALSE),4),\"\"),\"\"),\"\")","v":""}]
["そ  の  他  市  計",{"$f":"IF(P_20号3様式1!AS131<> \"\",TEXT(INT(P_20号3様式1!AS131),\"#,##0\"),\"\")","v":"167"},{"$f":"IF(P_20号3様式1!AS131= \"\",\"\",IF(VALUE(FIXED(P_20号3様式1!AS131,0,TRUE))<>P_20号3様式1!AS131,RIGHT(FIXED(P_20号3様式1!AS131,3,FALSE),4),\"\"))","v":".500"},{"$f":"IF(P_20号3様式1!AT131<> \"\",IF(P_20号3様式1!AT131<> \"-\",TEXT(INT(P_20号3様式1!AT131),\"#,##0\"),\"-\"),\"\")","v":"131"},{"$f":"IF(P_20号3様式1!AT131<> \"\",IF(P_20号3様式1!AT131<> \"-\",IF(VALUE(FIXED(P_20号3様式1!AT131,0,TRUE))<>P_20号3様式1!AT131,RIGHT(FIXED(P_20号3様式1!AT131,3,FALSE),4),\"\"),\"\"),\"\")","v":".500"},{"$f":"IF(P_20号3様式1!AU131<> \"\",IF(P_20号3様式1!AU131<> \"-\",TEXT(INT(P_20号3様式1!AU131),\"#,##0\"),\"-\"),\"\")","v":"36"},{"$f":"IF(P_20号3様式1!AU131<> \"\",IF(P_20号3様式1!AU131<> \"-\",IF(VALUE(FIXED(P_20号3様式1!AU131,0,TRUE))<>P_20号3様式1!AU131,RIGHT(FIXED(P_20号3様式1!AU131,3,FALSE),4),\"\"),\"\"),\"\")","v":".000"},{"$f":"IF(P_20号3様式1!AV131<> \"\",IF(P_20号3様式1!AV131<> \"-\",TEXT(INT(P_20号3様式1!AV131),\"#,##0\"),\"-\"),\"\")","v":""},{"$f":"IF(P_20号3様式1!AV131<> \"\",IF(P_20号3様式1!AV131<> \"-\",IF(VALUE(FIXED(P_20号3様式1!AV131,0,TRUE))<>P_20号3様式1!AV131,RIGHT(FIXED(P_20号3様式1!AV131,3,FALSE),4),\"\"),\"\"),\"\")","v":""},{"$f":"IF(P_20号3様式1!AW131<> \"\",IF(P_20号3様式1!AW131<> \"-\",TEXT(INT(P_20号3様式1!AW131),\"#,##0\"),\"-\"),\"\")","v":""},{"$f":"IF(P_20号3様式1!AW131<> \"\",IF(P_20号3様式1!AW131<> \"-\",IF(VALUE(FIXED(P_20号3様式1!AW131,0,TRUE))<>P_20号3様式1!AW131,RIGHT(FIXED(P_20号3様式1!AW131,3,FALSE),4),\"\"),\"\"),\"\")","v":""},{"$f":"IF(P_20号3様式1!AX131<> \"\",IF(P_20号3様式1!AX131<> \"-\",TEXT(INT(P_20号3様式1!AX131),\"#,##0\"),\"-\"),\"\")","v":""},{"$f":"IF(P_20号3様式1!AX131<> \"\",IF(P_20号3様式1!AX131<> \"-\",IF(VALUE(FIXED(P_20号3様式1!AX131,0,TRUE))<>P_20号3様式1!AX131,RIGHT(FIXED(P_20号3様式1!AX131,3,FALSE),4),\"\"),\"\"),\"\")","v":""},{"$f":"IF(P_20号3様式1!AY131<> \"\",IF(P_20号3様式1!AY131<> \"-\",TEXT(INT(P_20号3様式1!AY131),\"#,##0\"),\"-\"),\"\")","v":""},{"$f":"IF(P_20号3様式1!AY131<> \"\",IF(P_20号3様式1!AY131<> \"-\",IF(VALUE(FIXED(P_20号3様式1!AY131,0,TRUE))<>P_20号3様式1!AY131,RIGHT(FIXED(P_20号3様式1!AY131,3,FALSE),4),\"\"),\"\"),\"\")","v":""},{"$f":"IF(P_20号3様式1!AZ131<> \"\",IF(P_20号3様式1!AZ131<> \"-\",TEXT(INT(P_20号3様式1!AZ131),\"#,##0\"),\"-\"),\"\")","v":""},{"$f":"IF(P_20号3様式1!AZ131<> \"\",IF(P_20号3様式1!AZ131<> \"-\",IF(VALUE(FIXED(P_20号3様式1!AZ131,0,TRUE))<>P_20号3様式1!AZ131,RIGHT(FIXED(P_20号3様式1!AZ131,3,FALSE),4),\"\"),\"\"),\"\")","v":""},{"$f":"IF(P_20号3様式1!BA131<> \"\",IF(P_20号3様式1!BA131<> \"-\",TEXT(INT(P_20号3様式1!BA131),\"#,##0\"),\"-\"),\"\")","v":""},{"$f":"IF(P_20号3様式1!BA131<> \"\",IF(P_20号3様式1!BA131<> \"-\",IF(VALUE(FIXED(P_20号3様式1!BA131,0,TRUE))<>P_20号3様式1!BA131,RIGHT(FIXED(P_20号3様式1!BA131,3,FALSE),4),\"\"),\"\"),\"\")","v":""}]
["町村計　",{"$f":"IF(P_20号3様式1!BD131<> \"\",TEXT(INT(P_20号3様式1!BD131),\"#,##0\"),\"\")","v":"28"},{"$f":"IF(P_20号3様式1!BD131= \"\",\"\",IF(VALUE(FIXED(P_20号3様式1!BD131,0,TRUE))<>P_20号3様式1!BD131,RIGHT(FIXED(P_20号3様式1!BD131,3,FALSE),4),\"\"))","v":".000"},{"$f":"IF(P_20号3様式1!BE131<> \"\",IF(P_20号3様式1!BE131<> \"-\",TEXT(INT(P_20号3様式1!BE131),\"#,##0\"),\"-\"),\"\")","v":"21"},{"$f":"IF(P_20号3様式1!BE131<> \"\",IF(P_20号3様式1!BE131<> \"-\",IF(VALUE(FIXED(P_20号3様式1!BE131,0,TRUE))<>P_20号3様式1!BE131,RIGHT(FIXED(P_20号3様式1!BE131,3,FALSE),4),\"\"),\"\"),\"\")","v":".000"},{"$f":"IF(P_20号3様式1!BF131<> \"\",IF(P_20号3様式1!BF131<> \"-\",TEXT(INT(P_20号3様式1!BF131),\"#,##0\"),\"-\"),\"\")","v":"7"},{"$f":"IF(P_20号3様式1!BF131<> \"\",IF(P_20号3様式1!BF131<> \"-\",IF(VALUE(FIXED(P_20号3様式1!BF131,0,TRUE))<>P_20号3様式1!BF131,RIGHT(FIXED(P_20号3様式1!BF131,3,FALSE),4),\"\"),\"\"),\"\")","v":".000"},{"$f":"IF(P_20号3様式1!BG131<> \"\",IF(P_20号3様式1!BG131<> \"-\",TEXT(INT(P_20号3様式1!BG131),\"#,##0\"),\"-\"),\"\")","v":""},{"$f":"IF(P_20号3様式1!BG131<> \"\",IF(P_20号3様式1!BG131<> \"-\",IF(VALUE(FIXED(P_20号3様式1!BG131,0,TRUE))<>P_20号3様式1!BG131,RIGHT(FIXED(P_20号3様式1!BG131,3,FALSE),4),\"\"),\"\"),\"\")","v":""},{"$f":"IF(P_20号3様式1!BH131<> \"\",IF(P_20号3様式1!BH131<> \"-\",TEXT(INT(P_20号3様式1!BH131),\"#,##0\"),\"-\"),\"\")","v":""},{"$f":"IF(P_20号3様式1!BH131<> \"\",IF(P_20号3様式1!BH131<> \"-\",IF(VALUE(FIXED(P_20号3様式1!BH131,0,TRUE))<>P_20号3様式1!BH131,RIGHT(FIXED(P_20号3様式1!BH131,3,FALSE),4),\"\"),\"\"),\"\")","v":""},{"$f":"IF(P_20号3様式1!BI131<> \"\",IF(P_20号3様式1!BI131<> \"-\",TEXT(INT(P_20号3様式1!BI131),\"#,##0\"),\"-\"),\"\")","v":""},{"$f":"IF(P_20号3様式1!BI131<> \"\",IF(P_20号3様式1!BI131<> \"-\",IF(VALUE(FIXED(P_20号3様式1!BI131,0,TRUE))<>P_20号3様式1!BI131,RIGHT(FIXED(P_20号3様式1!BI131,3,FALSE),4),\"\"),\"\"),\"\")","v":""},{"$f":"IF(P_20号3様式1!BJ131<> \"\",IF(P_20号3様式1!BJ131<> \"-\",TEXT(INT(P_20号3様式1!BJ131),\"#,##0\"),\"-\"),\"\")","v":""},{"$f":"IF(P_20号3様式1!BJ131<> \"\",IF(P_20号3様式1!BJ131<> \"-\",IF(VALUE(FIXED(P_20号3様式1!BJ131,0,TRUE))<>P_20号3様式1!BJ131,RIGHT(FIXED(P_20号3様式1!BJ131,3,FALSE),4),\"\"),\"\"),\"\")","v":""},{"$f":"IF(P_20号3様式1!BK131<> \"\",IF(P_20号3様式1!BK131<> \"-\",TEXT(INT(P_20号3様式1!BK131),\"#,##0\"),\"-\"),\"\")","v":""},{"$f":"IF(P_20号3様式1!BK131<> \"\",IF(P_20号3様式1!BK131<> \"-\",IF(VALUE(FIXED(P_20号3様式1!BK131,0,TRUE))<>P_20号3様式1!BK131,RIGHT(FIXED(P_20号3様式1!BK131,3,FALSE),4),\"\"),\"\"),\"\")","v":""},{"$f":"IF(P_20号3様式1!BL131<> \"\",IF(P_20号3様式1!BL131<> \"-\",TEXT(INT(P_20号3様式1!BL131),\"#,##0\"),\"-\"),\"\")","v":""},{"$f":"IF(P_20号3様式1!BL131<> \"\",IF(P_20号3様式1!BL131<> \"-\",IF(VALUE(FIXED(P_20号3様式1!BL131,0,TRUE))<>P_20号3様式1!BL131,RIGHT(FIXED(P_20号3様式1!BL131,3,FALSE),4),\"\"),\"\"),\"\")","v":""}]
["県             計",{"$f":"IF(P_20号3様式1!BO131<> \"\",TEXT(INT(P_20号3様式1!BO131),\"#,##0\"),\"\")","v":"195"},{"$f":"IF(P_20号3様式1!BO131= \"\",\"\",IF(VALUE(FIXED(P_20号3様式1!BO131,0,TRUE))<>P_20号3様式1!BO131,RIGHT(FIXED(P_20号3様式1!BO131,3,FALSE),4),\"\"))","v":".500"},{"$f":"IF(P_20号3様式1!BP131<> \"\",IF(P_20号3様式1!BP131<> \"-\",TEXT(INT(P_20号3様式1!BP131),\"#,##0\"),\"-\"),\"\")","v":"152"},{"$f":"IF(P_20号3様式1!BP131<> \"\",IF(P_20号3様式1!BP131<> \"-\",IF(VALUE(FIXED(P_20号3様式1!BP131,0,TRUE))<>P_20号3様式1!BP131,RIGHT(FIXED(P_20号3様式1!BP131,3,FALSE),4),\"\"),\"\"),\"\")","v":".500"},{"$f":"IF(P_20号3様式1!BQ131<> \"\",IF(P_20号3様式1!BQ131<> \"-\",TEXT(INT(P_20号3様式1!BQ131),\"#,##0\"),\"-\"),\"\")","v":"43"},{"$f":"IF(P_20号3様式1!BQ131<> \"\",IF(P_20号3様式1!BQ131<> \"-\",IF(VALUE(FIXED(P_20号3様式1!BQ131,0,TRUE))<>P_20号3様式1!BQ131,RIGHT(FIXED(P_20号3様式1!BQ131,3,FALSE),4),\"\"),\"\"),\"\")","v":".000"},{"$f":"IF(P_20号3様式1!BR131<> \"\",IF(P_20号3様式1!BR131<> \"-\",TEXT(INT(P_20号3様式1!BR131),\"#,##0\"),\"-\"),\"\")","v":""},{"$f":"IF(P_20号3様式1!BR131<> \"\",IF(P_20号3様式1!BR131<> \"-\",IF(VALUE(FIXED(P_20号3様式1!BR131,0,TRUE))<>P_20号3様式1!BR131,RIGHT(FIXED(P_20号3様式1!BR131,3,FALSE),4),\"\"),\"\"),\"\")","v":""},{"$f":"IF(P_20号3様式1!BS131<> \"\",IF(P_20号3様式1!BS131<> \"-\",TEXT(INT(P_20号3様式1!BS131),\"#,##0\"),\"-\"),\"\")","v":""},{"$f":"IF(P_20号3様式1!BS131<> \"\",IF(P_20号3様式1!BS131<> \"-\",IF(VALUE(FIXED(P_20号3様式1!BS131,0,TRUE))<>P_20号3様式1!BS131,RIGHT(FIXED(P_20号3様式1!BS131,3,FALSE),4),\"\"),\"\"),\"\")","v":""},{"$f":"IF(P_20号3様式1!BT131<> \"\",IF(P_20号3様式1!BT131<> \"-\",TEXT(INT(P_20号3様式1!BT131),\"#,##0\"),\"-\"),\"\")","v":""},{"$f":"IF(P_20号3様式1!BT131<> \"\",IF(P_20号3様式1!BT131<> \"-\",IF(VALUE(FIXED(P_20号3様式1!BT131,0,TRUE))<>P_20号3様式1!BT131,RIGHT(FIXED(P_20号3様式1!BT131,3,FALSE),4),\"\"),\"\"),\"\")","v":""},{"$f":"IF(P_20号3様式1!BU131<> \"\",IF(P_20号3様式1!BU131<> \"-\",TEXT(INT(P_20号3様式1!BU131),\"#,##0\"),\"-\"),\"\")","v":""},{"$f":"IF(P_20号3様式1!BU131<> \"\",IF(P_20号3様式1!BU131<> \"-\",IF(VALUE(FIXED(P_20号3様式1!BU131,0,TRUE))<>P_20号3様式1!BU131,RIGHT(FIXED(P_20号3様式1!BU131,3,FALSE),4),\"\"),\"\"),\"\")","v":""},{"$f":"IF(P_20号3様式1!BV131<> \"\",IF(P_20号3様式1!BV131<> \"-\",TEXT(INT(P_20号3様式1!BV131),\"#,##0\"),\"-\"),\"\")","v":""},{"$f":"IF(P_20号3様式1!BV131<> \"\",IF(P_20号3様式1!BV131<> \"-\",IF(VALUE(FIXED(P_20号3様式1!BV131,0,TRUE))<>P_20号3様式1!BV131,RIGHT(FIXED(P_20号3様式1!BV131,3,FALSE),4),\"\"),\"\"),\"\")","v":""},{"$f":"IF(P_20号3様式1!BW131<> \"\",IF(P_20号3様式1!BW131<> \"-\",TEXT(INT(P_20号3様式1!BW131),\"#,##0\"),\"-\"),\"\")","v":""},{"$f":"IF(P_20号3様式1!BW131<> \"\",IF(P_20号3様式1!BW131<> \"-\",IF(VALUE(FIXED(P_20号3様式1!BW131,0,TRUE))<>P_20号3様式1!BW131,RIGHT(FIXED(P_20号3様式1!BW131,3,FALSE),4),\"\"),\"\"),\"\")","v":""}]
["第20号の3様式",{"$f":"+B$1","v":"「政党等得票数」のうち、公選法第６８条の３の規定により政党等の有効投票とみなされた投票の状況"},null,null,null,"開　票　速　報",null,null,null,null,null,null,null,null,null,null,null,{"$f":"P_20号3様式1!A174","v":5}]
[null,null,null,null,null,null,null,null,null,null,null,null,null,null,null,null,null,"鹿 児 島 県"]
[{"$f":"IF(パラメタシート!B1=\"\",\"\",パラメタシート!B1)","v":"2019-07-21"},null,null,null,null,null,null,null,null,null,null,{"$f":"IF(P_20号3様式1!BY174=\"0\",\"即日 開票　　中間報告\",\"翌日 開票　　中間報告\")","v":"即日 開票　　中間報告"},null,null,null,{"$f":" IF(P_20号3様式1!BZ174=\"\",\"時　　    分        \",P_20号3様式1!BZ174)","v":"時　　    分        "}]
[{"$f":"IF(P_20号3様式1!BX174=\"\",\"\",\"     　　\" & P_20号3様式1!BX174)","v":"     　　参議院比例代表選出議員選挙"},null,null,null,null,null,null,null,null,null,null,"開票　　結了報告",null,null,null,{"$f":" IF(P_20号3様式1!CA174=\"\",\"時　　    分        \",P_20号3様式1!CA174)","v":"02:55:00"}]
["市 区 町 村 名",{"$f":"IF(P_20号3様式1!AB174 = \"\", \"\", P_20号3様式1!AB174)","v":"労働の解放をめざす労働者党"},null,{"$f":"IF(P_20号3様式1!D174 = \"\", \"\", P_20号3様式1!D174)","v":"01"},null,{"$f":"IF(P_20号3様式1!G174 = \"\", \"\", P_20号3様式1!G174)","v":""},null,{"$f":"IF(P_20号3様式1!J174 = \"\", \"\", P_20号3様式1!J174)","v":""},null,{"$f":"IF(P_20号3様式1!M174 = \"\", \"\", P_20号3様式1!M174)","v":""},null,{"$f":"IF(P_20号3様式1!P174 = \"\", \"\", P_20号3様式1!P174)","v":""},null,{"$f":"IF(P_20号3様式1!S174 = \"\", \"\", P_20号3様式1!S174)","v":""},null,{"$f":"IF(P_20号3様式1!V174 = \"\", \"\", P_20号3様式1!V174)","v":""},null,{"$f":"IF(P_20号3様式1!Y174 = \"\", \"\", P_20号3様式1!Y174)","v":""}]
[null,{"$f":"+B$6","v":"特定枠名簿登録者\nへの投票総数"},null,{"$f":"IF(P_20号3様式1!E174 = \"\", \"\", P_20号3様式1!E174)","v":"伊藤　恵子"},null,{"$f":"IF(P_20号3様式1!H174 = \"\", \"\", P_20号3様式1!H174)","v":""},null,{"$f":"IF(P_20号3様式1!K174 = \"\", \"\", P_20号3様式1!K174)","v":""},null,{"$f":"IF(P_20号3様式1!N174 = \"\", \"\", P_20号3様式1!N174)","v":""},null,{"$f":"IF(P_20号3様式1!Q174 = \"\", \"\", P_20号3様式1!Q174)","v":""},null,{"$f":"IF(P_20号3様式1!T174 = \"\", \"\", P_20号3様式1!T174)","v":""},null,{"$f":"IF(P_20号3様式1!W174 = \"\", \"\", P_20号3様式1!W174)","v":""},null,{"$f":"IF(P_20号3様式1!Z174 = \"\", \"\", P_20号3様式1!Z174)","v":""}]
[{"$f":"IF(P_20号3様式1!C174=\"\",\"\",P_20号3様式1!C174)","v":"宇検村"},{"$f":"IF(P_20号3様式1!AE174<> \"\",TEXT(INT(P_20号3様式1!AE174),\"#,##0\"),\"\")","v":"0"},{"$f":"IF(P_20号3様式1!AE174= \"\",\"\",IF(VALUE(FIXED(P_20号3様式1!AE174,0,TRUE))<>P_20号3様式1!AE174,RIGHT(FIXED(P_20号3様式1!AE174,3,FALSE),4),\"\"))","v":".000"},{"$f":"IF(P_20号3様式1!F174<> \"\",IF(P_20号3様式1!F174<> \"-\",TEXT(INT(P_20号3様式1!F174),\"#,##0\"),\"-\"),\"\")","v":"0"},{"$f":"IF(P_20号3様式1!F174<> \"\",IF(P_20号3様式1!F174<> \"-\",IF(VALUE(FIXED(P_20号3様式1!F174,0,TRUE))<>P_20号3様式1!F174,RIGHT(FIXED(P_20号3様式1!F174,3,FALSE),4),\"\"),\"\"),\"\")","v":".000"},{"$f":"IF(P_20号3様式1!I174<> \"\",IF(P_20号3様式1!I174<> \"-\",TEXT(INT(P_20号3様式1!I174),\"#,##0\"),\"-\"),\"\")","v":""},{"$f":"IF(P_20号3様式1!I174<> \"\",IF(P_20号3様式1!I174<> \"-\",IF(VALUE(FIXED(P_20号3様式1!I174,0,TRUE))<>P_20号3様式1!I174,RIGHT(FIXED(P_20号3様式1!I174,3,FALSE),4),\"\"),\"\"),\"\")","v":""},{"$f":"IF(P_20号3様式1!L174<> \"\",IF(P_20号3様式1!L174<> \"-\",TEXT(INT(P_20号3様式1!L174),\"#,##0\"),\"-\"),\"\")","v":""},{"$f":"IF(P_20号3様式1!L174<> \"\",IF(P_20号3様式1!L174<> \"-\",IF(VALUE(FIXED(P_20号3様式1!L174,0,TRUE))<>P_20号3様式1!L174,RIGHT(FIXED(P_20号3様式1!L174,3,FALSE),4),\"\"),\"\"),\"\")","v":""},{"$f":"IF(P_20号3様式1!O174<> \"\",IF(P_20号3様式1!O174<> \"-\",TEXT(INT(P_20号3様式1!O174),\"#,##0\"),\"-\"),\"\")","v":""},{"$f":"IF(P_20号3様式1!O174<> \"\",IF(P_20号3様式1!O174<> \"-\",IF(VALUE(FIXED(P_20号3様式1!O174,0,TRUE))<>P_20号3様式1!O174,RIGHT(FIXED(P_20号3様式1!O174,3,FALSE),4),\"\"),\"\"),\"\")","v":""},{"$f":"IF(P_20号3様式1!R174<> \"\",IF(P_20号3様式1!R174<> \"-\",TEXT(INT(P_20号3様式1!R174),\"#,##0\"),\"-\"),\"\")","v":""},{"$f":"IF(P_20号3様式1!R174<> \"\",IF(P_20号3様式1!R174<> \"-\",IF(VALUE(FIXED(P_20号3様式1!R174,0,TRUE))<>P_20号3様式1!R174,RIGHT(FIXED(P_20号3様式1!R174,3,FALSE),4),\"\"),\"\"),\"\")","v":""},{"$f":"IF(P_20号3様式1!U174<> \"\",IF(P_20号3様式1!U174<> \"-\",TEXT(INT(P_20号3様式1!U174),\"#,##0\"),\"-\"),\"\")","v":""},{"$f":"IF(P_20号3様式1!U174<> \"\",IF(P_20号3様式1!U174<> \"-\",IF(VALUE(FIXED(P_20号3様式1!U174,0,TRUE))<>P_20号3様式1!U174,RIGHT(FIXED(P_20号3様式1!U174,3,FALSE),4),\"\"),\"\"),\"\")","v":""},{"$f":"IF(P_20号3様式1!X174<> \"\",IF(P_20号3様式1!X174<> \"-\",TEXT(INT(P_20号3様式1!X174),\"#,##0\"),\"-\"),\"\")","v":""},{"$f":"IF(P_20号3様式1!X174<> \"\",IF(P_20号3様式1!X174<> \"-\",IF(VALUE(FIXED(P_20号3様式1!X174,0,TRUE))<>P_20号3様式1!X174,RIGHT(FIXED(P_20号3様式1!X174,3,FALSE),4),\"\"),\"\"),\"\")","v":""},{"$f":"IF(P_20号3様式1!AA174<> \"\",IF(P_20号3様式1!AA174<> \"-\",TEXT(INT(P_20号3様式1!AA174),\"#,##0\"),\"-\"),\"\")","v":""},{"$f":"IF(P_20号3様式1!AA174<> \"\",IF(P_20号3様式1!AA174<> \"-\",IF(VALUE(FIXED(P_20号3様式1!AA174,0,TRUE))<>P_20号3様式1!AA174,RIGHT(FIXED(P_20号3様式1!AA174,3,FALSE),4),\"\"),\"\"),\"\")","v":""}]
[{"$f":"IF(P_20号3様式1!C175=\"\",\"\",P_20号3様式1!C175)","v":"瀬戸内町"},{"$f":"IF(P_20号3様式1!AE175<> \"\",TEXT(INT(P_20号3様式1!AE175),\"#,##0\"),\"\")","v":"0"},{"$f":"IF(P_20号3様式1!AE175= \"\",\"\",IF(VALUE(FIXED(P_20号3様式1!AE175,0,TRUE))<>P_20号3様式1!AE175,RIGHT(FIXED(P_20号3様式1!AE175,3,FALSE),4),\"\"))","v":".000"},{"$f":"IF(P_20号3様式1!F175<> \"\",IF(P_20号3様式1!F175<> \"-\",TEXT(INT(P_20号3様式1!F175),\"#,##0\"),\"-\"),\"\")","v":"0"},{"$f":"IF(P_20号3様式1!F175<> \"\",IF(P_20号3様式1!F175<> \"-\",IF(VALUE(FIXED(P_20号3様式1!F175,0,TRUE))<>P_20号3様式1!F175,RIGHT(FIXED(P_20号3様式1!F175,3,FALSE),4),\"\"),\"\"),\"\")","v":".000"},{"$f":"IF(P_20号3様式1!I175<> \"\",IF(P_20号3様式1!I175<> \"-\",TEXT(INT(P_20号3様式1!I175),\"#,##0\"),\"-\"),\"\")","v":""},{"$f":"IF(P_20号3様式1!I175<> \"\",IF(P_20号3様式1!I175<> \"-\",IF(VALUE(FIXED(P_20号3様式1!I175,0,TRUE))<>P_20号3様式1!I175,RIGHT(FIXED(P_20号3様式1!I175,3,FALSE),4),\"\"),\"\"),\"\")","v":""},{"$f":"IF(P_20号3様式1!L175<> \"\",IF(P_20号3様式1!L175<> \"-\",TEXT(INT(P_20号3様式1!L175),\"#,##0\"),\"-\"),\"\")","v":""},{"$f":"IF(P_20号3様式1!L175<> \"\",IF(P_20号3様式1!L175<> \"-\",IF(VALUE(FIXED(P_20号3様式1!L175,0,TRUE))<>P_20号3様式1!L175,RIGHT(FIXED(P_20号3様式1!L175,3,FALSE),4),\"\"),\"\"),\"\")","v":""},{"$f":"IF(P_20号3様式1!O175<> \"\",IF(P_20号3様式1!O175<> \"-\",TEXT(INT(P_20号3様式1!O175),\"#,##0\"),\"-\"),\"\")","v":""},{"$f":"IF(P_20号3様式1!O175<> \"\",IF(P_20号3様式1!O175<> \"-\",IF(VALUE(FIXED(P_20号3様式1!O175,0,TRUE))<>P_20号3様式1!O175,RIGHT(FIXED(P_20号3様式1!O175,3,FALSE),4),\"\"),\"\"),\"\")","v":""},{"$f":"IF(P_20号3様式1!R175<> \"\",IF(P_20号3様式1!R175<> \"-\",TEXT(INT(P_20号3様式1!R175),\"#,##0\"),\"-\"),\"\")","v":""},{"$f":"IF(P_20号3様式1!R175<> \"\",IF(P_20号3様式1!R175<> \"-\",IF(VALUE(FIXED(P_20号3様式1!R175,0,TRUE))<>P_20号3様式1!R175,RIGHT(FIXED(P_20号3様式1!R175,3,FALSE),4),\"\"),\"\"),\"\")","v":""},{"$f":"IF(P_20号3様式1!U175<> \"\",IF(P_20号3様式1!U175<> \"-\",TEXT(INT(P_20号3様式1!U175),\"#,##0\"),\"-\"),\"\")","v":""},{"$f":"IF(P_20号3様式1!U175<> \"\",IF(P_20号3様式1!U175<> \"-\",IF(VALUE(FIXED(P_20号3様式1!U175,0,TRUE))<>P_20号3様式1!U175,RIGHT(FIXED(P_20号3様式1!U175,3,FALSE),4),\"\"),\"\"),\"\")","v":""},{"$f":"IF(P_20号3様式1!X175<> \"\",IF(P_20号3様式1!X175<> \"-\",TEXT(INT(P_20号3様式1!X175),\"#,##0\"),\"-\"),\"\")","v":""},{"$f":"IF(P_20号3様式1!X175<> \"\",IF(P_20号3様式1!X175<> \"-\",IF(VALUE(FIXED(P_20号3様式1!X175,0,TRUE))<>P_20号3様式1!X175,RIGHT(FIXED(P_20号3様式1!X175,3,FALSE),4),\"\"),\"\"),\"\")","v":""},{"$f":"IF(P_20号3様式1!AA175<> \"\",IF(P_20号3様式1!AA175<> \"-\",TEXT(INT(P_20号3様式1!AA175),\"#,##0\"),\"-\"),\"\")","v":""},{"$f":"IF(P_20号3様式1!AA175<> \"\",IF(P_20号3様式1!AA175<> \"-\",IF(VALUE(FIXED(P_20号3様式1!AA175,0,TRUE))<>P_20号3様式1!AA175,RIGHT(FIXED(P_20号3様式1!AA175,3,FALSE),4),\"\"),\"\"),\"\")","v":""}]
[{"$f":"IF(P_20号3様式1!C176=\"\",\"\",P_20号3様式1!C176)","v":"龍郷町"},{"$f":"IF(P_20号3様式1!AE176<> \"\",TEXT(INT(P_20号3様式1!AE176),\"#,##0\"),\"\")","v":"0"},{"$f":"IF(P_20号3様式1!AE176= \"\",\"\",IF(VALUE(FIXED(P_20号3様式1!AE176,0,TRUE))<>P_20号3様式1!AE176,RIGHT(FIXED(P_20号3様式1!AE176,3,FALSE),4),\"\"))","v":".000"},{"$f":"IF(P_20号3様式1!F176<> \"\",IF(P_20号3様式1!F176<> \"-\",TEXT(INT(P_20号3様式1!F176),\"#,##0\"),\"-\"),\"\")","v":"0"},{"$f":"IF(P_20号3様式1!F176<> \"\",IF(P_20号3様式1!F176<> \"-\",IF(VALUE(FIXED(P_20号3様式1!F176,0,TRUE))<>P_20号3様式1!F176,RIGHT(FIXED(P_20号3様式1!F176,3,FALSE),4),\"\"),\"\"),\"\")","v":".000"},{"$f":"IF(P_20号3様式1!I176<> \"\",IF(P_20号3様式1!I176<> \"-\",TEXT(INT(P_20号3様式1!I176),\"#,##0\"),\"-\"),\"\")","v":""},{"$f":"IF(P_20号3様式1!I176<> \"\",IF(P_20号3様式1!I176<> \"-\",IF(VALUE(FIXED(P_20号3様式1!I176,0,TRUE))<>P_20号3様式1!I176,RIGHT(FIXED(P_20号3様式1!I176,3,FALSE),4),\"\"),\"\"),\"\")","v":""},{"$f":"IF(P_20号3様式1!L176<> \"\",IF(P_20号3様式1!L176<> \"-\",TEXT(INT(P_20号3様式1!L176),\"#,##0\"),\"-\"),\"\")","v":""},{"$f":"IF(P_20号3様式1!L176<> \"\",IF(P_20号3様式1!L176<> \"-\",IF(VALUE(FIXED(P_20号3様式1!L176,0,TRUE))<>P_20号3様式1!L176,RIGHT(FIXED(P_20号3様式1!L176,3,FALSE),4),\"\"),\"\"),\"\")","v":""},{"$f":"IF(P_20号3様式1!O176<> \"\",IF(P_20号3様式1!O176<> \"-\",TEXT(INT(P_20号3様式1!O176),\"#,##0\"),\"-\"),\"\")","v":""},{"$f":"IF(P_20号3様式1!O176<> \"\",IF(P_20号3様式1!O176<> \"-\",IF(VALUE(FIXED(P_20号3様式1!O176,0,TRUE))<>P_20号3様式1!O176,RIGHT(FIXED(P_20号3様式1!O176,3,FALSE),4),\"\"),\"\"),\"\")","v":""},{"$f":"IF(P_20号3様式1!R176<> \"\",IF(P_20号3様式1!R176<> \"-\",TEXT(INT(P_20号3様式1!R176),\"#,##0\"),\"-\"),\"\")","v":""},{"$f":"IF(P_20号3様式1!R176<> \"\",IF(P_20号3様式1!R176<> \"-\",IF(VALUE(FIXED(P_20号3様式1!R176,0,TRUE))<>P_20号3様式1!R176,RIGHT(FIXED(P_20号3様式1!R176,3,FALSE),4),\"\"),\"\"),\"\")","v":""},{"$f":"IF(P_20号3様式1!U176<> \"\",IF(P_20号3様式1!U176<> \"-\",TEXT(INT(P_20号3様式1!U176),\"#,##0\"),\"-\"),\"\")","v":""},{"$f":"IF(P_20号3様式1!U176<> \"\",IF(P_20号3様式1!U176<> \"-\",IF(VALUE(FIXED(P_20号3様式1!U176,0,TRUE))<>P_20号3様式1!U176,RIGHT(FIXED(P_20号3様式1!U176,3,FALSE),4),\"\"),\"\"),\"\")","v":""},{"$f":"IF(P_20号3様式1!X176<> \"\",IF(P_20号3様式1!X176<> \"-\",TEXT(INT(P_20号3様式1!X176),\"#,##0\"),\"-\"),\"\")","v":""},{"$f":"IF(P_20号3様式1!X176<> \"\",IF(P_20号3様式1!X176<> \"-\",IF(VALUE(FIXED(P_20号3様式1!X176,0,TRUE))<>P_20号3様式1!X176,RIGHT(FIXED(P_20号3様式1!X176,3,FALSE),4),\"\"),\"\"),\"\")","v":""},{"$f":"IF(P_20号3様式1!AA176<> \"\",IF(P_20号3様式1!AA176<> \"-\",TEXT(INT(P_20号3様式1!AA176),\"#,##0\"),\"-\"),\"\")","v":""},{"$f":"IF(P_20号3様式1!AA176<> \"\",IF(P_20号3様式1!AA176<> \"-\",IF(VALUE(FIXED(P_20号3様式1!AA176,0,TRUE))<>P_20号3様式1!AA176,RIGHT(FIXED(P_20号3様式1!AA176,3,FALSE),4),\"\"),\"\"),\"\")","v":""}]
[{"$f":"IF(P_20号3様式1!C177=\"\",\"\",P_20号3様式1!C177)","v":"喜界町"},{"$f":"IF(P_20号3様式1!AE177<> \"\",TEXT(INT(P_20号3様式1!AE177),\"#,##0\"),\"\")","v":"0"},{"$f":"IF(P_20号3様式1!AE177= \"\",\"\",IF(VALUE(FIXED(P_20号3様式1!AE177,0,TRUE))<>P_20号3様式1!AE177,RIGHT(FIXED(P_20号3様式1!AE177,3,FALSE),4),\"\"))","v":".000"},{"$f":"IF(P_20号3様式1!F177<> \"\",IF(P_20号3様式1!F177<> \"-\",TEXT(INT(P_20号3様式1!F177),\"#,##0\"),\"-\"),\"\")","v":"0"},{"$f":"IF(P_20号3様式1!F177<> \"\",IF(P_20号3様式1!F177<> \"-\",IF(VALUE(FIXED(P_20号3様式1!F177,0,TRUE))<>P_20号3様式1!F177,RIGHT(FIXED(P_20号3様式1!F177,3,FALSE),4),\"\"),\"\"),\"\")","v":".000"},{"$f":"IF(P_20号3様式1!I177<> \"\",IF(P_20号3様式1!I177<> \"-\",TEXT(INT(P_20号3様式1!I177),\"#,##0\"),\"-\"),\"\")","v":""},{"$f":"IF(P_20号3様式1!I177<> \"\",IF(P_20号3様式1!I177<> \"-\",IF(VALUE(FIXED(P_20号3様式1!I177,0,TRUE))<>P_20号3様式1!I177,RIGHT(FIXED(P_20号3様式1!I177,3,FALSE),4),\"\"),\"\"),\"\")","v":""},{"$f":"IF(P_20号3様式1!L177<> \"\",IF(P_20号3様式1!L177<> \"-\",TEXT(INT(P_20号3様式1!L177),\"#,##0\"),\"-\"),\"\")","v":""},{"$f":"IF(P_20号3様式1!L177<> \"\",IF(P_20号3様式1!L177<> \"-\",IF(VALUE(FIXED(P_20号3様式1!L177,0,TRUE))<>P_20号3様式1!L177,RIGHT(FIXED(P_20号3様式1!L177,3,FALSE),4),\"\"),\"\"),\"\")","v":""},{"$f":"IF(P_20号3様式1!O177<> \"\",IF(P_20号3様式1!O177<> \"-\",TEXT(INT(P_20号3様式1!O177),\"#,##0\"),\"-\"),\"\")","v":""},{"$f":"IF(P_20号3様式1!O177<> \"\",IF(P_20号3様式1!O177<> \"-\",IF(VALUE(FIXED(P_20号3様式1!O177,0,TRUE))<>P_20号3様式1!O177,RIGHT(FIXED(P_20号3様式1!O177,3,FALSE),4),\"\"),\"\"),\"\")","v":""},{"$f":"IF(P_20号3様式1!R177<> \"\",IF(P_20号3様式1!R177<> \"-\",TEXT(INT(P_20号3様式1!R177),\"#,##0\"),\"-\"),\"\")","v":""},{"$f":"IF(P_20号3様式1!R177<> \"\",IF(P_20号3様式1!R177<> \"-\",IF(VALUE(FIXED(P_20号3様式1!R177,0,TRUE))<>P_20号3様式1!R177,RIGHT(FIXED(P_20号3様式1!R177,3,FALSE),4),\"\"),\"\"),\"\")","v":""},{"$f":"IF(P_20号3様式1!U177<> \"\",IF(P_20号3様式1!U177<> \"-\",TEXT(INT(P_20号3様式1!U177),\"#,##0\"),\"-\"),\"\")","v":""},{"$f":"IF(P_20号3様式1!U177<> \"\",IF(P_20号3様式1!U177<> \"-\",IF(VALUE(FIXED(P_20号3様式1!U177,0,TRUE))<>P_20号3様式1!U177,RIGHT(FIXED(P_20号3様式1!U177,3,FALSE),4),\"\"),\"\"),\"\")","v":""},{"$f":"IF(P_20号3様式1!X177<> \"\",IF(P_20号3様式1!X177<> \"-\",TEXT(INT(P_20号3様式1!X177),\"#,##0\"),\"-\"),\"\")","v":""},{"$f":"IF(P_20号3様式1!X177<> \"\",IF(P_20号3様式1!X177<> \"-\",IF(VALUE(FIXED(P_20号3様式1!X177,0,TRUE))<>P_20号3様式1!X177,RIGHT(FIXED(P_20号3様式1!X177,3,FALSE),4),\"\"),\"\"),\"\")","v":""},{"$f":"IF(P_20号3様式1!AA177<> \"\",IF(P_20号3様式1!AA177<> \"-\",TEXT(INT(P_20号3様式1!AA177),\"#,##0\"),\"-\"),\"\")","v":""},{"$f":"IF(P_20号3様式1!AA177<> \"\",IF(P_20号3様式1!AA177<> \"-\",IF(VALUE(FIXED(P_20号3様式1!AA177,0,TRUE))<>P_20号3様式1!AA177,RIGHT(FIXED(P_20号3様式1!AA177,3,FALSE),4),\"\"),\"\"),\"\")","v":""}]
[{"$f":"IF(P_20号3様式1!C178=\"\",\"\",P_20号3様式1!C178)","v":"徳之島町"},{"$f":"IF(P_20号3様式1!AE178<> \"\",TEXT(INT(P_20号3様式1!AE178),\"#,##0\"),\"\")","v":"0"},{"$f":"IF(P_20号3様式1!AE178= \"\",\"\",IF(VALUE(FIXED(P_20号3様式1!AE178,0,TRUE))<>P_20号3様式1!AE178,RIGHT(FIXED(P_20号3様式1!AE178,3,FALSE),4),\"\"))","v":".000"},{"$f":"IF(P_20号3様式1!F178<> \"\",IF(P_20号3様式1!F178<> \"-\",TEXT(INT(P_20号3様式1!F178),\"#,##0\"),\"-\"),\"\")","v":"0"},{"$f":"IF(P_20号3様式1!F178<> \"\",IF(P_20号3様式1!F178<> \"-\",IF(VALUE(FIXED(P_20号3様式1!F178,0,TRUE))<>P_20号3様式1!F178,RIGHT(FIXED(P_20号3様式1!F178,3,FALSE),4),\"\"),\"\"),\"\")","v":".000"},{"$f":"IF(P_20号3様式1!I178<> \"\",IF(P_20号3様式1!I178<> \"-\",TEXT(INT(P_20号3様式1!I178),\"#,##0\"),\"-\"),\"\")","v":""},{"$f":"IF(P_20号3様式1!I178<> \"\",IF(P_20号3様式1!I178<> \"-\",IF(VALUE(FIXED(P_20号3様式1!I178,0,TRUE))<>P_20号3様式1!I178,RIGHT(FIXED(P_20号3様式1!I178,3,FALSE),4),\"\"),\"\"),\"\")","v":""},{"$f":"IF(P_20号3様式1!L178<> \"\",IF(P_20号3様式1!L178<> \"-\",TEXT(INT(P_20号3様式1!L178),\"#,##0\"),\"-\"),\"\")","v":""},{"$f":"IF(P_20号3様式1!L178<> \"\",IF(P_20号3様式1!L178<> \"-\",IF(VALUE(FIXED(P_20号3様式1!L178,0,TRUE))<>P_20号3様式1!L178,RIGHT(FIXED(P_20号3様式1!L178,3,FALSE),4),\"\"),\"\"),\"\")","v":""},{"$f":"IF(P_20号3様式1!O178<> \"\",IF(P_20号3様式1!O178<> \"-\",TEXT(INT(P_20号3様式1!O178),\"#,##0\"),\"-\"),\"\")","v":""},{"$f":"IF(P_20号3様式1!O178<> \"\",IF(P_20号3様式1!O178<> \"-\",IF(VALUE(FIXED(P_20号3様式1!O178,0,TRUE))<>P_20号3様式1!O178,RIGHT(FIXED(P_20号3様式1!O178,3,FALSE),4),\"\"),\"\"),\"\")","v":""},{"$f":"IF(P_20号3様式1!R178<> \"\",IF(P_20号3様式1!R178<> \"-\",TEXT(INT(P_20号3様式1!R178),\"#,##0\"),\"-\"),\"\")","v":""},{"$f":"IF(P_20号3様式1!R178<> \"\",IF(P_20号3様式1!R178<> \"-\",IF(VALUE(FIXED(P_20号3様式1!R178,0,TRUE))<>P_20号3様式1!R178,RIGHT(FIXED(P_20号3様式1!R178,3,FALSE),4),\"\"),\"\"),\"\")","v":""},{"$f":"IF(P_20号3様式1!U178<> \"\",IF(P_20号3様式1!U178<> \"-\",TEXT(INT(P_20号3様式1!U178),\"#,##0\"),\"-\"),\"\")","v":""},{"$f":"IF(P_20号3様式1!U178<> \"\",IF(P_20号3様式1!U178<> \"-\",IF(VALUE(FIXED(P_20号3様式1!U178,0,TRUE))<>P_20号3様式1!U178,RIGHT(FIXED(P_20号3様式1!U178,3,FALSE),4),\"\"),\"\"),\"\")","v":""},{"$f":"IF(P_20号3様式1!X178<> \"\",IF(P_20号3様式1!X178<> \"-\",TEXT(INT(P_20号3様式1!X178),\"#,##0\"),\"-\"),\"\")","v":""},{"$f":"IF(P_20号3様式1!X178<> \"\",IF(P_20号3様式1!X178<> \"-\",IF(VALUE(FIXED(P_20号3様式1!X178,0,TRUE))<>P_20号3様式1!X178,RIGHT(FIXED(P_20号3様式1!X178,3,FALSE),4),\"\"),\"\"),\"\")","v":""},{"$f":"IF(P_20号3様式1!AA178<> \"\",IF(P_20号3様式1!AA178<> \"-\",TEXT(INT(P_20号3様式1!AA178),\"#,##0\"),\"-\"),\"\")","v":""},{"$f":"IF(P_20号3様式1!AA178<> \"\",IF(P_20号3様式1!AA178<> \"-\",IF(VALUE(FIXED(P_20号3様式1!AA178,0,TRUE))<>P_20号3様式1!AA178,RIGHT(FIXED(P_20号3様式1!AA178,3,FALSE),4),\"\"),\"\"),\"\")","v":""}]
[{"$f":"IF(P_20号3様式1!C179=\"\",\"\",P_20号3様式1!C179)","v":"天城町"},{"$f":"IF(P_20号3様式1!AE179<> \"\",TEXT(INT(P_20号3様式1!AE179),\"#,##0\"),\"\")","v":"1"},{"$f":"IF(P_20号3様式1!AE179= \"\",\"\",IF(VALUE(FIXED(P_20号3様式1!AE179,0,TRUE))<>P_20号3様式1!AE179,RIGHT(FIXED(P_20号3様式1!AE179,3,FALSE),4),\"\"))","v":".000"},{"$f":"IF(P_20号3様式1!F179<> \"\",IF(P_20号3様式1!F179<> \"-\",TEXT(INT(P_20号3様式1!F179),\"#,##0\"),\"-\"),\"\")","v":"1"},{"$f":"IF(P_20号3様式1!F179<> \"\",IF(P_20号3様式1!F179<> \"-\",IF(VALUE(FIXED(P_20号3様式1!F179,0,TRUE))<>P_20号3様式1!F179,RIGHT(FIXED(P_20号3様式1!F179,3,FALSE),4),\"\"),\"\"),\"\")","v":".000"},{"$f":"IF(P_20号3様式1!I179<> \"\",IF(P_20号3様式1!I179<> \"-\",TEXT(INT(P_20号3様式1!I179),\"#,##0\"),\"-\"),\"\")","v":""},{"$f":"IF(P_20号3様式1!I179<> \"\",IF(P_20号3様式1!I179<> \"-\",IF(VALUE(FIXED(P_20号3様式1!I179,0,TRUE))<>P_20号3様式1!I179,RIGHT(FIXED(P_20号3様式1!I179,3,FALSE),4),\"\"),\"\"),\"\")","v":""},{"$f":"IF(P_20号3様式1!L179<> \"\",IF(P_20号3様式1!L179<> \"-\",TEXT(INT(P_20号3様式1!L179),\"#,##0\"),\"-\"),\"\")","v":""},{"$f":"IF(P_20号3様式1!L179<> \"\",IF(P_20号3様式1!L179<> \"-\",IF(VALUE(FIXED(P_20号3様式1!L179,0,TRUE))<>P_20号3様式1!L179,RIGHT(FIXED(P_20号3様式1!L179,3,FALSE),4),\"\"),\"\"),\"\")","v":""},{"$f":"IF(P_20号3様式1!O179<> \"\",IF(P_20号3様式1!O179<> \"-\",TEXT(INT(P_20号3様式1!O179),\"#,##0\"),\"-\"),\"\")","v":""},{"$f":"IF(P_20号3様式1!O179<> \"\",IF(P_20号3様式1!O179<> \"-\",IF(VALUE(FIXED(P_20号3様式1!O179,0,TRUE))<>P_20号3様式1!O179,RIGHT(FIXED(P_20号3様式1!O179,3,FALSE),4),\"\"),\"\"),\"\")","v":""},{"$f":"IF(P_20号3様式1!R179<> \"\",IF(P_20号3様式1!R179<> \"-\",TEXT(INT(P_20号3様式1!R179),\"#,##0\"),\"-\"),\"\")","v":""},{"$f":"IF(P_20号3様式1!R179<> \"\",IF(P_20号3様式1!R179<> \"-\",IF(VALUE(FIXED(P_20号3様式1!R179,0,TRUE))<>P_20号3様式1!R179,RIGHT(FIXED(P_20号3様式1!R179,3,FALSE),4),\"\"),\"\"),\"\")","v":""},{"$f":"IF(P_20号3様式1!U179<> \"\",IF(P_20号3様式1!U179<> \"-\",TEXT(INT(P_20号3様式1!U179),\"#,##0\"),\"-\"),\"\")","v":""},{"$f":"IF(P_20号3様式1!U179<> \"\",IF(P_20号3様式1!U179<> \"-\",IF(VALUE(FIXED(P_20号3様式1!U179,0,TRUE))<>P_20号3様式1!U179,RIGHT(FIXED(P_20号3様式1!U179,3,FALSE),4),\"\"),\"\"),\"\")","v":""},{"$f":"IF(P_20号3様式1!X179<> \"\",IF(P_20号3様式1!X179<> \"-\",TEXT(INT(P_20号3様式1!X179),\"#,##0\"),\"-\"),\"\")","v":""},{"$f":"IF(P_20号3様式1!X179<> \"\",IF(P_20号3様式1!X179<> \"-\",IF(VALUE(FIXED(P_20号3様式1!X179,0,TRUE))<>P_20号3様式1!X179,RIGHT(FIXED(P_20号3様式1!X179,3,FALSE),4),\"\"),\"\"),\"\")","v":""},{"$f":"IF(P_20号3様式1!AA179<> \"\",IF(P_20号3様式1!AA179<> \"-\",TEXT(INT(P_20号3様式1!AA179),\"#,##0\"),\"-\"),\"\")","v":""},{"$f":"IF(P_20号3様式1!AA179<> \"\",IF(P_20号3様式1!AA179<> \"-\",IF(VALUE(FIXED(P_20号3様式1!AA179,0,TRUE))<>P_20号3様式1!AA179,RIGHT(FIXED(P_20号3様式1!AA179,3,FALSE),4),\"\"),\"\"),\"\")","v":""}]
[{"$f":"IF(P_20号3様式1!C180=\"\",\"\",P_20号3様式1!C180)","v":"伊仙町"},{"$f":"IF(P_20号3様式1!AE180<> \"\",TEXT(INT(P_20号3様式1!AE180),\"#,##0\"),\"\")","v":"0"},{"$f":"IF(P_20号3様式1!AE180= \"\",\"\",IF(VALUE(FIXED(P_20号3様式1!AE180,0,TRUE))<>P_20号3様式1!AE180,RIGHT(FIXED(P_20号3様式1!AE180,3,FALSE),4),\"\"))","v":".000"},{"$f":"IF(P_20号3様式1!F180<> \"\",IF(P_20号3様式1!F180<> \"-\",TEXT(INT(P_20号3様式1!F180),\"#,##0\"),\"-\"),\"\")","v":"0"},{"$f":"IF(P_20号3様式1!F180<> \"\",IF(P_20号3様式1!F180<> \"-\",IF(VALUE(FIXED(P_20号3様式1!F180,0,TRUE))<>P_20号3様式1!F180,RIGHT(FIXED(P_20号3様式1!F180,3,FALSE),4),\"\"),\"\"),\"\")","v":".000"},{"$f":"IF(P_20号3様式1!I180<> \"\",IF(P_20号3様式1!I180<> \"-\",TEXT(INT(P_20号3様式1!I180),\"#,##0\"),\"-\"),\"\")","v":""},{"$f":"IF(P_20号3様式1!I180<> \"\",IF(P_20号3様式1!I180<> \"-\",IF(VALUE(FIXED(P_20号3様式1!I180,0,TRUE))<>P_20号3様式1!I180,RIGHT(FIXED(P_20号3様式1!I180,3,FALSE),4),\"\"),\"\"),\"\")","v":""},{"$f":"IF(P_20号3様式1!L180<> \"\",IF(P_20号3様式1!L180<> \"-\",TEXT(INT(P_20号3様式1!L180),\"#,##0\"),\"-\"),\"\")","v":""},{"$f":"IF(P_20号3様式1!L180<> \"\",IF(P_20号3様式1!L180<> \"-\",IF(VALUE(FIXED(P_20号3様式1!L180,0,TRUE))<>P_20号3様式1!L180,RIGHT(FIXED(P_20号3様式1!L180,3,FALSE),4),\"\"),\"\"),\"\")","v":""},{"$f":"IF(P_20号3様式1!O180<> \"\",IF(P_20号3様式1!O180<> \"-\",TEXT(INT(P_20号3様式1!O180),\"#,##0\"),\"-\"),\"\")","v":""},{"$f":"IF(P_20号3様式1!O180<> \"\",IF(P_20号3様式1!O180<> \"-\",IF(VALUE(FIXED(P_20号3様式1!O180,0,TRUE))<>P_20号3様式1!O180,RIGHT(FIXED(P_20号3様式1!O180,3,FALSE),4),\"\"),\"\"),\"\")","v":""},{"$f":"IF(P_20号3様式1!R180<> \"\",IF(P_20号3様式1!R180<> \"-\",TEXT(INT(P_20号3様式1!R180),\"#,##0\"),\"-\"),\"\")","v":""},{"$f":"IF(P_20号3様式1!R180<> \"\",IF(P_20号3様式1!R180<> \"-\",IF(VALUE(FIXED(P_20号3様式1!R180,0,TRUE))<>P_20号3様式1!R180,RIGHT(FIXED(P_20号3様式1!R180,3,FALSE),4),\"\"),\"\"),\"\")","v":""},{"$f":"IF(P_20号3様式1!U180<> \"\",IF(P_20号3様式1!U180<> \"-\",TEXT(INT(P_20号3様式1!U180),\"#,##0\"),\"-\"),\"\")","v":""},{"$f":"IF(P_20号3様式1!U180<> \"\",IF(P_20号3様式1!U180<> \"-\",IF(VALUE(FIXED(P_20号3様式1!U180,0,TRUE))<>P_20号3様式1!U180,RIGHT(FIXED(P_20号3様式1!U180,3,FALSE),4),\"\"),\"\"),\"\")","v":""},{"$f":"IF(P_20号3様式1!X180<> \"\",IF(P_20号3様式1!X180<> \"-\",TEXT(INT(P_20号3様式1!X180),\"#,##0\"),\"-\"),\"\")","v":""},{"$f":"IF(P_20号3様式1!X180<> \"\",IF(P_20号3様式1!X180<> \"-\",IF(VALUE(FIXED(P_20号3様式1!X180,0,TRUE))<>P_20号3様式1!X180,RIGHT(FIXED(P_20号3様式1!X180,3,FALSE),4),\"\"),\"\"),\"\")","v":""},{"$f":"IF(P_20号3様式1!AA180<> \"\",IF(P_20号3様式1!AA180<> \"-\",TEXT(INT(P_20号3様式1!AA180),\"#,##0\"),\"-\"),\"\")","v":""},{"$f":"IF(P_20号3様式1!AA180<> \"\",IF(P_20号3様式1!AA180<> \"-\",IF(VALUE(FIXED(P_20号3様式1!AA180,0,TRUE))<>P_20号3様式1!AA180,RIGHT(FIXED(P_20号3様式1!AA180,3,FALSE),4),\"\"),\"\"),\"\")","v":""}]
[{"$f":"IF(P_20号3様式1!C181=\"\",\"\",P_20号3様式1!C181)","v":"和泊町"},{"$f":"IF(P_20号3様式1!AE181<> \"\",TEXT(INT(P_20号3様式1!AE181),\"#,##0\"),\"\")","v":"0"},{"$f":"IF(P_20号3様式1!AE181= \"\",\"\",IF(VALUE(FIXED(P_20号3様式1!AE181,0,TRUE))<>P_20号3様式1!AE181,RIGHT(FIXED(P_20号3様式1!AE181,3,FALSE),4),\"\"))","v":".000"},{"$f":"IF(P_20号3様式1!F181<> \"\",IF(P_20号3様式1!F181<> \"-\",TEXT(INT(P_20号3様式1!F181),\"#,##0\"),\"-\"),\"\")","v":"0"},{"$f":"IF(P_20号3様式1!F181<> \"\",IF(P_20号3様式1!F181<> \"-\",IF(VALUE(FIXED(P_20号3様式1!F181,0,TRUE))<>P_20号3様式1!F181,RIGHT(FIXED(P_20号3様式1!F181,3,FALSE),4),\"\"),\"\"),\"\")","v":".000"},{"$f":"IF(P_20号3様式1!I181<> \"\",IF(P_20号3様式1!I181<> \"-\",TEXT(INT(P_20号3様式1!I181),\"#,##0\"),\"-\"),\"\")","v":""},{"$f":"IF(P_20号3様式1!I181<> \"\",IF(P_20号3様式1!I181<> \"-\",IF(VALUE(FIXED(P_20号3様式1!I181,0,TRUE))<>P_20号3様式1!I181,RIGHT(FIXED(P_20号3様式1!I181,3,FALSE),4),\"\"),\"\"),\"\")","v":""},{"$f":"IF(P_20号3様式1!L181<> \"\",IF(P_20号3様式1!L181<> \"-\",TEXT(INT(P_20号3様式1!L181),\"#,##0\"),\"-\"),\"\")","v":""},{"$f":"IF(P_20号3様式1!L181<> \"\",IF(P_20号3様式1!L181<> \"-\",IF(VALUE(FIXED(P_20号3様式1!L181,0,TRUE))<>P_20号3様式1!L181,RIGHT(FIXED(P_20号3様式1!L181,3,FALSE),4),\"\"),\"\"),\"\")","v":""},{"$f":"IF(P_20号3様式1!O181<> \"\",IF(P_20号3様式1!O181<> \"-\",TEXT(INT(P_20号3様式1!O181),\"#,##0\"),\"-\"),\"\")","v":""},{"$f":"IF(P_20号3様式1!O181<> \"\",IF(P_20号3様式1!O181<> \"-\",IF(VALUE(FIXED(P_20号3様式1!O181,0,TRUE))<>P_20号3様式1!O181,RIGHT(FIXED(P_20号3様式1!O181,3,FALSE),4),\"\"),\"\"),\"\")","v":""},{"$f":"IF(P_20号3様式1!R181<> \"\",IF(P_20号3様式1!R181<> \"-\",TEXT(INT(P_20号3様式1!R181),\"#,##0\"),\"-\"),\"\")","v":""},{"$f":"IF(P_20号3様式1!R181<> \"\",IF(P_20号3様式1!R181<> \"-\",IF(VALUE(FIXED(P_20号3様式1!R181,0,TRUE))<>P_20号3様式1!R181,RIGHT(FIXED(P_20号3様式1!R181,3,FALSE),4),\"\"),\"\"),\"\")","v":""},{"$f":"IF(P_20号3様式1!U181<> \"\",IF(P_20号3様式1!U181<> \"-\",TEXT(INT(P_20号3様式1!U181),\"#,##0\"),\"-\"),\"\")","v":""},{"$f":"IF(P_20号3様式1!U181<> \"\",IF(P_20号3様式1!U181<> \"-\",IF(VALUE(FIXED(P_20号3様式1!U181,0,TRUE))<>P_20号3様式1!U181,RIGHT(FIXED(P_20号3様式1!U181,3,FALSE),4),\"\"),\"\"),\"\")","v":""},{"$f":"IF(P_20号3様式1!X181<> \"\",IF(P_20号3様式1!X181<> \"-\",TEXT(INT(P_20号3様式1!X181),\"#,##0\"),\"-\"),\"\")","v":""},{"$f":"IF(P_20号3様式1!X181<> \"\",IF(P_20号3様式1!X181<> \"-\",IF(VALUE(FIXED(P_20号3様式1!X181,0,TRUE))<>P_20号3様式1!X181,RIGHT(FIXED(P_20号3様式1!X181,3,FALSE),4),\"\"),\"\"),\"\")","v":""},{"$f":"IF(P_20号3様式1!AA181<> \"\",IF(P_20号3様式1!AA181<> \"-\",TEXT(INT(P_20号3様式1!AA181),\"#,##0\"),\"-\"),\"\")","v":""},{"$f":"IF(P_20号3様式1!AA181<> \"\",IF(P_20号3様式1!AA181<> \"-\",IF(VALUE(FIXED(P_20号3様式1!AA181,0,TRUE))<>P_20号3様式1!AA181,RIGHT(FIXED(P_20号3様式1!AA181,3,FALSE),4),\"\"),\"\"),\"\")","v":""}]
[{"$f":"IF(P_20号3様式1!C182=\"\",\"\",P_20号3様式1!C182)","v":"知名町"},{"$f":"IF(P_20号3様式1!AE182<> \"\",TEXT(INT(P_20号3様式1!AE182),\"#,##0\"),\"\")","v":"0"},{"$f":"IF(P_20号3様式1!AE182= \"\",\"\",IF(VALUE(FIXED(P_20号3様式1!AE182,0,TRUE))<>P_20号3様式1!AE182,RIGHT(FIXED(P_20号3様式1!AE182,3,FALSE),4),\"\"))","v":".000"},{"$f":"IF(P_20号3様式1!F182<> \"\",IF(P_20号3様式1!F182<> \"-\",TEXT(INT(P_20号3様式1!F182),\"#,##0\"),\"-\"),\"\")","v":"0"},{"$f":"IF(P_20号3様式1!F182<> \"\",IF(P_20号3様式1!F182<> \"-\",IF(VALUE(FIXED(P_20号3様式1!F182,0,TRUE))<>P_20号3様式1!F182,RIGHT(FIXED(P_20号3様式1!F182,3,FALSE),4),\"\"),\"\"),\"\")","v":".000"},{"$f":"IF(P_20号3様式1!I182<> \"\",IF(P_20号3様式1!I182<> \"-\",TEXT(INT(P_20号3様式1!I182),\"#,##0\"),\"-\"),\"\")","v":""},{"$f":"IF(P_20号3様式1!I182<> \"\",IF(P_20号3様式1!I182<> \"-\",IF(VALUE(FIXED(P_20号3様式1!I182,0,TRUE))<>P_20号3様式1!I182,RIGHT(FIXED(P_20号3様式1!I182,3,FALSE),4),\"\"),\"\"),\"\")","v":""},{"$f":"IF(P_20号3様式1!L182<> \"\",IF(P_20号3様式1!L182<> \"-\",TEXT(INT(P_20号3様式1!L182),\"#,##0\"),\"-\"),\"\")","v":""},{"$f":"IF(P_20号3様式1!L182<> \"\",IF(P_20号3様式1!L182<> \"-\",IF(VALUE(FIXED(P_20号3様式1!L182,0,TRUE))<>P_20号3様式1!L182,RIGHT(FIXED(P_20号3様式1!L182,3,FALSE),4),\"\"),\"\"),\"\")","v":""},{"$f":"IF(P_20号3様式1!O182<> \"\",IF(P_20号3様式1!O182<> \"-\",TEXT(INT(P_20号3様式1!O182),\"#,##0\"),\"-\"),\"\")","v":""},{"$f":"IF(P_20号3様式1!O182<> \"\",IF(P_20号3様式1!O182<> \"-\",IF(VALUE(FIXED(P_20号3様式1!O182,0,TRUE))<>P_20号3様式1!O182,RIGHT(FIXED(P_20号3様式1!O182,3,FALSE),4),\"\"),\"\"),\"\")","v":""},{"$f":"IF(P_20号3様式1!R182<> \"\",IF(P_20号3様式1!R182<> \"-\",TEXT(INT(P_20号3様式1!R182),\"#,##0\"),\"-\"),\"\")","v":""},{"$f":"IF(P_20号3様式1!R182<> \"\",IF(P_20号3様式1!R182<> \"-\",IF(VALUE(FIXED(P_20号3様式1!R182,0,TRUE))<>P_20号3様式1!R182,RIGHT(FIXED(P_20号3様式1!R182,3,FALSE),4),\"\"),\"\"),\"\")","v":""},{"$f":"IF(P_20号3様式1!U182<> \"\",IF(P_20号3様式1!U182<> \"-\",TEXT(INT(P_20号3様式1!U182),\"#,##0\"),\"-\"),\"\")","v":""},{"$f":"IF(P_20号3様式1!U182<> \"\",IF(P_20号3様式1!U182<> \"-\",IF(VALUE(FIXED(P_20号3様式1!U182,0,TRUE))<>P_20号3様式1!U182,RIGHT(FIXED(P_20号3様式1!U182,3,FALSE),4),\"\"),\"\"),\"\")","v":""},{"$f":"IF(P_20号3様式1!X182<> \"\",IF(P_20号3様式1!X182<> \"-\",TEXT(INT(P_20号3様式1!X182),\"#,##0\"),\"-\"),\"\")","v":""},{"$f":"IF(P_20号3様式1!X182<> \"\",IF(P_20号3様式1!X182<> \"-\",IF(VALUE(FIXED(P_20号3様式1!X182,0,TRUE))<>P_20号3様式1!X182,RIGHT(FIXED(P_20号3様式1!X182,3,FALSE),4),\"\"),\"\"),\"\")","v":""},{"$f":"IF(P_20号3様式1!AA182<> \"\",IF(P_20号3様式1!AA182<> \"-\",TEXT(INT(P_20号3様式1!AA182),\"#,##0\"),\"-\"),\"\")","v":""},{"$f":"IF(P_20号3様式1!AA182<> \"\",IF(P_20号3様式1!AA182<> \"-\",IF(VALUE(FIXED(P_20号3様式1!AA182,0,TRUE))<>P_20号3様式1!AA182,RIGHT(FIXED(P_20号3様式1!AA182,3,FALSE),4),\"\"),\"\"),\"\")","v":""}]
[{"$f":"IF(P_20号3様式1!C183=\"\",\"\",P_20号3様式1!C183)","v":"与論町"},{"$f":"IF(P_20号3様式1!AE183<> \"\",TEXT(INT(P_20号3様式1!AE183),\"#,##0\"),\"\")","v":"0"},{"$f":"IF(P_20号3様式1!AE183= \"\",\"\",IF(VALUE(FIXED(P_20号3様式1!AE183,0,TRUE))<>P_20号3様式1!AE183,RIGHT(FIXED(P_20号3様式1!AE183,3,FALSE),4),\"\"))","v":".000"},{"$f":"IF(P_20号3様式1!F183<> \"\",IF(P_20号3様式1!F183<> \"-\",TEXT(INT(P_20号3様式1!F183),\"#,##0\"),\"-\"),\"\")","v":"0"},{"$f":"IF(P_20号3様式1!F183<> \"\",IF(P_20号3様式1!F183<> \"-\",IF(VALUE(FIXED(P_20号3様式1!F183,0,TRUE))<>P_20号3様式1!F183,RIGHT(FIXED(P_20号3様式1!F183,3,FALSE),4),\"\"),\"\"),\"\")","v":".000"},{"$f":"IF(P_20号3様式1!I183<> \"\",IF(P_20号3様式1!I183<> \"-\",TEXT(INT(P_20号3様式1!I183),\"#,##0\"),\"-\"),\"\")","v":""},{"$f":"IF(P_20号3様式1!I183<> \"\",IF(P_20号3様式1!I183<> \"-\",IF(VALUE(FIXED(P_20号3様式1!I183,0,TRUE))<>P_20号3様式1!I183,RIGHT(FIXED(P_20号3様式1!I183,3,FALSE),4),\"\"),\"\"),\"\")","v":""},{"$f":"IF(P_20号3様式1!L183<> \"\",IF(P_20号3様式1!L183<> \"-\",TEXT(INT(P_20号3様式1!L183),\"#,##0\"),\"-\"),\"\")","v":""},{"$f":"IF(P_20号3様式1!L183<> \"\",IF(P_20号3様式1!L183<> \"-\",IF(VALUE(FIXED(P_20号3様式1!L183,0,TRUE))<>P_20号3様式1!L183,RIGHT(FIXED(P_20号3様式1!L183,3,FALSE),4),\"\"),\"\"),\"\")","v":""},{"$f":"IF(P_20号3様式1!O183<> \"\",IF(P_20号3様式1!O183<> \"-\",TEXT(INT(P_20号3様式1!O183),\"#,##0\"),\"-\"),\"\")","v":""},{"$f":"IF(P_20号3様式1!O183<> \"\",IF(P_20号3様式1!O183<> \"-\",IF(VALUE(FIXED(P_20号3様式1!O183,0,TRUE))<>P_20号3様式1!O183,RIGHT(FIXED(P_20号3様式1!O183,3,FALSE),4),\"\"),\"\"),\"\")","v":""},{"$f":"IF(P_20号3様式1!R183<> \"\",IF(P_20号3様式1!R183<> \"-\",TEXT(INT(P_20号3様式1!R183),\"#,##0\"),\"-\"),\"\")","v":""},{"$f":"IF(P_20号3様式1!R183<> \"\",IF(P_20号3様式1!R183<> \"-\",IF(VALUE(FIXED(P_20号3様式1!R183,0,TRUE))<>P_20号3様式1!R183,RIGHT(FIXED(P_20号3様式1!R183,3,FALSE),4),\"\"),\"\"),\"\")","v":""},{"$f":"IF(P_20号3様式1!U183<> \"\",IF(P_20号3様式1!U183<> \"-\",TEXT(INT(P_20号3様式1!U183),\"#,##0\"),\"-\"),\"\")","v":""},{"$f":"IF(P_20号3様式1!U183<> \"\",IF(P_20号3様式1!U183<> \"-\",IF(VALUE(FIXED(P_20号3様式1!U183,0,TRUE))<>P_20号3様式1!U183,RIGHT(FIXED(P_20号3様式1!U183,3,FALSE),4),\"\"),\"\"),\"\")","v":""},{"$f":"IF(P_20号3様式1!X183<> \"\",IF(P_20号3様式1!X183<> \"-\",TEXT(INT(P_20号3様式1!X183),\"#,##0\"),\"-\"),\"\")","v":""},{"$f":"IF(P_20号3様式1!X183<> \"\",IF(P_20号3様式1!X183<> \"-\",IF(VALUE(FIXED(P_20号3様式1!X183,0,TRUE))<>P_20号3様式1!X183,RIGHT(FIXED(P_20号3様式1!X183,3,FALSE),4),\"\"),\"\"),\"\")","v":""},{"$f":"IF(P_20号3様式1!AA183<> \"\",IF(P_20号3様式1!AA183<> \"-\",TEXT(INT(P_20号3様式1!AA183),\"#,##0\"),\"-\"),\"\")","v":""},{"$f":"IF(P_20号3様式1!AA183<> \"\",IF(P_20号3様式1!AA183<> \"-\",IF(VALUE(FIXED(P_20号3様式1!AA183,0,TRUE))<>P_20号3様式1!AA183,RIGHT(FIXED(P_20号3様式1!AA183,3,FALSE),4),\"\"),\"\"),\"\")","v":""}]
[{"$f":"IF(P_20号3様式1!C184=\"\",\"\",P_20号3様式1!C184)","v":"＊（大島郡）計"},{"$f":"IF(P_20号3様式1!AE184<> \"\",TEXT(INT(P_20号3様式1!AE184),\"#,##0\"),\"\")","v":"1"},{"$f":"IF(P_20号3様式1!AE184= \"\",\"\",IF(VALUE(FIXED(P_20号3様式1!AE184,0,TRUE))<>P_20号3様式1!AE184,RIGHT(FIXED(P_20号3様式1!AE184,3,FALSE),4),\"\"))","v":".000"},{"$f":"IF(P_20号3様式1!F184<> \"\",IF(P_20号3様式1!F184<> \"-\",TEXT(INT(P_20号3様式1!F184),\"#,##0\"),\"-\"),\"\")","v":"1"},{"$f":"IF(P_20号3様式1!F184<> \"\",IF(P_20号3様式1!F184<> \"-\",IF(VALUE(FIXED(P_20号3様式1!F184,0,TRUE))<>P_20号3様式1!F184,RIGHT(FIXED(P_20号3様式1!F184,3,FALSE),4),\"\"),\"\"),\"\")","v":".000"},{"$f":"IF(P_20号3様式1!I184<> \"\",IF(P_20号3様式1!I184<> \"-\",TEXT(INT(P_20号3様式1!I184),\"#,##0\"),\"-\"),\"\")","v":""},{"$f":"IF(P_20号3様式1!I184<> \"\",IF(P_20号3様式1!I184<> \"-\",IF(VALUE(FIXED(P_20号3様式1!I184,0,TRUE))<>P_20号3様式1!I184,RIGHT(FIXED(P_20号3様式1!I184,3,FALSE),4),\"\"),\"\"),\"\")","v":""},{"$f":"IF(P_20号3様式1!L184<> \"\",IF(P_20号3様式1!L184<> \"-\",TEXT(INT(P_20号3様式1!L184),\"#,##0\"),\"-\"),\"\")","v":""},{"$f":"IF(P_20号3様式1!L184<> \"\",IF(P_20号3様式1!L184<> \"-\",IF(VALUE(FIXED(P_20号3様式1!L184,0,TRUE))<>P_20号3様式1!L184,RIGHT(FIXED(P_20号3様式1!L184,3,FALSE),4),\"\"),\"\"),\"\")","v":""},{"$f":"IF(P_20号3様式1!O184<> \"\",IF(P_20号3様式1!O184<> \"-\",TEXT(INT(P_20号3様式1!O184),\"#,##0\"),\"-\"),\"\")","v":""},{"$f":"IF(P_20号3様式1!O184<> \"\",IF(P_20号3様式1!O184<> \"-\",IF(VALUE(FIXED(P_20号3様式1!O184,0,TRUE))<>P_20号3様式1!O184,RIGHT(FIXED(P_20号3様式1!O184,3,FALSE),4),\"\"),\"\"),\"\")","v":""},{"$f":"IF(P_20号3様式1!R184<> \"\",IF(P_20号3様式1!R184<> \"-\",TEXT(INT(P_20号3様式1!R184),\"#,##0\"),\"-\"),\"\")","v":""},{"$f":"IF(P_20号3様式1!R184<> \"\",IF(P_20号3様式1!R184<> \"-\",IF(VALUE(FIXED(P_20号3様式1!R184,0,TRUE))<>P_20号3様式1!R184,RIGHT(FIXED(P_20号3様式1!R184,3,FALSE),4),\"\"),\"\"),\"\")","v":""},{"$f":"IF(P_20号3様式1!U184<> \"\",IF(P_20号3様式1!U184<> \"-\",TEXT(INT(P_20号3様式1!U184),\"#,##0\"),\"-\"),\"\")","v":""},{"$f":"IF(P_20号3様式1!U184<> \"\",IF(P_20号3様式1!U184<> \"-\",IF(VALUE(FIXED(P_20号3様式1!U184,0,TRUE))<>P_20号3様式1!U184,RIGHT(FIXED(P_20号3様式1!U184,3,FALSE),4),\"\"),\"\"),\"\")","v":""},{"$f":"IF(P_20号3様式1!X184<> \"\",IF(P_20号3様式1!X184<> \"-\",TEXT(INT(P_20号3様式1!X184),\"#,##0\"),\"-\"),\"\")","v":""},{"$f":"IF(P_20号3様式1!X184<> \"\",IF(P_20号3様式1!X184<> \"-\",IF(VALUE(FIXED(P_20号3様式1!X184,0,TRUE))<>P_20号3様式1!X184,RIGHT(FIXED(P_20号3様式1!X184,3,FALSE),4),\"\"),\"\"),\"\")","v":""},{"$f":"IF(P_20号3様式1!AA184<> \"\",IF(P_20号3様式1!AA184<> \"-\",TEXT(INT(P_20号3様式1!AA184),\"#,##0\"),\"-\"),\"\")","v":""},{"$f":"IF(P_20号3様式1!AA184<> \"\",IF(P_20号3様式1!AA184<> \"-\",IF(VALUE(FIXED(P_20号3様式1!AA184,0,TRUE))<>P_20号3様式1!AA184,RIGHT(FIXED(P_20号3様式1!AA184,3,FALSE),4),\"\"),\"\"),\"\")","v":""}]
[{"$f":"IF(P_20号3様式1!C185=\"\",\"\",P_20号3様式1!C185)","v":""},{"$f":"IF(P_20号3様式1!AE185<> \"\",TEXT(INT(P_20号3様式1!AE185),\"#,##0\"),\"\")","v":""},{"$f":"IF(P_20号3様式1!AE185= \"\",\"\",IF(VALUE(FIXED(P_20号3様式1!AE185,0,TRUE))<>P_20号3様式1!AE185,RIGHT(FIXED(P_20号3様式1!AE185,3,FALSE),4),\"\"))","v":""},{"$f":"IF(P_20号3様式1!F185<> \"\",IF(P_20号3様式1!F185<> \"-\",TEXT(INT(P_20号3様式1!F185),\"#,##0\"),\"-\"),\"\")","v":""},{"$f":"IF(P_20号3様式1!F185<> \"\",IF(P_20号3様式1!F185<> \"-\",IF(VALUE(FIXED(P_20号3様式1!F185,0,TRUE))<>P_20号3様式1!F185,RIGHT(FIXED(P_20号3様式1!F185,3,FALSE),4),\"\"),\"\"),\"\")","v":""},{"$f":"IF(P_20号3様式1!I185<> \"\",IF(P_20号3様式1!I185<> \"-\",TEXT(INT(P_20号3様式1!I185),\"#,##0\"),\"-\"),\"\")","v":""},{"$f":"IF(P_20号3様式1!I185<> \"\",IF(P_20号3様式1!I185<> \"-\",IF(VALUE(FIXED(P_20号3様式1!I185,0,TRUE))<>P_20号3様式1!I185,RIGHT(FIXED(P_20号3様式1!I185,3,FALSE),4),\"\"),\"\"),\"\")","v":""},{"$f":"IF(P_20号3様式1!L185<> \"\",IF(P_20号3様式1!L185<> \"-\",TEXT(INT(P_20号3様式1!L185),\"#,##0\"),\"-\"),\"\")","v":""},{"$f":"IF(P_20号3様式1!L185<> \"\",IF(P_20号3様式1!L185<> \"-\",IF(VALUE(FIXED(P_20号3様式1!L185,0,TRUE))<>P_20号3様式1!L185,RIGHT(FIXED(P_20号3様式1!L185,3,FALSE),4),\"\"),\"\"),\"\")","v":""},{"$f":"IF(P_20号3様式1!O185<> \"\",IF(P_20号3様式1!O185<> \"-\",TEXT(INT(P_20号3様式1!O185),\"#,##0\"),\"-\"),\"\")","v":""},{"$f":"IF(P_20号3様式1!O185<> \"\",IF(P_20号3様式1!O185<> \"-\",IF(VALUE(FIXED(P_20号3様式1!O185,0,TRUE))<>P_20号3様式1!O185,RIGHT(FIXED(P_20号3様式1!O185,3,FALSE),4),\"\"),\"\"),\"\")","v":""},{"$f":"IF(P_20号3様式1!R185<> \"\",IF(P_20号3様式1!R185<> \"-\",TEXT(INT(P_20号3様式1!R185),\"#,##0\"),\"-\"),\"\")","v":""},{"$f":"IF(P_20号3様式1!R185<> \"\",IF(P_20号3様式1!R185<> \"-\",IF(VALUE(FIXED(P_20号3様式1!R185,0,TRUE))<>P_20号3様式1!R185,RIGHT(FIXED(P_20号3様式1!R185,3,FALSE),4),\"\"),\"\"),\"\")","v":""},{"$f":"IF(P_20号3様式1!U185<> \"\",IF(P_20号3様式1!U185<> \"-\",TEXT(INT(P_20号3様式1!U185),\"#,##0\"),\"-\"),\"\")","v":""},{"$f":"IF(P_20号3様式1!U185<> \"\",IF(P_20号3様式1!U185<> \"-\",IF(VALUE(FIXED(P_20号3様式1!U185,0,TRUE))<>P_20号3様式1!U185,RIGHT(FIXED(P_20号3様式1!U185,3,FALSE),4),\"\"),\"\"),\"\")","v":""},{"$f":"IF(P_20号3様式1!X185<> \"\",IF(P_20号3様式1!X185<> \"-\",TEXT(INT(P_20号3様式1!X185),\"#,##0\"),\"-\"),\"\")","v":""},{"$f":"IF(P_20号3様式1!X185<> \"\",IF(P_20号3様式1!X185<> \"-\",IF(VALUE(FIXED(P_20号3様式1!X185,0,TRUE))<>P_20号3様式1!X185,RIGHT(FIXED(P_20号3様式1!X185,3,FALSE),4),\"\"),\"\"),\"\")","v":""},{"$f":"IF(P_20号3様式1!AA185<> \"\",IF(P_20号3様式1!AA185<> \"-\",TEXT(INT(P_20号3様式1!AA185),\"#,##0\"),\"-\"),\"\")","v":""},{"$f":"IF(P_20号3様式1!AA185<> \"\",IF(P_20号3様式1!AA185<> \"-\",IF(VALUE(FIXED(P_20号3様式1!AA185,0,TRUE))<>P_20号3様式1!AA185,RIGHT(FIXED(P_20号3様式1!AA185,3,FALSE),4),\"\"),\"\"),\"\")","v":""}]
[{"$f":"IF(P_20号3様式1!C186=\"\",\"\",P_20号3様式1!C186)","v":""},{"$f":"IF(P_20号3様式1!AE186<> \"\",TEXT(INT(P_20号3様式1!AE186),\"#,##0\"),\"\")","v":""},{"$f":"IF(P_20号3様式1!AE186= \"\",\"\",IF(VALUE(FIXED(P_20号3様式1!AE186,0,TRUE))<>P_20号3様式1!AE186,RIGHT(FIXED(P_20号3様式1!AE186,3,FALSE),4),\"\"))","v":""},{"$f":"IF(P_20号3様式1!F186<> \"\",IF(P_20号3様式1!F186<> \"-\",TEXT(INT(P_20号3様式1!F186),\"#,##0\"),\"-\"),\"\")","v":""},{"$f":"IF(P_20号3様式1!F186<> \"\",IF(P_20号3様式1!F186<> \"-\",IF(VALUE(FIXED(P_20号3様式1!F186,0,TRUE))<>P_20号3様式1!F186,RIGHT(FIXED(P_20号3様式1!F186,3,FALSE),4),\"\"),\"\"),\"\")","v":""},{"$f":"IF(P_20号3様式1!I186<> \"\",IF(P_20号3様式1!I186<> \"-\",TEXT(INT(P_20号3様式1!I186),\"#,##0\"),\"-\"),\"\")","v":""},{"$f":"IF(P_20号3様式1!I186<> \"\",IF(P_20号3様式1!I186<> \"-\",IF(VALUE(FIXED(P_20号3様式1!I186,0,TRUE))<>P_20号3様式1!I186,RIGHT(FIXED(P_20号3様式1!I186,3,FALSE),4),\"\"),\"\"),\"\")","v":""},{"$f":"IF(P_20号3様式1!L186<> \"\",IF(P_20号3様式1!L186<> \"-\",TEXT(INT(P_20号3様式1!L186),\"#,##0\"),\"-\"),\"\")","v":""},{"$f":"IF(P_20号3様式1!L186<> \"\",IF(P_20号3様式1!L186<> \"-\",IF(VALUE(FIXED(P_20号3様式1!L186,0,TRUE))<>P_20号3様式1!L186,RIGHT(FIXED(P_20号3様式1!L186,3,FALSE),4),\"\"),\"\"),\"\")","v":""},{"$f":"IF(P_20号3様式1!O186<> \"\",IF(P_20号3様式1!O186<> \"-\",TEXT(INT(P_20号3様式1!O186),\"#,##0\"),\"-\"),\"\")","v":""},{"$f":"IF(P_20号3様式1!O186<> \"\",IF(P_20号3様式1!O186<> \"-\",IF(VALUE(FIXED(P_20号3様式1!O186,0,TRUE))<>P_20号3様式1!O186,RIGHT(FIXED(P_20号3様式1!O186,3,FALSE),4),\"\"),\"\"),\"\")","v":""},{"$f":"IF(P_20号3様式1!R186<> \"\",IF(P_20号3様式1!R186<> \"-\",TEXT(INT(P_20号3様式1!R186),\"#,##0\"),\"-\"),\"\")","v":""},{"$f":"IF(P_20号3様式1!R186<> \"\",IF(P_20号3様式1!R186<> \"-\",IF(VALUE(FIXED(P_20号3様式1!R186,0,TRUE))<>P_20号3様式1!R186,RIGHT(FIXED(P_20号3様式1!R186,3,FALSE),4),\"\"),\"\"),\"\")","v":""},{"$f":"IF(P_20号3様式1!U186<> \"\",IF(P_20号3様式1!U186<> \"-\",TEXT(INT(P_20号3様式1!U186),\"#,##0\"),\"-\"),\"\")","v":""},{"$f":"IF(P_20号3様式1!U186<> \"\",IF(P_20号3様式1!U186<> \"-\",IF(VALUE(FIXED(P_20号3様式1!U186,0,TRUE))<>P_20号3様式1!U186,RIGHT(FIXED(P_20号3様式1!U186,3,FALSE),4),\"\"),\"\"),\"\")","v":""},{"$f":"IF(P_20号3様式1!X186<> \"\",IF(P_20号3様式1!X186<> \"-\",TEXT(INT(P_20号3様式1!X186),\"#,##0\"),\"-\"),\"\")","v":""},{"$f":"IF(P_20号3様式1!X186<> \"\",IF(P_20号3様式1!X186<> \"-\",IF(VALUE(FIXED(P_20号3様式1!X186,0,TRUE))<>P_20号3様式1!X186,RIGHT(FIXED(P_20号3様式1!X186,3,FALSE),4),\"\"),\"\"),\"\")","v":""},{"$f":"IF(P_20号3様式1!AA186<> \"\",IF(P_20号3様式1!AA186<> \"-\",TEXT(INT(P_20号3様式1!AA186),\"#,##0\"),\"-\"),\"\")","v":""},{"$f":"IF(P_20号3様式1!AA186<> \"\",IF(P_20号3様式1!AA186<> \"-\",IF(VALUE(FIXED(P_20号3様式1!AA186,0,TRUE))<>P_20号3様式1!AA186,RIGHT(FIXED(P_20号3様式1!AA186,3,FALSE),4),\"\"),\"\"),\"\")","v":""}]
[{"$f":"IF(P_20号3様式1!C187=\"\",\"\",P_20号3様式1!C187)","v":""},{"$f":"IF(P_20号3様式1!AE187<> \"\",TEXT(INT(P_20号3様式1!AE187),\"#,##0\"),\"\")","v":""},{"$f":"IF(P_20号3様式1!AE187= \"\",\"\",IF(VALUE(FIXED(P_20号3様式1!AE187,0,TRUE))<>P_20号3様式1!AE187,RIGHT(FIXED(P_20号3様式1!AE187,3,FALSE),4),\"\"))","v":""},{"$f":"IF(P_20号3様式1!F187<> \"\",IF(P_20号3様式1!F187<> \"-\",TEXT(INT(P_20号3様式1!F187),\"#,##0\"),\"-\"),\"\")","v":""},{"$f":"IF(P_20号3様式1!F187<> \"\",IF(P_20号3様式1!F187<> \"-\",IF(VALUE(FIXED(P_20号3様式1!F187,0,TRUE))<>P_20号3様式1!F187,RIGHT(FIXED(P_20号3様式1!F187,3,FALSE),4),\"\"),\"\"),\"\")","v":""},{"$f":"IF(P_20号3様式1!I187<> \"\",IF(P_20号3様式1!I187<> \"-\",TEXT(INT(P_20号3様式1!I187),\"#,##0\"),\"-\"),\"\")","v":""},{"$f":"IF(P_20号3様式1!I187<> \"\",IF(P_20号3様式1!I187<> \"-\",IF(VALUE(FIXED(P_20号3様式1!I187,0,TRUE))<>P_20号3様式1!I187,RIGHT(FIXED(P_20号3様式1!I187,3,FALSE),4),\"\"),\"\"),\"\")","v":""},{"$f":"IF(P_20号3様式1!L187<> \"\",IF(P_20号3様式1!L187<> \"-\",TEXT(INT(P_20号3様式1!L187),\"#,##0\"),\"-\"),\"\")","v":""},{"$f":"IF(P_20号3様式1!L187<> \"\",IF(P_20号3様式1!L187<> \"-\",IF(VALUE(FIXED(P_20号3様式1!L187,0,TRUE))<>P_20号3様式1!L187,RIGHT(FIXED(P_20号3様式1!L187,3,FALSE),4),\"\"),\"\"),\"\")","v":""},{"$f":"IF(P_20号3様式1!O187<> \"\",IF(P_20号3様式1!O187<> \"-\",TEXT(INT(P_20号3様式1!O187),\"#,##0\"),\"-\"),\"\")","v":""},{"$f":"IF(P_20号3様式1!O187<> \"\",IF(P_20号3様式1!O187<> \"-\",IF(VALUE(FIXED(P_20号3様式1!O187,0,TRUE))<>P_20号3様式1!O187,RIGHT(FIXED(P_20号3様式1!O187,3,FALSE),4),\"\"),\"\"),\"\")","v":""},{"$f":"IF(P_20号3様式1!R187<> \"\",IF(P_20号3様式1!R187<> \"-\",TEXT(INT(P_20号3様式1!R187),\"#,##0\"),\"-\"),\"\")","v":""},{"$f":"IF(P_20号3様式1!R187<> \"\",IF(P_20号3様式1!R187<> \"-\",IF(VALUE(FIXED(P_20号3様式1!R187,0,TRUE))<>P_20号3様式1!R187,RIGHT(FIXED(P_20号3様式1!R187,3,FALSE),4),\"\"),\"\"),\"\")","v":""},{"$f":"IF(P_20号3様式1!U187<> \"\",IF(P_20号3様式1!U187<> \"-\",TEXT(INT(P_20号3様式1!U187),\"#,##0\"),\"-\"),\"\")","v":""},{"$f":"IF(P_20号3様式1!U187<> \"\",IF(P_20号3様式1!U187<> \"-\",IF(VALUE(FIXED(P_20号3様式1!U187,0,TRUE))<>P_20号3様式1!U187,RIGHT(FIXED(P_20号3様式1!U187,3,FALSE),4),\"\"),\"\"),\"\")","v":""},{"$f":"IF(P_20号3様式1!X187<> \"\",IF(P_20号3様式1!X187<> \"-\",TEXT(INT(P_20号3様式1!X187),\"#,##0\"),\"-\"),\"\")","v":""},{"$f":"IF(P_20号3様式1!X187<> \"\",IF(P_20号3様式1!X187<> \"-\",IF(VALUE(FIXED(P_20号3様式1!X187,0,TRUE))<>P_20号3様式1!X187,RIGHT(FIXED(P_20号3様式1!X187,3,FALSE),4),\"\"),\"\"),\"\")","v":""},{"$f":"IF(P_20号3様式1!AA187<> \"\",IF(P_20号3様式1!AA187<> \"-\",TEXT(INT(P_20号3様式1!AA187),\"#,##0\"),\"-\"),\"\")","v":""},{"$f":"IF(P_20号3様式1!AA187<> \"\",IF(P_20号3様式1!AA187<> \"-\",IF(VALUE(FIXED(P_20号3様式1!AA187,0,TRUE))<>P_20号3様式1!AA187,RIGHT(FIXED(P_20号3様式1!AA187,3,FALSE),4),\"\"),\"\"),\"\")","v":""}]
[{"$f":"IF(P_20号3様式1!C188=\"\",\"\",P_20号3様式1!C188)","v":""},{"$f":"IF(P_20号3様式1!AE188<> \"\",TEXT(INT(P_20号3様式1!AE188),\"#,##0\"),\"\")","v":""},{"$f":"IF(P_20号3様式1!AE188= \"\",\"\",IF(VALUE(FIXED(P_20号3様式1!AE188,0,TRUE))<>P_20号3様式1!AE188,RIGHT(FIXED(P_20号3様式1!AE188,3,FALSE),4),\"\"))","v":""},{"$f":"IF(P_20号3様式1!F188<> \"\",IF(P_20号3様式1!F188<> \"-\",TEXT(INT(P_20号3様式1!F188),\"#,##0\"),\"-\"),\"\")","v":""},{"$f":"IF(P_20号3様式1!F188<> \"\",IF(P_20号3様式1!F188<> \"-\",IF(VALUE(FIXED(P_20号3様式1!F188,0,TRUE))<>P_20号3様式1!F188,RIGHT(FIXED(P_20号3様式1!F188,3,FALSE),4),\"\"),\"\"),\"\")","v":""},{"$f":"IF(P_20号3様式1!I188<> \"\",IF(P_20号3様式1!I188<> \"-\",TEXT(INT(P_20号3様式1!I188),\"#,##0\"),\"-\"),\"\")","v":""},{"$f":"IF(P_20号3様式1!I188<> \"\",IF(P_20号3様式1!I188<> \"-\",IF(VALUE(FIXED(P_20号3様式1!I188,0,TRUE))<>P_20号3様式1!I188,RIGHT(FIXED(P_20号3様式1!I188,3,FALSE),4),\"\"),\"\"),\"\")","v":""},{"$f":"IF(P_20号3様式1!L188<> \"\",IF(P_20号3様式1!L188<> \"-\",TEXT(INT(P_20号3様式1!L188),\"#,##0\"),\"-\"),\"\")","v":""},{"$f":"IF(P_20号3様式1!L188<> \"\",IF(P_20号3様式1!L188<> \"-\",IF(VALUE(FIXED(P_20号3様式1!L188,0,TRUE))<>P_20号3様式1!L188,RIGHT(FIXED(P_20号3様式1!L188,3,FALSE),4),\"\"),\"\"),\"\")","v":""},{"$f":"IF(P_20号3様式1!O188<> \"\",IF(P_20号3様式1!O188<> \"-\",TEXT(INT(P_20号3様式1!O188),\"#,##0\"),\"-\"),\"\")","v":""},{"$f":"IF(P_20号3様式1!O188<> \"\",IF(P_20号3様式1!O188<> \"-\",IF(VALUE(FIXED(P_20号3様式1!O188,0,TRUE))<>P_20号3様式1!O188,RIGHT(FIXED(P_20号3様式1!O188,3,FALSE),4),\"\"),\"\"),\"\")","v":""},{"$f":"IF(P_20号3様式1!R188<> \"\",IF(P_20号3様式1!R188<> \"-\",TEXT(INT(P_20号3様式1!R188),\"#,##0\"),\"-\"),\"\")","v":""},{"$f":"IF(P_20号3様式1!R188<> \"\",IF(P_20号3様式1!R188<> \"-\",IF(VALUE(FIXED(P_20号3様式1!R188,0,TRUE))<>P_20号3様式1!R188,RIGHT(FIXED(P_20号3様式1!R188,3,FALSE),4),\"\"),\"\"),\"\")","v":""},{"$f":"IF(P_20号3様式1!U188<> \"\",IF(P_20号3様式1!U188<> \"-\",TEXT(INT(P_20号3様式1!U188),\"#,##0\"),\"-\"),\"\")","v":""},{"$f":"IF(P_20号3様式1!U188<> \"\",IF(P_20号3様式1!U188<> \"-\",IF(VALUE(FIXED(P_20号3様式1!U188,0,TRUE))<>P_20号3様式1!U188,RIGHT(FIXED(P_20号3様式1!U188,3,FALSE),4),\"\"),\"\"),\"\")","v":""},{"$f":"IF(P_20号3様式1!X188<> \"\",IF(P_20号3様式1!X188<> \"-\",TEXT(INT(P_20号3様式1!X188),\"#,##0\"),\"-\"),\"\")","v":""},{"$f":"IF(P_20号3様式1!X188<> \"\",IF(P_20号3様式1!X188<> \"-\",IF(VALUE(FIXED(P_20号3様式1!X188,0,TRUE))<>P_20号3様式1!X188,RIGHT(FIXED(P_20号3様式1!X188,3,FALSE),4),\"\"),\"\"),\"\")","v":""},{"$f":"IF(P_20号3様式1!AA188<> \"\",IF(P_20号3様式1!AA188<> \"-\",TEXT(INT(P_20号3様式1!AA188),\"#,##0\"),\"-\"),\"\")","v":""},{"$f":"IF(P_20号3様式1!AA188<> \"\",IF(P_20号3様式1!AA188<> \"-\",IF(VALUE(FIXED(P_20号3様式1!AA188,0,TRUE))<>P_20号3様式1!AA188,RIGHT(FIXED(P_20号3様式1!AA188,3,FALSE),4),\"\"),\"\"),\"\")","v":""}]
[{"$f":"IF(P_20号3様式1!C189=\"\",\"\",P_20号3様式1!C189)","v":""},{"$f":"IF(P_20号3様式1!AE189<> \"\",TEXT(INT(P_20号3様式1!AE189),\"#,##0\"),\"\")","v":""},{"$f":"IF(P_20号3様式1!AE189= \"\",\"\",IF(VALUE(FIXED(P_20号3様式1!AE189,0,TRUE))<>P_20号3様式1!AE189,RIGHT(FIXED(P_20号3様式1!AE189,3,FALSE),4),\"\"))","v":""},{"$f":"IF(P_20号3様式1!F189<> \"\",IF(P_20号3様式1!F189<> \"-\",TEXT(INT(P_20号3様式1!F189),\"#,##0\"),\"-\"),\"\")","v":""},{"$f":"IF(P_20号3様式1!F189<> \"\",IF(P_20号3様式1!F189<> \"-\",IF(VALUE(FIXED(P_20号3様式1!F189,0,TRUE))<>P_20号3様式1!F189,RIGHT(FIXED(P_20号3様式1!F189,3,FALSE),4),\"\"),\"\"),\"\")","v":""},{"$f":"IF(P_20号3様式1!I189<> \"\",IF(P_20号3様式1!I189<> \"-\",TEXT(INT(P_20号3様式1!I189),\"#,##0\"),\"-\"),\"\")","v":""},{"$f":"IF(P_20号3様式1!I189<> \"\",IF(P_20号3様式1!I189<> \"-\",IF(VALUE(FIXED(P_20号3様式1!I189,0,TRUE))<>P_20号3様式1!I189,RIGHT(FIXED(P_20号3様式1!I189,3,FALSE),4),\"\"),\"\"),\"\")","v":""},{"$f":"IF(P_20号3様式1!L189<> \"\",IF(P_20号3様式1!L189<> \"-\",TEXT(INT(P_20号3様式1!L189),\"#,##0\"),\"-\"),\"\")","v":""},{"$f":"IF(P_20号3様式1!L189<> \"\",IF(P_20号3様式1!L189<> \"-\",IF(VALUE(FIXED(P_20号3様式1!L189,0,TRUE))<>P_20号3様式1!L189,RIGHT(FIXED(P_20号3様式1!L189,3,FALSE),4),\"\"),\"\"),\"\")","v":""},{"$f":"IF(P_20号3様式1!O189<> \"\",IF(P_20号3様式1!O189<> \"-\",TEXT(INT(P_20号3様式1!O189),\"#,##0\"),\"-\"),\"\")","v":""},{"$f":"IF(P_20号3様式1!O189<> \"\",IF(P_20号3様式1!O189<> \"-\",IF(VALUE(FIXED(P_20号3様式1!O189,0,TRUE))<>P_20号3様式1!O189,RIGHT(FIXED(P_20号3様式1!O189,3,FALSE),4),\"\"),\"\"),\"\")","v":""},{"$f":"IF(P_20号3様式1!R189<> \"\",IF(P_20号3様式1!R189<> \"-\",TEXT(INT(P_20号3様式1!R189),\"#,##0\"),\"-\"),\"\")","v":""},{"$f":"IF(P_20号3様式1!R189<> \"\",IF(P_20号3様式1!R189<> \"-\",IF(VALUE(FIXED(P_20号3様式1!R189,0,TRUE))<>P_20号3様式1!R189,RIGHT(FIXED(P_20号3様式1!R189,3,FALSE),4),\"\"),\"\"),\"\")","v":""},{"$f":"IF(P_20号3様式1!U189<> \"\",IF(P_20号3様式1!U189<> \"-\",TEXT(INT(P_20号3様式1!U189),\"#,##0\"),\"-\"),\"\")","v":""},{"$f":"IF(P_20号3様式1!U189<> \"\",IF(P_20号3様式1!U189<> \"-\",IF(VALUE(FIXED(P_20号3様式1!U189,0,TRUE))<>P_20号3様式1!U189,RIGHT(FIXED(P_20号3様式1!U189,3,FALSE),4),\"\"),\"\"),\"\")","v":""},{"$f":"IF(P_20号3様式1!X189<> \"\",IF(P_20号3様式1!X189<> \"-\",TEXT(INT(P_20号3様式1!X189),\"#,##0\"),\"-\"),\"\")","v":""},{"$f":"IF(P_20号3様式1!X189<> \"\",IF(P_20号3様式1!X189<> \"-\",IF(VALUE(FIXED(P_20号3様式1!X189,0,TRUE))<>P_20号3様式1!X189,RIGHT(FIXED(P_20号3様式1!X189,3,FALSE),4),\"\"),\"\"),\"\")","v":""},{"$f":"IF(P_20号3様式1!AA189<> \"\",IF(P_20号3様式1!AA189<> \"-\",TEXT(INT(P_20号3様式1!AA189),\"#,##0\"),\"-\"),\"\")","v":""},{"$f":"IF(P_20号3様式1!AA189<> \"\",IF(P_20号3様式1!AA189<> \"-\",IF(VALUE(FIXED(P_20号3様式1!AA189,0,TRUE))<>P_20号3様式1!AA189,RIGHT(FIXED(P_20号3様式1!AA189,3,FALSE),4),\"\"),\"\"),\"\")","v":""}]
[{"$f":"IF(P_20号3様式1!C190=\"\",\"\",P_20号3様式1!C190)","v":""},{"$f":"IF(P_20号3様式1!AE190<> \"\",TEXT(INT(P_20号3様式1!AE190),\"#,##0\"),\"\")","v":""},{"$f":"IF(P_20号3様式1!AE190= \"\",\"\",IF(VALUE(FIXED(P_20号3様式1!AE190,0,TRUE))<>P_20号3様式1!AE190,RIGHT(FIXED(P_20号3様式1!AE190,3,FALSE),4),\"\"))","v":""},{"$f":"IF(P_20号3様式1!F190<> \"\",IF(P_20号3様式1!F190<> \"-\",TEXT(INT(P_20号3様式1!F190),\"#,##0\"),\"-\"),\"\")","v":""},{"$f":"IF(P_20号3様式1!F190<> \"\",IF(P_20号3様式1!F190<> \"-\",IF(VALUE(FIXED(P_20号3様式1!F190,0,TRUE))<>P_20号3様式1!F190,RIGHT(FIXED(P_20号3様式1!F190,3,FALSE),4),\"\"),\"\"),\"\")","v":""},{"$f":"IF(P_20号3様式1!I190<> \"\",IF(P_20号3様式1!I190<> \"-\",TEXT(INT(P_20号3様式1!I190),\"#,##0\"),\"-\"),\"\")","v":""},{"$f":"IF(P_20号3様式1!I190<> \"\",IF(P_20号3様式1!I190<> \"-\",IF(VALUE(FIXED(P_20号3様式1!I190,0,TRUE))<>P_20号3様式1!I190,RIGHT(FIXED(P_20号3様式1!I190,3,FALSE),4),\"\"),\"\"),\"\")","v":""},{"$f":"IF(P_20号3様式1!L190<> \"\",IF(P_20号3様式1!L190<> \"-\",TEXT(INT(P_20号3様式1!L190),\"#,##0\"),\"-\"),\"\")","v":""},{"$f":"IF(P_20号3様式1!L190<> \"\",IF(P_20号3様式1!L190<> \"-\",IF(VALUE(FIXED(P_20号3様式1!L190,0,TRUE))<>P_20号3様式1!L190,RIGHT(FIXED(P_20号3様式1!L190,3,FALSE),4),\"\"),\"\"),\"\")","v":""},{"$f":"IF(P_20号3様式1!O190<> \"\",IF(P_20号3様式1!O190<> \"-\",TEXT(INT(P_20号3様式1!O190),\"#,##0\"),\"-\"),\"\")","v":""},{"$f":"IF(P_20号3様式1!O190<> \"\",IF(P_20号3様式1!O190<> \"-\",IF(VALUE(FIXED(P_20号3様式1!O190,0,TRUE))<>P_20号3様式1!O190,RIGHT(FIXED(P_20号3様式1!O190,3,FALSE),4),\"\"),\"\"),\"\")","v":""},{"$f":"IF(P_20号3様式1!R190<> \"\",IF(P_20号3様式1!R190<> \"-\",TEXT(INT(P_20号3様式1!R190),\"#,##0\"),\"-\"),\"\")","v":""},{"$f":"IF(P_20号3様式1!R190<> \"\",IF(P_20号3様式1!R190<> \"-\",IF(VALUE(FIXED(P_20号3様式1!R190,0,TRUE))<>P_20号3様式1!R190,RIGHT(FIXED(P_20号3様式1!R190,3,FALSE),4),\"\"),\"\"),\"\")","v":""},{"$f":"IF(P_20号3様式1!U190<> \"\",IF(P_20号3様式1!U190<> \"-\",TEXT(INT(P_20号3様式1!U190),\"#,##0\"),\"-\"),\"\")","v":""},{"$f":"IF(P_20号3様式1!U190<> \"\",IF(P_20号3様式1!U190<> \"-\",IF(VALUE(FIXED(P_20号3様式1!U190,0,TRUE))<>P_20号3様式1!U190,RIGHT(FIXED(P_20号3様式1!U190,3,FALSE),4),\"\"),\"\"),\"\")","v":""},{"$f":"IF(P_20号3様式1!X190<> \"\",IF(P_20号3様式1!X190<> \"-\",TEXT(INT(P_20号3様式1!X190),\"#,##0\"),\"-\"),\"\")","v":""},{"$f":"IF(P_20号3様式1!X190<> \"\",IF(P_20号3様式1!X190<> \"-\",IF(VALUE(FIXED(P_20号3様式1!X190,0,TRUE))<>P_20号3様式1!X190,RIGHT(FIXED(P_20号3様式1!X190,3,FALSE),4),\"\"),\"\"),\"\")","v":""},{"$f":"IF(P_20号3様式1!AA190<> \"\",IF(P_20号3様式1!AA190<> \"-\",TEXT(INT(P_20号3様式1!AA190),\"#,##0\"),\"-\"),\"\")","v":""},{"$f":"IF(P_20号3様式1!AA190<> \"\",IF(P_20号3様式1!AA190<> \"-\",IF(VALUE(FIXED(P_20号3様式1!AA190,0,TRUE))<>P_20号3様式1!AA190,RIGHT(FIXED(P_20号3様式1!AA190,3,FALSE),4),\"\"),\"\"),\"\")","v":""}]
[{"$f":"IF(P_20号3様式1!C191=\"\",\"\",P_20号3様式1!C191)","v":""},{"$f":"IF(P_20号3様式1!AE191<> \"\",TEXT(INT(P_20号3様式1!AE191),\"#,##0\"),\"\")","v":""},{"$f":"IF(P_20号3様式1!AE191= \"\",\"\",IF(VALUE(FIXED(P_20号3様式1!AE191,0,TRUE))<>P_20号3様式1!AE191,RIGHT(FIXED(P_20号3様式1!AE191,3,FALSE),4),\"\"))","v":""},{"$f":"IF(P_20号3様式1!F191<> \"\",IF(P_20号3様式1!F191<> \"-\",TEXT(INT(P_20号3様式1!F191),\"#,##0\"),\"-\"),\"\")","v":""},{"$f":"IF(P_20号3様式1!F191<> \"\",IF(P_20号3様式1!F191<> \"-\",IF(VALUE(FIXED(P_20号3様式1!F191,0,TRUE))<>P_20号3様式1!F191,RIGHT(FIXED(P_20号3様式1!F191,3,FALSE),4),\"\"),\"\"),\"\")","v":""},{"$f":"IF(P_20号3様式1!I191<> \"\",IF(P_20号3様式1!I191<> \"-\",TEXT(INT(P_20号3様式1!I191),\"#,##0\"),\"-\"),\"\")","v":""},{"$f":"IF(P_20号3様式1!I191<> \"\",IF(P_20号3様式1!I191<> \"-\",IF(VALUE(FIXED(P_20号3様式1!I191,0,TRUE))<>P_20号3様式1!I191,RIGHT(FIXED(P_20号3様式1!I191,3,FALSE),4),\"\"),\"\"),\"\")","v":""},{"$f":"IF(P_20号3様式1!L191<> \"\",IF(P_20号3様式1!L191<> \"-\",TEXT(INT(P_20号3様式1!L191),\"#,##0\"),\"-\"),\"\")","v":""},{"$f":"IF(P_20号3様式1!L191<> \"\",IF(P_20号3様式1!L191<> \"-\",IF(VALUE(FIXED(P_20号3様式1!L191,0,TRUE))<>P_20号3様式1!L191,RIGHT(FIXED(P_20号3様式1!L191,3,FALSE),4),\"\"),\"\"),\"\")","v":""},{"$f":"IF(P_20号3様式1!O191<> \"\",IF(P_20号3様式1!O191<> \"-\",TEXT(INT(P_20号3様式1!O191),\"#,##0\"),\"-\"),\"\")","v":""},{"$f":"IF(P_20号3様式1!O191<> \"\",IF(P_20号3様式1!O191<> \"-\",IF(VALUE(FIXED(P_20号3様式1!O191,0,TRUE))<>P_20号3様式1!O191,RIGHT(FIXED(P_20号3様式1!O191,3,FALSE),4),\"\"),\"\"),\"\")","v":""},{"$f":"IF(P_20号3様式1!R191<> \"\",IF(P_20号3様式1!R191<> \"-\",TEXT(INT(P_20号3様式1!R191),\"#,##0\"),\"-\"),\"\")","v":""},{"$f":"IF(P_20号3様式1!R191<> \"\",IF(P_20号3様式1!R191<> \"-\",IF(VALUE(FIXED(P_20号3様式1!R191,0,TRUE))<>P_20号3様式1!R191,RIGHT(FIXED(P_20号3様式1!R191,3,FALSE),4),\"\"),\"\"),\"\")","v":""},{"$f":"IF(P_20号3様式1!U191<> \"\",IF(P_20号3様式1!U191<> \"-\",TEXT(INT(P_20号3様式1!U191),\"#,##0\"),\"-\"),\"\")","v":""},{"$f":"IF(P_20号3様式1!U191<> \"\",IF(P_20号3様式1!U191<> \"-\",IF(VALUE(FIXED(P_20号3様式1!U191,0,TRUE))<>P_20号3様式1!U191,RIGHT(FIXED(P_20号3様式1!U191,3,FALSE),4),\"\"),\"\"),\"\")","v":""},{"$f":"IF(P_20号3様式1!X191<> \"\",IF(P_20号3様式1!X191<> \"-\",TEXT(INT(P_20号3様式1!X191),\"#,##0\"),\"-\"),\"\")","v":""},{"$f":"IF(P_20号3様式1!X191<> \"\",IF(P_20号3様式1!X191<> \"-\",IF(VALUE(FIXED(P_20号3様式1!X191,0,TRUE))<>P_20号3様式1!X191,RIGHT(FIXED(P_20号3様式1!X191,3,FALSE),4),\"\"),\"\"),\"\")","v":""},{"$f":"IF(P_20号3様式1!AA191<> \"\",IF(P_20号3様式1!AA191<> \"-\",TEXT(INT(P_20号3様式1!AA191),\"#,##0\"),\"-\"),\"\")","v":""},{"$f":"IF(P_20号3様式1!AA191<> \"\",IF(P_20号3様式1!AA191<> \"-\",IF(VALUE(FIXED(P_20号3様式1!AA191,0,TRUE))<>P_20号3様式1!AA191,RIGHT(FIXED(P_20号3様式1!AA191,3,FALSE),4),\"\"),\"\"),\"\")","v":""}]
[{"$f":"IF(P_20号3様式1!C192=\"\",\"\",P_20号3様式1!C192)","v":""},{"$f":"IF(P_20号3様式1!AE192<> \"\",TEXT(INT(P_20号3様式1!AE192),\"#,##0\"),\"\")","v":""},{"$f":"IF(P_20号3様式1!AE192= \"\",\"\",IF(VALUE(FIXED(P_20号3様式1!AE192,0,TRUE))<>P_20号3様式1!AE192,RIGHT(FIXED(P_20号3様式1!AE192,3,FALSE),4),\"\"))","v":""},{"$f":"IF(P_20号3様式1!F192<> \"\",IF(P_20号3様式1!F192<> \"-\",TEXT(INT(P_20号3様式1!F192),\"#,##0\"),\"-\"),\"\")","v":""},{"$f":"IF(P_20号3様式1!F192<> \"\",IF(P_20号3様式1!F192<> \"-\",IF(VALUE(FIXED(P_20号3様式1!F192,0,TRUE))<>P_20号3様式1!F192,RIGHT(FIXED(P_20号3様式1!F192,3,FALSE),4),\"\"),\"\"),\"\")","v":""},{"$f":"IF(P_20号3様式1!I192<> \"\",IF(P_20号3様式1!I192<> \"-\",TEXT(INT(P_20号3様式1!I192),\"#,##0\"),\"-\"),\"\")","v":""},{"$f":"IF(P_20号3様式1!I192<> \"\",IF(P_20号3様式1!I192<> \"-\",IF(VALUE(FIXED(P_20号3様式1!I192,0,TRUE))<>P_20号3様式1!I192,RIGHT(FIXED(P_20号3様式1!I192,3,FALSE),4),\"\"),\"\"),\"\")","v":""},{"$f":"IF(P_20号3様式1!L192<> \"\",IF(P_20号3様式1!L192<> \"-\",TEXT(INT(P_20号3様式1!L192),\"#,##0\"),\"-\"),\"\")","v":""},{"$f":"IF(P_20号3様式1!L192<> \"\",IF(P_20号3様式1!L192<> \"-\",IF(VALUE(FIXED(P_20号3様式1!L192,0,TRUE))<>P_20号3様式1!L192,RIGHT(FIXED(P_20号3様式1!L192,3,FALSE),4),\"\"),\"\"),\"\")","v":""},{"$f":"IF(P_20号3様式1!O192<> \"\",IF(P_20号3様式1!O192<> \"-\",TEXT(INT(P_20号3様式1!O192),\"#,##0\"),\"-\"),\"\")","v":""},{"$f":"IF(P_20号3様式1!O192<> \"\",IF(P_20号3様式1!O192<> \"-\",IF(VALUE(FIXED(P_20号3様式1!O192,0,TRUE))<>P_20号3様式1!O192,RIGHT(FIXED(P_20号3様式1!O192,3,FALSE),4),\"\"),\"\"),\"\")","v":""},{"$f":"IF(P_20号3様式1!R192<> \"\",IF(P_20号3様式1!R192<> \"-\",TEXT(INT(P_20号3様式1!R192),\"#,##0\"),\"-\"),\"\")","v":""},{"$f":"IF(P_20号3様式1!R192<> \"\",IF(P_20号3様式1!R192<> \"-\",IF(VALUE(FIXED(P_20号3様式1!R192,0,TRUE))<>P_20号3様式1!R192,RIGHT(FIXED(P_20号3様式1!R192,3,FALSE),4),\"\"),\"\"),\"\")","v":""},{"$f":"IF(P_20号3様式1!U192<> \"\",IF(P_20号3様式1!U192<> \"-\",TEXT(INT(P_20号3様式1!U192),\"#,##0\"),\"-\"),\"\")","v":""},{"$f":"IF(P_20号3様式1!U192<> \"\",IF(P_20号3様式1!U192<> \"-\",IF(VALUE(FIXED(P_20号3様式1!U192,0,TRUE))<>P_20号3様式1!U192,RIGHT(FIXED(P_20号3様式1!U192,3,FALSE),4),\"\"),\"\"),\"\")","v":""},{"$f":"IF(P_20号3様式1!X192<> \"\",IF(P_20号3様式1!X192<> \"-\",TEXT(INT(P_20号3様式1!X192),\"#,##0\"),\"-\"),\"\")","v":""},{"$f":"IF(P_20号3様式1!X192<> \"\",IF(P_20号3様式1!X192<> \"-\",IF(VALUE(FIXED(P_20号3様式1!X192,0,TRUE))<>P_20号3様式1!X192,RIGHT(FIXED(P_20号3様式1!X192,3,FALSE),4),\"\"),\"\"),\"\")","v":""},{"$f":"IF(P_20号3様式1!AA192<> \"\",IF(P_20号3様式1!AA192<> \"-\",TEXT(INT(P_20号3様式1!AA192),\"#,##0\"),\"-\"),\"\")","v":""},{"$f":"IF(P_20号3様式1!AA192<> \"\",IF(P_20号3様式1!AA192<> \"-\",IF(VALUE(FIXED(P_20号3様式1!AA192,0,TRUE))<>P_20号3様式1!AA192,RIGHT(FIXED(P_20号3様式1!AA192,3,FALSE),4),\"\"),\"\"),\"\")","v":""}]
[{"$f":"IF(P_20号3様式1!C193=\"\",\"\",P_20号3様式1!C193)","v":""},{"$f":"IF(P_20号3様式1!AE193<> \"\",TEXT(INT(P_20号3様式1!AE193),\"#,##0\"),\"\")","v":""},{"$f":"IF(P_20号3様式1!AE193= \"\",\"\",IF(VALUE(FIXED(P_20号3様式1!AE193,0,TRUE))<>P_20号3様式1!AE193,RIGHT(FIXED(P_20号3様式1!AE193,3,FALSE),4),\"\"))","v":""},{"$f":"IF(P_20号3様式1!F193<> \"\",IF(P_20号3様式1!F193<> \"-\",TEXT(INT(P_20号3様式1!F193),\"#,##0\"),\"-\"),\"\")","v":""},{"$f":"IF(P_20号3様式1!F193<> \"\",IF(P_20号3様式1!F193<> \"-\",IF(VALUE(FIXED(P_20号3様式1!F193,0,TRUE))<>P_20号3様式1!F193,RIGHT(FIXED(P_20号3様式1!F193,3,FALSE),4),\"\"),\"\"),\"\")","v":""},{"$f":"IF(P_20号3様式1!I193<> \"\",IF(P_20号3様式1!I193<> \"-\",TEXT(INT(P_20号3様式1!I193),\"#,##0\"),\"-\"),\"\")","v":""},{"$f":"IF(P_20号3様式1!I193<> \"\",IF(P_20号3様式1!I193<> \"-\",IF(VALUE(FIXED(P_20号3様式1!I193,0,TRUE))<>P_20号3様式1!I193,RIGHT(FIXED(P_20号3様式1!I193,3,FALSE),4),\"\"),\"\"),\"\")","v":""},{"$f":"IF(P_20号3様式1!L193<> \"\",IF(P_20号3様式1!L193<> \"-\",TEXT(INT(P_20号3様式1!L193),\"#,##0\"),\"-\"),\"\")","v":""},{"$f":"IF(P_20号3様式1!L193<> \"\",IF(P_20号3様式1!L193<> \"-\",IF(VALUE(FIXED(P_20号3様式1!L193,0,TRUE))<>P_20号3様式1!L193,RIGHT(FIXED(P_20号3様式1!L193,3,FALSE),4),\"\"),\"\"),\"\")","v":""},{"$f":"IF(P_20号3様式1!O193<> \"\",IF(P_20号3様式1!O193<> \"-\",TEXT(INT(P_20号3様式1!O193),\"#,##0\"),\"-\"),\"\")","v":""},{"$f":"IF(P_20号3様式1!O193<> \"\",IF(P_20号3様式1!O193<> \"-\",IF(VALUE(FIXED(P_20号3様式1!O193,0,TRUE))<>P_20号3様式1!O193,RIGHT(FIXED(P_20号3様式1!O193,3,FALSE),4),\"\"),\"\"),\"\")","v":""},{"$f":"IF(P_20号3様式1!R193<> \"\",IF(P_20号3様式1!R193<> \"-\",TEXT(INT(P_20号3様式1!R193),\"#,##0\"),\"-\"),\"\")","v":""},{"$f":"IF(P_20号3様式1!R193<> \"\",IF(P_20号3様式1!R193<> \"-\",IF(VALUE(FIXED(P_20号3様式1!R193,0,TRUE))<>P_20号3様式1!R193,RIGHT(FIXED(P_20号3様式1!R193,3,FALSE),4),\"\"),\"\"),\"\")","v":""},{"$f":"IF(P_20号3様式1!U193<> \"\",IF(P_20号3様式1!U193<> \"-\",TEXT(INT(P_20号3様式1!U193),\"#,##0\"),\"-\"),\"\")","v":""},{"$f":"IF(P_20号3様式1!U193<> \"\",IF(P_20号3様式1!U193<> \"-\",IF(VALUE(FIXED(P_20号3様式1!U193,0,TRUE))<>P_20号3様式1!U193,RIGHT(FIXED(P_20号3様式1!U193,3,FALSE),4),\"\"),\"\"),\"\")","v":""},{"$f":"IF(P_20号3様式1!X193<> \"\",IF(P_20号3様式1!X193<> \"-\",TEXT(INT(P_20号3様式1!X193),\"#,##0\"),\"-\"),\"\")","v":""},{"$f":"IF(P_20号3様式1!X193<> \"\",IF(P_20号3様式1!X193<> \"-\",IF(VALUE(FIXED(P_20号3様式1!X193,0,TRUE))<>P_20号3様式1!X193,RIGHT(FIXED(P_20号3様式1!X193,3,FALSE),4),\"\"),\"\"),\"\")","v":""},{"$f":"IF(P_20号3様式1!AA193<> \"\",IF(P_20号3様式1!AA193<> \"-\",TEXT(INT(P_20号3様式1!AA193),\"#,##0\"),\"-\"),\"\")","v":""},{"$f":"IF(P_20号3様式1!AA193<> \"\",IF(P_20号3様式1!AA193<> \"-\",IF(VALUE(FIXED(P_20号3様式1!AA193,0,TRUE))<>P_20号3様式1!AA193,RIGHT(FIXED(P_20号3様式1!AA193,3,FALSE),4),\"\"),\"\"),\"\")","v":""}]
[{"$f":"IF(P_20号3様式1!C194=\"\",\"\",P_20号3様式1!C194)","v":""},{"$f":"IF(P_20号3様式1!AE194<> \"\",TEXT(INT(P_20号3様式1!AE194),\"#,##0\"),\"\")","v":""},{"$f":"IF(P_20号3様式1!AE194= \"\",\"\",IF(VALUE(FIXED(P_20号3様式1!AE194,0,TRUE))<>P_20号3様式1!AE194,RIGHT(FIXED(P_20号3様式1!AE194,3,FALSE),4),\"\"))","v":""},{"$f":"IF(P_20号3様式1!F194<> \"\",IF(P_20号3様式1!F194<> \"-\",TEXT(INT(P_20号3様式1!F194),\"#,##0\"),\"-\"),\"\")","v":""},{"$f":"IF(P_20号3様式1!F194<> \"\",IF(P_20号3様式1!F194<> \"-\",IF(VALUE(FIXED(P_20号3様式1!F194,0,TRUE))<>P_20号3様式1!F194,RIGHT(FIXED(P_20号3様式1!F194,3,FALSE),4),\"\"),\"\"),\"\")","v":""},{"$f":"IF(P_20号3様式1!I194<> \"\",IF(P_20号3様式1!I194<> \"-\",TEXT(INT(P_20号3様式1!I194),\"#,##0\"),\"-\"),\"\")","v":""},{"$f":"IF(P_20号3様式1!I194<> \"\",IF(P_20号3様式1!I194<> \"-\",IF(VALUE(FIXED(P_20号3様式1!I194,0,TRUE))<>P_20号3様式1!I194,RIGHT(FIXED(P_20号3様式1!I194,3,FALSE),4),\"\"),\"\"),\"\")","v":""},{"$f":"IF(P_20号3様式1!L194<> \"\",IF(P_20号3様式1!L194<> \"-\",TEXT(INT(P_20号3様式1!L194),\"#,##0\"),\"-\"),\"\")","v":""},{"$f":"IF(P_20号3様式1!L194<> \"\",IF(P_20号3様式1!L194<> \"-\",IF(VALUE(FIXED(P_20号3様式1!L194,0,TRUE))<>P_20号3様式1!L194,RIGHT(FIXED(P_20号3様式1!L194,3,FALSE),4),\"\"),\"\"),\"\")","v":""},{"$f":"IF(P_20号3様式1!O194<> \"\",IF(P_20号3様式1!O194<> \"-\",TEXT(INT(P_20号3様式1!O194),\"#,##0\"),\"-\"),\"\")","v":""},{"$f":"IF(P_20号3様式1!O194<> \"\",IF(P_20号3様式1!O194<> \"-\",IF(VALUE(FIXED(P_20号3様式1!O194,0,TRUE))<>P_20号3様式1!O194,RIGHT(FIXED(P_20号3様式1!O194,3,FALSE),4),\"\"),\"\"),\"\")","v":""},{"$f":"IF(P_20号3様式1!R194<> \"\",IF(P_20号3様式1!R194<> \"-\",TEXT(INT(P_20号3様式1!R194),\"#,##0\"),\"-\"),\"\")","v":""},{"$f":"IF(P_20号3様式1!R194<> \"\",IF(P_20号3様式1!R194<> \"-\",IF(VALUE(FIXED(P_20号3様式1!R194,0,TRUE))<>P_20号3様式1!R194,RIGHT(FIXED(P_20号3様式1!R194,3,FALSE),4),\"\"),\"\"),\"\")","v":""},{"$f":"IF(P_20号3様式1!U194<> \"\",IF(P_20号3様式1!U194<> \"-\",TEXT(INT(P_20号3様式1!U194),\"#,##0\"),\"-\"),\"\")","v":""},{"$f":"IF(P_20号3様式1!U194<> \"\",IF(P_20号3様式1!U194<> \"-\",IF(VALUE(FIXED(P_20号3様式1!U194,0,TRUE))<>P_20号3様式1!U194,RIGHT(FIXED(P_20号3様式1!U194,3,FALSE),4),\"\"),\"\"),\"\")","v":""},{"$f":"IF(P_20号3様式1!X194<> \"\",IF(P_20号3様式1!X194<> \"-\",TEXT(INT(P_20号3様式1!X194),\"#,##0\"),\"-\"),\"\")","v":""},{"$f":"IF(P_20号3様式1!X194<> \"\",IF(P_20号3様式1!X194<> \"-\",IF(VALUE(FIXED(P_20号3様式1!X194,0,TRUE))<>P_20号3様式1!X194,RIGHT(FIXED(P_20号3様式1!X194,3,FALSE),4),\"\"),\"\"),\"\")","v":""},{"$f":"IF(P_20号3様式1!AA194<> \"\",IF(P_20号3様式1!AA194<> \"-\",TEXT(INT(P_20号3様式1!AA194),\"#,##0\"),\"-\"),\"\")","v":""},{"$f":"IF(P_20号3様式1!AA194<> \"\",IF(P_20号3様式1!AA194<> \"-\",IF(VALUE(FIXED(P_20号3様式1!AA194,0,TRUE))<>P_20号3様式1!AA194,RIGHT(FIXED(P_20号3様式1!AA194,3,FALSE),4),\"\"),\"\"),\"\")","v":""}]
[{"$f":"IF(P_20号3様式1!C195=\"\",\"\",P_20号3様式1!C195)","v":""},{"$f":"IF(P_20号3様式1!AE195<> \"\",TEXT(INT(P_20号3様式1!AE195),\"#,##0\"),\"\")","v":""},{"$f":"IF(P_20号3様式1!AE195= \"\",\"\",IF(VALUE(FIXED(P_20号3様式1!AE195,0,TRUE))<>P_20号3様式1!AE195,RIGHT(FIXED(P_20号3様式1!AE195,3,FALSE),4),\"\"))","v":""},{"$f":"IF(P_20号3様式1!F195<> \"\",IF(P_20号3様式1!F195<> \"-\",TEXT(INT(P_20号3様式1!F195),\"#,##0\"),\"-\"),\"\")","v":""},{"$f":"IF(P_20号3様式1!F195<> \"\",IF(P_20号3様式1!F195<> \"-\",IF(VALUE(FIXED(P_20号3様式1!F195,0,TRUE))<>P_20号3様式1!F195,RIGHT(FIXED(P_20号3様式1!F195,3,FALSE),4),\"\"),\"\"),\"\")","v":""},{"$f":"IF(P_20号3様式1!I195<> \"\",IF(P_20号3様式1!I195<> \"-\",TEXT(INT(P_20号3様式1!I195),\"#,##0\"),\"-\"),\"\")","v":""},{"$f":"IF(P_20号3様式1!I195<> \"\",IF(P_20号3様式1!I195<> \"-\",IF(VALUE(FIXED(P_20号3様式1!I195,0,TRUE))<>P_20号3様式1!I195,RIGHT(FIXED(P_20号3様式1!I195,3,FALSE),4),\"\"),\"\"),\"\")","v":""},{"$f":"IF(P_20号3様式1!L195<> \"\",IF(P_20号3様式1!L195<> \"-\",TEXT(INT(P_20号3様式1!L195),\"#,##0\"),\"-\"),\"\")","v":""},{"$f":"IF(P_20号3様式1!L195<> \"\",IF(P_20号3様式1!L195<> \"-\",IF(VALUE(FIXED(P_20号3様式1!L195,0,TRUE))<>P_20号3様式1!L195,RIGHT(FIXED(P_20号3様式1!L195,3,FALSE),4),\"\"),\"\"),\"\")","v":""},{"$f":"IF(P_20号3様式1!O195<> \"\",IF(P_20号3様式1!O195<> \"-\",TEXT(INT(P_20号3様式1!O195),\"#,##0\"),\"-\"),\"\")","v":""},{"$f":"IF(P_20号3様式1!O195<> \"\",IF(P_20号3様式1!O195<> \"-\",IF(VALUE(FIXED(P_20号3様式1!O195,0,TRUE))<>P_20号3様式1!O195,RIGHT(FIXED(P_20号3様式1!O195,3,FALSE),4),\"\"),\"\"),\"\")","v":""},{"$f":"IF(P_20号3様式1!R195<> \"\",IF(P_20号3様式1!R195<> \"-\",TEXT(INT(P_20号3様式1!R195),\"#,##0\"),\"-\"),\"\")","v":""},{"$f":"IF(P_20号3様式1!R195<> \"\",IF(P_20号3様式1!R195<> \"-\",IF(VALUE(FIXED(P_20号3様式1!R195,0,TRUE))<>P_20号3様式1!R195,RIGHT(FIXED(P_20号3様式1!R195,3,FALSE),4),\"\"),\"\"),\"\")","v":""},{"$f":"IF(P_20号3様式1!U195<> \"\",IF(P_20号3様式1!U195<> \"-\",TEXT(INT(P_20号3様式1!U195),\"#,##0\"),\"-\"),\"\")","v":""},{"$f":"IF(P_20号3様式1!U195<> \"\",IF(P_20号3様式1!U195<> \"-\",IF(VALUE(FIXED(P_20号3様式1!U195,0,TRUE))<>P_20号3様式1!U195,RIGHT(FIXED(P_20号3様式1!U195,3,FALSE),4),\"\"),\"\"),\"\")","v":""},{"$f":"IF(P_20号3様式1!X195<> \"\",IF(P_20号3様式1!X195<> \"-\",TEXT(INT(P_20号3様式1!X195),\"#,##0\"),\"-\"),\"\")","v":""},{"$f":"IF(P_20号3様式1!X195<> \"\",IF(P_20号3様式1!X195<> \"-\",IF(VALUE(FIXED(P_20号3様式1!X195,0,TRUE))<>P_20号3様式1!X195,RIGHT(FIXED(P_20号3様式1!X195,3,FALSE),4),\"\"),\"\"),\"\")","v":""},{"$f":"IF(P_20号3様式1!AA195<> \"\",IF(P_20号3様式1!AA195<> \"-\",TEXT(INT(P_20号3様式1!AA195),\"#,##0\"),\"-\"),\"\")","v":""},{"$f":"IF(P_20号3様式1!AA195<> \"\",IF(P_20号3様式1!AA195<> \"-\",IF(VALUE(FIXED(P_20号3様式1!AA195,0,TRUE))<>P_20号3様式1!AA195,RIGHT(FIXED(P_20号3様式1!AA195,3,FALSE),4),\"\"),\"\"),\"\")","v":""}]
[{"$f":"IF(P_20号3様式1!C196=\"\",\"\",P_20号3様式1!C196)","v":""},{"$f":"IF(P_20号3様式1!AE196<> \"\",TEXT(INT(P_20号3様式1!AE196),\"#,##0\"),\"\")","v":""},{"$f":"IF(P_20号3様式1!AE196= \"\",\"\",IF(VALUE(FIXED(P_20号3様式1!AE196,0,TRUE))<>P_20号3様式1!AE196,RIGHT(FIXED(P_20号3様式1!AE196,3,FALSE),4),\"\"))","v":""},{"$f":"IF(P_20号3様式1!F196<> \"\",IF(P_20号3様式1!F196<> \"-\",TEXT(INT(P_20号3様式1!F196),\"#,##0\"),\"-\"),\"\")","v":""},{"$f":"IF(P_20号3様式1!F196<> \"\",IF(P_20号3様式1!F196<> \"-\",IF(VALUE(FIXED(P_20号3様式1!F196,0,TRUE))<>P_20号3様式1!F196,RIGHT(FIXED(P_20号3様式1!F196,3,FALSE),4),\"\"),\"\"),\"\")","v":""},{"$f":"IF(P_20号3様式1!I196<> \"\",IF(P_20号3様式1!I196<> \"-\",TEXT(INT(P_20号3様式1!I196),\"#,##0\"),\"-\"),\"\")","v":""},{"$f":"IF(P_20号3様式1!I196<> \"\",IF(P_20号3様式1!I196<> \"-\",IF(VALUE(FIXED(P_20号3様式1!I196,0,TRUE))<>P_20号3様式1!I196,RIGHT(FIXED(P_20号3様式1!I196,3,FALSE),4),\"\"),\"\"),\"\")","v":""},{"$f":"IF(P_20号3様式1!L196<> \"\",IF(P_20号3様式1!L196<> \"-\",TEXT(INT(P_20号3様式1!L196),\"#,##0\"),\"-\"),\"\")","v":""},{"$f":"IF(P_20号3様式1!L196<> \"\",IF(P_20号3様式1!L196<> \"-\",IF(VALUE(FIXED(P_20号3様式1!L196,0,TRUE))<>P_20号3様式1!L196,RIGHT(FIXED(P_20号3様式1!L196,3,FALSE),4),\"\"),\"\"),\"\")","v":""},{"$f":"IF(P_20号3様式1!O196<> \"\",IF(P_20号3様式1!O196<> \"-\",TEXT(INT(P_20号3様式1!O196),\"#,##0\"),\"-\"),\"\")","v":""},{"$f":"IF(P_20号3様式1!O196<> \"\",IF(P_20号3様式1!O196<> \"-\",IF(VALUE(FIXED(P_20号3様式1!O196,0,TRUE))<>P_20号3様式1!O196,RIGHT(FIXED(P_20号3様式1!O196,3,FALSE),4),\"\"),\"\"),\"\")","v":""},{"$f":"IF(P_20号3様式1!R196<> \"\",IF(P_20号3様式1!R196<> \"-\",TEXT(INT(P_20号3様式1!R196),\"#,##0\"),\"-\"),\"\")","v":""},{"$f":"IF(P_20号3様式1!R196<> \"\",IF(P_20号3様式1!R196<> \"-\",IF(VALUE(FIXED(P_20号3様式1!R196,0,TRUE))<>P_20号3様式1!R196,RIGHT(FIXED(P_20号3様式1!R196,3,FALSE),4),\"\"),\"\"),\"\")","v":""},{"$f":"IF(P_20号3様式1!U196<> \"\",IF(P_20号3様式1!U196<> \"-\",TEXT(INT(P_20号3様式1!U196),\"#,##0\"),\"-\"),\"\")","v":""},{"$f":"IF(P_20号3様式1!U196<> \"\",IF(P_20号3様式1!U196<> \"-\",IF(VALUE(FIXED(P_20号3様式1!U196,0,TRUE))<>P_20号3様式1!U196,RIGHT(FIXED(P_20号3様式1!U196,3,FALSE),4),\"\"),\"\"),\"\")","v":""},{"$f":"IF(P_20号3様式1!X196<> \"\",IF(P_20号3様式1!X196<> \"-\",TEXT(INT(P_20号3様式1!X196),\"#,##0\"),\"-\"),\"\")","v":""},{"$f":"IF(P_20号3様式1!X196<> \"\",IF(P_20号3様式1!X196<> \"-\",IF(VALUE(FIXED(P_20号3様式1!X196,0,TRUE))<>P_20号3様式1!X196,RIGHT(FIXED(P_20号3様式1!X196,3,FALSE),4),\"\"),\"\"),\"\")","v":""},{"$f":"IF(P_20号3様式1!AA196<> \"\",IF(P_20号3様式1!AA196<> \"-\",TEXT(INT(P_20号3様式1!AA196),\"#,##0\"),\"-\"),\"\")","v":""},{"$f":"IF(P_20号3様式1!AA196<> \"\",IF(P_20号3様式1!AA196<> \"-\",IF(VALUE(FIXED(P_20号3様式1!AA196,0,TRUE))<>P_20号3様式1!AA196,RIGHT(FIXED(P_20号3様式1!AA196,3,FALSE),4),\"\"),\"\"),\"\")","v":""}]
[{"$f":"IF(P_20号3様式1!C197=\"\",\"\",P_20号3様式1!C197)","v":""},{"$f":"IF(P_20号3様式1!AE197<> \"\",TEXT(INT(P_20号3様式1!AE197),\"#,##0\"),\"\")","v":""},{"$f":"IF(P_20号3様式1!AE197= \"\",\"\",IF(VALUE(FIXED(P_20号3様式1!AE197,0,TRUE))<>P_20号3様式1!AE197,RIGHT(FIXED(P_20号3様式1!AE197,3,FALSE),4),\"\"))","v":""},{"$f":"IF(P_20号3様式1!F197<> \"\",IF(P_20号3様式1!F197<> \"-\",TEXT(INT(P_20号3様式1!F197),\"#,##0\"),\"-\"),\"\")","v":""},{"$f":"IF(P_20号3様式1!F197<> \"\",IF(P_20号3様式1!F197<> \"-\",IF(VALUE(FIXED(P_20号3様式1!F197,0,TRUE))<>P_20号3様式1!F197,RIGHT(FIXED(P_20号3様式1!F197,3,FALSE),4),\"\"),\"\"),\"\")","v":""},{"$f":"IF(P_20号3様式1!I197<> \"\",IF(P_20号3様式1!I197<> \"-\",TEXT(INT(P_20号3様式1!I197),\"#,##0\"),\"-\"),\"\")","v":""},{"$f":"IF(P_20号3様式1!I197<> \"\",IF(P_20号3様式1!I197<> \"-\",IF(VALUE(FIXED(P_20号3様式1!I197,0,TRUE))<>P_20号3様式1!I197,RIGHT(FIXED(P_20号3様式1!I197,3,FALSE),4),\"\"),\"\"),\"\")","v":""},{"$f":"IF(P_20号3様式1!L197<> \"\",IF(P_20号3様式1!L197<> \"-\",TEXT(INT(P_20号3様式1!L197),\"#,##0\"),\"-\"),\"\")","v":""},{"$f":"IF(P_20号3様式1!L197<> \"\",IF(P_20号3様式1!L197<> \"-\",IF(VALUE(FIXED(P_20号3様式1!L197,0,TRUE))<>P_20号3様式1!L197,RIGHT(FIXED(P_20号3様式1!L197,3,FALSE),4),\"\"),\"\"),\"\")","v":""},{"$f":"IF(P_20号3様式1!O197<> \"\",IF(P_20号3様式1!O197<> \"-\",TEXT(INT(P_20号3様式1!O197),\"#,##0\"),\"-\"),\"\")","v":""},{"$f":"IF(P_20号3様式1!O197<> \"\",IF(P_20号3様式1!O197<> \"-\",IF(VALUE(FIXED(P_20号3様式1!O197,0,TRUE))<>P_20号3様式1!O197,RIGHT(FIXED(P_20号3様式1!O197,3,FALSE),4),\"\"),\"\"),\"\")","v":""},{"$f":"IF(P_20号3様式1!R197<> \"\",IF(P_20号3様式1!R197<> \"-\",TEXT(INT(P_20号3様式1!R197),\"#,##0\"),\"-\"),\"\")","v":""},{"$f":"IF(P_20号3様式1!R197<> \"\",IF(P_20号3様式1!R197<> \"-\",IF(VALUE(FIXED(P_20号3様式1!R197,0,TRUE))<>P_20号3様式1!R197,RIGHT(FIXED(P_20号3様式1!R197,3,FALSE),4),\"\"),\"\"),\"\")","v":""},{"$f":"IF(P_20号3様式1!U197<> \"\",IF(P_20号3様式1!U197<> \"-\",TEXT(INT(P_20号3様式1!U197),\"#,##0\"),\"-\"),\"\")","v":""},{"$f":"IF(P_20号3様式1!U197<> \"\",IF(P_20号3様式1!U197<> \"-\",IF(VALUE(FIXED(P_20号3様式1!U197,0,TRUE))<>P_20号3様式1!U197,RIGHT(FIXED(P_20号3様式1!U197,3,FALSE),4),\"\"),\"\"),\"\")","v":""},{"$f":"IF(P_20号3様式1!X197<> \"\",IF(P_20号3様式1!X197<> \"-\",TEXT(INT(P_20号3様式1!X197),\"#,##0\"),\"-\"),\"\")","v":""},{"$f":"IF(P_20号3様式1!X197<> \"\",IF(P_20号3様式1!X197<> \"-\",IF(VALUE(FIXED(P_20号3様式1!X197,0,TRUE))<>P_20号3様式1!X197,RIGHT(FIXED(P_20号3様式1!X197,3,FALSE),4),\"\"),\"\"),\"\")","v":""},{"$f":"IF(P_20号3様式1!AA197<> \"\",IF(P_20号3様式1!AA197<> \"-\",TEXT(INT(P_20号3様式1!AA197),\"#,##0\"),\"-\"),\"\")","v":""},{"$f":"IF(P_20号3様式1!AA197<> \"\",IF(P_20号3様式1!AA197<> \"-\",IF(VALUE(FIXED(P_20号3様式1!AA197,0,TRUE))<>P_20号3様式1!AA197,RIGHT(FIXED(P_20号3様式1!AA197,3,FALSE),4),\"\"),\"\"),\"\")","v":""}]
[{"$f":"IF(P_20号3様式1!C198=\"\",\"\",P_20号3様式1!C198)","v":""},{"$f":"IF(P_20号3様式1!AE198<> \"\",TEXT(INT(P_20号3様式1!AE198),\"#,##0\"),\"\")","v":""},{"$f":"IF(P_20号3様式1!AE198= \"\",\"\",IF(VALUE(FIXED(P_20号3様式1!AE198,0,TRUE))<>P_20号3様式1!AE198,RIGHT(FIXED(P_20号3様式1!AE198,3,FALSE),4),\"\"))","v":""},{"$f":"IF(P_20号3様式1!F198<> \"\",IF(P_20号3様式1!F198<> \"-\",TEXT(INT(P_20号3様式1!F198),\"#,##0\"),\"-\"),\"\")","v":""},{"$f":"IF(P_20号3様式1!F198<> \"\",IF(P_20号3様式1!F198<> \"-\",IF(VALUE(FIXED(P_20号3様式1!F198,0,TRUE))<>P_20号3様式1!F198,RIGHT(FIXED(P_20号3様式1!F198,3,FALSE),4),\"\"),\"\"),\"\")","v":""},{"$f":"IF(P_20号3様式1!I198<> \"\",IF(P_20号3様式1!I198<> \"-\",TEXT(INT(P_20号3様式1!I198),\"#,##0\"),\"-\"),\"\")","v":""},{"$f":"IF(P_20号3様式1!I198<> \"\",IF(P_20号3様式1!I198<> \"-\",IF(VALUE(FIXED(P_20号3様式1!I198,0,TRUE))<>P_20号3様式1!I198,RIGHT(FIXED(P_20号3様式1!I198,3,FALSE),4),\"\"),\"\"),\"\")","v":""},{"$f":"IF(P_20号3様式1!L198<> \"\",IF(P_20号3様式1!L198<> \"-\",TEXT(INT(P_20号3様式1!L198),\"#,##0\"),\"-\"),\"\")","v":""},{"$f":"IF(P_20号3様式1!L198<> \"\",IF(P_20号3様式1!L198<> \"-\",IF(VALUE(FIXED(P_20号3様式1!L198,0,TRUE))<>P_20号3様式1!L198,RIGHT(FIXED(P_20号3様式1!L198,3,FALSE),4),\"\"),\"\"),\"\")","v":""},{"$f":"IF(P_20号3様式1!O198<> \"\",IF(P_20号3様式1!O198<> \"-\",TEXT(INT(P_20号3様式1!O198),\"#,##0\"),\"-\"),\"\")","v":""},{"$f":"IF(P_20号3様式1!O198<> \"\",IF(P_20号3様式1!O198<> \"-\",IF(VALUE(FIXED(P_20号3様式1!O198,0,TRUE))<>P_20号3様式1!O198,RIGHT(FIXED(P_20号3様式1!O198,3,FALSE),4),\"\"),\"\"),\"\")","v":""},{"$f":"IF(P_20号3様式1!R198<> \"\",IF(P_20号3様式1!R198<> \"-\",TEXT(INT(P_20号3様式1!R198),\"#,##0\"),\"-\"),\"\")","v":""},{"$f":"IF(P_20号3様式1!R198<> \"\",IF(P_20号3様式1!R198<> \"-\",IF(VALUE(FIXED(P_20号3様式1!R198,0,TRUE))<>P_20号3様式1!R198,RIGHT(FIXED(P_20号3様式1!R198,3,FALSE),4),\"\"),\"\"),\"\")","v":""},{"$f":"IF(P_20号3様式1!U198<> \"\",IF(P_20号3様式1!U198<> \"-\",TEXT(INT(P_20号3様式1!U198),\"#,##0\"),\"-\"),\"\")","v":""},{"$f":"IF(P_20号3様式1!U198<> \"\",IF(P_20号3様式1!U198<> \"-\",IF(VALUE(FIXED(P_20号3様式1!U198,0,TRUE))<>P_20号3様式1!U198,RIGHT(FIXED(P_20号3様式1!U198,3,FALSE),4),\"\"),\"\"),\"\")","v":""},{"$f":"IF(P_20号3様式1!X198<> \"\",IF(P_20号3様式1!X198<> \"-\",TEXT(INT(P_20号3様式1!X198),\"#,##0\"),\"-\"),\"\")","v":""},{"$f":"IF(P_20号3様式1!X198<> \"\",IF(P_20号3様式1!X198<> \"-\",IF(VALUE(FIXED(P_20号3様式1!X198,0,TRUE))<>P_20号3様式1!X198,RIGHT(FIXED(P_20号3様式1!X198,3,FALSE),4),\"\"),\"\"),\"\")","v":""},{"$f":"IF(P_20号3様式1!AA198<> \"\",IF(P_20号3様式1!AA198<> \"-\",TEXT(INT(P_20号3様式1!AA198),\"#,##0\"),\"-\"),\"\")","v":""},{"$f":"IF(P_20号3様式1!AA198<> \"\",IF(P_20号3様式1!AA198<> \"-\",IF(VALUE(FIXED(P_20号3様式1!AA198,0,TRUE))<>P_20号3様式1!AA198,RIGHT(FIXED(P_20号3様式1!AA198,3,FALSE),4),\"\"),\"\"),\"\")","v":""}]
[{"$f":"IF(P_20号3様式1!C199=\"\",\"\",P_20号3様式1!C199)","v":""},{"$f":"IF(P_20号3様式1!AE199<> \"\",TEXT(INT(P_20号3様式1!AE199),\"#,##0\"),\"\")","v":""},{"$f":"IF(P_20号3様式1!AE199= \"\",\"\",IF(VALUE(FIXED(P_20号3様式1!AE199,0,TRUE))<>P_20号3様式1!AE199,RIGHT(FIXED(P_20号3様式1!AE199,3,FALSE),4),\"\"))","v":""},{"$f":"IF(P_20号3様式1!F199<> \"\",IF(P_20号3様式1!F199<> \"-\",TEXT(INT(P_20号3様式1!F199),\"#,##0\"),\"-\"),\"\")","v":""},{"$f":"IF(P_20号3様式1!F199<> \"\",IF(P_20号3様式1!F199<> \"-\",IF(VALUE(FIXED(P_20号3様式1!F199,0,TRUE))<>P_20号3様式1!F199,RIGHT(FIXED(P_20号3様式1!F199,3,FALSE),4),\"\"),\"\"),\"\")","v":""},{"$f":"IF(P_20号3様式1!I199<> \"\",IF(P_20号3様式1!I199<> \"-\",TEXT(INT(P_20号3様式1!I199),\"#,##0\"),\"-\"),\"\")","v":""},{"$f":"IF(P_20号3様式1!I199<> \"\",IF(P_20号3様式1!I199<> \"-\",IF(VALUE(FIXED(P_20号3様式1!I199,0,TRUE))<>P_20号3様式1!I199,RIGHT(FIXED(P_20号3様式1!I199,3,FALSE),4),\"\"),\"\"),\"\")","v":""},{"$f":"IF(P_20号3様式1!L199<> \"\",IF(P_20号3様式1!L199<> \"-\",TEXT(INT(P_20号3様式1!L199),\"#,##0\"),\"-\"),\"\")","v":""},{"$f":"IF(P_20号3様式1!L199<> \"\",IF(P_20号3様式1!L199<> \"-\",IF(VALUE(FIXED(P_20号3様式1!L199,0,TRUE))<>P_20号3様式1!L199,RIGHT(FIXED(P_20号3様式1!L199,3,FALSE),4),\"\"),\"\"),\"\")","v":""},{"$f":"IF(P_20号3様式1!O199<> \"\",IF(P_20号3様式1!O199<> \"-\",TEXT(INT(P_20号3様式1!O199),\"#,##0\"),\"-\"),\"\")","v":""},{"$f":"IF(P_20号3様式1!O199<> \"\",IF(P_20号3様式1!O199<> \"-\",IF(VALUE(FIXED(P_20号3様式1!O199,0,TRUE))<>P_20号3様式1!O199,RIGHT(FIXED(P_20号3様式1!O199,3,FALSE),4),\"\"),\"\"),\"\")","v":""},{"$f":"IF(P_20号3様式1!R199<> \"\",IF(P_20号3様式1!R199<> \"-\",TEXT(INT(P_20号3様式1!R199),\"#,##0\"),\"-\"),\"\")","v":""},{"$f":"IF(P_20号3様式1!R199<> \"\",IF(P_20号3様式1!R199<> \"-\",IF(VALUE(FIXED(P_20号3様式1!R199,0,TRUE))<>P_20号3様式1!R199,RIGHT(FIXED(P_20号3様式1!R199,3,FALSE),4),\"\"),\"\"),\"\")","v":""},{"$f":"IF(P_20号3様式1!U199<> \"\",IF(P_20号3様式1!U199<> \"-\",TEXT(INT(P_20号3様式1!U199),\"#,##0\"),\"-\"),\"\")","v":""},{"$f":"IF(P_20号3様式1!U199<> \"\",IF(P_20号3様式1!U199<> \"-\",IF(VALUE(FIXED(P_20号3様式1!U199,0,TRUE))<>P_20号3様式1!U199,RIGHT(FIXED(P_20号3様式1!U199,3,FALSE),4),\"\"),\"\"),\"\")","v":""},{"$f":"IF(P_20号3様式1!X199<> \"\",IF(P_20号3様式1!X199<> \"-\",TEXT(INT(P_20号3様式1!X199),\"#,##0\"),\"-\"),\"\")","v":""},{"$f":"IF(P_20号3様式1!X199<> \"\",IF(P_20号3様式1!X199<> \"-\",IF(VALUE(FIXED(P_20号3様式1!X199,0,TRUE))<>P_20号3様式1!X199,RIGHT(FIXED(P_20号3様式1!X199,3,FALSE),4),\"\"),\"\"),\"\")","v":""},{"$f":"IF(P_20号3様式1!AA199<> \"\",IF(P_20号3様式1!AA199<> \"-\",TEXT(INT(P_20号3様式1!AA199),\"#,##0\"),\"-\"),\"\")","v":""},{"$f":"IF(P_20号3様式1!AA199<> \"\",IF(P_20号3様式1!AA199<> \"-\",IF(VALUE(FIXED(P_20号3様式1!AA199,0,TRUE))<>P_20号3様式1!AA199,RIGHT(FIXED(P_20号3様式1!AA199,3,FALSE),4),\"\"),\"\"),\"\")","v":""}]
[{"$f":"IF(P_20号3様式1!C200=\"\",\"\",P_20号3様式1!C200)","v":""},{"$f":"IF(P_20号3様式1!AE200<> \"\",TEXT(INT(P_20号3様式1!AE200),\"#,##0\"),\"\")","v":""},{"$f":"IF(P_20号3様式1!AE200= \"\",\"\",IF(VALUE(FIXED(P_20号3様式1!AE200,0,TRUE))<>P_20号3様式1!AE200,RIGHT(FIXED(P_20号3様式1!AE200,3,FALSE),4),\"\"))","v":""},{"$f":"IF(P_20号3様式1!F200<> \"\",IF(P_20号3様式1!F200<> \"-\",TEXT(INT(P_20号3様式1!F200),\"#,##0\"),\"-\"),\"\")","v":""},{"$f":"IF(P_20号3様式1!F200<> \"\",IF(P_20号3様式1!F200<> \"-\",IF(VALUE(FIXED(P_20号3様式1!F200,0,TRUE))<>P_20号3様式1!F200,RIGHT(FIXED(P_20号3様式1!F200,3,FALSE),4),\"\"),\"\"),\"\")","v":""},{"$f":"IF(P_20号3様式1!I200<> \"\",IF(P_20号3様式1!I200<> \"-\",TEXT(INT(P_20号3様式1!I200),\"#,##0\"),\"-\"),\"\")","v":""},{"$f":"IF(P_20号3様式1!I200<> \"\",IF(P_20号3様式1!I200<> \"-\",IF(VALUE(FIXED(P_20号3様式1!I200,0,TRUE))<>P_20号3様式1!I200,RIGHT(FIXED(P_20号3様式1!I200,3,FALSE),4),\"\"),\"\"),\"\")","v":""},{"$f":"IF(P_20号3様式1!L200<> \"\",IF(P_20号3様式1!L200<> \"-\",TEXT(INT(P_20号3様式1!L200),\"#,##0\"),\"-\"),\"\")","v":""},{"$f":"IF(P_20号3様式1!L200<> \"\",IF(P_20号3様式1!L200<> \"-\",IF(VALUE(FIXED(P_20号3様式1!L200,0,TRUE))<>P_20号3様式1!L200,RIGHT(FIXED(P_20号3様式1!L200,3,FALSE),4),\"\"),\"\"),\"\")","v":""},{"$f":"IF(P_20号3様式1!O200<> \"\",IF(P_20号3様式1!O200<> \"-\",TEXT(INT(P_20号3様式1!O200),\"#,##0\"),\"-\"),\"\")","v":""},{"$f":"IF(P_20号3様式1!O200<> \"\",IF(P_20号3様式1!O200<> \"-\",IF(VALUE(FIXED(P_20号3様式1!O200,0,TRUE))<>P_20号3様式1!O200,RIGHT(FIXED(P_20号3様式1!O200,3,FALSE),4),\"\"),\"\"),\"\")","v":""},{"$f":"IF(P_20号3様式1!R200<> \"\",IF(P_20号3様式1!R200<> \"-\",TEXT(INT(P_20号3様式1!R200),\"#,##0\"),\"-\"),\"\")","v":""},{"$f":"IF(P_20号3様式1!R200<> \"\",IF(P_20号3様式1!R200<> \"-\",IF(VALUE(FIXED(P_20号3様式1!R200,0,TRUE))<>P_20号3様式1!R200,RIGHT(FIXED(P_20号3様式1!R200,3,FALSE),4),\"\"),\"\"),\"\")","v":""},{"$f":"IF(P_20号3様式1!U200<> \"\",IF(P_20号3様式1!U200<> \"-\",TEXT(INT(P_20号3様式1!U200),\"#,##0\"),\"-\"),\"\")","v":""},{"$f":"IF(P_20号3様式1!U200<> \"\",IF(P_20号3様式1!U200<> \"-\",IF(VALUE(FIXED(P_20号3様式1!U200,0,TRUE))<>P_20号3様式1!U200,RIGHT(FIXED(P_20号3様式1!U200,3,FALSE),4),\"\"),\"\"),\"\")","v":""},{"$f":"IF(P_20号3様式1!X200<> \"\",IF(P_20号3様式1!X200<> \"-\",TEXT(INT(P_20号3様式1!X200),\"#,##0\"),\"-\"),\"\")","v":""},{"$f":"IF(P_20号3様式1!X200<> \"\",IF(P_20号3様式1!X200<> \"-\",IF(VALUE(FIXED(P_20号3様式1!X200,0,TRUE))<>P_20号3様式1!X200,RIGHT(FIXED(P_20号3様式1!X200,3,FALSE),4),\"\"),\"\"),\"\")","v":""},{"$f":"IF(P_20号3様式1!AA200<> \"\",IF(P_20号3様式1!AA200<> \"-\",TEXT(INT(P_20号3様式1!AA200),\"#,##0\"),\"-\"),\"\")","v":""},{"$f":"IF(P_20号3様式1!AA200<> \"\",IF(P_20号3様式1!AA200<> \"-\",IF(VALUE(FIXED(P_20号3様式1!AA200,0,TRUE))<>P_20号3様式1!AA200,RIGHT(FIXED(P_20号3様式1!AA200,3,FALSE),4),\"\"),\"\"),\"\")","v":""}]
[{"$f":"IF(P_20号3様式1!C201=\"\",\"\",P_20号3様式1!C201)","v":""},{"$f":"IF(P_20号3様式1!AE201<> \"\",TEXT(INT(P_20号3様式1!AE201),\"#,##0\"),\"\")","v":""},{"$f":"IF(P_20号3様式1!AE201= \"\",\"\",IF(VALUE(FIXED(P_20号3様式1!AE201,0,TRUE))<>P_20号3様式1!AE201,RIGHT(FIXED(P_20号3様式1!AE201,3,FALSE),4),\"\"))","v":""},{"$f":"IF(P_20号3様式1!F201<> \"\",IF(P_20号3様式1!F201<> \"-\",TEXT(INT(P_20号3様式1!F201),\"#,##0\"),\"-\"),\"\")","v":""},{"$f":"IF(P_20号3様式1!F201<> \"\",IF(P_20号3様式1!F201<> \"-\",IF(VALUE(FIXED(P_20号3様式1!F201,0,TRUE))<>P_20号3様式1!F201,RIGHT(FIXED(P_20号3様式1!F201,3,FALSE),4),\"\"),\"\"),\"\")","v":""},{"$f":"IF(P_20号3様式1!I201<> \"\",IF(P_20号3様式1!I201<> \"-\",TEXT(INT(P_20号3様式1!I201),\"#,##0\"),\"-\"),\"\")","v":""},{"$f":"IF(P_20号3様式1!I201<> \"\",IF(P_20号3様式1!I201<> \"-\",IF(VALUE(FIXED(P_20号3様式1!I201,0,TRUE))<>P_20号3様式1!I201,RIGHT(FIXED(P_20号3様式1!I201,3,FALSE),4),\"\"),\"\"),\"\")","v":""},{"$f":"IF(P_20号3様式1!L201<> \"\",IF(P_20号3様式1!L201<> \"-\",TEXT(INT(P_20号3様式1!L201),\"#,##0\"),\"-\"),\"\")","v":""},{"$f":"IF(P_20号3様式1!L201<> \"\",IF(P_20号3様式1!L201<> \"-\",IF(VALUE(FIXED(P_20号3様式1!L201,0,TRUE))<>P_20号3様式1!L201,RIGHT(FIXED(P_20号3様式1!L201,3,FALSE),4),\"\"),\"\"),\"\")","v":""},{"$f":"IF(P_20号3様式1!O201<> \"\",IF(P_20号3様式1!O201<> \"-\",TEXT(INT(P_20号3様式1!O201),\"#,##0\"),\"-\"),\"\")","v":""},{"$f":"IF(P_20号3様式1!O201<> \"\",IF(P_20号3様式1!O201<> \"-\",IF(VALUE(FIXED(P_20号3様式1!O201,0,TRUE))<>P_20号3様式1!O201,RIGHT(FIXED(P_20号3様式1!O201,3,FALSE),4),\"\"),\"\"),\"\")","v":""},{"$f":"IF(P_20号3様式1!R201<> \"\",IF(P_20号3様式1!R201<> \"-\",TEXT(INT(P_20号3様式1!R201),\"#,##0\"),\"-\"),\"\")","v":""},{"$f":"IF(P_20号3様式1!R201<> \"\",IF(P_20号3様式1!R201<> \"-\",IF(VALUE(FIXED(P_20号3様式1!R201,0,TRUE))<>P_20号3様式1!R201,RIGHT(FIXED(P_20号3様式1!R201,3,FALSE),4),\"\"),\"\"),\"\")","v":""},{"$f":"IF(P_20号3様式1!U201<> \"\",IF(P_20号3様式1!U201<> \"-\",TEXT(INT(P_20号3様式1!U201),\"#,##0\"),\"-\"),\"\")","v":""},{"$f":"IF(P_20号3様式1!U201<> \"\",IF(P_20号3様式1!U201<> \"-\",IF(VALUE(FIXED(P_20号3様式1!U201,0,TRUE))<>P_20号3様式1!U201,RIGHT(FIXED(P_20号3様式1!U201,3,FALSE),4),\"\"),\"\"),\"\")","v":""},{"$f":"IF(P_20号3様式1!X201<> \"\",IF(P_20号3様式1!X201<> \"-\",TEXT(INT(P_20号3様式1!X201),\"#,##0\"),\"-\"),\"\")","v":""},{"$f":"IF(P_20号3様式1!X201<> \"\",IF(P_20号3様式1!X201<> \"-\",IF(VALUE(FIXED(P_20号3様式1!X201,0,TRUE))<>P_20号3様式1!X201,RIGHT(FIXED(P_20号3様式1!X201,3,FALSE),4),\"\"),\"\"),\"\")","v":""},{"$f":"IF(P_20号3様式1!AA201<> \"\",IF(P_20号3様式1!AA201<> \"-\",TEXT(INT(P_20号3様式1!AA201),\"#,##0\"),\"-\"),\"\")","v":""},{"$f":"IF(P_20号3様式1!AA201<> \"\",IF(P_20号3様式1!AA201<> \"-\",IF(VALUE(FIXED(P_20号3様式1!AA201,0,TRUE))<>P_20号3様式1!AA201,RIGHT(FIXED(P_20号3様式1!AA201,3,FALSE),4),\"\"),\"\"),\"\")","v":""}]
[{"$f":"IF(P_20号3様式1!C202=\"\",\"\",P_20号3様式1!C202)","v":""},{"$f":"IF(P_20号3様式1!AE202<> \"\",TEXT(INT(P_20号3様式1!AE202),\"#,##0\"),\"\")","v":""},{"$f":"IF(P_20号3様式1!AE202= \"\",\"\",IF(VALUE(FIXED(P_20号3様式1!AE202,0,TRUE))<>P_20号3様式1!AE202,RIGHT(FIXED(P_20号3様式1!AE202,3,FALSE),4),\"\"))","v":""},{"$f":"IF(P_20号3様式1!F202<> \"\",IF(P_20号3様式1!F202<> \"-\",TEXT(INT(P_20号3様式1!F202),\"#,##0\"),\"-\"),\"\")","v":""},{"$f":"IF(P_20号3様式1!F202<> \"\",IF(P_20号3様式1!F202<> \"-\",IF(VALUE(FIXED(P_20号3様式1!F202,0,TRUE))<>P_20号3様式1!F202,RIGHT(FIXED(P_20号3様式1!F202,3,FALSE),4),\"\"),\"\"),\"\")","v":""},{"$f":"IF(P_20号3様式1!I202<> \"\",IF(P_20号3様式1!I202<> \"-\",TEXT(INT(P_20号3様式1!I202),\"#,##0\"),\"-\"),\"\")","v":""},{"$f":"IF(P_20号3様式1!I202<> \"\",IF(P_20号3様式1!I202<> \"-\",IF(VALUE(FIXED(P_20号3様式1!I202,0,TRUE))<>P_20号3様式1!I202,RIGHT(FIXED(P_20号3様式1!I202,3,FALSE),4),\"\"),\"\"),\"\")","v":""},{"$f":"IF(P_20号3様式1!L202<> \"\",IF(P_20号3様式1!L202<> \"-\",TEXT(INT(P_20号3様式1!L202),\"#,##0\"),\"-\"),\"\")","v":""},{"$f":"IF(P_20号3様式1!L202<> \"\",IF(P_20号3様式1!L202<> \"-\",IF(VALUE(FIXED(P_20号3様式1!L202,0,TRUE))<>P_20号3様式1!L202,RIGHT(FIXED(P_20号3様式1!L202,3,FALSE),4),\"\"),\"\"),\"\")","v":""},{"$f":"IF(P_20号3様式1!O202<> \"\",IF(P_20号3様式1!O202<> \"-\",TEXT(INT(P_20号3様式1!O202),\"#,##0\"),\"-\"),\"\")","v":""},{"$f":"IF(P_20号3様式1!O202<> \"\",IF(P_20号3様式1!O202<> \"-\",IF(VALUE(FIXED(P_20号3様式1!O202,0,TRUE))<>P_20号3様式1!O202,RIGHT(FIXED(P_20号3様式1!O202,3,FALSE),4),\"\"),\"\"),\"\")","v":""},{"$f":"IF(P_20号3様式1!R202<> \"\",IF(P_20号3様式1!R202<> \"-\",TEXT(INT(P_20号3様式1!R202),\"#,##0\"),\"-\"),\"\")","v":""},{"$f":"IF(P_20号3様式1!R202<> \"\",IF(P_20号3様式1!R202<> \"-\",IF(VALUE(FIXED(P_20号3様式1!R202,0,TRUE))<>P_20号3様式1!R202,RIGHT(FIXED(P_20号3様式1!R202,3,FALSE),4),\"\"),\"\"),\"\")","v":""},{"$f":"IF(P_20号3様式1!U202<> \"\",IF(P_20号3様式1!U202<> \"-\",TEXT(INT(P_20号3様式1!U202),\"#,##0\"),\"-\"),\"\")","v":""},{"$f":"IF(P_20号3様式1!U202<> \"\",IF(P_20号3様式1!U202<> \"-\",IF(VALUE(FIXED(P_20号3様式1!U202,0,TRUE))<>P_20号3様式1!U202,RIGHT(FIXED(P_20号3様式1!U202,3,FALSE),4),\"\"),\"\"),\"\")","v":""},{"$f":"IF(P_20号3様式1!X202<> \"\",IF(P_20号3様式1!X202<> \"-\",TEXT(INT(P_20号3様式1!X202),\"#,##0\"),\"-\"),\"\")","v":""},{"$f":"IF(P_20号3様式1!X202<> \"\",IF(P_20号3様式1!X202<> \"-\",IF(VALUE(FIXED(P_20号3様式1!X202,0,TRUE))<>P_20号3様式1!X202,RIGHT(FIXED(P_20号3様式1!X202,3,FALSE),4),\"\"),\"\"),\"\")","v":""},{"$f":"IF(P_20号3様式1!AA202<> \"\",IF(P_20号3様式1!AA202<> \"-\",TEXT(INT(P_20号3様式1!AA202),\"#,##0\"),\"-\"),\"\")","v":""},{"$f":"IF(P_20号3様式1!AA202<> \"\",IF(P_20号3様式1!AA202<> \"-\",IF(VALUE(FIXED(P_20号3様式1!AA202,0,TRUE))<>P_20号3様式1!AA202,RIGHT(FIXED(P_20号3様式1!AA202,3,FALSE),4),\"\"),\"\"),\"\")","v":""}]
[{"$f":"IF(P_20号3様式1!C203=\"\",\"\",P_20号3様式1!C203)","v":""},{"$f":"IF(P_20号3様式1!AE203<> \"\",TEXT(INT(P_20号3様式1!AE203),\"#,##0\"),\"\")","v":""},{"$f":"IF(P_20号3様式1!AE203= \"\",\"\",IF(VALUE(FIXED(P_20号3様式1!AE203,0,TRUE))<>P_20号3様式1!AE203,RIGHT(FIXED(P_20号3様式1!AE203,3,FALSE),4),\"\"))","v":""},{"$f":"IF(P_20号3様式1!F203<> \"\",IF(P_20号3様式1!F203<> \"-\",TEXT(INT(P_20号3様式1!F203),\"#,##0\"),\"-\"),\"\")","v":""},{"$f":"IF(P_20号3様式1!F203<> \"\",IF(P_20号3様式1!F203<> \"-\",IF(VALUE(FIXED(P_20号3様式1!F203,0,TRUE))<>P_20号3様式1!F203,RIGHT(FIXED(P_20号3様式1!F203,3,FALSE),4),\"\"),\"\"),\"\")","v":""},{"$f":"IF(P_20号3様式1!I203<> \"\",IF(P_20号3様式1!I203<> \"-\",TEXT(INT(P_20号3様式1!I203),\"#,##0\"),\"-\"),\"\")","v":""},{"$f":"IF(P_20号3様式1!I203<> \"\",IF(P_20号3様式1!I203<> \"-\",IF(VALUE(FIXED(P_20号3様式1!I203,0,TRUE))<>P_20号3様式1!I203,RIGHT(FIXED(P_20号3様式1!I203,3,FALSE),4),\"\"),\"\"),\"\")","v":""},{"$f":"IF(P_20号3様式1!L203<> \"\",IF(P_20号3様式1!L203<> \"-\",TEXT(INT(P_20号3様式1!L203),\"#,##0\"),\"-\"),\"\")","v":""},{"$f":"IF(P_20号3様式1!L203<> \"\",IF(P_20号3様式1!L203<> \"-\",IF(VALUE(FIXED(P_20号3様式1!L203,0,TRUE))<>P_20号3様式1!L203,RIGHT(FIXED(P_20号3様式1!L203,3,FALSE),4),\"\"),\"\"),\"\")","v":""},{"$f":"IF(P_20号3様式1!O203<> \"\",IF(P_20号3様式1!O203<> \"-\",TEXT(INT(P_20号3様式1!O203),\"#,##0\"),\"-\"),\"\")","v":""},{"$f":"IF(P_20号3様式1!O203<> \"\",IF(P_20号3様式1!O203<> \"-\",IF(VALUE(FIXED(P_20号3様式1!O203,0,TRUE))<>P_20号3様式1!O203,RIGHT(FIXED(P_20号3様式1!O203,3,FALSE),4),\"\"),\"\"),\"\")","v":""},{"$f":"IF(P_20号3様式1!R203<> \"\",IF(P_20号3様式1!R203<> \"-\",TEXT(INT(P_20号3様式1!R203),\"#,##0\"),\"-\"),\"\")","v":""},{"$f":"IF(P_20号3様式1!R203<> \"\",IF(P_20号3様式1!R203<> \"-\",IF(VALUE(FIXED(P_20号3様式1!R203,0,TRUE))<>P_20号3様式1!R203,RIGHT(FIXED(P_20号3様式1!R203,3,FALSE),4),\"\"),\"\"),\"\")","v":""},{"$f":"IF(P_20号3様式1!U203<> \"\",IF(P_20号3様式1!U203<> \"-\",TEXT(INT(P_20号3様式1!U203),\"#,##0\"),\"-\"),\"\")","v":""},{"$f":"IF(P_20号3様式1!U203<> \"\",IF(P_20号3様式1!U203<> \"-\",IF(VALUE(FIXED(P_20号3様式1!U203,0,TRUE))<>P_20号3様式1!U203,RIGHT(FIXED(P_20号3様式1!U203,3,FALSE),4),\"\"),\"\"),\"\")","v":""},{"$f":"IF(P_20号3様式1!X203<> \"\",IF(P_20号3様式1!X203<> \"-\",TEXT(INT(P_20号3様式1!X203),\"#,##0\"),\"-\"),\"\")","v":""},{"$f":"IF(P_20号3様式1!X203<> \"\",IF(P_20号3様式1!X203<> \"-\",IF(VALUE(FIXED(P_20号3様式1!X203,0,TRUE))<>P_20号3様式1!X203,RIGHT(FIXED(P_20号3様式1!X203,3,FALSE),4),\"\"),\"\"),\"\")","v":""},{"$f":"IF(P_20号3様式1!AA203<> \"\",IF(P_20号3様式1!AA203<> \"-\",TEXT(INT(P_20号3様式1!AA203),\"#,##0\"),\"-\"),\"\")","v":""},{"$f":"IF(P_20号3様式1!AA203<> \"\",IF(P_20号3様式1!AA203<> \"-\",IF(VALUE(FIXED(P_20号3様式1!AA203,0,TRUE))<>P_20号3様式1!AA203,RIGHT(FIXED(P_20号3様式1!AA203,3,FALSE),4),\"\"),\"\"),\"\")","v":""}]
[{"$f":"IF(P_20号3様式1!C204=\"\",\"\",P_20号3様式1!C204)","v":""},{"$f":"IF(P_20号3様式1!AE204<> \"\",TEXT(INT(P_20号3様式1!AE204),\"#,##0\"),\"\")","v":""},{"$f":"IF(P_20号3様式1!AE204= \"\",\"\",IF(VALUE(FIXED(P_20号3様式1!AE204,0,TRUE))<>P_20号3様式1!AE204,RIGHT(FIXED(P_20号3様式1!AE204,3,FALSE),4),\"\"))","v":""},{"$f":"IF(P_20号3様式1!F204<> \"\",IF(P_20号3様式1!F204<> \"-\",TEXT(INT(P_20号3様式1!F204),\"#,##0\"),\"-\"),\"\")","v":""},{"$f":"IF(P_20号3様式1!F204<> \"\",IF(P_20号3様式1!F204<> \"-\",IF(VALUE(FIXED(P_20号3様式1!F204,0,TRUE))<>P_20号3様式1!F204,RIGHT(FIXED(P_20号3様式1!F204,3,FALSE),4),\"\"),\"\"),\"\")","v":""},{"$f":"IF(P_20号3様式1!I204<> \"\",IF(P_20号3様式1!I204<> \"-\",TEXT(INT(P_20号3様式1!I204),\"#,##0\"),\"-\"),\"\")","v":""},{"$f":"IF(P_20号3様式1!I204<> \"\",IF(P_20号3様式1!I204<> \"-\",IF(VALUE(FIXED(P_20号3様式1!I204,0,TRUE))<>P_20号3様式1!I204,RIGHT(FIXED(P_20号3様式1!I204,3,FALSE),4),\"\"),\"\"),\"\")","v":""},{"$f":"IF(P_20号3様式1!L204<> \"\",IF(P_20号3様式1!L204<> \"-\",TEXT(INT(P_20号3様式1!L204),\"#,##0\"),\"-\"),\"\")","v":""},{"$f":"IF(P_20号3様式1!L204<> \"\",IF(P_20号3様式1!L204<> \"-\",IF(VALUE(FIXED(P_20号3様式1!L204,0,TRUE))<>P_20号3様式1!L204,RIGHT(FIXED(P_20号3様式1!L204,3,FALSE),4),\"\"),\"\"),\"\")","v":""},{"$f":"IF(P_20号3様式1!O204<> \"\",IF(P_20号3様式1!O204<> \"-\",TEXT(INT(P_20号3様式1!O204),\"#,##0\"),\"-\"),\"\")","v":""},{"$f":"IF(P_20号3様式1!O204<> \"\",IF(P_20号3様式1!O204<> \"-\",IF(VALUE(FIXED(P_20号3様式1!O204,0,TRUE))<>P_20号3様式1!O204,RIGHT(FIXED(P_20号3様式1!O204,3,FALSE),4),\"\"),\"\"),\"\")","v":""},{"$f":"IF(P_20号3様式1!R204<> \"\",IF(P_20号3様式1!R204<> \"-\",TEXT(INT(P_20号3様式1!R204),\"#,##0\"),\"-\"),\"\")","v":""},{"$f":"IF(P_20号3様式1!R204<> \"\",IF(P_20号3様式1!R204<> \"-\",IF(VALUE(FIXED(P_20号3様式1!R204,0,TRUE))<>P_20号3様式1!R204,RIGHT(FIXED(P_20号3様式1!R204,3,FALSE),4),\"\"),\"\"),\"\")","v":""},{"$f":"IF(P_20号3様式1!U204<> \"\",IF(P_20号3様式1!U204<> \"-\",TEXT(INT(P_20号3様式1!U204),\"#,##0\"),\"-\"),\"\")","v":""},{"$f":"IF(P_20号3様式1!U204<> \"\",IF(P_20号3様式1!U204<> \"-\",IF(VALUE(FIXED(P_20号3様式1!U204,0,TRUE))<>P_20号3様式1!U204,RIGHT(FIXED(P_20号3様式1!U204,3,FALSE),4),\"\"),\"\"),\"\")","v":""},{"$f":"IF(P_20号3様式1!X204<> \"\",IF(P_20号3様式1!X204<> \"-\",TEXT(INT(P_20号3様式1!X204),\"#,##0\"),\"-\"),\"\")","v":""},{"$f":"IF(P_20号3様式1!X204<> \"\",IF(P_20号3様式1!X204<> \"-\",IF(VALUE(FIXED(P_20号3様式1!X204,0,TRUE))<>P_20号3様式1!X204,RIGHT(FIXED(P_20号3様式1!X204,3,FALSE),4),\"\"),\"\"),\"\")","v":""},{"$f":"IF(P_20号3様式1!AA204<> \"\",IF(P_20号3様式1!AA204<> \"-\",TEXT(INT(P_20号3様式1!AA204),\"#,##0\"),\"-\"),\"\")","v":""},{"$f":"IF(P_20号3様式1!AA204<> \"\",IF(P_20号3様式1!AA204<> \"-\",IF(VALUE(FIXED(P_20号3様式1!AA204,0,TRUE))<>P_20号3様式1!AA204,RIGHT(FIXED(P_20号3様式1!AA204,3,FALSE),4),\"\"),\"\"),\"\")","v":""}]
[{"$f":"IF(P_20号3様式1!C205=\"\",\"\",P_20号3様式1!C205)","v":""},{"$f":"IF(P_20号3様式1!AE205<> \"\",TEXT(INT(P_20号3様式1!AE205),\"#,##0\"),\"\")","v":""},{"$f":"IF(P_20号3様式1!AE205= \"\",\"\",IF(VALUE(FIXED(P_20号3様式1!AE205,0,TRUE))<>P_20号3様式1!AE205,RIGHT(FIXED(P_20号3様式1!AE205,3,FALSE),4),\"\"))","v":""},{"$f":"IF(P_20号3様式1!F205<> \"\",IF(P_20号3様式1!F205<> \"-\",TEXT(INT(P_20号3様式1!F205),\"#,##0\"),\"-\"),\"\")","v":""},{"$f":"IF(P_20号3様式1!F205<> \"\",IF(P_20号3様式1!F205<> \"-\",IF(VALUE(FIXED(P_20号3様式1!F205,0,TRUE))<>P_20号3様式1!F205,RIGHT(FIXED(P_20号3様式1!F205,3,FALSE),4),\"\"),\"\"),\"\")","v":""},{"$f":"IF(P_20号3様式1!I205<> \"\",IF(P_20号3様式1!I205<> \"-\",TEXT(INT(P_20号3様式1!I205),\"#,##0\"),\"-\"),\"\")","v":""},{"$f":"IF(P_20号3様式1!I205<> \"\",IF(P_20号3様式1!I205<> \"-\",IF(VALUE(FIXED(P_20号3様式1!I205,0,TRUE))<>P_20号3様式1!I205,RIGHT(FIXED(P_20号3様式1!I205,3,FALSE),4),\"\"),\"\"),\"\")","v":""},{"$f":"IF(P_20号3様式1!L205<> \"\",IF(P_20号3様式1!L205<> \"-\",TEXT(INT(P_20号3様式1!L205),\"#,##0\"),\"-\"),\"\")","v":""},{"$f":"IF(P_20号3様式1!L205<> \"\",IF(P_20号3様式1!L205<> \"-\",IF(VALUE(FIXED(P_20号3様式1!L205,0,TRUE))<>P_20号3様式1!L205,RIGHT(FIXED(P_20号3様式1!L205,3,FALSE),4),\"\"),\"\"),\"\")","v":""},{"$f":"IF(P_20号3様式1!O205<> \"\",IF(P_20号3様式1!O205<> \"-\",TEXT(INT(P_20号3様式1!O205),\"#,##0\"),\"-\"),\"\")","v":""},{"$f":"IF(P_20号3様式1!O205<> \"\",IF(P_20号3様式1!O205<> \"-\",IF(VALUE(FIXED(P_20号3様式1!O205,0,TRUE))<>P_20号3様式1!O205,RIGHT(FIXED(P_20号3様式1!O205,3,FALSE),4),\"\"),\"\"),\"\")","v":""},{"$f":"IF(P_20号3様式1!R205<> \"\",IF(P_20号3様式1!R205<> \"-\",TEXT(INT(P_20号3様式1!R205),\"#,##0\"),\"-\"),\"\")","v":""},{"$f":"IF(P_20号3様式1!R205<> \"\",IF(P_20号3様式1!R205<> \"-\",IF(VALUE(FIXED(P_20号3様式1!R205,0,TRUE))<>P_20号3様式1!R205,RIGHT(FIXED(P_20号3様式1!R205,3,FALSE),4),\"\"),\"\"),\"\")","v":""},{"$f":"IF(P_20号3様式1!U205<> \"\",IF(P_20号3様式1!U205<> \"-\",TEXT(INT(P_20号3様式1!U205),\"#,##0\"),\"-\"),\"\")","v":""},{"$f":"IF(P_20号3様式1!U205<> \"\",IF(P_20号3様式1!U205<> \"-\",IF(VALUE(FIXED(P_20号3様式1!U205,0,TRUE))<>P_20号3様式1!U205,RIGHT(FIXED(P_20号3様式1!U205,3,FALSE),4),\"\"),\"\"),\"\")","v":""},{"$f":"IF(P_20号3様式1!X205<> \"\",IF(P_20号3様式1!X205<> \"-\",TEXT(INT(P_20号3様式1!X205),\"#,##0\"),\"-\"),\"\")","v":""},{"$f":"IF(P_20号3様式1!X205<> \"\",IF(P_20号3様式1!X205<> \"-\",IF(VALUE(FIXED(P_20号3様式1!X205,0,TRUE))<>P_20号3様式1!X205,RIGHT(FIXED(P_20号3様式1!X205,3,FALSE),4),\"\"),\"\"),\"\")","v":""},{"$f":"IF(P_20号3様式1!AA205<> \"\",IF(P_20号3様式1!AA205<> \"-\",TEXT(INT(P_20号3様式1!AA205),\"#,##0\"),\"-\"),\"\")","v":""},{"$f":"IF(P_20号3様式1!AA205<> \"\",IF(P_20号3様式1!AA205<> \"-\",IF(VALUE(FIXED(P_20号3様式1!AA205,0,TRUE))<>P_20号3様式1!AA205,RIGHT(FIXED(P_20号3様式1!AA205,3,FALSE),4),\"\"),\"\"),\"\")","v":""}]
[{"$f":"IF(P_20号3様式1!C206=\"\",\"\",P_20号3様式1!C206)","v":""},{"$f":"IF(P_20号3様式1!AE206<> \"\",TEXT(INT(P_20号3様式1!AE206),\"#,##0\"),\"\")","v":""},{"$f":"IF(P_20号3様式1!AE206= \"\",\"\",IF(VALUE(FIXED(P_20号3様式1!AE206,0,TRUE))<>P_20号3様式1!AE206,RIGHT(FIXED(P_20号3様式1!AE206,3,FALSE),4),\"\"))","v":""},{"$f":"IF(P_20号3様式1!F206<> \"\",IF(P_20号3様式1!F206<> \"-\",TEXT(INT(P_20号3様式1!F206),\"#,##0\"),\"-\"),\"\")","v":""},{"$f":"IF(P_20号3様式1!F206<> \"\",IF(P_20号3様式1!F206<> \"-\",IF(VALUE(FIXED(P_20号3様式1!F206,0,TRUE))<>P_20号3様式1!F206,RIGHT(FIXED(P_20号3様式1!F206,3,FALSE),4),\"\"),\"\"),\"\")","v":""},{"$f":"IF(P_20号3様式1!I206<> \"\",IF(P_20号3様式1!I206<> \"-\",TEXT(INT(P_20号3様式1!I206),\"#,##0\"),\"-\"),\"\")","v":""},{"$f":"IF(P_20号3様式1!I206<> \"\",IF(P_20号3様式1!I206<> \"-\",IF(VALUE(FIXED(P_20号3様式1!I206,0,TRUE))<>P_20号3様式1!I206,RIGHT(FIXED(P_20号3様式1!I206,3,FALSE),4),\"\"),\"\"),\"\")","v":""},{"$f":"IF(P_20号3様式1!L206<> \"\",IF(P_20号3様式1!L206<> \"-\",TEXT(INT(P_20号3様式1!L206),\"#,##0\"),\"-\"),\"\")","v":""},{"$f":"IF(P_20号3様式1!L206<> \"\",IF(P_20号3様式1!L206<> \"-\",IF(VALUE(FIXED(P_20号3様式1!L206,0,TRUE))<>P_20号3様式1!L206,RIGHT(FIXED(P_20号3様式1!L206,3,FALSE),4),\"\"),\"\"),\"\")","v":""},{"$f":"IF(P_20号3様式1!O206<> \"\",IF(P_20号3様式1!O206<> \"-\",TEXT(INT(P_20号3様式1!O206),\"#,##0\"),\"-\"),\"\")","v":""},{"$f":"IF(P_20号3様式1!O206<> \"\",IF(P_20号3様式1!O206<> \"-\",IF(VALUE(FIXED(P_20号3様式1!O206,0,TRUE))<>P_20号3様式1!O206,RIGHT(FIXED(P_20号3様式1!O206,3,FALSE),4),\"\"),\"\"),\"\")","v":""},{"$f":"IF(P_20号3様式1!R206<> \"\",IF(P_20号3様式1!R206<> \"-\",TEXT(INT(P_20号3様式1!R206),\"#,##0\"),\"-\"),\"\")","v":""},{"$f":"IF(P_20号3様式1!R206<> \"\",IF(P_20号3様式1!R206<> \"-\",IF(VALUE(FIXED(P_20号3様式1!R206,0,TRUE))<>P_20号3様式1!R206,RIGHT(FIXED(P_20号3様式1!R206,3,FALSE),4),\"\"),\"\"),\"\")","v":""},{"$f":"IF(P_20号3様式1!U206<> \"\",IF(P_20号3様式1!U206<> \"-\",TEXT(INT(P_20号3様式1!U206),\"#,##0\"),\"-\"),\"\")","v":""},{"$f":"IF(P_20号3様式1!U206<> \"\",IF(P_20号3様式1!U206<> \"-\",IF(VALUE(FIXED(P_20号3様式1!U206,0,TRUE))<>P_20号3様式1!U206,RIGHT(FIXED(P_20号3様式1!U206,3,FALSE),4),\"\"),\"\"),\"\")","v":""},{"$f":"IF(P_20号3様式1!X206<> \"\",IF(P_20号3様式1!X206<> \"-\",TEXT(INT(P_20号3様式1!X206),\"#,##0\"),\"-\"),\"\")","v":""},{"$f":"IF(P_20号3様式1!X206<> \"\",IF(P_20号3様式1!X206<> \"-\",IF(VALUE(FIXED(P_20号3様式1!X206,0,TRUE))<>P_20号3様式1!X206,RIGHT(FIXED(P_20号3様式1!X206,3,FALSE),4),\"\"),\"\"),\"\")","v":""},{"$f":"IF(P_20号3様式1!AA206<> \"\",IF(P_20号3様式1!AA206<> \"-\",TEXT(INT(P_20号3様式1!AA206),\"#,##0\"),\"-\"),\"\")","v":""},{"$f":"IF(P_20号3様式1!AA206<> \"\",IF(P_20号3様式1!AA206<> \"-\",IF(VALUE(FIXED(P_20号3様式1!AA206,0,TRUE))<>P_20号3様式1!AA206,RIGHT(FIXED(P_20号3様式1!AA206,3,FALSE),4),\"\"),\"\"),\"\")","v":""}]
[{"$f":"IF(P_20号3様式1!C207=\"\",\"\",P_20号3様式1!C207)","v":""},{"$f":"IF(P_20号3様式1!AE207<> \"\",TEXT(INT(P_20号3様式1!AE207),\"#,##0\"),\"\")","v":""},{"$f":"IF(P_20号3様式1!AE207= \"\",\"\",IF(VALUE(FIXED(P_20号3様式1!AE207,0,TRUE))<>P_20号3様式1!AE207,RIGHT(FIXED(P_20号3様式1!AE207,3,FALSE),4),\"\"))","v":""},{"$f":"IF(P_20号3様式1!F207<> \"\",IF(P_20号3様式1!F207<> \"-\",TEXT(INT(P_20号3様式1!F207),\"#,##0\"),\"-\"),\"\")","v":""},{"$f":"IF(P_20号3様式1!F207<> \"\",IF(P_20号3様式1!F207<> \"-\",IF(VALUE(FIXED(P_20号3様式1!F207,0,TRUE))<>P_20号3様式1!F207,RIGHT(FIXED(P_20号3様式1!F207,3,FALSE),4),\"\"),\"\"),\"\")","v":""},{"$f":"IF(P_20号3様式1!I207<> \"\",IF(P_20号3様式1!I207<> \"-\",TEXT(INT(P_20号3様式1!I207),\"#,##0\"),\"-\"),\"\")","v":""},{"$f":"IF(P_20号3様式1!I207<> \"\",IF(P_20号3様式1!I207<> \"-\",IF(VALUE(FIXED(P_20号3様式1!I207,0,TRUE))<>P_20号3様式1!I207,RIGHT(FIXED(P_20号3様式1!I207,3,FALSE),4),\"\"),\"\"),\"\")","v":""},{"$f":"IF(P_20号3様式1!L207<> \"\",IF(P_20号3様式1!L207<> \"-\",TEXT(INT(P_20号3様式1!L207),\"#,##0\"),\"-\"),\"\")","v":""},{"$f":"IF(P_20号3様式1!L207<> \"\",IF(P_20号3様式1!L207<> \"-\",IF(VALUE(FIXED(P_20号3様式1!L207,0,TRUE))<>P_20号3様式1!L207,RIGHT(FIXED(P_20号3様式1!L207,3,FALSE),4),\"\"),\"\"),\"\")","v":""},{"$f":"IF(P_20号3様式1!O207<> \"\",IF(P_20号3様式1!O207<> \"-\",TEXT(INT(P_20号3様式1!O207),\"#,##0\"),\"-\"),\"\")","v":""},{"$f":"IF(P_20号3様式1!O207<> \"\",IF(P_20号3様式1!O207<> \"-\",IF(VALUE(FIXED(P_20号3様式1!O207,0,TRUE))<>P_20号3様式1!O207,RIGHT(FIXED(P_20号3様式1!O207,3,FALSE),4),\"\"),\"\"),\"\")","v":""},{"$f":"IF(P_20号3様式1!R207<> \"\",IF(P_20号3様式1!R207<> \"-\",TEXT(INT(P_20号3様式1!R207),\"#,##0\"),\"-\"),\"\")","v":""},{"$f":"IF(P_20号3様式1!R207<> \"\",IF(P_20号3様式1!R207<> \"-\",IF(VALUE(FIXED(P_20号3様式1!R207,0,TRUE))<>P_20号3様式1!R207,RIGHT(FIXED(P_20号3様式1!R207,3,FALSE),4),\"\"),\"\"),\"\")","v":""},{"$f":"IF(P_20号3様式1!U207<> \"\",IF(P_20号3様式1!U207<> \"-\",TEXT(INT(P_20号3様式1!U207),\"#,##0\"),\"-\"),\"\")","v":""},{"$f":"IF(P_20号3様式1!U207<> \"\",IF(P_20号3様式1!U207<> \"-\",IF(VALUE(FIXED(P_20号3様式1!U207,0,TRUE))<>P_20号3様式1!U207,RIGHT(FIXED(P_20号3様式1!U207,3,FALSE),4),\"\"),\"\"),\"\")","v":""},{"$f":"IF(P_20号3様式1!X207<> \"\",IF(P_20号3様式1!X207<> \"-\",TEXT(INT(P_20号3様式1!X207),\"#,##0\"),\"-\"),\"\")","v":""},{"$f":"IF(P_20号3様式1!X207<> \"\",IF(P_20号3様式1!X207<> \"-\",IF(VALUE(FIXED(P_20号3様式1!X207,0,TRUE))<>P_20号3様式1!X207,RIGHT(FIXED(P_20号3様式1!X207,3,FALSE),4),\"\"),\"\"),\"\")","v":""},{"$f":"IF(P_20号3様式1!AA207<> \"\",IF(P_20号3様式1!AA207<> \"-\",TEXT(INT(P_20号3様式1!AA207),\"#,##0\"),\"-\"),\"\")","v":""},{"$f":"IF(P_20号3様式1!AA207<> \"\",IF(P_20号3様式1!AA207<> \"-\",IF(VALUE(FIXED(P_20号3様式1!AA207,0,TRUE))<>P_20号3様式1!AA207,RIGHT(FIXED(P_20号3様式1!AA207,3,FALSE),4),\"\"),\"\"),\"\")","v":""}]
[{"$f":"IF(P_20号3様式1!C208=\"\",\"\",P_20号3様式1!C208)","v":""},{"$f":"IF(P_20号3様式1!AE208<> \"\",TEXT(INT(P_20号3様式1!AE208),\"#,##0\"),\"\")","v":""},{"$f":"IF(P_20号3様式1!AE208= \"\",\"\",IF(VALUE(FIXED(P_20号3様式1!AE208,0,TRUE))<>P_20号3様式1!AE208,RIGHT(FIXED(P_20号3様式1!AE208,3,FALSE),4),\"\"))","v":""},{"$f":"IF(P_20号3様式1!F208<> \"\",IF(P_20号3様式1!F208<> \"-\",TEXT(INT(P_20号3様式1!F208),\"#,##0\"),\"-\"),\"\")","v":""},{"$f":"IF(P_20号3様式1!F208<> \"\",IF(P_20号3様式1!F208<> \"-\",IF(VALUE(FIXED(P_20号3様式1!F208,0,TRUE))<>P_20号3様式1!F208,RIGHT(FIXED(P_20号3様式1!F208,3,FALSE),4),\"\"),\"\"),\"\")","v":""},{"$f":"IF(P_20号3様式1!I208<> \"\",IF(P_20号3様式1!I208<> \"-\",TEXT(INT(P_20号3様式1!I208),\"#,##0\"),\"-\"),\"\")","v":""},{"$f":"IF(P_20号3様式1!I208<> \"\",IF(P_20号3様式1!I208<> \"-\",IF(VALUE(FIXED(P_20号3様式1!I208,0,TRUE))<>P_20号3様式1!I208,RIGHT(FIXED(P_20号3様式1!I208,3,FALSE),4),\"\"),\"\"),\"\")","v":""},{"$f":"IF(P_20号3様式1!L208<> \"\",IF(P_20号3様式1!L208<> \"-\",TEXT(INT(P_20号3様式1!L208),\"#,##0\"),\"-\"),\"\")","v":""},{"$f":"IF(P_20号3様式1!L208<> \"\",IF(P_20号3様式1!L208<> \"-\",IF(VALUE(FIXED(P_20号3様式1!L208,0,TRUE))<>P_20号3様式1!L208,RIGHT(FIXED(P_20号3様式1!L208,3,FALSE),4),\"\"),\"\"),\"\")","v":""},{"$f":"IF(P_20号3様式1!O208<> \"\",IF(P_20号3様式1!O208<> \"-\",TEXT(INT(P_20号3様式1!O208),\"#,##0\"),\"-\"),\"\")","v":""},{"$f":"IF(P_20号3様式1!O208<> \"\",IF(P_20号3様式1!O208<> \"-\",IF(VALUE(FIXED(P_20号3様式1!O208,0,TRUE))<>P_20号3様式1!O208,RIGHT(FIXED(P_20号3様式1!O208,3,FALSE),4),\"\"),\"\"),\"\")","v":""},{"$f":"IF(P_20号3様式1!R208<> \"\",IF(P_20号3様式1!R208<> \"-\",TEXT(INT(P_20号3様式1!R208),\"#,##0\"),\"-\"),\"\")","v":""},{"$f":"IF(P_20号3様式1!R208<> \"\",IF(P_20号3様式1!R208<> \"-\",IF(VALUE(FIXED(P_20号3様式1!R208,0,TRUE))<>P_20号3様式1!R208,RIGHT(FIXED(P_20号3様式1!R208,3,FALSE),4),\"\"),\"\"),\"\")","v":""},{"$f":"IF(P_20号3様式1!U208<> \"\",IF(P_20号3様式1!U208<> \"-\",TEXT(INT(P_20号3様式1!U208),\"#,##0\"),\"-\"),\"\")","v":""},{"$f":"IF(P_20号3様式1!U208<> \"\",IF(P_20号3様式1!U208<> \"-\",IF(VALUE(FIXED(P_20号3様式1!U208,0,TRUE))<>P_20号3様式1!U208,RIGHT(FIXED(P_20号3様式1!U208,3,FALSE),4),\"\"),\"\"),\"\")","v":""},{"$f":"IF(P_20号3様式1!X208<> \"\",IF(P_20号3様式1!X208<> \"-\",TEXT(INT(P_20号3様式1!X208),\"#,##0\"),\"-\"),\"\")","v":""},{"$f":"IF(P_20号3様式1!X208<> \"\",IF(P_20号3様式1!X208<> \"-\",IF(VALUE(FIXED(P_20号3様式1!X208,0,TRUE))<>P_20号3様式1!X208,RIGHT(FIXED(P_20号3様式1!X208,3,FALSE),4),\"\"),\"\"),\"\")","v":""},{"$f":"IF(P_20号3様式1!AA208<> \"\",IF(P_20号3様式1!AA208<> \"-\",TEXT(INT(P_20号3様式1!AA208),\"#,##0\"),\"-\"),\"\")","v":""},{"$f":"IF(P_20号3様式1!AA208<> \"\",IF(P_20号3様式1!AA208<> \"-\",IF(VALUE(FIXED(P_20号3様式1!AA208,0,TRUE))<>P_20号3様式1!AA208,RIGHT(FIXED(P_20号3様式1!AA208,3,FALSE),4),\"\"),\"\"),\"\")","v":""}]
[{"$f":"IF(P_20号3様式1!C209=\"\",\"\",P_20号3様式1!C209)","v":""},{"$f":"IF(P_20号3様式1!AE209<> \"\",TEXT(INT(P_20号3様式1!AE209),\"#,##0\"),\"\")","v":""},{"$f":"IF(P_20号3様式1!AE209= \"\",\"\",IF(VALUE(FIXED(P_20号3様式1!AE209,0,TRUE))<>P_20号3様式1!AE209,RIGHT(FIXED(P_20号3様式1!AE209,3,FALSE),4),\"\"))","v":""},{"$f":"IF(P_20号3様式1!F209<> \"\",IF(P_20号3様式1!F209<> \"-\",TEXT(INT(P_20号3様式1!F209),\"#,##0\"),\"-\"),\"\")","v":""},{"$f":"IF(P_20号3様式1!F209<> \"\",IF(P_20号3様式1!F209<> \"-\",IF(VALUE(FIXED(P_20号3様式1!F209,0,TRUE))<>P_20号3様式1!F209,RIGHT(FIXED(P_20号3様式1!F209,3,FALSE),4),\"\"),\"\"),\"\")","v":""},{"$f":"IF(P_20号3様式1!I209<> \"\",IF(P_20号3様式1!I209<> \"-\",TEXT(INT(P_20号3様式1!I209),\"#,##0\"),\"-\"),\"\")","v":""},{"$f":"IF(P_20号3様式1!I209<> \"\",IF(P_20号3様式1!I209<> \"-\",IF(VALUE(FIXED(P_20号3様式1!I209,0,TRUE))<>P_20号3様式1!I209,RIGHT(FIXED(P_20号3様式1!I209,3,FALSE),4),\"\"),\"\"),\"\")","v":""},{"$f":"IF(P_20号3様式1!L209<> \"\",IF(P_20号3様式1!L209<> \"-\",TEXT(INT(P_20号3様式1!L209),\"#,##0\"),\"-\"),\"\")","v":""},{"$f":"IF(P_20号3様式1!L209<> \"\",IF(P_20号3様式1!L209<> \"-\",IF(VALUE(FIXED(P_20号3様式1!L209,0,TRUE))<>P_20号3様式1!L209,RIGHT(FIXED(P_20号3様式1!L209,3,FALSE),4),\"\"),\"\"),\"\")","v":""},{"$f":"IF(P_20号3様式1!O209<> \"\",IF(P_20号3様式1!O209<> \"-\",TEXT(INT(P_20号3様式1!O209),\"#,##0\"),\"-\"),\"\")","v":""},{"$f":"IF(P_20号3様式1!O209<> \"\",IF(P_20号3様式1!O209<> \"-\",IF(VALUE(FIXED(P_20号3様式1!O209,0,TRUE))<>P_20号3様式1!O209,RIGHT(FIXED(P_20号3様式1!O209,3,FALSE),4),\"\"),\"\"),\"\")","v":""},{"$f":"IF(P_20号3様式1!R209<> \"\",IF(P_20号3様式1!R209<> \"-\",TEXT(INT(P_20号3様式1!R209),\"#,##0\"),\"-\"),\"\")","v":""},{"$f":"IF(P_20号3様式1!R209<> \"\",IF(P_20号3様式1!R209<> \"-\",IF(VALUE(FIXED(P_20号3様式1!R209,0,TRUE))<>P_20号3様式1!R209,RIGHT(FIXED(P_20号3様式1!R209,3,FALSE),4),\"\"),\"\"),\"\")","v":""},{"$f":"IF(P_20号3様式1!U209<> \"\",IF(P_20号3様式1!U209<> \"-\",TEXT(INT(P_20号3様式1!U209),\"#,##0\"),\"-\"),\"\")","v":""},{"$f":"IF(P_20号3様式1!U209<> \"\",IF(P_20号3様式1!U209<> \"-\",IF(VALUE(FIXED(P_20号3様式1!U209,0,TRUE))<>P_20号3様式1!U209,RIGHT(FIXED(P_20号3様式1!U209,3,FALSE),4),\"\"),\"\"),\"\")","v":""},{"$f":"IF(P_20号3様式1!X209<> \"\",IF(P_20号3様式1!X209<> \"-\",TEXT(INT(P_20号3様式1!X209),\"#,##0\"),\"-\"),\"\")","v":""},{"$f":"IF(P_20号3様式1!X209<> \"\",IF(P_20号3様式1!X209<> \"-\",IF(VALUE(FIXED(P_20号3様式1!X209,0,TRUE))<>P_20号3様式1!X209,RIGHT(FIXED(P_20号3様式1!X209,3,FALSE),4),\"\"),\"\"),\"\")","v":""},{"$f":"IF(P_20号3様式1!AA209<> \"\",IF(P_20号3様式1!AA209<> \"-\",TEXT(INT(P_20号3様式1!AA209),\"#,##0\"),\"-\"),\"\")","v":""},{"$f":"IF(P_20号3様式1!AA209<> \"\",IF(P_20号3様式1!AA209<> \"-\",IF(VALUE(FIXED(P_20号3様式1!AA209,0,TRUE))<>P_20号3様式1!AA209,RIGHT(FIXED(P_20号3様式1!AA209,3,FALSE),4),\"\"),\"\"),\"\")","v":""}]
[{"$f":"IF(P_20号3様式1!C210=\"\",\"\",P_20号3様式1!C210)","v":""},{"$f":"IF(P_20号3様式1!AE210<> \"\",TEXT(INT(P_20号3様式1!AE210),\"#,##0\"),\"\")","v":""},{"$f":"IF(P_20号3様式1!AE210= \"\",\"\",IF(VALUE(FIXED(P_20号3様式1!AE210,0,TRUE))<>P_20号3様式1!AE210,RIGHT(FIXED(P_20号3様式1!AE210,3,FALSE),4),\"\"))","v":""},{"$f":"IF(P_20号3様式1!F210<> \"\",IF(P_20号3様式1!F210<> \"-\",TEXT(INT(P_20号3様式1!F210),\"#,##0\"),\"-\"),\"\")","v":""},{"$f":"IF(P_20号3様式1!F210<> \"\",IF(P_20号3様式1!F210<> \"-\",IF(VALUE(FIXED(P_20号3様式1!F210,0,TRUE))<>P_20号3様式1!F210,RIGHT(FIXED(P_20号3様式1!F210,3,FALSE),4),\"\"),\"\"),\"\")","v":""},{"$f":"IF(P_20号3様式1!I210<> \"\",IF(P_20号3様式1!I210<> \"-\",TEXT(INT(P_20号3様式1!I210),\"#,##0\"),\"-\"),\"\")","v":""},{"$f":"IF(P_20号3様式1!I210<> \"\",IF(P_20号3様式1!I210<> \"-\",IF(VALUE(FIXED(P_20号3様式1!I210,0,TRUE))<>P_20号3様式1!I210,RIGHT(FIXED(P_20号3様式1!I210,3,FALSE),4),\"\"),\"\"),\"\")","v":""},{"$f":"IF(P_20号3様式1!L210<> \"\",IF(P_20号3様式1!L210<> \"-\",TEXT(INT(P_20号3様式1!L210),\"#,##0\"),\"-\"),\"\")","v":""},{"$f":"IF(P_20号3様式1!L210<> \"\",IF(P_20号3様式1!L210<> \"-\",IF(VALUE(FIXED(P_20号3様式1!L210,0,TRUE))<>P_20号3様式1!L210,RIGHT(FIXED(P_20号3様式1!L210,3,FALSE),4),\"\"),\"\"),\"\")","v":""},{"$f":"IF(P_20号3様式1!O210<> \"\",IF(P_20号3様式1!O210<> \"-\",TEXT(INT(P_20号3様式1!O210),\"#,##0\"),\"-\"),\"\")","v":""},{"$f":"IF(P_20号3様式1!O210<> \"\",IF(P_20号3様式1!O210<> \"-\",IF(VALUE(FIXED(P_20号3様式1!O210,0,TRUE))<>P_20号3様式1!O210,RIGHT(FIXED(P_20号3様式1!O210,3,FALSE),4),\"\"),\"\"),\"\")","v":""},{"$f":"IF(P_20号3様式1!R210<> \"\",IF(P_20号3様式1!R210<> \"-\",TEXT(INT(P_20号3様式1!R210),\"#,##0\"),\"-\"),\"\")","v":""},{"$f":"IF(P_20号3様式1!R210<> \"\",IF(P_20号3様式1!R210<> \"-\",IF(VALUE(FIXED(P_20号3様式1!R210,0,TRUE))<>P_20号3様式1!R210,RIGHT(FIXED(P_20号3様式1!R210,3,FALSE),4),\"\"),\"\"),\"\")","v":""},{"$f":"IF(P_20号3様式1!U210<> \"\",IF(P_20号3様式1!U210<> \"-\",TEXT(INT(P_20号3様式1!U210),\"#,##0\"),\"-\"),\"\")","v":""},{"$f":"IF(P_20号3様式1!U210<> \"\",IF(P_20号3様式1!U210<> \"-\",IF(VALUE(FIXED(P_20号3様式1!U210,0,TRUE))<>P_20号3様式1!U210,RIGHT(FIXED(P_20号3様式1!U210,3,FALSE),4),\"\"),\"\"),\"\")","v":""},{"$f":"IF(P_20号3様式1!X210<> \"\",IF(P_20号3様式1!X210<> \"-\",TEXT(INT(P_20号3様式1!X210),\"#,##0\"),\"-\"),\"\")","v":""},{"$f":"IF(P_20号3様式1!X210<> \"\",IF(P_20号3様式1!X210<> \"-\",IF(VALUE(FIXED(P_20号3様式1!X210,0,TRUE))<>P_20号3様式1!X210,RIGHT(FIXED(P_20号3様式1!X210,3,FALSE),4),\"\"),\"\"),\"\")","v":""},{"$f":"IF(P_20号3様式1!AA210<> \"\",IF(P_20号3様式1!AA210<> \"-\",TEXT(INT(P_20号3様式1!AA210),\"#,##0\"),\"-\"),\"\")","v":""},{"$f":"IF(P_20号3様式1!AA210<> \"\",IF(P_20号3様式1!AA210<> \"-\",IF(VALUE(FIXED(P_20号3様式1!AA210,0,TRUE))<>P_20号3様式1!AA210,RIGHT(FIXED(P_20号3様式1!AA210,3,FALSE),4),\"\"),\"\"),\"\")","v":""}]
[{"$f":"IF(P_20号3様式1!C211=\"\",\"\",P_20号3様式1!C211)","v":""},{"$f":"IF(P_20号3様式1!AE211<> \"\",TEXT(INT(P_20号3様式1!AE211),\"#,##0\"),\"\")","v":""},{"$f":"IF(P_20号3様式1!AE211= \"\",\"\",IF(VALUE(FIXED(P_20号3様式1!AE211,0,TRUE))<>P_20号3様式1!AE211,RIGHT(FIXED(P_20号3様式1!AE211,3,FALSE),4),\"\"))","v":""},{"$f":"IF(P_20号3様式1!F211<> \"\",IF(P_20号3様式1!F211<> \"-\",TEXT(INT(P_20号3様式1!F211),\"#,##0\"),\"-\"),\"\")","v":""},{"$f":"IF(P_20号3様式1!F211<> \"\",IF(P_20号3様式1!F211<> \"-\",IF(VALUE(FIXED(P_20号3様式1!F211,0,TRUE))<>P_20号3様式1!F211,RIGHT(FIXED(P_20号3様式1!F211,3,FALSE),4),\"\"),\"\"),\"\")","v":""},{"$f":"IF(P_20号3様式1!I211<> \"\",IF(P_20号3様式1!I211<> \"-\",TEXT(INT(P_20号3様式1!I211),\"#,##0\"),\"-\"),\"\")","v":""},{"$f":"IF(P_20号3様式1!I211<> \"\",IF(P_20号3様式1!I211<> \"-\",IF(VALUE(FIXED(P_20号3様式1!I211,0,TRUE))<>P_20号3様式1!I211,RIGHT(FIXED(P_20号3様式1!I211,3,FALSE),4),\"\"),\"\"),\"\")","v":""},{"$f":"IF(P_20号3様式1!L211<> \"\",IF(P_20号3様式1!L211<> \"-\",TEXT(INT(P_20号3様式1!L211),\"#,##0\"),\"-\"),\"\")","v":""},{"$f":"IF(P_20号3様式1!L211<> \"\",IF(P_20号3様式1!L211<> \"-\",IF(VALUE(FIXED(P_20号3様式1!L211,0,TRUE))<>P_20号3様式1!L211,RIGHT(FIXED(P_20号3様式1!L211,3,FALSE),4),\"\"),\"\"),\"\")","v":""},{"$f":"IF(P_20号3様式1!O211<> \"\",IF(P_20号3様式1!O211<> \"-\",TEXT(INT(P_20号3様式1!O211),\"#,##0\"),\"-\"),\"\")","v":""},{"$f":"IF(P_20号3様式1!O211<> \"\",IF(P_20号3様式1!O211<> \"-\",IF(VALUE(FIXED(P_20号3様式1!O211,0,TRUE))<>P_20号3様式1!O211,RIGHT(FIXED(P_20号3様式1!O211,3,FALSE),4),\"\"),\"\"),\"\")","v":""},{"$f":"IF(P_20号3様式1!R211<> \"\",IF(P_20号3様式1!R211<> \"-\",TEXT(INT(P_20号3様式1!R211),\"#,##0\"),\"-\"),\"\")","v":""},{"$f":"IF(P_20号3様式1!R211<> \"\",IF(P_20号3様式1!R211<> \"-\",IF(VALUE(FIXED(P_20号3様式1!R211,0,TRUE))<>P_20号3様式1!R211,RIGHT(FIXED(P_20号3様式1!R211,3,FALSE),4),\"\"),\"\"),\"\")","v":""},{"$f":"IF(P_20号3様式1!U211<> \"\",IF(P_20号3様式1!U211<> \"-\",TEXT(INT(P_20号3様式1!U211),\"#,##0\"),\"-\"),\"\")","v":""},{"$f":"IF(P_20号3様式1!U211<> \"\",IF(P_20号3様式1!U211<> \"-\",IF(VALUE(FIXED(P_20号3様式1!U211,0,TRUE))<>P_20号3様式1!U211,RIGHT(FIXED(P_20号3様式1!U211,3,FALSE),4),\"\"),\"\"),\"\")","v":""},{"$f":"IF(P_20号3様式1!X211<> \"\",IF(P_20号3様式1!X211<> \"-\",TEXT(INT(P_20号3様式1!X211),\"#,##0\"),\"-\"),\"\")","v":""},{"$f":"IF(P_20号3様式1!X211<> \"\",IF(P_20号3様式1!X211<> \"-\",IF(VALUE(FIXED(P_20号3様式1!X211,0,TRUE))<>P_20号3様式1!X211,RIGHT(FIXED(P_20号3様式1!X211,3,FALSE),4),\"\"),\"\"),\"\")","v":""},{"$f":"IF(P_20号3様式1!AA211<> \"\",IF(P_20号3様式1!AA211<> \"-\",TEXT(INT(P_20号3様式1!AA211),\"#,##0\"),\"-\"),\"\")","v":""},{"$f":"IF(P_20号3様式1!AA211<> \"\",IF(P_20号3様式1!AA211<> \"-\",IF(VALUE(FIXED(P_20号3様式1!AA211,0,TRUE))<>P_20号3様式1!AA211,RIGHT(FIXED(P_20号3様式1!AA211,3,FALSE),4),\"\"),\"\"),\"\")","v":""}]
[{"$f":"IF(P_20号3様式1!C212=\"\",\"\",P_20号3様式1!C212)","v":""},{"$f":"IF(P_20号3様式1!AE212<> \"\",TEXT(INT(P_20号3様式1!AE212),\"#,##0\"),\"\")","v":""},{"$f":"IF(P_20号3様式1!AE212= \"\",\"\",IF(VALUE(FIXED(P_20号3様式1!AE212,0,TRUE))<>P_20号3様式1!AE212,RIGHT(FIXED(P_20号3様式1!AE212,3,FALSE),4),\"\"))","v":""},{"$f":"IF(P_20号3様式1!F212<> \"\",IF(P_20号3様式1!F212<> \"-\",TEXT(INT(P_20号3様式1!F212),\"#,##0\"),\"-\"),\"\")","v":""},{"$f":"IF(P_20号3様式1!F212<> \"\",IF(P_20号3様式1!F212<> \"-\",IF(VALUE(FIXED(P_20号3様式1!F212,0,TRUE))<>P_20号3様式1!F212,RIGHT(FIXED(P_20号3様式1!F212,3,FALSE),4),\"\"),\"\"),\"\")","v":""},{"$f":"IF(P_20号3様式1!I212<> \"\",IF(P_20号3様式1!I212<> \"-\",TEXT(INT(P_20号3様式1!I212),\"#,##0\"),\"-\"),\"\")","v":""},{"$f":"IF(P_20号3様式1!I212<> \"\",IF(P_20号3様式1!I212<> \"-\",IF(VALUE(FIXED(P_20号3様式1!I212,0,TRUE))<>P_20号3様式1!I212,RIGHT(FIXED(P_20号3様式1!I212,3,FALSE),4),\"\"),\"\"),\"\")","v":""},{"$f":"IF(P_20号3様式1!L212<> \"\",IF(P_20号3様式1!L212<> \"-\",TEXT(INT(P_20号3様式1!L212),\"#,##0\"),\"-\"),\"\")","v":""},{"$f":"IF(P_20号3様式1!L212<> \"\",IF(P_20号3様式1!L212<> \"-\",IF(VALUE(FIXED(P_20号3様式1!L212,0,TRUE))<>P_20号3様式1!L212,RIGHT(FIXED(P_20号3様式1!L212,3,FALSE),4),\"\"),\"\"),\"\")","v":""},{"$f":"IF(P_20号3様式1!O212<> \"\",IF(P_20号3様式1!O212<> \"-\",TEXT(INT(P_20号3様式1!O212),\"#,##0\"),\"-\"),\"\")","v":""},{"$f":"IF(P_20号3様式1!O212<> \"\",IF(P_20号3様式1!O212<> \"-\",IF(VALUE(FIXED(P_20号3様式1!O212,0,TRUE))<>P_20号3様式1!O212,RIGHT(FIXED(P_20号3様式1!O212,3,FALSE),4),\"\"),\"\"),\"\")","v":""},{"$f":"IF(P_20号3様式1!R212<> \"\",IF(P_20号3様式1!R212<> \"-\",TEXT(INT(P_20号3様式1!R212),\"#,##0\"),\"-\"),\"\")","v":""},{"$f":"IF(P_20号3様式1!R212<> \"\",IF(P_20号3様式1!R212<> \"-\",IF(VALUE(FIXED(P_20号3様式1!R212,0,TRUE))<>P_20号3様式1!R212,RIGHT(FIXED(P_20号3様式1!R212,3,FALSE),4),\"\"),\"\"),\"\")","v":""},{"$f":"IF(P_20号3様式1!U212<> \"\",IF(P_20号3様式1!U212<> \"-\",TEXT(INT(P_20号3様式1!U212),\"#,##0\"),\"-\"),\"\")","v":""},{"$f":"IF(P_20号3様式1!U212<> \"\",IF(P_20号3様式1!U212<> \"-\",IF(VALUE(FIXED(P_20号3様式1!U212,0,TRUE))<>P_20号3様式1!U212,RIGHT(FIXED(P_20号3様式1!U212,3,FALSE),4),\"\"),\"\"),\"\")","v":""},{"$f":"IF(P_20号3様式1!X212<> \"\",IF(P_20号3様式1!X212<> \"-\",TEXT(INT(P_20号3様式1!X212),\"#,##0\"),\"-\"),\"\")","v":""},{"$f":"IF(P_20号3様式1!X212<> \"\",IF(P_20号3様式1!X212<> \"-\",IF(VALUE(FIXED(P_20号3様式1!X212,0,TRUE))<>P_20号3様式1!X212,RIGHT(FIXED(P_20号3様式1!X212,3,FALSE),4),\"\"),\"\"),\"\")","v":""},{"$f":"IF(P_20号3様式1!AA212<> \"\",IF(P_20号3様式1!AA212<> \"-\",TEXT(INT(P_20号3様式1!AA212),\"#,##0\"),\"-\"),\"\")","v":""},{"$f":"IF(P_20号3様式1!AA212<> \"\",IF(P_20号3様式1!AA212<> \"-\",IF(VALUE(FIXED(P_20号3様式1!AA212,0,TRUE))<>P_20号3様式1!AA212,RIGHT(FIXED(P_20号3様式1!AA212,3,FALSE),4),\"\"),\"\"),\"\")","v":""}]
[{"$f":"IF(P_20号3様式1!C213=\"\",\"\",P_20号3様式1!C213)","v":""},{"$f":"IF(P_20号3様式1!AE213<> \"\",TEXT(INT(P_20号3様式1!AE213),\"#,##0\"),\"\")","v":""},{"$f":"IF(P_20号3様式1!AE213= \"\",\"\",IF(VALUE(FIXED(P_20号3様式1!AE213,0,TRUE))<>P_20号3様式1!AE213,RIGHT(FIXED(P_20号3様式1!AE213,3,FALSE),4),\"\"))","v":""},{"$f":"IF(P_20号3様式1!F213<> \"\",IF(P_20号3様式1!F213<> \"-\",TEXT(INT(P_20号3様式1!F213),\"#,##0\"),\"-\"),\"\")","v":""},{"$f":"IF(P_20号3様式1!F213<> \"\",IF(P_20号3様式1!F213<> \"-\",IF(VALUE(FIXED(P_20号3様式1!F213,0,TRUE))<>P_20号3様式1!F213,RIGHT(FIXED(P_20号3様式1!F213,3,FALSE),4),\"\"),\"\"),\"\")","v":""},{"$f":"IF(P_20号3様式1!I213<> \"\",IF(P_20号3様式1!I213<> \"-\",TEXT(INT(P_20号3様式1!I213),\"#,##0\"),\"-\"),\"\")","v":""},{"$f":"IF(P_20号3様式1!I213<> \"\",IF(P_20号3様式1!I213<> \"-\",IF(VALUE(FIXED(P_20号3様式1!I213,0,TRUE))<>P_20号3様式1!I213,RIGHT(FIXED(P_20号3様式1!I213,3,FALSE),4),\"\"),\"\"),\"\")","v":""},{"$f":"IF(P_20号3様式1!L213<> \"\",IF(P_20号3様式1!L213<> \"-\",TEXT(INT(P_20号3様式1!L213),\"#,##0\"),\"-\"),\"\")","v":""},{"$f":"IF(P_20号3様式1!L213<> \"\",IF(P_20号3様式1!L213<> \"-\",IF(VALUE(FIXED(P_20号3様式1!L213,0,TRUE))<>P_20号3様式1!L213,RIGHT(FIXED(P_20号3様式1!L213,3,FALSE),4),\"\"),\"\"),\"\")","v":""},{"$f":"IF(P_20号3様式1!O213<> \"\",IF(P_20号3様式1!O213<> \"-\",TEXT(INT(P_20号3様式1!O213),\"#,##0\"),\"-\"),\"\")","v":""},{"$f":"IF(P_20号3様式1!O213<> \"\",IF(P_20号3様式1!O213<> \"-\",IF(VALUE(FIXED(P_20号3様式1!O213,0,TRUE))<>P_20号3様式1!O213,RIGHT(FIXED(P_20号3様式1!O213,3,FALSE),4),\"\"),\"\"),\"\")","v":""},{"$f":"IF(P_20号3様式1!R213<> \"\",IF(P_20号3様式1!R213<> \"-\",TEXT(INT(P_20号3様式1!R213),\"#,##0\"),\"-\"),\"\")","v":""},{"$f":"IF(P_20号3様式1!R213<> \"\",IF(P_20号3様式1!R213<> \"-\",IF(VALUE(FIXED(P_20号3様式1!R213,0,TRUE))<>P_20号3様式1!R213,RIGHT(FIXED(P_20号3様式1!R213,3,FALSE),4),\"\"),\"\"),\"\")","v":""},{"$f":"IF(P_20号3様式1!U213<> \"\",IF(P_20号3様式1!U213<> \"-\",TEXT(INT(P_20号3様式1!U213),\"#,##0\"),\"-\"),\"\")","v":""},{"$f":"IF(P_20号3様式1!U213<> \"\",IF(P_20号3様式1!U213<> \"-\",IF(VALUE(FIXED(P_20号3様式1!U213,0,TRUE))<>P_20号3様式1!U213,RIGHT(FIXED(P_20号3様式1!U213,3,FALSE),4),\"\"),\"\"),\"\")","v":""},{"$f":"IF(P_20号3様式1!X213<> \"\",IF(P_20号3様式1!X213<> \"-\",TEXT(INT(P_20号3様式1!X213),\"#,##0\"),\"-\"),\"\")","v":""},{"$f":"IF(P_20号3様式1!X213<> \"\",IF(P_20号3様式1!X213<> \"-\",IF(VALUE(FIXED(P_20号3様式1!X213,0,TRUE))<>P_20号3様式1!X213,RIGHT(FIXED(P_20号3様式1!X213,3,FALSE),4),\"\"),\"\"),\"\")","v":""},{"$f":"IF(P_20号3様式1!AA213<> \"\",IF(P_20号3様式1!AA213<> \"-\",TEXT(INT(P_20号3様式1!AA213),\"#,##0\"),\"-\"),\"\")","v":""},{"$f":"IF(P_20号3様式1!AA213<> \"\",IF(P_20号3様式1!AA213<> \"-\",IF(VALUE(FIXED(P_20号3様式1!AA213,0,TRUE))<>P_20号3様式1!AA213,RIGHT(FIXED(P_20号3様式1!AA213,3,FALSE),4),\"\"),\"\"),\"\")","v":""}]
[{"$f":"IF(P_20号3様式1!C214=\"\",\"\",P_20号3様式1!C214)","v":""},{"$f":"IF(P_20号3様式1!AE214<> \"\",TEXT(INT(P_20号3様式1!AE214),\"#,##0\"),\"\")","v":""},{"$f":"IF(P_20号3様式1!AE214= \"\",\"\",IF(VALUE(FIXED(P_20号3様式1!AE214,0,TRUE))<>P_20号3様式1!AE214,RIGHT(FIXED(P_20号3様式1!AE214,3,FALSE),4),\"\"))","v":""},{"$f":"IF(P_20号3様式1!F214<> \"\",IF(P_20号3様式1!F214<> \"-\",TEXT(INT(P_20号3様式1!F214),\"#,##0\"),\"-\"),\"\")","v":""},{"$f":"IF(P_20号3様式1!F214<> \"\",IF(P_20号3様式1!F214<> \"-\",IF(VALUE(FIXED(P_20号3様式1!F214,0,TRUE))<>P_20号3様式1!F214,RIGHT(FIXED(P_20号3様式1!F214,3,FALSE),4),\"\"),\"\"),\"\")","v":""},{"$f":"IF(P_20号3様式1!I214<> \"\",IF(P_20号3様式1!I214<> \"-\",TEXT(INT(P_20号3様式1!I214),\"#,##0\"),\"-\"),\"\")","v":""},{"$f":"IF(P_20号3様式1!I214<> \"\",IF(P_20号3様式1!I214<> \"-\",IF(VALUE(FIXED(P_20号3様式1!I214,0,TRUE))<>P_20号3様式1!I214,RIGHT(FIXED(P_20号3様式1!I214,3,FALSE),4),\"\"),\"\"),\"\")","v":""},{"$f":"IF(P_20号3様式1!L214<> \"\",IF(P_20号3様式1!L214<> \"-\",TEXT(INT(P_20号3様式1!L214),\"#,##0\"),\"-\"),\"\")","v":""},{"$f":"IF(P_20号3様式1!L214<> \"\",IF(P_20号3様式1!L214<> \"-\",IF(VALUE(FIXED(P_20号3様式1!L214,0,TRUE))<>P_20号3様式1!L214,RIGHT(FIXED(P_20号3様式1!L214,3,FALSE),4),\"\"),\"\"),\"\")","v":""},{"$f":"IF(P_20号3様式1!O214<> \"\",IF(P_20号3様式1!O214<> \"-\",TEXT(INT(P_20号3様式1!O214),\"#,##0\"),\"-\"),\"\")","v":""},{"$f":"IF(P_20号3様式1!O214<> \"\",IF(P_20号3様式1!O214<> \"-\",IF(VALUE(FIXED(P_20号3様式1!O214,0,TRUE))<>P_20号3様式1!O214,RIGHT(FIXED(P_20号3様式1!O214,3,FALSE),4),\"\"),\"\"),\"\")","v":""},{"$f":"IF(P_20号3様式1!R214<> \"\",IF(P_20号3様式1!R214<> \"-\",TEXT(INT(P_20号3様式1!R214),\"#,##0\"),\"-\"),\"\")","v":""},{"$f":"IF(P_20号3様式1!R214<> \"\",IF(P_20号3様式1!R214<> \"-\",IF(VALUE(FIXED(P_20号3様式1!R214,0,TRUE))<>P_20号3様式1!R214,RIGHT(FIXED(P_20号3様式1!R214,3,FALSE),4),\"\"),\"\"),\"\")","v":""},{"$f":"IF(P_20号3様式1!U214<> \"\",IF(P_20号3様式1!U214<> \"-\",TEXT(INT(P_20号3様式1!U214),\"#,##0\"),\"-\"),\"\")","v":""},{"$f":"IF(P_20号3様式1!U214<> \"\",IF(P_20号3様式1!U214<> \"-\",IF(VALUE(FIXED(P_20号3様式1!U214,0,TRUE))<>P_20号3様式1!U214,RIGHT(FIXED(P_20号3様式1!U214,3,FALSE),4),\"\"),\"\"),\"\")","v":""},{"$f":"IF(P_20号3様式1!X214<> \"\",IF(P_20号3様式1!X214<> \"-\",TEXT(INT(P_20号3様式1!X214),\"#,##0\"),\"-\"),\"\")","v":""},{"$f":"IF(P_20号3様式1!X214<> \"\",IF(P_20号3様式1!X214<> \"-\",IF(VALUE(FIXED(P_20号3様式1!X214,0,TRUE))<>P_20号3様式1!X214,RIGHT(FIXED(P_20号3様式1!X214,3,FALSE),4),\"\"),\"\"),\"\")","v":""},{"$f":"IF(P_20号3様式1!AA214<> \"\",IF(P_20号3様式1!AA214<> \"-\",TEXT(INT(P_20号3様式1!AA214),\"#,##0\"),\"-\"),\"\")","v":""},{"$f":"IF(P_20号3様式1!AA214<> \"\",IF(P_20号3様式1!AA214<> \"-\",IF(VALUE(FIXED(P_20号3様式1!AA214,0,TRUE))<>P_20号3様式1!AA214,RIGHT(FIXED(P_20号3様式1!AA214,3,FALSE),4),\"\"),\"\"),\"\")","v":""}]
[{"$f":"IF(P_20号3様式1!C215=\"\",\"\",P_20号3様式1!C215)","v":""},{"$f":"IF(P_20号3様式1!AE215<> \"\",TEXT(INT(P_20号3様式1!AE215),\"#,##0\"),\"\")","v":""},{"$f":"IF(P_20号3様式1!AE215= \"\",\"\",IF(VALUE(FIXED(P_20号3様式1!AE215,0,TRUE))<>P_20号3様式1!AE215,RIGHT(FIXED(P_20号3様式1!AE215,3,FALSE),4),\"\"))","v":""},{"$f":"IF(P_20号3様式1!F215<> \"\",IF(P_20号3様式1!F215<> \"-\",TEXT(INT(P_20号3様式1!F215),\"#,##0\"),\"-\"),\"\")","v":""},{"$f":"IF(P_20号3様式1!F215<> \"\",IF(P_20号3様式1!F215<> \"-\",IF(VALUE(FIXED(P_20号3様式1!F215,0,TRUE))<>P_20号3様式1!F215,RIGHT(FIXED(P_20号3様式1!F215,3,FALSE),4),\"\"),\"\"),\"\")","v":""},{"$f":"IF(P_20号3様式1!I215<> \"\",IF(P_20号3様式1!I215<> \"-\",TEXT(INT(P_20号3様式1!I215),\"#,##0\"),\"-\"),\"\")","v":""},{"$f":"IF(P_20号3様式1!I215<> \"\",IF(P_20号3様式1!I215<> \"-\",IF(VALUE(FIXED(P_20号3様式1!I215,0,TRUE))<>P_20号3様式1!I215,RIGHT(FIXED(P_20号3様式1!I215,3,FALSE),4),\"\"),\"\"),\"\")","v":""},{"$f":"IF(P_20号3様式1!L215<> \"\",IF(P_20号3様式1!L215<> \"-\",TEXT(INT(P_20号3様式1!L215),\"#,##0\"),\"-\"),\"\")","v":""},{"$f":"IF(P_20号3様式1!L215<> \"\",IF(P_20号3様式1!L215<> \"-\",IF(VALUE(FIXED(P_20号3様式1!L215,0,TRUE))<>P_20号3様式1!L215,RIGHT(FIXED(P_20号3様式1!L215,3,FALSE),4),\"\"),\"\"),\"\")","v":""},{"$f":"IF(P_20号3様式1!O215<> \"\",IF(P_20号3様式1!O215<> \"-\",TEXT(INT(P_20号3様式1!O215),\"#,##0\"),\"-\"),\"\")","v":""},{"$f":"IF(P_20号3様式1!O215<> \"\",IF(P_20号3様式1!O215<> \"-\",IF(VALUE(FIXED(P_20号3様式1!O215,0,TRUE))<>P_20号3様式1!O215,RIGHT(FIXED(P_20号3様式1!O215,3,FALSE),4),\"\"),\"\"),\"\")","v":""},{"$f":"IF(P_20号3様式1!R215<> \"\",IF(P_20号3様式1!R215<> \"-\",TEXT(INT(P_20号3様式1!R215),\"#,##0\"),\"-\"),\"\")","v":""},{"$f":"IF(P_20号3様式1!R215<> \"\",IF(P_20号3様式1!R215<> \"-\",IF(VALUE(FIXED(P_20号3様式1!R215,0,TRUE))<>P_20号3様式1!R215,RIGHT(FIXED(P_20号3様式1!R215,3,FALSE),4),\"\"),\"\"),\"\")","v":""},{"$f":"IF(P_20号3様式1!U215<> \"\",IF(P_20号3様式1!U215<> \"-\",TEXT(INT(P_20号3様式1!U215),\"#,##0\"),\"-\"),\"\")","v":""},{"$f":"IF(P_20号3様式1!U215<> \"\",IF(P_20号3様式1!U215<> \"-\",IF(VALUE(FIXED(P_20号3様式1!U215,0,TRUE))<>P_20号3様式1!U215,RIGHT(FIXED(P_20号3様式1!U215,3,FALSE),4),\"\"),\"\"),\"\")","v":""},{"$f":"IF(P_20号3様式1!X215<> \"\",IF(P_20号3様式1!X215<> \"-\",TEXT(INT(P_20号3様式1!X215),\"#,##0\"),\"-\"),\"\")","v":""},{"$f":"IF(P_20号3様式1!X215<> \"\",IF(P_20号3様式1!X215<> \"-\",IF(VALUE(FIXED(P_20号3様式1!X215,0,TRUE))<>P_20号3様式1!X215,RIGHT(FIXED(P_20号3様式1!X215,3,FALSE),4),\"\"),\"\"),\"\")","v":""},{"$f":"IF(P_20号3様式1!AA215<> \"\",IF(P_20号3様式1!AA215<> \"-\",TEXT(INT(P_20号3様式1!AA215),\"#,##0\"),\"-\"),\"\")","v":""},{"$f":"IF(P_20号3様式1!AA215<> \"\",IF(P_20号3様式1!AA215<> \"-\",IF(VALUE(FIXED(P_20号3様式1!AA215,0,TRUE))<>P_20号3様式1!AA215,RIGHT(FIXED(P_20号3様式1!AA215,3,FALSE),4),\"\"),\"\"),\"\")","v":""}]
[{"$f":"IF(P_20号3様式1!C216=\"\",\"\",P_20号3様式1!C216)","v":""},{"$f":"IF(P_20号3様式1!AE216<> \"\",TEXT(INT(P_20号3様式1!AE216),\"#,##0\"),\"\")","v":""},{"$f":"IF(P_20号3様式1!AE216= \"\",\"\",IF(VALUE(FIXED(P_20号3様式1!AE216,0,TRUE))<>P_20号3様式1!AE216,RIGHT(FIXED(P_20号3様式1!AE216,3,FALSE),4),\"\"))","v":""},{"$f":"IF(P_20号3様式1!F216<> \"\",IF(P_20号3様式1!F216<> \"-\",TEXT(INT(P_20号3様式1!F216),\"#,##0\"),\"-\"),\"\")","v":""},{"$f":"IF(P_20号3様式1!F216<> \"\",IF(P_20号3様式1!F216<> \"-\",IF(VALUE(FIXED(P_20号3様式1!F216,0,TRUE))<>P_20号3様式1!F216,RIGHT(FIXED(P_20号3様式1!F216,3,FALSE),4),\"\"),\"\"),\"\")","v":""},{"$f":"IF(P_20号3様式1!I216<> \"\",IF(P_20号3様式1!I216<> \"-\",TEXT(INT(P_20号3様式1!I216),\"#,##0\"),\"-\"),\"\")","v":""},{"$f":"IF(P_20号3様式1!I216<> \"\",IF(P_20号3様式1!I216<> \"-\",IF(VALUE(FIXED(P_20号3様式1!I216,0,TRUE))<>P_20号3様式1!I216,RIGHT(FIXED(P_20号3様式1!I216,3,FALSE),4),\"\"),\"\"),\"\")","v":""},{"$f":"IF(P_20号3様式1!L216<> \"\",IF(P_20号3様式1!L216<> \"-\",TEXT(INT(P_20号3様式1!L216),\"#,##0\"),\"-\"),\"\")","v":""},{"$f":"IF(P_20号3様式1!L216<> \"\",IF(P_20号3様式1!L216<> \"-\",IF(VALUE(FIXED(P_20号3様式1!L216,0,TRUE))<>P_20号3様式1!L216,RIGHT(FIXED(P_20号3様式1!L216,3,FALSE),4),\"\"),\"\"),\"\")","v":""},{"$f":"IF(P_20号3様式1!O216<> \"\",IF(P_20号3様式1!O216<> \"-\",TEXT(INT(P_20号3様式1!O216),\"#,##0\"),\"-\"),\"\")","v":""},{"$f":"IF(P_20号3様式1!O216<> \"\",IF(P_20号3様式1!O216<> \"-\",IF(VALUE(FIXED(P_20号3様式1!O216,0,TRUE))<>P_20号3様式1!O216,RIGHT(FIXED(P_20号3様式1!O216,3,FALSE),4),\"\"),\"\"),\"\")","v":""},{"$f":"IF(P_20号3様式1!R216<> \"\",IF(P_20号3様式1!R216<> \"-\",TEXT(INT(P_20号3様式1!R216),\"#,##0\"),\"-\"),\"\")","v":""},{"$f":"IF(P_20号3様式1!R216<> \"\",IF(P_20号3様式1!R216<> \"-\",IF(VALUE(FIXED(P_20号3様式1!R216,0,TRUE))<>P_20号3様式1!R216,RIGHT(FIXED(P_20号3様式1!R216,3,FALSE),4),\"\"),\"\"),\"\")","v":""},{"$f":"IF(P_20号3様式1!U216<> \"\",IF(P_20号3様式1!U216<> \"-\",TEXT(INT(P_20号3様式1!U216),\"#,##0\"),\"-\"),\"\")","v":""},{"$f":"IF(P_20号3様式1!U216<> \"\",IF(P_20号3様式1!U216<> \"-\",IF(VALUE(FIXED(P_20号3様式1!U216,0,TRUE))<>P_20号3様式1!U216,RIGHT(FIXED(P_20号3様式1!U216,3,FALSE),4),\"\"),\"\"),\"\")","v":""},{"$f":"IF(P_20号3様式1!X216<> \"\",IF(P_20号3様式1!X216<> \"-\",TEXT(INT(P_20号3様式1!X216),\"#,##0\"),\"-\"),\"\")","v":""},{"$f":"IF(P_20号3様式1!X216<> \"\",IF(P_20号3様式1!X216<> \"-\",IF(VALUE(FIXED(P_20号3様式1!X216,0,TRUE))<>P_20号3様式1!X216,RIGHT(FIXED(P_20号3様式1!X216,3,FALSE),4),\"\"),\"\"),\"\")","v":""},{"$f":"IF(P_20号3様式1!AA216<> \"\",IF(P_20号3様式1!AA216<> \"-\",TEXT(INT(P_20号3様式1!AA216),\"#,##0\"),\"-\"),\"\")","v":""},{"$f":"IF(P_20号3様式1!AA216<> \"\",IF(P_20号3様式1!AA216<> \"-\",IF(VALUE(FIXED(P_20号3様式1!AA216,0,TRUE))<>P_20号3様式1!AA216,RIGHT(FIXED(P_20号3様式1!AA216,3,FALSE),4),\"\"),\"\"),\"\")","v":""}]
[]
["政   令   市   計",{"$f":"IF(P_20号3様式1!AH174<> \"\",TEXT(INT(P_20号3様式1!AH174),\"#,##0\"),\"\")","v":""},{"$f":"IF(P_20号3様式1!AH174= \"\",\"\",IF(VALUE(FIXED(P_20号3様式1!AH174,0,TRUE))<>P_20号3様式1!AH174,RIGHT(FIXED(P_20号3様式1!AH174,3,FALSE),4),\"\"))","v":""},{"$f":"IF(P_20号3様式1!AI174<> \"\",IF(P_20号3様式1!AI174<> \"-\",TEXT(INT(P_20号3様式1!AI174),\"#,##0\"),\"-\"),\"\")","v":""},{"$f":"IF(P_20号3様式1!AI174<> \"\",IF(P_20号3様式1!AI174<> \"-\",IF(VALUE(FIXED(P_20号3様式1!AI174,0,TRUE))<>P_20号3様式1!AI174,RIGHT(FIXED(P_20号3様式1!AI174,3,FALSE),4),\"\"),\"\"),\"\")","v":""},{"$f":"IF(P_20号3様式1!AJ174<> \"\",IF(P_20号3様式1!AJ174<> \"-\",TEXT(INT(P_20号3様式1!AJ174),\"#,##0\"),\"-\"),\"\")","v":""},{"$f":"IF(P_20号3様式1!AJ174<> \"\",IF(P_20号3様式1!AJ174<> \"-\",IF(VALUE(FIXED(P_20号3様式1!AJ174,0,TRUE))<>P_20号3様式1!AJ174,RIGHT(FIXED(P_20号3様式1!AJ174,3,FALSE),4),\"\"),\"\"),\"\")","v":""},{"$f":"IF(P_20号3様式1!AK174<> \"\",IF(P_20号3様式1!AK174<> \"-\",TEXT(INT(P_20号3様式1!AK174),\"#,##0\"),\"-\"),\"\")","v":""},{"$f":"IF(P_20号3様式1!AK174<> \"\",IF(P_20号3様式1!AK174<> \"-\",IF(VALUE(FIXED(P_20号3様式1!AK174,0,TRUE))<>P_20号3様式1!AK174,RIGHT(FIXED(P_20号3様式1!AK174,3,FALSE),4),\"\"),\"\"),\"\")","v":""},{"$f":"IF(P_20号3様式1!AL174<> \"\",IF(P_20号3様式1!AL174<> \"-\",TEXT(INT(P_20号3様式1!AL174),\"#,##0\"),\"-\"),\"\")","v":""},{"$f":"IF(P_20号3様式1!AL174<> \"\",IF(P_20号3様式1!AL174<> \"-\",IF(VALUE(FIXED(P_20号3様式1!AL174,0,TRUE))<>P_20号3様式1!AL174,RIGHT(FIXED(P_20号3様式1!AL174,3,FALSE),4),\"\"),\"\"),\"\")","v":""},{"$f":"IF(P_20号3様式1!AM174<> \"\",IF(P_20号3様式1!AM174<> \"-\",TEXT(INT(P_20号3様式1!AM174),\"#,##0\"),\"-\"),\"\")","v":""},{"$f":"IF(P_20号3様式1!AM174<> \"\",IF(P_20号3様式1!AM174<> \"-\",IF(VALUE(FIXED(P_20号3様式1!AM174,0,TRUE))<>P_20号3様式1!AM174,RIGHT(FIXED(P_20号3様式1!AM174,3,FALSE),4),\"\"),\"\"),\"\")","v":""},{"$f":"IF(P_20号3様式1!AN174<> \"\",IF(P_20号3様式1!AN174<> \"-\",TEXT(INT(P_20号3様式1!AN174),\"#,##0\"),\"-\"),\"\")","v":""},{"$f":"IF(P_20号3様式1!AN174<> \"\",IF(P_20号3様式1!AN174<> \"-\",IF(VALUE(FIXED(P_20号3様式1!AN174,0,TRUE))<>P_20号3様式1!AN174,RIGHT(FIXED(P_20号3様式1!AN174,3,FALSE),4),\"\"),\"\"),\"\")","v":""},{"$f":"IF(P_20号3様式1!AO174<> \"\",IF(P_20号3様式1!AO174<> \"-\",TEXT(INT(P_20号3様式1!AO174),\"#,##0\"),\"-\"),\"\")","v":""},{"$f":"IF(P_20号3様式1!AO174<> \"\",IF(P_20号3様式1!AO174<> \"-\",IF(VALUE(FIXED(P_20号3様式1!AO174,0,TRUE))<>P_20号3様式1!AO174,RIGHT(FIXED(P_20号3様式1!AO174,3,FALSE),4),\"\"),\"\"),\"\")","v":""},{"$f":"IF(P_20号3様式1!AP174<> \"\",IF(P_20号3様式1!AP174<> \"-\",TEXT(INT(P_20号3様式1!AP174),\"#,##0\"),\"-\"),\"\")","v":""},{"$f":"IF(P_20号3様式1!AP174<> \"\",IF(P_20号3様式1!AP174<> \"-\",IF(VALUE(FIXED(P_20号3様式1!AP174,0,TRUE))<>P_20号3様式1!AP174,RIGHT(FIXED(P_20号3様式1!AP174,3,FALSE),4),\"\"),\"\"),\"\")","v":""}]
["そ  の  他  市  計",{"$f":"IF(P_20号3様式1!AS174<> \"\",TEXT(INT(P_20号3様式1!AS174),\"#,##0\"),\"\")","v":"85"},{"$f":"IF(P_20号3様式1!AS174= \"\",\"\",IF(VALUE(FIXED(P_20号3様式1!AS174,0,TRUE))<>P_20号3様式1!AS174,RIGHT(FIXED(P_20号3様式1!AS174,3,FALSE),4),\"\"))","v":".589"},{"$f":"IF(P_20号3様式1!AT174<> \"\",IF(P_20号3様式1!AT174<> \"-\",TEXT(INT(P_20号3様式1!AT174),\"#,##0\"),\"-\"),\"\")","v":"85"},{"$f":"IF(P_20号3様式1!AT174<> \"\",IF(P_20号3様式1!AT174<> \"-\",IF(VALUE(FIXED(P_20号3様式1!AT174,0,TRUE))<>P_20号3様式1!AT174,RIGHT(FIXED(P_20号3様式1!AT174,3,FALSE),4),\"\"),\"\"),\"\")","v":".589"},{"$f":"IF(P_20号3様式1!AU174<> \"\",IF(P_20号3様式1!AU174<> \"-\",TEXT(INT(P_20号3様式1!AU174),\"#,##0\"),\"-\"),\"\")","v":""},{"$f":"IF(P_20号3様式1!AU174<> \"\",IF(P_20号3様式1!AU174<> \"-\",IF(VALUE(FIXED(P_20号3様式1!AU174,0,TRUE))<>P_20号3様式1!AU174,RIGHT(FIXED(P_20号3様式1!AU174,3,FALSE),4),\"\"),\"\"),\"\")","v":""},{"$f":"IF(P_20号3様式1!AV174<> \"\",IF(P_20号3様式1!AV174<> \"-\",TEXT(INT(P_20号3様式1!AV174),\"#,##0\"),\"-\"),\"\")","v":""},{"$f":"IF(P_20号3様式1!AV174<> \"\",IF(P_20号3様式1!AV174<> \"-\",IF(VALUE(FIXED(P_20号3様式1!AV174,0,TRUE))<>P_20号3様式1!AV174,RIGHT(FIXED(P_20号3様式1!AV174,3,FALSE),4),\"\"),\"\"),\"\")","v":""},{"$f":"IF(P_20号3様式1!AW174<> \"\",IF(P_20号3様式1!AW174<> \"-\",TEXT(INT(P_20号3様式1!AW174),\"#,##0\"),\"-\"),\"\")","v":""},{"$f":"IF(P_20号3様式1!AW174<> \"\",IF(P_20号3様式1!AW174<> \"-\",IF(VALUE(FIXED(P_20号3様式1!AW174,0,TRUE))<>P_20号3様式1!AW174,RIGHT(FIXED(P_20号3様式1!AW174,3,FALSE),4),\"\"),\"\"),\"\")","v":""},{"$f":"IF(P_20号3様式1!AX174<> \"\",IF(P_20号3様式1!AX174<> \"-\",TEXT(INT(P_20号3様式1!AX174),\"#,##0\"),\"-\"),\"\")","v":""},{"$f":"IF(P_20号3様式1!AX174<> \"\",IF(P_20号3様式1!AX174<> \"-\",IF(VALUE(FIXED(P_20号3様式1!AX174,0,TRUE))<>P_20号3様式1!AX174,RIGHT(FIXED(P_20号3様式1!AX174,3,FALSE),4),\"\"),\"\"),\"\")","v":""},{"$f":"IF(P_20号3様式1!AY174<> \"\",IF(P_20号3様式1!AY174<> \"-\",TEXT(INT(P_20号3様式1!AY174),\"#,##0\"),\"-\"),\"\")","v":""},{"$f":"IF(P_20号3様式1!AY174<> \"\",IF(P_20号3様式1!AY174<> \"-\",IF(VALUE(FIXED(P_20号3様式1!AY174,0,TRUE))<>P_20号3様式1!AY174,RIGHT(FIXED(P_20号3様式1!AY174,3,FALSE),4),\"\"),\"\"),\"\")","v":""},{"$f":"IF(P_20号3様式1!AZ174<> \"\",IF(P_20号3様式1!AZ174<> \"-\",TEXT(INT(P_20号3様式1!AZ174),\"#,##0\"),\"-\"),\"\")","v":""},{"$f":"IF(P_20号3様式1!AZ174<> \"\",IF(P_20号3様式1!AZ174<> \"-\",IF(VALUE(FIXED(P_20号3様式1!AZ174,0,TRUE))<>P_20号3様式1!AZ174,RIGHT(FIXED(P_20号3様式1!AZ174,3,FALSE),4),\"\"),\"\"),\"\")","v":""},{"$f":"IF(P_20号3様式1!BA174<> \"\",IF(P_20号3様式1!BA174<> \"-\",TEXT(INT(P_20号3様式1!BA174),\"#,##0\"),\"-\"),\"\")","v":""},{"$f":"IF(P_20号3様式1!BA174<> \"\",IF(P_20号3様式1!BA174<> \"-\",IF(VALUE(FIXED(P_20号3様式1!BA174,0,TRUE))<>P_20号3様式1!BA174,RIGHT(FIXED(P_20号3様式1!BA174,3,FALSE),4),\"\"),\"\"),\"\")","v":""}]
["町村計　",{"$f":"IF(P_20号3様式1!BD174<> \"\",TEXT(INT(P_20号3様式1!BD174),\"#,##0\"),\"\")","v":"6"},{"$f":"IF(P_20号3様式1!BD174= \"\",\"\",IF(VALUE(FIXED(P_20号3様式1!BD174,0,TRUE))<>P_20号3様式1!BD174,RIGHT(FIXED(P_20号3様式1!BD174,3,FALSE),4),\"\"))","v":".000"},{"$f":"IF(P_20号3様式1!BE174<> \"\",IF(P_20号3様式1!BE174<> \"-\",TEXT(INT(P_20号3様式1!BE174),\"#,##0\"),\"-\"),\"\")","v":"6"},{"$f":"IF(P_20号3様式1!BE174<> \"\",IF(P_20号3様式1!BE174<> \"-\",IF(VALUE(FIXED(P_20号3様式1!BE174,0,TRUE))<>P_20号3様式1!BE174,RIGHT(FIXED(P_20号3様式1!BE174,3,FALSE),4),\"\"),\"\"),\"\")","v":".000"},{"$f":"IF(P_20号3様式1!BF174<> \"\",IF(P_20号3様式1!BF174<> \"-\",TEXT(INT(P_20号3様式1!BF174),\"#,##0\"),\"-\"),\"\")","v":""},{"$f":"IF(P_20号3様式1!BF174<> \"\",IF(P_20号3様式1!BF174<> \"-\",IF(VALUE(FIXED(P_20号3様式1!BF174,0,TRUE))<>P_20号3様式1!BF174,RIGHT(FIXED(P_20号3様式1!BF174,3,FALSE),4),\"\"),\"\"),\"\")","v":""},{"$f":"IF(P_20号3様式1!BG174<> \"\",IF(P_20号3様式1!BG174<> \"-\",TEXT(INT(P_20号3様式1!BG174),\"#,##0\"),\"-\"),\"\")","v":""},{"$f":"IF(P_20号3様式1!BG174<> \"\",IF(P_20号3様式1!BG174<> \"-\",IF(VALUE(FIXED(P_20号3様式1!BG174,0,TRUE))<>P_20号3様式1!BG174,RIGHT(FIXED(P_20号3様式1!BG174,3,FALSE),4),\"\"),\"\"),\"\")","v":""},{"$f":"IF(P_20号3様式1!BH174<> \"\",IF(P_20号3様式1!BH174<> \"-\",TEXT(INT(P_20号3様式1!BH174),\"#,##0\"),\"-\"),\"\")","v":""},{"$f":"IF(P_20号3様式1!BH174<> \"\",IF(P_20号3様式1!BH174<> \"-\",IF(VALUE(FIXED(P_20号3様式1!BH174,0,TRUE))<>P_20号3様式1!BH174,RIGHT(FIXED(P_20号3様式1!BH174,3,FALSE),4),\"\"),\"\"),\"\")","v":""},{"$f":"IF(P_20号3様式1!BI174<> \"\",IF(P_20号3様式1!BI174<> \"-\",TEXT(INT(P_20号3様式1!BI174),\"#,##0\"),\"-\"),\"\")","v":""},{"$f":"IF(P_20号3様式1!BI174<> \"\",IF(P_20号3様式1!BI174<> \"-\",IF(VALUE(FIXED(P_20号3様式1!BI174,0,TRUE))<>P_20号3様式1!BI174,RIGHT(FIXED(P_20号3様式1!BI174,3,FALSE),4),\"\"),\"\"),\"\")","v":""},{"$f":"IF(P_20号3様式1!BJ174<> \"\",IF(P_20号3様式1!BJ174<> \"-\",TEXT(INT(P_20号3様式1!BJ174),\"#,##0\"),\"-\"),\"\")","v":""},{"$f":"IF(P_20号3様式1!BJ174<> \"\",IF(P_20号3様式1!BJ174<> \"-\",IF(VALUE(FIXED(P_20号3様式1!BJ174,0,TRUE))<>P_20号3様式1!BJ174,RIGHT(FIXED(P_20号3様式1!BJ174,3,FALSE),4),\"\"),\"\"),\"\")","v":""},{"$f":"IF(P_20号3様式1!BK174<> \"\",IF(P_20号3様式1!BK174<> \"-\",TEXT(INT(P_20号3様式1!BK174),\"#,##0\"),\"-\"),\"\")","v":""},{"$f":"IF(P_20号3様式1!BK174<> \"\",IF(P_20号3様式1!BK174<> \"-\",IF(VALUE(FIXED(P_20号3様式1!BK174,0,TRUE))<>P_20号3様式1!BK174,RIGHT(FIXED(P_20号3様式1!BK174,3,FALSE),4),\"\"),\"\"),\"\")","v":""},{"$f":"IF(P_20号3様式1!BL174<> \"\",IF(P_20号3様式1!BL174<> \"-\",TEXT(INT(P_20号3様式1!BL174),\"#,##0\"),\"-\"),\"\")","v":""},{"$f":"IF(P_20号3様式1!BL174<> \"\",IF(P_20号3様式1!BL174<> \"-\",IF(VALUE(FIXED(P_20号3様式1!BL174,0,TRUE))<>P_20号3様式1!BL174,RIGHT(FIXED(P_20号3様式1!BL174,3,FALSE),4),\"\"),\"\"),\"\")","v":""}]
["県             計",{"$f":"IF(P_20号3様式1!BO174<> \"\",TEXT(INT(P_20号3様式1!BO174),\"#,##0\"),\"\")","v":"91"},{"$f":"IF(P_20号3様式1!BO174= \"\",\"\",IF(VALUE(FIXED(P_20号3様式1!BO174,0,TRUE))<>P_20号3様式1!BO174,RIGHT(FIXED(P_20号3様式1!BO174,3,FALSE),4),\"\"))","v":".589"},{"$f":"IF(P_20号3様式1!BP174<> \"\",IF(P_20号3様式1!BP174<> \"-\",TEXT(INT(P_20号3様式1!BP174),\"#,##0\"),\"-\"),\"\")","v":"91"},{"$f":"IF(P_20号3様式1!BP174<> \"\",IF(P_20号3様式1!BP174<> \"-\",IF(VALUE(FIXED(P_20号3様式1!BP174,0,TRUE))<>P_20号3様式1!BP174,RIGHT(FIXED(P_20号3様式1!BP174,3,FALSE),4),\"\"),\"\"),\"\")","v":".589"},{"$f":"IF(P_20号3様式1!BQ174<> \"\",IF(P_20号3様式1!BQ174<> \"-\",TEXT(INT(P_20号3様式1!BQ174),\"#,##0\"),\"-\"),\"\")","v":""},{"$f":"IF(P_20号3様式1!BQ174<> \"\",IF(P_20号3様式1!BQ174<> \"-\",IF(VALUE(FIXED(P_20号3様式1!BQ174,0,TRUE))<>P_20号3様式1!BQ174,RIGHT(FIXED(P_20号3様式1!BQ174,3,FALSE),4),\"\"),\"\"),\"\")","v":""},{"$f":"IF(P_20号3様式1!BR174<> \"\",IF(P_20号3様式1!BR174<> \"-\",TEXT(INT(P_20号3様式1!BR174),\"#,##0\"),\"-\"),\"\")","v":""},{"$f":"IF(P_20号3様式1!BR174<> \"\",IF(P_20号3様式1!BR174<> \"-\",IF(VALUE(FIXED(P_20号3様式1!BR174,0,TRUE))<>P_20号3様式1!BR174,RIGHT(FIXED(P_20号3様式1!BR174,3,FALSE),4),\"\"),\"\"),\"\")","v":""},{"$f":"IF(P_20号3様式1!BS174<> \"\",IF(P_20号3様式1!BS174<> \"-\",TEXT(INT(P_20号3様式1!BS174),\"#,##0\"),\"-\"),\"\")","v":""},{"$f":"IF(P_20号3様式1!BS174<> \"\",IF(P_20号3様式1!BS174<> \"-\",IF(VALUE(FIXED(P_20号3様式1!BS174,0,TRUE))<>P_20号3様式1!BS174,RIGHT(FIXED(P_20号3様式1!BS174,3,FALSE),4),\"\"),\"\"),\"\")","v":""},{"$f":"IF(P_20号3様式1!BT174<> \"\",IF(P_20号3様式1!BT174<> \"-\",TEXT(INT(P_20号3様式1!BT174),\"#,##0\"),\"-\"),\"\")","v":""},{"$f":"IF(P_20号3様式1!BT174<> \"\",IF(P_20号3様式1!BT174<> \"-\",IF(VALUE(FIXED(P_20号3様式1!BT174,0,TRUE))<>P_20号3様式1!BT174,RIGHT(FIXED(P_20号3様式1!BT174,3,FALSE),4),\"\"),\"\"),\"\")","v":""},{"$f":"IF(P_20号3様式1!BU174<> \"\",IF(P_20号3様式1!BU174<> \"-\",TEXT(INT(P_20号3様式1!BU174),\"#,##0\"),\"-\"),\"\")","v":""},{"$f":"IF(P_20号3様式1!BU174<> \"\",IF(P_20号3様式1!BU174<> \"-\",IF(VALUE(FIXED(P_20号3様式1!BU174,0,TRUE))<>P_20号3様式1!BU174,RIGHT(FIXED(P_20号3様式1!BU174,3,FALSE),4),\"\"),\"\"),\"\")","v":""},{"$f":"IF(P_20号3様式1!BV174<> \"\",IF(P_20号3様式1!BV174<> \"-\",TEXT(INT(P_20号3様式1!BV174),\"#,##0\"),\"-\"),\"\")","v":""},{"$f":"IF(P_20号3様式1!BV174<> \"\",IF(P_20号3様式1!BV174<> \"-\",IF(VALUE(FIXED(P_20号3様式1!BV174,0,TRUE))<>P_20号3様式1!BV174,RIGHT(FIXED(P_20号3様式1!BV174,3,FALSE),4),\"\"),\"\"),\"\")","v":""},{"$f":"IF(P_20号3様式1!BW174<> \"\",IF(P_20号3様式1!BW174<> \"-\",TEXT(INT(P_20号3様式1!BW174),\"#,##0\"),\"-\"),\"\")","v":""},{"$f":"IF(P_20号3様式1!BW174<> \"\",IF(P_20号3様式1!BW174<> \"-\",IF(VALUE(FIXED(P_20号3様式1!BW174,0,TRUE))<>P_20号3様式1!BW174,RIGHT(FIXED(P_20号3様式1!BW174,3,FALSE),4),\"\"),\"\"),\"\")","v":""}]
["第20号の3様式",{"$f":"+B$1","v":"「政党等得票数」のうち、公選法第６８条の３の規定により政党等の有効投票とみなされた投票の状況"},null,null,null,"開　票　速　報",null,null,null,null,null,null,null,null,null,null,null,{"$f":"P_20号3様式1!A217","v":6}]
[null,null,null,null,null,null,null,null,null,null,null,null,null,null,null,null,null,"鹿 児 島 県"]
[{"$f":"IF(パラメタシート!B1=\"\",\"\",パラメタシート!B1)","v":"2019-07-21"},null,null,null,null,null,null,null,null,null,null,{"$f":"IF(P_20号3様式1!BY217=\"0\",\"即日 開票　　中間報告\",\"翌日 開票　　中間報告\")","v":"即日 開票　　中間報告"},null,null,null,{"$f":" IF(P_20号3様式1!BZ217=\"\",\"時　　    分        \",P_20号3様式1!BZ217)","v":"時　　    分        "}]
[{"$f":"IF(P_20号3様式1!BX217=\"\",\"\",\"     　　\" & P_20号3様式1!BX217)","v":"     　　参議院比例代表選出議員選挙"},null,null,null,null,null,null,null,null,null,null,"開票　　結了報告",null,null,null,{"$f":" IF(P_20号3様式1!CA217=\"\",\"時　　    分        \",P_20号3様式1!CA217)","v":"02:55:00"}]
["市 区 町 村 名",{"$f":"IF(P_20号3様式1!AB217 = \"\", \"\", P_20号3様式1!AB217)","v":"れいわ新選組"},null,{"$f":"IF(P_20号3様式1!D217 = \"\", \"\", P_20号3様式1!D217)","v":"01"},null,{"$f":"IF(P_20号3様式1!G217 = \"\", \"\", P_20号3様式1!G217)","v":"02"},null,{"$f":"IF(P_20号3様式1!J217 = \"\", \"\", P_20号3様式1!J217)","v":""},null,{"$f":"IF(P_20号3様式1!M217 = \"\", \"\", P_20号3様式1!M217)","v":""},null,{"$f":"IF(P_20号3様式1!P217 = \"\", \"\", P_20号3様式1!P217)","v":""},null,{"$f":"IF(P_20号3様式1!S217 = \"\", \"\", P_20号3様式1!S217)","v":""},null,{"$f":"IF(P_20号3様式1!V217 = \"\", \"\", P_20号3様式1!V217)","v":""},null,{"$f":"IF(P_20号3様式1!Y217 = \"\", \"\", P_20号3様式1!Y217)","v":""}]
[null,{"$f":"+B$6","v":"特定枠名簿登録者\nへの投票総数"},null,{"$f":"IF(P_20号3様式1!E217 = \"\", \"\", P_20号3様式1!E217)","v":"ふなご　やすひこ"},null,{"$f":"IF(P_20号3様式1!H217 = \"\", \"\", P_20号3様式1!H217)","v":"木村　英子"},null,{"$f":"IF(P_20号3様式1!K217 = \"\", \"\", P_20号3様式1!K217)","v":""},null,{"$f":"IF(P_20号3様式1!N217 = \"\", \"\", P_20号3様式1!N217)","v":""},null,{"$f":"IF(P_20号3様式1!Q217 = \"\", \"\", P_20号3様式1!Q217)","v":""},null,{"$f":"IF(P_20号3様式1!T217 = \"\", \"\", P_20号3様式1!T217)","v":""},null,{"$f":"IF(P_20号3様式1!W217 = \"\", \"\", P_20号3様式1!W217)","v":""},null,{"$f":"IF(P_20号3様式1!Z217 = \"\", \"\", P_20号3様式1!Z217)","v":""}]
[{"$f":"IF(P_20号3様式1!C217=\"\",\"\",P_20号3様式1!C217)","v":"宇検村"},{"$f":"IF(P_20号3様式1!AE217<> \"\",TEXT(INT(P_20号3様式1!AE217),\"#,##0\"),\"\")","v":"0"},{"$f":"IF(P_20号3様式1!AE217= \"\",\"\",IF(VALUE(FIXED(P_20号3様式1!AE217,0,TRUE))<>P_20号3様式1!AE217,RIGHT(FIXED(P_20号3様式1!AE217,3,FALSE),4),\"\"))","v":".000"},{"$f":"IF(P_20号3様式1!F217<> \"\",IF(P_20号3様式1!F217<> \"-\",TEXT(INT(P_20号3様式1!F217),\"#,##0\"),\"-\"),\"\")","v":"0"},{"$f":"IF(P_20号3様式1!F217<> \"\",IF(P_20号3様式1!F217<> \"-\",IF(VALUE(FIXED(P_20号3様式1!F217,0,TRUE))<>P_20号3様式1!F217,RIGHT(FIXED(P_20号3様式1!F217,3,FALSE),4),\"\"),\"\"),\"\")","v":".000"},{"$f":"IF(P_20号3様式1!I217<> \"\",IF(P_20号3様式1!I217<> \"-\",TEXT(INT(P_20号3様式1!I217),\"#,##0\"),\"-\"),\"\")","v":"0"},{"$f":"IF(P_20号3様式1!I217<> \"\",IF(P_20号3様式1!I217<> \"-\",IF(VALUE(FIXED(P_20号3様式1!I217,0,TRUE))<>P_20号3様式1!I217,RIGHT(FIXED(P_20号3様式1!I217,3,FALSE),4),\"\"),\"\"),\"\")","v":".000"},{"$f":"IF(P_20号3様式1!L217<> \"\",IF(P_20号3様式1!L217<> \"-\",TEXT(INT(P_20号3様式1!L217),\"#,##0\"),\"-\"),\"\")","v":""},{"$f":"IF(P_20号3様式1!L217<> \"\",IF(P_20号3様式1!L217<> \"-\",IF(VALUE(FIXED(P_20号3様式1!L217,0,TRUE))<>P_20号3様式1!L217,RIGHT(FIXED(P_20号3様式1!L217,3,FALSE),4),\"\"),\"\"),\"\")","v":""},{"$f":"IF(P_20号3様式1!O217<> \"\",IF(P_20号3様式1!O217<> \"-\",TEXT(INT(P_20号3様式1!O217),\"#,##0\"),\"-\"),\"\")","v":""},{"$f":"IF(P_20号3様式1!O217<> \"\",IF(P_20号3様式1!O217<> \"-\",IF(VALUE(FIXED(P_20号3様式1!O217,0,TRUE))<>P_20号3様式1!O217,RIGHT(FIXED(P_20号3様式1!O217,3,FALSE),4),\"\"),\"\"),\"\")","v":""},{"$f":"IF(P_20号3様式1!R217<> \"\",IF(P_20号3様式1!R217<> \"-\",TEXT(INT(P_20号3様式1!R217),\"#,##0\"),\"-\"),\"\")","v":""},{"$f":"IF(P_20号3様式1!R217<> \"\",IF(P_20号3様式1!R217<> \"-\",IF(VALUE(FIXED(P_20号3様式1!R217,0,TRUE))<>P_20号3様式1!R217,RIGHT(FIXED(P_20号3様式1!R217,3,FALSE),4),\"\"),\"\"),\"\")","v":""},{"$f":"IF(P_20号3様式1!U217<> \"\",IF(P_20号3様式1!U217<> \"-\",TEXT(INT(P_20号3様式1!U217),\"#,##0\"),\"-\"),\"\")","v":""},{"$f":"IF(P_20号3様式1!U217<> \"\",IF(P_20号3様式1!U217<> \"-\",IF(VALUE(FIXED(P_20号3様式1!U217,0,TRUE))<>P_20号3様式1!U217,RIGHT(FIXED(P_20号3様式1!U217,3,FALSE),4),\"\"),\"\"),\"\")","v":""},{"$f":"IF(P_20号3様式1!X217<> \"\",IF(P_20号3様式1!X217<> \"-\",TEXT(INT(P_20号3様式1!X217),\"#,##0\"),\"-\"),\"\")","v":""},{"$f":"IF(P_20号3様式1!X217<> \"\",IF(P_20号3様式1!X217<> \"-\",IF(VALUE(FIXED(P_20号3様式1!X217,0,TRUE))<>P_20号3様式1!X217,RIGHT(FIXED(P_20号3様式1!X217,3,FALSE),4),\"\"),\"\"),\"\")","v":""},{"$f":"IF(P_20号3様式1!AA217<> \"\",IF(P_20号3様式1!AA217<> \"-\",TEXT(INT(P_20号3様式1!AA217),\"#,##0\"),\"-\"),\"\")","v":""},{"$f":"IF(P_20号3様式1!AA217<> \"\",IF(P_20号3様式1!AA217<> \"-\",IF(VALUE(FIXED(P_20号3様式1!AA217,0,TRUE))<>P_20号3様式1!AA217,RIGHT(FIXED(P_20号3様式1!AA217,3,FALSE),4),\"\"),\"\"),\"\")","v":""}]
[{"$f":"IF(P_20号3様式1!C218=\"\",\"\",P_20号3様式1!C218)","v":"瀬戸内町"},{"$f":"IF(P_20号3様式1!AE218<> \"\",TEXT(INT(P_20号3様式1!AE218),\"#,##0\"),\"\")","v":"3"},{"$f":"IF(P_20号3様式1!AE218= \"\",\"\",IF(VALUE(FIXED(P_20号3様式1!AE218,0,TRUE))<>P_20号3様式1!AE218,RIGHT(FIXED(P_20号3様式1!AE218,3,FALSE),4),\"\"))","v":".000"},{"$f":"IF(P_20号3様式1!F218<> \"\",IF(P_20号3様式1!F218<> \"-\",TEXT(INT(P_20号3様式1!F218),\"#,##0\"),\"-\"),\"\")","v":"0"},{"$f":"IF(P_20号3様式1!F218<> \"\",IF(P_20号3様式1!F218<> \"-\",IF(VALUE(FIXED(P_20号3様式1!F218,0,TRUE))<>P_20号3様式1!F218,RIGHT(FIXED(P_20号3様式1!F218,3,FALSE),4),\"\"),\"\"),\"\")","v":".000"},{"$f":"IF(P_20号3様式1!I218<> \"\",IF(P_20号3様式1!I218<> \"-\",TEXT(INT(P_20号3様式1!I218),\"#,##0\"),\"-\"),\"\")","v":"3"},{"$f":"IF(P_20号3様式1!I218<> \"\",IF(P_20号3様式1!I218<> \"-\",IF(VALUE(FIXED(P_20号3様式1!I218,0,TRUE))<>P_20号3様式1!I218,RIGHT(FIXED(P_20号3様式1!I218,3,FALSE),4),\"\"),\"\"),\"\")","v":".000"},{"$f":"IF(P_20号3様式1!L218<> \"\",IF(P_20号3様式1!L218<> \"-\",TEXT(INT(P_20号3様式1!L218),\"#,##0\"),\"-\"),\"\")","v":""},{"$f":"IF(P_20号3様式1!L218<> \"\",IF(P_20号3様式1!L218<> \"-\",IF(VALUE(FIXED(P_20号3様式1!L218,0,TRUE))<>P_20号3様式1!L218,RIGHT(FIXED(P_20号3様式1!L218,3,FALSE),4),\"\"),\"\"),\"\")","v":""},{"$f":"IF(P_20号3様式1!O218<> \"\",IF(P_20号3様式1!O218<> \"-\",TEXT(INT(P_20号3様式1!O218),\"#,##0\"),\"-\"),\"\")","v":""},{"$f":"IF(P_20号3様式1!O218<> \"\",IF(P_20号3様式1!O218<> \"-\",IF(VALUE(FIXED(P_20号3様式1!O218,0,TRUE))<>P_20号3様式1!O218,RIGHT(FIXED(P_20号3様式1!O218,3,FALSE),4),\"\"),\"\"),\"\")","v":""},{"$f":"IF(P_20号3様式1!R218<> \"\",IF(P_20号3様式1!R218<> \"-\",TEXT(INT(P_20号3様式1!R218),\"#,##0\"),\"-\"),\"\")","v":""},{"$f":"IF(P_20号3様式1!R218<> \"\",IF(P_20号3様式1!R218<> \"-\",IF(VALUE(FIXED(P_20号3様式1!R218,0,TRUE))<>P_20号3様式1!R218,RIGHT(FIXED(P_20号3様式1!R218,3,FALSE),4),\"\"),\"\"),\"\")","v":""},{"$f":"IF(P_20号3様式1!U218<> \"\",IF(P_20号3様式1!U218<> \"-\",TEXT(INT(P_20号3様式1!U218),\"#,##0\"),\"-\"),\"\")","v":""},{"$f":"IF(P_20号3様式1!U218<> \"\",IF(P_20号3様式1!U218<> \"-\",IF(VALUE(FIXED(P_20号3様式1!U218,0,TRUE))<>P_20号3様式1!U218,RIGHT(FIXED(P_20号3様式1!U218,3,FALSE),4),\"\"),\"\"),\"\")","v":""},{"$f":"IF(P_20号3様式1!X218<> \"\",IF(P_20号3様式1!X218<> \"-\",TEXT(INT(P_20号3様式1!X218),\"#,##0\"),\"-\"),\"\")","v":""},{"$f":"IF(P_20号3様式1!X218<> \"\",IF(P_20号3様式1!X218<> \"-\",IF(VALUE(FIXED(P_20号3様式1!X218,0,TRUE))<>P_20号3様式1!X218,RIGHT(FIXED(P_20号3様式1!X218,3,FALSE),4),\"\"),\"\"),\"\")","v":""},{"$f":"IF(P_20号3様式1!AA218<> \"\",IF(P_20号3様式1!AA218<> \"-\",TEXT(INT(P_20号3様式1!AA218),\"#,##0\"),\"-\"),\"\")","v":""},{"$f":"IF(P_20号3様式1!AA218<> \"\",IF(P_20号3様式1!AA218<> \"-\",IF(VALUE(FIXED(P_20号3様式1!AA218,0,TRUE))<>P_20号3様式1!AA218,RIGHT(FIXED(P_20号3様式1!AA218,3,FALSE),4),\"\"),\"\"),\"\")","v":""}]
[{"$f":"IF(P_20号3様式1!C219=\"\",\"\",P_20号3様式1!C219)","v":"龍郷町"},{"$f":"IF(P_20号3様式1!AE219<> \"\",TEXT(INT(P_20号3様式1!AE219),\"#,##0\"),\"\")","v":"1"},{"$f":"IF(P_20号3様式1!AE219= \"\",\"\",IF(VALUE(FIXED(P_20号3様式1!AE219,0,TRUE))<>P_20号3様式1!AE219,RIGHT(FIXED(P_20号3様式1!AE219,3,FALSE),4),\"\"))","v":".000"},{"$f":"IF(P_20号3様式1!F219<> \"\",IF(P_20号3様式1!F219<> \"-\",TEXT(INT(P_20号3様式1!F219),\"#,##0\"),\"-\"),\"\")","v":"0"},{"$f":"IF(P_20号3様式1!F219<> \"\",IF(P_20号3様式1!F219<> \"-\",IF(VALUE(FIXED(P_20号3様式1!F219,0,TRUE))<>P_20号3様式1!F219,RIGHT(FIXED(P_20号3様式1!F219,3,FALSE),4),\"\"),\"\"),\"\")","v":".000"},{"$f":"IF(P_20号3様式1!I219<> \"\",IF(P_20号3様式1!I219<> \"-\",TEXT(INT(P_20号3様式1!I219),\"#,##0\"),\"-\"),\"\")","v":"1"},{"$f":"IF(P_20号3様式1!I219<> \"\",IF(P_20号3様式1!I219<> \"-\",IF(VALUE(FIXED(P_20号3様式1!I219,0,TRUE))<>P_20号3様式1!I219,RIGHT(FIXED(P_20号3様式1!I219,3,FALSE),4),\"\"),\"\"),\"\")","v":".000"},{"$f":"IF(P_20号3様式1!L219<> \"\",IF(P_20号3様式1!L219<> \"-\",TEXT(INT(P_20号3様式1!L219),\"#,##0\"),\"-\"),\"\")","v":""},{"$f":"IF(P_20号3様式1!L219<> \"\",IF(P_20号3様式1!L219<> \"-\",IF(VALUE(FIXED(P_20号3様式1!L219,0,TRUE))<>P_20号3様式1!L219,RIGHT(FIXED(P_20号3様式1!L219,3,FALSE),4),\"\"),\"\"),\"\")","v":""},{"$f":"IF(P_20号3様式1!O219<> \"\",IF(P_20号3様式1!O219<> \"-\",TEXT(INT(P_20号3様式1!O219),\"#,##0\"),\"-\"),\"\")","v":""},{"$f":"IF(P_20号3様式1!O219<> \"\",IF(P_20号3様式1!O219<> \"-\",IF(VALUE(FIXED(P_20号3様式1!O219,0,TRUE))<>P_20号3様式1!O219,RIGHT(FIXED(P_20号3様式1!O219,3,FALSE),4),\"\"),\"\"),\"\")","v":""},{"$f":"IF(P_20号3様式1!R219<> \"\",IF(P_20号3様式1!R219<> \"-\",TEXT(INT(P_20号3様式1!R219),\"#,##0\"),\"-\"),\"\")","v":""},{"$f":"IF(P_20号3様式1!R219<> \"\",IF(P_20号3様式1!R219<> \"-\",IF(VALUE(FIXED(P_20号3様式1!R219,0,TRUE))<>P_20号3様式1!R219,RIGHT(FIXED(P_20号3様式1!R219,3,FALSE),4),\"\"),\"\"),\"\")","v":""},{"$f":"IF(P_20号3様式1!U219<> \"\",IF(P_20号3様式1!U219<> \"-\",TEXT(INT(P_20号3様式1!U219),\"#,##0\"),\"-\"),\"\")","v":""},{"$f":"IF(P_20号3様式1!U219<> \"\",IF(P_20号3様式1!U219<> \"-\",IF(VALUE(FIXED(P_20号3様式1!U219,0,TRUE))<>P_20号3様式1!U219,RIGHT(FIXED(P_20号3様式1!U219,3,FALSE),4),\"\"),\"\"),\"\")","v":""},{"$f":"IF(P_20号3様式1!X219<> \"\",IF(P_20号3様式1!X219<> \"-\",TEXT(INT(P_20号3様式1!X219),\"#,##0\"),\"-\"),\"\")","v":""},{"$f":"IF(P_20号3様式1!X219<> \"\",IF(P_20号3様式1!X219<> \"-\",IF(VALUE(FIXED(P_20号3様式1!X219,0,TRUE))<>P_20号3様式1!X219,RIGHT(FIXED(P_20号3様式1!X219,3,FALSE),4),\"\"),\"\"),\"\")","v":""},{"$f":"IF(P_20号3様式1!AA219<> \"\",IF(P_20号3様式1!AA219<> \"-\",TEXT(INT(P_20号3様式1!AA219),\"#,##0\"),\"-\"),\"\")","v":""},{"$f":"IF(P_20号3様式1!AA219<> \"\",IF(P_20号3様式1!AA219<> \"-\",IF(VALUE(FIXED(P_20号3様式1!AA219,0,TRUE))<>P_20号3様式1!AA219,RIGHT(FIXED(P_20号3様式1!AA219,3,FALSE),4),\"\"),\"\"),\"\")","v":""}]
[{"$f":"IF(P_20号3様式1!C220=\"\",\"\",P_20号3様式1!C220)","v":"喜界町"},{"$f":"IF(P_20号3様式1!AE220<> \"\",TEXT(INT(P_20号3様式1!AE220),\"#,##0\"),\"\")","v":"1"},{"$f":"IF(P_20号3様式1!AE220= \"\",\"\",IF(VALUE(FIXED(P_20号3様式1!AE220,0,TRUE))<>P_20号3様式1!AE220,RIGHT(FIXED(P_20号3様式1!AE220,3,FALSE),4),\"\"))","v":".500"},{"$f":"IF(P_20号3様式1!F220<> \"\",IF(P_20号3様式1!F220<> \"-\",TEXT(INT(P_20号3様式1!F220),\"#,##0\"),\"-\"),\"\")","v":"0"},{"$f":"IF(P_20号3様式1!F220<> \"\",IF(P_20号3様式1!F220<> \"-\",IF(VALUE(FIXED(P_20号3様式1!F220,0,TRUE))<>P_20号3様式1!F220,RIGHT(FIXED(P_20号3様式1!F220,3,FALSE),4),\"\"),\"\"),\"\")","v":".000"},{"$f":"IF(P_20号3様式1!I220<> \"\",IF(P_20号3様式1!I220<> \"-\",TEXT(INT(P_20号3様式1!I220),\"#,##0\"),\"-\"),\"\")","v":"1"},{"$f":"IF(P_20号3様式1!I220<> \"\",IF(P_20号3様式1!I220<> \"-\",IF(VALUE(FIXED(P_20号3様式1!I220,0,TRUE))<>P_20号3様式1!I220,RIGHT(FIXED(P_20号3様式1!I220,3,FALSE),4),\"\"),\"\"),\"\")","v":".500"},{"$f":"IF(P_20号3様式1!L220<> \"\",IF(P_20号3様式1!L220<> \"-\",TEXT(INT(P_20号3様式1!L220),\"#,##0\"),\"-\"),\"\")","v":""},{"$f":"IF(P_20号3様式1!L220<> \"\",IF(P_20号3様式1!L220<> \"-\",IF(VALUE(FIXED(P_20号3様式1!L220,0,TRUE))<>P_20号3様式1!L220,RIGHT(FIXED(P_20号3様式1!L220,3,FALSE),4),\"\"),\"\"),\"\")","v":""},{"$f":"IF(P_20号3様式1!O220<> \"\",IF(P_20号3様式1!O220<> \"-\",TEXT(INT(P_20号3様式1!O220),\"#,##0\"),\"-\"),\"\")","v":""},{"$f":"IF(P_20号3様式1!O220<> \"\",IF(P_20号3様式1!O220<> \"-\",IF(VALUE(FIXED(P_20号3様式1!O220,0,TRUE))<>P_20号3様式1!O220,RIGHT(FIXED(P_20号3様式1!O220,3,FALSE),4),\"\"),\"\"),\"\")","v":""},{"$f":"IF(P_20号3様式1!R220<> \"\",IF(P_20号3様式1!R220<> \"-\",TEXT(INT(P_20号3様式1!R220),\"#,##0\"),\"-\"),\"\")","v":""},{"$f":"IF(P_20号3様式1!R220<> \"\",IF(P_20号3様式1!R220<> \"-\",IF(VALUE(FIXED(P_20号3様式1!R220,0,TRUE))<>P_20号3様式1!R220,RIGHT(FIXED(P_20号3様式1!R220,3,FALSE),4),\"\"),\"\"),\"\")","v":""},{"$f":"IF(P_20号3様式1!U220<> \"\",IF(P_20号3様式1!U220<> \"-\",TEXT(INT(P_20号3様式1!U220),\"#,##0\"),\"-\"),\"\")","v":""},{"$f":"IF(P_20号3様式1!U220<> \"\",IF(P_20号3様式1!U220<> \"-\",IF(VALUE(FIXED(P_20号3様式1!U220,0,TRUE))<>P_20号3様式1!U220,RIGHT(FIXED(P_20号3様式1!U220,3,FALSE),4),\"\"),\"\"),\"\")","v":""},{"$f":"IF(P_20号3様式1!X220<> \"\",IF(P_20号3様式1!X220<> \"-\",TEXT(INT(P_20号3様式1!X220),\"#,##0\"),\"-\"),\"\")","v":""},{"$f":"IF(P_20号3様式1!X220<> \"\",IF(P_20号3様式1!X220<> \"-\",IF(VALUE(FIXED(P_20号3様式1!X220,0,TRUE))<>P_20号3様式1!X220,RIGHT(FIXED(P_20号3様式1!X220,3,FALSE),4),\"\"),\"\"),\"\")","v":""},{"$f":"IF(P_20号3様式1!AA220<> \"\",IF(P_20号3様式1!AA220<> \"-\",TEXT(INT(P_20号3様式1!AA220),\"#,##0\"),\"-\"),\"\")","v":""},{"$f":"IF(P_20号3様式1!AA220<> \"\",IF(P_20号3様式1!AA220<> \"-\",IF(VALUE(FIXED(P_20号3様式1!AA220,0,TRUE))<>P_20号3様式1!AA220,RIGHT(FIXED(P_20号3様式1!AA220,3,FALSE),4),\"\"),\"\"),\"\")","v":""}]
[{"$f":"IF(P_20号3様式1!C221=\"\",\"\",P_20号3様式1!C221)","v":"徳之島町"},{"$f":"IF(P_20号3様式1!AE221<> \"\",TEXT(INT(P_20号3様式1!AE221),\"#,##0\"),\"\")","v":"0"},{"$f":"IF(P_20号3様式1!AE221= \"\",\"\",IF(VALUE(FIXED(P_20号3様式1!AE221,0,TRUE))<>P_20号3様式1!AE221,RIGHT(FIXED(P_20号3様式1!AE221,3,FALSE),4),\"\"))","v":".000"},{"$f":"IF(P_20号3様式1!F221<> \"\",IF(P_20号3様式1!F221<> \"-\",TEXT(INT(P_20号3様式1!F221),\"#,##0\"),\"-\"),\"\")","v":"0"},{"$f":"IF(P_20号3様式1!F221<> \"\",IF(P_20号3様式1!F221<> \"-\",IF(VALUE(FIXED(P_20号3様式1!F221,0,TRUE))<>P_20号3様式1!F221,RIGHT(FIXED(P_20号3様式1!F221,3,FALSE),4),\"\"),\"\"),\"\")","v":".000"},{"$f":"IF(P_20号3様式1!I221<> \"\",IF(P_20号3様式1!I221<> \"-\",TEXT(INT(P_20号3様式1!I221),\"#,##0\"),\"-\"),\"\")","v":"0"},{"$f":"IF(P_20号3様式1!I221<> \"\",IF(P_20号3様式1!I221<> \"-\",IF(VALUE(FIXED(P_20号3様式1!I221,0,TRUE))<>P_20号3様式1!I221,RIGHT(FIXED(P_20号3様式1!I221,3,FALSE),4),\"\"),\"\"),\"\")","v":".000"},{"$f":"IF(P_20号3様式1!L221<> \"\",IF(P_20号3様式1!L221<> \"-\",TEXT(INT(P_20号3様式1!L221),\"#,##0\"),\"-\"),\"\")","v":""},{"$f":"IF(P_20号3様式1!L221<> \"\",IF(P_20号3様式1!L221<> \"-\",IF(VALUE(FIXED(P_20号3様式1!L221,0,TRUE))<>P_20号3様式1!L221,RIGHT(FIXED(P_20号3様式1!L221,3,FALSE),4),\"\"),\"\"),\"\")","v":""},{"$f":"IF(P_20号3様式1!O221<> \"\",IF(P_20号3様式1!O221<> \"-\",TEXT(INT(P_20号3様式1!O221),\"#,##0\"),\"-\"),\"\")","v":""},{"$f":"IF(P_20号3様式1!O221<> \"\",IF(P_20号3様式1!O221<> \"-\",IF(VALUE(FIXED(P_20号3様式1!O221,0,TRUE))<>P_20号3様式1!O221,RIGHT(FIXED(P_20号3様式1!O221,3,FALSE),4),\"\"),\"\"),\"\")","v":""},{"$f":"IF(P_20号3様式1!R221<> \"\",IF(P_20号3様式1!R221<> \"-\",TEXT(INT(P_20号3様式1!R221),\"#,##0\"),\"-\"),\"\")","v":""},{"$f":"IF(P_20号3様式1!R221<> \"\",IF(P_20号3様式1!R221<> \"-\",IF(VALUE(FIXED(P_20号3様式1!R221,0,TRUE))<>P_20号3様式1!R221,RIGHT(FIXED(P_20号3様式1!R221,3,FALSE),4),\"\"),\"\"),\"\")","v":""},{"$f":"IF(P_20号3様式1!U221<> \"\",IF(P_20号3様式1!U221<> \"-\",TEXT(INT(P_20号3様式1!U221),\"#,##0\"),\"-\"),\"\")","v":""},{"$f":"IF(P_20号3様式1!U221<> \"\",IF(P_20号3様式1!U221<> \"-\",IF(VALUE(FIXED(P_20号3様式1!U221,0,TRUE))<>P_20号3様式1!U221,RIGHT(FIXED(P_20号3様式1!U221,3,FALSE),4),\"\"),\"\"),\"\")","v":""},{"$f":"IF(P_20号3様式1!X221<> \"\",IF(P_20号3様式1!X221<> \"-\",TEXT(INT(P_20号3様式1!X221),\"#,##0\"),\"-\"),\"\")","v":""},{"$f":"IF(P_20号3様式1!X221<> \"\",IF(P_20号3様式1!X221<> \"-\",IF(VALUE(FIXED(P_20号3様式1!X221,0,TRUE))<>P_20号3様式1!X221,RIGHT(FIXED(P_20号3様式1!X221,3,FALSE),4),\"\"),\"\"),\"\")","v":""},{"$f":"IF(P_20号3様式1!AA221<> \"\",IF(P_20号3様式1!AA221<> \"-\",TEXT(INT(P_20号3様式1!AA221),\"#,##0\"),\"-\"),\"\")","v":""},{"$f":"IF(P_20号3様式1!AA221<> \"\",IF(P_20号3様式1!AA221<> \"-\",IF(VALUE(FIXED(P_20号3様式1!AA221,0,TRUE))<>P_20号3様式1!AA221,RIGHT(FIXED(P_20号3様式1!AA221,3,FALSE),4),\"\"),\"\"),\"\")","v":""}]
[{"$f":"IF(P_20号3様式1!C222=\"\",\"\",P_20号3様式1!C222)","v":"天城町"},{"$f":"IF(P_20号3様式1!AE222<> \"\",TEXT(INT(P_20号3様式1!AE222),\"#,##0\"),\"\")","v":"0"},{"$f":"IF(P_20号3様式1!AE222= \"\",\"\",IF(VALUE(FIXED(P_20号3様式1!AE222,0,TRUE))<>P_20号3様式1!AE222,RIGHT(FIXED(P_20号3様式1!AE222,3,FALSE),4),\"\"))","v":".000"},{"$f":"IF(P_20号3様式1!F222<> \"\",IF(P_20号3様式1!F222<> \"-\",TEXT(INT(P_20号3様式1!F222),\"#,##0\"),\"-\"),\"\")","v":"0"},{"$f":"IF(P_20号3様式1!F222<> \"\",IF(P_20号3様式1!F222<> \"-\",IF(VALUE(FIXED(P_20号3様式1!F222,0,TRUE))<>P_20号3様式1!F222,RIGHT(FIXED(P_20号3様式1!F222,3,FALSE),4),\"\"),\"\"),\"\")","v":".000"},{"$f":"IF(P_20号3様式1!I222<> \"\",IF(P_20号3様式1!I222<> \"-\",TEXT(INT(P_20号3様式1!I222),\"#,##0\"),\"-\"),\"\")","v":"0"},{"$f":"IF(P_20号3様式1!I222<> \"\",IF(P_20号3様式1!I222<> \"-\",IF(VALUE(FIXED(P_20号3様式1!I222,0,TRUE))<>P_20号3様式1!I222,RIGHT(FIXED(P_20号3様式1!I222,3,FALSE),4),\"\"),\"\"),\"\")","v":".000"},{"$f":"IF(P_20号3様式1!L222<> \"\",IF(P_20号3様式1!L222<> \"-\",TEXT(INT(P_20号3様式1!L222),\"#,##0\"),\"-\"),\"\")","v":""},{"$f":"IF(P_20号3様式1!L222<> \"\",IF(P_20号3様式1!L222<> \"-\",IF(VALUE(FIXED(P_20号3様式1!L222,0,TRUE))<>P_20号3様式1!L222,RIGHT(FIXED(P_20号3様式1!L222,3,FALSE),4),\"\"),\"\"),\"\")","v":""},{"$f":"IF(P_20号3様式1!O222<> \"\",IF(P_20号3様式1!O222<> \"-\",TEXT(INT(P_20号3様式1!O222),\"#,##0\"),\"-\"),\"\")","v":""},{"$f":"IF(P_20号3様式1!O222<> \"\",IF(P_20号3様式1!O222<> \"-\",IF(VALUE(FIXED(P_20号3様式1!O222,0,TRUE))<>P_20号3様式1!O222,RIGHT(FIXED(P_20号3様式1!O222,3,FALSE),4),\"\"),\"\"),\"\")","v":""},{"$f":"IF(P_20号3様式1!R222<> \"\",IF(P_20号3様式1!R222<> \"-\",TEXT(INT(P_20号3様式1!R222),\"#,##0\"),\"-\"),\"\")","v":""},{"$f":"IF(P_20号3様式1!R222<> \"\",IF(P_20号3様式1!R222<> \"-\",IF(VALUE(FIXED(P_20号3様式1!R222,0,TRUE))<>P_20号3様式1!R222,RIGHT(FIXED(P_20号3様式1!R222,3,FALSE),4),\"\"),\"\"),\"\")","v":""},{"$f":"IF(P_20号3様式1!U222<> \"\",IF(P_20号3様式1!U222<> \"-\",TEXT(INT(P_20号3様式1!U222),\"#,##0\"),\"-\"),\"\")","v":""},{"$f":"IF(P_20号3様式1!U222<> \"\",IF(P_20号3様式1!U222<> \"-\",IF(VALUE(FIXED(P_20号3様式1!U222,0,TRUE))<>P_20号3様式1!U222,RIGHT(FIXED(P_20号3様式1!U222,3,FALSE),4),\"\"),\"\"),\"\")","v":""},{"$f":"IF(P_20号3様式1!X222<> \"\",IF(P_20号3様式1!X222<> \"-\",TEXT(INT(P_20号3様式1!X222),\"#,##0\"),\"-\"),\"\")","v":""},{"$f":"IF(P_20号3様式1!X222<> \"\",IF(P_20号3様式1!X222<> \"-\",IF(VALUE(FIXED(P_20号3様式1!X222,0,TRUE))<>P_20号3様式1!X222,RIGHT(FIXED(P_20号3様式1!X222,3,FALSE),4),\"\"),\"\"),\"\")","v":""},{"$f":"IF(P_20号3様式1!AA222<> \"\",IF(P_20号3様式1!AA222<> \"-\",TEXT(INT(P_20号3様式1!AA222),\"#,##0\"),\"-\"),\"\")","v":""},{"$f":"IF(P_20号3様式1!AA222<> \"\",IF(P_20号3様式1!AA222<> \"-\",IF(VALUE(FIXED(P_20号3様式1!AA222,0,TRUE))<>P_20号3様式1!AA222,RIGHT(FIXED(P_20号3様式1!AA222,3,FALSE),4),\"\"),\"\"),\"\")","v":""}]
[{"$f":"IF(P_20号3様式1!C223=\"\",\"\",P_20号3様式1!C223)","v":"伊仙町"},{"$f":"IF(P_20号3様式1!AE223<> \"\",TEXT(INT(P_20号3様式1!AE223),\"#,##0\"),\"\")","v":"1"},{"$f":"IF(P_20号3様式1!AE223= \"\",\"\",IF(VALUE(FIXED(P_20号3様式1!AE223,0,TRUE))<>P_20号3様式1!AE223,RIGHT(FIXED(P_20号3様式1!AE223,3,FALSE),4),\"\"))","v":".250"},{"$f":"IF(P_20号3様式1!F223<> \"\",IF(P_20号3様式1!F223<> \"-\",TEXT(INT(P_20号3様式1!F223),\"#,##0\"),\"-\"),\"\")","v":"0"},{"$f":"IF(P_20号3様式1!F223<> \"\",IF(P_20号3様式1!F223<> \"-\",IF(VALUE(FIXED(P_20号3様式1!F223,0,TRUE))<>P_20号3様式1!F223,RIGHT(FIXED(P_20号3様式1!F223,3,FALSE),4),\"\"),\"\"),\"\")","v":".000"},{"$f":"IF(P_20号3様式1!I223<> \"\",IF(P_20号3様式1!I223<> \"-\",TEXT(INT(P_20号3様式1!I223),\"#,##0\"),\"-\"),\"\")","v":"1"},{"$f":"IF(P_20号3様式1!I223<> \"\",IF(P_20号3様式1!I223<> \"-\",IF(VALUE(FIXED(P_20号3様式1!I223,0,TRUE))<>P_20号3様式1!I223,RIGHT(FIXED(P_20号3様式1!I223,3,FALSE),4),\"\"),\"\"),\"\")","v":".250"},{"$f":"IF(P_20号3様式1!L223<> \"\",IF(P_20号3様式1!L223<> \"-\",TEXT(INT(P_20号3様式1!L223),\"#,##0\"),\"-\"),\"\")","v":""},{"$f":"IF(P_20号3様式1!L223<> \"\",IF(P_20号3様式1!L223<> \"-\",IF(VALUE(FIXED(P_20号3様式1!L223,0,TRUE))<>P_20号3様式1!L223,RIGHT(FIXED(P_20号3様式1!L223,3,FALSE),4),\"\"),\"\"),\"\")","v":""},{"$f":"IF(P_20号3様式1!O223<> \"\",IF(P_20号3様式1!O223<> \"-\",TEXT(INT(P_20号3様式1!O223),\"#,##0\"),\"-\"),\"\")","v":""},{"$f":"IF(P_20号3様式1!O223<> \"\",IF(P_20号3様式1!O223<> \"-\",IF(VALUE(FIXED(P_20号3様式1!O223,0,TRUE))<>P_20号3様式1!O223,RIGHT(FIXED(P_20号3様式1!O223,3,FALSE),4),\"\"),\"\"),\"\")","v":""},{"$f":"IF(P_20号3様式1!R223<> \"\",IF(P_20号3様式1!R223<> \"-\",TEXT(INT(P_20号3様式1!R223),\"#,##0\"),\"-\"),\"\")","v":""},{"$f":"IF(P_20号3様式1!R223<> \"\",IF(P_20号3様式1!R223<> \"-\",IF(VALUE(FIXED(P_20号3様式1!R223,0,TRUE))<>P_20号3様式1!R223,RIGHT(FIXED(P_20号3様式1!R223,3,FALSE),4),\"\"),\"\"),\"\")","v":""},{"$f":"IF(P_20号3様式1!U223<> \"\",IF(P_20号3様式1!U223<> \"-\",TEXT(INT(P_20号3様式1!U223),\"#,##0\"),\"-\"),\"\")","v":""},{"$f":"IF(P_20号3様式1!U223<> \"\",IF(P_20号3様式1!U223<> \"-\",IF(VALUE(FIXED(P_20号3様式1!U223,0,TRUE))<>P_20号3様式1!U223,RIGHT(FIXED(P_20号3様式1!U223,3,FALSE),4),\"\"),\"\"),\"\")","v":""},{"$f":"IF(P_20号3様式1!X223<> \"\",IF(P_20号3様式1!X223<> \"-\",TEXT(INT(P_20号3様式1!X223),\"#,##0\"),\"-\"),\"\")","v":""},{"$f":"IF(P_20号3様式1!X223<> \"\",IF(P_20号3様式1!X223<> \"-\",IF(VALUE(FIXED(P_20号3様式1!X223,0,TRUE))<>P_20号3様式1!X223,RIGHT(FIXED(P_20号3様式1!X223,3,FALSE),4),\"\"),\"\"),\"\")","v":""},{"$f":"IF(P_20号3様式1!AA223<> \"\",IF(P_20号3様式1!AA223<> \"-\",TEXT(INT(P_20号3様式1!AA223),\"#,##0\"),\"-\"),\"\")","v":""},{"$f":"IF(P_20号3様式1!AA223<> \"\",IF(P_20号3様式1!AA223<> \"-\",IF(VALUE(FIXED(P_20号3様式1!AA223,0,TRUE))<>P_20号3様式1!AA223,RIGHT(FIXED(P_20号3様式1!AA223,3,FALSE),4),\"\"),\"\"),\"\")","v":""}]
[{"$f":"IF(P_20号3様式1!C224=\"\",\"\",P_20号3様式1!C224)","v":"和泊町"},{"$f":"IF(P_20号3様式1!AE224<> \"\",TEXT(INT(P_20号3様式1!AE224),\"#,##0\"),\"\")","v":"0"},{"$f":"IF(P_20号3様式1!AE224= \"\",\"\",IF(VALUE(FIXED(P_20号3様式1!AE224,0,TRUE))<>P_20号3様式1!AE224,RIGHT(FIXED(P_20号3様式1!AE224,3,FALSE),4),\"\"))","v":".000"},{"$f":"IF(P_20号3様式1!F224<> \"\",IF(P_20号3様式1!F224<> \"-\",TEXT(INT(P_20号3様式1!F224),\"#,##0\"),\"-\"),\"\")","v":"0"},{"$f":"IF(P_20号3様式1!F224<> \"\",IF(P_20号3様式1!F224<> \"-\",IF(VALUE(FIXED(P_20号3様式1!F224,0,TRUE))<>P_20号3様式1!F224,RIGHT(FIXED(P_20号3様式1!F224,3,FALSE),4),\"\"),\"\"),\"\")","v":".000"},{"$f":"IF(P_20号3様式1!I224<> \"\",IF(P_20号3様式1!I224<> \"-\",TEXT(INT(P_20号3様式1!I224),\"#,##0\"),\"-\"),\"\")","v":"0"},{"$f":"IF(P_20号3様式1!I224<> \"\",IF(P_20号3様式1!I224<> \"-\",IF(VALUE(FIXED(P_20号3様式1!I224,0,TRUE))<>P_20号3様式1!I224,RIGHT(FIXED(P_20号3様式1!I224,3,FALSE),4),\"\"),\"\"),\"\")","v":".000"},{"$f":"IF(P_20号3様式1!L224<> \"\",IF(P_20号3様式1!L224<> \"-\",TEXT(INT(P_20号3様式1!L224),\"#,##0\"),\"-\"),\"\")","v":""},{"$f":"IF(P_20号3様式1!L224<> \"\",IF(P_20号3様式1!L224<> \"-\",IF(VALUE(FIXED(P_20号3様式1!L224,0,TRUE))<>P_20号3様式1!L224,RIGHT(FIXED(P_20号3様式1!L224,3,FALSE),4),\"\"),\"\"),\"\")","v":""},{"$f":"IF(P_20号3様式1!O224<> \"\",IF(P_20号3様式1!O224<> \"-\",TEXT(INT(P_20号3様式1!O224),\"#,##0\"),\"-\"),\"\")","v":""},{"$f":"IF(P_20号3様式1!O224<> \"\",IF(P_20号3様式1!O224<> \"-\",IF(VALUE(FIXED(P_20号3様式1!O224,0,TRUE))<>P_20号3様式1!O224,RIGHT(FIXED(P_20号3様式1!O224,3,FALSE),4),\"\"),\"\"),\"\")","v":""},{"$f":"IF(P_20号3様式1!R224<> \"\",IF(P_20号3様式1!R224<> \"-\",TEXT(INT(P_20号3様式1!R224),\"#,##0\"),\"-\"),\"\")","v":""},{"$f":"IF(P_20号3様式1!R224<> \"\",IF(P_20号3様式1!R224<> \"-\",IF(VALUE(FIXED(P_20号3様式1!R224,0,TRUE))<>P_20号3様式1!R224,RIGHT(FIXED(P_20号3様式1!R224,3,FALSE),4),\"\"),\"\"),\"\")","v":""},{"$f":"IF(P_20号3様式1!U224<> \"\",IF(P_20号3様式1!U224<> \"-\",TEXT(INT(P_20号3様式1!U224),\"#,##0\"),\"-\"),\"\")","v":""},{"$f":"IF(P_20号3様式1!U224<> \"\",IF(P_20号3様式1!U224<> \"-\",IF(VALUE(FIXED(P_20号3様式1!U224,0,TRUE))<>P_20号3様式1!U224,RIGHT(FIXED(P_20号3様式1!U224,3,FALSE),4),\"\"),\"\"),\"\")","v":""},{"$f":"IF(P_20号3様式1!X224<> \"\",IF(P_20号3様式1!X224<> \"-\",TEXT(INT(P_20号3様式1!X224),\"#,##0\"),\"-\"),\"\")","v":""},{"$f":"IF(P_20号3様式1!X224<> \"\",IF(P_20号3様式1!X224<> \"-\",IF(VALUE(FIXED(P_20号3様式1!X224,0,TRUE))<>P_20号3様式1!X224,RIGHT(FIXED(P_20号3様式1!X224,3,FALSE),4),\"\"),\"\"),\"\")","v":""},{"$f":"IF(P_20号3様式1!AA224<> \"\",IF(P_20号3様式1!AA224<> \"-\",TEXT(INT(P_20号3様式1!AA224),\"#,##0\"),\"-\"),\"\")","v":""},{"$f":"IF(P_20号3様式1!AA224<> \"\",IF(P_20号3様式1!AA224<> \"-\",IF(VALUE(FIXED(P_20号3様式1!AA224,0,TRUE))<>P_20号3様式1!AA224,RIGHT(FIXED(P_20号3様式1!AA224,3,FALSE),4),\"\"),\"\"),\"\")","v":""}]
[{"$f":"IF(P_20号3様式1!C225=\"\",\"\",P_20号3様式1!C225)","v":"知名町"},{"$f":"IF(P_20号3様式1!AE225<> \"\",TEXT(INT(P_20号3様式1!AE225),\"#,##0\"),\"\")","v":"1"},{"$f":"IF(P_20号3様式1!AE225= \"\",\"\",IF(VALUE(FIXED(P_20号3様式1!AE225,0,TRUE))<>P_20号3様式1!AE225,RIGHT(FIXED(P_20号3様式1!AE225,3,FALSE),4),\"\"))","v":".105"},{"$f":"IF(P_20号3様式1!F225<> \"\",IF(P_20号3様式1!F225<> \"-\",TEXT(INT(P_20号3様式1!F225),\"#,##0\"),\"-\"),\"\")","v":"0"},{"$f":"IF(P_20号3様式1!F225<> \"\",IF(P_20号3様式1!F225<> \"-\",IF(VALUE(FIXED(P_20号3様式1!F225,0,TRUE))<>P_20号3様式1!F225,RIGHT(FIXED(P_20号3様式1!F225,3,FALSE),4),\"\"),\"\"),\"\")","v":".000"},{"$f":"IF(P_20号3様式1!I225<> \"\",IF(P_20号3様式1!I225<> \"-\",TEXT(INT(P_20号3様式1!I225),\"#,##0\"),\"-\"),\"\")","v":"1"},{"$f":"IF(P_20号3様式1!I225<> \"\",IF(P_20号3様式1!I225<> \"-\",IF(VALUE(FIXED(P_20号3様式1!I225,0,TRUE))<>P_20号3様式1!I225,RIGHT(FIXED(P_20号3様式1!I225,3,FALSE),4),\"\"),\"\"),\"\")","v":".105"},{"$f":"IF(P_20号3様式1!L225<> \"\",IF(P_20号3様式1!L225<> \"-\",TEXT(INT(P_20号3様式1!L225),\"#,##0\"),\"-\"),\"\")","v":""},{"$f":"IF(P_20号3様式1!L225<> \"\",IF(P_20号3様式1!L225<> \"-\",IF(VALUE(FIXED(P_20号3様式1!L225,0,TRUE))<>P_20号3様式1!L225,RIGHT(FIXED(P_20号3様式1!L225,3,FALSE),4),\"\"),\"\"),\"\")","v":""},{"$f":"IF(P_20号3様式1!O225<> \"\",IF(P_20号3様式1!O225<> \"-\",TEXT(INT(P_20号3様式1!O225),\"#,##0\"),\"-\"),\"\")","v":""},{"$f":"IF(P_20号3様式1!O225<> \"\",IF(P_20号3様式1!O225<> \"-\",IF(VALUE(FIXED(P_20号3様式1!O225,0,TRUE))<>P_20号3様式1!O225,RIGHT(FIXED(P_20号3様式1!O225,3,FALSE),4),\"\"),\"\"),\"\")","v":""},{"$f":"IF(P_20号3様式1!R225<> \"\",IF(P_20号3様式1!R225<> \"-\",TEXT(INT(P_20号3様式1!R225),\"#,##0\"),\"-\"),\"\")","v":""},{"$f":"IF(P_20号3様式1!R225<> \"\",IF(P_20号3様式1!R225<> \"-\",IF(VALUE(FIXED(P_20号3様式1!R225,0,TRUE))<>P_20号3様式1!R225,RIGHT(FIXED(P_20号3様式1!R225,3,FALSE),4),\"\"),\"\"),\"\")","v":""},{"$f":"IF(P_20号3様式1!U225<> \"\",IF(P_20号3様式1!U225<> \"-\",TEXT(INT(P_20号3様式1!U225),\"#,##0\"),\"-\"),\"\")","v":""},{"$f":"IF(P_20号3様式1!U225<> \"\",IF(P_20号3様式1!U225<> \"-\",IF(VALUE(FIXED(P_20号3様式1!U225,0,TRUE))<>P_20号3様式1!U225,RIGHT(FIXED(P_20号3様式1!U225,3,FALSE),4),\"\"),\"\"),\"\")","v":""},{"$f":"IF(P_20号3様式1!X225<> \"\",IF(P_20号3様式1!X225<> \"-\",TEXT(INT(P_20号3様式1!X225),\"#,##0\"),\"-\"),\"\")","v":""},{"$f":"IF(P_20号3様式1!X225<> \"\",IF(P_20号3様式1!X225<> \"-\",IF(VALUE(FIXED(P_20号3様式1!X225,0,TRUE))<>P_20号3様式1!X225,RIGHT(FIXED(P_20号3様式1!X225,3,FALSE),4),\"\"),\"\"),\"\")","v":""},{"$f":"IF(P_20号3様式1!AA225<> \"\",IF(P_20号3様式1!AA225<> \"-\",TEXT(INT(P_20号3様式1!AA225),\"#,##0\"),\"-\"),\"\")","v":""},{"$f":"IF(P_20号3様式1!AA225<> \"\",IF(P_20号3様式1!AA225<> \"-\",IF(VALUE(FIXED(P_20号3様式1!AA225,0,TRUE))<>P_20号3様式1!AA225,RIGHT(FIXED(P_20号3様式1!AA225,3,FALSE),4),\"\"),\"\"),\"\")","v":""}]
[{"$f":"IF(P_20号3様式1!C226=\"\",\"\",P_20号3様式1!C226)","v":"与論町"},{"$f":"IF(P_20号3様式1!AE226<> \"\",TEXT(INT(P_20号3様式1!AE226),\"#,##0\"),\"\")","v":"2"},{"$f":"IF(P_20号3様式1!AE226= \"\",\"\",IF(VALUE(FIXED(P_20号3様式1!AE226,0,TRUE))<>P_20号3様式1!AE226,RIGHT(FIXED(P_20号3様式1!AE226,3,FALSE),4),\"\"))","v":".000"},{"$f":"IF(P_20号3様式1!F226<> \"\",IF(P_20号3様式1!F226<> \"-\",TEXT(INT(P_20号3様式1!F226),\"#,##0\"),\"-\"),\"\")","v":"1"},{"$f":"IF(P_20号3様式1!F226<> \"\",IF(P_20号3様式1!F226<> \"-\",IF(VALUE(FIXED(P_20号3様式1!F226,0,TRUE))<>P_20号3様式1!F226,RIGHT(FIXED(P_20号3様式1!F226,3,FALSE),4),\"\"),\"\"),\"\")","v":".000"},{"$f":"IF(P_20号3様式1!I226<> \"\",IF(P_20号3様式1!I226<> \"-\",TEXT(INT(P_20号3様式1!I226),\"#,##0\"),\"-\"),\"\")","v":"1"},{"$f":"IF(P_20号3様式1!I226<> \"\",IF(P_20号3様式1!I226<> \"-\",IF(VALUE(FIXED(P_20号3様式1!I226,0,TRUE))<>P_20号3様式1!I226,RIGHT(FIXED(P_20号3様式1!I226,3,FALSE),4),\"\"),\"\"),\"\")","v":".000"},{"$f":"IF(P_20号3様式1!L226<> \"\",IF(P_20号3様式1!L226<> \"-\",TEXT(INT(P_20号3様式1!L226),\"#,##0\"),\"-\"),\"\")","v":""},{"$f":"IF(P_20号3様式1!L226<> \"\",IF(P_20号3様式1!L226<> \"-\",IF(VALUE(FIXED(P_20号3様式1!L226,0,TRUE))<>P_20号3様式1!L226,RIGHT(FIXED(P_20号3様式1!L226,3,FALSE),4),\"\"),\"\"),\"\")","v":""},{"$f":"IF(P_20号3様式1!O226<> \"\",IF(P_20号3様式1!O226<> \"-\",TEXT(INT(P_20号3様式1!O226),\"#,##0\"),\"-\"),\"\")","v":""},{"$f":"IF(P_20号3様式1!O226<> \"\",IF(P_20号3様式1!O226<> \"-\",IF(VALUE(FIXED(P_20号3様式1!O226,0,TRUE))<>P_20号3様式1!O226,RIGHT(FIXED(P_20号3様式1!O226,3,FALSE),4),\"\"),\"\"),\"\")","v":""},{"$f":"IF(P_20号3様式1!R226<> \"\",IF(P_20号3様式1!R226<> \"-\",TEXT(INT(P_20号3様式1!R226),\"#,##0\"),\"-\"),\"\")","v":""},{"$f":"IF(P_20号3様式1!R226<> \"\",IF(P_20号3様式1!R226<> \"-\",IF(VALUE(FIXED(P_20号3様式1!R226,0,TRUE))<>P_20号3様式1!R226,RIGHT(FIXED(P_20号3様式1!R226,3,FALSE),4),\"\"),\"\"),\"\")","v":""},{"$f":"IF(P_20号3様式1!U226<> \"\",IF(P_20号3様式1!U226<> \"-\",TEXT(INT(P_20号3様式1!U226),\"#,##0\"),\"-\"),\"\")","v":""},{"$f":"IF(P_20号3様式1!U226<> \"\",IF(P_20号3様式1!U226<> \"-\",IF(VALUE(FIXED(P_20号3様式1!U226,0,TRUE))<>P_20号3様式1!U226,RIGHT(FIXED(P_20号3様式1!U226,3,FALSE),4),\"\"),\"\"),\"\")","v":""},{"$f":"IF(P_20号3様式1!X226<> \"\",IF(P_20号3様式1!X226<> \"-\",TEXT(INT(P_20号3様式1!X226),\"#,##0\"),\"-\"),\"\")","v":""},{"$f":"IF(P_20号3様式1!X226<> \"\",IF(P_20号3様式1!X226<> \"-\",IF(VALUE(FIXED(P_20号3様式1!X226,0,TRUE))<>P_20号3様式1!X226,RIGHT(FIXED(P_20号3様式1!X226,3,FALSE),4),\"\"),\"\"),\"\")","v":""},{"$f":"IF(P_20号3様式1!AA226<> \"\",IF(P_20号3様式1!AA226<> \"-\",TEXT(INT(P_20号3様式1!AA226),\"#,##0\"),\"-\"),\"\")","v":""},{"$f":"IF(P_20号3様式1!AA226<> \"\",IF(P_20号3様式1!AA226<> \"-\",IF(VALUE(FIXED(P_20号3様式1!AA226,0,TRUE))<>P_20号3様式1!AA226,RIGHT(FIXED(P_20号3様式1!AA226,3,FALSE),4),\"\"),\"\"),\"\")","v":""}]
[{"$f":"IF(P_20号3様式1!C227=\"\",\"\",P_20号3様式1!C227)","v":"＊（大島郡）計"},{"$f":"IF(P_20号3様式1!AE227<> \"\",TEXT(INT(P_20号3様式1!AE227),\"#,##0\"),\"\")","v":"9"},{"$f":"IF(P_20号3様式1!AE227= \"\",\"\",IF(VALUE(FIXED(P_20号3様式1!AE227,0,TRUE))<>P_20号3様式1!AE227,RIGHT(FIXED(P_20号3様式1!AE227,3,FALSE),4),\"\"))","v":".855"},{"$f":"IF(P_20号3様式1!F227<> \"\",IF(P_20号3様式1!F227<> \"-\",TEXT(INT(P_20号3様式1!F227),\"#,##0\"),\"-\"),\"\")","v":"1"},{"$f":"IF(P_20号3様式1!F227<> \"\",IF(P_20号3様式1!F227<> \"-\",IF(VALUE(FIXED(P_20号3様式1!F227,0,TRUE))<>P_20号3様式1!F227,RIGHT(FIXED(P_20号3様式1!F227,3,FALSE),4),\"\"),\"\"),\"\")","v":".000"},{"$f":"IF(P_20号3様式1!I227<> \"\",IF(P_20号3様式1!I227<> \"-\",TEXT(INT(P_20号3様式1!I227),\"#,##0\"),\"-\"),\"\")","v":"8"},{"$f":"IF(P_20号3様式1!I227<> \"\",IF(P_20号3様式1!I227<> \"-\",IF(VALUE(FIXED(P_20号3様式1!I227,0,TRUE))<>P_20号3様式1!I227,RIGHT(FIXED(P_20号3様式1!I227,3,FALSE),4),\"\"),\"\"),\"\")","v":".855"},{"$f":"IF(P_20号3様式1!L227<> \"\",IF(P_20号3様式1!L227<> \"-\",TEXT(INT(P_20号3様式1!L227),\"#,##0\"),\"-\"),\"\")","v":""},{"$f":"IF(P_20号3様式1!L227<> \"\",IF(P_20号3様式1!L227<> \"-\",IF(VALUE(FIXED(P_20号3様式1!L227,0,TRUE))<>P_20号3様式1!L227,RIGHT(FIXED(P_20号3様式1!L227,3,FALSE),4),\"\"),\"\"),\"\")","v":""},{"$f":"IF(P_20号3様式1!O227<> \"\",IF(P_20号3様式1!O227<> \"-\",TEXT(INT(P_20号3様式1!O227),\"#,##0\"),\"-\"),\"\")","v":""},{"$f":"IF(P_20号3様式1!O227<> \"\",IF(P_20号3様式1!O227<> \"-\",IF(VALUE(FIXED(P_20号3様式1!O227,0,TRUE))<>P_20号3様式1!O227,RIGHT(FIXED(P_20号3様式1!O227,3,FALSE),4),\"\"),\"\"),\"\")","v":""},{"$f":"IF(P_20号3様式1!R227<> \"\",IF(P_20号3様式1!R227<> \"-\",TEXT(INT(P_20号3様式1!R227),\"#,##0\"),\"-\"),\"\")","v":""},{"$f":"IF(P_20号3様式1!R227<> \"\",IF(P_20号3様式1!R227<> \"-\",IF(VALUE(FIXED(P_20号3様式1!R227,0,TRUE))<>P_20号3様式1!R227,RIGHT(FIXED(P_20号3様式1!R227,3,FALSE),4),\"\"),\"\"),\"\")","v":""},{"$f":"IF(P_20号3様式1!U227<> \"\",IF(P_20号3様式1!U227<> \"-\",TEXT(INT(P_20号3様式1!U227),\"#,##0\"),\"-\"),\"\")","v":""},{"$f":"IF(P_20号3様式1!U227<> \"\",IF(P_20号3様式1!U227<> \"-\",IF(VALUE(FIXED(P_20号3様式1!U227,0,TRUE))<>P_20号3様式1!U227,RIGHT(FIXED(P_20号3様式1!U227,3,FALSE),4),\"\"),\"\"),\"\")","v":""},{"$f":"IF(P_20号3様式1!X227<> \"\",IF(P_20号3様式1!X227<> \"-\",TEXT(INT(P_20号3様式1!X227),\"#,##0\"),\"-\"),\"\")","v":""},{"$f":"IF(P_20号3様式1!X227<> \"\",IF(P_20号3様式1!X227<> \"-\",IF(VALUE(FIXED(P_20号3様式1!X227,0,TRUE))<>P_20号3様式1!X227,RIGHT(FIXED(P_20号3様式1!X227,3,FALSE),4),\"\"),\"\"),\"\")","v":""},{"$f":"IF(P_20号3様式1!AA227<> \"\",IF(P_20号3様式1!AA227<> \"-\",TEXT(INT(P_20号3様式1!AA227),\"#,##0\"),\"-\"),\"\")","v":""},{"$f":"IF(P_20号3様式1!AA227<> \"\",IF(P_20号3様式1!AA227<> \"-\",IF(VALUE(FIXED(P_20号3様式1!AA227,0,TRUE))<>P_20号3様式1!AA227,RIGHT(FIXED(P_20号3様式1!AA227,3,FALSE),4),\"\"),\"\"),\"\")","v":""}]
[{"$f":"IF(P_20号3様式1!C228=\"\",\"\",P_20号3様式1!C228)","v":""},{"$f":"IF(P_20号3様式1!AE228<> \"\",TEXT(INT(P_20号3様式1!AE228),\"#,##0\"),\"\")","v":""},{"$f":"IF(P_20号3様式1!AE228= \"\",\"\",IF(VALUE(FIXED(P_20号3様式1!AE228,0,TRUE))<>P_20号3様式1!AE228,RIGHT(FIXED(P_20号3様式1!AE228,3,FALSE),4),\"\"))","v":""},{"$f":"IF(P_20号3様式1!F228<> \"\",IF(P_20号3様式1!F228<> \"-\",TEXT(INT(P_20号3様式1!F228),\"#,##0\"),\"-\"),\"\")","v":""},{"$f":"IF(P_20号3様式1!F228<> \"\",IF(P_20号3様式1!F228<> \"-\",IF(VALUE(FIXED(P_20号3様式1!F228,0,TRUE))<>P_20号3様式1!F228,RIGHT(FIXED(P_20号3様式1!F228,3,FALSE),4),\"\"),\"\"),\"\")","v":""},{"$f":"IF(P_20号3様式1!I228<> \"\",IF(P_20号3様式1!I228<> \"-\",TEXT(INT(P_20号3様式1!I228),\"#,##0\"),\"-\"),\"\")","v":""},{"$f":"IF(P_20号3様式1!I228<> \"\",IF(P_20号3様式1!I228<> \"-\",IF(VALUE(FIXED(P_20号3様式1!I228,0,TRUE))<>P_20号3様式1!I228,RIGHT(FIXED(P_20号3様式1!I228,3,FALSE),4),\"\"),\"\"),\"\")","v":""},{"$f":"IF(P_20号3様式1!L228<> \"\",IF(P_20号3様式1!L228<> \"-\",TEXT(INT(P_20号3様式1!L228),\"#,##0\"),\"-\"),\"\")","v":""},{"$f":"IF(P_20号3様式1!L228<> \"\",IF(P_20号3様式1!L228<> \"-\",IF(VALUE(FIXED(P_20号3様式1!L228,0,TRUE))<>P_20号3様式1!L228,RIGHT(FIXED(P_20号3様式1!L228,3,FALSE),4),\"\"),\"\"),\"\")","v":""},{"$f":"IF(P_20号3様式1!O228<> \"\",IF(P_20号3様式1!O228<> \"-\",TEXT(INT(P_20号3様式1!O228),\"#,##0\"),\"-\"),\"\")","v":""},{"$f":"IF(P_20号3様式1!O228<> \"\",IF(P_20号3様式1!O228<> \"-\",IF(VALUE(FIXED(P_20号3様式1!O228,0,TRUE))<>P_20号3様式1!O228,RIGHT(FIXED(P_20号3様式1!O228,3,FALSE),4),\"\"),\"\"),\"\")","v":""},{"$f":"IF(P_20号3様式1!R228<> \"\",IF(P_20号3様式1!R228<> \"-\",TEXT(INT(P_20号3様式1!R228),\"#,##0\"),\"-\"),\"\")","v":""},{"$f":"IF(P_20号3様式1!R228<> \"\",IF(P_20号3様式1!R228<> \"-\",IF(VALUE(FIXED(P_20号3様式1!R228,0,TRUE))<>P_20号3様式1!R228,RIGHT(FIXED(P_20号3様式1!R228,3,FALSE),4),\"\"),\"\"),\"\")","v":""},{"$f":"IF(P_20号3様式1!U228<> \"\",IF(P_20号3様式1!U228<> \"-\",TEXT(INT(P_20号3様式1!U228),\"#,##0\"),\"-\"),\"\")","v":""},{"$f":"IF(P_20号3様式1!U228<> \"\",IF(P_20号3様式1!U228<> \"-\",IF(VALUE(FIXED(P_20号3様式1!U228,0,TRUE))<>P_20号3様式1!U228,RIGHT(FIXED(P_20号3様式1!U228,3,FALSE),4),\"\"),\"\"),\"\")","v":""},{"$f":"IF(P_20号3様式1!X228<> \"\",IF(P_20号3様式1!X228<> \"-\",TEXT(INT(P_20号3様式1!X228),\"#,##0\"),\"-\"),\"\")","v":""},{"$f":"IF(P_20号3様式1!X228<> \"\",IF(P_20号3様式1!X228<> \"-\",IF(VALUE(FIXED(P_20号3様式1!X228,0,TRUE))<>P_20号3様式1!X228,RIGHT(FIXED(P_20号3様式1!X228,3,FALSE),4),\"\"),\"\"),\"\")","v":""},{"$f":"IF(P_20号3様式1!AA228<> \"\",IF(P_20号3様式1!AA228<> \"-\",TEXT(INT(P_20号3様式1!AA228),\"#,##0\"),\"-\"),\"\")","v":""},{"$f":"IF(P_20号3様式1!AA228<> \"\",IF(P_20号3様式1!AA228<> \"-\",IF(VALUE(FIXED(P_20号3様式1!AA228,0,TRUE))<>P_20号3様式1!AA228,RIGHT(FIXED(P_20号3様式1!AA228,3,FALSE),4),\"\"),\"\"),\"\")","v":""}]
[{"$f":"IF(P_20号3様式1!C229=\"\",\"\",P_20号3様式1!C229)","v":""},{"$f":"IF(P_20号3様式1!AE229<> \"\",TEXT(INT(P_20号3様式1!AE229),\"#,##0\"),\"\")","v":""},{"$f":"IF(P_20号3様式1!AE229= \"\",\"\",IF(VALUE(FIXED(P_20号3様式1!AE229,0,TRUE))<>P_20号3様式1!AE229,RIGHT(FIXED(P_20号3様式1!AE229,3,FALSE),4),\"\"))","v":""},{"$f":"IF(P_20号3様式1!F229<> \"\",IF(P_20号3様式1!F229<> \"-\",TEXT(INT(P_20号3様式1!F229),\"#,##0\"),\"-\"),\"\")","v":""},{"$f":"IF(P_20号3様式1!F229<> \"\",IF(P_20号3様式1!F229<> \"-\",IF(VALUE(FIXED(P_20号3様式1!F229,0,TRUE))<>P_20号3様式1!F229,RIGHT(FIXED(P_20号3様式1!F229,3,FALSE),4),\"\"),\"\"),\"\")","v":""},{"$f":"IF(P_20号3様式1!I229<> \"\",IF(P_20号3様式1!I229<> \"-\",TEXT(INT(P_20号3様式1!I229),\"#,##0\"),\"-\"),\"\")","v":""},{"$f":"IF(P_20号3様式1!I229<> \"\",IF(P_20号3様式1!I229<> \"-\",IF(VALUE(FIXED(P_20号3様式1!I229,0,TRUE))<>P_20号3様式1!I229,RIGHT(FIXED(P_20号3様式1!I229,3,FALSE),4),\"\"),\"\"),\"\")","v":""},{"$f":"IF(P_20号3様式1!L229<> \"\",IF(P_20号3様式1!L229<> \"-\",TEXT(INT(P_20号3様式1!L229),\"#,##0\"),\"-\"),\"\")","v":""},{"$f":"IF(P_20号3様式1!L229<> \"\",IF(P_20号3様式1!L229<> \"-\",IF(VALUE(FIXED(P_20号3様式1!L229,0,TRUE))<>P_20号3様式1!L229,RIGHT(FIXED(P_20号3様式1!L229,3,FALSE),4),\"\"),\"\"),\"\")","v":""},{"$f":"IF(P_20号3様式1!O229<> \"\",IF(P_20号3様式1!O229<> \"-\",TEXT(INT(P_20号3様式1!O229),\"#,##0\"),\"-\"),\"\")","v":""},{"$f":"IF(P_20号3様式1!O229<> \"\",IF(P_20号3様式1!O229<> \"-\",IF(VALUE(FIXED(P_20号3様式1!O229,0,TRUE))<>P_20号3様式1!O229,RIGHT(FIXED(P_20号3様式1!O229,3,FALSE),4),\"\"),\"\"),\"\")","v":""},{"$f":"IF(P_20号3様式1!R229<> \"\",IF(P_20号3様式1!R229<> \"-\",TEXT(INT(P_20号3様式1!R229),\"#,##0\"),\"-\"),\"\")","v":""},{"$f":"IF(P_20号3様式1!R229<> \"\",IF(P_20号3様式1!R229<> \"-\",IF(VALUE(FIXED(P_20号3様式1!R229,0,TRUE))<>P_20号3様式1!R229,RIGHT(FIXED(P_20号3様式1!R229,3,FALSE),4),\"\"),\"\"),\"\")","v":""},{"$f":"IF(P_20号3様式1!U229<> \"\",IF(P_20号3様式1!U229<> \"-\",TEXT(INT(P_20号3様式1!U229),\"#,##0\"),\"-\"),\"\")","v":""},{"$f":"IF(P_20号3様式1!U229<> \"\",IF(P_20号3様式1!U229<> \"-\",IF(VALUE(FIXED(P_20号3様式1!U229,0,TRUE))<>P_20号3様式1!U229,RIGHT(FIXED(P_20号3様式1!U229,3,FALSE),4),\"\"),\"\"),\"\")","v":""},{"$f":"IF(P_20号3様式1!X229<> \"\",IF(P_20号3様式1!X229<> \"-\",TEXT(INT(P_20号3様式1!X229),\"#,##0\"),\"-\"),\"\")","v":""},{"$f":"IF(P_20号3様式1!X229<> \"\",IF(P_20号3様式1!X229<> \"-\",IF(VALUE(FIXED(P_20号3様式1!X229,0,TRUE))<>P_20号3様式1!X229,RIGHT(FIXED(P_20号3様式1!X229,3,FALSE),4),\"\"),\"\"),\"\")","v":""},{"$f":"IF(P_20号3様式1!AA229<> \"\",IF(P_20号3様式1!AA229<> \"-\",TEXT(INT(P_20号3様式1!AA229),\"#,##0\"),\"-\"),\"\")","v":""},{"$f":"IF(P_20号3様式1!AA229<> \"\",IF(P_20号3様式1!AA229<> \"-\",IF(VALUE(FIXED(P_20号3様式1!AA229,0,TRUE))<>P_20号3様式1!AA229,RIGHT(FIXED(P_20号3様式1!AA229,3,FALSE),4),\"\"),\"\"),\"\")","v":""}]
[{"$f":"IF(P_20号3様式1!C230=\"\",\"\",P_20号3様式1!C230)","v":""},{"$f":"IF(P_20号3様式1!AE230<> \"\",TEXT(INT(P_20号3様式1!AE230),\"#,##0\"),\"\")","v":""},{"$f":"IF(P_20号3様式1!AE230= \"\",\"\",IF(VALUE(FIXED(P_20号3様式1!AE230,0,TRUE))<>P_20号3様式1!AE230,RIGHT(FIXED(P_20号3様式1!AE230,3,FALSE),4),\"\"))","v":""},{"$f":"IF(P_20号3様式1!F230<> \"\",IF(P_20号3様式1!F230<> \"-\",TEXT(INT(P_20号3様式1!F230),\"#,##0\"),\"-\"),\"\")","v":""},{"$f":"IF(P_20号3様式1!F230<> \"\",IF(P_20号3様式1!F230<> \"-\",IF(VALUE(FIXED(P_20号3様式1!F230,0,TRUE))<>P_20号3様式1!F230,RIGHT(FIXED(P_20号3様式1!F230,3,FALSE),4),\"\"),\"\"),\"\")","v":""},{"$f":"IF(P_20号3様式1!I230<> \"\",IF(P_20号3様式1!I230<> \"-\",TEXT(INT(P_20号3様式1!I230),\"#,##0\"),\"-\"),\"\")","v":""},{"$f":"IF(P_20号3様式1!I230<> \"\",IF(P_20号3様式1!I230<> \"-\",IF(VALUE(FIXED(P_20号3様式1!I230,0,TRUE))<>P_20号3様式1!I230,RIGHT(FIXED(P_20号3様式1!I230,3,FALSE),4),\"\"),\"\"),\"\")","v":""},{"$f":"IF(P_20号3様式1!L230<> \"\",IF(P_20号3様式1!L230<> \"-\",TEXT(INT(P_20号3様式1!L230),\"#,##0\"),\"-\"),\"\")","v":""},{"$f":"IF(P_20号3様式1!L230<> \"\",IF(P_20号3様式1!L230<> \"-\",IF(VALUE(FIXED(P_20号3様式1!L230,0,TRUE))<>P_20号3様式1!L230,RIGHT(FIXED(P_20号3様式1!L230,3,FALSE),4),\"\"),\"\"),\"\")","v":""},{"$f":"IF(P_20号3様式1!O230<> \"\",IF(P_20号3様式1!O230<> \"-\",TEXT(INT(P_20号3様式1!O230),\"#,##0\"),\"-\"),\"\")","v":""},{"$f":"IF(P_20号3様式1!O230<> \"\",IF(P_20号3様式1!O230<> \"-\",IF(VALUE(FIXED(P_20号3様式1!O230,0,TRUE))<>P_20号3様式1!O230,RIGHT(FIXED(P_20号3様式1!O230,3,FALSE),4),\"\"),\"\"),\"\")","v":""},{"$f":"IF(P_20号3様式1!R230<> \"\",IF(P_20号3様式1!R230<> \"-\",TEXT(INT(P_20号3様式1!R230),\"#,##0\"),\"-\"),\"\")","v":""},{"$f":"IF(P_20号3様式1!R230<> \"\",IF(P_20号3様式1!R230<> \"-\",IF(VALUE(FIXED(P_20号3様式1!R230,0,TRUE))<>P_20号3様式1!R230,RIGHT(FIXED(P_20号3様式1!R230,3,FALSE),4),\"\"),\"\"),\"\")","v":""},{"$f":"IF(P_20号3様式1!U230<> \"\",IF(P_20号3様式1!U230<> \"-\",TEXT(INT(P_20号3様式1!U230),\"#,##0\"),\"-\"),\"\")","v":""},{"$f":"IF(P_20号3様式1!U230<> \"\",IF(P_20号3様式1!U230<> \"-\",IF(VALUE(FIXED(P_20号3様式1!U230,0,TRUE))<>P_20号3様式1!U230,RIGHT(FIXED(P_20号3様式1!U230,3,FALSE),4),\"\"),\"\"),\"\")","v":""},{"$f":"IF(P_20号3様式1!X230<> \"\",IF(P_20号3様式1!X230<> \"-\",TEXT(INT(P_20号3様式1!X230),\"#,##0\"),\"-\"),\"\")","v":""},{"$f":"IF(P_20号3様式1!X230<> \"\",IF(P_20号3様式1!X230<> \"-\",IF(VALUE(FIXED(P_20号3様式1!X230,0,TRUE))<>P_20号3様式1!X230,RIGHT(FIXED(P_20号3様式1!X230,3,FALSE),4),\"\"),\"\"),\"\")","v":""},{"$f":"IF(P_20号3様式1!AA230<> \"\",IF(P_20号3様式1!AA230<> \"-\",TEXT(INT(P_20号3様式1!AA230),\"#,##0\"),\"-\"),\"\")","v":""},{"$f":"IF(P_20号3様式1!AA230<> \"\",IF(P_20号3様式1!AA230<> \"-\",IF(VALUE(FIXED(P_20号3様式1!AA230,0,TRUE))<>P_20号3様式1!AA230,RIGHT(FIXED(P_20号3様式1!AA230,3,FALSE),4),\"\"),\"\"),\"\")","v":""}]
[{"$f":"IF(P_20号3様式1!C231=\"\",\"\",P_20号3様式1!C231)","v":""},{"$f":"IF(P_20号3様式1!AE231<> \"\",TEXT(INT(P_20号3様式1!AE231),\"#,##0\"),\"\")","v":""},{"$f":"IF(P_20号3様式1!AE231= \"\",\"\",IF(VALUE(FIXED(P_20号3様式1!AE231,0,TRUE))<>P_20号3様式1!AE231,RIGHT(FIXED(P_20号3様式1!AE231,3,FALSE),4),\"\"))","v":""},{"$f":"IF(P_20号3様式1!F231<> \"\",IF(P_20号3様式1!F231<> \"-\",TEXT(INT(P_20号3様式1!F231),\"#,##0\"),\"-\"),\"\")","v":""},{"$f":"IF(P_20号3様式1!F231<> \"\",IF(P_20号3様式1!F231<> \"-\",IF(VALUE(FIXED(P_20号3様式1!F231,0,TRUE))<>P_20号3様式1!F231,RIGHT(FIXED(P_20号3様式1!F231,3,FALSE),4),\"\"),\"\"),\"\")","v":""},{"$f":"IF(P_20号3様式1!I231<> \"\",IF(P_20号3様式1!I231<> \"-\",TEXT(INT(P_20号3様式1!I231),\"#,##0\"),\"-\"),\"\")","v":""},{"$f":"IF(P_20号3様式1!I231<> \"\",IF(P_20号3様式1!I231<> \"-\",IF(VALUE(FIXED(P_20号3様式1!I231,0,TRUE))<>P_20号3様式1!I231,RIGHT(FIXED(P_20号3様式1!I231,3,FALSE),4),\"\"),\"\"),\"\")","v":""},{"$f":"IF(P_20号3様式1!L231<> \"\",IF(P_20号3様式1!L231<> \"-\",TEXT(INT(P_20号3様式1!L231),\"#,##0\"),\"-\"),\"\")","v":""},{"$f":"IF(P_20号3様式1!L231<> \"\",IF(P_20号3様式1!L231<> \"-\",IF(VALUE(FIXED(P_20号3様式1!L231,0,TRUE))<>P_20号3様式1!L231,RIGHT(FIXED(P_20号3様式1!L231,3,FALSE),4),\"\"),\"\"),\"\")","v":""},{"$f":"IF(P_20号3様式1!O231<> \"\",IF(P_20号3様式1!O231<> \"-\",TEXT(INT(P_20号3様式1!O231),\"#,##0\"),\"-\"),\"\")","v":""},{"$f":"IF(P_20号3様式1!O231<> \"\",IF(P_20号3様式1!O231<> \"-\",IF(VALUE(FIXED(P_20号3様式1!O231,0,TRUE))<>P_20号3様式1!O231,RIGHT(FIXED(P_20号3様式1!O231,3,FALSE),4),\"\"),\"\"),\"\")","v":""},{"$f":"IF(P_20号3様式1!R231<> \"\",IF(P_20号3様式1!R231<> \"-\",TEXT(INT(P_20号3様式1!R231),\"#,##0\"),\"-\"),\"\")","v":""},{"$f":"IF(P_20号3様式1!R231<> \"\",IF(P_20号3様式1!R231<> \"-\",IF(VALUE(FIXED(P_20号3様式1!R231,0,TRUE))<>P_20号3様式1!R231,RIGHT(FIXED(P_20号3様式1!R231,3,FALSE),4),\"\"),\"\"),\"\")","v":""},{"$f":"IF(P_20号3様式1!U231<> \"\",IF(P_20号3様式1!U231<> \"-\",TEXT(INT(P_20号3様式1!U231),\"#,##0\"),\"-\"),\"\")","v":""},{"$f":"IF(P_20号3様式1!U231<> \"\",IF(P_20号3様式1!U231<> \"-\",IF(VALUE(FIXED(P_20号3様式1!U231,0,TRUE))<>P_20号3様式1!U231,RIGHT(FIXED(P_20号3様式1!U231,3,FALSE),4),\"\"),\"\"),\"\")","v":""},{"$f":"IF(P_20号3様式1!X231<> \"\",IF(P_20号3様式1!X231<> \"-\",TEXT(INT(P_20号3様式1!X231),\"#,##0\"),\"-\"),\"\")","v":""},{"$f":"IF(P_20号3様式1!X231<> \"\",IF(P_20号3様式1!X231<> \"-\",IF(VALUE(FIXED(P_20号3様式1!X231,0,TRUE))<>P_20号3様式1!X231,RIGHT(FIXED(P_20号3様式1!X231,3,FALSE),4),\"\"),\"\"),\"\")","v":""},{"$f":"IF(P_20号3様式1!AA231<> \"\",IF(P_20号3様式1!AA231<> \"-\",TEXT(INT(P_20号3様式1!AA231),\"#,##0\"),\"-\"),\"\")","v":""},{"$f":"IF(P_20号3様式1!AA231<> \"\",IF(P_20号3様式1!AA231<> \"-\",IF(VALUE(FIXED(P_20号3様式1!AA231,0,TRUE))<>P_20号3様式1!AA231,RIGHT(FIXED(P_20号3様式1!AA231,3,FALSE),4),\"\"),\"\"),\"\")","v":""}]
[{"$f":"IF(P_20号3様式1!C232=\"\",\"\",P_20号3様式1!C232)","v":""},{"$f":"IF(P_20号3様式1!AE232<> \"\",TEXT(INT(P_20号3様式1!AE232),\"#,##0\"),\"\")","v":""},{"$f":"IF(P_20号3様式1!AE232= \"\",\"\",IF(VALUE(FIXED(P_20号3様式1!AE232,0,TRUE))<>P_20号3様式1!AE232,RIGHT(FIXED(P_20号3様式1!AE232,3,FALSE),4),\"\"))","v":""},{"$f":"IF(P_20号3様式1!F232<> \"\",IF(P_20号3様式1!F232<> \"-\",TEXT(INT(P_20号3様式1!F232),\"#,##0\"),\"-\"),\"\")","v":""},{"$f":"IF(P_20号3様式1!F232<> \"\",IF(P_20号3様式1!F232<> \"-\",IF(VALUE(FIXED(P_20号3様式1!F232,0,TRUE))<>P_20号3様式1!F232,RIGHT(FIXED(P_20号3様式1!F232,3,FALSE),4),\"\"),\"\"),\"\")","v":""},{"$f":"IF(P_20号3様式1!I232<> \"\",IF(P_20号3様式1!I232<> \"-\",TEXT(INT(P_20号3様式1!I232),\"#,##0\"),\"-\"),\"\")","v":""},{"$f":"IF(P_20号3様式1!I232<> \"\",IF(P_20号3様式1!I232<> \"-\",IF(VALUE(FIXED(P_20号3様式1!I232,0,TRUE))<>P_20号3様式1!I232,RIGHT(FIXED(P_20号3様式1!I232,3,FALSE),4),\"\"),\"\"),\"\")","v":""},{"$f":"IF(P_20号3様式1!L232<> \"\",IF(P_20号3様式1!L232<> \"-\",TEXT(INT(P_20号3様式1!L232),\"#,##0\"),\"-\"),\"\")","v":""},{"$f":"IF(P_20号3様式1!L232<> \"\",IF(P_20号3様式1!L232<> \"-\",IF(VALUE(FIXED(P_20号3様式1!L232,0,TRUE))<>P_20号3様式1!L232,RIGHT(FIXED(P_20号3様式1!L232,3,FALSE),4),\"\"),\"\"),\"\")","v":""},{"$f":"IF(P_20号3様式1!O232<> \"\",IF(P_20号3様式1!O232<> \"-\",TEXT(INT(P_20号3様式1!O232),\"#,##0\"),\"-\"),\"\")","v":""},{"$f":"IF(P_20号3様式1!O232<> \"\",IF(P_20号3様式1!O232<> \"-\",IF(VALUE(FIXED(P_20号3様式1!O232,0,TRUE))<>P_20号3様式1!O232,RIGHT(FIXED(P_20号3様式1!O232,3,FALSE),4),\"\"),\"\"),\"\")","v":""},{"$f":"IF(P_20号3様式1!R232<> \"\",IF(P_20号3様式1!R232<> \"-\",TEXT(INT(P_20号3様式1!R232),\"#,##0\"),\"-\"),\"\")","v":""},{"$f":"IF(P_20号3様式1!R232<> \"\",IF(P_20号3様式1!R232<> \"-\",IF(VALUE(FIXED(P_20号3様式1!R232,0,TRUE))<>P_20号3様式1!R232,RIGHT(FIXED(P_20号3様式1!R232,3,FALSE),4),\"\"),\"\"),\"\")","v":""},{"$f":"IF(P_20号3様式1!U232<> \"\",IF(P_20号3様式1!U232<> \"-\",TEXT(INT(P_20号3様式1!U232),\"#,##0\"),\"-\"),\"\")","v":""},{"$f":"IF(P_20号3様式1!U232<> \"\",IF(P_20号3様式1!U232<> \"-\",IF(VALUE(FIXED(P_20号3様式1!U232,0,TRUE))<>P_20号3様式1!U232,RIGHT(FIXED(P_20号3様式1!U232,3,FALSE),4),\"\"),\"\"),\"\")","v":""},{"$f":"IF(P_20号3様式1!X232<> \"\",IF(P_20号3様式1!X232<> \"-\",TEXT(INT(P_20号3様式1!X232),\"#,##0\"),\"-\"),\"\")","v":""},{"$f":"IF(P_20号3様式1!X232<> \"\",IF(P_20号3様式1!X232<> \"-\",IF(VALUE(FIXED(P_20号3様式1!X232,0,TRUE))<>P_20号3様式1!X232,RIGHT(FIXED(P_20号3様式1!X232,3,FALSE),4),\"\"),\"\"),\"\")","v":""},{"$f":"IF(P_20号3様式1!AA232<> \"\",IF(P_20号3様式1!AA232<> \"-\",TEXT(INT(P_20号3様式1!AA232),\"#,##0\"),\"-\"),\"\")","v":""},{"$f":"IF(P_20号3様式1!AA232<> \"\",IF(P_20号3様式1!AA232<> \"-\",IF(VALUE(FIXED(P_20号3様式1!AA232,0,TRUE))<>P_20号3様式1!AA232,RIGHT(FIXED(P_20号3様式1!AA232,3,FALSE),4),\"\"),\"\"),\"\")","v":""}]
[{"$f":"IF(P_20号3様式1!C233=\"\",\"\",P_20号3様式1!C233)","v":""},{"$f":"IF(P_20号3様式1!AE233<> \"\",TEXT(INT(P_20号3様式1!AE233),\"#,##0\"),\"\")","v":""},{"$f":"IF(P_20号3様式1!AE233= \"\",\"\",IF(VALUE(FIXED(P_20号3様式1!AE233,0,TRUE))<>P_20号3様式1!AE233,RIGHT(FIXED(P_20号3様式1!AE233,3,FALSE),4),\"\"))","v":""},{"$f":"IF(P_20号3様式1!F233<> \"\",IF(P_20号3様式1!F233<> \"-\",TEXT(INT(P_20号3様式1!F233),\"#,##0\"),\"-\"),\"\")","v":""},{"$f":"IF(P_20号3様式1!F233<> \"\",IF(P_20号3様式1!F233<> \"-\",IF(VALUE(FIXED(P_20号3様式1!F233,0,TRUE))<>P_20号3様式1!F233,RIGHT(FIXED(P_20号3様式1!F233,3,FALSE),4),\"\"),\"\"),\"\")","v":""},{"$f":"IF(P_20号3様式1!I233<> \"\",IF(P_20号3様式1!I233<> \"-\",TEXT(INT(P_20号3様式1!I233),\"#,##0\"),\"-\"),\"\")","v":""},{"$f":"IF(P_20号3様式1!I233<> \"\",IF(P_20号3様式1!I233<> \"-\",IF(VALUE(FIXED(P_20号3様式1!I233,0,TRUE))<>P_20号3様式1!I233,RIGHT(FIXED(P_20号3様式1!I233,3,FALSE),4),\"\"),\"\"),\"\")","v":""},{"$f":"IF(P_20号3様式1!L233<> \"\",IF(P_20号3様式1!L233<> \"-\",TEXT(INT(P_20号3様式1!L233),\"#,##0\"),\"-\"),\"\")","v":""},{"$f":"IF(P_20号3様式1!L233<> \"\",IF(P_20号3様式1!L233<> \"-\",IF(VALUE(FIXED(P_20号3様式1!L233,0,TRUE))<>P_20号3様式1!L233,RIGHT(FIXED(P_20号3様式1!L233,3,FALSE),4),\"\"),\"\"),\"\")","v":""},{"$f":"IF(P_20号3様式1!O233<> \"\",IF(P_20号3様式1!O233<> \"-\",TEXT(INT(P_20号3様式1!O233),\"#,##0\"),\"-\"),\"\")","v":""},{"$f":"IF(P_20号3様式1!O233<> \"\",IF(P_20号3様式1!O233<> \"-\",IF(VALUE(FIXED(P_20号3様式1!O233,0,TRUE))<>P_20号3様式1!O233,RIGHT(FIXED(P_20号3様式1!O233,3,FALSE),4),\"\"),\"\"),\"\")","v":""},{"$f":"IF(P_20号3様式1!R233<> \"\",IF(P_20号3様式1!R233<> \"-\",TEXT(INT(P_20号3様式1!R233),\"#,##0\"),\"-\"),\"\")","v":""},{"$f":"IF(P_20号3様式1!R233<> \"\",IF(P_20号3様式1!R233<> \"-\",IF(VALUE(FIXED(P_20号3様式1!R233,0,TRUE))<>P_20号3様式1!R233,RIGHT(FIXED(P_20号3様式1!R233,3,FALSE),4),\"\"),\"\"),\"\")","v":""},{"$f":"IF(P_20号3様式1!U233<> \"\",IF(P_20号3様式1!U233<> \"-\",TEXT(INT(P_20号3様式1!U233),\"#,##0\"),\"-\"),\"\")","v":""},{"$f":"IF(P_20号3様式1!U233<> \"\",IF(P_20号3様式1!U233<> \"-\",IF(VALUE(FIXED(P_20号3様式1!U233,0,TRUE))<>P_20号3様式1!U233,RIGHT(FIXED(P_20号3様式1!U233,3,FALSE),4),\"\"),\"\"),\"\")","v":""},{"$f":"IF(P_20号3様式1!X233<> \"\",IF(P_20号3様式1!X233<> \"-\",TEXT(INT(P_20号3様式1!X233),\"#,##0\"),\"-\"),\"\")","v":""},{"$f":"IF(P_20号3様式1!X233<> \"\",IF(P_20号3様式1!X233<> \"-\",IF(VALUE(FIXED(P_20号3様式1!X233,0,TRUE))<>P_20号3様式1!X233,RIGHT(FIXED(P_20号3様式1!X233,3,FALSE),4),\"\"),\"\"),\"\")","v":""},{"$f":"IF(P_20号3様式1!AA233<> \"\",IF(P_20号3様式1!AA233<> \"-\",TEXT(INT(P_20号3様式1!AA233),\"#,##0\"),\"-\"),\"\")","v":""},{"$f":"IF(P_20号3様式1!AA233<> \"\",IF(P_20号3様式1!AA233<> \"-\",IF(VALUE(FIXED(P_20号3様式1!AA233,0,TRUE))<>P_20号3様式1!AA233,RIGHT(FIXED(P_20号3様式1!AA233,3,FALSE),4),\"\"),\"\"),\"\")","v":""}]
[{"$f":"IF(P_20号3様式1!C234=\"\",\"\",P_20号3様式1!C234)","v":""},{"$f":"IF(P_20号3様式1!AE234<> \"\",TEXT(INT(P_20号3様式1!AE234),\"#,##0\"),\"\")","v":""},{"$f":"IF(P_20号3様式1!AE234= \"\",\"\",IF(VALUE(FIXED(P_20号3様式1!AE234,0,TRUE))<>P_20号3様式1!AE234,RIGHT(FIXED(P_20号3様式1!AE234,3,FALSE),4),\"\"))","v":""},{"$f":"IF(P_20号3様式1!F234<> \"\",IF(P_20号3様式1!F234<> \"-\",TEXT(INT(P_20号3様式1!F234),\"#,##0\"),\"-\"),\"\")","v":""},{"$f":"IF(P_20号3様式1!F234<> \"\",IF(P_20号3様式1!F234<> \"-\",IF(VALUE(FIXED(P_20号3様式1!F234,0,TRUE))<>P_20号3様式1!F234,RIGHT(FIXED(P_20号3様式1!F234,3,FALSE),4),\"\"),\"\"),\"\")","v":""},{"$f":"IF(P_20号3様式1!I234<> \"\",IF(P_20号3様式1!I234<> \"-\",TEXT(INT(P_20号3様式1!I234),\"#,##0\"),\"-\"),\"\")","v":""},{"$f":"IF(P_20号3様式1!I234<> \"\",IF(P_20号3様式1!I234<> \"-\",IF(VALUE(FIXED(P_20号3様式1!I234,0,TRUE))<>P_20号3様式1!I234,RIGHT(FIXED(P_20号3様式1!I234,3,FALSE),4),\"\"),\"\"),\"\")","v":""},{"$f":"IF(P_20号3様式1!L234<> \"\",IF(P_20号3様式1!L234<> \"-\",TEXT(INT(P_20号3様式1!L234),\"#,##0\"),\"-\"),\"\")","v":""},{"$f":"IF(P_20号3様式1!L234<> \"\",IF(P_20号3様式1!L234<> \"-\",IF(VALUE(FIXED(P_20号3様式1!L234,0,TRUE))<>P_20号3様式1!L234,RIGHT(FIXED(P_20号3様式1!L234,3,FALSE),4),\"\"),\"\"),\"\")","v":""},{"$f":"IF(P_20号3様式1!O234<> \"\",IF(P_20号3様式1!O234<> \"-\",TEXT(INT(P_20号3様式1!O234),\"#,##0\"),\"-\"),\"\")","v":""},{"$f":"IF(P_20号3様式1!O234<> \"\",IF(P_20号3様式1!O234<> \"-\",IF(VALUE(FIXED(P_20号3様式1!O234,0,TRUE))<>P_20号3様式1!O234,RIGHT(FIXED(P_20号3様式1!O234,3,FALSE),4),\"\"),\"\"),\"\")","v":""},{"$f":"IF(P_20号3様式1!R234<> \"\",IF(P_20号3様式1!R234<> \"-\",TEXT(INT(P_20号3様式1!R234),\"#,##0\"),\"-\"),\"\")","v":""},{"$f":"IF(P_20号3様式1!R234<> \"\",IF(P_20号3様式1!R234<> \"-\",IF(VALUE(FIXED(P_20号3様式1!R234,0,TRUE))<>P_20号3様式1!R234,RIGHT(FIXED(P_20号3様式1!R234,3,FALSE),4),\"\"),\"\"),\"\")","v":""},{"$f":"IF(P_20号3様式1!U234<> \"\",IF(P_20号3様式1!U234<> \"-\",TEXT(INT(P_20号3様式1!U234),\"#,##0\"),\"-\"),\"\")","v":""},{"$f":"IF(P_20号3様式1!U234<> \"\",IF(P_20号3様式1!U234<> \"-\",IF(VALUE(FIXED(P_20号3様式1!U234,0,TRUE))<>P_20号3様式1!U234,RIGHT(FIXED(P_20号3様式1!U234,3,FALSE),4),\"\"),\"\"),\"\")","v":""},{"$f":"IF(P_20号3様式1!X234<> \"\",IF(P_20号3様式1!X234<> \"-\",TEXT(INT(P_20号3様式1!X234),\"#,##0\"),\"-\"),\"\")","v":""},{"$f":"IF(P_20号3様式1!X234<> \"\",IF(P_20号3様式1!X234<> \"-\",IF(VALUE(FIXED(P_20号3様式1!X234,0,TRUE))<>P_20号3様式1!X234,RIGHT(FIXED(P_20号3様式1!X234,3,FALSE),4),\"\"),\"\"),\"\")","v":""},{"$f":"IF(P_20号3様式1!AA234<> \"\",IF(P_20号3様式1!AA234<> \"-\",TEXT(INT(P_20号3様式1!AA234),\"#,##0\"),\"-\"),\"\")","v":""},{"$f":"IF(P_20号3様式1!AA234<> \"\",IF(P_20号3様式1!AA234<> \"-\",IF(VALUE(FIXED(P_20号3様式1!AA234,0,TRUE))<>P_20号3様式1!AA234,RIGHT(FIXED(P_20号3様式1!AA234,3,FALSE),4),\"\"),\"\"),\"\")","v":""}]
[{"$f":"IF(P_20号3様式1!C235=\"\",\"\",P_20号3様式1!C235)","v":""},{"$f":"IF(P_20号3様式1!AE235<> \"\",TEXT(INT(P_20号3様式1!AE235),\"#,##0\"),\"\")","v":""},{"$f":"IF(P_20号3様式1!AE235= \"\",\"\",IF(VALUE(FIXED(P_20号3様式1!AE235,0,TRUE))<>P_20号3様式1!AE235,RIGHT(FIXED(P_20号3様式1!AE235,3,FALSE),4),\"\"))","v":""},{"$f":"IF(P_20号3様式1!F235<> \"\",IF(P_20号3様式1!F235<> \"-\",TEXT(INT(P_20号3様式1!F235),\"#,##0\"),\"-\"),\"\")","v":""},{"$f":"IF(P_20号3様式1!F235<> \"\",IF(P_20号3様式1!F235<> \"-\",IF(VALUE(FIXED(P_20号3様式1!F235,0,TRUE))<>P_20号3様式1!F235,RIGHT(FIXED(P_20号3様式1!F235,3,FALSE),4),\"\"),\"\"),\"\")","v":""},{"$f":"IF(P_20号3様式1!I235<> \"\",IF(P_20号3様式1!I235<> \"-\",TEXT(INT(P_20号3様式1!I235),\"#,##0\"),\"-\"),\"\")","v":""},{"$f":"IF(P_20号3様式1!I235<> \"\",IF(P_20号3様式1!I235<> \"-\",IF(VALUE(FIXED(P_20号3様式1!I235,0,TRUE))<>P_20号3様式1!I235,RIGHT(FIXED(P_20号3様式1!I235,3,FALSE),4),\"\"),\"\"),\"\")","v":""},{"$f":"IF(P_20号3様式1!L235<> \"\",IF(P_20号3様式1!L235<> \"-\",TEXT(INT(P_20号3様式1!L235),\"#,##0\"),\"-\"),\"\")","v":""},{"$f":"IF(P_20号3様式1!L235<> \"\",IF(P_20号3様式1!L235<> \"-\",IF(VALUE(FIXED(P_20号3様式1!L235,0,TRUE))<>P_20号3様式1!L235,RIGHT(FIXED(P_20号3様式1!L235,3,FALSE),4),\"\"),\"\"),\"\")","v":""},{"$f":"IF(P_20号3様式1!O235<> \"\",IF(P_20号3様式1!O235<> \"-\",TEXT(INT(P_20号3様式1!O235),\"#,##0\"),\"-\"),\"\")","v":""},{"$f":"IF(P_20号3様式1!O235<> \"\",IF(P_20号3様式1!O235<> \"-\",IF(VALUE(FIXED(P_20号3様式1!O235,0,TRUE))<>P_20号3様式1!O235,RIGHT(FIXED(P_20号3様式1!O235,3,FALSE),4),\"\"),\"\"),\"\")","v":""},{"$f":"IF(P_20号3様式1!R235<> \"\",IF(P_20号3様式1!R235<> \"-\",TEXT(INT(P_20号3様式1!R235),\"#,##0\"),\"-\"),\"\")","v":""},{"$f":"IF(P_20号3様式1!R235<> \"\",IF(P_20号3様式1!R235<> \"-\",IF(VALUE(FIXED(P_20号3様式1!R235,0,TRUE))<>P_20号3様式1!R235,RIGHT(FIXED(P_20号3様式1!R235,3,FALSE),4),\"\"),\"\"),\"\")","v":""},{"$f":"IF(P_20号3様式1!U235<> \"\",IF(P_20号3様式1!U235<> \"-\",TEXT(INT(P_20号3様式1!U235),\"#,##0\"),\"-\"),\"\")","v":""},{"$f":"IF(P_20号3様式1!U235<> \"\",IF(P_20号3様式1!U235<> \"-\",IF(VALUE(FIXED(P_20号3様式1!U235,0,TRUE))<>P_20号3様式1!U235,RIGHT(FIXED(P_20号3様式1!U235,3,FALSE),4),\"\"),\"\"),\"\")","v":""},{"$f":"IF(P_20号3様式1!X235<> \"\",IF(P_20号3様式1!X235<> \"-\",TEXT(INT(P_20号3様式1!X235),\"#,##0\"),\"-\"),\"\")","v":""},{"$f":"IF(P_20号3様式1!X235<> \"\",IF(P_20号3様式1!X235<> \"-\",IF(VALUE(FIXED(P_20号3様式1!X235,0,TRUE))<>P_20号3様式1!X235,RIGHT(FIXED(P_20号3様式1!X235,3,FALSE),4),\"\"),\"\"),\"\")","v":""},{"$f":"IF(P_20号3様式1!AA235<> \"\",IF(P_20号3様式1!AA235<> \"-\",TEXT(INT(P_20号3様式1!AA235),\"#,##0\"),\"-\"),\"\")","v":""},{"$f":"IF(P_20号3様式1!AA235<> \"\",IF(P_20号3様式1!AA235<> \"-\",IF(VALUE(FIXED(P_20号3様式1!AA235,0,TRUE))<>P_20号3様式1!AA235,RIGHT(FIXED(P_20号3様式1!AA235,3,FALSE),4),\"\"),\"\"),\"\")","v":""}]
[{"$f":"IF(P_20号3様式1!C236=\"\",\"\",P_20号3様式1!C236)","v":""},{"$f":"IF(P_20号3様式1!AE236<> \"\",TEXT(INT(P_20号3様式1!AE236),\"#,##0\"),\"\")","v":""},{"$f":"IF(P_20号3様式1!AE236= \"\",\"\",IF(VALUE(FIXED(P_20号3様式1!AE236,0,TRUE))<>P_20号3様式1!AE236,RIGHT(FIXED(P_20号3様式1!AE236,3,FALSE),4),\"\"))","v":""},{"$f":"IF(P_20号3様式1!F236<> \"\",IF(P_20号3様式1!F236<> \"-\",TEXT(INT(P_20号3様式1!F236),\"#,##0\"),\"-\"),\"\")","v":""},{"$f":"IF(P_20号3様式1!F236<> \"\",IF(P_20号3様式1!F236<> \"-\",IF(VALUE(FIXED(P_20号3様式1!F236,0,TRUE))<>P_20号3様式1!F236,RIGHT(FIXED(P_20号3様式1!F236,3,FALSE),4),\"\"),\"\"),\"\")","v":""},{"$f":"IF(P_20号3様式1!I236<> \"\",IF(P_20号3様式1!I236<> \"-\",TEXT(INT(P_20号3様式1!I236),\"#,##0\"),\"-\"),\"\")","v":""},{"$f":"IF(P_20号3様式1!I236<> \"\",IF(P_20号3様式1!I236<> \"-\",IF(VALUE(FIXED(P_20号3様式1!I236,0,TRUE))<>P_20号3様式1!I236,RIGHT(FIXED(P_20号3様式1!I236,3,FALSE),4),\"\"),\"\"),\"\")","v":""},{"$f":"IF(P_20号3様式1!L236<> \"\",IF(P_20号3様式1!L236<> \"-\",TEXT(INT(P_20号3様式1!L236),\"#,##0\"),\"-\"),\"\")","v":""},{"$f":"IF(P_20号3様式1!L236<> \"\",IF(P_20号3様式1!L236<> \"-\",IF(VALUE(FIXED(P_20号3様式1!L236,0,TRUE))<>P_20号3様式1!L236,RIGHT(FIXED(P_20号3様式1!L236,3,FALSE),4),\"\"),\"\"),\"\")","v":""},{"$f":"IF(P_20号3様式1!O236<> \"\",IF(P_20号3様式1!O236<> \"-\",TEXT(INT(P_20号3様式1!O236),\"#,##0\"),\"-\"),\"\")","v":""},{"$f":"IF(P_20号3様式1!O236<> \"\",IF(P_20号3様式1!O236<> \"-\",IF(VALUE(FIXED(P_20号3様式1!O236,0,TRUE))<>P_20号3様式1!O236,RIGHT(FIXED(P_20号3様式1!O236,3,FALSE),4),\"\"),\"\"),\"\")","v":""},{"$f":"IF(P_20号3様式1!R236<> \"\",IF(P_20号3様式1!R236<> \"-\",TEXT(INT(P_20号3様式1!R236),\"#,##0\"),\"-\"),\"\")","v":""},{"$f":"IF(P_20号3様式1!R236<> \"\",IF(P_20号3様式1!R236<> \"-\",IF(VALUE(FIXED(P_20号3様式1!R236,0,TRUE))<>P_20号3様式1!R236,RIGHT(FIXED(P_20号3様式1!R236,3,FALSE),4),\"\"),\"\"),\"\")","v":""},{"$f":"IF(P_20号3様式1!U236<> \"\",IF(P_20号3様式1!U236<> \"-\",TEXT(INT(P_20号3様式1!U236),\"#,##0\"),\"-\"),\"\")","v":""},{"$f":"IF(P_20号3様式1!U236<> \"\",IF(P_20号3様式1!U236<> \"-\",IF(VALUE(FIXED(P_20号3様式1!U236,0,TRUE))<>P_20号3様式1!U236,RIGHT(FIXED(P_20号3様式1!U236,3,FALSE),4),\"\"),\"\"),\"\")","v":""},{"$f":"IF(P_20号3様式1!X236<> \"\",IF(P_20号3様式1!X236<> \"-\",TEXT(INT(P_20号3様式1!X236),\"#,##0\"),\"-\"),\"\")","v":""},{"$f":"IF(P_20号3様式1!X236<> \"\",IF(P_20号3様式1!X236<> \"-\",IF(VALUE(FIXED(P_20号3様式1!X236,0,TRUE))<>P_20号3様式1!X236,RIGHT(FIXED(P_20号3様式1!X236,3,FALSE),4),\"\"),\"\"),\"\")","v":""},{"$f":"IF(P_20号3様式1!AA236<> \"\",IF(P_20号3様式1!AA236<> \"-\",TEXT(INT(P_20号3様式1!AA236),\"#,##0\"),\"-\"),\"\")","v":""},{"$f":"IF(P_20号3様式1!AA236<> \"\",IF(P_20号3様式1!AA236<> \"-\",IF(VALUE(FIXED(P_20号3様式1!AA236,0,TRUE))<>P_20号3様式1!AA236,RIGHT(FIXED(P_20号3様式1!AA236,3,FALSE),4),\"\"),\"\"),\"\")","v":""}]
[{"$f":"IF(P_20号3様式1!C237=\"\",\"\",P_20号3様式1!C237)","v":""},{"$f":"IF(P_20号3様式1!AE237<> \"\",TEXT(INT(P_20号3様式1!AE237),\"#,##0\"),\"\")","v":""},{"$f":"IF(P_20号3様式1!AE237= \"\",\"\",IF(VALUE(FIXED(P_20号3様式1!AE237,0,TRUE))<>P_20号3様式1!AE237,RIGHT(FIXED(P_20号3様式1!AE237,3,FALSE),4),\"\"))","v":""},{"$f":"IF(P_20号3様式1!F237<> \"\",IF(P_20号3様式1!F237<> \"-\",TEXT(INT(P_20号3様式1!F237),\"#,##0\"),\"-\"),\"\")","v":""},{"$f":"IF(P_20号3様式1!F237<> \"\",IF(P_20号3様式1!F237<> \"-\",IF(VALUE(FIXED(P_20号3様式1!F237,0,TRUE))<>P_20号3様式1!F237,RIGHT(FIXED(P_20号3様式1!F237,3,FALSE),4),\"\"),\"\"),\"\")","v":""},{"$f":"IF(P_20号3様式1!I237<> \"\",IF(P_20号3様式1!I237<> \"-\",TEXT(INT(P_20号3様式1!I237),\"#,##0\"),\"-\"),\"\")","v":""},{"$f":"IF(P_20号3様式1!I237<> \"\",IF(P_20号3様式1!I237<> \"-\",IF(VALUE(FIXED(P_20号3様式1!I237,0,TRUE))<>P_20号3様式1!I237,RIGHT(FIXED(P_20号3様式1!I237,3,FALSE),4),\"\"),\"\"),\"\")","v":""},{"$f":"IF(P_20号3様式1!L237<> \"\",IF(P_20号3様式1!L237<> \"-\",TEXT(INT(P_20号3様式1!L237),\"#,##0\"),\"-\"),\"\")","v":""},{"$f":"IF(P_20号3様式1!L237<> \"\",IF(P_20号3様式1!L237<> \"-\",IF(VALUE(FIXED(P_20号3様式1!L237,0,TRUE))<>P_20号3様式1!L237,RIGHT(FIXED(P_20号3様式1!L237,3,FALSE),4),\"\"),\"\"),\"\")","v":""},{"$f":"IF(P_20号3様式1!O237<> \"\",IF(P_20号3様式1!O237<> \"-\",TEXT(INT(P_20号3様式1!O237),\"#,##0\"),\"-\"),\"\")","v":""},{"$f":"IF(P_20号3様式1!O237<> \"\",IF(P_20号3様式1!O237<> \"-\",IF(VALUE(FIXED(P_20号3様式1!O237,0,TRUE))<>P_20号3様式1!O237,RIGHT(FIXED(P_20号3様式1!O237,3,FALSE),4),\"\"),\"\"),\"\")","v":""},{"$f":"IF(P_20号3様式1!R237<> \"\",IF(P_20号3様式1!R237<> \"-\",TEXT(INT(P_20号3様式1!R237),\"#,##0\"),\"-\"),\"\")","v":""},{"$f":"IF(P_20号3様式1!R237<> \"\",IF(P_20号3様式1!R237<> \"-\",IF(VALUE(FIXED(P_20号3様式1!R237,0,TRUE))<>P_20号3様式1!R237,RIGHT(FIXED(P_20号3様式1!R237,3,FALSE),4),\"\"),\"\"),\"\")","v":""},{"$f":"IF(P_20号3様式1!U237<> \"\",IF(P_20号3様式1!U237<> \"-\",TEXT(INT(P_20号3様式1!U237),\"#,##0\"),\"-\"),\"\")","v":""},{"$f":"IF(P_20号3様式1!U237<> \"\",IF(P_20号3様式1!U237<> \"-\",IF(VALUE(FIXED(P_20号3様式1!U237,0,TRUE))<>P_20号3様式1!U237,RIGHT(FIXED(P_20号3様式1!U237,3,FALSE),4),\"\"),\"\"),\"\")","v":""},{"$f":"IF(P_20号3様式1!X237<> \"\",IF(P_20号3様式1!X237<> \"-\",TEXT(INT(P_20号3様式1!X237),\"#,##0\"),\"-\"),\"\")","v":""},{"$f":"IF(P_20号3様式1!X237<> \"\",IF(P_20号3様式1!X237<> \"-\",IF(VALUE(FIXED(P_20号3様式1!X237,0,TRUE))<>P_20号3様式1!X237,RIGHT(FIXED(P_20号3様式1!X237,3,FALSE),4),\"\"),\"\"),\"\")","v":""},{"$f":"IF(P_20号3様式1!AA237<> \"\",IF(P_20号3様式1!AA237<> \"-\",TEXT(INT(P_20号3様式1!AA237),\"#,##0\"),\"-\"),\"\")","v":""},{"$f":"IF(P_20号3様式1!AA237<> \"\",IF(P_20号3様式1!AA237<> \"-\",IF(VALUE(FIXED(P_20号3様式1!AA237,0,TRUE))<>P_20号3様式1!AA237,RIGHT(FIXED(P_20号3様式1!AA237,3,FALSE),4),\"\"),\"\"),\"\")","v":""}]
[{"$f":"IF(P_20号3様式1!C238=\"\",\"\",P_20号3様式1!C238)","v":""},{"$f":"IF(P_20号3様式1!AE238<> \"\",TEXT(INT(P_20号3様式1!AE238),\"#,##0\"),\"\")","v":""},{"$f":"IF(P_20号3様式1!AE238= \"\",\"\",IF(VALUE(FIXED(P_20号3様式1!AE238,0,TRUE))<>P_20号3様式1!AE238,RIGHT(FIXED(P_20号3様式1!AE238,3,FALSE),4),\"\"))","v":""},{"$f":"IF(P_20号3様式1!F238<> \"\",IF(P_20号3様式1!F238<> \"-\",TEXT(INT(P_20号3様式1!F238),\"#,##0\"),\"-\"),\"\")","v":""},{"$f":"IF(P_20号3様式1!F238<> \"\",IF(P_20号3様式1!F238<> \"-\",IF(VALUE(FIXED(P_20号3様式1!F238,0,TRUE))<>P_20号3様式1!F238,RIGHT(FIXED(P_20号3様式1!F238,3,FALSE),4),\"\"),\"\"),\"\")","v":""},{"$f":"IF(P_20号3様式1!I238<> \"\",IF(P_20号3様式1!I238<> \"-\",TEXT(INT(P_20号3様式1!I238),\"#,##0\"),\"-\"),\"\")","v":""},{"$f":"IF(P_20号3様式1!I238<> \"\",IF(P_20号3様式1!I238<> \"-\",IF(VALUE(FIXED(P_20号3様式1!I238,0,TRUE))<>P_20号3様式1!I238,RIGHT(FIXED(P_20号3様式1!I238,3,FALSE),4),\"\"),\"\"),\"\")","v":""},{"$f":"IF(P_20号3様式1!L238<> \"\",IF(P_20号3様式1!L238<> \"-\",TEXT(INT(P_20号3様式1!L238),\"#,##0\"),\"-\"),\"\")","v":""},{"$f":"IF(P_20号3様式1!L238<> \"\",IF(P_20号3様式1!L238<> \"-\",IF(VALUE(FIXED(P_20号3様式1!L238,0,TRUE))<>P_20号3様式1!L238,RIGHT(FIXED(P_20号3様式1!L238,3,FALSE),4),\"\"),\"\"),\"\")","v":""},{"$f":"IF(P_20号3様式1!O238<> \"\",IF(P_20号3様式1!O238<> \"-\",TEXT(INT(P_20号3様式1!O238),\"#,##0\"),\"-\"),\"\")","v":""},{"$f":"IF(P_20号3様式1!O238<> \"\",IF(P_20号3様式1!O238<> \"-\",IF(VALUE(FIXED(P_20号3様式1!O238,0,TRUE))<>P_20号3様式1!O238,RIGHT(FIXED(P_20号3様式1!O238,3,FALSE),4),\"\"),\"\"),\"\")","v":""},{"$f":"IF(P_20号3様式1!R238<> \"\",IF(P_20号3様式1!R238<> \"-\",TEXT(INT(P_20号3様式1!R238),\"#,##0\"),\"-\"),\"\")","v":""},{"$f":"IF(P_20号3様式1!R238<> \"\",IF(P_20号3様式1!R238<> \"-\",IF(VALUE(FIXED(P_20号3様式1!R238,0,TRUE))<>P_20号3様式1!R238,RIGHT(FIXED(P_20号3様式1!R238,3,FALSE),4),\"\"),\"\"),\"\")","v":""},{"$f":"IF(P_20号3様式1!U238<> \"\",IF(P_20号3様式1!U238<> \"-\",TEXT(INT(P_20号3様式1!U238),\"#,##0\"),\"-\"),\"\")","v":""},{"$f":"IF(P_20号3様式1!U238<> \"\",IF(P_20号3様式1!U238<> \"-\",IF(VALUE(FIXED(P_20号3様式1!U238,0,TRUE))<>P_20号3様式1!U238,RIGHT(FIXED(P_20号3様式1!U238,3,FALSE),4),\"\"),\"\"),\"\")","v":""},{"$f":"IF(P_20号3様式1!X238<> \"\",IF(P_20号3様式1!X238<> \"-\",TEXT(INT(P_20号3様式1!X238),\"#,##0\"),\"-\"),\"\")","v":""},{"$f":"IF(P_20号3様式1!X238<> \"\",IF(P_20号3様式1!X238<> \"-\",IF(VALUE(FIXED(P_20号3様式1!X238,0,TRUE))<>P_20号3様式1!X238,RIGHT(FIXED(P_20号3様式1!X238,3,FALSE),4),\"\"),\"\"),\"\")","v":""},{"$f":"IF(P_20号3様式1!AA238<> \"\",IF(P_20号3様式1!AA238<> \"-\",TEXT(INT(P_20号3様式1!AA238),\"#,##0\"),\"-\"),\"\")","v":""},{"$f":"IF(P_20号3様式1!AA238<> \"\",IF(P_20号3様式1!AA238<> \"-\",IF(VALUE(FIXED(P_20号3様式1!AA238,0,TRUE))<>P_20号3様式1!AA238,RIGHT(FIXED(P_20号3様式1!AA238,3,FALSE),4),\"\"),\"\"),\"\")","v":""}]
[{"$f":"IF(P_20号3様式1!C239=\"\",\"\",P_20号3様式1!C239)","v":""},{"$f":"IF(P_20号3様式1!AE239<> \"\",TEXT(INT(P_20号3様式1!AE239),\"#,##0\"),\"\")","v":""},{"$f":"IF(P_20号3様式1!AE239= \"\",\"\",IF(VALUE(FIXED(P_20号3様式1!AE239,0,TRUE))<>P_20号3様式1!AE239,RIGHT(FIXED(P_20号3様式1!AE239,3,FALSE),4),\"\"))","v":""},{"$f":"IF(P_20号3様式1!F239<> \"\",IF(P_20号3様式1!F239<> \"-\",TEXT(INT(P_20号3様式1!F239),\"#,##0\"),\"-\"),\"\")","v":""},{"$f":"IF(P_20号3様式1!F239<> \"\",IF(P_20号3様式1!F239<> \"-\",IF(VALUE(FIXED(P_20号3様式1!F239,0,TRUE))<>P_20号3様式1!F239,RIGHT(FIXED(P_20号3様式1!F239,3,FALSE),4),\"\"),\"\"),\"\")","v":""},{"$f":"IF(P_20号3様式1!I239<> \"\",IF(P_20号3様式1!I239<> \"-\",TEXT(INT(P_20号3様式1!I239),\"#,##0\"),\"-\"),\"\")","v":""},{"$f":"IF(P_20号3様式1!I239<> \"\",IF(P_20号3様式1!I239<> \"-\",IF(VALUE(FIXED(P_20号3様式1!I239,0,TRUE))<>P_20号3様式1!I239,RIGHT(FIXED(P_20号3様式1!I239,3,FALSE),4),\"\"),\"\"),\"\")","v":""},{"$f":"IF(P_20号3様式1!L239<> \"\",IF(P_20号3様式1!L239<> \"-\",TEXT(INT(P_20号3様式1!L239),\"#,##0\"),\"-\"),\"\")","v":""},{"$f":"IF(P_20号3様式1!L239<> \"\",IF(P_20号3様式1!L239<> \"-\",IF(VALUE(FIXED(P_20号3様式1!L239,0,TRUE))<>P_20号3様式1!L239,RIGHT(FIXED(P_20号3様式1!L239,3,FALSE),4),\"\"),\"\"),\"\")","v":""},{"$f":"IF(P_20号3様式1!O239<> \"\",IF(P_20号3様式1!O239<> \"-\",TEXT(INT(P_20号3様式1!O239),\"#,##0\"),\"-\"),\"\")","v":""},{"$f":"IF(P_20号3様式1!O239<> \"\",IF(P_20号3様式1!O239<> \"-\",IF(VALUE(FIXED(P_20号3様式1!O239,0,TRUE))<>P_20号3様式1!O239,RIGHT(FIXED(P_20号3様式1!O239,3,FALSE),4),\"\"),\"\"),\"\")","v":""},{"$f":"IF(P_20号3様式1!R239<> \"\",IF(P_20号3様式1!R239<> \"-\",TEXT(INT(P_20号3様式1!R239),\"#,##0\"),\"-\"),\"\")","v":""},{"$f":"IF(P_20号3様式1!R239<> \"\",IF(P_20号3様式1!R239<> \"-\",IF(VALUE(FIXED(P_20号3様式1!R239,0,TRUE))<>P_20号3様式1!R239,RIGHT(FIXED(P_20号3様式1!R239,3,FALSE),4),\"\"),\"\"),\"\")","v":""},{"$f":"IF(P_20号3様式1!U239<> \"\",IF(P_20号3様式1!U239<> \"-\",TEXT(INT(P_20号3様式1!U239),\"#,##0\"),\"-\"),\"\")","v":""},{"$f":"IF(P_20号3様式1!U239<> \"\",IF(P_20号3様式1!U239<> \"-\",IF(VALUE(FIXED(P_20号3様式1!U239,0,TRUE))<>P_20号3様式1!U239,RIGHT(FIXED(P_20号3様式1!U239,3,FALSE),4),\"\"),\"\"),\"\")","v":""},{"$f":"IF(P_20号3様式1!X239<> \"\",IF(P_20号3様式1!X239<> \"-\",TEXT(INT(P_20号3様式1!X239),\"#,##0\"),\"-\"),\"\")","v":""},{"$f":"IF(P_20号3様式1!X239<> \"\",IF(P_20号3様式1!X239<> \"-\",IF(VALUE(FIXED(P_20号3様式1!X239,0,TRUE))<>P_20号3様式1!X239,RIGHT(FIXED(P_20号3様式1!X239,3,FALSE),4),\"\"),\"\"),\"\")","v":""},{"$f":"IF(P_20号3様式1!AA239<> \"\",IF(P_20号3様式1!AA239<> \"-\",TEXT(INT(P_20号3様式1!AA239),\"#,##0\"),\"-\"),\"\")","v":""},{"$f":"IF(P_20号3様式1!AA239<> \"\",IF(P_20号3様式1!AA239<> \"-\",IF(VALUE(FIXED(P_20号3様式1!AA239,0,TRUE))<>P_20号3様式1!AA239,RIGHT(FIXED(P_20号3様式1!AA239,3,FALSE),4),\"\"),\"\"),\"\")","v":""}]
[{"$f":"IF(P_20号3様式1!C240=\"\",\"\",P_20号3様式1!C240)","v":""},{"$f":"IF(P_20号3様式1!AE240<> \"\",TEXT(INT(P_20号3様式1!AE240),\"#,##0\"),\"\")","v":""},{"$f":"IF(P_20号3様式1!AE240= \"\",\"\",IF(VALUE(FIXED(P_20号3様式1!AE240,0,TRUE))<>P_20号3様式1!AE240,RIGHT(FIXED(P_20号3様式1!AE240,3,FALSE),4),\"\"))","v":""},{"$f":"IF(P_20号3様式1!F240<> \"\",IF(P_20号3様式1!F240<> \"-\",TEXT(INT(P_20号3様式1!F240),\"#,##0\"),\"-\"),\"\")","v":""},{"$f":"IF(P_20号3様式1!F240<> \"\",IF(P_20号3様式1!F240<> \"-\",IF(VALUE(FIXED(P_20号3様式1!F240,0,TRUE))<>P_20号3様式1!F240,RIGHT(FIXED(P_20号3様式1!F240,3,FALSE),4),\"\"),\"\"),\"\")","v":""},{"$f":"IF(P_20号3様式1!I240<> \"\",IF(P_20号3様式1!I240<> \"-\",TEXT(INT(P_20号3様式1!I240),\"#,##0\"),\"-\"),\"\")","v":""},{"$f":"IF(P_20号3様式1!I240<> \"\",IF(P_20号3様式1!I240<> \"-\",IF(VALUE(FIXED(P_20号3様式1!I240,0,TRUE))<>P_20号3様式1!I240,RIGHT(FIXED(P_20号3様式1!I240,3,FALSE),4),\"\"),\"\"),\"\")","v":""},{"$f":"IF(P_20号3様式1!L240<> \"\",IF(P_20号3様式1!L240<> \"-\",TEXT(INT(P_20号3様式1!L240),\"#,##0\"),\"-\"),\"\")","v":""},{"$f":"IF(P_20号3様式1!L240<> \"\",IF(P_20号3様式1!L240<> \"-\",IF(VALUE(FIXED(P_20号3様式1!L240,0,TRUE))<>P_20号3様式1!L240,RIGHT(FIXED(P_20号3様式1!L240,3,FALSE),4),\"\"),\"\"),\"\")","v":""},{"$f":"IF(P_20号3様式1!O240<> \"\",IF(P_20号3様式1!O240<> \"-\",TEXT(INT(P_20号3様式1!O240),\"#,##0\"),\"-\"),\"\")","v":""},{"$f":"IF(P_20号3様式1!O240<> \"\",IF(P_20号3様式1!O240<> \"-\",IF(VALUE(FIXED(P_20号3様式1!O240,0,TRUE))<>P_20号3様式1!O240,RIGHT(FIXED(P_20号3様式1!O240,3,FALSE),4),\"\"),\"\"),\"\")","v":""},{"$f":"IF(P_20号3様式1!R240<> \"\",IF(P_20号3様式1!R240<> \"-\",TEXT(INT(P_20号3様式1!R240),\"#,##0\"),\"-\"),\"\")","v":""},{"$f":"IF(P_20号3様式1!R240<> \"\",IF(P_20号3様式1!R240<> \"-\",IF(VALUE(FIXED(P_20号3様式1!R240,0,TRUE))<>P_20号3様式1!R240,RIGHT(FIXED(P_20号3様式1!R240,3,FALSE),4),\"\"),\"\"),\"\")","v":""},{"$f":"IF(P_20号3様式1!U240<> \"\",IF(P_20号3様式1!U240<> \"-\",TEXT(INT(P_20号3様式1!U240),\"#,##0\"),\"-\"),\"\")","v":""},{"$f":"IF(P_20号3様式1!U240<> \"\",IF(P_20号3様式1!U240<> \"-\",IF(VALUE(FIXED(P_20号3様式1!U240,0,TRUE))<>P_20号3様式1!U240,RIGHT(FIXED(P_20号3様式1!U240,3,FALSE),4),\"\"),\"\"),\"\")","v":""},{"$f":"IF(P_20号3様式1!X240<> \"\",IF(P_20号3様式1!X240<> \"-\",TEXT(INT(P_20号3様式1!X240),\"#,##0\"),\"-\"),\"\")","v":""},{"$f":"IF(P_20号3様式1!X240<> \"\",IF(P_20号3様式1!X240<> \"-\",IF(VALUE(FIXED(P_20号3様式1!X240,0,TRUE))<>P_20号3様式1!X240,RIGHT(FIXED(P_20号3様式1!X240,3,FALSE),4),\"\"),\"\"),\"\")","v":""},{"$f":"IF(P_20号3様式1!AA240<> \"\",IF(P_20号3様式1!AA240<> \"-\",TEXT(INT(P_20号3様式1!AA240),\"#,##0\"),\"-\"),\"\")","v":""},{"$f":"IF(P_20号3様式1!AA240<> \"\",IF(P_20号3様式1!AA240<> \"-\",IF(VALUE(FIXED(P_20号3様式1!AA240,0,TRUE))<>P_20号3様式1!AA240,RIGHT(FIXED(P_20号3様式1!AA240,3,FALSE),4),\"\"),\"\"),\"\")","v":""}]
[{"$f":"IF(P_20号3様式1!C241=\"\",\"\",P_20号3様式1!C241)","v":""},{"$f":"IF(P_20号3様式1!AE241<> \"\",TEXT(INT(P_20号3様式1!AE241),\"#,##0\"),\"\")","v":""},{"$f":"IF(P_20号3様式1!AE241= \"\",\"\",IF(VALUE(FIXED(P_20号3様式1!AE241,0,TRUE))<>P_20号3様式1!AE241,RIGHT(FIXED(P_20号3様式1!AE241,3,FALSE),4),\"\"))","v":""},{"$f":"IF(P_20号3様式1!F241<> \"\",IF(P_20号3様式1!F241<> \"-\",TEXT(INT(P_20号3様式1!F241),\"#,##0\"),\"-\"),\"\")","v":""},{"$f":"IF(P_20号3様式1!F241<> \"\",IF(P_20号3様式1!F241<> \"-\",IF(VALUE(FIXED(P_20号3様式1!F241,0,TRUE))<>P_20号3様式1!F241,RIGHT(FIXED(P_20号3様式1!F241,3,FALSE),4),\"\"),\"\"),\"\")","v":""},{"$f":"IF(P_20号3様式1!I241<> \"\",IF(P_20号3様式1!I241<> \"-\",TEXT(INT(P_20号3様式1!I241),\"#,##0\"),\"-\"),\"\")","v":""},{"$f":"IF(P_20号3様式1!I241<> \"\",IF(P_20号3様式1!I241<> \"-\",IF(VALUE(FIXED(P_20号3様式1!I241,0,TRUE))<>P_20号3様式1!I241,RIGHT(FIXED(P_20号3様式1!I241,3,FALSE),4),\"\"),\"\"),\"\")","v":""},{"$f":"IF(P_20号3様式1!L241<> \"\",IF(P_20号3様式1!L241<> \"-\",TEXT(INT(P_20号3様式1!L241),\"#,##0\"),\"-\"),\"\")","v":""},{"$f":"IF(P_20号3様式1!L241<> \"\",IF(P_20号3様式1!L241<> \"-\",IF(VALUE(FIXED(P_20号3様式1!L241,0,TRUE))<>P_20号3様式1!L241,RIGHT(FIXED(P_20号3様式1!L241,3,FALSE),4),\"\"),\"\"),\"\")","v":""},{"$f":"IF(P_20号3様式1!O241<> \"\",IF(P_20号3様式1!O241<> \"-\",TEXT(INT(P_20号3様式1!O241),\"#,##0\"),\"-\"),\"\")","v":""},{"$f":"IF(P_20号3様式1!O241<> \"\",IF(P_20号3様式1!O241<> \"-\",IF(VALUE(FIXED(P_20号3様式1!O241,0,TRUE))<>P_20号3様式1!O241,RIGHT(FIXED(P_20号3様式1!O241,3,FALSE),4),\"\"),\"\"),\"\")","v":""},{"$f":"IF(P_20号3様式1!R241<> \"\",IF(P_20号3様式1!R241<> \"-\",TEXT(INT(P_20号3様式1!R241),\"#,##0\"),\"-\"),\"\")","v":""},{"$f":"IF(P_20号3様式1!R241<> \"\",IF(P_20号3様式1!R241<> \"-\",IF(VALUE(FIXED(P_20号3様式1!R241,0,TRUE))<>P_20号3様式1!R241,RIGHT(FIXED(P_20号3様式1!R241,3,FALSE),4),\"\"),\"\"),\"\")","v":""},{"$f":"IF(P_20号3様式1!U241<> \"\",IF(P_20号3様式1!U241<> \"-\",TEXT(INT(P_20号3様式1!U241),\"#,##0\"),\"-\"),\"\")","v":""},{"$f":"IF(P_20号3様式1!U241<> \"\",IF(P_20号3様式1!U241<> \"-\",IF(VALUE(FIXED(P_20号3様式1!U241,0,TRUE))<>P_20号3様式1!U241,RIGHT(FIXED(P_20号3様式1!U241,3,FALSE),4),\"\"),\"\"),\"\")","v":""},{"$f":"IF(P_20号3様式1!X241<> \"\",IF(P_20号3様式1!X241<> \"-\",TEXT(INT(P_20号3様式1!X241),\"#,##0\"),\"-\"),\"\")","v":""},{"$f":"IF(P_20号3様式1!X241<> \"\",IF(P_20号3様式1!X241<> \"-\",IF(VALUE(FIXED(P_20号3様式1!X241,0,TRUE))<>P_20号3様式1!X241,RIGHT(FIXED(P_20号3様式1!X241,3,FALSE),4),\"\"),\"\"),\"\")","v":""},{"$f":"IF(P_20号3様式1!AA241<> \"\",IF(P_20号3様式1!AA241<> \"-\",TEXT(INT(P_20号3様式1!AA241),\"#,##0\"),\"-\"),\"\")","v":""},{"$f":"IF(P_20号3様式1!AA241<> \"\",IF(P_20号3様式1!AA241<> \"-\",IF(VALUE(FIXED(P_20号3様式1!AA241,0,TRUE))<>P_20号3様式1!AA241,RIGHT(FIXED(P_20号3様式1!AA241,3,FALSE),4),\"\"),\"\"),\"\")","v":""}]
[{"$f":"IF(P_20号3様式1!C242=\"\",\"\",P_20号3様式1!C242)","v":""},{"$f":"IF(P_20号3様式1!AE242<> \"\",TEXT(INT(P_20号3様式1!AE242),\"#,##0\"),\"\")","v":""},{"$f":"IF(P_20号3様式1!AE242= \"\",\"\",IF(VALUE(FIXED(P_20号3様式1!AE242,0,TRUE))<>P_20号3様式1!AE242,RIGHT(FIXED(P_20号3様式1!AE242,3,FALSE),4),\"\"))","v":""},{"$f":"IF(P_20号3様式1!F242<> \"\",IF(P_20号3様式1!F242<> \"-\",TEXT(INT(P_20号3様式1!F242),\"#,##0\"),\"-\"),\"\")","v":""},{"$f":"IF(P_20号3様式1!F242<> \"\",IF(P_20号3様式1!F242<> \"-\",IF(VALUE(FIXED(P_20号3様式1!F242,0,TRUE))<>P_20号3様式1!F242,RIGHT(FIXED(P_20号3様式1!F242,3,FALSE),4),\"\"),\"\"),\"\")","v":""},{"$f":"IF(P_20号3様式1!I242<> \"\",IF(P_20号3様式1!I242<> \"-\",TEXT(INT(P_20号3様式1!I242),\"#,##0\"),\"-\"),\"\")","v":""},{"$f":"IF(P_20号3様式1!I242<> \"\",IF(P_20号3様式1!I242<> \"-\",IF(VALUE(FIXED(P_20号3様式1!I242,0,TRUE))<>P_20号3様式1!I242,RIGHT(FIXED(P_20号3様式1!I242,3,FALSE),4),\"\"),\"\"),\"\")","v":""},{"$f":"IF(P_20号3様式1!L242<> \"\",IF(P_20号3様式1!L242<> \"-\",TEXT(INT(P_20号3様式1!L242),\"#,##0\"),\"-\"),\"\")","v":""},{"$f":"IF(P_20号3様式1!L242<> \"\",IF(P_20号3様式1!L242<> \"-\",IF(VALUE(FIXED(P_20号3様式1!L242,0,TRUE))<>P_20号3様式1!L242,RIGHT(FIXED(P_20号3様式1!L242,3,FALSE),4),\"\"),\"\"),\"\")","v":""},{"$f":"IF(P_20号3様式1!O242<> \"\",IF(P_20号3様式1!O242<> \"-\",TEXT(INT(P_20号3様式1!O242),\"#,##0\"),\"-\"),\"\")","v":""},{"$f":"IF(P_20号3様式1!O242<> \"\",IF(P_20号3様式1!O242<> \"-\",IF(VALUE(FIXED(P_20号3様式1!O242,0,TRUE))<>P_20号3様式1!O242,RIGHT(FIXED(P_20号3様式1!O242,3,FALSE),4),\"\"),\"\"),\"\")","v":""},{"$f":"IF(P_20号3様式1!R242<> \"\",IF(P_20号3様式1!R242<> \"-\",TEXT(INT(P_20号3様式1!R242),\"#,##0\"),\"-\"),\"\")","v":""},{"$f":"IF(P_20号3様式1!R242<> \"\",IF(P_20号3様式1!R242<> \"-\",IF(VALUE(FIXED(P_20号3様式1!R242,0,TRUE))<>P_20号3様式1!R242,RIGHT(FIXED(P_20号3様式1!R242,3,FALSE),4),\"\"),\"\"),\"\")","v":""},{"$f":"IF(P_20号3様式1!U242<> \"\",IF(P_20号3様式1!U242<> \"-\",TEXT(INT(P_20号3様式1!U242),\"#,##0\"),\"-\"),\"\")","v":""},{"$f":"IF(P_20号3様式1!U242<> \"\",IF(P_20号3様式1!U242<> \"-\",IF(VALUE(FIXED(P_20号3様式1!U242,0,TRUE))<>P_20号3様式1!U242,RIGHT(FIXED(P_20号3様式1!U242,3,FALSE),4),\"\"),\"\"),\"\")","v":""},{"$f":"IF(P_20号3様式1!X242<> \"\",IF(P_20号3様式1!X242<> \"-\",TEXT(INT(P_20号3様式1!X242),\"#,##0\"),\"-\"),\"\")","v":""},{"$f":"IF(P_20号3様式1!X242<> \"\",IF(P_20号3様式1!X242<> \"-\",IF(VALUE(FIXED(P_20号3様式1!X242,0,TRUE))<>P_20号3様式1!X242,RIGHT(FIXED(P_20号3様式1!X242,3,FALSE),4),\"\"),\"\"),\"\")","v":""},{"$f":"IF(P_20号3様式1!AA242<> \"\",IF(P_20号3様式1!AA242<> \"-\",TEXT(INT(P_20号3様式1!AA242),\"#,##0\"),\"-\"),\"\")","v":""},{"$f":"IF(P_20号3様式1!AA242<> \"\",IF(P_20号3様式1!AA242<> \"-\",IF(VALUE(FIXED(P_20号3様式1!AA242,0,TRUE))<>P_20号3様式1!AA242,RIGHT(FIXED(P_20号3様式1!AA242,3,FALSE),4),\"\"),\"\"),\"\")","v":""}]
[{"$f":"IF(P_20号3様式1!C243=\"\",\"\",P_20号3様式1!C243)","v":""},{"$f":"IF(P_20号3様式1!AE243<> \"\",TEXT(INT(P_20号3様式1!AE243),\"#,##0\"),\"\")","v":""},{"$f":"IF(P_20号3様式1!AE243= \"\",\"\",IF(VALUE(FIXED(P_20号3様式1!AE243,0,TRUE))<>P_20号3様式1!AE243,RIGHT(FIXED(P_20号3様式1!AE243,3,FALSE),4),\"\"))","v":""},{"$f":"IF(P_20号3様式1!F243<> \"\",IF(P_20号3様式1!F243<> \"-\",TEXT(INT(P_20号3様式1!F243),\"#,##0\"),\"-\"),\"\")","v":""},{"$f":"IF(P_20号3様式1!F243<> \"\",IF(P_20号3様式1!F243<> \"-\",IF(VALUE(FIXED(P_20号3様式1!F243,0,TRUE))<>P_20号3様式1!F243,RIGHT(FIXED(P_20号3様式1!F243,3,FALSE),4),\"\"),\"\"),\"\")","v":""},{"$f":"IF(P_20号3様式1!I243<> \"\",IF(P_20号3様式1!I243<> \"-\",TEXT(INT(P_20号3様式1!I243),\"#,##0\"),\"-\"),\"\")","v":""},{"$f":"IF(P_20号3様式1!I243<> \"\",IF(P_20号3様式1!I243<> \"-\",IF(VALUE(FIXED(P_20号3様式1!I243,0,TRUE))<>P_20号3様式1!I243,RIGHT(FIXED(P_20号3様式1!I243,3,FALSE),4),\"\"),\"\"),\"\")","v":""},{"$f":"IF(P_20号3様式1!L243<> \"\",IF(P_20号3様式1!L243<> \"-\",TEXT(INT(P_20号3様式1!L243),\"#,##0\"),\"-\"),\"\")","v":""},{"$f":"IF(P_20号3様式1!L243<> \"\",IF(P_20号3様式1!L243<> \"-\",IF(VALUE(FIXED(P_20号3様式1!L243,0,TRUE))<>P_20号3様式1!L243,RIGHT(FIXED(P_20号3様式1!L243,3,FALSE),4),\"\"),\"\"),\"\")","v":""},{"$f":"IF(P_20号3様式1!O243<> \"\",IF(P_20号3様式1!O243<> \"-\",TEXT(INT(P_20号3様式1!O243),\"#,##0\"),\"-\"),\"\")","v":""},{"$f":"IF(P_20号3様式1!O243<> \"\",IF(P_20号3様式1!O243<> \"-\",IF(VALUE(FIXED(P_20号3様式1!O243,0,TRUE))<>P_20号3様式1!O243,RIGHT(FIXED(P_20号3様式1!O243,3,FALSE),4),\"\"),\"\"),\"\")","v":""},{"$f":"IF(P_20号3様式1!R243<> \"\",IF(P_20号3様式1!R243<> \"-\",TEXT(INT(P_20号3様式1!R243),\"#,##0\"),\"-\"),\"\")","v":""},{"$f":"IF(P_20号3様式1!R243<> \"\",IF(P_20号3様式1!R243<> \"-\",IF(VALUE(FIXED(P_20号3様式1!R243,0,TRUE))<>P_20号3様式1!R243,RIGHT(FIXED(P_20号3様式1!R243,3,FALSE),4),\"\"),\"\"),\"\")","v":""},{"$f":"IF(P_20号3様式1!U243<> \"\",IF(P_20号3様式1!U243<> \"-\",TEXT(INT(P_20号3様式1!U243),\"#,##0\"),\"-\"),\"\")","v":""},{"$f":"IF(P_20号3様式1!U243<> \"\",IF(P_20号3様式1!U243<> \"-\",IF(VALUE(FIXED(P_20号3様式1!U243,0,TRUE))<>P_20号3様式1!U243,RIGHT(FIXED(P_20号3様式1!U243,3,FALSE),4),\"\"),\"\"),\"\")","v":""},{"$f":"IF(P_20号3様式1!X243<> \"\",IF(P_20号3様式1!X243<> \"-\",TEXT(INT(P_20号3様式1!X243),\"#,##0\"),\"-\"),\"\")","v":""},{"$f":"IF(P_20号3様式1!X243<> \"\",IF(P_20号3様式1!X243<> \"-\",IF(VALUE(FIXED(P_20号3様式1!X243,0,TRUE))<>P_20号3様式1!X243,RIGHT(FIXED(P_20号3様式1!X243,3,FALSE),4),\"\"),\"\"),\"\")","v":""},{"$f":"IF(P_20号3様式1!AA243<> \"\",IF(P_20号3様式1!AA243<> \"-\",TEXT(INT(P_20号3様式1!AA243),\"#,##0\"),\"-\"),\"\")","v":""},{"$f":"IF(P_20号3様式1!AA243<> \"\",IF(P_20号3様式1!AA243<> \"-\",IF(VALUE(FIXED(P_20号3様式1!AA243,0,TRUE))<>P_20号3様式1!AA243,RIGHT(FIXED(P_20号3様式1!AA243,3,FALSE),4),\"\"),\"\"),\"\")","v":""}]
[{"$f":"IF(P_20号3様式1!C244=\"\",\"\",P_20号3様式1!C244)","v":""},{"$f":"IF(P_20号3様式1!AE244<> \"\",TEXT(INT(P_20号3様式1!AE244),\"#,##0\"),\"\")","v":""},{"$f":"IF(P_20号3様式1!AE244= \"\",\"\",IF(VALUE(FIXED(P_20号3様式1!AE244,0,TRUE))<>P_20号3様式1!AE244,RIGHT(FIXED(P_20号3様式1!AE244,3,FALSE),4),\"\"))","v":""},{"$f":"IF(P_20号3様式1!F244<> \"\",IF(P_20号3様式1!F244<> \"-\",TEXT(INT(P_20号3様式1!F244),\"#,##0\"),\"-\"),\"\")","v":""},{"$f":"IF(P_20号3様式1!F244<> \"\",IF(P_20号3様式1!F244<> \"-\",IF(VALUE(FIXED(P_20号3様式1!F244,0,TRUE))<>P_20号3様式1!F244,RIGHT(FIXED(P_20号3様式1!F244,3,FALSE),4),\"\"),\"\"),\"\")","v":""},{"$f":"IF(P_20号3様式1!I244<> \"\",IF(P_20号3様式1!I244<> \"-\",TEXT(INT(P_20号3様式1!I244),\"#,##0\"),\"-\"),\"\")","v":""},{"$f":"IF(P_20号3様式1!I244<> \"\",IF(P_20号3様式1!I244<> \"-\",IF(VALUE(FIXED(P_20号3様式1!I244,0,TRUE))<>P_20号3様式1!I244,RIGHT(FIXED(P_20号3様式1!I244,3,FALSE),4),\"\"),\"\"),\"\")","v":""},{"$f":"IF(P_20号3様式1!L244<> \"\",IF(P_20号3様式1!L244<> \"-\",TEXT(INT(P_20号3様式1!L244),\"#,##0\"),\"-\"),\"\")","v":""},{"$f":"IF(P_20号3様式1!L244<> \"\",IF(P_20号3様式1!L244<> \"-\",IF(VALUE(FIXED(P_20号3様式1!L244,0,TRUE))<>P_20号3様式1!L244,RIGHT(FIXED(P_20号3様式1!L244,3,FALSE),4),\"\"),\"\"),\"\")","v":""},{"$f":"IF(P_20号3様式1!O244<> \"\",IF(P_20号3様式1!O244<> \"-\",TEXT(INT(P_20号3様式1!O244),\"#,##0\"),\"-\"),\"\")","v":""},{"$f":"IF(P_20号3様式1!O244<> \"\",IF(P_20号3様式1!O244<> \"-\",IF(VALUE(FIXED(P_20号3様式1!O244,0,TRUE))<>P_20号3様式1!O244,RIGHT(FIXED(P_20号3様式1!O244,3,FALSE),4),\"\"),\"\"),\"\")","v":""},{"$f":"IF(P_20号3様式1!R244<> \"\",IF(P_20号3様式1!R244<> \"-\",TEXT(INT(P_20号3様式1!R244),\"#,##0\"),\"-\"),\"\")","v":""},{"$f":"IF(P_20号3様式1!R244<> \"\",IF(P_20号3様式1!R244<> \"-\",IF(VALUE(FIXED(P_20号3様式1!R244,0,TRUE))<>P_20号3様式1!R244,RIGHT(FIXED(P_20号3様式1!R244,3,FALSE),4),\"\"),\"\"),\"\")","v":""},{"$f":"IF(P_20号3様式1!U244<> \"\",IF(P_20号3様式1!U244<> \"-\",TEXT(INT(P_20号3様式1!U244),\"#,##0\"),\"-\"),\"\")","v":""},{"$f":"IF(P_20号3様式1!U244<> \"\",IF(P_20号3様式1!U244<> \"-\",IF(VALUE(FIXED(P_20号3様式1!U244,0,TRUE))<>P_20号3様式1!U244,RIGHT(FIXED(P_20号3様式1!U244,3,FALSE),4),\"\"),\"\"),\"\")","v":""},{"$f":"IF(P_20号3様式1!X244<> \"\",IF(P_20号3様式1!X244<> \"-\",TEXT(INT(P_20号3様式1!X244),\"#,##0\"),\"-\"),\"\")","v":""},{"$f":"IF(P_20号3様式1!X244<> \"\",IF(P_20号3様式1!X244<> \"-\",IF(VALUE(FIXED(P_20号3様式1!X244,0,TRUE))<>P_20号3様式1!X244,RIGHT(FIXED(P_20号3様式1!X244,3,FALSE),4),\"\"),\"\"),\"\")","v":""},{"$f":"IF(P_20号3様式1!AA244<> \"\",IF(P_20号3様式1!AA244<> \"-\",TEXT(INT(P_20号3様式1!AA244),\"#,##0\"),\"-\"),\"\")","v":""},{"$f":"IF(P_20号3様式1!AA244<> \"\",IF(P_20号3様式1!AA244<> \"-\",IF(VALUE(FIXED(P_20号3様式1!AA244,0,TRUE))<>P_20号3様式1!AA244,RIGHT(FIXED(P_20号3様式1!AA244,3,FALSE),4),\"\"),\"\"),\"\")","v":""}]
[{"$f":"IF(P_20号3様式1!C245=\"\",\"\",P_20号3様式1!C245)","v":""},{"$f":"IF(P_20号3様式1!AE245<> \"\",TEXT(INT(P_20号3様式1!AE245),\"#,##0\"),\"\")","v":""},{"$f":"IF(P_20号3様式1!AE245= \"\",\"\",IF(VALUE(FIXED(P_20号3様式1!AE245,0,TRUE))<>P_20号3様式1!AE245,RIGHT(FIXED(P_20号3様式1!AE245,3,FALSE),4),\"\"))","v":""},{"$f":"IF(P_20号3様式1!F245<> \"\",IF(P_20号3様式1!F245<> \"-\",TEXT(INT(P_20号3様式1!F245),\"#,##0\"),\"-\"),\"\")","v":""},{"$f":"IF(P_20号3様式1!F245<> \"\",IF(P_20号3様式1!F245<> \"-\",IF(VALUE(FIXED(P_20号3様式1!F245,0,TRUE))<>P_20号3様式1!F245,RIGHT(FIXED(P_20号3様式1!F245,3,FALSE),4),\"\"),\"\"),\"\")","v":""},{"$f":"IF(P_20号3様式1!I245<> \"\",IF(P_20号3様式1!I245<> \"-\",TEXT(INT(P_20号3様式1!I245),\"#,##0\"),\"-\"),\"\")","v":""},{"$f":"IF(P_20号3様式1!I245<> \"\",IF(P_20号3様式1!I245<> \"-\",IF(VALUE(FIXED(P_20号3様式1!I245,0,TRUE))<>P_20号3様式1!I245,RIGHT(FIXED(P_20号3様式1!I245,3,FALSE),4),\"\"),\"\"),\"\")","v":""},{"$f":"IF(P_20号3様式1!L245<> \"\",IF(P_20号3様式1!L245<> \"-\",TEXT(INT(P_20号3様式1!L245),\"#,##0\"),\"-\"),\"\")","v":""},{"$f":"IF(P_20号3様式1!L245<> \"\",IF(P_20号3様式1!L245<> \"-\",IF(VALUE(FIXED(P_20号3様式1!L245,0,TRUE))<>P_20号3様式1!L245,RIGHT(FIXED(P_20号3様式1!L245,3,FALSE),4),\"\"),\"\"),\"\")","v":""},{"$f":"IF(P_20号3様式1!O245<> \"\",IF(P_20号3様式1!O245<> \"-\",TEXT(INT(P_20号3様式1!O245),\"#,##0\"),\"-\"),\"\")","v":""},{"$f":"IF(P_20号3様式1!O245<> \"\",IF(P_20号3様式1!O245<> \"-\",IF(VALUE(FIXED(P_20号3様式1!O245,0,TRUE))<>P_20号3様式1!O245,RIGHT(FIXED(P_20号3様式1!O245,3,FALSE),4),\"\"),\"\"),\"\")","v":""},{"$f":"IF(P_20号3様式1!R245<> \"\",IF(P_20号3様式1!R245<> \"-\",TEXT(INT(P_20号3様式1!R245),\"#,##0\"),\"-\"),\"\")","v":""},{"$f":"IF(P_20号3様式1!R245<> \"\",IF(P_20号3様式1!R245<> \"-\",IF(VALUE(FIXED(P_20号3様式1!R245,0,TRUE))<>P_20号3様式1!R245,RIGHT(FIXED(P_20号3様式1!R245,3,FALSE),4),\"\"),\"\"),\"\")","v":""},{"$f":"IF(P_20号3様式1!U245<> \"\",IF(P_20号3様式1!U245<> \"-\",TEXT(INT(P_20号3様式1!U245),\"#,##0\"),\"-\"),\"\")","v":""},{"$f":"IF(P_20号3様式1!U245<> \"\",IF(P_20号3様式1!U245<> \"-\",IF(VALUE(FIXED(P_20号3様式1!U245,0,TRUE))<>P_20号3様式1!U245,RIGHT(FIXED(P_20号3様式1!U245,3,FALSE),4),\"\"),\"\"),\"\")","v":""},{"$f":"IF(P_20号3様式1!X245<> \"\",IF(P_20号3様式1!X245<> \"-\",TEXT(INT(P_20号3様式1!X245),\"#,##0\"),\"-\"),\"\")","v":""},{"$f":"IF(P_20号3様式1!X245<> \"\",IF(P_20号3様式1!X245<> \"-\",IF(VALUE(FIXED(P_20号3様式1!X245,0,TRUE))<>P_20号3様式1!X245,RIGHT(FIXED(P_20号3様式1!X245,3,FALSE),4),\"\"),\"\"),\"\")","v":""},{"$f":"IF(P_20号3様式1!AA245<> \"\",IF(P_20号3様式1!AA245<> \"-\",TEXT(INT(P_20号3様式1!AA245),\"#,##0\"),\"-\"),\"\")","v":""},{"$f":"IF(P_20号3様式1!AA245<> \"\",IF(P_20号3様式1!AA245<> \"-\",IF(VALUE(FIXED(P_20号3様式1!AA245,0,TRUE))<>P_20号3様式1!AA245,RIGHT(FIXED(P_20号3様式1!AA245,3,FALSE),4),\"\"),\"\"),\"\")","v":""}]
[{"$f":"IF(P_20号3様式1!C246=\"\",\"\",P_20号3様式1!C246)","v":""},{"$f":"IF(P_20号3様式1!AE246<> \"\",TEXT(INT(P_20号3様式1!AE246),\"#,##0\"),\"\")","v":""},{"$f":"IF(P_20号3様式1!AE246= \"\",\"\",IF(VALUE(FIXED(P_20号3様式1!AE246,0,TRUE))<>P_20号3様式1!AE246,RIGHT(FIXED(P_20号3様式1!AE246,3,FALSE),4),\"\"))","v":""},{"$f":"IF(P_20号3様式1!F246<> \"\",IF(P_20号3様式1!F246<> \"-\",TEXT(INT(P_20号3様式1!F246),\"#,##0\"),\"-\"),\"\")","v":""},{"$f":"IF(P_20号3様式1!F246<> \"\",IF(P_20号3様式1!F246<> \"-\",IF(VALUE(FIXED(P_20号3様式1!F246,0,TRUE))<>P_20号3様式1!F246,RIGHT(FIXED(P_20号3様式1!F246,3,FALSE),4),\"\"),\"\"),\"\")","v":""},{"$f":"IF(P_20号3様式1!I246<> \"\",IF(P_20号3様式1!I246<> \"-\",TEXT(INT(P_20号3様式1!I246),\"#,##0\"),\"-\"),\"\")","v":""},{"$f":"IF(P_20号3様式1!I246<> \"\",IF(P_20号3様式1!I246<> \"-\",IF(VALUE(FIXED(P_20号3様式1!I246,0,TRUE))<>P_20号3様式1!I246,RIGHT(FIXED(P_20号3様式1!I246,3,FALSE),4),\"\"),\"\"),\"\")","v":""},{"$f":"IF(P_20号3様式1!L246<> \"\",IF(P_20号3様式1!L246<> \"-\",TEXT(INT(P_20号3様式1!L246),\"#,##0\"),\"-\"),\"\")","v":""},{"$f":"IF(P_20号3様式1!L246<> \"\",IF(P_20号3様式1!L246<> \"-\",IF(VALUE(FIXED(P_20号3様式1!L246,0,TRUE))<>P_20号3様式1!L246,RIGHT(FIXED(P_20号3様式1!L246,3,FALSE),4),\"\"),\"\"),\"\")","v":""},{"$f":"IF(P_20号3様式1!O246<> \"\",IF(P_20号3様式1!O246<> \"-\",TEXT(INT(P_20号3様式1!O246),\"#,##0\"),\"-\"),\"\")","v":""},{"$f":"IF(P_20号3様式1!O246<> \"\",IF(P_20号3様式1!O246<> \"-\",IF(VALUE(FIXED(P_20号3様式1!O246,0,TRUE))<>P_20号3様式1!O246,RIGHT(FIXED(P_20号3様式1!O246,3,FALSE),4),\"\"),\"\"),\"\")","v":""},{"$f":"IF(P_20号3様式1!R246<> \"\",IF(P_20号3様式1!R246<> \"-\",TEXT(INT(P_20号3様式1!R246),\"#,##0\"),\"-\"),\"\")","v":""},{"$f":"IF(P_20号3様式1!R246<> \"\",IF(P_20号3様式1!R246<> \"-\",IF(VALUE(FIXED(P_20号3様式1!R246,0,TRUE))<>P_20号3様式1!R246,RIGHT(FIXED(P_20号3様式1!R246,3,FALSE),4),\"\"),\"\"),\"\")","v":""},{"$f":"IF(P_20号3様式1!U246<> \"\",IF(P_20号3様式1!U246<> \"-\",TEXT(INT(P_20号3様式1!U246),\"#,##0\"),\"-\"),\"\")","v":""},{"$f":"IF(P_20号3様式1!U246<> \"\",IF(P_20号3様式1!U246<> \"-\",IF(VALUE(FIXED(P_20号3様式1!U246,0,TRUE))<>P_20号3様式1!U246,RIGHT(FIXED(P_20号3様式1!U246,3,FALSE),4),\"\"),\"\"),\"\")","v":""},{"$f":"IF(P_20号3様式1!X246<> \"\",IF(P_20号3様式1!X246<> \"-\",TEXT(INT(P_20号3様式1!X246),\"#,##0\"),\"-\"),\"\")","v":""},{"$f":"IF(P_20号3様式1!X246<> \"\",IF(P_20号3様式1!X246<> \"-\",IF(VALUE(FIXED(P_20号3様式1!X246,0,TRUE))<>P_20号3様式1!X246,RIGHT(FIXED(P_20号3様式1!X246,3,FALSE),4),\"\"),\"\"),\"\")","v":""},{"$f":"IF(P_20号3様式1!AA246<> \"\",IF(P_20号3様式1!AA246<> \"-\",TEXT(INT(P_20号3様式1!AA246),\"#,##0\"),\"-\"),\"\")","v":""},{"$f":"IF(P_20号3様式1!AA246<> \"\",IF(P_20号3様式1!AA246<> \"-\",IF(VALUE(FIXED(P_20号3様式1!AA246,0,TRUE))<>P_20号3様式1!AA246,RIGHT(FIXED(P_20号3様式1!AA246,3,FALSE),4),\"\"),\"\"),\"\")","v":""}]
[{"$f":"IF(P_20号3様式1!C247=\"\",\"\",P_20号3様式1!C247)","v":""},{"$f":"IF(P_20号3様式1!AE247<> \"\",TEXT(INT(P_20号3様式1!AE247),\"#,##0\"),\"\")","v":""},{"$f":"IF(P_20号3様式1!AE247= \"\",\"\",IF(VALUE(FIXED(P_20号3様式1!AE247,0,TRUE))<>P_20号3様式1!AE247,RIGHT(FIXED(P_20号3様式1!AE247,3,FALSE),4),\"\"))","v":""},{"$f":"IF(P_20号3様式1!F247<> \"\",IF(P_20号3様式1!F247<> \"-\",TEXT(INT(P_20号3様式1!F247),\"#,##0\"),\"-\"),\"\")","v":""},{"$f":"IF(P_20号3様式1!F247<> \"\",IF(P_20号3様式1!F247<> \"-\",IF(VALUE(FIXED(P_20号3様式1!F247,0,TRUE))<>P_20号3様式1!F247,RIGHT(FIXED(P_20号3様式1!F247,3,FALSE),4),\"\"),\"\"),\"\")","v":""},{"$f":"IF(P_20号3様式1!I247<> \"\",IF(P_20号3様式1!I247<> \"-\",TEXT(INT(P_20号3様式1!I247),\"#,##0\"),\"-\"),\"\")","v":""},{"$f":"IF(P_20号3様式1!I247<> \"\",IF(P_20号3様式1!I247<> \"-\",IF(VALUE(FIXED(P_20号3様式1!I247,0,TRUE))<>P_20号3様式1!I247,RIGHT(FIXED(P_20号3様式1!I247,3,FALSE),4),\"\"),\"\"),\"\")","v":""},{"$f":"IF(P_20号3様式1!L247<> \"\",IF(P_20号3様式1!L247<> \"-\",TEXT(INT(P_20号3様式1!L247),\"#,##0\"),\"-\"),\"\")","v":""},{"$f":"IF(P_20号3様式1!L247<> \"\",IF(P_20号3様式1!L247<> \"-\",IF(VALUE(FIXED(P_20号3様式1!L247,0,TRUE))<>P_20号3様式1!L247,RIGHT(FIXED(P_20号3様式1!L247,3,FALSE),4),\"\"),\"\"),\"\")","v":""},{"$f":"IF(P_20号3様式1!O247<> \"\",IF(P_20号3様式1!O247<> \"-\",TEXT(INT(P_20号3様式1!O247),\"#,##0\"),\"-\"),\"\")","v":""},{"$f":"IF(P_20号3様式1!O247<> \"\",IF(P_20号3様式1!O247<> \"-\",IF(VALUE(FIXED(P_20号3様式1!O247,0,TRUE))<>P_20号3様式1!O247,RIGHT(FIXED(P_20号3様式1!O247,3,FALSE),4),\"\"),\"\"),\"\")","v":""},{"$f":"IF(P_20号3様式1!R247<> \"\",IF(P_20号3様式1!R247<> \"-\",TEXT(INT(P_20号3様式1!R247),\"#,##0\"),\"-\"),\"\")","v":""},{"$f":"IF(P_20号3様式1!R247<> \"\",IF(P_20号3様式1!R247<> \"-\",IF(VALUE(FIXED(P_20号3様式1!R247,0,TRUE))<>P_20号3様式1!R247,RIGHT(FIXED(P_20号3様式1!R247,3,FALSE),4),\"\"),\"\"),\"\")","v":""},{"$f":"IF(P_20号3様式1!U247<> \"\",IF(P_20号3様式1!U247<> \"-\",TEXT(INT(P_20号3様式1!U247),\"#,##0\"),\"-\"),\"\")","v":""},{"$f":"IF(P_20号3様式1!U247<> \"\",IF(P_20号3様式1!U247<> \"-\",IF(VALUE(FIXED(P_20号3様式1!U247,0,TRUE))<>P_20号3様式1!U247,RIGHT(FIXED(P_20号3様式1!U247,3,FALSE),4),\"\"),\"\"),\"\")","v":""},{"$f":"IF(P_20号3様式1!X247<> \"\",IF(P_20号3様式1!X247<> \"-\",TEXT(INT(P_20号3様式1!X247),\"#,##0\"),\"-\"),\"\")","v":""},{"$f":"IF(P_20号3様式1!X247<> \"\",IF(P_20号3様式1!X247<> \"-\",IF(VALUE(FIXED(P_20号3様式1!X247,0,TRUE))<>P_20号3様式1!X247,RIGHT(FIXED(P_20号3様式1!X247,3,FALSE),4),\"\"),\"\"),\"\")","v":""},{"$f":"IF(P_20号3様式1!AA247<> \"\",IF(P_20号3様式1!AA247<> \"-\",TEXT(INT(P_20号3様式1!AA247),\"#,##0\"),\"-\"),\"\")","v":""},{"$f":"IF(P_20号3様式1!AA247<> \"\",IF(P_20号3様式1!AA247<> \"-\",IF(VALUE(FIXED(P_20号3様式1!AA247,0,TRUE))<>P_20号3様式1!AA247,RIGHT(FIXED(P_20号3様式1!AA247,3,FALSE),4),\"\"),\"\"),\"\")","v":""}]
[{"$f":"IF(P_20号3様式1!C248=\"\",\"\",P_20号3様式1!C248)","v":""},{"$f":"IF(P_20号3様式1!AE248<> \"\",TEXT(INT(P_20号3様式1!AE248),\"#,##0\"),\"\")","v":""},{"$f":"IF(P_20号3様式1!AE248= \"\",\"\",IF(VALUE(FIXED(P_20号3様式1!AE248,0,TRUE))<>P_20号3様式1!AE248,RIGHT(FIXED(P_20号3様式1!AE248,3,FALSE),4),\"\"))","v":""},{"$f":"IF(P_20号3様式1!F248<> \"\",IF(P_20号3様式1!F248<> \"-\",TEXT(INT(P_20号3様式1!F248),\"#,##0\"),\"-\"),\"\")","v":""},{"$f":"IF(P_20号3様式1!F248<> \"\",IF(P_20号3様式1!F248<> \"-\",IF(VALUE(FIXED(P_20号3様式1!F248,0,TRUE))<>P_20号3様式1!F248,RIGHT(FIXED(P_20号3様式1!F248,3,FALSE),4),\"\"),\"\"),\"\")","v":""},{"$f":"IF(P_20号3様式1!I248<> \"\",IF(P_20号3様式1!I248<> \"-\",TEXT(INT(P_20号3様式1!I248),\"#,##0\"),\"-\"),\"\")","v":""},{"$f":"IF(P_20号3様式1!I248<> \"\",IF(P_20号3様式1!I248<> \"-\",IF(VALUE(FIXED(P_20号3様式1!I248,0,TRUE))<>P_20号3様式1!I248,RIGHT(FIXED(P_20号3様式1!I248,3,FALSE),4),\"\"),\"\"),\"\")","v":""},{"$f":"IF(P_20号3様式1!L248<> \"\",IF(P_20号3様式1!L248<> \"-\",TEXT(INT(P_20号3様式1!L248),\"#,##0\"),\"-\"),\"\")","v":""},{"$f":"IF(P_20号3様式1!L248<> \"\",IF(P_20号3様式1!L248<> \"-\",IF(VALUE(FIXED(P_20号3様式1!L248,0,TRUE))<>P_20号3様式1!L248,RIGHT(FIXED(P_20号3様式1!L248,3,FALSE),4),\"\"),\"\"),\"\")","v":""},{"$f":"IF(P_20号3様式1!O248<> \"\",IF(P_20号3様式1!O248<> \"-\",TEXT(INT(P_20号3様式1!O248),\"#,##0\"),\"-\"),\"\")","v":""},{"$f":"IF(P_20号3様式1!O248<> \"\",IF(P_20号3様式1!O248<> \"-\",IF(VALUE(FIXED(P_20号3様式1!O248,0,TRUE))<>P_20号3様式1!O248,RIGHT(FIXED(P_20号3様式1!O248,3,FALSE),4),\"\"),\"\"),\"\")","v":""},{"$f":"IF(P_20号3様式1!R248<> \"\",IF(P_20号3様式1!R248<> \"-\",TEXT(INT(P_20号3様式1!R248),\"#,##0\"),\"-\"),\"\")","v":""},{"$f":"IF(P_20号3様式1!R248<> \"\",IF(P_20号3様式1!R248<> \"-\",IF(VALUE(FIXED(P_20号3様式1!R248,0,TRUE))<>P_20号3様式1!R248,RIGHT(FIXED(P_20号3様式1!R248,3,FALSE),4),\"\"),\"\"),\"\")","v":""},{"$f":"IF(P_20号3様式1!U248<> \"\",IF(P_20号3様式1!U248<> \"-\",TEXT(INT(P_20号3様式1!U248),\"#,##0\"),\"-\"),\"\")","v":""},{"$f":"IF(P_20号3様式1!U248<> \"\",IF(P_20号3様式1!U248<> \"-\",IF(VALUE(FIXED(P_20号3様式1!U248,0,TRUE))<>P_20号3様式1!U248,RIGHT(FIXED(P_20号3様式1!U248,3,FALSE),4),\"\"),\"\"),\"\")","v":""},{"$f":"IF(P_20号3様式1!X248<> \"\",IF(P_20号3様式1!X248<> \"-\",TEXT(INT(P_20号3様式1!X248),\"#,##0\"),\"-\"),\"\")","v":""},{"$f":"IF(P_20号3様式1!X248<> \"\",IF(P_20号3様式1!X248<> \"-\",IF(VALUE(FIXED(P_20号3様式1!X248,0,TRUE))<>P_20号3様式1!X248,RIGHT(FIXED(P_20号3様式1!X248,3,FALSE),4),\"\"),\"\"),\"\")","v":""},{"$f":"IF(P_20号3様式1!AA248<> \"\",IF(P_20号3様式1!AA248<> \"-\",TEXT(INT(P_20号3様式1!AA248),\"#,##0\"),\"-\"),\"\")","v":""},{"$f":"IF(P_20号3様式1!AA248<> \"\",IF(P_20号3様式1!AA248<> \"-\",IF(VALUE(FIXED(P_20号3様式1!AA248,0,TRUE))<>P_20号3様式1!AA248,RIGHT(FIXED(P_20号3様式1!AA248,3,FALSE),4),\"\"),\"\"),\"\")","v":""}]
[{"$f":"IF(P_20号3様式1!C249=\"\",\"\",P_20号3様式1!C249)","v":""},{"$f":"IF(P_20号3様式1!AE249<> \"\",TEXT(INT(P_20号3様式1!AE249),\"#,##0\"),\"\")","v":""},{"$f":"IF(P_20号3様式1!AE249= \"\",\"\",IF(VALUE(FIXED(P_20号3様式1!AE249,0,TRUE))<>P_20号3様式1!AE249,RIGHT(FIXED(P_20号3様式1!AE249,3,FALSE),4),\"\"))","v":""},{"$f":"IF(P_20号3様式1!F249<> \"\",IF(P_20号3様式1!F249<> \"-\",TEXT(INT(P_20号3様式1!F249),\"#,##0\"),\"-\"),\"\")","v":""},{"$f":"IF(P_20号3様式1!F249<> \"\",IF(P_20号3様式1!F249<> \"-\",IF(VALUE(FIXED(P_20号3様式1!F249,0,TRUE))<>P_20号3様式1!F249,RIGHT(FIXED(P_20号3様式1!F249,3,FALSE),4),\"\"),\"\"),\"\")","v":""},{"$f":"IF(P_20号3様式1!I249<> \"\",IF(P_20号3様式1!I249<> \"-\",TEXT(INT(P_20号3様式1!I249),\"#,##0\"),\"-\"),\"\")","v":""},{"$f":"IF(P_20号3様式1!I249<> \"\",IF(P_20号3様式1!I249<> \"-\",IF(VALUE(FIXED(P_20号3様式1!I249,0,TRUE))<>P_20号3様式1!I249,RIGHT(FIXED(P_20号3様式1!I249,3,FALSE),4),\"\"),\"\"),\"\")","v":""},{"$f":"IF(P_20号3様式1!L249<> \"\",IF(P_20号3様式1!L249<> \"-\",TEXT(INT(P_20号3様式1!L249),\"#,##0\"),\"-\"),\"\")","v":""},{"$f":"IF(P_20号3様式1!L249<> \"\",IF(P_20号3様式1!L249<> \"-\",IF(VALUE(FIXED(P_20号3様式1!L249,0,TRUE))<>P_20号3様式1!L249,RIGHT(FIXED(P_20号3様式1!L249,3,FALSE),4),\"\"),\"\"),\"\")","v":""},{"$f":"IF(P_20号3様式1!O249<> \"\",IF(P_20号3様式1!O249<> \"-\",TEXT(INT(P_20号3様式1!O249),\"#,##0\"),\"-\"),\"\")","v":""},{"$f":"IF(P_20号3様式1!O249<> \"\",IF(P_20号3様式1!O249<> \"-\",IF(VALUE(FIXED(P_20号3様式1!O249,0,TRUE))<>P_20号3様式1!O249,RIGHT(FIXED(P_20号3様式1!O249,3,FALSE),4),\"\"),\"\"),\"\")","v":""},{"$f":"IF(P_20号3様式1!R249<> \"\",IF(P_20号3様式1!R249<> \"-\",TEXT(INT(P_20号3様式1!R249),\"#,##0\"),\"-\"),\"\")","v":""},{"$f":"IF(P_20号3様式1!R249<> \"\",IF(P_20号3様式1!R249<> \"-\",IF(VALUE(FIXED(P_20号3様式1!R249,0,TRUE))<>P_20号3様式1!R249,RIGHT(FIXED(P_20号3様式1!R249,3,FALSE),4),\"\"),\"\"),\"\")","v":""},{"$f":"IF(P_20号3様式1!U249<> \"\",IF(P_20号3様式1!U249<> \"-\",TEXT(INT(P_20号3様式1!U249),\"#,##0\"),\"-\"),\"\")","v":""},{"$f":"IF(P_20号3様式1!U249<> \"\",IF(P_20号3様式1!U249<> \"-\",IF(VALUE(FIXED(P_20号3様式1!U249,0,TRUE))<>P_20号3様式1!U249,RIGHT(FIXED(P_20号3様式1!U249,3,FALSE),4),\"\"),\"\"),\"\")","v":""},{"$f":"IF(P_20号3様式1!X249<> \"\",IF(P_20号3様式1!X249<> \"-\",TEXT(INT(P_20号3様式1!X249),\"#,##0\"),\"-\"),\"\")","v":""},{"$f":"IF(P_20号3様式1!X249<> \"\",IF(P_20号3様式1!X249<> \"-\",IF(VALUE(FIXED(P_20号3様式1!X249,0,TRUE))<>P_20号3様式1!X249,RIGHT(FIXED(P_20号3様式1!X249,3,FALSE),4),\"\"),\"\"),\"\")","v":""},{"$f":"IF(P_20号3様式1!AA249<> \"\",IF(P_20号3様式1!AA249<> \"-\",TEXT(INT(P_20号3様式1!AA249),\"#,##0\"),\"-\"),\"\")","v":""},{"$f":"IF(P_20号3様式1!AA249<> \"\",IF(P_20号3様式1!AA249<> \"-\",IF(VALUE(FIXED(P_20号3様式1!AA249,0,TRUE))<>P_20号3様式1!AA249,RIGHT(FIXED(P_20号3様式1!AA249,3,FALSE),4),\"\"),\"\"),\"\")","v":""}]
[{"$f":"IF(P_20号3様式1!C250=\"\",\"\",P_20号3様式1!C250)","v":""},{"$f":"IF(P_20号3様式1!AE250<> \"\",TEXT(INT(P_20号3様式1!AE250),\"#,##0\"),\"\")","v":""},{"$f":"IF(P_20号3様式1!AE250= \"\",\"\",IF(VALUE(FIXED(P_20号3様式1!AE250,0,TRUE))<>P_20号3様式1!AE250,RIGHT(FIXED(P_20号3様式1!AE250,3,FALSE),4),\"\"))","v":""},{"$f":"IF(P_20号3様式1!F250<> \"\",IF(P_20号3様式1!F250<> \"-\",TEXT(INT(P_20号3様式1!F250),\"#,##0\"),\"-\"),\"\")","v":""},{"$f":"IF(P_20号3様式1!F250<> \"\",IF(P_20号3様式1!F250<> \"-\",IF(VALUE(FIXED(P_20号3様式1!F250,0,TRUE))<>P_20号3様式1!F250,RIGHT(FIXED(P_20号3様式1!F250,3,FALSE),4),\"\"),\"\"),\"\")","v":""},{"$f":"IF(P_20号3様式1!I250<> \"\",IF(P_20号3様式1!I250<> \"-\",TEXT(INT(P_20号3様式1!I250),\"#,##0\"),\"-\"),\"\")","v":""},{"$f":"IF(P_20号3様式1!I250<> \"\",IF(P_20号3様式1!I250<> \"-\",IF(VALUE(FIXED(P_20号3様式1!I250,0,TRUE))<>P_20号3様式1!I250,RIGHT(FIXED(P_20号3様式1!I250,3,FALSE),4),\"\"),\"\"),\"\")","v":""},{"$f":"IF(P_20号3様式1!L250<> \"\",IF(P_20号3様式1!L250<> \"-\",TEXT(INT(P_20号3様式1!L250),\"#,##0\"),\"-\"),\"\")","v":""},{"$f":"IF(P_20号3様式1!L250<> \"\",IF(P_20号3様式1!L250<> \"-\",IF(VALUE(FIXED(P_20号3様式1!L250,0,TRUE))<>P_20号3様式1!L250,RIGHT(FIXED(P_20号3様式1!L250,3,FALSE),4),\"\"),\"\"),\"\")","v":""},{"$f":"IF(P_20号3様式1!O250<> \"\",IF(P_20号3様式1!O250<> \"-\",TEXT(INT(P_20号3様式1!O250),\"#,##0\"),\"-\"),\"\")","v":""},{"$f":"IF(P_20号3様式1!O250<> \"\",IF(P_20号3様式1!O250<> \"-\",IF(VALUE(FIXED(P_20号3様式1!O250,0,TRUE))<>P_20号3様式1!O250,RIGHT(FIXED(P_20号3様式1!O250,3,FALSE),4),\"\"),\"\"),\"\")","v":""},{"$f":"IF(P_20号3様式1!R250<> \"\",IF(P_20号3様式1!R250<> \"-\",TEXT(INT(P_20号3様式1!R250),\"#,##0\"),\"-\"),\"\")","v":""},{"$f":"IF(P_20号3様式1!R250<> \"\",IF(P_20号3様式1!R250<> \"-\",IF(VALUE(FIXED(P_20号3様式1!R250,0,TRUE))<>P_20号3様式1!R250,RIGHT(FIXED(P_20号3様式1!R250,3,FALSE),4),\"\"),\"\"),\"\")","v":""},{"$f":"IF(P_20号3様式1!U250<> \"\",IF(P_20号3様式1!U250<> \"-\",TEXT(INT(P_20号3様式1!U250),\"#,##0\"),\"-\"),\"\")","v":""},{"$f":"IF(P_20号3様式1!U250<> \"\",IF(P_20号3様式1!U250<> \"-\",IF(VALUE(FIXED(P_20号3様式1!U250,0,TRUE))<>P_20号3様式1!U250,RIGHT(FIXED(P_20号3様式1!U250,3,FALSE),4),\"\"),\"\"),\"\")","v":""},{"$f":"IF(P_20号3様式1!X250<> \"\",IF(P_20号3様式1!X250<> \"-\",TEXT(INT(P_20号3様式1!X250),\"#,##0\"),\"-\"),\"\")","v":""},{"$f":"IF(P_20号3様式1!X250<> \"\",IF(P_20号3様式1!X250<> \"-\",IF(VALUE(FIXED(P_20号3様式1!X250,0,TRUE))<>P_20号3様式1!X250,RIGHT(FIXED(P_20号3様式1!X250,3,FALSE),4),\"\"),\"\"),\"\")","v":""},{"$f":"IF(P_20号3様式1!AA250<> \"\",IF(P_20号3様式1!AA250<> \"-\",TEXT(INT(P_20号3様式1!AA250),\"#,##0\"),\"-\"),\"\")","v":""},{"$f":"IF(P_20号3様式1!AA250<> \"\",IF(P_20号3様式1!AA250<> \"-\",IF(VALUE(FIXED(P_20号3様式1!AA250,0,TRUE))<>P_20号3様式1!AA250,RIGHT(FIXED(P_20号3様式1!AA250,3,FALSE),4),\"\"),\"\"),\"\")","v":""}]
[{"$f":"IF(P_20号3様式1!C251=\"\",\"\",P_20号3様式1!C251)","v":""},{"$f":"IF(P_20号3様式1!AE251<> \"\",TEXT(INT(P_20号3様式1!AE251),\"#,##0\"),\"\")","v":""},{"$f":"IF(P_20号3様式1!AE251= \"\",\"\",IF(VALUE(FIXED(P_20号3様式1!AE251,0,TRUE))<>P_20号3様式1!AE251,RIGHT(FIXED(P_20号3様式1!AE251,3,FALSE),4),\"\"))","v":""},{"$f":"IF(P_20号3様式1!F251<> \"\",IF(P_20号3様式1!F251<> \"-\",TEXT(INT(P_20号3様式1!F251),\"#,##0\"),\"-\"),\"\")","v":""},{"$f":"IF(P_20号3様式1!F251<> \"\",IF(P_20号3様式1!F251<> \"-\",IF(VALUE(FIXED(P_20号3様式1!F251,0,TRUE))<>P_20号3様式1!F251,RIGHT(FIXED(P_20号3様式1!F251,3,FALSE),4),\"\"),\"\"),\"\")","v":""},{"$f":"IF(P_20号3様式1!I251<> \"\",IF(P_20号3様式1!I251<> \"-\",TEXT(INT(P_20号3様式1!I251),\"#,##0\"),\"-\"),\"\")","v":""},{"$f":"IF(P_20号3様式1!I251<> \"\",IF(P_20号3様式1!I251<> \"-\",IF(VALUE(FIXED(P_20号3様式1!I251,0,TRUE))<>P_20号3様式1!I251,RIGHT(FIXED(P_20号3様式1!I251,3,FALSE),4),\"\"),\"\"),\"\")","v":""},{"$f":"IF(P_20号3様式1!L251<> \"\",IF(P_20号3様式1!L251<> \"-\",TEXT(INT(P_20号3様式1!L251),\"#,##0\"),\"-\"),\"\")","v":""},{"$f":"IF(P_20号3様式1!L251<> \"\",IF(P_20号3様式1!L251<> \"-\",IF(VALUE(FIXED(P_20号3様式1!L251,0,TRUE))<>P_20号3様式1!L251,RIGHT(FIXED(P_20号3様式1!L251,3,FALSE),4),\"\"),\"\"),\"\")","v":""},{"$f":"IF(P_20号3様式1!O251<> \"\",IF(P_20号3様式1!O251<> \"-\",TEXT(INT(P_20号3様式1!O251),\"#,##0\"),\"-\"),\"\")","v":""},{"$f":"IF(P_20号3様式1!O251<> \"\",IF(P_20号3様式1!O251<> \"-\",IF(VALUE(FIXED(P_20号3様式1!O251,0,TRUE))<>P_20号3様式1!O251,RIGHT(FIXED(P_20号3様式1!O251,3,FALSE),4),\"\"),\"\"),\"\")","v":""},{"$f":"IF(P_20号3様式1!R251<> \"\",IF(P_20号3様式1!R251<> \"-\",TEXT(INT(P_20号3様式1!R251),\"#,##0\"),\"-\"),\"\")","v":""},{"$f":"IF(P_20号3様式1!R251<> \"\",IF(P_20号3様式1!R251<> \"-\",IF(VALUE(FIXED(P_20号3様式1!R251,0,TRUE))<>P_20号3様式1!R251,RIGHT(FIXED(P_20号3様式1!R251,3,FALSE),4),\"\"),\"\"),\"\")","v":""},{"$f":"IF(P_20号3様式1!U251<> \"\",IF(P_20号3様式1!U251<> \"-\",TEXT(INT(P_20号3様式1!U251),\"#,##0\"),\"-\"),\"\")","v":""},{"$f":"IF(P_20号3様式1!U251<> \"\",IF(P_20号3様式1!U251<> \"-\",IF(VALUE(FIXED(P_20号3様式1!U251,0,TRUE))<>P_20号3様式1!U251,RIGHT(FIXED(P_20号3様式1!U251,3,FALSE),4),\"\"),\"\"),\"\")","v":""},{"$f":"IF(P_20号3様式1!X251<> \"\",IF(P_20号3様式1!X251<> \"-\",TEXT(INT(P_20号3様式1!X251),\"#,##0\"),\"-\"),\"\")","v":""},{"$f":"IF(P_20号3様式1!X251<> \"\",IF(P_20号3様式1!X251<> \"-\",IF(VALUE(FIXED(P_20号3様式1!X251,0,TRUE))<>P_20号3様式1!X251,RIGHT(FIXED(P_20号3様式1!X251,3,FALSE),4),\"\"),\"\"),\"\")","v":""},{"$f":"IF(P_20号3様式1!AA251<> \"\",IF(P_20号3様式1!AA251<> \"-\",TEXT(INT(P_20号3様式1!AA251),\"#,##0\"),\"-\"),\"\")","v":""},{"$f":"IF(P_20号3様式1!AA251<> \"\",IF(P_20号3様式1!AA251<> \"-\",IF(VALUE(FIXED(P_20号3様式1!AA251,0,TRUE))<>P_20号3様式1!AA251,RIGHT(FIXED(P_20号3様式1!AA251,3,FALSE),4),\"\"),\"\"),\"\")","v":""}]
[{"$f":"IF(P_20号3様式1!C252=\"\",\"\",P_20号3様式1!C252)","v":""},{"$f":"IF(P_20号3様式1!AE252<> \"\",TEXT(INT(P_20号3様式1!AE252),\"#,##0\"),\"\")","v":""},{"$f":"IF(P_20号3様式1!AE252= \"\",\"\",IF(VALUE(FIXED(P_20号3様式1!AE252,0,TRUE))<>P_20号3様式1!AE252,RIGHT(FIXED(P_20号3様式1!AE252,3,FALSE),4),\"\"))","v":""},{"$f":"IF(P_20号3様式1!F252<> \"\",IF(P_20号3様式1!F252<> \"-\",TEXT(INT(P_20号3様式1!F252),\"#,##0\"),\"-\"),\"\")","v":""},{"$f":"IF(P_20号3様式1!F252<> \"\",IF(P_20号3様式1!F252<> \"-\",IF(VALUE(FIXED(P_20号3様式1!F252,0,TRUE))<>P_20号3様式1!F252,RIGHT(FIXED(P_20号3様式1!F252,3,FALSE),4),\"\"),\"\"),\"\")","v":""},{"$f":"IF(P_20号3様式1!I252<> \"\",IF(P_20号3様式1!I252<> \"-\",TEXT(INT(P_20号3様式1!I252),\"#,##0\"),\"-\"),\"\")","v":""},{"$f":"IF(P_20号3様式1!I252<> \"\",IF(P_20号3様式1!I252<> \"-\",IF(VALUE(FIXED(P_20号3様式1!I252,0,TRUE))<>P_20号3様式1!I252,RIGHT(FIXED(P_20号3様式1!I252,3,FALSE),4),\"\"),\"\"),\"\")","v":""},{"$f":"IF(P_20号3様式1!L252<> \"\",IF(P_20号3様式1!L252<> \"-\",TEXT(INT(P_20号3様式1!L252),\"#,##0\"),\"-\"),\"\")","v":""},{"$f":"IF(P_20号3様式1!L252<> \"\",IF(P_20号3様式1!L252<> \"-\",IF(VALUE(FIXED(P_20号3様式1!L252,0,TRUE))<>P_20号3様式1!L252,RIGHT(FIXED(P_20号3様式1!L252,3,FALSE),4),\"\"),\"\"),\"\")","v":""},{"$f":"IF(P_20号3様式1!O252<> \"\",IF(P_20号3様式1!O252<> \"-\",TEXT(INT(P_20号3様式1!O252),\"#,##0\"),\"-\"),\"\")","v":""},{"$f":"IF(P_20号3様式1!O252<> \"\",IF(P_20号3様式1!O252<> \"-\",IF(VALUE(FIXED(P_20号3様式1!O252,0,TRUE))<>P_20号3様式1!O252,RIGHT(FIXED(P_20号3様式1!O252,3,FALSE),4),\"\"),\"\"),\"\")","v":""},{"$f":"IF(P_20号3様式1!R252<> \"\",IF(P_20号3様式1!R252<> \"-\",TEXT(INT(P_20号3様式1!R252),\"#,##0\"),\"-\"),\"\")","v":""},{"$f":"IF(P_20号3様式1!R252<> \"\",IF(P_20号3様式1!R252<> \"-\",IF(VALUE(FIXED(P_20号3様式1!R252,0,TRUE))<>P_20号3様式1!R252,RIGHT(FIXED(P_20号3様式1!R252,3,FALSE),4),\"\"),\"\"),\"\")","v":""},{"$f":"IF(P_20号3様式1!U252<> \"\",IF(P_20号3様式1!U252<> \"-\",TEXT(INT(P_20号3様式1!U252),\"#,##0\"),\"-\"),\"\")","v":""},{"$f":"IF(P_20号3様式1!U252<> \"\",IF(P_20号3様式1!U252<> \"-\",IF(VALUE(FIXED(P_20号3様式1!U252,0,TRUE))<>P_20号3様式1!U252,RIGHT(FIXED(P_20号3様式1!U252,3,FALSE),4),\"\"),\"\"),\"\")","v":""},{"$f":"IF(P_20号3様式1!X252<> \"\",IF(P_20号3様式1!X252<> \"-\",TEXT(INT(P_20号3様式1!X252),\"#,##0\"),\"-\"),\"\")","v":""},{"$f":"IF(P_20号3様式1!X252<> \"\",IF(P_20号3様式1!X252<> \"-\",IF(VALUE(FIXED(P_20号3様式1!X252,0,TRUE))<>P_20号3様式1!X252,RIGHT(FIXED(P_20号3様式1!X252,3,FALSE),4),\"\"),\"\"),\"\")","v":""},{"$f":"IF(P_20号3様式1!AA252<> \"\",IF(P_20号3様式1!AA252<> \"-\",TEXT(INT(P_20号3様式1!AA252),\"#,##0\"),\"-\"),\"\")","v":""},{"$f":"IF(P_20号3様式1!AA252<> \"\",IF(P_20号3様式1!AA252<> \"-\",IF(VALUE(FIXED(P_20号3様式1!AA252,0,TRUE))<>P_20号3様式1!AA252,RIGHT(FIXED(P_20号3様式1!AA252,3,FALSE),4),\"\"),\"\"),\"\")","v":""}]
[{"$f":"IF(P_20号3様式1!C253=\"\",\"\",P_20号3様式1!C253)","v":""},{"$f":"IF(P_20号3様式1!AE253<> \"\",TEXT(INT(P_20号3様式1!AE253),\"#,##0\"),\"\")","v":""},{"$f":"IF(P_20号3様式1!AE253= \"\",\"\",IF(VALUE(FIXED(P_20号3様式1!AE253,0,TRUE))<>P_20号3様式1!AE253,RIGHT(FIXED(P_20号3様式1!AE253,3,FALSE),4),\"\"))","v":""},{"$f":"IF(P_20号3様式1!F253<> \"\",IF(P_20号3様式1!F253<> \"-\",TEXT(INT(P_20号3様式1!F253),\"#,##0\"),\"-\"),\"\")","v":""},{"$f":"IF(P_20号3様式1!F253<> \"\",IF(P_20号3様式1!F253<> \"-\",IF(VALUE(FIXED(P_20号3様式1!F253,0,TRUE))<>P_20号3様式1!F253,RIGHT(FIXED(P_20号3様式1!F253,3,FALSE),4),\"\"),\"\"),\"\")","v":""},{"$f":"IF(P_20号3様式1!I253<> \"\",IF(P_20号3様式1!I253<> \"-\",TEXT(INT(P_20号3様式1!I253),\"#,##0\"),\"-\"),\"\")","v":""},{"$f":"IF(P_20号3様式1!I253<> \"\",IF(P_20号3様式1!I253<> \"-\",IF(VALUE(FIXED(P_20号3様式1!I253,0,TRUE))<>P_20号3様式1!I253,RIGHT(FIXED(P_20号3様式1!I253,3,FALSE),4),\"\"),\"\"),\"\")","v":""},{"$f":"IF(P_20号3様式1!L253<> \"\",IF(P_20号3様式1!L253<> \"-\",TEXT(INT(P_20号3様式1!L253),\"#,##0\"),\"-\"),\"\")","v":""},{"$f":"IF(P_20号3様式1!L253<> \"\",IF(P_20号3様式1!L253<> \"-\",IF(VALUE(FIXED(P_20号3様式1!L253,0,TRUE))<>P_20号3様式1!L253,RIGHT(FIXED(P_20号3様式1!L253,3,FALSE),4),\"\"),\"\"),\"\")","v":""},{"$f":"IF(P_20号3様式1!O253<> \"\",IF(P_20号3様式1!O253<> \"-\",TEXT(INT(P_20号3様式1!O253),\"#,##0\"),\"-\"),\"\")","v":""},{"$f":"IF(P_20号3様式1!O253<> \"\",IF(P_20号3様式1!O253<> \"-\",IF(VALUE(FIXED(P_20号3様式1!O253,0,TRUE))<>P_20号3様式1!O253,RIGHT(FIXED(P_20号3様式1!O253,3,FALSE),4),\"\"),\"\"),\"\")","v":""},{"$f":"IF(P_20号3様式1!R253<> \"\",IF(P_20号3様式1!R253<> \"-\",TEXT(INT(P_20号3様式1!R253),\"#,##0\"),\"-\"),\"\")","v":""},{"$f":"IF(P_20号3様式1!R253<> \"\",IF(P_20号3様式1!R253<> \"-\",IF(VALUE(FIXED(P_20号3様式1!R253,0,TRUE))<>P_20号3様式1!R253,RIGHT(FIXED(P_20号3様式1!R253,3,FALSE),4),\"\"),\"\"),\"\")","v":""},{"$f":"IF(P_20号3様式1!U253<> \"\",IF(P_20号3様式1!U253<> \"-\",TEXT(INT(P_20号3様式1!U253),\"#,##0\"),\"-\"),\"\")","v":""},{"$f":"IF(P_20号3様式1!U253<> \"\",IF(P_20号3様式1!U253<> \"-\",IF(VALUE(FIXED(P_20号3様式1!U253,0,TRUE))<>P_20号3様式1!U253,RIGHT(FIXED(P_20号3様式1!U253,3,FALSE),4),\"\"),\"\"),\"\")","v":""},{"$f":"IF(P_20号3様式1!X253<> \"\",IF(P_20号3様式1!X253<> \"-\",TEXT(INT(P_20号3様式1!X253),\"#,##0\"),\"-\"),\"\")","v":""},{"$f":"IF(P_20号3様式1!X253<> \"\",IF(P_20号3様式1!X253<> \"-\",IF(VALUE(FIXED(P_20号3様式1!X253,0,TRUE))<>P_20号3様式1!X253,RIGHT(FIXED(P_20号3様式1!X253,3,FALSE),4),\"\"),\"\"),\"\")","v":""},{"$f":"IF(P_20号3様式1!AA253<> \"\",IF(P_20号3様式1!AA253<> \"-\",TEXT(INT(P_20号3様式1!AA253),\"#,##0\"),\"-\"),\"\")","v":""},{"$f":"IF(P_20号3様式1!AA253<> \"\",IF(P_20号3様式1!AA253<> \"-\",IF(VALUE(FIXED(P_20号3様式1!AA253,0,TRUE))<>P_20号3様式1!AA253,RIGHT(FIXED(P_20号3様式1!AA253,3,FALSE),4),\"\"),\"\"),\"\")","v":""}]
[{"$f":"IF(P_20号3様式1!C254=\"\",\"\",P_20号3様式1!C254)","v":""},{"$f":"IF(P_20号3様式1!AE254<> \"\",TEXT(INT(P_20号3様式1!AE254),\"#,##0\"),\"\")","v":""},{"$f":"IF(P_20号3様式1!AE254= \"\",\"\",IF(VALUE(FIXED(P_20号3様式1!AE254,0,TRUE))<>P_20号3様式1!AE254,RIGHT(FIXED(P_20号3様式1!AE254,3,FALSE),4),\"\"))","v":""},{"$f":"IF(P_20号3様式1!F254<> \"\",IF(P_20号3様式1!F254<> \"-\",TEXT(INT(P_20号3様式1!F254),\"#,##0\"),\"-\"),\"\")","v":""},{"$f":"IF(P_20号3様式1!F254<> \"\",IF(P_20号3様式1!F254<> \"-\",IF(VALUE(FIXED(P_20号3様式1!F254,0,TRUE))<>P_20号3様式1!F254,RIGHT(FIXED(P_20号3様式1!F254,3,FALSE),4),\"\"),\"\"),\"\")","v":""},{"$f":"IF(P_20号3様式1!I254<> \"\",IF(P_20号3様式1!I254<> \"-\",TEXT(INT(P_20号3様式1!I254),\"#,##0\"),\"-\"),\"\")","v":""},{"$f":"IF(P_20号3様式1!I254<> \"\",IF(P_20号3様式1!I254<> \"-\",IF(VALUE(FIXED(P_20号3様式1!I254,0,TRUE))<>P_20号3様式1!I254,RIGHT(FIXED(P_20号3様式1!I254,3,FALSE),4),\"\"),\"\"),\"\")","v":""},{"$f":"IF(P_20号3様式1!L254<> \"\",IF(P_20号3様式1!L254<> \"-\",TEXT(INT(P_20号3様式1!L254),\"#,##0\"),\"-\"),\"\")","v":""},{"$f":"IF(P_20号3様式1!L254<> \"\",IF(P_20号3様式1!L254<> \"-\",IF(VALUE(FIXED(P_20号3様式1!L254,0,TRUE))<>P_20号3様式1!L254,RIGHT(FIXED(P_20号3様式1!L254,3,FALSE),4),\"\"),\"\"),\"\")","v":""},{"$f":"IF(P_20号3様式1!O254<> \"\",IF(P_20号3様式1!O254<> \"-\",TEXT(INT(P_20号3様式1!O254),\"#,##0\"),\"-\"),\"\")","v":""},{"$f":"IF(P_20号3様式1!O254<> \"\",IF(P_20号3様式1!O254<> \"-\",IF(VALUE(FIXED(P_20号3様式1!O254,0,TRUE))<>P_20号3様式1!O254,RIGHT(FIXED(P_20号3様式1!O254,3,FALSE),4),\"\"),\"\"),\"\")","v":""},{"$f":"IF(P_20号3様式1!R254<> \"\",IF(P_20号3様式1!R254<> \"-\",TEXT(INT(P_20号3様式1!R254),\"#,##0\"),\"-\"),\"\")","v":""},{"$f":"IF(P_20号3様式1!R254<> \"\",IF(P_20号3様式1!R254<> \"-\",IF(VALUE(FIXED(P_20号3様式1!R254,0,TRUE))<>P_20号3様式1!R254,RIGHT(FIXED(P_20号3様式1!R254,3,FALSE),4),\"\"),\"\"),\"\")","v":""},{"$f":"IF(P_20号3様式1!U254<> \"\",IF(P_20号3様式1!U254<> \"-\",TEXT(INT(P_20号3様式1!U254),\"#,##0\"),\"-\"),\"\")","v":""},{"$f":"IF(P_20号3様式1!U254<> \"\",IF(P_20号3様式1!U254<> \"-\",IF(VALUE(FIXED(P_20号3様式1!U254,0,TRUE))<>P_20号3様式1!U254,RIGHT(FIXED(P_20号3様式1!U254,3,FALSE),4),\"\"),\"\"),\"\")","v":""},{"$f":"IF(P_20号3様式1!X254<> \"\",IF(P_20号3様式1!X254<> \"-\",TEXT(INT(P_20号3様式1!X254),\"#,##0\"),\"-\"),\"\")","v":""},{"$f":"IF(P_20号3様式1!X254<> \"\",IF(P_20号3様式1!X254<> \"-\",IF(VALUE(FIXED(P_20号3様式1!X254,0,TRUE))<>P_20号3様式1!X254,RIGHT(FIXED(P_20号3様式1!X254,3,FALSE),4),\"\"),\"\"),\"\")","v":""},{"$f":"IF(P_20号3様式1!AA254<> \"\",IF(P_20号3様式1!AA254<> \"-\",TEXT(INT(P_20号3様式1!AA254),\"#,##0\"),\"-\"),\"\")","v":""},{"$f":"IF(P_20号3様式1!AA254<> \"\",IF(P_20号3様式1!AA254<> \"-\",IF(VALUE(FIXED(P_20号3様式1!AA254,0,TRUE))<>P_20号3様式1!AA254,RIGHT(FIXED(P_20号3様式1!AA254,3,FALSE),4),\"\"),\"\"),\"\")","v":""}]
[{"$f":"IF(P_20号3様式1!C255=\"\",\"\",P_20号3様式1!C255)","v":""},{"$f":"IF(P_20号3様式1!AE255<> \"\",TEXT(INT(P_20号3様式1!AE255),\"#,##0\"),\"\")","v":""},{"$f":"IF(P_20号3様式1!AE255= \"\",\"\",IF(VALUE(FIXED(P_20号3様式1!AE255,0,TRUE))<>P_20号3様式1!AE255,RIGHT(FIXED(P_20号3様式1!AE255,3,FALSE),4),\"\"))","v":""},{"$f":"IF(P_20号3様式1!F255<> \"\",IF(P_20号3様式1!F255<> \"-\",TEXT(INT(P_20号3様式1!F255),\"#,##0\"),\"-\"),\"\")","v":""},{"$f":"IF(P_20号3様式1!F255<> \"\",IF(P_20号3様式1!F255<> \"-\",IF(VALUE(FIXED(P_20号3様式1!F255,0,TRUE))<>P_20号3様式1!F255,RIGHT(FIXED(P_20号3様式1!F255,3,FALSE),4),\"\"),\"\"),\"\")","v":""},{"$f":"IF(P_20号3様式1!I255<> \"\",IF(P_20号3様式1!I255<> \"-\",TEXT(INT(P_20号3様式1!I255),\"#,##0\"),\"-\"),\"\")","v":""},{"$f":"IF(P_20号3様式1!I255<> \"\",IF(P_20号3様式1!I255<> \"-\",IF(VALUE(FIXED(P_20号3様式1!I255,0,TRUE))<>P_20号3様式1!I255,RIGHT(FIXED(P_20号3様式1!I255,3,FALSE),4),\"\"),\"\"),\"\")","v":""},{"$f":"IF(P_20号3様式1!L255<> \"\",IF(P_20号3様式1!L255<> \"-\",TEXT(INT(P_20号3様式1!L255),\"#,##0\"),\"-\"),\"\")","v":""},{"$f":"IF(P_20号3様式1!L255<> \"\",IF(P_20号3様式1!L255<> \"-\",IF(VALUE(FIXED(P_20号3様式1!L255,0,TRUE))<>P_20号3様式1!L255,RIGHT(FIXED(P_20号3様式1!L255,3,FALSE),4),\"\"),\"\"),\"\")","v":""},{"$f":"IF(P_20号3様式1!O255<> \"\",IF(P_20号3様式1!O255<> \"-\",TEXT(INT(P_20号3様式1!O255),\"#,##0\"),\"-\"),\"\")","v":""},{"$f":"IF(P_20号3様式1!O255<> \"\",IF(P_20号3様式1!O255<> \"-\",IF(VALUE(FIXED(P_20号3様式1!O255,0,TRUE))<>P_20号3様式1!O255,RIGHT(FIXED(P_20号3様式1!O255,3,FALSE),4),\"\"),\"\"),\"\")","v":""},{"$f":"IF(P_20号3様式1!R255<> \"\",IF(P_20号3様式1!R255<> \"-\",TEXT(INT(P_20号3様式1!R255),\"#,##0\"),\"-\"),\"\")","v":""},{"$f":"IF(P_20号3様式1!R255<> \"\",IF(P_20号3様式1!R255<> \"-\",IF(VALUE(FIXED(P_20号3様式1!R255,0,TRUE))<>P_20号3様式1!R255,RIGHT(FIXED(P_20号3様式1!R255,3,FALSE),4),\"\"),\"\"),\"\")","v":""},{"$f":"IF(P_20号3様式1!U255<> \"\",IF(P_20号3様式1!U255<> \"-\",TEXT(INT(P_20号3様式1!U255),\"#,##0\"),\"-\"),\"\")","v":""},{"$f":"IF(P_20号3様式1!U255<> \"\",IF(P_20号3様式1!U255<> \"-\",IF(VALUE(FIXED(P_20号3様式1!U255,0,TRUE))<>P_20号3様式1!U255,RIGHT(FIXED(P_20号3様式1!U255,3,FALSE),4),\"\"),\"\"),\"\")","v":""},{"$f":"IF(P_20号3様式1!X255<> \"\",IF(P_20号3様式1!X255<> \"-\",TEXT(INT(P_20号3様式1!X255),\"#,##0\"),\"-\"),\"\")","v":""},{"$f":"IF(P_20号3様式1!X255<> \"\",IF(P_20号3様式1!X255<> \"-\",IF(VALUE(FIXED(P_20号3様式1!X255,0,TRUE))<>P_20号3様式1!X255,RIGHT(FIXED(P_20号3様式1!X255,3,FALSE),4),\"\"),\"\"),\"\")","v":""},{"$f":"IF(P_20号3様式1!AA255<> \"\",IF(P_20号3様式1!AA255<> \"-\",TEXT(INT(P_20号3様式1!AA255),\"#,##0\"),\"-\"),\"\")","v":""},{"$f":"IF(P_20号3様式1!AA255<> \"\",IF(P_20号3様式1!AA255<> \"-\",IF(VALUE(FIXED(P_20号3様式1!AA255,0,TRUE))<>P_20号3様式1!AA255,RIGHT(FIXED(P_20号3様式1!AA255,3,FALSE),4),\"\"),\"\"),\"\")","v":""}]
[{"$f":"IF(P_20号3様式1!C256=\"\",\"\",P_20号3様式1!C256)","v":""},{"$f":"IF(P_20号3様式1!AE256<> \"\",TEXT(INT(P_20号3様式1!AE256),\"#,##0\"),\"\")","v":""},{"$f":"IF(P_20号3様式1!AE256= \"\",\"\",IF(VALUE(FIXED(P_20号3様式1!AE256,0,TRUE))<>P_20号3様式1!AE256,RIGHT(FIXED(P_20号3様式1!AE256,3,FALSE),4),\"\"))","v":""},{"$f":"IF(P_20号3様式1!F256<> \"\",IF(P_20号3様式1!F256<> \"-\",TEXT(INT(P_20号3様式1!F256),\"#,##0\"),\"-\"),\"\")","v":""},{"$f":"IF(P_20号3様式1!F256<> \"\",IF(P_20号3様式1!F256<> \"-\",IF(VALUE(FIXED(P_20号3様式1!F256,0,TRUE))<>P_20号3様式1!F256,RIGHT(FIXED(P_20号3様式1!F256,3,FALSE),4),\"\"),\"\"),\"\")","v":""},{"$f":"IF(P_20号3様式1!I256<> \"\",IF(P_20号3様式1!I256<> \"-\",TEXT(INT(P_20号3様式1!I256),\"#,##0\"),\"-\"),\"\")","v":""},{"$f":"IF(P_20号3様式1!I256<> \"\",IF(P_20号3様式1!I256<> \"-\",IF(VALUE(FIXED(P_20号3様式1!I256,0,TRUE))<>P_20号3様式1!I256,RIGHT(FIXED(P_20号3様式1!I256,3,FALSE),4),\"\"),\"\"),\"\")","v":""},{"$f":"IF(P_20号3様式1!L256<> \"\",IF(P_20号3様式1!L256<> \"-\",TEXT(INT(P_20号3様式1!L256),\"#,##0\"),\"-\"),\"\")","v":""},{"$f":"IF(P_20号3様式1!L256<> \"\",IF(P_20号3様式1!L256<> \"-\",IF(VALUE(FIXED(P_20号3様式1!L256,0,TRUE))<>P_20号3様式1!L256,RIGHT(FIXED(P_20号3様式1!L256,3,FALSE),4),\"\"),\"\"),\"\")","v":""},{"$f":"IF(P_20号3様式1!O256<> \"\",IF(P_20号3様式1!O256<> \"-\",TEXT(INT(P_20号3様式1!O256),\"#,##0\"),\"-\"),\"\")","v":""},{"$f":"IF(P_20号3様式1!O256<> \"\",IF(P_20号3様式1!O256<> \"-\",IF(VALUE(FIXED(P_20号3様式1!O256,0,TRUE))<>P_20号3様式1!O256,RIGHT(FIXED(P_20号3様式1!O256,3,FALSE),4),\"\"),\"\"),\"\")","v":""},{"$f":"IF(P_20号3様式1!R256<> \"\",IF(P_20号3様式1!R256<> \"-\",TEXT(INT(P_20号3様式1!R256),\"#,##0\"),\"-\"),\"\")","v":""},{"$f":"IF(P_20号3様式1!R256<> \"\",IF(P_20号3様式1!R256<> \"-\",IF(VALUE(FIXED(P_20号3様式1!R256,0,TRUE))<>P_20号3様式1!R256,RIGHT(FIXED(P_20号3様式1!R256,3,FALSE),4),\"\"),\"\"),\"\")","v":""},{"$f":"IF(P_20号3様式1!U256<> \"\",IF(P_20号3様式1!U256<> \"-\",TEXT(INT(P_20号3様式1!U256),\"#,##0\"),\"-\"),\"\")","v":""},{"$f":"IF(P_20号3様式1!U256<> \"\",IF(P_20号3様式1!U256<> \"-\",IF(VALUE(FIXED(P_20号3様式1!U256,0,TRUE))<>P_20号3様式1!U256,RIGHT(FIXED(P_20号3様式1!U256,3,FALSE),4),\"\"),\"\"),\"\")","v":""},{"$f":"IF(P_20号3様式1!X256<> \"\",IF(P_20号3様式1!X256<> \"-\",TEXT(INT(P_20号3様式1!X256),\"#,##0\"),\"-\"),\"\")","v":""},{"$f":"IF(P_20号3様式1!X256<> \"\",IF(P_20号3様式1!X256<> \"-\",IF(VALUE(FIXED(P_20号3様式1!X256,0,TRUE))<>P_20号3様式1!X256,RIGHT(FIXED(P_20号3様式1!X256,3,FALSE),4),\"\"),\"\"),\"\")","v":""},{"$f":"IF(P_20号3様式1!AA256<> \"\",IF(P_20号3様式1!AA256<> \"-\",TEXT(INT(P_20号3様式1!AA256),\"#,##0\"),\"-\"),\"\")","v":""},{"$f":"IF(P_20号3様式1!AA256<> \"\",IF(P_20号3様式1!AA256<> \"-\",IF(VALUE(FIXED(P_20号3様式1!AA256,0,TRUE))<>P_20号3様式1!AA256,RIGHT(FIXED(P_20号3様式1!AA256,3,FALSE),4),\"\"),\"\"),\"\")","v":""}]
[{"$f":"IF(P_20号3様式1!C257=\"\",\"\",P_20号3様式1!C257)","v":""},{"$f":"IF(P_20号3様式1!AE257<> \"\",TEXT(INT(P_20号3様式1!AE257),\"#,##0\"),\"\")","v":""},{"$f":"IF(P_20号3様式1!AE257= \"\",\"\",IF(VALUE(FIXED(P_20号3様式1!AE257,0,TRUE))<>P_20号3様式1!AE257,RIGHT(FIXED(P_20号3様式1!AE257,3,FALSE),4),\"\"))","v":""},{"$f":"IF(P_20号3様式1!F257<> \"\",IF(P_20号3様式1!F257<> \"-\",TEXT(INT(P_20号3様式1!F257),\"#,##0\"),\"-\"),\"\")","v":""},{"$f":"IF(P_20号3様式1!F257<> \"\",IF(P_20号3様式1!F257<> \"-\",IF(VALUE(FIXED(P_20号3様式1!F257,0,TRUE))<>P_20号3様式1!F257,RIGHT(FIXED(P_20号3様式1!F257,3,FALSE),4),\"\"),\"\"),\"\")","v":""},{"$f":"IF(P_20号3様式1!I257<> \"\",IF(P_20号3様式1!I257<> \"-\",TEXT(INT(P_20号3様式1!I257),\"#,##0\"),\"-\"),\"\")","v":""},{"$f":"IF(P_20号3様式1!I257<> \"\",IF(P_20号3様式1!I257<> \"-\",IF(VALUE(FIXED(P_20号3様式1!I257,0,TRUE))<>P_20号3様式1!I257,RIGHT(FIXED(P_20号3様式1!I257,3,FALSE),4),\"\"),\"\"),\"\")","v":""},{"$f":"IF(P_20号3様式1!L257<> \"\",IF(P_20号3様式1!L257<> \"-\",TEXT(INT(P_20号3様式1!L257),\"#,##0\"),\"-\"),\"\")","v":""},{"$f":"IF(P_20号3様式1!L257<> \"\",IF(P_20号3様式1!L257<> \"-\",IF(VALUE(FIXED(P_20号3様式1!L257,0,TRUE))<>P_20号3様式1!L257,RIGHT(FIXED(P_20号3様式1!L257,3,FALSE),4),\"\"),\"\"),\"\")","v":""},{"$f":"IF(P_20号3様式1!O257<> \"\",IF(P_20号3様式1!O257<> \"-\",TEXT(INT(P_20号3様式1!O257),\"#,##0\"),\"-\"),\"\")","v":""},{"$f":"IF(P_20号3様式1!O257<> \"\",IF(P_20号3様式1!O257<> \"-\",IF(VALUE(FIXED(P_20号3様式1!O257,0,TRUE))<>P_20号3様式1!O257,RIGHT(FIXED(P_20号3様式1!O257,3,FALSE),4),\"\"),\"\"),\"\")","v":""},{"$f":"IF(P_20号3様式1!R257<> \"\",IF(P_20号3様式1!R257<> \"-\",TEXT(INT(P_20号3様式1!R257),\"#,##0\"),\"-\"),\"\")","v":""},{"$f":"IF(P_20号3様式1!R257<> \"\",IF(P_20号3様式1!R257<> \"-\",IF(VALUE(FIXED(P_20号3様式1!R257,0,TRUE))<>P_20号3様式1!R257,RIGHT(FIXED(P_20号3様式1!R257,3,FALSE),4),\"\"),\"\"),\"\")","v":""},{"$f":"IF(P_20号3様式1!U257<> \"\",IF(P_20号3様式1!U257<> \"-\",TEXT(INT(P_20号3様式1!U257),\"#,##0\"),\"-\"),\"\")","v":""},{"$f":"IF(P_20号3様式1!U257<> \"\",IF(P_20号3様式1!U257<> \"-\",IF(VALUE(FIXED(P_20号3様式1!U257,0,TRUE))<>P_20号3様式1!U257,RIGHT(FIXED(P_20号3様式1!U257,3,FALSE),4),\"\"),\"\"),\"\")","v":""},{"$f":"IF(P_20号3様式1!X257<> \"\",IF(P_20号3様式1!X257<> \"-\",TEXT(INT(P_20号3様式1!X257),\"#,##0\"),\"-\"),\"\")","v":""},{"$f":"IF(P_20号3様式1!X257<> \"\",IF(P_20号3様式1!X257<> \"-\",IF(VALUE(FIXED(P_20号3様式1!X257,0,TRUE))<>P_20号3様式1!X257,RIGHT(FIXED(P_20号3様式1!X257,3,FALSE),4),\"\"),\"\"),\"\")","v":""},{"$f":"IF(P_20号3様式1!AA257<> \"\",IF(P_20号3様式1!AA257<> \"-\",TEXT(INT(P_20号3様式1!AA257),\"#,##0\"),\"-\"),\"\")","v":""},{"$f":"IF(P_20号3様式1!AA257<> \"\",IF(P_20号3様式1!AA257<> \"-\",IF(VALUE(FIXED(P_20号3様式1!AA257,0,TRUE))<>P_20号3様式1!AA257,RIGHT(FIXED(P_20号3様式1!AA257,3,FALSE),4),\"\"),\"\"),\"\")","v":""}]
[{"$f":"IF(P_20号3様式1!C258=\"\",\"\",P_20号3様式1!C258)","v":""},{"$f":"IF(P_20号3様式1!AE258<> \"\",TEXT(INT(P_20号3様式1!AE258),\"#,##0\"),\"\")","v":""},{"$f":"IF(P_20号3様式1!AE258= \"\",\"\",IF(VALUE(FIXED(P_20号3様式1!AE258,0,TRUE))<>P_20号3様式1!AE258,RIGHT(FIXED(P_20号3様式1!AE258,3,FALSE),4),\"\"))","v":""},{"$f":"IF(P_20号3様式1!F258<> \"\",IF(P_20号3様式1!F258<> \"-\",TEXT(INT(P_20号3様式1!F258),\"#,##0\"),\"-\"),\"\")","v":""},{"$f":"IF(P_20号3様式1!F258<> \"\",IF(P_20号3様式1!F258<> \"-\",IF(VALUE(FIXED(P_20号3様式1!F258,0,TRUE))<>P_20号3様式1!F258,RIGHT(FIXED(P_20号3様式1!F258,3,FALSE),4),\"\"),\"\"),\"\")","v":""},{"$f":"IF(P_20号3様式1!I258<> \"\",IF(P_20号3様式1!I258<> \"-\",TEXT(INT(P_20号3様式1!I258),\"#,##0\"),\"-\"),\"\")","v":""},{"$f":"IF(P_20号3様式1!I258<> \"\",IF(P_20号3様式1!I258<> \"-\",IF(VALUE(FIXED(P_20号3様式1!I258,0,TRUE))<>P_20号3様式1!I258,RIGHT(FIXED(P_20号3様式1!I258,3,FALSE),4),\"\"),\"\"),\"\")","v":""},{"$f":"IF(P_20号3様式1!L258<> \"\",IF(P_20号3様式1!L258<> \"-\",TEXT(INT(P_20号3様式1!L258),\"#,##0\"),\"-\"),\"\")","v":""},{"$f":"IF(P_20号3様式1!L258<> \"\",IF(P_20号3様式1!L258<> \"-\",IF(VALUE(FIXED(P_20号3様式1!L258,0,TRUE))<>P_20号3様式1!L258,RIGHT(FIXED(P_20号3様式1!L258,3,FALSE),4),\"\"),\"\"),\"\")","v":""},{"$f":"IF(P_20号3様式1!O258<> \"\",IF(P_20号3様式1!O258<> \"-\",TEXT(INT(P_20号3様式1!O258),\"#,##0\"),\"-\"),\"\")","v":""},{"$f":"IF(P_20号3様式1!O258<> \"\",IF(P_20号3様式1!O258<> \"-\",IF(VALUE(FIXED(P_20号3様式1!O258,0,TRUE))<>P_20号3様式1!O258,RIGHT(FIXED(P_20号3様式1!O258,3,FALSE),4),\"\"),\"\"),\"\")","v":""},{"$f":"IF(P_20号3様式1!R258<> \"\",IF(P_20号3様式1!R258<> \"-\",TEXT(INT(P_20号3様式1!R258),\"#,##0\"),\"-\"),\"\")","v":""},{"$f":"IF(P_20号3様式1!R258<> \"\",IF(P_20号3様式1!R258<> \"-\",IF(VALUE(FIXED(P_20号3様式1!R258,0,TRUE))<>P_20号3様式1!R258,RIGHT(FIXED(P_20号3様式1!R258,3,FALSE),4),\"\"),\"\"),\"\")","v":""},{"$f":"IF(P_20号3様式1!U258<> \"\",IF(P_20号3様式1!U258<> \"-\",TEXT(INT(P_20号3様式1!U258),\"#,##0\"),\"-\"),\"\")","v":""},{"$f":"IF(P_20号3様式1!U258<> \"\",IF(P_20号3様式1!U258<> \"-\",IF(VALUE(FIXED(P_20号3様式1!U258,0,TRUE))<>P_20号3様式1!U258,RIGHT(FIXED(P_20号3様式1!U258,3,FALSE),4),\"\"),\"\"),\"\")","v":""},{"$f":"IF(P_20号3様式1!X258<> \"\",IF(P_20号3様式1!X258<> \"-\",TEXT(INT(P_20号3様式1!X258),\"#,##0\"),\"-\"),\"\")","v":""},{"$f":"IF(P_20号3様式1!X258<> \"\",IF(P_20号3様式1!X258<> \"-\",IF(VALUE(FIXED(P_20号3様式1!X258,0,TRUE))<>P_20号3様式1!X258,RIGHT(FIXED(P_20号3様式1!X258,3,FALSE),4),\"\"),\"\"),\"\")","v":""},{"$f":"IF(P_20号3様式1!AA258<> \"\",IF(P_20号3様式1!AA258<> \"-\",TEXT(INT(P_20号3様式1!AA258),\"#,##0\"),\"-\"),\"\")","v":""},{"$f":"IF(P_20号3様式1!AA258<> \"\",IF(P_20号3様式1!AA258<> \"-\",IF(VALUE(FIXED(P_20号3様式1!AA258,0,TRUE))<>P_20号3様式1!AA258,RIGHT(FIXED(P_20号3様式1!AA258,3,FALSE),4),\"\"),\"\"),\"\")","v":""}]
[{"$f":"IF(P_20号3様式1!C259=\"\",\"\",P_20号3様式1!C259)","v":""},{"$f":"IF(P_20号3様式1!AE259<> \"\",TEXT(INT(P_20号3様式1!AE259),\"#,##0\"),\"\")","v":""},{"$f":"IF(P_20号3様式1!AE259= \"\",\"\",IF(VALUE(FIXED(P_20号3様式1!AE259,0,TRUE))<>P_20号3様式1!AE259,RIGHT(FIXED(P_20号3様式1!AE259,3,FALSE),4),\"\"))","v":""},{"$f":"IF(P_20号3様式1!F259<> \"\",IF(P_20号3様式1!F259<> \"-\",TEXT(INT(P_20号3様式1!F259),\"#,##0\"),\"-\"),\"\")","v":""},{"$f":"IF(P_20号3様式1!F259<> \"\",IF(P_20号3様式1!F259<> \"-\",IF(VALUE(FIXED(P_20号3様式1!F259,0,TRUE))<>P_20号3様式1!F259,RIGHT(FIXED(P_20号3様式1!F259,3,FALSE),4),\"\"),\"\"),\"\")","v":""},{"$f":"IF(P_20号3様式1!I259<> \"\",IF(P_20号3様式1!I259<> \"-\",TEXT(INT(P_20号3様式1!I259),\"#,##0\"),\"-\"),\"\")","v":""},{"$f":"IF(P_20号3様式1!I259<> \"\",IF(P_20号3様式1!I259<> \"-\",IF(VALUE(FIXED(P_20号3様式1!I259,0,TRUE))<>P_20号3様式1!I259,RIGHT(FIXED(P_20号3様式1!I259,3,FALSE),4),\"\"),\"\"),\"\")","v":""},{"$f":"IF(P_20号3様式1!L259<> \"\",IF(P_20号3様式1!L259<> \"-\",TEXT(INT(P_20号3様式1!L259),\"#,##0\"),\"-\"),\"\")","v":""},{"$f":"IF(P_20号3様式1!L259<> \"\",IF(P_20号3様式1!L259<> \"-\",IF(VALUE(FIXED(P_20号3様式1!L259,0,TRUE))<>P_20号3様式1!L259,RIGHT(FIXED(P_20号3様式1!L259,3,FALSE),4),\"\"),\"\"),\"\")","v":""},{"$f":"IF(P_20号3様式1!O259<> \"\",IF(P_20号3様式1!O259<> \"-\",TEXT(INT(P_20号3様式1!O259),\"#,##0\"),\"-\"),\"\")","v":""},{"$f":"IF(P_20号3様式1!O259<> \"\",IF(P_20号3様式1!O259<> \"-\",IF(VALUE(FIXED(P_20号3様式1!O259,0,TRUE))<>P_20号3様式1!O259,RIGHT(FIXED(P_20号3様式1!O259,3,FALSE),4),\"\"),\"\"),\"\")","v":""},{"$f":"IF(P_20号3様式1!R259<> \"\",IF(P_20号3様式1!R259<> \"-\",TEXT(INT(P_20号3様式1!R259),\"#,##0\"),\"-\"),\"\")","v":""},{"$f":"IF(P_20号3様式1!R259<> \"\",IF(P_20号3様式1!R259<> \"-\",IF(VALUE(FIXED(P_20号3様式1!R259,0,TRUE))<>P_20号3様式1!R259,RIGHT(FIXED(P_20号3様式1!R259,3,FALSE),4),\"\"),\"\"),\"\")","v":""},{"$f":"IF(P_20号3様式1!U259<> \"\",IF(P_20号3様式1!U259<> \"-\",TEXT(INT(P_20号3様式1!U259),\"#,##0\"),\"-\"),\"\")","v":""},{"$f":"IF(P_20号3様式1!U259<> \"\",IF(P_20号3様式1!U259<> \"-\",IF(VALUE(FIXED(P_20号3様式1!U259,0,TRUE))<>P_20号3様式1!U259,RIGHT(FIXED(P_20号3様式1!U259,3,FALSE),4),\"\"),\"\"),\"\")","v":""},{"$f":"IF(P_20号3様式1!X259<> \"\",IF(P_20号3様式1!X259<> \"-\",TEXT(INT(P_20号3様式1!X259),\"#,##0\"),\"-\"),\"\")","v":""},{"$f":"IF(P_20号3様式1!X259<> \"\",IF(P_20号3様式1!X259<> \"-\",IF(VALUE(FIXED(P_20号3様式1!X259,0,TRUE))<>P_20号3様式1!X259,RIGHT(FIXED(P_20号3様式1!X259,3,FALSE),4),\"\"),\"\"),\"\")","v":""},{"$f":"IF(P_20号3様式1!AA259<> \"\",IF(P_20号3様式1!AA259<> \"-\",TEXT(INT(P_20号3様式1!AA259),\"#,##0\"),\"-\"),\"\")","v":""},{"$f":"IF(P_20号3様式1!AA259<> \"\",IF(P_20号3様式1!AA259<> \"-\",IF(VALUE(FIXED(P_20号3様式1!AA259,0,TRUE))<>P_20号3様式1!AA259,RIGHT(FIXED(P_20号3様式1!AA259,3,FALSE),4),\"\"),\"\"),\"\")","v":""}]
[]
["政   令   市   計",{"$f":"IF(P_20号3様式1!AH217<> \"\",TEXT(INT(P_20号3様式1!AH217),\"#,##0\"),\"\")","v":""},{"$f":"IF(P_20号3様式1!AH217= \"\",\"\",IF(VALUE(FIXED(P_20号3様式1!AH217,0,TRUE))<>P_20号3様式1!AH217,RIGHT(FIXED(P_20号3様式1!AH217,3,FALSE),4),\"\"))","v":""},{"$f":"IF(P_20号3様式1!AI217<> \"\",IF(P_20号3様式1!AI217<> \"-\",TEXT(INT(P_20号3様式1!AI217),\"#,##0\"),\"-\"),\"\")","v":""},{"$f":"IF(P_20号3様式1!AI217<> \"\",IF(P_20号3様式1!AI217<> \"-\",IF(VALUE(FIXED(P_20号3様式1!AI217,0,TRUE))<>P_20号3様式1!AI217,RIGHT(FIXED(P_20号3様式1!AI217,3,FALSE),4),\"\"),\"\"),\"\")","v":""},{"$f":"IF(P_20号3様式1!AJ217<> \"\",IF(P_20号3様式1!AJ217<> \"-\",TEXT(INT(P_20号3様式1!AJ217),\"#,##0\"),\"-\"),\"\")","v":""},{"$f":"IF(P_20号3様式1!AJ217<> \"\",IF(P_20号3様式1!AJ217<> \"-\",IF(VALUE(FIXED(P_20号3様式1!AJ217,0,TRUE))<>P_20号3様式1!AJ217,RIGHT(FIXED(P_20号3様式1!AJ217,3,FALSE),4),\"\"),\"\"),\"\")","v":""},{"$f":"IF(P_20号3様式1!AK217<> \"\",IF(P_20号3様式1!AK217<> \"-\",TEXT(INT(P_20号3様式1!AK217),\"#,##0\"),\"-\"),\"\")","v":""},{"$f":"IF(P_20号3様式1!AK217<> \"\",IF(P_20号3様式1!AK217<> \"-\",IF(VALUE(FIXED(P_20号3様式1!AK217,0,TRUE))<>P_20号3様式1!AK217,RIGHT(FIXED(P_20号3様式1!AK217,3,FALSE),4),\"\"),\"\"),\"\")","v":""},{"$f":"IF(P_20号3様式1!AL217<> \"\",IF(P_20号3様式1!AL217<> \"-\",TEXT(INT(P_20号3様式1!AL217),\"#,##0\"),\"-\"),\"\")","v":""},{"$f":"IF(P_20号3様式1!AL217<> \"\",IF(P_20号3様式1!AL217<> \"-\",IF(VALUE(FIXED(P_20号3様式1!AL217,0,TRUE))<>P_20号3様式1!AL217,RIGHT(FIXED(P_20号3様式1!AL217,3,FALSE),4),\"\"),\"\"),\"\")","v":""},{"$f":"IF(P_20号3様式1!AM217<> \"\",IF(P_20号3様式1!AM217<> \"-\",TEXT(INT(P_20号3様式1!AM217),\"#,##0\"),\"-\"),\"\")","v":""},{"$f":"IF(P_20号3様式1!AM217<> \"\",IF(P_20号3様式1!AM217<> \"-\",IF(VALUE(FIXED(P_20号3様式1!AM217,0,TRUE))<>P_20号3様式1!AM217,RIGHT(FIXED(P_20号3様式1!AM217,3,FALSE),4),\"\"),\"\"),\"\")","v":""},{"$f":"IF(P_20号3様式1!AN217<> \"\",IF(P_20号3様式1!AN217<> \"-\",TEXT(INT(P_20号3様式1!AN217),\"#,##0\"),\"-\"),\"\")","v":""},{"$f":"IF(P_20号3様式1!AN217<> \"\",IF(P_20号3様式1!AN217<> \"-\",IF(VALUE(FIXED(P_20号3様式1!AN217,0,TRUE))<>P_20号3様式1!AN217,RIGHT(FIXED(P_20号3様式1!AN217,3,FALSE),4),\"\"),\"\"),\"\")","v":""},{"$f":"IF(P_20号3様式1!AO217<> \"\",IF(P_20号3様式1!AO217<> \"-\",TEXT(INT(P_20号3様式1!AO217),\"#,##0\"),\"-\"),\"\")","v":""},{"$f":"IF(P_20号3様式1!AO217<> \"\",IF(P_20号3様式1!AO217<> \"-\",IF(VALUE(FIXED(P_20号3様式1!AO217,0,TRUE))<>P_20号3様式1!AO217,RIGHT(FIXED(P_20号3様式1!AO217,3,FALSE),4),\"\"),\"\"),\"\")","v":""},{"$f":"IF(P_20号3様式1!AP217<> \"\",IF(P_20号3様式1!AP217<> \"-\",TEXT(INT(P_20号3様式1!AP217),\"#,##0\"),\"-\"),\"\")","v":""},{"$f":"IF(P_20号3様式1!AP217<> \"\",IF(P_20号3様式1!AP217<> \"-\",IF(VALUE(FIXED(P_20号3様式1!AP217,0,TRUE))<>P_20号3様式1!AP217,RIGHT(FIXED(P_20号3様式1!AP217,3,FALSE),4),\"\"),\"\"),\"\")","v":""}]
["そ  の  他  市  計",{"$f":"IF(P_20号3様式1!AS217<> \"\",TEXT(INT(P_20号3様式1!AS217),\"#,##0\"),\"\")","v":"135"},{"$f":"IF(P_20号3様式1!AS217= \"\",\"\",IF(VALUE(FIXED(P_20号3様式1!AS217,0,TRUE))<>P_20号3様式1!AS217,RIGHT(FIXED(P_20号3様式1!AS217,3,FALSE),4),\"\"))","v":".564"},{"$f":"IF(P_20号3様式1!AT217<> \"\",IF(P_20号3様式1!AT217<> \"-\",TEXT(INT(P_20号3様式1!AT217),\"#,##0\"),\"-\"),\"\")","v":"51"},{"$f":"IF(P_20号3様式1!AT217<> \"\",IF(P_20号3様式1!AT217<> \"-\",IF(VALUE(FIXED(P_20号3様式1!AT217,0,TRUE))<>P_20号3様式1!AT217,RIGHT(FIXED(P_20号3様式1!AT217,3,FALSE),4),\"\"),\"\"),\"\")","v":".000"},{"$f":"IF(P_20号3様式1!AU217<> \"\",IF(P_20号3様式1!AU217<> \"-\",TEXT(INT(P_20号3様式1!AU217),\"#,##0\"),\"-\"),\"\")","v":"84"},{"$f":"IF(P_20号3様式1!AU217<> \"\",IF(P_20号3様式1!AU217<> \"-\",IF(VALUE(FIXED(P_20号3様式1!AU217,0,TRUE))<>P_20号3様式1!AU217,RIGHT(FIXED(P_20号3様式1!AU217,3,FALSE),4),\"\"),\"\"),\"\")","v":".564"},{"$f":"IF(P_20号3様式1!AV217<> \"\",IF(P_20号3様式1!AV217<> \"-\",TEXT(INT(P_20号3様式1!AV217),\"#,##0\"),\"-\"),\"\")","v":""},{"$f":"IF(P_20号3様式1!AV217<> \"\",IF(P_20号3様式1!AV217<> \"-\",IF(VALUE(FIXED(P_20号3様式1!AV217,0,TRUE))<>P_20号3様式1!AV217,RIGHT(FIXED(P_20号3様式1!AV217,3,FALSE),4),\"\"),\"\"),\"\")","v":""},{"$f":"IF(P_20号3様式1!AW217<> \"\",IF(P_20号3様式1!AW217<> \"-\",TEXT(INT(P_20号3様式1!AW217),\"#,##0\"),\"-\"),\"\")","v":""},{"$f":"IF(P_20号3様式1!AW217<> \"\",IF(P_20号3様式1!AW217<> \"-\",IF(VALUE(FIXED(P_20号3様式1!AW217,0,TRUE))<>P_20号3様式1!AW217,RIGHT(FIXED(P_20号3様式1!AW217,3,FALSE),4),\"\"),\"\"),\"\")","v":""},{"$f":"IF(P_20号3様式1!AX217<> \"\",IF(P_20号3様式1!AX217<> \"-\",TEXT(INT(P_20号3様式1!AX217),\"#,##0\"),\"-\"),\"\")","v":""},{"$f":"IF(P_20号3様式1!AX217<> \"\",IF(P_20号3様式1!AX217<> \"-\",IF(VALUE(FIXED(P_20号3様式1!AX217,0,TRUE))<>P_20号3様式1!AX217,RIGHT(FIXED(P_20号3様式1!AX217,3,FALSE),4),\"\"),\"\"),\"\")","v":""},{"$f":"IF(P_20号3様式1!AY217<> \"\",IF(P_20号3様式1!AY217<> \"-\",TEXT(INT(P_20号3様式1!AY217),\"#,##0\"),\"-\"),\"\")","v":""},{"$f":"IF(P_20号3様式1!AY217<> \"\",IF(P_20号3様式1!AY217<> \"-\",IF(VALUE(FIXED(P_20号3様式1!AY217,0,TRUE))<>P_20号3様式1!AY217,RIGHT(FIXED(P_20号3様式1!AY217,3,FALSE),4),\"\"),\"\"),\"\")","v":""},{"$f":"IF(P_20号3様式1!AZ217<> \"\",IF(P_20号3様式1!AZ217<> \"-\",TEXT(INT(P_20号3様式1!AZ217),\"#,##0\"),\"-\"),\"\")","v":""},{"$f":"IF(P_20号3様式1!AZ217<> \"\",IF(P_20号3様式1!AZ217<> \"-\",IF(VALUE(FIXED(P_20号3様式1!AZ217,0,TRUE))<>P_20号3様式1!AZ217,RIGHT(FIXED(P_20号3様式1!AZ217,3,FALSE),4),\"\"),\"\"),\"\")","v":""},{"$f":"IF(P_20号3様式1!BA217<> \"\",IF(P_20号3様式1!BA217<> \"-\",TEXT(INT(P_20号3様式1!BA217),\"#,##0\"),\"-\"),\"\")","v":""},{"$f":"IF(P_20号3様式1!BA217<> \"\",IF(P_20号3様式1!BA217<> \"-\",IF(VALUE(FIXED(P_20号3様式1!BA217,0,TRUE))<>P_20号3様式1!BA217,RIGHT(FIXED(P_20号3様式1!BA217,3,FALSE),4),\"\"),\"\"),\"\")","v":""}]
["町村計　",{"$f":"IF(P_20号3様式1!BD217<> \"\",TEXT(INT(P_20号3様式1!BD217),\"#,##0\"),\"\")","v":"26"},{"$f":"IF(P_20号3様式1!BD217= \"\",\"\",IF(VALUE(FIXED(P_20号3様式1!BD217,0,TRUE))<>P_20号3様式1!BD217,RIGHT(FIXED(P_20号3様式1!BD217,3,FALSE),4),\"\"))","v":".568"},{"$f":"IF(P_20号3様式1!BE217<> \"\",IF(P_20号3様式1!BE217<> \"-\",TEXT(INT(P_20号3様式1!BE217),\"#,##0\"),\"-\"),\"\")","v":"6"},{"$f":"IF(P_20号3様式1!BE217<> \"\",IF(P_20号3様式1!BE217<> \"-\",IF(VALUE(FIXED(P_20号3様式1!BE217,0,TRUE))<>P_20号3様式1!BE217,RIGHT(FIXED(P_20号3様式1!BE217,3,FALSE),4),\"\"),\"\"),\"\")","v":".000"},{"$f":"IF(P_20号3様式1!BF217<> \"\",IF(P_20号3様式1!BF217<> \"-\",TEXT(INT(P_20号3様式1!BF217),\"#,##0\"),\"-\"),\"\")","v":"20"},{"$f":"IF(P_20号3様式1!BF217<> \"\",IF(P_20号3様式1!BF217<> \"-\",IF(VALUE(FIXED(P_20号3様式1!BF217,0,TRUE))<>P_20号3様式1!BF217,RIGHT(FIXED(P_20号3様式1!BF217,3,FALSE),4),\"\"),\"\"),\"\")","v":".568"},{"$f":"IF(P_20号3様式1!BG217<> \"\",IF(P_20号3様式1!BG217<> \"-\",TEXT(INT(P_20号3様式1!BG217),\"#,##0\"),\"-\"),\"\")","v":""},{"$f":"IF(P_20号3様式1!BG217<> \"\",IF(P_20号3様式1!BG217<> \"-\",IF(VALUE(FIXED(P_20号3様式1!BG217,0,TRUE))<>P_20号3様式1!BG217,RIGHT(FIXED(P_20号3様式1!BG217,3,FALSE),4),\"\"),\"\"),\"\")","v":""},{"$f":"IF(P_20号3様式1!BH217<> \"\",IF(P_20号3様式1!BH217<> \"-\",TEXT(INT(P_20号3様式1!BH217),\"#,##0\"),\"-\"),\"\")","v":""},{"$f":"IF(P_20号3様式1!BH217<> \"\",IF(P_20号3様式1!BH217<> \"-\",IF(VALUE(FIXED(P_20号3様式1!BH217,0,TRUE))<>P_20号3様式1!BH217,RIGHT(FIXED(P_20号3様式1!BH217,3,FALSE),4),\"\"),\"\"),\"\")","v":""},{"$f":"IF(P_20号3様式1!BI217<> \"\",IF(P_20号3様式1!BI217<> \"-\",TEXT(INT(P_20号3様式1!BI217),\"#,##0\"),\"-\"),\"\")","v":""},{"$f":"IF(P_20号3様式1!BI217<> \"\",IF(P_20号3様式1!BI217<> \"-\",IF(VALUE(FIXED(P_20号3様式1!BI217,0,TRUE))<>P_20号3様式1!BI217,RIGHT(FIXED(P_20号3様式1!BI217,3,FALSE),4),\"\"),\"\"),\"\")","v":""},{"$f":"IF(P_20号3様式1!BJ217<> \"\",IF(P_20号3様式1!BJ217<> \"-\",TEXT(INT(P_20号3様式1!BJ217),\"#,##0\"),\"-\"),\"\")","v":""},{"$f":"IF(P_20号3様式1!BJ217<> \"\",IF(P_20号3様式1!BJ217<> \"-\",IF(VALUE(FIXED(P_20号3様式1!BJ217,0,TRUE))<>P_20号3様式1!BJ217,RIGHT(FIXED(P_20号3様式1!BJ217,3,FALSE),4),\"\"),\"\"),\"\")","v":""},{"$f":"IF(P_20号3様式1!BK217<> \"\",IF(P_20号3様式1!BK217<> \"-\",TEXT(INT(P_20号3様式1!BK217),\"#,##0\"),\"-\"),\"\")","v":""},{"$f":"IF(P_20号3様式1!BK217<> \"\",IF(P_20号3様式1!BK217<> \"-\",IF(VALUE(FIXED(P_20号3様式1!BK217,0,TRUE))<>P_20号3様式1!BK217,RIGHT(FIXED(P_20号3様式1!BK217,3,FALSE),4),\"\"),\"\"),\"\")","v":""},{"$f":"IF(P_20号3様式1!BL217<> \"\",IF(P_20号3様式1!BL217<> \"-\",TEXT(INT(P_20号3様式1!BL217),\"#,##0\"),\"-\"),\"\")","v":""},{"$f":"IF(P_20号3様式1!BL217<> \"\",IF(P_20号3様式1!BL217<> \"-\",IF(VALUE(FIXED(P_20号3様式1!BL217,0,TRUE))<>P_20号3様式1!BL217,RIGHT(FIXED(P_20号3様式1!BL217,3,FALSE),4),\"\"),\"\"),\"\")","v":""}]
["県             計",{"$f":"IF(P_20号3様式1!BO217<> \"\",TEXT(INT(P_20号3様式1!BO217),\"#,##0\"),\"\")","v":"162"},{"$f":"IF(P_20号3様式1!BO217= \"\",\"\",IF(VALUE(FIXED(P_20号3様式1!BO217,0,TRUE))<>P_20号3様式1!BO217,RIGHT(FIXED(P_20号3様式1!BO217,3,FALSE),4),\"\"))","v":".132"},{"$f":"IF(P_20号3様式1!BP217<> \"\",IF(P_20号3様式1!BP217<> \"-\",TEXT(INT(P_20号3様式1!BP217),\"#,##0\"),\"-\"),\"\")","v":"57"},{"$f":"IF(P_20号3様式1!BP217<> \"\",IF(P_20号3様式1!BP217<> \"-\",IF(VALUE(FIXED(P_20号3様式1!BP217,0,TRUE))<>P_20号3様式1!BP217,RIGHT(FIXED(P_20号3様式1!BP217,3,FALSE),4),\"\"),\"\"),\"\")","v":".000"},{"$f":"IF(P_20号3様式1!BQ217<> \"\",IF(P_20号3様式1!BQ217<> \"-\",TEXT(INT(P_20号3様式1!BQ217),\"#,##0\"),\"-\"),\"\")","v":"105"},{"$f":"IF(P_20号3様式1!BQ217<> \"\",IF(P_20号3様式1!BQ217<> \"-\",IF(VALUE(FIXED(P_20号3様式1!BQ217,0,TRUE))<>P_20号3様式1!BQ217,RIGHT(FIXED(P_20号3様式1!BQ217,3,FALSE),4),\"\"),\"\"),\"\")","v":".132"},{"$f":"IF(P_20号3様式1!BR217<> \"\",IF(P_20号3様式1!BR217<> \"-\",TEXT(INT(P_20号3様式1!BR217),\"#,##0\"),\"-\"),\"\")","v":""},{"$f":"IF(P_20号3様式1!BR217<> \"\",IF(P_20号3様式1!BR217<> \"-\",IF(VALUE(FIXED(P_20号3様式1!BR217,0,TRUE))<>P_20号3様式1!BR217,RIGHT(FIXED(P_20号3様式1!BR217,3,FALSE),4),\"\"),\"\"),\"\")","v":""},{"$f":"IF(P_20号3様式1!BS217<> \"\",IF(P_20号3様式1!BS217<> \"-\",TEXT(INT(P_20号3様式1!BS217),\"#,##0\"),\"-\"),\"\")","v":""},{"$f":"IF(P_20号3様式1!BS217<> \"\",IF(P_20号3様式1!BS217<> \"-\",IF(VALUE(FIXED(P_20号3様式1!BS217,0,TRUE))<>P_20号3様式1!BS217,RIGHT(FIXED(P_20号3様式1!BS217,3,FALSE),4),\"\"),\"\"),\"\")","v":""},{"$f":"IF(P_20号3様式1!BT217<> \"\",IF(P_20号3様式1!BT217<> \"-\",TEXT(INT(P_20号3様式1!BT217),\"#,##0\"),\"-\"),\"\")","v":""},{"$f":"IF(P_20号3様式1!BT217<> \"\",IF(P_20号3様式1!BT217<> \"-\",IF(VALUE(FIXED(P_20号3様式1!BT217,0,TRUE))<>P_20号3様式1!BT217,RIGHT(FIXED(P_20号3様式1!BT217,3,FALSE),4),\"\"),\"\"),\"\")","v":""},{"$f":"IF(P_20号3様式1!BU217<> \"\",IF(P_20号3様式1!BU217<> \"-\",TEXT(INT(P_20号3様式1!BU217),\"#,##0\"),\"-\"),\"\")","v":""},{"$f":"IF(P_20号3様式1!BU217<> \"\",IF(P_20号3様式1!BU217<> \"-\",IF(VALUE(FIXED(P_20号3様式1!BU217,0,TRUE))<>P_20号3様式1!BU217,RIGHT(FIXED(P_20号3様式1!BU217,3,FALSE),4),\"\"),\"\"),\"\")","v":""},{"$f":"IF(P_20号3様式1!BV217<> \"\",IF(P_20号3様式1!BV217<> \"-\",TEXT(INT(P_20号3様式1!BV217),\"#,##0\"),\"-\"),\"\")","v":""},{"$f":"IF(P_20号3様式1!BV217<> \"\",IF(P_20号3様式1!BV217<> \"-\",IF(VALUE(FIXED(P_20号3様式1!BV217,0,TRUE))<>P_20号3様式1!BV217,RIGHT(FIXED(P_20号3様式1!BV217,3,FALSE),4),\"\"),\"\"),\"\")","v":""},{"$f":"IF(P_20号3様式1!BW217<> \"\",IF(P_20号3様式1!BW217<> \"-\",TEXT(INT(P_20号3様式1!BW217),\"#,##0\"),\"-\"),\"\")","v":""},{"$f":"IF(P_20号3様式1!BW217<> \"\",IF(P_20号3様式1!BW217<> \"-\",IF(VALUE(FIXED(P_20号3様式1!BW217,0,TRUE))<>P_20号3様式1!BW217,RIGHT(FIXED(P_20号3様式1!BW217,3,FALSE),4),\"\"),\"\"),\"\")","v":""}]

{"sheet":"パラメタシート","index":1,"n_rows":1,"n_cols":2,"rows_kept":1,"cut":false,"hidden":false,"merged":[]}
["執行日","2019-07-21"]

{"sheet":"P_20号3様式1","index":2,"n_rows":259,"n_cols":79,"rows_kept":259,"cut":false,"hidden":false,"merged":[]}
["頁番号","行番号","市区町村名","届出番号1","候補者名1","得票数1","届出番号2","候補者名2","得票数2","届出番号3","候補者名3","得票数3","届出番号4","候補者名4","得票数4","届出番号5","候補者名5","得票数5","届出番号6","候補者名6","得票数6","届出番号7","候補者名7","得票数7","届出番号8","候補者名8","得票数8","政党名","政党合計","政党得票数","候補者得票数","政令市政党合計","政令市政党得票数","政令市候補者得票数","政令市得票数1","政令市得票数2","政令市得票数3","政令市得票数4","政令市得票数5","政令市得票数6","政令市得票数7","政令市得票数8","その他市政党合計","その他市政党得票数","その他市候補者得票数","その他市得票数1","その他市得票数2","その他市得票数3","その他市得票数4","その他市得票数5","その他市得票数6","その他市得票数7","その他市得票数8","郡計政党合計","郡計政党得票数","郡計候補者得票数","郡計得票数1","郡計得票数2","郡計得票数3","郡計得票数4","郡計得票数5","郡計得票数6","郡計得票数7","郡計得票数8","県計政党合計","県計政党得票数","県計候補者得票数","県計得票数1","県計得票数2","県計得票数3","県計得票数4","県計得票数5","県計得票数6","県計得票数7","県計得票数8","選挙名","翌日開票区分","開票時刻","開票確定時刻"]
[1,1,"鹿児島市","01","三木　とおる","32","02","三浦　靖","13",null,null,null,null,null,null,null,null,null,null,null,null,null,null,null,null,null,null,"自由民主党","10347","10302","45","0",null,null,null,null,null,null,null,null,null,null,"26228","26060.5","167.5","131.5","36",null,null,null,null,null,null,"3849","3821","28","21","7",null,null,null,null,null,null,"30077","29881.5","195.5","152.5","43",null,null,null,null,null,null,"参議院比例代表選出議員選挙","0",null,"02:55:00"]
[1,2,"鹿屋市","01","三木　とおる","17","02","三浦　靖","1",null,null,null,null,null,null,null,null,null,null,null,null,null,null,null,null,null,null,"自由民主党","1332","1314","18","0",null,null,null,null,null,null,null,null,null,null,"26228","26060.5","167.5","131.5","36",null,null,null,null,null,null,"3849","3821","28","21","7",null,null,null,null,null,null,"30077","29881.5","195.5","152.5","43",null,null,null,null,null,null,"参議院比例代表選出議員選挙","0",null,"02:55:00"]
[1,3,"枕崎市","01","三木　とおる","0","02","三浦　靖","1",null,null,null,null,null,null,null,null,null,null,null,null,null,null,null,null,null,null,"自由民主党","350","349","1","0",null,null,null,null,null,null,null,null,null,null,"26228","26060.5","167.5","131.5","36",null,null,null,null,null,null,"3849","3821","28","21","7",null,null,null,null,null,null,"30077","29881.5","195.5","152.5","43",null,null,null,null,null,null,"参議院比例代表選出議員選挙","0",null,"02:55:00"]
[1,4,"阿久根市","01","三木　とおる","1","02","三浦　靖","1",null,null,null,null,null,null,null,null,null,null,null,null,null,null,null,null,null,null,"自由民主党","374","372","2","0",null,null,null,null,null,null,null,null,null,null,"26228","26060.5","167.5","131.5","36",null,null,null,null,null,null,"3849","3821","28","21","7",null,null,null,null,null,null,"30077","29881.5","195.5","152.5","43",null,null,null,null,null,null,"参議院比例代表選出議員選挙","0",null,"02:55:00"]
[1,5,"出水市","01","三木　とおる","3","02","三浦　靖","1",null,null,null,null,null,null,null,null,null,null,null,null,null,null,null,null,null,null,"自由民主党","970","966","4","0",null,null,null,null,null,null,null,null,null,null,"26228","26060.5","167.5","131.5","36",null,null,null,null,null,null,"3849","3821","28","21","7",null,null,null,null,null,null,"30077","29881.5","195.5","152.5","43",null,null,null,null,null,null,"参議院比例代表選出議員選挙","0",null,"02:55:00"]
[1,6,"指宿市","01","三木　とおる","4.5","02","三浦　靖","1",null,null,null,null,null,null,null,null,null,null,null,null,null,null,null,null,null,null,"自由民主党","733","727.5","5.5","0",null,null,null,null,null,null,null,null,null,null,"26228","26060.5","167.5","131.5","36",null,null,null,null,null,null,"3849","3821","28","21","7",null,null,null,null,null,null,"30077","29881.5","195.5","152.5","43",null,null,null,null,null,null,"参議院比例代表選出議員選挙","0",null,"02:55:00"]
[1,7,"西之表市","01","三木　とおる","1","02","三浦　靖","0",null,null,null,null,null,null,null,null,null,null,null,null,null,null,null,null,null,null,"自由民主党","448","447","1","0",null,null,null,null,null,null,null,null,null,null,"26228","26060.5","167.5","131.5","36",null,null,null,null,null,null,"3849","3821","28","21","7",null,null,null,null,null,null,"30077","29881.5","195.5","152.5","43",null,null,null,null,null,null,"参議院比例代表選出議員選挙","0",null,"02:55:00"]
[1,8,"垂水市","01","三木　とおる","1","02","三浦　靖","1",null,null,null,null,null,null,null,null,null,null,null,null,null,null,null,null,null,null,"自由民主党","527","525","2","0",null,null,null,null,null,null,null,null,null,null,"26228","26060.5","167.5","131.5","36",null,null,null,null,null,null,"3849","3821","28","21","7",null,null,null,null,null,null,"30077","29881.5","195.5","152.5","43",null,null,null,null,null,null,"参議院比例代表選出議員選挙","0",null,"02:55:00"]
[1,9,"薩摩川内市第１","01","三木　とおる","16","02","三浦　靖","1",null,null,null,null,null,null,null,null,null,null,null,null,null,null,null,null,null,null,"自由民主党","1421","1404","17","0",null,null,null,null,null,null,null,null,null,null,"26228","26060.5","167.5","131.5","36",null,null,null,null,null,null,"3849","3821","28","21","7",null,null,null,null,null,null,"30077","29881.5","195.5","152.5","43",null,null,null,null,null,null,"参議院比例代表選出議員選挙","0",null,"02:55:00"]
[1,10,"薩摩川内市第２","01","三木　とおる","0","02","三浦　靖","0",null,null,null,null,null,null,null,null,null,null,null,null,null,null,null,null,null,null,"自由民主党","44","44","0","0",null,null,null,null,null,null,null,null,null,null,"26228","26060.5","167.5","131.5","36",null,null,null,null,null,null,"3849","3821","28","21","7",null,null,null,null,null,null,"30077","29881.5","195.5","152.5","43",null,null,null,null,null,null,"参議院比例代表選出議員選挙","0",null,"02:55:00"]
[1,11,"薩摩川内市第３","01","三木　とおる","0","02","三浦　靖","0",null,null,null,null,null,null,null,null,null,null,null,null,null,null,null,null,null,null,"自由民主党","36","36","0","0",null,null,null,null,null,null,null,null,null,null,"26228","26060.5","167.5","131.5","36",null,null,null,null,null,null,"3849","3821","28","21","7",null,null,null,null,null,null,"30077","29881.5","195.5","152.5","43",null,null,null,null,null,null,"参議院比例代表選出議員選挙","0",null,"02:55:00"]
[1,12,"＊（薩摩川内市）計","01","三木　とおる","16","02","三浦　靖","1",null,null,null,null,null,null,null,null,null,null,null,null,null,null,null,null,null,null,"自由民主党","1501","1484","17","0",null,null,null,null,null,null,null,null,null,null,"26228","26060.5","167.5","131.5","36",null,null,null,null,null,null,"3849","3821","28","21","7",null,null,null,null,null,null,"30077","29881.5","195.5","152.5","43",null,null,null,null,null,null,"参議院比例代表選出議員選挙","0",null,"02:55:00"]
[1,13,"日置市","01","三木　とおる","2","02","三浦　靖","0",null,null,null,null,null,null,null,null,null,null,null,null,null,null,null,null,null,null,"自由民主党","751","749","2","0",null,null,null,null,null,null,null,null,null,null,"26228","26060.5","167.5","131.5","36",null,null,null,null,null,null,"3849","3821","28","21","7",null,null,null,null,null,null,"30077","29881.5","195.5","152.5","43",null,null,null,null,null,null,"参議院比例代表選出議員選挙","0",null,"02:55:00"]
[1,14,"曽於市","01","三木　とおる","5","02","三浦　靖","0",null,null,null,null,null,null,null,null,null,null,null,null,null,null,null,null,null,null,"自由民主党","834","829","5","0",null,null,null,null,null,null,null,null,null,null,"26228","26060.5","167.5","131.5","36",null,null,null,null,null,null,"3849","3821","28","21","7",null,null,null,null,null,null,"30077","29881.5","195.5","152.5","43",null,null,null,null,null,null,"参議院比例代表選出議員選挙","0",null,"02:55:00"]
[1,15,"霧島市","01","三木　とおる","13","02","三浦　靖","4",null,null,null,null,null,null,null,null,null,null,null,null,null,null,null,null,null,null,"自由民主党","2330","2313","17","0",null,null,null,null,null,null,null,null,null,null,"26228","26060.5","167.5","131.5","36",null,null,null,null,null,null,"3849","3821","28","21","7",null,null,null,null,null,null,"30077","29881.5","195.5","152.5","43",null,null,null,null,null,null,"参議院比例代表選出議員選挙","0",null,"02:55:00"]
[1,16,"いちき串木野市","01","三木　とおる","2","02","三浦　靖","1",null,null,null,null,null,null,null,null,null,null,null,null,null,null,null,null,null,null,"自由民主党","459","456","3","0",null,null,null,null,null,null,null,null,null,null,"26228","26060.5","167.5","131.5","36",null,null,null,null,null,null,"3849","3821","28","21","7",null,null,null,null,null,null,"30077","29881.5","195.5","152.5","43",null,null,null,null,null,null,"参議院比例代表選出議員選挙","0",null,"02:55:00"]
[1,17,"南さつま市","01","三木　とおる","6","02","三浦　靖","3",null,null,null,null,null,null,null,null,null,null,null,null,null,null,null,null,null,null,"自由民主党","616","607","9","0",null,null,null,null,null,null,null,null,null,null,"26228","26060.5","167.5","131.5","36",null,null,null,null,null,null,"3849","3821","28","21","7",null,null,null,null,null,null,"30077","29881.5","195.5","152.5","43",null,null,null,null,null,null,"参議院比例代表選出議員選挙","0",null,"02:55:00"]
[1,18,"志布志市","01","三木　とおる","4","02","三浦　靖","0",null,null,null,null,null,null,null,null,null,null,null,null,null,null,null,null,null,null,"自由民主党","580","576","4","0",null,null,null,null,null,null,null,null,null,null,"26228","26060.5","167.5","131.5","36",null,null,null,null,null,null,"3849","3821","28","21","7",null,null,null,null,null,null,"30077","29881.5","195.5","152.5","43",null,null,null,null,null,null,"参議院比例代表選出議員選挙","0",null,"02:55:00"]
[1,19,"奄美市","01","三木　とおる","7","02","三浦　靖","2",null,null,null,null,null,null,null,null,null,null,null,null,null,null,null,null,null,null,"自由民主党","1315","1306","9","0",null,null,null,null,null,null,null,null,null,null,"26228","26060.5","167.5","131.5","36",null,null,null,null,null,null,"3849","3821","28","21","7",null,null,null,null,null,null,"30077","29881.5","195.5","152.5","43",null,null,null,null,null,null,"参議院比例代表選出議員選挙","0",null,"02:55:00"]
[1,20,"南九州市","01","三木　とおる","3","02","三浦　靖","3",null,null,null,null,null,null,null,null,null,null,null,null,null,null,null,null,null,null,"自由民主党","665","659","6","0",null,null,null,null,null,null,null,null,null,null,"26228","26060.5","167.5","131.5","36",null,null,null,null,null,null,"3849","3821","28","21","7",null,null,null,null,null,null,"30077","29881.5","195.5","152.5","43",null,null,null,null,null,null,"参議院比例代表選出議員選挙","0",null,"02:55:00"]
[1,21,"伊佐市","01","三木　とおる","3","02","三浦　靖","0",null,null,null,null,null,null,null,null,null,null,null,null,null,null,null,null,null,null,"自由民主党","666","663","3","0",null,null,null,null,null,null,null,null,null,null,"26228","26060.5","167.5","131.5","36",null,null,null,null,null,null,"3849","3821","28","21","7",null,null,null,null,null,null,"30077","29881.5","195.5","152.5","43",null,null,null,null,null,null,"参議院比例代表選出議員選挙","0",null,"02:55:00"]
[1,22,"姶良市","01","三木　とおる","11","02","三浦　靖","3",null,null,null,null,null,null,null,null,null,null,null,null,null,null,null,null,null,null,"自由民主党","1430","1416","14","0",null,null,null,null,null,null,null,null,null,null,"26228","26060.5","167.5","131.5","36",null,null,null,null,null,null,"3849","3821","28","21","7",null,null,null,null,null,null,"30077","29881.5","195.5","152.5","43",null,null,null,null,null,null,"参議院比例代表選出議員選挙","0",null,"02:55:00"]
[1,23,"三島村","01","三木　とおる","0","02","三浦　靖","0",null,null,null,null,null,null,null,null,null,null,null,null,null,null,null,null,null,null,"自由民主党","4","4","0","0",null,null,null,null,null,null,null,null,null,null,"26228","26060.5","167.5","131.5","36",null,null,null,null,null,null,"3849","3821","28","21","7",null,null,null,null,null,null,"30077","29881.5","195.5","152.5","43",null,null,null,null,null,null,"参議院比例代表選出議員選挙","0",null,"02:55:00"]
[1,24,"十島村","01","三木　とおる","0","02","三浦　靖","0",null,null,null,null,null,null,null,null,null,null,null,null,null,null,null,null,null,null,"自由民主党","12","12","0","0",null,null,null,null,null,null,null,null,null,null,"26228","26060.5","167.5","131.5","36",null,null,null,null,null,null,"3849","3821","28","21","7",null,null,null,null,null,null,"30077","29881.5","195.5","152.5","43",null,null,null,null,null,null,"参議院比例代表選出議員選挙","0",null,"02:55:00"]
[1,25,"＊（鹿児島郡）計","01","三木　とおる","0","02","三浦　靖","0",null,null,null,null,null,null,null,null,null,null,null,null,null,null,null,null,null,null,"自由民主党","16","16","0","0",null,null,null,null,null,null,null,null,null,null,"26228","26060.5","167.5","131.5","36",null,null,null,null,null,null,"3849","3821","28","21","7",null,null,null,null,null,null,"30077","29881.5","195.5","152.5","43",null,null,null,null,null,null,"参議院比例代表選出議員選挙","0",null,"02:55:00"]
[1,26,"さつま町","01","三木　とおる","2","02","三浦　靖","1",null,null,null,null,null,null,null,null,null,null,null,null,null,null,null,null,null,null,"自由民主党","293","290","3","0",null,null,null,null,null,null,null,null,null,null,"26228","26060.5","167.5","131.5","36",null,null,null,null,null,null,"3849","3821","28","21","7",null,null,null,null,null,null,"30077","29881.5","195.5","152.5","43",null,null,null,null,null,null,"参議院比例代表選出議員選挙","0",null,"02:55:00"]
[1,27,"＊（薩摩郡）計","01","三木　とおる","2","02","三浦　靖","1",null,null,null,null,null,null,null,null,null,null,null,null,null,null,null,null,null,null,"自由民主党","293","290","3","0",null,null,null,null,null,null,null,null,null,null,"26228","26060.5","167.5","131.5","36",null,null,null,null,null,null,"3849","3821","28","21","7",null,null,null,null,null,null,"30077","29881.5","195.5","152.5","43",null,null,null,null,null,null,"参議院比例代表選出議員選挙","0",null,"02:55:00"]
[1,28,"長島町","01","三木　とおる","0","02","三浦　靖","0",null,null,null,null,null,null,null,null,null,null,null,null,null,null,null,null,null,null,"自由民主党","232","232","0","0",null,null,null,null,null,null,null,null,null,null,"26228","26060.5","167.5","131.5","36",null,null,null,null,null,null,"3849","3821","28","21","7",null,null,null,null,null,null,"30077","29881.5","195.5","152.5","43",null,null,null,null,null,null,"参議院比例代表選出議員選挙","0",null,"02:55:00"]
[1,29,"＊（出水郡）計","01","三木　とおる","0","02","三浦　靖","0",null,null,null,null,null,null,null,null,null,null,null,null,null,null,null,null,null,null,"自由民主党","232","232","0","0",null,null,null,null,null,null,null,null,null,null,"26228","26060.5","167.5","131.5","36",null,null,null,null,null,null,"3849","3821","28","21","7",null,null,null,null,null,null,"30077","29881.5","195.5","152.5","43",null,null,null,null,null,null,"参議院比例代表選出議員選挙","0",null,"02:55:00"]
[1,30,"湧水町","01","三木　とおる","0","02","三浦　靖","0",null,null,null,null,null,null,null,null,null,null,null,null,null,null,null,null,null,null,"自由民主党","151","151","0","0",null,null,null,null,null,null,null,null,null,null,"26228","26060.5","167.5","131.5","36",null,null,null,null,null,null,"3849","3821","28","21","7",null,null,null,null,null,null,"30077","29881.5","195.5","152.5","43",null,null,null,null,null,null,"参議院比例代表選出議員選挙","0",null,"02:55:00"]
[1,31,"＊（姶良郡）計","01","三木　とおる","0","02","三浦　靖","0",null,null,null,null,null,null,null,null,null,null,null,null,null,null,null,null,null,null,"自由民主党","151","151","0","0",null,null,null,null,null,null,null,null,null,null,"26228","26060.5","167.5","131.5","36",null,null,null,null,null,null,"3849","3821","28","21","7",null,null,null,null,null,null,"30077","29881.5","195.5","152.5","43",null,null,null,null,null,null,"参議院比例代表選出議員選挙","0",null,"02:55:00"]
[1,32,"大崎町","01","三木　とおる","2","02","三浦　靖","0",null,null,null,null,null,null,null,null,null,null,null,null,null,null,null,null,null,null,"自由民主党","314","312","2","0",null,null,null,null,null,null,null,null,null,null,"26228","26060.5","167.5","131.5","36",null,null,null,null,null,null,"3849","3821","28","21","7",null,null,null,null,null,null,"30077","29881.5","195.5","152.5","43",null,null,null,null,null,null,"参議院比例代表選出議員選挙","0",null,"02:55:00"]
[1,33,"＊（曽於郡）計","01","三木　とおる","2","02","三浦　靖","0",null,null,null,null,null,null,null,null,null,null,null,null,null,null,null,null,null,null,"自由民主党","314","312","2","0",null,null,null,null,null,null,null,null,null,null,"26228","26060.5","167.5","131.5","36",null,null,null,null,null,null,"3849","3821","28","21","7",null,null,null,null,null,null,"30077","29881.5","195.5","152.5","43",null,null,null,null,null,null,"参議院比例代表選出議員選挙","0",null,"02:55:00"]
[1,34,"東串良町","01","三木　とおる","1","02","三浦　靖","0",null,null,null,null,null,null,null,null,null,null,null,null,null,null,null,null,null,null,"自由民主党","166","165","1","0",null,null,null,null,null,null,null,null,null,null,"26228","26060.5","167.5","131.5","36",null,null,null,null,null,null,"3849","3821","28","21","7",null,null,null,null,null,null,"30077","29881.5","195.5","152.5","43",null,null,null,null,null,null,"参議院比例代表選出議員選挙","0",null,"02:55:00"]
[1,35,"錦江町","01","三木　とおる","0","02","三浦　靖","0",null,null,null,null,null,null,null,null,null,null,null,null,null,null,null,null,null,null,"自由民主党","91","91","0","0",null,null,null,null,null,null,null,null,null,null,"26228","26060.5","167.5","131.5","36",null,null,null,null,null,null,"3849","3821","28","21","7",null,null,null,null,null,null,"30077","29881.5","195.5","152.5","43",null,null,null,null,null,null,"参議院比例代表選出議員選挙","0",null,"02:55:00"]
[1,36,"南大隅町","01","三木　とおる","0","02","三浦　靖","0",null,null,null,null,null,null,null,null,null,null,null,null,null,null,null,null,null,null,"自由民主党","110","110","0","0",null,null,null,null,null,null,null,null,null,null,"26228","26060.5","167.5","131.5","36",null,null,null,null,null,null,"3849","3821","28","21","7",null,null,null,null,null,null,"30077","29881.5","195.5","152.5","43",null,null,null,null,null,null,"参議院比例代表選出議員選挙","0",null,"02:55:00"]
[1,37,"肝付町","01","三木　とおる","4","02","三浦　靖","1",null,null,null,null,null,null,null,null,null,null,null,null,null,null,null,null,null,null,"自由民主党","215","210","5","0",null,null,null,null,null,null,null,null,null,null,"26228","26060.5","167.5","131.5","36",null,null,null,null,null,null,"3849","3821","28","21","7",null,null,null,null,null,null,"30077","29881.5","195.5","152.5","43",null,null,null,null,null,null,"参議院比例代表選出議員選挙","0",null,"02:55:00"]
[1,38,"＊（肝属郡）計","01","三木　とおる","5","02","三浦　靖","1",null,null,null,null,null,null,null,null,null,null,null,null,null,null,null,null,null,null,"自由民主党","582","576","6","0",null,null,null,null,null,null,null,null,null,null,"26228","26060.5","167.5","131.5","36",null,null,null,null,null,null,"3849","3821","28","21","7",null,null,null,null,null,null,"30077","29881.5","195.5","152.5","43",null,null,null,null,null,null,"参議院比例代表選出議員選挙","0",null,"02:55:00"]
[1,39,"中種子町","01","三木　とおる","2","02","三浦　靖","1",null,null,null,null,null,null,null,null,null,null,null,null,null,null,null,null,null,null,"自由民主党","146","143","3","0",null,null,null,null,null,null,null,null,null,null,"26228","26060.5","167.5","131.5","36",null,null,null,null,null,null,"3849","3821","28","21","7",null,null,null,null,null,null,"30077","29881.5","195.5","152.5","43",null,null,null,null,null,null,"参議院比例代表選出議員選挙","0",null,"02:55:00"]
[1,40,"南種子町","01","三木　とおる","0","02","三浦　靖","1",null,null,null,null,null,null,null,null,null,null,null,null,null,null,null,null,null,null,"自由民主党","82","81","1","0",null,null,null,null,null,null,null,null,null,null,"26228","26060.5","167.5","131.5","36",null,null,null,null,null,null,"3849","3821","28","21","7",null,null,null,null,null,null,"30077","29881.5","195.5","152.5","43",null,null,null,null,null,null,"参議院比例代表選出議員選挙","0",null,"02:55:00"]
[1,41,"屋久島町","01","三木　とおる","0","02","三浦　靖","0",null,null,null,null,null,null,null,null,null,null,null,null,null,null,null,null,null,null,"自由民主党","366","366","0","0",null,null,null,null,null,null,null,null,null,null,"26228","26060.5","167.5","131.5","36",null,null,null,null,null,null,"3849","3821","28","21","7",null,null,null,null,null,null,"30077","29881.5","195.5","152.5","43",null,null,null,null,null,null,"参議院比例代表選出議員選挙","0",null,"02:55:00"]
[1,42,"＊（熊毛郡）計","01","三木　とおる","2","02","三浦　靖","2",null,null,null,null,null,null,null,null,null,null,null,null,null,null,null,null,null,null,"自由民主党","594","590","4","0",null,null,null,null,null,null,null,null,null,null,"26228","26060.5","167.5","131.5","36",null,null,null,null,null,null,"3849","3821","28","21","7",null,null,null,null,null,null,"30077","29881.5","195.5","152.5","43",null,null,null,null,null,null,"参議院比例代表選出議員選挙","0",null,"02:55:00"]
[1,43,"大和村","01","三木　とおる","0","02","三浦　靖","0",null,null,null,null,null,null,null,null,null,null,null,null,null,null,null,null,null,null,"自由民主党","60","60","0","0",null,null,null,null,null,null,null,null,null,null,"26228","26060.5","167.5","131.5","36",null,null,null,null,null,null,"3849","3821","28","21","7",null,null,null,null,null,null,"30077","29881.5","195.5","152.5","43",null,null,null,null,null,null,"参議院比例代表選出議員選挙","0",null,"02:55:00"]
[2,1,"鹿児島市","01","伊藤　恵子","33",null,null,null,null,null,null,null,null,null,null,null,null,null,null,null,null,null,null,null,null,null,"労働の解放をめざす労働者党","49264","49231","33","0",null,null,null,null,null,null,null,null,null,null,"146508.178","146422.589","85.589","85.589",null,null,null,null,null,null,null,"24157","24151","6","6",null,null,null,null,null,null,null,"170665.178","170573.589","91.589","91.589",null,null,null,null,null,null,null,"参議院比例代表選出議員選挙","0",null,"02:55:00"]
[2,2,"鹿屋市","01","伊藤　恵子","10.714",null,null,null,null,null,null,null,null,null,null,null,null,null,null,null,null,null,null,null,null,null,"労働の解放をめざす労働者党","10009.428","9998.714","10.714","0",null,null,null,null,null,null,null,null,null,null,"146508.178","146422.589","85.589","85.589",null,null,null,null,null,null,null,"24157","24151","6","6",null,null,null,null,null,null,null,"170665.178","170573.589","91.589","91.589",null,null,null,null,null,null,null,"参議院比例代表選出議員選挙","0",null,"02:55:00"]
[2,3,"枕崎市","01","伊藤　恵子","1",null,null,null,null,null,null,null,null,null,null,null,null,null,null,null,null,null,null,null,null,null,"労働の解放をめざす労働者党","2799","2798","1","0",null,null,null,null,null,null,null,null,null,null,"146508.178","146422.589","85.589","85.589",null,null,null,null,null,null,null,"24157","24151","6","6",null,null,null,null,null,null,null,"170665.178","170573.589","91.589","91.589",null,null,null,null,null,null,null,"参議院比例代表選出議員選挙","0",null,"02:55:00"]
[2,4,"阿久根市","01","伊藤　恵子","0",null,null,null,null,null,null,null,null,null,null,null,null,null,null,null,null,null,null,null,null,null,"労働の解放をめざす労働者党","2868","2868","0","0",null,null,null,null,null,null,null,null,null,null,"146508.178","146422.589","85.589","85.589",null,null,null,null,null,null,null,"24157","24151","6","6",null,null,null,null,null,null,null,"170665.178","170573.589","91.589","91.589",null,null,null,null,null,null,null,"参議院比例代表選出議員選挙","0",null,"02:55:00"]
[2,5,"出水市","01","伊藤　恵子","4",null,null,null,null,null,null,null,null,null,null,null,null,null,null,null,null,null,null,null,null,null,"労働の解放をめざす労働者党","6522","6518","4","0",null,null,null,null,null,null,null,null,null,null,"146508.178","146422.589","85.589","85.589",null,null,null,null,null,null,null,"24157","24151","6","6",null,null,null,null,null,null,null,"170665.178","170573.589","91.589","91.589",null,null,null,null,null,null,null,"参議院比例代表選出議員選挙","0",null,"02:55:00"]
[2,6,"指宿市","01","伊藤　恵子","4",null,null,null,null,null,null,null,null,null,null,null,null,null,null,null,null,null,null,null,null,null,"労働の解放をめざす労働者党","4603","4599","4","0",null,null,null,null,null,null,null,null,null,null,"146508.178","146422.589","85.589","85.589",null,null,null,null,null,null,null,"24157","24151","6","6",null,null,null,null,null,null,null,"170665.178","170573.589","91.589","91.589",null,null,null,null,null,null,null,"参議院比例代表選出議員選挙","0",null,"02:55:00"]
[2,7,"西之表市","01","伊藤　恵子","0",null,null,null,null,null,null,null,null,null,null,null,null,null,null,null,null,null,null,null,null,null,"労働の解放をめざす労働者党","1927","1927","0","0",null,null,null,null,null,null,null,null,null,null,"146508.178","146422.589","85.589","85.589",null,null,null,null,null,null,null,"24157","24151","6","6",null,null,null,null,null,null,null,"170665.178","170573.589","91.589","91.589",null,null,null,null,null,null,null,"参議院比例代表選出議員選挙","0",null,"02:55:00"]
[2,8,"垂水市","01","伊藤　恵子","1",null,null,null,null,null,null,null,null,null,null,null,null,null,null,null,null,null,null,null,null,null,"労働の解放をめざす労働者党","1561","1560","1","0",null,null,null,null,null,null,null,null,null,null,"146508.178","146422.589","85.589","85.589",null,null,null,null,null,null,null,"24157","24151","6","6",null,null,null,null,null,null,null,"170665.178","170573.589","91.589","91.589",null,null,null,null,null,null,null,"参議院比例代表選出議員選挙","0",null,"02:55:00"]
[2,9,"薩摩川内市第１","01","伊藤　恵子","4",null,null,null,null,null,null,null,null,null,null,null,null,null,null,null,null,null,null,null,null,null,"労働の解放をめざす労働者党","9830","9826","4","0",null,null,null,null,null,null,null,null,null,null,"146508.178","146422.589","85.589","85.589",null,null,null,null,null,null,null,"24157","24151","6","6",null,null,null,null,null,null,null,"170665.178","170573.589","91.589","91.589",null,null,null,null,null,null,null,"参議院比例代表選出議員選挙","0",null,"02:55:00"]
[2,10,"薩摩川内市第２","01","伊藤　恵子","0",null,null,null,null,null,null,null,null,null,null,null,null,null,null,null,null,null,null,null,null,null,"労働の解放をめざす労働者党","413","413","0","0",null,null,null,null,null,null,null,null,null,null,"146508.178","146422.589","85.589","85.589",null,null,null,null,null,null,null,"24157","24151","6","6",null,null,null,null,null,null,null,"170665.178","170573.589","91.589","91.589",null,null,null,null,null,null,null,"参議院比例代表選出議員選挙","0",null,"02:55:00"]
[2,11,"薩摩川内市第３","01","伊藤　恵子","0",null,null,null,null,null,null,null,null,null,null,null,null,null,null,null,null,null,null,null,null,null,"労働の解放をめざす労働者党","373","373","0","0",null,null,null,null,null,null,null,null,null,null,"146508.178","146422.589","85.589","85.589",null,null,null,null,null,null,null,"24157","24151","6","6",null,null,null,null,null,null,null,"170665.178","170573.589","91.589","91.589",null,null,null,null,null,null,null,"参議院比例代表選出議員選挙","0",null,"02:55:00"]
[2,12,"＊（薩摩川内市）計","01","伊藤　恵子","4",null,null,null,null,null,null,null,null,null,null,null,null,null,null,null,null,null,null,null,null,null,"労働の解放をめざす労働者党","10616","10612","4","0",null,null,null,null,null,null,null,null,null,null,"146508.178","146422.589","85.589","85.589",null,null,null,null,null,null,null,"24157","24151","6","6",null,null,null,null,null,null,null,"170665.178","170573.589","91.589","91.589",null,null,null,null,null,null,null,"参議院比例代表選出議員選挙","0",null,"02:55:00"]
[2,13,"日置市","01","伊藤　恵子","3",null,null,null,null,null,null,null,null,null,null,null,null,null,null,null,null,null,null,null,null,null,"労働の解放をめざす労働者党","6184","6181","3","0",null,null,null,null,null,null,null,null,null,null,"146508.178","146422.589","85.589","85.589",null,null,null,null,null,null,null,"24157","24151","6","6",null,null,null,null,null,null,null,"170665.178","170573.589","91.589","91.589",null,null,null,null,null,null,null,"参議院比例代表選出議員選挙","0",null,"02:55:00"]
[2,14,"曽於市","01","伊藤　恵子","2",null,null,null,null,null,null,null,null,null,null,null,null,null,null,null,null,null,null,null,null,null,"労働の解放をめざす労働者党","5071","5069","2","0",null,null,null,null,null,null,null,null,null,null,"146508.178","146422.589","85.589","85.589",null,null,null,null,null,null,null,"24157","24151","6","6",null,null,null,null,null,null,null,"170665.178","170573.589","91.589","91.589",null,null,null,null,null,null,null,"参議院比例代表選出議員選挙","0",null,"02:55:00"]
[2,15,"霧島市","01","伊藤　恵子","4",null,null,null,null,null,null,null,null,null,null,null,null,null,null,null,null,null,null,null,null,null,"労働の解放をめざす労働者党","13865","13861","4","0",null,null,null,null,null,null,null,null,null,null,"146508.178","146422.589","85.589","85.589",null,null,null,null,null,null,null,"24157","24151","6","6",null,null,null,null,null,null,null,"170665.178","170573.589","91.589","91.589",null,null,null,null,null,null,null,"参議院比例代表選出議員選挙","0",null,"02:55:00"]
[2,16,"いちき串木野市","01","伊藤　恵子","1",null,null,null,null,null,null,null,null,null,null,null,null,null,null,null,null,null,null,null,null,null,"労働の解放をめざす労働者党","3208","3207","1","0",null,null,null,null,null,null,null,null,null,null,"146508.178","146422.589","85.589","85.589",null,null,null,null,null,null,null,"24157","24151","6","6",null,null,null,null,null,null,null,"170665.178","170573.589","91.589","91.589",null,null,null,null,null,null,null,"参議院比例代表選出議員選挙","0",null,"02:55:00"]
[2,17,"南さつま市","01","伊藤　恵子","4",null,null,null,null,null,null,null,null,null,null,null,null,null,null,null,null,null,null,null,null,null,"労働の解放をめざす労働者党","4494","4490","4","0",null,null,null,null,null,null,null,null,null,null,"146508.178","146422.589","85.589","85.589",null,null,null,null,null,null,null,"24157","24151","6","6",null,null,null,null,null,null,null,"170665.178","170573.589","91.589","91.589",null,null,null,null,null,null,null,"参議院比例代表選出議員選挙","0",null,"02:55:00"]
[2,18,"志布志市","01","伊藤　恵子","3",null,null,null,null,null,null,null,null,null,null,null,null,null,null,null,null,null,null,null,null,null,"労働の解放をめざす労働者党","3883","3880","3","0",null,null,null,null,null,null,null,null,null,null,"146508.178","146422.589","85.589","85.589",null,null,null,null,null,null,null,"24157","24151","6","6",null,null,null,null,null,null,null,"170665.178","170573.589","91.589","91.589",null,null,null,null,null,null,null,"参議院比例代表選出議員選挙","0",null,"02:55:00"]
[2,19,"奄美市","01","伊藤　恵子","1",null,null,null,null,null,null,null,null,null,null,null,null,null,null,null,null,null,null,null,null,null,"労働の解放をめざす労働者党","3921","3920","1","0",null,null,null,null,null,null,null,null,null,null,"146508.178","146422.589","85.589","85.589",null,null,null,null,null,null,null,"24157","24151","6","6",null,null,null,null,null,null,null,"170665.178","170573.589","91.589","91.589",null,null,null,null,null,null,null,"参議院比例代表選出議員選挙","0",null,"02:55:00"]
[2,20,"南九州市","01","伊藤　恵子","1",null,null,null,null,null,null,null,null,null,null,null,null,null,null,null,null,null,null,null,null,null,"労働の解放をめざす労働者党","5023","5022","1","0",null,null,null,null,null,null,null,null,null,null,"146508.178","146422.589","85.589","85.589",null,null,null,null,null,null,null,"24157","24151","6","6",null,null,null,null,null,null,null,"170665.178","170573.589","91.589","91.589",null,null,null,null,null,null,null,"参議院比例代表選出議員選挙","0",null,"02:55:00"]
[2,21,"伊佐市","01","伊藤　恵子","1",null,null,null,null,null,null,null,null,null,null,null,null,null,null,null,null,null,null,null,null,null,"労働の解放をめざす労働者党","2981","2980","1","0",null,null,null,null,null,null,null,null,null,null,"146508.178","146422.589","85.589","85.589",null,null,null,null,null,null,null,"24157","24151","6","6",null,null,null,null,null,null,null,"170665.178","170573.589","91.589","91.589",null,null,null,null,null,null,null,"参議院比例代表選出議員選挙","0",null,"02:55:00"]
[2,22,"姶良市","01","伊藤　恵子","7.875",null,null,null,null,null,null,null,null,null,null,null,null,null,null,null,null,null,null,null,null,null,"労働の解放をめざす労働者党","7708.75","7700.875","7.875","0",null,null,null,null,null,null,null,null,null,null,"146508.178","146422.589","85.589","85.589",null,null,null,null,null,null,null,"24157","24151","6","6",null,null,null,null,null,null,null,"170665.178","170573.589","91.589","91.589",null,null,null,null,null,null,null,"参議院比例代表選出議員選挙","0",null,"02:55:00"]
[2,23,"三島村","01","伊藤　恵子","1",null,null,null,null,null,null,null,null,null,null,null,null,null,null,null,null,null,null,null,null,null,"労働の解放をめざす労働者党","69","68","1","0",null,null,null,null,null,null,null,null,null,null,"146508.178","146422.589","85.589","85.589",null,null,null,null,null,null,null,"24157","24151","6","6",null,null,null,null,null,null,null,"170665.178","170573.589","91.589","91.589",null,null,null,null,null,null,null,"参議院比例代表選出議員選挙","0",null,"02:55:00"]
[2,24,"十島村","01","伊藤　恵子","0",null,null,null,null,null,null,null,null,null,null,null,null,null,null,null,null,null,null,null,null,null,"労働の解放をめざす労働者党","131","131","0","0",null,null,null,null,null,null,null,null,null,null,"146508.178","146422.589","85.589","85.589",null,null,null,null,null,null,null,"24157","24151","6","6",null,null,null,null,null,null,null,"170665.178","170573.589","91.589","91.589",null,null,null,null,null,null,null,"参議院比例代表選出議員選挙","0",null,"02:55:00"]
[2,25,"＊（鹿児島郡）計","01","伊藤　恵子","1",null,null,null,null,null,null,null,null,null,null,null,null,null,null,null,null,null,null,null,null,null,"労働の解放をめざす労働者党","200","199","1","0",null,null,null,null,null,null,null,null,null,null,"146508.178","146422.589","85.589","85.589",null,null,null,null,null,null,null,"24157","24151","6","6",null,null,null,null,null,null,null,"170665.178","170573.589","91.589","91.589",null,null,null,null,null,null,null,"参議院比例代表選出議員選挙","0",null,"02:55:00"]
[2,26,"さつま町","01","伊藤　恵子","0",null,null,null,null,null,null,null,null,null,null,null,null,null,null,null,null,null,null,null,null,null,"労働の解放をめざす労働者党","3231","3231","0","0",null,null,null,null,null,null,null,null,null,null,"146508.178","146422.589","85.589","85.589",null,null,null,null,null,null,null,"24157","24151","6","6",null,null,null,null,null,null,null,"170665.178","170573.589","91.589","91.589",null,null,null,null,null,null,null,"参議院比例代表選出議員選挙","0",null,"02:55:00"]
[2,27,"＊（薩摩郡）計","01","伊藤　恵子","0",null,null,null,null,null,null,null,null,null,null,null,null,null,null,null,null,null,null,null,null,null,"労働の解放をめざす労働者党","3231","3231","0","0",null,null,null,null,null,null,null,null,null,null,"146508.178","146422.589","85.589","85.589",null,null,null,null,null,null,null,"24157","24151","6","6",null,null,null,null,null,null,null,"170665.178","170573.589","91.589","91.589",null,null,null,null,null,null,null,"参議院比例代表選出議員選挙","0",null,"02:55:00"]
[2,28,"長島町","01","伊藤　恵子","2",null,null,null,null,null,null,null,null,null,null,null,null,null,null,null,null,null,null,null,null,null,"労働の解放をめざす労働者党","1745","1743","2","0",null,null,null,null,null,null,null,null,null,null,"146508.178","146422.589","85.589","85.589",null,null,null,null,null,null,null,"24157","24151","6","6",null,null,null,null,null,null,null,"170665.178","170573.589","91.589","91.589",null,null,null,null,null,null,null,"参議院比例代表選出議員選挙","0",null,"02:55:00"]
[2,29,"＊（出水郡）計","01","伊藤　恵子","2",null,null,null,null,null,null,null,null,null,null,null,null,null,null,null,null,null,null,null,null,null,"労働の解放をめざす労働者党","1745","1743","2","0",null,null,null,null,null,null,null,null,null,null,"146508.178","146422.589","85.589","85.589",null,null,null,null,null,null,null,"24157","24151","6","6",null,null,null,null,null,null,null,"170665.178","170573.589","91.589","91.589",null,null,null,null,null,null,null,"参議院比例代表選出議員選挙","0",null,"02:55:00"]
[2,30,"湧水町","01","伊藤　恵子","0",null,null,null,null,null,null,null,null,null,null,null,null,null,null,null,null,null,null,null,null,null,"労働の解放をめざす労働者党","1264","1264","0","0",null,null,null,null,null,null,null,null,null,null,"146508.178","146422.589","85.589","85.589",null,null,null,null,null,null,null,"24157","24151","6","6",null,null,null,null,null,null,null,"170665.178","170573.589","91.589","91.589",null,null,null,null,null,null,null,"参議院比例代表選出議員選挙","0",null,"02:55:00"]
[2,31,"＊（姶良郡）計","01","伊藤　恵子","0",null,null,null,null,null,null,null,null,null,null,null,null,null,null,null,null,null,null,null,null,null,"労働の解放をめざす労働者党","1264","1264","0","0",null,null,null,null,null,null,null,null,null,null,"146508.178","146422.589","85.589","85.589",null,null,null,null,null,null,null,"24157","24151","6","6",null,null,null,null,null,null,null,"170665.178","170573.589","91.589","91.589",null,null,null,null,null,null,null,"参議院比例代表選出議員選挙","0",null,"02:55:00"]
[2,32,"大崎町","01","伊藤　恵子","1",null,null,null,null,null,null,null,null,null,null,null,null,null,null,null,null,null,null,null,null,null,"労働の解放をめざす労働者党","1691","1690","1","0",null,null,null,null,null,null,null,null,null,null,"146508.178","146422.589","85.589","85.589",null,null,null,null,null,null,null,"24157","24151","6","6",null,null,null,null,null,null,null,"170665.178","170573.589","91.589","91.589",null,null,null,null,null,null,null,"参議院比例代表選出議員選挙","0",null,"02:55:00"]
[2,33,"＊（曽於郡）計","01","伊藤　恵子","1",null,null,null,null,null,null,null,null,null,null,null,null,null,null,null,null,null,null,null,null,null,"労働の解放をめざす労働者党","1691","1690","1","0",null,null,null,null,null,null,null,null,null,null,"146508.178","146422.589","85.589","85.589",null,null,null,null,null,null,null,"24157","24151","6","6",null,null,null,null,null,null,null,"170665.178","170573.589","91.589","91.589",null,null,null,null,null,null,null,"参議院比例代表選出議員選挙","0",null,"02:55:00"]
[2,34,"東串良町","01","伊藤　恵子","0",null,null,null,null,null,null,null,null,null,null,null,null,null,null,null,null,null,null,null,null,null,"労働の解放をめざす労働者党","737","737","0","0",null,null,null,null,null,null,null,null,null,null,"146508.178","146422.589","85.589","85.589",null,null,null,null,null,null,null,"24157","24151","6","6",null,null,null,null,null,null,null,"170665.178","170573.589","91.589","91.589",null,null,null,null,null,null,null,"参議院比例代表選出議員選挙","0",null,"02:55:00"]
[2,35,"錦江町","01","伊藤　恵子","0",null,null,null,null,null,null,null,null,null,null,null,null,null,null,null,null,null,null,null,null,null,"労働の解放をめざす労働者党","1210","1210","0","0",null,null,null,null,null,null,null,null,null,null,"146508.178","146422.589","85.589","85.589",null,null,null,null,null,null,null,"24157","24151","6","6",null,null,null,null,null,null,null,"170665.178","170573.589","91.589","91.589",null,null,null,null,null,null,null,"参議院比例代表選出議員選挙","0",null,"02:55:00"]
[2,36,"南大隅町","01","伊藤　恵子","0",null,null,null,null,null,null,null,null,null,null,null,null,null,null,null,null,null,null,null,null,null,"労働の解放をめざす労働者党","1194","1194","0","0",null,null,null,null,null,null,null,null,null,null,"146508.178","146422.589","85.589","85.589",null,null,null,null,null,null,null,"24157","24151","6","6",null,null,null,null,null,null,null,"170665.178","170573.589","91.589","91.589",null,null,null,null,null,null,null,"参議院比例代表選出議員選挙","0",null,"02:55:00"]
[2,37,"肝付町","01","伊藤　恵子","0",null,null,null,null,null,null,null,null,null,null,null,null,null,null,null,null,null,null,null,null,null,"労働の解放をめざす労働者党","1711","1711","0","0",null,null,null,null,null,null,null,null,null,null,"146508.178","146422.589","85.589","85.589",null,null,null,null,null,null,null,"24157","24151","6","6",null,null,null,null,null,null,null,"170665.178","170573.589","91.589","91.589",null,null,null,null,null,null,null,"参議院比例代表選出議員選挙","0",null,"02:55:00"]
[2,38,"＊（肝属郡）計","01","伊藤　恵子","0",null,null,null,null,null,null,null,null,null,null,null,null,null,null,null,null,null,null,null,null,null,"労働の解放をめざす労働者党","4852","4852","0","0",null,null,null,null,null,null,null,null,null,null,"146508.178","146422.589","85.589","85.589",null,null,null,null,null,null,null,"24157","24151","6","6",null,null,null,null,null,null,null,"170665.178","170573.589","91.589","91.589",null,null,null,null,null,null,null,"参議院比例代表選出議員選挙","0",null,"02:55:00"]
[2,39,"中種子町","01","伊藤　恵子","1",null,null,null,null,null,null,null,null,null,null,null,null,null,null,null,null,null,null,null,null,null,"労働の解放をめざす労働者党","1304","1303","1","0",null,null,null,null,null,null,null,null,null,null,"146508.178","146422.589","85.589","85.589",null,null,null,null,null,null,null,"24157","24151","6","6",null,null,null,null,null,null,null,"170665.178","170573.589","91.589","91.589",null,null,null,null,null,null,null,"参議院比例代表選出議員選挙","0",null,"02:55:00"]
[2,40,"南種子町","01","伊藤　恵子","0",null,null,null,null,null,null,null,null,null,null,null,null,null,null,null,null,null,null,null,null,null,"労働の解放をめざす労働者党","783","783","0","0",null,null,null,null,null,null,null,null,null,null,"146508.178","146422.589","85.589","85.589",null,null,null,null,null,null,null,"24157","24151","6","6",null,null,null,null,null,null,null,"170665.178","170573.589","91.589","91.589",null,null,null,null,null,null,null,"参議院比例代表選出議員選挙","0",null,"02:55:00"]
[2,41,"屋久島町","01","伊藤　恵子","0",null,null,null,null,null,null,null,null,null,null,null,null,null,null,null,null,null,null,null,null,null,"労働の解放をめざす労働者党","1527","1527","0","0",null,null,null,null,null,null,null,null,null,null,"146508.178","146422.589","85.589","85.589",null,null,null,null,null,null,null,"24157","24151","6","6",null,null,null,null,null,null,null,"170665.178","170573.589","91.589","91.589",null,null,null,null,null,null,null,"参議院比例代表選出議員選挙","0",null,"02:55:00"]
[2,42,"＊（熊毛郡）計","01","伊藤　恵子","1",null,null,null,null,null,null,null,null,null,null,null,null,null,null,null,null,null,null,null,null,null,"労働の解放をめざす労働者党","3614","3613","1","0",null,null,null,null,null,null,null,null,null,null,"146508.178","146422.589","85.589","85.589",null,null,null,null,null,null,null,"24157","24151","6","6",null,null,null,null,null,null,null,"170665.178","170573.589","91.589","91.589",null,null,null,null,null,null,null,"参議院比例代表選出議員選挙","0",null,"02:55:00"]
[2,43,"大和村","01","伊藤　恵子","0",null,null,null,null,null,null,null,null,null,null,null,null,null,null,null,null,null,null,null,null,null,"労働の解放をめざす労働者党","140","140","0","0",null,null,null,null,null,null,null,null,null,null,"146508.178","146422.589","85.589","85.589",null,null,null,null,null,null,null,"24157","24151","6","6",null,null,null,null,null,null,null,"170665.178","170573.589","91.589","91.589",null,null,null,null,null,null,null,"参議院比例代表選出議員選挙","0",null,"02:55:00"]
[3,1,"鹿児島市","01","ふなご　やすひこ","18","02","木村　英子","19.078",null,null,null,null,null,null,null,null,null,null,null,null,null,null,null,null,null,null,"れいわ新選組","511.156","474.078","37.078","0",null,null,null,null,null,null,null,null,null,null,"1587.128","1451.564","135.564","51","84.564",null,null,null,null,null,null,"318.136","291.568","26.568","6","20.568",null,null,null,null,null,null,"1905.264","1743.132","162.132","57","105.132",null,null,null,null,null,null,"参議院比例代表選出議員選挙","0",null,"02:55:00"]
[3,2,"鹿屋市","01","ふなご　やすひこ","4","02","木村　英子","7.267",null,null,null,null,null,null,null,null,null,null,null,null,null,null,null,null,null,null,"れいわ新選組","123.534","112.267","11.267","0",null,null,null,null,null,null,null,null,null,null,"1587.128","1451.564","135.564","51","84.564",null,null,null,null,null,null,"318.136","291.568","26.568","6","20.568",null,null,null,null,null,null,"1905.264","1743.132","162.132","57","105.132",null,null,null,null,null,null,"参議院比例代表選出議員選挙","0",null,"02:55:00"]
[3,3,"枕崎市","01","ふなご　やすひこ","0","02","木村　英子","0",null,null,null,null,null,null,null,null,null,null,null,null,null,null,null,null,null,null,"れいわ新選組","11","11","0","0",null,null,null,null,null,null,null,null,null,null,"1587.128","1451.564","135.564","51","84.564",null,null,null,null,null,null,"318.136","291.568","26.568","6","20.568",null,null,null,null,null,null,"1905.264","1743.132","162.132","57","105.132",null,null,null,null,null,null,"参議院比例代表選出議員選挙","0",null,"02:55:00"]
[3,4,"阿久根市","01","ふなご　やすひこ","0","02","木村　英子","1.02",null,null,null,null,null,null,null,null,null,null,null,null,null,null,null,null,null,null,"れいわ新選組","29.04","28.02","1.02","0",null,null,null,null,null,null,null,null,null,null,"1587.128","1451.564","135.564","51","84.564",null,null,null,null,null,null,"318.136","291.568","26.568","6","20.568",null,null,null,null,null,null,"1905.264","1743.132","162.132","57","105.132",null,null,null,null,null,null,"参議院比例代表選出議員選挙","0",null,"02:55:00"]
[3,5,"出水市","01","ふなご　やすひこ","3","02","木村　英子","3.017",null,null,null,null,null,null,null,null,null,null,null,null,null,null,null,null,null,null,"れいわ新選組","61.034","55.017","6.017","0",null,null,null,null,null,null,null,null,null,null,"1587.128","1451.564","135.564","51","84.564",null,null,null,null,null,null,"318.136","291.568","26.568","6","20.568",null,null,null,null,null,null,"1905.264","1743.132","162.132","57","105.132",null,null,null,null,null,null,"参議院比例代表選出議員選挙","0",null,"02:55:00"]
[3,6,"指宿市","01","ふなご　やすひこ","0","02","木村　英子","5.222",null,null,null,null,null,null,null,null,null,null,null,null,null,null,null,null,null,null,"れいわ新選組","58.444","53.222","5.222","0",null,null,null,null,null,null,null,null,null,null,"1587.128","1451.564","135.564","51","84.564",null,null,null,null,null,null,"318.136","291.568","26.568","6","20.568",null,null,null,null,null,null,"1905.264","1743.132","162.132","57","105.132",null,null,null,null,null,null,"参議院比例代表選出議員選挙","0",null,"02:55:00"]
[3,7,"西之表市","01","ふなご　やすひこ","1","02","木村　英子","1",null,null,null,null,null,null,null,null,null,null,null,null,null,null,null,null,null,null,"れいわ新選組","15","13","2","0",null,null,null,null,null,null,null,null,null,null,"1587.128","1451.564","135.564","51","84.564",null,null,null,null,null,null,"318.136","291.568","26.568","6","20.568",null,null,null,null,null,null,"1905.264","1743.132","162.132","57","105.132",null,null,null,null,null,null,"参議院比例代表選出議員選挙","0",null,"02:55:00"]
[3,8,"垂水市","01","ふなご　やすひこ","0","02","木村　英子","2",null,null,null,null,null,null,null,null,null,null,null,null,null,null,null,null,null,null,"れいわ新選組","10","8","2","0",null,null,null,null,null,null,null,null,null,null,"1587.128","1451.564","135.564","51","84.564",null,null,null,null,null,null,"318.136","291.568","26.568","6","20.568",null,null,null,null,null,null,"1905.264","1743.132","162.132","57","105.132",null,null,null,null,null,null,"参議院比例代表選出議員選挙","0",null,"02:55:00"]
[3,9,"薩摩川内市第１","01","ふなご　やすひこ","1","02","木村　英子","9.112",null,null,null,null,null,null,null,null,null,null,null,null,null,null,null,null,null,null,"れいわ新選組","100.224","90.112","10.112","0",null,null,null,null,null,null,null,null,null,null,"1587.128","1451.564","135.564","51","84.564",null,null,null,null,null,null,"318.136","291.568","26.568","6","20.568",null,null,null,null,null,null,"1905.264","1743.132","162.132","57","105.132",null,null,null,null,null,null,"参議院比例代表選出議員選挙","0",null,"02:55:00"]
[3,10,"薩摩川内市第２","01","ふなご　やすひこ","0","02","木村　英子","0",null,null,null,null,null,null,null,null,null,null,null,null,null,null,null,null,null,null,"れいわ新選組","4","4","0","0",null,null,null,null,null,null,null,null,null,null,"1587.128","1451.564","135.564","51","84.564",null,null,null,null,null,null,"318.136","291.568","26.568","6","20.568",null,null,null,null,null,null,"1905.264","1743.132","162.132","57","105.132",null,null,null,null,null,null,"参議院比例代表選出議員選挙","0",null,"02:55:00"]
[3,11,"薩摩川内市第３","01","ふなご　やすひこ","0","02","木村　英子","0",null,null,null,null,null,null,null,null,null,null,null,null,null,null,null,null,null,null,"れいわ新選組","3","3","0","0",null,null,null,null,null,null,null,null,null,null,"1587.128","1451.564","135.564","51","84.564",null,null,null,null,null,null,"318.136","291.568","26.568","6","20.568",null,null,null,null,null,null,"1905.264","1743.132","162.132","57","105.132",null,null,null,null,null,null,"参議院比例代表選出議員選挙","0",null,"02:55:00"]
[3,12,"＊（薩摩川内市）計","01","ふなご　やすひこ","1","02","木村　英子","9.112",null,null,null,null,null,null,null,null,null,null,null,null,null,null,null,null,null,null,"れいわ新選組","107.224","97.112","10.112","0",null,null,null,null,null,null,null,null,null,null,"1587.128","1451.564","135.564","51","84.564",null,null,null,null,null,null,"318.136","291.568","26.568","6","20.568",null,null,null,null,null,null,"1905.264","1743.132","162.132","57","105.132",null,null,null,null,null,null,"参議院比例代表選出議員選挙","0",null,"02:55:00"]
[3,13,"日置市","01","ふなご　やすひこ","4","02","木村　英子","7.233",null,null,null,null,null,null,null,null,null,null,null,null,null,null,null,null,null,null,"れいわ新選組","88.466","77.233","11.233","0",null,null,null,null,null,null,null,null,null,null,"1587.128","1451.564","135.564","51","84.564",null,null,null,null,null,null,"318.136","291.568","26.568","6","20.568",null,null,null,null,null,null,"1905.264","1743.132","162.132","57","105.132",null,null,null,null,null,null,"参議院比例代表選出議員選挙","0",null,"02:55:00"]
[3,14,"曽於市","01","ふなご　やすひこ","1","02","木村　英子","4.047",null,null,null,null,null,null,null,null,null,null,null,null,null,null,null,null,null,null,"れいわ新選組","26.094","21.047","5.047","0",null,null,null,null,null,null,null,null,null,null,"1587.128","1451.564","135.564","51","84.564",null,null,null,null,null,null,"318.136","291.568","26.568","6","20.568",null,null,null,null,null,null,"1905.264","1743.132","162.132","57","105.132",null,null,null,null,null,null,"参議院比例代表選出議員選挙","0",null,"02:55:00"]
[3,15,"霧島市","01","ふなご　やすひこ","3","02","木村　英子","4.05",null,null,null,null,null,null,null,null,null,null,null,null,null,null,null,null,null,null,"れいわ新選組","168.1","161.05","7.05","0",null,null,null,null,null,null,null,null,null,null,"1587.128","1451.564","135.564","51","84.564",null,null,null,null,null,null,"318.136","291.568","26.568","6","20.568",null,null,null,null,null,null,"1905.264","1743.132","162.132","57","105.132",null,null,null,null,null,null,"参議院比例代表選出議員選挙","0",null,"02:55:00"]
[3,16,"いちき串木野市","01","ふなご　やすひこ","2","02","木村　英子","2.092",null,null,null,null,null,null,null,null,null,null,null,null,null,null,null,null,null,null,"れいわ新選組","42.184","38.092","4.092","0",null,null,null,null,null,null,null,null,null,null,"1587.128","1451.564","135.564","51","84.564",null,null,null,null,null,null,"318.136","291.568","26.568","6","20.568",null,null,null,null,null,null,"1905.264","1743.132","162.132","57","105.132",null,null,null,null,null,null,"参議院比例代表選出議員選挙","0",null,"02:55:00"]
[3,17,"南さつま市","01","ふなご　やすひこ","2","02","木村　英子","6.064",null,null,null,null,null,null,null,null,null,null,null,null,null,null,null,null,null,null,"れいわ新選組","56.128","48.064","8.064","0",null,null,null,null,null,null,null,null,null,null,"1587.128","1451.564","135.564","51","84.564",null,null,null,null,null,null,"318.136","291.568","26.568","6","20.568",null,null,null,null,null,null,"1905.264","1743.132","162.132","57","105.132",null,null,null,null,null,null,"参議院比例代表選出議員選挙","0",null,"02:55:00"]
[3,18,"志布志市","01","ふなご　やすひこ","1","02","木村　英子","3.21",null,null,null,null,null,null,null,null,null,null,null,null,null,null,null,null,null,null,"れいわ新選組","44.42","40.21","4.21","0",null,null,null,null,null,null,null,null,null,null,"1587.128","1451.564","135.564","51","84.564",null,null,null,null,null,null,"318.136","291.568","26.568","6","20.568",null,null,null,null,null,null,"1905.264","1743.132","162.132","57","105.132",null,null,null,null,null,null,"参議院比例代表選出議員選挙","0",null,"02:55:00"]
[3,19,"奄美市","01","ふなご　やすひこ","2","02","木村　英子","0",null,null,null,null,null,null,null,null,null,null,null,null,null,null,null,null,null,null,"れいわ新選組","47","45","2","0",null,null,null,null,null,null,null,null,null,null,"1587.128","1451.564","135.564","51","84.564",null,null,null,null,null,null,"318.136","291.568","26.568","6","20.568",null,null,null,null,null,null,"1905.264","1743.132","162.132","57","105.132",null,null,null,null,null,null,"参議院比例代表選出議員選挙","0",null,"02:55:00"]
[3,20,"南九州市","01","ふなご　やすひこ","2","02","木村　英子","2.083",null,null,null,null,null,null,null,null,null,null,null,null,null,null,null,null,null,null,"れいわ新選組","41.166","37.083","4.083","0",null,null,null,null,null,null,null,null,null,null,"1587.128","1451.564","135.564","51","84.564",null,null,null,null,null,null,"318.136","291.568","26.568","6","20.568",null,null,null,null,null,null,"1905.264","1743.132","162.132","57","105.132",null,null,null,null,null,null,"参議院比例代表選出議員選挙","0",null,"02:55:00"]
[3,21,"伊佐市","01","ふなご　やすひこ","1","02","木村　英子","0",null,null,null,null,null,null,null,null,null,null,null,null,null,null,null,null,null,null,"れいわ新選組","21","20","1","0",null,null,null,null,null,null,null,null,null,null,"1587.128","1451.564","135.564","51","84.564",null,null,null,null,null,null,"318.136","291.568","26.568","6","20.568",null,null,null,null,null,null,"1905.264","1743.132","162.132","57","105.132",null,null,null,null,null,null,"参議院比例代表選出議員選挙","0",null,"02:55:00"]
[3,22,"姶良市","01","ふなご　やすひこ","6","02","木村　英子","8.069",null,null,null,null,null,null,null,null,null,null,null,null,null,null,null,null,null,null,"れいわ新選組","126.138","112.069","14.069","0",null,null,null,null,null,null,null,null,null,null,"1587.128","1451.564","135.564","51","84.564",null,null,null,null,null,null,"318.136","291.568","26.568","6","20.568",null,null,null,null,null,null,"1905.264","1743.132","162.132","57","105.132",null,null,null,null,null,null,"参議院比例代表選出議員選挙","0",null,"02:55:00"]
[3,23,"三島村","01","ふなご　やすひこ","0","02","木村　英子","0",null,null,null,null,null,null,null,null,null,null,null,null,null,null,null,null,null,null,"れいわ新選組","1","1","0","0",null,null,null,null,null,null,null,null,null,null,"1587.128","1451.564","135.564","51","84.564",null,null,null,null,null,null,"318.136","291.568","26.568","6","20.568",null,null,null,null,null,null,"1905.264","1743.132","162.132","57","105.132",null,null,null,null,null,null,"参議院比例代表選出議員選挙","0",null,"02:55:00"]
[3,24,"十島村","01","ふなご　やすひこ","0","02","木村　英子","0",null,null,null,null,null,null,null,null,null,null,null,null,null,null,null,null,null,null,"れいわ新選組","6","6","0","0",null,null,null,null,null,null,null,null,null,null,"1587.128","1451.564","135.564","51","84.564",null,null,null,null,null,null,"318.136","291.568","26.568","6","20.568",null,null,null,null,null,null,"1905.264","1743.132","162.132","57","105.132",null,null,null,null,null,null,"参議院比例代表選出議員選挙","0",null,"02:55:00"]
[3,25,"＊（鹿児島郡）計","01","ふなご　やすひこ","0","02","木村　英子","0",null,null,null,null,null,null,null,null,null,null,null,null,null,null,null,null,null,null,"れいわ新選組","7","7","0","0",null,null,null,null,null,null,null,null,null,null,"1587.128","1451.564","135.564","51","84.564",null,null,null,null,null,null,"318.136","291.568","26.568","6","20.568",null,null,null,null,null,null,"1905.264","1743.132","162.132","57","105.132",null,null,null,null,null,null,"参議院比例代表選出議員選挙","0",null,"02:55:00"]
[3,26,"さつま町","01","ふなご　やすひこ","0","02","木村　英子","1.047",null,null,null,null,null,null,null,null,null,null,null,null,null,null,null,null,null,null,"れいわ新選組","26.094","25.047","1.047","0",null,null,null,null,null,null,null,null,null,null,"1587.128","1451.564","135.564","51","84.564",null,null,null,null,null,null,"318.136","291.568","26.568","6","20.568",null,null,null,null,null,null,"1905.264","1743.132","162.132","57","105.132",null,null,null,null,null,null,"参議院比例代表選出議員選挙","0",null,"02:55:00"]
[3,27,"＊（薩摩郡）計","01","ふなご　やすひこ","0","02","木村　英子","1.047",null,null,null,null,null,null,null,null,null,null,null,null,null,null,null,null,null,null,"れいわ新選組","26.094","25.047","1.047","0",null,null,null,null,null,null,null,null,null,null,"1587.128","1451.564","135.564","51","84.564",null,null,null,null,null,null,"318.136","291.568","26.568","6","20.568",null,null,null,null,null,null,"1905.264","1743.132","162.132","57","105.132",null,null,null,null,null,null,"参議院比例代表選出議員選挙","0",null,"02:55:00"]
[3,28,"長島町","01","ふなご　やすひこ","0","02","木村　英子","3.193",null,null,null,null,null,null,null,null,null,null,null,null,null,null,null,null,null,null,"れいわ新選組","24.386","21.193","3.193","0",null,null,null,null,null,null,null,null,null,null,"1587.128","1451.564","135.564","51","84.564",null,null,null,null,null,null,"318.136","291.568","26.568","6","20.568",null,null,null,null,null,null,"1905.264","1743.132","162.132","57","105.132",null,null,null,null,null,null,"参議院比例代表選出議員選挙","0",null,"02:55:00"]
[3,29,"＊（出水郡）計","01","ふなご　やすひこ","0","02","木村　英子","3.193",null,null,null,null,null,null,null,null,null,null,null,null,null,null,null,null,null,null,"れいわ新選組","24.386","21.193","3.193","0",null,null,null,null,null,null,null,null,null,null,"1587.128","1451.564","135.564","51","84.564",null,null,null,null,null,null,"318.136","291.568","26.568","6","20.568",null,null,null,null,null,null,"1905.264","1743.132","162.132","57","105.132",null,null,null,null,null,null,"参議院比例代表選出議員選挙","0",null,"02:55:00"]
[3,30,"湧水町","01","ふなご　やすひこ","0","02","木村　英子","1.05",null,null,null,null,null,null,null,null,null,null,null,null,null,null,null,null,null,null,"れいわ新選組","18.1","17.05","1.05","0",null,null,null,null,null,null,null,null,null,null,"1587.128","1451.564","135.564","51","84.564",null,null,null,null,null,null,"318.136","291.568","26.568","6","20.568",null,null,null,null,null,null,"1905.264","1743.132","162.132","57","105.132",null,null,null,null,null,null,"参議院比例代表選出議員選挙","0",null,"02:55:00"]
[3,31,"＊（姶良郡）計","01","ふなご　やすひこ","0","02","木村　英子","1.05",null,null,null,null,null,null,null,null,null,null,null,null,null,null,null,null,null,null,"れいわ新選組","18.1","17.05","1.05","0",null,null,null,null,null,null,null,null,null,null,"1587.128","1451.564","135.564","51","84.564",null,null,null,null,null,null,"318.136","291.568","26.568","6","20.568",null,null,null,null,null,null,"1905.264","1743.132","162.132","57","105.132",null,null,null,null,null,null,"参議院比例代表選出議員選挙","0",null,"02:55:00"]
[3,32,"大崎町","01","ふなご　やすひこ","0","02","木村　英子","1.09",null,null,null,null,null,null,null,null,null,null,null,null,null,null,null,null,null,null,"れいわ新選組","15.18","14.09","1.09","0",null,null,null,null,null,null,null,null,null,null,"1587.128","1451.564","135.564","51","84.564",null,null,null,null,null,null,"318.136","291.568","26.568","6","20.568",null,null,null,null,null,null,"1905.264","1743.132","162.132","57","105.132",null,null,null,null,null,null,"参議院比例代表選出議員選挙","0",null,"02:55:00"]
[3,33,"＊（曽於郡）計","01","ふなご　やすひこ","0","02","木村　英子","1.09",null,null,null,null,null,null,null,null,null,null,null,null,null,null,null,null,null,null,"れいわ新選組","15.18","14.09","1.09","0",null,null,null,null,null,null,null,null,null,null,"1587.128","1451.564","135.564","51","84.564",null,null,null,null,null,null,"318.136","291.568","26.568","6","20.568",null,null,null,null,null,null,"1905.264","1743.132","162.132","57","105.132",null,null,null,null,null,null,"参議院比例代表選出議員選挙","0",null,"02:55:00"]
[3,34,"東串良町","01","ふなご　やすひこ","0","02","木村　英子","0",null,null,null,null,null,null,null,null,null,null,null,null,null,null,null,null,null,null,"れいわ新選組","6","6","0","0",null,null,null,null,null,null,null,null,null,null,"1587.128","1451.564","135.564","51","84.564",null,null,null,null,null,null,"318.136","291.568","26.568","6","20.568",null,null,null,null,null,null,"1905.264","1743.132","162.132","57","105.132",null,null,null,null,null,null,"参議院比例代表選出議員選挙","0",null,"02:55:00"]
[3,35,"錦江町","01","ふなご　やすひこ","1","02","木村　英子","0",null,null,null,null,null,null,null,null,null,null,null,null,null,null,null,null,null,null,"れいわ新選組","6","5","1","0",null,null,null,null,null,null,null,null,null,null,"1587.128","1451.564","135.564","51","84.564",null,null,null,null,null,null,"318.136","291.568","26.568","6","20.568",null,null,null,null,null,null,"1905.264","1743.132","162.132","57","105.132",null,null,null,null,null,null,"参議院比例代表選出議員選挙","0",null,"02:55:00"]
[3,36,"南大隅町","01","ふなご　やすひこ","1","02","木村　英子","0",null,null,null,null,null,null,null,null,null,null,null,null,null,null,null,null,null,null,"れいわ新選組","8","7","1","0",null,null,null,null,null,null,null,null,null,null,"1587.128","1451.564","135.564","51","84.564",null,null,null,null,null,null,"318.136","291.568","26.568","6","20.568",null,null,null,null,null,null,"1905.264","1743.132","162.132","57","105.132",null,null,null,null,null,null,"参議院比例代表選出議員選挙","0",null,"02:55:00"]
[3,37,"肝付町","01","ふなご　やすひこ","2","02","木村　英子","2",null,null,null,null,null,null,null,null,null,null,null,null,null,null,null,null,null,null,"れいわ新選組","19","15","4","0",null,null,null,null,null,null,null,null,null,null,"1587.128","1451.564","135.564","51","84.564",null,null,null,null,null,null,"318.136","291.568","26.568","6","20.568",null,null,null,null,null,null,"1905.264","1743.132","162.132","57","105.132",null,null,null,null,null,null,"参議院比例代表選出議員選挙","0",null,"02:55:00"]
[3,38,"＊（肝属郡）計","01","ふなご　やすひこ","4","02","木村　英子","2",null,null,null,null,null,null,null,null,null,null,null,null,null,null,null,null,null,null,"れいわ新選組","39","33","6","0",null,null,null,null,null,null,null,null,null,null,"1587.128","1451.564","135.564","51","84.564",null,null,null,null,null,null,"318.136","291.568","26.568","6","20.568",null,null,null,null,null,null,"1905.264","1743.132","162.132","57","105.132",null,null,null,null,null,null,"参議院比例代表選出議員選挙","0",null,"02:55:00"]
[3,39,"中種子町","01","ふなご　やすひこ","1","02","木村　英子","0",null,null,null,null,null,null,null,null,null,null,null,null,null,null,null,null,null,null,"れいわ新選組","21","20","1","0",null,null,null,null,null,null,null,null,null,null,"1587.128","1451.564","135.564","51","84.564",null,null,null,null,null,null,"318.136","291.568","26.568","6","20.568",null,null,null,null,null,null,"1905.264","1743.132","162.132","57","105.132",null,null,null,null,null,null,"参議院比例代表選出議員選挙","0",null,"02:55:00"]
[3,40,"南種子町","01","ふなご　やすひこ","0","02","木村　英子","1",null,null,null,null,null,null,null,null,null,null,null,null,null,null,null,null,null,null,"れいわ新選組","10","9","1","0",null,null,null,null,null,null,null,null,null,null,"1587.128","1451.564","135.564","51","84.564",null,null,null,null,null,null,"318.136","291.568","26.568","6","20.568",null,null,null,null,null,null,"1905.264","1743.132","162.132","57","105.132",null,null,null,null,null,null,"参議院比例代表選出議員選挙","0",null,"02:55:00"]
[3,41,"屋久島町","01","ふなご　やすひこ","0","02","木村　英子","2.333",null,null,null,null,null,null,null,null,null,null,null,null,null,null,null,null,null,null,"れいわ新選組","33.666","31.333","2.333","0",null,null,null,null,null,null,null,null,null,null,"1587.128","1451.564","135.564","51","84.564",null,null,null,null,null,null,"318.136","291.568","26.568","6","20.568",null,null,null,null,null,null,"1905.264","1743.132","162.132","57","105.132",null,null,null,null,null,null,"参議院比例代表選出議員選挙","0",null,"02:55:00"]
[3,42,"＊（熊毛郡）計","01","ふなご　やすひこ","1","02","木村　英子","3.333",null,null,null,null,null,null,null,null,null,null,null,null,null,null,null,null,null,null,"れいわ新選組","64.666","60.333","4.333","0",null,null,null,null,null,null,null,null,null,null,"1587.128","1451.564","135.564","51","84.564",null,null,null,null,null,null,"318.136","291.568","26.568","6","20.568",null,null,null,null,null,null,"1905.264","1743.132","162.132","57","105.132",null,null,null,null,null,null,"参議院比例代表選出議員選挙","0",null,"02:55:00"]
[3,43,"大和村","01","ふなご　やすひこ","0","02","木村　英子","0",null,null,null,null,null,null,null,null,null,null,null,null,null,null,null,null,null,null,"れいわ新選組","3","3","0","0",null,null,null,null,null,null,null,null,null,null,"1587.128","1451.564","135.564","51","84.564",null,null,null,null,null,null,"318.136","291.568","26.568","6","20.568",null,null,null,null,null,null,"1905.264","1743.132","162.132","57","105.132",null,null,null,null,null,null,"参議院比例代表選出議員選挙","0",null,"02:55:00"]
[4,1,"宇検村","01","三木　とおる","0","02","三浦　靖","0",null,null,null,null,null,null,null,null,null,null,null,null,null,null,null,null,null,null,"自由民主党","32","32","0","0",null,null,null,null,null,null,null,null,null,null,"26228","26060.5","167.5","131.5","36",null,null,null,null,null,null,"3849","3821","28","21","7",null,null,null,null,null,null,"30077","29881.5","195.5","152.5","43",null,null,null,null,null,null,"参議院比例代表選出議員選挙","0",null,"02:55:00"]
[4,2,"瀬戸内町","01","三木　とおる","0","02","三浦　靖","1",null,null,null,null,null,null,null,null,null,null,null,null,null,null,null,null,null,null,"自由民主党","240","239","1","0",null,null,null,null,null,null,null,null,null,null,"26228","26060.5","167.5","131.5","36",null,null,null,null,null,null,"3849","3821","28","21","7",null,null,null,null,null,null,"30077","29881.5","195.5","152.5","43",null,null,null,null,null,null,"参議院比例代表選出議員選挙","0",null,"02:55:00"]
[4,3,"龍郷町","01","三木　とおる","1","02","三浦　靖","0",null,null,null,null,null,null,null,null,null,null,null,null,null,null,null,null,null,null,"自由民主党","131","130","1","0",null,null,null,null,null,null,null,null,null,null,"26228","26060.5","167.5","131.5","36",null,null,null,null,null,null,"3849","3821","28","21","7",null,null,null,null,null,null,"30077","29881.5","195.5","152.5","43",null,null,null,null,null,null,"参議院比例代表選出議員選挙","0",null,"02:55:00"]
[4,4,"喜界町","01","三木　とおる","2","02","三浦　靖","0",null,null,null,null,null,null,null,null,null,null,null,null,null,null,null,null,null,null,"自由民主党","136","134","2","0",null,null,null,null,null,null,null,null,null,null,"26228","26060.5","167.5","131.5","36",null,null,null,null,null,null,"3849","3821","28","21","7",null,null,null,null,null,null,"30077","29881.5","195.5","152.5","43",null,null,null,null,null,null,"参議院比例代表選出議員選挙","0",null,"02:55:00"]
[4,5,"徳之島町","01","三木　とおる","0","02","三浦　靖","0",null,null,null,null,null,null,null,null,null,null,null,null,null,null,null,null,null,null,"自由民主党","406","406","0","0",null,null,null,null,null,null,null,null,null,null,"26228","26060.5","167.5","131.5","36",null,null,null,null,null,null,"3849","3821","28","21","7",null,null,null,null,null,null,"30077","29881.5","195.5","152.5","43",null,null,null,null,null,null,"参議院比例代表選出議員選挙","0",null,"02:55:00"]
[4,6,"天城町","01","三木　とおる","1","02","三浦　靖","0",null,null,null,null,null,null,null,null,null,null,null,null,null,null,null,null,null,null,"自由民主党","153","152","1","0",null,null,null,null,null,null,null,null,null,null,"26228","26060.5","167.5","131.5","36",null,null,null,null,null,null,"3849","3821","28","21","7",null,null,null,null,null,null,"30077","29881.5","195.5","152.5","43",null,null,null,null,null,null,"参議院比例代表選出議員選挙","0",null,"02:55:00"]
[4,7,"伊仙町","01","三木　とおる","2","02","三浦　靖","1",null,null,null,null,null,null,null,null,null,null,null,null,null,null,null,null,null,null,"自由民主党","210","207","3","0",null,null,null,null,null,null,null,null,null,null,"26228","26060.5","167.5","131.5","36",null,null,null,null,null,null,"3849","3821","28","21","7",null,null,null,null,null,null,"30077","29881.5","195.5","152.5","43",null,null,null,null,null,null,"参議院比例代表選出議員選挙","0",null,"02:55:00"]
[4,8,"和泊町","01","三木　とおる","0","02","三浦　靖","0",null,null,null,null,null,null,null,null,null,null,null,null,null,null,null,null,null,null,"自由民主党","102","102","0","0",null,null,null,null,null,null,null,null,null,null,"26228","26060.5","167.5","131.5","36",null,null,null,null,null,null,"3849","3821","28","21","7",null,null,null,null,null,null,"30077","29881.5","195.5","152.5","43",null,null,null,null,null,null,"参議院比例代表選出議員選挙","0",null,"02:55:00"]
[4,9,"知名町","01","三木　とおる","4","02","三浦　靖","1",null,null,null,null,null,null,null,null,null,null,null,null,null,null,null,null,null,null,"自由民主党","85","80","5","0",null,null,null,null,null,null,null,null,null,null,"26228","26060.5","167.5","131.5","36",null,null,null,null,null,null,"3849","3821","28","21","7",null,null,null,null,null,null,"30077","29881.5","195.5","152.5","43",null,null,null,null,null,null,"参議院比例代表選出議員選挙","0",null,"02:55:00"]
[4,10,"与論町","01","三木　とおる","0","02","三浦　靖","0",null,null,null,null,null,null,null,null,null,null,null,null,null,null,null,null,null,null,"自由民主党","112","112","0","0",null,null,null,null,null,null,null,null,null,null,"26228","26060.5","167.5","131.5","36",null,null,null,null,null,null,"3849","3821","28","21","7",null,null,null,null,null,null,"30077","29881.5","195.5","152.5","43",null,null,null,null,null,null,"参議院比例代表選出議員選挙","0",null,"02:55:00"]
[4,11,"＊（大島郡）計","01","三木　とおる","10","02","三浦　靖","3",null,null,null,null,null,null,null,null,null,null,null,null,null,null,null,null,null,null,"自由民主党","1667","1654","13","0",null,null,null,null,null,null,null,null,null,null,"26228","26060.5","167.5","131.5","36",null,null,null,null,null,null,"3849","3821","28","21","7",null,null,null,null,null,null,"30077","29881.5","195.5","152.5","43",null,null,null,null,null,null,"参議院比例代表選出議員選挙","0",null,"02:55:00"]
[4,12,null,"01","三木　とおる",null,"02","三浦　靖",null,null,null,null,null,null,null,null,null,null,null,null,null,null,null,null,null,null,null,"自由民主党",null,null,null,"0",null,null,null,null,null,null,null,null,null,null,"26228","26060.5","167.5","131.5","36",null,null,null,null,null,null,"3849","3821","28","21","7",null,null,null,null,null,null,"30077","29881.5","195.5","152.5","43",null,null,null,null,null,null,"参議院比例代表選出議員選挙","0",null,"02:55:00"]
[4,13,null,"01","三木　とおる",null,"02","三浦　靖",null,null,null,null,null,null,null,null,null,null,null,null,null,null,null,null,null,null,null,"自由民主党",null,null,null,"0",null,null,null,null,null,null,null,null,null,null,"26228","26060.5","167.5","131.5","36",null,null,null,null,null,null,"3849","3821","28","21","7",null,null,null,null,null,null,"30077","29881.5","195.5","152.5","43",null,null,null,null,null,null,"参議院比例代表選出議員選挙","0",null,"02:55:00"]
[4,14,null,"01","三木　とおる",null,"02","三浦　靖",null,null,null,null,null,null,null,null,null,null,null,null,null,null,null,null,null,null,null,"自由民主党",null,null,null,"0",null,null,null,null,null,null,null,null,null,null,"26228","26060.5","167.5","131.5","36",null,null,null,null,null,null,"3849","3821","28","21","7",null,null,null,null,null,null,"30077","29881.5","195.5","152.5","43",null,null,null,null,null,null,"参議院比例代表選出議員選挙","0",null,"02:55:00"]
[4,15,null,"01","三木　とおる",null,"02","三浦　靖",null,null,null,null,null,null,null,null,null,null,null,null,null,null,null,null,null,null,null,"自由民主党",null,null,null,"0",null,null,null,null,null,null,null,null,null,null,"26228","26060.5","167.5","131.5","36",null,null,null,null,null,null,"3849","3821","28","21","7",null,null,null,null,null,null,"30077","29881.5","195.5","152.5","43",null,null,null,null,null,null,"参議院比例代表選出議員選挙","0",null,"02:55:00"]
[4,16,null,"01","三木　とおる",null,"02","三浦　靖",null,null,null,null,null,null,null,null,null,null,null,null,null,null,null,null,null,null,null,"自由民主党",null,null,null,"0",null,null,null,null,null,null,null,null,null,null,"26228","26060.5","167.5","131.5","36",null,null,null,null,null,null,"3849","3821","28","21","7",null,null,null,null,null,null,"30077","29881.5","195.5","152.5","43",null,null,null,null,null,null,"参議院比例代表選出議員選挙","0",null,"02:55:00"]
[4,17,null,"01","三木　とおる",null,"02","三浦　靖",null,null,null,null,null,null,null,null,null,null,null,null,null,null,null,null,null,null,null,"自由民主党",null,null,null,"0",null,null,null,null,null,null,null,null,null,null,"26228","26060.5","167.5","131.5","36",null,null,null,null,null,null,"3849","3821","28","21","7",null,null,null,null,null,null,"30077","29881.5","195.5","152.5","43",null,null,null,null,null,null,"参議院比例代表選出議員選挙","0",null,"02:55:00"]
[4,18,null,"01","三木　とおる",null,"02","三浦　靖",null,null,null,null,null,null,null,null,null,null,null,null,null,null,null,null,null,null,null,"自由民主党",null,null,null,"0",null,null,null,null,null,null,null,null,null,null,"26228","26060.5","167.5","131.5","36",null,null,null,null,null,null,"3849","3821","28","21","7",null,null,null,null,null,null,"30077","29881.5","195.5","152.5","43",null,null,null,null,null,null,"参議院比例代表選出議員選挙","0",null,"02:55:00"]
[4,19,null,"01","三木　とおる",null,"02","三浦　靖",null,null,null,null,null,null,null,null,null,null,null,null,null,null,null,null,null,null,null,"自由民主党",null,null,null,"0",null,null,null,null,null,null,null,null,null,null,"26228","26060.5","167.5","131.5","36",null,null,null,null,null,null,"3849","3821","28","21","7",null,null,null,null,null,null,"30077","29881.5","195.5","152.5","43",null,null,null,null,null,null,"参議院比例代表選出議員選挙","0",null,"02:55:00"]
[4,20,null,"01","三木　とおる",null,"02","三浦　靖",null,null,null,null,null,null,null,null,null,null,null,null,null,null,null,null,null,null,null,"自由民主党",null,null,null,"0",null,null,null,null,null,null,null,null,null,null,"26228","26060.5","167.5","131.5","36",null,null,null,null,null,null,"3849","3821","28","21","7",null,null,null,null,null,null,"30077","29881.5","195.5","152.5","43",null,null,null,null,null,null,"参議院比例代表選出議員選挙","0",null,"02:55:00"]
[4,21,null,"01","三木　とおる",null,"02","三浦　靖",null,null,null,null,null,null,null,null,null,null,null,null,null,null,null,null,null,null,null,"自由民主党",null,null,null,"0",null,null,null,null,null,null,null,null,null,null,"26228","26060.5","167.5","131.5","36",null,null,null,null,null,null,"3849","3821","28","21","7",null,null,null,null,null,null,"30077","29881.5","195.5","152.5","43",null,null,null,null,null,null,"参議院比例代表選出議員選挙","0",null,"02:55:00"]
[4,22,null,"01","三木　とおる",null,"02","三浦　靖",null,null,null,null,null,null,null,null,null,null,null,null,null,null,null,null,null,null,null,"自由民主党",null,null,null,"0",null,null,null,null,null,null,null,null,null,null,"26228","26060.5","167.5","131.5","36",null,null,null,null,null,null,"3849","3821","28","21","7",null,null,null,null,null,null,"30077","29881.5","195.5","152.5","43",null,null,null,null,null,null,"参議院比例代表選出議員選挙","0",null,"02:55:00"]
[4,23,null,"01","三木　とおる",null,"02","三浦　靖",null,null,null,null,null,null,null,null,null,null,null,null,null,null,null,null,null,null,null,"自由民主党",null,null,null,"0",null,null,null,null,null,null,null,null,null,null,"26228","26060.5","167.5","131.5","36",null,null,null,null,null,null,"3849","3821","28","21","7",null,null,null,null,null,null,"30077","29881.5","195.5","152.5","43",null,null,null,null,null,null,"参議院比例代表選出議員選挙","0",null,"02:55:00"]
[4,24,null,"01","三木　とおる",null,"02","三浦　靖",null,null,null,null,null,null,null,null,null,null,null,null,null,null,null,null,null,null,null,"自由民主党",null,null,null,"0",null,null,null,null,null,null,null,null,null,null,"26228","26060.5","167.5","131.5","36",null,null,null,null,null,null,"3849","3821","28","21","7",null,null,null,null,null,null,"30077","29881.5","195.5","152.5","43",null,null,null,null,null,null,"参議院比例代表選出議員選挙","0",null,"02:55:00"]
[4,25,null,"01","三木　とおる",null,"02","三浦　靖",null,null,null,null,null,null,null,null,null,null,null,null,null,null,null,null,null,null,null,"自由民主党",null,null,null,"0",null,null,null,null,null,null,null,null,null,null,"26228","26060.5","167.5","131.5","36",null,null,null,null,null,null,"3849","3821","28","21","7",null,null,null,null,null,null,"30077","29881.5","195.5","152.5","43",null,null,null,null,null,null,"参議院比例代表選出議員選挙","0",null,"02:55:00"]
[4,26,null,"01","三木　とおる",null,"02","三浦　靖",null,null,null,null,null,null,null,null,null,null,null,null,null,null,null,null,null,null,null,"自由民主党",null,null,null,"0",null,null,null,null,null,null,null,null,null,null,"26228","26060.5","167.5","131.5","36",null,null,null,null,null,null,"3849","3821","28","21","7",null,null,null,null,null,null,"30077","29881.5","195.5","152.5","43",null,null,null,null,null,null,"参議院比例代表選出議員選挙","0",null,"02:55:00"]
[4,27,null,"01","三木　とおる",null,"02","三浦　靖",null,null,null,null,null,null,null,null,null,null,null,null,null,null,null,null,null,null,null,"自由民主党",null,null,null,"0",null,null,null,null,null,null,null,null,null,null,"26228","26060.5","167.5","131.5","36",null,null,null,null,null,null,"3849","3821","28","21","7",null,null,null,null,null,null,"30077","29881.5","195.5","152.5","43",null,null,null,null,null,null,"参議院比例代表選出議員選挙","0",null,"02:55:00"]
[4,28,null,"01","三木　とおる",null,"02","三浦　靖",null,null,null,null,null,null,null,null,null,null,null,null,null,null,null,null,null,null,null,"自由民主党",null,null,null,"0",null,null,null,null,null,null,null,null,null,null,"26228","26060.5","167.5","131.5","36",null,null,null,null,null,null,"3849","3821","28","21","7",null,null,null,null,null,null,"30077","29881.5","195.5","152.5","43",null,null,null,null,null,null,"参議院比例代表選出議員選挙","0",null,"02:55:00"]
[4,29,null,"01","三木　とおる",null,"02","三浦　靖",null,null,null,null,null,null,null,null,null,null,null,null,null,null,null,null,null,null,null,"自由民主党",null,null,null,"0",null,null,null,null,null,null,null,null,null,null,"26228","26060.5","167.5","131.5","36",null,null,null,null,null,null,"3849","3821","28","21","7",null,null,null,null,null,null,"30077","29881.5","195.5","152.5","43",null,null,null,null,null,null,"参議院比例代表選出議員選挙","0",null,"02:55:00"]
[4,30,null,"01","三木　とおる",null,"02","三浦　靖",null,null,null,null,null,null,null,null,null,null,null,null,null,null,null,null,null,null,null,"自由民主党",null,null,null,"0",null,null,null,null,null,null,null,null,null,null,"26228","26060.5","167.5","131.5","36",null,null,null,null,null,null,"3849","3821","28","21","7",null,null,null,null,null,null,"30077","29881.5","195.5","152.5","43",null,null,null,null,null,null,"参議院比例代表選出議員選挙","0",null,"02:55:00"]
[4,31,null,"01","三木　とおる",null,"02","三浦　靖",null,null,null,null,null,null,null,null,null,null,null,null,null,null,null,null,null,null,null,"自由民主党",null,null,null,"0",null,null,null,null,null,null,null,null,null,null,"26228","26060.5","167.5","131.5","36",null,null,null,null,null,null,"3849","3821","28","21","7",null,null,null,null,null,null,"30077","29881.5","195.5","152.5","43",null,null,null,null,null,null,"参議院比例代表選出議員選挙","0",null,"02:55:00"]
[4,32,null,"01","三木　とおる",null,"02","三浦　靖",null,null,null,null,null,null,null,null,null,null,null,null,null,null,null,null,null,null,null,"自由民主党",null,null,null,"0",null,null,null,null,null,null,null,null,null,null,"26228","26060.5","167.5","131.5","36",null,null,null,null,null,null,"3849","3821","28","21","7",null,null,null,null,null,null,"30077","29881.5","195.5","152.5","43",null,null,null,null,null,null,"参議院比例代表選出議員選挙","0",null,"02:55:00"]
[4,33,null,"01","三木　とおる",null,"02","三浦　靖",null,null,null,null,null,null,null,null,null,null,null,null,null,null,null,null,null,null,null,"自由民主党",null,null,null,"0",null,null,null,null,null,null,null,null,null,null,"26228","26060.5","167.5","131.5","36",null,null,null,null,null,null,"3849","3821","28","21","7",null,null,null,null,null,null,"30077","29881.5","195.5","152.5","43",null,null,null,null,null,null,"参議院比例代表選出議員選挙","0",null,"02:55:00"]
[4,34,null,"01","三木　とおる",null,"02","三浦　靖",null,null,null,null,null,null,null,null,null,null,null,null,null,null,null,null,null,null,null,"自由民主党",null,null,null,"0",null,null,null,null,null,null,null,null,null,null,"26228","26060.5","167.5","131.5","36",null,null,null,null,null,null,"3849","3821","28","21","7",null,null,null,null,null,null,"30077","29881.5","195.5","152.5","43",null,null,null,null,null,null,"参議院比例代表選出議員選挙","0",null,"02:55:00"]
[4,35,null,"01","三木　とおる",null,"02","三浦　靖",null,null,null,null,null,null,null,null,null,null,null,null,null,null,null,null,null,null,null,"自由民主党",null,null,null,"0",null,null,null,null,null,null,null,null,null,null,"26228","26060.5","167.5","131.5","36",null,null,null,null,null,null,"3849","3821","28","21","7",null,null,null,null,null,null,"30077","29881.5","195.5","152.5","43",null,null,null,null,null,null,"参議院比例代表選出議員選挙","0",null,"02:55:00"]
[4,36,null,"01","三木　とおる",null,"02","三浦　靖",null,null,null,null,null,null,null,null,null,null,null,null,null,null,null,null,null,null,null,"自由民主党",null,null,null,"0",null,null,null,null,null,null,null,null,null,null,"26228","26060.5","167.5","131.5","36",null,null,null,null,null,null,"3849","3821","28","21","7",null,null,null,null,null,null,"30077","29881.5","195.5","152.5","43",null,null,null,null,null,null,"参議院比例代表選出議員選挙","0",null,"02:55:00"]
[4,37,null,"01","三木　とおる",null,"02","三浦　靖",null,null,null,null,null,null,null,null,null,null,null,null,null,null,null,null,null,null,null,"自由民主党",null,null,null,"0",null,null,null,null,null,null,null,null,null,null,"26228","26060.5","167.5","131.5","36",null,null,null,null,null,null,"3849","3821","28","21","7",null,null,null,null,null,null,"30077","29881.5","195.5","152.5","43",null,null,null,null,null,null,"参議院比例代表選出議員選挙","0",null,"02:55:00"]
[4,38,null,"01","三木　とおる",null,"02","三浦　靖",null,null,null,null,null,null,null,null,null,null,null,null,null,null,null,null,null,null,null,"自由民主党",null,null,null,"0",null,null,null,null,null,null,null,null,null,null,"26228","26060.5","167.5","131.5","36",null,null,null,null,null,null,"3849","3821","28","21","7",null,null,null,null,null,null,"30077","29881.5","195.5","152.5","43",null,null,null,null,null,null,"参議院比例代表選出議員選挙","0",null,"02:55:00"]
[4,39,null,"01","三木　とおる",null,"02","三浦　靖",null,null,null,null,null,null,null,null,null,null,null,null,null,null,null,null,null,null,null,"自由民主党",null,null,null,"0",null,null,null,null,null,null,null,null,null,null,"26228","26060.5","167.5","131.5","36",null,null,null,null,null,null,"3849","3821","28","21","7",null,null,null,null,null,null,"30077","29881.5","195.5","152.5","43",null,null,null,null,null,null,"参議院比例代表選出議員選挙","0",null,"02:55:00"]
[4,40,null,"01","三木　とおる",null,"02","三浦　靖",null,null,null,null,null,null,null,null,null,null,null,null,null,null,null,null,null,null,null,"自由民主党",null,null,null,"0",null,null,null,null,null,null,null,null,null,null,"26228","26060.5","167.5","131.5","36",null,null,null,null,null,null,"3849","3821","28","21","7",null,null,null,null,null,null,"30077","29881.5","195.5","152.5","43",null,null,null,null,null,null,"参議院比例代表選出議員選挙","0",null,"02:55:00"]
[4,41,null,"01","三木　とおる",null,"02","三浦　靖",null,null,null,null,null,null,null,null,null,null,null,null,null,null,null,null,null,null,null,"自由民主党",null,null,null,"0",null,null,null,null,null,null,null,null,null,null,"26228","26060.5","167.5","131.5","36",null,null,null,null,null,null,"3849","3821","28","21","7",null,null,null,null,null,null,"30077","29881.5","195.5","152.5","43",null,null,null,null,null,null,"参議院比例代表選出議員選挙","0",null,"02:55:00"]
[4,42,null,"01","三木　とおる",null,"02","三浦　靖",null,null,null,null,null,null,null,null,null,null,null,null,null,null,null,null,null,null,null,"自由民主党",null,null,null,"0",null,null,null,null,null,null,null,null,null,null,"26228","26060.5","167.5","131.5","36",null,null,null,null,null,null,"3849","3821","28","21","7",null,null,null,null,null,null,"30077","29881.5","195.5","152.5","43",null,null,null,null,null,null,"参議院比例代表選出議員選挙","0",null,"02:55:00"]
[4,43,null,"01","三木　とおる",null,"02","三浦　靖",null,null,null,null,null,null,null,null,null,null,null,null,null,null,null,null,null,null,null,"自由民主党",null,null,null,"0",null,null,null,null,null,null,null,null,null,null,"26228","26060.5","167.5","131.5","36",null,null,null,null,null,null,"3849","3821","28","21","7",null,null,null,null,null,null,"30077","29881.5","195.5","152.5","43",null,null,null,null,null,null,"参議院比例代表選出議員選挙","0",null,"02:55:00"]
[5,1,"宇検村","01","伊藤　恵子","0",null,null,null,null,null,null,null,null,null,null,null,null,null,null,null,null,null,null,null,null,null,"労働の解放をめざす労働者党","248","248","0","0",null,null,null,null,null,null,null,null,null,null,"146508.178","146422.589","85.589","85.589",null,null,null,null,null,null,null,"24157","24151","6","6",null,null,null,null,null,null,null,"170665.178","170573.589","91.589","91.589",null,null,null,null,null,null,null,"参議院比例代表選出議員選挙","0",null,"02:55:00"]
[5,2,"瀬戸内町","01","伊藤　恵子","0",null,null,null,null,null,null,null,null,null,null,null,null,null,null,null,null,null,null,null,null,null,"労働の解放をめざす労働者党","996","996","0","0",null,null,null,null,null,null,null,null,null,null,"146508.178","146422.589","85.589","85.589",null,null,null,null,null,null,null,"24157","24151","6","6",null,null,null,null,null,null,null,"170665.178","170573.589","91.589","91.589",null,null,null,null,null,null,null,"参議院比例代表選出議員選挙","0",null,"02:55:00"]
[5,3,"龍郷町","01","伊藤　恵子","0",null,null,null,null,null,null,null,null,null,null,null,null,null,null,null,null,null,null,null,null,null,"労働の解放をめざす労働者党","605","605","0","0",null,null,null,null,null,null,null,null,null,null,"146508.178","146422.589","85.589","85.589",null,null,null,null,null,null,null,"24157","24151","6","6",null,null,null,null,null,null,null,"170665.178","170573.589","91.589","91.589",null,null,null,null,null,null,null,"参議院比例代表選出議員選挙","0",null,"02:55:00"]
[5,4,"喜界町","01","伊藤　恵子","0",null,null,null,null,null,null,null,null,null,null,null,null,null,null,null,null,null,null,null,null,null,"労働の解放をめざす労働者党","873","873","0","0",null,null,null,null,null,null,null,null,null,null,"146508.178","146422.589","85.589","85.589",null,null,null,null,null,null,null,"24157","24151","6","6",null,null,null,null,null,null,null,"170665.178","170573.589","91.589","91.589",null,null,null,null,null,null,null,"参議院比例代表選出議員選挙","0",null,"02:55:00"]
[5,5,"徳之島町","01","伊藤　恵子","0",null,null,null,null,null,null,null,null,null,null,null,null,null,null,null,null,null,null,null,null,null,"労働の解放をめざす労働者党","1356","1356","0","0",null,null,null,null,null,null,null,null,null,null,"146508.178","146422.589","85.589","85.589",null,null,null,null,null,null,null,"24157","24151","6","6",null,null,null,null,null,null,null,"170665.178","170573.589","91.589","91.589",null,null,null,null,null,null,null,"参議院比例代表選出議員選挙","0",null,"02:55:00"]
[5,6,"天城町","01","伊藤　恵子","1",null,null,null,null,null,null,null,null,null,null,null,null,null,null,null,null,null,null,null,null,null,"労働の解放をめざす労働者党","656","655","1","0",null,null,null,null,null,null,null,null,null,null,"146508.178","146422.589","85.589","85.589",null,null,null,null,null,null,null,"24157","24151","6","6",null,null,null,null,null,null,null,"170665.178","170573.589","91.589","91.589",null,null,null,null,null,null,null,"参議院比例代表選出議員選挙","0",null,"02:55:00"]
[5,7,"伊仙町","01","伊藤　恵子","0",null,null,null,null,null,null,null,null,null,null,null,null,null,null,null,null,null,null,null,null,null,"労働の解放をめざす労働者党","642","642","0","0",null,null,null,null,null,null,null,null,null,null,"146508.178","146422.589","85.589","85.589",null,null,null,null,null,null,null,"24157","24151","6","6",null,null,null,null,null,null,null,"170665.178","170573.589","91.589","91.589",null,null,null,null,null,null,null,"参議院比例代表選出議員選挙","0",null,"02:55:00"]
[5,8,"和泊町","01","伊藤　恵子","0",null,null,null,null,null,null,null,null,null,null,null,null,null,null,null,null,null,null,null,null,null,"労働の解放をめざす労働者党","764","764","0","0",null,null,null,null,null,null,null,null,null,null,"146508.178","146422.589","85.589","85.589",null,null,null,null,null,null,null,"24157","24151","6","6",null,null,null,null,null,null,null,"170665.178","170573.589","91.589","91.589",null,null,null,null,null,null,null,"参議院比例代表選出議員選挙","0",null,"02:55:00"]
[5,9,"知名町","01","伊藤　恵子","0",null,null,null,null,null,null,null,null,null,null,null,null,null,null,null,null,null,null,null,null,null,"労働の解放をめざす労働者党","578","578","0","0",null,null,null,null,null,null,null,null,null,null,"146508.178","146422.589","85.589","85.589",null,null,null,null,null,null,null,"24157","24151","6","6",null,null,null,null,null,null,null,"170665.178","170573.589","91.589","91.589",null,null,null,null,null,null,null,"参議院比例代表選出議員選挙","0",null,"02:55:00"]
[5,10,"与論町","01","伊藤　恵子","0",null,null,null,null,null,null,null,null,null,null,null,null,null,null,null,null,null,null,null,null,null,"労働の解放をめざす労働者党","702","702","0","0",null,null,null,null,null,null,null,null,null,null,"146508.178","146422.589","85.589","85.589",null,null,null,null,null,null,null,"24157","24151","6","6",null,null,null,null,null,null,null,"170665.178","170573.589","91.589","91.589",null,null,null,null,null,null,null,"参議院比例代表選出議員選挙","0",null,"02:55:00"]
[5,11,"＊（大島郡）計","01","伊藤　恵子","1",null,null,null,null,null,null,null,null,null,null,null,null,null,null,null,null,null,null,null,null,null,"労働の解放をめざす労働者党","7560","7559","1","0",null,null,null,null,null,null,null,null,null,null,"146508.178","146422.589","85.589","85.589",null,null,null,null,null,null,null,"24157","24151","6","6",null,null,null,null,null,null,null,"170665.178","170573.589","91.589","91.589",null,null,null,null,null,null,null,"参議院比例代表選出議員選挙","0",null,"02:55:00"]
[5,12,null,"01","伊藤　恵子",null,null,null,null,null,null,null,null,null,null,null,null,null,null,null,null,null,null,null,null,null,null,"労働の解放をめざす労働者党",null,null,null,"0",null,null,null,null,null,null,null,null,null,null,"146508.178","146422.589","85.589","85.589",null,null,null,null,null,null,null,"24157","24151","6","6",null,null,null,null,null,null,null,"170665.178","170573.589","91.589","91.589",null,null,null,null,null,null,null,"参議院比例代表選出議員選挙","0",null,"02:55:00"]
[5,13,null,"01","伊藤　恵子",null,null,null,null,null,null,null,null,null,null,null,null,null,null,null,null,null,null,null,null,null,null,"労働の解放をめざす労働者党",null,null,null,"0",null,null,null,null,null,null,null,null,null,null,"146508.178","146422.589","85.589","85.589",null,null,null,null,null,null,null,"24157","24151","6","6",null,null,null,null,null,null,null,"170665.178","170573.589","91.589","91.589",null,null,null,null,null,null,null,"参議院比例代表選出議員選挙","0",null,"02:55:00"]
[5,14,null,"01","伊藤　恵子",null,null,null,null,null,null,null,null,null,null,null,null,null,null,null,null,null,null,null,null,null,null,"労働の解放をめざす労働者党",null,null,null,"0",null,null,null,null,null,null,null,null,null,null,"146508.178","146422.589","85.589","85.589",null,null,null,null,null,null,null,"24157","24151","6","6",null,null,null,null,null,null,null,"170665.178","170573.589","91.589","91.589",null,null,null,null,null,null,null,"参議院比例代表選出議員選挙","0",null,"02:55:00"]
[5,15,null,"01","伊藤　恵子",null,null,null,null,null,null,null,null,null,null,null,null,null,null,null,null,null,null,null,null,null,null,"労働の解放をめざす労働者党",null,null,null,"0",null,null,null,null,null,null,null,null,null,null,"146508.178","146422.589","85.589","85.589",null,null,null,null,null,null,null,"24157","24151","6","6",null,null,null,null,null,null,null,"170665.178","170573.589","91.589","91.589",null,null,null,null,null,null,null,"参議院比例代表選出議員選挙","0",null,"02:55:00"]
[5,16,null,"01","伊藤　恵子",null,null,null,null,null,null,null,null,null,null,null,null,null,null,null,null,null,null,null,null,null,null,"労働の解放をめざす労働者党",null,null,null,"0",null,null,null,null,null,null,null,null,null,null,"146508.178","146422.589","85.589","85.589",null,null,null,null,null,null,null,"24157","24151","6","6",null,null,null,null,null,null,null,"170665.178","170573.589","91.589","91.589",null,null,null,null,null,null,null,"参議院比例代表選出議員選挙","0",null,"02:55:00"]
[5,17,null,"01","伊藤　恵子",null,null,null,null,null,null,null,null,null,null,null,null,null,null,null,null,null,null,null,null,null,null,"労働の解放をめざす労働者党",null,null,null,"0",null,null,null,null,null,null,null,null,null,null,"146508.178","146422.589","85.589","85.589",null,null,null,null,null,null,null,"24157","24151","6","6",null,null,null,null,null,null,null,"170665.178","170573.589","91.589","91.589",null,null,null,null,null,null,null,"参議院比例代表選出議員選挙","0",null,"02:55:00"]
[5,18,null,"01","伊藤　恵子",null,null,null,null,null,null,null,null,null,null,null,null,null,null,null,null,null,null,null,null,null,null,"労働の解放をめざす労働者党",null,null,null,"0",null,null,null,null,null,null,null,null,null,null,"146508.178","146422.589","85.589","85.589",null,null,null,null,null,null,null,"24157","24151","6","6",null,null,null,null,null,null,null,"170665.178","170573.589","91.589","91.589",null,null,null,null,null,null,null,"参議院比例代表選出議員選挙","0",null,"02:55:00"]
[5,19,null,"01","伊藤　恵子",null,null,null,null,null,null,null,null,null,null,null,null,null,null,null,null,null,null,null,null,null,null,"労働の解放をめざす労働者党",null,null,null,"0",null,null,null,null,null,null,null,null,null,null,"146508.178","146422.589","85.589","85.589",null,null,null,null,null,null,null,"24157","24151","6","6",null,null,null,null,null,null,null,"170665.178","170573.589","91.589","91.589",null,null,null,null,null,null,null,"参議院比例代表選出議員選挙","0",null,"02:55:00"]
[5,20,null,"01","伊藤　恵子",null,null,null,null,null,null,null,null,null,null,null,null,null,null,null,null,null,null,null,null,null,null,"労働の解放をめざす労働者党",null,null,null,"0",null,null,null,null,null,null,null,null,null,null,"146508.178","146422.589","85.589","85.589",null,null,null,null,null,null,null,"24157","24151","6","6",null,null,null,null,null,null,null,"170665.178","170573.589","91.589","91.589",null,null,null,null,null,null,null,"参議院比例代表選出議員選挙","0",null,"02:55:00"]
[5,21,null,"01","伊藤　恵子",null,null,null,null,null,null,null,null,null,null,null,null,null,null,null,null,null,null,null,null,null,null,"労働の解放をめざす労働者党",null,null,null,"0",null,null,null,null,null,null,null,null,null,null,"146508.178","146422.589","85.589","85.589",null,null,null,null,null,null,null,"24157","24151","6","6",null,null,null,null,null,null,null,"170665.178","170573.589","91.589","91.589",null,null,null,null,null,null,null,"参議院比例代表選出議員選挙","0",null,"02:55:00"]
[5,22,null,"01","伊藤　恵子",null,null,null,null,null,null,null,null,null,null,null,null,null,null,null,null,null,null,null,null,null,null,"労働の解放をめざす労働者党",null,null,null,"0",null,null,null,null,null,null,null,null,null,null,"146508.178","146422.589","85.589","85.589",null,null,null,null,null,null,null,"24157","24151","6","6",null,null,null,null,null,null,null,"170665.178","170573.589","91.589","91.589",null,null,null,null,null,null,null,"参議院比例代表選出議員選挙","0",null,"02:55:00"]
[5,23,null,"01","伊藤　恵子",null,null,null,null,null,null,null,null,null,null,null,null,null,null,null,null,null,null,null,null,null,null,"労働の解放をめざす労働者党",null,null,null,"0",null,null,null,null,null,null,null,null,null,null,"146508.178","146422.589","85.589","85.589",null,null,null,null,null,null,null,"24157","24151","6","6",null,null,null,null,null,null,null,"170665.178","170573.589","91.589","91.589",null,null,null,null,null,null,null,"参議院比例代表選出議員選挙","0",null,"02:55:00"]
[5,24,null,"01","伊藤　恵子",null,null,null,null,null,null,null,null,null,null,null,null,null,null,null,null,null,null,null,null,null,null,"労働の解放をめざす労働者党",null,null,null,"0",null,null,null,null,null,null,null,null,null,null,"146508.178","146422.589","85.589","85.589",null,null,null,null,null,null,null,"24157","24151","6","6",null,null,null,null,null,null,null,"170665.178","170573.589","91.589","91.589",null,null,null,null,null,null,null,"参議院比例代表選出議員選挙","0",null,"02:55:00"]
[5,25,null,"01","伊藤　恵子",null,null,null,null,null,null,null,null,null,null,null,null,null,null,null,null,null,null,null,null,null,null,"労働の解放をめざす労働者党",null,null,null,"0",null,null,null,null,null,null,null,null,null,null,"146508.178","146422.589","85.589","85.589",null,null,null,null,null,null,null,"24157","24151","6","6",null,null,null,null,null,null,null,"170665.178","170573.589","91.589","91.589",null,null,null,null,null,null,null,"参議院比例代表選出議員選挙","0",null,"02:55:00"]
[5,26,null,"01","伊藤　恵子",null,null,null,null,null,null,null,null,null,null,null,null,null,null,null,null,null,null,null,null,null,null,"労働の解放をめざす労働者党",null,null,null,"0",null,null,null,null,null,null,null,null,null,null,"146508.178","146422.589","85.589","85.589",null,null,null,null,null,null,null,"24157","24151","6","6",null,null,null,null,null,null,null,"170665.178","170573.589","91.589","91.589",null,null,null,null,null,null,null,"参議院比例代表選出議員選挙","0",null,"02:55:00"]
[5,27,null,"01","伊藤　恵子",null,null,null,null,null,null,null,null,null,null,null,null,null,null,null,null,null,null,null,null,null,null,"労働の解放をめざす労働者党",null,null,null,"0",null,null,null,null,null,null,null,null,null,null,"146508.178","146422.589","85.589","85.589",null,null,null,null,null,null,null,"24157","24151","6","6",null,null,null,null,null,null,null,"170665.178","170573.589","91.589","91.589",null,null,null,null,null,null,null,"参議院比例代表選出議員選挙","0",null,"02:55:00"]
[5,28,null,"01","伊藤　恵子",null,null,null,null,null,null,null,null,null,null,null,null,null,null,null,null,null,null,null,null,null,null,"労働の解放をめざす労働者党",null,null,null,"0",null,null,null,null,null,null,null,null,null,null,"146508.178","146422.589","85.589","85.589",null,null,null,null,null,null,null,"24157","24151","6","6",null,null,null,null,null,null,null,"170665.178","170573.589","91.589","91.589",null,null,null,null,null,null,null,"参議院比例代表選出議員選挙","0",null,"02:55:00"]
[5,29,null,"01","伊藤　恵子",null,null,null,null,null,null,null,null,null,null,null,null,null,null,null,null,null,null,null,null,null,null,"労働の解放をめざす労働者党",null,null,null,"0",null,null,null,null,null,null,null,null,null,null,"146508.178","146422.589","85.589","85.589",null,null,null,null,null,null,null,"24157","24151","6","6",null,null,null,null,null,null,null,"170665.178","170573.589","91.589","91.589",null,null,null,null,null,null,null,"参議院比例代表選出議員選挙","0",null,"02:55:00"]
[5,30,null,"01","伊藤　恵子",null,null,null,null,null,null,null,null,null,null,null,null,null,null,null,null,null,null,null,null,null,null,"労働の解放をめざす労働者党",null,null,null,"0",null,null,null,null,null,null,null,null,null,null,"146508.178","146422.589","85.589","85.589",null,null,null,null,null,null,null,"24157","24151","6","6",null,null,null,null,null,null,null,"170665.178","170573.589","91.589","91.589",null,null,null,null,null,null,null,"参議院比例代表選出議員選挙","0",null,"02:55:00"]
[5,31,null,"01","伊藤　恵子",null,null,null,null,null,null,null,null,null,null,null,null,null,null,null,null,null,null,null,null,null,null,"労働の解放をめざす労働者党",null,null,null,"0",null,null,null,null,null,null,null,null,null,null,"146508.178","146422.589","85.589","85.589",null,null,null,null,null,null,null,"24157","24151","6","6",null,null,null,null,null,null,null,"170665.178","170573.589","91.589","91.589",null,null,null,null,null,null,null,"参議院比例代表選出議員選挙","0",null,"02:55:00"]
[5,32,null,"01","伊藤　恵子",null,null,null,null,null,null,null,null,null,null,null,null,null,null,null,null,null,null,null,null,null,null,"労働の解放をめざす労働者党",null,null,null,"0",null,null,null,null,null,null,null,null,null,null,"146508.178","146422.589","85.589","85.589",null,null,null,null,null,null,null,"24157","24151","6","6",null,null,null,null,null,null,null,"170665.178","170573.589","91.589","91.589",null,null,null,null,null,null,null,"参議院比例代表選出議員選挙","0",null,"02:55:00"]
[5,33,null,"01","伊藤　恵子",null,null,null,null,null,null,null,null,null,null,null,null,null,null,null,null,null,null,null,null,null,null,"労働の解放をめざす労働者党",null,null,null,"0",null,null,null,null,null,null,null,null,null,null,"146508.178","146422.589","85.589","85.589",null,null,null,null,null,null,null,"24157","24151","6","6",null,null,null,null,null,null,null,"170665.178","170573.589","91.589","91.589",null,null,null,null,null,null,null,"参議院比例代表選出議員選挙","0",null,"02:55:00"]
[5,34,null,"01","伊藤　恵子",null,null,null,null,null,null,null,null,null,null,null,null,null,null,null,null,null,null,null,null,null,null,"労働の解放をめざす労働者党",null,null,null,"0",null,null,null,null,null,null,null,null,null,null,"146508.178","146422.589","85.589","85.589",null,null,null,null,null,null,null,"24157","24151","6","6",null,null,null,null,null,null,null,"170665.178","170573.589","91.589","91.589",null,null,null,null,null,null,null,"参議院比例代表選出議員選挙","0",null,"02:55:00"]
[5,35,null,"01","伊藤　恵子",null,null,null,null,null,null,null,null,null,null,null,null,null,null,null,null,null,null,null,null,null,null,"労働の解放をめざす労働者党",null,null,null,"0",null,null,null,null,null,null,null,null,null,null,"146508.178","146422.589","85.589","85.589",null,null,null,null,null,null,null,"24157","24151","6","6",null,null,null,null,null,null,null,"170665.178","170573.589","91.589","91.589",null,null,null,null,null,null,null,"参議院比例代表選出議員選挙","0",null,"02:55:00"]
[5,36,null,"01","伊藤　恵子",null,null,null,null,null,null,null,null,null,null,null,null,null,null,null,null,null,null,null,null,null,null,"労働の解放をめざす労働者党",null,null,null,"0",null,null,null,null,null,null,null,null,null,null,"146508.178","146422.589","85.589","85.589",null,null,null,null,null,null,null,"24157","24151","6","6",null,null,null,null,null,null,null,"170665.178","170573.589","91.589","91.589",null,null,null,null,null,null,null,"参議院比例代表選出議員選挙","0",null,"02:55:00"]
[5,37,null,"01","伊藤　恵子",null,null,null,null,null,null,null,null,null,null,null,null,null,null,null,null,null,null,null,null,null,null,"労働の解放をめざす労働者党",null,null,null,"0",null,null,null,null,null,null,null,null,null,null,"146508.178","146422.589","85.589","85.589",null,null,null,null,null,null,null,"24157","24151","6","6",null,null,null,null,null,null,null,"170665.178","170573.589","91.589","91.589",null,null,null,null,null,null,null,"参議院比例代表選出議員選挙","0",null,"02:55:00"]
[5,38,null,"01","伊藤　恵子",null,null,null,null,null,null,null,null,null,null,null,null,null,null,null,null,null,null,null,null,null,null,"労働の解放をめざす労働者党",null,null,null,"0",null,null,null,null,null,null,null,null,null,null,"146508.178","146422.589","85.589","85.589",null,null,null,null,null,null,null,"24157","24151","6","6",null,null,null,null,null,null,null,"170665.178","170573.589","91.589","91.589",null,null,null,null,null,null,null,"参議院比例代表選出議員選挙","0",null,"02:55:00"]
[5,39,null,"01","伊藤　恵子",null,null,null,null,null,null,null,null,null,null,null,null,null,null,null,null,null,null,null,null,null,null,"労働の解放をめざす労働者党",null,null,null,"0",null,null,null,null,null,null,null,null,null,null,"146508.178","146422.589","85.589","85.589",null,null,null,null,null,null,null,"24157","24151","6","6",null,null,null,null,null,null,null,"170665.178","170573.589","91.589","91.589",null,null,null,null,null,null,null,"参議院比例代表選出議員選挙","0",null,"02:55:00"]
[5,40,null,"01","伊藤　恵子",null,null,null,null,null,null,null,null,null,null,null,null,null,null,null,null,null,null,null,null,null,null,"労働の解放をめざす労働者党",null,null,null,"0",null,null,null,null,null,null,null,null,null,null,"146508.178","146422.589","85.589","85.589",null,null,null,null,null,null,null,"24157","24151","6","6",null,null,null,null,null,null,null,"170665.178","170573.589","91.589","91.589",null,null,null,null,null,null,null,"参議院比例代表選出議員選挙","0",null,"02:55:00"]
[5,41,null,"01","伊藤　恵子",null,null,null,null,null,null,null,null,null,null,null,null,null,null,null,null,null,null,null,null,null,null,"労働の解放をめざす労働者党",null,null,null,"0",null,null,null,null,null,null,null,null,null,null,"146508.178","146422.589","85.589","85.589",null,null,null,null,null,null,null,"24157","24151","6","6",null,null,null,null,null,null,null,"170665.178","170573.589","91.589","91.589",null,null,null,null,null,null,null,"参議院比例代表選出議員選挙","0",null,"02:55:00"]
[5,42,null,"01","伊藤　恵子",null,null,null,null,null,null,null,null,null,null,null,null,null,null,null,null,null,null,null,null,null,null,"労働の解放をめざす労働者党",null,null,null,"0",null,null,null,null,null,null,null,null,null,null,"146508.178","146422.589","85.589","85.589",null,null,null,null,null,null,null,"24157","24151","6","6",null,null,null,null,null,null,null,"170665.178","170573.589","91.589","91.589",null,null,null,null,null,null,null,"参議院比例代表選出議員選挙","0",null,"02:55:00"]
[5,43,null,"01","伊藤　恵子",null,null,null,null,null,null,null,null,null,null,null,null,null,null,null,null,null,null,null,null,null,null,"労働の解放をめざす労働者党",null,null,null,"0",null,null,null,null,null,null,null,null,null,null,"146508.178","146422.589","85.589","85.589",null,null,null,null,null,null,null,"24157","24151","6","6",null,null,null,null,null,null,null,"170665.178","170573.589","91.589","91.589",null,null,null,null,null,null,null,"参議院比例代表選出議員選挙","0",null,"02:55:00"]
[6,1,"宇検村","01","ふなご　やすひこ","0","02","木村　英子","0",null,null,null,null,null,null,null,null,null,null,null,null,null,null,null,null,null,null,"れいわ新選組","4","4","0","0",null,null,null,null,null,null,null,null,null,null,"1587.128","1451.564","135.564","51","84.564",null,null,null,null,null,null,"318.136","291.568","26.568","6","20.568",null,null,null,null,null,null,"1905.264","1743.132","162.132","57","105.132",null,null,null,null,null,null,"参議院比例代表選出議員選挙","0",null,"02:55:00"]
[6,2,"瀬戸内町","01","ふなご　やすひこ","0","02","木村　英子","3",null,null,null,null,null,null,null,null,null,null,null,null,null,null,null,null,null,null,"れいわ新選組","14","11","3","0",null,null,null,null,null,null,null,null,null,null,"1587.128","1451.564","135.564","51","84.564",null,null,null,null,null,null,"318.136","291.568","26.568","6","20.568",null,null,null,null,null,null,"1905.264","1743.132","162.132","57","105.132",null,null,null,null,null,null,"参議院比例代表選出議員選挙","0",null,"02:55:00"]
[6,3,"龍郷町","01","ふなご　やすひこ","0","02","木村　英子","1",null,null,null,null,null,null,null,null,null,null,null,null,null,null,null,null,null,null,"れいわ新選組","8","7","1","0",null,null,null,null,null,null,null,null,null,null,"1587.128","1451.564","135.564","51","84.564",null,null,null,null,null,null,"318.136","291.568","26.568","6","20.568",null,null,null,null,null,null,"1905.264","1743.132","162.132","57","105.132",null,null,null,null,null,null,"参議院比例代表選出議員選挙","0",null,"02:55:00"]
[6,4,"喜界町","01","ふなご　やすひこ","0","02","木村　英子","1.5",null,null,null,null,null,null,null,null,null,null,null,null,null,null,null,null,null,null,"れいわ新選組","7","5.5","1.5","0",null,null,null,null,null,null,null,null,null,null,"1587.128","1451.564","135.564","51","84.564",null,null,null,null,null,null,"318.136","291.568","26.568","6","20.568",null,null,null,null,null,null,"1905.264","1743.132","162.132","57","105.132",null,null,null,null,null,null,"参議院比例代表選出議員選挙","0",null,"02:55:00"]
[6,5,"徳之島町","01","ふなご　やすひこ","0","02","木村　英子","0",null,null,null,null,null,null,null,null,null,null,null,null,null,null,null,null,null,null,"れいわ新選組","21","21","0","0",null,null,null,null,null,null,null,null,null,null,"1587.128","1451.564","135.564","51","84.564",null,null,null,null,null,null,"318.136","291.568","26.568","6","20.568",null,null,null,null,null,null,"1905.264","1743.132","162.132","57","105.132",null,null,null,null,null,null,"参議院比例代表選出議員選挙","0",null,"02:55:00"]
[6,6,"天城町","01","ふなご　やすひこ","0","02","木村　英子","0",null,null,null,null,null,null,null,null,null,null,null,null,null,null,null,null,null,null,"れいわ新選組","8","8","0","0",null,null,null,null,null,null,null,null,null,null,"1587.128","1451.564","135.564","51","84.564",null,null,null,null,null,null,"318.136","291.568","26.568","6","20.568",null,null,null,null,null,null,"1905.264","1743.132","162.132","57","105.132",null,null,null,null,null,null,"参議院比例代表選出議員選挙","0",null,"02:55:00"]
[6,7,"伊仙町","01","ふなご　やすひこ","0","02","木村　英子","1.25",null,null,null,null,null,null,null,null,null,null,null,null,null,null,null,null,null,null,"れいわ新選組","6.5","5.25","1.25","0",null,null,null,null,null,null,null,null,null,null,"1587.128","1451.564","135.564","51","84.564",null,null,null,null,null,null,"318.136","291.568","26.568","6","20.568",null,null,null,null,null,null,"1905.264","1743.132","162.132","57","105.132",null,null,null,null,null,null,"参議院比例代表選出議員選挙","0",null,"02:55:00"]
[6,8,"和泊町","01","ふなご　やすひこ","0","02","木村　英子","0",null,null,null,null,null,null,null,null,null,null,null,null,null,null,null,null,null,null,"れいわ新選組","17","17","0","0",null,null,null,null,null,null,null,null,null,null,"1587.128","1451.564","135.564","51","84.564",null,null,null,null,null,null,"318.136","291.568","26.568","6","20.568",null,null,null,null,null,null,"1905.264","1743.132","162.132","57","105.132",null,null,null,null,null,null,"参議院比例代表選出議員選挙","0",null,"02:55:00"]
[6,9,"知名町","01","ふなご　やすひこ","0","02","木村　英子","1.105",null,null,null,null,null,null,null,null,null,null,null,null,null,null,null,null,null,null,"れいわ新選組","21.21","20.105","1.105","0",null,null,null,null,null,null,null,null,null,null,"1587.128","1451.564","135.564","51","84.564",null,null,null,null,null,null,"318.136","291.568","26.568","6","20.568",null,null,null,null,null,null,"1905.264","1743.132","162.132","57","105.132",null,null,null,null,null,null,"参議院比例代表選出議員選挙","0",null,"02:55:00"]
[6,10,"与論町","01","ふなご　やすひこ","1","02","木村　英子","1",null,null,null,null,null,null,null,null,null,null,null,null,null,null,null,null,null,null,"れいわ新選組","14","12","2","0",null,null,null,null,null,null,null,null,null,null,"1587.128","1451.564","135.564","51","84.564",null,null,null,null,null,null,"318.136","291.568","26.568","6","20.568",null,null,null,null,null,null,"1905.264","1743.132","162.132","57","105.132",null,null,null,null,null,null,"参議院比例代表選出議員選挙","0",null,"02:55:00"]
[6,11,"＊（大島郡）計","01","ふなご　やすひこ","1","02","木村　英子","8.855",null,null,null,null,null,null,null,null,null,null,null,null,null,null,null,null,null,null,"れいわ新選組","123.71","113.855","9.855","0",null,null,null,null,null,null,null,null,null,null,"1587.128","1451.564","135.564","51","84.564",null,null,null,null,null,null,"318.136","291.568","26.568","6","20.568",null,null,null,null,null,null,"1905.264","1743.132","162.132","57","105.132",null,null,null,null,null,null,"参議院比例代表選出議員選挙","0",null,"02:55:00"]
[6,12,null,"01","ふなご　やすひこ",null,"02","木村　英子",null,null,null,null,null,null,null,null,null,null,null,null,null,null,null,null,null,null,null,"れいわ新選組",null,null,null,"0",null,null,null,null,null,null,null,null,null,null,"1587.128","1451.564","135.564","51","84.564",null,null,null,null,null,null,"318.136","291.568","26.568","6","20.568",null,null,null,null,null,null,"1905.264","1743.132","162.132","57","105.132",null,null,null,null,null,null,"参議院比例代表選出議員選挙","0",null,"02:55:00"]
[6,13,null,"01","ふなご　やすひこ",null,"02","木村　英子",null,null,null,null,null,null,null,null,null,null,null,null,null,null,null,null,null,null,null,"れいわ新選組",null,null,null,"0",null,null,null,null,null,null,null,null,null,null,"1587.128","1451.564","135.564","51","84.564",null,null,null,null,null,null,"318.136","291.568","26.568","6","20.568",null,null,null,null,null,null,"1905.264","1743.132","162.132","57","105.132",null,null,null,null,null,null,"参議院比例代表選出議員選挙","0",null,"02:55:00"]
[6,14,null,"01","ふなご　やすひこ",null,"02","木村　英子",null,null,null,null,null,null,null,null,null,null,null,null,null,null,null,null,null,null,null,"れいわ新選組",null,null,null,"0",null,null,null,null,null,null,null,null,null,null,"1587.128","1451.564","135.564","51","84.564",null,null,null,null,null,null,"318.136","291.568","26.568","6","20.568",null,null,null,null,null,null,"1905.264","1743.132","162.132","57","105.132",null,null,null,null,null,null,"参議院比例代表選出議員選挙","0",null,"02:55:00"]
[6,15,null,"01","ふなご　やすひこ",null,"02","木村　英子",null,null,null,null,null,null,null,null,null,null,null,null,null,null,null,null,null,null,null,"れいわ新選組",null,null,null,"0",null,null,null,null,null,null,null,null,null,null,"1587.128","1451.564","135.564","51","84.564",null,null,null,null,null,null,"318.136","291.568","26.568","6","20.568",null,null,null,null,null,null,"1905.264","1743.132","162.132","57","105.132",null,null,null,null,null,null,"参議院比例代表選出議員選挙","0",null,"02:55:00"]
[6,16,null,"01","ふなご　やすひこ",null,"02","木村　英子",null,null,null,null,null,null,null,null,null,null,null,null,null,null,null,null,null,null,null,"れいわ新選組",null,null,null,"0",null,null,null,null,null,null,null,null,null,null,"1587.128","1451.564","135.564","51","84.564",null,null,null,null,null,null,"318.136","291.568","26.568","6","20.568",null,null,null,null,null,null,"1905.264","1743.132","162.132","57","105.132",null,null,null,null,null,null,"参議院比例代表選出議員選挙","0",null,"02:55:00"]
[6,17,null,"01","ふなご　やすひこ",null,"02","木村　英子",null,null,null,null,null,null,null,null,null,null,null,null,null,null,null,null,null,null,null,"れいわ新選組",null,null,null,"0",null,null,null,null,null,null,null,null,null,null,"1587.128","1451.564","135.564","51","84.564",null,null,null,null,null,null,"318.136","291.568","26.568","6","20.568",null,null,null,null,null,null,"1905.264","1743.132","162.132","57","105.132",null,null,null,null,null,null,"参議院比例代表選出議員選挙","0",null,"02:55:00"]
[6,18,null,"01","ふなご　やすひこ",null,"02","木村　英子",null,null,null,null,null,null,null,null,null,null,null,null,null,null,null,null,null,null,null,"れいわ新選組",null,null,null,"0",null,null,null,null,null,null,null,null,null,null,"1587.128","1451.564","135.564","51","84.564",null,null,null,null,null,null,"318.136","291.568","26.568","6","20.568",null,null,null,null,null,null,"1905.264","1743.132","162.132","57","105.132",null,null,null,null,null,null,"参議院比例代表選出議員選挙","0",null,"02:55:00"]
[6,19,null,"01","ふなご　やすひこ",null,"02","木村　英子",null,null,null,null,null,null,null,null,null,null,null,null,null,null,null,null,null,null,null,"れいわ新選組",null,null,null,"0",null,null,null,null,null,null,null,null,null,null,"1587.128","1451.564","135.564","51","84.564",null,null,null,null,null,null,"318.136","291.568","26.568","6","20.568",null,null,null,null,null,null,"1905.264","1743.132","162.132","57","105.132",null,null,null,null,null,null,"参議院比例代表選出議員選挙","0",null,"02:55:00"]
[6,20,null,"01","ふなご　やすひこ",null,"02","木村　英子",null,null,null,null,null,null,null,null,null,null,null,null,null,null,null,null,null,null,null,"れいわ新選組",null,null,null,"0",null,null,null,null,null,null,null,null,null,null,"1587.128","1451.564","135.564","51","84.564",null,null,null,null,null,null,"318.136","291.568","26.568","6","20.568",null,null,null,null,null,null,"1905.264","1743.132","162.132","57","105.132",null,null,null,null,null,null,"参議院比例代表選出議員選挙","0",null,"02:55:00"]
[6,21,null,"01","ふなご　やすひこ",null,"02","木村　英子",null,null,null,null,null,null,null,null,null,null,null,null,null,null,null,null,null,null,null,"れいわ新選組",null,null,null,"0",null,null,null,null,null,null,null,null,null,null,"1587.128","1451.564","135.564","51","84.564",null,null,null,null,null,null,"318.136","291.568","26.568","6","20.568",null,null,null,null,null,null,"1905.264","1743.132","162.132","57","105.132",null,null,null,null,null,null,"参議院比例代表選出議員選挙","0",null,"02:55:00"]
[6,22,null,"01","ふなご　やすひこ",null,"02","木村　英子",null,null,null,null,null,null,null,null,null,null,null,null,null,null,null,null,null,null,null,"れいわ新選組",null,null,null,"0",null,null,null,null,null,null,null,null,null,null,"1587.128","1451.564","135.564","51","84.564",null,null,null,null,null,null,"318.136","291.568","26.568","6","20.568",null,null,null,null,null,null,"1905.264","1743.132","162.132","57","105.132",null,null,null,null,null,null,"参議院比例代表選出議員選挙","0",null,"02:55:00"]
[6,23,null,"01","ふなご　やすひこ",null,"02","木村　英子",null,null,null,null,null,null,null,null,null,null,null,null,null,null,null,null,null,null,null,"れいわ新選組",null,null,null,"0",null,null,null,null,null,null,null,null,null,null,"1587.128","1451.564","135.564","51","84.564",null,null,null,null,null,null,"318.136","291.568","26.568","6","20.568",null,null,null,null,null,null,"1905.264","1743.132","162.132","57","105.132",null,null,null,null,null,null,"参議院比例代表選出議員選挙","0",null,"02:55:00"]
[6,24,null,"01","ふなご　やすひこ",null,"02","木村　英子",null,null,null,null,null,null,null,null,null,null,null,null,null,null,null,null,null,null,null,"れいわ新選組",null,null,null,"0",null,null,null,null,null,null,null,null,null,null,"1587.128","1451.564","135.564","51","84.564",null,null,null,null,null,null,"318.136","291.568","26.568","6","20.568",null,null,null,null,null,null,"1905.264","1743.132","162.132","57","105.132",null,null,null,null,null,null,"参議院比例代表選出議員選挙","0",null,"02:55:00"]
[6,25,null,"01","ふなご　やすひこ",null,"02","木村　英子",null,null,null,null,null,null,null,null,null,null,null,null,null,null,null,null,null,null,null,"れいわ新選組",null,null,null,"0",null,null,null,null,null,null,null,null,null,null,"1587.128","1451.564","135.564","51","84.564",null,null,null,null,null,null,"318.136","291.568","26.568","6","20.568",null,null,null,null,null,null,"1905.264","1743.132","162.132","57","105.132",null,null,null,null,null,null,"参議院比例代表選出議員選挙","0",null,"02:55:00"]
[6,26,null,"01","ふなご　やすひこ",null,"02","木村　英子",null,null,null,null,null,null,null,null,null,null,null,null,null,null,null,null,null,null,null,"れいわ新選組",null,null,null,"0",null,null,null,null,null,null,null,null,null,null,"1587.128","1451.564","135.564","51","84.564",null,null,null,null,null,null,"318.136","291.568","26.568","6","20.568",null,null,null,null,null,null,"1905.264","1743.132","162.132","57","105.132",null,null,null,null,null,null,"参議院比例代表選出議員選挙","0",null,"02:55:00"]
[6,27,null,"01","ふなご　やすひこ",null,"02","木村　英子",null,null,null,null,null,null,null,null,null,null,null,null,null,null,null,null,null,null,null,"れいわ新選組",null,null,null,"0",null,null,null,null,null,null,null,null,null,null,"1587.128","1451.564","135.564","51","84.564",null,null,null,null,null,null,"318.136","291.568","26.568","6","20.568",null,null,null,null,null,null,"1905.264","1743.132","162.132","57","105.132",null,null,null,null,null,null,"参議院比例代表選出議員選挙","0",null,"02:55:00"]
[6,28,null,"01","ふなご　やすひこ",null,"02","木村　英子",null,null,null,null,null,null,null,null,null,null,null,null,null,null,null,null,null,null,null,"れいわ新選組",null,null,null,"0",null,null,null,null,null,null,null,null,null,null,"1587.128","1451.564","135.564","51","84.564",null,null,null,null,null,null,"318.136","291.568","26.568","6","20.568",null,null,null,null,null,null,"1905.264","1743.132","162.132","57","105.132",null,null,null,null,null,null,"参議院比例代表選出議員選挙","0",null,"02:55:00"]
[6,29,null,"01","ふなご　やすひこ",null,"02","木村　英子",null,null,null,null,null,null,null,null,null,null,null,null,null,null,null,null,null,null,null,"れいわ新選組",null,null,null,"0",null,null,null,null,null,null,null,null,null,null,"1587.128","1451.564","135.564","51","84.564",null,null,null,null,null,null,"318.136","291.568","26.568","6","20.568",null,null,null,null,null,null,"1905.264","1743.132","162.132","57","105.132",null,null,null,null,null,null,"参議院比例代表選出議員選挙","0",null,"02:55:00"]
[6,30,null,"01","ふなご　やすひこ",null,"02","木村　英子",null,null,null,null,null,null,null,null,null,null,null,null,null,null,null,null,null,null,null,"れいわ新選組",null,null,null,"0",null,null,null,null,null,null,null,null,null,null,"1587.128","1451.564","135.564","51","84.564",null,null,null,null,null,null,"318.136","291.568","26.568","6","20.568",null,null,null,null,null,null,"1905.264","1743.132","162.132","57","105.132",null,null,null,null,null,null,"参議院比例代表選出議員選挙","0",null,"02:55:00"]
[6,31,null,"01","ふなご　やすひこ",null,"02","木村　英子",null,null,null,null,null,null,null,null,null,null,null,null,null,null,null,null,null,null,null,"れいわ新選組",null,null,null,"0",null,null,null,null,null,null,null,null,null,null,"1587.128","1451.564","135.564","51","84.564",null,null,null,null,null,null,"318.136","291.568","26.568","6","20.568",null,null,null,null,null,null,"1905.264","1743.132","162.132","57","105.132",null,null,null,null,null,null,"参議院比例代表選出議員選挙","0",null,"02:55:00"]
[6,32,null,"01","ふなご　やすひこ",null,"02","木村　英子",null,null,null,null,null,null,null,null,null,null,null,null,null,null,null,null,null,null,null,"れいわ新選組",null,null,null,"0",null,null,null,null,null,null,null,null,null,null,"1587.128","1451.564","135.564","51","84.564",null,null,null,null,null,null,"318.136","291.568","26.568","6","20.568",null,null,null,null,null,null,"1905.264","1743.132","162.132","57","105.132",null,null,null,null,null,null,"参議院比例代表選出議員選挙","0",null,"02:55:00"]
[6,33,null,"01","ふなご　やすひこ",null,"02","木村　英子",null,null,null,null,null,null,null,null,null,null,null,null,null,null,null,null,null,null,null,"れいわ新選組",null,null,null,"0",null,null,null,null,null,null,null,null,null,null,"1587.128","1451.564","135.564","51","84.564",null,null,null,null,null,null,"318.136","291.568","26.568","6","20.568",null,null,null,null,null,null,"1905.264","1743.132","162.132","57","105.132",null,null,null,null,null,null,"参議院比例代表選出議員選挙","0",null,"02:55:00"]
[6,34,null,"01","ふなご　やすひこ",null,"02","木村　英子",null,null,null,null,null,null,null,null,null,null,null,null,null,null,null,null,null,null,null,"れいわ新選組",null,null,null,"0",null,null,null,null,null,null,null,null,null,null,"1587.128","1451.564","135.564","51","84.564",null,null,null,null,null,null,"318.136","291.568","26.568","6","20.568",null,null,null,null,null,null,"1905.264","1743.132","162.132","57","105.132",null,null,null,null,null,null,"参議院比例代表選出議員選挙","0",null,"02:55:00"]
[6,35,null,"01","ふなご　やすひこ",null,"02","木村　英子",null,null,null,null,null,null,null,null,null,null,null,null,null,null,null,null,null,null,null,"れいわ新選組",null,null,null,"0",null,null,null,null,null,null,null,null,null,null,"1587.128","1451.564","135.564","51","84.564",null,null,null,null,null,null,"318.136","291.568","26.568","6","20.568",null,null,null,null,null,null,"1905.264","1743.132","162.132","57","105.132",null,null,null,null,null,null,"参議院比例代表選出議員選挙","0",null,"02:55:00"]
[6,36,null,"01","ふなご　やすひこ",null,"02","木村　英子",null,null,null,null,null,null,null,null,null,null,null,null,null,null,null,null,null,null,null,"れいわ新選組",null,null,null,"0",null,null,null,null,null,null,null,null,null,null,"1587.128","1451.564","135.564","51","84.564",null,null,null,null,null,null,"318.136","291.568","26.568","6","20.568",null,null,null,null,null,null,"1905.264","1743.132","162.132","57","105.132",null,null,null,null,null,null,"参議院比例代表選出議員選挙","0",null,"02:55:00"]
[6,37,null,"01","ふなご　やすひこ",null,"02","木村　英子",null,null,null,null,null,null,null,null,null,null,null,null,null,null,null,null,null,null,null,"れいわ新選組",null,null,null,"0",null,null,null,null,null,null,null,null,null,null,"1587.128","1451.564","135.564","51","84.564",null,null,null,null,null,null,"318.136","291.568","26.568","6","20.568",null,null,null,null,null,null,"1905.264","1743.132","162.132","57","105.132",null,null,null,null,null,null,"参議院比例代表選出議員選挙","0",null,"02:55:00"]
[6,38,null,"01","ふなご　やすひこ",null,"02","木村　英子",null,null,null,null,null,null,null,null,null,null,null,null,null,null,null,null,null,null,null,"れいわ新選組",null,null,null,"0",null,null,null,null,null,null,null,null,null,null,"1587.128","1451.564","135.564","51","84.564",null,null,null,null,null,null,"318.136","291.568","26.568","6","20.568",null,null,null,null,null,null,"1905.264","1743.132","162.132","57","105.132",null,null,null,null,null,null,"参議院比例代表選出議員選挙","0",null,"02:55:00"]
[6,39,null,"01","ふなご　やすひこ",null,"02","木村　英子",null,null,null,null,null,null,null,null,null,null,null,null,null,null,null,null,null,null,null,"れいわ新選組",null,null,null,"0",null,null,null,null,null,null,null,null,null,null,"1587.128","1451.564","135.564","51","84.564",null,null,null,null,null,null,"318.136","291.568","26.568","6","20.568",null,null,null,null,null,null,"1905.264","1743.132","162.132","57","105.132",null,null,null,null,null,null,"参議院比例代表選出議員選挙","0",null,"02:55:00"]
[6,40,null,"01","ふなご　やすひこ",null,"02","木村　英子",null,null,null,null,null,null,null,null,null,null,null,null,null,null,null,null,null,null,null,"れいわ新選組",null,null,null,"0",null,null,null,null,null,null,null,null,null,null,"1587.128","1451.564","135.564","51","84.564",null,null,null,null,null,null,"318.136","291.568","26.568","6","20.568",null,null,null,null,null,null,"1905.264","1743.132","162.132","57","105.132",null,null,null,null,null,null,"参議院比例代表選出議員選挙","0",null,"02:55:00"]
[6,41,null,"01","ふなご　やすひこ",null,"02","木村　英子",null,null,null,null,null,null,null,null,null,null,null,null,null,null,null,null,null,null,null,"れいわ新選組",null,null,null,"0",null,null,null,null,null,null,null,null,null,null,"1587.128","1451.564","135.564","51","84.564",null,null,null,null,null,null,"318.136","291.568","26.568","6","20.568",null,null,null,null,null,null,"1905.264","1743.132","162.132","57","105.132",null,null,null,null,null,null,"参議院比例代表選出議員選挙","0",null,"02:55:00"]
[6,42,null,"01","ふなご　やすひこ",null,"02","木村　英子",null,null,null,null,null,null,null,null,null,null,null,null,null,null,null,null,null,null,null,"れいわ新選組",null,null,null,"0",null,null,null,null,null,null,null,null,null,null,"1587.128","1451.564","135.564","51","84.564",null,null,null,null,null,null,"318.136","291.568","26.568","6","20.568",null,null,null,null,null,null,"1905.264","1743.132","162.132","57","105.132",null,null,null,null,null,null,"参議院比例代表選出議員選挙","0",null,"02:55:00"]
[6,43,null,"01","ふなご　やすひこ",null,"02","木村　英子",null,null,null,null,null,null,null,null,null,null,null,null,null,null,null,null,null,null,null,"れいわ新選組",null,null,null,"0",null,null,null,null,null,null,null,null,null,null,"1587.128","1451.564","135.564","51","84.564",null,null,null,null,null,null,"318.136","291.568","26.568","6","20.568",null,null,null,null,null,null,"1905.264","1743.132","162.132","57","105.132",null,null,null,null,null,null,"参議院比例代表選出議員選挙","0",null,"02:55:00"]