{"text_format":"1","workbook":"xlsx","n_sheets":3,"sheets":["参比開票速報（参考　政党別特定枠候補者投票数県合計）_194_","パラメタシート","P_19号4様式1"],"not_rendered":{"charts":0,"images":0,"macros":1,"external_links":2,"defined_names":11,"comments":0,"pivot_tables":0},"unopened":[],"bounds":{"document_bytes":16777216,"sheet_cells":100000,"rows_first":2000,"rows_last":500,"rows_between":2000,"halvings":0,"cell_chars":16384,"cell_head_chars":4096},"cells_cut":0,"cells_raw":0,"read":"whole","date_system":"1900"}

{"sheet":"参比開票速報（参考　政党別特定枠候補者投票数県合計）_194_","index":0,"n_rows":236,"n_cols":19,"rows_kept":236,"cut":false,"hidden":false,"merged":[[183,0,183,2],[183,5,183,7],[183,10,183,12],[183,15,183,17],[184,0,184,1],[184,2,184,3],[184,5,184,6],[184,7,184,8],[184,10,184,11],[184,12,184,13],[184,15,184,16],[184,17,184,18],[178,17,179,18],[180,1,180,3],[180,11,180,12],[180,13,180,15],[180,17,181,18],[181,1,181,3],[181,13,181,15],[1,5,2,16],[60,5,61,16],[119,5,120,16],[178,0,179,4],[178,5,179,16],[63,1,63,3],[7,7,7,8],[7,0,7,1],[7,5,7,6],[7,2,7,3],[119,0,120,4],[121,1,121,3],[65,15,65,17],[66,17,66,18],[65,10,65,12],[66,15,66,16],[1,17,2,18],[3,17,4,18],[60,17,61,18],[62,17,63,18],[1,0,2,4],[60,0,61,4],[4,1,4,3],[6,0,6,2],[3,1,3,3],[6,5,6,7],[3,13,3,15],[4,13,4,15],[7,12,7,13],[7,17,7,18],[3,11,3,12],[62,1,62,3],[66,0,66,1],[121,11,121,12],[65,0,65,2],[65,5,65,7],[125,5,125,6],[125,7,125,8],[66,10,66,11],[66,12,66,13],[66,2,66,3],[66,5,66,6],[66,7,66,8],[125,17,125,18],[122,1,122,3],[125,0,125,1],[125,2,125,3],[124,0,124,2],[121,17,122,18],[122,13,122,15],[125,10,125,11],[125,15,125,16],[124,10,124,12],[124,15,124,17],[125,12,125,13],[124,5,124,7],[7,15,7,16],[7,10,7,11],[6,15,6,17],[62,13,62,15],[121,13,121,15],[63,13,63,15],[119,17,120,18],[6,10,6,12],[62,11,62,12]]}
[]
["第19号の4様式",null,null,null,null,"「政党等投票数」のうち、公選法第６８条の３の規定により政党等の有効投票とみなされた投票の状況",null,null,null,null,null,null,null,null,null,null,null,{"$f":"P_19号4様式1!A2 & \" ページ\"","v":"1 ページ"}]
[]
[null,{"$f":"IF(パラメタシート!B1=\"\",\"    年  月  日　執行\",パラメタシート!B1)","v":"2019-07-21"},null,null,null,null,null,null,null,null,null,{"$f":"IF(P_19号4様式1!X2=\"0\",\"即日　開票\",\"翌日　開票\")","v":"即日　開票"},null,"中間報告",null,null,{"$f":"IF(P_19号4様式1!Y2=\"\",\"     時     分\",P_19号4様式1!Y2)","v":"     時     分"},"鹿 児 島 県"]
[null,{"$f":"IF(P_19号4様式1!W2=\"\",\"     年   月   日　執行\",P_19号4様式1!W2)","v":"参議院比例代表選出議員選挙"},null,null,null,null,null,null,null,null,null,null,"開票","結了報告",null,null,{"$f":"IF(P_19号4様式1!Z2=\"\",\"     時     分\",P_19号4様式1!Z2)","v":"02:55:00"}]
[]
[{"$f":"IF(P_19号4様式1!C2=\"\",\"\",\"〔\" & P_19号4様式1!C2 & \"  \" & P_19号4様式1!D2 & \"〕\")","v":"〔01  日本共産党〕"},null,null,null,null,{"$f":"IF(P_19号4様式1!H2=\"\",\"\",\"〔\" & P_19号4様式1!H2 & \"  \" & P_19号4様式1!I2 & \"〕\")","v":"〔02  自由民主党〕"},null,null,null,null,{"$f":"IF(P_19号4様式1!M2=\"\",\"\",\"〔\" & P_19号4様式1!M2 & \"  \" & P_19号4様式1!N2 & \"〕\")","v":"〔03  オリーブの木〕"},null,null,null,null,{"$f":"IF(P_19号4様式1!R2=\"\",\"\",\"〔\" & P_19号4様式1!R2 & \"  \" & P_19号4様式1!S2 & \"〕\")","v":"〔04  社会民主党〕"}]
["候 補 者 名",null,"投票数",null,null,"候 補 者 名",null,"投票数",null,null,"候 補 者 名",null,"投票数",null,null,"候 補 者 名",null,"投票数"]
[{"$f":"IF(P_19号4様式1!E2=\"\",\"\",P_19号4様式1!E2)","v":""},{"$f":"IF(P_19号4様式1!F2=\"\",\"\",P_19号4様式1!F2)","v":""},{"$f":"IF(P_19号4様式1!G2<> \"\",IF(P_19号4様式1!G2<> \"-\",TEXT(INT(P_19号4様式1!G2),\"#,##0\"),\"-\"),\"\")","v":""},{"$f":"IF(P_19号4様式1!G2<> \"\",IF(P_19号4様式1!G2<> \"-\",IF(VALUE(FIXED(P_19号4様式1!G2,0,TRUE))<>P_19号4様式1!G2,RIGHT(FIXED(P_19号4様式1!G2,3,FALSE),4),\"\"),\"\"),\"\")","v":""},null,{"$f":"IF(P_19号4様式1!J2=\"\",\"\",P_19号4様式1!J2)","v":"01"},{"$f":"IF(P_19号4様式1!K2=\"\",\"\",P_19号4様式1!K2)","v":"三木　とおる"},{"$f":"IF(P_19号4様式1!L2<> \"\",IF(P_19号4様式1!L2<> \"-\",TEXT(INT(P_19号4様式1!L2),\"#,##0\"),\"-\"),\"\")","v":"152"},{"$f":"IF(P_19号4様式1!L2<> \"\",IF(P_19号4様式1!L2<> \"-\",IF(VALUE(FIXED(P_19号4様式1!L2,0,TRUE))<>P_19号4様式1!L2,RIGHT(FIXED(P_19号4様式1!L2,3,FALSE),4),\"\"),\"\"),\"\")","v":".500"},null,{"$f":"IF(P_19号4様式1!O2=\"\",\"\",P_19号4様式1!O2)","v":""},{"$f":"IF(P_19号4様式1!P2=\"\",\"\",P_19号4様式1!P2)","v":""},{"$f":"IF(P_19号4様式1!Q2<> \"\",IF(P_19号4様式1!Q2<> \"-\",TEXT(INT(P_19号4様式1!Q2),\"#,##0\"),\"-\"),\"\")","v":""},{"$f":"IF(P_19号4様式1!Q2<> \"\",IF(P_19号4様式1!Q2<> \"-\",IF(VALUE(FIXED(P_19号4様式1!Q2,0,TRUE))<>P_19号4様式1!Q2,RIGHT(FIXED(P_19号4様式1!Q2,3,FALSE),4),\"\"),\"\"),\"\")","v":""},null,{"$f":"IF(P_19号4様式1!T2=\"\",\"\",P_19号4様式1!T2)","v":""},{"$f":"IF(P_19号4様式1!U2=\"\",\"\",P_19号4様式1!U2)","v":""},{"$f":"IF(P_19号4様式1!V2<> \"\",IF(P_19号4様式1!V2<> \"-\",TEXT(INT(P_19号4様式1!V2),\"#,##0\"),\"-\"),\"\")","v":""},{"$f":"IF(P_19号4様式1!V2<> \"\",IF(P_19号4様式1!V2<> \"-\",IF(VALUE(FIXED(P_19号4様式1!V2,0,TRUE))<>P_19号4様式1!V2,RIGHT(FIXED(P_19号4様式1!V2,3,FALSE),4),\"\"),\"\"),\"\")","v":""}]
[{"$f":"IF(P_19号4様式1!E3=\"\",\"\",P_19号4様式1!E3)","v":""},{"$f":"IF(P_19号4様式1!F3=\"\",\"\",P_19号4様式1!F3)","v":""},{"$f":"IF(P_19号4様式1!G3<> \"\",IF(P_19号4様式1!G3<> \"-\",TEXT(INT(P_19号4様式1!G3),\"#,##0\"),\"-\"),\"\")","v":""},{"$f":"IF(P_19号4様式1!G3<> \"\",IF(P_19号4様式1!G3<> \"-\",IF(VALUE(FIXED(P_19号4様式1!G3,0,TRUE))<>P_19号4様式1!G3,RIGHT(FIXED(P_19号4様式1!G3,3,FALSE),4),\"\"),\"\"),\"\")","v":""},null,{"$f":"IF(P_19号4様式1!J3=\"\",\"\",P_19号4様式1!J3)","v":"02"},{"$f":"IF(P_19号4様式1!K3=\"\",\"\",P_19号4様式1!K3)","v":"三浦　靖"},{"$f":"IF(P_19号4様式1!L3<> \"\",IF(P_19号4様式1!L3<> \"-\",TEXT(INT(P_19号4様式1!L3),\"#,##0\"),\"-\"),\"\")","v":"43"},{"$f":"IF(P_19号4様式1!L3<> \"\",IF(P_19号4様式1!L3<> \"-\",IF(VALUE(FIXED(P_19号4様式1!L3,0,TRUE))<>P_19号4様式1!L3,RIGHT(FIXED(P_19号4様式1!L3,3,FALSE),4),\"\"),\"\"),\"\")","v":".000"},null,{"$f":"IF(P_19号4様式1!O3=\"\",\"\",P_19号4様式1!O3)","v":""},{"$f":"IF(P_19号4様式1!P3=\"\",\"\",P_19号4様式1!P3)","v":""},{"$f":"IF(P_19号4様式1!Q3<> \"\",IF(P_19号4様式1!Q3<> \"-\",TEXT(INT(P_19号4様式1!Q3),\"#,##0\"),\"-\"),\"\")","v":""},{"$f":"IF(P_19号4様式1!Q3<> \"\",IF(P_19号4様式1!Q3<> \"-\",IF(VALUE(FIXED(P_19号4様式1!Q3,0,TRUE))<>P_19号4様式1!Q3,RIGHT(FIXED(P_19号4様式1!Q3,3,FALSE),4),\"\"),\"\"),\"\")","v":""},null,{"$f":"IF(P_19号4様式1!T3=\"\",\"\",P_19号4様式1!T3)","v":""},{"$f":"IF(P_19号4様式1!U3=\"\",\"\",P_19号4様式1!U3)","v":""},{"$f":"IF(P_19号4様式1!V3<> \"\",IF(P_19号4様式1!V3<> \"-\",TEXT(INT(P_19号4様式1!V3),\"#,##0\"),\"-\"),\"\")","v":""},{"$f":"IF(P_19号4様式1!V3<> \"\",IF(P_19号4様式1!V3<> \"-\",IF(VALUE(FIXED(P_19号4様式1!V3,0,TRUE))<>P_19号4様式1!V3,RIGHT(FIXED(P_19号4様式1!V3,3,FALSE),4),\"\"),\"\"),\"\")","v":""}]
[{"$f":"IF(P_19号4様式1!E4=\"\",\"\",P_19号4様式1!E4)","v":""},{"$f":"IF(P_19号4様式1!F4=\"\",\"\",P_19号4様式1!F4)","v":""},{"$f":"IF(P_19号4様式1!G4<> \"\",IF(P_19号4様式1!G4<> \"-\",TEXT(INT(P_19号4様式1!G4),\"#,##0\"),\"-\"),\"\")","v":""},{"$f":"IF(P_19号4様式1!G4<> \"\",IF(P_19号4様式1!G4<> \"-\",IF(VALUE(FIXED(P_19号4様式1!G4,0,TRUE))<>P_19号4様式1!G4,RIGHT(FIXED(P_19号4様式1!G4,3,FALSE),4),\"\"),\"\"),\"\")","v":""},null,{"$f":"IF(P_19号4様式1!J4=\"\",\"\",P_19号4様式1!J4)","v":""},{"$f":"IF(P_19号4様式1!K4=\"\",\"\",P_19号4様式1!K4)","v":""},{"$f":"IF(P_19号4様式1!L4<> \"\",IF(P_19号4様式1!L4<> \"-\",TEXT(INT(P_19号4様式1!L4),\"#,##0\"),\"-\"),\"\")","v":""},{"$f":"IF(P_19号4様式1!L4<> \"\",IF(P_19号4様式1!L4<> \"-\",IF(VALUE(FIXED(P_19号4様式1!L4,0,TRUE))<>P_19号4様式1!L4,RIGHT(FIXED(P_19号4様式1!L4,3,FALSE),4),\"\"),\"\"),\"\")","v":""},null,{"$f":"IF(P_19号4様式1!O4=\"\",\"\",P_19号4様式1!O4)","v":""},{"$f":"IF(P_19号4様式1!P4=\"\",\"\",P_19号4様式1!P4)","v":""},{"$f":"IF(P_19号4様式1!Q4<> \"\",IF(P_19号4様式1!Q4<> \"-\",TEXT(INT(P_19号4様式1!Q4),\"#,##0\"),\"-\"),\"\")","v":""},{"$f":"IF(P_19号4様式1!Q4<> \"\",IF(P_19号4様式1!Q4<> \"-\",IF(VALUE(FIXED(P_19号4様式1!Q4,0,TRUE))<>P_19号4様式1!Q4,RIGHT(FIXED(P_19号4様式1!Q4,3,FALSE),4),\"\"),\"\"),\"\")","v":""},null,{"$f":"IF(P_19号4様式1!T4=\"\",\"\",P_19号4様式1!T4)","v":""},{"$f":"IF(P_19号4様式1!U4=\"\",\"\",P_19号4様式1!U4)","v":""},{"$f":"IF(P_19号4様式1!V4<> \"\",IF(P_19号4様式1!V4<> \"-\",TEXT(INT(P_19号4様式1!V4),\"#,##0\"),\"-\"),\"\")","v":""},{"$f":"IF(P_19号4様式1!V4<> \"\",IF(P_19号4様式1!V4<> \"-\",IF(VALUE(FIXED(P_19号4様式1!V4,0,TRUE))<>P_19号4様式1!V4,RIGHT(FIXED(P_19号4様式1!V4,3,FALSE),4),\"\"),\"\"),\"\")","v":""}]
[{"$f":"IF(P_19号4様式1!E5=\"\",\"\",P_19号4様式1!E5)","v":""},{"$f":"IF(P_19号4様式1!F5=\"\",\"\",P_19号4様式1!F5)","v":""},{"$f":"IF(P_19号4様式1!G5<> \"\",IF(P_19号4様式1!G5<> \"-\",TEXT(INT(P_19号4様式1!G5),\"#,##0\"),\"-\"),\"\")","v":""},{"$f":"IF(P_19号4様式1!G5<> \"\",IF(P_19号4様式1!G5<> \"-\",IF(VALUE(FIXED(P_19号4様式1!G5,0,TRUE))<>P_19号4様式1!G5,RIGHT(FIXED(P_19号4様式1!G5,3,FALSE),4),\"\"),\"\"),\"\")","v":""},null,{"$f":"IF(P_19号4様式1!J5=\"\",\"\",P_19号4様式1!J5)","v":""},{"$f":"IF(P_19号4様式1!K5=\"\",\"\",P_19号4様式1!K5)","v":""},{"$f":"IF(P_19号4様式1!L5<> \"\",IF(P_19号4様式1!L5<> \"-\",TEXT(INT(P_19号4様式1!L5),\"#,##0\"),\"-\"),\"\")","v":""},{"$f":"IF(P_19号4様式1!L5<> \"\",IF(P_19号4様式1!L5<> \"-\",IF(VALUE(FIXED(P_19号4様式1!L5,0,TRUE))<>P_19号4様式1!L5,RIGHT(FIXED(P_19号4様式1!L5,3,FALSE),4),\"\"),\"\"),\"\")","v":""},null,{"$f":"IF(P_19号4様式1!O5=\"\",\"\",P_19号4様式1!O5)","v":""},{"$f":"IF(P_19号4様式1!P5=\"\",\"\",P_19号4様式1!P5)","v":""},{"$f":"IF(P_19号4様式1!Q5<> \"\",IF(P_19号4様式1!Q5<> \"-\",TEXT(INT(P_19号4様式1!Q5),\"#,##0\"),\"-\"),\"\")","v":""},{"$f":"IF(P_19号4様式1!Q5<> \"\",IF(P_19号4様式1!Q5<> \"-\",IF(VALUE(FIXED(P_19号4様式1!Q5,0,TRUE))<>P_19号4様式1!Q5,RIGHT(FIXED(P_19号4様式1!Q5,3,FALSE),4),\"\"),\"\"),\"\")","v":""},null,{"$f":"IF(P_19号4様式1!T5=\"\",\"\",P_19号4様式1!T5)","v":""},{"$f":"IF(P_19号4様式1!U5=\"\",\"\",P_19号4様式1!U5)","v":""},{"$f":"IF(P_19号4様式1!V5<> \"\",IF(P_19号4様式1!V5<> \"-\",TEXT(INT(P_19号4様式1!V5),\"#,##0\"),\"-\"),\"\")","v":""},{"$f":"IF(P_19号4様式1!V5<> \"\",IF(P_19号4様式1!V5<> \"-\",IF(VALUE(FIXED(P_19号4様式1!V5,0,TRUE))<>P_19号4様式1!V5,RIGHT(FIXED(P_19号4様式1!V5,3,FALSE),4),\"\"),\"\"),\"\")","v":""}]
[{"$f":"IF(P_19号4様式1!E6=\"\",\"\",P_19号4様式1!E6)","v":""},{"$f":"IF(P_19号4様式1!F6=\"\",\"\",P_19号4様式1!F6)","v":""},{"$f":"IF(P_19号4様式1!G6<> \"\",IF(P_19号4様式1!G6<> \"-\",TEXT(INT(P_19号4様式1!G6),\"#,##0\"),\"-\"),\"\")","v":""},{"$f":"IF(P_19号4様式1!G6<> \"\",IF(P_19号4様式1!G6<> \"-\",IF(VALUE(FIXED(P_19号4様式1!G6,0,TRUE))<>P_19号4様式1!G6,RIGHT(FIXED(P_19号4様式1!G6,3,FALSE),4),\"\"),\"\"),\"\")","v":""},null,{"$f":"IF(P_19号4様式1!J6=\"\",\"\",P_19号4様式1!J6)","v":""},{"$f":"IF(P_19号4様式1!K6=\"\",\"\",P_19号4様式1!K6)","v":""},{"$f":"IF(P_19号4様式1!L6<> \"\",IF(P_19号4様式1!L6<> \"-\",TEXT(INT(P_19号4様式1!L6),\"#,##0\"),\"-\"),\"\")","v":""},{"$f":"IF(P_19号4様式1!L6<> \"\",IF(P_19号4様式1!L6<> \"-\",IF(VALUE(FIXED(P_19号4様式1!L6,0,TRUE))<>P_19号4様式1!L6,RIGHT(FIXED(P_19号4様式1!L6,3,FALSE),4),\"\"),\"\"),\"\")","v":""},null,{"$f":"IF(P_19号4様式1!O6=\"\",\"\",P_19号4様式1!O6)","v":""},{"$f":"IF(P_19号4様式1!P6=\"\",\"\",P_19号4様式1!P6)","v":""},{"$f":"IF(P_19号4様式1!Q6<> \"\",IF(P_19号4様式1!Q6<> \"-\",TEXT(INT(P_19号4様式1!Q6),\"#,##0\"),\"-\"),\"\")","v":""},{"$f":"IF(P_19号4様式1!Q6<> \"\",IF(P_19号4様式1!Q6<> \"-\",IF(VALUE(FIXED(P_19号4様式1!Q6,0,TRUE))<>P_19号4様式1!Q6,RIGHT(FIXED(P_19号4様式1!Q6,3,FALSE),4),\"\"),\"\"),\"\")","v":""},null,{"$f":"IF(P_19号4様式1!T6=\"\",\"\",P_19号4様式1!T6)","v":""},{"$f":"IF(P_19号4様式1!U6=\"\",\"\",P_19号4様式1!U6)","v":""},{"$f":"IF(P_19号4様式1!V6<> \"\",IF(P_19号4様式1!V6<> \"-\",TEXT(INT(P_19号4様式1!V6),\"#,##0\"),\"-\"),\"\")","v":""},{"$f":"IF(P_19号4様式1!V6<> \"\",IF(P_19号4様式1!V6<> \"-\",IF(VALUE(FIXED(P_19号4様式1!V6,0,TRUE))<>P_19号4様式1!V6,RIGHT(FIXED(P_19号4様式1!V6,3,FALSE),4),\"\"),\"\"),\"\")","v":""}]
[{"$f":"IF(P_19号4様式1!E7=\"\",\"\",P_19号4様式1!E7)","v":""},{"$f":"IF(P_19号4様式1!F7=\"\",\"\",P_19号4様式1!F7)","v":""},{"$f":"IF(P_19号4様式1!G7<> \"\",IF(P_19号4様式1!G7<> \"-\",TEXT(INT(P_19号4様式1!G7),\"#,##0\"),\"-\"),\"\")","v":""},{"$f":"IF(P_19号4様式1!G7<> \"\",IF(P_19号4様式1!G7<> \"-\",IF(VALUE(FIXED(P_19号4様式1!G7,0,TRUE))<>P_19号4様式1!G7,RIGHT(FIXED(P_19号4様式1!G7,3,FALSE),4),\"\"),\"\"),\"\")","v":""},null,{"$f":"IF(P_19号4様式1!J7=\"\",\"\",P_19号4様式1!J7)","v":""},{"$f":"IF(P_19号4様式1!K7=\"\",\"\",P_19号4様式1!K7)","v":""},{"$f":"IF(P_19号4様式1!L7<> \"\",IF(P_19号4様式1!L7<> \"-\",TEXT(INT(P_19号4様式1!L7),\"#,##0\"),\"-\"),\"\")","v":""},{"$f":"IF(P_19号4様式1!L7<> \"\",IF(P_19号4様式1!L7<> \"-\",IF(VALUE(FIXED(P_19号4様式1!L7,0,TRUE))<>P_19号4様式1!L7,RIGHT(FIXED(P_19号4様式1!L7,3,FALSE),4),\"\"),\"\"),\"\")","v":""},null,{"$f":"IF(P_19号4様式1!O7=\"\",\"\",P_19号4様式1!O7)","v":""},{"$f":"IF(P_19号4様式1!P7=\"\",\"\",P_19号4様式1!P7)","v":""},{"$f":"IF(P_19号4様式1!Q7<> \"\",IF(P_19号4様式1!Q7<> \"-\",TEXT(INT(P_19号4様式1!Q7),\"#,##0\"),\"-\"),\"\")","v":""},{"$f":"IF(P_19号4様式1!Q7<> \"\",IF(P_19号4様式1!Q7<> \"-\",IF(VALUE(FIXED(P_19号4様式1!Q7,0,TRUE))<>P_19号4様式1!Q7,RIGHT(FIXED(P_19号4様式1!Q7,3,FALSE),4),\"\"),\"\"),\"\")","v":""},null,{"$f":"IF(P_19号4様式1!T7=\"\",\"\",P_19号4様式1!T7)","v":""},{"$f":"IF(P_19号4様式1!U7=\"\",\"\",P_19号4様式1!U7)","v":""},{"$f":"IF(P_19号4様式1!V7<> \"\",IF(P_19号4様式1!V7<> \"-\",TEXT(INT(P_19号4様式1!V7),\"#,##0\"),\"-\"),\"\")","v":""},{"$f":"IF(P_19号4様式1!V7<> \"\",IF(P_19号4様式1!V7<> \"-\",IF(VALUE(FIXED(P_19号4様式1!V7,0,TRUE))<>P_19号4様式1!V7,RIGHT(FIXED(P_19号4様式1!V7,3,FALSE),4),\"\"),\"\"),\"\")","v":""}]
[{"$f":"IF(P_19号4様式1!E8=\"\",\"\",P_19号4様式1!E8)","v":""},{"$f":"IF(P_19号4様式1!F8=\"\",\"\",P_19号4様式1!F8)","v":""},{"$f":"IF(P_19号4様式1!G8<> \"\",IF(P_19号4様式1!G8<> \"-\",TEXT(INT(P_19号4様式1!G8),\"#,##0\"),\"-\"),\"\")","v":""},{"$f":"IF(P_19号4様式1!G8<> \"\",IF(P_19号4様式1!G8<> \"-\",IF(VALUE(FIXED(P_19号4様式1!G8,0,TRUE))<>P_19号4様式1!G8,RIGHT(FIXED(P_19号4様式1!G8,3,FALSE),4),\"\"),\"\"),\"\")","v":""},null,{"$f":"IF(P_19号4様式1!J8=\"\",\"\",P_19号4様式1!J8)","v":""},{"$f":"IF(P_19号4様式1!K8=\"\",\"\",P_19号4様式1!K8)","v":""},{"$f":"IF(P_19号4様式1!L8<> \"\",IF(P_19号4様式1!L8<> \"-\",TEXT(INT(P_19号4様式1!L8),\"#,##0\"),\"-\"),\"\")","v":""},{"$f":"IF(P_19号4様式1!L8<> \"\",IF(P_19号4様式1!L8<> \"-\",IF(VALUE(FIXED(P_19号4様式1!L8,0,TRUE))<>P_19号4様式1!L8,RIGHT(FIXED(P_19号4様式1!L8,3,FALSE),4),\"\"),\"\"),\"\")","v":""},null,{"$f":"IF(P_19号4様式1!O8=\"\",\"\",P_19号4様式1!O8)","v":""},{"$f":"IF(P_19号4様式1!P8=\"\",\"\",P_19号4様式1!P8)","v":""},{"$f":"IF(P_19号4様式1!Q8<> \"\",IF(P_19号4様式1!Q8<> \"-\",TEXT(INT(P_19号4様式1!Q8),\"#,##0\"),\"-\"),\"\")","v":""},{"$f":"IF(P_19号4様式1!Q8<> \"\",IF(P_19号4様式1!Q8<> \"-\",IF(VALUE(FIXED(P_19号4様式1!Q8,0,TRUE))<>P_19号4様式1!Q8,RIGHT(FIXED(P_19号4様式1!Q8,3,FALSE),4),\"\"),\"\"),\"\")","v":""},null,{"$f":"IF(P_19号4様式1!T8=\"\",\"\",P_19号4様式1!T8)","v":""},{"$f":"IF(P_19号4様式1!U8=\"\",\"\",P_19号4様式1!U8)","v":""},{"$f":"IF(P_19号4様式1!V8<> \"\",IF(P_19号4様式1!V8<> \"-\",TEXT(INT(P_19号4様式1!V8),\"#,##0\"),\"-\"),\"\")","v":""},{"$f":"IF(P_19号4様式1!V8<> \"\",IF(P_19号4様式1!V8<> \"-\",IF(VALUE(FIXED(P_19号4様式1!V8,0,TRUE))<>P_19号4様式1!V8,RIGHT(FIXED(P_19号4様式1!V8,3,FALSE),4),\"\"),\"\"),\"\")","v":""}]
[{"$f":"IF(P_19号4様式1!E9=\"\",\"\",P_19号4様式1!E9)","v":""},{"$f":"IF(P_19号4様式1!F9=\"\",\"\",P_19号4様式1!F9)","v":""},{"$f":"IF(P_19号4様式1!G9<> \"\",IF(P_19号4様式1!G9<> \"-\",TEXT(INT(P_19号4様式1!G9),\"#,##0\"),\"-\"),\"\")","v":""},{"$f":"IF(P_19号4様式1!G9<> \"\",IF(P_19号4様式1!G9<> \"-\",IF(VALUE(FIXED(P_19号4様式1!G9,0,TRUE))<>P_19号4様式1!G9,RIGHT(FIXED(P_19号4様式1!G9,3,FALSE),4),\"\"),\"\"),\"\")","v":""},null,{"$f":"IF(P_19号4様式1!J9=\"\",\"\",P_19号4様式1!J9)","v":""},{"$f":"IF(P_19号4様式1!K9=\"\",\"\",P_19号4様式1!K9)","v":""},{"$f":"IF(P_19号4様式1!L9<> \"\",IF(P_19号4様式1!L9<> \"-\",TEXT(INT(P_19号4様式1!L9),\"#,##0\"),\"-\"),\"\")","v":""},{"$f":"IF(P_19号4様式1!L9<> \"\",IF(P_19号4様式1!L9<> \"-\",IF(VALUE(FIXED(P_19号4様式1!L9,0,TRUE))<>P_19号4様式1!L9,RIGHT(FIXED(P_19号4様式1!L9,3,FALSE),4),\"\"),\"\"),\"\")","v":""},null,{"$f":"IF(P_19号4様式1!O9=\"\",\"\",P_19号4様式1!O9)","v":""},{"$f":"IF(P_19号4様式1!P9=\"\",\"\",P_19号4様式1!P9)","v":""},{"$f":"IF(P_19号4様式1!Q9<> \"\",IF(P_19号4様式1!Q9<> \"-\",TEXT(INT(P_19号4様式1!Q9),\"#,##0\"),\"-\"),\"\")","v":""},{"$f":"IF(P_19号4様式1!Q9<> \"\",IF(P_19号4様式1!Q9<> \"-\",IF(VALUE(FIXED(P_19号4様式1!Q9,0,TRUE))<>P_19号4様式1!Q9,RIGHT(FIXED(P_19号4様式1!Q9,3,FALSE),4),\"\"),\"\"),\"\")","v":""},null,{"$f":"IF(P_19号4様式1!T9=\"\",\"\",P_19号4様式1!T9)","v":""},{"$f":"IF(P_19号4様式1!U9=\"\",\"\",P_19号4様式1!U9)","v":""},{"$f":"IF(P_19号4様式1!V9<> \"\",IF(P_19号4様式1!V9<> \"-\",TEXT(INT(P_19号4様式1!V9),\"#,##0\"),\"-\"),\"\")","v":""},{"$f":"IF(P_19号4様式1!V9<> \"\",IF(P_19号4様式1!V9<> \"-\",IF(VALUE(FIXED(P_19号4様式1!V9,0,TRUE))<>P_19号4様式1!V9,RIGHT(FIXED(P_19号4様式1!V9,3,FALSE),4),\"\"),\"\"),\"\")","v":""}]
[{"$f":"IF(P_19号4様式1!E10=\"\",\"\",P_19号4様式1!E10)","v":""},{"$f":"IF(P_19号4様式1!F10=\"\",\"\",P_19号4様式1!F10)","v":""},{"$f":"IF(P_19号4様式1!G10<> \"\",IF(P_19号4様式1!G10<> \"-\",TEXT(INT(P_19号4様式1!G10),\"#,##0\"),\"-\"),\"\")","v":""},{"$f":"IF(P_19号4様式1!G10<> \"\",IF(P_19号4様式1!G10<> \"-\",IF(VALUE(FIXED(P_19号4様式1!G10,0,TRUE))<>P_19号4様式1!G10,RIGHT(FIXED(P_19号4様式1!G10,3,FALSE),4),\"\"),\"\"),\"\")","v":""},null,{"$f":"IF(P_19号4様式1!J10=\"\",\"\",P_19号4様式1!J10)","v":""},{"$f":"IF(P_19号4様式1!K10=\"\",\"\",P_19号4様式1!K10)","v":""},{"$f":"IF(P_19号4様式1!L10<> \"\",IF(P_19号4様式1!L10<> \"-\",TEXT(INT(P_19号4様式1!L10),\"#,##0\"),\"-\"),\"\")","v":""},{"$f":"IF(P_19号4様式1!L10<> \"\",IF(P_19号4様式1!L10<> \"-\",IF(VALUE(FIXED(P_19号4様式1!L10,0,TRUE))<>P_19号4様式1!L10,RIGHT(FIXED(P_19号4様式1!L10,3,FALSE),4),\"\"),\"\"),\"\")","v":""},null,{"$f":"IF(P_19号4様式1!O10=\"\",\"\",P_19号4様式1!O10)","v":""},{"$f":"IF(P_19号4様式1!P10=\"\",\"\",P_19号4様式1!P10)","v":""},{"$f":"IF(P_19号4様式1!Q10<> \"\",IF(P_19号4様式1!Q10<> \"-\",TEXT(INT(P_19号4様式1!Q10),\"#,##0\"),\"-\"),\"\")","v":""},{"$f":"IF(P_19号4様式1!Q10<> \"\",IF(P_19号4様式1!Q10<> \"-\",IF(VALUE(FIXED(P_19号4様式1!Q10,0,TRUE))<>P_19号4様式1!Q10,RIGHT(FIXED(P_19号4様式1!Q10,3,FALSE),4),\"\"),\"\"),\"\")","v":""},null,{"$f":"IF(P_19号4様式1!T10=\"\",\"\",P_19号4様式1!T10)","v":""},{"$f":"IF(P_19号4様式1!U10=\"\",\"\",P_19号4様式1!U10)","v":""},{"$f":"IF(P_19号4様式1!V10<> \"\",IF(P_19号4様式1!V10<> \"-\",TEXT(INT(P_19号4様式1!V10),\"#,##0\"),\"-\"),\"\")","v":""},{"$f":"IF(P_19号4様式1!V10<> \"\",IF(P_19号4様式1!V10<> \"-\",IF(VALUE(FIXED(P_19号4様式1!V10,0,TRUE))<>P_19号4様式1!V10,RIGHT(FIXED(P_19号4様式1!V10,3,FALSE),4),\"\"),\"\"),\"\")","v":""}]
[{"$f":"IF(P_19号4様式1!E11=\"\",\"\",P_19号4様式1!E11)","v":""},{"$f":"IF(P_19号4様式1!F11=\"\",\"\",P_19号4様式1!F11)","v":""},{"$f":"IF(P_19号4様式1!G11<> \"\",IF(P_19号4様式1!G11<> \"-\",TEXT(INT(P_19号4様式1!G11),\"#,##0\"),\"-\"),\"\")","v":""},{"$f":"IF(P_19号4様式1!G11<> \"\",IF(P_19号4様式1!G11<> \"-\",IF(VALUE(FIXED(P_19号4様式1!G11,0,TRUE))<>P_19号4様式1!G11,RIGHT(FIXED(P_19号4様式1!G11,3,FALSE),4),\"\"),\"\"),\"\")","v":""},null,{"$f":"IF(P_19号4様式1!J11=\"\",\"\",P_19号4様式1!J11)","v":""},{"$f":"IF(P_19号4様式1!K11=\"\",\"\",P_19号4様式1!K11)","v":""},{"$f":"IF(P_19号4様式1!L11<> \"\",IF(P_19号4様式1!L11<> \"-\",TEXT(INT(P_19号4様式1!L11),\"#,##0\"),\"-\"),\"\")","v":""},{"$f":"IF(P_19号4様式1!L11<> \"\",IF(P_19号4様式1!L11<> \"-\",IF(VALUE(FIXED(P_19号4様式1!L11,0,TRUE))<>P_19号4様式1!L11,RIGHT(FIXED(P_19号4様式1!L11,3,FALSE),4),\"\"),\"\"),\"\")","v":""},null,{"$f":"IF(P_19号4様式1!O11=\"\",\"\",P_19号4様式1!O11)","v":""},{"$f":"IF(P_19号4様式1!P11=\"\",\"\",P_19号4様式1!P11)","v":""},{"$f":"IF(P_19号4様式1!Q11<> \"\",IF(P_19号4様式1!Q11<> \"-\",TEXT(INT(P_19号4様式1!Q11),\"#,##0\"),\"-\"),\"\")","v":""},{"$f":"IF(P_19号4様式1!Q11<> \"\",IF(P_19号4様式1!Q11<> \"-\",IF(VALUE(FIXED(P_19号4様式1!Q11,0,TRUE))<>P_19号4様式1!Q11,RIGHT(FIXED(P_19号4様式1!Q11,3,FALSE),4),\"\"),\"\"),\"\")","v":""},null,{"$f":"IF(P_19号4様式1!T11=\"\",\"\",P_19号4様式1!T11)","v":""},{"$f":"IF(P_19号4様式1!U11=\"\",\"\",P_19号4様式1!U11)","v":""},{"$f":"IF(P_19号4様式1!V11<> \"\",IF(P_19号4様式1!V11<> \"-\",TEXT(INT(P_19号4様式1!V11),\"#,##0\"),\"-\"),\"\")","v":""},{"$f":"IF(P_19号4様式1!V11<> \"\",IF(P_19号4様式1!V11<> \"-\",IF(VALUE(FIXED(P_19号4様式1!V11,0,TRUE))<>P_19号4様式1!V11,RIGHT(FIXED(P_19号4様式1!V11,3,FALSE),4),\"\"),\"\"),\"\")","v":""}]
[{"$f":"IF(P_19号4様式1!E12=\"\",\"\",P_19号4様式1!E12)","v":""},{"$f":"IF(P_19号4様式1!F12=\"\",\"\",P_19号4様式1!F12)","v":""},{"$f":"IF(P_19号4様式1!G12<> \"\",IF(P_19号4様式1!G12<> \"-\",TEXT(INT(P_19号4様式1!G12),\"#,##0\"),\"-\"),\"\")","v":""},{"$f":"IF(P_19号4様式1!G12<> \"\",IF(P_19号4様式1!G12<> \"-\",IF(VALUE(FIXED(P_19号4様式1!G12,0,TRUE))<>P_19号4様式1!G12,RIGHT(FIXED(P_19号4様式1!G12,3,FALSE),4),\"\"),\"\"),\"\")","v":""},null,{"$f":"IF(P_19号4様式1!J12=\"\",\"\",P_19号4様式1!J12)","v":""},{"$f":"IF(P_19号4様式1!K12=\"\",\"\",P_19号4様式1!K12)","v":""},{"$f":"IF(P_19号4様式1!L12<> \"\",IF(P_19号4様式1!L12<> \"-\",TEXT(INT(P_19号4様式1!L12),\"#,##0\"),\"-\"),\"\")","v":""},{"$f":"IF(P_19号4様式1!L12<> \"\",IF(P_19号4様式1!L12<> \"-\",IF(VALUE(FIXED(P_19号4様式1!L12,0,TRUE))<>P_19号4様式1!L12,RIGHT(FIXED(P_19号4様式1!L12,3,FALSE),4),\"\"),\"\"),\"\")","v":""},null,{"$f":"IF(P_19号4様式1!O12=\"\",\"\",P_19号4様式1!O12)","v":""},{"$f":"IF(P_19号4様式1!P12=\"\",\"\",P_19号4様式1!P12)","v":""},{"$f":"IF(P_19号4様式1!Q12<> \"\",IF(P_19号4様式1!Q12<> \"-\",TEXT(INT(P_19号4様式1!Q12),\"#,##0\"),\"-\"),\"\")","v":""},{"$f":"IF(P_19号4様式1!Q12<> \"\",IF(P_19号4様式1!Q12<> \"-\",IF(VALUE(FIXED(P_19号4様式1!Q12,0,TRUE))<>P_19号4様式1!Q12,RIGHT(FIXED(P_19号4様式1!Q12,3,FALSE),4),\"\"),\"\"),\"\")","v":""},null,{"$f":"IF(P_19号4様式1!T12=\"\",\"\",P_19号4様式1!T12)","v":""},{"$f":"IF(P_19号4様式1!U12=\"\",\"\",P_19号4様式1!U12)","v":""},{"$f":"IF(P_19号4様式1!V12<> \"\",IF(P_19号4様式1!V12<> \"-\",TEXT(INT(P_19号4様式1!V12),\"#,##0\"),\"-\"),\"\")","v":""},{"$f":"IF(P_19号4様式1!V12<> \"\",IF(P_19号4様式1!V12<> \"-\",IF(VALUE(FIXED(P_19号4様式1!V12,0,TRUE))<>P_19号4様式1!V12,RIGHT(FIXED(P_19号4様式1!V12,3,FALSE),4),\"\"),\"\"),\"\")","v":""}]
[{"$f":"IF(P_19号4様式1!E13=\"\",\"\",P_19号4様式1!E13)","v":""},{"$f":"IF(P_19号4様式1!F13=\"\",\"\",P_19号4様式1!F13)","v":""},{"$f":"IF(P_19号4様式1!G13<> \"\",IF(P_19号4様式1!G13<> \"-\",TEXT(INT(P_19号4様式1!G13),\"#,##0\"),\"-\"),\"\")","v":""},{"$f":"IF(P_19号4様式1!G13<> \"\",IF(P_19号4様式1!G13<> \"-\",IF(VALUE(FIXED(P_19号4様式1!G13,0,TRUE))<>P_19号4様式1!G13,RIGHT(FIXED(P_19号4様式1!G13,3,FALSE),4),\"\"),\"\"),\"\")","v":""},null,{"$f":"IF(P_19号4様式1!J13=\"\",\"\",P_19号4様式1!J13)","v":""},{"$f":"IF(P_19号4様式1!K13=\"\",\"\",P_19号4様式1!K13)","v":""},{"$f":"IF(P_19号4様式1!L13<> \"\",IF(P_19号4様式1!L13<> \"-\",TEXT(INT(P_19号4様式1!L13),\"#,##0\"),\"-\"),\"\")","v":""},{"$f":"IF(P_19号4様式1!L13<> \"\",IF(P_19号4様式1!L13<> \"-\",IF(VALUE(FIXED(P_19号4様式1!L13,0,TRUE))<>P_19号4様式1!L13,RIGHT(FIXED(P_19号4様式1!L13,3,FALSE),4),\"\"),\"\"),\"\")","v":""},null,{"$f":"IF(P_19号4様式1!O13=\"\",\"\",P_19号4様式1!O13)","v":""},{"$f":"IF(P_19号4様式1!P13=\"\",\"\",P_19号4様式1!P13)","v":""},{"$f":"IF(P_19号4様式1!Q13<> \"\",IF(P_19号4様式1!Q13<> \"-\",TEXT(INT(P_19号4様式1!Q13),\"#,##0\"),\"-\"),\"\")","v":""},{"$f":"IF(P_19号4様式1!Q13<> \"\",IF(P_19号4様式1!Q13<> \"-\",IF(VALUE(FIXED(P_19号4様式1!Q13,0,TRUE))<>P_19号4様式1!Q13,RIGHT(FIXED(P_19号4様式1!Q13,3,FALSE),4),\"\"),\"\"),\"\")","v":""},null,{"$f":"IF(P_19号4様式1!T13=\"\",\"\",P_19号4様式1!T13)","v":""},{"$f":"IF(P_19号4様式1!U13=\"\",\"\",P_19号4様式1!U13)","v":""},{"$f":"IF(P_19号4様式1!V13<> \"\",IF(P_19号4様式1!V13<> \"-\",TEXT(INT(P_19号4様式1!V13),\"#,##0\"),\"-\"),\"\")","v":""},{"$f":"IF(P_19号4様式1!V13<> \"\",IF(P_19号4様式1!V13<> \"-\",IF(VALUE(FIXED(P_19号4様式1!V13,0,TRUE))<>P_19号4様式1!V13,RIGHT(FIXED(P_19号4様式1!V13,3,FALSE),4),\"\"),\"\"),\"\")","v":""}]
[{"$f":"IF(P_19号4様式1!E14=\"\",\"\",P_19号4様式1!E14)","v":""},{"$f":"IF(P_19号4様式1!F14=\"\",\"\",P_19号4様式1!F14)","v":""},{"$f":"IF(P_19号4様式1!G14<> \"\",IF(P_19号4様式1!G14<> \"-\",TEXT(INT(P_19号4様式1!G14),\"#,##0\"),\"-\"),\"\")","v":""},{"$f":"IF(P_19号4様式1!G14<> \"\",IF(P_19号4様式1!G14<> \"-\",IF(VALUE(FIXED(P_19号4様式1!G14,0,TRUE))<>P_19号4様式1!G14,RIGHT(FIXED(P_19号4様式1!G14,3,FALSE),4),\"\"),\"\"),\"\")","v":""},null,{"$f":"IF(P_19号4様式1!J14=\"\",\"\",P_19号4様式1!J14)","v":""},{"$f":"IF(P_19号4様式1!K14=\"\",\"\",P_19号4様式1!K14)","v":""},{"$f":"IF(P_19号4様式1!L14<> \"\",IF(P_19号4様式1!L14<> \"-\",TEXT(INT(P_19号4様式1!L14),\"#,##0\"),\"-\"),\"\")","v":""},{"$f":"IF(P_19号4様式1!L14<> \"\",IF(P_19号4様式1!L14<> \"-\",IF(VALUE(FIXED(P_19号4様式1!L14,0,TRUE))<>P_19号4様式1!L14,RIGHT(FIXED(P_19号4様式1!L14,3,FALSE),4),\"\"),\"\"),\"\")","v":""},null,{"$f":"IF(P_19号4様式1!O14=\"\",\"\",P_19号4様式1!O14)","v":""},{"$f":"IF(P_19号4様式1!P14=\"\",\"\",P_19号4様式1!P14)","v":""},{"$f":"IF(P_19号4様式1!Q14<> \"\",IF(P_19号4様式1!Q14<> \"-\",TEXT(INT(P_19号4様式1!Q14),\"#,##0\"),\"-\"),\"\")","v":""},{"$f":"IF(P_19号4様式1!Q14<> \"\",IF(P_19号4様式1!Q14<> \"-\",IF(VALUE(FIXED(P_19号4様式1!Q14,0,TRUE))<>P_19号4様式1!Q14,RIGHT(FIXED(P_19号4様式1!Q14,3,FALSE),4),\"\"),\"\"),\"\")","v":""},null,{"$f":"IF(P_19号4様式1!T14=\"\",\"\",P_19号4様式1!T14)","v":""},{"$f":"IF(P_19号4様式1!U14=\"\",\"\",P_19号4様式1!U14)","v":""},{"$f":"IF(P_19号4様式1!V14<> \"\",IF(P_19号4様式1!V14<> \"-\",TEXT(INT(P_19号4様式1!V14),\"#,##0\"),\"-\"),\"\")","v":""},{"$f":"IF(P_19号4様式1!V14<> \"\",IF(P_19号4様式1!V14<> \"-\",IF(VALUE(FIXED(P_19号4様式1!V14,0,TRUE))<>P_19号4様式1!V14,RIGHT(FIXED(P_19号4様式1!V14,3,FALSE),4),\"\"),\"\"),\"\")","v":""}]
[{"$f":"IF(P_19号4様式1!E15=\"\",\"\",P_19号4様式1!E15)","v":""},{"$f":"IF(P_19号4様式1!F15=\"\",\"\",P_19号4様式1!F15)","v":""},{"$f":"IF(P_19号4様式1!G15<> \"\",IF(P_19号4様式1!G15<> \"-\",TEXT(INT(P_19号4様式1!G15),\"#,##0\"),\"-\"),\"\")","v":""},{"$f":"IF(P_19号4様式1!G15<> \"\",IF(P_19号4様式1!G15<> \"-\",IF(VALUE(FIXED(P_19号4様式1!G15,0,TRUE))<>P_19号4様式1!G15,RIGHT(FIXED(P_19号4様式1!G15,3,FALSE),4),\"\"),\"\"),\"\")","v":""},null,{"$f":"IF(P_19号4様式1!J15=\"\",\"\",P_19号4様式1!J15)","v":""},{"$f":"IF(P_19号4様式1!K15=\"\",\"\",P_19号4様式1!K15)","v":""},{"$f":"IF(P_19号4様式1!L15<> \"\",IF(P_19号4様式1!L15<> \"-\",TEXT(INT(P_19号4様式1!L15),\"#,##0\"),\"-\"),\"\")","v":""},{"$f":"IF(P_19号4様式1!L15<> \"\",IF(P_19号4様式1!L15<> \"-\",IF(VALUE(FIXED(P_19号4様式1!L15,0,TRUE))<>P_19号4様式1!L15,RIGHT(FIXED(P_19号4様式1!L15,3,FALSE),4),\"\"),\"\"),\"\")","v":""},null,{"$f":"IF(P_19号4様式1!O15=\"\",\"\",P_19号4様式1!O15)","v":""},{"$f":"IF(P_19号4様式1!P15=\"\",\"\",P_19号4様式1!P15)","v":""},{"$f":"IF(P_19号4様式1!Q15<> \"\",IF(P_19号4様式1!Q15<> \"-\",TEXT(INT(P_19号4様式1!Q15),\"#,##0\"),\"-\"),\"\")","v":""},{"$f":"IF(P_19号4様式1!Q15<> \"\",IF(P_19号4様式1!Q15<> \"-\",IF(VALUE(FIXED(P_19号4様式1!Q15,0,TRUE))<>P_19号4様式1!Q15,RIGHT(FIXED(P_19号4様式1!Q15,3,FALSE),4),\"\"),\"\"),\"\")","v":""},null,{"$f":"IF(P_19号4様式1!T15=\"\",\"\",P_19号4様式1!T15)","v":""},{"$f":"IF(P_19号4様式1!U15=\"\",\"\",P_19号4様式1!U15)","v":""},{"$f":"IF(P_19号4様式1!V15<> \"\",IF(P_19号4様式1!V15<> \"-\",TEXT(INT(P_19号4様式1!V15),\"#,##0\"),\"-\"),\"\")","v":""},{"$f":"IF(P_19号4様式1!V15<> \"\",IF(P_19号4様式1!V15<> \"-\",IF(VALUE(FIXED(P_19号4様式1!V15,0,TRUE))<>P_19号4様式1!V15,RIGHT(FIXED(P_19号4様式1!V15,3,FALSE),4),\"\"),\"\"),\"\")","v":""}]
[{"$f":"IF(P_19号4様式1!E16=\"\",\"\",P_19号4様式1!E16)","v":""},{"$f":"IF(P_19号4様式1!F16=\"\",\"\",P_19号4様式1!F16)","v":""},{"$f":"IF(P_19号4様式1!G16<> \"\",IF(P_19号4様式1!G16<> \"-\",TEXT(INT(P_19号4様式1!G16),\"#,##0\"),\"-\"),\"\")","v":""},{"$f":"IF(P_19号4様式1!G16<> \"\",IF(P_19号4様式1!G16<> \"-\",IF(VALUE(FIXED(P_19号4様式1!G16,0,TRUE))<>P_19号4様式1!G16,RIGHT(FIXED(P_19号4様式1!G16,3,FALSE),4),\"\"),\"\"),\"\")","v":""},null,{"$f":"IF(P_19号4様式1!J16=\"\",\"\",P_19号4様式1!J16)","v":""},{"$f":"IF(P_19号4様式1!K16=\"\",\"\",P_19号4様式1!K16)","v":""},{"$f":"IF(P_19号4様式1!L16<> \"\",IF(P_19号4様式1!L16<> \"-\",TEXT(INT(P_19号4様式1!L16),\"#,##0\"),\"-\"),\"\")","v":""},{"$f":"IF(P_19号4様式1!L16<> \"\",IF(P_19号4様式1!L16<> \"-\",IF(VALUE(FIXED(P_19号4様式1!L16,0,TRUE))<>P_19号4様式1!L16,RIGHT(FIXED(P_19号4様式1!L16,3,FALSE),4),\"\"),\"\"),\"\")","v":""},null,{"$f":"IF(P_19号4様式1!O16=\"\",\"\",P_19号4様式1!O16)","v":""},{"$f":"IF(P_19号4様式1!P16=\"\",\"\",P_19号4様式1!P16)","v":""},{"$f":"IF(P_19号4様式1!Q16<> \"\",IF(P_19号4様式1!Q16<> \"-\",TEXT(INT(P_19号4様式1!Q16),\"#,##0\"),\"-\"),\"\")","v":""},{"$f":"IF(P_19号4様式1!Q16<> \"\",IF(P_19号4様式1!Q16<> \"-\",IF(VALUE(FIXED(P_19号4様式1!Q16,0,TRUE))<>P_19号4様式1!Q16,RIGHT(FIXED(P_19号4様式1!Q16,3,FALSE),4),\"\"),\"\"),\"\")","v":""},null,{"$f":"IF(P_19号4様式1!T16=\"\",\"\",P_19号4様式1!T16)","v":""},{"$f":"IF(P_19号4様式1!U16=\"\",\"\",P_19号4様式1!U16)","v":""},{"$f":"IF(P_19号4様式1!V16<> \"\",IF(P_19号4様式1!V16<> \"-\",TEXT(INT(P_19号4様式1!V16),\"#,##0\"),\"-\"),\"\")","v":""},{"$f":"IF(P_19号4様式1!V16<> \"\",IF(P_19号4様式1!V16<> \"-\",IF(VALUE(FIXED(P_19号4様式1!V16,0,TRUE))<>P_19号4様式1!V16,RIGHT(FIXED(P_19号4様式1!V16,3,FALSE),4),\"\"),\"\"),\"\")","v":""}]
[{"$f":"IF(P_19号4様式1!E17=\"\",\"\",P_19号4様式1!E17)","v":""},{"$f":"IF(P_19号4様式1!F17=\"\",\"\",P_19号4様式1!F17)","v":""},{"$f":"IF(P_19号4様式1!G17<> \"\",IF(P_19号4様式1!G17<> \"-\",TEXT(INT(P_19号4様式1!G17),\"#,##0\"),\"-\"),\"\")","v":""},{"$f":"IF(P_19号4様式1!G17<> \"\",IF(P_19号4様式1!G17<> \"-\",IF(VALUE(FIXED(P_19号4様式1!G17,0,TRUE))<>P_19号4様式1!G17,RIGHT(FIXED(P_19号4様式1!G17,3,FALSE),4),\"\"),\"\"),\"\")","v":""},null,{"$f":"IF(P_19号4様式1!J17=\"\",\"\",P_19号4様式1!J17)","v":""},{"$f":"IF(P_19号4様式1!K17=\"\",\"\",P_19号4様式1!K17)","v":""},{"$f":"IF(P_19号4様式1!L17<> \"\",IF(P_19号4様式1!L17<> \"-\",TEXT(INT(P_19号4様式1!L17),\"#,##0\"),\"-\"),\"\")","v":""},{"$f":"IF(P_19号4様式1!L17<> \"\",IF(P_19号4様式1!L17<> \"-\",IF(VALUE(FIXED(P_19号4様式1!L17,0,TRUE))<>P_19号4様式1!L17,RIGHT(FIXED(P_19号4様式1!L17,3,FALSE),4),\"\"),\"\"),\"\")","v":""},null,{"$f":"IF(P_19号4様式1!O17=\"\",\"\",P_19号4様式1!O17)","v":""},{"$f":"IF(P_19号4様式1!P17=\"\",\"\",P_19号4様式1!P17)","v":""},{"$f":"IF(P_19号4様式1!Q17<> \"\",IF(P_19号4様式1!Q17<> \"-\",TEXT(INT(P_19号4様式1!Q17),\"#,##0\"),\"-\"),\"\")","v":""},{"$f":"IF(P_19号4様式1!Q17<> \"\",IF(P_19号4様式1!Q17<> \"-\",IF(VALUE(FIXED(P_19号4様式1!Q17,0,TRUE))<>P_19号4様式1!Q17,RIGHT(FIXED(P_19号4様式1!Q17,3,FALSE),4),\"\"),\"\"),\"\")","v":""},null,{"$f":"IF(P_19号4様式1!T17=\"\",\"\",P_19号4様式1!T17)","v":""},{"$f":"IF(P_19号4様式1!U17=\"\",\"\",P_19号4様式1!U17)","v":""},{"$f":"IF(P_19号4様式1!V17<> \"\",IF(P_19号4様式1!V17<> \"-\",TEXT(INT(P_19号4様式1!V17),\"#,##0\"),\"-\"),\"\")","v":""},{"$f":"IF(P_19号4様式1!V17<> \"\",IF(P_19号4様式1!V17<> \"-\",IF(VALUE(FIXED(P_19号4様式1!V17,0,TRUE))<>P_19号4様式1!V17,RIGHT(FIXED(P_19号4様式1!V17,3,FALSE),4),\"\"),\"\"),\"\")","v":""}]
[{"$f":"IF(P_19号4様式1!E18=\"\",\"\",P_19号4様式1!E18)","v":""},{"$f":"IF(P_19号4様式1!F18=\"\",\"\",P_19号4様式1!F18)","v":""},{"$f":"IF(P_19号4様式1!G18<> \"\",IF(P_19号4様式1!G18<> \"-\",TEXT(INT(P_19号4様式1!G18),\"#,##0\"),\"-\"),\"\")","v":""},{"$f":"IF(P_19号4様式1!G18<> \"\",IF(P_19号4様式1!G18<> \"-\",IF(VALUE(FIXED(P_19号4様式1!G18,0,TRUE))<>P_19号4様式1!G18,RIGHT(FIXED(P_19号4様式1!G18,3,FALSE),4),\"\"),\"\"),\"\")","v":""},null,{"$f":"IF(P_19号4様式1!J18=\"\",\"\",P_19号4様式1!J18)","v":""},{"$f":"IF(P_19号4様式1!K18=\"\",\"\",P_19号4様式1!K18)","v":""},{"$f":"IF(P_19号4様式1!L18<> \"\",IF(P_19号4様式1!L18<> \"-\",TEXT(INT(P_19号4様式1!L18),\"#,##0\"),\"-\"),\"\")","v":""},{"$f":"IF(P_19号4様式1!L18<> \"\",IF(P_19号4様式1!L18<> \"-\",IF(VALUE(FIXED(P_19号4様式1!L18,0,TRUE))<>P_19号4様式1!L18,RIGHT(FIXED(P_19号4様式1!L18,3,FALSE),4),\"\"),\"\"),\"\")","v":""},null,{"$f":"IF(P_19号4様式1!O18=\"\",\"\",P_19号4様式1!O18)","v":""},{"$f":"IF(P_19号4様式1!P18=\"\",\"\",P_19号4様式1!P18)","v":""},{"$f":"IF(P_19号4様式1!Q18<> \"\",IF(P_19号4様式1!Q18<> \"-\",TEXT(INT(P_19号4様式1!Q18),\"#,##0\"),\"-\"),\"\")","v":""},{"$f":"IF(P_19号4様式1!Q18<> \"\",IF(P_19号4様式1!Q18<> \"-\",IF(VALUE(FIXED(P_19号4様式1!Q18,0,TRUE))<>P_19号4様式1!Q18,RIGHT(FIXED(P_19号4様式1!Q18,3,FALSE),4),\"\"),\"\"),\"\")","v":""},null,{"$f":"IF(P_19号4様式1!T18=\"\",\"\",P_19号4様式1!T18)","v":""},{"$f":"IF(P_19号4様式1!U18=\"\",\"\",P_19号4様式1!U18)","v":""},{"$f":"IF(P_19号4様式1!V18<> \"\",IF(P_19号4様式1!V18<> \"-\",TEXT(INT(P_19号4様式1!V18),\"#,##0\"),\"-\"),\"\")","v":""},{"$f":"IF(P_19号4様式1!V18<> \"\",IF(P_19号4様式1!V18<> \"-\",IF(VALUE(FIXED(P_19号4様式1!V18,0,TRUE))<>P_19号4様式1!V18,RIGHT(FIXED(P_19号4様式1!V18,3,FALSE),4),\"\"),\"\"),\"\")","v":""}]
[{"$f":"IF(P_19号4様式1!E19=\"\",\"\",P_19号4様式1!E19)","v":""},{"$f":"IF(P_19号4様式1!F19=\"\",\"\",P_19号4様式1!F19)","v":""},{"$f":"IF(P_19号4様式1!G19<> \"\",IF(P_19号4様式1!G19<> \"-\",TEXT(INT(P_19号4様式1!G19),\"#,##0\"),\"-\"),\"\")","v":""},{"$f":"IF(P_19号4様式1!G19<> \"\",IF(P_19号4様式1!G19<> \"-\",IF(VALUE(FIXED(P_19号4様式1!G19,0,TRUE))<>P_19号4様式1!G19,RIGHT(FIXED(P_19号4様式1!G19,3,FALSE),4),\"\"),\"\"),\"\")","v":""},null,{"$f":"IF(P_19号4様式1!J19=\"\",\"\",P_19号4様式1!J19)","v":""},{"$f":"IF(P_19号4様式1!K19=\"\",\"\",P_19号4様式1!K19)","v":""},{"$f":"IF(P_19号4様式1!L19<> \"\",IF(P_19号4様式1!L19<> \"-\",TEXT(INT(P_19号4様式1!L19),\"#,##0\"),\"-\"),\"\")","v":""},{"$f":"IF(P_19号4様式1!L19<> \"\",IF(P_19号4様式1!L19<> \"-\",IF(VALUE(FIXED(P_19号4様式1!L19,0,TRUE))<>P_19号4様式1!L19,RIGHT(FIXED(P_19号4様式1!L19,3,FALSE),4),\"\"),\"\"),\"\")","v":""},null,{"$f":"IF(P_19号4様式1!O19=\"\",\"\",P_19号4様式1!O19)","v":""},{"$f":"IF(P_19号4様式1!P19=\"\",\"\",P_19号4様式1!P19)","v":""},{"$f":"IF(P_19号4様式1!Q19<> \"\",IF(P_19号4様式1!Q19<> \"-\",TEXT(INT(P_19号4様式1!Q19),\"#,##0\"),\"-\"),\"\")","v":""},{"$f":"IF(P_19号4様式1!Q19<> \"\",IF(P_19号4様式1!Q19<> \"-\",IF(VALUE(FIXED(P_19号4様式1!Q19,0,TRUE))<>P_19号4様式1!Q19,RIGHT(FIXED(P_19号4様式1!Q19,3,FALSE),4),\"\"),\"\"),\"\")","v":""},null,{"$f":"IF(P_19号4様式1!T19=\"\",\"\",P_19号4様式1!T19)","v":""},{"$f":"IF(P_19号4様式1!U19=\"\",\"\",P_19号4様式1!U19)","v":""},{"$f":"IF(P_19号4様式1!V19<> \"\",IF(P_19号4様式1!V19<> \"-\",TEXT(INT(P_19号4様式1!V19),\"#,##0\"),\"-\"),\"\")","v":""},{"$f":"IF(P_19号4様式1!V19<> \"\",IF(P_19号4様式1!V19<> \"-\",IF(VALUE(FIXED(P_19号4様式1!V19,0,TRUE))<>P_19号4様式1!V19,RIGHT(FIXED(P_19号4様式1!V19,3,FALSE),4),\"\"),\"\"),\"\")","v":""}]
[{"$f":"IF(P_19号4様式1!E20=\"\",\"\",P_19号4様式1!E20)","v":""},{"$f":"IF(P_19号4様式1!F20=\"\",\"\",P_19号4様式1!F20)","v":""},{"$f":"IF(P_19号4様式1!G20<> \"\",IF(P_19号4様式1!G20<> \"-\",TEXT(INT(P_19号4様式1!G20),\"#,##0\"),\"-\"),\"\")","v":""},{"$f":"IF(P_19号4様式1!G20<> \"\",IF(P_19号4様式1!G20<> \"-\",IF(VALUE(FIXED(P_19号4様式1!G20,0,TRUE))<>P_19号4様式1!G20,RIGHT(FIXED(P_19号4様式1!G20,3,FALSE),4),\"\"),\"\"),\"\")","v":""},null,{"$f":"IF(P_19号4様式1!J20=\"\",\"\",P_19号4様式1!J20)","v":""},{"$f":"IF(P_19号4様式1!K20=\"\",\"\",P_19号4様式1!K20)","v":""},{"$f":"IF(P_19号4様式1!L20<> \"\",IF(P_19号4様式1!L20<> \"-\",TEXT(INT(P_19号4様式1!L20),\"#,##0\"),\"-\"),\"\")","v":""},{"$f":"IF(P_19号4様式1!L20<> \"\",IF(P_19号4様式1!L20<> \"-\",IF(VALUE(FIXED(P_19号4様式1!L20,0,TRUE))<>P_19号4様式1!L20,RIGHT(FIXED(P_19号4様式1!L20,3,FALSE),4),\"\"),\"\"),\"\")","v":""},null,{"$f":"IF(P_19号4様式1!O20=\"\",\"\",P_19号4様式1!O20)","v":""},{"$f":"IF(P_19号4様式1!P20=\"\",\"\",P_19号4様式1!P20)","v":""},{"$f":"IF(P_19号4様式1!Q20<> \"\",IF(P_19号4様式1!Q20<> \"-\",TEXT(INT(P_19号4様式1!Q20),\"#,##0\"),\"-\"),\"\")","v":""},{"$f":"IF(P_19号4様式1!Q20<> \"\",IF(P_19号4様式1!Q20<> \"-\",IF(VALUE(FIXED(P_19号4様式1!Q20,0,TRUE))<>P_19号4様式1!Q20,RIGHT(FIXED(P_19号4様式1!Q20,3,FALSE),4),\"\"),\"\"),\"\")","v":""},null,{"$f":"IF(P_19号4様式1!T20=\"\",\"\",P_19号4様式1!T20)","v":""},{"$f":"IF(P_19号4様式1!U20=\"\",\"\",P_19号4様式1!U20)","v":""},{"$f":"IF(P_19号4様式1!V20<> \"\",IF(P_19号4様式1!V20<> \"-\",TEXT(INT(P_19号4様式1!V20),\"#,##0\"),\"-\"),\"\")","v":""},{"$f":"IF(P_19号4様式1!V20<> \"\",IF(P_19号4様式1!V20<> \"-\",IF(VALUE(FIXED(P_19号4様式1!V20,0,TRUE))<>P_19号4様式1!V20,RIGHT(FIXED(P_19号4様式1!V20,3,FALSE),4),\"\"),\"\"),\"\")","v":""}]
[{"$f":"IF(P_19号4様式1!E21=\"\",\"\",P_19号4様式1!E21)","v":""},{"$f":"IF(P_19号4様式1!F21=\"\",\"\",P_19号4様式1!F21)","v":""},{"$f":"IF(P_19号4様式1!G21<> \"\",IF(P_19号4様式1!G21<> \"-\",TEXT(INT(P_19号4様式1!G21),\"#,##0\"),\"-\"),\"\")","v":""},{"$f":"IF(P_19号4様式1!G21<> \"\",IF(P_19号4様式1!G21<> \"-\",IF(VALUE(FIXED(P_19号4様式1!G21,0,TRUE))<>P_19号4様式1!G21,RIGHT(FIXED(P_19号4様式1!G21,3,FALSE),4),\"\"),\"\"),\"\")","v":""},null,{"$f":"IF(P_19号4様式1!J21=\"\",\"\",P_19号4様式1!J21)","v":""},{"$f":"IF(P_19号4様式1!K21=\"\",\"\",P_19号4様式1!K21)","v":""},{"$f":"IF(P_19号4様式1!L21<> \"\",IF(P_19号4様式1!L21<> \"-\",TEXT(INT(P_19号4様式1!L21),\"#,##0\"),\"-\"),\"\")","v":""},{"$f":"IF(P_19号4様式1!L21<> \"\",IF(P_19号4様式1!L21<> \"-\",IF(VALUE(FIXED(P_19号4様式1!L21,0,TRUE))<>P_19号4様式1!L21,RIGHT(FIXED(P_19号4様式1!L21,3,FALSE),4),\"\"),\"\"),\"\")","v":""},null,{"$f":"IF(P_19号4様式1!O21=\"\",\"\",P_19号4様式1!O21)","v":""},{"$f":"IF(P_19号4様式1!P21=\"\",\"\",P_19号4様式1!P21)","v":""},{"$f":"IF(P_19号4様式1!Q21<> \"\",IF(P_19号4様式1!Q21<> \"-\",TEXT(INT(P_19号4様式1!Q21),\"#,##0\"),\"-\"),\"\")","v":""},{"$f":"IF(P_19号4様式1!Q21<> \"\",IF(P_19号4様式1!Q21<> \"-\",IF(VALUE(FIXED(P_19号4様式1!Q21,0,TRUE))<>P_19号4様式1!Q21,RIGHT(FIXED(P_19号4様式1!Q21,3,FALSE),4),\"\"),\"\"),\"\")","v":""},null,{"$f":"IF(P_19号4様式1!T21=\"\",\"\",P_19号4様式1!T21)","v":""},{"$f":"IF(P_19号4様式1!U21=\"\",\"\",P_19号4様式1!U21)","v":""},{"$f":"IF(P_19号4様式1!V21<> \"\",IF(P_19号4様式1!V21<> \"-\",TEXT(INT(P_19号4様式1!V21),\"#,##0\"),\"-\"),\"\")","v":""},{"$f":"IF(P_19号4様式1!V21<> \"\",IF(P_19号4様式1!V21<> \"-\",IF(VALUE(FIXED(P_19号4様式1!V21,0,TRUE))<>P_19号4様式1!V21,RIGHT(FIXED(P_19号4様式1!V21,3,FALSE),4),\"\"),\"\"),\"\")","v":""}]
[{"$f":"IF(P_19号4様式1!E22=\"\",\"\",P_19号4様式1!E22)","v":""},{"$f":"IF(P_19号4様式1!F22=\"\",\"\",P_19号4様式1!F22)","v":""},{"$f":"IF(P_19号4様式1!G22<> \"\",IF(P_19号4様式1!G22<> \"-\",TEXT(INT(P_19号4様式1!G22),\"#,##0\"),\"-\"),\"\")","v":""},{"$f":"IF(P_19号4様式1!G22<> \"\",IF(P_19号4様式1!G22<> \"-\",IF(VALUE(FIXED(P_19号4様式1!G22,0,TRUE))<>P_19号4様式1!G22,RIGHT(FIXED(P_19号4様式1!G22,3,FALSE),4),\"\"),\"\"),\"\")","v":""},null,{"$f":"IF(P_19号4様式1!J22=\"\",\"\",P_19号4様式1!J22)","v":""},{"$f":"IF(P_19号4様式1!K22=\"\",\"\",P_19号4様式1!K22)","v":""},{"$f":"IF(P_19号4様式1!L22<> \"\",IF(P_19号4様式1!L22<> \"-\",TEXT(INT(P_19号4様式1!L22),\"#,##0\"),\"-\"),\"\")","v":""},{"$f":"IF(P_19号4様式1!L22<> \"\",IF(P_19号4様式1!L22<> \"-\",IF(VALUE(FIXED(P_19号4様式1!L22,0,TRUE))<>P_19号4様式1!L22,RIGHT(FIXED(P_19号4様式1!L22,3,FALSE),4),\"\"),\"\"),\"\")","v":""},null,{"$f":"IF(P_19号4様式1!O22=\"\",\"\",P_19号4様式1!O22)","v":""},{"$f":"IF(P_19号4様式1!P22=\"\",\"\",P_19号4様式1!P22)","v":""},{"$f":"IF(P_19号4様式1!Q22<> \"\",IF(P_19号4様式1!Q22<> \"-\",TEXT(INT(P_19号4様式1!Q22),\"#,##0\"),\"-\"),\"\")","v":""},{"$f":"IF(P_19号4様式1!Q22<> \"\",IF(P_19号4様式1!Q22<> \"-\",IF(VALUE(FIXED(P_19号4様式1!Q22,0,TRUE))<>P_19号4様式1!Q22,RIGHT(FIXED(P_19号4様式1!Q22,3,FALSE),4),\"\"),\"\"),\"\")","v":""},null,{"$f":"IF(P_19号4様式1!T22=\"\",\"\",P_19号4様式1!T22)","v":""},{"$f":"IF(P_19号4様式1!U22=\"\",\"\",P_19号4様式1!U22)","v":""},{"$f":"IF(P_19号4様式1!V22<> \"\",IF(P_19号4様式1!V22<> \"-\",TEXT(INT(P_19号4様式1!V22),\"#,##0\"),\"-\"),\"\")","v":""},{"$f":"IF(P_19号4様式1!V22<> \"\",IF(P_19号4様式1!V22<> \"-\",IF(VALUE(FIXED(P_19号4様式1!V22,0,TRUE))<>P_19号4様式1!V22,RIGHT(FIXED(P_19号4様式1!V22,3,FALSE),4),\"\"),\"\"),\"\")","v":""}]
[{"$f":"IF(P_19号4様式1!E23=\"\",\"\",P_19号4様式1!E23)","v":""},{"$f":"IF(P_19号4様式1!F23=\"\",\"\",P_19号4様式1!F23)","v":""},{"$f":"IF(P_19号4様式1!G23<> \"\",IF(P_19号4様式1!G23<> \"-\",TEXT(INT(P_19号4様式1!G23),\"#,##0\"),\"-\"),\"\")","v":""},{"$f":"IF(P_19号4様式1!G23<> \"\",IF(P_19号4様式1!G23<> \"-\",IF(VALUE(FIXED(P_19号4様式1!G23,0,TRUE))<>P_19号4様式1!G23,RIGHT(FIXED(P_19号4様式1!G23,3,FALSE),4),\"\"),\"\"),\"\")","v":""},null,{"$f":"IF(P_19号4様式1!J23=\"\",\"\",P_19号4様式1!J23)","v":""},{"$f":"IF(P_19号4様式1!K23=\"\",\"\",P_19号4様式1!K23)","v":""},{"$f":"IF(P_19号4様式1!L23<> \"\",IF(P_19号4様式1!L23<> \"-\",TEXT(INT(P_19号4様式1!L23),\"#,##0\"),\"-\"),\"\")","v":""},{"$f":"IF(P_19号4様式1!L23<> \"\",IF(P_19号4様式1!L23<> \"-\",IF(VALUE(FIXED(P_19号4様式1!L23,0,TRUE))<>P_19号4様式1!L23,RIGHT(FIXED(P_19号4様式1!L23,3,FALSE),4),\"\"),\"\"),\"\")","v":""},null,{"$f":"IF(P_19号4様式1!O23=\"\",\"\",P_19号4様式1!O23)","v":""},{"$f":"IF(P_19号4様式1!P23=\"\",\"\",P_19号4様式1!P23)","v":""},{"$f":"IF(P_19号4様式1!Q23<> \"\",IF(P_19号4様式1!Q23<> \"-\",TEXT(INT(P_19号4様式1!Q23),\"#,##0\"),\"-\"),\"\")","v":""},{"$f":"IF(P_19号4様式1!Q23<> \"\",IF(P_19号4様式1!Q23<> \"-\",IF(VALUE(FIXED(P_19号4様式1!Q23,0,TRUE))<>P_19号4様式1!Q23,RIGHT(FIXED(P_19号4様式1!Q23,3,FALSE),4),\"\"),\"\"),\"\")","v":""},null,{"$f":"IF(P_19号4様式1!T23=\"\",\"\",P_19号4様式1!T23)","v":""},{"$f":"IF(P_19号4様式1!U23=\"\",\"\",P_19号4様式1!U23)","v":""},{"$f":"IF(P_19号4様式1!V23<> \"\",IF(P_19号4様式1!V23<> \"-\",TEXT(INT(P_19号4様式1!V23),\"#,##0\"),\"-\"),\"\")","v":""},{"$f":"IF(P_19号4様式1!V23<> \"\",IF(P_19号4様式1!V23<> \"-\",IF(VALUE(FIXED(P_19号4様式1!V23,0,TRUE))<>P_19号4様式1!V23,RIGHT(FIXED(P_19号4様式1!V23,3,FALSE),4),\"\"),\"\"),\"\")","v":""}]
[{"$f":"IF(P_19号4様式1!E24=\"\",\"\",P_19号4様式1!E24)","v":""},{"$f":"IF(P_19号4様式1!F24=\"\",\"\",P_19号4様式1!F24)","v":""},{"$f":"IF(P_19号4様式1!G24<> \"\",IF(P_19号4様式1!G24<> \"-\",TEXT(INT(P_19号4様式1!G24),\"#,##0\"),\"-\"),\"\")","v":""},{"$f":"IF(P_19号4様式1!G24<> \"\",IF(P_19号4様式1!G24<> \"-\",IF(VALUE(FIXED(P_19号4様式1!G24,0,TRUE))<>P_19号4様式1!G24,RIGHT(FIXED(P_19号4様式1!G24,3,FALSE),4),\"\"),\"\"),\"\")","v":""},null,{"$f":"IF(P_19号4様式1!J24=\"\",\"\",P_19号4様式1!J24)","v":""},{"$f":"IF(P_19号4様式1!K24=\"\",\"\",P_19号4様式1!K24)","v":""},{"$f":"IF(P_19号4様式1!L24<> \"\",IF(P_19号4様式1!L24<> \"-\",TEXT(INT(P_19号4様式1!L24),\"#,##0\"),\"-\"),\"\")","v":""},{"$f":"IF(P_19号4様式1!L24<> \"\",IF(P_19号4様式1!L24<> \"-\",IF(VALUE(FIXED(P_19号4様式1!L24,0,TRUE))<>P_19号4様式1!L24,RIGHT(FIXED(P_19号4様式1!L24,3,FALSE),4),\"\"),\"\"),\"\")","v":""},null,{"$f":"IF(P_19号4様式1!O24=\"\",\"\",P_19号4様式1!O24)","v":""},{"$f":"IF(P_19号4様式1!P24=\"\",\"\",P_19号4様式1!P24)","v":""},{"$f":"IF(P_19号4様式1!Q24<> \"\",IF(P_19号4様式1!Q24<> \"-\",TEXT(INT(P_19号4様式1!Q24),\"#,##0\"),\"-\"),\"\")","v":""},{"$f":"IF(P_19号4様式1!Q24<> \"\",IF(P_19号4様式1!Q24<> \"-\",IF(VALUE(FIXED(P_19号4様式1!Q24,0,TRUE))<>P_19号4様式1!Q24,RIGHT(FIXED(P_19号4様式1!Q24,3,FALSE),4),\"\"),\"\"),\"\")","v":""},null,{"$f":"IF(P_19号4様式1!T24=\"\",\"\",P_19号4様式1!T24)","v":""},{"$f":"IF(P_19号4様式1!U24=\"\",\"\",P_19号4様式1!U24)","v":""},{"$f":"IF(P_19号4様式1!V24<> \"\",IF(P_19号4様式1!V24<> \"-\",TEXT(INT(P_19号4様式1!V24),\"#,##0\"),\"-\"),\"\")","v":""},{"$f":"IF(P_19号4様式1!V24<> \"\",IF(P_19号4様式1!V24<> \"-\",IF(VALUE(FIXED(P_19号4様式1!V24,0,TRUE))<>P_19号4様式1!V24,RIGHT(FIXED(P_19号4様式1!V24,3,FALSE),4),\"\"),\"\"),\"\")","v":""}]
[{"$f":"IF(P_19号4様式1!E25=\"\",\"\",P_19号4様式1!E25)","v":""},{"$f":"IF(P_19号4様式1!F25=\"\",\"\",P_19号4様式1!F25)","v":""},{"$f":"IF(P_19号4様式1!G25<> \"\",IF(P_19号4様式1!G25<> \"-\",TEXT(INT(P_19号4様式1!G25),\"#,##0\"),\"-\"),\"\")","v":""},{"$f":"IF(P_19号4様式1!G25<> \"\",IF(P_19号4様式1!G25<> \"-\",IF(VALUE(FIXED(P_19号4様式1!G25,0,TRUE))<>P_19号4様式1!G25,RIGHT(FIXED(P_19号4様式1!G25,3,FALSE),4),\"\"),\"\"),\"\")","v":""},null,{"$f":"IF(P_19号4様式1!J25=\"\",\"\",P_19号4様式1!J25)","v":""},{"$f":"IF(P_19号4様式1!K25=\"\",\"\",P_19号4様式1!K25)","v":""},{"$f":"IF(P_19号4様式1!L25<> \"\",IF(P_19号4様式1!L25<> \"-\",TEXT(INT(P_19号4様式1!L25),\"#,##0\"),\"-\"),\"\")","v":""},{"$f":"IF(P_19号4様式1!L25<> \"\",IF(P_19号4様式1!L25<> \"-\",IF(VALUE(FIXED(P_19号4様式1!L25,0,TRUE))<>P_19号4様式1!L25,RIGHT(FIXED(P_19号4様式1!L25,3,FALSE),4),\"\"),\"\"),\"\")","v":""},null,{"$f":"IF(P_19号4様式1!O25=\"\",\"\",P_19号4様式1!O25)","v":""},{"$f":"IF(P_19号4様式1!P25=\"\",\"\",P_19号4様式1!P25)","v":""},{"$f":"IF(P_19号4様式1!Q25<> \"\",IF(P_19号4様式1!Q25<> \"-\",TEXT(INT(P_19号4様式1!Q25),\"#,##0\"),\"-\"),\"\")","v":""},{"$f":"IF(P_19号4様式1!Q25<> \"\",IF(P_19号4様式1!Q25<> \"-\",IF(VALUE(FIXED(P_19号4様式1!Q25,0,TRUE))<>P_19号4様式1!Q25,RIGHT(FIXED(P_19号4様式1!Q25,3,FALSE),4),\"\"),\"\"),\"\")","v":""},null,{"$f":"IF(P_19号4様式1!T25=\"\",\"\",P_19号4様式1!T25)","v":""},{"$f":"IF(P_19号4様式1!U25=\"\",\"\",P_19号4様式1!U25)","v":""},{"$f":"IF(P_19号4様式1!V25<> \"\",IF(P_19号4様式1!V25<> \"-\",TEXT(INT(P_19号4様式1!V25),\"#,##0\"),\"-\"),\"\")","v":""},{"$f":"IF(P_19号4様式1!V25<> \"\",IF(P_19号4様式1!V25<> \"-\",IF(VALUE(FIXED(P_19号4様式1!V25,0,TRUE))<>P_19号4様式1!V25,RIGHT(FIXED(P_19号4様式1!V25,3,FALSE),4),\"\"),\"\"),\"\")","v":""}]
[{"$f":"IF(P_19号4様式1!E26=\"\",\"\",P_19号4様式1!E26)","v":""},{"$f":"IF(P_19号4様式1!F26=\"\",\"\",P_19号4様式1!F26)","v":""},{"$f":"IF(P_19号4様式1!G26<> \"\",IF(P_19号4様式1!G26<> \"-\",TEXT(INT(P_19号4様式1!G26),\"#,##0\"),\"-\"),\"\")","v":""},{"$f":"IF(P_19号4様式1!G26<> \"\",IF(P_19号4様式1!G26<> \"-\",IF(VALUE(FIXED(P_19号4様式1!G26,0,TRUE))<>P_19号4様式1!G26,RIGHT(FIXED(P_19号4様式1!G26,3,FALSE),4),\"\"),\"\"),\"\")","v":""},null,{"$f":"IF(P_19号4様式1!J26=\"\",\"\",P_19号4様式1!J26)","v":""},{"$f":"IF(P_19号4様式1!K26=\"\",\"\",P_19号4様式1!K26)","v":""},{"$f":"IF(P_19号4様式1!L26<> \"\",IF(P_19号4様式1!L26<> \"-\",TEXT(INT(P_19号4様式1!L26),\"#,##0\"),\"-\"),\"\")","v":""},{"$f":"IF(P_19号4様式1!L26<> \"\",IF(P_19号4様式1!L26<> \"-\",IF(VALUE(FIXED(P_19号4様式1!L26,0,TRUE))<>P_19号4様式1!L26,RIGHT(FIXED(P_19号4様式1!L26,3,FALSE),4),\"\"),\"\"),\"\")","v":""},null,{"$f":"IF(P_19号4様式1!O26=\"\",\"\",P_19号4様式1!O26)","v":""},{"$f":"IF(P_19号4様式1!P26=\"\",\"\",P_19号4様式1!P26)","v":""},{"$f":"IF(P_19号4様式1!Q26<> \"\",IF(P_19号4様式1!Q26<> \"-\",TEXT(INT(P_19号4様式1!Q26),\"#,##0\"),\"-\"),\"\")","v":""},{"$f":"IF(P_19号4様式1!Q26<> \"\",IF(P_19号4様式1!Q26<> \"-\",IF(VALUE(FIXED(P_19号4様式1!Q26,0,TRUE))<>P_19号4様式1!Q26,RIGHT(FIXED(P_19号4様式1!Q26,3,FALSE),4),\"\"),\"\"),\"\")","v":""},null,{"$f":"IF(P_19号4様式1!T26=\"\",\"\",P_19号4様式1!T26)","v":""},{"$f":"IF(P_19号4様式1!U26=\"\",\"\",P_19号4様式1!U26)","v":""},{"$f":"IF(P_19号4様式1!V26<> \"\",IF(P_19号4様式1!V26<> \"-\",TEXT(INT(P_19号4様式1!V26),\"#,##0\"),\"-\"),\"\")","v":""},{"$f":"IF(P_19号4様式1!V26<> \"\",IF(P_19号4様式1!V26<> \"-\",IF(VALUE(FIXED(P_19号4様式1!V26,0,TRUE))<>P_19号4様式1!V26,RIGHT(FIXED(P_19号4様式1!V26,3,FALSE),4),\"\"),\"\"),\"\")","v":""}]
[{"$f":"IF(P_19号4様式1!E27=\"\",\"\",P_19号4様式1!E27)","v":""},{"$f":"IF(P_19号4様式1!F27=\"\",\"\",P_19号4様式1!F27)","v":""},{"$f":"IF(P_19号4様式1!G27<> \"\",IF(P_19号4様式1!G27<> \"-\",TEXT(INT(P_19号4様式1!G27),\"#,##0\"),\"-\"),\"\")","v":""},{"$f":"IF(P_19号4様式1!G27<> \"\",IF(P_19号4様式1!G27<> \"-\",IF(VALUE(FIXED(P_19号4様式1!G27,0,TRUE))<>P_19号4様式1!G27,RIGHT(FIXED(P_19号4様式1!G27,3,FALSE),4),\"\"),\"\"),\"\")","v":""},null,{"$f":"IF(P_19号4様式1!J27=\"\",\"\",P_19号4様式1!J27)","v":""},{"$f":"IF(P_19号4様式1!K27=\"\",\"\",P_19号4様式1!K27)","v":""},{"$f":"IF(P_19号4様式1!L27<> \"\",IF(P_19号4様式1!L27<> \"-\",TEXT(INT(P_19号4様式1!L27),\"#,##0\"),\"-\"),\"\")","v":""},{"$f":"IF(P_19号4様式1!L27<> \"\",IF(P_19号4様式1!L27<> \"-\",IF(VALUE(FIXED(P_19号4様式1!L27,0,TRUE))<>P_19号4様式1!L27,RIGHT(FIXED(P_19号4様式1!L27,3,FALSE),4),\"\"),\"\"),\"\")","v":""},null,{"$f":"IF(P_19号4様式1!O27=\"\",\"\",P_19号4様式1!O27)","v":""},{"$f":"IF(P_19号4様式1!P27=\"\",\"\",P_19号4様式1!P27)","v":""},{"$f":"IF(P_19号4様式1!Q27<> \"\",IF(P_19号4様式1!Q27<> \"-\",TEXT(INT(P_19号4様式1!Q27),\"#,##0\"),\"-\"),\"\")","v":""},{"$f":"IF(P_19号4様式1!Q27<> \"\",IF(P_19号4様式1!Q27<> \"-\",IF(VALUE(FIXED(P_19号4様式1!Q27,0,TRUE))<>P_19号4様式1!Q27,RIGHT(FIXED(P_19号4様式1!Q27,3,FALSE),4),\"\"),\"\"),\"\")","v":""},null,{"$f":"IF(P_19号4様式1!T27=\"\",\"\",P_19号4様式1!T27)","v":""},{"$f":"IF(P_19号4様式1!U27=\"\",\"\",P_19号4様式1!U27)","v":""},{"$f":"IF(P_19号4様式1!V27<> \"\",IF(P_19号4様式1!V27<> \"-\",TEXT(INT(P_19号4様式1!V27),\"#,##0\"),\"-\"),\"\")","v":""},{"$f":"IF(P_19号4様式1!V27<> \"\",IF(P_19号4様式1!V27<> \"-\",IF(VALUE(FIXED(P_19号4様式1!V27,0,TRUE))<>P_19号4様式1!V27,RIGHT(FIXED(P_19号4様式1!V27,3,FALSE),4),\"\"),\"\"),\"\")","v":""}]
[{"$f":"IF(P_19号4様式1!E28=\"\",\"\",P_19号4様式1!E28)","v":""},{"$f":"IF(P_19号4様式1!F28=\"\",\"\",P_19号4様式1!F28)","v":""},{"$f":"IF(P_19号4様式1!G28<> \"\",IF(P_19号4様式1!G28<> \"-\",TEXT(INT(P_19号4様式1!G28),\"#,##0\"),\"-\"),\"\")","v":""},{"$f":"IF(P_19号4様式1!G28<> \"\",IF(P_19号4様式1!G28<> \"-\",IF(VALUE(FIXED(P_19号4様式1!G28,0,TRUE))<>P_19号4様式1!G28,RIGHT(FIXED(P_19号4様式1!G28,3,FALSE),4),\"\"),\"\"),\"\")","v":""},null,{"$f":"IF(P_19号4様式1!J28=\"\",\"\",P_19号4様式1!J28)","v":""},{"$f":"IF(P_19号4様式1!K28=\"\",\"\",P_19号4様式1!K28)","v":""},{"$f":"IF(P_19号4様式1!L28<> \"\",IF(P_19号4様式1!L28<> \"-\",TEXT(INT(P_19号4様式1!L28),\"#,##0\"),\"-\"),\"\")","v":""},{"$f":"IF(P_19号4様式1!L28<> \"\",IF(P_19号4様式1!L28<> \"-\",IF(VALUE(FIXED(P_19号4様式1!L28,0,TRUE))<>P_19号4様式1!L28,RIGHT(FIXED(P_19号4様式1!L28,3,FALSE),4),\"\"),\"\"),\"\")","v":""},null,{"$f":"IF(P_19号4様式1!O28=\"\",\"\",P_19号4様式1!O28)","v":""},{"$f":"IF(P_19号4様式1!P28=\"\",\"\",P_19号4様式1!P28)","v":""},{"$f":"IF(P_19号4様式1!Q28<> \"\",IF(P_19号4様式1!Q28<> \"-\",TEXT(INT(P_19号4様式1!Q28),\"#,##0\"),\"-\"),\"\")","v":""},{"$f":"IF(P_19号4様式1!Q28<> \"\",IF(P_19号4様式1!Q28<> \"-\",IF(VALUE(FIXED(P_19号4様式1!Q28,0,TRUE))<>P_19号4様式1!Q28,RIGHT(FIXED(P_19号4様式1!Q28,3,FALSE),4),\"\"),\"\"),\"\")","v":""},null,{"$f":"IF(P_19号4様式1!T28=\"\",\"\",P_19号4様式1!T28)","v":""},{"$f":"IF(P_19号4様式1!U28=\"\",\"\",P_19号4様式1!U28)","v":""},{"$f":"IF(P_19号4様式1!V28<> \"\",IF(P_19号4様式1!V28<> \"-\",TEXT(INT(P_19号4様式1!V28),\"#,##0\"),\"-\"),\"\")","v":""},{"$f":"IF(P_19号4様式1!V28<> \"\",IF(P_19号4様式1!V28<> \"-\",IF(VALUE(FIXED(P_19号4様式1!V28,0,TRUE))<>P_19号4様式1!V28,RIGHT(FIXED(P_19号4様式1!V28,3,FALSE),4),\"\"),\"\"),\"\")","v":""}]
[{"$f":"IF(P_19号4様式1!E29=\"\",\"\",P_19号4様式1!E29)","v":""},{"$f":"IF(P_19号4様式1!F29=\"\",\"\",P_19号4様式1!F29)","v":""},{"$f":"IF(P_19号4様式1!G29<> \"\",IF(P_19号4様式1!G29<> \"-\",TEXT(INT(P_19号4様式1!G29),\"#,##0\"),\"-\"),\"\")","v":""},{"$f":"IF(P_19号4様式1!G29<> \"\",IF(P_19号4様式1!G29<> \"-\",IF(VALUE(FIXED(P_19号4様式1!G29,0,TRUE))<>P_19号4様式1!G29,RIGHT(FIXED(P_19号4様式1!G29,3,FALSE),4),\"\"),\"\"),\"\")","v":""},null,{"$f":"IF(P_19号4様式1!J29=\"\",\"\",P_19号4様式1!J29)","v":""},{"$f":"IF(P_19号4様式1!K29=\"\",\"\",P_19号4様式1!K29)","v":""},{"$f":"IF(P_19号4様式1!L29<> \"\",IF(P_19号4様式1!L29<> \"-\",TEXT(INT(P_19号4様式1!L29),\"#,##0\"),\"-\"),\"\")","v":""},{"$f":"IF(P_19号4様式1!L29<> \"\",IF(P_19号4様式1!L29<> \"-\",IF(VALUE(FIXED(P_19号4様式1!L29,0,TRUE))<>P_19号4様式1!L29,RIGHT(FIXED(P_19号4様式1!L29,3,FALSE),4),\"\"),\"\"),\"\")","v":""},null,{"$f":"IF(P_19号4様式1!O29=\"\",\"\",P_19号4様式1!O29)","v":""},{"$f":"IF(P_19号4様式1!P29=\"\",\"\",P_19号4様式1!P29)","v":""},{"$f":"IF(P_19号4様式1!Q29<> \"\",IF(P_19号4様式1!Q29<> \"-\",TEXT(INT(P_19号4様式1!Q29),\"#,##0\"),\"-\"),\"\")","v":""},{"$f":"IF(P_19号4様式1!Q29<> \"\",IF(P_19号4様式1!Q29<> \"-\",IF(VALUE(FIXED(P_19号4様式1!Q29,0,TRUE))<>P_19号4様式1!Q29,RIGHT(FIXED(P_19号4様式1!Q29,3,FALSE),4),\"\"),\"\"),\"\")","v":""},null,{"$f":"IF(P_19号4様式1!T29=\"\",\"\",P_19号4様式1!T29)","v":""},{"$f":"IF(P_19号4様式1!U29=\"\",\"\",P_19号4様式1!U29)","v":""},{"$f":"IF(P_19号4様式1!V29<> \"\",IF(P_19号4様式1!V29<> \"-\",TEXT(INT(P_19号4様式1!V29),\"#,##0\"),\"-\"),\"\")","v":""},{"$f":"IF(P_19号4様式1!V29<> \"\",IF(P_19号4様式1!V29<> \"-\",IF(VALUE(FIXED(P_19号4様式1!V29,0,TRUE))<>P_19号4様式1!V29,RIGHT(FIXED(P_19号4様式1!V29,3,FALSE),4),\"\"),\"\"),\"\")","v":""}]
[{"$f":"IF(P_19号4様式1!E30=\"\",\"\",P_19号4様式1!E30)","v":""},{"$f":"IF(P_19号4様式1!F30=\"\",\"\",P_19号4様式1!F30)","v":""},{"$f":"IF(P_19号4様式1!G30<> \"\",IF(P_19号4様式1!G30<> \"-\",TEXT(INT(P_19号4様式1!G30),\"#,##0\"),\"-\"),\"\")","v":""},{"$f":"IF(P_19号4様式1!G30<> \"\",IF(P_19号4様式1!G30<> \"-\",IF(VALUE(FIXED(P_19号4様式1!G30,0,TRUE))<>P_19号4様式1!G30,RIGHT(FIXED(P_19号4様式1!G30,3,FALSE),4),\"\"),\"\"),\"\")","v":""},null,{"$f":"IF(P_19号4様式1!J30=\"\",\"\",P_19号4様式1!J30)","v":""},{"$f":"IF(P_19号4様式1!K30=\"\",\"\",P_19号4様式1!K30)","v":""},{"$f":"IF(P_19号4様式1!L30<> \"\",IF(P_19号4様式1!L30<> \"-\",TEXT(INT(P_19号4様式1!L30),\"#,##0\"),\"-\"),\"\")","v":""},{"$f":"IF(P_19号4様式1!L30<> \"\",IF(P_19号4様式1!L30<> \"-\",IF(VALUE(FIXED(P_19号4様式1!L30,0,TRUE))<>P_19号4様式1!L30,RIGHT(FIXED(P_19号4様式1!L30,3,FALSE),4),\"\"),\"\"),\"\")","v":""},null,{"$f":"IF(P_19号4様式1!O30=\"\",\"\",P_19号4様式1!O30)","v":""},{"$f":"IF(P_19号4様式1!P30=\"\",\"\",P_19号4様式1!P30)","v":""},{"$f":"IF(P_19号4様式1!Q30<> \"\",IF(P_19号4様式1!Q30<> \"-\",TEXT(INT(P_19号4様式1!Q30),\"#,##0\"),\"-\"),\"\")","v":""},{"$f":"IF(P_19号4様式1!Q30<> \"\",IF(P_19号4様式1!Q30<> \"-\",IF(VALUE(FIXED(P_19号4様式1!Q30,0,TRUE))<>P_19号4様式1!Q30,RIGHT(FIXED(P_19号4様式1!Q30,3,FALSE),4),\"\"),\"\"),\"\")","v":""},null,{"$f":"IF(P_19号4様式1!T30=\"\",\"\",P_19号4様式1!T30)","v":""},{"$f":"IF(P_19号4様式1!U30=\"\",\"\",P_19号4様式1!U30)","v":""},{"$f":"IF(P_19号4様式1!V30<> \"\",IF(P_19号4様式1!V30<> \"-\",TEXT(INT(P_19号4様式1!V30),\"#,##0\"),\"-\"),\"\")","v":""},{"$f":"IF(P_19号4様式1!V30<> \"\",IF(P_19号4様式1!V30<> \"-\",IF(VALUE(FIXED(P_19号4様式1!V30,0,TRUE))<>P_19号4様式1!V30,RIGHT(FIXED(P_19号4様式1!V30,3,FALSE),4),\"\"),\"\"),\"\")","v":""}]
[{"$f":"IF(P_19号4様式1!E31=\"\",\"\",P_19号4様式1!E31)","v":""},{"$f":"IF(P_19号4様式1!F31=\"\",\"\",P_19号4様式1!F31)","v":""},{"$f":"IF(P_19号4様式1!G31<> \"\",IF(P_19号4様式1!G31<> \"-\",TEXT(INT(P_19号4様式1!G31),\"#,##0\"),\"-\"),\"\")","v":""},{"$f":"IF(P_19号4様式1!G31<> \"\",IF(P_19号4様式1!G31<> \"-\",IF(VALUE(FIXED(P_19号4様式1!G31,0,TRUE))<>P_19号4様式1!G31,RIGHT(FIXED(P_19号4様式1!G31,3,FALSE),4),\"\"),\"\"),\"\")","v":""},null,{"$f":"IF(P_19号4様式1!J31=\"\",\"\",P_19号4様式1!J31)","v":""},{"$f":"IF(P_19号4様式1!K31=\"\",\"\",P_19号4様式1!K31)","v":""},{"$f":"IF(P_19号4様式1!L31<> \"\",IF(P_19号4様式1!L31<> \"-\",TEXT(INT(P_19号4様式1!L31),\"#,##0\"),\"-\"),\"\")","v":""},{"$f":"IF(P_19号4様式1!L31<> \"\",IF(P_19号4様式1!L31<> \"-\",IF(VALUE(FIXED(P_19号4様式1!L31,0,TRUE))<>P_19号4様式1!L31,RIGHT(FIXED(P_19号4様式1!L31,3,FALSE),4),\"\"),\"\"),\"\")","v":""},null,{"$f":"IF(P_19号4様式1!O31=\"\",\"\",P_19号4様式1!O31)","v":""},{"$f":"IF(P_19号4様式1!P31=\"\",\"\",P_19号4様式1!P31)","v":""},{"$f":"IF(P_19号4様式1!Q31<> \"\",IF(P_19号4様式1!Q31<> \"-\",TEXT(INT(P_19号4様式1!Q31),\"#,##0\"),\"-\"),\"\")","v":""},{"$f":"IF(P_19号4様式1!Q31<> \"\",IF(P_19号4様式1!Q31<> \"-\",IF(VALUE(FIXED(P_19号4様式1!Q31,0,TRUE))<>P_19号4様式1!Q31,RIGHT(FIXED(P_19号4様式1!Q31,3,FALSE),4),\"\"),\"\"),\"\")","v":""},null,{"$f":"IF(P_19号4様式1!T31=\"\",\"\",P_19号4様式1!T31)","v":""},{"$f":"IF(P_19号4様式1!U31=\"\",\"\",P_19号4様式1!U31)","v":""},{"$f":"IF(P_19号4様式1!V31<> \"\",IF(P_19号4様式1!V31<> \"-\",TEXT(INT(P_19号4様式1!V31),\"#,##0\"),\"-\"),\"\")","v":""},{"$f":"IF(P_19号4様式1!V31<> \"\",IF(P_19号4様式1!V31<> \"-\",IF(VALUE(FIXED(P_19号4様式1!V31,0,TRUE))<>P_19号4様式1!V31,RIGHT(FIXED(P_19号4様式1!V31,3,FALSE),4),\"\"),\"\"),\"\")","v":""}]
[{"$f":"IF(P_19号4様式1!E32=\"\",\"\",P_19号4様式1!E32)","v":""},{"$f":"IF(P_19号4様式1!F32=\"\",\"\",P_19号4様式1!F32)","v":""},{"$f":"IF(P_19号4様式1!G32<> \"\",IF(P_19号4様式1!G32<> \"-\",TEXT(INT(P_19号4様式1!G32),\"#,##0\"),\"-\"),\"\")","v":""},{"$f":"IF(P_19号4様式1!G32<> \"\",IF(P_19号4様式1!G32<> \"-\",IF(VALUE(FIXED(P_19号4様式1!G32,0,TRUE))<>P_19号4様式1!G32,RIGHT(FIXED(P_19号4様式1!G32,3,FALSE),4),\"\"),\"\"),\"\")","v":""},null,{"$f":"IF(P_19号4様式1!J32=\"\",\"\",P_19号4様式1!J32)","v":""},{"$f":"IF(P_19号4様式1!K32=\"\",\"\",P_19号4様式1!K32)","v":""},{"$f":"IF(P_19号4様式1!L32<> \"\",IF(P_19号4様式1!L32<> \"-\",TEXT(INT(P_19号4様式1!L32),\"#,##0\"),\"-\"),\"\")","v":""},{"$f":"IF(P_19号4様式1!L32<> \"\",IF(P_19号4様式1!L32<> \"-\",IF(VALUE(FIXED(P_19号4様式1!L32,0,TRUE))<>P_19号4様式1!L32,RIGHT(FIXED(P_19号4様式1!L32,3,FALSE),4),\"\"),\"\"),\"\")","v":""},null,{"$f":"IF(P_19号4様式1!O32=\"\",\"\",P_19号4様式1!O32)","v":""},{"$f":"IF(P_19号4様式1!P32=\"\",\"\",P_19号4様式1!P32)","v":""},{"$f":"IF(P_19号4様式1!Q32<> \"\",IF(P_19号4様式1!Q32<> \"-\",TEXT(INT(P_19号4様式1!Q32),\"#,##0\"),\"-\"),\"\")","v":""},{"$f":"IF(P_19号4様式1!Q32<> \"\",IF(P_19号4様式1!Q32<> \"-\",IF(VALUE(FIXED(P_19号4様式1!Q32,0,TRUE))<>P_19号4様式1!Q32,RIGHT(FIXED(P_19号4様式1!Q32,3,FALSE),4),\"\"),\"\"),\"\")","v":""},null,{"$f":"IF(P_19号4様式1!T32=\"\",\"\",P_19号4様式1!T32)","v":""},{"$f":"IF(P_19号4様式1!U32=\"\",\"\",P_19号4様式1!U32)","v":""},{"$f":"IF(P_19号4様式1!V32<> \"\",IF(P_19号4様式1!V32<> \"-\",TEXT(INT(P_19号4様式1!V32),\"#,##0\"),\"-\"),\"\")","v":""},{"$f":"IF(P_19号4様式1!V32<> \"\",IF(P_19号4様式1!V32<> \"-\",IF(VALUE(FIXED(P_19号4様式1!V32,0,TRUE))<>P_19号4様式1!V32,RIGHT(FIXED(P_19号4様式1!V32,3,FALSE),4),\"\"),\"\"),\"\")","v":""}]
[{"$f":"IF(P_19号4様式1!E33=\"\",\"\",P_19号4様式1!E33)","v":""},{"$f":"IF(P_19号4様式1!F33=\"\",\"\",P_19号4様式1!F33)","v":""},{"$f":"IF(P_19号4様式1!G33<> \"\",IF(P_19号4様式1!G33<> \"-\",TEXT(INT(P_19号4様式1!G33),\"#,##0\"),\"-\"),\"\")","v":""},{"$f":"IF(P_19号4様式1!G33<> \"\",IF(P_19号4様式1!G33<> \"-\",IF(VALUE(FIXED(P_19号4様式1!G33,0,TRUE))<>P_19号4様式1!G33,RIGHT(FIXED(P_19号4様式1!G33,3,FALSE),4),\"\"),\"\"),\"\")","v":""},null,{"$f":"IF(P_19号4様式1!J33=\"\",\"\",P_19号4様式1!J33)","v":""},{"$f":"IF(P_19号4様式1!K33=\"\",\"\",P_19号4様式1!K33)","v":""},{"$f":"IF(P_19号4様式1!L33<> \"\",IF(P_19号4様式1!L33<> \"-\",TEXT(INT(P_19号4様式1!L33),\"#,##0\"),\"-\"),\"\")","v":""},{"$f":"IF(P_19号4様式1!L33<> \"\",IF(P_19号4様式1!L33<> \"-\",IF(VALUE(FIXED(P_19号4様式1!L33,0,TRUE))<>P_19号4様式1!L33,RIGHT(FIXED(P_19号4様式1!L33,3,FALSE),4),\"\"),\"\"),\"\")","v":""},null,{"$f":"IF(P_19号4様式1!O33=\"\",\"\",P_19号4様式1!O33)","v":""},{"$f":"IF(P_19号4様式1!P33=\"\",\"\",P_19号4様式1!P33)","v":""},{"$f":"IF(P_19号4様式1!Q33<> \"\",IF(P_19号4様式1!Q33<> \"-\",TEXT(INT(P_19号4様式1!Q33),\"#,##0\"),\"-\"),\"\")","v":""},{"$f":"IF(P_19号4様式1!Q33<> \"\",IF(P_19号4様式1!Q33<> \"-\",IF(VALUE(FIXED(P_19号4様式1!Q33,0,TRUE))<>P_19号4様式1!Q33,RIGHT(FIXED(P_19号4様式1!Q33,3,FALSE),4),\"\"),\"\"),\"\")","v":""},null,{"$f":"IF(P_19号4様式1!T33=\"\",\"\",P_19号4様式1!T33)","v":""},{"$f":"IF(P_19号4様式1!U33=\"\",\"\",P_19号4様式1!U33)","v":""},{"$f":"IF(P_19号4様式1!V33<> \"\",IF(P_19号4様式1!V33<> \"-\",TEXT(INT(P_19号4様式1!V33),\"#,##0\"),\"-\"),\"\")","v":""},{"$f":"IF(P_19号4様式1!V33<> \"\",IF(P_19号4様式1!V33<> \"-\",IF(VALUE(FIXED(P_19号4様式1!V33,0,TRUE))<>P_19号4様式1!V33,RIGHT(FIXED(P_19号4様式1!V33,3,FALSE),4),\"\"),\"\"),\"\")","v":""}]
[{"$f":"IF(P_19号4様式1!E34=\"\",\"\",P_19号4様式1!E34)","v":""},{"$f":"IF(P_19号4様式1!F34=\"\",\"\",P_19号4様式1!F34)","v":""},{"$f":"IF(P_19号4様式1!G34<> \"\",IF(P_19号4様式1!G34<> \"-\",TEXT(INT(P_19号4様式1!G34),\"#,##0\"),\"-\"),\"\")","v":""},{"$f":"IF(P_19号4様式1!G34<> \"\",IF(P_19号4様式1!G34<> \"-\",IF(VALUE(FIXED(P_19号4様式1!G34,0,TRUE))<>P_19号4様式1!G34,RIGHT(FIXED(P_19号4様式1!G34,3,FALSE),4),\"\"),\"\"),\"\")","v":""},null,{"$f":"IF(P_19号4様式1!J34=\"\",\"\",P_19号4様式1!J34)","v":""},{"$f":"IF(P_19号4様式1!K34=\"\",\"\",P_19号4様式1!K34)","v":""},{"$f":"IF(P_19号4様式1!L34<> \"\",IF(P_19号4様式1!L34<> \"-\",TEXT(INT(P_19号4様式1!L34),\"#,##0\"),\"-\"),\"\")","v":""},{"$f":"IF(P_19号4様式1!L34<> \"\",IF(P_19号4様式1!L34<> \"-\",IF(VALUE(FIXED(P_19号4様式1!L34,0,TRUE))<>P_19号4様式1!L34,RIGHT(FIXED(P_19号4様式1!L34,3,FALSE),4),\"\"),\"\"),\"\")","v":""},null,{"$f":"IF(P_19号4様式1!O34=\"\",\"\",P_19号4様式1!O34)","v":""},{"$f":"IF(P_19号4様式1!P34=\"\",\"\",P_19号4様式1!P34)","v":""},{"$f":"IF(P_19号4様式1!Q34<> \"\",IF(P_19号4様式1!Q34<> \"-\",TEXT(INT(P_19号4様式1!Q34),\"#,##0\"),\"-\"),\"\")","v":""},{"$f":"IF(P_19号4様式1!Q34<> \"\",IF(P_19号4様式1!Q34<> \"-\",IF(VALUE(FIXED(P_19号4様式1!Q34,0,TRUE))<>P_19号4様式1!Q34,RIGHT(FIXED(P_19号4様式1!Q34,3,FALSE),4),\"\"),\"\"),\"\")","v":""},null,{"$f":"IF(P_19号4様式1!T34=\"\",\"\",P_19号4様式1!T34)","v":""},{"$f":"IF(P_19号4様式1!U34=\"\",\"\",P_19号4様式1!U34)","v":""},{"$f":"IF(P_19号4様式1!V34<> \"\",IF(P_19号4様式1!V34<> \"-\",TEXT(INT(P_19号4様式1!V34),\"#,##0\"),\"-\"),\"\")","v":""},{"$f":"IF(P_19号4様式1!V34<> \"\",IF(P_19号4様式1!V34<> \"-\",IF(VALUE(FIXED(P_19号4様式1!V34,0,TRUE))<>P_19号4様式1!V34,RIGHT(FIXED(P_19号4様式1!V34,3,FALSE),4),\"\"),\"\"),\"\")","v":""}]
[{"$f":"IF(P_19号4様式1!E35=\"\",\"\",P_19号4様式1!E35)","v":""},{"$f":"IF(P_19号4様式1!F35=\"\",\"\",P_19号4様式1!F35)","v":""},{"$f":"IF(P_19号4様式1!G35<> \"\",IF(P_19号4様式1!G35<> \"-\",TEXT(INT(P_19号4様式1!G35),\"#,##0\"),\"-\"),\"\")","v":""},{"$f":"IF(P_19号4様式1!G35<> \"\",IF(P_19号4様式1!G35<> \"-\",IF(VALUE(FIXED(P_19号4様式1!G35,0,TRUE))<>P_19号4様式1!G35,RIGHT(FIXED(P_19号4様式1!G35,3,FALSE),4),\"\"),\"\"),\"\")","v":""},null,{"$f":"IF(P_19号4様式1!J35=\"\",\"\",P_19号4様式1!J35)","v":""},{"$f":"IF(P_19号4様式1!K35=\"\",\"\",P_19号4様式1!K35)","v":""},{"$f":"IF(P_19号4様式1!L35<> \"\",IF(P_19号4様式1!L35<> \"-\",TEXT(INT(P_19号4様式1!L35),\"#,##0\"),\"-\"),\"\")","v":""},{"$f":"IF(P_19号4様式1!L35<> \"\",IF(P_19号4様式1!L35<> \"-\",IF(VALUE(FIXED(P_19号4様式1!L35,0,TRUE))<>P_19号4様式1!L35,RIGHT(FIXED(P_19号4様式1!L35,3,FALSE),4),\"\"),\"\"),\"\")","v":""},null,{"$f":"IF(P_19号4様式1!O35=\"\",\"\",P_19号4様式1!O35)","v":""},{"$f":"IF(P_19号4様式1!P35=\"\",\"\",P_19号4様式1!P35)","v":""},{"$f":"IF(P_19号4様式1!Q35<> \"\",IF(P_19号4様式1!Q35<> \"-\",TEXT(INT(P_19号4様式1!Q35),\"#,##0\"),\"-\"),\"\")","v":""},{"$f":"IF(P_19号4様式1!Q35<> \"\",IF(P_19号4様式1!Q35<> \"-\",IF(VALUE(FIXED(P_19号4様式1!Q35,0,TRUE))<>P_19号4様式1!Q35,RIGHT(FIXED(P_19号4様式1!Q35,3,FALSE),4),\"\"),\"\"),\"\")","v":""},null,{"$f":"IF(P_19号4様式1!T35=\"\",\"\",P_19号4様式1!T35)","v":""},{"$f":"IF(P_19号4様式1!U35=\"\",\"\",P_19号4様式1!U35)","v":""},{"$f":"IF(P_19号4様式1!V35<> \"\",IF(P_19号4様式1!V35<> \"-\",TEXT(INT(P_19号4様式1!V35),\"#,##0\"),\"-\"),\"\")","v":""},{"$f":"IF(P_19号4様式1!V35<> \"\",IF(P_19号4様式1!V35<> \"-\",IF(VALUE(FIXED(P_19号4様式1!V35,0,TRUE))<>P_19号4様式1!V35,RIGHT(FIXED(P_19号4様式1!V35,3,FALSE),4),\"\"),\"\"),\"\")","v":""}]
[{"$f":"IF(P_19号4様式1!E36=\"\",\"\",P_19号4様式1!E36)","v":""},{"$f":"IF(P_19号4様式1!F36=\"\",\"\",P_19号4様式1!F36)","v":""},{"$f":"IF(P_19号4様式1!G36<> \"\",IF(P_19号4様式1!G36<> \"-\",TEXT(INT(P_19号4様式1!G36),\"#,##0\"),\"-\"),\"\")","v":""},{"$f":"IF(P_19号4様式1!G36<> \"\",IF(P_19号4様式1!G36<> \"-\",IF(VALUE(FIXED(P_19号4様式1!G36,0,TRUE))<>P_19号4様式1!G36,RIGHT(FIXED(P_19号4様式1!G36,3,FALSE),4),\"\"),\"\"),\"\")","v":""},null,{"$f":"IF(P_19号4様式1!J36=\"\",\"\",P_19号4様式1!J36)","v":""},{"$f":"IF(P_19号4様式1!K36=\"\",\"\",P_19号4様式1!K36)","v":""},{"$f":"IF(P_19号4様式1!L36<> \"\",IF(P_19号4様式1!L36<> \"-\",TEXT(INT(P_19号4様式1!L36),\"#,##0\"),\"-\"),\"\")","v":""},{"$f":"IF(P_19号4様式1!L36<> \"\",IF(P_19号4様式1!L36<> \"-\",IF(VALUE(FIXED(P_19号4様式1!L36,0,TRUE))<>P_19号4様式1!L36,RIGHT(FIXED(P_19号4様式1!L36,3,FALSE),4),\"\"),\"\"),\"\")","v":""},null,{"$f":"IF(P_19号4様式1!O36=\"\",\"\",P_19号4様式1!O36)","v":""},{"$f":"IF(P_19号4様式1!P36=\"\",\"\",P_19号4様式1!P36)","v":""},{"$f":"IF(P_19号4様式1!Q36<> \"\",IF(P_19号4様式1!Q36<> \"-\",TEXT(INT(P_19号4様式1!Q36),\"#,##0\"),\"-\"),\"\")","v":""},{"$f":"IF(P_19号4様式1!Q36<> \"\",IF(P_19号4様式1!Q36<> \"-\",IF(VALUE(FIXED(P_19号4様式1!Q36,0,TRUE))<>P_19号4様式1!Q36,RIGHT(FIXED(P_19号4様式1!Q36,3,FALSE),4),\"\"),\"\"),\"\")","v":""},null,{"$f":"IF(P_19号4様式1!T36=\"\",\"\",P_19号4様式1!T36)","v":""},{"$f":"IF(P_19号4様式1!U36=\"\",\"\",P_19号4様式1!U36)","v":""},{"$f":"IF(P_19号4様式1!V36<> \"\",IF(P_19号4様式1!V36<> \"-\",TEXT(INT(P_19号4様式1!V36),\"#,##0\"),\"-\"),\"\")","v":""},{"$f":"IF(P_19号4様式1!V36<> \"\",IF(P_19号4様式1!V36<> \"-\",IF(VALUE(FIXED(P_19号4様式1!V36,0,TRUE))<>P_19号4様式1!V36,RIGHT(FIXED(P_19号4様式1!V36,3,FALSE),4),\"\"),\"\"),\"\")","v":""}]
[{"$f":"IF(P_19号4様式1!E37=\"\",\"\",P_19号4様式1!E37)","v":""},{"$f":"IF(P_19号4様式1!F37=\"\",\"\",P_19号4様式1!F37)","v":""},{"$f":"IF(P_19号4様式1!G37<> \"\",IF(P_19号4様式1!G37<> \"-\",TEXT(INT(P_19号4様式1!G37),\"#,##0\"),\"-\"),\"\")","v":""},{"$f":"IF(P_19号4様式1!G37<> \"\",IF(P_19号4様式1!G37<> \"-\",IF(VALUE(FIXED(P_19号4様式1!G37,0,TRUE))<>P_19号4様式1!G37,RIGHT(FIXED(P_19号4様式1!G37,3,FALSE),4),\"\"),\"\"),\"\")","v":""},null,{"$f":"IF(P_19号4様式1!J37=\"\",\"\",P_19号4様式1!J37)","v":""},{"$f":"IF(P_19号4様式1!K37=\"\",\"\",P_19号4様式1!K37)","v":""},{"$f":"IF(P_19号4様式1!L37<> \"\",IF(P_19号4様式1!L37<> \"-\",TEXT(INT(P_19号4様式1!L37),\"#,##0\"),\"-\"),\"\")","v":""},{"$f":"IF(P_19号4様式1!L37<> \"\",IF(P_19号4様式1!L37<> \"-\",IF(VALUE(FIXED(P_19号4様式1!L37,0,TRUE))<>P_19号4様式1!L37,RIGHT(FIXED(P_19号4様式1!L37,3,FALSE),4),\"\"),\"\"),\"\")","v":""},null,{"$f":"IF(P_19号4様式1!O37=\"\",\"\",P_19号4様式1!O37)","v":""},{"$f":"IF(P_19号4様式1!P37=\"\",\"\",P_19号4様式1!P37)","v":""},{"$f":"IF(P_19号4様式1!Q37<> \"\",IF(P_19号4様式1!Q37<> \"-\",TEXT(INT(P_19号4様式1!Q37),\"#,##0\"),\"-\"),\"\")","v":""},{"$f":"IF(P_19号4様式1!Q37<> \"\",IF(P_19号4様式1!Q37<> \"-\",IF(VALUE(FIXED(P_19号4様式1!Q37,0,TRUE))<>P_19号4様式1!Q37,RIGHT(FIXED(P_19号4様式1!Q37,3,FALSE),4),\"\"),\"\"),\"\")","v":""},null,{"$f":"IF(P_19号4様式1!T37=\"\",\"\",P_19号4様式1!T37)","v":""},{"$f":"IF(P_19号4様式1!U37=\"\",\"\",P_19号4様式1!U37)","v":""},{"$f":"IF(P_19号4様式1!V37<> \"\",IF(P_19号4様式1!V37<> \"-\",TEXT(INT(P_19号4様式1!V37),\"#,##0\"),\"-\"),\"\")","v":""},{"$f":"IF(P_19号4様式1!V37<> \"\",IF(P_19号4様式1!V37<> \"-\",IF(VALUE(FIXED(P_19号4様式1!V37,0,TRUE))<>P_19号4様式1!V37,RIGHT(FIXED(P_19号4様式1!V37,3,FALSE),4),\"\"),\"\"),\"\")","v":""}]
[{"$f":"IF(P_19号4様式1!E38=\"\",\"\",P_19号4様式1!E38)","v":""},{"$f":"IF(P_19号4様式1!F38=\"\",\"\",P_19号4様式1!F38)","v":""},{"$f":"IF(P_19号4様式1!G38<> \"\",IF(P_19号4様式1!G38<> \"-\",TEXT(INT(P_19号4様式1!G38),\"#,##0\"),\"-\"),\"\")","v":""},{"$f":"IF(P_19号4様式1!G38<> \"\",IF(P_19号4様式1!G38<> \"-\",IF(VALUE(FIXED(P_19号4様式1!G38,0,TRUE))<>P_19号4様式1!G38,RIGHT(FIXED(P_19号4様式1!G38,3,FALSE),4),\"\"),\"\"),\"\")","v":""},null,{"$f":"IF(P_19号4様式1!J38=\"\",\"\",P_19号4様式1!J38)","v":""},{"$f":"IF(P_19号4様式1!K38=\"\",\"\",P_19号4様式1!K38)","v":""},{"$f":"IF(P_19号4様式1!L38<> \"\",IF(P_19号4様式1!L38<> \"-\",TEXT(INT(P_19号4様式1!L38),\"#,##0\"),\"-\"),\"\")","v":""},{"$f":"IF(P_19号4様式1!L38<> \"\",IF(P_19号4様式1!L38<> \"-\",IF(VALUE(FIXED(P_19号4様式1!L38,0,TRUE))<>P_19号4様式1!L38,RIGHT(FIXED(P_19号4様式1!L38,3,FALSE),4),\"\"),\"\"),\"\")","v":""},null,{"$f":"IF(P_19号4様式1!O38=\"\",\"\",P_19号4様式1!O38)","v":""},{"$f":"IF(P_19号4様式1!P38=\"\",\"\",P_19号4様式1!P38)","v":""},{"$f":"IF(P_19号4様式1!Q38<> \"\",IF(P_19号4様式1!Q38<> \"-\",TEXT(INT(P_19号4様式1!Q38),\"#,##0\"),\"-\"),\"\")","v":""},{"$f":"IF(P_19号4様式1!Q38<> \"\",IF(P_19号4様式1!Q38<> \"-\",IF(VALUE(FIXED(P_19号4様式1!Q38,0,TRUE))<>P_19号4様式1!Q38,RIGHT(FIXED(P_19号4様式1!Q38,3,FALSE),4),\"\"),\"\"),\"\")","v":""},null,{"$f":"IF(P_19号4様式1!T38=\"\",\"\",P_19号4様式1!T38)","v":""},{"$f":"IF(P_19号4様式1!U38=\"\",\"\",P_19号4様式1!U38)","v":""},{"$f":"IF(P_19号4様式1!V38<> \"\",IF(P_19号4様式1!V38<> \"-\",TEXT(INT(P_19号4様式1!V38),\"#,##0\"),\"-\"),\"\")","v":""},{"$f":"IF(P_19号4様式1!V38<> \"\",IF(P_19号4様式1!V38<> \"-\",IF(VALUE(FIXED(P_19号4様式1!V38,0,TRUE))<>P_19号4様式1!V38,RIGHT(FIXED(P_19号4様式1!V38,3,FALSE),4),\"\"),\"\"),\"\")","v":""}]
[{"$f":"IF(P_19号4様式1!E39=\"\",\"\",P_19号4様式1!E39)","v":""},{"$f":"IF(P_19号4様式1!F39=\"\",\"\",P_19号4様式1!F39)","v":""},{"$f":"IF(P_19号4様式1!G39<> \"\",IF(P_19号4様式1!G39<> \"-\",TEXT(INT(P_19号4様式1!G39),\"#,##0\"),\"-\"),\"\")","v":""},{"$f":"IF(P_19号4様式1!G39<> \"\",IF(P_19号4様式1!G39<> \"-\",IF(VALUE(FIXED(P_19号4様式1!G39,0,TRUE))<>P_19号4様式1!G39,RIGHT(FIXED(P_19号4様式1!G39,3,FALSE),4),\"\"),\"\"),\"\")","v":""},null,{"$f":"IF(P_19号4様式1!J39=\"\",\"\",P_19号4様式1!J39)","v":""},{"$f":"IF(P_19号4様式1!K39=\"\",\"\",P_19号4様式1!K39)","v":""},{"$f":"IF(P_19号4様式1!L39<> \"\",IF(P_19号4様式1!L39<> \"-\",TEXT(INT(P_19号4様式1!L39),\"#,##0\"),\"-\"),\"\")","v":""},{"$f":"IF(P_19号4様式1!L39<> \"\",IF(P_19号4様式1!L39<> \"-\",IF(VALUE(FIXED(P_19号4様式1!L39,0,TRUE))<>P_19号4様式1!L39,RIGHT(FIXED(P_19号4様式1!L39,3,FALSE),4),\"\"),\"\"),\"\")","v":""},null,{"$f":"IF(P_19号4様式1!O39=\"\",\"\",P_19号4様式1!O39)","v":""},{"$f":"IF(P_19号4様式1!P39=\"\",\"\",P_19号4様式1!P39)","v":""},{"$f":"IF(P_19号4様式1!Q39<> \"\",IF(P_19号4様式1!Q39<> \"-\",TEXT(INT(P_19号4様式1!Q39),\"#,##0\"),\"-\"),\"\")","v":""},{"$f":"IF(P_19号4様式1!Q39<> \"\",IF(P_19号4様式1!Q39<> \"-\",IF(VALUE(FIXED(P_19号4様式1!Q39,0,TRUE))<>P_19号4様式1!Q39,RIGHT(FIXED(P_19号4様式1!Q39,3,FALSE),4),\"\"),\"\"),\"\")","v":""},null,{"$f":"IF(P_19号4様式1!T39=\"\",\"\",P_19号4様式1!T39)","v":""},{"$f":"IF(P_19号4様式1!U39=\"\",\"\",P_19号4様式1!U39)","v":""},{"$f":"IF(P_19号4様式1!V39<> \"\",IF(P_19号4様式1!V39<> \"-\",TEXT(INT(P_19号4様式1!V39),\"#,##0\"),\"-\"),\"\")","v":""},{"$f":"IF(P_19号4様式1!V39<> \"\",IF(P_19号4様式1!V39<> \"-\",IF(VALUE(FIXED(P_19号4様式1!V39,0,TRUE))<>P_19号4様式1!V39,RIGHT(FIXED(P_19号4様式1!V39,3,FALSE),4),\"\"),\"\"),\"\")","v":""}]
[{"$f":"IF(P_19号4様式1!E40=\"\",\"\",P_19号4様式1!E40)","v":""},{"$f":"IF(P_19号4様式1!F40=\"\",\"\",P_19号4様式1!F40)","v":""},{"$f":"IF(P_19号4様式1!G40<> \"\",IF(P_19号4様式1!G40<> \"-\",TEXT(INT(P_19号4様式1!G40),\"#,##0\"),\"-\"),\"\")","v":""},{"$f":"IF(P_19号4様式1!G40<> \"\",IF(P_19号4様式1!G40<> \"-\",IF(VALUE(FIXED(P_19号4様式1!G40,0,TRUE))<>P_19号4様式1!G40,RIGHT(FIXED(P_19号4様式1!G40,3,FALSE),4),\"\"),\"\"),\"\")","v":""},null,{"$f":"IF(P_19号4様式1!J40=\"\",\"\",P_19号4様式1!J40)","v":""},{"$f":"IF(P_19号4様式1!K40=\"\",\"\",P_19号4様式1!K40)","v":""},{"$f":"IF(P_19号4様式1!L40<> \"\",IF(P_19号4様式1!L40<> \"-\",TEXT(INT(P_19号4様式1!L40),\"#,##0\"),\"-\"),\"\")","v":""},{"$f":"IF(P_19号4様式1!L40<> \"\",IF(P_19号4様式1!L40<> \"-\",IF(VALUE(FIXED(P_19号4様式1!L40,0,TRUE))<>P_19号4様式1!L40,RIGHT(FIXED(P_19号4様式1!L40,3,FALSE),4),\"\"),\"\"),\"\")","v":""},null,{"$f":"IF(P_19号4様式1!O40=\"\",\"\",P_19号4様式1!O40)","v":""},{"$f":"IF(P_19号4様式1!P40=\"\",\"\",P_19号4様式1!P40)","v":""},{"$f":"IF(P_19号4様式1!Q40<> \"\",IF(P_19号4様式1!Q40<> \"-\",TEXT(INT(P_19号4様式1!Q40),\"#,##0\"),\"-\"),\"\")","v":""},{"$f":"IF(P_19号4様式1!Q40<> \"\",IF(P_19号4様式1!Q40<> \"-\",IF(VALUE(FIXED(P_19号4様式1!Q40,0,TRUE))<>P_19号4様式1!Q40,RIGHT(FIXED(P_19号4様式1!Q40,3,FALSE),4),\"\"),\"\"),\"\")","v":""},null,{"$f":"IF(P_19号4様式1!T40=\"\",\"\",P_19号4様式1!T40)","v":""},{"$f":"IF(P_19号4様式1!U40=\"\",\"\",P_19号4様式1!U40)","v":""},{"$f":"IF(P_19号4様式1!V40<> \"\",IF(P_19号4様式1!V40<> \"-\",TEXT(INT(P_19号4様式1!V40),\"#,##0\"),\"-\"),\"\")","v":""},{"$f":"IF(P_19号4様式1!V40<> \"\",IF(P_19号4様式1!V40<> \"-\",IF(VALUE(FIXED(P_19号4様式1!V40,0,TRUE))<>P_19号4様式1!V40,RIGHT(FIXED(P_19号4様式1!V40,3,FALSE),4),\"\"),\"\"),\"\")","v":""}]
[{"$f":"IF(P_19号4様式1!E41=\"\",\"\",P_19号4様式1!E41)","v":""},{"$f":"IF(P_19号4様式1!F41=\"\",\"\",P_19号4様式1!F41)","v":""},{"$f":"IF(P_19号4様式1!G41<> \"\",IF(P_19号4様式1!G41<> \"-\",TEXT(INT(P_19号4様式1!G41),\"#,##0\"),\"-\"),\"\")","v":""},{"$f":"IF(P_19号4様式1!G41<> \"\",IF(P_19号4様式1!G41<> \"-\",IF(VALUE(FIXED(P_19号4様式1!G41,0,TRUE))<>P_19号4様式1!G41,RIGHT(FIXED(P_19号4様式1!G41,3,FALSE),4),\"\"),\"\"),\"\")","v":""},null,{"$f":"IF(P_19号4様式1!J41=\"\",\"\",P_19号4様式1!J41)","v":""},{"$f":"IF(P_19号4様式1!K41=\"\",\"\",P_19号4様式1!K41)","v":""},{"$f":"IF(P_19号4様式1!L41<> \"\",IF(P_19号4様式1!L41<> \"-\",TEXT(INT(P_19号4様式1!L41),\"#,##0\"),\"-\"),\"\")","v":""},{"$f":"IF(P_19号4様式1!L41<> \"\",IF(P_19号4様式1!L41<> \"-\",IF(VALUE(FIXED(P_19号4様式1!L41,0,TRUE))<>P_19号4様式1!L41,RIGHT(FIXED(P_19号4様式1!L41,3,FALSE),4),\"\"),\"\"),\"\")","v":""},null,{"$f":"IF(P_19号4様式1!O41=\"\",\"\",P_19号4様式1!O41)","v":""},{"$f":"IF(P_19号4様式1!P41=\"\",\"\",P_19号4様式1!P41)","v":""},{"$f":"IF(P_19号4様式1!Q41<> \"\",IF(P_19号4様式1!Q41<> \"-\",TEXT(INT(P_19号4様式1!Q41),\"#,##0\"),\"-\"),\"\")","v":""},{"$f":"IF(P_19号4様式1!Q41<> \"\",IF(P_19号4様式1!Q41<> \"-\",IF(VALUE(FIXED(P_19号4様式1!Q41,0,TRUE))<>P_19号4様式1!Q41,RIGHT(FIXED(P_19号4様式1!Q41,3,FALSE),4),\"\"),\"\"),\"\")","v":""},null,{"$f":"IF(P_19号4様式1!T41=\"\",\"\",P_19号4様式1!T41)","v":""},{"$f":"IF(P_19号4様式1!U41=\"\",\"\",P_19号4様式1!U41)","v":""},{"$f":"IF(P_19号4様式1!V41<> \"\",IF(P_19号4様式1!V41<> \"-\",TEXT(INT(P_19号4様式1!V41),\"#,##0\"),\"-\"),\"\")","v":""},{"$f":"IF(P_19号4様式1!V41<> \"\",IF(P_19号4様式1!V41<> \"-\",IF(VALUE(FIXED(P_19号4様式1!V41,0,TRUE))<>P_19号4様式1!V41,RIGHT(FIXED(P_19号4様式1!V41,3,FALSE),4),\"\"),\"\"),\"\")","v":""}]
[{"$f":"IF(P_19号4様式1!E42=\"\",\"\",P_19号4様式1!E42)","v":""},{"$f":"IF(P_19号4様式1!F42=\"\",\"\",P_19号4様式1!F42)","v":""},{"$f":"IF(P_19号4様式1!G42<> \"\",IF(P_19号4様式1!G42<> \"-\",TEXT(INT(P_19号4様式1!G42),\"#,##0\"),\"-\"),\"\")","v":""},{"$f":"IF(P_19号4様式1!G42<> \"\",IF(P_19号4様式1!G42<> \"-\",IF(VALUE(FIXED(P_19号4様式1!G42,0,TRUE))<>P_19号4様式1!G42,RIGHT(FIXED(P_19号4様式1!G42,3,FALSE),4),\"\"),\"\"),\"\")","v":""},null,{"$f":"IF(P_19号4様式1!J42=\"\",\"\",P_19号4様式1!J42)","v":""},{"$f":"IF(P_19号4様式1!K42=\"\",\"\",P_19号4様式1!K42)","v":""},{"$f":"IF(P_19号4様式1!L42<> \"\",IF(P_19号4様式1!L42<> \"-\",TEXT(INT(P_19号4様式1!L42),\"#,##0\"),\"-\"),\"\")","v":""},{"$f":"IF(P_19号4様式1!L42<> \"\",IF(P_19号4様式1!L42<> \"-\",IF(VALUE(FIXED(P_19号4様式1!L42,0,TRUE))<>P_19号4様式1!L42,RIGHT(FIXED(P_19号4様式1!L42,3,FALSE),4),\"\"),\"\"),\"\")","v":""},null,{"$f":"IF(P_19号4様式1!O42=\"\",\"\",P_19号4様式1!O42)","v":""},{"$f":"IF(P_19号4様式1!P42=\"\",\"\",P_19号4様式1!P42)","v":""},{"$f":"IF(P_19号4様式1!Q42<> \"\",IF(P_19号4様式1!Q42<> \"-\",TEXT(INT(P_19号4様式1!Q42),\"#,##0\"),\"-\"),\"\")","v":""},{"$f":"IF(P_19号4様式1!Q42<> \"\",IF(P_19号4様式1!Q42<> \"-\",IF(VALUE(FIXED(P_19号4様式1!Q42,0,TRUE))<>P_19号4様式1!Q42,RIGHT(FIXED(P_19号4様式1!Q42,3,FALSE),4),\"\"),\"\"),\"\")","v":""},null,{"$f":"IF(P_19号4様式1!T42=\"\",\"\",P_19号4様式1!T42)","v":""},{"$f":"IF(P_19号4様式1!U42=\"\",\"\",P_19号4様式1!U42)","v":""},{"$f":"IF(P_19号4様式1!V42<> \"\",IF(P_19号4様式1!V42<> \"-\",TEXT(INT(P_19号4様式1!V42),\"#,##0\"),\"-\"),\"\")","v":""},{"$f":"IF(P_19号4様式1!V42<> \"\",IF(P_19号4様式1!V42<> \"-\",IF(VALUE(FIXED(P_19号4様式1!V42,0,TRUE))<>P_19号4様式1!V42,RIGHT(FIXED(P_19号4様式1!V42,3,FALSE),4),\"\"),\"\"),\"\")","v":""}]
[{"$f":"IF(P_19号4様式1!E43=\"\",\"\",P_19号4様式1!E43)","v":""},{"$f":"IF(P_19号4様式1!F43=\"\",\"\",P_19号4様式1!F43)","v":""},{"$f":"IF(P_19号4様式1!G43<> \"\",IF(P_19号4様式1!G43<> \"-\",TEXT(INT(P_19号4様式1!G43),\"#,##0\"),\"-\"),\"\")","v":""},{"$f":"IF(P_19号4様式1!G43<> \"\",IF(P_19号4様式1!G43<> \"-\",IF(VALUE(FIXED(P_19号4様式1!G43,0,TRUE))<>P_19号4様式1!G43,RIGHT(FIXED(P_19号4様式1!G43,3,FALSE),4),\"\"),\"\"),\"\")","v":""},null,{"$f":"IF(P_19号4様式1!J43=\"\",\"\",P_19号4様式1!J43)","v":""},{"$f":"IF(P_19号4様式1!K43=\"\",\"\",P_19号4様式1!K43)","v":""},{"$f":"IF(P_19号4様式1!L43<> \"\",IF(P_19号4様式1!L43<> \"-\",TEXT(INT(P_19号4様式1!L43),\"#,##0\"),\"-\"),\"\")","v":""},{"$f":"IF(P_19号4様式1!L43<> \"\",IF(P_19号4様式1!L43<> \"-\",IF(VALUE(FIXED(P_19号4様式1!L43,0,TRUE))<>P_19号4様式1!L43,RIGHT(FIXED(P_19号4様式1!L43,3,FALSE),4),\"\"),\"\"),\"\")","v":""},null,{"$f":"IF(P_19号4様式1!O43=\"\",\"\",P_19号4様式1!O43)","v":""},{"$f":"IF(P_19号4様式1!P43=\"\",\"\",P_19号4様式1!P43)","v":""},{"$f":"IF(P_19号4様式1!Q43<> \"\",IF(P_19号4様式1!Q43<> \"-\",TEXT(INT(P_19号4様式1!Q43),\"#,##0\"),\"-\"),\"\")","v":""},{"$f":"IF(P_19号4様式1!Q43<> \"\",IF(P_19号4様式1!Q43<> \"-\",IF(VALUE(FIXED(P_19号4様式1!Q43,0,TRUE))<>P_19号4様式1!Q43,RIGHT(FIXED(P_19号4様式1!Q43,3,FALSE),4),\"\"),\"\"),\"\")","v":""},null,{"$f":"IF(P_19号4様式1!T43=\"\",\"\",P_19号4様式1!T43)","v":""},{"$f":"IF(P_19号4様式1!U43=\"\",\"\",P_19号4様式1!U43)","v":""},{"$f":"IF(P_19号4様式1!V43<> \"\",IF(P_19号4様式1!V43<> \"-\",TEXT(INT(P_19号4様式1!V43),\"#,##0\"),\"-\"),\"\")","v":""},{"$f":"IF(P_19号4様式1!V43<> \"\",IF(P_19号4様式1!V43<> \"-\",IF(VALUE(FIXED(P_19号4様式1!V43,0,TRUE))<>P_19号4様式1!V43,RIGHT(FIXED(P_19号4様式1!V43,3,FALSE),4),\"\"),\"\"),\"\")","v":""}]
[{"$f":"IF(P_19号4様式1!E44=\"\",\"\",P_19号4様式1!E44)","v":""},{"$f":"IF(P_19号4様式1!F44=\"\",\"\",P_19号4様式1!F44)","v":""},{"$f":"IF(P_19号4様式1!G44<> \"\",IF(P_19号4様式1!G44<> \"-\",TEXT(INT(P_19号4様式1!G44),\"#,##0\"),\"-\"),\"\")","v":""},{"$f":"IF(P_19号4様式1!G44<> \"\",IF(P_19号4様式1!G44<> \"-\",IF(VALUE(FIXED(P_19号4様式1!G44,0,TRUE))<>P_19号4様式1!G44,RIGHT(FIXED(P_19号4様式1!G44,3,FALSE),4),\"\"),\"\"),\"\")","v":""},null,{"$f":"IF(P_19号4様式1!J44=\"\",\"\",P_19号4様式1!J44)","v":""},{"$f":"IF(P_19号4様式1!K44=\"\",\"\",P_19号4様式1!K44)","v":""},{"$f":"IF(P_19号4様式1!L44<> \"\",IF(P_19号4様式1!L44<> \"-\",TEXT(INT(P_19号4様式1!L44),\"#,##0\"),\"-\"),\"\")","v":""},{"$f":"IF(P_19号4様式1!L44<> \"\",IF(P_19号4様式1!L44<> \"-\",IF(VALUE(FIXED(P_19号4様式1!L44,0,TRUE))<>P_19号4様式1!L44,RIGHT(FIXED(P_19号4様式1!L44,3,FALSE),4),\"\"),\"\"),\"\")","v":""},null,{"$f":"IF(P_19号4様式1!O44=\"\",\"\",P_19号4様式1!O44)","v":""},{"$f":"IF(P_19号4様式1!P44=\"\",\"\",P_19号4様式1!P44)","v":""},{"$f":"IF(P_19号4様式1!Q44<> \"\",IF(P_19号4様式1!Q44<> \"-\",TEXT(INT(P_19号4様式1!Q44),\"#,##0\"),\"-\"),\"\")","v":""},{"$f":"IF(P_19号4様式1!Q44<> \"\",IF(P_19号4様式1!Q44<> \"-\",IF(VALUE(FIXED(P_19号4様式1!Q44,0,TRUE))<>P_19号4様式1!Q44,RIGHT(FIXED(P_19号4様式1!Q44,3,FALSE),4),\"\"),\"\"),\"\")","v":""},null,{"$f":"IF(P_19号4様式1!T44=\"\",\"\",P_19号4様式1!T44)","v":""},{"$f":"IF(P_19号4様式1!U44=\"\",\"\",P_19号4様式1!U44)","v":""},{"$f":"IF(P_19号4様式1!V44<> \"\",IF(P_19号4様式1!V44<> \"-\",TEXT(INT(P_19号4様式1!V44),\"#,##0\"),\"-\"),\"\")","v":""},{"$f":"IF(P_19号4様式1!V44<> \"\",IF(P_19号4様式1!V44<> \"-\",IF(VALUE(FIXED(P_19号4様式1!V44,0,TRUE))<>P_19号4様式1!V44,RIGHT(FIXED(P_19号4様式1!V44,3,FALSE),4),\"\"),\"\"),\"\")","v":""}]
[{"$f":"IF(P_19号4様式1!E45=\"\",\"\",P_19号4様式1!E45)","v":""},{"$f":"IF(P_19号4様式1!F45=\"\",\"\",P_19号4様式1!F45)","v":""},{"$f":"IF(P_19号4様式1!G45<> \"\",IF(P_19号4様式1!G45<> \"-\",TEXT(INT(P_19号4様式1!G45),\"#,##0\"),\"-\"),\"\")","v":""},{"$f":"IF(P_19号4様式1!G45<> \"\",IF(P_19号4様式1!G45<> \"-\",IF(VALUE(FIXED(P_19号4様式1!G45,0,TRUE))<>P_19号4様式1!G45,RIGHT(FIXED(P_19号4様式1!G45,3,FALSE),4),\"\"),\"\"),\"\")","v":""},null,{"$f":"IF(P_19号4様式1!J45=\"\",\"\",P_19号4様式1!J45)","v":""},{"$f":"IF(P_19号4様式1!K45=\"\",\"\",P_19号4様式1!K45)","v":""},{"$f":"IF(P_19号4様式1!L45<> \"\",IF(P_19号4様式1!L45<> \"-\",TEXT(INT(P_19号4様式1!L45),\"#,##0\"),\"-\"),\"\")","v":""},{"$f":"IF(P_19号4様式1!L45<> \"\",IF(P_19号4様式1!L45<> \"-\",IF(VALUE(FIXED(P_19号4様式1!L45,0,TRUE))<>P_19号4様式1!L45,RIGHT(FIXED(P_19号4様式1!L45,3,FALSE),4),\"\"),\"\"),\"\")","v":""},null,{"$f":"IF(P_19号4様式1!O45=\"\",\"\",P_19号4様式1!O45)","v":""},{"$f":"IF(P_19号4様式1!P45=\"\",\"\",P_19号4様式1!P45)","v":""},{"$f":"IF(P_19号4様式1!Q45<> \"\",IF(P_19号4様式1!Q45<> \"-\",TEXT(INT(P_19号4様式1!Q45),\"#,##0\"),\"-\"),\"\")","v":""},{"$f":"IF(P_19号4様式1!Q45<> \"\",IF(P_19号4様式1!Q45<> \"-\",IF(VALUE(FIXED(P_19号4様式1!Q45,0,TRUE))<>P_19号4様式1!Q45,RIGHT(FIXED(P_19号4様式1!Q45,3,FALSE),4),\"\"),\"\"),\"\")","v":""},null,{"$f":"IF(P_19号4様式1!T45=\"\",\"\",P_19号4様式1!T45)","v":""},{"$f":"IF(P_19号4様式1!U45=\"\",\"\",P_19号4様式1!U45)","v":""},{"$f":"IF(P_19号4様式1!V45<> \"\",IF(P_19号4様式1!V45<> \"-\",TEXT(INT(P_19号4様式1!V45),\"#,##0\"),\"-\"),\"\")","v":""},{"$f":"IF(P_19号4様式1!V45<> \"\",IF(P_19号4様式1!V45<> \"-\",IF(VALUE(FIXED(P_19号4様式1!V45,0,TRUE))<>P_19号4様式1!V45,RIGHT(FIXED(P_19号4様式1!V45,3,FALSE),4),\"\"),\"\"),\"\")","v":""}]
[{"$f":"IF(P_19号4様式1!E46=\"\",\"\",P_19号4様式1!E46)","v":""},{"$f":"IF(P_19号4様式1!F46=\"\",\"\",P_19号4様式1!F46)","v":""},{"$f":"IF(P_19号4様式1!G46<> \"\",IF(P_19号4様式1!G46<> \"-\",TEXT(INT(P_19号4様式1!G46),\"#,##0\"),\"-\"),\"\")","v":""},{"$f":"IF(P_19号4様式1!G46<> \"\",IF(P_19号4様式1!G46<> \"-\",IF(VALUE(FIXED(P_19号4様式1!G46,0,TRUE))<>P_19号4様式1!G46,RIGHT(FIXED(P_19号4様式1!G46,3,FALSE),4),\"\"),\"\"),\"\")","v":""},null,{"$f":"IF(P_19号4様式1!J46=\"\",\"\",P_19号4様式1!J46)","v":""},{"$f":"IF(P_19号4様式1!K46=\"\",\"\",P_19号4様式1!K46)","v":""},{"$f":"IF(P_19号4様式1!L46<> \"\",IF(P_19号4様式1!L46<> \"-\",TEXT(INT(P_19号4様式1!L46),\"#,##0\"),\"-\"),\"\")","v":""},{"$f":"IF(P_19号4様式1!L46<> \"\",IF(P_19号4様式1!L46<> \"-\",IF(VALUE(FIXED(P_19号4様式1!L46,0,TRUE))<>P_19号4様式1!L46,RIGHT(FIXED(P_19号4様式1!L46,3,FALSE),4),\"\"),\"\"),\"\")","v":""},null,{"$f":"IF(P_19号4様式1!O46=\"\",\"\",P_19号4様式1!O46)","v":""},{"$f":"IF(P_19号4様式1!P46=\"\",\"\",P_19号4様式1!P46)","v":""},{"$f":"IF(P_19号4様式1!Q46<> \"\",IF(P_19号4様式1!Q46<> \"-\",TEXT(INT(P_19号4様式1!Q46),\"#,##0\"),\"-\"),\"\")","v":""},{"$f":"IF(P_19号4様式1!Q46<> \"\",IF(P_19号4様式1!Q46<> \"-\",IF(VALUE(FIXED(P_19号4様式1!Q46,0,TRUE))<>P_19号4様式1!Q46,RIGHT(FIXED(P_19号4様式1!Q46,3,FALSE),4),\"\"),\"\"),\"\")","v":""},null,{"$f":"IF(P_19号4様式1!T46=\"\",\"\",P_19号4様式1!T46)","v":""},{"$f":"IF(P_19号4様式1!U46=\"\",\"\",P_19号4様式1!U46)","v":""},{"$f":"IF(P_19号4様式1!V46<> \"\",IF(P_19号4様式1!V46<> \"-\",TEXT(INT(P_19号4様式1!V46),\"#,##0\"),\"-\"),\"\")","v":""},{"$f":"IF(P_19号4様式1!V46<> \"\",IF(P_19号4様式1!V46<> \"-\",IF(VALUE(FIXED(P_19号4様式1!V46,0,TRUE))<>P_19号4様式1!V46,RIGHT(FIXED(P_19号4様式1!V46,3,FALSE),4),\"\"),\"\"),\"\")","v":""}]
[{"$f":"IF(P_19号4様式1!E47=\"\",\"\",P_19号4様式1!E47)","v":""},{"$f":"IF(P_19号4様式1!F47=\"\",\"\",P_19号4様式1!F47)","v":""},{"$f":"IF(P_19号4様式1!G47<> \"\",IF(P_19号4様式1!G47<> \"-\",TEXT(INT(P_19号4様式1!G47),\"#,##0\"),\"-\"),\"\")","v":""},{"$f":"IF(P_19号4様式1!G47<> \"\",IF(P_19号4様式1!G47<> \"-\",IF(VALUE(FIXED(P_19号4様式1!G47,0,TRUE))<>P_19号4様式1!G47,RIGHT(FIXED(P_19号4様式1!G47,3,FALSE),4),\"\"),\"\"),\"\")","v":""},null,{"$f":"IF(P_19号4様式1!J47=\"\",\"\",P_19号4様式1!J47)","v":""},{"$f":"IF(P_19号4様式1!K47=\"\",\"\",P_19号4様式1!K47)","v":""},{"$f":"IF(P_19号4様式1!L47<> \"\",IF(P_19号4様式1!L47<> \"-\",TEXT(INT(P_19号4様式1!L47),\"#,##0\"),\"-\"),\"\")","v":""},{"$f":"IF(P_19号4様式1!L47<> \"\",IF(P_19号4様式1!L47<> \"-\",IF(VALUE(FIXED(P_19号4様式1!L47,0,TRUE))<>P_19号4様式1!L47,RIGHT(FIXED(P_19号4様式1!L47,3,FALSE),4),\"\"),\"\"),\"\")","v":""},null,{"$f":"IF(P_19号4様式1!O47=\"\",\"\",P_19号4様式1!O47)","v":""},{"$f":"IF(P_19号4様式1!P47=\"\",\"\",P_19号4様式1!P47)","v":""},{"$f":"IF(P_19号4様式1!Q47<> \"\",IF(P_19号4様式1!Q47<> \"-\",TEXT(INT(P_19号4様式1!Q47),\"#,##0\"),\"-\"),\"\")","v":""},{"$f":"IF(P_19号4様式1!Q47<> \"\",IF(P_19号4様式1!Q47<> \"-\",IF(VALUE(FIXED(P_19号4様式1!Q47,0,TRUE))<>P_19号4様式1!Q47,RIGHT(FIXED(P_19号4様式1!Q47,3,FALSE),4),\"\"),\"\"),\"\")","v":""},null,{"$f":"IF(P_19号4様式1!T47=\"\",\"\",P_19号4様式1!T47)","v":""},{"$f":"IF(P_19号4様式1!U47=\"\",\"\",P_19号4様式1!U47)","v":""},{"$f":"IF(P_19号4様式1!V47<> \"\",IF(P_19号4様式1!V47<> \"-\",TEXT(INT(P_19号4様式1!V47),\"#,##0\"),\"-\"),\"\")","v":""},{"$f":"IF(P_19号4様式1!V47<> \"\",IF(P_19号4様式1!V47<> \"-\",IF(VALUE(FIXED(P_19号4様式1!V47,0,TRUE))<>P_19号4様式1!V47,RIGHT(FIXED(P_19号4様式1!V47,3,FALSE),4),\"\"),\"\"),\"\")","v":""}]
[{"$f":"IF(P_19号4様式1!E48=\"\",\"\",P_19号4様式1!E48)","v":""},{"$f":"IF(P_19号4様式1!F48=\"\",\"\",P_19号4様式1!F48)","v":""},{"$f":"IF(P_19号4様式1!G48<> \"\",IF(P_19号4様式1!G48<> \"-\",TEXT(INT(P_19号4様式1!G48),\"#,##0\"),\"-\"),\"\")","v":""},{"$f":"IF(P_19号4様式1!G48<> \"\",IF(P_19号4様式1!G48<> \"-\",IF(VALUE(FIXED(P_19号4様式1!G48,0,TRUE))<>P_19号4様式1!G48,RIGHT(FIXED(P_19号4様式1!G48,3,FALSE),4),\"\"),\"\"),\"\")","v":""},null,{"$f":"IF(P_19号4様式1!J48=\"\",\"\",P_19号4様式1!J48)","v":""},{"$f":"IF(P_19号4様式1!K48=\"\",\"\",P_19号4様式1!K48)","v":""},{"$f":"IF(P_19号4様式1!L48<> \"\",IF(P_19号4様式1!L48<> \"-\",TEXT(INT(P_19号4様式1!L48),\"#,##0\"),\"-\"),\"\")","v":""},{"$f":"IF(P_19号4様式1!L48<> \"\",IF(P_19号4様式1!L48<> \"-\",IF(VALUE(FIXED(P_19号4様式1!L48,0,TRUE))<>P_19号4様式1!L48,RIGHT(FIXED(P_19号4様式1!L48,3,FALSE),4),\"\"),\"\"),\"\")","v":""},null,{"$f":"IF(P_19号4様式1!O48=\"\",\"\",P_19号4様式1!O48)","v":""},{"$f":"IF(P_19号4様式1!P48=\"\",\"\",P_19号4様式1!P48)","v":""},{"$f":"IF(P_19号4様式1!Q48<> \"\",IF(P_19号4様式1!Q48<> \"-\",TEXT(INT(P_19号4様式1!Q48),\"#,##0\"),\"-\"),\"\")","v":""},{"$f":"IF(P_19号4様式1!Q48<> \"\",IF(P_19号4様式1!Q48<> \"-\",IF(VALUE(FIXED(P_19号4様式1!Q48,0,TRUE))<>P_19号4様式1!Q48,RIGHT(FIXED(P_19号4様式1!Q48,3,FALSE),4),\"\"),\"\"),\"\")","v":""},null,{"$f":"IF(P_19号4様式1!T48=\"\",\"\",P_19号4様式1!T48)","v":""},{"$f":"IF(P_19号4様式1!U48=\"\",\"\",P_19号4様式1!U48)","v":""},{"$f":"IF(P_19号4様式1!V48<> \"\",IF(P_19号4様式1!V48<> \"-\",TEXT(INT(P_19号4様式1!V48),\"#,##0\"),\"-\"),\"\")","v":""},{"$f":"IF(P_19号4様式1!V48<> \"\",IF(P_19号4様式1!V48<> \"-\",IF(VALUE(FIXED(P_19号4様式1!V48,0,TRUE))<>P_19号4様式1!V48,RIGHT(FIXED(P_19号4様式1!V48,3,FALSE),4),\"\"),\"\"),\"\")","v":""}]
[{"$f":"IF(P_19号4様式1!E49=\"\",\"\",P_19号4様式1!E49)","v":""},{"$f":"IF(P_19号4様式1!F49=\"\",\"\",P_19号4様式1!F49)","v":""},{"$f":"IF(P_19号4様式1!G49<> \"\",IF(P_19号4様式1!G49<> \"-\",TEXT(INT(P_19号4様式1!G49),\"#,##0\"),\"-\"),\"\")","v":""},{"$f":"IF(P_19号4様式1!G49<> \"\",IF(P_19号4様式1!G49<> \"-\",IF(VALUE(FIXED(P_19号4様式1!G49,0,TRUE))<>P_19号4様式1!G49,RIGHT(FIXED(P_19号4様式1!G49,3,FALSE),4),\"\"),\"\"),\"\")","v":""},null,{"$f":"IF(P_19号4様式1!J49=\"\",\"\",P_19号4様式1!J49)","v":""},{"$f":"IF(P_19号4様式1!K49=\"\",\"\",P_19号4様式1!K49)","v":""},{"$f":"IF(P_19号4様式1!L49<> \"\",IF(P_19号4様式1!L49<> \"-\",TEXT(INT(P_19号4様式1!L49),\"#,##0\"),\"-\"),\"\")","v":""},{"$f":"IF(P_19号4様式1!L49<> \"\",IF(P_19号4様式1!L49<> \"-\",IF(VALUE(FIXED(P_19号4様式1!L49,0,TRUE))<>P_19号4様式1!L49,RIGHT(FIXED(P_19号4様式1!L49,3,FALSE),4),\"\"),\"\"),\"\")","v":""},null,{"$f":"IF(P_19号4様式1!O49=\"\",\"\",P_19号4様式1!O49)","v":""},{"$f":"IF(P_19号4様式1!P49=\"\",\"\",P_19号4様式1!P49)","v":""},{"$f":"IF(P_19号4様式1!Q49<> \"\",IF(P_19号4様式1!Q49<> \"-\",TEXT(INT(P_19号4様式1!Q49),\"#,##0\"),\"-\"),\"\")","v":""},{"$f":"IF(P_19号4様式1!Q49<> \"\",IF(P_19号4様式1!Q49<> \"-\",IF(VALUE(FIXED(P_19号4様式1!Q49,0,TRUE))<>P_19号4様式1!Q49,RIGHT(FIXED(P_19号4様式1!Q49,3,FALSE),4),\"\"),\"\"),\"\")","v":""},null,{"$f":"IF(P_19号4様式1!T49=\"\",\"\",P_19号4様式1!T49)","v":""},{"$f":"IF(P_19号4様式1!U49=\"\",\"\",P_19号4様式1!U49)","v":""},{"$f":"IF(P_19号4様式1!V49<> \"\",IF(P_19号4様式1!V49<> \"-\",TEXT(INT(P_19号4様式1!V49),\"#,##0\"),\"-\"),\"\")","v":""},{"$f":"IF(P_19号4様式1!V49<> \"\",IF(P_19号4様式1!V49<> \"-\",IF(VALUE(FIXED(P_19号4様式1!V49,0,TRUE))<>P_19号4様式1!V49,RIGHT(FIXED(P_19号4様式1!V49,3,FALSE),4),\"\"),\"\"),\"\")","v":""}]
[{"$f":"IF(P_19号4様式1!E50=\"\",\"\",P_19号4様式1!E50)","v":""},{"$f":"IF(P_19号4様式1!F50=\"\",\"\",P_19号4様式1!F50)","v":""},{"$f":"IF(P_19号4様式1!G50<> \"\",IF(P_19号4様式1!G50<> \"-\",TEXT(INT(P_19号4様式1!G50),\"#,##0\"),\"-\"),\"\")","v":""},{"$f":"IF(P_19号4様式1!G50<> \"\",IF(P_19号4様式1!G50<> \"-\",IF(VALUE(FIXED(P_19号4様式1!G50,0,TRUE))<>P_19号4様式1!G50,RIGHT(FIXED(P_19号4様式1!G50,3,FALSE),4),\"\"),\"\"),\"\")","v":""},null,{"$f":"IF(P_19号4様式1!J50=\"\",\"\",P_19号4様式1!J50)","v":""},{"$f":"IF(P_19号4様式1!K50=\"\",\"\",P_19号4様式1!K50)","v":""},{"$f":"IF(P_19号4様式1!L50<> \"\",IF(P_19号4様式1!L50<> \"-\",TEXT(INT(P_19号4様式1!L50),\"#,##0\"),\"-\"),\"\")","v":""},{"$f":"IF(P_19号4様式1!L50<> \"\",IF(P_19号4様式1!L50<> \"-\",IF(VALUE(FIXED(P_19号4様式1!L50,0,TRUE))<>P_19号4様式1!L50,RIGHT(FIXED(P_19号4様式1!L50,3,FALSE),4),\"\"),\"\"),\"\")","v":""},null,{"$f":"IF(P_19号4様式1!O50=\"\",\"\",P_19号4様式1!O50)","v":""},{"$f":"IF(P_19号4様式1!P50=\"\",\"\",P_19号4様式1!P50)","v":""},{"$f":"IF(P_19号4様式1!Q50<> \"\",IF(P_19号4様式1!Q50<> \"-\",TEXT(INT(P_19号4様式1!Q50),\"#,##0\"),\"-\"),\"\")","v":""},{"$f":"IF(P_19号4様式1!Q50<> \"\",IF(P_19号4様式1!Q50<> \"-\",IF(VALUE(FIXED(P_19号4様式1!Q50,0,TRUE))<>P_19号4様式1!Q50,RIGHT(FIXED(P_19号4様式1!Q50,3,FALSE),4),\"\"),\"\"),\"\")","v":""},null,{"$f":"IF(P_19号4様式1!T50=\"\",\"\",P_19号4様式1!T50)","v":""},{"$f":"IF(P_19号4様式1!U50=\"\",\"\",P_19号4様式1!U50)","v":""},{"$f":"IF(P_19号4様式1!V50<> \"\",IF(P_19号4様式1!V50<> \"-\",TEXT(INT(P_19号4様式1!V50),\"#,##0\"),\"-\"),\"\")","v":""},{"$f":"IF(P_19号4様式1!V50<> \"\",IF(P_19号4様式1!V50<> \"-\",IF(VALUE(FIXED(P_19号4様式1!V50,0,TRUE))<>P_19号4様式1!V50,RIGHT(FIXED(P_19号4様式1!V50,3,FALSE),4),\"\"),\"\"),\"\")","v":""}]
[{"$f":"IF(P_19号4様式1!E51=\"\",\"\",P_19号4様式1!E51)","v":""},{"$f":"IF(P_19号4様式1!F51=\"\",\"\",P_19号4様式1!F51)","v":""},{"$f":"IF(P_19号4様式1!G51<> \"\",IF(P_19号4様式1!G51<> \"-\",TEXT(INT(P_19号4様式1!G51),\"#,##0\"),\"-\"),\"\")","v":""},{"$f":"IF(P_19号4様式1!G51<> \"\",IF(P_19号4様式1!G51<> \"-\",IF(VALUE(FIXED(P_19号4様式1!G51,0,TRUE))<>P_19号4様式1!G51,RIGHT(FIXED(P_19号4様式1!G51,3,FALSE),4),\"\"),\"\"),\"\")","v":""},null,{"$f":"IF(P_19号4様式1!J51=\"\",\"\",P_19号4様式1!J51)","v":""},{"$f":"IF(P_19号4様式1!K51=\"\",\"\",P_19号4様式1!K51)","v":""},{"$f":"IF(P_19号4様式1!L51<> \"\",IF(P_19号4様式1!L51<> \"-\",TEXT(INT(P_19号4様式1!L51),\"#,##0\"),\"-\"),\"\")","v":""},{"$f":"IF(P_19号4様式1!L51<> \"\",IF(P_19号4様式1!L51<> \"-\",IF(VALUE(FIXED(P_19号4様式1!L51,0,TRUE))<>P_19号4様式1!L51,RIGHT(FIXED(P_19号4様式1!L51,3,FALSE),4),\"\"),\"\"),\"\")","v":""},null,{"$f":"IF(P_19号4様式1!O51=\"\",\"\",P_19号4様式1!O51)","v":""},{"$f":"IF(P_19号4様式1!P51=\"\",\"\",P_19号4様式1!P51)","v":""},{"$f":"IF(P_19号4様式1!Q51<> \"\",IF(P_19号4様式1!Q51<> \"-\",TEXT(INT(P_19号4様式1!Q51),\"#,##0\"),\"-\"),\"\")","v":""},{"$f":"IF(P_19号4様式1!Q51<> \"\",IF(P_19号4様式1!Q51<> \"-\",IF(VALUE(FIXED(P_19号4様式1!Q51,0,TRUE))<>P_19号4様式1!Q51,RIGHT(FIXED(P_19号4様式1!Q51,3,FALSE),4),\"\"),\"\"),\"\")","v":""},null,{"$f":"IF(P_19号4様式1!T51=\"\",\"\",P_19号4様式1!T51)","v":""},{"$f":"IF(P_19号4様式1!U51=\"\",\"\",P_19号4様式1!U51)","v":""},{"$f":"IF(P_19号4様式1!V51<> \"\",IF(P_19号4様式1!V51<> \"-\",TEXT(INT(P_19号4様式1!V51),\"#,##0\"),\"-\"),\"\")","v":""},{"$f":"IF(P_19号4様式1!V51<> \"\",IF(P_19号4様式1!V51<> \"-\",IF(VALUE(FIXED(P_19号4様式1!V51,0,TRUE))<>P_19号4様式1!V51,RIGHT(FIXED(P_19号4様式1!V51,3,FALSE),4),\"\"),\"\"),\"\")","v":""}]
[null,{"$f":"IF(P_19号4様式1!F52=\"\",\"\",P_19号4様式1!F52)","v":"合  計"},{"$f":"IF(P_19号4様式1!G52<> \"\",TEXT(INT(P_19号4様式1!G52),\"#,##0\"),\"\")","v":""},{"$f":"IF(P_19号4様式1!G52= \"\",\"\",IF(VALUE(FIXED(P_19号4様式1!G52,0,TRUE))<>P_19号4様式1!G52,RIGHT(FIXED(P_19号4様式1!G52,3,FALSE),4),\"\"))","v":""},null,null,{"$f":"IF(P_19号4様式1!K52=\"\",\"\",P_19号4様式1!K52)","v":"合  計"},{"$f":"IF(P_19号4様式1!L52<> \"\",TEXT(INT(P_19号4様式1!L52),\"#,##0\"),\"\")","v":"195"},{"$f":"IF(P_19号4様式1!L52= \"\",\"\",IF(VALUE(FIXED(P_19号4様式1!L52,0,TRUE))<>P_19号4様式1!L52,RIGHT(FIXED(P_19号4様式1!L52,3,FALSE),4),\"\"))","v":".500"},null,null,{"$f":"IF(P_19号4様式1!P52=\"\",\"\",P_19号4様式1!P52)","v":"合  計"},{"$f":"IF(P_19号4様式1!Q52<> \"\",TEXT(INT(P_19号4様式1!Q52),\"#,##0\"),\"\")","v":""},{"$f":"IF(P_19号4様式1!Q52= \"\",\"\",IF(VALUE(FIXED(P_19号4様式1!Q52,0,TRUE))<>P_19号4様式1!Q52,RIGHT(FIXED(P_19号4様式1!Q52,3,FALSE),4),\"\"))","v":""},null,null,{"$f":"IF(P_19号4様式1!U52=\"\",\"\",P_19号4様式1!U52)","v":"合  計"},{"$f":"IF(P_19号4様式1!V52<> \"\",TEXT(INT(P_19号4様式1!V52),\"#,##0\"),\"\")","v":""},{"$f":"IF(P_19号4様式1!V52= \"\",\"\",IF(VALUE(FIXED(P_19号4様式1!V52,0,TRUE))<>P_19号4様式1!V52,RIGHT(FIXED(P_19号4様式1!V52,3,FALSE),4),\"\"))","v":""}]
[]
["第19号の4様式",null,null,null,null,{"$f":"+F$2","v":"「政党等投票数」のうち、公選法第６８条の３の規定により政党等の有効投票とみなされた投票の状況"},null,null,null,null,null,null,null,null,null,null,null,{"$f":"P_19号4様式1!A53 & \" ページ\"","v":"2 ページ"}]
[]
[null,{"$f":"IF(パラメタシート!B1=\"\",\"    年  月  日　執行\",パラメタシート!B1)","v":"2019-07-21"},null,null,null,null,null,null,null,null,null,{"$f":"IF(P_19号4様式1!X61=\"0\",\"即日　開票\",\"翌日　開票\")","v":"即日　開票"},null,"中間報告",null,null,{"$f":"IF(P_19号4様式1!Y53=\"\",\"     時     分\",P_19号4様式1!Y53)","v":"     時     分"},"鹿 児 島 県"]
[null,{"$f":"IF(P_19号4様式1!W53=\"\",\"     年   月   日　執行\",P_19号4様式1!W53)","v":"参議院比例代表選出議員選挙"},null,null,null,null,null,null,null,null,null,null,"開票","結了報告",null,null,{"$f":"IF(P_19号4様式1!Z53=\"\",\"     時     分\",P_19号4様式1!Z53)","v":"02:55:00"}]
[]
[{"$f":"IF(P_19号4様式1!C53=\"\",\"\",\"〔\" & P_19号4様式1!C53 & \"  \" & P_19号4様式1!D53 & \"〕\")","v":"〔05  公明党〕"},null,null,null,null,{"$f":"IF(P_19号4様式1!H53=\"\",\"\",\"〔\" & P_19号4様式1!H53 & \"  \" & P_19号4様式1!I53 & \"〕\")","v":"〔06  国民民主党〕"},null,null,null,null,{"$f":"IF(P_19号4様式1!M53=\"\",\"\",\"〔\" & P_19号4様式1!M53 & \"  \" & P_19号4様式1!N53 & \"〕\")","v":"〔07  日本維新の会〕"},null,null,null,null,{"$f":"IF(P_19号4様式1!R53=\"\",\"\",\"〔\" & P_19号4様式1!R53 & \"  \" & P_19号4様式1!S53 & \"〕\")","v":"〔08  幸福実現党〕"}]
["候 補 者 名",null,"投票数",null,null,"候 補 者 名",null,"投票数",null,null,"候 補 者 名",null,"投票数",null,null,"候 補 者 名",null,"投票数"]
[{"$f":"IF(P_19号4様式1!E53=\"\",\"\",P_19号4様式1!E53)","v":""},{"$f":"IF(P_19号4様式1!F53=\"\",\"\",P_19号4様式1!F53)","v":""},{"$f":"IF(P_19号4様式1!G53<> \"\",IF(P_19号4様式1!G53<> \"-\",TEXT(INT(P_19号4様式1!G53),\"#,##0\"),\"-\"),\"\")","v":""},{"$f":"IF(P_19号4様式1!G53<> \"\",IF(P_19号4様式1!G53<> \"-\",IF(VALUE(FIXED(P_19号4様式1!G53,0,TRUE))<>P_19号4様式1!G53,RIGHT(FIXED(P_19号4様式1!G53,3,FALSE),4),\"\"),\"\"),\"\")","v":""},null,{"$f":"IF(P_19号4様式1!J53=\"\",\"\",P_19号4様式1!J53)","v":""},{"$f":"IF(P_19号4様式1!K53=\"\",\"\",P_19号4様式1!K53)","v":""},{"$f":"IF(P_19号4様式1!L53<> \"\",IF(P_19号4様式1!L53<> \"-\",TEXT(INT(P_19号4様式1!L53),\"#,##0\"),\"-\"),\"\")","v":""},{"$f":"IF(P_19号4様式1!L53<> \"\",IF(P_19号4様式1!L53<> \"-\",IF(VALUE(FIXED(P_19号4様式1!L53,0,TRUE))<>P_19号4様式1!L53,RIGHT(FIXED(P_19号4様式1!L53,3,FALSE),4),\"\"),\"\"),\"\")","v":""},null,{"$f":"IF(P_19号4様式1!O53=\"\",\"\",P_19号4様式1!O53)","v":""},{"$f":"IF(P_19号4様式1!P53=\"\",\"\",P_19号4様式1!P53)","v":""},{"$f":"IF(P_19号4様式1!Q53<> \"\",IF(P_19号4様式1!Q53<> \"-\",TEXT(INT(P_19号4様式1!Q53),\"#,##0\"),\"-\"),\"\")","v":""},{"$f":"IF(P_19号4様式1!Q53<> \"\",IF(P_19号4様式1!Q53<> \"-\",IF(VALUE(FIXED(P_19号4様式1!Q53,0,TRUE))<>P_19号4様式1!Q53,RIGHT(FIXED(P_19号4様式1!Q53,3,FALSE),4),\"\"),\"\"),\"\")","v":""},null,{"$f":"IF(P_19号4様式1!T53=\"\",\"\",P_19号4様式1!T53)","v":""},{"$f":"IF(P_19号4様式1!U53=\"\",\"\",P_19号4様式1!U53)","v":""},{"$f":"IF(P_19号4様式1!V53<> \"\",IF(P_19号4様式1!V53<> \"-\",TEXT(INT(P_19号4様式1!V53),\"#,##0\"),\"-\"),\"\")","v":""},{"$f":"IF(P_19号4様式1!V53<> \"\",IF(P_19号4様式1!V53<> \"-\",IF(VALUE(FIXED(P_19号4様式1!V53,0,TRUE))<>P_19号4様式1!V53,RIGHT(FIXED(P_19号4様式1!V53,3,FALSE),4),\"\"),\"\"),\"\")","v":""}]
[{"$f":"IF(P_19号4様式1!E54=\"\",\"\",P_19号4様式1!E54)","v":""},{"$f":"IF(P_19号4様式1!F54=\"\",\"\",P_19号4様式1!F54)","v":""},{"$f":"IF(P_19号4様式1!G54<> \"\",IF(P_19号4様式1!G54<> \"-\",TEXT(INT(P_19号4様式1!G54),\"#,##0\"),\"-\"),\"\")","v":""},{"$f":"IF(P_19号4様式1!G54<> \"\",IF(P_19号4様式1!G54<> \"-\",IF(VALUE(FIXED(P_19号4様式1!G54,0,TRUE))<>P_19号4様式1!G54,RIGHT(FIXED(P_19号4様式1!G54,3,FALSE),4),\"\"),\"\"),\"\")","v":""},null,{"$f":"IF(P_19号4様式1!J54=\"\",\"\",P_19号4様式1!J54)","v":""},{"$f":"IF(P_19号4様式1!K54=\"\",\"\",P_19号4様式1!K54)","v":""},{"$f":"IF(P_19号4様式1!L54<> \"\",IF(P_19号4様式1!L54<> \"-\",TEXT(INT(P_19号4様式1!L54),\"#,##0\"),\"-\"),\"\")","v":""},{"$f":"IF(P_19号4様式1!L54<> \"\",IF(P_19号4様式1!L54<> \"-\",IF(VALUE(FIXED(P_19号4様式1!L54,0,TRUE))<>P_19号4様式1!L54,RIGHT(FIXED(P_19号4様式1!L54,3,FALSE),4),\"\"),\"\"),\"\")","v":""},null,{"$f":"IF(P_19号4様式1!O54=\"\",\"\",P_19号4様式1!O54)","v":""},{"$f":"IF(P_19号4様式1!P54=\"\",\"\",P_19号4様式1!P54)","v":""},{"$f":"IF(P_19号4様式1!Q54<> \"\",IF(P_19号4様式1!Q54<> \"-\",TEXT(INT(P_19号4様式1!Q54),\"#,##0\"),\"-\"),\"\")","v":""},{"$f":"IF(P_19号4様式1!Q54<> \"\",IF(P_19号4様式1!Q54<> \"-\",IF(VALUE(FIXED(P_19号4様式1!Q54,0,TRUE))<>P_19号4様式1!Q54,RIGHT(FIXED(P_19号4様式1!Q54,3,FALSE),4),\"\"),\"\"),\"\")","v":""},null,{"$f":"IF(P_19号4様式1!T54=\"\",\"\",P_19号4様式1!T54)","v":""},{"$f":"IF(P_19号4様式1!U54=\"\",\"\",P_19号4様式1!U54)","v":""},{"$f":"IF(P_19号4様式1!V54<> \"\",IF(P_19号4様式1!V54<> \"-\",TEXT(INT(P_19号4様式1!V54),\"#,##0\"),\"-\"),\"\")","v":""},{"$f":"IF(P_19号4様式1!V54<> \"\",IF(P_19号4様式1!V54<> \"-\",IF(VALUE(FIXED(P_19号4様式1!V54,0,TRUE))<>P_19号4様式1!V54,RIGHT(FIXED(P_19号4様式1!V54,3,FALSE),4),\"\"),\"\"),\"\")","v":""}]
[{"$f":"IF(P_19号4様式1!E55=\"\",\"\",P_19号4様式1!E55)","v":""},{"$f":"IF(P_19号4様式1!F55=\"\",\"\",P_19号4様式1!F55)","v":""},{"$f":"IF(P_19号4様式1!G55<> \"\",IF(P_19号4様式1!G55<> \"-\",TEXT(INT(P_19号4様式1!G55),\"#,##0\"),\"-\"),\"\")","v":""},{"$f":"IF(P_19号4様式1!G55<> \"\",IF(P_19号4様式1!G55<> \"-\",IF(VALUE(FIXED(P_19号4様式1!G55,0,TRUE))<>P_19号4様式1!G55,RIGHT(FIXED(P_19号4様式1!G55,3,FALSE),4),\"\"),\"\"),\"\")","v":""},null,{"$f":"IF(P_19号4様式1!J55=\"\",\"\",P_19号4様式1!J55)","v":""},{"$f":"IF(P_19号4様式1!K55=\"\",\"\",P_19号4様式1!K55)","v":""},{"$f":"IF(P_19号4様式1!L55<> \"\",IF(P_19号4様式1!L55<> \"-\",TEXT(INT(P_19号4様式1!L55),\"#,##0\"),\"-\"),\"\")","v":""},{"$f":"IF(P_19号4様式1!L55<> \"\",IF(P_19号4様式1!L55<> \"-\",IF(VALUE(FIXED(P_19号4様式1!L55,0,TRUE))<>P_19号4様式1!L55,RIGHT(FIXED(P_19号4様式1!L55,3,FALSE),4),\"\"),\"\"),\"\")","v":""},null,{"$f":"IF(P_19号4様式1!O55=\"\",\"\",P_19号4様式1!O55)","v":""},{"$f":"IF(P_19号4様式1!P55=\"\",\"\",P_19号4様式1!P55)","v":""},{"$f":"IF(P_19号4様式1!Q55<> \"\",IF(P_19号4様式1!Q55<> \"-\",TEXT(INT(P_19号4様式1!Q55),\"#,##0\"),\"-\"),\"\")","v":""},{"$f":"IF(P_19号4様式1!Q55<> \"\",IF(P_19号4様式1!Q55<> \"-\",IF(VALUE(FIXED(P_19号4様式1!Q55,0,TRUE))<>P_19号4様式1!Q55,RIGHT(FIXED(P_19号4様式1!Q55,3,FALSE),4),\"\"),\"\"),\"\")","v":""},null,{"$f":"IF(P_19号4様式1!T55=\"\",\"\",P_19号4様式1!T55)","v":""},{"$f":"IF(P_19号4様式1!U55=\"\",\"\",P_19号4様式1!U55)","v":""},{"$f":"IF(P_19号4様式1!V55<> \"\",IF(P_19号4様式1!V55<> \"-\",TEXT(INT(P_19号4様式1!V55),\"#,##0\"),\"-\"),\"\")","v":""},{"$f":"IF(P_19号4様式1!V55<> \"\",IF(P_19号4様式1!V55<> \"-\",IF(VALUE(FIXED(P_19号4様式1!V55,0,TRUE))<>P_19号4様式1!V55,RIGHT(FIXED(P_19号4様式1!V55,3,FALSE),4),\"\"),\"\"),\"\")","v":""}]
[{"$f":"IF(P_19号4様式1!E56=\"\",\"\",P_19号4様式1!E56)","v":""},{"$f":"IF(P_19号4様式1!F56=\"\",\"\",P_19号4様式1!F56)","v":""},{"$f":"IF(P_19号4様式1!G56<> \"\",IF(P_19号4様式1!G56<> \"-\",TEXT(INT(P_19号4様式1!G56),\"#,##0\"),\"-\"),\"\")","v":""},{"$f":"IF(P_19号4様式1!G56<> \"\",IF(P_19号4様式1!G56<> \"-\",IF(VALUE(FIXED(P_19号4様式1!G56,0,TRUE))<>P_19号4様式1!G56,RIGHT(FIXED(P_19号4様式1!G56,3,FALSE),4),\"\"),\"\"),\"\")","v":""},null,{"$f":"IF(P_19号4様式1!J56=\"\",\"\",P_19号4様式1!J56)","v":""},{"$f":"IF(P_19号4様式1!K56=\"\",\"\",P_19号4様式1!K56)","v":""},{"$f":"IF(P_19号4様式1!L56<> \"\",IF(P_19号4様式1!L56<> \"-\",TEXT(INT(P_19号4様式1!L56),\"#,##0\"),\"-\"),\"\")","v":""},{"$f":"IF(P_19号4様式1!L56<> \"\",IF(P_19号4様式1!L56<> \"-\",IF(VALUE(FIXED(P_19号4様式1!L56,0,TRUE))<>P_19号4様式1!L56,RIGHT(FIXED(P_19号4様式1!L56,3,FALSE),4),\"\"),\"\"),\"\")","v":""},null,{"$f":"IF(P_19号4様式1!O56=\"\",\"\",P_19号4様式1!O56)","v":""},{"$f":"IF(P_19号4様式1!P56=\"\",\"\",P_19号4様式1!P56)","v":""},{"$f":"IF(P_19号4様式1!Q56<> \"\",IF(P_19号4様式1!Q56<> \"-\",TEXT(INT(P_19号4様式1!Q56),\"#,##0\"),\"-\"),\"\")","v":""},{"$f":"IF(P_19号4様式1!Q56<> \"\",IF(P_19号4様式1!Q56<> \"-\",IF(VALUE(FIXED(P_19号4様式1!Q56,0,TRUE))<>P_19号4様式1!Q56,RIGHT(FIXED(P_19号4様式1!Q56,3,FALSE),4),\"\"),\"\"),\"\")","v":""},null,{"$f":"IF(P_19号4様式1!T56=\"\",\"\",P_19号4様式1!T56)","v":""},{"$f":"IF(P_19号4様式1!U56=\"\",\"\",P_19号4様式1!U56)","v":""},{"$f":"IF(P_19号4様式1!V56<> \"\",IF(P_19号4様式1!V56<> \"-\",TEXT(INT(P_19号4様式1!V56),\"#,##0\"),\"-\"),\"\")","v":""},{"$f":"IF(P_19号4様式1!V56<> \"\",IF(P_19号4様式1!V56<> \"-\",IF(VALUE(FIXED(P_19号4様式1!V56,0,TRUE))<>P_19号4様式1!V56,RIGHT(FIXED(P_19号4様式1!V56,3,FALSE),4),\"\"),\"\"),\"\")","v":""}]
[{"$f":"IF(P_19号4様式1!E57=\"\",\"\",P_19号4様式1!E57)","v":""},{"$f":"IF(P_19号4様式1!F57=\"\",\"\",P_19号4様式1!F57)","v":""},{"$f":"IF(P_19号4様式1!G57<> \"\",IF(P_19号4様式1!G57<> \"-\",TEXT(INT(P_19号4様式1!G57),\"#,##0\"),\"-\"),\"\")","v":""},{"$f":"IF(P_19号4様式1!G57<> \"\",IF(P_19号4様式1!G57<> \"-\",IF(VALUE(FIXED(P_19号4様式1!G57,0,TRUE))<>P_19号4様式1!G57,RIGHT(FIXED(P_19号4様式1!G57,3,FALSE),4),\"\"),\"\"),\"\")","v":""},null,{"$f":"IF(P_19号4様式1!J57=\"\",\"\",P_19号4様式1!J57)","v":""},{"$f":"IF(P_19号4様式1!K57=\"\",\"\",P_19号4様式1!K57)","v":""},{"$f":"IF(P_19号4様式1!L57<> \"\",IF(P_19号4様式1!L57<> \"-\",TEXT(INT(P_19号4様式1!L57),\"#,##0\"),\"-\"),\"\")","v":""},{"$f":"IF(P_19号4様式1!L57<> \"\",IF(P_19号4様式1!L57<> \"-\",IF(VALUE(FIXED(P_19号4様式1!L57,0,TRUE))<>P_19号4様式1!L57,RIGHT(FIXED(P_19号4様式1!L57,3,FALSE),4),\"\"),\"\"),\"\")","v":""},null,{"$f":"IF(P_19号4様式1!O57=\"\",\"\",P_19号4様式1!O57)","v":""},{"$f":"IF(P_19号4様式1!P57=\"\",\"\",P_19号4様式1!P57)","v":""},{"$f":"IF(P_19号4様式1!Q57<> \"\",IF(P_19号4様式1!Q57<> \"-\",TEXT(INT(P_19号4様式1!Q57),\"#,##0\"),\"-\"),\"\")","v":""},{"$f":"IF(P_19号4様式1!Q57<> \"\",IF(P_19号4様式1!Q57<> \"-\",IF(VALUE(FIXED(P_19号4様式1!Q57,0,TRUE))<>P_19号4様式1!Q57,RIGHT(FIXED(P_19号4様式1!Q57,3,FALSE),4),\"\"),\"\"),\"\")","v":""},null,{"$f":"IF(P_19号4様式1!T57=\"\",\"\",P_19号4様式1!T57)","v":""},{"$f":"IF(P_19号4様式1!U57=\"\",\"\",P_19号4様式1!U57)","v":""},{"$f":"IF(P_19号4様式1!V57<> \"\",IF(P_19号4様式1!V57<> \"-\",TEXT(INT(P_19号4様式1!V57),\"#,##0\"),\"-\"),\"\")","v":""},{"$f":"IF(P_19号4様式1!V57<> \"\",IF(P_19号4様式1!V57<> \"-\",IF(VALUE(FIXED(P_19号4様式1!V57,0,TRUE))<>P_19号4様式1!V57,RIGHT(FIXED(P_19号4様式1!V57,3,FALSE),4),\"\"),\"\"),\"\")","v":""}]
[{"$f":"IF(P_19号4様式1!E58=\"\",\"\",P_19号4様式1!E58)","v":""},{"$f":"IF(P_19号4様式1!F58=\"\",\"\",P_19号4様式1!F58)","v":""},{"$f":"IF(P_19号4様式1!G58<> \"\",IF(P_19号4様式1!G58<> \"-\",TEXT(INT(P_19号4様式1!G58),\"#,##0\"),\"-\"),\"\")","v":""},{"$f":"IF(P_19号4様式1!G58<> \"\",IF(P_19号4様式1!G58<> \"-\",IF(VALUE(FIXED(P_19号4様式1!G58,0,TRUE))<>P_19号4様式1!G58,RIGHT(FIXED(P_19号4様式1!G58,3,FALSE),4),\"\"),\"\"),\"\")","v":""},null,{"$f":"IF(P_19号4様式1!J58=\"\",\"\",P_19号4様式1!J58)","v":""},{"$f":"IF(P_19号4様式1!K58=\"\",\"\",P_19号4様式1!K58)","v":""},{"$f":"IF(P_19号4様式1!L58<> \"\",IF(P_19号4様式1!L58<> \"-\",TEXT(INT(P_19号4様式1!L58),\"#,##0\"),\"-\"),\"\")","v":""},{"$f":"IF(P_19号4様式1!L58<> \"\",IF(P_19号4様式1!L58<> \"-\",IF(VALUE(FIXED(P_19号4様式1!L58,0,TRUE))<>P_19号4様式1!L58,RIGHT(FIXED(P_19号4様式1!L58,3,FALSE),4),\"\"),\"\"),\"\")","v":""},null,{"$f":"IF(P_19号4様式1!O58=\"\",\"\",P_19号4様式1!O58)","v":""},{"$f":"IF(P_19号4様式1!P58=\"\",\"\",P_19号4様式1!P58)","v":""},{"$f":"IF(P_19号4様式1!Q58<> \"\",IF(P_19号4様式1!Q58<> \"-\",TEXT(INT(P_19号4様式1!Q58),\"#,##0\"),\"-\"),\"\")","v":""},{"$f":"IF(P_19号4様式1!Q58<> \"\",IF(P_19号4様式1!Q58<> \"-\",IF(VALUE(FIXED(P_19号4様式1!Q58,0,TRUE))<>P_19号4様式1!Q58,RIGHT(FIXED(P_19号4様式1!Q58,3,FALSE),4),\"\"),\"\"),\"\")","v":""},null,{"$f":"IF(P_19号4様式1!T58=\"\",\"\",P_19号4様式1!T58)","v":""},{"$f":"IF(P_19号4様式1!U58=\"\",\"\",P_19号4様式1!U58)","v":""},{"$f":"IF(P_19号4様式1!V58<> \"\",IF(P_19号4様式1!V58<> \"-\",TEXT(INT(P_19号4様式1!V58),\"#,##0\"),\"-\"),\"\")","v":""},{"$f":"IF(P_19号4様式1!V58<> \"\",IF(P_19号4様式1!V58<> \"-\",IF(VALUE(FIXED(P_19号4様式1!V58,0,TRUE))<>P_19号4様式1!V58,RIGHT(FIXED(P_19号4様式1!V58,3,FALSE),4),\"\"),\"\"),\"\")","v":""}]
[{"$f":"IF(P_19号4様式1!E59=\"\",\"\",P_19号4様式1!E59)","v":""},{"$f":"IF(P_19号4様式1!F59=\"\",\"\",P_19号4様式1!F59)","v":""},{"$f":"IF(P_19号4様式1!G59<> \"\",IF(P_19号4様式1!G59<> \"-\",TEXT(INT(P_19号4様式1!G59),\"#,##0\"),\"-\"),\"\")","v":""},{"$f":"IF(P_19号4様式1!G59<> \"\",IF(P_19号4様式1!G59<> \"-\",IF(VALUE(FIXED(P_19号4様式1!G59,0,TRUE))<>P_19号4様式1!G59,RIGHT(FIXED(P_19号4様式1!G59,3,FALSE),4),\"\"),\"\"),\"\")","v":""},null,{"$f":"IF(P_19号4様式1!J59=\"\",\"\",P_19号4様式1!J59)","v":""},{"$f":"IF(P_19号4様式1!K59=\"\",\"\",P_19号4様式1!K59)","v":""},{"$f":"IF(P_19号4様式1!L59<> \"\",IF(P_19号4様式1!L59<> \"-\",TEXT(INT(P_19号4様式1!L59),\"#,##0\"),\"-\"),\"\")","v":""},{"$f":"IF(P_19号4様式1!L59<> \"\",IF(P_19号4様式1!L59<> \"-\",IF(VALUE(FIXED(P_19号4様式1!L59,0,TRUE))<>P_19号4様式1!L59,RIGHT(FIXED(P_19号4様式1!L59,3,FALSE),4),\"\"),\"\"),\"\")","v":""},null,{"$f":"IF(P_19号4様式1!O59=\"\",\"\",P_19号4様式1!O59)","v":""},{"$f":"IF(P_19号4様式1!P59=\"\",\"\",P_19号4様式1!P59)","v":""},{"$f":"IF(P_19号4様式1!Q59<> \"\",IF(P_19号4様式1!Q59<> \"-\",TEXT(INT(P_19号4様式1!Q59),\"#,##0\"),\"-\"),\"\")","v":""},{"$f":"IF(P_19号4様式1!Q59<> \"\",IF(P_19号4様式1!Q59<> \"-\",IF(VALUE(FIXED(P_19号4様式1!Q59,0,TRUE))<>P_19号4様式1!Q59,RIGHT(FIXED(P_19号4様式1!Q59,3,FALSE),4),\"\"),\"\"),\"\")","v":""},null,{"$f":"IF(P_19号4様式1!T59=\"\",\"\",P_19号4様式1!T59)","v":""},{"$f":"IF(P_19号4様式1!U59=\"\",\"\",P_19号4様式1!U59)","v":""},{"$f":"IF(P_19号4様式1!V59<> \"\",IF(P_19号4様式1!V59<> \"-\",TEXT(INT(P_19号4様式1!V59),\"#,##0\"),\"-\"),\"\")","v":""},{"$f":"IF(P_19号4様式1!V59<> \"\",IF(P_19号4様式1!V59<> \"-\",IF(VALUE(FIXED(P_19号4様式1!V59,0,TRUE))<>P_19号4様式1!V59,RIGHT(FIXED(P_19号4様式1!V59,3,FALSE),4),\"\"),\"\"),\"\")","v":""}]
[{"$f":"IF(P_19号4様式1!E60=\"\",\"\",P_19号4様式1!E60)","v":""},{"$f":"IF(P_19号4様式1!F60=\"\",\"\",P_19号4様式1!F60)","v":""},{"$f":"IF(P_19号4様式1!G60<> \"\",IF(P_19号4様式1!G60<> \"-\",TEXT(INT(P_19号4様式1!G60),\"#,##0\"),\"-\"),\"\")","v":""},{"$f":"IF(P_19号4様式1!G60<> \"\",IF(P_19号4様式1!G60<> \"-\",IF(VALUE(FIXED(P_19号4様式1!G60,0,TRUE))<>P_19号4様式1!G60,RIGHT(FIXED(P_19号4様式1!G60,3,FALSE),4),\"\"),\"\"),\"\")","v":""},null,{"$f":"IF(P_19号4様式1!J60=\"\",\"\",P_19号4様式1!J60)","v":""},{"$f":"IF(P_19号4様式1!K60=\"\",\"\",P_19号4様式1!K60)","v":""},{"$f":"IF(P_19号4様式1!L60<> \"\",IF(P_19号4様式1!L60<> \"-\",TEXT(INT(P_19号4様式1!L60),\"#,##0\"),\"-\"),\"\")","v":""},{"$f":"IF(P_19号4様式1!L60<> \"\",IF(P_19号4様式1!L60<> \"-\",IF(VALUE(FIXED(P_19号4様式1!L60,0,TRUE))<>P_19号4様式1!L60,RIGHT(FIXED(P_19号4様式1!L60,3,FALSE),4),\"\"),\"\"),\"\")","v":""},null,{"$f":"IF(P_19号4様式1!O60=\"\",\"\",P_19号4様式1!O60)","v":""},{"$f":"IF(P_19号4様式1!P60=\"\",\"\",P_19号4様式1!P60)","v":""},{"$f":"IF(P_19号4様式1!Q60<> \"\",IF(P_19号4様式1!Q60<> \"-\",TEXT(INT(P_19号4様式1!Q60),\"#,##0\"),\"-\"),\"\")","v":""},{"$f":"IF(P_19号4様式1!Q60<> \"\",IF(P_19号4様式1!Q60<> \"-\",IF(VALUE(FIXED(P_19号4様式1!Q60,0,TRUE))<>P_19号4様式1!Q60,RIGHT(FIXED(P_19号4様式1!Q60,3,FALSE),4),\"\"),\"\"),\"\")","v":""},null,{"$f":"IF(P_19号4様式1!T60=\"\",\"\",P_19号4様式1!T60)","v":""},{"$f":"IF(P_19号4様式1!U60=\"\",\"\",P_19号4様式1!U60)","v":""},{"$f":"IF(P_19号4様式1!V60<> \"\",IF(P_19号4様式1!V60<> \"-\",TEXT(INT(P_19号4様式1!V60),\"#,##0\"),\"-\"),\"\")","v":""},{"$f":"IF(P_19号4様式1!V60<> \"\",IF(P_19号4様式1!V60<> \"-\",IF(VALUE(FIXED(P_19号4様式1!V60,0,TRUE))<>P_19号4様式1!V60,RIGHT(FIXED(P_19号4様式1!V60,3,FALSE),4),\"\"),\"\"),\"\")","v":""}]
[{"$f":"IF(P_19号4様式1!E61=\"\",\"\",P_19号4様式1!E61)","v":""},{"$f":"IF(P_19号4様式1!F61=\"\",\"\",P_19号4様式1!F61)","v":""},{"$f":"IF(P_19号4様式1!G61<> \"\",IF(P_19号4様式1!G61<> \"-\",TEXT(INT(P_19号4様式1!G61),\"#,##0\"),\"-\"),\"\")","v":""},{"$f":"IF(P_19号4様式1!G61<> \"\",IF(P_19号4様式1!G61<> \"-\",IF(VALUE(FIXED(P_19号4様式1!G61,0,TRUE))<>P_19号4様式1!G61,RIGHT(FIXED(P_19号4様式1!G61,3,FALSE),4),\"\"),\"\"),\"\")","v":""},null,{"$f":"IF(P_19号4様式1!J61=\"\",\"\",P_19号4様式1!J61)","v":""},{"$f":"IF(P_19号4様式1!K61=\"\",\"\",P_19号4様式1!K61)","v":""},{"$f":"IF(P_19号4様式1!L61<> \"\",IF(P_19号4様式1!L61<> \"-\",TEXT(INT(P_19号4様式1!L61),\"#,##0\"),\"-\"),\"\")","v":""},{"$f":"IF(P_19号4様式1!L61<> \"\",IF(P_19号4様式1!L61<> \"-\",IF(VALUE(FIXED(P_19号4様式1!L61,0,TRUE))<>P_19号4様式1!L61,RIGHT(FIXED(P_19号4様式1!L61,3,FALSE),4),\"\"),\"\"),\"\")","v":""},null,{"$f":"IF(P_19号4様式1!O61=\"\",\"\",P_19号4様式1!O61)","v":""},{"$f":"IF(P_19号4様式1!P61=\"\",\"\",P_19号4様式1!P61)","v":""},{"$f":"IF(P_19号4様式1!Q61<> \"\",IF(P_19号4様式1!Q61<> \"-\",TEXT(INT(P_19号4様式1!Q61),\"#,##0\"),\"-\"),\"\")","v":""},{"$f":"IF(P_19号4様式1!Q61<> \"\",IF(P_19号4様式1!Q61<> \"-\",IF(VALUE(FIXED(P_19号4様式1!Q61,0,TRUE))<>P_19号4様式1!Q61,RIGHT(FIXED(P_19号4様式1!Q61,3,FALSE),4),\"\"),\"\"),\"\")","v":""},null,{"$f":"IF(P_19号4様式1!T61=\"\",\"\",P_19号4様式1!T61)","v":""},{"$f":"IF(P_19号4様式1!U61=\"\",\"\",P_19号4様式1!U61)","v":""},{"$f":"IF(P_19号4様式1!V61<> \"\",IF(P_19号4様式1!V61<> \"-\",TEXT(INT(P_19号4様式1!V61),\"#,##0\"),\"-\"),\"\")","v":""},{"$f":"IF(P_19号4様式1!V61<> \"\",IF(P_19号4様式1!V61<> \"-\",IF(VALUE(FIXED(P_19号4様式1!V61,0,TRUE))<>P_19号4様式1!V61,RIGHT(FIXED(P_19号4様式1!V61,3,FALSE),4),\"\"),\"\"),\"\")","v":""}]
[{"$f":"IF(P_19号4様式1!E62=\"\",\"\",P_19号4様式1!E62)","v":""},{"$f":"IF(P_19号4様式1!F62=\"\",\"\",P_19号4様式1!F62)","v":""},{"$f":"IF(P_19号4様式1!G62<> \"\",IF(P_19号4様式1!G62<> \"-\",TEXT(INT(P_19号4様式1!G62),\"#,##0\"),\"-\"),\"\")","v":""},{"$f":"IF(P_19号4様式1!G62<> \"\",IF(P_19号4様式1!G62<> \"-\",IF(VALUE(FIXED(P_19号4様式1!G62,0,TRUE))<>P_19号4様式1!G62,RIGHT(FIXED(P_19号4様式1!G62,3,FALSE),4),\"\"),\"\"),\"\")","v":""},null,{"$f":"IF(P_19号4様式1!J62=\"\",\"\",P_19号4様式1!J62)","v":""},{"$f":"IF(P_19号4様式1!K62=\"\",\"\",P_19号4様式1!K62)","v":""},{"$f":"IF(P_19号4様式1!L62<> \"\",IF(P_19号4様式1!L62<> \"-\",TEXT(INT(P_19号4様式1!L62),\"#,##0\"),\"-\"),\"\")","v":""},{"$f":"IF(P_19号4様式1!L62<> \"\",IF(P_19号4様式1!L62<> \"-\",IF(VALUE(FIXED(P_19号4様式1!L62,0,TRUE))<>P_19号4様式1!L62,RIGHT(FIXED(P_19号4様式1!L62,3,FALSE),4),\"\"),\"\"),\"\")","v":""},null,{"$f":"IF(P_19号4様式1!O62=\"\",\"\",P_19号4様式1!O62)","v":""},{"$f":"IF(P_19号4様式1!P62=\"\",\"\",P_19号4様式1!P62)","v":""},{"$f":"IF(P_19号4様式1!Q62<> \"\",IF(P_19号4様式1!Q62<> \"-\",TEXT(INT(P_19号4様式1!Q62),\"#,##0\"),\"-\"),\"\")","v":""},{"$f":"IF(P_19号4様式1!Q62<> \"\",IF(P_19号4様式1!Q62<> \"-\",IF(VALUE(FIXED(P_19号4様式1!Q62,0,TRUE))<>P_19号4様式1!Q62,RIGHT(FIXED(P_19号4様式1!Q62,3,FALSE),4),\"\"),\"\"),\"\")","v":""},null,{"$f":"IF(P_19号4様式1!T62=\"\",\"\",P_19号4様式1!T62)","v":""},{"$f":"IF(P_19号4様式1!U62=\"\",\"\",P_19号4様式1!U62)","v":""},{"$f":"IF(P_19号4様式1!V62<> \"\",IF(P_19号4様式1!V62<> \"-\",TEXT(INT(P_19号4様式1!V62),\"#,##0\"),\"-\"),\"\")","v":""},{"$f":"IF(P_19号4様式1!V62<> \"\",IF(P_19号4様式1!V62<> \"-\",IF(VALUE(FIXED(P_19号4様式1!V62,0,TRUE))<>P_19号4様式1!V62,RIGHT(FIXED(P_19号4様式1!V62,3,FALSE),4),\"\"),\"\"),\"\")","v":""}]
[{"$f":"IF(P_19号4様式1!E63=\"\",\"\",P_19号4様式1!E63)","v":""},{"$f":"IF(P_19号4様式1!F63=\"\",\"\",P_19号4様式1!F63)","v":""},{"$f":"IF(P_19号4様式1!G63<> \"\",IF(P_19号4様式1!G63<> \"-\",TEXT(INT(P_19号4様式1!G63),\"#,##0\"),\"-\"),\"\")","v":""},{"$f":"IF(P_19号4様式1!G63<> \"\",IF(P_19号4様式1!G63<> \"-\",IF(VALUE(FIXED(P_19号4様式1!G63,0,TRUE))<>P_19号4様式1!G63,RIGHT(FIXED(P_19号4様式1!G63,3,FALSE),4),\"\"),\"\"),\"\")","v":""},null,{"$f":"IF(P_19号4様式1!J63=\"\",\"\",P_19号4様式1!J63)","v":""},{"$f":"IF(P_19号4様式1!K63=\"\",\"\",P_19号4様式1!K63)","v":""},{"$f":"IF(P_19号4様式1!L63<> \"\",IF(P_19号4様式1!L63<> \"-\",TEXT(INT(P_19号4様式1!L63),\"#,##0\"),\"-\"),\"\")","v":""},{"$f":"IF(P_19号4様式1!L63<> \"\",IF(P_19号4様式1!L63<> \"-\",IF(VALUE(FIXED(P_19号4様式1!L63,0,TRUE))<>P_19号4様式1!L63,RIGHT(FIXED(P_19号4様式1!L63,3,FALSE),4),\"\"),\"\"),\"\")","v":""},null,{"$f":"IF(P_19号4様式1!O63=\"\",\"\",P_19号4様式1!O63)","v":""},{"$f":"IF(P_19号4様式1!P63=\"\",\"\",P_19号4様式1!P63)","v":""},{"$f":"IF(P_19号4様式1!Q63<> \"\",IF(P_19号4様式1!Q63<> \"-\",TEXT(INT(P_19号4様式1!Q63),\"#,##0\"),\"-\"),\"\")","v":""},{"$f":"IF(P_19号4様式1!Q63<> \"\",IF(P_19号4様式1!Q63<> \"-\",IF(VALUE(FIXED(P_19号4様式1!Q63,0,TRUE))<>P_19号4様式1!Q63,RIGHT(FIXED(P_19号4様式1!Q63,3,FALSE),4),\"\"),\"\"),\"\")","v":""},null,{"$f":"IF(P_19号4様式1!T63=\"\",\"\",P_19号4様式1!T63)","v":""},{"$f":"IF(P_19号4様式1!U63=\"\",\"\",P_19号4様式1!U63)","v":""},{"$f":"IF(P_19号4様式1!V63<> \"\",IF(P_19号4様式1!V63<> \"-\",TEXT(INT(P_19号4様式1!V63),\"#,##0\"),\"-\"),\"\")","v":""},{"$f":"IF(P_19号4様式1!V63<> \"\",IF(P_19号4様式1!V63<> \"-\",IF(VALUE(FIXED(P_19号4様式1!V63,0,TRUE))<>P_19号4様式1!V63,RIGHT(FIXED(P_19号4様式1!V63,3,FALSE),4),\"\"),\"\"),\"\")","v":""}]
[{"$f":"IF(P_19号4様式1!E64=\"\",\"\",P_19号4様式1!E64)","v":""},{"$f":"IF(P_19号4様式1!F64=\"\",\"\",P_19号4様式1!F64)","v":""},{"$f":"IF(P_19号4様式1!G64<> \"\",IF(P_19号4様式1!G64<> \"-\",TEXT(INT(P_19号4様式1!G64),\"#,##0\"),\"-\"),\"\")","v":""},{"$f":"IF(P_19号4様式1!G64<> \"\",IF(P_19号4様式1!G64<> \"-\",IF(VALUE(FIXED(P_19号4様式1!G64,0,TRUE))<>P_19号4様式1!G64,RIGHT(FIXED(P_19号4様式1!G64,3,FALSE),4),\"\"),\"\"),\"\")","v":""},null,{"$f":"IF(P_19号4様式1!J64=\"\",\"\",P_19号4様式1!J64)","v":""},{"$f":"IF(P_19号4様式1!K64=\"\",\"\",P_19号4様式1!K64)","v":""},{"$f":"IF(P_19号4様式1!L64<> \"\",IF(P_19号4様式1!L64<> \"-\",TEXT(INT(P_19号4様式1!L64),\"#,##0\"),\"-\"),\"\")","v":""},{"$f":"IF(P_19号4様式1!L64<> \"\",IF(P_19号4様式1!L64<> \"-\",IF(VALUE(FIXED(P_19号4様式1!L64,0,TRUE))<>P_19号4様式1!L64,RIGHT(FIXED(P_19号4様式1!L64,3,FALSE),4),\"\"),\"\"),\"\")","v":""},null,{"$f":"IF(P_19号4様式1!O64=\"\",\"\",P_19号4様式1!O64)","v":""},{"$f":"IF(P_19号4様式1!P64=\"\",\"\",P_19号4様式1!P64)","v":""},{"$f":"IF(P_19号4様式1!Q64<> \"\",IF(P_19号4様式1!Q64<> \"-\",TEXT(INT(P_19号4様式1!Q64),\"#,##0\"),\"-\"),\"\")","v":""},{"$f":"IF(P_19号4様式1!Q64<> \"\",IF(P_19号4様式1!Q64<> \"-\",IF(VALUE(FIXED(P_19号4様式1!Q64,0,TRUE))<>P_19号4様式1!Q64,RIGHT(FIXED(P_19号4様式1!Q64,3,FALSE),4),\"\"),\"\"),\"\")","v":""},null,{"$f":"IF(P_19号4様式1!T64=\"\",\"\",P_19号4様式1!T64)","v":""},{"$f":"IF(P_19号4様式1!U64=\"\",\"\",P_19号4様式1!U64)","v":""},{"$f":"IF(P_19号4様式1!V64<> \"\",IF(P_19号4様式1!V64<> \"-\",TEXT(INT(P_19号4様式1!V64),\"#,##0\"),\"-\"),\"\")","v":""},{"$f":"IF(P_19号4様式1!V64<> \"\",IF(P_19号4様式1!V64<> \"-\",IF(VALUE(FIXED(P_19号4様式1!V64,0,TRUE))<>P_19号4様式1!V64,RIGHT(FIXED(P_19号4様式1!V64,3,FALSE),4),\"\"),\"\"),\"\")","v":""}]
[{"$f":"IF(P_19号4様式1!E65=\"\",\"\",P_19号4様式1!E65)","v":""},{"$f":"IF(P_19号4様式1!F65=\"\",\"\",P_19号4様式1!F65)","v":""},{"$f":"IF(P_19号4様式1!G65<> \"\",IF(P_19号4様式1!G65<> \"-\",TEXT(INT(P_19号4様式1!G65),\"#,##0\"),\"-\"),\"\")","v":""},{"$f":"IF(P_19号4様式1!G65<> \"\",IF(P_19号4様式1!G65<> \"-\",IF(VALUE(FIXED(P_19号4様式1!G65,0,TRUE))<>P_19号4様式1!G65,RIGHT(FIXED(P_19号4様式1!G65,3,FALSE),4),\"\"),\"\"),\"\")","v":""},null,{"$f":"IF(P_19号4様式1!J65=\"\",\"\",P_19号4様式1!J65)","v":""},{"$f":"IF(P_19号4様式1!K65=\"\",\"\",P_19号4様式1!K65)","v":""},{"$f":"IF(P_19号4様式1!L65<> \"\",IF(P_19号4様式1!L65<> \"-\",TEXT(INT(P_19号4様式1!L65),\"#,##0\"),\"-\"),\"\")","v":""},{"$f":"IF(P_19号4様式1!L65<> \"\",IF(P_19号4様式1!L65<> \"-\",IF(VALUE(FIXED(P_19号4様式1!L65,0,TRUE))<>P_19号4様式1!L65,RIGHT(FIXED(P_19号4様式1!L65,3,FALSE),4),\"\"),\"\"),\"\")","v":""},null,{"$f":"IF(P_19号4様式1!O65=\"\",\"\",P_19号4様式1!O65)","v":""},{"$f":"IF(P_19号4様式1!P65=\"\",\"\",P_19号4様式1!P65)","v":""},{"$f":"IF(P_19号4様式1!Q65<> \"\",IF(P_19号4様式1!Q65<> \"-\",TEXT(INT(P_19号4様式1!Q65),\"#,##0\"),\"-\"),\"\")","v":""},{"$f":"IF(P_19号4様式1!Q65<> \"\",IF(P_19号4様式1!Q65<> \"-\",IF(VALUE(FIXED(P_19号4様式1!Q65,0,TRUE))<>P_19号4様式1!Q65,RIGHT(FIXED(P_19号4様式1!Q65,3,FALSE),4),\"\"),\"\"),\"\")","v":""},null,{"$f":"IF(P_19号4様式1!T65=\"\",\"\",P_19号4様式1!T65)","v":""},{"$f":"IF(P_19号4様式1!U65=\"\",\"\",P_19号4様式1!U65)","v":""},{"$f":"IF(P_19号4様式1!V65<> \"\",IF(P_19号4様式1!V65<> \"-\",TEXT(INT(P_19号4様式1!V65),\"#,##0\"),\"-\"),\"\")","v":""},{"$f":"IF(P_19号4様式1!V65<> \"\",IF(P_19号4様式1!V65<> \"-\",IF(VALUE(FIXED(P_19号4様式1!V65,0,TRUE))<>P_19号4様式1!V65,RIGHT(FIXED(P_19号4様式1!V65,3,FALSE),4),\"\"),\"\"),\"\")","v":""}]
[{"$f":"IF(P_19号4様式1!E66=\"\",\"\",P_19号4様式1!E66)","v":""},{"$f":"IF(P_19号4様式1!F66=\"\",\"\",P_19号4様式1!F66)","v":""},{"$f":"IF(P_19号4様式1!G66<> \"\",IF(P_19号4様式1!G66<> \"-\",TEXT(INT(P_19号4様式1!G66),\"#,##0\"),\"-\"),\"\")","v":""},{"$f":"IF(P_19号4様式1!G66<> \"\",IF(P_19号4様式1!G66<> \"-\",IF(VALUE(FIXED(P_19号4様式1!G66,0,TRUE))<>P_19号4様式1!G66,RIGHT(FIXED(P_19号4様式1!G66,3,FALSE),4),\"\"),\"\"),\"\")","v":""},null,{"$f":"IF(P_19号4様式1!J66=\"\",\"\",P_19号4様式1!J66)","v":""},{"$f":"IF(P_19号4様式1!K66=\"\",\"\",P_19号4様式1!K66)","v":""},{"$f":"IF(P_19号4様式1!L66<> \"\",IF(P_19号4様式1!L66<> \"-\",TEXT(INT(P_19号4様式1!L66),\"#,##0\"),\"-\"),\"\")","v":""},{"$f":"IF(P_19号4様式1!L66<> \"\",IF(P_19号4様式1!L66<> \"-\",IF(VALUE(FIXED(P_19号4様式1!L66,0,TRUE))<>P_19号4様式1!L66,RIGHT(FIXED(P_19号4様式1!L66,3,FALSE),4),\"\"),\"\"),\"\")","v":""},null,{"$f":"IF(P_19号4様式1!O66=\"\",\"\",P_19号4様式1!O66)","v":""},{"$f":"IF(P_19号4様式1!P66=\"\",\"\",P_19号4様式1!P66)","v":""},{"$f":"IF(P_19号4様式1!Q66<> \"\",IF(P_19号4様式1!Q66<> \"-\",TEXT(INT(P_19号4様式1!Q66),\"#,##0\"),\"-\"),\"\")","v":""},{"$f":"IF(P_19号4様式1!Q66<> \"\",IF(P_19号4様式1!Q66<> \"-\",IF(VALUE(FIXED(P_19号4様式1!Q66,0,TRUE))<>P_19号4様式1!Q66,RIGHT(FIXED(P_19号4様式1!Q66,3,FALSE),4),\"\"),\"\"),\"\")","v":""},null,{"$f":"IF(P_19号4様式1!T66=\"\",\"\",P_19号4様式1!T66)","v":""},{"$f":"IF(P_19号4様式1!U66=\"\",\"\",P_19号4様式1!U66)","v":""},{"$f":"IF(P_19号4様式1!V66<> \"\",IF(P_19号4様式1!V66<> \"-\",TEXT(INT(P_19号4様式1!V66),\"#,##0\"),\"-\"),\"\")","v":""},{"$f":"IF(P_19号4様式1!V66<> \"\",IF(P_19号4様式1!V66<> \"-\",IF(VALUE(FIXED(P_19号4様式1!V66,0,TRUE))<>P_19号4様式1!V66,RIGHT(FIXED(P_19号4様式1!V66,3,FALSE),4),\"\"),\"\"),\"\")","v":""}]
[{"$f":"IF(P_19号4様式1!E67=\"\",\"\",P_19号4様式1!E67)","v":""},{"$f":"IF(P_19号4様式1!F67=\"\",\"\",P_19号4様式1!F67)","v":""},{"$f":"IF(P_19号4様式1!G67<> \"\",IF(P_19号4様式1!G67<> \"-\",TEXT(INT(P_19号4様式1!G67),\"#,##0\"),\"-\"),\"\")","v":""},{"$f":"IF(P_19号4様式1!G67<> \"\",IF(P_19号4様式1!G67<> \"-\",IF(VALUE(FIXED(P_19号4様式1!G67,0,TRUE))<>P_19号4様式1!G67,RIGHT(FIXED(P_19号4様式1!G67,3,FALSE),4),\"\"),\"\"),\"\")","v":""},null,{"$f":"IF(P_19号4様式1!J67=\"\",\"\",P_19号4様式1!J67)","v":""},{"$f":"IF(P_19号4様式1!K67=\"\",\"\",P_19号4様式1!K67)","v":""},{"$f":"IF(P_19号4様式1!L67<> \"\",IF(P_19号4様式1!L67<> \"-\",TEXT(INT(P_19号4様式1!L67),\"#,##0\"),\"-\"),\"\")","v":""},{"$f":"IF(P_19号4様式1!L67<> \"\",IF(P_19号4様式1!L67<> \"-\",IF(VALUE(FIXED(P_19号4様式1!L67,0,TRUE))<>P_19号4様式1!L67,RIGHT(FIXED(P_19号4様式1!L67,3,FALSE),4),\"\"),\"\"),\"\")","v":""},null,{"$f":"IF(P_19号4様式1!O67=\"\",\"\",P_19号4様式1!O67)","v":""},{"$f":"IF(P_19号4様式1!P67=\"\",\"\",P_19号4様式1!P67)","v":""},{"$f":"IF(P_19号4様式1!Q67<> \"\",IF(P_19号4様式1!Q67<> \"-\",TEXT(INT(P_19号4様式1!Q67),\"#,##0\"),\"-\"),\"\")","v":""},{"$f":"IF(P_19号4様式1!Q67<> \"\",IF(P_19号4様式1!Q67<> \"-\",IF(VALUE(FIXED(P_19号4様式1!Q67,0,TRUE))<>P_19号4様式1!Q67,RIGHT(FIXED(P_19号4様式1!Q67,3,FALSE),4),\"\"),\"\"),\"\")","v":""},null,{"$f":"IF(P_19号4様式1!T67=\"\",\"\",P_19号4様式1!T67)","v":""},{"$f":"IF(P_19号4様式1!U67=\"\",\"\",P_19号4様式1!U67)","v":""},{"$f":"IF(P_19号4様式1!V67<> \"\",IF(P_19号4様式1!V67<> \"-\",TEXT(INT(P_19号4様式1!V67),\"#,##0\"),\"-\"),\"\")","v":""},{"$f":"IF(P_19号4様式1!V67<> \"\",IF(P_19号4様式1!V67<> \"-\",IF(VALUE(FIXED(P_19号4様式1!V67,0,TRUE))<>P_19号4様式1!V67,RIGHT(FIXED(P_19号4様式1!V67,3,FALSE),4),\"\"),\"\"),\"\")","v":""}]
[{"$f":"IF(P_19号4様式1!E68=\"\",\"\",P_19号4様式1!E68)","v":""},{"$f":"IF(P_19号4様式1!F68=\"\",\"\",P_19号4様式1!F68)","v":""},{"$f":"IF(P_19号4様式1!G68<> \"\",IF(P_19号4様式1!G68<> \"-\",TEXT(INT(P_19号4様式1!G68),\"#,##0\"),\"-\"),\"\")","v":""},{"$f":"IF(P_19号4様式1!G68<> \"\",IF(P_19号4様式1!G68<> \"-\",IF(VALUE(FIXED(P_19号4様式1!G68,0,TRUE))<>P_19号4様式1!G68,RIGHT(FIXED(P_19号4様式1!G68,3,FALSE),4),\"\"),\"\"),\"\")","v":""},null,{"$f":"IF(P_19号4様式1!J68=\"\",\"\",P_19号4様式1!J68)","v":""},{"$f":"IF(P_19号4様式1!K68=\"\",\"\",P_19号4様式1!K68)","v":""},{"$f":"IF(P_19号4様式1!L68<> \"\",IF(P_19号4様式1!L68<> \"-\",TEXT(INT(P_19号4様式1!L68),\"#,##0\"),\"-\"),\"\")","v":""},{"$f":"IF(P_19号4様式1!L68<> \"\",IF(P_19号4様式1!L68<> \"-\",IF(VALUE(FIXED(P_19号4様式1!L68,0,TRUE))<>P_19号4様式1!L68,RIGHT(FIXED(P_19号4様式1!L68,3,FALSE),4),\"\"),\"\"),\"\")","v":""},null,{"$f":"IF(P_19号4様式1!O68=\"\",\"\",P_19号4様式1!O68)","v":""},{"$f":"IF(P_19号4様式1!P68=\"\",\"\",P_19号4様式1!P68)","v":""},{"$f":"IF(P_19号4様式1!Q68<> \"\",IF(P_19号4様式1!Q68<> \"-\",TEXT(INT(P_19号4様式1!Q68),\"#,##0\"),\"-\"),\"\")","v":""},{"$f":"IF(P_19号4様式1!Q68<> \"\",IF(P_19号4様式1!Q68<> \"-\",IF(VALUE(FIXED(P_19号4様式1!Q68,0,TRUE))<>P_19号4様式1!Q68,RIGHT(FIXED(P_19号4様式1!Q68,3,FALSE),4),\"\"),\"\"),\"\")","v":""},null,{"$f":"IF(P_19号4様式1!T68=\"\",\"\",P_19号4様式1!T68)","v":""},{"$f":"IF(P_19号4様式1!U68=\"\",\"\",P_19号4様式1!U68)","v":""},{"$f":"IF(P_19号4様式1!V68<> \"\",IF(P_19号4様式1!V68<> \"-\",TEXT(INT(P_19号4様式1!V68),\"#,##0\"),\"-\"),\"\")","v":""},{"$f":"IF(P_19号4様式1!V68<> \"\",IF(P_19号4様式1!V68<> \"-\",IF(VALUE(FIXED(P_19号4様式1!V68,0,TRUE))<>P_19号4様式1!V68,RIGHT(FIXED(P_19号4様式1!V68,3,FALSE),4),\"\"),\"\"),\"\")","v":""}]
[{"$f":"IF(P_19号4様式1!E69=\"\",\"\",P_19号4様式1!E69)","v":""},{"$f":"IF(P_19号4様式1!F69=\"\",\"\",P_19号4様式1!F69)","v":""},{"$f":"IF(P_19号4様式1!G69<> \"\",IF(P_19号4様式1!G69<> \"-\",TEXT(INT(P_19号4様式1!G69),\"#,##0\"),\"-\"),\"\")","v":""},{"$f":"IF(P_19号4様式1!G69<> \"\",IF(P_19号4様式1!G69<> \"-\",IF(VALUE(FIXED(P_19号4様式1!G69,0,TRUE))<>P_19号4様式1!G69,RIGHT(FIXED(P_19号4様式1!G69,3,FALSE),4),\"\"),\"\"),\"\")","v":""},null,{"$f":"IF(P_19号4様式1!J69=\"\",\"\",P_19号4様式1!J69)","v":""},{"$f":"IF(P_19号4様式1!K69=\"\",\"\",P_19号4様式1!K69)","v":""},{"$f":"IF(P_19号4様式1!L69<> \"\",IF(P_19号4様式1!L69<> \"-\",TEXT(INT(P_19号4様式1!L69),\"#,##0\"),\"-\"),\"\")","v":""},{"$f":"IF(P_19号4様式1!L69<> \"\",IF(P_19号4様式1!L69<> \"-\",IF(VALUE(FIXED(P_19号4様式1!L69,0,TRUE))<>P_19号4様式1!L69,RIGHT(FIXED(P_19号4様式1!L69,3,FALSE),4),\"\"),\"\"),\"\")","v":""},null,{"$f":"IF(P_19号4様式1!O69=\"\",\"\",P_19号4様式1!O69)","v":""},{"$f":"IF(P_19号4様式1!P69=\"\",\"\",P_19号4様式1!P69)","v":""},{"$f":"IF(P_19号4様式1!Q69<> \"\",IF(P_19号4様式1!Q69<> \"-\",TEXT(INT(P_19号4様式1!Q69),\"#,##0\"),\"-\"),\"\")","v":""},{"$f":"IF(P_19号4様式1!Q69<> \"\",IF(P_19号4様式1!Q69<> \"-\",IF(VALUE(FIXED(P_19号4様式1!Q69,0,TRUE))<>P_19号4様式1!Q69,RIGHT(FIXED(P_19号4様式1!Q69,3,FALSE),4),\"\"),\"\"),\"\")","v":""},null,{"$f":"IF(P_19号4様式1!T69=\"\",\"\",P_19号4様式1!T69)","v":""},{"$f":"IF(P_19号4様式1!U69=\"\",\"\",P_19号4様式1!U69)","v":""},{"$f":"IF(P_19号4様式1!V69<> \"\",IF(P_19号4様式1!V69<> \"-\",TEXT(INT(P_19号4様式1!V69),\"#,##0\"),\"-\"),\"\")","v":""},{"$f":"IF(P_19号4様式1!V69<> \"\",IF(P_19号4様式1!V69<> \"-\",IF(VALUE(FIXED(P_19号4様式1!V69,0,TRUE))<>P_19号4様式1!V69,RIGHT(FIXED(P_19号4様式1!V69,3,FALSE),4),\"\"),\"\"),\"\")","v":""}]
[{"$f":"IF(P_19号4様式1!E70=\"\",\"\",P_19号4様式1!E70)","v":""},{"$f":"IF(P_19号4様式1!F70=\"\",\"\",P_19号4様式1!F70)","v":""},{"$f":"IF(P_19号4様式1!G70<> \"\",IF(P_19号4様式1!G70<> \"-\",TEXT(INT(P_19号4様式1!G70),\"#,##0\"),\"-\"),\"\")","v":""},{"$f":"IF(P_19号4様式1!G70<> \"\",IF(P_19号4様式1!G70<> \"-\",IF(VALUE(FIXED(P_19号4様式1!G70,0,TRUE))<>P_19号4様式1!G70,RIGHT(FIXED(P_19号4様式1!G70,3,FALSE),4),\"\"),\"\"),\"\")","v":""},null,{"$f":"IF(P_19号4様式1!J70=\"\",\"\",P_19号4様式1!J70)","v":""},{"$f":"IF(P_19号4様式1!K70=\"\",\"\",P_19号4様式1!K70)","v":""},{"$f":"IF(P_19号4様式1!L70<> \"\",IF(P_19号4様式1!L70<> \"-\",TEXT(INT(P_19号4様式1!L70),\"#,##0\"),\"-\"),\"\")","v":""},{"$f":"IF(P_19号4様式1!L70<> \"\",IF(P_19号4様式1!L70<> \"-\",IF(VALUE(FIXED(P_19号4様式1!L70,0,TRUE))<>P_19号4様式1!L70,RIGHT(FIXED(P_19号4様式1!L70,3,FALSE),4),\"\"),\"\"),\"\")","v":""},null,{"$f":"IF(P_19号4様式1!O70=\"\",\"\",P_19号4様式1!O70)","v":""},{"$f":"IF(P_19号4様式1!P70=\"\",\"\",P_19号4様式1!P70)","v":""},{"$f":"IF(P_19号4様式1!Q70<> \"\",IF(P_19号4様式1!Q70<> \"-\",TEXT(INT(P_19号4様式1!Q70),\"#,##0\"),\"-\"),\"\")","v":""},{"$f":"IF(P_19号4様式1!Q70<> \"\",IF(P_19号4様式1!Q70<> \"-\",IF(VALUE(FIXED(P_19号4様式1!Q70,0,TRUE))<>P_19号4様式1!Q70,RIGHT(FIXED(P_19号4様式1!Q70,3,FALSE),4),\"\"),\"\"),\"\")","v":""},null,{"$f":"IF(P_19号4様式1!T70=\"\",\"\",P_19号4様式1!T70)","v":""},{"$f":"IF(P_19号4様式1!U70=\"\",\"\",P_19号4様式1!U70)","v":""},{"$f":"IF(P_19号4様式1!V70<> \"\",IF(P_19号4様式1!V70<> \"-\",TEXT(INT(P_19号4様式1!V70),\"#,##0\"),\"-\"),\"\")","v":""},{"$f":"IF(P_19号4様式1!V70<> \"\",IF(P_19号4様式1!V70<> \"-\",IF(VALUE(FIXED(P_19号4様式1!V70,0,TRUE))<>P_19号4様式1!V70,RIGHT(FIXED(P_19号4様式1!V70,3,FALSE),4),\"\"),\"\"),\"\")","v":""}]
[{"$f":"IF(P_19号4様式1!E71=\"\",\"\",P_19号4様式1!E71)","v":""},{"$f":"IF(P_19号4様式1!F71=\"\",\"\",P_19号4様式1!F71)","v":""},{"$f":"IF(P_19号4様式1!G71<> \"\",IF(P_19号4様式1!G71<> \"-\",TEXT(INT(P_19号4様式1!G71),\"#,##0\"),\"-\"),\"\")","v":""},{"$f":"IF(P_19号4様式1!G71<> \"\",IF(P_19号4様式1!G71<> \"-\",IF(VALUE(FIXED(P_19号4様式1!G71,0,TRUE))<>P_19号4様式1!G71,RIGHT(FIXED(P_19号4様式1!G71,3,FALSE),4),\"\"),\"\"),\"\")","v":""},null,{"$f":"IF(P_19号4様式1!J71=\"\",\"\",P_19号4様式1!J71)","v":""},{"$f":"IF(P_19号4様式1!K71=\"\",\"\",P_19号4様式1!K71)","v":""},{"$f":"IF(P_19号4様式1!L71<> \"\",IF(P_19号4様式1!L71<> \"-\",TEXT(INT(P_19号4様式1!L71),\"#,##0\"),\"-\"),\"\")","v":""},{"$f":"IF(P_19号4様式1!L71<> \"\",IF(P_19号4様式1!L71<> \"-\",IF(VALUE(FIXED(P_19号4様式1!L71,0,TRUE))<>P_19号4様式1!L71,RIGHT(FIXED(P_19号4様式1!L71,3,FALSE),4),\"\"),\"\"),\"\")","v":""},null,{"$f":"IF(P_19号4様式1!O71=\"\",\"\",P_19号4様式1!O71)","v":""},{"$f":"IF(P_19号4様式1!P71=\"\",\"\",P_19号4様式1!P71)","v":""},{"$f":"IF(P_19号4様式1!Q71<> \"\",IF(P_19号4様式1!Q71<> \"-\",TEXT(INT(P_19号4様式1!Q71),\"#,##0\"),\"-\"),\"\")","v":""},{"$f":"IF(P_19号4様式1!Q71<> \"\",IF(P_19号4様式1!Q71<> \"-\",IF(VALUE(FIXED(P_19号4様式1!Q71,0,TRUE))<>P_19号4様式1!Q71,RIGHT(FIXED(P_19号4様式1!Q71,3,FALSE),4),\"\"),\"\"),\"\")","v":""},null,{"$f":"IF(P_19号4様式1!T71=\"\",\"\",P_19号4様式1!T71)","v":""},{"$f":"IF(P_19号4様式1!U71=\"\",\"\",P_19号4様式1!U71)","v":""},{"$f":"IF(P_19号4様式1!V71<> \"\",IF(P_19号4様式1!V71<> \"-\",TEXT(INT(P_19号4様式1!V71),\"#,##0\"),\"-\"),\"\")","v":""},{"$f":"IF(P_19号4様式1!V71<> \"\",IF(P_19号4様式1!V71<> \"-\",IF(VALUE(FIXED(P_19号4様式1!V71,0,TRUE))<>P_19号4様式1!V71,RIGHT(FIXED(P_19号4様式1!V71,3,FALSE),4),\"\"),\"\"),\"\")","v":""}]
[{"$f":"IF(P_19号4様式1!E72=\"\",\"\",P_19号4様式1!E72)","v":""},{"$f":"IF(P_19号4様式1!F72=\"\",\"\",P_19号4様式1!F72)","v":""},{"$f":"IF(P_19号4様式1!G72<> \"\",IF(P_19号4様式1!G72<> \"-\",TEXT(INT(P_19号4様式1!G72),\"#,##0\"),\"-\"),\"\")","v":""},{"$f":"IF(P_19号4様式1!G72<> \"\",IF(P_19号4様式1!G72<> \"-\",IF(VALUE(FIXED(P_19号4様式1!G72,0,TRUE))<>P_19号4様式1!G72,RIGHT(FIXED(P_19号4様式1!G72,3,FALSE),4),\"\"),\"\"),\"\")","v":""},null,{"$f":"IF(P_19号4様式1!J72=\"\",\"\",P_19号4様式1!J72)","v":""},{"$f":"IF(P_19号4様式1!K72=\"\",\"\",P_19号4様式1!K72)","v":""},{"$f":"IF(P_19号4様式1!L72<> \"\",IF(P_19号4様式1!L72<> \"-\",TEXT(INT(P_19号4様式1!L72),\"#,##0\"),\"-\"),\"\")","v":""},{"$f":"IF(P_19号4様式1!L72<> \"\",IF(P_19号4様式1!L72<> \"-\",IF(VALUE(FIXED(P_19号4様式1!L72,0,TRUE))<>P_19号4様式1!L72,RIGHT(FIXED(P_19号4様式1!L72,3,FALSE),4),\"\"),\"\"),\"\")","v":""},null,{"$f":"IF(P_19号4様式1!O72=\"\",\"\",P_19号4様式1!O72)","v":""},{"$f":"IF(P_19号4様式1!P72=\"\",\"\",P_19号4様式1!P72)","v":""},{"$f":"IF(P_19号4様式1!Q72<> \"\",IF(P_19号4様式1!Q72<> \"-\",TEXT(INT(P_19号4様式1!Q72),\"#,##0\"),\"-\"),\"\")","v":""},{"$f":"IF(P_19号4様式1!Q72<> \"\",IF(P_19号4様式1!Q72<> \"-\",IF(VALUE(FIXED(P_19号4様式1!Q72,0,TRUE))<>P_19号4様式1!Q72,RIGHT(FIXED(P_19号4様式1!Q72,3,FALSE),4),\"\"),\"\"),\"\")","v":""},null,{"$f":"IF(P_19号4様式1!T72=\"\",\"\",P_19号4様式1!T72)","v":""},{"$f":"IF(P_19号4様式1!U72=\"\",\"\",P_19号4様式1!U72)","v":""},{"$f":"IF(P_19号4様式1!V72<> \"\",IF(P_19号4様式1!V72<> \"-\",TEXT(INT(P_19号4様式1!V72),\"#,##0\"),\"-\"),\"\")","v":""},{"$f":"IF(P_19号4様式1!V72<> \"\",IF(P_19号4様式1!V72<> \"-\",IF(VALUE(FIXED(P_19号4様式1!V72,0,TRUE))<>P_19号4様式1!V72,RIGHT(FIXED(P_19号4様式1!V72,3,FALSE),4),\"\"),\"\"),\"\")","v":""}]
[{"$f":"IF(P_19号4様式1!E73=\"\",\"\",P_19号4様式1!E73)","v":""},{"$f":"IF(P_19号4様式1!F73=\"\",\"\",P_19号4様式1!F73)","v":""},{"$f":"IF(P_19号4様式1!G73<> \"\",IF(P_19号4様式1!G73<> \"-\",TEXT(INT(P_19号4様式1!G73),\"#,##0\"),\"-\"),\"\")","v":""},{"$f":"IF(P_19号4様式1!G73<> \"\",IF(P_19号4様式1!G73<> \"-\",IF(VALUE(FIXED(P_19号4様式1!G73,0,TRUE))<>P_19号4様式1!G73,RIGHT(FIXED(P_19号4様式1!G73,3,FALSE),4),\"\"),\"\"),\"\")","v":""},null,{"$f":"IF(P_19号4様式1!J73=\"\",\"\",P_19号4様式1!J73)","v":""},{"$f":"IF(P_19号4様式1!K73=\"\",\"\",P_19号4様式1!K73)","v":""},{"$f":"IF(P_19号4様式1!L73<> \"\",IF(P_19号4様式1!L73<> \"-\",TEXT(INT(P_19号4様式1!L73),\"#,##0\"),\"-\"),\"\")","v":""},{"$f":"IF(P_19号4様式1!L73<> \"\",IF(P_19号4様式1!L73<> \"-\",IF(VALUE(FIXED(P_19号4様式1!L73,0,TRUE))<>P_19号4様式1!L73,RIGHT(FIXED(P_19号4様式1!L73,3,FALSE),4),\"\"),\"\"),\"\")","v":""},null,{"$f":"IF(P_19号4様式1!O73=\"\",\"\",P_19号4様式1!O73)","v":""},{"$f":"IF(P_19号4様式1!P73=\"\",\"\",P_19号4様式1!P73)","v":""},{"$f":"IF(P_19号4様式1!Q73<> \"\",IF(P_19号4様式1!Q73<> \"-\",TEXT(INT(P_19号4様式1!Q73),\"#,##0\"),\"-\"),\"\")","v":""},{"$f":"IF(P_19号4様式1!Q73<> \"\",IF(P_19号4様式1!Q73<> \"-\",IF(VALUE(FIXED(P_19号4様式1!Q73,0,TRUE))<>P_19号4様式1!Q73,RIGHT(FIXED(P_19号4様式1!Q73,3,FALSE),4),\"\"),\"\"),\"\")","v":""},null,{"$f":"IF(P_19号4様式1!T73=\"\",\"\",P_19号4様式1!T73)","v":""},{"$f":"IF(P_19号4様式1!U73=\"\",\"\",P_19号4様式1!U73)","v":""},{"$f":"IF(P_19号4様式1!V73<> \"\",IF(P_19号4様式1!V73<> \"-\",TEXT(INT(P_19号4様式1!V73),\"#,##0\"),\"-\"),\"\")","v":""},{"$f":"IF(P_19号4様式1!V73<> \"\",IF(P_19号4様式1!V73<> \"-\",IF(VALUE(FIXED(P_19号4様式1!V73,0,TRUE))<>P_19号4様式1!V73,RIGHT(FIXED(P_19号4様式1!V73,3,FALSE),4),\"\"),\"\"),\"\")","v":""}]
[{"$f":"IF(P_19号4様式1!E74=\"\",\"\",P_19号4様式1!E74)","v":""},{"$f":"IF(P_19号4様式1!F74=\"\",\"\",P_19号4様式1!F74)","v":""},{"$f":"IF(P_19号4様式1!G74<> \"\",IF(P_19号4様式1!G74<> \"-\",TEXT(INT(P_19号4様式1!G74),\"#,##0\"),\"-\"),\"\")","v":""},{"$f":"IF(P_19号4様式1!G74<> \"\",IF(P_19号4様式1!G74<> \"-\",IF(VALUE(FIXED(P_19号4様式1!G74,0,TRUE))<>P_19号4様式1!G74,RIGHT(FIXED(P_19号4様式1!G74,3,FALSE),4),\"\"),\"\"),\"\")","v":""},null,{"$f":"IF(P_19号4様式1!J74=\"\",\"\",P_19号4様式1!J74)","v":""},{"$f":"IF(P_19号4様式1!K74=\"\",\"\",P_19号4様式1!K74)","v":""},{"$f":"IF(P_19号4様式1!L74<> \"\",IF(P_19号4様式1!L74<> \"-\",TEXT(INT(P_19号4様式1!L74),\"#,##0\"),\"-\"),\"\")","v":""},{"$f":"IF(P_19号4様式1!L74<> \"\",IF(P_19号4様式1!L74<> \"-\",IF(VALUE(FIXED(P_19号4様式1!L74,0,TRUE))<>P_19号4様式1!L74,RIGHT(FIXED(P_19号4様式1!L74,3,FALSE),4),\"\"),\"\"),\"\")","v":""},null,{"$f":"IF(P_19号4様式1!O74=\"\",\"\",P_19号4様式1!O74)","v":""},{"$f":"IF(P_19号4様式1!P74=\"\",\"\",P_19号4様式1!P74)","v":""},{"$f":"IF(P_19号4様式1!Q74<> \"\",IF(P_19号4様式1!Q74<> \"-\",TEXT(INT(P_19号4様式1!Q74),\"#,##0\"),\"-\"),\"\")","v":""},{"$f":"IF(P_19号4様式1!Q74<> \"\",IF(P_19号4様式1!Q74<> \"-\",IF(VALUE(FIXED(P_19号4様式1!Q74,0,TRUE))<>P_19号4様式1!Q74,RIGHT(FIXED(P_19号4様式1!Q74,3,FALSE),4),\"\"),\"\"),\"\")","v":""},null,{"$f":"IF(P_19号4様式1!T74=\"\",\"\",P_19号4様式1!T74)","v":""},{"$f":"IF(P_19号4様式1!U74=\"\",\"\",P_19号4様式1!U74)","v":""},{"$f":"IF(P_19号4様式1!V74<> \"\",IF(P_19号4様式1!V74<> \"-\",TEXT(INT(P_19号4様式1!V74),\"#,##0\"),\"-\"),\"\")","v":""},{"$f":"IF(P_19号4様式1!V74<> \"\",IF(P_19号4様式1!V74<> \"-\",IF(VALUE(FIXED(P_19号4様式1!V74,0,TRUE))<>P_19号4様式1!V74,RIGHT(FIXED(P_19号4様式1!V74,3,FALSE),4),\"\"),\"\"),\"\")","v":""}]
[{"$f":"IF(P_19号4様式1!E75=\"\",\"\",P_19号4様式1!E75)","v":""},{"$f":"IF(P_19号4様式1!F75=\"\",\"\",P_19号4様式1!F75)","v":""},{"$f":"IF(P_19号4様式1!G75<> \"\",IF(P_19号4様式1!G75<> \"-\",TEXT(INT(P_19号4様式1!G75),\"#,##0\"),\"-\"),\"\")","v":""},{"$f":"IF(P_19号4様式1!G75<> \"\",IF(P_19号4様式1!G75<> \"-\",IF(VALUE(FIXED(P_19号4様式1!G75,0,TRUE))<>P_19号4様式1!G75,RIGHT(FIXED(P_19号4様式1!G75,3,FALSE),4),\"\"),\"\"),\"\")","v":""},null,{"$f":"IF(P_19号4様式1!J75=\"\",\"\",P_19号4様式1!J75)","v":""},{"$f":"IF(P_19号4様式1!K75=\"\",\"\",P_19号4様式1!K75)","v":""},{"$f":"IF(P_19号4様式1!L75<> \"\",IF(P_19号4様式1!L75<> \"-\",TEXT(INT(P_19号4様式1!L75),\"#,##0\"),\"-\"),\"\")","v":""},{"$f":"IF(P_19号4様式1!L75<> \"\",IF(P_19号4様式1!L75<> \"-\",IF(VALUE(FIXED(P_19号4様式1!L75,0,TRUE))<>P_19号4様式1!L75,RIGHT(FIXED(P_19号4様式1!L75,3,FALSE),4),\"\"),\"\"),\"\")","v":""},null,{"$f":"IF(P_19号4様式1!O75=\"\",\"\",P_19号4様式1!O75)","v":""},{"$f":"IF(P_19号4様式1!P75=\"\",\"\",P_19号4様式1!P75)","v":""},{"$f":"IF(P_19号4様式1!Q75<> \"\",IF(P_19号4様式1!Q75<> \"-\",TEXT(INT(P_19号4様式1!Q75),\"#,##0\"),\"-\"),\"\")","v":""},{"$f":"IF(P_19号4様式1!Q75<> \"\",IF(P_19号4様式1!Q75<> \"-\",IF(VALUE(FIXED(P_19号4様式1!Q75,0,TRUE))<>P_19号4様式1!Q75,RIGHT(FIXED(P_19号4様式1!Q75,3,FALSE),4),\"\"),\"\"),\"\")","v":""},null,{"$f":"IF(P_19号4様式1!T75=\"\",\"\",P_19号4様式1!T75)","v":""},{"$f":"IF(P_19号4様式1!U75=\"\",\"\",P_19号4様式1!U75)","v":""},{"$f":"IF(P_19号4様式1!V75<> \"\",IF(P_19号4様式1!V75<> \"-\",TEXT(INT(P_19号4様式1!V75),\"#,##0\"),\"-\"),\"\")","v":""},{"$f":"IF(P_19号4様式1!V75<> \"\",IF(P_19号4様式1!V75<> \"-\",IF(VALUE(FIXED(P_19号4様式1!V75,0,TRUE))<>P_19号4様式1!V75,RIGHT(FIXED(P_19号4様式1!V75,3,FALSE),4),\"\"),\"\"),\"\")","v":""}]
[{"$f":"IF(P_19号4様式1!E76=\"\",\"\",P_19号4様式1!E76)","v":""},{"$f":"IF(P_19号4様式1!F76=\"\",\"\",P_19号4様式1!F76)","v":""},{"$f":"IF(P_19号4様式1!G76<> \"\",IF(P_19号4様式1!G76<> \"-\",TEXT(INT(P_19号4様式1!G76),\"#,##0\"),\"-\"),\"\")","v":""},{"$f":"IF(P_19号4様式1!G76<> \"\",IF(P_19号4様式1!G76<> \"-\",IF(VALUE(FIXED(P_19号4様式1!G76,0,TRUE))<>P_19号4様式1!G76,RIGHT(FIXED(P_19号4様式1!G76,3,FALSE),4),\"\"),\"\"),\"\")","v":""},null,{"$f":"IF(P_19号4様式1!J76=\"\",\"\",P_19号4様式1!J76)","v":""},{"$f":"IF(P_19号4様式1!K76=\"\",\"\",P_19号4様式1!K76)","v":""},{"$f":"IF(P_19号4様式1!L76<> \"\",IF(P_19号4様式1!L76<> \"-\",TEXT(INT(P_19号4様式1!L76),\"#,##0\"),\"-\"),\"\")","v":""},{"$f":"IF(P_19号4様式1!L76<> \"\",IF(P_19号4様式1!L76<> \"-\",IF(VALUE(FIXED(P_19号4様式1!L76,0,TRUE))<>P_19号4様式1!L76,RIGHT(FIXED(P_19号4様式1!L76,3,FALSE),4),\"\"),\"\"),\"\")","v":""},null,{"$f":"IF(P_19号4様式1!O76=\"\",\"\",P_19号4様式1!O76)","v":""},{"$f":"IF(P_19号4様式1!P76=\"\",\"\",P_19号4様式1!P76)","v":""},{"$f":"IF(P_19号4様式1!Q76<> \"\",IF(P_19号4様式1!Q76<> \"-\",TEXT(INT(P_19号4様式1!Q76),\"#,##0\"),\"-\"),\"\")","v":""},{"$f":"IF(P_19号4様式1!Q76<> \"\",IF(P_19号4様式1!Q76<> \"-\",IF(VALUE(FIXED(P_19号4様式1!Q76,0,TRUE))<>P_19号4様式1!Q76,RIGHT(FIXED(P_19号4様式1!Q76,3,FALSE),4),\"\"),\"\"),\"\")","v":""},null,{"$f":"IF(P_19号4様式1!T76=\"\",\"\",P_19号4様式1!T76)","v":""},{"$f":"IF(P_19号4様式1!U76=\"\",\"\",P_19号4様式1!U76)","v":""},{"$f":"IF(P_19号4様式1!V76<> \"\",IF(P_19号4様式1!V76<> \"-\",TEXT(INT(P_19号4様式1!V76),\"#,##0\"),\"-\"),\"\")","v":""},{"$f":"IF(P_19号4様式1!V76<> \"\",IF(P_19号4様式1!V76<> \"-\",IF(VALUE(FIXED(P_19号4様式1!V76,0,TRUE))<>P_19号4様式1!V76,RIGHT(FIXED(P_19号4様式1!V76,3,FALSE),4),\"\"),\"\"),\"\")","v":""}]
[{"$f":"IF(P_19号4様式1!E77=\"\",\"\",P_19号4様式1!E77)","v":""},{"$f":"IF(P_19号4様式1!F77=\"\",\"\",P_19号4様式1!F77)","v":""},{"$f":"IF(P_19号4様式1!G77<> \"\",IF(P_19号4様式1!G77<> \"-\",TEXT(INT(P_19号4様式1!G77),\"#,##0\"),\"-\"),\"\")","v":""},{"$f":"IF(P_19号4様式1!G77<> \"\",IF(P_19号4様式1!G77<> \"-\",IF(VALUE(FIXED(P_19号4様式1!G77,0,TRUE))<>P_19号4様式1!G77,RIGHT(FIXED(P_19号4様式1!G77,3,FALSE),4),\"\"),\"\"),\"\")","v":""},null,{"$f":"IF(P_19号4様式1!J77=\"\",\"\",P_19号4様式1!J77)","v":""},{"$f":"IF(P_19号4様式1!K77=\"\",\"\",P_19号4様式1!K77)","v":""},{"$f":"IF(P_19号4様式1!L77<> \"\",IF(P_19号4様式1!L77<> \"-\",TEXT(INT(P_19号4様式1!L77),\"#,##0\"),\"-\"),\"\")","v":""},{"$f":"IF(P_19号4様式1!L77<> \"\",IF(P_19号4様式1!L77<> \"-\",IF(VALUE(FIXED(P_19号4様式1!L77,0,TRUE))<>P_19号4様式1!L77,RIGHT(FIXED(P_19号4様式1!L77,3,FALSE),4),\"\"),\"\"),\"\")","v":""},null,{"$f":"IF(P_19号4様式1!O77=\"\",\"\",P_19号4様式1!O77)","v":""},{"$f":"IF(P_19号4様式1!P77=\"\",\"\",P_19号4様式1!P77)","v":""},{"$f":"IF(P_19号4様式1!Q77<> \"\",IF(P_19号4様式1!Q77<> \"-\",TEXT(INT(P_19号4様式1!Q77),\"#,##0\"),\"-\"),\"\")","v":""},{"$f":"IF(P_19号4様式1!Q77<> \"\",IF(P_19号4様式1!Q77<> \"-\",IF(VALUE(FIXED(P_19号4様式1!Q77,0,TRUE))<>P_19号4様式1!Q77,RIGHT(FIXED(P_19号4様式1!Q77,3,FALSE),4),\"\"),\"\"),\"\")","v":""},null,{"$f":"IF(P_19号4様式1!T77=\"\",\"\",P_19号4様式1!T77)","v":""},{"$f":"IF(P_19号4様式1!U77=\"\",\"\",P_19号4様式1!U77)","v":""},{"$f":"IF(P_19号4様式1!V77<> \"\",IF(P_19号4様式1!V77<> \"-\",TEXT(INT(P_19号4様式1!V77),\"#,##0\"),\"-\"),\"\")","v":""},{"$f":"IF(P_19号4様式1!V77<> \"\",IF(P_19号4様式1!V77<> \"-\",IF(VALUE(FIXED(P_19号4様式1!V77,0,TRUE))<>P_19号4様式1!V77,RIGHT(FIXED(P_19号4様式1!V77,3,FALSE),4),\"\"),\"\"),\"\")","v":""}]
[{"$f":"IF(P_19号4様式1!E78=\"\",\"\",P_19号4様式1!E78)","v":""},{"$f":"IF(P_19号4様式1!F78=\"\",\"\",P_19号4様式1!F78)","v":""},{"$f":"IF(P_19号4様式1!G78<> \"\",IF(P_19号4様式1!G78<> \"-\",TEXT(INT(P_19号4様式1!G78),\"#,##0\"),\"-\"),\"\")","v":""},{"$f":"IF(P_19号4様式1!G78<> \"\",IF(P_19号4様式1!G78<> \"-\",IF(VALUE(FIXED(P_19号4様式1!G78,0,TRUE))<>P_19号4様式1!G78,RIGHT(FIXED(P_19号4様式1!G78,3,FALSE),4),\"\"),\"\"),\"\")","v":""},null,{"$f":"IF(P_19号4様式1!J78=\"\",\"\",P_19号4様式1!J78)","v":""},{"$f":"IF(P_19号4様式1!K78=\"\",\"\",P_19号4様式1!K78)","v":""},{"$f":"IF(P_19号4様式1!L78<> \"\",IF(P_19号4様式1!L78<> \"-\",TEXT(INT(P_19号4様式1!L78),\"#,##0\"),\"-\"),\"\")","v":""},{"$f":"IF(P_19号4様式1!L78<> \"\",IF(P_19号4様式1!L78<> \"-\",IF(VALUE(FIXED(P_19号4様式1!L78,0,TRUE))<>P_19号4様式1!L78,RIGHT(FIXED(P_19号4様式1!L78,3,FALSE),4),\"\"),\"\"),\"\")","v":""},null,{"$f":"IF(P_19号4様式1!O78=\"\",\"\",P_19号4様式1!O78)","v":""},{"$f":"IF(P_19号4様式1!P78=\"\",\"\",P_19号4様式1!P78)","v":""},{"$f":"IF(P_19号4様式1!Q78<> \"\",IF(P_19号4様式1!Q78<> \"-\",TEXT(INT(P_19号4様式1!Q78),\"#,##0\"),\"-\"),\"\")","v":""},{"$f":"IF(P_19号4様式1!Q78<> \"\",IF(P_19号4様式1!Q78<> \"-\",IF(VALUE(FIXED(P_19号4様式1!Q78,0,TRUE))<>P_19号4様式1!Q78,RIGHT(FIXED(P_19号4様式1!Q78,3,FALSE),4),\"\"),\"\"),\"\")","v":""},null,{"$f":"IF(P_19号4様式1!T78=\"\",\"\",P_19号4様式1!T78)","v":""},{"$f":"IF(P_19号4様式1!U78=\"\",\"\",P_19号4様式1!U78)","v":""},{"$f":"IF(P_19号4様式1!V78<> \"\",IF(P_19号4様式1!V78<> \"-\",TEXT(INT(P_19号4様式1!V78),\"#,##0\"),\"-\"),\"\")","v":""},{"$f":"IF(P_19号4様式1!V78<> \"\",IF(P_19号4様式1!V78<> \"-\",IF(VALUE(FIXED(P_19号4様式1!V78,0,TRUE))<>P_19号4様式1!V78,RIGHT(FIXED(P_19号4様式1!V78,3,FALSE),4),\"\"),\"\"),\"\")","v":""}]
[{"$f":"IF(P_19号4様式1!E79=\"\",\"\",P_19号4様式1!E79)","v":""},{"$f":"IF(P_19号4様式1!F79=\"\",\"\",P_19号4様式1!F79)","v":""},{"$f":"IF(P_19号4様式1!G79<> \"\",IF(P_19号4様式1!G79<> \"-\",TEXT(INT(P_19号4様式1!G79),\"#,##0\"),\"-\"),\"\")","v":""},{"$f":"IF(P_19号4様式1!G79<> \"\",IF(P_19号4様式1!G79<> \"-\",IF(VALUE(FIXED(P_19号4様式1!G79,0,TRUE))<>P_19号4様式1!G79,RIGHT(FIXED(P_19号4様式1!G79,3,FALSE),4),\"\"),\"\"),\"\")","v":""},null,{"$f":"IF(P_19号4様式1!J79=\"\",\"\",P_19号4様式1!J79)","v":""},{"$f":"IF(P_19号4様式1!K79=\"\",\"\",P_19号4様式1!K79)","v":""},{"$f":"IF(P_19号4様式1!L79<> \"\",IF(P_19号4様式1!L79<> \"-\",TEXT(INT(P_19号4様式1!L79),\"#,##0\"),\"-\"),\"\")","v":""},{"$f":"IF(P_19号4様式1!L79<> \"\",IF(P_19号4様式1!L79<> \"-\",IF(VALUE(FIXED(P_19号4様式1!L79,0,TRUE))<>P_19号4様式1!L79,RIGHT(FIXED(P_19号4様式1!L79,3,FALSE),4),\"\"),\"\"),\"\")","v":""},null,{"$f":"IF(P_19号4様式1!O79=\"\",\"\",P_19号4様式1!O79)","v":""},{"$f":"IF(P_19号4様式1!P79=\"\",\"\",P_19号4様式1!P79)","v":""},{"$f":"IF(P_19号4様式1!Q79<> \"\",IF(P_19号4様式1!Q79<> \"-\",TEXT(INT(P_19号4様式1!Q79),\"#,##0\"),\"-\"),\"\")","v":""},{"$f":"IF(P_19号4様式1!Q79<> \"\",IF(P_19号4様式1!Q79<> \"-\",IF(VALUE(FIXED(P_19号4様式1!Q79,0,TRUE))<>P_19号4様式1!Q79,RIGHT(FIXED(P_19号4様式1!Q79,3,FALSE),4),\"\"),\"\"),\"\")","v":""},null,{"$f":"IF(P_19号4様式1!T79=\"\",\"\",P_19号4様式1!T79)","v":""},{"$f":"IF(P_19号4様式1!U79=\"\",\"\",P_19号4様式1!U79)","v":""},{"$f":"IF(P_19号4様式1!V79<> \"\",IF(P_19号4様式1!V79<> \"-\",TEXT(INT(P_19号4様式1!V79),\"#,##0\"),\"-\"),\"\")","v":""},{"$f":"IF(P_19号4様式1!V79<> \"\",IF(P_19号4様式1!V79<> \"-\",IF(VALUE(FIXED(P_19号4様式1!V79,0,TRUE))<>P_19号4様式1!V79,RIGHT(FIXED(P_19号4様式1!V79,3,FALSE),4),\"\"),\"\"),\"\")","v":""}]
[{"$f":"IF(P_19号4様式1!E80=\"\",\"\",P_19号4様式1!E80)","v":""},{"$f":"IF(P_19号4様式1!F80=\"\",\"\",P_19号4様式1!F80)","v":""},{"$f":"IF(P_19号4様式1!G80<> \"\",IF(P_19号4様式1!G80<> \"-\",TEXT(INT(P_19号4様式1!G80),\"#,##0\"),\"-\"),\"\")","v":""},{"$f":"IF(P_19号4様式1!G80<> \"\",IF(P_19号4様式1!G80<> \"-\",IF(VALUE(FIXED(P_19号4様式1!G80,0,TRUE))<>P_19号4様式1!G80,RIGHT(FIXED(P_19号4様式1!G80,3,FALSE),4),\"\"),\"\"),\"\")","v":""},null,{"$f":"IF(P_19号4様式1!J80=\"\",\"\",P_19号4様式1!J80)","v":""},{"$f":"IF(P_19号4様式1!K80=\"\",\"\",P_19号4様式1!K80)","v":""},{"$f":"IF(P_19号4様式1!L80<> \"\",IF(P_19号4様式1!L80<> \"-\",TEXT(INT(P_19号4様式1!L80),\"#,##0\"),\"-\"),\"\")","v":""},{"$f":"IF(P_19号4様式1!L80<> \"\",IF(P_19号4様式1!L80<> \"-\",IF(VALUE(FIXED(P_19号4様式1!L80,0,TRUE))<>P_19号4様式1!L80,RIGHT(FIXED(P_19号4様式1!L80,3,FALSE),4),\"\"),\"\"),\"\")","v":""},null,{"$f":"IF(P_19号4様式1!O80=\"\",\"\",P_19号4様式1!O80)","v":""},{"$f":"IF(P_19号4様式1!P80=\"\",\"\",P_19号4様式1!P80)","v":""},{"$f":"IF(P_19号4様式1!Q80<> \"\",IF(P_19号4様式1!Q80<> \"-\",TEXT(INT(P_19号4様式1!Q80),\"#,##0\"),\"-\"),\"\")","v":""},{"$f":"IF(P_19号4様式1!Q80<> \"\",IF(P_19号4様式1!Q80<> \"-\",IF(VALUE(FIXED(P_19号4様式1!Q80,0,TRUE))<>P_19号4様式1!Q80,RIGHT(FIXED(P_19号4様式1!Q80,3,FALSE),4),\"\"),\"\"),\"\")","v":""},null,{"$f":"IF(P_19号4様式1!T80=\"\",\"\",P_19号4様式1!T80)","v":""},{"$f":"IF(P_19号4様式1!U80=\"\",\"\",P_19号4様式1!U80)","v":""},{"$f":"IF(P_19号4様式1!V80<> \"\",IF(P_19号4様式1!V80<> \"-\",TEXT(INT(P_19号4様式1!V80),\"#,##0\"),\"-\"),\"\")","v":""},{"$f":"IF(P_19号4様式1!V80<> \"\",IF(P_19号4様式1!V80<> \"-\",IF(VALUE(FIXED(P_19号4様式1!V80,0,TRUE))<>P_19号4様式1!V80,RIGHT(FIXED(P_19号4様式1!V80,3,FALSE),4),\"\"),\"\"),\"\")","v":""}]
[{"$f":"IF(P_19号4様式1!E81=\"\",\"\",P_19号4様式1!E81)","v":""},{"$f":"IF(P_19号4様式1!F81=\"\",\"\",P_19号4様式1!F81)","v":""},{"$f":"IF(P_19号4様式1!G81<> \"\",IF(P_19号4様式1!G81<> \"-\",TEXT(INT(P_19号4様式1!G81),\"#,##0\"),\"-\"),\"\")","v":""},{"$f":"IF(P_19号4様式1!G81<> \"\",IF(P_19号4様式1!G81<> \"-\",IF(VALUE(FIXED(P_19号4様式1!G81,0,TRUE))<>P_19号4様式1!G81,RIGHT(FIXED(P_19号4様式1!G81,3,FALSE),4),\"\"),\"\"),\"\")","v":""},null,{"$f":"IF(P_19号4様式1!J81=\"\",\"\",P_19号4様式1!J81)","v":""},{"$f":"IF(P_19号4様式1!K81=\"\",\"\",P_19号4様式1!K81)","v":""},{"$f":"IF(P_19号4様式1!L81<> \"\",IF(P_19号4様式1!L81<> \"-\",TEXT(INT(P_19号4様式1!L81),\"#,##0\"),\"-\"),\"\")","v":""},{"$f":"IF(P_19号4様式1!L81<> \"\",IF(P_19号4様式1!L81<> \"-\",IF(VALUE(FIXED(P_19号4様式1!L81,0,TRUE))<>P_19号4様式1!L81,RIGHT(FIXED(P_19号4様式1!L81,3,FALSE),4),\"\"),\"\"),\"\")","v":""},null,{"$f":"IF(P_19号4様式1!O81=\"\",\"\",P_19号4様式1!O81)","v":""},{"$f":"IF(P_19号4様式1!P81=\"\",\"\",P_19号4様式1!P81)","v":""},{"$f":"IF(P_19号4様式1!Q81<> \"\",IF(P_19号4様式1!Q81<> \"-\",TEXT(INT(P_19号4様式1!Q81),\"#,##0\"),\"-\"),\"\")","v":""},{"$f":"IF(P_19号4様式1!Q81<> \"\",IF(P_19号4様式1!Q81<> \"-\",IF(VALUE(FIXED(P_19号4様式1!Q81,0,TRUE))<>P_19号4様式1!Q81,RIGHT(FIXED(P_19号4様式1!Q81,3,FALSE),4),\"\"),\"\"),\"\")","v":""},null,{"$f":"IF(P_19号4様式1!T81=\"\",\"\",P_19号4様式1!T81)","v":""},{"$f":"IF(P_19号4様式1!U81=\"\",\"\",P_19号4様式1!U81)","v":""},{"$f":"IF(P_19号4様式1!V81<> \"\",IF(P_19号4様式1!V81<> \"-\",TEXT(INT(P_19号4様式1!V81),\"#,##0\"),\"-\"),\"\")","v":""},{"$f":"IF(P_19号4様式1!V81<> \"\",IF(P_19号4様式1!V81<> \"-\",IF(VALUE(FIXED(P_19号4様式1!V81,0,TRUE))<>P_19号4様式1!V81,RIGHT(FIXED(P_19号4様式1!V81,3,FALSE),4),\"\"),\"\"),\"\")","v":""}]
[{"$f":"IF(P_19号4様式1!E82=\"\",\"\",P_19号4様式1!E82)","v":""},{"$f":"IF(P_19号4様式1!F82=\"\",\"\",P_19号4様式1!F82)","v":""},{"$f":"IF(P_19号4様式1!G82<> \"\",IF(P_19号4様式1!G82<> \"-\",TEXT(INT(P_19号4様式1!G82),\"#,##0\"),\"-\"),\"\")","v":""},{"$f":"IF(P_19号4様式1!G82<> \"\",IF(P_19号4様式1!G82<> \"-\",IF(VALUE(FIXED(P_19号4様式1!G82,0,TRUE))<>P_19号4様式1!G82,RIGHT(FIXED(P_19号4様式1!G82,3,FALSE),4),\"\"),\"\"),\"\")","v":""},null,{"$f":"IF(P_19号4様式1!J82=\"\",\"\",P_19号4様式1!J82)","v":""},{"$f":"IF(P_19号4様式1!K82=\"\",\"\",P_19号4様式1!K82)","v":""},{"$f":"IF(P_19号4様式1!L82<> \"\",IF(P_19号4様式1!L82<> \"-\",TEXT(INT(P_19号4様式1!L82),\"#,##0\"),\"-\"),\"\")","v":""},{"$f":"IF(P_19号4様式1!L82<> \"\",IF(P_19号4様式1!L82<> \"-\",IF(VALUE(FIXED(P_19号4様式1!L82,0,TRUE))<>P_19号4様式1!L82,RIGHT(FIXED(P_19号4様式1!L82,3,FALSE),4),\"\"),\"\"),\"\")","v":""},null,{"$f":"IF(P_19号4様式1!O82=\"\",\"\",P_19号4様式1!O82)","v":""},{"$f":"IF(P_19号4様式1!P82=\"\",\"\",P_19号4様式1!P82)","v":""},{"$f":"IF(P_19号4様式1!Q82<> \"\",IF(P_19号4様式1!Q82<> \"-\",TEXT(INT(P_19号4様式1!Q82),\"#,##0\"),\"-\"),\"\")","v":""},{"$f":"IF(P_19号4様式1!Q82<> \"\",IF(P_19号4様式1!Q82<> \"-\",IF(VALUE(FIXED(P_19号4様式1!Q82,0,TRUE))<>P_19号4様式1!Q82,RIGHT(FIXED(P_19号4様式1!Q82,3,FALSE),4),\"\"),\"\"),\"\")","v":""},null,{"$f":"IF(P_19号4様式1!T82=\"\",\"\",P_19号4様式1!T82)","v":""},{"$f":"IF(P_19号4様式1!U82=\"\",\"\",P_19号4様式1!U82)","v":""},{"$f":"IF(P_19号4様式1!V82<> \"\",IF(P_19号4様式1!V82<> \"-\",TEXT(INT(P_19号4様式1!V82),\"#,##0\"),\"-\"),\"\")","v":""},{"$f":"IF(P_19号4様式1!V82<> \"\",IF(P_19号4様式1!V82<> \"-\",IF(VALUE(FIXED(P_19号4様式1!V82,0,TRUE))<>P_19号4様式1!V82,RIGHT(FIXED(P_19号4様式1!V82,3,FALSE),4),\"\"),\"\"),\"\")","v":""}]
[{"$f":"IF(P_19号4様式1!E83=\"\",\"\",P_19号4様式1!E83)","v":""},{"$f":"IF(P_19号4様式1!F83=\"\",\"\",P_19号4様式1!F83)","v":""},{"$f":"IF(P_19号4様式1!G83<> \"\",IF(P_19号4様式1!G83<> \"-\",TEXT(INT(P_19号4様式1!G83),\"#,##0\"),\"-\"),\"\")","v":""},{"$f":"IF(P_19号4様式1!G83<> \"\",IF(P_19号4様式1!G83<> \"-\",IF(VALUE(FIXED(P_19号4様式1!G83,0,TRUE))<>P_19号4様式1!G83,RIGHT(FIXED(P_19号4様式1!G83,3,FALSE),4),\"\"),\"\"),\"\")","v":""},null,{"$f":"IF(P_19号4様式1!J83=\"\",\"\",P_19号4様式1!J83)","v":""},{"$f":"IF(P_19号4様式1!K83=\"\",\"\",P_19号4様式1!K83)","v":""},{"$f":"IF(P_19号4様式1!L83<> \"\",IF(P_19号4様式1!L83<> \"-\",TEXT(INT(P_19号4様式1!L83),\"#,##0\"),\"-\"),\"\")","v":""},{"$f":"IF(P_19号4様式1!L83<> \"\",IF(P_19号4様式1!L83<> \"-\",IF(VALUE(FIXED(P_19号4様式1!L83,0,TRUE))<>P_19号4様式1!L83,RIGHT(FIXED(P_19号4様式1!L83,3,FALSE),4),\"\"),\"\"),\"\")","v":""},null,{"$f":"IF(P_19号4様式1!O83=\"\",\"\",P_19号4様式1!O83)","v":""},{"$f":"IF(P_19号4様式1!P83=\"\",\"\",P_19号4様式1!P83)","v":""},{"$f":"IF(P_19号4様式1!Q83<> \"\",IF(P_19号4様式1!Q83<> \"-\",TEXT(INT(P_19号4様式1!Q83),\"#,##0\"),\"-\"),\"\")","v":""},{"$f":"IF(P_19号4様式1!Q83<> \"\",IF(P_19号4様式1!Q83<> \"-\",IF(VALUE(FIXED(P_19号4様式1!Q83,0,TRUE))<>P_19号4様式1!Q83,RIGHT(FIXED(P_19号4様式1!Q83,3,FALSE),4),\"\"),\"\"),\"\")","v":""},null,{"$f":"IF(P_19号4様式1!T83=\"\",\"\",P_19号4様式1!T83)","v":""},{"$f":"IF(P_19号4様式1!U83=\"\",\"\",P_19号4様式1!U83)","v":""},{"$f":"IF(P_19号4様式1!V83<> \"\",IF(P_19号4様式1!V83<> \"-\",TEXT(INT(P_19号4様式1!V83),\"#,##0\"),\"-\"),\"\")","v":""},{"$f":"IF(P_19号4様式1!V83<> \"\",IF(P_19号4様式1!V83<> \"-\",IF(VALUE(FIXED(P_19号4様式1!V83,0,TRUE))<>P_19号4様式1!V83,RIGHT(FIXED(P_19号4様式1!V83,3,FALSE),4),\"\"),\"\"),\"\")","v":""}]
[{"$f":"IF(P_19号4様式1!E84=\"\",\"\",P_19号4様式1!E84)","v":""},{"$f":"IF(P_19号4様式1!F84=\"\",\"\",P_19号4様式1!F84)","v":""},{"$f":"IF(P_19号4様式1!G84<> \"\",IF(P_19号4様式1!G84<> \"-\",TEXT(INT(P_19号4様式1!G84),\"#,##0\"),\"-\"),\"\")","v":""},{"$f":"IF(P_19号4様式1!G84<> \"\",IF(P_19号4様式1!G84<> \"-\",IF(VALUE(FIXED(P_19号4様式1!G84,0,TRUE))<>P_19号4様式1!G84,RIGHT(FIXED(P_19号4様式1!G84,3,FALSE),4),\"\"),\"\"),\"\")","v":""},null,{"$f":"IF(P_19号4様式1!J84=\"\",\"\",P_19号4様式1!J84)","v":""},{"$f":"IF(P_19号4様式1!K84=\"\",\"\",P_19号4様式1!K84)","v":""},{"$f":"IF(P_19号4様式1!L84<> \"\",IF(P_19号4様式1!L84<> \"-\",TEXT(INT(P_19号4様式1!L84),\"#,##0\"),\"-\"),\"\")","v":""},{"$f":"IF(P_19号4様式1!L84<> \"\",IF(P_19号4様式1!L84<> \"-\",IF(VALUE(FIXED(P_19号4様式1!L84,0,TRUE))<>P_19号4様式1!L84,RIGHT(FIXED(P_19号4様式1!L84,3,FALSE),4),\"\"),\"\"),\"\")","v":""},null,{"$f":"IF(P_19号4様式1!O84=\"\",\"\",P_19号4様式1!O84)","v":""},{"$f":"IF(P_19号4様式1!P84=\"\",\"\",P_19号4様式1!P84)","v":""},{"$f":"IF(P_19号4様式1!Q84<> \"\",IF(P_19号4様式1!Q84<> \"-\",TEXT(INT(P_19号4様式1!Q84),\"#,##0\"),\"-\"),\"\")","v":""},{"$f":"IF(P_19号4様式1!Q84<> \"\",IF(P_19号4様式1!Q84<> \"-\",IF(VALUE(FIXED(P_19号4様式1!Q84,0,TRUE))<>P_19号4様式1!Q84,RIGHT(FIXED(P_19号4様式1!Q84,3,FALSE),4),\"\"),\"\"),\"\")","v":""},null,{"$f":"IF(P_19号4様式1!T84=\"\",\"\",P_19号4様式1!T84)","v":""},{"$f":"IF(P_19号4様式1!U84=\"\",\"\",P_19号4様式1!U84)","v":""},{"$f":"IF(P_19号4様式1!V84<> \"\",IF(P_19号4様式1!V84<> \"-\",TEXT(INT(P_19号4様式1!V84),\"#,##0\"),\"-\"),\"\")","v":""},{"$f":"IF(P_19号4様式1!V84<> \"\",IF(P_19号4様式1!V84<> \"-\",IF(VALUE(FIXED(P_19号4様式1!V84,0,TRUE))<>P_19号4様式1!V84,RIGHT(FIXED(P_19号4様式1!V84,3,FALSE),4),\"\"),\"\"),\"\")","v":""}]
[{"$f":"IF(P_19号4様式1!E85=\"\",\"\",P_19号4様式1!E85)","v":""},{"$f":"IF(P_19号4様式1!F85=\"\",\"\",P_19号4様式1!F85)","v":""},{"$f":"IF(P_19号4様式1!G85<> \"\",IF(P_19号4様式1!G85<> \"-\",TEXT(INT(P_19号4様式1!G85),\"#,##0\"),\"-\"),\"\")","v":""},{"$f":"IF(P_19号4様式1!G85<> \"\",IF(P_19号4様式1!G85<> \"-\",IF(VALUE(FIXED(P_19号4様式1!G85,0,TRUE))<>P_19号4様式1!G85,RIGHT(FIXED(P_19号4様式1!G85,3,FALSE),4),\"\"),\"\"),\"\")","v":""},null,{"$f":"IF(P_19号4様式1!J85=\"\",\"\",P_19号4様式1!J85)","v":""},{"$f":"IF(P_19号4様式1!K85=\"\",\"\",P_19号4様式1!K85)","v":""},{"$f":"IF(P_19号4様式1!L85<> \"\",IF(P_19号4様式1!L85<> \"-\",TEXT(INT(P_19号4様式1!L85),\"#,##0\"),\"-\"),\"\")","v":""},{"$f":"IF(P_19号4様式1!L85<> \"\",IF(P_19号4様式1!L85<> \"-\",IF(VALUE(FIXED(P_19号4様式1!L85,0,TRUE))<>P_19号4様式1!L85,RIGHT(FIXED(P_19号4様式1!L85,3,FALSE),4),\"\"),\"\"),\"\")","v":""},null,{"$f":"IF(P_19号4様式1!O85=\"\",\"\",P_19号4様式1!O85)","v":""},{"$f":"IF(P_19号4様式1!P85=\"\",\"\",P_19号4様式1!P85)","v":""},{"$f":"IF(P_19号4様式1!Q85<> \"\",IF(P_19号4様式1!Q85<> \"-\",TEXT(INT(P_19号4様式1!Q85),\"#,##0\"),\"-\"),\"\")","v":""},{"$f":"IF(P_19号4様式1!Q85<> \"\",IF(P_19号4様式1!Q85<> \"-\",IF(VALUE(FIXED(P_19号4様式1!Q85,0,TRUE))<>P_19号4様式1!Q85,RIGHT(FIXED(P_19号4様式1!Q85,3,FALSE),4),\"\"),\"\"),\"\")","v":""},null,{"$f":"IF(P_19号4様式1!T85=\"\",\"\",P_19号4様式1!T85)","v":""},{"$f":"IF(P_19号4様式1!U85=\"\",\"\",P_19号4様式1!U85)","v":""},{"$f":"IF(P_19号4様式1!V85<> \"\",IF(P_19号4様式1!V85<> \"-\",TEXT(INT(P_19号4様式1!V85),\"#,##0\"),\"-\"),\"\")","v":""},{"$f":"IF(P_19号4様式1!V85<> \"\",IF(P_19号4様式1!V85<> \"-\",IF(VALUE(FIXED(P_19号4様式1!V85,0,TRUE))<>P_19号4様式1!V85,RIGHT(FIXED(P_19号4様式1!V85,3,FALSE),4),\"\"),\"\"),\"\")","v":""}]
[{"$f":"IF(P_19号4様式1!E86=\"\",\"\",P_19号4様式1!E86)","v":""},{"$f":"IF(P_19号4様式1!F86=\"\",\"\",P_19号4様式1!F86)","v":""},{"$f":"IF(P_19号4様式1!G86<> \"\",IF(P_19号4様式1!G86<> \"-\",TEXT(INT(P_19号4様式1!G86),\"#,##0\"),\"-\"),\"\")","v":""},{"$f":"IF(P_19号4様式1!G86<> \"\",IF(P_19号4様式1!G86<> \"-\",IF(VALUE(FIXED(P_19号4様式1!G86,0,TRUE))<>P_19号4様式1!G86,RIGHT(FIXED(P_19号4様式1!G86,3,FALSE),4),\"\"),\"\"),\"\")","v":""},null,{"$f":"IF(P_19号4様式1!J86=\"\",\"\",P_19号4様式1!J86)","v":""},{"$f":"IF(P_19号4様式1!K86=\"\",\"\",P_19号4様式1!K86)","v":""},{"$f":"IF(P_19号4様式1!L86<> \"\",IF(P_19号4様式1!L86<> \"-\",TEXT(INT(P_19号4様式1!L86),\"#,##0\"),\"-\"),\"\")","v":""},{"$f":"IF(P_19号4様式1!L86<> \"\",IF(P_19号4様式1!L86<> \"-\",IF(VALUE(FIXED(P_19号4様式1!L86,0,TRUE))<>P_19号4様式1!L86,RIGHT(FIXED(P_19号4様式1!L86,3,FALSE),4),\"\"),\"\"),\"\")","v":""},null,{"$f":"IF(P_19号4様式1!O86=\"\",\"\",P_19号4様式1!O86)","v":""},{"$f":"IF(P_19号4様式1!P86=\"\",\"\",P_19号4様式1!P86)","v":""},{"$f":"IF(P_19号4様式1!Q86<> \"\",IF(P_19号4様式1!Q86<> \"-\",TEXT(INT(P_19号4様式1!Q86),\"#,##0\"),\"-\"),\"\")","v":""},{"$f":"IF(P_19号4様式1!Q86<> \"\",IF(P_19号4様式1!Q86<> \"-\",IF(VALUE(FIXED(P_19号4様式1!Q86,0,TRUE))<>P_19号4様式1!Q86,RIGHT(FIXED(P_19号4様式1!Q86,3,FALSE),4),\"\"),\"\"),\"\")","v":""},null,{"$f":"IF(P_19号4様式1!T86=\"\",\"\",P_19号4様式1!T86)","v":""},{"$f":"IF(P_19号4様式1!U86=\"\",\"\",P_19号4様式1!U86)","v":""},{"$f":"IF(P_19号4様式1!V86<> \"\",IF(P_19号4様式1!V86<> \"-\",TEXT(INT(P_19号4様式1!V86),\"#,##0\"),\"-\"),\"\")","v":""},{"$f":"IF(P_19号4様式1!V86<> \"\",IF(P_19号4様式1!V86<> \"-\",IF(VALUE(FIXED(P_19号4様式1!V86,0,TRUE))<>P_19号4様式1!V86,RIGHT(FIXED(P_19号4様式1!V86,3,FALSE),4),\"\"),\"\"),\"\")","v":""}]
[{"$f":"IF(P_19号4様式1!E87=\"\",\"\",P_19号4様式1!E87)","v":""},{"$f":"IF(P_19号4様式1!F87=\"\",\"\",P_19号4様式1!F87)","v":""},{"$f":"IF(P_19号4様式1!G87<> \"\",IF(P_19号4様式1!G87<> \"-\",TEXT(INT(P_19号4様式1!G87),\"#,##0\"),\"-\"),\"\")","v":""},{"$f":"IF(P_19号4様式1!G87<> \"\",IF(P_19号4様式1!G87<> \"-\",IF(VALUE(FIXED(P_19号4様式1!G87,0,TRUE))<>P_19号4様式1!G87,RIGHT(FIXED(P_19号4様式1!G87,3,FALSE),4),\"\"),\"\"),\"\")","v":""},null,{"$f":"IF(P_19号4様式1!J87=\"\",\"\",P_19号4様式1!J87)","v":""},{"$f":"IF(P_19号4様式1!K87=\"\",\"\",P_19号4様式1!K87)","v":""},{"$f":"IF(P_19号4様式1!L87<> \"\",IF(P_19号4様式1!L87<> \"-\",TEXT(INT(P_19号4様式1!L87),\"#,##0\"),\"-\"),\"\")","v":""},{"$f":"IF(P_19号4様式1!L87<> \"\",IF(P_19号4様式1!L87<> \"-\",IF(VALUE(FIXED(P_19号4様式1!L87,0,TRUE))<>P_19号4様式1!L87,RIGHT(FIXED(P_19号4様式1!L87,3,FALSE),4),\"\"),\"\"),\"\")","v":""},null,{"$f":"IF(P_19号4様式1!O87=\"\",\"\",P_19号4様式1!O87)","v":""},{"$f":"IF(P_19号4様式1!P87=\"\",\"\",P_19号4様式1!P87)","v":""},{"$f":"IF(P_19号4様式1!Q87<> \"\",IF(P_19号4様式1!Q87<> \"-\",TEXT(INT(P_19号4様式1!Q87),\"#,##0\"),\"-\"),\"\")","v":""},{"$f":"IF(P_19号4様式1!Q87<> \"\",IF(P_19号4様式1!Q87<> \"-\",IF(VALUE(FIXED(P_19号4様式1!Q87,0,TRUE))<>P_19号4様式1!Q87,RIGHT(FIXED(P_19号4様式1!Q87,3,FALSE),4),\"\"),\"\"),\"\")","v":""},null,{"$f":"IF(P_19号4様式1!T87=\"\",\"\",P_19号4様式1!T87)","v":""},{"$f":"IF(P_19号4様式1!U87=\"\",\"\",P_19号4様式1!U87)","v":""},{"$f":"IF(P_19号4様式1!V87<> \"\",IF(P_19号4様式1!V87<> \"-\",TEXT(INT(P_19号4様式1!V87),\"#,##0\"),\"-\"),\"\")","v":""},{"$f":"IF(P_19号4様式1!V87<> \"\",IF(P_19号4様式1!V87<> \"-\",IF(VALUE(FIXED(P_19号4様式1!V87,0,TRUE))<>P_19号4様式1!V87,RIGHT(FIXED(P_19号4様式1!V87,3,FALSE),4),\"\"),\"\"),\"\")","v":""}]
[{"$f":"IF(P_19号4様式1!E88=\"\",\"\",P_19号4様式1!E88)","v":""},{"$f":"IF(P_19号4様式1!F88=\"\",\"\",P_19号4様式1!F88)","v":""},{"$f":"IF(P_19号4様式1!G88<> \"\",IF(P_19号4様式1!G88<> \"-\",TEXT(INT(P_19号4様式1!G88),\"#,##0\"),\"-\"),\"\")","v":""},{"$f":"IF(P_19号4様式1!G88<> \"\",IF(P_19号4様式1!G88<> \"-\",IF(VALUE(FIXED(P_19号4様式1!G88,0,TRUE))<>P_19号4様式1!G88,RIGHT(FIXED(P_19号4様式1!G88,3,FALSE),4),\"\"),\"\"),\"\")","v":""},null,{"$f":"IF(P_19号4様式1!J88=\"\",\"\",P_19号4様式1!J88)","v":""},{"$f":"IF(P_19号4様式1!K88=\"\",\"\",P_19号4様式1!K88)","v":""},{"$f":"IF(P_19号4様式1!L88<> \"\",IF(P_19号4様式1!L88<> \"-\",TEXT(INT(P_19号4様式1!L88),\"#,##0\"),\"-\"),\"\")","v":""},{"$f":"IF(P_19号4様式1!L88<> \"\",IF(P_19号4様式1!L88<> \"-\",IF(VALUE(FIXED(P_19号4様式1!L88,0,TRUE))<>P_19号4様式1!L88,RIGHT(FIXED(P_19号4様式1!L88,3,FALSE),4),\"\"),\"\"),\"\")","v":""},null,{"$f":"IF(P_19号4様式1!O88=\"\",\"\",P_19号4様式1!O88)","v":""},{"$f":"IF(P_19号4様式1!P88=\"\",\"\",P_19号4様式1!P88)","v":""},{"$f":"IF(P_19号4様式1!Q88<> \"\",IF(P_19号4様式1!Q88<> \"-\",TEXT(INT(P_19号4様式1!Q88),\"#,##0\"),\"-\"),\"\")","v":""},{"$f":"IF(P_19号4様式1!Q88<> \"\",IF(P_19号4様式1!Q88<> \"-\",IF(VALUE(FIXED(P_19号4様式1!Q88,0,TRUE))<>P_19号4様式1!Q88,RIGHT(FIXED(P_19号4様式1!Q88,3,FALSE),4),\"\"),\"\"),\"\")","v":""},null,{"$f":"IF(P_19号4様式1!T88=\"\",\"\",P_19号4様式1!T88)","v":""},{"$f":"IF(P_19号4様式1!U88=\"\",\"\",P_19号4様式1!U88)","v":""},{"$f":"IF(P_19号4様式1!V88<> \"\",IF(P_19号4様式1!V88<> \"-\",TEXT(INT(P_19号4様式1!V88),\"#,##0\"),\"-\"),\"\")","v":""},{"$f":"IF(P_19号4様式1!V88<> \"\",IF(P_19号4様式1!V88<> \"-\",IF(VALUE(FIXED(P_19号4様式1!V88,0,TRUE))<>P_19号4様式1!V88,RIGHT(FIXED(P_19号4様式1!V88,3,FALSE),4),\"\"),\"\"),\"\")","v":""}]
[{"$f":"IF(P_19号4様式1!E89=\"\",\"\",P_19号4様式1!E89)","v":""},{"$f":"IF(P_19号4様式1!F89=\"\",\"\",P_19号4様式1!F89)","v":""},{"$f":"IF(P_19号4様式1!G89<> \"\",IF(P_19号4様式1!G89<> \"-\",TEXT(INT(P_19号4様式1!G89),\"#,##0\"),\"-\"),\"\")","v":""},{"$f":"IF(P_19号4様式1!G89<> \"\",IF(P_19号4様式1!G89<> \"-\",IF(VALUE(FIXED(P_19号4様式1!G89,0,TRUE))<>P_19号4様式1!G89,RIGHT(FIXED(P_19号4様式1!G89,3,FALSE),4),\"\"),\"\"),\"\")","v":""},null,{"$f":"IF(P_19号4様式1!J89=\"\",\"\",P_19号4様式1!J89)","v":""},{"$f":"IF(P_19号4様式1!K89=\"\",\"\",P_19号4様式1!K89)","v":""},{"$f":"IF(P_19号4様式1!L89<> \"\",IF(P_19号4様式1!L89<> \"-\",TEXT(INT(P_19号4様式1!L89),\"#,##0\"),\"-\"),\"\")","v":""},{"$f":"IF(P_19号4様式1!L89<> \"\",IF(P_19号4様式1!L89<> \"-\",IF(VALUE(FIXED(P_19号4様式1!L89,0,TRUE))<>P_19号4様式1!L89,RIGHT(FIXED(P_19号4様式1!L89,3,FALSE),4),\"\"),\"\"),\"\")","v":""},null,{"$f":"IF(P_19号4様式1!O89=\"\",\"\",P_19号4様式1!O89)","v":""},{"$f":"IF(P_19号4様式1!P89=\"\",\"\",P_19号4様式1!P89)","v":""},{"$f":"IF(P_19号4様式1!Q89<> \"\",IF(P_19号4様式1!Q89<> \"-\",TEXT(INT(P_19号4様式1!Q89),\"#,##0\"),\"-\"),\"\")","v":""},{"$f":"IF(P_19号4様式1!Q89<> \"\",IF(P_19号4様式1!Q89<> \"-\",IF(VALUE(FIXED(P_19号4様式1!Q89,0,TRUE))<>P_19号4様式1!Q89,RIGHT(FIXED(P_19号4様式1!Q89,3,FALSE),4),\"\"),\"\"),\"\")","v":""},null,{"$f":"IF(P_19号4様式1!T89=\"\",\"\",P_19号4様式1!T89)","v":""},{"$f":"IF(P_19号4様式1!U89=\"\",\"\",P_19号4様式1!U89)","v":""},{"$f":"IF(P_19号4様式1!V89<> \"\",IF(P_19号4様式1!V89<> \"-\",TEXT(INT(P_19号4様式1!V89),\"#,##0\"),\"-\"),\"\")","v":""},{"$f":"IF(P_19号4様式1!V89<> \"\",IF(P_19号4様式1!V89<> \"-\",IF(VALUE(FIXED(P_19号4様式1!V89,0,TRUE))<>P_19号4様式1!V89,RIGHT(FIXED(P_19号4様式1!V89,3,FALSE),4),\"\"),\"\"),\"\")","v":""}]
[{"$f":"IF(P_19号4様式1!E90=\"\",\"\",P_19号4様式1!E90)","v":""},{"$f":"IF(P_19号4様式1!F90=\"\",\"\",P_19号4様式1!F90)","v":""},{"$f":"IF(P_19号4様式1!G90<> \"\",IF(P_19号4様式1!G90<> \"-\",TEXT(INT(P_19号4様式1!G90),\"#,##0\"),\"-\"),\"\")","v":""},{"$f":"IF(P_19号4様式1!G90<> \"\",IF(P_19号4様式1!G90<> \"-\",IF(VALUE(FIXED(P_19号4様式1!G90,0,TRUE))<>P_19号4様式1!G90,RIGHT(FIXED(P_19号4様式1!G90,3,FALSE),4),\"\"),\"\"),\"\")","v":""},null,{"$f":"IF(P_19号4様式1!J90=\"\",\"\",P_19号4様式1!J90)","v":""},{"$f":"IF(P_19号4様式1!K90=\"\",\"\",P_19号4様式1!K90)","v":""},{"$f":"IF(P_19号4様式1!L90<> \"\",IF(P_19号4様式1!L90<> \"-\",TEXT(INT(P_19号4様式1!L90),\"#,##0\"),\"-\"),\"\")","v":""},{"$f":"IF(P_19号4様式1!L90<> \"\",IF(P_19号4様式1!L90<> \"-\",IF(VALUE(FIXED(P_19号4様式1!L90,0,TRUE))<>P_19号4様式1!L90,RIGHT(FIXED(P_19号4様式1!L90,3,FALSE),4),\"\"),\"\"),\"\")","v":""},null,{"$f":"IF(P_19号4様式1!O90=\"\",\"\",P_19号4様式1!O90)","v":""},{"$f":"IF(P_19号4様式1!P90=\"\",\"\",P_19号4様式1!P90)","v":""},{"$f":"IF(P_19号4様式1!Q90<> \"\",IF(P_19号4様式1!Q90<> \"-\",TEXT(INT(P_19号4様式1!Q90),\"#,##0\"),\"-\"),\"\")","v":""},{"$f":"IF(P_19号4様式1!Q90<> \"\",IF(P_19号4様式1!Q90<> \"-\",IF(VALUE(FIXED(P_19号4様式1!Q90,0,TRUE))<>P_19号4様式1!Q90,RIGHT(FIXED(P_19号4様式1!Q90,3,FALSE),4),\"\"),\"\"),\"\")","v":""},null,{"$f":"IF(P_19号4様式1!T90=\"\",\"\",P_19号4様式1!T90)","v":""},{"$f":"IF(P_19号4様式1!U90=\"\",\"\",P_19号4様式1!U90)","v":""},{"$f":"IF(P_19号4様式1!V90<> \"\",IF(P_19号4様式1!V90<> \"-\",TEXT(INT(P_19号4様式1!V90),\"#,##0\"),\"-\"),\"\")","v":""},{"$f":"IF(P_19号4様式1!V90<> \"\",IF(P_19号4様式1!V90<> \"-\",IF(VALUE(FIXED(P_19号4様式1!V90,0,TRUE))<>P_19号4様式1!V90,RIGHT(FIXED(P_19号4様式1!V90,3,FALSE),4),\"\"),\"\"),\"\")","v":""}]
[{"$f":"IF(P_19号4様式1!E91=\"\",\"\",P_19号4様式1!E91)","v":""},{"$f":"IF(P_19号4様式1!F91=\"\",\"\",P_19号4様式1!F91)","v":""},{"$f":"IF(P_19号4様式1!G91<> \"\",IF(P_19号4様式1!G91<> \"-\",TEXT(INT(P_19号4様式1!G91),\"#,##0\"),\"-\"),\"\")","v":""},{"$f":"IF(P_19号4様式1!G91<> \"\",IF(P_19号4様式1!G91<> \"-\",IF(VALUE(FIXED(P_19号4様式1!G91,0,TRUE))<>P_19号4様式1!G91,RIGHT(FIXED(P_19号4様式1!G91,3,FALSE),4),\"\"),\"\"),\"\")","v":""},null,{"$f":"IF(P_19号4様式1!J91=\"\",\"\",P_19号4様式1!J91)","v":""},{"$f":"IF(P_19号4様式1!K91=\"\",\"\",P_19号4様式1!K91)","v":""},{"$f":"IF(P_19号4様式1!L91<> \"\",IF(P_19号4様式1!L91<> \"-\",TEXT(INT(P_19号4様式1!L91),\"#,##0\"),\"-\"),\"\")","v":""},{"$f":"IF(P_19号4様式1!L91<> \"\",IF(P_19号4様式1!L91<> \"-\",IF(VALUE(FIXED(P_19号4様式1!L91,0,TRUE))<>P_19号4様式1!L91,RIGHT(FIXED(P_19号4様式1!L91,3,FALSE),4),\"\"),\"\"),\"\")","v":""},null,{"$f":"IF(P_19号4様式1!O91=\"\",\"\",P_19号4様式1!O91)","v":""},{"$f":"IF(P_19号4様式1!P91=\"\",\"\",P_19号4様式1!P91)","v":""},{"$f":"IF(P_19号4様式1!Q91<> \"\",IF(P_19号4様式1!Q91<> \"-\",TEXT(INT(P_19号4様式1!Q91),\"#,##0\"),\"-\"),\"\")","v":""},{"$f":"IF(P_19号4様式1!Q91<> \"\",IF(P_19号4様式1!Q91<> \"-\",IF(VALUE(FIXED(P_19号4様式1!Q91,0,TRUE))<>P_19号4様式1!Q91,RIGHT(FIXED(P_19号4様式1!Q91,3,FALSE),4),\"\"),\"\"),\"\")","v":""},null,{"$f":"IF(P_19号4様式1!T91=\"\",\"\",P_19号4様式1!T91)","v":""},{"$f":"IF(P_19号4様式1!U91=\"\",\"\",P_19号4様式1!U91)","v":""},{"$f":"IF(P_19号4様式1!V91<> \"\",IF(P_19号4様式1!V91<> \"-\",TEXT(INT(P_19号4様式1!V91),\"#,##0\"),\"-\"),\"\")","v":""},{"$f":"IF(P_19号4様式1!V91<> \"\",IF(P_19号4様式1!V91<> \"-\",IF(VALUE(FIXED(P_19号4様式1!V91,0,TRUE))<>P_19号4様式1!V91,RIGHT(FIXED(P_19号4様式1!V91,3,FALSE),4),\"\"),\"\"),\"\")","v":""}]
[{"$f":"IF(P_19号4様式1!E92=\"\",\"\",P_19号4様式1!E92)","v":""},{"$f":"IF(P_19号4様式1!F92=\"\",\"\",P_19号4様式1!F92)","v":""},{"$f":"IF(P_19号4様式1!G92<> \"\",IF(P_19号4様式1!G92<> \"-\",TEXT(INT(P_19号4様式1!G92),\"#,##0\"),\"-\"),\"\")","v":""},{"$f":"IF(P_19号4様式1!G92<> \"\",IF(P_19号4様式1!G92<> \"-\",IF(VALUE(FIXED(P_19号4様式1!G92,0,TRUE))<>P_19号4様式1!G92,RIGHT(FIXED(P_19号4様式1!G92,3,FALSE),4),\"\"),\"\"),\"\")","v":""},null,{"$f":"IF(P_19号4様式1!J92=\"\",\"\",P_19号4様式1!J92)","v":""},{"$f":"IF(P_19号4様式1!K92=\"\",\"\",P_19号4様式1!K92)","v":""},{"$f":"IF(P_19号4様式1!L92<> \"\",IF(P_19号4様式1!L92<> \"-\",TEXT(INT(P_19号4様式1!L92),\"#,##0\"),\"-\"),\"\")","v":""},{"$f":"IF(P_19号4様式1!L92<> \"\",IF(P_19号4様式1!L92<> \"-\",IF(VALUE(FIXED(P_19号4様式1!L92,0,TRUE))<>P_19号4様式1!L92,RIGHT(FIXED(P_19号4様式1!L92,3,FALSE),4),\"\"),\"\"),\"\")","v":""},null,{"$f":"IF(P_19号4様式1!O92=\"\",\"\",P_19号4様式1!O92)","v":""},{"$f":"IF(P_19号4様式1!P92=\"\",\"\",P_19号4様式1!P92)","v":""},{"$f":"IF(P_19号4様式1!Q92<> \"\",IF(P_19号4様式1!Q92<> \"-\",TEXT(INT(P_19号4様式1!Q92),\"#,##0\"),\"-\"),\"\")","v":""},{"$f":"IF(P_19号4様式1!Q92<> \"\",IF(P_19号4様式1!Q92<> \"-\",IF(VALUE(FIXED(P_19号4様式1!Q92,0,TRUE))<>P_19号4様式1!Q92,RIGHT(FIXED(P_19号4様式1!Q92,3,FALSE),4),\"\"),\"\"),\"\")","v":""},null,{"$f":"IF(P_19号4様式1!T92=\"\",\"\",P_19号4様式1!T92)","v":""},{"$f":"IF(P_19号4様式1!U92=\"\",\"\",P_19号4様式1!U92)","v":""},{"$f":"IF(P_19号4様式1!V92<> \"\",IF(P_19号4様式1!V92<> \"-\",TEXT(INT(P_19号4様式1!V92),\"#,##0\"),\"-\"),\"\")","v":""},{"$f":"IF(P_19号4様式1!V92<> \"\",IF(P_19号4様式1!V92<> \"-\",IF(VALUE(FIXED(P_19号4様式1!V92,0,TRUE))<>P_19号4様式1!V92,RIGHT(FIXED(P_19号4様式1!V92,3,FALSE),4),\"\"),\"\"),\"\")","v":""}]
[{"$f":"IF(P_19号4様式1!E93=\"\",\"\",P_19号4様式1!E93)","v":""},{"$f":"IF(P_19号4様式1!F93=\"\",\"\",P_19号4様式1!F93)","v":""},{"$f":"IF(P_19号4様式1!G93<> \"\",IF(P_19号4様式1!G93<> \"-\",TEXT(INT(P_19号4様式1!G93),\"#,##0\"),\"-\"),\"\")","v":""},{"$f":"IF(P_19号4様式1!G93<> \"\",IF(P_19号4様式1!G93<> \"-\",IF(VALUE(FIXED(P_19号4様式1!G93,0,TRUE))<>P_19号4様式1!G93,RIGHT(FIXED(P_19号4様式1!G93,3,FALSE),4),\"\"),\"\"),\"\")","v":""},null,{"$f":"IF(P_19号4様式1!J93=\"\",\"\",P_19号4様式1!J93)","v":""},{"$f":"IF(P_19号4様式1!K93=\"\",\"\",P_19号4様式1!K93)","v":""},{"$f":"IF(P_19号4様式1!L93<> \"\",IF(P_19号4様式1!L93<> \"-\",TEXT(INT(P_19号4様式1!L93),\"#,##0\"),\"-\"),\"\")","v":""},{"$f":"IF(P_19号4様式1!L93<> \"\",IF(P_19号4様式1!L93<> \"-\",IF(VALUE(FIXED(P_19号4様式1!L93,0,TRUE))<>P_19号4様式1!L93,RIGHT(FIXED(P_19号4様式1!L93,3,FALSE),4),\"\"),\"\"),\"\")","v":""},null,{"$f":"IF(P_19号4様式1!O93=\"\",\"\",P_19号4様式1!O93)","v":""},{"$f":"IF(P_19号4様式1!P93=\"\",\"\",P_19号4様式1!P93)","v":""},{"$f":"IF(P_19号4様式1!Q93<> \"\",IF(P_19号4様式1!Q93<> \"-\",TEXT(INT(P_19号4様式1!Q93),\"#,##0\"),\"-\"),\"\")","v":""},{"$f":"IF(P_19号4様式1!Q93<> \"\",IF(P_19号4様式1!Q93<> \"-\",IF(VALUE(FIXED(P_19号4様式1!Q93,0,TRUE))<>P_19号4様式1!Q93,RIGHT(FIXED(P_19号4様式1!Q93,3,FALSE),4),\"\"),\"\"),\"\")","v":""},null,{"$f":"IF(P_19号4様式1!T93=\"\",\"\",P_19号4様式1!T93)","v":""},{"$f":"IF(P_19号4様式1!U93=\"\",\"\",P_19号4様式1!U93)","v":""},{"$f":"IF(P_19号4様式1!V93<> \"\",IF(P_19号4様式1!V93<> \"-\",TEXT(INT(P_19号4様式1!V93),\"#,##0\"),\"-\"),\"\")","v":""},{"$f":"IF(P_19号4様式1!V93<> \"\",IF(P_19号4様式1!V93<> \"-\",IF(VALUE(FIXED(P_19号4様式1!V93,0,TRUE))<>P_19号4様式1!V93,RIGHT(FIXED(P_19号4様式1!V93,3,FALSE),4),\"\"),\"\"),\"\")","v":""}]
[{"$f":"IF(P_19号4様式1!E94=\"\",\"\",P_19号4様式1!E94)","v":""},{"$f":"IF(P_19号4様式1!F94=\"\",\"\",P_19号4様式1!F94)","v":""},{"$f":"IF(P_19号4様式1!G94<> \"\",IF(P_19号4様式1!G94<> \"-\",TEXT(INT(P_19号4様式1!G94),\"#,##0\"),\"-\"),\"\")","v":""},{"$f":"IF(P_19号4様式1!G94<> \"\",IF(P_19号4様式1!G94<> \"-\",IF(VALUE(FIXED(P_19号4様式1!G94,0,TRUE))<>P_19号4様式1!G94,RIGHT(FIXED(P_19号4様式1!G94,3,FALSE),4),\"\"),\"\"),\"\")","v":""},null,{"$f":"IF(P_19号4様式1!J94=\"\",\"\",P_19号4様式1!J94)","v":""},{"$f":"IF(P_19号4様式1!K94=\"\",\"\",P_19号4様式1!K94)","v":""},{"$f":"IF(P_19号4様式1!L94<> \"\",IF(P_19号4様式1!L94<> \"-\",TEXT(INT(P_19号4様式1!L94),\"#,##0\"),\"-\"),\"\")","v":""},{"$f":"IF(P_19号4様式1!L94<> \"\",IF(P_19号4様式1!L94<> \"-\",IF(VALUE(FIXED(P_19号4様式1!L94,0,TRUE))<>P_19号4様式1!L94,RIGHT(FIXED(P_19号4様式1!L94,3,FALSE),4),\"\"),\"\"),\"\")","v":""},null,{"$f":"IF(P_19号4様式1!O94=\"\",\"\",P_19号4様式1!O94)","v":""},{"$f":"IF(P_19号4様式1!P94=\"\",\"\",P_19号4様式1!P94)","v":""},{"$f":"IF(P_19号4様式1!Q94<> \"\",IF(P_19号4様式1!Q94<> \"-\",TEXT(INT(P_19号4様式1!Q94),\"#,##0\"),\"-\"),\"\")","v":""},{"$f":"IF(P_19号4様式1!Q94<> \"\",IF(P_19号4様式1!Q94<> \"-\",IF(VALUE(FIXED(P_19号4様式1!Q94,0,TRUE))<>P_19号4様式1!Q94,RIGHT(FIXED(P_19号4様式1!Q94,3,FALSE),4),\"\"),\"\"),\"\")","v":""},null,{"$f":"IF(P_19号4様式1!T94=\"\",\"\",P_19号4様式1!T94)","v":""},{"$f":"IF(P_19号4様式1!U94=\"\",\"\",P_19号4様式1!U94)","v":""},{"$f":"IF(P_19号4様式1!V94<> \"\",IF(P_19号4様式1!V94<> \"-\",TEXT(INT(P_19号4様式1!V94),\"#,##0\"),\"-\"),\"\")","v":""},{"$f":"IF(P_19号4様式1!V94<> \"\",IF(P_19号4様式1!V94<> \"-\",IF(VALUE(FIXED(P_19号4様式1!V94,0,TRUE))<>P_19号4様式1!V94,RIGHT(FIXED(P_19号4様式1!V94,3,FALSE),4),\"\"),\"\"),\"\")","v":""}]
[{"$f":"IF(P_19号4様式1!E95=\"\",\"\",P_19号4様式1!E95)","v":""},{"$f":"IF(P_19号4様式1!F95=\"\",\"\",P_19号4様式1!F95)","v":""},{"$f":"IF(P_19号4様式1!G95<> \"\",IF(P_19号4様式1!G95<> \"-\",TEXT(INT(P_19号4様式1!G95),\"#,##0\"),\"-\"),\"\")","v":""},{"$f":"IF(P_19号4様式1!G95<> \"\",IF(P_19号4様式1!G95<> \"-\",IF(VALUE(FIXED(P_19号4様式1!G95,0,TRUE))<>P_19号4様式1!G95,RIGHT(FIXED(P_19号4様式1!G95,3,FALSE),4),\"\"),\"\"),\"\")","v":""},null,{"$f":"IF(P_19号4様式1!J95=\"\",\"\",P_19号4様式1!J95)","v":""},{"$f":"IF(P_19号4様式1!K95=\"\",\"\",P_19号4様式1!K95)","v":""},{"$f":"IF(P_19号4様式1!L95<> \"\",IF(P_19号4様式1!L95<> \"-\",TEXT(INT(P_19号4様式1!L95),\"#,##0\"),\"-\"),\"\")","v":""},{"$f":"IF(P_19号4様式1!L95<> \"\",IF(P_19号4様式1!L95<> \"-\",IF(VALUE(FIXED(P_19号4様式1!L95,0,TRUE))<>P_19号4様式1!L95,RIGHT(FIXED(P_19号4様式1!L95,3,FALSE),4),\"\"),\"\"),\"\")","v":""},null,{"$f":"IF(P_19号4様式1!O95=\"\",\"\",P_19号4様式1!O95)","v":""},{"$f":"IF(P_19号4様式1!P95=\"\",\"\",P_19号4様式1!P95)","v":""},{"$f":"IF(P_19号4様式1!Q95<> \"\",IF(P_19号4様式1!Q95<> \"-\",TEXT(INT(P_19号4様式1!Q95),\"#,##0\"),\"-\"),\"\")","v":""},{"$f":"IF(P_19号4様式1!Q95<> \"\",IF(P_19号4様式1!Q95<> \"-\",IF(VALUE(FIXED(P_19号4様式1!Q95,0,TRUE))<>P_19号4様式1!Q95,RIGHT(FIXED(P_19号4様式1!Q95,3,FALSE),4),\"\"),\"\"),\"\")","v":""},null,{"$f":"IF(P_19号4様式1!T95=\"\",\"\",P_19号4様式1!T95)","v":""},{"$f":"IF(P_19号4様式1!U95=\"\",\"\",P_19号4様式1!U95)","v":""},{"$f":"IF(P_19号4様式1!V95<> \"\",IF(P_19号4様式1!V95<> \"-\",TEXT(INT(P_19号4様式1!V95),\"#,##0\"),\"-\"),\"\")","v":""},{"$f":"IF(P_19号4様式1!V95<> \"\",IF(P_19号4様式1!V95<> \"-\",IF(VALUE(FIXED(P_19号4様式1!V95,0,TRUE))<>P_19号4様式1!V95,RIGHT(FIXED(P_19号4様式1!V95,3,FALSE),4),\"\"),\"\"),\"\")","v":""}]
[{"$f":"IF(P_19号4様式1!E96=\"\",\"\",P_19号4様式1!E96)","v":""},{"$f":"IF(P_19号4様式1!F96=\"\",\"\",P_19号4様式1!F96)","v":""},{"$f":"IF(P_19号4様式1!G96<> \"\",IF(P_19号4様式1!G96<> \"-\",TEXT(INT(P_19号4様式1!G96),\"#,##0\"),\"-\"),\"\")","v":""},{"$f":"IF(P_19号4様式1!G96<> \"\",IF(P_19号4様式1!G96<> \"-\",IF(VALUE(FIXED(P_19号4様式1!G96,0,TRUE))<>P_19号4様式1!G96,RIGHT(FIXED(P_19号4様式1!G96,3,FALSE),4),\"\"),\"\"),\"\")","v":""},null,{"$f":"IF(P_19号4様式1!J96=\"\",\"\",P_19号4様式1!J96)","v":""},{"$f":"IF(P_19号4様式1!K96=\"\",\"\",P_19号4様式1!K96)","v":""},{"$f":"IF(P_19号4様式1!L96<> \"\",IF(P_19号4様式1!L96<> \"-\",TEXT(INT(P_19号4様式1!L96),\"#,##0\"),\"-\"),\"\")","v":""},{"$f":"IF(P_19号4様式1!L96<> \"\",IF(P_19号4様式1!L96<> \"-\",IF(VALUE(FIXED(P_19号4様式1!L96,0,TRUE))<>P_19号4様式1!L96,RIGHT(FIXED(P_19号4様式1!L96,3,FALSE),4),\"\"),\"\"),\"\")","v":""},null,{"$f":"IF(P_19号4様式1!O96=\"\",\"\",P_19号4様式1!O96)","v":""},{"$f":"IF(P_19号4様式1!P96=\"\",\"\",P_19号4様式1!P96)","v":""},{"$f":"IF(P_19号4様式1!Q96<> \"\",IF(P_19号4様式1!Q96<> \"-\",TEXT(INT(P_19号4様式1!Q96),\"#,##0\"),\"-\"),\"\")","v":""},{"$f":"IF(P_19号4様式1!Q96<> \"\",IF(P_19号4様式1!Q96<> \"-\",IF(VALUE(FIXED(P_19号4様式1!Q96,0,TRUE))<>P_19号4様式1!Q96,RIGHT(FIXED(P_19号4様式1!Q96,3,FALSE),4),\"\"),\"\"),\"\")","v":""},null,{"$f":"IF(P_19号4様式1!T96=\"\",\"\",P_19号4様式1!T96)","v":""},{"$f":"IF(P_19号4様式1!U96=\"\",\"\",P_19号4様式1!U96)","v":""},{"$f":"IF(P_19号4様式1!V96<> \"\",IF(P_19号4様式1!V96<> \"-\",TEXT(INT(P_19号4様式1!V96),\"#,##0\"),\"-\"),\"\")","v":""},{"$f":"IF(P_19号4様式1!V96<> \"\",IF(P_19号4様式1!V96<> \"-\",IF(VALUE(FIXED(P_19号4様式1!V96,0,TRUE))<>P_19号4様式1!V96,RIGHT(FIXED(P_19号4様式1!V96,3,FALSE),4),\"\"),\"\"),\"\")","v":""}]
[{"$f":"IF(P_19号4様式1!E97=\"\",\"\",P_19号4様式1!E97)","v":""},{"$f":"IF(P_19号4様式1!F97=\"\",\"\",P_19号4様式1!F97)","v":""},{"$f":"IF(P_19号4様式1!G97<> \"\",IF(P_19号4様式1!G97<> \"-\",TEXT(INT(P_19号4様式1!G97),\"#,##0\"),\"-\"),\"\")","v":""},{"$f":"IF(P_19号4様式1!G97<> \"\",IF(P_19号4様式1!G97<> \"-\",IF(VALUE(FIXED(P_19号4様式1!G97,0,TRUE))<>P_19号4様式1!G97,RIGHT(FIXED(P_19号4様式1!G97,3,FALSE),4),\"\"),\"\"),\"\")","v":""},null,{"$f":"IF(P_19号4様式1!J97=\"\",\"\",P_19号4様式1!J97)","v":""},{"$f":"IF(P_19号4様式1!K97=\"\",\"\",P_19号4様式1!K97)","v":""},{"$f":"IF(P_19号4様式1!L97<> \"\",IF(P_19号4様式1!L97<> \"-\",TEXT(INT(P_19号4様式1!L97),\"#,##0\"),\"-\"),\"\")","v":""},{"$f":"IF(P_19号4様式1!L97<> \"\",IF(P_19号4様式1!L97<> \"-\",IF(VALUE(FIXED(P_19号4様式1!L97,0,TRUE))<>P_19号4様式1!L97,RIGHT(FIXED(P_19号4様式1!L97,3,FALSE),4),\"\"),\"\"),\"\")","v":""},null,{"$f":"IF(P_19号4様式1!O97=\"\",\"\",P_19号4様式1!O97)","v":""},{"$f":"IF(P_19号4様式1!P97=\"\",\"\",P_19号4様式1!P97)","v":""},{"$f":"IF(P_19号4様式1!Q97<> \"\",IF(P_19号4様式1!Q97<> \"-\",TEXT(INT(P_19号4様式1!Q97),\"#,##0\"),\"-\"),\"\")","v":""},{"$f":"IF(P_19号4様式1!Q97<> \"\",IF(P_19号4様式1!Q97<> \"-\",IF(VALUE(FIXED(P_19号4様式1!Q97,0,TRUE))<>P_19号4様式1!Q97,RIGHT(FIXED(P_19号4様式1!Q97,3,FALSE),4),\"\"),\"\"),\"\")","v":""},null,{"$f":"IF(P_19号4様式1!T97=\"\",\"\",P_19号4様式1!T97)","v":""},{"$f":"IF(P_19号4様式1!U97=\"\",\"\",P_19号4様式1!U97)","v":""},{"$f":"IF(P_19号4様式1!V97<> \"\",IF(P_19号4様式1!V97<> \"-\",TEXT(INT(P_19号4様式1!V97),\"#,##0\"),\"-\"),\"\")","v":""},{"$f":"IF(P_19号4様式1!V97<> \"\",IF(P_19号4様式1!V97<> \"-\",IF(VALUE(FIXED(P_19号4様式1!V97,0,TRUE))<>P_19号4様式1!V97,RIGHT(FIXED(P_19号4様式1!V97,3,FALSE),4),\"\"),\"\"),\"\")","v":""}]
[{"$f":"IF(P_19号4様式1!E98=\"\",\"\",P_19号4様式1!E98)","v":""},{"$f":"IF(P_19号4様式1!F98=\"\",\"\",P_19号4様式1!F98)","v":""},{"$f":"IF(P_19号4様式1!G98<> \"\",IF(P_19号4様式1!G98<> \"-\",TEXT(INT(P_19号4様式1!G98),\"#,##0\"),\"-\"),\"\")","v":""},{"$f":"IF(P_19号4様式1!G98<> \"\",IF(P_19号4様式1!G98<> \"-\",IF(VALUE(FIXED(P_19号4様式1!G98,0,TRUE))<>P_19号4様式1!G98,RIGHT(FIXED(P_19号4様式1!G98,3,FALSE),4),\"\"),\"\"),\"\")","v":""},null,{"$f":"IF(P_19号4様式1!J98=\"\",\"\",P_19号4様式1!J98)","v":""},{"$f":"IF(P_19号4様式1!K98=\"\",\"\",P_19号4様式1!K98)","v":""},{"$f":"IF(P_19号4様式1!L98<> \"\",IF(P_19号4様式1!L98<> \"-\",TEXT(INT(P_19号4様式1!L98),\"#,##0\"),\"-\"),\"\")","v":""},{"$f":"IF(P_19号4様式1!L98<> \"\",IF(P_19号4様式1!L98<> \"-\",IF(VALUE(FIXED(P_19号4様式1!L98,0,TRUE))<>P_19号4様式1!L98,RIGHT(FIXED(P_19号4様式1!L98,3,FALSE),4),\"\"),\"\"),\"\")","v":""},null,{"$f":"IF(P_19号4様式1!O98=\"\",\"\",P_19号4様式1!O98)","v":""},{"$f":"IF(P_19号4様式1!P98=\"\",\"\",P_19号4様式1!P98)","v":""},{"$f":"IF(P_19号4様式1!Q98<> \"\",IF(P_19号4様式1!Q98<> \"-\",TEXT(INT(P_19号4様式1!Q98),\"#,##0\"),\"-\"),\"\")","v":""},{"$f":"IF(P_19号4様式1!Q98<> \"\",IF(P_19号4様式1!Q98<> \"-\",IF(VALUE(FIXED(P_19号4様式1!Q98,0,TRUE))<>P_19号4様式1!Q98,RIGHT(FIXED(P_19号4様式1!Q98,3,FALSE),4),\"\"),\"\"),\"\")","v":""},null,{"$f":"IF(P_19号4様式1!T98=\"\",\"\",P_19号4様式1!T98)","v":""},{"$f":"IF(P_19号4様式1!U98=\"\",\"\",P_19号4様式1!U98)","v":""},{"$f":"IF(P_19号4様式1!V98<> \"\",IF(P_19号4様式1!V98<> \"-\",TEXT(INT(P_19号4様式1!V98),\"#,##0\"),\"-\"),\"\")","v":""},{"$f":"IF(P_19号4様式1!V98<> \"\",IF(P_19号4様式1!V98<> \"-\",IF(VALUE(FIXED(P_19号4様式1!V98,0,TRUE))<>P_19号4様式1!V98,RIGHT(FIXED(P_19号4様式1!V98,3,FALSE),4),\"\"),\"\"),\"\")","v":""}]
[{"$f":"IF(P_19号4様式1!E99=\"\",\"\",P_19号4様式1!E99)","v":""},{"$f":"IF(P_19号4様式1!F99=\"\",\"\",P_19号4様式1!F99)","v":""},{"$f":"IF(P_19号4様式1!G99<> \"\",IF(P_19号4様式1!G99<> \"-\",TEXT(INT(P_19号4様式1!G99),\"#,##0\"),\"-\"),\"\")","v":""},{"$f":"IF(P_19号4様式1!G99<> \"\",IF(P_19号4様式1!G99<> \"-\",IF(VALUE(FIXED(P_19号4様式1!G99,0,TRUE))<>P_19号4様式1!G99,RIGHT(FIXED(P_19号4様式1!G99,3,FALSE),4),\"\"),\"\"),\"\")","v":""},null,{"$f":"IF(P_19号4様式1!J99=\"\",\"\",P_19号4様式1!J99)","v":""},{"$f":"IF(P_19号4様式1!K99=\"\",\"\",P_19号4様式1!K99)","v":""},{"$f":"IF(P_19号4様式1!L99<> \"\",IF(P_19号4様式1!L99<> \"-\",TEXT(INT(P_19号4様式1!L99),\"#,##0\"),\"-\"),\"\")","v":""},{"$f":"IF(P_19号4様式1!L99<> \"\",IF(P_19号4様式1!L99<> \"-\",IF(VALUE(FIXED(P_19号4様式1!L99,0,TRUE))<>P_19号4様式1!L99,RIGHT(FIXED(P_19号4様式1!L99,3,FALSE),4),\"\"),\"\"),\"\")","v":""},null,{"$f":"IF(P_19号4様式1!O99=\"\",\"\",P_19号4様式1!O99)","v":""},{"$f":"IF(P_19号4様式1!P99=\"\",\"\",P_19号4様式1!P99)","v":""},{"$f":"IF(P_19号4様式1!Q99<> \"\",IF(P_19号4様式1!Q99<> \"-\",TEXT(INT(P_19号4様式1!Q99),\"#,##0\"),\"-\"),\"\")","v":""},{"$f":"IF(P_19号4様式1!Q99<> \"\",IF(P_19号4様式1!Q99<> \"-\",IF(VALUE(FIXED(P_19号4様式1!Q99,0,TRUE))<>P_19号4様式1!Q99,RIGHT(FIXED(P_19号4様式1!Q99,3,FALSE),4),\"\"),\"\"),\"\")","v":""},null,{"$f":"IF(P_19号4様式1!T99=\"\",\"\",P_19号4様式1!T99)","v":""},{"$f":"IF(P_19号4様式1!U99=\"\",\"\",P_19号4様式1!U99)","v":""},{"$f":"IF(P_19号4様式1!V99<> \"\",IF(P_19号4様式1!V99<> \"-\",TEXT(INT(P_19号4様式1!V99),\"#,##0\"),\"-\"),\"\")","v":""},{"$f":"IF(P_19号4様式1!V99<> \"\",IF(P_19号4様式1!V99<> \"-\",IF(VALUE(FIXED(P_19号4様式1!V99,0,TRUE))<>P_19号4様式1!V99,RIGHT(FIXED(P_19号4様式1!V99,3,FALSE),4),\"\"),\"\"),\"\")","v":""}]
[{"$f":"IF(P_19号4様式1!E100=\"\",\"\",P_19号4様式1!E100)","v":""},{"$f":"IF(P_19号4様式1!F100=\"\",\"\",P_19号4様式1!F100)","v":""},{"$f":"IF(P_19号4様式1!G100<> \"\",IF(P_19号4様式1!G100<> \"-\",TEXT(INT(P_19号4様式1!G100),\"#,##0\"),\"-\"),\"\")","v":""},{"$f":"IF(P_19号4様式1!G100<> \"\",IF(P_19号4様式1!G100<> \"-\",IF(VALUE(FIXED(P_19号4様式1!G100,0,TRUE))<>P_19号4様式1!G100,RIGHT(FIXED(P_19号4様式1!G100,3,FALSE),4),\"\"),\"\"),\"\")","v":""},null,{"$f":"IF(P_19号4様式1!J100=\"\",\"\",P_19号4様式1!J100)","v":""},{"$f":"IF(P_19号4様式1!K100=\"\",\"\",P_19号4様式1!K100)","v":""},{"$f":"IF(P_19号4様式1!L100<> \"\",IF(P_19号4様式1!L100<> \"-\",TEXT(INT(P_19号4様式1!L100),\"#,##0\"),\"-\"),\"\")","v":""},{"$f":"IF(P_19号4様式1!L100<> \"\",IF(P_19号4様式1!L100<> \"-\",IF(VALUE(FIXED(P_19号4様式1!L100,0,TRUE))<>P_19号4様式1!L100,RIGHT(FIXED(P_19号4様式1!L100,3,FALSE),4),\"\"),\"\"),\"\")","v":""},null,{"$f":"IF(P_19号4様式1!O100=\"\",\"\",P_19号4様式1!O100)","v":""},{"$f":"IF(P_19号4様式1!P100=\"\",\"\",P_19号4様式1!P100)","v":""},{"$f":"IF(P_19号4様式1!Q100<> \"\",IF(P_19号4様式1!Q100<> \"-\",TEXT(INT(P_19号4様式1!Q100),\"#,##0\"),\"-\"),\"\")","v":""},{"$f":"IF(P_19号4様式1!Q100<> \"\",IF(P_19号4様式1!Q100<> \"-\",IF(VALUE(FIXED(P_19号4様式1!Q100,0,TRUE))<>P_19号4様式1!Q100,RIGHT(FIXED(P_19号4様式1!Q100,3,FALSE),4),\"\"),\"\"),\"\")","v":""},null,{"$f":"IF(P_19号4様式1!T100=\"\",\"\",P_19号4様式1!T100)","v":""},{"$f":"IF(P_19号4様式1!U100=\"\",\"\",P_19号4様式1!U100)","v":""},{"$f":"IF(P_19号4様式1!V100<> \"\",IF(P_19号4様式1!V100<> \"-\",TEXT(INT(P_19号4様式1!V100),\"#,##0\"),\"-\"),\"\")","v":""},{"$f":"IF(P_19号4様式1!V100<> \"\",IF(P_19号4様式1!V100<> \"-\",IF(VALUE(FIXED(P_19号4様式1!V100,0,TRUE))<>P_19号4様式1!V100,RIGHT(FIXED(P_19号4様式1!V100,3,FALSE),4),\"\"),\"\"),\"\")","v":""}]
[{"$f":"IF(P_19号4様式1!E101=\"\",\"\",P_19号4様式1!E101)","v":""},{"$f":"IF(P_19号4様式1!F101=\"\",\"\",P_19号4様式1!F101)","v":""},{"$f":"IF(P_19号4様式1!G101<> \"\",IF(P_19号4様式1!G101<> \"-\",TEXT(INT(P_19号4様式1!G101),\"#,##0\"),\"-\"),\"\")","v":""},{"$f":"IF(P_19号4様式1!G101<> \"\",IF(P_19号4様式1!G101<> \"-\",IF(VALUE(FIXED(P_19号4様式1!G101,0,TRUE))<>P_19号4様式1!G101,RIGHT(FIXED(P_19号4様式1!G101,3,FALSE),4),\"\"),\"\"),\"\")","v":""},null,{"$f":"IF(P_19号4様式1!J101=\"\",\"\",P_19号4様式1!J101)","v":""},{"$f":"IF(P_19号4様式1!K101=\"\",\"\",P_19号4様式1!K101)","v":""},{"$f":"IF(P_19号4様式1!L101<> \"\",IF(P_19号4様式1!L101<> \"-\",TEXT(INT(P_19号4様式1!L101),\"#,##0\"),\"-\"),\"\")","v":""},{"$f":"IF(P_19号4様式1!L101<> \"\",IF(P_19号4様式1!L101<> \"-\",IF(VALUE(FIXED(P_19号4様式1!L101,0,TRUE))<>P_19号4様式1!L101,RIGHT(FIXED(P_19号4様式1!L101,3,FALSE),4),\"\"),\"\"),\"\")","v":""},null,{"$f":"IF(P_19号4様式1!O101=\"\",\"\",P_19号4様式1!O101)","v":""},{"$f":"IF(P_19号4様式1!P101=\"\",\"\",P_19号4様式1!P101)","v":""},{"$f":"IF(P_19号4様式1!Q101<> \"\",IF(P_19号4様式1!Q101<> \"-\",TEXT(INT(P_19号4様式1!Q101),\"#,##0\"),\"-\"),\"\")","v":""},{"$f":"IF(P_19号4様式1!Q101<> \"\",IF(P_19号4様式1!Q101<> \"-\",IF(VALUE(FIXED(P_19号4様式1!Q101,0,TRUE))<>P_19号4様式1!Q101,RIGHT(FIXED(P_19号4様式1!Q101,3,FALSE),4),\"\"),\"\"),\"\")","v":""},null,{"$f":"IF(P_19号4様式1!T101=\"\",\"\",P_19号4様式1!T101)","v":""},{"$f":"IF(P_19号4様式1!U101=\"\",\"\",P_19号4様式1!U101)","v":""},{"$f":"IF(P_19号4様式1!V101<> \"\",IF(P_19号4様式1!V101<> \"-\",TEXT(INT(P_19号4様式1!V101),\"#,##0\"),\"-\"),\"\")","v":""},{"$f":"IF(P_19号4様式1!V101<> \"\",IF(P_19号4様式1!V101<> \"-\",IF(VALUE(FIXED(P_19号4様式1!V101,0,TRUE))<>P_19号4様式1!V101,RIGHT(FIXED(P_19号4様式1!V101,3,FALSE),4),\"\"),\"\"),\"\")","v":""}]
[{"$f":"IF(P_19号4様式1!E102=\"\",\"\",P_19号4様式1!E102)","v":""},{"$f":"IF(P_19号4様式1!F102=\"\",\"\",P_19号4様式1!F102)","v":""},{"$f":"IF(P_19号4様式1!G102<> \"\",IF(P_19号4様式1!G102<> \"-\",TEXT(INT(P_19号4様式1!G102),\"#,##0\"),\"-\"),\"\")","v":""},{"$f":"IF(P_19号4様式1!G102<> \"\",IF(P_19号4様式1!G102<> \"-\",IF(VALUE(FIXED(P_19号4様式1!G102,0,TRUE))<>P_19号4様式1!G102,RIGHT(FIXED(P_19号4様式1!G102,3,FALSE),4),\"\"),\"\"),\"\")","v":""},null,{"$f":"IF(P_19号4様式1!J102=\"\",\"\",P_19号4様式1!J102)","v":""},{"$f":"IF(P_19号4様式1!K102=\"\",\"\",P_19号4様式1!K102)","v":""},{"$f":"IF(P_19号4様式1!L102<> \"\",IF(P_19号4様式1!L102<> \"-\",TEXT(INT(P_19号4様式1!L102),\"#,##0\"),\"-\"),\"\")","v":""},{"$f":"IF(P_19号4様式1!L102<> \"\",IF(P_19号4様式1!L102<> \"-\",IF(VALUE(FIXED(P_19号4様式1!L102,0,TRUE))<>P_19号4様式1!L102,RIGHT(FIXED(P_19号4様式1!L102,3,FALSE),4),\"\"),\"\"),\"\")","v":""},null,{"$f":"IF(P_19号4様式1!O102=\"\",\"\",P_19号4様式1!O102)","v":""},{"$f":"IF(P_19号4様式1!P102=\"\",\"\",P_19号4様式1!P102)","v":""},{"$f":"IF(P_19号4様式1!Q102<> \"\",IF(P_19号4様式1!Q102<> \"-\",TEXT(INT(P_19号4様式1!Q102),\"#,##0\"),\"-\"),\"\")","v":""},{"$f":"IF(P_19号4様式1!Q102<> \"\",IF(P_19号4様式1!Q102<> \"-\",IF(VALUE(FIXED(P_19号4様式1!Q102,0,TRUE))<>P_19号4様式1!Q102,RIGHT(FIXED(P_19号4様式1!Q102,3,FALSE),4),\"\"),\"\"),\"\")","v":""},null,{"$f":"IF(P_19号4様式1!T102=\"\",\"\",P_19号4様式1!T102)","v":""},{"$f":"IF(P_19号4様式1!U102=\"\",\"\",P_19号4様式1!U102)","v":""},{"$f":"IF(P_19号4様式1!V102<> \"\",IF(P_19号4様式1!V102<> \"-\",TEXT(INT(P_19号4様式1!V102),\"#,##0\"),\"-\"),\"\")","v":""},{"$f":"IF(P_19号4様式1!V102<> \"\",IF(P_19号4様式1!V102<> \"-\",IF(VALUE(FIXED(P_19号4様式1!V102,0,TRUE))<>P_19号4様式1!V102,RIGHT(FIXED(P_19号4様式1!V102,3,FALSE),4),\"\"),\"\"),\"\")","v":""}]
[{"$f":"IF(P_19号4様式1!E103=\"\",\"\",P_19号4様式1!E103)","v":""},{"$f":"IF(P_19号4様式1!F103=\"\",\"\",P_19号4様式1!F103)","v":"合  計"},{"$f":"IF(P_19号4様式1!G103<> \"\",TEXT(INT(P_19号4様式1!G103),\"#,##0\"),\"\")","v":""},{"$f":"IF(P_19号4様式1!G103= \"\",\"\",IF(VALUE(FIXED(P_19号4様式1!G103,0,TRUE))<>P_19号4様式1!G103,RIGHT(FIXED(P_19号4様式1!G103,3,FALSE),4),\"\"))","v":""},null,{"$f":"IF(P_19号4様式1!J103=\"\",\"\",P_19号4様式1!J103)","v":""},{"$f":"IF(P_19号4様式1!K103=\"\",\"\",P_19号4様式1!K103)","v":"合  計"},{"$f":"IF(P_19号4様式1!L103<> \"\",TEXT(INT(P_19号4様式1!L103),\"#,##0\"),\"\")","v":""},{"$f":"IF(P_19号4様式1!L103= \"\",\"\",IF(VALUE(FIXED(P_19号4様式1!L103,0,TRUE))<>P_19号4様式1!L103,RIGHT(FIXED(P_19号4様式1!L103,3,FALSE),4),\"\"))","v":""},null,{"$f":"IF(P_19号4様式1!O103=\"\",\"\",P_19号4様式1!O103)","v":""},{"$f":"IF(P_19号4様式1!P103=\"\",\"\",P_19号4様式1!P103)","v":"合  計"},{"$f":"IF(P_19号4様式1!Q103<> \"\",TEXT(INT(P_19号4様式1!Q103),\"#,##0\"),\"\")","v":""},{"$f":"IF(P_19号4様式1!Q103= \"\",\"\",IF(VALUE(FIXED(P_19号4様式1!Q103,0,TRUE))<>P_19号4様式1!Q103,RIGHT(FIXED(P_19号4様式1!Q103,3,FALSE),4),\"\"))","v":""},null,{"$f":"IF(P_19号4様式1!T103=\"\",\"\",P_19号4様式1!T103)","v":""},{"$f":"IF(P_19号4様式1!U103=\"\",\"\",P_19号4様式1!U103)","v":"合  計"},{"$f":"IF(P_19号4様式1!V103<> \"\",TEXT(INT(P_19号4様式1!V103),\"#,##0\"),\"\")","v":""},{"$f":"IF(P_19号4様式1!V103= \"\",\"\",IF(VALUE(FIXED(P_19号4様式1!V103,0,TRUE))<>P_19号4様式1!V103,RIGHT(FIXED(P_19号4様式1!V103,3,FALSE),4),\"\"))","v":""}]
[]
["第19号の4様式",null,null,null,null,{"$f":"+F$2","v":"「政党等投票数」のうち、公選法第６８条の３の規定により政党等の有効投票とみなされた投票の状況"},null,null,null,null,null,null,null,null,null,null,null,{"$f":"P_19号4様式1!A104 & \" ページ\"","v":"3 ページ"}]
[]
[null,{"$f":"IF(パラメタシート!B1=\"\",\"    年  月  日　執行\",パラメタシート!B1)","v":"2019-07-21"},null,null,null,null,null,null,null,null,null,{"$f":"IF(P_19号4様式1!X120=\"0\",\"即日　開票\",\"翌日　開票\")","v":"即日　開票"},null,"中間報告",null,null,{"$f":"IF(P_19号4様式1!Y104=\"\",\"     時     分\",P_19号4様式1!Y104)","v":"     時     分"},"鹿 児 島 県"]
[null,{"$f":"IF(P_19号4様式1!W104=\"\",\"     年   月   日　執行\",P_19号4様式1!W104)","v":"参議院比例代表選出議員選挙"},null,null,null,null,null,null,null,null,null,null,"開票","結了報告",null,null,{"$f":"IF(P_19号4様式1!Z104=\"\",\"     時     分\",P_19号4様式1!Z104)","v":"02:55:00"}]
[]
[{"$f":"IF(P_19号4様式1!C104=\"\",\"\",\"〔\" & P_19号4様式1!C104 & \"  \" & P_19号4様式1!D104 & \"〕\")","v":"〔09  立憲民主党〕"},null,null,null,null,{"$f":"IF(P_19号4様式1!H104=\"\",\"\",\"〔\" & P_19号4様式1!H104 & \"  \" & P_19号4様式1!I104 & \"〕\")","v":"〔10  労働の解放をめざす労働者党〕"},null,null,null,null,{"$f":"IF(P_19号4様式1!M104=\"\",\"\",\"〔\" & P_19号4様式1!M104 & \"  \" & P_19号4様式1!N104 & \"〕\")","v":"〔11  ＮＨＫから国民を守る党〕"},null,null,null,null,{"$f":"IF(P_19号4様式1!R104=\"\",\"\",\"〔\" & P_19号4様式1!R104 & \"  \" & P_19号4様式1!S104 & \"〕\")","v":"〔12  安楽死制度を考える会〕"}]
["候 補 者 名",null,"投票数",null,null,"候 補 者 名",null,"投票数",null,null,"候 補 者 名",null,"投票数",null,null,"候 補 者 名",null,"投票数"]
[{"$f":"IF(P_19号4様式1!E104=\"\",\"\",P_19号4様式1!E104)","v":""},{"$f":"IF(P_19号4様式1!F104=\"\",\"\",P_19号4様式1!F104)","v":""},{"$f":"IF(P_19号4様式1!G104<> \"\",IF(P_19号4様式1!G104<> \"-\",TEXT(INT(P_19号4様式1!G104),\"#,##0\"),\"-\"),\"\")","v":""},{"$f":"IF(P_19号4様式1!G104<> \"\",IF(P_19号4様式1!G104<> \"-\",IF(VALUE(FIXED(P_19号4様式1!G104,0,TRUE))<>P_19号4様式1!G104,RIGHT(FIXED(P_19号4様式1!G104,3,FALSE),4),\"\"),\"\"),\"\")","v":""},null,{"$f":"IF(P_19号4様式1!J104=\"\",\"\",P_19号4様式1!J104)","v":"01"},{"$f":"IF(P_19号4様式1!K104=\"\",\"\",P_19号4様式1!K104)","v":"伊藤　恵子"},{"$f":"IF(P_19号4様式1!L104<> \"\",IF(P_19号4様式1!L104<> \"-\",TEXT(INT(P_19号4様式1!L104),\"#,##0\"),\"-\"),\"\")","v":"91"},{"$f":"IF(P_19号4様式1!L104<> \"\",IF(P_19号4様式1!L104<> \"-\",IF(VALUE(FIXED(P_19号4様式1!L104,0,TRUE))<>P_19号4様式1!L104,RIGHT(FIXED(P_19号4様式1!L104,3,FALSE),4),\"\"),\"\"),\"\")","v":".589"},null,{"$f":"IF(P_19号4様式1!O104=\"\",\"\",P_19号4様式1!O104)","v":""},{"$f":"IF(P_19号4様式1!P104=\"\",\"\",P_19号4様式1!P104)","v":""},{"$f":"IF(P_19号4様式1!Q104<> \"\",IF(P_19号4様式1!Q104<> \"-\",TEXT(INT(P_19号4様式1!Q104),\"#,##0\"),\"-\"),\"\")","v":""},{"$f":"IF(P_19号4様式1!Q104<> \"\",IF(P_19号4様式1!Q104<> \"-\",IF(VALUE(FIXED(P_19号4様式1!Q104,0,TRUE))<>P_19号4様式1!Q104,RIGHT(FIXED(P_19号4様式1!Q104,3,FALSE),4),\"\"),\"\"),\"\")","v":""},null,{"$f":"IF(P_19号4様式1!T104=\"\",\"\",P_19号4様式1!T104)","v":""},{"$f":"IF(P_19号4様式1!U104=\"\",\"\",P_19号4様式1!U104)","v":""},{"$f":"IF(P_19号4様式1!V104<> \"\",IF(P_19号4様式1!V104<> \"-\",TEXT(INT(P_19号4様式1!V104),\"#,##0\"),\"-\"),\"\")","v":""},{"$f":"IF(P_19号4様式1!V104<> \"\",IF(P_19号4様式1!V104<> \"-\",IF(VALUE(FIXED(P_19号4様式1!V104,0,TRUE))<>P_19号4様式1!V104,RIGHT(FIXED(P_19号4様式1!V104,3,FALSE),4),\"\"),\"\"),\"\")","v":""}]
[{"$f":"IF(P_19号4様式1!E105=\"\",\"\",P_19号4様式1!E105)","v":""},{"$f":"IF(P_19号4様式1!F105=\"\",\"\",P_19号4様式1!F105)","v":""},{"$f":"IF(P_19号4様式1!G105<> \"\",IF(P_19号4様式1!G105<> \"-\",TEXT(INT(P_19号4様式1!G105),\"#,##0\"),\"-\"),\"\")","v":""},{"$f":"IF(P_19号4様式1!G105<> \"\",IF(P_19号4様式1!G105<> \"-\",IF(VALUE(FIXED(P_19号4様式1!G105,0,TRUE))<>P_19号4様式1!G105,RIGHT(FIXED(P_19号4様式1!G105,3,FALSE),4),\"\"),\"\"),\"\")","v":""},null,{"$f":"IF(P_19号4様式1!J105=\"\",\"\",P_19号4様式1!J105)","v":""},{"$f":"IF(P_19号4様式1!K105=\"\",\"\",P_19号4様式1!K105)","v":""},{"$f":"IF(P_19号4様式1!L105<> \"\",IF(P_19号4様式1!L105<> \"-\",TEXT(INT(P_19号4様式1!L105),\"#,##0\"),\"-\"),\"\")","v":""},{"$f":"IF(P_19号4様式1!L105<> \"\",IF(P_19号4様式1!L105<> \"-\",IF(VALUE(FIXED(P_19号4様式1!L105,0,TRUE))<>P_19号4様式1!L105,RIGHT(FIXED(P_19号4様式1!L105,3,FALSE),4),\"\"),\"\"),\"\")","v":""},null,{"$f":"IF(P_19号4様式1!O105=\"\",\"\",P_19号4様式1!O105)","v":""},{"$f":"IF(P_19号4様式1!P105=\"\",\"\",P_19号4様式1!P105)","v":""},{"$f":"IF(P_19号4様式1!Q105<> \"\",IF(P_19号4様式1!Q105<> \"-\",TEXT(INT(P_19号4様式1!Q105),\"#,##0\"),\"-\"),\"\")","v":""},{"$f":"IF(P_19号4様式1!Q105<> \"\",IF(P_19号4様式1!Q105<> \"-\",IF(VALUE(FIXED(P_19号4様式1!Q105,0,TRUE))<>P_19号4様式1!Q105,RIGHT(FIXED(P_19号4様式1!Q105,3,FALSE),4),\"\"),\"\"),\"\")","v":""},null,{"$f":"IF(P_19号4様式1!T105=\"\",\"\",P_19号4様式1!T105)","v":""},{"$f":"IF(P_19号4様式1!U105=\"\",\"\",P_19号4様式1!U105)","v":""},{"$f":"IF(P_19号4様式1!V105<> \"\",IF(P_19号4様式1!V105<> \"-\",TEXT(INT(P_19号4様式1!V105),\"#,##0\"),\"-\"),\"\")","v":""},{"$f":"IF(P_19号4様式1!V105<> \"\",IF(P_19号4様式1!V105<> \"-\",IF(VALUE(FIXED(P_19号4様式1!V105,0,TRUE))<>P_19号4様式1!V105,RIGHT(FIXED(P_19号4様式1!V105,3,FALSE),4),\"\"),\"\"),\"\")","v":""}]
[{"$f":"IF(P_19号4様式1!E106=\"\",\"\",P_19号4様式1!E106)","v":""},{"$f":"IF(P_19号4様式1!F106=\"\",\"\",P_19号4様式1!F106)","v":""},{"$f":"IF(P_19号4様式1!G106<> \"\",IF(P_19号4様式1!G106<> \"-\",TEXT(INT(P_19号4様式1!G106),\"#,##0\"),\"-\"),\"\")","v":""},{"$f":"IF(P_19号4様式1!G106<> \"\",IF(P_19号4様式1!G106<> \"-\",IF(VALUE(FIXED(P_19号4様式1!G106,0,TRUE))<>P_19号4様式1!G106,RIGHT(FIXED(P_19号4様式1!G106,3,FALSE),4),\"\"),\"\"),\"\")","v":""},null,{"$f":"IF(P_19号4様式1!J106=\"\",\"\",P_19号4様式1!J106)","v":""},{"$f":"IF(P_19号4様式1!K106=\"\",\"\",P_19号4様式1!K106)","v":""},{"$f":"IF(P_19号4様式1!L106<> \"\",IF(P_19号4様式1!L106<> \"-\",TEXT(INT(P_19号4様式1!L106),\"#,##0\"),\"-\"),\"\")","v":""},{"$f":"IF(P_19号4様式1!L106<> \"\",IF(P_19号4様式1!L106<> \"-\",IF(VALUE(FIXED(P_19号4様式1!L106,0,TRUE))<>P_19号4様式1!L106,RIGHT(FIXED(P_19号4様式1!L106,3,FALSE),4),\"\"),\"\"),\"\")","v":""},null,{"$f":"IF(P_19号4様式1!O106=\"\",\"\",P_19号4様式1!O106)","v":""},{"$f":"IF(P_19号4様式1!P106=\"\",\"\",P_19号4様式1!P106)","v":""},{"$f":"IF(P_19号4様式1!Q106<> \"\",IF(P_19号4様式1!Q106<> \"-\",TEXT(INT(P_19号4様式1!Q106),\"#,##0\"),\"-\"),\"\")","v":""},{"$f":"IF(P_19号4様式1!Q106<> \"\",IF(P_19号4様式1!Q106<> \"-\",IF(VALUE(FIXED(P_19号4様式1!Q106,0,TRUE))<>P_19号4様式1!Q106,RIGHT(FIXED(P_19号4様式1!Q106,3,FALSE),4),\"\"),\"\"),\"\")","v":""},null,{"$f":"IF(P_19号4様式1!T106=\"\",\"\",P_19号4様式1!T106)","v":""},{"$f":"IF(P_19号4様式1!U106=\"\",\"\",P_19号4様式1!U106)","v":""},{"$f":"IF(P_19号4様式1!V106<> \"\",IF(P_19号4様式1!V106<> \"-\",TEXT(INT(P_19号4様式1!V106),\"#,##0\"),\"-\"),\"\")","v":""},{"$f":"IF(P_19号4様式1!V106<> \"\",IF(P_19号4様式1!V106<> \"-\",IF(VALUE(FIXED(P_19号4様式1!V106,0,TRUE))<>P_19号4様式1!V106,RIGHT(FIXED(P_19号4様式1!V106,3,FALSE),4),\"\"),\"\"),\"\")","v":""}]
[{"$f":"IF(P_19号4様式1!E107=\"\",\"\",P_19号4様式1!E107)","v":""},{"$f":"IF(P_19号4様式1!F107=\"\",\"\",P_19号4様式1!F107)","v":""},{"$f":"IF(P_19号4様式1!G107<> \"\",IF(P_19号4様式1!G107<> \"-\",TEXT(INT(P_19号4様式1!G107),\"#,##0\"),\"-\"),\"\")","v":""},{"$f":"IF(P_19号4様式1!G107<> \"\",IF(P_19号4様式1!G107<> \"-\",IF(VALUE(FIXED(P_19号4様式1!G107,0,TRUE))<>P_19号4様式1!G107,RIGHT(FIXED(P_19号4様式1!G107,3,FALSE),4),\"\"),\"\"),\"\")","v":""},null,{"$f":"IF(P_19号4様式1!J107=\"\",\"\",P_19号4様式1!J107)","v":""},{"$f":"IF(P_19号4様式1!K107=\"\",\"\",P_19号4様式1!K107)","v":""},{"$f":"IF(P_19号4様式1!L107<> \"\",IF(P_19号4様式1!L107<> \"-\",TEXT(INT(P_19号4様式1!L107),\"#,##0\"),\"-\"),\"\")","v":""},{"$f":"IF(P_19号4様式1!L107<> \"\",IF(P_19号4様式1!L107<> \"-\",IF(VALUE(FIXED(P_19号4様式1!L107,0,TRUE))<>P_19号4様式1!L107,RIGHT(FIXED(P_19号4様式1!L107,3,FALSE),4),\"\"),\"\"),\"\")","v":""},null,{"$f":"IF(P_19号4様式1!O107=\"\",\"\",P_19号4様式1!O107)","v":""},{"$f":"IF(P_19号4様式1!P107=\"\",\"\",P_19号4様式1!P107)","v":""},{"$f":"IF(P_19号4様式1!Q107<> \"\",IF(P_19号4様式1!Q107<> \"-\",TEXT(INT(P_19号4様式1!Q107),\"#,##0\"),\"-\"),\"\")","v":""},{"$f":"IF(P_19号4様式1!Q107<> \"\",IF(P_19号4様式1!Q107<> \"-\",IF(VALUE(FIXED(P_19号4様式1!Q107,0,TRUE))<>P_19号4様式1!Q107,RIGHT(FIXED(P_19号4様式1!Q107,3,FALSE),4),\"\"),\"\"),\"\")","v":""},null,{"$f":"IF(P_19号4様式1!T107=\"\",\"\",P_19号4様式1!T107)","v":""},{"$f":"IF(P_19号4様式1!U107=\"\",\"\",P_19号4様式1!U107)","v":""},{"$f":"IF(P_19号4様式1!V107<> \"\",IF(P_19号4様式1!V107<> \"-\",TEXT(INT(P_19号4様式1!V107),\"#,##0\"),\"-\"),\"\")","v":""},{"$f":"IF(P_19号4様式1!V107<> \"\",IF(P_19号4様式1!V107<> \"-\",IF(VALUE(FIXED(P_19号4様式1!V107,0,TRUE))<>P_19号4様式1!V107,RIGHT(FIXED(P_19号4様式1!V107,3,FALSE),4),\"\"),\"\"),\"\")","v":""}]
[{"$f":"IF(P_19号4様式1!E108=\"\",\"\",P_19号4様式1!E108)","v":""},{"$f":"IF(P_19号4様式1!F108=\"\",\"\",P_19号4様式1!F108)","v":""},{"$f":"IF(P_19号4様式1!G108<> \"\",IF(P_19号4様式1!G108<> \"-\",TEXT(INT(P_19号4様式1!G108),\"#,##0\"),\"-\"),\"\")","v":""},{"$f":"IF(P_19号4様式1!G108<> \"\",IF(P_19号4様式1!G108<> \"-\",IF(VALUE(FIXED(P_19号4様式1!G108,0,TRUE))<>P_19号4様式1!G108,RIGHT(FIXED(P_19号4様式1!G108,3,FALSE),4),\"\"),\"\"),\"\")","v":""},null,{"$f":"IF(P_19号4様式1!J108=\"\",\"\",P_19号4様式1!J108)","v":""},{"$f":"IF(P_19号4様式1!K108=\"\",\"\",P_19号4様式1!K108)","v":""},{"$f":"IF(P_19号4様式1!L108<> \"\",IF(P_19号4様式1!L108<> \"-\",TEXT(INT(P_19号4様式1!L108),\"#,##0\"),\"-\"),\"\")","v":""},{"$f":"IF(P_19号4様式1!L108<> \"\",IF(P_19号4様式1!L108<> \"-\",IF(VALUE(FIXED(P_19号4様式1!L108,0,TRUE))<>P_19号4様式1!L108,RIGHT(FIXED(P_19号4様式1!L108,3,FALSE),4),\"\"),\"\"),\"\")","v":""},null,{"$f":"IF(P_19号4様式1!O108=\"\",\"\",P_19号4様式1!O108)","v":""},{"$f":"IF(P_19号4様式1!P108=\"\",\"\",P_19号4様式1!P108)","v":""},{"$f":"IF(P_19号4様式1!Q108<> \"\",IF(P_19号4様式1!Q108<> \"-\",TEXT(INT(P_19号4様式1!Q108),\"#,##0\"),\"-\"),\"\")","v":""},{"$f":"IF(P_19号4様式1!Q108<> \"\",IF(P_19号4様式1!Q108<> \"-\",IF(VALUE(FIXED(P_19号4様式1!Q108,0,TRUE))<>P_19号4様式1!Q108,RIGHT(FIXED(P_19号4様式1!Q108,3,FALSE),4),\"\"),\"\"),\"\")","v":""},null,{"$f":"IF(P_19号4様式1!T108=\"\",\"\",P_19号4様式1!T108)","v":""},{"$f":"IF(P_19号4様式1!U108=\"\",\"\",P_19号4様式1!U108)","v":""},{"$f":"IF(P_19号4様式1!V108<> \"\",IF(P_19号4様式1!V108<> \"-\",TEXT(INT(P_19号4様式1!V108),\"#,##0\"),\"-\"),\"\")","v":""},{"$f":"IF(P_19号4様式1!V108<> \"\",IF(P_19号4様式1!V108<> \"-\",IF(VALUE(FIXED(P_19号4様式1!V108,0,TRUE))<>P_19号4様式1!V108,RIGHT(FIXED(P_19号4様式1!V108,3,FALSE),4),\"\"),\"\"),\"\")","v":""}]
[{"$f":"IF(P_19号4様式1!E109=\"\",\"\",P_19号4様式1!E109)","v":""},{"$f":"IF(P_19号4様式1!F109=\"\",\"\",P_19号4様式1!F109)","v":""},{"$f":"IF(P_19号4様式1!G109<> \"\",IF(P_19号4様式1!G109<> \"-\",TEXT(INT(P_19号4様式1!G109),\"#,##0\"),\"-\"),\"\")","v":""},{"$f":"IF(P_19号4様式1!G109<> \"\",IF(P_19号4様式1!G109<> \"-\",IF(VALUE(FIXED(P_19号4様式1!G109,0,TRUE))<>P_19号4様式1!G109,RIGHT(FIXED(P_19号4様式1!G109,3,FALSE),4),\"\"),\"\"),\"\")","v":""},null,{"$f":"IF(P_19号4様式1!J109=\"\",\"\",P_19号4様式1!J109)","v":""},{"$f":"IF(P_19号4様式1!K109=\"\",\"\",P_19号4様式1!K109)","v":""},{"$f":"IF(P_19号4様式1!L109<> \"\",IF(P_19号4様式1!L109<> \"-\",TEXT(INT(P_19号4様式1!L109),\"#,##0\"),\"-\"),\"\")","v":""},{"$f":"IF(P_19号4様式1!L109<> \"\",IF(P_19号4様式1!L109<> \"-\",IF(VALUE(FIXED(P_19号4様式1!L109,0,TRUE))<>P_19号4様式1!L109,RIGHT(FIXED(P_19号4様式1!L109,3,FALSE),4),\"\"),\"\"),\"\")","v":""},null,{"$f":"IF(P_19号4様式1!O109=\"\",\"\",P_19号4様式1!O109)","v":""},{"$f":"IF(P_19号4様式1!P109=\"\",\"\",P_19号4様式1!P109)","v":""},{"$f":"IF(P_19号4様式1!Q109<> \"\",IF(P_19号4様式1!Q109<> \"-\",TEXT(INT(P_19号4様式1!Q109),\"#,##0\"),\"-\"),\"\")","v":""},{"$f":"IF(P_19号4様式1!Q109<> \"\",IF(P_19号4様式1!Q109<> \"-\",IF(VALUE(FIXED(P_19号4様式1!Q109,0,TRUE))<>P_19号4様式1!Q109,RIGHT(FIXED(P_19号4様式1!Q109,3,FALSE),4),\"\"),\"\"),\"\")","v":""},null,{"$f":"IF(P_19号4様式1!T109=\"\",\"\",P_19号4様式1!T109)","v":""},{"$f":"IF(P_19号4様式1!U109=\"\",\"\",P_19号4様式1!U109)","v":""},{"$f":"IF(P_19号4様式1!V109<> \"\",IF(P_19号4様式1!V109<> \"-\",TEXT(INT(P_19号4様式1!V109),\"#,##0\"),\"-\"),\"\")","v":""},{"$f":"IF(P_19号4様式1!V109<> \"\",IF(P_19号4様式1!V109<> \"-\",IF(VALUE(FIXED(P_19号4様式1!V109,0,TRUE))<>P_19号4様式1!V109,RIGHT(FIXED(P_19号4様式1!V109,3,FALSE),4),\"\"),\"\"),\"\")","v":""}]
[{"$f":"IF(P_19号4様式1!E110=\"\",\"\",P_19号4様式1!E110)","v":""},{"$f":"IF(P_19号4様式1!F110=\"\",\"\",P_19号4様式1!F110)","v":""},{"$f":"IF(P_19号4様式1!G110<> \"\",IF(P_19号4様式1!G110<> \"-\",TEXT(INT(P_19号4様式1!G110),\"#,##0\"),\"-\"),\"\")","v":""},{"$f":"IF(P_19号4様式1!G110<> \"\",IF(P_19号4様式1!G110<> \"-\",IF(VALUE(FIXED(P_19号4様式1!G110,0,TRUE))<>P_19号4様式1!G110,RIGHT(FIXED(P_19号4様式1!G110,3,FALSE),4),\"\"),\"\"),\"\")","v":""},null,{"$f":"IF(P_19号4様式1!J110=\"\",\"\",P_19号4様式1!J110)","v":""},{"$f":"IF(P_19号4様式1!K110=\"\",\"\",P_19号4様式1!K110)","v":""},{"$f":"IF(P_19号4様式1!L110<> \"\",IF(P_19号4様式1!L110<> \"-\",TEXT(INT(P_19号4様式1!L110),\"#,##0\"),\"-\"),\"\")","v":""},{"$f":"IF(P_19号4様式1!L110<> \"\",IF(P_19号4様式1!L110<> \"-\",IF(VALUE(FIXED(P_19号4様式1!L110,0,TRUE))<>P_19号4様式1!L110,RIGHT(FIXED(P_19号4様式1!L110,3,FALSE),4),\"\"),\"\"),\"\")","v":""},null,{"$f":"IF(P_19号4様式1!O110=\"\",\"\",P_19号4様式1!O110)","v":""},{"$f":"IF(P_19号4様式1!P110=\"\",\"\",P_19号4様式1!P110)","v":""},{"$f":"IF(P_19号4様式1!Q110<> \"\",IF(P_19号4様式1!Q110<> \"-\",TEXT(INT(P_19号4様式1!Q110),\"#,##0\"),\"-\"),\"\")","v":""},{"$f":"IF(P_19号4様式1!Q110<> \"\",IF(P_19号4様式1!Q110<> \"-\",IF(VALUE(FIXED(P_19号4様式1!Q110,0,TRUE))<>P_19号4様式1!Q110,RIGHT(FIXED(P_19号4様式1!Q110,3,FALSE),4),\"\"),\"\"),\"\")","v":""},null,{"$f":"IF(P_19号4様式1!T110=\"\",\"\",P_19号4様式1!T110)","v":""},{"$f":"IF(P_19号4様式1!U110=\"\",\"\",P_19号4様式1!U110)","v":""},{"$f":"IF(P_19号4様式1!V110<> \"\",IF(P_19号4様式1!V110<> \"-\",TEXT(INT(P_19号4様式1!V110),\"#,##0\"),\"-\"),\"\")","v":""},{"$f":"IF(P_19号4様式1!V110<> \"\",IF(P_19号4様式1!V110<> \"-\",IF(VALUE(FIXED(P_19号4様式1!V110,0,TRUE))<>P_19号4様式1!V110,RIGHT(FIXED(P_19号4様式1!V110,3,FALSE),4),\"\"),\"\"),\"\")","v":""}]
[{"$f":"IF(P_19号4様式1!E111=\"\",\"\",P_19号4様式1!E111)","v":""},{"$f":"IF(P_19号4様式1!F111=\"\",\"\",P_19号4様式1!F111)","v":""},{"$f":"IF(P_19号4様式1!G111<> \"\",IF(P_19号4様式1!G111<> \"-\",TEXT(INT(P_19号4様式1!G111),\"#,##0\"),\"-\"),\"\")","v":""},{"$f":"IF(P_19号4様式1!G111<> \"\",IF(P_19号4様式1!G111<> \"-\",IF(VALUE(FIXED(P_19号4様式1!G111,0,TRUE))<>P_19号4様式1!G111,RIGHT(FIXED(P_19号4様式1!G111,3,FALSE),4),\"\"),\"\"),\"\")","v":""},null,{"$f":"IF(P_19号4様式1!J111=\"\",\"\",P_19号4様式1!J111)","v":""},{"$f":"IF(P_19号4様式1!K111=\"\",\"\",P_19号4様式1!K111)","v":""},{"$f":"IF(P_19号4様式1!L111<> \"\",IF(P_19号4様式1!L111<> \"-\",TEXT(INT(P_19号4様式1!L111),\"#,##0\"),\"-\"),\"\")","v":""},{"$f":"IF(P_19号4様式1!L111<> \"\",IF(P_19号4様式1!L111<> \"-\",IF(VALUE(FIXED(P_19号4様式1!L111,0,TRUE))<>P_19号4様式1!L111,RIGHT(FIXED(P_19号4様式1!L111,3,FALSE),4),\"\"),\"\"),\"\")","v":""},null,{"$f":"IF(P_19号4様式1!O111=\"\",\"\",P_19号4様式1!O111)","v":""},{"$f":"IF(P_19号4様式1!P111=\"\",\"\",P_19号4様式1!P111)","v":""},{"$f":"IF(P_19号4様式1!Q111<> \"\",IF(P_19号4様式1!Q111<> \"-\",TEXT(INT(P_19号4様式1!Q111),\"#,##0\"),\"-\"),\"\")","v":""},{"$f":"IF(P_19号4様式1!Q111<> \"\",IF(P_19号4様式1!Q111<> \"-\",IF(VALUE(FIXED(P_19号4様式1!Q111,0,TRUE))<>P_19号4様式1!Q111,RIGHT(FIXED(P_19号4様式1!Q111,3,FALSE),4),\"\"),\"\"),\"\")","v":""},null,{"$f":"IF(P_19号4様式1!T111=\"\",\"\",P_19号4様式1!T111)","v":""},{"$f":"IF(P_19号4様式1!U111=\"\",\"\",P_19号4様式1!U111)","v":""},{"$f":"IF(P_19号4様式1!V111<> \"\",IF(P_19号4様式1!V111<> \"-\",TEXT(INT(P_19号4様式1!V111),\"#,##0\"),\"-\"),\"\")","v":""},{"$f":"IF(P_19号4様式1!V111<> \"\",IF(P_19号4様式1!V111<> \"-\",IF(VALUE(FIXED(P_19号4様式1!V111,0,TRUE))<>P_19号4様式1!V111,RIGHT(FIXED(P_19号4様式1!V111,3,FALSE),4),\"\"),\"\"),\"\")","v":""}]
[{"$f":"IF(P_19号4様式1!E112=\"\",\"\",P_19号4様式1!E112)","v":""},{"$f":"IF(P_19号4様式1!F112=\"\",\"\",P_19号4様式1!F112)","v":""},{"$f":"IF(P_19号4様式1!G112<> \"\",IF(P_19号4様式1!G112<> \"-\",TEXT(INT(P_19号4様式1!G112),\"#,##0\"),\"-\"),\"\")","v":""},{"$f":"IF(P_19号4様式1!G112<> \"\",IF(P_19号4様式1!G112<> \"-\",IF(VALUE(FIXED(P_19号4様式1!G112,0,TRUE))<>P_19号4様式1!G112,RIGHT(FIXED(P_19号4様式1!G112,3,FALSE),4),\"\"),\"\"),\"\")","v":""},null,{"$f":"IF(P_19号4様式1!J112=\"\",\"\",P_19号4様式1!J112)","v":""},{"$f":"IF(P_19号4様式1!K112=\"\",\"\",P_19号4様式1!K112)","v":""},{"$f":"IF(P_19号4様式1!L112<> \"\",IF(P_19号4様式1!L112<> \"-\",TEXT(INT(P_19号4様式1!L112),\"#,##0\"),\"-\"),\"\")","v":""},{"$f":"IF(P_19号4様式1!L112<> \"\",IF(P_19号4様式1!L112<> \"-\",IF(VALUE(FIXED(P_19号4様式1!L112,0,TRUE))<>P_19号4様式1!L112,RIGHT(FIXED(P_19号4様式1!L112,3,FALSE),4),\"\"),\"\"),\"\")","v":""},null,{"$f":"IF(P_19号4様式1!O112=\"\",\"\",P_19号4様式1!O112)","v":""},{"$f":"IF(P_19号4様式1!P112=\"\",\"\",P_19号4様式1!P112)","v":""},{"$f":"IF(P_19号4様式1!Q112<> \"\",IF(P_19号4様式1!Q112<> \"-\",TEXT(INT(P_19号4様式1!Q112),\"#,##0\"),\"-\"),\"\")","v":""},{"$f":"IF(P_19号4様式1!Q112<> \"\",IF(P_19号4様式1!Q112<> \"-\",IF(VALUE(FIXED(P_19号4様式1!Q112,0,TRUE))<>P_19号4様式1!Q112,RIGHT(FIXED(P_19号4様式1!Q112,3,FALSE),4),\"\"),\"\"),\"\")","v":""},null,{"$f":"IF(P_19号4様式1!T112=\"\",\"\",P_19号4様式1!T112)","v":""},{"$f":"IF(P_19号4様式1!U112=\"\",\"\",P_19号4様式1!U112)","v":""},{"$f":"IF(P_19号4様式1!V112<> \"\",IF(P_19号4様式1!V112<> \"-\",TEXT(INT(P_19号4様式1!V112),\"#,##0\"),\"-\"),\"\")","v":""},{"$f":"IF(P_19号4様式1!V112<> \"\",IF(P_19号4様式1!V112<> \"-\",IF(VALUE(FIXED(P_19号4様式1!V112,0,TRUE))<>P_19号4様式1!V112,RIGHT(FIXED(P_19号4様式1!V112,3,FALSE),4),\"\"),\"\"),\"\")","v":""}]
[{"$f":"IF(P_19号4様式1!E113=\"\",\"\",P_19号4様式1!E113)","v":""},{"$f":"IF(P_19号4様式1!F113=\"\",\"\",P_19号4様式1!F113)","v":""},{"$f":"IF(P_19号4様式1!G113<> \"\",IF(P_19号4様式1!G113<> \"-\",TEXT(INT(P_19号4様式1!G113),\"#,##0\"),\"-\"),\"\")","v":""},{"$f":"IF(P_19号4様式1!G113<> \"\",IF(P_19号4様式1!G113<> \"-\",IF(VALUE(FIXED(P_19号4様式1!G113,0,TRUE))<>P_19号4様式1!G113,RIGHT(FIXED(P_19号4様式1!G113,3,FALSE),4),\"\"),\"\"),\"\")","v":""},null,{"$f":"IF(P_19号4様式1!J113=\"\",\"\",P_19号4様式1!J113)","v":""},{"$f":"IF(P_19号4様式1!K113=\"\",\"\",P_19号4様式1!K113)","v":""},{"$f":"IF(P_19号4様式1!L113<> \"\",IF(P_19号4様式1!L113<> \"-\",TEXT(INT(P_19号4様式1!L113),\"#,##0\"),\"-\"),\"\")","v":""},{"$f":"IF(P_19号4様式1!L113<> \"\",IF(P_19号4様式1!L113<> \"-\",IF(VALUE(FIXED(P_19号4様式1!L113,0,TRUE))<>P_19号4様式1!L113,RIGHT(FIXED(P_19号4様式1!L113,3,FALSE),4),\"\"),\"\"),\"\")","v":""},null,{"$f":"IF(P_19号4様式1!O113=\"\",\"\",P_19号4様式1!O113)","v":""},{"$f":"IF(P_19号4様式1!P113=\"\",\"\",P_19号4様式1!P113)","v":""},{"$f":"IF(P_19号4様式1!Q113<> \"\",IF(P_19号4様式1!Q113<> \"-\",TEXT(INT(P_19号4様式1!Q113),\"#,##0\"),\"-\"),\"\")","v":""},{"$f":"IF(P_19号4様式1!Q113<> \"\",IF(P_19号4様式1!Q113<> \"-\",IF(VALUE(FIXED(P_19号4様式1!Q113,0,TRUE))<>P_19号4様式1!Q113,RIGHT(FIXED(P_19号4様式1!Q113,3,FALSE),4),\"\"),\"\"),\"\")","v":""},null,{"$f":"IF(P_19号4様式1!T113=\"\",\"\",P_19号4様式1!T113)","v":""},{"$f":"IF(P_19号4様式1!U113=\"\",\"\",P_19号4様式1!U113)","v":""},{"$f":"IF(P_19号4様式1!V113<> \"\",IF(P_19号4様式1!V113<> \"-\",TEXT(INT(P_19号4様式1!V113),\"#,##0\"),\"-\"),\"\")","v":""},{"$f":"IF(P_19号4様式1!V113<> \"\",IF(P_19号4様式1!V113<> \"-\",IF(VALUE(FIXED(P_19号4様式1!V113,0,TRUE))<>P_19号4様式1!V113,RIGHT(FIXED(P_19号4様式1!V113,3,FALSE),4),\"\"),\"\"),\"\")","v":""}]
[{"$f":"IF(P_19号4様式1!E114=\"\",\"\",P_19号4様式1!E114)","v":""},{"$f":"IF(P_19号4様式1!F114=\"\",\"\",P_19号4様式1!F114)","v":""},{"$f":"IF(P_19号4様式1!G114<> \"\",IF(P_19号4様式1!G114<> \"-\",TEXT(INT(P_19号4様式1!G114),\"#,##0\"),\"-\"),\"\")","v":""},{"$f":"IF(P_19号4様式1!G114<> \"\",IF(P_19号4様式1!G114<> \"-\",IF(VALUE(FIXED(P_19号4様式1!G114,0,TRUE))<>P_19号4様式1!G114,RIGHT(FIXED(P_19号4様式1!G114,3,FALSE),4),\"\"),\"\"),\"\")","v":""},null,{"$f":"IF(P_19号4様式1!J114=\"\",\"\",P_19号4様式1!J114)","v":""},{"$f":"IF(P_19号4様式1!K114=\"\",\"\",P_19号4様式1!K114)","v":""},{"$f":"IF(P_19号4様式1!L114<> \"\",IF(P_19号4様式1!L114<> \"-\",TEXT(INT(P_19号4様式1!L114),\"#,##0\"),\"-\"),\"\")","v":""},{"$f":"IF(P_19号4様式1!L114<> \"\",IF(P_19号4様式1!L114<> \"-\",IF(VALUE(FIXED(P_19号4様式1!L114,0,TRUE))<>P_19号4様式1!L114,RIGHT(FIXED(P_19号4様式1!L114,3,FALSE),4),\"\"),\"\"),\"\")","v":""},null,{"$f":"IF(P_19号4様式1!O114=\"\",\"\",P_19号4様式1!O114)","v":""},{"$f":"IF(P_19号4様式1!P114=\"\",\"\",P_19号4様式1!P114)","v":""},{"$f":"IF(P_19号4様式1!Q114<> \"\",IF(P_19号4様式1!Q114<> \"-\",TEXT(INT(P_19号4様式1!Q114),\"#,##0\"),\"-\"),\"\")","v":""},{"$f":"IF(P_19号4様式1!Q114<> \"\",IF(P_19号4様式1!Q114<> \"-\",IF(VALUE(FIXED(P_19号4様式1!Q114,0,TRUE))<>P_19号4様式1!Q114,RIGHT(FIXED(P_19号4様式1!Q114,3,FALSE),4),\"\"),\"\"),\"\")","v":""},null,{"$f":"IF(P_19号4様式1!T114=\"\",\"\",P_19号4様式1!T114)","v":""},{"$f":"IF(P_19号4様式1!U114=\"\",\"\",P_19号4様式1!U114)","v":""},{"$f":"IF(P_19号4様式1!V114<> \"\",IF(P_19号4様式1!V114<> \"-\",TEXT(INT(P_19号4様式1!V114),\"#,##0\"),\"-\"),\"\")","v":""},{"$f":"IF(P_19号4様式1!V114<> \"\",IF(P_19号4様式1!V114<> \"-\",IF(VALUE(FIXED(P_19号4様式1!V114,0,TRUE))<>P_19号4様式1!V114,RIGHT(FIXED(P_19号4様式1!V114,3,FALSE),4),\"\"),\"\"),\"\")","v":""}]
[{"$f":"IF(P_19号4様式1!E115=\"\",\"\",P_19号4様式1!E115)","v":""},{"$f":"IF(P_19号4様式1!F115=\"\",\"\",P_19号4様式1!F115)","v":""},{"$f":"IF(P_19号4様式1!G115<> \"\",IF(P_19号4様式1!G115<> \"-\",TEXT(INT(P_19号4様式1!G115),\"#,##0\"),\"-\"),\"\")","v":""},{"$f":"IF(P_19号4様式1!G115<> \"\",IF(P_19号4様式1!G115<> \"-\",IF(VALUE(FIXED(P_19号4様式1!G115,0,TRUE))<>P_19号4様式1!G115,RIGHT(FIXED(P_19号4様式1!G115,3,FALSE),4),\"\"),\"\"),\"\")","v":""},null,{"$f":"IF(P_19号4様式1!J115=\"\",\"\",P_19号4様式1!J115)","v":""},{"$f":"IF(P_19号4様式1!K115=\"\",\"\",P_19号4様式1!K115)","v":""},{"$f":"IF(P_19号4様式1!L115<> \"\",IF(P_19号4様式1!L115<> \"-\",TEXT(INT(P_19号4様式1!L115),\"#,##0\"),\"-\"),\"\")","v":""},{"$f":"IF(P_19号4様式1!L115<> \"\",IF(P_19号4様式1!L115<> \"-\",IF(VALUE(FIXED(P_19号4様式1!L115,0,TRUE))<>P_19号4様式1!L115,RIGHT(FIXED(P_19号4様式1!L115,3,FALSE),4),\"\"),\"\"),\"\")","v":""},null,{"$f":"IF(P_19号4様式1!O115=\"\",\"\",P_19号4様式1!O115)","v":""},{"$f":"IF(P_19号4様式1!P115=\"\",\"\",P_19号4様式1!P115)","v":""},{"$f":"IF(P_19号4様式1!Q115<> \"\",IF(P_19号4様式1!Q115<> \"-\",TEXT(INT(P_19号4様式1!Q115),\"#,##0\"),\"-\"),\"\")","v":""},{"$f":"IF(P_19号4様式1!Q115<> \"\",IF(P_19号4様式1!Q115<> \"-\",IF(VALUE(FIXED(P_19号4様式1!Q115,0,TRUE))<>P_19号4様式1!Q115,RIGHT(FIXED(P_19号4様式1!Q115,3,FALSE),4),\"\"),\"\"),\"\")","v":""},null,{"$f":"IF(P_19号4様式1!T115=\"\",\"\",P_19号4様式1!T115)","v":""},{"$f":"IF(P_19号4様式1!U115=\"\",\"\",P_19号4様式1!U115)","v":""},{"$f":"IF(P_19号4様式1!V115<> \"\",IF(P_19号4様式1!V115<> \"-\",TEXT(INT(P_19号4様式1!V115),\"#,##0\"),\"-\"),\"\")","v":""},{"$f":"IF(P_19号4様式1!V115<> \"\",IF(P_19号4様式1!V115<> \"-\",IF(VALUE(FIXED(P_19号4様式1!V115,0,TRUE))<>P_19号4様式1!V115,RIGHT(FIXED(P_19号4様式1!V115,3,FALSE),4),\"\"),\"\"),\"\")","v":""}]
[{"$f":"IF(P_19号4様式1!E116=\"\",\"\",P_19号4様式1!E116)","v":""},{"$f":"IF(P_19号4様式1!F116=\"\",\"\",P_19号4様式1!F116)","v":""},{"$f":"IF(P_19号4様式1!G116<> \"\",IF(P_19号4様式1!G116<> \"-\",TEXT(INT(P_19号4様式1!G116),\"#,##0\"),\"-\"),\"\")","v":""},{"$f":"IF(P_19号4様式1!G116<> \"\",IF(P_19号4様式1!G116<> \"-\",IF(VALUE(FIXED(P_19号4様式1!G116,0,TRUE))<>P_19号4様式1!G116,RIGHT(FIXED(P_19号4様式1!G116,3,FALSE),4),\"\"),\"\"),\"\")","v":""},null,{"$f":"IF(P_19号4様式1!J116=\"\",\"\",P_19号4様式1!J116)","v":""},{"$f":"IF(P_19号4様式1!K116=\"\",\"\",P_19号4様式1!K116)","v":""},{"$f":"IF(P_19号4様式1!L116<> \"\",IF(P_19号4様式1!L116<> \"-\",TEXT(INT(P_19号4様式1!L116),\"#,##0\"),\"-\"),\"\")","v":""},{"$f":"IF(P_19号4様式1!L116<> \"\",IF(P_19号4様式1!L116<> \"-\",IF(VALUE(FIXED(P_19号4様式1!L116,0,TRUE))<>P_19号4様式1!L116,RIGHT(FIXED(P_19号4様式1!L116,3,FALSE),4),\"\"),\"\"),\"\")","v":""},null,{"$f":"IF(P_19号4様式1!O116=\"\",\"\",P_19号4様式1!O116)","v":""},{"$f":"IF(P_19号4様式1!P116=\"\",\"\",P_19号4様式1!P116)","v":""},{"$f":"IF(P_19号4様式1!Q116<> \"\",IF(P_19号4様式1!Q116<> \"-\",TEXT(INT(P_19号4様式1!Q116),\"#,##0\"),\"-\"),\"\")","v":""},{"$f":"IF(P_19号4様式1!Q116<> \"\",IF(P_19号4様式1!Q116<> \"-\",IF(VALUE(FIXED(P_19号4様式1!Q116,0,TRUE))<>P_19号4様式1!Q116,RIGHT(FIXED(P_19号4様式1!Q116,3,FALSE),4),\"\"),\"\"),\"\")","v":""},null,{"$f":"IF(P_19号4様式1!T116=\"\",\"\",P_19号4様式1!T116)","v":""},{"$f":"IF(P_19号4様式1!U116=\"\",\"\",P_19号4様式1!U116)","v":""},{"$f":"IF(P_19号4様式1!V116<> \"\",IF(P_19号4様式1!V116<> \"-\",TEXT(INT(P_19号4様式1!V116),\"#,##0\"),\"-\"),\"\")","v":""},{"$f":"IF(P_19号4様式1!V116<> \"\",IF(P_19号4様式1!V116<> \"-\",IF(VALUE(FIXED(P_19号4様式1!V116,0,TRUE))<>P_19号4様式1!V116,RIGHT(FIXED(P_19号4様式1!V116,3,FALSE),4),\"\"),\"\"),\"\")","v":""}]
[{"$f":"IF(P_19号4様式1!E117=\"\",\"\",P_19号4様式1!E117)","v":""},{"$f":"IF(P_19号4様式1!F117=\"\",\"\",P_19号4様式1!F117)","v":""},{"$f":"IF(P_19号4様式1!G117<> \"\",IF(P_19号4様式1!G117<> \"-\",TEXT(INT(P_19号4様式1!G117),\"#,##0\"),\"-\"),\"\")","v":""},{"$f":"IF(P_19号4様式1!G117<> \"\",IF(P_19号4様式1!G117<> \"-\",IF(VALUE(FIXED(P_19号4様式1!G117,0,TRUE))<>P_19号4様式1!G117,RIGHT(FIXED(P_19号4様式1!G117,3,FALSE),4),\"\"),\"\"),\"\")","v":""},null,{"$f":"IF(P_19号4様式1!J117=\"\",\"\",P_19号4様式1!J117)","v":""},{"$f":"IF(P_19号4様式1!K117=\"\",\"\",P_19号4様式1!K117)","v":""},{"$f":"IF(P_19号4様式1!L117<> \"\",IF(P_19号4様式1!L117<> \"-\",TEXT(INT(P_19号4様式1!L117),\"#,##0\"),\"-\"),\"\")","v":""},{"$f":"IF(P_19号4様式1!L117<> \"\",IF(P_19号4様式1!L117<> \"-\",IF(VALUE(FIXED(P_19号4様式1!L117,0,TRUE))<>P_19号4様式1!L117,RIGHT(FIXED(P_19号4様式1!L117,3,FALSE),4),\"\"),\"\"),\"\")","v":""},null,{"$f":"IF(P_19号4様式1!O117=\"\",\"\",P_19号4様式1!O117)","v":""},{"$f":"IF(P_19号4様式1!P117=\"\",\"\",P_19号4様式1!P117)","v":""},{"$f":"IF(P_19号4様式1!Q117<> \"\",IF(P_19号4様式1!Q117<> \"-\",TEXT(INT(P_19号4様式1!Q117),\"#,##0\"),\"-\"),\"\")","v":""},{"$f":"IF(P_19号4様式1!Q117<> \"\",IF(P_19号4様式1!Q117<> \"-\",IF(VALUE(FIXED(P_19号4様式1!Q117,0,TRUE))<>P_19号4様式1!Q117,RIGHT(FIXED(P_19号4様式1!Q117,3,FALSE),4),\"\"),\"\"),\"\")","v":""},null,{"$f":"IF(P_19号4様式1!T117=\"\",\"\",P_19号4様式1!T117)","v":""},{"$f":"IF(P_19号4様式1!U117=\"\",\"\",P_19号4様式1!U117)","v":""},{"$f":"IF(P_19号4様式1!V117<> \"\",IF(P_19号4様式1!V117<> \"-\",TEXT(INT(P_19号4様式1!V117),\"#,##0\"),\"-\"),\"\")","v":""},{"$f":"IF(P_19号4様式1!V117<> \"\",IF(P_19号4様式1!V117<> \"-\",IF(VALUE(FIXED(P_19号4様式1!V117,0,TRUE))<>P_19号4様式1!V117,RIGHT(FIXED(P_19号4様式1!V117,3,FALSE),4),\"\"),\"\"),\"\")","v":""}]
[{"$f":"IF(P_19号4様式1!E118=\"\",\"\",P_19号4様式1!E118)","v":""},{"$f":"IF(P_19号4様式1!F118=\"\",\"\",P_19号4様式1!F118)","v":""},{"$f":"IF(P_19号4様式1!G118<> \"\",IF(P_19号4様式1!G118<> \"-\",TEXT(INT(P_19号4様式1!G118),\"#,##0\"),\"-\"),\"\")","v":""},{"$f":"IF(P_19号4様式1!G118<> \"\",IF(P_19号4様式1!G118<> \"-\",IF(VALUE(FIXED(P_19号4様式1!G118,0,TRUE))<>P_19号4様式1!G118,RIGHT(FIXED(P_19号4様式1!G118,3,FALSE),4),\"\"),\"\"),\"\")","v":""},null,{"$f":"IF(P_19号4様式1!J118=\"\",\"\",P_19号4様式1!J118)","v":""},{"$f":"IF(P_19号4様式1!K118=\"\",\"\",P_19号4様式1!K118)","v":""},{"$f":"IF(P_19号4様式1!L118<> \"\",IF(P_19号4様式1!L118<> \"-\",TEXT(INT(P_19号4様式1!L118),\"#,##0\"),\"-\"),\"\")","v":""},{"$f":"IF(P_19号4様式1!L118<> \"\",IF(P_19号4様式1!L118<> \"-\",IF(VALUE(FIXED(P_19号4様式1!L118,0,TRUE))<>P_19号4様式1!L118,RIGHT(FIXED(P_19号4様式1!L118,3,FALSE),4),\"\"),\"\"),\"\")","v":""},null,{"$f":"IF(P_19号4様式1!O118=\"\",\"\",P_19号4様式1!O118)","v":""},{"$f":"IF(P_19号4様式1!P118=\"\",\"\",P_19号4様式1!P118)","v":""},{"$f":"IF(P_19号4様式1!Q118<> \"\",IF(P_19号4様式1!Q118<> \"-\",TEXT(INT(P_19号4様式1!Q118),\"#,##0\"),\"-\"),\"\")","v":""},{"$f":"IF(P_19号4様式1!Q118<> \"\",IF(P_19号4様式1!Q118<> \"-\",IF(VALUE(FIXED(P_19号4様式1!Q118,0,TRUE))<>P_19号4様式1!Q118,RIGHT(FIXED(P_19号4様式1!Q118,3,FALSE),4),\"\"),\"\"),\"\")","v":""},null,{"$f":"IF(P_19号4様式1!T118=\"\",\"\",P_19号4様式1!T118)","v":""},{"$f":"IF(P_19号4様式1!U118=\"\",\"\",P_19号4様式1!U118)","v":""},{"$f":"IF(P_19号4様式1!V118<> \"\",IF(P_19号4様式1!V118<> \"-\",TEXT(INT(P_19号4様式1!V118),\"#,##0\"),\"-\"),\"\")","v":""},{"$f":"IF(P_19号4様式1!V118<> \"\",IF(P_19号4様式1!V118<> \"-\",IF(VALUE(FIXED(P_19号4様式1!V118,0,TRUE))<>P_19号4様式1!V118,RIGHT(FIXED(P_19号4様式1!V118,3,FALSE),4),\"\"),\"\"),\"\")","v":""}]
[{"$f":"IF(P_19号4様式1!E119=\"\",\"\",P_19号4様式1!E119)","v":""},{"$f":"IF(P_19号4様式1!F119=\"\",\"\",P_19号4様式1!F119)","v":""},{"$f":"IF(P_19号4様式1!G119<> \"\",IF(P_19号4様式1!G119<> \"-\",TEXT(INT(P_19号4様式1!G119),\"#,##0\"),\"-\"),\"\")","v":""},{"$f":"IF(P_19号4様式1!G119<> \"\",IF(P_19号4様式1!G119<> \"-\",IF(VALUE(FIXED(P_19号4様式1!G119,0,TRUE))<>P_19号4様式1!G119,RIGHT(FIXED(P_19号4様式1!G119,3,FALSE),4),\"\"),\"\"),\"\")","v":""},null,{"$f":"IF(P_19号4様式1!J119=\"\",\"\",P_19号4様式1!J119)","v":""},{"$f":"IF(P_19号4様式1!K119=\"\",\"\",P_19号4様式1!K119)","v":""},{"$f":"IF(P_19号4様式1!L119<> \"\",IF(P_19号4様式1!L119<> \"-\",TEXT(INT(P_19号4様式1!L119),\"#,##0\"),\"-\"),\"\")","v":""},{"$f":"IF(P_19号4様式1!L119<> \"\",IF(P_19号4様式1!L119<> \"-\",IF(VALUE(FIXED(P_19号4様式1!L119,0,TRUE))<>P_19号4様式1!L119,RIGHT(FIXED(P_19号4様式1!L119,3,FALSE),4),\"\"),\"\"),\"\")","v":""},null,{"$f":"IF(P_19号4様式1!O119=\"\",\"\",P_19号4様式1!O119)","v":""},{"$f":"IF(P_19号4様式1!P119=\"\",\"\",P_19号4様式1!P119)","v":""},{"$f":"IF(P_19号4様式1!Q119<> \"\",IF(P_19号4様式1!Q119<> \"-\",TEXT(INT(P_19号4様式1!Q119),\"#,##0\"),\"-\"),\"\")","v":""},{"$f":"IF(P_19号4様式1!Q119<> \"\",IF(P_19号4様式1!Q119<> \"-\",IF(VALUE(FIXED(P_19号4様式1!Q119,0,TRUE))<>P_19号4様式1!Q119,RIGHT(FIXED(P_19号4様式1!Q119,3,FALSE),4),\"\"),\"\"),\"\")","v":""},null,{"$f":"IF(P_19号4様式1!T119=\"\",\"\",P_19号4様式1!T119)","v":""},{"$f":"IF(P_19号4様式1!U119=\"\",\"\",P_19号4様式1!U119)","v":""},{"$f":"IF(P_19号4様式1!V119<> \"\",IF(P_19号4様式1!V119<> \"-\",TEXT(INT(P_19号4様式1!V119),\"#,##0\"),\"-\"),\"\")","v":""},{"$f":"IF(P_19号4様式1!V119<> \"\",IF(P_19号4様式1!V119<> \"-\",IF(VALUE(FIXED(P_19号4様式1!V119,0,TRUE))<>P_19号4様式1!V119,RIGHT(FIXED(P_19号4様式1!V119,3,FALSE),4),\"\"),\"\"),\"\")","v":""}]
[{"$f":"IF(P_19号4様式1!E120=\"\",\"\",P_19号4様式1!E120)","v":""},{"$f":"IF(P_19号4様式1!F120=\"\",\"\",P_19号4様式1!F120)","v":""},{"$f":"IF(P_19号4様式1!G120<> \"\",IF(P_19号4様式1!G120<> \"-\",TEXT(INT(P_19号4様式1!G120),\"#,##0\"),\"-\"),\"\")","v":""},{"$f":"IF(P_19号4様式1!G120<> \"\",IF(P_19号4様式1!G120<> \"-\",IF(VALUE(FIXED(P_19号4様式1!G120,0,TRUE))<>P_19号4様式1!G120,RIGHT(FIXED(P_19号4様式1!G120,3,FALSE),4),\"\"),\"\"),\"\")","v":""},null,{"$f":"IF(P_19号4様式1!J120=\"\",\"\",P_19号4様式1!J120)","v":""},{"$f":"IF(P_19号4様式1!K120=\"\",\"\",P_19号4様式1!K120)","v":""},{"$f":"IF(P_19号4様式1!L120<> \"\",IF(P_19号4様式1!L120<> \"-\",TEXT(INT(P_19号4様式1!L120),\"#,##0\"),\"-\"),\"\")","v":""},{"$f":"IF(P_19号4様式1!L120<> \"\",IF(P_19号4様式1!L120<> \"-\",IF(VALUE(FIXED(P_19号4様式1!L120,0,TRUE))<>P_19号4様式1!L120,RIGHT(FIXED(P_19号4様式1!L120,3,FALSE),4),\"\"),\"\"),\"\")","v":""},null,{"$f":"IF(P_19号4様式1!O120=\"\",\"\",P_19号4様式1!O120)","v":""},{"$f":"IF(P_19号4様式1!P120=\"\",\"\",P_19号4様式1!P120)","v":""},{"$f":"IF(P_19号4様式1!Q120<> \"\",IF(P_19号4様式1!Q120<> \"-\",TEXT(INT(P_19号4様式1!Q120),\"#,##0\"),\"-\"),\"\")","v":""},{"$f":"IF(P_19号4様式1!Q120<> \"\",IF(P_19号4様式1!Q120<> \"-\",IF(VALUE(FIXED(P_19号4様式1!Q120,0,TRUE))<>P_19号4様式1!Q120,RIGHT(FIXED(P_19号4様式1!Q120,3,FALSE),4),\"\"),\"\"),\"\")","v":""},null,{"$f":"IF(P_19号4様式1!T120=\"\",\"\",P_19号4様式1!T120)","v":""},{"$f":"IF(P_19号4様式1!U120=\"\",\"\",P_19号4様式1!U120)","v":""},{"$f":"IF(P_19号4様式1!V120<> \"\",IF(P_19号4様式1!V120<> \"-\",TEXT(INT(P_19号4様式1!V120),\"#,##0\"),\"-\"),\"\")","v":""},{"$f":"IF(P_19号4様式1!V120<> \"\",IF(P_19号4様式1!V120<> \"-\",IF(VALUE(FIXED(P_19号4様式1!V120,0,TRUE))<>P_19号4様式1!V120,RIGHT(FIXED(P_19号4様式1!V120,3,FALSE),4),\"\"),\"\"),\"\")","v":""}]
[{"$f":"IF(P_19号4様式1!E121=\"\",\"\",P_19号4様式1!E121)","v":""},{"$f":"IF(P_19号4様式1!F121=\"\",\"\",P_19号4様式1!F121)","v":""},{"$f":"IF(P_19号4様式1!G121<> \"\",IF(P_19号4様式1!G121<> \"-\",TEXT(INT(P_19号4様式1!G121),\"#,##0\"),\"-\"),\"\")","v":""},{"$f":"IF(P_19号4様式1!G121<> \"\",IF(P_19号4様式1!G121<> \"-\",IF(VALUE(FIXED(P_19号4様式1!G121,0,TRUE))<>P_19号4様式1!G121,RIGHT(FIXED(P_19号4様式1!G121,3,FALSE),4),\"\"),\"\"),\"\")","v":""},null,{"$f":"IF(P_19号4様式1!J121=\"\",\"\",P_19号4様式1!J121)","v":""},{"$f":"IF(P_19号4様式1!K121=\"\",\"\",P_19号4様式1!K121)","v":""},{"$f":"IF(P_19号4様式1!L121<> \"\",IF(P_19号4様式1!L121<> \"-\",TEXT(INT(P_19号4様式1!L121),\"#,##0\"),\"-\"),\"\")","v":""},{"$f":"IF(P_19号4様式1!L121<> \"\",IF(P_19号4様式1!L121<> \"-\",IF(VALUE(FIXED(P_19号4様式1!L121,0,TRUE))<>P_19号4様式1!L121,RIGHT(FIXED(P_19号4様式1!L121,3,FALSE),4),\"\"),\"\"),\"\")","v":""},null,{"$f":"IF(P_19号4様式1!O121=\"\",\"\",P_19号4様式1!O121)","v":""},{"$f":"IF(P_19号4様式1!P121=\"\",\"\",P_19号4様式1!P121)","v":""},{"$f":"IF(P_19号4様式1!Q121<> \"\",IF(P_19号4様式1!Q121<> \"-\",TEXT(INT(P_19号4様式1!Q121),\"#,##0\"),\"-\"),\"\")","v":""},{"$f":"IF(P_19号4様式1!Q121<> \"\",IF(P_19号4様式1!Q121<> \"-\",IF(VALUE(FIXED(P_19号4様式1!Q121,0,TRUE))<>P_19号4様式1!Q121,RIGHT(FIXED(P_19号4様式1!Q121,3,FALSE),4),\"\"),\"\"),\"\")","v":""},null,{"$f":"IF(P_19号4様式1!T121=\"\",\"\",P_19号4様式1!T121)","v":""},{"$f":"IF(P_19号4様式1!U121=\"\",\"\",P_19号4様式1!U121)","v":""},{"$f":"IF(P_19号4様式1!V121<> \"\",IF(P_19号4様式1!V121<> \"-\",TEXT(INT(P_19号4様式1!V121),\"#,##0\"),\"-\"),\"\")","v":""},{"$f":"IF(P_19号4様式1!V121<> \"\",IF(P_19号4様式1!V121<> \"-\",IF(VALUE(FIXED(P_19号4様式1!V121,0,TRUE))<>P_19号4様式1!V121,RIGHT(FIXED(P_19号4様式1!V121,3,FALSE),4),\"\"),\"\"),\"\")","v":""}]
[{"$f":"IF(P_19号4様式1!E122=\"\",\"\",P_19号4様式1!E122)","v":""},{"$f":"IF(P_19号4様式1!F122=\"\",\"\",P_19号4様式1!F122)","v":""},{"$f":"IF(P_19号4様式1!G122<> \"\",IF(P_19号4様式1!G122<> \"-\",TEXT(INT(P_19号4様式1!G122),\"#,##0\"),\"-\"),\"\")","v":""},{"$f":"IF(P_19号4様式1!G122<> \"\",IF(P_19号4様式1!G122<> \"-\",IF(VALUE(FIXED(P_19号4様式1!G122,0,TRUE))<>P_19号4様式1!G122,RIGHT(FIXED(P_19号4様式1!G122,3,FALSE),4),\"\"),\"\"),\"\")","v":""},null,{"$f":"IF(P_19号4様式1!J122=\"\",\"\",P_19号4様式1!J122)","v":""},{"$f":"IF(P_19号4様式1!K122=\"\",\"\",P_19号4様式1!K122)","v":""},{"$f":"IF(P_19号4様式1!L122<> \"\",IF(P_19号4様式1!L122<> \"-\",TEXT(INT(P_19号4様式1!L122),\"#,##0\"),\"-\"),\"\")","v":""},{"$f":"IF(P_19号4様式1!L122<> \"\",IF(P_19号4様式1!L122<> \"-\",IF(VALUE(FIXED(P_19号4様式1!L122,0,TRUE))<>P_19号4様式1!L122,RIGHT(FIXED(P_19号4様式1!L122,3,FALSE),4),\"\"),\"\"),\"\")","v":""},null,{"$f":"IF(P_19号4様式1!O122=\"\",\"\",P_19号4様式1!O122)","v":""},{"$f":"IF(P_19号4様式1!P122=\"\",\"\",P_19号4様式1!P122)","v":""},{"$f":"IF(P_19号4様式1!Q122<> \"\",IF(P_19号4様式1!Q122<> \"-\",TEXT(INT(P_19号4様式1!Q122),\"#,##0\"),\"-\"),\"\")","v":""},{"$f":"IF(P_19号4様式1!Q122<> \"\",IF(P_19号4様式1!Q122<> \"-\",IF(VALUE(FIXED(P_19号4様式1!Q122,0,TRUE))<>P_19号4様式1!Q122,RIGHT(FIXED(P_19号4様式1!Q122,3,FALSE),4),\"\"),\"\"),\"\")","v":""},null,{"$f":"IF(P_19号4様式1!T122=\"\",\"\",P_19号4様式1!T122)","v":""},{"$f":"IF(P_19号4様式1!U122=\"\",\"\",P_19号4様式1!U122)","v":""},{"$f":"IF(P_19号4様式1!V122<> \"\",IF(P_19号4様式1!V122<> \"-\",TEXT(INT(P_19号4様式1!V122),\"#,##0\"),\"-\"),\"\")","v":""},{"$f":"IF(P_19号4様式1!V122<> \"\",IF(P_19号4様式1!V122<> \"-\",IF(VALUE(FIXED(P_19号4様式1!V122,0,TRUE))<>P_19号4様式1!V122,RIGHT(FIXED(P_19号4様式1!V122,3,FALSE),4),\"\"),\"\"),\"\")","v":""}]
[{"$f":"IF(P_19号4様式1!E123=\"\",\"\",P_19号4様式1!E123)","v":""},{"$f":"IF(P_19号4様式1!F123=\"\",\"\",P_19号4様式1!F123)","v":""},{"$f":"IF(P_19号4様式1!G123<> \"\",IF(P_19号4様式1!G123<> \"-\",TEXT(INT(P_19号4様式1!G123),\"#,##0\"),\"-\"),\"\")","v":""},{"$f":"IF(P_19号4様式1!G123<> \"\",IF(P_19号4様式1!G123<> \"-\",IF(VALUE(FIXED(P_19号4様式1!G123,0,TRUE))<>P_19号4様式1!G123,RIGHT(FIXED(P_19号4様式1!G123,3,FALSE),4),\"\"),\"\"),\"\")","v":""},null,{"$f":"IF(P_19号4様式1!J123=\"\",\"\",P_19号4様式1!J123)","v":""},{"$f":"IF(P_19号4様式1!K123=\"\",\"\",P_19号4様式1!K123)","v":""},{"$f":"IF(P_19号4様式1!L123<> \"\",IF(P_19号4様式1!L123<> \"-\",TEXT(INT(P_19号4様式1!L123),\"#,##0\"),\"-\"),\"\")","v":""},{"$f":"IF(P_19号4様式1!L123<> \"\",IF(P_19号4様式1!L123<> \"-\",IF(VALUE(FIXED(P_19号4様式1!L123,0,TRUE))<>P_19号4様式1!L123,RIGHT(FIXED(P_19号4様式1!L123,3,FALSE),4),\"\"),\"\"),\"\")","v":""},null,{"$f":"IF(P_19号4様式1!O123=\"\",\"\",P_19号4様式1!O123)","v":""},{"$f":"IF(P_19号4様式1!P123=\"\",\"\",P_19号4様式1!P123)","v":""},{"$f":"IF(P_19号4様式1!Q123<> \"\",IF(P_19号4様式1!Q123<> \"-\",TEXT(INT(P_19号4様式1!Q123),\"#,##0\"),\"-\"),\"\")","v":""},{"$f":"IF(P_19号4様式1!Q123<> \"\",IF(P_19号4様式1!Q123<> \"-\",IF(VALUE(FIXED(P_19号4様式1!Q123,0,TRUE))<>P_19号4様式1!Q123,RIGHT(FIXED(P_19号4様式1!Q123,3,FALSE),4),\"\"),\"\"),\"\")","v":""},null,{"$f":"IF(P_19号4様式1!T123=\"\",\"\",P_19号4様式1!T123)","v":""},{"$f":"IF(P_19号4様式1!U123=\"\",\"\",P_19号4様式1!U123)","v":""},{"$f":"IF(P_19号4様式1!V123<> \"\",IF(P_19号4様式1!V123<> \"-\",TEXT(INT(P_19号4様式1!V123),\"#,##0\"),\"-\"),\"\")","v":""},{"$f":"IF(P_19号4様式1!V123<> \"\",IF(P_19号4様式1!V123<> \"-\",IF(VALUE(FIXED(P_19号4様式1!V123,0,TRUE))<>P_19号4様式1!V123,RIGHT(FIXED(P_19号4様式1!V123,3,FALSE),4),\"\"),\"\"),\"\")","v":""}]
[{"$f":"IF(P_19号4様式1!E124=\"\",\"\",P_19号4様式1!E124)","v":""},{"$f":"IF(P_19号4様式1!F124=\"\",\"\",P_19号4様式1!F124)","v":""},{"$f":"IF(P_19号4様式1!G124<> \"\",IF(P_19号4様式1!G124<> \"-\",TEXT(INT(P_19号4様式1!G124),\"#,##0\"),\"-\"),\"\")","v":""},{"$f":"IF(P_19号4様式1!G124<> \"\",IF(P_19号4様式1!G124<> \"-\",IF(VALUE(FIXED(P_19号4様式1!G124,0,TRUE))<>P_19号4様式1!G124,RIGHT(FIXED(P_19号4様式1!G124,3,FALSE),4),\"\"),\"\"),\"\")","v":""},null,{"$f":"IF(P_19号4様式1!J124=\"\",\"\",P_19号4様式1!J124)","v":""},{"$f":"IF(P_19号4様式1!K124=\"\",\"\",P_19号4様式1!K124)","v":""},{"$f":"IF(P_19号4様式1!L124<> \"\",IF(P_19号4様式1!L124<> \"-\",TEXT(INT(P_19号4様式1!L124),\"#,##0\"),\"-\"),\"\")","v":""},{"$f":"IF(P_19号4様式1!L124<> \"\",IF(P_19号4様式1!L124<> \"-\",IF(VALUE(FIXED(P_19号4様式1!L124,0,TRUE))<>P_19号4様式1!L124,RIGHT(FIXED(P_19号4様式1!L124,3,FALSE),4),\"\"),\"\"),\"\")","v":""},null,{"$f":"IF(P_19号4様式1!O124=\"\",\"\",P_19号4様式1!O124)","v":""},{"$f":"IF(P_19号4様式1!P124=\"\",\"\",P_19号4様式1!P124)","v":""},{"$f":"IF(P_19号4様式1!Q124<> \"\",IF(P_19号4様式1!Q124<> \"-\",TEXT(INT(P_19号4様式1!Q124),\"#,##0\"),\"-\"),\"\")","v":""},{"$f":"IF(P_19号4様式1!Q124<> \"\",IF(P_19号4様式1!Q124<> \"-\",IF(VALUE(FIXED(P_19号4様式1!Q124,0,TRUE))<>P_19号4様式1!Q124,RIGHT(FIXED(P_19号4様式1!Q124,3,FALSE),4),\"\"),\"\"),\"\")","v":""},null,{"$f":"IF(P_19号4様式1!T124=\"\",\"\",P_19号4様式1!T124)","v":""},{"$f":"IF(P_19号4様式1!U124=\"\",\"\",P_19号4様式1!U124)","v":""},{"$f":"IF(P_19号4様式1!V124<> \"\",IF(P_19号4様式1!V124<> \"-\",TEXT(INT(P_19号4様式1!V124),\"#,##0\"),\"-\"),\"\")","v":""},{"$f":"IF(P_19号4様式1!V124<> \"\",IF(P_19号4様式1!V124<> \"-\",IF(VALUE(FIXED(P_19号4様式1!V124,0,TRUE))<>P_19号4様式1!V124,RIGHT(FIXED(P_19号4様式1!V124,3,FALSE),4),\"\"),\"\"),\"\")","v":""}]
[{"$f":"IF(P_19号4様式1!E125=\"\",\"\",P_19号4様式1!E125)","v":""},{"$f":"IF(P_19号4様式1!F125=\"\",\"\",P_19号4様式1!F125)","v":""},{"$f":"IF(P_19号4様式1!G125<> \"\",IF(P_19号4様式1!G125<> \"-\",TEXT(INT(P_19号4様式1!G125),\"#,##0\"),\"-\"),\"\")","v":""},{"$f":"IF(P_19号4様式1!G125<> \"\",IF(P_19号4様式1!G125<> \"-\",IF(VALUE(FIXED(P_19号4様式1!G125,0,TRUE))<>P_19号4様式1!G125,RIGHT(FIXED(P_19号4様式1!G125,3,FALSE),4),\"\"),\"\"),\"\")","v":""},null,{"$f":"IF(P_19号4様式1!J125=\"\",\"\",P_19号4様式1!J125)","v":""},{"$f":"IF(P_19号4様式1!K125=\"\",\"\",P_19号4様式1!K125)","v":""},{"$f":"IF(P_19号4様式1!L125<> \"\",IF(P_19号4様式1!L125<> \"-\",TEXT(INT(P_19号4様式1!L125),\"#,##0\"),\"-\"),\"\")","v":""},{"$f":"IF(P_19号4様式1!L125<> \"\",IF(P_19号4様式1!L125<> \"-\",IF(VALUE(FIXED(P_19号4様式1!L125,0,TRUE))<>P_19号4様式1!L125,RIGHT(FIXED(P_19号4様式1!L125,3,FALSE),4),\"\"),\"\"),\"\")","v":""},null,{"$f":"IF(P_19号4様式1!O125=\"\",\"\",P_19号4様式1!O125)","v":""},{"$f":"IF(P_19号4様式1!P125=\"\",\"\",P_19号4様式1!P125)","v":""},{"$f":"IF(P_19号4様式1!Q125<> \"\",IF(P_19号4様式1!Q125<> \"-\",TEXT(INT(P_19号4様式1!Q125),\"#,##0\"),\"-\"),\"\")","v":""},{"$f":"IF(P_19号4様式1!Q125<> \"\",IF(P_19号4様式1!Q125<> \"-\",IF(VALUE(FIXED(P_19号4様式1!Q125,0,TRUE))<>P_19号4様式1!Q125,RIGHT(FIXED(P_19号4様式1!Q125,3,FALSE),4),\"\"),\"\"),\"\")","v":""},null,{"$f":"IF(P_19号4様式1!T125=\"\",\"\",P_19号4様式1!T125)","v":""},{"$f":"IF(P_19号4様式1!U125=\"\",\"\",P_19号4様式1!U125)","v":""},{"$f":"IF(P_19号4様式1!V125<> \"\",IF(P_19号4様式1!V125<> \"-\",TEXT(INT(P_19号4様式1!V125),\"#,##0\"),\"-\"),\"\")","v":""},{"$f":"IF(P_19号4様式1!V125<> \"\",IF(P_19号4様式1!V125<> \"-\",IF(VALUE(FIXED(P_19号4様式1!V125,0,TRUE))<>P_19号4様式1!V125,RIGHT(FIXED(P_19号4様式1!V125,3,FALSE),4),\"\"),\"\"),\"\")","v":""}]
[{"$f":"IF(P_19号4様式1!E126=\"\",\"\",P_19号4様式1!E126)","v":""},{"$f":"IF(P_19号4様式1!F126=\"\",\"\",P_19号4様式1!F126)","v":""},{"$f":"IF(P_19号4様式1!G126<> \"\",IF(P_19号4様式1!G126<> \"-\",TEXT(INT(P_19号4様式1!G126),\"#,##0\"),\"-\"),\"\")","v":""},{"$f":"IF(P_19号4様式1!G126<> \"\",IF(P_19号4様式1!G126<> \"-\",IF(VALUE(FIXED(P_19号4様式1!G126,0,TRUE))<>P_19号4様式1!G126,RIGHT(FIXED(P_19号4様式1!G126,3,FALSE),4),\"\"),\"\"),\"\")","v":""},null,{"$f":"IF(P_19号4様式1!J126=\"\",\"\",P_19号4様式1!J126)","v":""},{"$f":"IF(P_19号4様式1!K126=\"\",\"\",P_19号4様式1!K126)","v":""},{"$f":"IF(P_19号4様式1!L126<> \"\",IF(P_19号4様式1!L126<> \"-\",TEXT(INT(P_19号4様式1!L126),\"#,##0\"),\"-\"),\"\")","v":""},{"$f":"IF(P_19号4様式1!L126<> \"\",IF(P_19号4様式1!L126<> \"-\",IF(VALUE(FIXED(P_19号4様式1!L126,0,TRUE))<>P_19号4様式1!L126,RIGHT(FIXED(P_19号4様式1!L126,3,FALSE),4),\"\"),\"\"),\"\")","v":""},null,{"$f":"IF(P_19号4様式1!O126=\"\",\"\",P_19号4様式1!O126)","v":""},{"$f":"IF(P_19号4様式1!P126=\"\",\"\",P_19号4様式1!P126)","v":""},{"$f":"IF(P_19号4様式1!Q126<> \"\",IF(P_19号4様式1!Q126<> \"-\",TEXT(INT(P_19号4様式1!Q126),\"#,##0\"),\"-\"),\"\")","v":""},{"$f":"IF(P_19号4様式1!Q126<> \"\",IF(P_19号4様式1!Q126<> \"-\",IF(VALUE(FIXED(P_19号4様式1!Q126,0,TRUE))<>P_19号4様式1!Q126,RIGHT(FIXED(P_19号4様式1!Q126,3,FALSE),4),\"\"),\"\"),\"\")","v":""},null,{"$f":"IF(P_19号4様式1!T126=\"\",\"\",P_19号4様式1!T126)","v":""},{"$f":"IF(P_19号4様式1!U126=\"\",\"\",P_19号4様式1!U126)","v":""},{"$f":"IF(P_19号4様式1!V126<> \"\",IF(P_19号4様式1!V126<> \"-\",TEXT(INT(P_19号4様式1!V126),\"#,##0\"),\"-\"),\"\")","v":""},{"$f":"IF(P_19号4様式1!V126<> \"\",IF(P_19号4様式1!V126<> \"-\",IF(VALUE(FIXED(P_19号4様式1!V126,0,TRUE))<>P_19号4様式1!V126,RIGHT(FIXED(P_19号4様式1!V126,3,FALSE),4),\"\"),\"\"),\"\")","v":""}]
[{"$f":"IF(P_19号4様式1!E127=\"\",\"\",P_19号4様式1!E127)","v":""},{"$f":"IF(P_19号4様式1!F127=\"\",\"\",P_19号4様式1!F127)","v":""},{"$f":"IF(P_19号4様式1!G127<> \"\",IF(P_19号4様式1!G127<> \"-\",TEXT(INT(P_19号4様式1!G127),\"#,##0\"),\"-\"),\"\")","v":""},{"$f":"IF(P_19号4様式1!G127<> \"\",IF(P_19号4様式1!G127<> \"-\",IF(VALUE(FIXED(P_19号4様式1!G127,0,TRUE))<>P_19号4様式1!G127,RIGHT(FIXED(P_19号4様式1!G127,3,FALSE),4),\"\"),\"\"),\"\")","v":""},null,{"$f":"IF(P_19号4様式1!J127=\"\",\"\",P_19号4様式1!J127)","v":""},{"$f":"IF(P_19号4様式1!K127=\"\",\"\",P_19号4様式1!K127)","v":""},{"$f":"IF(P_19号4様式1!L127<> \"\",IF(P_19号4様式1!L127<> \"-\",TEXT(INT(P_19号4様式1!L127),\"#,##0\"),\"-\"),\"\")","v":""},{"$f":"IF(P_19号4様式1!L127<> \"\",IF(P_19号4様式1!L127<> \"-\",IF(VALUE(FIXED(P_19号4様式1!L127,0,TRUE))<>P_19号4様式1!L127,RIGHT(FIXED(P_19号4様式1!L127,3,FALSE),4),\"\"),\"\"),\"\")","v":""},null,{"$f":"IF(P_19号4様式1!O127=\"\",\"\",P_19号4様式1!O127)","v":""},{"$f":"IF(P_19号4様式1!P127=\"\",\"\",P_19号4様式1!P127)","v":""},{"$f":"IF(P_19号4様式1!Q127<> \"\",IF(P_19号4様式1!Q127<> \"-\",TEXT(INT(P_19号4様式1!Q127),\"#,##0\"),\"-\"),\"\")","v":""},{"$f":"IF(P_19号4様式1!Q127<> \"\",IF(P_19号4様式1!Q127<> \"-\",IF(VALUE(FIXED(P_19号4様式1!Q127,0,TRUE))<>P_19号4様式1!Q127,RIGHT(FIXED(P_19号4様式1!Q127,3,FALSE),4),\"\"),\"\"),\"\")","v":""},null,{"$f":"IF(P_19号4様式1!T127=\"\",\"\",P_19号4様式1!T127)","v":""},{"$f":"IF(P_19号4様式1!U127=\"\",\"\",P_19号4様式1!U127)","v":""},{"$f":"IF(P_19号4様式1!V127<> \"\",IF(P_19号4様式1!V127<> \"-\",TEXT(INT(P_19号4様式1!V127),\"#,##0\"),\"-\"),\"\")","v":""},{"$f":"IF(P_19号4様式1!V127<> \"\",IF(P_19号4様式1!V127<> \"-\",IF(VALUE(FIXED(P_19号4様式1!V127,0,TRUE))<>P_19号4様式1!V127,RIGHT(FIXED(P_19号4様式1!V127,3,FALSE),4),\"\"),\"\"),\"\")","v":""}]
[{"$f":"IF(P_19号4様式1!E128=\"\",\"\",P_19号4様式1!E128)","v":""},{"$f":"IF(P_19号4様式1!F128=\"\",\"\",P_19号4様式1!F128)","v":""},{"$f":"IF(P_19号4様式1!G128<> \"\",IF(P_19号4様式1!G128<> \"-\",TEXT(INT(P_19号4様式1!G128),\"#,##0\"),\"-\"),\"\")","v":""},{"$f":"IF(P_19号4様式1!G128<> \"\",IF(P_19号4様式1!G128<> \"-\",IF(VALUE(FIXED(P_19号4様式1!G128,0,TRUE))<>P_19号4様式1!G128,RIGHT(FIXED(P_19号4様式1!G128,3,FALSE),4),\"\"),\"\"),\"\")","v":""},null,{"$f":"IF(P_19号4様式1!J128=\"\",\"\",P_19号4様式1!J128)","v":""},{"$f":"IF(P_19号4様式1!K128=\"\",\"\",P_19号4様式1!K128)","v":""},{"$f":"IF(P_19号4様式1!L128<> \"\",IF(P_19号4様式1!L128<> \"-\",TEXT(INT(P_19号4様式1!L128),\"#,##0\"),\"-\"),\"\")","v":""},{"$f":"IF(P_19号4様式1!L128<> \"\",IF(P_19号4様式1!L128<> \"-\",IF(VALUE(FIXED(P_19号4様式1!L128,0,TRUE))<>P_19号4様式1!L128,RIGHT(FIXED(P_19号4様式1!L128,3,FALSE),4),\"\"),\"\"),\"\")","v":""},null,{"$f":"IF(P_19号4様式1!O128=\"\",\"\",P_19号4様式1!O128)","v":""},{"$f":"IF(P_19号4様式1!P128=\"\",\"\",P_19号4様式1!P128)","v":""},{"$f":"IF(P_19号4様式1!Q128<> \"\",IF(P_19号4様式1!Q128<> \"-\",TEXT(INT(P_19号4様式1!Q128),\"#,##0\"),\"-\"),\"\")","v":""},{"$f":"IF(P_19号4様式1!Q128<> \"\",IF(P_19号4様式1!Q128<> \"-\",IF(VALUE(FIXED(P_19号4様式1!Q128,0,TRUE))<>P_19号4様式1!Q128,RIGHT(FIXED(P_19号4様式1!Q128,3,FALSE),4),\"\"),\"\"),\"\")","v":""},null,{"$f":"IF(P_19号4様式1!T128=\"\",\"\",P_19号4様式1!T128)","v":""},{"$f":"IF(P_19号4様式1!U128=\"\",\"\",P_19号4様式1!U128)","v":""},{"$f":"IF(P_19号4様式1!V128<> \"\",IF(P_19号4様式1!V128<> \"-\",TEXT(INT(P_19号4様式1!V128),\"#,##0\"),\"-\"),\"\")","v":""},{"$f":"IF(P_19号4様式1!V128<> \"\",IF(P_19号4様式1!V128<> \"-\",IF(VALUE(FIXED(P_19号4様式1!V128,0,TRUE))<>P_19号4様式1!V128,RIGHT(FIXED(P_19号4様式1!V128,3,FALSE),4),\"\"),\"\"),\"\")","v":""}]
[{"$f":"IF(P_19号4様式1!E129=\"\",\"\",P_19号4様式1!E129)","v":""},{"$f":"IF(P_19号4様式1!F129=\"\",\"\",P_19号4様式1!F129)","v":""},{"$f":"IF(P_19号4様式1!G129<> \"\",IF(P_19号4様式1!G129<> \"-\",TEXT(INT(P_19号4様式1!G129),\"#,##0\"),\"-\"),\"\")","v":""},{"$f":"IF(P_19号4様式1!G129<> \"\",IF(P_19号4様式1!G129<> \"-\",IF(VALUE(FIXED(P_19号4様式1!G129,0,TRUE))<>P_19号4様式1!G129,RIGHT(FIXED(P_19号4様式1!G129,3,FALSE),4),\"\"),\"\"),\"\")","v":""},null,{"$f":"IF(P_19号4様式1!J129=\"\",\"\",P_19号4様式1!J129)","v":""},{"$f":"IF(P_19号4様式1!K129=\"\",\"\",P_19号4様式1!K129)","v":""},{"$f":"IF(P_19号4様式1!L129<> \"\",IF(P_19号4様式1!L129<> \"-\",TEXT(INT(P_19号4様式1!L129),\"#,##0\"),\"-\"),\"\")","v":""},{"$f":"IF(P_19号4様式1!L129<> \"\",IF(P_19号4様式1!L129<> \"-\",IF(VALUE(FIXED(P_19号4様式1!L129,0,TRUE))<>P_19号4様式1!L129,RIGHT(FIXED(P_19号4様式1!L129,3,FALSE),4),\"\"),\"\"),\"\")","v":""},null,{"$f":"IF(P_19号4様式1!O129=\"\",\"\",P_19号4様式1!O129)","v":""},{"$f":"IF(P_19号4様式1!P129=\"\",\"\",P_19号4様式1!P129)","v":""},{"$f":"IF(P_19号4様式1!Q129<> \"\",IF(P_19号4様式1!Q129<> \"-\",TEXT(INT(P_19号4様式1!Q129),\"#,##0\"),\"-\"),\"\")","v":""},{"$f":"IF(P_19号4様式1!Q129<> \"\",IF(P_19号4様式1!Q129<> \"-\",IF(VALUE(FIXED(P_19号4様式1!Q129,0,TRUE))<>P_19号4様式1!Q129,RIGHT(FIXED(P_19号4様式1!Q129,3,FALSE),4),\"\"),\"\"),\"\")","v":""},null,{"$f":"IF(P_19号4様式1!T129=\"\",\"\",P_19号4様式1!T129)","v":""},{"$f":"IF(P_19号4様式1!U129=\"\",\"\",P_19号4様式1!U129)","v":""},{"$f":"IF(P_19号4様式1!V129<> \"\",IF(P_19号4様式1!V129<> \"-\",TEXT(INT(P_19号4様式1!V129),\"#,##0\"),\"-\"),\"\")","v":""},{"$f":"IF(P_19号4様式1!V129<> \"\",IF(P_19号4様式1!V129<> \"-\",IF(VALUE(FIXED(P_19号4様式1!V129,0,TRUE))<>P_19号4様式1!V129,RIGHT(FIXED(P_19号4様式1!V129,3,FALSE),4),\"\"),\"\"),\"\")","v":""}]
[{"$f":"IF(P_19号4様式1!E130=\"\",\"\",P_19号4様式1!E130)","v":""},{"$f":"IF(P_19号4様式1!F130=\"\",\"\",P_19号4様式1!F130)","v":""},{"$f":"IF(P_19号4様式1!G130<> \"\",IF(P_19号4様式1!G130<> \"-\",TEXT(INT(P_19号4様式1!G130),\"#,##0\"),\"-\"),\"\")","v":""},{"$f":"IF(P_19号4様式1!G130<> \"\",IF(P_19号4様式1!G130<> \"-\",IF(VALUE(FIXED(P_19号4様式1!G130,0,TRUE))<>P_19号4様式1!G130,RIGHT(FIXED(P_19号4様式1!G130,3,FALSE),4),\"\"),\"\"),\"\")","v":""},null,{"$f":"IF(P_19号4様式1!J130=\"\",\"\",P_19号4様式1!J130)","v":""},{"$f":"IF(P_19号4様式1!K130=\"\",\"\",P_19号4様式1!K130)","v":""},{"$f":"IF(P_19号4様式1!L130<> \"\",IF(P_19号4様式1!L130<> \"-\",TEXT(INT(P_19号4様式1!L130),\"#,##0\"),\"-\"),\"\")","v":""},{"$f":"IF(P_19号4様式1!L130<> \"\",IF(P_19号4様式1!L130<> \"-\",IF(VALUE(FIXED(P_19号4様式1!L130,0,TRUE))<>P_19号4様式1!L130,RIGHT(FIXED(P_19号4様式1!L130,3,FALSE),4),\"\"),\"\"),\"\")","v":""},null,{"$f":"IF(P_19号4様式1!O130=\"\",\"\",P_19号4様式1!O130)","v":""},{"$f":"IF(P_19号4様式1!P130=\"\",\"\",P_19号4様式1!P130)","v":""},{"$f":"IF(P_19号4様式1!Q130<> \"\",IF(P_19号4様式1!Q130<> \"-\",TEXT(INT(P_19号4様式1!Q130),\"#,##0\"),\"-\"),\"\")","v":""},{"$f":"IF(P_19号4様式1!Q130<> \"\",IF(P_19号4様式1!Q130<> \"-\",IF(VALUE(FIXED(P_19号4様式1!Q130,0,TRUE))<>P_19号4様式1!Q130,RIGHT(FIXED(P_19号4様式1!Q130,3,FALSE),4),\"\"),\"\"),\"\")","v":""},null,{"$f":"IF(P_19号4様式1!T130=\"\",\"\",P_19号4様式1!T130)","v":""},{"$f":"IF(P_19号4様式1!U130=\"\",\"\",P_19号4様式1!U130)","v":""},{"$f":"IF(P_19号4様式1!V130<> \"\",IF(P_19号4様式1!V130<> \"-\",TEXT(INT(P_19号4様式1!V130),\"#,##0\"),\"-\"),\"\")","v":""},{"$f":"IF(P_19号4様式1!V130<> \"\",IF(P_19号4様式1!V130<> \"-\",IF(VALUE(FIXED(P_19号4様式1!V130,0,TRUE))<>P_19号4様式1!V130,RIGHT(FIXED(P_19号4様式1!V130,3,FALSE),4),\"\"),\"\"),\"\")","v":""}]
[{"$f":"IF(P_19号4様式1!E131=\"\",\"\",P_19号4様式1!E131)","v":""},{"$f":"IF(P_19号4様式1!F131=\"\",\"\",P_19号4様式1!F131)","v":""},{"$f":"IF(P_19号4様式1!G131<> \"\",IF(P_19号4様式1!G131<> \"-\",TEXT(INT(P_19号4様式1!G131),\"#,##0\"),\"-\"),\"\")","v":""},{"$f":"IF(P_19号4様式1!G131<> \"\",IF(P_19号4様式1!G131<> \"-\",IF(VALUE(FIXED(P_19号4様式1!G131,0,TRUE))<>P_19号4様式1!G131,RIGHT(FIXED(P_19号4様式1!G131,3,FALSE),4),\"\"),\"\"),\"\")","v":""},null,{"$f":"IF(P_19号4様式1!J131=\"\",\"\",P_19号4様式1!J131)","v":""},{"$f":"IF(P_19号4様式1!K131=\"\",\"\",P_19号4様式1!K131)","v":""},{"$f":"IF(P_19号4様式1!L131<> \"\",IF(P_19号4様式1!L131<> \"-\",TEXT(INT(P_19号4様式1!L131),\"#,##0\"),\"-\"),\"\")","v":""},{"$f":"IF(P_19号4様式1!L131<> \"\",IF(P_19号4様式1!L131<> \"-\",IF(VALUE(FIXED(P_19号4様式1!L131,0,TRUE))<>P_19号4様式1!L131,RIGHT(FIXED(P_19号4様式1!L131,3,FALSE),4),\"\"),\"\"),\"\")","v":""},null,{"$f":"IF(P_19号4様式1!O131=\"\",\"\",P_19号4様式1!O131)","v":""},{"$f":"IF(P_19号4様式1!P131=\"\",\"\",P_19号4様式1!P131)","v":""},{"$f":"IF(P_19号4様式1!Q131<> \"\",IF(P_19号4様式1!Q131<> \"-\",TEXT(INT(P_19号4様式1!Q131),\"#,##0\"),\"-\"),\"\")","v":""},{"$f":"IF(P_19号4様式1!Q131<> \"\",IF(P_19号4様式1!Q131<> \"-\",IF(VALUE(FIXED(P_19号4様式1!Q131,0,TRUE))<>P_19号4様式1!Q131,RIGHT(FIXED(P_19号4様式1!Q131,3,FALSE),4),\"\"),\"\"),\"\")","v":""},null,{"$f":"IF(P_19号4様式1!T131=\"\",\"\",P_19号4様式1!T131)","v":""},{"$f":"IF(P_19号4様式1!U131=\"\",\"\",P_19号4様式1!U131)","v":""},{"$f":"IF(P_19号4様式1!V131<> \"\",IF(P_19号4様式1!V131<> \"-\",TEXT(INT(P_19号4様式1!V131),\"#,##0\"),\"-\"),\"\")","v":""},{"$f":"IF(P_19号4様式1!V131<> \"\",IF(P_19号4様式1!V131<> \"-\",IF(VALUE(FIXED(P_19号4様式1!V131,0,TRUE))<>P_19号4様式1!V131,RIGHT(FIXED(P_19号4様式1!V131,3,FALSE),4),\"\"),\"\"),\"\")","v":""}]
[{"$f":"IF(P_19号4様式1!E132=\"\",\"\",P_19号4様式1!E132)","v":""},{"$f":"IF(P_19号4様式1!F132=\"\",\"\",P_19号4様式1!F132)","v":""},{"$f":"IF(P_19号4様式1!G132<> \"\",IF(P_19号4様式1!G132<> \"-\",TEXT(INT(P_19号4様式1!G132),\"#,##0\"),\"-\"),\"\")","v":""},{"$f":"IF(P_19号4様式1!G132<> \"\",IF(P_19号4様式1!G132<> \"-\",IF(VALUE(FIXED(P_19号4様式1!G132,0,TRUE))<>P_19号4様式1!G132,RIGHT(FIXED(P_19号4様式1!G132,3,FALSE),4),\"\"),\"\"),\"\")","v":""},null,{"$f":"IF(P_19号4様式1!J132=\"\",\"\",P_19号4様式1!J132)","v":""},{"$f":"IF(P_19号4様式1!K132=\"\",\"\",P_19号4様式1!K132)","v":""},{"$f":"IF(P_19号4様式1!L132<> \"\",IF(P_19号4様式1!L132<> \"-\",TEXT(INT(P_19号4様式1!L132),\"#,##0\"),\"-\"),\"\")","v":""},{"$f":"IF(P_19号4様式1!L132<> \"\",IF(P_19号4様式1!L132<> \"-\",IF(VALUE(FIXED(P_19号4様式1!L132,0,TRUE))<>P_19号4様式1!L132,RIGHT(FIXED(P_19号4様式1!L132,3,FALSE),4),\"\"),\"\"),\"\")","v":""},null,{"$f":"IF(P_19号4様式1!O132=\"\",\"\",P_19号4様式1!O132)","v":""},{"$f":"IF(P_19号4様式1!P132=\"\",\"\",P_19号4様式1!P132)","v":""},{"$f":"IF(P_19号4様式1!Q132<> \"\",IF(P_19号4様式1!Q132<> \"-\",TEXT(INT(P_19号4様式1!Q132),\"#,##0\"),\"-\"),\"\")","v":""},{"$f":"IF(P_19号4様式1!Q132<> \"\",IF(P_19号4様式1!Q132<> \"-\",IF(VALUE(FIXED(P_19号4様式1!Q132,0,TRUE))<>P_19号4様式1!Q132,RIGHT(FIXED(P_19号4様式1!Q132,3,FALSE),4),\"\"),\"\"),\"\")","v":""},null,{"$f":"IF(P_19号4様式1!T132=\"\",\"\",P_19号4様式1!T132)","v":""},{"$f":"IF(P_19号4様式1!U132=\"\",\"\",P_19号4様式1!U132)","v":""},{"$f":"IF(P_19号4様式1!V132<> \"\",IF(P_19号4様式1!V132<> \"-\",TEXT(INT(P_19号4様式1!V132),\"#,##0\"),\"-\"),\"\")","v":""},{"$f":"IF(P_19号4様式1!V132<> \"\",IF(P_19号4様式1!V132<> \"-\",IF(VALUE(FIXED(P_19号4様式1!V132,0,TRUE))<>P_19号4様式1!V132,RIGHT(FIXED(P_19号4様式1!V132,3,FALSE),4),\"\"),\"\"),\"\")","v":""}]
[{"$f":"IF(P_19号4様式1!E133=\"\",\"\",P_19号4様式1!E133)","v":""},{"$f":"IF(P_19号4様式1!F133=\"\",\"\",P_19号4様式1!F133)","v":""},{"$f":"IF(P_19号4様式1!G133<> \"\",IF(P_19号4様式1!G133<> \"-\",TEXT(INT(P_19号4様式1!G133),\"#,##0\"),\"-\"),\"\")","v":""},{"$f":"IF(P_19号4様式1!G133<> \"\",IF(P_19号4様式1!G133<> \"-\",IF(VALUE(FIXED(P_19号4様式1!G133,0,TRUE))<>P_19号4様式1!G133,RIGHT(FIXED(P_19号4様式1!G133,3,FALSE),4),\"\"),\"\"),\"\")","v":""},null,{"$f":"IF(P_19号4様式1!J133=\"\",\"\",P_19号4様式1!J133)","v":""},{"$f":"IF(P_19号4様式1!K133=\"\",\"\",P_19号4様式1!K133)","v":""},{"$f":"IF(P_19号4様式1!L133<> \"\",IF(P_19号4様式1!L133<> \"-\",TEXT(INT(P_19号4様式1!L133),\"#,##0\"),\"-\"),\"\")","v":""},{"$f":"IF(P_19号4様式1!L133<> \"\",IF(P_19号4様式1!L133<> \"-\",IF(VALUE(FIXED(P_19号4様式1!L133,0,TRUE))<>P_19号4様式1!L133,RIGHT(FIXED(P_19号4様式1!L133,3,FALSE),4),\"\"),\"\"),\"\")","v":""},null,{"$f":"IF(P_19号4様式1!O133=\"\",\"\",P_19号4様式1!O133)","v":""},{"$f":"IF(P_19号4様式1!P133=\"\",\"\",P_19号4様式1!P133)","v":""},{"$f":"IF(P_19号4様式1!Q133<> \"\",IF(P_19号4様式1!Q133<> \"-\",TEXT(INT(P_19号4様式1!Q133),\"#,##0\"),\"-\"),\"\")","v":""},{"$f":"IF(P_19号4様式1!Q133<> \"\",IF(P_19号4様式1!Q133<> \"-\",IF(VALUE(FIXED(P_19号4様式1!Q133,0,TRUE))<>P_19号4様式1!Q133,RIGHT(FIXED(P_19号4様式1!Q133,3,FALSE),4),\"\"),\"\"),\"\")","v":""},null,{"$f":"IF(P_19号4様式1!T133=\"\",\"\",P_19号4様式1!T133)","v":""},{"$f":"IF(P_19号4様式1!U133=\"\",\"\",P_19号4様式1!U133)","v":""},{"$f":"IF(P_19号4様式1!V133<> \"\",IF(P_19号4様式1!V133<> \"-\",TEXT(INT(P_19号4様式1!V133),\"#,##0\"),\"-\"),\"\")","v":""},{"$f":"IF(P_19号4様式1!V133<> \"\",IF(P_19号4様式1!V133<> \"-\",IF(VALUE(FIXED(P_19号4様式1!V133,0,TRUE))<>P_19号4様式1!V133,RIGHT(FIXED(P_19号4様式1!V133,3,FALSE),4),\"\"),\"\"),\"\")","v":""}]
[{"$f":"IF(P_19号4様式1!E134=\"\",\"\",P_19号4様式1!E134)","v":""},{"$f":"IF(P_19号4様式1!F134=\"\",\"\",P_19号4様式1!F134)","v":""},{"$f":"IF(P_19号4様式1!G134<> \"\",IF(P_19号4様式1!G134<> \"-\",TEXT(INT(P_19号4様式1!G134),\"#,##0\"),\"-\"),\"\")","v":""},{"$f":"IF(P_19号4様式1!G134<> \"\",IF(P_19号4様式1!G134<> \"-\",IF(VALUE(FIXED(P_19号4様式1!G134,0,TRUE))<>P_19号4様式1!G134,RIGHT(FIXED(P_19号4様式1!G134,3,FALSE),4),\"\"),\"\"),\"\")","v":""},null,{"$f":"IF(P_19号4様式1!J134=\"\",\"\",P_19号4様式1!J134)","v":""},{"$f":"IF(P_19号4様式1!K134=\"\",\"\",P_19号4様式1!K134)","v":""},{"$f":"IF(P_19号4様式1!L134<> \"\",IF(P_19号4様式1!L134<> \"-\",TEXT(INT(P_19号4様式1!L134),\"#,##0\"),\"-\"),\"\")","v":""},{"$f":"IF(P_19号4様式1!L134<> \"\",IF(P_19号4様式1!L134<> \"-\",IF(VALUE(FIXED(P_19号4様式1!L134,0,TRUE))<>P_19号4様式1!L134,RIGHT(FIXED(P_19号4様式1!L134,3,FALSE),4),\"\"),\"\"),\"\")","v":""},null,{"$f":"IF(P_19号4様式1!O134=\"\",\"\",P_19号4様式1!O134)","v":""},{"$f":"IF(P_19号4様式1!P134=\"\",\"\",P_19号4様式1!P134)","v":""},{"$f":"IF(P_19号4様式1!Q134<> \"\",IF(P_19号4様式1!Q134<> \"-\",TEXT(INT(P_19号4様式1!Q134),\"#,##0\"),\"-\"),\"\")","v":""},{"$f":"IF(P_19号4様式1!Q134<> \"\",IF(P_19号4様式1!Q134<> \"-\",IF(VALUE(FIXED(P_19号4様式1!Q134,0,TRUE))<>P_19号4様式1!Q134,RIGHT(FIXED(P_19号4様式1!Q134,3,FALSE),4),\"\"),\"\"),\"\")","v":""},null,{"$f":"IF(P_19号4様式1!T134=\"\",\"\",P_19号4様式1!T134)","v":""},{"$f":"IF(P_19号4様式1!U134=\"\",\"\",P_19号4様式1!U134)","v":""},{"$f":"IF(P_19号4様式1!V134<> \"\",IF(P_19号4様式1!V134<> \"-\",TEXT(INT(P_19号4様式1!V134),\"#,##0\"),\"-\"),\"\")","v":""},{"$f":"IF(P_19号4様式1!V134<> \"\",IF(P_19号4様式1!V134<> \"-\",IF(VALUE(FIXED(P_19号4様式1!V134,0,TRUE))<>P_19号4様式1!V134,RIGHT(FIXED(P_19号4様式1!V134,3,FALSE),4),\"\"),\"\"),\"\")","v":""}]
[{"$f":"IF(P_19号4様式1!E135=\"\",\"\",P_19号4様式1!E135)","v":""},{"$f":"IF(P_19号4様式1!F135=\"\",\"\",P_19号4様式1!F135)","v":""},{"$f":"IF(P_19号4様式1!G135<> \"\",IF(P_19号4様式1!G135<> \"-\",TEXT(INT(P_19号4様式1!G135),\"#,##0\"),\"-\"),\"\")","v":""},{"$f":"IF(P_19号4様式1!G135<> \"\",IF(P_19号4様式1!G135<> \"-\",IF(VALUE(FIXED(P_19号4様式1!G135,0,TRUE))<>P_19号4様式1!G135,RIGHT(FIXED(P_19号4様式1!G135,3,FALSE),4),\"\"),\"\"),\"\")","v":""},null,{"$f":"IF(P_19号4様式1!J135=\"\",\"\",P_19号4様式1!J135)","v":""},{"$f":"IF(P_19号4様式1!K135=\"\",\"\",P_19号4様式1!K135)","v":""},{"$f":"IF(P_19号4様式1!L135<> \"\",IF(P_19号4様式1!L135<> \"-\",TEXT(INT(P_19号4様式1!L135),\"#,##0\"),\"-\"),\"\")","v":""},{"$f":"IF(P_19号4様式1!L135<> \"\",IF(P_19号4様式1!L135<> \"-\",IF(VALUE(FIXED(P_19号4様式1!L135,0,TRUE))<>P_19号4様式1!L135,RIGHT(FIXED(P_19号4様式1!L135,3,FALSE),4),\"\"),\"\"),\"\")","v":""},null,{"$f":"IF(P_19号4様式1!O135=\"\",\"\",P_19号4様式1!O135)","v":""},{"$f":"IF(P_19号4様式1!P135=\"\",\"\",P_19号4様式1!P135)","v":""},{"$f":"IF(P_19号4様式1!Q135<> \"\",IF(P_19号4様式1!Q135<> \"-\",TEXT(INT(P_19号4様式1!Q135),\"#,##0\"),\"-\"),\"\")","v":""},{"$f":"IF(P_19号4様式1!Q135<> \"\",IF(P_19号4様式1!Q135<> \"-\",IF(VALUE(FIXED(P_19号4様式1!Q135,0,TRUE))<>P_19号4様式1!Q135,RIGHT(FIXED(P_19号4様式1!Q135,3,FALSE),4),\"\"),\"\"),\"\")","v":""},null,{"$f":"IF(P_19号4様式1!T135=\"\",\"\",P_19号4様式1!T135)","v":""},{"$f":"IF(P_19号4様式1!U135=\"\",\"\",P_19号4様式1!U135)","v":""},{"$f":"IF(P_19号4様式1!V135<> \"\",IF(P_19号4様式1!V135<> \"-\",TEXT(INT(P_19号4様式1!V135),\"#,##0\"),\"-\"),\"\")","v":""},{"$f":"IF(P_19号4様式1!V135<> \"\",IF(P_19号4様式1!V135<> \"-\",IF(VALUE(FIXED(P_19号4様式1!V135,0,TRUE))<>P_19号4様式1!V135,RIGHT(FIXED(P_19号4様式1!V135,3,FALSE),4),\"\"),\"\"),\"\")","v":""}]
[{"$f":"IF(P_19号4様式1!E136=\"\",\"\",P_19号4様式1!E136)","v":""},{"$f":"IF(P_19号4様式1!F136=\"\",\"\",P_19号4様式1!F136)","v":""},{"$f":"IF(P_19号4様式1!G136<> \"\",IF(P_19号4様式1!G136<> \"-\",TEXT(INT(P_19号4様式1!G136),\"#,##0\"),\"-\"),\"\")","v":""},{"$f":"IF(P_19号4様式1!G136<> \"\",IF(P_19号4様式1!G136<> \"-\",IF(VALUE(FIXED(P_19号4様式1!G136,0,TRUE))<>P_19号4様式1!G136,RIGHT(FIXED(P_19号4様式1!G136,3,FALSE),4),\"\"),\"\"),\"\")","v":""},null,{"$f":"IF(P_19号4様式1!J136=\"\",\"\",P_19号4様式1!J136)","v":""},{"$f":"IF(P_19号4様式1!K136=\"\",\"\",P_19号4様式1!K136)","v":""},{"$f":"IF(P_19号4様式1!L136<> \"\",IF(P_19号4様式1!L136<> \"-\",TEXT(INT(P_19号4様式1!L136),\"#,##0\"),\"-\"),\"\")","v":""},{"$f":"IF(P_19号4様式1!L136<> \"\",IF(P_19号4様式1!L136<> \"-\",IF(VALUE(FIXED(P_19号4様式1!L136,0,TRUE))<>P_19号4様式1!L136,RIGHT(FIXED(P_19号4様式1!L136,3,FALSE),4),\"\"),\"\"),\"\")","v":""},null,{"$f":"IF(P_19号4様式1!O136=\"\",\"\",P_19号4様式1!O136)","v":""},{"$f":"IF(P_19号4様式1!P136=\"\",\"\",P_19号4様式1!P136)","v":""},{"$f":"IF(P_19号4様式1!Q136<> \"\",IF(P_19号4様式1!Q136<> \"-\",TEXT(INT(P_19号4様式1!Q136),\"#,##0\"),\"-\"),\"\")","v":""},{"$f":"IF(P_19号4様式1!Q136<> \"\",IF(P_19号4様式1!Q136<> \"-\",IF(VALUE(FIXED(P_19号4様式1!Q136,0,TRUE))<>P_19号4様式1!Q136,RIGHT(FIXED(P_19号4様式1!Q136,3,FALSE),4),\"\"),\"\"),\"\")","v":""},null,{"$f":"IF(P_19号4様式1!T136=\"\",\"\",P_19号4様式1!T136)","v":""},{"$f":"IF(P_19号4様式1!U136=\"\",\"\",P_19号4様式1!U136)","v":""},{"$f":"IF(P_19号4様式1!V136<> \"\",IF(P_19号4様式1!V136<> \"-\",TEXT(INT(P_19号4様式1!V136),\"#,##0\"),\"-\"),\"\")","v":""},{"$f":"IF(P_19号4様式1!V136<> \"\",IF(P_19号4様式1!V136<> \"-\",IF(VALUE(FIXED(P_19号4様式1!V136,0,TRUE))<>P_19号4様式1!V136,RIGHT(FIXED(P_19号4様式1!V136,3,FALSE),4),\"\"),\"\"),\"\")","v":""}]
[{"$f":"IF(P_19号4様式1!E137=\"\",\"\",P_19号4様式1!E137)","v":""},{"$f":"IF(P_19号4様式1!F137=\"\",\"\",P_19号4様式1!F137)","v":""},{"$f":"IF(P_19号4様式1!G137<> \"\",IF(P_19号4様式1!G137<> \"-\",TEXT(INT(P_19号4様式1!G137),\"#,##0\"),\"-\"),\"\")","v":""},{"$f":"IF(P_19号4様式1!G137<> \"\",IF(P_19号4様式1!G137<> \"-\",IF(VALUE(FIXED(P_19号4様式1!G137,0,TRUE))<>P_19号4様式1!G137,RIGHT(FIXED(P_19号4様式1!G137,3,FALSE),4),\"\"),\"\"),\"\")","v":""},null,{"$f":"IF(P_19号4様式1!J137=\"\",\"\",P_19号4様式1!J137)","v":""},{"$f":"IF(P_19号4様式1!K137=\"\",\"\",P_19号4様式1!K137)","v":""},{"$f":"IF(P_19号4様式1!L137<> \"\",IF(P_19号4様式1!L137<> \"-\",TEXT(INT(P_19号4様式1!L137),\"#,##0\"),\"-\"),\"\")","v":""},{"$f":"IF(P_19号4様式1!L137<> \"\",IF(P_19号4様式1!L137<> \"-\",IF(VALUE(FIXED(P_19号4様式1!L137,0,TRUE))<>P_19号4様式1!L137,RIGHT(FIXED(P_19号4様式1!L137,3,FALSE),4),\"\"),\"\"),\"\")","v":""},null,{"$f":"IF(P_19号4様式1!O137=\"\",\"\",P_19号4様式1!O137)","v":""},{"$f":"IF(P_19号4様式1!P137=\"\",\"\",P_19号4様式1!P137)","v":""},{"$f":"IF(P_19号4様式1!Q137<> \"\",IF(P_19号4様式1!Q137<> \"-\",TEXT(INT(P_19号4様式1!Q137),\"#,##0\"),\"-\"),\"\")","v":""},{"$f":"IF(P_19号4様式1!Q137<> \"\",IF(P_19号4様式1!Q137<> \"-\",IF(VALUE(FIXED(P_19号4様式1!Q137,0,TRUE))<>P_19号4様式1!Q137,RIGHT(FIXED(P_19号4様式1!Q137,3,FALSE),4),\"\"),\"\"),\"\")","v":""},null,{"$f":"IF(P_19号4様式1!T137=\"\",\"\",P_19号4様式1!T137)","v":""},{"$f":"IF(P_19号4様式1!U137=\"\",\"\",P_19号4様式1!U137)","v":""},{"$f":"IF(P_19号4様式1!V137<> \"\",IF(P_19号4様式1!V137<> \"-\",TEXT(INT(P_19号4様式1!V137),\"#,##0\"),\"-\"),\"\")","v":""},{"$f":"IF(P_19号4様式1!V137<> \"\",IF(P_19号4様式1!V137<> \"-\",IF(VALUE(FIXED(P_19号4様式1!V137,0,TRUE))<>P_19号4様式1!V137,RIGHT(FIXED(P_19号4様式1!V137,3,FALSE),4),\"\"),\"\"),\"\")","v":""}]
[{"$f":"IF(P_19号4様式1!E138=\"\",\"\",P_19号4様式1!E138)","v":""},{"$f":"IF(P_19号4様式1!F138=\"\",\"\",P_19号4様式1!F138)","v":""},{"$f":"IF(P_19号4様式1!G138<> \"\",IF(P_19号4様式1!G138<> \"-\",TEXT(INT(P_19号4様式1!G138),\"#,##0\"),\"-\"),\"\")","v":""},{"$f":"IF(P_19号4様式1!G138<> \"\",IF(P_19号4様式1!G138<> \"-\",IF(VALUE(FIXED(P_19号4様式1!G138,0,TRUE))<>P_19号4様式1!G138,RIGHT(FIXED(P_19号4様式1!G138,3,FALSE),4),\"\"),\"\"),\"\")","v":""},null,{"$f":"IF(P_19号4様式1!J138=\"\",\"\",P_19号4様式1!J138)","v":""},{"$f":"IF(P_19号4様式1!K138=\"\",\"\",P_19号4様式1!K138)","v":""},{"$f":"IF(P_19号4様式1!L138<> \"\",IF(P_19号4様式1!L138<> \"-\",TEXT(INT(P_19号4様式1!L138),\"#,##0\"),\"-\"),\"\")","v":""},{"$f":"IF(P_19号4様式1!L138<> \"\",IF(P_19号4様式1!L138<> \"-\",IF(VALUE(FIXED(P_19号4様式1!L138,0,TRUE))<>P_19号4様式1!L138,RIGHT(FIXED(P_19号4様式1!L138,3,FALSE),4),\"\"),\"\"),\"\")","v":""},null,{"$f":"IF(P_19号4様式1!O138=\"\",\"\",P_19号4様式1!O138)","v":""},{"$f":"IF(P_19号4様式1!P138=\"\",\"\",P_19号4様式1!P138)","v":""},{"$f":"IF(P_19号4様式1!Q138<> \"\",IF(P_19号4様式1!Q138<> \"-\",TEXT(INT(P_19号4様式1!Q138),\"#,##0\"),\"-\"),\"\")","v":""},{"$f":"IF(P_19号4様式1!Q138<> \"\",IF(P_19号4様式1!Q138<> \"-\",IF(VALUE(FIXED(P_19号4様式1!Q138,0,TRUE))<>P_19号4様式1!Q138,RIGHT(FIXED(P_19号4様式1!Q138,3,FALSE),4),\"\"),\"\"),\"\")","v":""},null,{"$f":"IF(P_19号4様式1!T138=\"\",\"\",P_19号4様式1!T138)","v":""},{"$f":"IF(P_19号4様式1!U138=\"\",\"\",P_19号4様式1!U138)","v":""},{"$f":"IF(P_19号4様式1!V138<> \"\",IF(P_19号4様式1!V138<> \"-\",TEXT(INT(P_19号4様式1!V138),\"#,##0\"),\"-\"),\"\")","v":""},{"$f":"IF(P_19号4様式1!V138<> \"\",IF(P_19号4様式1!V138<> \"-\",IF(VALUE(FIXED(P_19号4様式1!V138,0,TRUE))<>P_19号4様式1!V138,RIGHT(FIXED(P_19号4様式1!V138,3,FALSE),4),\"\"),\"\"),\"\")","v":""}]
[{"$f":"IF(P_19号4様式1!E139=\"\",\"\",P_19号4様式1!E139)","v":""},{"$f":"IF(P_19号4様式1!F139=\"\",\"\",P_19号4様式1!F139)","v":""},{"$f":"IF(P_19号4様式1!G139<> \"\",IF(P_19号4様式1!G139<> \"-\",TEXT(INT(P_19号4様式1!G139),\"#,##0\"),\"-\"),\"\")","v":""},{"$f":"IF(P_19号4様式1!G139<> \"\",IF(P_19号4様式1!G139<> \"-\",IF(VALUE(FIXED(P_19号4様式1!G139,0,TRUE))<>P_19号4様式1!G139,RIGHT(FIXED(P_19号4様式1!G139,3,FALSE),4),\"\"),\"\"),\"\")","v":""},null,{"$f":"IF(P_19号4様式1!J139=\"\",\"\",P_19号4様式1!J139)","v":""},{"$f":"IF(P_19号4様式1!K139=\"\",\"\",P_19号4様式1!K139)","v":""},{"$f":"IF(P_19号4様式1!L139<> \"\",IF(P_19号4様式1!L139<> \"-\",TEXT(INT(P_19号4様式1!L139),\"#,##0\"),\"-\"),\"\")","v":""},{"$f":"IF(P_19号4様式1!L139<> \"\",IF(P_19号4様式1!L139<> \"-\",IF(VALUE(FIXED(P_19号4様式1!L139,0,TRUE))<>P_19号4様式1!L139,RIGHT(FIXED(P_19号4様式1!L139,3,FALSE),4),\"\"),\"\"),\"\")","v":""},null,{"$f":"IF(P_19号4様式1!O139=\"\",\"\",P_19号4様式1!O139)","v":""},{"$f":"IF(P_19号4様式1!P139=\"\",\"\",P_19号4様式1!P139)","v":""},{"$f":"IF(P_19号4様式1!Q139<> \"\",IF(P_19号4様式1!Q139<> \"-\",TEXT(INT(P_19号4様式1!Q139),\"#,##0\"),\"-\"),\"\")","v":""},{"$f":"IF(P_19号4様式1!Q139<> \"\",IF(P_19号4様式1!Q139<> \"-\",IF(VALUE(FIXED(P_19号4様式1!Q139,0,TRUE))<>P_19号4様式1!Q139,RIGHT(FIXED(P_19号4様式1!Q139,3,FALSE),4),\"\"),\"\"),\"\")","v":""},null,{"$f":"IF(P_19号4様式1!T139=\"\",\"\",P_19号4様式1!T139)","v":""},{"$f":"IF(P_19号4様式1!U139=\"\",\"\",P_19号4様式1!U139)","v":""},{"$f":"IF(P_19号4様式1!V139<> \"\",IF(P_19号4様式1!V139<> \"-\",TEXT(INT(P_19号4様式1!V139),\"#,##0\"),\"-\"),\"\")","v":""},{"$f":"IF(P_19号4様式1!V139<> \"\",IF(P_19号4様式1!V139<> \"-\",IF(VALUE(FIXED(P_19号4様式1!V139,0,TRUE))<>P_19号4様式1!V139,RIGHT(FIXED(P_19号4様式1!V139,3,FALSE),4),\"\"),\"\"),\"\")","v":""}]
[{"$f":"IF(P_19号4様式1!E140=\"\",\"\",P_19号4様式1!E140)","v":""},{"$f":"IF(P_19号4様式1!F140=\"\",\"\",P_19号4様式1!F140)","v":""},{"$f":"IF(P_19号4様式1!G140<> \"\",IF(P_19号4様式1!G140<> \"-\",TEXT(INT(P_19号4様式1!G140),\"#,##0\"),\"-\"),\"\")","v":""},{"$f":"IF(P_19号4様式1!G140<> \"\",IF(P_19号4様式1!G140<> \"-\",IF(VALUE(FIXED(P_19号4様式1!G140,0,TRUE))<>P_19号4様式1!G140,RIGHT(FIXED(P_19号4様式1!G140,3,FALSE),4),\"\"),\"\"),\"\")","v":""},null,{"$f":"IF(P_19号4様式1!J140=\"\",\"\",P_19号4様式1!J140)","v":""},{"$f":"IF(P_19号4様式1!K140=\"\",\"\",P_19号4様式1!K140)","v":""},{"$f":"IF(P_19号4様式1!L140<> \"\",IF(P_19号4様式1!L140<> \"-\",TEXT(INT(P_19号4様式1!L140),\"#,##0\"),\"-\"),\"\")","v":""},{"$f":"IF(P_19号4様式1!L140<> \"\",IF(P_19号4様式1!L140<> \"-\",IF(VALUE(FIXED(P_19号4様式1!L140,0,TRUE))<>P_19号4様式1!L140,RIGHT(FIXED(P_19号4様式1!L140,3,FALSE),4),\"\"),\"\"),\"\")","v":""},null,{"$f":"IF(P_19号4様式1!O140=\"\",\"\",P_19号4様式1!O140)","v":""},{"$f":"IF(P_19号4様式1!P140=\"\",\"\",P_19号4様式1!P140)","v":""},{"$f":"IF(P_19号4様式1!Q140<> \"\",IF(P_19号4様式1!Q140<> \"-\",TEXT(INT(P_19号4様式1!Q140),\"#,##0\"),\"-\"),\"\")","v":""},{"$f":"IF(P_19号4様式1!Q140<> \"\",IF(P_19号4様式1!Q140<> \"-\",IF(VALUE(FIXED(P_19号4様式1!Q140,0,TRUE))<>P_19号4様式1!Q140,RIGHT(FIXED(P_19号4様式1!Q140,3,FALSE),4),\"\"),\"\"),\"\")","v":""},null,{"$f":"IF(P_19号4様式1!T140=\"\",\"\",P_19号4様式1!T140)","v":""},{"$f":"IF(P_19号4様式1!U140=\"\",\"\",P_19号4様式1!U140)","v":""},{"$f":"IF(P_19号4様式1!V140<> \"\",IF(P_19号4様式1!V140<> \"-\",TEXT(INT(P_19号4様式1!V140),\"#,##0\"),\"-\"),\"\")","v":""},{"$f":"IF(P_19号4様式1!V140<> \"\",IF(P_19号4様式1!V140<> \"-\",IF(VALUE(FIXED(P_19号4様式1!V140,0,TRUE))<>P_19号4様式1!V140,RIGHT(FIXED(P_19号4様式1!V140,3,FALSE),4),\"\"),\"\"),\"\")","v":""}]
[{"$f":"IF(P_19号4様式1!E141=\"\",\"\",P_19号4様式1!E141)","v":""},{"$f":"IF(P_19号4様式1!F141=\"\",\"\",P_19号4様式1!F141)","v":""},{"$f":"IF(P_19号4様式1!G141<> \"\",IF(P_19号4様式1!G141<> \"-\",TEXT(INT(P_19号4様式1!G141),\"#,##0\"),\"-\"),\"\")","v":""},{"$f":"IF(P_19号4様式1!G141<> \"\",IF(P_19号4様式1!G141<> \"-\",IF(VALUE(FIXED(P_19号4様式1!G141,0,TRUE))<>P_19号4様式1!G141,RIGHT(FIXED(P_19号4様式1!G141,3,FALSE),4),\"\"),\"\"),\"\")","v":""},null,{"$f":"IF(P_19号4様式1!J141=\"\",\"\",P_19号4様式1!J141)","v":""},{"$f":"IF(P_19号4様式1!K141=\"\",\"\",P_19号4様式1!K141)","v":""},{"$f":"IF(P_19号4様式1!L141<> \"\",IF(P_19号4様式1!L141<> \"-\",TEXT(INT(P_19号4様式1!L141),\"#,##0\"),\"-\"),\"\")","v":""},{"$f":"IF(P_19号4様式1!L141<> \"\",IF(P_19号4様式1!L141<> \"-\",IF(VALUE(FIXED(P_19号4様式1!L141,0,TRUE))<>P_19号4様式1!L141,RIGHT(FIXED(P_19号4様式1!L141,3,FALSE),4),\"\"),\"\"),\"\")","v":""},null,{"$f":"IF(P_19号4様式1!O141=\"\",\"\",P_19号4様式1!O141)","v":""},{"$f":"IF(P_19号4様式1!P141=\"\",\"\",P_19号4様式1!P141)","v":""},{"$f":"IF(P_19号4様式1!Q141<> \"\",IF(P_19号4様式1!Q141<> \"-\",TEXT(INT(P_19号4様式1!Q141),\"#,##0\"),\"-\"),\"\")","v":""},{"$f":"IF(P_19号4様式1!Q141<> \"\",IF(P_19号4様式1!Q141<> \"-\",IF(VALUE(FIXED(P_19号4様式1!Q141,0,TRUE))<>P_19号4様式1!Q141,RIGHT(FIXED(P_19号4様式1!Q141,3,FALSE),4),\"\"),\"\"),\"\")","v":""},null,{"$f":"IF(P_19号4様式1!T141=\"\",\"\",P_19号4様式1!T141)","v":""},{"$f":"IF(P_19号4様式1!U141=\"\",\"\",P_19号4様式1!U141)","v":""},{"$f":"IF(P_19号4様式1!V141<> \"\",IF(P_19号4様式1!V141<> \"-\",TEXT(INT(P_19号4様式1!V141),\"#,##0\"),\"-\"),\"\")","v":""},{"$f":"IF(P_19号4様式1!V141<> \"\",IF(P_19号4様式1!V141<> \"-\",IF(VALUE(FIXED(P_19号4様式1!V141,0,TRUE))<>P_19号4様式1!V141,RIGHT(FIXED(P_19号4様式1!V141,3,FALSE),4),\"\"),\"\"),\"\")","v":""}]
[{"$f":"IF(P_19号4様式1!E142=\"\",\"\",P_19号4様式1!E142)","v":""},{"$f":"IF(P_19号4様式1!F142=\"\",\"\",P_19号4様式1!F142)","v":""},{"$f":"IF(P_19号4様式1!G142<> \"\",IF(P_19号4様式1!G142<> \"-\",TEXT(INT(P_19号4様式1!G142),\"#,##0\"),\"-\"),\"\")","v":""},{"$f":"IF(P_19号4様式1!G142<> \"\",IF(P_19号4様式1!G142<> \"-\",IF(VALUE(FIXED(P_19号4様式1!G142,0,TRUE))<>P_19号4様式1!G142,RIGHT(FIXED(P_19号4様式1!G142,3,FALSE),4),\"\"),\"\"),\"\")","v":""},null,{"$f":"IF(P_19号4様式1!J142=\"\",\"\",P_19号4様式1!J142)","v":""},{"$f":"IF(P_19号4様式1!K142=\"\",\"\",P_19号4様式1!K142)","v":""},{"$f":"IF(P_19号4様式1!L142<> \"\",IF(P_19号4様式1!L142<> \"-\",TEXT(INT(P_19号4様式1!L142),\"#,##0\"),\"-\"),\"\")","v":""},{"$f":"IF(P_19号4様式1!L142<> \"\",IF(P_19号4様式1!L142<> \"-\",IF(VALUE(FIXED(P_19号4様式1!L142,0,TRUE))<>P_19号4様式1!L142,RIGHT(FIXED(P_19号4様式1!L142,3,FALSE),4),\"\"),\"\"),\"\")","v":""},null,{"$f":"IF(P_19号4様式1!O142=\"\",\"\",P_19号4様式1!O142)","v":""},{"$f":"IF(P_19号4様式1!P142=\"\",\"\",P_19号4様式1!P142)","v":""},{"$f":"IF(P_19号4様式1!Q142<> \"\",IF(P_19号4様式1!Q142<> \"-\",TEXT(INT(P_19号4様式1!Q142),\"#,##0\"),\"-\"),\"\")","v":""},{"$f":"IF(P_19号4様式1!Q142<> \"\",IF(P_19号4様式1!Q142<> \"-\",IF(VALUE(FIXED(P_19号4様式1!Q142,0,TRUE))<>P_19号4様式1!Q142,RIGHT(FIXED(P_19号4様式1!Q142,3,FALSE),4),\"\"),\"\"),\"\")","v":""},null,{"$f":"IF(P_19号4様式1!T142=\"\",\"\",P_19号4様式1!T142)","v":""},{"$f":"IF(P_19号4様式1!U142=\"\",\"\",P_19号4様式1!U142)","v":""},{"$f":"IF(P_19号4様式1!V142<> \"\",IF(P_19号4様式1!V142<> \"-\",TEXT(INT(P_19号4様式1!V142),\"#,##0\"),\"-\"),\"\")","v":""},{"$f":"IF(P_19号4様式1!V142<> \"\",IF(P_19号4様式1!V142<> \"-\",IF(VALUE(FIXED(P_19号4様式1!V142,0,TRUE))<>P_19号4様式1!V142,RIGHT(FIXED(P_19号4様式1!V142,3,FALSE),4),\"\"),\"\"),\"\")","v":""}]
[{"$f":"IF(P_19号4様式1!E143=\"\",\"\",P_19号4様式1!E143)","v":""},{"$f":"IF(P_19号4様式1!F143=\"\",\"\",P_19号4様式1!F143)","v":""},{"$f":"IF(P_19号4様式1!G143<> \"\",IF(P_19号4様式1!G143<> \"-\",TEXT(INT(P_19号4様式1!G143),\"#,##0\"),\"-\"),\"\")","v":""},{"$f":"IF(P_19号4様式1!G143<> \"\",IF(P_19号4様式1!G143<> \"-\",IF(VALUE(FIXED(P_19号4様式1!G143,0,TRUE))<>P_19号4様式1!G143,RIGHT(FIXED(P_19号4様式1!G143,3,FALSE),4),\"\"),\"\"),\"\")","v":""},null,{"$f":"IF(P_19号4様式1!J143=\"\",\"\",P_19号4様式1!J143)","v":""},{"$f":"IF(P_19号4様式1!K143=\"\",\"\",P_19号4様式1!K143)","v":""},{"$f":"IF(P_19号4様式1!L143<> \"\",IF(P_19号4様式1!L143<> \"-\",TEXT(INT(P_19号4様式1!L143),\"#,##0\"),\"-\"),\"\")","v":""},{"$f":"IF(P_19号4様式1!L143<> \"\",IF(P_19号4様式1!L143<> \"-\",IF(VALUE(FIXED(P_19号4様式1!L143,0,TRUE))<>P_19号4様式1!L143,RIGHT(FIXED(P_19号4様式1!L143,3,FALSE),4),\"\"),\"\"),\"\")","v":""},null,{"$f":"IF(P_19号4様式1!O143=\"\",\"\",P_19号4様式1!O143)","v":""},{"$f":"IF(P_19号4様式1!P143=\"\",\"\",P_19号4様式1!P143)","v":""},{"$f":"IF(P_19号4様式1!Q143<> \"\",IF(P_19号4様式1!Q143<> \"-\",TEXT(INT(P_19号4様式1!Q143),\"#,##0\"),\"-\"),\"\")","v":""},{"$f":"IF(P_19号4様式1!Q143<> \"\",IF(P_19号4様式1!Q143<> \"-\",IF(VALUE(FIXED(P_19号4様式1!Q143,0,TRUE))<>P_19号4様式1!Q143,RIGHT(FIXED(P_19号4様式1!Q143,3,FALSE),4),\"\"),\"\"),\"\")","v":""},null,{"$f":"IF(P_19号4様式1!T143=\"\",\"\",P_19号4様式1!T143)","v":""},{"$f":"IF(P_19号4様式1!U143=\"\",\"\",P_19号4様式1!U143)","v":""},{"$f":"IF(P_19号4様式1!V143<> \"\",IF(P_19号4様式1!V143<> \"-\",TEXT(INT(P_19号4様式1!V143),\"#,##0\"),\"-\"),\"\")","v":""},{"$f":"IF(P_19号4様式1!V143<> \"\",IF(P_19号4様式1!V143<> \"-\",IF(VALUE(FIXED(P_19号4様式1!V143,0,TRUE))<>P_19号4様式1!V143,RIGHT(FIXED(P_19号4様式1!V143,3,FALSE),4),\"\"),\"\"),\"\")","v":""}]
[{"$f":"IF(P_19号4様式1!E144=\"\",\"\",P_19号4様式1!E144)","v":""},{"$f":"IF(P_19号4様式1!F144=\"\",\"\",P_19号4様式1!F144)","v":""},{"$f":"IF(P_19号4様式1!G144<> \"\",IF(P_19号4様式1!G144<> \"-\",TEXT(INT(P_19号4様式1!G144),\"#,##0\"),\"-\"),\"\")","v":""},{"$f":"IF(P_19号4様式1!G144<> \"\",IF(P_19号4様式1!G144<> \"-\",IF(VALUE(FIXED(P_19号4様式1!G144,0,TRUE))<>P_19号4様式1!G144,RIGHT(FIXED(P_19号4様式1!G144,3,FALSE),4),\"\"),\"\"),\"\")","v":""},null,{"$f":"IF(P_19号4様式1!J144=\"\",\"\",P_19号4様式1!J144)","v":""},{"$f":"IF(P_19号4様式1!K144=\"\",\"\",P_19号4様式1!K144)","v":""},{"$f":"IF(P_19号4様式1!L144<> \"\",IF(P_19号4様式1!L144<> \"-\",TEXT(INT(P_19号4様式1!L144),\"#,##0\"),\"-\"),\"\")","v":""},{"$f":"IF(P_19号4様式1!L144<> \"\",IF(P_19号4様式1!L144<> \"-\",IF(VALUE(FIXED(P_19号4様式1!L144,0,TRUE))<>P_19号4様式1!L144,RIGHT(FIXED(P_19号4様式1!L144,3,FALSE),4),\"\"),\"\"),\"\")","v":""},null,{"$f":"IF(P_19号4様式1!O144=\"\",\"\",P_19号4様式1!O144)","v":""},{"$f":"IF(P_19号4様式1!P144=\"\",\"\",P_19号4様式1!P144)","v":""},{"$f":"IF(P_19号4様式1!Q144<> \"\",IF(P_19号4様式1!Q144<> \"-\",TEXT(INT(P_19号4様式1!Q144),\"#,##0\"),\"-\"),\"\")","v":""},{"$f":"IF(P_19号4様式1!Q144<> \"\",IF(P_19号4様式1!Q144<> \"-\",IF(VALUE(FIXED(P_19号4様式1!Q144,0,TRUE))<>P_19号4様式1!Q144,RIGHT(FIXED(P_19号4様式1!Q144,3,FALSE),4),\"\"),\"\"),\"\")","v":""},null,{"$f":"IF(P_19号4様式1!T144=\"\",\"\",P_19号4様式1!T144)","v":""},{"$f":"IF(P_19号4様式1!U144=\"\",\"\",P_19号4様式1!U144)","v":""},{"$f":"IF(P_19号4様式1!V144<> \"\",IF(P_19号4様式1!V144<> \"-\",TEXT(INT(P_19号4様式1!V144),\"#,##0\"),\"-\"),\"\")","v":""},{"$f":"IF(P_19号4様式1!V144<> \"\",IF(P_19号4様式1!V144<> \"-\",IF(VALUE(FIXED(P_19号4様式1!V144,0,TRUE))<>P_19号4様式1!V144,RIGHT(FIXED(P_19号4様式1!V144,3,FALSE),4),\"\"),\"\"),\"\")","v":""}]
[{"$f":"IF(P_19号4様式1!E145=\"\",\"\",P_19号4様式1!E145)","v":""},{"$f":"IF(P_19号4様式1!F145=\"\",\"\",P_19号4様式1!F145)","v":""},{"$f":"IF(P_19号4様式1!G145<> \"\",IF(P_19号4様式1!G145<> \"-\",TEXT(INT(P_19号4様式1!G145),\"#,##0\"),\"-\"),\"\")","v":""},{"$f":"IF(P_19号4様式1!G145<> \"\",IF(P_19号4様式1!G145<> \"-\",IF(VALUE(FIXED(P_19号4様式1!G145,0,TRUE))<>P_19号4様式1!G145,RIGHT(FIXED(P_19号4様式1!G145,3,FALSE),4),\"\"),\"\"),\"\")","v":""},null,{"$f":"IF(P_19号4様式1!J145=\"\",\"\",P_19号4様式1!J145)","v":""},{"$f":"IF(P_19号4様式1!K145=\"\",\"\",P_19号4様式1!K145)","v":""},{"$f":"IF(P_19号4様式1!L145<> \"\",IF(P_19号4様式1!L145<> \"-\",TEXT(INT(P_19号4様式1!L145),\"#,##0\"),\"-\"),\"\")","v":""},{"$f":"IF(P_19号4様式1!L145<> \"\",IF(P_19号4様式1!L145<> \"-\",IF(VALUE(FIXED(P_19号4様式1!L145,0,TRUE))<>P_19号4様式1!L145,RIGHT(FIXED(P_19号4様式1!L145,3,FALSE),4),\"\"),\"\"),\"\")","v":""},null,{"$f":"IF(P_19号4様式1!O145=\"\",\"\",P_19号4様式1!O145)","v":""},{"$f":"IF(P_19号4様式1!P145=\"\",\"\",P_19号4様式1!P145)","v":""},{"$f":"IF(P_19号4様式1!Q145<> \"\",IF(P_19号4様式1!Q145<> \"-\",TEXT(INT(P_19号4様式1!Q145),\"#,##0\"),\"-\"),\"\")","v":""},{"$f":"IF(P_19号4様式1!Q145<> \"\",IF(P_19号4様式1!Q145<> \"-\",IF(VALUE(FIXED(P_19号4様式1!Q145,0,TRUE))<>P_19号4様式1!Q145,RIGHT(FIXED(P_19号4様式1!Q145,3,FALSE),4),\"\"),\"\"),\"\")","v":""},null,{"$f":"IF(P_19号4様式1!T145=\"\",\"\",P_19号4様式1!T145)","v":""},{"$f":"IF(P_19号4様式1!U145=\"\",\"\",P_19号4様式1!U145)","v":""},{"$f":"IF(P_19号4様式1!V145<> \"\",IF(P_19号4様式1!V145<> \"-\",TEXT(INT(P_19号4様式1!V145),\"#,##0\"),\"-\"),\"\")","v":""},{"$f":"IF(P_19号4様式1!V145<> \"\",IF(P_19号4様式1!V145<> \"-\",IF(VALUE(FIXED(P_19号4様式1!V145,0,TRUE))<>P_19号4様式1!V145,RIGHT(FIXED(P_19号4様式1!V145,3,FALSE),4),\"\"),\"\"),\"\")","v":""}]
[{"$f":"IF(P_19号4様式1!E146=\"\",\"\",P_19号4様式1!E146)","v":""},{"$f":"IF(P_19号4様式1!F146=\"\",\"\",P_19号4様式1!F146)","v":""},{"$f":"IF(P_19号4様式1!G146<> \"\",IF(P_19号4様式1!G146<> \"-\",TEXT(INT(P_19号4様式1!G146),\"#,##0\"),\"-\"),\"\")","v":""},{"$f":"IF(P_19号4様式1!G146<> \"\",IF(P_19号4様式1!G146<> \"-\",IF(VALUE(FIXED(P_19号4様式1!G146,0,TRUE))<>P_19号4様式1!G146,RIGHT(FIXED(P_19号4様式1!G146,3,FALSE),4),\"\"),\"\"),\"\")","v":""},null,{"$f":"IF(P_19号4様式1!J146=\"\",\"\",P_19号4様式1!J146)","v":""},{"$f":"IF(P_19号4様式1!K146=\"\",\"\",P_19号4様式1!K146)","v":""},{"$f":"IF(P_19号4様式1!L146<> \"\",IF(P_19号4様式1!L146<> \"-\",TEXT(INT(P_19号4様式1!L146),\"#,##0\"),\"-\"),\"\")","v":""},{"$f":"IF(P_19号4様式1!L146<> \"\",IF(P_19号4様式1!L146<> \"-\",IF(VALUE(FIXED(P_19号4様式1!L146,0,TRUE))<>P_19号4様式1!L146,RIGHT(FIXED(P_19号4様式1!L146,3,FALSE),4),\"\"),\"\"),\"\")","v":""},null,{"$f":"IF(P_19号4様式1!O146=\"\",\"\",P_19号4様式1!O146)","v":""},{"$f":"IF(P_19号4様式1!P146=\"\",\"\",P_19号4様式1!P146)","v":""},{"$f":"IF(P_19号4様式1!Q146<> \"\",IF(P_19号4様式1!Q146<> \"-\",TEXT(INT(P_19号4様式1!Q146),\"#,##0\"),\"-\"),\"\")","v":""},{"$f":"IF(P_19号4様式1!Q146<> \"\",IF(P_19号4様式1!Q146<> \"-\",IF(VALUE(FIXED(P_19号4様式1!Q146,0,TRUE))<>P_19号4様式1!Q146,RIGHT(FIXED(P_19号4様式1!Q146,3,FALSE),4),\"\"),\"\"),\"\")","v":""},null,{"$f":"IF(P_19号4様式1!T146=\"\",\"\",P_19号4様式1!T146)","v":""},{"$f":"IF(P_19号4様式1!U146=\"\",\"\",P_19号4様式1!U146)","v":""},{"$f":"IF(P_19号4様式1!V146<> \"\",IF(P_19号4様式1!V146<> \"-\",TEXT(INT(P_19号4様式1!V146),\"#,##0\"),\"-\"),\"\")","v":""},{"$f":"IF(P_19号4様式1!V146<> \"\",IF(P_19号4様式1!V146<> \"-\",IF(VALUE(FIXED(P_19号4様式1!V146,0,TRUE))<>P_19号4様式1!V146,RIGHT(FIXED(P_19号4様式1!V146,3,FALSE),4),\"\"),\"\"),\"\")","v":""}]
[{"$f":"IF(P_19号4様式1!E147=\"\",\"\",P_19号4様式1!E147)","v":""},{"$f":"IF(P_19号4様式1!F147=\"\",\"\",P_19号4様式1!F147)","v":""},{"$f":"IF(P_19号4様式1!G147<> \"\",IF(P_19号4様式1!G147<> \"-\",TEXT(INT(P_19号4様式1!G147),\"#,##0\"),\"-\"),\"\")","v":""},{"$f":"IF(P_19号4様式1!G147<> \"\",IF(P_19号4様式1!G147<> \"-\",IF(VALUE(FIXED(P_19号4様式1!G147,0,TRUE))<>P_19号4様式1!G147,RIGHT(FIXED(P_19号4様式1!G147,3,FALSE),4),\"\"),\"\"),\"\")","v":""},null,{"$f":"IF(P_19号4様式1!J147=\"\",\"\",P_19号4様式1!J147)","v":""},{"$f":"IF(P_19号4様式1!K147=\"\",\"\",P_19号4様式1!K147)","v":""},{"$f":"IF(P_19号4様式1!L147<> \"\",IF(P_19号4様式1!L147<> \"-\",TEXT(INT(P_19号4様式1!L147),\"#,##0\"),\"-\"),\"\")","v":""},{"$f":"IF(P_19号4様式1!L147<> \"\",IF(P_19号4様式1!L147<> \"-\",IF(VALUE(FIXED(P_19号4様式1!L147,0,TRUE))<>P_19号4様式1!L147,RIGHT(FIXED(P_19号4様式1!L147,3,FALSE),4),\"\"),\"\"),\"\")","v":""},null,{"$f":"IF(P_19号4様式1!O147=\"\",\"\",P_19号4様式1!O147)","v":""},{"$f":"IF(P_19号4様式1!P147=\"\",\"\",P_19号4様式1!P147)","v":""},{"$f":"IF(P_19号4様式1!Q147<> \"\",IF(P_19号4様式1!Q147<> \"-\",TEXT(INT(P_19号4様式1!Q147),\"#,##0\"),\"-\"),\"\")","v":""},{"$f":"IF(P_19号4様式1!Q147<> \"\",IF(P_19号4様式1!Q147<> \"-\",IF(VALUE(FIXED(P_19号4様式1!Q147,0,TRUE))<>P_19号4様式1!Q147,RIGHT(FIXED(P_19号4様式1!Q147,3,FALSE),4),\"\"),\"\"),\"\")","v":""},null,{"$f":"IF(P_19号4様式1!T147=\"\",\"\",P_19号4様式1!T147)","v":""},{"$f":"IF(P_19号4様式1!U147=\"\",\"\",P_19号4様式1!U147)","v":""},{"$f":"IF(P_19号4様式1!V147<> \"\",IF(P_19号4様式1!V147<> \"-\",TEXT(INT(P_19号4様式1!V147),\"#,##0\"),\"-\"),\"\")","v":""},{"$f":"IF(P_19号4様式1!V147<> \"\",IF(P_19号4様式1!V147<> \"-\",IF(VALUE(FIXED(P_19号4様式1!V147,0,TRUE))<>P_19号4様式1!V147,RIGHT(FIXED(P_19号4様式1!V147,3,FALSE),4),\"\"),\"\"),\"\")","v":""}]
[{"$f":"IF(P_19号4様式1!E148=\"\",\"\",P_19号4様式1!E148)","v":""},{"$f":"IF(P_19号4様式1!F148=\"\",\"\",P_19号4様式1!F148)","v":""},{"$f":"IF(P_19号4様式1!G148<> \"\",IF(P_19号4様式1!G148<> \"-\",TEXT(INT(P_19号4様式1!G148),\"#,##0\"),\"-\"),\"\")","v":""},{"$f":"IF(P_19号4様式1!G148<> \"\",IF(P_19号4様式1!G148<> \"-\",IF(VALUE(FIXED(P_19号4様式1!G148,0,TRUE))<>P_19号4様式1!G148,RIGHT(FIXED(P_19号4様式1!G148,3,FALSE),4),\"\"),\"\"),\"\")","v":""},null,{"$f":"IF(P_19号4様式1!J148=\"\",\"\",P_19号4様式1!J148)","v":""},{"$f":"IF(P_19号4様式1!K148=\"\",\"\",P_19号4様式1!K148)","v":""},{"$f":"IF(P_19号4様式1!L148<> \"\",IF(P_19号4様式1!L148<> \"-\",TEXT(INT(P_19号4様式1!L148),\"#,##0\"),\"-\"),\"\")","v":""},{"$f":"IF(P_19号4様式1!L148<> \"\",IF(P_19号4様式1!L148<> \"-\",IF(VALUE(FIXED(P_19号4様式1!L148,0,TRUE))<>P_19号4様式1!L148,RIGHT(FIXED(P_19号4様式1!L148,3,FALSE),4),\"\"),\"\"),\"\")","v":""},null,{"$f":"IF(P_19号4様式1!O148=\"\",\"\",P_19号4様式1!O148)","v":""},{"$f":"IF(P_19号4様式1!P148=\"\",\"\",P_19号4様式1!P148)","v":""},{"$f":"IF(P_19号4様式1!Q148<> \"\",IF(P_19号4様式1!Q148<> \"-\",TEXT(INT(P_19号4様式1!Q148),\"#,##0\"),\"-\"),\"\")","v":""},{"$f":"IF(P_19号4様式1!Q148<> \"\",IF(P_19号4様式1!Q148<> \"-\",IF(VALUE(FIXED(P_19号4様式1!Q148,0,TRUE))<>P_19号4様式1!Q148,RIGHT(FIXED(P_19号4様式1!Q148,3,FALSE),4),\"\"),\"\"),\"\")","v":""},null,{"$f":"IF(P_19号4様式1!T148=\"\",\"\",P_19号4様式1!T148)","v":""},{"$f":"IF(P_19号4様式1!U148=\"\",\"\",P_19号4様式1!U148)","v":""},{"$f":"IF(P_19号4様式1!V148<> \"\",IF(P_19号4様式1!V148<> \"-\",TEXT(INT(P_19号4様式1!V148),\"#,##0\"),\"-\"),\"\")","v":""},{"$f":"IF(P_19号4様式1!V148<> \"\",IF(P_19号4様式1!V148<> \"-\",IF(VALUE(FIXED(P_19号4様式1!V148,0,TRUE))<>P_19号4様式1!V148,RIGHT(FIXED(P_19号4様式1!V148,3,FALSE),4),\"\"),\"\"),\"\")","v":""}]
[{"$f":"IF(P_19号4様式1!E149=\"\",\"\",P_19号4様式1!E149)","v":""},{"$f":"IF(P_19号4様式1!F149=\"\",\"\",P_19号4様式1!F149)","v":""},{"$f":"IF(P_19号4様式1!G149<> \"\",IF(P_19号4様式1!G149<> \"-\",TEXT(INT(P_19号4様式1!G149),\"#,##0\"),\"-\"),\"\")","v":""},{"$f":"IF(P_19号4様式1!G149<> \"\",IF(P_19号4様式1!G149<> \"-\",IF(VALUE(FIXED(P_19号4様式1!G149,0,TRUE))<>P_19号4様式1!G149,RIGHT(FIXED(P_19号4様式1!G149,3,FALSE),4),\"\"),\"\"),\"\")","v":""},null,{"$f":"IF(P_19号4様式1!J149=\"\",\"\",P_19号4様式1!J149)","v":""},{"$f":"IF(P_19号4様式1!K149=\"\",\"\",P_19号4様式1!K149)","v":""},{"$f":"IF(P_19号4様式1!L149<> \"\",IF(P_19号4様式1!L149<> \"-\",TEXT(INT(P_19号4様式1!L149),\"#,##0\"),\"-\"),\"\")","v":""},{"$f":"IF(P_19号4様式1!L149<> \"\",IF(P_19号4様式1!L149<> \"-\",IF(VALUE(FIXED(P_19号4様式1!L149,0,TRUE))<>P_19号4様式1!L149,RIGHT(FIXED(P_19号4様式1!L149,3,FALSE),4),\"\"),\"\"),\"\")","v":""},null,{"$f":"IF(P_19号4様式1!O149=\"\",\"\",P_19号4様式1!O149)","v":""},{"$f":"IF(P_19号4様式1!P149=\"\",\"\",P_19号4様式1!P149)","v":""},{"$f":"IF(P_19号4様式1!Q149<> \"\",IF(P_19号4様式1!Q149<> \"-\",TEXT(INT(P_19号4様式1!Q149),\"#,##0\"),\"-\"),\"\")","v":""},{"$f":"IF(P_19号4様式1!Q149<> \"\",IF(P_19号4様式1!Q149<> \"-\",IF(VALUE(FIXED(P_19号4様式1!Q149,0,TRUE))<>P_19号4様式1!Q149,RIGHT(FIXED(P_19号4様式1!Q149,3,FALSE),4),\"\"),\"\"),\"\")","v":""},null,{"$f":"IF(P_19号4様式1!T149=\"\",\"\",P_19号4様式1!T149)","v":""},{"$f":"IF(P_19号4様式1!U149=\"\",\"\",P_19号4様式1!U149)","v":""},{"$f":"IF(P_19号4様式1!V149<> \"\",IF(P_19号4様式1!V149<> \"-\",TEXT(INT(P_19号4様式1!V149),\"#,##0\"),\"-\"),\"\")","v":""},{"$f":"IF(P_19号4様式1!V149<> \"\",IF(P_19号4様式1!V149<> \"-\",IF(VALUE(FIXED(P_19号4様式1!V149,0,TRUE))<>P_19号4様式1!V149,RIGHT(FIXED(P_19号4様式1!V149,3,FALSE),4),\"\"),\"\"),\"\")","v":""}]
[{"$f":"IF(P_19号4様式1!E150=\"\",\"\",P_19号4様式1!E150)","v":""},{"$f":"IF(P_19号4様式1!F150=\"\",\"\",P_19号4様式1!F150)","v":""},{"$f":"IF(P_19号4様式1!G150<> \"\",IF(P_19号4様式1!G150<> \"-\",TEXT(INT(P_19号4様式1!G150),\"#,##0\"),\"-\"),\"\")","v":""},{"$f":"IF(P_19号4様式1!G150<> \"\",IF(P_19号4様式1!G150<> \"-\",IF(VALUE(FIXED(P_19号4様式1!G150,0,TRUE))<>P_19号4様式1!G150,RIGHT(FIXED(P_19号4様式1!G150,3,FALSE),4),\"\"),\"\"),\"\")","v":""},null,{"$f":"IF(P_19号4様式1!J150=\"\",\"\",P_19号4様式1!J150)","v":""},{"$f":"IF(P_19号4様式1!K150=\"\",\"\",P_19号4様式1!K150)","v":""},{"$f":"IF(P_19号4様式1!L150<> \"\",IF(P_19号4様式1!L150<> \"-\",TEXT(INT(P_19号4様式1!L150),\"#,##0\"),\"-\"),\"\")","v":""},{"$f":"IF(P_19号4様式1!L150<> \"\",IF(P_19号4様式1!L150<> \"-\",IF(VALUE(FIXED(P_19号4様式1!L150,0,TRUE))<>P_19号4様式1!L150,RIGHT(FIXED(P_19号4様式1!L150,3,FALSE),4),\"\"),\"\"),\"\")","v":""},null,{"$f":"IF(P_19号4様式1!O150=\"\",\"\",P_19号4様式1!O150)","v":""},{"$f":"IF(P_19号4様式1!P150=\"\",\"\",P_19号4様式1!P150)","v":""},{"$f":"IF(P_19号4様式1!Q150<> \"\",IF(P_19号4様式1!Q150<> \"-\",TEXT(INT(P_19号4様式1!Q150),\"#,##0\"),\"-\"),\"\")","v":""},{"$f":"IF(P_19号4様式1!Q150<> \"\",IF(P_19号4様式1!Q150<> \"-\",IF(VALUE(FIXED(P_19号4様式1!Q150,0,TRUE))<>P_19号4様式1!Q150,RIGHT(FIXED(P_19号4様式1!Q150,3,FALSE),4),\"\"),\"\"),\"\")","v":""},null,{"$f":"IF(P_19号4様式1!T150=\"\",\"\",P_19号4様式1!T150)","v":""},{"$f":"IF(P_19号4様式1!U150=\"\",\"\",P_19号4様式1!U150)","v":""},{"$f":"IF(P_19号4様式1!V150<> \"\",IF(P_19号4様式1!V150<> \"-\",TEXT(INT(P_19号4様式1!V150),\"#,##0\"),\"-\"),\"\")","v":""},{"$f":"IF(P_19号4様式1!V150<> \"\",IF(P_19号4様式1!V150<> \"-\",IF(VALUE(FIXED(P_19号4様式1!V150,0,TRUE))<>P_19号4様式1!V150,RIGHT(FIXED(P_19号4様式1!V150,3,FALSE),4),\"\"),\"\"),\"\")","v":""}]
[{"$f":"IF(P_19号4様式1!E151=\"\",\"\",P_19号4様式1!E151)","v":""},{"$f":"IF(P_19号4様式1!F151=\"\",\"\",P_19号4様式1!F151)","v":""},{"$f":"IF(P_19号4様式1!G151<> \"\",IF(P_19号4様式1!G151<> \"-\",TEXT(INT(P_19号4様式1!G151),\"#,##0\"),\"-\"),\"\")","v":""},{"$f":"IF(P_19号4様式1!G151<> \"\",IF(P_19号4様式1!G151<> \"-\",IF(VALUE(FIXED(P_19号4様式1!G151,0,TRUE))<>P_19号4様式1!G151,RIGHT(FIXED(P_19号4様式1!G151,3,FALSE),4),\"\"),\"\"),\"\")","v":""},null,{"$f":"IF(P_19号4様式1!J151=\"\",\"\",P_19号4様式1!J151)","v":""},{"$f":"IF(P_19号4様式1!K151=\"\",\"\",P_19号4様式1!K151)","v":""},{"$f":"IF(P_19号4様式1!L151<> \"\",IF(P_19号4様式1!L151<> \"-\",TEXT(INT(P_19号4様式1!L151),\"#,##0\"),\"-\"),\"\")","v":""},{"$f":"IF(P_19号4様式1!L151<> \"\",IF(P_19号4様式1!L151<> \"-\",IF(VALUE(FIXED(P_19号4様式1!L151,0,TRUE))<>P_19号4様式1!L151,RIGHT(FIXED(P_19号4様式1!L151,3,FALSE),4),\"\"),\"\"),\"\")","v":""},null,{"$f":"IF(P_19号4様式1!O151=\"\",\"\",P_19号4様式1!O151)","v":""},{"$f":"IF(P_19号4様式1!P151=\"\",\"\",P_19号4様式1!P151)","v":""},{"$f":"IF(P_19号4様式1!Q151<> \"\",IF(P_19号4様式1!Q151<> \"-\",TEXT(INT(P_19号4様式1!Q151),\"#,##0\"),\"-\"),\"\")","v":""},{"$f":"IF(P_19号4様式1!Q151<> \"\",IF(P_19号4様式1!Q151<> \"-\",IF(VALUE(FIXED(P_19号4様式1!Q151,0,TRUE))<>P_19号4様式1!Q151,RIGHT(FIXED(P_19号4様式1!Q151,3,FALSE),4),\"\"),\"\"),\"\")","v":""},null,{"$f":"IF(P_19号4様式1!T151=\"\",\"\",P_19号4様式1!T151)","v":""},{"$f":"IF(P_19号4様式1!U151=\"\",\"\",P_19号4様式1!U151)","v":""},{"$f":"IF(P_19号4様式1!V151<> \"\",IF(P_19号4様式1!V151<> \"-\",TEXT(INT(P_19号4様式1!V151),\"#,##0\"),\"-\"),\"\")","v":""},{"$f":"IF(P_19号4様式1!V151<> \"\",IF(P_19号4様式1!V151<> \"-\",IF(VALUE(FIXED(P_19号4様式1!V151,0,TRUE))<>P_19号4様式1!V151,RIGHT(FIXED(P_19号4様式1!V151,3,FALSE),4),\"\"),\"\"),\"\")","v":""}]
[{"$f":"IF(P_19号4様式1!E152=\"\",\"\",P_19号4様式1!E152)","v":""},{"$f":"IF(P_19号4様式1!F152=\"\",\"\",P_19号4様式1!F152)","v":""},{"$f":"IF(P_19号4様式1!G152<> \"\",IF(P_19号4様式1!G152<> \"-\",TEXT(INT(P_19号4様式1!G152),\"#,##0\"),\"-\"),\"\")","v":""},{"$f":"IF(P_19号4様式1!G152<> \"\",IF(P_19号4様式1!G152<> \"-\",IF(VALUE(FIXED(P_19号4様式1!G152,0,TRUE))<>P_19号4様式1!G152,RIGHT(FIXED(P_19号4様式1!G152,3,FALSE),4),\"\"),\"\"),\"\")","v":""},null,{"$f":"IF(P_19号4様式1!J152=\"\",\"\",P_19号4様式1!J152)","v":""},{"$f":"IF(P_19号4様式1!K152=\"\",\"\",P_19号4様式1!K152)","v":""},{"$f":"IF(P_19号4様式1!L152<> \"\",IF(P_19号4様式1!L152<> \"-\",TEXT(INT(P_19号4様式1!L152),\"#,##0\"),\"-\"),\"\")","v":""},{"$f":"IF(P_19号4様式1!L152<> \"\",IF(P_19号4様式1!L152<> \"-\",IF(VALUE(FIXED(P_19号4様式1!L152,0,TRUE))<>P_19号4様式1!L152,RIGHT(FIXED(P_19号4様式1!L152,3,FALSE),4),\"\"),\"\"),\"\")","v":""},null,{"$f":"IF(P_19号4様式1!O152=\"\",\"\",P_19号4様式1!O152)","v":""},{"$f":"IF(P_19号4様式1!P152=\"\",\"\",P_19号4様式1!P152)","v":""},{"$f":"IF(P_19号4様式1!Q152<> \"\",IF(P_19号4様式1!Q152<> \"-\",TEXT(INT(P_19号4様式1!Q152),\"#,##0\"),\"-\"),\"\")","v":""},{"$f":"IF(P_19号4様式1!Q152<> \"\",IF(P_19号4様式1!Q152<> \"-\",IF(VALUE(FIXED(P_19号4様式1!Q152,0,TRUE))<>P_19号4様式1!Q152,RIGHT(FIXED(P_19号4様式1!Q152,3,FALSE),4),\"\"),\"\"),\"\")","v":""},null,{"$f":"IF(P_19号4様式1!T152=\"\",\"\",P_19号4様式1!T152)","v":""},{"$f":"IF(P_19号4様式1!U152=\"\",\"\",P_19号4様式1!U152)","v":""},{"$f":"IF(P_19号4様式1!V152<> \"\",IF(P_19号4様式1!V152<> \"-\",TEXT(INT(P_19号4様式1!V152),\"#,##0\"),\"-\"),\"\")","v":""},{"$f":"IF(P_19号4様式1!V152<> \"\",IF(P_19号4様式1!V152<> \"-\",IF(VALUE(FIXED(P_19号4様式1!V152,0,TRUE))<>P_19号4様式1!V152,RIGHT(FIXED(P_19号4様式1!V152,3,FALSE),4),\"\"),\"\"),\"\")","v":""}]
[{"$f":"IF(P_19号4様式1!E153=\"\",\"\",P_19号4様式1!E153)","v":""},{"$f":"IF(P_19号4様式1!F153=\"\",\"\",P_19号4様式1!F153)","v":""},{"$f":"IF(P_19号4様式1!G153<> \"\",IF(P_19号4様式1!G153<> \"-\",TEXT(INT(P_19号4様式1!G153),\"#,##0\"),\"-\"),\"\")","v":""},{"$f":"IF(P_19号4様式1!G153<> \"\",IF(P_19号4様式1!G153<> \"-\",IF(VALUE(FIXED(P_19号4様式1!G153,0,TRUE))<>P_19号4様式1!G153,RIGHT(FIXED(P_19号4様式1!G153,3,FALSE),4),\"\"),\"\"),\"\")","v":""},null,{"$f":"IF(P_19号4様式1!J153=\"\",\"\",P_19号4様式1!J153)","v":""},{"$f":"IF(P_19号4様式1!K153=\"\",\"\",P_19号4様式1!K153)","v":""},{"$f":"IF(P_19号4様式1!L153<> \"\",IF(P_19号4様式1!L153<> \"-\",TEXT(INT(P_19号4様式1!L153),\"#,##0\"),\"-\"),\"\")","v":""},{"$f":"IF(P_19号4様式1!L153<> \"\",IF(P_19号4様式1!L153<> \"-\",IF(VALUE(FIXED(P_19号4様式1!L153,0,TRUE))<>P_19号4様式1!L153,RIGHT(FIXED(P_19号4様式1!L153,3,FALSE),4),\"\"),\"\"),\"\")","v":""},null,{"$f":"IF(P_19号4様式1!O153=\"\",\"\",P_19号4様式1!O153)","v":""},{"$f":"IF(P_19号4様式1!P153=\"\",\"\",P_19号4様式1!P153)","v":""},{"$f":"IF(P_19号4様式1!Q153<> \"\",IF(P_19号4様式1!Q153<> \"-\",TEXT(INT(P_19号4様式1!Q153),\"#,##0\"),\"-\"),\"\")","v":""},{"$f":"IF(P_19号4様式1!Q153<> \"\",IF(P_19号4様式1!Q153<> \"-\",IF(VALUE(FIXED(P_19号4様式1!Q153,0,TRUE))<>P_19号4様式1!Q153,RIGHT(FIXED(P_19号4様式1!Q153,3,FALSE),4),\"\"),\"\"),\"\")","v":""},null,{"$f":"IF(P_19号4様式1!T153=\"\",\"\",P_19号4様式1!T153)","v":""},{"$f":"IF(P_19号4様式1!U153=\"\",\"\",P_19号4様式1!U153)","v":""},{"$f":"IF(P_19号4様式1!V153<> \"\",IF(P_19号4様式1!V153<> \"-\",TEXT(INT(P_19号4様式1!V153),\"#,##0\"),\"-\"),\"\")","v":""},{"$f":"IF(P_19号4様式1!V153<> \"\",IF(P_19号4様式1!V153<> \"-\",IF(VALUE(FIXED(P_19号4様式1!V153,0,TRUE))<>P_19号4様式1!V153,RIGHT(FIXED(P_19号4様式1!V153,3,FALSE),4),\"\"),\"\"),\"\")","v":""}]
[{"$f":"IF(P_19号4様式1!E154=\"\",\"\",P_19号4様式1!E154)","v":""},{"$f":"IF(P_19号4様式1!F154=\"\",\"\",P_19号4様式1!F154)","v":"合  計"},{"$f":"IF(P_19号4様式1!G154<> \"\",TEXT(INT(P_19号4様式1!G154),\"#,##0\"),\"\")","v":""},{"$f":"IF(P_19号4様式1!G154= \"\",\"\",IF(VALUE(FIXED(P_19号4様式1!G154,0,TRUE))<>P_19号4様式1!G154,RIGHT(FIXED(P_19号4様式1!G154,3,FALSE),4),\"\"))","v":""},null,{"$f":"IF(P_19号4様式1!J154=\"\",\"\",P_19号4様式1!J154)","v":""},{"$f":"IF(P_19号4様式1!K154=\"\",\"\",P_19号4様式1!K154)","v":"合  計"},{"$f":"IF(P_19号4様式1!L154<> \"\",TEXT(INT(P_19号4様式1!L154),\"#,##0\"),\"\")","v":"91"},{"$f":"IF(P_19号4様式1!L154= \"\",\"\",IF(VALUE(FIXED(P_19号4様式1!L154,0,TRUE))<>P_19号4様式1!L154,RIGHT(FIXED(P_19号4様式1!L154,3,FALSE),4),\"\"))","v":".589"},null,{"$f":"IF(P_19号4様式1!O154=\"\",\"\",P_19号4様式1!O154)","v":""},{"$f":"IF(P_19号4様式1!P154=\"\",\"\",P_19号4様式1!P154)","v":"合  計"},{"$f":"IF(P_19号4様式1!Q154<> \"\",TEXT(INT(P_19号4様式1!Q154),\"#,##0\"),\"\")","v":""},{"$f":"IF(P_19号4様式1!Q154= \"\",\"\",IF(VALUE(FIXED(P_19号4様式1!Q154,0,TRUE))<>P_19号4様式1!Q154,RIGHT(FIXED(P_19号4様式1!Q154,3,FALSE),4),\"\"))","v":""},null,{"$f":"IF(P_19号4様式1!T154=\"\",\"\",P_19号4様式1!T154)","v":""},{"$f":"IF(P_19号4様式1!U154=\"\",\"\",P_19号4様式1!U154)","v":"合  計"},{"$f":"IF(P_19号4様式1!V154<> \"\",TEXT(INT(P_19号4様式1!V154),\"#,##0\"),\"\")","v":""},{"$f":"IF(P_19号4様式1!V154= \"\",\"\",IF(VALUE(FIXED(P_19号4様式1!V154,0,TRUE))<>P_19号4様式1!V154,RIGHT(FIXED(P_19号4様式1!V154,3,FALSE),4),\"\"))","v":""}]
[]
["第19号の4様式",null,null,null,null,{"$f":"+F$2","v":"「政党等投票数」のうち、公選法第６８条の３の規定により政党等の有効投票とみなされた投票の状況"},null,null,null,null,null,null,null,null,null,null,null,{"$f":"P_19号4様式1!A155 & \" ページ\"","v":"4 ページ"}]
[]
[null,{"$f":"IF(パラメタシート!B1=\"\",\"    年  月  日　執行\",パラメタシート!B1)","v":"2019-07-21"},null,null,null,null,null,null,null,null,null,{"$f":"IF(P_19号4様式1!X179=\"0\",\"即日　開票\",\"翌日　開票\")","v":"即日　開票"},null,"中間報告",null,null,{"$f":"IF(P_19号4様式1!Y155=\"\",\"     時     分\",P_19号4様式1!Y155)","v":"     時     分"},"鹿 児 島 県"]
[null,{"$f":"IF(P_19号4様式1!W155=\"\",\"     年   月   日　執行\",P_19号4様式1!W155)","v":"参議院比例代表選出議員選挙"},null,null,null,null,null,null,null,null,null,null,"開票","結了報告",null,null,{"$f":"IF(P_19号4様式1!Z155=\"\",\"     時     分\",P_19号4様式1!Z155)","v":"02:55:00"}]
[]
[{"$f":"IF(P_19号4様式1!C155=\"\",\"\",\"〔\" & P_19号4様式1!C155 & \"  \" & P_19号4様式1!D155 & \"〕\")","v":"〔13  れいわ新選組〕"},null,null,null,null,{"$f":"IF(P_19号4様式1!H155=\"\",\"\",\"〔\" & P_19号4様式1!H155 & \"  \" & P_19号4様式1!I155 & \"〕\")","v":""},null,null,null,null,{"$f":"IF(P_19号4様式1!M155=\"\",\"\",\"〔\" & P_19号4様式1!M155 & \"  \" & P_19号4様式1!N155 & \"〕\")","v":""},null,null,null,null,{"$f":"IF(P_19号4様式1!R155=\"\",\"\",\"〔\" & P_19号4様式1!R155 & \"  \" & P_19号4様式1!S155 & \"〕\")","v":""}]
["候 補 者 名",null,"投票数",null,null,"候 補 者 名",null,"投票数",null,null,"候 補 者 名",null,"投票数",null,null,"候 補 者 名",null,"投票数"]
[{"$f":"IF(P_19号4様式1!E155=\"\",\"\",P_19号4様式1!E155)","v":"01"},{"$f":"IF(P_19号4様式1!F155=\"\",\"\",P_19号4様式1!F155)","v":"ふなご　やすひこ"},{"$f":"IF(P_19号4様式1!G155<> \"\",IF(P_19号4様式1!G155<> \"-\",TEXT(INT(P_19号4様式1!G155),\"#,##0\"),\"-\"),\"\")","v":"57"},{"$f":"IF(P_19号4様式1!G155<> \"\",IF(P_19号4様式1!G155<> \"-\",IF(VALUE(FIXED(P_19号4様式1!G155,0,TRUE))<>P_19号4様式1!G155,RIGHT(FIXED(P_19号4様式1!G155,3,FALSE),4),\"\"),\"\"),\"\")","v":".000"},null,{"$f":"IF(P_19号4様式1!J155=\"\",\"\",P_19号4様式1!J155)","v":""},{"$f":"IF(P_19号4様式1!K155=\"\",\"\",P_19号4様式1!K155)","v":""},{"$f":"IF(P_19号4様式1!L155<> \"\",IF(P_19号4様式1!L155<> \"-\",TEXT(INT(P_19号4様式1!L155),\"#,##0\"),\"-\"),\"\")","v":""},{"$f":"IF(P_19号4様式1!L155<> \"\",IF(P_19号4様式1!L155<> \"-\",IF(VALUE(FIXED(P_19号4様式1!L155,0,TRUE))<>P_19号4様式1!L155,RIGHT(FIXED(P_19号4様式1!L155,3,FALSE),4),\"\"),\"\"),\"\")","v":""},null,{"$f":"IF(P_19号4様式1!O155=\"\",\"\",P_19号4様式1!O155)","v":""},{"$f":"IF(P_19号4様式1!P155=\"\",\"\",P_19号4様式1!P155)","v":""},{"$f":"IF(P_19号4様式1!Q155<> \"\",IF(P_19号4様式1!Q155<> \"-\",TEXT(INT(P_19号4様式1!Q155),\"#,##0\"),\"-\"),\"\")","v":""},{"$f":"IF(P_19号4様式1!Q155<> \"\",IF(P_19号4様式1!Q155<> \"-\",IF(VALUE(FIXED(P_19号4様式1!Q155,0,TRUE))<>P_19号4様式1!Q155,RIGHT(FIXED(P_19号4様式1!Q155,3,FALSE),4),\"\"),\"\"),\"\")","v":""},null,{"$f":"IF(P_19号4様式1!T155=\"\",\"\",P_19号4様式1!T155)","v":""},{"$f":"IF(P_19号4様式1!U155=\"\",\"\",P_19号4様式1!U155)","v":""},{"$f":"IF(P_19号4様式1!V155<> \"\",IF(P_19号4様式1!V155<> \"-\",TEXT(INT(P_19号4様式1!V155),\"#,##0\"),\"-\"),\"\")","v":""},{"$f":"IF(P_19号4様式1!V155<> \"\",IF(P_19号4様式1!V155<> \"-\",IF(VALUE(FIXED(P_19号4様式1!V155,0,TRUE))<>P_19号4様式1!V155,RIGHT(FIXED(P_19号4様式1!V155,3,FALSE),4),\"\"),\"\"),\"\")","v":""}]
[{"$f":"IF(P_19号4様式1!E156=\"\",\"\",P_19号4様式1!E156)","v":"02"},{"$f":"IF(P_19号4様式1!F156=\"\",\"\",P_19号4様式1!F156)","v":"木村　英子"},{"$f":"IF(P_19号4様式1!G156<> \"\",IF(P_19号4様式1!G156<> \"-\",TEXT(INT(P_19号4様式1!G156),\"#,##0\"),\"-\"),\"\")","v":"105"},{"$f":"IF(P_19号4様式1!G156<> \"\",IF(P_19号4様式1!G156<> \"-\",IF(VALUE(FIXED(P_19号4様式1!G156,0,TRUE))<>P_19号4様式1!G156,RIGHT(FIXED(P_19号4様式1!G156,3,FALSE),4),\"\"),\"\"),\"\")","v":".132"},null,{"$f":"IF(P_19号4様式1!J156=\"\",\"\",P_19号4様式1!J156)","v":""},{"$f":"IF(P_19号4様式1!K156=\"\",\"\",P_19号4様式1!K156)","v":""},{"$f":"IF(P_19号4様式1!L156<> \"\",IF(P_19号4様式1!L156<> \"-\",TEXT(INT(P_19号4様式1!L156),\"#,##0\"),\"-\"),\"\")","v":""},{"$f":"IF(P_19号4様式1!L156<> \"\",IF(P_19号4様式1!L156<> \"-\",IF(VALUE(FIXED(P_19号4様式1!L156,0,TRUE))<>P_19号4様式1!L156,RIGHT(FIXED(P_19号4様式1!L156,3,FALSE),4),\"\"),\"\"),\"\")","v":""},null,{"$f":"IF(P_19号4様式1!O156=\"\",\"\",P_19号4様式1!O156)","v":""},{"$f":"IF(P_19号4様式1!P156=\"\",\"\",P_19号4様式1!P156)","v":""},{"$f":"IF(P_19号4様式1!Q156<> \"\",IF(P_19号4様式1!Q156<> \"-\",TEXT(INT(P_19号4様式1!Q156),\"#,##0\"),\"-\"),\"\")","v":""},{"$f":"IF(P_19号4様式1!Q156<> \"\",IF(P_19号4様式1!Q156<> \"-\",IF(VALUE(FIXED(P_19号4様式1!Q156,0,TRUE))<>P_19号4様式1!Q156,RIGHT(FIXED(P_19号4様式1!Q156,3,FALSE),4),\"\"),\"\"),\"\")","v":""},null,{"$f":"IF(P_19号4様式1!T156=\"\",\"\",P_19号4様式1!T156)","v":""},{"$f":"IF(P_19号4様式1!U156=\"\",\"\",P_19号4様式1!U156)","v":""},{"$f":"IF(P_19号4様式1!V156<> \"\",IF(P_19号4様式1!V156<> \"-\",TEXT(INT(P_19号4様式1!V156),\"#,##0\"),\"-\"),\"\")","v":""},{"$f":"IF(P_19号4様式1!V156<> \"\",IF(P_19号4様式1!V156<> \"-\",IF(VALUE(FIXED(P_19号4様式1!V156,0,TRUE))<>P_19号4様式1!V156,RIGHT(FIXED(P_19号4様式1!V156,3,FALSE),4),\"\"),\"\"),\"\")","v":""}]
[{"$f":"IF(P_19号4様式1!E157=\"\",\"\",P_19号4様式1!E157)","v":""},{"$f":"IF(P_19号4様式1!F157=\"\",\"\",P_19号4様式1!F157)","v":""},{"$f":"IF(P_19号4様式1!G157<> \"\",IF(P_19号4様式1!G157<> \"-\",TEXT(INT(P_19号4様式1!G157),\"#,##0\"),\"-\"),\"\")","v":""},{"$f":"IF(P_19号4様式1!G157<> \"\",IF(P_19号4様式1!G157<> \"-\",IF(VALUE(FIXED(P_19号4様式1!G157,0,TRUE))<>P_19号4様式1!G157,RIGHT(FIXED(P_19号4様式1!G157,3,FALSE),4),\"\"),\"\"),\"\")","v":""},null,{"$f":"IF(P_19号4様式1!J157=\"\",\"\",P_19号4様式1!J157)","v":""},{"$f":"IF(P_19号4様式1!K157=\"\",\"\",P_19号4様式1!K157)","v":""},{"$f":"IF(P_19号4様式1!L157<> \"\",IF(P_19号4様式1!L157<> \"-\",TEXT(INT(P_19号4様式1!L157),\"#,##0\"),\"-\"),\"\")","v":""},{"$f":"IF(P_19号4様式1!L157<> \"\",IF(P_19号4様式1!L157<> \"-\",IF(VALUE(FIXED(P_19号4様式1!L157,0,TRUE))<>P_19号4様式1!L157,RIGHT(FIXED(P_19号4様式1!L157,3,FALSE),4),\"\"),\"\"),\"\")","v":""},null,{"$f":"IF(P_19号4様式1!O157=\"\",\"\",P_19号4様式1!O157)","v":""},{"$f":"IF(P_19号4様式1!P157=\"\",\"\",P_19号4様式1!P157)","v":""},{"$f":"IF(P_19号4様式1!Q157<> \"\",IF(P_19号4様式1!Q157<> \"-\",TEXT(INT(P_19号4様式1!Q157),\"#,##0\"),\"-\"),\"\")","v":""},{"$f":"IF(P_19号4様式1!Q157<> \"\",IF(P_19号4様式1!Q157<> \"-\",IF(VALUE(FIXED(P_19号4様式1!Q157,0,TRUE))<>P_19号4様式1!Q157,RIGHT(FIXED(P_19号4様式1!Q157,3,FALSE),4),\"\"),\"\"),\"\")","v":""},null,{"$f":"IF(P_19号4様式1!T157=\"\",\"\",P_19号4様式1!T157)","v":""},{"$f":"IF(P_19号4様式1!U157=\"\",\"\",P_19号4様式1!U157)","v":""},{"$f":"IF(P_19号4様式1!V157<> \"\",IF(P_19号4様式1!V157<> \"-\",TEXT(INT(P_19号4様式1!V157),\"#,##0\"),\"-\"),\"\")","v":""},{"$f":"IF(P_19号4様式1!V157<> \"\",IF(P_19号4様式1!V157<> \"-\",IF(VALUE(FIXED(P_19号4様式1!V157,0,TRUE))<>P_19号4様式1!V157,RIGHT(FIXED(P_19号4様式1!V157,3,FALSE),4),\"\"),\"\"),\"\")","v":""}]
[{"$f":"IF(P_19号4様式1!E158=\"\",\"\",P_19号4様式1!E158)","v":""},{"$f":"IF(P_19号4様式1!F158=\"\",\"\",P_19号4様式1!F158)","v":""},{"$f":"IF(P_19号4様式1!G158<> \"\",IF(P_19号4様式1!G158<> \"-\",TEXT(INT(P_19号4様式1!G158),\"#,##0\"),\"-\"),\"\")","v":""},{"$f":"IF(P_19号4様式1!G158<> \"\",IF(P_19号4様式1!G158<> \"-\",IF(VALUE(FIXED(P_19号4様式1!G158,0,TRUE))<>P_19号4様式1!G158,RIGHT(FIXED(P_19号4様式1!G158,3,FALSE),4),\"\"),\"\"),\"\")","v":""},null,{"$f":"IF(P_19号4様式1!J158=\"\",\"\",P_19号4様式1!J158)","v":""},{"$f":"IF(P_19号4様式1!K158=\"\",\"\",P_19号4様式1!K158)","v":""},{"$f":"IF(P_19号4様式1!L158<> \"\",IF(P_19号4様式1!L158<> \"-\",TEXT(INT(P_19号4様式1!L158),\"#,##0\"),\"-\"),\"\")","v":""},{"$f":"IF(P_19号4様式1!L158<> \"\",IF(P_19号4様式1!L158<> \"-\",IF(VALUE(FIXED(P_19号4様式1!L158,0,TRUE))<>P_19号4様式1!L158,RIGHT(FIXED(P_19号4様式1!L158,3,FALSE),4),\"\"),\"\"),\"\")","v":""},null,{"$f":"IF(P_19号4様式1!O158=\"\",\"\",P_19号4様式1!O158)","v":""},{"$f":"IF(P_19号4様式1!P158=\"\",\"\",P_19号4様式1!P158)","v":""},{"$f":"IF(P_19号4様式1!Q158<> \"\",IF(P_19号4様式1!Q158<> \"-\",TEXT(INT(P_19号4様式1!Q158),\"#,##0\"),\"-\"),\"\")","v":""},{"$f":"IF(P_19号4様式1!Q158<> \"\",IF(P_19号4様式1!Q158<> \"-\",IF(VALUE(FIXED(P_19号4様式1!Q158,0,TRUE))<>P_19号4様式1!Q158,RIGHT(FIXED(P_19号4様式1!Q158,3,FALSE),4),\"\"),\"\"),\"\")","v":""},null,{"$f":"IF(P_19号4様式1!T158=\"\",\"\",P_19号4様式1!T158)","v":""},{"$f":"IF(P_19号4様式1!U158=\"\",\"\",P_19号4様式1!U158)","v":""},{"$f":"IF(P_19号4様式1!V158<> \"\",IF(P_19号4様式1!V158<> \"-\",TEXT(INT(P_19号4様式1!V158),\"#,##0\"),\"-\"),\"\")","v":""},{"$f":"IF(P_19号4様式1!V158<> \"\",IF(P_19号4様式1!V158<> \"-\",IF(VALUE(FIXED(P_19号4様式1!V158,0,TRUE))<>P_19号4様式1!V158,RIGHT(FIXED(P_19号4様式1!V158,3,FALSE),4),\"\"),\"\"),\"\")","v":""}]
[{"$f":"IF(P_19号4様式1!E159=\"\",\"\",P_19号4様式1!E159)","v":""},{"$f":"IF(P_19号4様式1!F159=\"\",\"\",P_19号4様式1!F159)","v":""},{"$f":"IF(P_19号4様式1!G159<> \"\",IF(P_19号4様式1!G159<> \"-\",TEXT(INT(P_19号4様式1!G159),\"#,##0\"),\"-\"),\"\")","v":""},{"$f":"IF(P_19号4様式1!G159<> \"\",IF(P_19号4様式1!G159<> \"-\",IF(VALUE(FIXED(P_19号4様式1!G159,0,TRUE))<>P_19号4様式1!G159,RIGHT(FIXED(P_19号4様式1!G159,3,FALSE),4),\"\"),\"\"),\"\")","v":""},null,{"$f":"IF(P_19号4様式1!J159=\"\",\"\",P_19号4様式1!J159)","v":""},{"$f":"IF(P_19号4様式1!K159=\"\",\"\",P_19号4様式1!K159)","v":""},{"$f":"IF(P_19号4様式1!L159<> \"\",IF(P_19号4様式1!L159<> \"-\",TEXT(INT(P_19号4様式1!L159),\"#,##0\"),\"-\"),\"\")","v":""},{"$f":"IF(P_19号4様式1!L159<> \"\",IF(P_19号4様式1!L159<> \"-\",IF(VALUE(FIXED(P_19号4様式1!L159,0,TRUE))<>P_19号4様式1!L159,RIGHT(FIXED(P_19号4様式1!L159,3,FALSE),4),\"\"),\"\"),\"\")","v":""},null,{"$f":"IF(P_19号4様式1!O159=\"\",\"\",P_19号4様式1!O159)","v":""},{"$f":"IF(P_19号4様式1!P159=\"\",\"\",P_19号4様式1!P159)","v":""},{"$f":"IF(P_19号4様式1!Q159<> \"\",IF(P_19号4様式1!Q159<> \"-\",TEXT(INT(P_19号4様式1!Q159),\"#,##0\"),\"-\"),\"\")","v":""},{"$f":"IF(P_19号4様式1!Q159<> \"\",IF(P_19号4様式1!Q159<> \"-\",IF(VALUE(FIXED(P_19号4様式1!Q159,0,TRUE))<>P_19号4様式1!Q159,RIGHT(FIXED(P_19号4様式1!Q159,3,FALSE),4),\"\"),\"\"),\"\")","v":""},null,{"$f":"IF(P_19号4様式1!T159=\"\",\"\",P_19号4様式1!T159)","v":""},{"$f":"IF(P_19号4様式1!U159=\"\",\"\",P_19号4様式1!U159)","v":""},{"$f":"IF(P_19号4様式1!V159<> \"\",IF(P_19号4様式1!V159<> \"-\",TEXT(INT(P_19号4様式1!V159),\"#,##0\"),\"-\"),\"\")","v":""},{"$f":"IF(P_19号4様式1!V159<> \"\",IF(P_19号4様式1!V159<> \"-\",IF(VALUE(FIXED(P_19号4様式1!V159,0,TRUE))<>P_19号4様式1!V159,RIGHT(FIXED(P_19号4様式1!V159,3,FALSE),4),\"\"),\"\"),\"\")","v":""}]
[{"$f":"IF(P_19号4様式1!E160=\"\",\"\",P_19号4様式1!E160)","v":""},{"$f":"IF(P_19号4様式1!F160=\"\",\"\",P_19号4様式1!F160)","v":""},{"$f":"IF(P_19号4様式1!G160<> \"\",IF(P_19号4様式1!G160<> \"-\",TEXT(INT(P_19号4様式1!G160),\"#,##0\"),\"-\"),\"\")","v":""},{"$f":"IF(P_19号4様式1!G160<> \"\",IF(P_19号4様式1!G160<> \"-\",IF(VALUE(FIXED(P_19号4様式1!G160,0,TRUE))<>P_19号4様式1!G160,RIGHT(FIXED(P_19号4様式1!G160,3,FALSE),4),\"\"),\"\"),\"\")","v":""},null,{"$f":"IF(P_19号4様式1!J160=\"\",\"\",P_19号4様式1!J160)","v":""},{"$f":"IF(P_19号4様式1!K160=\"\",\"\",P_19号4様式1!K160)","v":""},{"$f":"IF(P_19号4様式1!L160<> \"\",IF(P_19号4様式1!L160<> \"-\",TEXT(INT(P_19号4様式1!L160),\"#,##0\"),\"-\"),\"\")","v":""},{"$f":"IF(P_19号4様式1!L160<> \"\",IF(P_19号4様式1!L160<> \"-\",IF(VALUE(FIXED(P_19号4様式1!L160,0,TRUE))<>P_19号4様式1!L160,RIGHT(FIXED(P_19号4様式1!L160,3,FALSE),4),\"\"),\"\"),\"\")","v":""},null,{"$f":"IF(P_19号4様式1!O160=\"\",\"\",P_19号4様式1!O160)","v":""},{"$f":"IF(P_19号4様式1!P160=\"\",\"\",P_19号4様式1!P160)","v":""},{"$f":"IF(P_19号4様式1!Q160<> \"\",IF(P_19号4様式1!Q160<> \"-\",TEXT(INT(P_19号4様式1!Q160),\"#,##0\"),\"-\"),\"\")","v":""},{"$f":"IF(P_19号4様式1!Q160<> \"\",IF(P_19号4様式1!Q160<> \"-\",IF(VALUE(FIXED(P_19号4様式1!Q160,0,TRUE))<>P_19号4様式1!Q160,RIGHT(FIXED(P_19号4様式1!Q160,3,FALSE),4),\"\"),\"\"),\"\")","v":""},null,{"$f":"IF(P_19号4様式1!T160=\"\",\"\",P_19号4様式1!T160)","v":""},{"$f":"IF(P_19号4様式1!U160=\"\",\"\",P_19号4様式1!U160)","v":""},{"$f":"IF(P_19号4様式1!V160<> \"\",IF(P_19号4様式1!V160<> \"-\",TEXT(INT(P_19号4様式1!V160),\"#,##0\"),\"-\"),\"\")","v":""},{"$f":"IF(P_19号4様式1!V160<> \"\",IF(P_19号4様式1!V160<> \"-\",IF(VALUE(FIXED(P_19号4様式1!V160,0,TRUE))<>P_19号4様式1!V160,RIGHT(FIXED(P_19号4様式1!V160,3,FALSE),4),\"\"),\"\"),\"\")","v":""}]
[{"$f":"IF(P_19号4様式1!E161=\"\",\"\",P_19号4様式1!E161)","v":""},{"$f":"IF(P_19号4様式1!F161=\"\",\"\",P_19号4様式1!F161)","v":""},{"$f":"IF(P_19号4様式1!G161<> \"\",IF(P_19号4様式1!G161<> \"-\",TEXT(INT(P_19号4様式1!G161),\"#,##0\"),\"-\"),\"\")","v":""},{"$f":"IF(P_19号4様式1!G161<> \"\",IF(P_19号4様式1!G161<> \"-\",IF(VALUE(FIXED(P_19号4様式1!G161,0,TRUE))<>P_19号4様式1!G161,RIGHT(FIXED(P_19号4様式1!G161,3,FALSE),4),\"\"),\"\"),\"\")","v":""},null,{"$f":"IF(P_19号4様式1!J161=\"\",\"\",P_19号4様式1!J161)","v":""},{"$f":"IF(P_19号4様式1!K161=\"\",\"\",P_19号4様式1!K161)","v":""},{"$f":"IF(P_19号4様式1!L161<> \"\",IF(P_19号4様式1!L161<> \"-\",TEXT(INT(P_19号4様式1!L161),\"#,##0\"),\"-\"),\"\")","v":""},{"$f":"IF(P_19号4様式1!L161<> \"\",IF(P_19号4様式1!L161<> \"-\",IF(VALUE(FIXED(P_19号4様式1!L161,0,TRUE))<>P_19号4様式1!L161,RIGHT(FIXED(P_19号4様式1!L161,3,FALSE),4),\"\"),\"\"),\"\")","v":""},null,{"$f":"IF(P_19号4様式1!O161=\"\",\"\",P_19号4様式1!O161)","v":""},{"$f":"IF(P_19号4様式1!P161=\"\",\"\",P_19号4様式1!P161)","v":""},{"$f":"IF(P_19号4様式1!Q161<> \"\",IF(P_19号4様式1!Q161<> \"-\",TEXT(INT(P_19号4様式1!Q161),\"#,##0\"),\"-\"),\"\")","v":""},{"$f":"IF(P_19号4様式1!Q161<> \"\",IF(P_19号4様式1!Q161<> \"-\",IF(VALUE(FIXED(P_19号4様式1!Q161,0,TRUE))<>P_19号4様式1!Q161,RIGHT(FIXED(P_19号4様式1!Q161,3,FALSE),4),\"\"),\"\"),\"\")","v":""},null,{"$f":"IF(P_19号4様式1!T161=\"\",\"\",P_19号4様式1!T161)","v":""},{"$f":"IF(P_19号4様式1!U161=\"\",\"\",P_19号4様式1!U161)","v":""},{"$f":"IF(P_19号4様式1!V161<> \"\",IF(P_19号4様式1!V161<> \"-\",TEXT(INT(P_19号4様式1!V161),\"#,##0\"),\"-\"),\"\")","v":""},{"$f":"IF(P_19号4様式1!V161<> \"\",IF(P_19号4様式1!V161<> \"-\",IF(VALUE(FIXED(P_19号4様式1!V161,0,TRUE))<>P_19号4様式1!V161,RIGHT(FIXED(P_19号4様式1!V161,3,FALSE),4),\"\"),\"\"),\"\")","v":""}]
[{"$f":"IF(P_19号4様式1!E162=\"\",\"\",P_19号4様式1!E162)","v":""},{"$f":"IF(P_19号4様式1!F162=\"\",\"\",P_19号4様式1!F162)","v":""},{"$f":"IF(P_19号4様式1!G162<> \"\",IF(P_19号4様式1!G162<> \"-\",TEXT(INT(P_19号4様式1!G162),\"#,##0\"),\"-\"),\"\")","v":""},{"$f":"IF(P_19号4様式1!G162<> \"\",IF(P_19号4様式1!G162<> \"-\",IF(VALUE(FIXED(P_19号4様式1!G162,0,TRUE))<>P_19号4様式1!G162,RIGHT(FIXED(P_19号4様式1!G162,3,FALSE),4),\"\"),\"\"),\"\")","v":""},null,{"$f":"IF(P_19号4様式1!J162=\"\",\"\",P_19号4様式1!J162)","v":""},{"$f":"IF(P_19号4様式1!K162=\"\",\"\",P_19号4様式1!K162)","v":""},{"$f":"IF(P_19号4様式1!L162<> \"\",IF(P_19号4様式1!L162<> \"-\",TEXT(INT(P_19号4様式1!L162),\"#,##0\"),\"-\"),\"\")","v":""},{"$f":"IF(P_19号4様式1!L162<> \"\",IF(P_19号4様式1!L162<> \"-\",IF(VALUE(FIXED(P_19号4様式1!L162,0,TRUE))<>P_19号4様式1!L162,RIGHT(FIXED(P_19号4様式1!L162,3,FALSE),4),\"\"),\"\"),\"\")","v":""},null,{"$f":"IF(P_19号4様式1!O162=\"\",\"\",P_19号4様式1!O162)","v":""},{"$f":"IF(P_19号4様式1!P162=\"\",\"\",P_19号4様式1!P162)","v":""},{"$f":"IF(P_19号4様式1!Q162<> \"\",IF(P_19号4様式1!Q162<> \"-\",TEXT(INT(P_19号4様式1!Q162),\"#,##0\"),\"-\"),\"\")","v":""},{"$f":"IF(P_19号4様式1!Q162<> \"\",IF(P_19号4様式1!Q162<> \"-\",IF(VALUE(FIXED(P_19号4様式1!Q162,0,TRUE))<>P_19号4様式1!Q162,RIGHT(FIXED(P_19号4様式1!Q162,3,FALSE),4),\"\"),\"\"),\"\")","v":""},null,{"$f":"IF(P_19号4様式1!T162=\"\",\"\",P_19号4様式1!T162)","v":""},{"$f":"IF(P_19号4様式1!U162=\"\",\"\",P_19号4様式1!U162)","v":""},{"$f":"IF(P_19号4様式1!V162<> \"\",IF(P_19号4様式1!V162<> \"-\",TEXT(INT(P_19号4様式1!V162),\"#,##0\"),\"-\"),\"\")","v":""},{"$f":"IF(P_19号4様式1!V162<> \"\",IF(P_19号4様式1!V162<> \"-\",IF(VALUE(FIXED(P_19号4様式1!V162,0,TRUE))<>P_19号4様式1!V162,RIGHT(FIXED(P_19号4様式1!V162,3,FALSE),4),\"\"),\"\"),\"\")","v":""}]
[{"$f":"IF(P_19号4様式1!E163=\"\",\"\",P_19号4様式1!E163)","v":""},{"$f":"IF(P_19号4様式1!F163=\"\",\"\",P_19号4様式1!F163)","v":""},{"$f":"IF(P_19号4様式1!G163<> \"\",IF(P_19号4様式1!G163<> \"-\",TEXT(INT(P_19号4様式1!G163),\"#,##0\"),\"-\"),\"\")","v":""},{"$f":"IF(P_19号4様式1!G163<> \"\",IF(P_19号4様式1!G163<> \"-\",IF(VALUE(FIXED(P_19号4様式1!G163,0,TRUE))<>P_19号4様式1!G163,RIGHT(FIXED(P_19号4様式1!G163,3,FALSE),4),\"\"),\"\"),\"\")","v":""},null,{"$f":"IF(P_19号4様式1!J163=\"\",\"\",P_19号4様式1!J163)","v":""},{"$f":"IF(P_19号4様式1!K163=\"\",\"\",P_19号4様式1!K163)","v":""},{"$f":"IF(P_19号4様式1!L163<> \"\",IF(P_19号4様式1!L163<> \"-\",TEXT(INT(P_19号4様式1!L163),\"#,##0\"),\"-\"),\"\")","v":""},{"$f":"IF(P_19号4様式1!L163<> \"\",IF(P_19号4様式1!L163<> \"-\",IF(VALUE(FIXED(P_19号4様式1!L163,0,TRUE))<>P_19号4様式1!L163,RIGHT(FIXED(P_19号4様式1!L163,3,FALSE),4),\"\"),\"\"),\"\")","v":""},null,{"$f":"IF(P_19号4様式1!O163=\"\",\"\",P_19号4様式1!O163)","v":""},{"$f":"IF(P_19号4様式1!P163=\"\",\"\",P_19号4様式1!P163)","v":""},{"$f":"IF(P_19号4様式1!Q163<> \"\",IF(P_19号4様式1!Q163<> \"-\",TEXT(INT(P_19号4様式1!Q163),\"#,##0\"),\"-\"),\"\")","v":""},{"$f":"IF(P_19号4様式1!Q163<> \"\",IF(P_19号4様式1!Q163<> \"-\",IF(VALUE(FIXED(P_19号4様式1!Q163,0,TRUE))<>P_19号4様式1!Q163,RIGHT(FIXED(P_19号4様式1!Q163,3,FALSE),4),\"\"),\"\"),\"\")","v":""},null,{"$f":"IF(P_19号4様式1!T163=\"\",\"\",P_19号4様式1!T163)","v":""},{"$f":"IF(P_19号4様式1!U163=\"\",\"\",P_19号4様式1!U163)","v":""},{"$f":"IF(P_19号4様式1!V163<> \"\",IF(P_19号4様式1!V163<> \"-\",TEXT(INT(P_19号4様式1!V163),\"#,##0\"),\"-\"),\"\")","v":""},{"$f":"IF(P_19号4様式1!V163<> \"\",IF(P_19号4様式1!V163<> \"-\",IF(VALUE(FIXED(P_19号4様式1!V163,0,TRUE))<>P_19号4様式1!V163,RIGHT(FIXED(P_19号4様式1!V163,3,FALSE),4),\"\"),\"\"),\"\")","v":""}]
[{"$f":"IF(P_19号4様式1!E164=\"\",\"\",P_19号4様式1!E164)","v":""},{"$f":"IF(P_19号4様式1!F164=\"\",\"\",P_19号4様式1!F164)","v":""},{"$f":"IF(P_19号4様式1!G164<> \"\",IF(P_19号4様式1!G164<> \"-\",TEXT(INT(P_19号4様式1!G164),\"#,##0\"),\"-\"),\"\")","v":""},{"$f":"IF(P_19号4様式1!G164<> \"\",IF(P_19号4様式1!G164<> \"-\",IF(VALUE(FIXED(P_19号4様式1!G164,0,TRUE))<>P_19号4様式1!G164,RIGHT(FIXED(P_19号4様式1!G164,3,FALSE),4),\"\"),\"\"),\"\")","v":""},null,{"$f":"IF(P_19号4様式1!J164=\"\",\"\",P_19号4様式1!J164)","v":""},{"$f":"IF(P_19号4様式1!K164=\"\",\"\",P_19号4様式1!K164)","v":""},{"$f":"IF(P_19号4様式1!L164<> \"\",IF(P_19号4様式1!L164<> \"-\",TEXT(INT(P_19号4様式1!L164),\"#,##0\"),\"-\"),\"\")","v":""},{"$f":"IF(P_19号4様式1!L164<> \"\",IF(P_19号4様式1!L164<> \"-\",IF(VALUE(FIXED(P_19号4様式1!L164,0,TRUE))<>P_19号4様式1!L164,RIGHT(FIXED(P_19号4様式1!L164,3,FALSE),4),\"\"),\"\"),\"\")","v":""},null,{"$f":"IF(P_19号4様式1!O164=\"\",\"\",P_19号4様式1!O164)","v":""},{"$f":"IF(P_19号4様式1!P164=\"\",\"\",P_19号4様式1!P164)","v":""},{"$f":"IF(P_19号4様式1!Q164<> \"\",IF(P_19号4様式1!Q164<> \"-\",TEXT(INT(P_19号4様式1!Q164),\"#,##0\"),\"-\"),\"\")","v":""},{"$f":"IF(P_19号4様式1!Q164<> \"\",IF(P_19号4様式1!Q164<> \"-\",IF(VALUE(FIXED(P_19号4様式1!Q164,0,TRUE))<>P_19号4様式1!Q164,RIGHT(FIXED(P_19号4様式1!Q164,3,FALSE),4),\"\"),\"\"),\"\")","v":""},null,{"$f":"IF(P_19号4様式1!T164=\"\",\"\",P_19号4様式1!T164)","v":""},{"$f":"IF(P_19号4様式1!U164=\"\",\"\",P_19号4様式1!U164)","v":""},{"$f":"IF(P_19号4様式1!V164<> \"\",IF(P_19号4様式1!V164<> \"-\",TEXT(INT(P_19号4様式1!V164),\"#,##0\"),\"-\"),\"\")","v":""},{"$f":"IF(P_19号4様式1!V164<> \"\",IF(P_19号4様式1!V164<> \"-\",IF(VALUE(FIXED(P_19号4様式1!V164,0,TRUE))<>P_19号4様式1!V164,RIGHT(FIXED(P_19号4様式1!V164,3,FALSE),4),\"\"),\"\"),\"\")","v":""}]
[{"$f":"IF(P_19号4様式1!E165=\"\",\"\",P_19号4様式1!E165)","v":""},{"$f":"IF(P_19号4様式1!F165=\"\",\"\",P_19号4様式1!F165)","v":""},{"$f":"IF(P_19号4様式1!G165<> \"\",IF(P_19号4様式1!G165<> \"-\",TEXT(INT(P_19号4様式1!G165),\"#,##0\"),\"-\"),\"\")","v":""},{"$f":"IF(P_19号4様式1!G165<> \"\",IF(P_19号4様式1!G165<> \"-\",IF(VALUE(FIXED(P_19号4様式1!G165,0,TRUE))<>P_19号4様式1!G165,RIGHT(FIXED(P_19号4様式1!G165,3,FALSE),4),\"\"),\"\"),\"\")","v":""},null,{"$f":"IF(P_19号4様式1!J165=\"\",\"\",P_19号4様式1!J165)","v":""},{"$f":"IF(P_19号4様式1!K165=\"\",\"\",P_19号4様式1!K165)","v":""},{"$f":"IF(P_19号4様式1!L165<> \"\",IF(P_19号4様式1!L165<> \"-\",TEXT(INT(P_19号4様式1!L165),\"#,##0\"),\"-\"),\"\")","v":""},{"$f":"IF(P_19号4様式1!L165<> \"\",IF(P_19号4様式1!L165<> \"-\",IF(VALUE(FIXED(P_19号4様式1!L165,0,TRUE))<>P_19号4様式1!L165,RIGHT(FIXED(P_19号4様式1!L165,3,FALSE),4),\"\"),\"\"),\"\")","v":""},null,{"$f":"IF(P_19号4様式1!O165=\"\",\"\",P_19号4様式1!O165)","v":""},{"$f":"IF(P_19号4様式1!P165=\"\",\"\",P_19号4様式1!P165)","v":""},{"$f":"IF(P_19号4様式1!Q165<> \"\",IF(P_19号4様式1!Q165<> \"-\",TEXT(INT(P_19号4様式1!Q165),\"#,##0\"),\"-\"),\"\")","v":""},{"$f":"IF(P_19号4様式1!Q165<> \"\",IF(P_19号4様式1!Q165<> \"-\",IF(VALUE(FIXED(P_19号4様式1!Q165,0,TRUE))<>P_19号4様式1!Q165,RIGHT(FIXED(P_19号4様式1!Q165,3,FALSE),4),\"\"),\"\"),\"\")","v":""},null,{"$f":"IF(P_19号4様式1!T165=\"\",\"\",P_19号4様式1!T165)","v":""},{"$f":"IF(P_19号4様式1!U165=\"\",\"\",P_19号4様式1!U165)","v":""},{"$f":"IF(P_19号4様式1!V165<> \"\",IF(P_19号4様式1!V165<> \"-\",TEXT(INT(P_19号4様式1!V165),\"#,##0\"),\"-\"),\"\")","v":""},{"$f":"IF(P_19号4様式1!V165<> \"\",IF(P_19号4様式1!V165<> \"-\",IF(VALUE(FIXED(P_19号4様式1!V165,0,TRUE))<>P_19号4様式1!V165,RIGHT(FIXED(P_19号4様式1!V165,3,FALSE),4),\"\"),\"\"),\"\")","v":""}]
[{"$f":"IF(P_19号4様式1!E166=\"\",\"\",P_19号4様式1!E166)","v":""},{"$f":"IF(P_19号4様式1!F166=\"\",\"\",P_19号4様式1!F166)","v":""},{"$f":"IF(P_19号4様式1!G166<> \"\",IF(P_19号4様式1!G166<> \"-\",TEXT(INT(P_19号4様式1!G166),\"#,##0\"),\"-\"),\"\")","v":""},{"$f":"IF(P_19号4様式1!G166<> \"\",IF(P_19号4様式1!G166<> \"-\",IF(VALUE(FIXED(P_19号4様式1!G166,0,TRUE))<>P_19号4様式1!G166,RIGHT(FIXED(P_19号4様式1!G166,3,FALSE),4),\"\"),\"\"),\"\")","v":""},null,{"$f":"IF(P_19号4様式1!J166=\"\",\"\",P_19号4様式1!J166)","v":""},{"$f":"IF(P_19号4様式1!K166=\"\",\"\",P_19号4様式1!K166)","v":""},{"$f":"IF(P_19号4様式1!L166<> \"\",IF(P_19号4様式1!L166<> \"-\",TEXT(INT(P_19号4様式1!L166),\"#,##0\"),\"-\"),\"\")","v":""},{"$f":"IF(P_19号4様式1!L166<> \"\",IF(P_19号4様式1!L166<> \"-\",IF(VALUE(FIXED(P_19号4様式1!L166,0,TRUE))<>P_19号4様式1!L166,RIGHT(FIXED(P_19号4様式1!L166,3,FALSE),4),\"\"),\"\"),\"\")","v":""},null,{"$f":"IF(P_19号4様式1!O166=\"\",\"\",P_19号4様式1!O166)","v":""},{"$f":"IF(P_19号4様式1!P166=\"\",\"\",P_19号4様式1!P166)","v":""},{"$f":"IF(P_19号4様式1!Q166<> \"\",IF(P_19号4様式1!Q166<> \"-\",TEXT(INT(P_19号4様式1!Q166),\"#,##0\"),\"-\"),\"\")","v":""},{"$f":"IF(P_19号4様式1!Q166<> \"\",IF(P_19号4様式1!Q166<> \"-\",IF(VALUE(FIXED(P_19号4様式1!Q166,0,TRUE))<>P_19号4様式1!Q166,RIGHT(FIXED(P_19号4様式1!Q166,3,FALSE),4),\"\"),\"\"),\"\")","v":""},null,{"$f":"IF(P_19号4様式1!T166=\"\",\"\",P_19号4様式1!T166)","v":""},{"$f":"IF(P_19号4様式1!U166=\"\",\"\",P_19号4様式1!U166)","v":""},{"$f":"IF(P_19号4様式1!V166<> \"\",IF(P_19号4様式1!V166<> \"-\",TEXT(INT(P_19号4様式1!V166),\"#,##0\"),\"-\"),\"\")","v":""},{"$f":"IF(P_19号4様式1!V166<> \"\",IF(P_19号4様式1!V166<> \"-\",IF(VALUE(FIXED(P_19号4様式1!V166,0,TRUE))<>P_19号4様式1!V166,RIGHT(FIXED(P_19号4様式1!V166,3,FALSE),4),\"\"),\"\"),\"\")","v":""}]
[{"$f":"IF(P_19号4様式1!E167=\"\",\"\",P_19号4様式1!E167)","v":""},{"$f":"IF(P_19号4様式1!F167=\"\",\"\",P_19号4様式1!F167)","v":""},{"$f":"IF(P_19号4様式1!G167<> \"\",IF(P_19号4様式1!G167<> \"-\",TEXT(INT(P_19号4様式1!G167),\"#,##0\"),\"-\"),\"\")","v":""},{"$f":"IF(P_19号4様式1!G167<> \"\",IF(P_19号4様式1!G167<> \"-\",IF(VALUE(FIXED(P_19号4様式1!G167,0,TRUE))<>P_19号4様式1!G167,RIGHT(FIXED(P_19号4様式1!G167,3,FALSE),4),\"\"),\"\"),\"\")","v":""},null,{"$f":"IF(P_19号4様式1!J167=\"\",\"\",P_19号4様式1!J167)","v":""},{"$f":"IF(P_19号4様式1!K167=\"\",\"\",P_19号4様式1!K167)","v":""},{"$f":"IF(P_19号4様式1!L167<> \"\",IF(P_19号4様式1!L167<> \"-\",TEXT(INT(P_19号4様式1!L167),\"#,##0\"),\"-\"),\"\")","v":""},{"$f":"IF(P_19号4様式1!L167<> \"\",IF(P_19号4様式1!L167<> \"-\",IF(VALUE(FIXED(P_19号4様式1!L167,0,TRUE))<>P_19号4様式1!L167,RIGHT(FIXED(P_19号4様式1!L167,3,FALSE),4),\"\"),\"\"),\"\")","v":""},null,{"$f":"IF(P_19号4様式1!O167=\"\",\"\",P_19号4様式1!O167)","v":""},{"$f":"IF(P_19号4様式1!P167=\"\",\"\",P_19号4様式1!P167)","v":""},{"$f":"IF(P_19号4様式1!Q167<> \"\",IF(P_19号4様式1!Q167<> \"-\",TEXT(INT(P_19号4様式1!Q167),\"#,##0\"),\"-\"),\"\")","v":""},{"$f":"IF(P_19号4様式1!Q167<> \"\",IF(P_19号4様式1!Q167<> \"-\",IF(VALUE(FIXED(P_19号4様式1!Q167,0,TRUE))<>P_19号4様式1!Q167,RIGHT(FIXED(P_19号4様式1!Q167,3,FALSE),4),\"\"),\"\"),\"\")","v":""},null,{"$f":"IF(P_19号4様式1!T167=\"\",\"\",P_19号4様式1!T167)","v":""},{"$f":"IF(P_19号4様式1!U167=\"\",\"\",P_19号4様式1!U167)","v":""},{"$f":"IF(P_19号4様式1!V167<> \"\",IF(P_19号4様式1!V167<> \"-\",TEXT(INT(P_19号4様式1!V167),\"#,##0\"),\"-\"),\"\")","v":""},{"$f":"IF(P_19号4様式1!V167<> \"\",IF(P_19号4様式1!V167<> \"-\",IF(VALUE(FIXED(P_19号4様式1!V167,0,TRUE))<>P_19号4様式1!V167,RIGHT(FIXED(P_19号4様式1!V167,3,FALSE),4),\"\"),\"\"),\"\")","v":""}]
[{"$f":"IF(P_19号4様式1!E168=\"\",\"\",P_19号4様式1!E168)","v":""},{"$f":"IF(P_19号4様式1!F168=\"\",\"\",P_19号4様式1!F168)","v":""},{"$f":"IF(P_19号4様式1!G168<> \"\",IF(P_19号4様式1!G168<> \"-\",TEXT(INT(P_19号4様式1!G168),\"#,##0\"),\"-\"),\"\")","v":""},{"$f":"IF(P_19号4様式1!G168<> \"\",IF(P_19号4様式1!G168<> \"-\",IF(VALUE(FIXED(P_19号4様式1!G168,0,TRUE))<>P_19号4様式1!G168,RIGHT(FIXED(P_19号4様式1!G168,3,FALSE),4),\"\"),\"\"),\"\")","v":""},null,{"$f":"IF(P_19号4様式1!J168=\"\",\"\",P_19号4様式1!J168)","v":""},{"$f":"IF(P_19号4様式1!K168=\"\",\"\",P_19号4様式1!K168)","v":""},{"$f":"IF(P_19号4様式1!L168<> \"\",IF(P_19号4様式1!L168<> \"-\",TEXT(INT(P_19号4様式1!L168),\"#,##0\"),\"-\"),\"\")","v":""},{"$f":"IF(P_19号4様式1!L168<> \"\",IF(P_19号4様式1!L168<> \"-\",IF(VALUE(FIXED(P_19号4様式1!L168,0,TRUE))<>P_19号4様式1!L168,RIGHT(FIXED(P_19号4様式1!L168,3,FALSE),4),\"\"),\"\"),\"\")","v":""},null,{"$f":"IF(P_19号4様式1!O168=\"\",\"\",P_19号4様式1!O168)","v":""},{"$f":"IF(P_19号4様式1!P168=\"\",\"\",P_19号4様式1!P168)","v":""},{"$f":"IF(P_19号4様式1!Q168<> \"\",IF(P_19号4様式1!Q168<> \"-\",TEXT(INT(P_19号4様式1!Q168),\"#,##0\"),\"-\"),\"\")","v":""},{"$f":"IF(P_19号4様式1!Q168<> \"\",IF(P_19号4様式1!Q168<> \"-\",IF(VALUE(FIXED(P_19号4様式1!Q168,0,TRUE))<>P_19号4様式1!Q168,RIGHT(FIXED(P_19号4様式1!Q168,3,FALSE),4),\"\"),\"\"),\"\")","v":""},null,{"$f":"IF(P_19号4様式1!T168=\"\",\"\",P_19号4様式1!T168)","v":""},{"$f":"IF(P_19号4様式1!U168=\"\",\"\",P_19号4様式1!U168)","v":""},{"$f":"IF(P_19号4様式1!V168<> \"\",IF(P_19号4様式1!V168<> \"-\",TEXT(INT(P_19号4様式1!V168),\"#,##0\"),\"-\"),\"\")","v":""},{"$f":"IF(P_19号4様式1!V168<> \"\",IF(P_19号4様式1!V168<> \"-\",IF(VALUE(FIXED(P_19号4様式1!V168,0,TRUE))<>P_19号4様式1!V168,RIGHT(FIXED(P_19号4様式1!V168,3,FALSE),4),\"\"),\"\"),\"\")","v":""}]
[{"$f":"IF(P_19号4様式1!E169=\"\",\"\",P_19号4様式1!E169)","v":""},{"$f":"IF(P_19号4様式1!F169=\"\",\"\",P_19号4様式1!F169)","v":""},{"$f":"IF(P_19号4様式1!G169<> \"\",IF(P_19号4様式1!G169<> \"-\",TEXT(INT(P_19号4様式1!G169),\"#,##0\"),\"-\"),\"\")","v":""},{"$f":"IF(P_19号4様式1!G169<> \"\",IF(P_19号4様式1!G169<> \"-\",IF(VALUE(FIXED(P_19号4様式1!G169,0,TRUE))<>P_19号4様式1!G169,RIGHT(FIXED(P_19号4様式1!G169,3,FALSE),4),\"\"),\"\"),\"\")","v":""},null,{"$f":"IF(P_19号4様式1!J169=\"\",\"\",P_19号4様式1!J169)","v":""},{"$f":"IF(P_19号4様式1!K169=\"\",\"\",P_19号4様式1!K169)","v":""},{"$f":"IF(P_19号4様式1!L169<> \"\",IF(P_19号4様式1!L169<> \"-\",TEXT(INT(P_19号4様式1!L169),\"#,##0\"),\"-\"),\"\")","v":""},{"$f":"IF(P_19号4様式1!L169<> \"\",IF(P_19号4様式1!L169<> \"-\",IF(VALUE(FIXED(P_19号4様式1!L169,0,TRUE))<>P_19号4様式1!L169,RIGHT(FIXED(P_19号4様式1!L169,3,FALSE),4),\"\"),\"\"),\"\")","v":""},null,{"$f":"IF(P_19号4様式1!O169=\"\",\"\",P_19号4様式1!O169)","v":""},{"$f":"IF(P_19号4様式1!P169=\"\",\"\",P_19号4様式1!P169)","v":""},{"$f":"IF(P_19号4様式1!Q169<> \"\",IF(P_19号4様式1!Q169<> \"-\",TEXT(INT(P_19号4様式1!Q169),\"#,##0\"),\"-\"),\"\")","v":""},{"$f":"IF(P_19号4様式1!Q169<> \"\",IF(P_19号4様式1!Q169<> \"-\",IF(VALUE(FIXED(P_19号4様式1!Q169,0,TRUE))<>P_19号4様式1!Q169,RIGHT(FIXED(P_19号4様式1!Q169,3,FALSE),4),\"\"),\"\"),\"\")","v":""},null,{"$f":"IF(P_19号4様式1!T169=\"\",\"\",P_19号4様式1!T169)","v":""},{"$f":"IF(P_19号4様式1!U169=\"\",\"\",P_19号4様式1!U169)","v":""},{"$f":"IF(P_19号4様式1!V169<> \"\",IF(P_19号4様式1!V169<> \"-\",TEXT(INT(P_19号4様式1!V169),\"#,##0\"),\"-\"),\"\")","v":""},{"$f":"IF(P_19号4様式1!V169<> \"\",IF(P_19号4様式1!V169<> \"-\",IF(VALUE(FIXED(P_19号4様式1!V169,0,TRUE))<>P_19号4様式1!V169,RIGHT(FIXED(P_19号4様式1!V169,3,FALSE),4),\"\"),\"\"),\"\")","v":""}]
[{"$f":"IF(P_19号4様式1!E170=\"\",\"\",P_19号4様式1!E170)","v":""},{"$f":"IF(P_19号4様式1!F170=\"\",\"\",P_19号4様式1!F170)","v":""},{"$f":"IF(P_19号4様式1!G170<> \"\",IF(P_19号4様式1!G170<> \"-\",TEXT(INT(P_19号4様式1!G170),\"#,##0\"),\"-\"),\"\")","v":""},{"$f":"IF(P_19号4様式1!G170<> \"\",IF(P_19号4様式1!G170<> \"-\",IF(VALUE(FIXED(P_19号4様式1!G170,0,TRUE))<>P_19号4様式1!G170,RIGHT(FIXED(P_19号4様式1!G170,3,FALSE),4),\"\"),\"\"),\"\")","v":""},null,{"$f":"IF(P_19号4様式1!J170=\"\",\"\",P_19号4様式1!J170)","v":""},{"$f":"IF(P_19号4様式1!K170=\"\",\"\",P_19号4様式1!K170)","v":""},{"$f":"IF(P_19号4様式1!L170<> \"\",IF(P_19号4様式1!L170<> \"-\",TEXT(INT(P_19号4様式1!L170),\"#,##0\"),\"-\"),\"\")","v":""},{"$f":"IF(P_19号4様式1!L170<> \"\",IF(P_19号4様式1!L170<> \"-\",IF(VALUE(FIXED(P_19号4様式1!L170,0,TRUE))<>P_19号4様式1!L170,RIGHT(FIXED(P_19号4様式1!L170,3,FALSE),4),\"\"),\"\"),\"\")","v":""},null,{"$f":"IF(P_19号4様式1!O170=\"\",\"\",P_19号4様式1!O170)","v":""},{"$f":"IF(P_19号4様式1!P170=\"\",\"\",P_19号4様式1!P170)","v":""},{"$f":"IF(P_19号4様式1!Q170<> \"\",IF(P_19号4様式1!Q170<> \"-\",TEXT(INT(P_19号4様式1!Q170),\"#,##0\"),\"-\"),\"\")","v":""},{"$f":"IF(P_19号4様式1!Q170<> \"\",IF(P_19号4様式1!Q170<> \"-\",IF(VALUE(FIXED(P_19号4様式1!Q170,0,TRUE))<>P_19号4様式1!Q170,RIGHT(FIXED(P_19号4様式1!Q170,3,FALSE),4),\"\"),\"\"),\"\")","v":""},null,{"$f":"IF(P_19号4様式1!T170=\"\",\"\",P_19号4様式1!T170)","v":""},{"$f":"IF(P_19号4様式1!U170=\"\",\"\",P_19号4様式1!U170)","v":""},{"$f":"IF(P_19号4様式1!V170<> \"\",IF(P_19号4様式1!V170<> \"-\",TEXT(INT(P_19号4様式1!V170),\"#,##0\"),\"-\"),\"\")","v":""},{"$f":"IF(P_19号4様式1!V170<> \"\",IF(P_19号4様式1!V170<> \"-\",IF(VALUE(FIXED(P_19号4様式1!V170,0,TRUE))<>P_19号4様式1!V170,RIGHT(FIXED(P_19号4様式1!V170,3,FALSE),4),\"\"),\"\"),\"\")","v":""}]
[{"$f":"IF(P_19号4様式1!E171=\"\",\"\",P_19号4様式1!E171)","v":""},{"$f":"IF(P_19号4様式1!F171=\"\",\"\",P_19号4様式1!F171)","v":""},{"$f":"IF(P_19号4様式1!G171<> \"\",IF(P_19号4様式1!G171<> \"-\",TEXT(INT(P_19号4様式1!G171),\"#,##0\"),\"-\"),\"\")","v":""},{"$f":"IF(P_19号4様式1!G171<> \"\",IF(P_19号4様式1!G171<> \"-\",IF(VALUE(FIXED(P_19号4様式1!G171,0,TRUE))<>P_19号4様式1!G171,RIGHT(FIXED(P_19号4様式1!G171,3,FALSE),4),\"\"),\"\"),\"\")","v":""},null,{"$f":"IF(P_19号4様式1!J171=\"\",\"\",P_19号4様式1!J171)","v":""},{"$f":"IF(P_19号4様式1!K171=\"\",\"\",P_19号4様式1!K171)","v":""},{"$f":"IF(P_19号4様式1!L171<> \"\",IF(P_19号4様式1!L171<> \"-\",TEXT(INT(P_19号4様式1!L171),\"#,##0\"),\"-\"),\"\")","v":""},{"$f":"IF(P_19号4様式1!L171<> \"\",IF(P_19号4様式1!L171<> \"-\",IF(VALUE(FIXED(P_19号4様式1!L171,0,TRUE))<>P_19号4様式1!L171,RIGHT(FIXED(P_19号4様式1!L171,3,FALSE),4),\"\"),\"\"),\"\")","v":""},null,{"$f":"IF(P_19号4様式1!O171=\"\",\"\",P_19号4様式1!O171)","v":""},{"$f":"IF(P_19号4様式1!P171=\"\",\"\",P_19号4様式1!P171)","v":""},{"$f":"IF(P_19号4様式1!Q171<> \"\",IF(P_19号4様式1!Q171<> \"-\",TEXT(INT(P_19号4様式1!Q171),\"#,##0\"),\"-\"),\"\")","v":""},{"$f":"IF(P_19号4様式1!Q171<> \"\",IF(P_19号4様式1!Q171<> \"-\",IF(VALUE(FIXED(P_19号4様式1!Q171,0,TRUE))<>P_19号4様式1!Q171,RIGHT(FIXED(P_19号4様式1!Q171,3,FALSE),4),\"\"),\"\"),\"\")","v":""},null,{"$f":"IF(P_19号4様式1!T171=\"\",\"\",P_19号4様式1!T171)","v":""},{"$f":"IF(P_19号4様式1!U171=\"\",\"\",P_19号4様式1!U171)","v":""},{"$f":"IF(P_19号4様式1!V171<> \"\",IF(P_19号4様式1!V171<> \"-\",TEXT(INT(P_19号4様式1!V171),\"#,##0\"),\"-\"),\"\")","v":""},{"$f":"IF(P_19号4様式1!V171<> \"\",IF(P_19号4様式1!V171<> \"-\",IF(VALUE(FIXED(P_19号4様式1!V171,0,TRUE))<>P_19号4様式1!V171,RIGHT(FIXED(P_19号4様式1!V171,3,FALSE),4),\"\"),\"\"),\"\")","v":""}]
[{"$f":"IF(P_19号4様式1!E172=\"\",\"\",P_19号4様式1!E172)","v":""},{"$f":"IF(P_19号4様式1!F172=\"\",\"\",P_19号4様式1!F172)","v":""},{"$f":"IF(P_19号4様式1!G172<> \"\",IF(P_19号4様式1!G172<> \"-\",TEXT(INT(P_19号4様式1!G172),\"#,##0\"),\"-\"),\"\")","v":""},{"$f":"IF(P_19号4様式1!G172<> \"\",IF(P_19号4様式1!G172<> \"-\",IF(VALUE(FIXED(P_19号4様式1!G172,0,TRUE))<>P_19号4様式1!G172,RIGHT(FIXED(P_19号4様式1!G172,3,FALSE),4),\"\"),\"\"),\"\")","v":""},null,{"$f":"IF(P_19号4様式1!J172=\"\",\"\",P_19号4様式1!J172)","v":""},{"$f":"IF(P_19号4様式1!K172=\"\",\"\",P_19号4様式1!K172)","v":""},{"$f":"IF(P_19号4様式1!L172<> \"\",IF(P_19号4様式1!L172<> \"-\",TEXT(INT(P_19号4様式1!L172),\"#,##0\"),\"-\"),\"\")","v":""},{"$f":"IF(P_19号4様式1!L172<> \"\",IF(P_19号4様式1!L172<> \"-\",IF(VALUE(FIXED(P_19号4様式1!L172,0,TRUE))<>P_19号4様式1!L172,RIGHT(FIXED(P_19号4様式1!L172,3,FALSE),4),\"\"),\"\"),\"\")","v":""},null,{"$f":"IF(P_19号4様式1!O172=\"\",\"\",P_19号4様式1!O172)","v":""},{"$f":"IF(P_19号4様式1!P172=\"\",\"\",P_19号4様式1!P172)","v":""},{"$f":"IF(P_19号4様式1!Q172<> \"\",IF(P_19号4様式1!Q172<> \"-\",TEXT(INT(P_19号4様式1!Q172),\"#,##0\"),\"-\"),\"\")","v":""},{"$f":"IF(P_19号4様式1!Q172<> \"\",IF(P_19号4様式1!Q172<> \"-\",IF(VALUE(FIXED(P_19号4様式1!Q172,0,TRUE))<>P_19号4様式1!Q172,RIGHT(FIXED(P_19号4様式1!Q172,3,FALSE),4),\"\"),\"\"),\"\")","v":""},null,{"$f":"IF(P_19号4様式1!T172=\"\",\"\",P_19号4様式1!T172)","v":""},{"$f":"IF(P_19号4様式1!U172=\"\",\"\",P_19号4様式1!U172)","v":""},{"$f":"IF(P_19号4様式1!V172<> \"\",IF(P_19号4様式1!V172<> \"-\",TEXT(INT(P_19号4様式1!V172),\"#,##0\"),\"-\"),\"\")","v":""},{"$f":"IF(P_19号4様式1!V172<> \"\",IF(P_19号4様式1!V172<> \"-\",IF(VALUE(FIXED(P_19号4様式1!V172,0,TRUE))<>P_19号4様式1!V172,RIGHT(FIXED(P_19号4様式1!V172,3,FALSE),4),\"\"),\"\"),\"\")","v":""}]
[{"$f":"IF(P_19号4様式1!E173=\"\",\"\",P_19号4様式1!E173)","v":""},{"$f":"IF(P_19号4様式1!F173=\"\",\"\",P_19号4様式1!F173)","v":""},{"$f":"IF(P_19号4様式1!G173<> \"\",IF(P_19号4様式1!G173<> \"-\",TEXT(INT(P_19号4様式1!G173),\"#,##0\"),\"-\"),\"\")","v":""},{"$f":"IF(P_19号4様式1!G173<> \"\",IF(P_19号4様式1!G173<> \"-\",IF(VALUE(FIXED(P_19号4様式1!G173,0,TRUE))<>P_19号4様式1!G173,RIGHT(FIXED(P_19号4様式1!G173,3,FALSE),4),\"\"),\"\"),\"\")","v":""},null,{"$f":"IF(P_19号4様式1!J173=\"\",\"\",P_19号4様式1!J173)","v":""},{"$f":"IF(P_19号4様式1!K173=\"\",\"\",P_19号4様式1!K173)","v":""},{"$f":"IF(P_19号4様式1!L173<> \"\",IF(P_19号4様式1!L173<> \"-\",TEXT(INT(P_19号4様式1!L173),\"#,##0\"),\"-\"),\"\")","v":""},{"$f":"IF(P_19号4様式1!L173<> \"\",IF(P_19号4様式1!L173<> \"-\",IF(VALUE(FIXED(P_19号4様式1!L173,0,TRUE))<>P_19号4様式1!L173,RIGHT(FIXED(P_19号4様式1!L173,3,FALSE),4),\"\"),\"\"),\"\")","v":""},null,{"$f":"IF(P_19号4様式1!O173=\"\",\"\",P_19号4様式1!O173)","v":""},{"$f":"IF(P_19号4様式1!P173=\"\",\"\",P_19号4様式1!P173)","v":""},{"$f":"IF(P_19号4様式1!Q173<> \"\",IF(P_19号4様式1!Q173<> \"-\",TEXT(INT(P_19号4様式1!Q173),\"#,##0\"),\"-\"),\"\")","v":""},{"$f":"IF(P_19号4様式1!Q173<> \"\",IF(P_19号4様式1!Q173<> \"-\",IF(VALUE(FIXED(P_19号4様式1!Q173,0,TRUE))<>P_19号4様式1!Q173,RIGHT(FIXED(P_19号4様式1!Q173,3,FALSE),4),\"\"),\"\"),\"\")","v":""},null,{"$f":"IF(P_19号4様式1!T173=\"\",\"\",P_19号4様式1!T173)","v":""},{"$f":"IF(P_19号4様式1!U173=\"\",\"\",P_19号4様式1!U173)","v":""},{"$f":"IF(P_19号4様式1!V173<> \"\",IF(P_19号4様式1!V173<> \"-\",TEXT(INT(P_19号4様式1!V173),\"#,##0\"),\"-\"),\"\")","v":""},{"$f":"IF(P_19号4様式1!V173<> \"\",IF(P_19号4様式1!V173<> \"-\",IF(VALUE(FIXED(P_19号4様式1!V173,0,TRUE))<>P_19号4様式1!V173,RIGHT(FIXED(P_19号4様式1!V173,3,FALSE),4),\"\"),\"\"),\"\")","v":""}]
[{"$f":"IF(P_19号4様式1!E174=\"\",\"\",P_19号4様式1!E174)","v":""},{"$f":"IF(P_19号4様式1!F174=\"\",\"\",P_19号4様式1!F174)","v":""},{"$f":"IF(P_19号4様式1!G174<> \"\",IF(P_19号4様式1!G174<> \"-\",TEXT(INT(P_19号4様式1!G174),\"#,##0\"),\"-\"),\"\")","v":""},{"$f":"IF(P_19号4様式1!G174<> \"\",IF(P_19号4様式1!G174<> \"-\",IF(VALUE(FIXED(P_19号4様式1!G174,0,TRUE))<>P_19号4様式1!G174,RIGHT(FIXED(P_19号4様式1!G174,3,FALSE),4),\"\"),\"\"),\"\")","v":""},null,{"$f":"IF(P_19号4様式1!J174=\"\",\"\",P_19号4様式1!J174)","v":""},{"$f":"IF(P_19号4様式1!K174=\"\",\"\",P_19号4様式1!K174)","v":""},{"$f":"IF(P_19号4様式1!L174<> \"\",IF(P_19号4様式1!L174<> \"-\",TEXT(INT(P_19号4様式1!L174),\"#,##0\"),\"-\"),\"\")","v":""},{"$f":"IF(P_19号4様式1!L174<> \"\",IF(P_19号4様式1!L174<> \"-\",IF(VALUE(FIXED(P_19号4様式1!L174,0,TRUE))<>P_19号4様式1!L174,RIGHT(FIXED(P_19号4様式1!L174,3,FALSE),4),\"\"),\"\"),\"\")","v":""},null,{"$f":"IF(P_19号4様式1!O174=\"\",\"\",P_19号4様式1!O174)","v":""},{"$f":"IF(P_19号4様式1!P174=\"\",\"\",P_19号4様式1!P174)","v":""},{"$f":"IF(P_19号4様式1!Q174<> \"\",IF(P_19号4様式1!Q174<> \"-\",TEXT(INT(P_19号4様式1!Q174),\"#,##0\"),\"-\"),\"\")","v":""},{"$f":"IF(P_19号4様式1!Q174<> \"\",IF(P_19号4様式1!Q174<> \"-\",IF(VALUE(FIXED(P_19号4様式1!Q174,0,TRUE))<>P_19号4様式1!Q174,RIGHT(FIXED(P_19号4様式1!Q174,3,FALSE),4),\"\"),\"\"),\"\")","v":""},null,{"$f":"IF(P_19号4様式1!T174=\"\",\"\",P_19号4様式1!T174)","v":""},{"$f":"IF(P_19号4様式1!U174=\"\",\"\",P_19号4様式1!U174)","v":""},{"$f":"IF(P_19号4様式1!V174<> \"\",IF(P_19号4様式1!V174<> \"-\",TEXT(INT(P_19号4様式1!V174),\"#,##0\"),\"-\"),\"\")","v":""},{"$f":"IF(P_19号4様式1!V174<> \"\",IF(P_19号4様式1!V174<> \"-\",IF(VALUE(FIXED(P_19号4様式1!V174,0,TRUE))<>P_19号4様式1!V174,RIGHT(FIXED(P_19号4様式1!V174,3,FALSE),4),\"\"),\"\"),\"\")","v":""}]
[{"$f":"IF(P_19号4様式1!E175=\"\",\"\",P_19号4様式1!E175)","v":""},{"$f":"IF(P_19号4様式1!F175=\"\",\"\",P_19号4様式1!F175)","v":""},{"$f":"IF(P_19号4様式1!G175<> \"\",IF(P_19号4様式1!G175<> \"-\",TEXT(INT(P_19号4様式1!G175),\"#,##0\"),\"-\"),\"\")","v":""},{"$f":"IF(P_19号4様式1!G175<> \"\",IF(P_19号4様式1!G175<> \"-\",IF(VALUE(FIXED(P_19号4様式1!G175,0,TRUE))<>P_19号4様式1!G175,RIGHT(FIXED(P_19号4様式1!G175,3,FALSE),4),\"\"),\"\"),\"\")","v":""},null,{"$f":"IF(P_19号4様式1!J175=\"\",\"\",P_19号4様式1!J175)","v":""},{"$f":"IF(P_19号4様式1!K175=\"\",\"\",P_19号4様式1!K175)","v":""},{"$f":"IF(P_19号4様式1!L175<> \"\",IF(P_19号4様式1!L175<> \"-\",TEXT(INT(P_19号4様式1!L175),\"#,##0\"),\"-\"),\"\")","v":""},{"$f":"IF(P_19号4様式1!L175<> \"\",IF(P_19号4様式1!L175<> \"-\",IF(VALUE(FIXED(P_19号4様式1!L175,0,TRUE))<>P_19号4様式1!L175,RIGHT(FIXED(P_19号4様式1!L175,3,FALSE),4),\"\"),\"\"),\"\")","v":""},null,{"$f":"IF(P_19号4様式1!O175=\"\",\"\",P_19号4様式1!O175)","v":""},{"$f":"IF(P_19号4様式1!P175=\"\",\"\",P_19号4様式1!P175)","v":""},{"$f":"IF(P_19号4様式1!Q175<> \"\",IF(P_19号4様式1!Q175<> \"-\",TEXT(INT(P_19号4様式1!Q175),\"#,##0\"),\"-\"),\"\")","v":""},{"$f":"IF(P_19号4様式1!Q175<> \"\",IF(P_19号4様式1!Q175<> \"-\",IF(VALUE(FIXED(P_19号4様式1!Q175,0,TRUE))<>P_19号4様式1!Q175,RIGHT(FIXED(P_19号4様式1!Q175,3,FALSE),4),\"\"),\"\"),\"\")","v":""},null,{"$f":"IF(P_19号4様式1!T175=\"\",\"\",P_19号4様式1!T175)","v":""},{"$f":"IF(P_19号4様式1!U175=\"\",\"\",P_19号4様式1!U175)","v":""},{"$f":"IF(P_19号4様式1!V175<> \"\",IF(P_19号4様式1!V175<> \"-\",TEXT(INT(P_19号4様式1!V175),\"#,##0\"),\"-\"),\"\")","v":""},{"$f":"IF(P_19号4様式1!V175<> \"\",IF(P_19号4様式1!V175<> \"-\",IF(VALUE(FIXED(P_19号4様式1!V175,0,TRUE))<>P_19号4様式1!V175,RIGHT(FIXED(P_19号4様式1!V175,3,FALSE),4),\"\"),\"\"),\"\")","v":""}]
[{"$f":"IF(P_19号4様式1!E176=\"\",\"\",P_19号4様式1!E176)","v":""},{"$f":"IF(P_19号4様式1!F176=\"\",\"\",P_19号4様式1!F176)","v":""},{"$f":"IF(P_19号4様式1!G176<> \"\",IF(P_19号4様式1!G176<> \"-\",TEXT(INT(P_19号4様式1!G176),\"#,##0\"),\"-\"),\"\")","v":""},{"$f":"IF(P_19号4様式1!G176<> \"\",IF(P_19号4様式1!G176<> \"-\",IF(VALUE(FIXED(P_19号4様式1!G176,0,TRUE))<>P_19号4様式1!G176,RIGHT(FIXED(P_19号4様式1!G176,3,FALSE),4),\"\"),\"\"),\"\")","v":""},null,{"$f":"IF(P_19号4様式1!J176=\"\",\"\",P_19号4様式1!J176)","v":""},{"$f":"IF(P_19号4様式1!K176=\"\",\"\",P_19号4様式1!K176)","v":""},{"$f":"IF(P_19号4様式1!L176<> \"\",IF(P_19号4様式1!L176<> \"-\",TEXT(INT(P_19号4様式1!L176),\"#,##0\"),\"-\"),\"\")","v":""},{"$f":"IF(P_19号4様式1!L176<> \"\",IF(P_19号4様式1!L176<> \"-\",IF(VALUE(FIXED(P_19号4様式1!L176,0,TRUE))<>P_19号4様式1!L176,RIGHT(FIXED(P_19号4様式1!L176,3,FALSE),4),\"\"),\"\"),\"\")","v":""},null,{"$f":"IF(P_19号4様式1!O176=\"\",\"\",P_19号4様式1!O176)","v":""},{"$f":"IF(P_19号4様式1!P176=\"\",\"\",P_19号4様式1!P176)","v":""},{"$f":"IF(P_19号4様式1!Q176<> \"\",IF(P_19号4様式1!Q176<> \"-\",TEXT(INT(P_19号4様式1!Q176),\"#,##0\"),\"-\"),\"\")","v":""},{"$f":"IF(P_19号4様式1!Q176<> \"\",IF(P_19号4様式1!Q176<> \"-\",IF(VALUE(FIXED(P_19号4様式1!Q176,0,TRUE))<>P_19号4様式1!Q176,RIGHT(FIXED(P_19号4様式1!Q176,3,FALSE),4),\"\"),\"\"),\"\")","v":""},null,{"$f":"IF(P_19号4様式1!T176=\"\",\"\",P_19号4様式1!T176)","v":""},{"$f":"IF(P_19号4様式1!U176=\"\",\"\",P_19号4様式1!U176)","v":""},{"$f":"IF(P_19号4様式1!V176<> \"\",IF(P_19号4様式1!V176<> \"-\",TEXT(INT(P_19号4様式1!V176),\"#,##0\"),\"-\"),\"\")","v":""},{"$f":"IF(P_19号4様式1!V176<> \"\",IF(P_19号4様式1!V176<> \"-\",IF(VALUE(FIXED(P_19号4様式1!V176,0,TRUE))<>P_19号4様式1!V176,RIGHT(FIXED(P_19号4様式1!V176,3,FALSE),4),\"\"),\"\"),\"\")","v":""}]
[{"$f":"IF(P_19号4様式1!E177=\"\",\"\",P_19号4様式1!E177)","v":""},{"$f":"IF(P_19号4様式1!F177=\"\",\"\",P_19号4様式1!F177)","v":""},{"$f":"IF(P_19号4様式1!G177<> \"\",IF(P_19号4様式1!G177<> \"-\",TEXT(INT(P_19号4様式1!G177),\"#,##0\"),\"-\"),\"\")","v":""},{"$f":"IF(P_19号4様式1!G177<> \"\",IF(P_19号4様式1!G177<> \"-\",IF(VALUE(FIXED(P_19号4様式1!G177,0,TRUE))<>P_19号4様式1!G177,RIGHT(FIXED(P_19号4様式1!G177,3,FALSE),4),\"\"),\"\"),\"\")","v":""},null,{"$f":"IF(P_19号4様式1!J177=\"\",\"\",P_19号4様式1!J177)","v":""},{"$f":"IF(P_19号4様式1!K177=\"\",\"\",P_19号4様式1!K177)","v":""},{"$f":"IF(P_19号4様式1!L177<> \"\",IF(P_19号4様式1!L177<> \"-\",TEXT(INT(P_19号4様式1!L177),\"#,##0\"),\"-\"),\"\")","v":""},{"$f":"IF(P_19号4様式1!L177<> \"\",IF(P_19号4様式1!L177<> \"-\",IF(VALUE(FIXED(P_19号4様式1!L177,0,TRUE))<>P_19号4様式1!L177,RIGHT(FIXED(P_19号4様式1!L177,3,FALSE),4),\"\"),\"\"),\"\")","v":""},null,{"$f":"IF(P_19号4様式1!O177=\"\",\"\",P_19号4様式1!O177)","v":""},{"$f":"IF(P_19号4様式1!P177=\"\",\"\",P_19号4様式1!P177)","v":""},{"$f":"IF(P_19号4様式1!Q177<> \"\",IF(P_19号4様式1!Q177<> \"-\",TEXT(INT(P_19号4様式1!Q177),\"#,##0\"),\"-\"),\"\")","v":""},{"$f":"IF(P_19号4様式1!Q177<> \"\",IF(P_19号4様式1!Q177<> \"-\",IF(VALUE(FIXED(P_19号4様式1!Q177,0,TRUE))<>P_19号4様式1!Q177,RIGHT(FIXED(P_19号4様式1!Q177,3,FALSE),4),\"\"),\"\"),\"\")","v":""},null,{"$f":"IF(P_19号4様式1!T177=\"\",\"\",P_19号4様式1!T177)","v":""},{"$f":"IF(P_19号4様式1!U177=\"\",\"\",P_19号4様式1!U177)","v":""},{"$f":"IF(P_19号4様式1!V177<> \"\",IF(P_19号4様式1!V177<> \"-\",TEXT(INT(P_19号4様式1!V177),\"#,##0\"),\"-\"),\"\")","v":""},{"$f":"IF(P_19号4様式1!V177<> \"\",IF(P_19号4様式1!V177<> \"-\",IF(VALUE(FIXED(P_19号4様式1!V177,0,TRUE))<>P_19号4様式1!V177,RIGHT(FIXED(P_19号4様式1!V177,3,FALSE),4),\"\"),\"\"),\"\")","v":""}]
[{"$f":"IF(P_19号4様式1!E178=\"\",\"\",P_19号4様式1!E178)","v":""},{"$f":"IF(P_19号4様式1!F178=\"\",\"\",P_19号4様式1!F178)","v":""},{"$f":"IF(P_19号4様式1!G178<> \"\",IF(P_19号4様式1!G178<> \"-\",TEXT(INT(P_19号4様式1!G178),\"#,##0\"),\"-\"),\"\")","v":""},{"$f":"IF(P_19号4様式1!G178<> \"\",IF(P_19号4様式1!G178<> \"-\",IF(VALUE(FIXED(P_19号4様式1!G178,0,TRUE))<>P_19号4様式1!G178,RIGHT(FIXED(P_19号4様式1!G178,3,FALSE),4),\"\"),\"\"),\"\")","v":""},null,{"$f":"IF(P_19号4様式1!J178=\"\",\"\",P_19号4様式1!J178)","v":""},{"$f":"IF(P_19号4様式1!K178=\"\",\"\",P_19号4様式1!K178)","v":""},{"$f":"IF(P_19号4様式1!L178<> \"\",IF(P_19号4様式1!L178<> \"-\",TEXT(INT(P_19号4様式1!L178),\"#,##0\"),\"-\"),\"\")","v":""},{"$f":"IF(P_19号4様式1!L178<> \"\",IF(P_19号4様式1!L178<> \"-\",IF(VALUE(FIXED(P_19号4様式1!L178,0,TRUE))<>P_19号4様式1!L178,RIGHT(FIXED(P_19号4様式1!L178,3,FALSE),4),\"\"),\"\"),\"\")","v":""},null,{"$f":"IF(P_19号4様式1!O178=\"\",\"\",P_19号4様式1!O178)","v":""},{"$f":"IF(P_19号4様式1!P178=\"\",\"\",P_19号4様式1!P178)","v":""},{"$f":"IF(P_19号4様式1!Q178<> \"\",IF(P_19号4様式1!Q178<> \"-\",TEXT(INT(P_19号4様式1!Q178),\"#,##0\"),\"-\"),\"\")","v":""},{"$f":"IF(P_19号4様式1!Q178<> \"\",IF(P_19号4様式1!Q178<> \"-\",IF(VALUE(FIXED(P_19号4様式1!Q178,0,TRUE))<>P_19号4様式1!Q178,RIGHT(FIXED(P_19号4様式1!Q178,3,FALSE),4),\"\"),\"\"),\"\")","v":""},null,{"$f":"IF(P_19号4様式1!T178=\"\",\"\",P_19号4様式1!T178)","v":""},{"$f":"IF(P_19号4様式1!U178=\"\",\"\",P_19号4様式1!U178)","v":""},{"$f":"IF(P_19号4様式1!V178<> \"\",IF(P_19号4様式1!V178<> \"-\",TEXT(INT(P_19号4様式1!V178),\"#,##0\"),\"-\"),\"\")","v":""},{"$f":"IF(P_19号4様式1!V178<> \"\",IF(P_19号4様式1!V178<> \"-\",IF(VALUE(FIXED(P_19号4様式1!V178,0,TRUE))<>P_19号4様式1!V178,RIGHT(FIXED(P_19号4様式1!V178,3,FALSE),4),\"\"),\"\"),\"\")","v":""}]
[{"$f":"IF(P_19号4様式1!E179=\"\",\"\",P_19号4様式1!E179)","v":""},{"$f":"IF(P_19号4様式1!F179=\"\",\"\",P_19号4様式1!F179)","v":""},{"$f":"IF(P_19号4様式1!G179<> \"\",IF(P_19号4様式1!G179<> \"-\",TEXT(INT(P_19号4様式1!G179),\"#,##0\"),\"-\"),\"\")","v":""},{"$f":"IF(P_19号4様式1!G179<> \"\",IF(P_19号4様式1!G179<> \"-\",IF(VALUE(FIXED(P_19号4様式1!G179,0,TRUE))<>P_19号4様式1!G179,RIGHT(FIXED(P_19号4様式1!G179,3,FALSE),4),\"\"),\"\"),\"\")","v":""},null,{"$f":"IF(P_19号4様式1!J179=\"\",\"\",P_19号4様式1!J179)","v":""},{"$f":"IF(P_19号4様式1!K179=\"\",\"\",P_19号4様式1!K179)","v":""},{"$f":"IF(P_19号4様式1!L179<> \"\",IF(P_19号4様式1!L179<> \"-\",TEXT(INT(P_19号4様式1!L179),\"#,##0\"),\"-\"),\"\")","v":""},{"$f":"IF(P_19号4様式1!L179<> \"\",IF(P_19号4様式1!L179<> \"-\",IF(VALUE(FIXED(P_19号4様式1!L179,0,TRUE))<>P_19号4様式1!L179,RIGHT(FIXED(P_19号4様式1!L179,3,FALSE),4),\"\"),\"\"),\"\")","v":""},null,{"$f":"IF(P_19号4様式1!O179=\"\",\"\",P_19号4様式1!O179)","v":""},{"$f":"IF(P_19号4様式1!P179=\"\",\"\",P_19号4様式1!P179)","v":""},{"$f":"IF(P_19号4様式1!Q179<> \"\",IF(P_19号4様式1!Q179<> \"-\",TEXT(INT(P_19号4様式1!Q179),\"#,##0\"),\"-\"),\"\")","v":""},{"$f":"IF(P_19号4様式1!Q179<> \"\",IF(P_19号4様式1!Q179<> \"-\",IF(VALUE(FIXED(P_19号4様式1!Q179,0,TRUE))<>P_19号4様式1!Q179,RIGHT(FIXED(P_19号4様式1!Q179,3,FALSE),4),\"\"),\"\"),\"\")","v":""},null,{"$f":"IF(P_19号4様式1!T179=\"\",\"\",P_19号4様式1!T179)","v":""},{"$f":"IF(P_19号4様式1!U179=\"\",\"\",P_19号4様式1!U179)","v":""},{"$f":"IF(P_19号4様式1!V179<> \"\",IF(P_19号4様式1!V179<> \"-\",TEXT(INT(P_19号4様式1!V179),\"#,##0\"),\"-\"),\"\")","v":""},{"$f":"IF(P_19号4様式1!V179<> \"\",IF(P_19号4様式1!V179<> \"-\",IF(VALUE(FIXED(P_19号4様式1!V179,0,TRUE))<>P_19号4様式1!V179,RIGHT(FIXED(P_19号4様式1!V179,3,FALSE),4),\"\"),\"\"),\"\")","v":""}]
[{"$f":"IF(P_19号4様式1!E180=\"\",\"\",P_19号4様式1!E180)","v":""},{"$f":"IF(P_19号4様式1!F180=\"\",\"\",P_19号4様式1!F180)","v":""},{"$f":"IF(P_19号4様式1!G180<> \"\",IF(P_19号4様式1!G180<> \"-\",TEXT(INT(P_19号4様式1!G180),\"#,##0\"),\"-\"),\"\")","v":""},{"$f":"IF(P_19号4様式1!G180<> \"\",IF(P_19号4様式1!G180<> \"-\",IF(VALUE(FIXED(P_19号4様式1!G180,0,TRUE))<>P_19号4様式1!G180,RIGHT(FIXED(P_19号4様式1!G180,3,FALSE),4),\"\"),\"\"),\"\")","v":""},null,{"$f":"IF(P_19号4様式1!J180=\"\",\"\",P_19号4様式1!J180)","v":""},{"$f":"IF(P_19号4様式1!K180=\"\",\"\",P_19号4様式1!K180)","v":""},{"$f":"IF(P_19号4様式1!L180<> \"\",IF(P_19号4様式1!L180<> \"-\",TEXT(INT(P_19号4様式1!L180),\"#,##0\"),\"-\"),\"\")","v":""},{"$f":"IF(P_19号4様式1!L180<> \"\",IF(P_19号4様式1!L180<> \"-\",IF(VALUE(FIXED(P_19号4様式1!L180,0,TRUE))<>P_19号4様式1!L180,RIGHT(FIXED(P_19号4様式1!L180,3,FALSE),4),\"\"),\"\"),\"\")","v":""},null,{"$f":"IF(P_19号4様式1!O180=\"\",\"\",P_19号4様式1!O180)","v":""},{"$f":"IF(P_19号4様式1!P180=\"\",\"\",P_19号4様式1!P180)","v":""},{"$f":"IF(P_19号4様式1!Q180<> \"\",IF(P_19号4様式1!Q180<> \"-\",TEXT(INT(P_19号4様式1!Q180),\"#,##0\"),\"-\"),\"\")","v":""},{"$f":"IF(P_19号4様式1!Q180<> \"\",IF(P_19号4様式1!Q180<> \"-\",IF(VALUE(FIXED(P_19号4様式1!Q180,0,TRUE))<>P_19号4様式1!Q180,RIGHT(FIXED(P_19号4様式1!Q180,3,FALSE),4),\"\"),\"\"),\"\")","v":""},null,{"$f":"IF(P_19号4様式1!T180=\"\",\"\",P_19号4様式1!T180)","v":""},{"$f":"IF(P_19号4様式1!U180=\"\",\"\",P_19号4様式1!U180)","v":""},{"$f":"IF(P_19号4様式1!V180<> \"\",IF(P_19号4様式1!V180<> \"-\",TEXT(INT(P_19号4様式1!V180),\"#,##0\"),\"-\"),\"\")","v":""},{"$f":"IF(P_19号4様式1!V180<> \"\",IF(P_19号4様式1!V180<> \"-\",IF(VALUE(FIXED(P_19号4様式1!V180,0,TRUE))<>P_19号4様式1!V180,RIGHT(FIXED(P_19号4様式1!V180,3,FALSE),4),\"\"),\"\"),\"\")","v":""}]
[{"$f":"IF(P_19号4様式1!E181=\"\",\"\",P_19号4様式1!E181)","v":""},{"$f":"IF(P_19号4様式1!F181=\"\",\"\",P_19号4様式1!F181)","v":""},{"$f":"IF(P_19号4様式1!G181<> \"\",IF(P_19号4様式1!G181<> \"-\",TEXT(INT(P_19号4様式1!G181),\"#,##0\"),\"-\"),\"\")","v":""},{"$f":"IF(P_19号4様式1!G181<> \"\",IF(P_19号4様式1!G181<> \"-\",IF(VALUE(FIXED(P_19号4様式1!G181,0,TRUE))<>P_19号4様式1!G181,RIGHT(FIXED(P_19号4様式1!G181,3,FALSE),4),\"\"),\"\"),\"\")","v":""},null,{"$f":"IF(P_19号4様式1!J181=\"\",\"\",P_19号4様式1!J181)","v":""},{"$f":"IF(P_19号4様式1!K181=\"\",\"\",P_19号4様式1!K181)","v":""},{"$f":"IF(P_19号4様式1!L181<> \"\",IF(P_19号4様式1!L181<> \"-\",TEXT(INT(P_19号4様式1!L181),\"#,##0\"),\"-\"),\"\")","v":""},{"$f":"IF(P_19号4様式1!L181<> \"\",IF(P_19号4様式1!L181<> \"-\",IF(VALUE(FIXED(P_19号4様式1!L181,0,TRUE))<>P_19号4様式1!L181,RIGHT(FIXED(P_19号4様式1!L181,3,FALSE),4),\"\"),\"\"),\"\")","v":""},null,{"$f":"IF(P_19号4様式1!O181=\"\",\"\",P_19号4様式1!O181)","v":""},{"$f":"IF(P_19号4様式1!P181=\"\",\"\",P_19号4様式1!P181)","v":""},{"$f":"IF(P_19号4様式1!Q181<> \"\",IF(P_19号4様式1!Q181<> \"-\",TEXT(INT(P_19号4様式1!Q181),\"#,##0\"),\"-\"),\"\")","v":""},{"$f":"IF(P_19号4様式1!Q181<> \"\",IF(P_19号4様式1!Q181<> \"-\",IF(VALUE(FIXED(P_19号4様式1!Q181,0,TRUE))<>P_19号4様式1!Q181,RIGHT(FIXED(P_19号4様式1!Q181,3,FALSE),4),\"\"),\"\"),\"\")","v":""},null,{"$f":"IF(P_19号4様式1!T181=\"\",\"\",P_19号4様式1!T181)","v":""},{"$f":"IF(P_19号4様式1!U181=\"\",\"\",P_19号4様式1!U181)","v":""},{"$f":"IF(P_19号4様式1!V181<> \"\",IF(P_19号4様式1!V181<> \"-\",TEXT(INT(P_19号4様式1!V181),\"#,##0\"),\"-\"),\"\")","v":""},{"$f":"IF(P_19号4様式1!V181<> \"\",IF(P_19号4様式1!V181<> \"-\",IF(VALUE(FIXED(P_19号4様式1!V181,0,TRUE))<>P_19号4様式1!V181,RIGHT(FIXED(P_19号4様式1!V181,3,FALSE),4),\"\"),\"\"),\"\")","v":""}]
[{"$f":"IF(P_19号4様式1!E182=\"\",\"\",P_19号4様式1!E182)","v":""},{"$f":"IF(P_19号4様式1!F182=\"\",\"\",P_19号4様式1!F182)","v":""},{"$f":"IF(P_19号4様式1!G182<> \"\",IF(P_19号4様式1!G182<> \"-\",TEXT(INT(P_19号4様式1!G182),\"#,##0\"),\"-\"),\"\")","v":""},{"$f":"IF(P_19号4様式1!G182<> \"\",IF(P_19号4様式1!G182<> \"-\",IF(VALUE(FIXED(P_19号4様式1!G182,0,TRUE))<>P_19号4様式1!G182,RIGHT(FIXED(P_19号4様式1!G182,3,FALSE),4),\"\"),\"\"),\"\")","v":""},null,{"$f":"IF(P_19号4様式1!J182=\"\",\"\",P_19号4様式1!J182)","v":""},{"$f":"IF(P_19号4様式1!K182=\"\",\"\",P_19号4様式1!K182)","v":""},{"$f":"IF(P_19号4様式1!L182<> \"\",IF(P_19号4様式1!L182<> \"-\",TEXT(INT(P_19号4様式1!L182),\"#,##0\"),\"-\"),\"\")","v":""},{"$f":"IF(P_19号4様式1!L182<> \"\",IF(P_19号4様式1!L182<> \"-\",IF(VALUE(FIXED(P_19号4様式1!L182,0,TRUE))<>P_19号4様式1!L182,RIGHT(FIXED(P_19号4様式1!L182,3,FALSE),4),\"\"),\"\"),\"\")","v":""},null,{"$f":"IF(P_19号4様式1!O182=\"\",\"\",P_19号4様式1!O182)","v":""},{"$f":"IF(P_19号4様式1!P182=\"\",\"\",P_19号4様式1!P182)","v":""},{"$f":"IF(P_19号4様式1!Q182<> \"\",IF(P_19号4様式1!Q182<> \"-\",TEXT(INT(P_19号4様式1!Q182),\"#,##0\"),\"-\"),\"\")","v":""},{"$f":"IF(P_19号4様式1!Q182<> \"\",IF(P_19号4様式1!Q182<> \"-\",IF(VALUE(FIXED(P_19号4様式1!Q182,0,TRUE))<>P_19号4様式1!Q182,RIGHT(FIXED(P_19号4様式1!Q182,3,FALSE),4),\"\"),\"\"),\"\")","v":""},null,{"$f":"IF(P_19号4様式1!T182=\"\",\"\",P_19号4様式1!T182)","v":""},{"$f":"IF(P_19号4様式1!U182=\"\",\"\",P_19号4様式1!U182)","v":""},{"$f":"IF(P_19号4様式1!V182<> \"\",IF(P_19号4様式1!V182<> \"-\",TEXT(INT(P_19号4様式1!V182),\"#,##0\"),\"-\"),\"\")","v":""},{"$f":"IF(P_19号4様式1!V182<> \"\",IF(P_19号4様式1!V182<> \"-\",IF(VALUE(FIXED(P_19号4様式1!V182,0,TRUE))<>P_19号4様式1!V182,RIGHT(FIXED(P_19号4様式1!V182,3,FALSE),4),\"\"),\"\"),\"\")","v":""}]
[{"$f":"IF(P_19号4様式1!E183=\"\",\"\",P_19号4様式1!E183)","v":""},{"$f":"IF(P_19号4様式1!F183=\"\",\"\",P_19号4様式1!F183)","v":""},{"$f":"IF(P_19号4様式1!G183<> \"\",IF(P_19号4様式1!G183<> \"-\",TEXT(INT(P_19号4様式1!G183),\"#,##0\"),\"-\"),\"\")","v":""},{"$f":"IF(P_19号4様式1!G183<> \"\",IF(P_19号4様式1!G183<> \"-\",IF(VALUE(FIXED(P_19号4様式1!G183,0,TRUE))<>P_19号4様式1!G183,RIGHT(FIXED(P_19号4様式1!G183,3,FALSE),4),\"\"),\"\"),\"\")","v":""},null,{"$f":"IF(P_19号4様式1!J183=\"\",\"\",P_19号4様式1!J183)","v":""},{"$f":"IF(P_19号4様式1!K183=\"\",\"\",P_19号4様式1!K183)","v":""},{"$f":"IF(P_19号4様式1!L183<> \"\",IF(P_19号4様式1!L183<> \"-\",TEXT(INT(P_19号4様式1!L183),\"#,##0\"),\"-\"),\"\")","v":""},{"$f":"IF(P_19号4様式1!L183<> \"\",IF(P_19号4様式1!L183<> \"-\",IF(VALUE(FIXED(P_19号4様式1!L183,0,TRUE))<>P_19号4様式1!L183,RIGHT(FIXED(P_19号4様式1!L183,3,FALSE),4),\"\"),\"\"),\"\")","v":""},null,{"$f":"IF(P_19号4様式1!O183=\"\",\"\",P_19号4様式1!O183)","v":""},{"$f":"IF(P_19号4様式1!P183=\"\",\"\",P_19号4様式1!P183)","v":""},{"$f":"IF(P_19号4様式1!Q183<> \"\",IF(P_19号4様式1!Q183<> \"-\",TEXT(INT(P_19号4様式1!Q183),\"#,##0\"),\"-\"),\"\")","v":""},{"$f":"IF(P_19号4様式1!Q183<> \"\",IF(P_19号4様式1!Q183<> \"-\",IF(VALUE(FIXED(P_19号4様式1!Q183,0,TRUE))<>P_19号4様式1!Q183,RIGHT(FIXED(P_19号4様式1!Q183,3,FALSE),4),\"\"),\"\"),\"\")","v":""},null,{"$f":"IF(P_19号4様式1!T183=\"\",\"\",P_19号4様式1!T183)","v":""},{"$f":"IF(P_19号4様式1!U183=\"\",\"\",P_19号4様式1!U183)","v":""},{"$f":"IF(P_19号4様式1!V183<> \"\",IF(P_19号4様式1!V183<> \"-\",TEXT(INT(P_19号4様式1!V183),\"#,##0\"),\"-\"),\"\")","v":""},{"$f":"IF(P_19号4様式1!V183<> \"\",IF(P_19号4様式1!V183<> \"-\",IF(VALUE(FIXED(P_19号4様式1!V183,0,TRUE))<>P_19号4様式1!V183,RIGHT(FIXED(P_19号4様式1!V183,3,FALSE),4),\"\"),\"\"),\"\")","v":""}]
[{"$f":"IF(P_19号4様式1!E184=\"\",\"\",P_19号4様式1!E184)","v":""},{"$f":"IF(P_19号4様式1!F184=\"\",\"\",P_19号4様式1!F184)","v":""},{"$f":"IF(P_19号4様式1!G184<> \"\",IF(P_19号4様式1!G184<> \"-\",TEXT(INT(P_19号4様式1!G184),\"#,##0\"),\"-\"),\"\")","v":""},{"$f":"IF(P_19号4様式1!G184<> \"\",IF(P_19号4様式1!G184<> \"-\",IF(VALUE(FIXED(P_19号4様式1!G184,0,TRUE))<>P_19号4様式1!G184,RIGHT(FIXED(P_19号4様式1!G184,3,FALSE),4),\"\"),\"\"),\"\")","v":""},null,{"$f":"IF(P_19号4様式1!J184=\"\",\"\",P_19号4様式1!J184)","v":""},{"$f":"IF(P_19号4様式1!K184=\"\",\"\",P_19号4様式1!K184)","v":""},{"$f":"IF(P_19号4様式1!L184<> \"\",IF(P_19号4様式1!L184<> \"-\",TEXT(INT(P_19号4様式1!L184),\"#,##0\"),\"-\"),\"\")","v":""},{"$f":"IF(P_19号4様式1!L184<> \"\",IF(P_19号4様式1!L184<> \"-\",IF(VALUE(FIXED(P_19号4様式1!L184,0,TRUE))<>P_19号4様式1!L184,RIGHT(FIXED(P_19号4様式1!L184,3,FALSE),4),\"\"),\"\"),\"\")","v":""},null,{"$f":"IF(P_19号4様式1!O184=\"\",\"\",P_19号4様式1!O184)","v":""},{"$f":"IF(P_19号4様式1!P184=\"\",\"\",P_19号4様式1!P184)","v":""},{"$f":"IF(P_19号4様式1!Q184<> \"\",IF(P_19号4様式1!Q184<> \"-\",TEXT(INT(P_19号4様式1!Q184),\"#,##0\"),\"-\"),\"\")","v":""},{"$f":"IF(P_19号4様式1!Q184<> \"\",IF(P_19号4様式1!Q184<> \"-\",IF(VALUE(FIXED(P_19号4様式1!Q184,0,TRUE))<>P_19号4様式1!Q184,RIGHT(FIXED(P_19号4様式1!Q184,3,FALSE),4),\"\"),\"\"),\"\")","v":""},null,{"$f":"IF(P_19号4様式1!T184=\"\",\"\",P_19号4様式1!T184)","v":""},{"$f":"IF(P_19号4様式1!U184=\"\",\"\",P_19号4様式1!U184)","v":""},{"$f":"IF(P_19号4様式1!V184<> \"\",IF(P_19号4様式1!V184<> \"-\",TEXT(INT(P_19号4様式1!V184),\"#,##0\"),\"-\"),\"\")","v":""},{"$f":"IF(P_19号4様式1!V184<> \"\",IF(P_19号4様式1!V184<> \"-\",IF(VALUE(FIXED(P_19号4様式1!V184,0,TRUE))<>P_19号4様式1!V184,RIGHT(FIXED(P_19号4様式1!V184,3,FALSE),4),\"\"),\"\"),\"\")","v":""}]
[{"$f":"IF(P_19号4様式1!E185=\"\",\"\",P_19号4様式1!E185)","v":""},{"$f":"IF(P_19号4様式1!F185=\"\",\"\",P_19号4様式1!F185)","v":""},{"$f":"IF(P_19号4様式1!G185<> \"\",IF(P_19号4様式1!G185<> \"-\",TEXT(INT(P_19号4様式1!G185),\"#,##0\"),\"-\"),\"\")","v":""},{"$f":"IF(P_19号4様式1!G185<> \"\",IF(P_19号4様式1!G185<> \"-\",IF(VALUE(FIXED(P_19号4様式1!G185,0,TRUE))<>P_19号4様式1!G185,RIGHT(FIXED(P_19号4様式1!G185,3,FALSE),4),\"\"),\"\"),\"\")","v":""},null,{"$f":"IF(P_19号4様式1!J185=\"\",\"\",P_19号4様式1!J185)","v":""},{"$f":"IF(P_19号4様式1!K185=\"\",\"\",P_19号4様式1!K185)","v":""},{"$f":"IF(P_19号4様式1!L185<> \"\",IF(P_19号4様式1!L185<> \"-\",TEXT(INT(P_19号4様式1!L185),\"#,##0\"),\"-\"),\"\")","v":""},{"$f":"IF(P_19号4様式1!L185<> \"\",IF(P_19号4様式1!L185<> \"-\",IF(VALUE(FIXED(P_19号4様式1!L185,0,TRUE))<>P_19号4様式1!L185,RIGHT(FIXED(P_19号4様式1!L185,3,FALSE),4),\"\"),\"\"),\"\")","v":""},null,{"$f":"IF(P_19号4様式1!O185=\"\",\"\",P_19号4様式1!O185)","v":""},{"$f":"IF(P_19号4様式1!P185=\"\",\"\",P_19号4様式1!P185)","v":""},{"$f":"IF(P_19号4様式1!Q185<> \"\",IF(P_19号4様式1!Q185<> \"-\",TEXT(INT(P_19号4様式1!Q185),\"#,##0\"),\"-\"),\"\")","v":""},{"$f":"IF(P_19号4様式1!Q185<> \"\",IF(P_19号4様式1!Q185<> \"-\",IF(VALUE(FIXED(P_19号4様式1!Q185,0,TRUE))<>P_19号4様式1!Q185,RIGHT(FIXED(P_19号4様式1!Q185,3,FALSE),4),\"\"),\"\"),\"\")","v":""},null,{"$f":"IF(P_19号4様式1!T185=\"\",\"\",P_19号4様式1!T185)","v":""},{"$f":"IF(P_19号4様式1!U185=\"\",\"\",P_19号4様式1!U185)","v":""},{"$f":"IF(P_19号4様式1!V185<> \"\",IF(P_19号4様式1!V185<> \"-\",TEXT(INT(P_19号4様式1!V185),\"#,##0\"),\"-\"),\"\")","v":""},{"$f":"IF(P_19号4様式1!V185<> \"\",IF(P_19号4様式1!V185<> \"-\",IF(VALUE(FIXED(P_19号4様式1!V185,0,TRUE))<>P_19号4様式1!V185,RIGHT(FIXED(P_19号4様式1!V185,3,FALSE),4),\"\"),\"\"),\"\")","v":""}]
[{"$f":"IF(P_19号4様式1!E186=\"\",\"\",P_19号4様式1!E186)","v":""},{"$f":"IF(P_19号4様式1!F186=\"\",\"\",P_19号4様式1!F186)","v":""},{"$f":"IF(P_19号4様式1!G186<> \"\",IF(P_19号4様式1!G186<> \"-\",TEXT(INT(P_19号4様式1!G186),\"#,##0\"),\"-\"),\"\")","v":""},{"$f":"IF(P_19号4様式1!G186<> \"\",IF(P_19号4様式1!G186<> \"-\",IF(VALUE(FIXED(P_19号4様式1!G186,0,TRUE))<>P_19号4様式1!G186,RIGHT(FIXED(P_19号4様式1!G186,3,FALSE),4),\"\"),\"\"),\"\")","v":""},null,{"$f":"IF(P_19号4様式1!J186=\"\",\"\",P_19号4様式1!J186)","v":""},{"$f":"IF(P_19号4様式1!K186=\"\",\"\",P_19号4様式1!K186)","v":""},{"$f":"IF(P_19号4様式1!L186<> \"\",IF(P_19号4様式1!L186<> \"-\",TEXT(INT(P_19号4様式1!L186),\"#,##0\"),\"-\"),\"\")","v":""},{"$f":"IF(P_19号4様式1!L186<> \"\",IF(P_19号4様式1!L186<> \"-\",IF(VALUE(FIXED(P_19号4様式1!L186,0,TRUE))<>P_19号4様式1!L186,RIGHT(FIXED(P_19号4様式1!L186,3,FALSE),4),\"\"),\"\"),\"\")","v":""},null,{"$f":"IF(P_19号4様式1!O186=\"\",\"\",P_19号4様式1!O186)","v":""},{"$f":"IF(P_19号4様式1!P186=\"\",\"\",P_19号4様式1!P186)","v":""},{"$f":"IF(P_19号4様式1!Q186<> \"\",IF(P_19号4様式1!Q186<> \"-\",TEXT(INT(P_19号4様式1!Q186),\"#,##0\"),\"-\"),\"\")","v":""},{"$f":"IF(P_19号4様式1!Q186<> \"\",IF(P_19号4様式1!Q186<> \"-\",IF(VALUE(FIXED(P_19号4様式1!Q186,0,TRUE))<>P_19号4様式1!Q186,RIGHT(FIXED(P_19号4様式1!Q186,3,FALSE),4),\"\"),\"\"),\"\")","v":""},null,{"$f":"IF(P_19号4様式1!T186=\"\",\"\",P_19号4様式1!T186)","v":""},{"$f":"IF(P_19号4様式1!U186=\"\",\"\",P_19号4様式1!U186)","v":""},{"$f":"IF(P_19号4様式1!V186<> \"\",IF(P_19号4様式1!V186<> \"-\",TEXT(INT(P_19号4様式1!V186),\"#,##0\"),\"-\"),\"\")","v":""},{"$f":"IF(P_19号4様式1!V186<> \"\",IF(P_19号4様式1!V186<> \"-\",IF(VALUE(FIXED(P_19号4様式1!V186,0,TRUE))<>P_19号4様式1!V186,RIGHT(FIXED(P_19号4様式1!V186,3,FALSE),4),\"\"),\"\"),\"\")","v":""}]
[{"$f":"IF(P_19号4様式1!E187=\"\",\"\",P_19号4様式1!E187)","v":""},{"$f":"IF(P_19号4様式1!F187=\"\",\"\",P_19号4様式1!F187)","v":""},{"$f":"IF(P_19号4様式1!G187<> \"\",IF(P_19号4様式1!G187<> \"-\",TEXT(INT(P_19号4様式1!G187),\"#,##0\"),\"-\"),\"\")","v":""},{"$f":"IF(P_19号4様式1!G187<> \"\",IF(P_19号4様式1!G187<> \"-\",IF(VALUE(FIXED(P_19号4様式1!G187,0,TRUE))<>P_19号4様式1!G187,RIGHT(FIXED(P_19号4様式1!G187,3,FALSE),4),\"\"),\"\"),\"\")","v":""},null,{"$f":"IF(P_19号4様式1!J187=\"\",\"\",P_19号4様式1!J187)","v":""},{"$f":"IF(P_19号4様式1!K187=\"\",\"\",P_19号4様式1!K187)","v":""},{"$f":"IF(P_19号4様式1!L187<> \"\",IF(P_19号4様式1!L187<> \"-\",TEXT(INT(P_19号4様式1!L187),\"#,##0\"),\"-\"),\"\")","v":""},{"$f":"IF(P_19号4様式1!L187<> \"\",IF(P_19号4様式1!L187<> \"-\",IF(VALUE(FIXED(P_19号4様式1!L187,0,TRUE))<>P_19号4様式1!L187,RIGHT(FIXED(P_19号4様式1!L187,3,FALSE),4),\"\"),\"\"),\"\")","v":""},null,{"$f":"IF(P_19号4様式1!O187=\"\",\"\",P_19号4様式1!O187)","v":""},{"$f":"IF(P_19号4様式1!P187=\"\",\"\",P_19号4様式1!P187)","v":""},{"$f":"IF(P_19号4様式1!Q187<> \"\",IF(P_19号4様式1!Q187<> \"-\",TEXT(INT(P_19号4様式1!Q187),\"#,##0\"),\"-\"),\"\")","v":""},{"$f":"IF(P_19号4様式1!Q187<> \"\",IF(P_19号4様式1!Q187<> \"-\",IF(VALUE(FIXED(P_19号4様式1!Q187,0,TRUE))<>P_19号4様式1!Q187,RIGHT(FIXED(P_19号4様式1!Q187,3,FALSE),4),\"\"),\"\"),\"\")","v":""},null,{"$f":"IF(P_19号4様式1!T187=\"\",\"\",P_19号4様式1!T187)","v":""},{"$f":"IF(P_19号4様式1!U187=\"\",\"\",P_19号4様式1!U187)","v":""},{"$f":"IF(P_19号4様式1!V187<> \"\",IF(P_19号4様式1!V187<> \"-\",TEXT(INT(P_19号4様式1!V187),\"#,##0\"),\"-\"),\"\")","v":""},{"$f":"IF(P_19号4様式1!V187<> \"\",IF(P_19号4様式1!V187<> \"-\",IF(VALUE(FIXED(P_19号4様式1!V187,0,TRUE))<>P_19号4様式1!V187,RIGHT(FIXED(P_19号4様式1!V187,3,FALSE),4),\"\"),\"\"),\"\")","v":""}]
[{"$f":"IF(P_19号4様式1!E188=\"\",\"\",P_19号4様式1!E188)","v":""},{"$f":"IF(P_19号4様式1!F188=\"\",\"\",P_19号4様式1!F188)","v":""},{"$f":"IF(P_19号4様式1!G188<> \"\",IF(P_19号4様式1!G188<> \"-\",TEXT(INT(P_19号4様式1!G188),\"#,##0\"),\"-\"),\"\")","v":""},{"$f":"IF(P_19号4様式1!G188<> \"\",IF(P_19号4様式1!G188<> \"-\",IF(VALUE(FIXED(P_19号4様式1!G188,0,TRUE))<>P_19号4様式1!G188,RIGHT(FIXED(P_19号4様式1!G188,3,FALSE),4),\"\"),\"\"),\"\")","v":""},null,{"$f":"IF(P_19号4様式1!J188=\"\",\"\",P_19号4様式1!J188)","v":""},{"$f":"IF(P_19号4様式1!K188=\"\",\"\",P_19号4様式1!K188)","v":""},{"$f":"IF(P_19号4様式1!L188<> \"\",IF(P_19号4様式1!L188<> \"-\",TEXT(INT(P_19号4様式1!L188),\"#,##0\"),\"-\"),\"\")","v":""},{"$f":"IF(P_19号4様式1!L188<> \"\",IF(P_19号4様式1!L188<> \"-\",IF(VALUE(FIXED(P_19号4様式1!L188,0,TRUE))<>P_19号4様式1!L188,RIGHT(FIXED(P_19号4様式1!L188,3,FALSE),4),\"\"),\"\"),\"\")","v":""},null,{"$f":"IF(P_19号4様式1!O188=\"\",\"\",P_19号4様式1!O188)","v":""},{"$f":"IF(P_19号4様式1!P188=\"\",\"\",P_19号4様式1!P188)","v":""},{"$f":"IF(P_19号4様式1!Q188<> \"\",IF(P_19号4様式1!Q188<> \"-\",TEXT(INT(P_19号4様式1!Q188),\"#,##0\"),\"-\"),\"\")","v":""},{"$f":"IF(P_19号4様式1!Q188<> \"\",IF(P_19号4様式1!Q188<> \"-\",IF(VALUE(FIXED(P_19号4様式1!Q188,0,TRUE))<>P_19号4様式1!Q188,RIGHT(FIXED(P_19号4様式1!Q188,3,FALSE),4),\"\"),\"\"),\"\")","v":""},null,{"$f":"IF(P_19号4様式1!T188=\"\",\"\",P_19号4様式1!T188)","v":""},{"$f":"IF(P_19号4様式1!U188=\"\",\"\",P_19号4様式1!U188)","v":""},{"$f":"IF(P_19号4様式1!V188<> \"\",IF(P_19号4様式1!V188<> \"-\",TEXT(INT(P_19号4様式1!V188),\"#,##0\"),\"-\"),\"\")","v":""},{"$f":"IF(P_19号4様式1!V188<> \"\",IF(P_19号4様式1!V188<> \"-\",IF(VALUE(FIXED(P_19号4様式1!V188,0,TRUE))<>P_19号4様式1!V188,RIGHT(FIXED(P_19号4様式1!V188,3,FALSE),4),\"\"),\"\"),\"\")","v":""}]
[{"$f":"IF(P_19号4様式1!E189=\"\",\"\",P_19号4様式1!E189)","v":""},{"$f":"IF(P_19号4様式1!F189=\"\",\"\",P_19号4様式1!F189)","v":""},{"$f":"IF(P_19号4様式1!G189<> \"\",IF(P_19号4様式1!G189<> \"-\",TEXT(INT(P_19号4様式1!G189),\"#,##0\"),\"-\"),\"\")","v":""},{"$f":"IF(P_19号4様式1!G189<> \"\",IF(P_19号4様式1!G189<> \"-\",IF(VALUE(FIXED(P_19号4様式1!G189,0,TRUE))<>P_19号4様式1!G189,RIGHT(FIXED(P_19号4様式1!G189,3,FALSE),4),\"\"),\"\"),\"\")","v":""},null,{"$f":"IF(P_19号4様式1!J189=\"\",\"\",P_19号4様式1!J189)","v":""},{"$f":"IF(P_19号4様式1!K189=\"\",\"\",P_19号4様式1!K189)","v":""},{"$f":"IF(P_19号4様式1!L189<> \"\",IF(P_19号4様式1!L189<> \"-\",TEXT(INT(P_19号4様式1!L189),\"#,##0\"),\"-\"),\"\")","v":""},{"$f":"IF(P_19号4様式1!L189<> \"\",IF(P_19号4様式1!L189<> \"-\",IF(VALUE(FIXED(P_19号4様式1!L189,0,TRUE))<>P_19号4様式1!L189,RIGHT(FIXED(P_19号4様式1!L189,3,FALSE),4),\"\"),\"\"),\"\")","v":""},null,{"$f":"IF(P_19号4様式1!O189=\"\",\"\",P_19号4様式1!O189)","v":""},{"$f":"IF(P_19号4様式1!P189=\"\",\"\",P_19号4様式1!P189)","v":""},{"$f":"IF(P_19号4様式1!Q189<> \"\",IF(P_19号4様式1!Q189<> \"-\",TEXT(INT(P_19号4様式1!Q189),\"#,##0\"),\"-\"),\"\")","v":""},{"$f":"IF(P_19号4様式1!Q189<> \"\",IF(P_19号4様式1!Q189<> \"-\",IF(VALUE(FIXED(P_19号4様式1!Q189,0,TRUE))<>P_19号4様式1!Q189,RIGHT(FIXED(P_19号4様式1!Q189,3,FALSE),4),\"\"),\"\"),\"\")","v":""},null,{"$f":"IF(P_19号4様式1!T189=\"\",\"\",P_19号4様式1!T189)","v":""},{"$f":"IF(P_19号4様式1!U189=\"\",\"\",P_19号4様式1!U189)","v":""},{"$f":"IF(P_19号4様式1!V189<> \"\",IF(P_19号4様式1!V189<> \"-\",TEXT(INT(P_19号4様式1!V189),\"#,##0\"),\"-\"),\"\")","v":""},{"$f":"IF(P_19号4様式1!V189<> \"\",IF(P_19号4様式1!V189<> \"-\",IF(VALUE(FIXED(P_19号4様式1!V189,0,TRUE))<>P_19号4様式1!V189,RIGHT(FIXED(P_19号4様式1!V189,3,FALSE),4),\"\"),\"\"),\"\")","v":""}]
[{"$f":"IF(P_19号4様式1!E190=\"\",\"\",P_19号4様式1!E190)","v":""},{"$f":"IF(P_19号4様式1!F190=\"\",\"\",P_19号4様式1!F190)","v":""},{"$f":"IF(P_19号4様式1!G190<> \"\",IF(P_19号4様式1!G190<> \"-\",TEXT(INT(P_19号4様式1!G190),\"#,##0\"),\"-\"),\"\")","v":""},{"$f":"IF(P_19号4様式1!G190<> \"\",IF(P_19号4様式1!G190<> \"-\",IF(VALUE(FIXED(P_19号4様式1!G190,0,TRUE))<>P_19号4様式1!G190,RIGHT(FIXED(P_19号4様式1!G190,3,FALSE),4),\"\"),\"\"),\"\")","v":""},null,{"$f":"IF(P_19号4様式1!J190=\"\",\"\",P_19号4様式1!J190)","v":""},{"$f":"IF(P_19号4様式1!K190=\"\",\"\",P_19号4様式1!K190)","v":""},{"$f":"IF(P_19号4様式1!L190<> \"\",IF(P_19号4様式1!L190<> \"-\",TEXT(INT(P_19号4様式1!L190),\"#,##0\"),\"-\"),\"\")","v":""},{"$f":"IF(P_19号4様式1!L190<> \"\",IF(P_19号4様式1!L190<> \"-\",IF(VALUE(FIXED(P_19号4様式1!L190,0,TRUE))<>P_19号4様式1!L190,RIGHT(FIXED(P_19号4様式1!L190,3,FALSE),4),\"\"),\"\"),\"\")","v":""},null,{"$f":"IF(P_19号4様式1!O190=\"\",\"\",P_19号4様式1!O190)","v":""},{"$f":"IF(P_19号4様式1!P190=\"\",\"\",P_19号4様式1!P190)","v":""},{"$f":"IF(P_19号4様式1!Q190<> \"\",IF(P_19号4様式1!Q190<> \"-\",TEXT(INT(P_19号4様式1!Q190),\"#,##0\"),\"-\"),\"\")","v":""},{"$f":"IF(P_19号4様式1!Q190<> \"\",IF(P_19号4様式1!Q190<> \"-\",IF(VALUE(FIXED(P_19号4様式1!Q190,0,TRUE))<>P_19号4様式1!Q190,RIGHT(FIXED(P_19号4様式1!Q190,3,FALSE),4),\"\"),\"\"),\"\")","v":""},null,{"$f":"IF(P_19号4様式1!T190=\"\",\"\",P_19号4様式1!T190)","v":""},{"$f":"IF(P_19号4様式1!U190=\"\",\"\",P_19号4様式1!U190)","v":""},{"$f":"IF(P_19号4様式1!V190<> \"\",IF(P_19号4様式1!V190<> \"-\",TEXT(INT(P_19号4様式1!V190),\"#,##0\"),\"-\"),\"\")","v":""},{"$f":"IF(P_19号4様式1!V190<> \"\",IF(P_19号4様式1!V190<> \"-\",IF(VALUE(FIXED(P_19号4様式1!V190,0,TRUE))<>P_19号4様式1!V190,RIGHT(FIXED(P_19号4様式1!V190,3,FALSE),4),\"\"),\"\"),\"\")","v":""}]
[{"$f":"IF(P_19号4様式1!E191=\"\",\"\",P_19号4様式1!E191)","v":""},{"$f":"IF(P_19号4様式1!F191=\"\",\"\",P_19号4様式1!F191)","v":""},{"$f":"IF(P_19号4様式1!G191<> \"\",IF(P_19号4様式1!G191<> \"-\",TEXT(INT(P_19号4様式1!G191),\"#,##0\"),\"-\"),\"\")","v":""},{"$f":"IF(P_19号4様式1!G191<> \"\",IF(P_19号4様式1!G191<> \"-\",IF(VALUE(FIXED(P_19号4様式1!G191,0,TRUE))<>P_19号4様式1!G191,RIGHT(FIXED(P_19号4様式1!G191,3,FALSE),4),\"\"),\"\"),\"\")","v":""},null,{"$f":"IF(P_19号4様式1!J191=\"\",\"\",P_19号4様式1!J191)","v":""},{"$f":"IF(P_19号4様式1!K191=\"\",\"\",P_19号4様式1!K191)","v":""},{"$f":"IF(P_19号4様式1!L191<> \"\",IF(P_19号4様式1!L191<> \"-\",TEXT(INT(P_19号4様式1!L191),\"#,##0\"),\"-\"),\"\")","v":""},{"$f":"IF(P_19号4様式1!L191<> \"\",IF(P_19号4様式1!L191<> \"-\",IF(VALUE(FIXED(P_19号4様式1!L191,0,TRUE))<>P_19号4様式1!L191,RIGHT(FIXED(P_19号4様式1!L191,3,FALSE),4),\"\"),\"\"),\"\")","v":""},null,{"$f":"IF(P_19号4様式1!O191=\"\",\"\",P_19号4様式1!O191)","v":""},{"$f":"IF(P_19号4様式1!P191=\"\",\"\",P_19号4様式1!P191)","v":""},{"$f":"IF(P_19号4様式1!Q191<> \"\",IF(P_19号4様式1!Q191<> \"-\",TEXT(INT(P_19号4様式1!Q191),\"#,##0\"),\"-\"),\"\")","v":""},{"$f":"IF(P_19号4様式1!Q191<> \"\",IF(P_19号4様式1!Q191<> \"-\",IF(VALUE(FIXED(P_19号4様式1!Q191,0,TRUE))<>P_19号4様式1!Q191,RIGHT(FIXED(P_19号4様式1!Q191,3,FALSE),4),\"\"),\"\"),\"\")","v":""},null,{"$f":"IF(P_19号4様式1!T191=\"\",\"\",P_19号4様式1!T191)","v":""},{"$f":"IF(P_19号4様式1!U191=\"\",\"\",P_19号4様式1!U191)","v":""},{"$f":"IF(P_19号4様式1!V191<> \"\",IF(P_19号4様式1!V191<> \"-\",TEXT(INT(P_19号4様式1!V191),\"#,##0\"),\"-\"),\"\")","v":""},{"$f":"IF(P_19号4様式1!V191<> \"\",IF(P_19号4様式1!V191<> \"-\",IF(VALUE(FIXED(P_19号4様式1!V191,0,TRUE))<>P_19号4様式1!V191,RIGHT(FIXED(P_19号4様式1!V191,3,FALSE),4),\"\"),\"\"),\"\")","v":""}]
[{"$f":"IF(P_19号4様式1!E192=\"\",\"\",P_19号4様式1!E192)","v":""},{"$f":"IF(P_19号4様式1!F192=\"\",\"\",P_19号4様式1!F192)","v":""},{"$f":"IF(P_19号4様式1!G192<> \"\",IF(P_19号4様式1!G192<> \"-\",TEXT(INT(P_19号4様式1!G192),\"#,##0\"),\"-\"),\"\")","v":""},{"$f":"IF(P_19号4様式1!G192<> \"\",IF(P_19号4様式1!G192<> \"-\",IF(VALUE(FIXED(P_19号4様式1!G192,0,TRUE))<>P_19号4様式1!G192,RIGHT(FIXED(P_19号4様式1!G192,3,FALSE),4),\"\"),\"\"),\"\")","v":""},null,{"$f":"IF(P_19号4様式1!J192=\"\",\"\",P_19号4様式1!J192)","v":""},{"$f":"IF(P_19号4様式1!K192=\"\",\"\",P_19号4様式1!K192)","v":""},{"$f":"IF(P_19号4様式1!L192<> \"\",IF(P_19号4様式1!L192<> \"-\",TEXT(INT(P_19号4様式1!L192),\"#,##0\"),\"-\"),\"\")","v":""},{"$f":"IF(P_19号4様式1!L192<> \"\",IF(P_19号4様式1!L192<> \"-\",IF(VALUE(FIXED(P_19号4様式1!L192,0,TRUE))<>P_19号4様式1!L192,RIGHT(FIXED(P_19号4様式1!L192,3,FALSE),4),\"\"),\"\"),\"\")","v":""},null,{"$f":"IF(P_19号4様式1!O192=\"\",\"\",P_19号4様式1!O192)","v":""},{"$f":"IF(P_19号4様式1!P192=\"\",\"\",P_19号4様式1!P192)","v":""},{"$f":"IF(P_19号4様式1!Q192<> \"\",IF(P_19号4様式1!Q192<> \"-\",TEXT(INT(P_19号4様式1!Q192),\"#,##0\"),\"-\"),\"\")","v":""},{"$f":"IF(P_19号4様式1!Q192<> \"\",IF(P_19号4様式1!Q192<> \"-\",IF(VALUE(FIXED(P_19号4様式1!Q192,0,TRUE))<>P_19号4様式1!Q192,RIGHT(FIXED(P_19号4様式1!Q192,3,FALSE),4),\"\"),\"\"),\"\")","v":""},null,{"$f":"IF(P_19号4様式1!T192=\"\",\"\",P_19号4様式1!T192)","v":""},{"$f":"IF(P_19号4様式1!U192=\"\",\"\",P_19号4様式1!U192)","v":""},{"$f":"IF(P_19号4様式1!V192<> \"\",IF(P_19号4様式1!V192<> \"-\",TEXT(INT(P_19号4様式1!V192),\"#,##0\"),\"-\"),\"\")","v":""},{"$f":"IF(P_19号4様式1!V192<> \"\",IF(P_19号4様式1!V192<> \"-\",IF(VALUE(FIXED(P_19号4様式1!V192,0,TRUE))<>P_19号4様式1!V192,RIGHT(FIXED(P_19号4様式1!V192,3,FALSE),4),\"\"),\"\"),\"\")","v":""}]
[{"$f":"IF(P_19号4様式1!E193=\"\",\"\",P_19号4様式1!E193)","v":""},{"$f":"IF(P_19号4様式1!F193=\"\",\"\",P_19号4様式1!F193)","v":""},{"$f":"IF(P_19号4様式1!G193<> \"\",IF(P_19号4様式1!G193<> \"-\",TEXT(INT(P_19号4様式1!G193),\"#,##0\"),\"-\"),\"\")","v":""},{"$f":"IF(P_19号4様式1!G193<> \"\",IF(P_19号4様式1!G193<> \"-\",IF(VALUE(FIXED(P_19号4様式1!G193,0,TRUE))<>P_19号4様式1!G193,RIGHT(FIXED(P_19号4様式1!G193,3,FALSE),4),\"\"),\"\"),\"\")","v":""},null,{"$f":"IF(P_19号4様式1!J193=\"\",\"\",P_19号4様式1!J193)","v":""},{"$f":"IF(P_19号4様式1!K193=\"\",\"\",P_19号4様式1!K193)","v":""},{"$f":"IF(P_19号4様式1!L193<> \"\",IF(P_19号4様式1!L193<> \"-\",TEXT(INT(P_19号4様式1!L193),\"#,##0\"),\"-\"),\"\")","v":""},{"$f":"IF(P_19号4様式1!L193<> \"\",IF(P_19号4様式1!L193<> \"-\",IF(VALUE(FIXED(P_19号4様式1!L193,0,TRUE))<>P_19号4様式1!L193,RIGHT(FIXED(P_19号4様式1!L193,3,FALSE),4),\"\"),\"\"),\"\")","v":""},null,{"$f":"IF(P_19号4様式1!O193=\"\",\"\",P_19号4様式1!O193)","v":""},{"$f":"IF(P_19号4様式1!P193=\"\",\"\",P_19号4様式1!P193)","v":""},{"$f":"IF(P_19号4様式1!Q193<> \"\",IF(P_19号4様式1!Q193<> \"-\",TEXT(INT(P_19号4様式1!Q193),\"#,##0\"),\"-\"),\"\")","v":""},{"$f":"IF(P_19号4様式1!Q193<> \"\",IF(P_19号4様式1!Q193<> \"-\",IF(VALUE(FIXED(P_19号4様式1!Q193,0,TRUE))<>P_19号4様式1!Q193,RIGHT(FIXED(P_19号4様式1!Q193,3,FALSE),4),\"\"),\"\"),\"\")","v":""},null,{"$f":"IF(P_19号4様式1!T193=\"\",\"\",P_19号4様式1!T193)","v":""},{"$f":"IF(P_19号4様式1!U193=\"\",\"\",P_19号4様式1!U193)","v":""},{"$f":"IF(P_19号4様式1!V193<> \"\",IF(P_19号4様式1!V193<> \"-\",TEXT(INT(P_19号4様式1!V193),\"#,##0\"),\"-\"),\"\")","v":""},{"$f":"IF(P_19号4様式1!V193<> \"\",IF(P_19号4様式1!V193<> \"-\",IF(VALUE(FIXED(P_19号4様式1!V193,0,TRUE))<>P_19号4様式1!V193,RIGHT(FIXED(P_19号4様式1!V193,3,FALSE),4),\"\"),\"\"),\"\")","v":""}]
[{"$f":"IF(P_19号4様式1!E194=\"\",\"\",P_19号4様式1!E194)","v":""},{"$f":"IF(P_19号4様式1!F194=\"\",\"\",P_19号4様式1!F194)","v":""},{"$f":"IF(P_19号4様式1!G194<> \"\",IF(P_19号4様式1!G194<> \"-\",TEXT(INT(P_19号4様式1!G194),\"#,##0\"),\"-\"),\"\")","v":""},{"$f":"IF(P_19号4様式1!G194<> \"\",IF(P_19号4様式1!G194<> \"-\",IF(VALUE(FIXED(P_19号4様式1!G194,0,TRUE))<>P_19号4様式1!G194,RIGHT(FIXED(P_19号4様式1!G194,3,FALSE),4),\"\"),\"\"),\"\")","v":""},null,{"$f":"IF(P_19号4様式1!J194=\"\",\"\",P_19号4様式1!J194)","v":""},{"$f":"IF(P_19号4様式1!K194=\"\",\"\",P_19号4様式1!K194)","v":""},{"$f":"IF(P_19号4様式1!L194<> \"\",IF(P_19号4様式1!L194<> \"-\",TEXT(INT(P_19号4様式1!L194),\"#,##0\"),\"-\"),\"\")","v":""},{"$f":"IF(P_19号4様式1!L194<> \"\",IF(P_19号4様式1!L194<> \"-\",IF(VALUE(FIXED(P_19号4様式1!L194,0,TRUE))<>P_19号4様式1!L194,RIGHT(FIXED(P_19号4様式1!L194,3,FALSE),4),\"\"),\"\"),\"\")","v":""},null,{"$f":"IF(P_19号4様式1!O194=\"\",\"\",P_19号4様式1!O194)","v":""},{"$f":"IF(P_19号4様式1!P194=\"\",\"\",P_19号4様式1!P194)","v":""},{"$f":"IF(P_19号4様式1!Q194<> \"\",IF(P_19号4様式1!Q194<> \"-\",TEXT(INT(P_19号4様式1!Q194),\"#,##0\"),\"-\"),\"\")","v":""},{"$f":"IF(P_19号4様式1!Q194<> \"\",IF(P_19号4様式1!Q194<> \"-\",IF(VALUE(FIXED(P_19号4様式1!Q194,0,TRUE))<>P_19号4様式1!Q194,RIGHT(FIXED(P_19号4様式1!Q194,3,FALSE),4),\"\"),\"\"),\"\")","v":""},null,{"$f":"IF(P_19号4様式1!T194=\"\",\"\",P_19号4様式1!T194)","v":""},{"$f":"IF(P_19号4様式1!U194=\"\",\"\",P_19号4様式1!U194)","v":""},{"$f":"IF(P_19号4様式1!V194<> \"\",IF(P_19号4様式1!V194<> \"-\",TEXT(INT(P_19号4様式1!V194),\"#,##0\"),\"-\"),\"\")","v":""},{"$f":"IF(P_19号4様式1!V194<> \"\",IF(P_19号4様式1!V194<> \"-\",IF(VALUE(FIXED(P_19号4様式1!V194,0,TRUE))<>P_19号4様式1!V194,RIGHT(FIXED(P_19号4様式1!V194,3,FALSE),4),\"\"),\"\"),\"\")","v":""}]
[{"$f":"IF(P_19号4様式1!E195=\"\",\"\",P_19号4様式1!E195)","v":""},{"$f":"IF(P_19号4様式1!F195=\"\",\"\",P_19号4様式1!F195)","v":""},{"$f":"IF(P_19号4様式1!G195<> \"\",IF(P_19号4様式1!G195<> \"-\",TEXT(INT(P_19号4様式1!G195),\"#,##0\"),\"-\"),\"\")","v":""},{"$f":"IF(P_19号4様式1!G195<> \"\",IF(P_19号4様式1!G195<> \"-\",IF(VALUE(FIXED(P_19号4様式1!G195,0,TRUE))<>P_19号4様式1!G195,RIGHT(FIXED(P_19号4様式1!G195,3,FALSE),4),\"\"),\"\"),\"\")","v":""},null,{"$f":"IF(P_19号4様式1!J195=\"\",\"\",P_19号4様式1!J195)","v":""},{"$f":"IF(P_19号4様式1!K195=\"\",\"\",P_19号4様式1!K195)","v":""},{"$f":"IF(P_19号4様式1!L195<> \"\",IF(P_19号4様式1!L195<> \"-\",TEXT(INT(P_19号4様式1!L195),\"#,##0\"),\"-\"),\"\")","v":""},{"$f":"IF(P_19号4様式1!L195<> \"\",IF(P_19号4様式1!L195<> \"-\",IF(VALUE(FIXED(P_19号4様式1!L195,0,TRUE))<>P_19号4様式1!L195,RIGHT(FIXED(P_19号4様式1!L195,3,FALSE),4),\"\"),\"\"),\"\")","v":""},null,{"$f":"IF(P_19号4様式1!O195=\"\",\"\",P_19号4様式1!O195)","v":""},{"$f":"IF(P_19号4様式1!P195=\"\",\"\",P_19号4様式1!P195)","v":""},{"$f":"IF(P_19号4様式1!Q195<> \"\",IF(P_19号4様式1!Q195<> \"-\",TEXT(INT(P_19号4様式1!Q195),\"#,##0\"),\"-\"),\"\")","v":""},{"$f":"IF(P_19号4様式1!Q195<> \"\",IF(P_19号4様式1!Q195<> \"-\",IF(VALUE(FIXED(P_19号4様式1!Q195,0,TRUE))<>P_19号4様式1!Q195,RIGHT(FIXED(P_19号4様式1!Q195,3,FALSE),4),\"\"),\"\"),\"\")","v":""},null,{"$f":"IF(P_19号4様式1!T195=\"\",\"\",P_19号4様式1!T195)","v":""},{"$f":"IF(P_19号4様式1!U195=\"\",\"\",P_19号4様式1!U195)","v":""},{"$f":"IF(P_19号4様式1!V195<> \"\",IF(P_19号4様式1!V195<> \"-\",TEXT(INT(P_19号4様式1!V195),\"#,##0\"),\"-\"),\"\")","v":""},{"$f":"IF(P_19号4様式1!V195<> \"\",IF(P_19号4様式1!V195<> \"-\",IF(VALUE(FIXED(P_19号4様式1!V195,0,TRUE))<>P_19号4様式1!V195,RIGHT(FIXED(P_19号4様式1!V195,3,FALSE),4),\"\"),\"\"),\"\")","v":""}]
[{"$f":"IF(P_19号4様式1!E196=\"\",\"\",P_19号4様式1!E196)","v":""},{"$f":"IF(P_19号4様式1!F196=\"\",\"\",P_19号4様式1!F196)","v":""},{"$f":"IF(P_19号4様式1!G196<> \"\",IF(P_19号4様式1!G196<> \"-\",TEXT(INT(P_19号4様式1!G196),\"#,##0\"),\"-\"),\"\")","v":""},{"$f":"IF(P_19号4様式1!G196<> \"\",IF(P_19号4様式1!G196<> \"-\",IF(VALUE(FIXED(P_19号4様式1!G196,0,TRUE))<>P_19号4様式1!G196,RIGHT(FIXED(P_19号4様式1!G196,3,FALSE),4),\"\"),\"\"),\"\")","v":""},null,{"$f":"IF(P_19号4様式1!J196=\"\",\"\",P_19号4様式1!J196)","v":""},{"$f":"IF(P_19号4様式1!K196=\"\",\"\",P_19号4様式1!K196)","v":""},{"$f":"IF(P_19号4様式1!L196<> \"\",IF(P_19号4様式1!L196<> \"-\",TEXT(INT(P_19号4様式1!L196),\"#,##0\"),\"-\"),\"\")","v":""},{"$f":"IF(P_19号4様式1!L196<> \"\",IF(P_19号4様式1!L196<> \"-\",IF(VALUE(FIXED(P_19号4様式1!L196,0,TRUE))<>P_19号4様式1!L196,RIGHT(FIXED(P_19号4様式1!L196,3,FALSE),4),\"\"),\"\"),\"\")","v":""},null,{"$f":"IF(P_19号4様式1!O196=\"\",\"\",P_19号4様式1!O196)","v":""},{"$f":"IF(P_19号4様式1!P196=\"\",\"\",P_19号4様式1!P196)","v":""},{"$f":"IF(P_19号4様式1!Q196<> \"\",IF(P_19号4様式1!Q196<> \"-\",TEXT(INT(P_19号4様式1!Q196),\"#,##0\"),\"-\"),\"\")","v":""},{"$f":"IF(P_19号4様式1!Q196<> \"\",IF(P_19号4様式1!Q196<> \"-\",IF(VALUE(FIXED(P_19号4様式1!Q196,0,TRUE))<>P_19号4様式1!Q196,RIGHT(FIXED(P_19号4様式1!Q196,3,FALSE),4),\"\"),\"\"),\"\")","v":""},null,{"$f":"IF(P_19号4様式1!T196=\"\",\"\",P_19号4様式1!T196)","v":""},{"$f":"IF(P_19号4様式1!U196=\"\",\"\",P_19号4様式1!U196)","v":""},{"$f":"IF(P_19号4様式1!V196<> \"\",IF(P_19号4様式1!V196<> \"-\",TEXT(INT(P_19号4様式1!V196),\"#,##0\"),\"-\"),\"\")","v":""},{"$f":"IF(P_19号4様式1!V196<> \"\",IF(P_19号4様式1!V196<> \"-\",IF(VALUE(FIXED(P_19号4様式1!V196,0,TRUE))<>P_19号4様式1!V196,RIGHT(FIXED(P_19号4様式1!V196,3,FALSE),4),\"\"),\"\"),\"\")","v":""}]
[{"$f":"IF(P_19号4様式1!E197=\"\",\"\",P_19号4様式1!E197)","v":""},{"$f":"IF(P_19号4様式1!F197=\"\",\"\",P_19号4様式1!F197)","v":""},{"$f":"IF(P_19号4様式1!G197<> \"\",IF(P_19号4様式1!G197<> \"-\",TEXT(INT(P_19号4様式1!G197),\"#,##0\"),\"-\"),\"\")","v":""},{"$f":"IF(P_19号4様式1!G197<> \"\",IF(P_19号4様式1!G197<> \"-\",IF(VALUE(FIXED(P_19号4様式1!G197,0,TRUE))<>P_19号4様式1!G197,RIGHT(FIXED(P_19号4様式1!G197,3,FALSE),4),\"\"),\"\"),\"\")","v":""},null,{"$f":"IF(P_19号4様式1!J197=\"\",\"\",P_19号4様式1!J197)","v":""},{"$f":"IF(P_19号4様式1!K197=\"\",\"\",P_19号4様式1!K197)","v":""},{"$f":"IF(P_19号4様式1!L197<> \"\",IF(P_19号4様式1!L197<> \"-\",TEXT(INT(P_19号4様式1!L197),\"#,##0\"),\"-\"),\"\")","v":""},{"$f":"IF(P_19号4様式1!L197<> \"\",IF(P_19号4様式1!L197<> \"-\",IF(VALUE(FIXED(P_19号4様式1!L197,0,TRUE))<>P_19号4様式1!L197,RIGHT(FIXED(P_19号4様式1!L197,3,FALSE),4),\"\"),\"\"),\"\")","v":""},null,{"$f":"IF(P_19号4様式1!O197=\"\",\"\",P_19号4様式1!O197)","v":""},{"$f":"IF(P_19号4様式1!P197=\"\",\"\",P_19号4様式1!P197)","v":""},{"$f":"IF(P_19号4様式1!Q197<> \"\",IF(P_19号4様式1!Q197<> \"-\",TEXT(INT(P_19号4様式1!Q197),\"#,##0\"),\"-\"),\"\")","v":""},{"$f":"IF(P_19号4様式1!Q197<> \"\",IF(P_19号4様式1!Q197<> \"-\",IF(VALUE(FIXED(P_19号4様式1!Q197,0,TRUE))<>P_19号4様式1!Q197,RIGHT(FIXED(P_19号4様式1!Q197,3,FALSE),4),\"\"),\"\"),\"\")","v":""},null,{"$f":"IF(P_19号4様式1!T197=\"\",\"\",P_19号4様式1!T197)","v":""},{"$f":"IF(P_19号4様式1!U197=\"\",\"\",P_19号4様式1!U197)","v":""},{"$f":"IF(P_19号4様式1!V197<> \"\",IF(P_19号4様式1!V197<> \"-\",TEXT(INT(P_19号4様式1!V197),\"#,##0\"),\"-\"),\"\")","v":""},{"$f":"IF(P_19号4様式1!V197<> \"\",IF(P_19号4様式1!V197<> \"-\",IF(VALUE(FIXED(P_19号4様式1!V197,0,TRUE))<>P_19号4様式1!V197,RIGHT(FIXED(P_19号4様式1!V197,3,FALSE),4),\"\"),\"\"),\"\")","v":""}]
[{"$f":"IF(P_19号4様式1!E198=\"\",\"\",P_19号4様式1!E198)","v":""},{"$f":"IF(P_19号4様式1!F198=\"\",\"\",P_19号4様式1!F198)","v":""},{"$f":"IF(P_19号4様式1!G198<> \"\",IF(P_19号4様式1!G198<> \"-\",TEXT(INT(P_19号4様式1!G198),\"#,##0\"),\"-\"),\"\")","v":""},{"$f":"IF(P_19号4様式1!G198<> \"\",IF(P_19号4様式1!G198<> \"-\",IF(VALUE(FIXED(P_19号4様式1!G198,0,TRUE))<>P_19号4様式1!G198,RIGHT(FIXED(P_19号4様式1!G198,3,FALSE),4),\"\"),\"\"),\"\")","v":""},null,{"$f":"IF(P_19号4様式1!J198=\"\",\"\",P_19号4様式1!J198)","v":""},{"$f":"IF(P_19号4様式1!K198=\"\",\"\",P_19号4様式1!K198)","v":""},{"$f":"IF(P_19号4様式1!L198<> \"\",IF(P_19号4様式1!L198<> \"-\",TEXT(INT(P_19号4様式1!L198),\"#,##0\"),\"-\"),\"\")","v":""},{"$f":"IF(P_19号4様式1!L198<> \"\",IF(P_19号4様式1!L198<> \"-\",IF(VALUE(FIXED(P_19号4様式1!L198,0,TRUE))<>P_19号4様式1!L198,RIGHT(FIXED(P_19号4様式1!L198,3,FALSE),4),\"\"),\"\"),\"\")","v":""},null,{"$f":"IF(P_19号4様式1!O198=\"\",\"\",P_19号4様式1!O198)","v":""},{"$f":"IF(P_19号4様式1!P198=\"\",\"\",P_19号4様式1!P198)","v":""},{"$f":"IF(P_19号4様式1!Q198<> \"\",IF(P_19号4様式1!Q198<> \"-\",TEXT(INT(P_19号4様式1!Q198),\"#,##0\"),\"-\"),\"\")","v":""},{"$f":"IF(P_19号4様式1!Q198<> \"\",IF(P_19号4様式1!Q198<> \"-\",IF(VALUE(FIXED(P_19号4様式1!Q198,0,TRUE))<>P_19号4様式1!Q198,RIGHT(FIXED(P_19号4様式1!Q198,3,FALSE),4),\"\"),\"\"),\"\")","v":""},null,{"$f":"IF(P_19号4様式1!T198=\"\",\"\",P_19号4様式1!T198)","v":""},{"$f":"IF(P_19号4様式1!U198=\"\",\"\",P_19号4様式1!U198)","v":""},{"$f":"IF(P_19号4様式1!V198<> \"\",IF(P_19号4様式1!V198<> \"-\",TEXT(INT(P_19号4様式1!V198),\"#,##0\"),\"-\"),\"\")","v":""},{"$f":"IF(P_19号4様式1!V198<> \"\",IF(P_19号4様式1!V198<> \"-\",IF(VALUE(FIXED(P_19号4様式1!V198,0,TRUE))<>P_19号4様式1!V198,RIGHT(FIXED(P_19号4様式1!V198,3,FALSE),4),\"\"),\"\"),\"\")","v":""}]
[{"$f":"IF(P_19号4様式1!E199=\"\",\"\",P_19号4様式1!E199)","v":""},{"$f":"IF(P_19号4様式1!F199=\"\",\"\",P_19号4様式1!F199)","v":""},{"$f":"IF(P_19号4様式1!G199<> \"\",IF(P_19号4様式1!G199<> \"-\",TEXT(INT(P_19号4様式1!G199),\"#,##0\"),\"-\"),\"\")","v":""},{"$f":"IF(P_19号4様式1!G199<> \"\",IF(P_19号4様式1!G199<> \"-\",IF(VALUE(FIXED(P_19号4様式1!G199,0,TRUE))<>P_19号4様式1!G199,RIGHT(FIXED(P_19号4様式1!G199,3,FALSE),4),\"\"),\"\"),\"\")","v":""},null,{"$f":"IF(P_19号4様式1!J199=\"\",\"\",P_19号4様式1!J199)","v":""},{"$f":"IF(P_19号4様式1!K199=\"\",\"\",P_19号4様式1!K199)","v":""},{"$f":"IF(P_19号4様式1!L199<> \"\",IF(P_19号4様式1!L199<> \"-\",TEXT(INT(P_19号4様式1!L199),\"#,##0\"),\"-\"),\"\")","v":""},{"$f":"IF(P_19号4様式1!L199<> \"\",IF(P_19号4様式1!L199<> \"-\",IF(VALUE(FIXED(P_19号4様式1!L199,0,TRUE))<>P_19号4様式1!L199,RIGHT(FIXED(P_19号4様式1!L199,3,FALSE),4),\"\"),\"\"),\"\")","v":""},null,{"$f":"IF(P_19号4様式1!O199=\"\",\"\",P_19号4様式1!O199)","v":""},{"$f":"IF(P_19号4様式1!P199=\"\",\"\",P_19号4様式1!P199)","v":""},{"$f":"IF(P_19号4様式1!Q199<> \"\",IF(P_19号4様式1!Q199<> \"-\",TEXT(INT(P_19号4様式1!Q199),\"#,##0\"),\"-\"),\"\")","v":""},{"$f":"IF(P_19号4様式1!Q199<> \"\",IF(P_19号4様式1!Q199<> \"-\",IF(VALUE(FIXED(P_19号4様式1!Q199,0,TRUE))<>P_19号4様式1!Q199,RIGHT(FIXED(P_19号4様式1!Q199,3,FALSE),4),\"\"),\"\"),\"\")","v":""},null,{"$f":"IF(P_19号4様式1!T199=\"\",\"\",P_19号4様式1!T199)","v":""},{"$f":"IF(P_19号4様式1!U199=\"\",\"\",P_19号4様式1!U199)","v":""},{"$f":"IF(P_19号4様式1!V199<> \"\",IF(P_19号4様式1!V199<> \"-\",TEXT(INT(P_19号4様式1!V199),\"#,##0\"),\"-\"),\"\")","v":""},{"$f":"IF(P_19号4様式1!V199<> \"\",IF(P_19号4様式1!V199<> \"-\",IF(VALUE(FIXED(P_19号4様式1!V199,0,TRUE))<>P_19号4様式1!V199,RIGHT(FIXED(P_19号4様式1!V199,3,FALSE),4),\"\"),\"\"),\"\")","v":""}]
[{"$f":"IF(P_19号4様式1!E200=\"\",\"\",P_19号4様式1!E200)","v":""},{"$f":"IF(P_19号4様式1!F200=\"\",\"\",P_19号4様式1!F200)","v":""},{"$f":"IF(P_19号4様式1!G200<> \"\",IF(P_19号4様式1!G200<> \"-\",TEXT(INT(P_19号4様式1!G200),\"#,##0\"),\"-\"),\"\")","v":""},{"$f":"IF(P_19号4様式1!G200<> \"\",IF(P_19号4様式1!G200<> \"-\",IF(VALUE(FIXED(P_19号4様式1!G200,0,TRUE))<>P_19号4様式1!G200,RIGHT(FIXED(P_19号4様式1!G200,3,FALSE),4),\"\"),\"\"),\"\")","v":""},null,{"$f":"IF(P_19号4様式1!J200=\"\",\"\",P_19号4様式1!J200)","v":""},{"$f":"IF(P_19号4様式1!K200=\"\",\"\",P_19号4様式1!K200)","v":""},{"$f":"IF(P_19号4様式1!L200<> \"\",IF(P_19号4様式1!L200<> \"-\",TEXT(INT(P_19号4様式1!L200),\"#,##0\"),\"-\"),\"\")","v":""},{"$f":"IF(P_19号4様式1!L200<> \"\",IF(P_19号4様式1!L200<> \"-\",IF(VALUE(FIXED(P_19号4様式1!L200,0,TRUE))<>P_19号4様式1!L200,RIGHT(FIXED(P_19号4様式1!L200,3,FALSE),4),\"\"),\"\"),\"\")","v":""},null,{"$f":"IF(P_19号4様式1!O200=\"\",\"\",P_19号4様式1!O200)","v":""},{"$f":"IF(P_19号4様式1!P200=\"\",\"\",P_19号4様式1!P200)","v":""},{"$f":"IF(P_19号4様式1!Q200<> \"\",IF(P_19号4様式1!Q200<> \"-\",TEXT(INT(P_19号4様式1!Q200),\"#,##0\"),\"-\"),\"\")","v":""},{"$f":"IF(P_19号4様式1!Q200<> \"\",IF(P_19号4様式1!Q200<> \"-\",IF(VALUE(FIXED(P_19号4様式1!Q200,0,TRUE))<>P_19号4様式1!Q200,RIGHT(FIXED(P_19号4様式1!Q200,3,FALSE),4),\"\"),\"\"),\"\")","v":""},null,{"$f":"IF(P_19号4様式1!T200=\"\",\"\",P_19号4様式1!T200)","v":""},{"$f":"IF(P_19号4様式1!U200=\"\",\"\",P_19号4様式1!U200)","v":""},{"$f":"IF(P_19号4様式1!V200<> \"\",IF(P_19号4様式1!V200<> \"-\",TEXT(INT(P_19号4様式1!V200),\"#,##0\"),\"-\"),\"\")","v":""},{"$f":"IF(P_19号4様式1!V200<> \"\",IF(P_19号4様式1!V200<> \"-\",IF(VALUE(FIXED(P_19号4様式1!V200,0,TRUE))<>P_19号4様式1!V200,RIGHT(FIXED(P_19号4様式1!V200,3,FALSE),4),\"\"),\"\"),\"\")","v":""}]
[{"$f":"IF(P_19号4様式1!E201=\"\",\"\",P_19号4様式1!E201)","v":""},{"$f":"IF(P_19号4様式1!F201=\"\",\"\",P_19号4様式1!F201)","v":""},{"$f":"IF(P_19号4様式1!G201<> \"\",IF(P_19号4様式1!G201<> \"-\",TEXT(INT(P_19号4様式1!G201),\"#,##0\"),\"-\"),\"\")","v":""},{"$f":"IF(P_19号4様式1!G201<> \"\",IF(P_19号4様式1!G201<> \"-\",IF(VALUE(FIXED(P_19号4様式1!G201,0,TRUE))<>P_19号4様式1!G201,RIGHT(FIXED(P_19号4様式1!G201,3,FALSE),4),\"\"),\"\"),\"\")","v":""},null,{"$f":"IF(P_19号4様式1!J201=\"\",\"\",P_19号4様式1!J201)","v":""},{"$f":"IF(P_19号4様式1!K201=\"\",\"\",P_19号4様式1!K201)","v":""},{"$f":"IF(P_19号4様式1!L201<> \"\",IF(P_19号4様式1!L201<> \"-\",TEXT(INT(P_19号4様式1!L201),\"#,##0\"),\"-\"),\"\")","v":""},{"$f":"IF(P_19号4様式1!L201<> \"\",IF(P_19号4様式1!L201<> \"-\",IF(VALUE(FIXED(P_19号4様式1!L201,0,TRUE))<>P_19号4様式1!L201,RIGHT(FIXED(P_19号4様式1!L201,3,FALSE),4),\"\"),\"\"),\"\")","v":""},null,{"$f":"IF(P_19号4様式1!O201=\"\",\"\",P_19号4様式1!O201)","v":""},{"$f":"IF(P_19号4様式1!P201=\"\",\"\",P_19号4様式1!P201)","v":""},{"$f":"IF(P_19号4様式1!Q201<> \"\",IF(P_19号4様式1!Q201<> \"-\",TEXT(INT(P_19号4様式1!Q201),\"#,##0\"),\"-\"),\"\")","v":""},{"$f":"IF(P_19号4様式1!Q201<> \"\",IF(P_19号4様式1!Q201<> \"-\",IF(VALUE(FIXED(P_19号4様式1!Q201,0,TRUE))<>P_19号4様式1!Q201,RIGHT(FIXED(P_19号4様式1!Q201,3,FALSE),4),\"\"),\"\"),\"\")","v":""},null,{"$f":"IF(P_19号4様式1!T201=\"\",\"\",P_19号4様式1!T201)","v":""},{"$f":"IF(P_19号4様式1!U201=\"\",\"\",P_19号4様式1!U201)","v":""},{"$f":"IF(P_19号4様式1!V201<> \"\",IF(P_19号4様式1!V201<> \"-\",TEXT(INT(P_19号4様式1!V201),\"#,##0\"),\"-\"),\"\")","v":""},{"$f":"IF(P_19号4様式1!V201<> \"\",IF(P_19号4様式1!V201<> \"-\",IF(VALUE(FIXED(P_19号4様式1!V201,0,TRUE))<>P_19号4様式1!V201,RIGHT(FIXED(P_19号4様式1!V201,3,FALSE),4),\"\"),\"\"),\"\")","v":""}]
[{"$f":"IF(P_19号4様式1!E202=\"\",\"\",P_19号4様式1!E202)","v":""},{"$f":"IF(P_19号4様式1!F202=\"\",\"\",P_19号4様式1!F202)","v":""},{"$f":"IF(P_19号4様式1!G202<> \"\",IF(P_19号4様式1!G202<> \"-\",TEXT(INT(P_19号4様式1!G202),\"#,##0\"),\"-\"),\"\")","v":""},{"$f":"IF(P_19号4様式1!G202<> \"\",IF(P_19号4様式1!G202<> \"-\",IF(VALUE(FIXED(P_19号4様式1!G202,0,TRUE))<>P_19号4様式1!G202,RIGHT(FIXED(P_19号4様式1!G202,3,FALSE),4),\"\"),\"\"),\"\")","v":""},null,{"$f":"IF(P_19号4様式1!J202=\"\",\"\",P_19号4様式1!J202)","v":""},{"$f":"IF(P_19号4様式1!K202=\"\",\"\",P_19号4様式1!K202)","v":""},{"$f":"IF(P_19号4様式1!L202<> \"\",IF(P_19号4様式1!L202<> \"-\",TEXT(INT(P_19号4様式1!L202),\"#,##0\"),\"-\"),\"\")","v":""},{"$f":"IF(P_19号4様式1!L202<> \"\",IF(P_19号4様式1!L202<> \"-\",IF(VALUE(FIXED(P_19号4様式1!L202,0,TRUE))<>P_19号4様式1!L202,RIGHT(FIXED(P_19号4様式1!L202,3,FALSE),4),\"\"),\"\"),\"\")","v":""},null,{"$f":"IF(P_19号4様式1!O202=\"\",\"\",P_19号4様式1!O202)","v":""},{"$f":"IF(P_19号4様式1!P202=\"\",\"\",P_19号4様式1!P202)","v":""},{"$f":"IF(P_19号4様式1!Q202<> \"\",IF(P_19号4様式1!Q202<> \"-\",TEXT(INT(P_19号4様式1!Q202),\"#,##0\"),\"-\"),\"\")","v":""},{"$f":"IF(P_19号4様式1!Q202<> \"\",IF(P_19号4様式1!Q202<> \"-\",IF(VALUE(FIXED(P_19号4様式1!Q202,0,TRUE))<>P_19号4様式1!Q202,RIGHT(FIXED(P_19号4様式1!Q202,3,FALSE),4),\"\"),\"\"),\"\")","v":""},null,{"$f":"IF(P_19号4様式1!T202=\"\",\"\",P_19号4様式1!T202)","v":""},{"$f":"IF(P_19号4様式1!U202=\"\",\"\",P_19号4様式1!U202)","v":""},{"$f":"IF(P_19号4様式1!V202<> \"\",IF(P_19号4様式1!V202<> \"-\",TEXT(INT(P_19号4様式1!V202),\"#,##0\"),\"-\"),\"\")","v":""},{"$f":"IF(P_19号4様式1!V202<> \"\",IF(P_19号4様式1!V202<> \"-\",IF(VALUE(FIXED(P_19号4様式1!V202,0,TRUE))<>P_19号4様式1!V202,RIGHT(FIXED(P_19号4様式1!V202,3,FALSE),4),\"\"),\"\"),\"\")","v":""}]
[{"$f":"IF(P_19号4様式1!E203=\"\",\"\",P_19号4様式1!E203)","v":""},{"$f":"IF(P_19号4様式1!F203=\"\",\"\",P_19号4様式1!F203)","v":""},{"$f":"IF(P_19号4様式1!G203<> \"\",IF(P_19号4様式1!G203<> \"-\",TEXT(INT(P_19号4様式1!G203),\"#,##0\"),\"-\"),\"\")","v":""},{"$f":"IF(P_19号4様式1!G203<> \"\",IF(P_19号4様式1!G203<> \"-\",IF(VALUE(FIXED(P_19号4様式1!G203,0,TRUE))<>P_19号4様式1!G203,RIGHT(FIXED(P_19号4様式1!G203,3,FALSE),4),\"\"),\"\"),\"\")","v":""},null,{"$f":"IF(P_19号4様式1!J203=\"\",\"\",P_19号4様式1!J203)","v":""},{"$f":"IF(P_19号4様式1!K203=\"\",\"\",P_19号4様式1!K203)","v":""},{"$f":"IF(P_19号4様式1!L203<> \"\",IF(P_19号4様式1!L203<> \"-\",TEXT(INT(P_19号4様式1!L203),\"#,##0\"),\"-\"),\"\")","v":""},{"$f":"IF(P_19号4様式1!L203<> \"\",IF(P_19号4様式1!L203<> \"-\",IF(VALUE(FIXED(P_19号4様式1!L203,0,TRUE))<>P_19号4様式1!L203,RIGHT(FIXED(P_19号4様式1!L203,3,FALSE),4),\"\"),\"\"),\"\")","v":""},null,{"$f":"IF(P_19号4様式1!O203=\"\",\"\",P_19号4様式1!O203)","v":""},{"$f":"IF(P_19号4様式1!P203=\"\",\"\",P_19号4様式1!P203)","v":""},{"$f":"IF(P_19号4様式1!Q203<> \"\",IF(P_19号4様式1!Q203<> \"-\",TEXT(INT(P_19号4様式1!Q203),\"#,##0\"),\"-\"),\"\")","v":""},{"$f":"IF(P_19号4様式1!Q203<> \"\",IF(P_19号4様式1!Q203<> \"-\",IF(VALUE(FIXED(P_19号4様式1!Q203,0,TRUE))<>P_19号4様式1!Q203,RIGHT(FIXED(P_19号4様式1!Q203,3,FALSE),4),\"\"),\"\"),\"\")","v":""},null,{"$f":"IF(P_19号4様式1!T203=\"\",\"\",P_19号4様式1!T203)","v":""},{"$f":"IF(P_19号4様式1!U203=\"\",\"\",P_19号4様式1!U203)","v":""},{"$f":"IF(P_19号4様式1!V203<> \"\",IF(P_19号4様式1!V203<> \"-\",TEXT(INT(P_19号4様式1!V203),\"#,##0\"),\"-\"),\"\")","v":""},{"$f":"IF(P_19号4様式1!V203<> \"\",IF(P_19号4様式1!V203<> \"-\",IF(VALUE(FIXED(P_19号4様式1!V203,0,TRUE))<>P_19号4様式1!V203,RIGHT(FIXED(P_19号4様式1!V203,3,FALSE),4),\"\"),\"\"),\"\")","v":""}]
[{"$f":"IF(P_19号4様式1!E204=\"\",\"\",P_19号4様式1!E204)","v":""},{"$f":"IF(P_19号4様式1!F204=\"\",\"\",P_19号4様式1!F204)","v":""},{"$f":"IF(P_19号4様式1!G204<> \"\",IF(P_19号4様式1!G204<> \"-\",TEXT(INT(P_19号4様式1!G204),\"#,##0\"),\"-\"),\"\")","v":""},{"$f":"IF(P_19号4様式1!G204<> \"\",IF(P_19号4様式1!G204<> \"-\",IF(VALUE(FIXED(P_19号4様式1!G204,0,TRUE))<>P_19号4様式1!G204,RIGHT(FIXED(P_19号4様式1!G204,3,FALSE),4),\"\"),\"\"),\"\")","v":""},null,{"$f":"IF(P_19号4様式1!J204=\"\",\"\",P_19号4様式1!J204)","v":""},{"$f":"IF(P_19号4様式1!K204=\"\",\"\",P_19号4様式1!K204)","v":""},{"$f":"IF(P_19号4様式1!L204<> \"\",IF(P_19号4様式1!L204<> \"-\",TEXT(INT(P_19号4様式1!L204),\"#,##0\"),\"-\"),\"\")","v":""},{"$f":"IF(P_19号4様式1!L204<> \"\",IF(P_19号4様式1!L204<> \"-\",IF(VALUE(FIXED(P_19号4様式1!L204,0,TRUE))<>P_19号4様式1!L204,RIGHT(FIXED(P_19号4様式1!L204,3,FALSE),4),\"\"),\"\"),\"\")","v":""},null,{"$f":"IF(P_19号4様式1!O204=\"\",\"\",P_19号4様式1!O204)","v":""},{"$f":"IF(P_19号4様式1!P204=\"\",\"\",P_19号4様式1!P204)","v":""},{"$f":"IF(P_19号4様式1!Q204<> \"\",IF(P_19号4様式1!Q204<> \"-\",TEXT(INT(P_19号4様式1!Q204),\"#,##0\"),\"-\"),\"\")","v":""},{"$f":"IF(P_19号4様式1!Q204<> \"\",IF(P_19号4様式1!Q204<> \"-\",IF(VALUE(FIXED(P_19号4様式1!Q204,0,TRUE))<>P_19号4様式1!Q204,RIGHT(FIXED(P_19号4様式1!Q204,3,FALSE),4),\"\"),\"\"),\"\")","v":""},null,{"$f":"IF(P_19号4様式1!T204=\"\",\"\",P_19号4様式1!T204)","v":""},{"$f":"IF(P_19号4様式1!U204=\"\",\"\",P_19号4様式1!U204)","v":""},{"$f":"IF(P_19号4様式1!V204<> \"\",IF(P_19号4様式1!V204<> \"-\",TEXT(INT(P_19号4様式1!V204),\"#,##0\"),\"-\"),\"\")","v":""},{"$f":"IF(P_19号4様式1!V204<> \"\",IF(P_19号4様式1!V204<> \"-\",IF(VALUE(FIXED(P_19号4様式1!V204,0,TRUE))<>P_19号4様式1!V204,RIGHT(FIXED(P_19号4様式1!V204,3,FALSE),4),\"\"),\"\"),\"\")","v":""}]
[{"$f":"IF(P_19号4様式1!E205=\"\",\"\",P_19号4様式1!E205)","v":""},{"$f":"IF(P_19号4様式1!F205=\"\",\"\",P_19号4様式1!F205)","v":"合  計"},{"$f":"IF(P_19号4様式1!G205<> \"\",IF(P_19号4様式1!G205<> \"-\",TEXT(INT(P_19号4様式1!G205),\"#,##0\"),\"-\"),\"\")","v":"162"},{"$f":"IF(P_19号4様式1!G205<> \"\",IF(P_19号4様式1!G205<> \"-\",IF(VALUE(FIXED(P_19号4様式1!G205,0,TRUE))<>P_19号4様式1!G205,RIGHT(FIXED(P_19号4様式1!G205,3,FALSE),4),\"\"),\"\"),\"\")","v":".132"},null,{"$f":"IF(P_19号4様式1!J205=\"\",\"\",P_19号4様式1!J205)","v":""},{"$f":"IF(P_19号4様式1!K205=\"\",\"\",P_19号4様式1!K205)","v":""},{"$f":"IF(P_19号4様式1!L205<> \"\",IF(P_19号4様式1!L205<> \"-\",TEXT(INT(P_19号4様式1!L205),\"#,##0\"),\"-\"),\"\")","v":""},{"$f":"IF(P_19号4様式1!L205<> \"\",IF(P_19号4様式1!L205<> \"-\",IF(VALUE(FIXED(P_19号4様式1!L205,0,TRUE))<>P_19号4様式1!L205,RIGHT(FIXED(P_19号4様式1!L205,3,FALSE),4),\"\"),\"\"),\"\")","v":""},null,{"$f":"IF(P_19号4様式1!O205=\"\",\"\",P_19号4様式1!O205)","v":""},{"$f":"IF(P_19号4様式1!P205=\"\",\"\",P_19号4様式1!P205)","v":""},{"$f":"IF(P_19号4様式1!Q205<> \"\",IF(P_19号4様式1!Q205<> \"-\",TEXT(INT(P_19号4様式1!Q205),\"#,##0\"),\"-\"),\"\")","v":""},{"$f":"IF(P_19号4様式1!Q205<> \"\",IF(P_19号4様式1!Q205<> \"-\",IF(VALUE(FIXED(P_19号4様式1!Q205,0,TRUE))<>P_19号4様式1!Q205,RIGHT(FIXED(P_19号4様式1!Q205,3,FALSE),4),\"\"),\"\"),\"\")","v":""},null,{"$f":"IF(P_19号4様式1!T205=\"\",\"\",P_19号4様式1!T205)","v":""},{"$f":"IF(P_19号4様式1!U205=\"\",\"\",P_19号4様式1!U205)","v":""},{"$f":"IF(P_19号4様式1!V205<> \"\",IF(P_19号4様式1!V205<> \"-\",TEXT(INT(P_19号4様式1!V205),\"#,##0\"),\"-\"),\"\")","v":""},{"$f":"IF(P_19号4様式1!V205<> \"\",IF(P_19号4様式1!V205<> \"-\",IF(VALUE(FIXED(P_19号4様式1!V205,0,TRUE))<>P_19号4様式1!V205,RIGHT(FIXED(P_19号4様式1!V205,3,FALSE),4),\"\"),\"\"),\"\")","v":""}]

{"sheet":"パラメタシート","index":1,"n_rows":1,"n_cols":2,"rows_kept":1,"cut":false,"hidden":false,"merged":[]}
["執行日","2019-07-21"]

{"sheet":"P_19号4様式1","index":2,"n_rows":205,"n_cols":26,"rows_kept":205,"cut":false,"hidden":false,"merged":[]}
["頁番号","行番号","政党番号1","政党名1","届出番号1","候補者名1","得票数1","政党番号2","政党名2","届出番号2","候補者名2","得票数2","政党番号3","政党名3","届出番号3","候補者名3","得票数3","政党番号4","政党名4","届出番号4","候補者名4","得票数4","選挙名","翌日開票区分","開票時刻","開票確定時刻"]
[1,1,"01","日本共産党",null,null,null,"02","自由民主党","01","三木　とおる","152.5","03","オリーブの木",null,null,null,"04","社会民主党",null,null,null,"参議院比例代表選出議員選挙","0",null,"02:55:00"]
[1,2,"01","日本共産党",null,null,null,"02","自由民主党","02","三浦　靖","43","03","オリーブの木",null,null,null,"04","社会民主党",null,null,null,"参議院比例代表選出議員選挙","0",null,"02:55:00"]
[1,3,"01","日本共産党",null,null,null,"02","自由民主党",null,null,null,"03","オリーブの木",null,null,null,"04","社会民主党",null,null,null,"参議院比例代表選出議員選挙","0",null,"02:55:00"]
[1,4,"01","日本共産党",null,null,null,"02","自由民主党",null,null,null,"03","オリーブの木",null,null,null,"04","社会民主党",null,null,null,"参議院比例代表選出議員選挙","0",null,"02:55:00"]
[1,5,"01","日本共産党",null,null,null,"02","自由民主党",null,null,null,"03","オリーブの木",null,null,null,"04","社会民主党",null,null,null,"参議院比例代表選出議員選挙","0",null,"02:55:00"]
[1,6,"01","日本共産党",null,null,null,"02","自由民主党",null,null,null,"03","オリーブの木",null,null,null,"04","社会民主党",null,null,null,"参議院比例代表選出議員選挙","0",null,"02:55:00"]
[1,7,"01","日本共産党",null,null,null,"02","自由民主党",null,null,null,"03","オリーブの木",null,null,null,"04","社会民主党",null,null,null,"参議院比例代表選出議員選挙","0",null,"02:55:00"]
[1,8,"01","日本共産党",null,null,null,"02","自由民主党",null,null,null,"03","オリーブの木",null,null,null,"04","社会民主党",null,null,null,"参議院比例代表選出議員選挙","0",null,"02:55:00"]
[1,9,"01","日本共産党",null,null,null,"02","自由民主党",null,null,null,"03","オリーブの木",null,null,null,"04","社会民主党",null,null,null,"参議院比例代表選出議員選挙","0",null,"02:55:00"]
[1,10,"01","日本共産党",null,null,null,"02","自由民主党",null,null,null,"03","オリーブの木",null,null,null,"04","社会民主党",null,null,null,"参議院比例代表選出議員選挙","0",null,"02:55:00"]
[1,11,"01","日本共産党",null,null,null,"02","自由民主党",null,null,null,"03","オリーブの木",null,null,null,"04","社会民主党",null,null,null,"参議院比例代表選出議員選挙","0",null,"02:55:00"]
[1,12,"01","日本共産党",null,null,null,"02","自由民主党",null,null,null,"03","オリーブの木",null,null,null,"04","社会民主党",null,null,null,"参議院比例代表選出議員選挙","0",null,"02:55:00"]
[1,13,"01","日本共産党",null,null,null,"02","自由民主党",null,null,null,"03","オリーブの木",null,null,null,"04","社会民主党",null,null,null,"参議院比例代表選出議員選挙","0",null,"02:55:00"]
[1,14,"01","日本共産党",null,null,null,"02","自由民主党",null,null,null,"03","オリーブの木",null,null,null,"04","社会民主党",null,null,null,"参議院比例代表選出議員選挙","0",null,"02:55:00"]
[1,15,"01","日本共産党",null,null,null,"02","自由民主党",null,null,null,"03","オリーブの木",null,null,null,"04","社会民主党",null,null,null,"参議院比例代表選出議員選挙","0",null,"02:55:00"]
[1,16,"01","日本共産党",null,null,null,"02","自由民主党",null,null,null,"03","オリーブの木",null,null,null,"04","社会民主党",null,null,null,"参議院比例代表選出議員選挙","0",null,"02:55:00"]
[1,17,"01","日本共産党",null,null,null,"02","自由民主党",null,null,null,"03","オリーブの木",null,null,null,"04","社会民主党",null,null,null,"参議院比例代表選出議員選挙","0",null,"02:55:00"]
[1,18,"01","日本共産党",null,null,null,"02","自由民主党",null,null,null,"03","オリーブの木",null,null,null,"04","社会民主党",null,null,null,"参議院比例代表選出議員選挙","0",null,"02:55:00"]
[1,19,"01","日本共産党",null,null,null,"02","自由民主党",null,null,null,"03","オリーブの木",null,null,null,"04","社会民主党",null,null,null,"参議院比例代表選出議員選挙","0",null,"02:55:00"]
[1,20,"01","日本共産党",null,null,null,"02","自由民主党",null,null,null,"03","オリーブの木",null,null,null,"04","社会民主党",null,null,null,"参議院比例代表選出議員選挙","0",null,"02:55:00"]
[1,21,"01","日本共産党",null,null,null,"02","自由民主党",null,null,null,"03","オリーブの木",null,null,null,"04","社会民主党",null,null,null,"参議院比例代表選出議員選挙","0",null,"02:55:00"]
[1,22,"01","日本共産党",null,null,null,"02","自由民主党",null,null,null,"03","オリーブの木",null,null,null,"04","社会民主党",null,null,null,"参議院比例代表選出議員選挙","0",null,"02:55:00"]
[1,23,"01","日本共産党",null,null,null,"02","自由民主党",null,null,null,"03","オリーブの木",null,null,null,"04","社会民主党",null,null,null,"参議院比例代表選出議員選挙","0",null,"02:55:00"]
[1,24,"01","日本共産党",null,null,null,"02","自由民主党",null,null,null,"03","オリーブの木",null,null,null,"04","社会民主党",null,null,null,"参議院比例代表選出議員選挙","0",null,"02:55:00"]
[1,25,"01","日本共産党",null,null,null,"02","自由民主党",null,null,null,"03","オリーブの木",null,null,null,"04","社会民主党",null,null,null,"参議院比例代表選出議員選挙","0",null,"02:55:00"]
[1,26,"01","日本共産党",null,null,null,"02","自由民主党",null,null,null,"03","オリーブの木",null,null,null,"04","社会民主党",null,null,null,"参議院比例代表選出議員選挙","0",null,"02:55:00"]
[1,27,"01","日本共産党",null,null,null,"02","自由民主党",null,null,null,"03","オリーブの木",null,null,null,"04","社会民主党",null,null,null,"参議院比例代表選出議員選挙","0",null,"02:55:00"]
[1,28,"01","日本共産党",null,null,null,"02","自由民主党",null,null,null,"03","オリーブの木",null,null,null,"04","社会民主党",null,null,null,"参議院比例代表選出議員選挙","0",null,"02:55:00"]
[1,29,"01","日本共産党",null,null,null,"02","自由民主党",null,null,null,"03","オリーブの木",null,null,null,"04","社会民主党",null,null,null,"参議院比例代表選出議員選挙","0",null,"02:55:00"]
[1,30,"01","日本共産党",null,null,null,"02","自由民主党",null,null,null,"03","オリーブの木",null,null,null,"04","社会民主党",null,null,null,"参議院比例代表選出議員選挙","0",null,"02:55:00"]
[1,31,"01","日本共産党",null,null,null,"02","自由民主党",null,null,null,"03","オリーブの木",null,null,null,"04","社会民主党",null,null,null,"参議院比例代表選出議員選挙","0",null,"02:55:00"]
[1,32,"01","日本共産党",null,null,null,"02","自由民主党",null,null,null,"03","オリーブの木",null,null,null,"04","社会民主党",null,null,null,"参議院比例代表選出議員選挙","0",null,"02:55:00"]
[1,33,"01","日本共産党",null,null,null,"02","自由民主党",null,null,null,"03","オリーブの木",null,null,null,"04","社会民主党",null,null,null,"参議院比例代表選出議員選挙","0",null,"02:55:00"]
[1,34,"01","日本共産党",null,null,null,"02","自由民主党",null,null,null,"03","オリーブの木",null,null,null,"04","社会民主党",null,null,null,"参議院比例代表選出議員選挙","0",null,"02:55:00"]
[1,35,"01","日本共産党",null,null,null,"02","自由民主党",null,null,null,"03","オリーブの木",null,null,null,"04","社会民主党",null,null,null,"参議院比例代表選出議員選挙","0",null,"02:55:00"]
[1,36,"01","日本共産党",null,null,null,"02","自由民主党",null,null,null,"03","オリーブの木",null,null,null,"04","社会民主党",null,null,null,"参議院比例代表選出議員選挙","0",null,"02:55:00"]
[1,37,"01","日本共産党",null,null,null,"02","自由民主党",null,null,null,"03","オリーブの木",null,null,null,"04","社会民主党",null,null,null,"参議院比例代表選出議員選挙","0",null,"02:55:00"]
[1,38,"01","日本共産党",null,null,null,"02","自由民主党",null,null,null,"03","オリーブの木",null,null,null,"04","社会民主党",null,null,null,"参議院比例代表選出議員選挙","0",null,"02:55:00"]
[1,39,"01","日本共産党",null,null,null,"02","自由民主党",null,null,null,"03","オリーブの木",null,null,null,"04","社会民主党",null,null,null,"参議院比例代表選出議員選挙","0",null,"02:55:00"]
[1,40,"01","日本共産党",null,null,null,"02","自由民主党",null,null,null,"03","オリーブの木",null,null,null,"04","社会民主党",null,null,null,"参議院比例代表選出議員選挙","0",null,"02:55:00"]
[1,41,"01","日本共産党",null,null,null,"02","自由民主党",null,null,null,"03","オリーブの木",null,null,null,"04","社会民主党",null,null,null,"参議院比例代表選出議員選挙","0",null,"02:55:00"]
[1,42,"01","日本共産党",null,null,null,"02","自由民主党",null,null,null,"03","オリーブの木",null,null,null,"04","社会民主党",null,null,null,"参議院比例代表選出議員選挙","0",null,"02:55:00"]
[1,43,"01","日本共産党",null,null,null,"02","自由民主党",null,null,null,"03","オリーブの木",null,null,null,"04","社会民主党",null,null,null,"参議院比例代表選出議員選挙","0",null,"02:55:00"]
[1,44,"01","日本共産党",null,null,null,"02","自由民主党",null,null,null,"03","オリーブの木",null,null,null,"04","社会民主党",null,null,null,"参議院比例代表選出議員選挙","0",null,"02:55:00"]
[1,45,"01","日本共産党",null,null,null,"02","自由民主党",null,null,null,"03","オリーブの木",null,null,null,"04","社会民主党",null,null,null,"参議院比例代表選出議員選挙","0",null,"02:55:00"]
[1,46,"01","日本共産党",null,null,null,"02","自由民主党",null,null,null,"03","オリーブの木",null,null,null,"04","社会民主党",null,null,null,"参議院比例代表選出議員選挙","0",null,"02:55:00"]
[1,47,"01","日本共産党",null,null,null,"02","自由民主党",null,null,null,"03","オリーブの木",null,null,null,"04","社会民主党",null,null,null,"参議院比例代表選出議員選挙","0",null,"02:55:00"]
[1,48,"01","日本共産党",null,null,null,"02","自由民主党",null,null,null,"03","オリーブの木",null,null,null,"04","社会民主党",null,null,null,"参議院比例代表選出議員選挙","0",null,"02:55:00"]
[1,49,"01","日本共産党",null,null,null,"02","自由民主党",null,null,null,"03","オリーブの木",null,null,null,"04","社会民主党",null,null,null,"参議院比例代表選出議員選挙","0",null,"02:55:00"]
[1,50,"01","日本共産党",null,null,null,"02","自由民主党",null,null,null,"03","オリーブの木",null,null,null,"04","社会民主党",null,null,null,"参議院比例代表選出議員選挙","0",null,"02:55:00"]
[1,51,"01","日本共産党",null,"合  計",null,"02","自由民主党",null,"合  計","195.5","03","オリーブの木",null,"合  計",null,"04","社会民主党",null,"合  計",null,"参議院比例代表選出議員選挙","0",null,"02:55:00"]
[2,1,"05","公明党",null,null,null,"06","国民民主党",null,null,null,"07","日本維新の会",null,null,null,"08","幸福実現党",null,null,null,"参議院比例代表選出議員選挙","0",null,"02:55:00"]
[2,2,"05","公明党",null,null,null,"06","国民民主党",null,null,null,"07","日本維新の会",null,null,null,"08","幸福実現党",null,null,null,"参議院比例代表選出議員選挙","0",null,"02:55:00"]
[2,3,"05","公明党",null,null,null,"06","国民民主党",null,null,null,"07","日本維新の会",null,null,null,"08","幸福実現党",null,null,null,"参議院比例代表選出議員選挙","0",null,"02:55:00"]
[2,4,"05","公明党",null,null,null,"06","国民民主党",null,null,null,"07","日本維新の会",null,null,null,"08","幸福実現党",null,null,null,"参議院比例代表選出議員選挙","0",null,"02:55:00"]
[2,5,"05","公明党",null,null,null,"06","国民民主党",null,null,null,"07","日本維新の会",null,null,null,"08","幸福実現党",null,null,null,"参議院比例代表選出議員選挙","0",null,"02:55:00"]
[2,6,"05","公明党",null,null,null,"06","国民民主党",null,null,null,"07","日本維新の会",null,null,null,"08","幸福実現党",null,null,null,"参議院比例代表選出議員選挙","0",null,"02:55:00"]
[2,7,"05","公明党",null,null,null,"06","国民民主党",null,null,null,"07","日本維新の会",null,null,null,"08","幸福実現党",null,null,null,"参議院比例代表選出議員選挙","0",null,"02:55:00"]
[2,8,"05","公明党",null,null,null,"06","国民民主党",null,null,null,"07","日本維新の会",null,null,null,"08","幸福実現党",null,null,null,"参議院比例代表選出議員選挙","0",null,"02:55:00"]
[2,9,"05","公明党",null,null,null,"06","国民民主党",null,null,null,"07","日本維新の会",null,null,null,"08","幸福実現党",null,null,null,"参議院比例代表選出議員選挙","0",null,"02:55:00"]
[2,10,"05","公明党",null,null,null,"06","国民民主党",null,null,null,"07","日本維新の会",null,null,null,"08","幸福実現党",null,null,null,"参議院比例代表選出議員選挙","0",null,"02:55:00"]
[2,11,"05","公明党",null,null,null,"06","国民民主党",null,null,null,"07","日本維新の会",null,null,null,"08","幸福実現党",null,null,null,"参議院比例代表選出議員選挙","0",null,"02:55:00"]
[2,12,"05","公明党",null,null,null,"06","国民民主党",null,null,null,"07","日本維新の会",null,null,null,"08","幸福実現党",null,null,null,"参議院比例代表選出議員選挙","0",null,"02:55:00"]
[2,13,"05","公明党",null,null,null,"06","国民民主党",null,null,null,"07","日本維新の会",null,null,null,"08","幸福実現党",null,null,null,"参議院比例代表選出議員選挙","0",null,"02:55:00"]
[2,14,"05","公明党",null,null,null,"06","国民民主党",null,null,null,"07","日本維新の会",null,null,null,"08","幸福実現党",null,null,null,"参議院比例代表選出議員選挙","0",null,"02:55:00"]
[2,15,"05","公明党",null,null,null,"06","国民民主党",null,null,null,"07","日本維新の会",null,null,null,"08","幸福実現党",null,null,null,"参議院比例代表選出議員選挙","0",null,"02:55:00"]
[2,16,"05","公明党",null,null,null,"06","国民民主党",null,null,null,"07","日本維新の会",null,null,null,"08","幸福実現党",null,null,null,"参議院比例代表選出議員選挙","0",null,"02:55:00"]
[2,17,"05","公明党",null,null,null,"06","国民民主党",null,null,null,"07","日本維新の会",null,null,null,"08","幸福実現党",null,null,null,"参議院比例代表選出議員選挙","0",null,"02:55:00"]
[2,18,"05","公明党",null,null,null,"06","国民民主党",null,null,null,"07","日本維新の会",null,null,null,"08","幸福実現党",null,null,null,"参議院比例代表選出議員選挙","0",null,"02:55:00"]
[2,19,"05","公明党",null,null,null,"06","国民民主党",null,null,null,"07","日本維新の会",null,null,null,"08","幸福実現党",null,null,null,"参議院比例代表選出議員選挙","0",null,"02:55:00"]
[2,20,"05","公明党",null,null,null,"06","国民民主党",null,null,null,"07","日本維新の会",null,null,null,"08","幸福実現党",null,null,null,"参議院比例代表選出議員選挙","0",null,"02:55:00"]
[2,21,"05","公明党",null,null,null,"06","国民民主党",null,null,null,"07","日本維新の会",null,null,null,"08","幸福実現党",null,null,null,"参議院比例代表選出議員選挙","0",null,"02:55:00"]
[2,22,"05","公明党",null,null,null,"06","国民民主党",null,null,null,"07","日本維新の会",null,null,null,"08","幸福実現党",null,null,null,"参議院比例代表選出議員選挙","0",null,"02:55:00"]
[2,23,"05","公明党",null,null,null,"06","国民民主党",null,null,null,"07","日本維新の会",null,null,null,"08","幸福実現党",null,null,null,"参議院比例代表選出議員選挙","0",null,"02:55:00"]
[2,24,"05","公明党",null,null,null,"06","国民民主党",null,null,null,"07","日本維新の会",null,null,null,"08","幸福実現党",null,null,null,"参議院比例代表選出議員選挙","0",null,"02:55:00"]
[2,25,"05","公明党",null,null,null,"06","国民民主党",null,null,null,"07","日本維新の会",null,null,null,"08","幸福実現党",null,null,null,"参議院比例代表選出議員選挙","0",null,"02:55:00"]
[2,26,"05","公明党",null,null,null,"06","国民民主党",null,null,null,"07","日本維新の会",null,null,null,"08","幸福実現党",null,null,null,"参議院比例代表選出議員選挙","0",null,"02:55:00"]
[2,27,"05","公明党",null,null,null,"06","国民民主党",null,null,null,"07","日本維新の会",null,null,null,"08","幸福実現党",null,null,null,"参議院比例代表選出議員選挙","0",null,"02:55:00"]
[2,28,"05","公明党",null,null,null,"06","国民民主党",null,null,null,"07","日本維新の会",null,null,null,"08","幸福実現党",null,null,null,"参議院比例代表選出議員選挙","0",null,"02:55:00"]
[2,29,"05","公明党",null,null,null,"06","国民民主党",null,null,null,"07","日本維新の会",null,null,null,"08","幸福実現党",null,null,null,"参議院比例代表選出議員選挙","0",null,"02:55:00"]
[2,30,"05","公明党",null,null,null,"06","国民民主党",null,null,null,"07","日本維新の会",null,null,null,"08","幸福実現党",null,null,null,"参議院比例代表選出議員選挙","0",null,"02:55:00"]
[2,31,"05","公明党",null,null,null,"06","国民民主党",null,null,null,"07","日本維新の会",null,null,null,"08","幸福実現党",null,null,null,"参議院比例代表選出議員選挙","0",null,"02:55:00"]
[2,32,"05","公明党",null,null,null,"06","国民民主党",null,null,null,"07","日本維新の会",null,null,null,"08","幸福実現党",null,null,null,"参議院比例代表選出議員選挙","0",null,"02:55:00"]
[2,33,"05","公明党",null,null,null,"06","国民民主党",null,null,null,"07","日本維新の会",null,null,null,"08","幸福実現党",null,null,null,"参議院比例代表選出議員選挙","0",null,"02:55:00"]
[2,34,"05","公明党",null,null,null,"06","国民民主党",null,null,null,"07","日本維新の会",null,null,null,"08","幸福実現党",null,null,null,"参議院比例代表選出議員選挙","0",null,"02:55:00"]
[2,35,"05","公明党",null,null,null,"06","国民民主党",null,null,null,"07","日本維新の会",null,null,null,"08","幸福実現党",null,null,null,"参議院比例代表選出議員選挙","0",null,"02:55:00"]
[2,36,"05","公明党",null,null,null,"06","国民民主党",null,null,null,"07","日本維新の会",null,null,null,"08","幸福実現党",null,null,null,"参議院比例代表選出議員選挙","0",null,"02:55:00"]
[2,37,"05","公明党",null,null,null,"06","国民民主党",null,null,null,"07","日本維新の会",null,null,null,"08","幸福実現党",null,null,null,"参議院比例代表選出議員選挙","0",null,"02:55:00"]
[2,38,"05","公明党",null,null,null,"06","国民民主党",null,null,null,"07","日本維新の会",null,null,null,"08","幸福実現党",null,null,null,"参議院比例代表選出議員選挙","0",null,"02:55:00"]
[2,39,"05","公明党",null,null,null,"06","国民民主党",null,null,null,"07","日本維新の会",null,null,null,"08","幸福実現党",null,null,null,"参議院比例代表選出議員選挙","0",null,"02:55:00"]
[2,40,"05","公明党",null,null,null,"06","国民民主党",null,null,null,"07","日本維新の会",null,null,null,"08","幸福実現党",null,null,null,"参議院比例代表選出議員選挙","0",null,"02:55:00"]
[2,41,"05","公明党",null,null,null,"06","国民民主党",null,null,null,"07","日本維新の会",null,null,null,"08","幸福実現党",null,null,null,"参議院比例代表選出議員選挙","0",null,"02:55:00"]
[2,42,"05","公明党",null,null,null,"06","国民民主党",null,null,null,"07","日本維新の会",null,null,null,"08","幸福実現党",null,null,null,"参議院比例代表選出議員選挙","0",null,"02:55:00"]
[2,43,"05","公明党",null,null,null,"06","国民民主党",null,null,null,"07","日本維新の会",null,null,null,"08","幸福実現党",null,null,null,"参議院比例代表選出議員選挙","0",null,"02:55:00"]
[2,44,"05","公明党",null,null,null,"06","国民民主党",null,null,null,"07","日本維新の会",null,null,null,"08","幸福実現党",null,null,null,"参議院比例代表選出議員選挙","0",null,"02:55:00"]
[2,45,"05","公明党",null,null,null,"06","国民民主党",null,null,null,"07","日本維新の会",null,null,null,"08","幸福実現党",null,null,null,"参議院比例代表選出議員選挙","0",null,"02:55:00"]
[2,46,"05","公明党",null,null,null,"06","国民民主党",null,null,null,"07","日本維新の会",null,null,null,"08","幸福実現党",null,null,null,"参議院比例代表選出議員選挙","0",null,"02:55:00"]
[2,47,"05","公明党",null,null,null,"06","国民民主党",null,null,null,"07","日本維新の会",null,null,null,"08","幸福実現党",null,null,null,"参議院比例代表選出議員選挙","0",null,"02:55:00"]
[2,48,"05","公明党",null,null,null,"06","国民民主党",null,null,null,"07","日本維新の会",null,null,null,"08","幸福実現党",null,null,null,"参議院比例代表選出議員選挙","0",null,"02:55:00"]
[2,49,"05","公明党",null,null,null,"06","国民民主党",null,null,null,"07","日本維新の会",null,null,null,"08","幸福実現党",null,null,null,"参議院比例代表選出議員選挙","0",null,"02:55:00"]
[2,50,"05","公明党",null,null,null,"06","国民民主党",null,null,null,"07","日本維新の会",null,null,null,"08","幸福実現党",null,null,null,"参議院比例代表選出議員選挙","0",null,"02:55:00"]
[2,51,"05","公明党",null,"合  計",null,"06","国民民主党",null,"合  計",null,"07","日本維新の会",null,"合  計",null,"08","幸福実現党",null,"合  計",null,"参議院比例代表選出議員選挙","0",null,"02:55:00"]
[3,1,"09","立憲民主党",null,null,null,"10","労働の解放をめざす労働者党","01","伊藤　恵子","91.589","11","ＮＨＫから国民を守る党",null,null,null,"12","安楽死制度を考える会",null,null,null,"参議院比例代表選出議員選挙","0",null,"02:55:00"]
[3,2,"09","立憲民主党",null,null,null,"10","労働の解放をめざす労働者党",null,null,null,"11","ＮＨＫから国民を守る党",null,null,null,"12","安楽死制度を考える会",null,null,null,"参議院比例代表選出議員選挙","0",null,"02:55:00"]
[3,3,"09","立憲民主党",null,null,null,"10","労働の解放をめざす労働者党",null,null,null,"11","ＮＨＫから国民を守る党",null,null,null,"12","安楽死制度を考える会",null,null,null,"参議院比例代表選出議員選挙","0",null,"02:55:00"]
[3,4,"09","立憲民主党",null,null,null,"10","労働の解放をめざす労働者党",null,null,null,"11","ＮＨＫから国民を守る党",null,null,null,"12","安楽死制度を考える会",null,null,null,"参議院比例代表選出議員選挙","0",null,"02:55:00"]
[3,5,"09","立憲民主党",null,null,null,"10","労働の解放をめざす労働者党",null,null,null,"11","ＮＨＫから国民を守る党",null,null,null,"12","安楽死制度を考える会",null,null,null,"参議院比例代表選出議員選挙","0",null,"02:55:00"]
[3,6,"09","立憲民主党",null,null,null,"10","労働の解放をめざす労働者党",null,null,null,"11","ＮＨＫから国民を守る党",null,null,null,"12","安楽死制度を考える会",null,null,null,"参議院比例代表選出議員選挙","0",null,"02:55:00"]
[3,7,"09","立憲民主党",null,null,null,"10","労働の解放をめざす労働者党",null,null,null,"11","ＮＨＫから国民を守る党",null,null,null,"12","安楽死制度を考える会",null,null,null,"参議院比例代表選出議員選挙","0",null,"02:55:00"]
[3,8,"09","立憲民主党",null,null,null,"10","労働の解放をめざす労働者党",null,null,null,"11","ＮＨＫから国民を守る党",null,null,null,"12","安楽死制度を考える会",null,null,null,"参議院比例代表選出議員選挙","0",null,"02:55:00"]
[3,9,"09","立憲民主党",null,null,null,"10","労働の解放をめざす労働者党",null,null,null,"11","ＮＨＫから国民を守る党",null,null,null,"12","安楽死制度を考える会",null,null,null,"参議院比例代表選出議員選挙","0",null,"02:55:00"]
[3,10,"09","立憲民主党",null,null,null,"10","労働の解放をめざす労働者党",null,null,null,"11","ＮＨＫから国民を守る党",null,null,null,"12","安楽死制度を考える会",null,null,null,"参議院比例代表選出議員選挙","0",null,"02:55:00"]
[3,11,"09","立憲民主党",null,null,null,"10","労働の解放をめざす労働者党",null,null,null,"11","ＮＨＫから国民を守る党",null,null,null,"12","安楽死制度を考える会",null,null,null,"参議院比例代表選出議員選挙","0",null,"02:55:00"]
[3,12,"09","立憲民主党",null,null,null,"10","労働の解放をめざす労働者党",null,null,null,"11","ＮＨＫから国民を守る党",null,null,null,"12","安楽死制度を考える会",null,null,null,"参議院比例代表選出議員選挙","0",null,"02:55:00"]
[3,13,"09","立憲民主党",null,null,null,"10","労働の解放をめざす労働者党",null,null,null,"11","ＮＨＫから国民を守る党",null,null,null,"12","安楽死制度を考える会",null,null,null,"参議院比例代表選出議員選挙","0",null,"02:55:00"]
[3,14,"09","立憲民主党",null,null,null,"10","労働の解放をめざす労働者党",null,null,null,"11","ＮＨＫから国民を守る党",null,null,null,"12","安楽死制度を考える会",null,null,null,"参議院比例代表選出議員選挙","0",null,"02:55:00"]
[3,15,"09","立憲民主党",null,null,null,"10","労働の解放をめざす労働者党",null,null,null,"11","ＮＨＫから国民を守る党",null,null,null,"12","安楽死制度を考える会",null,null,null,"参議院比例代表選出議員選挙","0",null,"02:55:00"]
[3,16,"09","立憲民主党",null,null,null,"10","労働の解放をめざす労働者党",null,null,null,"11","ＮＨＫから国民を守る党",null,null,null,"12","安楽死制度を考える会",null,null,null,"参議院比例代表選出議員選挙","0",null,"02:55:00"]
[3,17,"09","立憲民主党",null,null,null,"10","労働の解放をめざす労働者党",null,null,null,"11","ＮＨＫから国民を守る党",null,null,null,"12","安楽死制度を考える会",null,null,null,"参議院比例代表選出議員選挙","0",null,"02:55:00"]
[3,18,"09","立憲民主党",null,null,null,"10","労働の解放をめざす労働者党",null,null,null,"11","ＮＨＫから国民を守る党",null,null,null,"12","安楽死制度を考える会",null,null,null,"参議院比例代表選出議員選挙","0",null,"02:55:00"]
[3,19,"09","立憲民主党",null,null,null,"10","労働の解放をめざす労働者党",null,null,null,"11","ＮＨＫから国民を守る党",null,null,null,"12","安楽死制度を考える会",null,null,null,"参議院比例代表選出議員選挙","0",null,"02:55:00"]
[3,20,"09","立憲民主党",null,null,null,"10","労働の解放をめざす労働者党",null,null,null,"11","ＮＨＫから国民を守る党",null,null,null,"12","安楽死制度を考える会",null,null,null,"参議院比例代表選出議員選挙","0",null,"02:55:00"]
[3,21,"09","立憲民主党",null,null,null,"10","労働の解放をめざす労働者党",null,null,null,"11","ＮＨＫから国民を守る党",null,null,null,"12","安楽死制度を考える会",null,null,null,"参議院比例代表選出議員選挙","0",null,"02:55:00"]
[3,22,"09","立憲民主党",null,null,null,"10","労働の解放をめざす労働者党",null,null,null,"11","ＮＨＫから国民を守る党",null,null,null,"12","安楽死制度を考える会",null,null,null,"参議院比例代表選出議員選挙","0",null,"02:55:00"]
[3,23,"09","立憲民主党",null,null,null,"10","労働の解放をめざす労働者党",null,null,null,"11","ＮＨＫから国民を守る党",null,null,null,"12","安楽死制度を考える会",null,null,null,"参議院比例代表選出議員選挙","0",null,"02:55:00"]
[3,24,"09","立憲民主党",null,null,null,"10","労働の解放をめざす労働者党",null,null,null,"11","ＮＨＫから国民を守る党",null,null,null,"12","安楽死制度を考える会",null,null,null,"参議院比例代表選出議員選挙","0",null,"02:55:00"]
[3,25,"09","立憲民主党",null,null,null,"10","労働の解放をめざす労働者党",null,null,null,"11","ＮＨＫから国民を守る党",null,null,null,"12","安楽死制度を考える会",null,null,null,"参議院比例代表選出議員選挙","0",null,"02:55:00"]
[3,26,"09","立憲民主党",null,null,null,"10","労働の解放をめざす労働者党",null,null,null,"11","ＮＨＫから国民を守る党",null,null,null,"12","安楽死制度を考える会",null,null,null,"参議院比例代表選出議員選挙","0",null,"02:55:00"]
[3,27,"09","立憲民主党",null,null,null,"10","労働の解放をめざす労働者党",null,null,null,"11","ＮＨＫから国民を守る党",null,null,null,"12","安楽死制度を考える会",null,null,null,"参議院比例代表選出議員選挙","0",null,"02:55:00"]
[3,28,"09","立憲民主党",null,null,null,"10","労働の解放をめざす労働者党",null,null,null,"11","ＮＨＫから国民を守る党",null,null,null,"12","安楽死制度を考える会",null,null,null,"参議院比例代表選出議員選挙","0",null,"02:55:00"]
[3,29,"09","立憲民主党",null,null,null,"10","労働の解放をめざす労働者党",null,null,null,"11","ＮＨＫから国民を守る党",null,null,null,"12","安楽死制度を考える会",null,null,null,"参議院比例代表選出議員選挙","0",null,"02:55:00"]
[3,30,"09","立憲民主党",null,null,null,"10","労働の解放をめざす労働者党",null,null,null,"11","ＮＨＫから国民を守る党",null,null,null,"12","安楽死制度を考える会",null,null,null,"参議院比例代表選出議員選挙","0",null,"02:55:00"]
[3,31,"09","立憲民主党",null,null,null,"10","労働の解放をめざす労働者党",null,null,null,"11","ＮＨＫから国民を守る党",null,null,null,"12","安楽死制度を考える会",null,null,null,"参議院比例代表選出議員選挙","0",null,"02:55:00"]
[3,32,"09","立憲民主党",null,null,null,"10","労働の解放をめざす労働者党",null,null,null,"11","ＮＨＫから国民を守る党",null,null,null,"12","安楽死制度を考える会",null,null,null,"参議院比例代表選出議員選挙","0",null,"02:55:00"]
[3,33,"09","立憲民主党",null,null,null,"10","労働の解放をめざす労働者党",null,null,null,"11","ＮＨＫから国民を守る党",null,null,null,"12","安楽死制度を考える会",null,null,null,"参議院比例代表選出議員選挙","0",null,"02:55:00"]
[3,34,"09","立憲民主党",null,null,null,"10","労働の解放をめざす労働者党",null,null,null,"11","ＮＨＫから国民を守る党",null,null,null,"12","安楽死制度を考える会",null,null,null,"参議院比例代表選出議員選挙","0",null,"02:55:00"]
[3,35,"09","立憲民主党",null,null,null,"10","労働の解放をめざす労働者党",null,null,null,"11","ＮＨＫから国民を守る党",null,null,null,"12","安楽死制度を考える会",null,null,null,"参議院比例代表選出議員選挙","0",null,"02:55:00"]
[3,36,"09","立憲民主党",null,null,null,"10","労働の解放をめざす労働者党",null,null,null,"11","ＮＨＫから国民を守る党",null,null,null,"12","安楽死制度を考える会",null,null,null,"参議院比例代表選出議員選挙","0",null,"02:55:00"]
[3,37,"09","立憲民主党",null,null,null,"10","労働の解放をめざす労働者党",null,null,null,"11","ＮＨＫから国民を守る党",null,null,null,"12","安楽死制度を考える会",null,null,null,"参議院比例代表選出議員選挙","0",null,"02:55:00"]
[3,38,"09","立憲民主党",null,null,null,"10","労働の解放をめざす労働者党",null,null,null,"11","ＮＨＫから国民を守る党",null,null,null,"12","安楽死制度を考える会",null,null,null,"参議院比例代表選出議員選挙","0",null,"02:55:00"]
[3,39,"09","立憲民主党",null,null,null,"10","労働の解放をめざす労働者党",null,null,null,"11","ＮＨＫから国民を守る党",null,null,null,"12","安楽死制度を考える会",null,null,null,"参議院比例代表選出議員選挙","0",null,"02:55:00"]
[3,40,"09","立憲民主党",null,null,null,"10","労働の解放をめざす労働者党",null,null,null,"11","ＮＨＫから国民を守る党",null,null,null,"12","安楽死制度を考える会",null,null,null,"参議院比例代表選出議員選挙","0",null,"02:55:00"]
[3,41,"09","立憲民主党",null,null,null,"10","労働の解放をめざす労働者党",null,null,null,"11","ＮＨＫから国民を守る党",null,null,null,"12","安楽死制度を考える会",null,null,null,"参議院比例代表選出議員選挙","0",null,"02:55:00"]
[3,42,"09","立憲民主党",null,null,null,"10","労働の解放をめざす労働者党",null,null,null,"11","ＮＨＫから国民を守る党",null,null,null,"12","安楽死制度を考える会",null,null,null,"参議院比例代表選出議員選挙","0",null,"02:55:00"]
[3,43,"09","立憲民主党",null,null,null,"10","労働の解放をめざす労働者党",null,null,null,"11","ＮＨＫから国民を守る党",null,null,null,"12","安楽死制度を考える会",null,null,null,"参議院比例代表選出議員選挙","0",null,"02:55:00"]
[3,44,"09","立憲民主党",null,null,null,"10","労働の解放をめざす労働者党",null,null,null,"11","ＮＨＫから国民を守る党",null,null,null,"12","安楽死制度を考える会",null,null,null,"参議院比例代表選出議員選挙","0",null,"02:55:00"]
[3,45,"09","立憲民主党",null,null,null,"10","労働の解放をめざす労働者党",null,null,null,"11","ＮＨＫから国民を守る党",null,null,null,"12","安楽死制度を考える会",null,null,null,"参議院比例代表選出議員選挙","0",null,"02:55:00"]
[3,46,"09","立憲民主党",null,null,null,"10","労働の解放をめざす労働者党",null,null,null,"11","ＮＨＫから国民を守る党",null,null,null,"12","安楽死制度を考える会",null,null,null,"参議院比例代表選出議員選挙","0",null,"02:55:00"]
[3,47,"09","立憲民主党",null,null,null,"10","労働の解放をめざす労働者党",null,null,null,"11","ＮＨＫから国民を守る党",null,null,null,"12","安楽死制度を考える会",null,null,null,"参議院比例代表選出議員選挙","0",null,"02:55:00"]
[3,48,"09","立憲民主党",null,null,null,"10","労働の解放をめざす労働者党",null,null,null,"11","ＮＨＫから国民を守る党",null,null,null,"12","安楽死制度を考える会",null,null,null,"参議院比例代表選出議員選挙","0",null,"02:55:00"]
[3,49,"09","立憲民主党",null,null,null,"10","労働の解放をめざす労働者党",null,null,null,"11","ＮＨＫから国民を守る党",null,null,null,"12","安楽死制度を考える会",null,null,null,"参議院比例代表選出議員選挙","0",null,"02:55:00"]
[3,50,"09","立憲民主党",null,null,null,"10","労働の解放をめざす労働者党",null,null,null,"11","ＮＨＫから国民を守る党",null,null,null,"12","安楽死制度を考える会",null,null,null,"参議院比例代表選出議員選挙","0",null,"02:55:00"]
[3,51,"09","立憲民主党",null,"合  計",null,"10","労働の解放をめざす労働者党",null,"合  計","91.589","11","ＮＨＫから国民を守る党",null,"合  計",null,"12","安楽死制度を考える会",null,"合  計",null,"参議院比例代表選出議員選挙","0",null,"02:55:00"]
[4,1,"13","れいわ新選組","01","ふなご　やすひこ","57",null,null,null,null,null,null,null,null,null,null,null,null,null,null,null,"参議院比例代表選出議員選挙","0",null,"02:55:00"]
[4,2,"13","れいわ新選組","02","木村　英子","105.132",null,null,null,null,null,null,null,null,null,null,null,null,null,null,null,"参議院比例代表選出議員選挙","0",null,"02:55:00"]
[4,3,"13","れいわ新選組",null,null,null,null,null,null,null,null,null,null,null,null,null,null,null,null,null,null,"参議院比例代表選出議員選挙","0",null,"02:55:00"]
[4,4,"13","れいわ新選組",null,null,null,null,null,null,null,null,null,null,null,null,null,null,null,null,null,null,"参議院比例代表選出議員選挙","0",null,"02:55:00"]
[4,5,"13","れいわ新選組",null,null,null,null,null,null,null,null,null,null,null,null,null,null,null,null,null,null,"参議院比例代表選出議員選挙","0",null,"02:55:00"]
[4,6,"13","れいわ新選組",null,null,null,null,null,null,null,null,null,null,null,null,null,null,null,null,null,null,"参議院比例代表選出議員選挙","0",null,"02:55:00"]
[4,7,"13","れいわ新選組",null,null,null,null,null,null,null,null,null,null,null,null,null,null,null,null,null,null,"参議院比例代表選出議員選挙","0",null,"02:55:00"]
[4,8,"13","れいわ新選組",null,null,null,null,null,null,null,null,null,null,null,null,null,null,null,null,null,null,"参議院比例代表選出議員選挙","0",null,"02:55:00"]
[4,9,"13","れいわ新選組",null,null,null,null,null,null,null,null,null,null,null,null,null,null,null,null,null,null,"参議院比例代表選出議員選挙","0",null,"02:55:00"]
[4,10,"13","れいわ新選組",null,null,null,null,null,null,null,null,null,null,null,null,null,null,null,null,null,null,"参議院比例代表選出議員選挙","0",null,"02:55:00"]
[4,11,"13","れいわ新選組",null,null,null,null,null,null,null,null,null,null,null,null,null,null,null,null,null,null,"参議院比例代表選出議員選挙","0",null,"02:55:00"]
[4,12,"13","れいわ新選組",null,null,null,null,null,null,null,null,null,null,null,null,null,null,null,null,null,null,"参議院比例代表選出議員選挙","0",null,"02:55:00"]
[4,13,"13","れいわ新選組",null,null,null,null,null,null,null,null,null,null,null,null,null,null,null,null,null,null,"参議院比例代表選出議員選挙","0",null,"02:55:00"]
[4,14,"13","れいわ新選組",null,null,null,null,null,null,null,null,null,null,null,null,null,null,null,null,null,null,"参議院比例代表選出議員選挙","0",null,"02:55:00"]
[4,15,"13","れいわ新選組",null,null,null,null,null,null,null,null,null,null,null,null,null,null,null,null,null,null,"参議院比例代表選出議員選挙","0",null,"02:55:00"]
[4,16,"13","れいわ新選組",null,null,null,null,null,null,null,null,null,null,null,null,null,null,null,null,null,null,"参議院比例代表選出議員選挙","0",null,"02:55:00"]
[4,17,"13","れいわ新選組",null,null,null,null,null,null,null,null,null,null,null,null,null,null,null,null,null,null,"参議院比例代表選出議員選挙","0",null,"02:55:00"]
[4,18,"13","れいわ新選組",null,null,null,null,null,null,null,null,null,null,null,null,null,null,null,null,null,null,"参議院比例代表選出議員選挙","0",null,"02:55:00"]
[4,19,"13","れいわ新選組",null,null,null,null,null,null,null,null,null,null,null,null,null,null,null,null,null,null,"参議院比例代表選出議員選挙","0",null,"02:55:00"]
[4,20,"13","れいわ新選組",null,null,null,null,null,null,null,null,null,null,null,null,null,null,null,null,null,null,"参議院比例代表選出議員選挙","0",null,"02:55:00"]
[4,21,"13","れいわ新選組",null,null,null,null,null,null,null,null,null,null,null,null,null,null,null,null,null,null,"参議院比例代表選出議員選挙","0",null,"02:55:00"]
[4,22,"13","れいわ新選組",null,null,null,null,null,null,null,null,null,null,null,null,null,null,null,null,null,null,"参議院比例代表選出議員選挙","0",null,"02:55:00"]
[4,23,"13","れいわ新選組",null,null,null,null,null,null,null,null,null,null,null,null,null,null,null,null,null,null,"参議院比例代表選出議員選挙","0",null,"02:55:00"]
[4,24,"13","れいわ新選組",null,null,null,null,null,null,null,null,null,null,null,null,null,null,null,null,null,null,"参議院比例代表選出議員選挙","0",null,"02:55:00"]
[4,25,"13","れいわ新選組",null,null,null,null,null,null,null,null,null,null,null,null,null,null,null,null,null,null,"参議院比例代表選出議員選挙","0",null,"02:55:00"]
[4,26,"13","れいわ新選組",null,null,null,null,null,null,null,null,null,null,null,null,null,null,null,null,null,null,"参議院比例代表選出議員選挙","0",null,"02:55:00"]
[4,27,"13","れいわ新選組",null,null,null,null,null,null,null,null,null,null,null,null,null,null,null,null,null,null,"参議院比例代表選出議員選挙","0",null,"02:55:00"]
[4,28,"13","れいわ新選組",null,null,null,null,null,null,null,null,null,null,null,null,null,null,null,null,null,null,"参議院比例代表選出議員選挙","0",null,"02:55:00"]
[4,29,"13","れいわ新選組",null,null,null,null,null,null,null,null,null,null,null,null,null,null,null,null,null,null,"参議院比例代表選出議員選挙","0",null,"02:55:00"]
[4,30,"13","れいわ新選組",null,null,null,null,null,null,null,null,null,null,null,null,null,null,null,null,null,null,"参議院比例代表選出議員選挙","0",null,"02:55:00"]
[4,31,"13","れいわ新選組",null,null,null,null,null,null,null,null,null,null,null,null,null,null,null,null,null,null,"参議院比例代表選出議員選挙","0",null,"02:55:00"]
[4,32,"13","れいわ新選組",null,null,null,null,null,null,null,null,null,null,null,null,null,null,null,null,null,null,"参議院比例代表選出議員選挙","0",null,"02:55:00"]
[4,33,"13","れいわ新選組",null,null,null,null,null,null,null,null,null,null,null,null,null,null,null,null,null,null,"参議院比例代表選出議員選挙","0",null,"02:55:00"]
[4,34,"13","れいわ新選組",null,null,null,null,null,null,null,null,null,null,null,null,null,null,null,null,null,null,"参議院比例代表選出議員選挙","0",null,"02:55:00"]
[4,35,"13","れいわ新選組",null,null,null,null,null,null,null,null,null,null,null,null,null,null,null,null,null,null,"参議院比例代表選出議員選挙","0",null,"02:55:00"]
[4,36,"13","れいわ新選組",null,null,null,null,null,null,null,null,null,null,null,null,null,null,null,null,null,null,"参議院比例代表選出議員選挙","0",null,"02:55:00"]
[4,37,"13","れいわ新選組",null,null,null,null,null,null,null,null,null,null,null,null,null,null,null,null,null,null,"参議院比例代表選出議員選挙","0",null,"02:55:00"]
[4,38,"13","れいわ新選組",null,null,null,null,null,null,null,null,null,null,null,null,null,null,null,null,null,null,"参議院比例代表選出議員選挙","0",null,"02:55:00"]
[4,39,"13","れいわ新選組",null,null,null,null,null,null,null,null,null,null,null,null,null,null,null,null,null,null,"参議院比例代表選出議員選挙","0",null,"02:55:00"]
[4,40,"13","れいわ新選組",null,null,null,null,null,null,null,null,null,null,null,null,null,null,null,null,null,null,"参議院比例代表選出議員選挙","0",null,"02:55:00"]
[4,41,"13","れいわ新選組",null,null,null,null,null,null,null,null,null,null,null,null,null,null,null,null,null,null,"参議院比例代表選出議員選挙","0",null,"02:55:00"]
[4,42,"13","れいわ新選組",null,null,null,null,null,null,null,null,null,null,null,null,null,null,null,null,null,null,"参議院比例代表選出議員選挙","0",null,"02:55:00"]
[4,43,"13","れいわ新選組",null,null,null,null,null,null,null,null,null,null,null,null,null,null,null,null,null,null,"参議院比例代表選出議員選挙","0",null,"02:55:00"]
[4,44,"13","れいわ新選組",null,null,null,null,null,null,null,null,null,null,null,null,null,null,null,null,null,null,"参議院比例代表選出議員選挙","0",null,"02:55:00"]
[4,45,"13","れいわ新選組",null,null,null,null,null,null,null,null,null,null,null,null,null,null,null,null,null,null,"参議院比例代表選出議員選挙","0",null,"02:55:00"]
[4,46,"13","れいわ新選組",null,null,null,null,null,null,null,null,null,null,null,null,null,null,null,null,null,null,"参議院比例代表選出議員選挙","0",null,"02:55:00"]
[4,47,"13","れいわ新選組",null,null,null,null,null,null,null,null,null,null,null,null,null,null,null,null,null,null,"参議院比例代表選出議員選挙","0",null,"02:55:00"]
[4,48,"13","れいわ新選組",null,null,null,null,null,null,null,null,null,null,null,null,null,null,null,null,null,null,"参議院比例代表選出議員選挙","0",null,"02:55:00"]
[4,49,"13","れいわ新選組",null,null,null,null,null,null,null,null,null,null,null,null,null,null,null,null,null,null,"参議院比例代表選出議員選挙","0",null,"02:55:00"]
[4,50,"13","れいわ新選組",null,null,null,null,null,null,null,null,null,null,null,null,null,null,null,null,null,null,"参議院比例代表選出議員選挙","0",null,"02:55:00"]
[4,51,"13","れいわ新選組",null,"合  計","162.132",null,null,null,null,null,null,null,null,null,null,null,null,null,null,null,"参議院比例代表選出議員選挙","0",null,"02:55:00"]