{"text_format":"1","workbook":"xlsx","n_sheets":3,"sheets":["参比開票速報（総括表）_192_","パラメタシート","P_19号2様式"],"not_rendered":{"charts":0,"images":0,"macros":1,"external_links":1,"defined_names":8,"comments":0,"pivot_tables":0},"unopened":[],"bounds":{"document_bytes":16777216,"sheet_cells":100000,"rows_first":2000,"rows_last":500,"rows_between":2000,"halvings":0,"cell_chars":16384,"cell_head_chars":4096},"cells_cut":0,"cells_raw":0,"read":"whole","date_system":"1900"}

{"sheet":"参比開票速報（総括表）_192_","index":0,"n_rows":68,"n_cols":22,"rows_kept":68,"cut":false,"hidden":false,"merged":[[53,7,54,7],[55,7,56,7],[57,7,58,7],[35,7,36,7],[37,7,38,7],[39,7,40,7],[39,8,40,8],[9,7,10,7],[11,7,12,7],[13,7,14,7],[15,7,16,7],[17,7,18,7],[19,7,20,7],[21,7,22,7],[23,7,24,7],[25,7,26,7],[41,7,42,7],[43,7,44,7],[45,7,46,7],[47,7,48,7],[49,7,50,7],[51,7,52,7],[67,7,68,7],[63,8,64,8],[61,8,62,8],[59,8,60,8],[57,8,58,8],[55,8,56,8],[65,7,66,7],[63,9,64,9],[65,9,66,9],[59,9,60,9],[61,9,62,9],[67,9,68,9],[67,8,68,8],[65,8,66,8],[59,7,60,7],[61,7,62,7],[63,7,64,7],[41,8,42,8],[49,10,50,11],[55,9,56,9],[57,9,58,9],[51,9,52,9],[53,9,54,9],[53,8,54,8],[51,8,52,8],[49,8,50,8],[4,1,4,4],[4,17,4,18],[8,10,8,12],[8,13,8,14],[13,3,14,4],[2,9,4,13],[11,10,12,11],[4,14,4,15],[1,19,2,21],[8,16,8,18],[5,17,5,18],[5,1,5,4],[7,2,7,4],[7,10,7,12],[7,13,7,14],[13,10,14,11],[7,5,7,9],[8,5,8,9],[11,5,12,5],[13,5,14,5],[37,1,38,1],[39,1,40,1],[41,1,42,1],[61,1,62,1],[63,1,64,1],[31,1,32,1],[8,19,8,21],[9,19,11,20],[12,19,14,20],[41,10,42,11],[51,10,52,11],[27,8,28,8],[27,9,28,9],[29,9,30,9],[29,8,30,8],[31,9,32,9],[39,9,40,9],[41,9,42,9],[35,9,36,9],[35,8,36,8],[37,8,38,8],[37,9,38,9],[47,9,48,9],[49,9,50,9],[9,9,10,9],[11,9,12,9],[12,16,14,18],[9,13,10,13],[11,13,12,13],[13,13,14,13],[9,10,10,11],[65,1,66,1],[67,1,68,1],[15,1,16,1],[17,1,18,1],[19,1,20,1],[21,1,22,1],[23,1,24,1],[25,1,26,1],[27,1,28,1],[29,1,30,1],[47,1,48,1],[33,1,34,1],[43,1,44,1],[45,1,46,1],[49,1,50,1],[51,1,52,1],[35,1,36,1],[37,3,38,4],[15,16,17,18],[27,16,29,18],[30,16,32,18],[17,10,18,11],[19,10,20,11],[21,10,22,11],[23,10,24,11],[25,10,26,11],[15,13,16,13],[29,3,30,4],[25,3,26,4],[31,8,32,8],[33,8,34,8],[33,9,34,9],[15,3,16,4],[35,3,36,4],[25,6,26,6],[27,6,28,6],[29,6,30,6],[31,6,32,6],[33,6,34,6],[21,5,22,5],[25,5,26,5],[65,3,66,4],[55,3,56,4],[2,0,3,3],[9,8,10,8],[31,3,32,4],[33,3,34,4],[17,3,18,4],[19,3,20,4],[21,3,22,4],[23,3,24,4],[27,3,28,4],[43,3,44,4],[45,3,46,4],[47,3,48,4],[49,3,50,4],[51,3,52,4],[53,3,54,4],[39,3,40,4],[41,3,42,4],[9,1,10,1],[11,1,12,1],[9,3,10,4],[11,3,12,4],[13,1,14,1],[59,3,60,4],[61,3,62,4],[63,3,64,4],[53,1,54,1],[55,1,56,1],[57,1,58,1],[59,1,60,1],[57,3,58,4],[55,5,56,5],[57,5,58,5],[59,5,60,5],[61,5,62,5],[67,3,68,4],[9,6,10,6],[11,6,12,6],[13,6,14,6],[15,6,16,6],[17,6,18,6],[19,6,20,6],[21,6,22,6],[23,6,24,6],[43,6,44,6],[45,6,46,6],[47,6,48,6],[49,6,50,6],[35,6,36,6],[37,6,38,6],[39,6,40,6],[41,6,42,6],[57,6,58,6],[59,6,60,6],[61,6,62,6],[63,6,64,6],[55,6,56,6],[51,6,52,6],[53,6,54,6],[65,6,66,6],[67,6,68,6],[25,12,26,12],[27,12,28,12],[29,12,30,12],[31,12,32,12],[27,10,28,11],[29,10,30,11],[31,10,32,11],[37,10,38,11],[33,10,34,11],[35,10,36,11],[35,12,36,12],[49,12,50,12],[43,10,44,11],[45,10,46,11],[53,10,54,11],[55,10,56,11],[57,10,58,11],[59,10,60,11],[47,10,48,11],[61,10,62,11],[67,12,68,12],[65,12,66,12],[63,10,64,11],[65,10,66,11],[67,10,68,11],[61,13,62,13],[59,13,60,13],[57,13,58,13],[55,13,56,13],[67,13,68,13],[65,13,66,13],[63,13,64,13],[9,5,10,5],[21,19,23,20],[24,19,26,20],[27,19,29,20],[53,13,54,13],[51,13,52,13],[49,13,50,13],[47,13,48,13],[37,13,38,13],[43,13,44,13],[41,13,42,13],[39,13,40,13],[45,13,46,13],[31,13,32,13],[21,13,22,13],[23,13,24,13],[25,13,26,13],[29,13,30,13],[27,13,28,13],[45,12,46,12],[47,12,48,12],[43,12,44,12],[15,10,16,11],[27,7,28,7],[23,5,24,5],[37,5,38,5],[27,5,28,5],[29,5,30,5],[39,16,40,18],[9,14,10,14],[11,14,12,14],[13,14,14,14],[15,14,16,14],[17,14,18,14],[19,14,20,14],[9,16,11,18],[15,5,16,5],[17,5,18,5],[19,5,20,5],[18,16,20,18],[21,16,23,18],[24,16,26,18],[33,16,35,18],[17,13,18,13],[19,13,20,13],[39,10,40,11],[29,7,30,7],[31,7,32,7],[21,14,22,14],[23,14,24,14],[37,14,38,14],[39,14,40,14],[25,14,26,14],[27,14,28,14],[29,14,30,14],[31,14,32,14],[33,14,34,14],[35,14,36,14],[63,5,64,5],[65,5,66,5],[67,5,68,5],[9,12,10,12],[11,12,12,12],[13,12,14,12],[15,12,16,12],[17,12,18,12],[19,12,20,12],[21,12,22,12],[57,12,58,12],[59,12,60,12],[61,12,62,12],[63,12,64,12],[23,12,24,12],[51,12,52,12],[53,12,54,12],[55,12,56,12],[37,12,38,12],[39,12,40,12],[39,5,40,5],[41,5,42,5],[43,5,44,5],[41,12,42,12],[45,5,46,5],[31,5,32,5],[33,5,34,5],[35,5,36,5],[55,14,56,14],[57,14,58,14],[43,14,44,14],[45,14,46,14],[47,14,48,14],[49,14,50,14],[47,5,48,5],[49,5,50,5],[51,5,52,5],[53,5,54,5],[41,14,42,14],[33,13,34,13],[35,13,36,13],[33,12,34,12],[33,7,34,7],[43,9,44,9],[45,9,46,9],[47,8,48,8],[45,8,46,8],[43,8,44,8],[67,14,68,14],[30,21,32,21],[33,19,35,20],[33,21,35,21],[59,14,60,14],[61,14,62,14],[63,14,64,14],[65,14,66,14],[51,14,52,14],[53,14,54,14],[43,16,44,20],[41,16,42,20],[30,19,32,20],[21,21,23,21],[24,21,26,21],[27,21,29,21],[9,21,11,21],[12,21,14,21],[15,21,17,21],[18,21,20,21],[17,8,18,8],[17,9,18,9],[19,9,20,9],[19,8,20,8],[11,8,12,8],[13,9,14,9],[13,8,14,8],[15,8,16,8],[15,9,16,9],[25,9,26,9],[25,8,26,8],[21,8,22,8],[21,9,22,9],[23,8,24,8],[23,9,24,9],[15,19,17,20],[18,19,20,20]]}
[]
[null,null,null,null,null,null,null,null,null,null,null,null,null,null,null,null,null,null,null,"鹿 児 島 県"]
["第19号の2様式",null,null,null,null,null,null,null,null,"開　票　速　報"]
[]
[null,{"$f":"IF(パラメタシート!B1=\"\",\"    年  月  日　執行\",パラメタシート!B1)","v":"2019-07-21"},null,null,null,null,null,null,null,null,null,null,null,null,{"$f":"IF(P_19号2様式!GK2=\"0\",\"即日　開票\",\"翌日　開票\")","v":"即日　開票"},null,"中間報告",{"$f":"IF(P_19号2様式!GL2=\"\",\"    時     分\",P_19号2様式!GL2)","v":"23:00:00"}]
[null,{"$f":"IF(P_19号2様式!GJ2=\"\",\"\",P_19号2様式!GJ2)","v":"参議院比例代表選出議員選挙"},null,null,null,null,null,null,null,null,null,null,null,null,null,"開票","結了報告",{"$f":"IF(P_19号2様式!GM2=\"\",\"    時     分\",P_19号2様式!GM2)","v":"    時     分"}]
[]
[null,"届出番号","政　　党　　等　　名",null,null,"政党等合計得票数（得票率％）",null,null,null,null,"政党等得票数",null,null,"候補者得票数"]
[null,null,null,null,null,"（政党等得票数＋候補者得票数）",null,null,null,null,null,null,null,null,null,null,"開　　票　　内　　訳",null,null,"票　　　数"]
[null,{"$f":"IF(P_19号2様式!C2=\"\",\"\",P_19号2様式!C2)","v":"01"},null,{"$f":"IF(P_19号2様式!D2=\"\",\"\",P_19号2様式!D2)","v":"日本共産党"},null,{"$f":"IF(P_19号2様式!E2<> \"\",TEXT(INT(P_19号2様式!E2),\"#,##0\"),\"\")","v":"1,109"},{"$f":"IF(P_19号2様式!E2= \"\",\"\",IF(VALUE(FIXED(P_19号2様式!E2,0,TRUE))<>P_19号2様式!E2,RIGHT(FIXED(P_19号2様式!E2,3,FALSE),4),\"\"))","v":".519"},{"$f":"IF(P_19号2様式!F2<>\"\",\"(\",\"\")","v":""},{"$f":"IF(P_19号2様式!F2<> \"\", FIXED(P_19号2様式!F2,2,FALSE),\"\")","v":""},{"$f":"IF(P_19号2様式!F2<>\"\",\")\",\"\")","v":""},{"$f":"IF(P_19号2様式!G2<> \"\",TEXT(INT(P_19号2様式!G2),\"#,##0\"),\"\")","v":"960"},null,{"$f":"IF(P_19号2様式!G2= \"\",\"\",IF(VALUE(FIXED(P_19号2様式!G2,0,TRUE))<>P_19号2様式!G2,RIGHT(FIXED(P_19号2様式!G2,3,FALSE),4),\"\"))","v":""},{"$f":"IF(P_19号2様式!H2<> \"\",TEXT(INT(P_19号2様式!H2),\"#,##0\"),\"\")","v":"149"},{"$f":"IF(P_19号2様式!H2= \"\",\"\",IF(VALUE(FIXED(P_19号2様式!H2,0,TRUE))<>P_19号2様式!H2,RIGHT(FIXED(P_19号2様式!H2,3,FALSE),4),\"\"))","v":".519"},null,"（ア）得票総数",null,null,{"$f":"IF(P_19号2様式!GA2<> \"\",TEXT(INT(P_19号2様式!GA2),\"#,##0\"),\"\")","v":"22,985"},null,{"$f":"IF(P_19号2様式!GA2= \"\",\"\",IF(VALUE(FIXED(P_19号2様式!GA2,0,TRUE))<>P_19号2様式!GA2,RIGHT(FIXED(P_19号2様式!GA2,3,FALSE),4),\"\"))","v":".971"}]
[]
[null,{"$f":"IF(P_19号2様式!I2=\"\",\"\",P_19号2様式!I2)","v":"02"},null,{"$f":"IF(P_19号2様式!J2=\"\",\"\",P_19号2様式!J2)","v":"自由民主党"},null,{"$f":"IF(P_19号2様式!K2<> \"\",TEXT(INT(P_19号2様式!K2),\"#,##0\"),\"\")","v":"12,300"},{"$f":"IF(P_19号2様式!K2= \"\",\"\",IF(VALUE(FIXED(P_19号2様式!K2,0,TRUE))<>P_19号2様式!K2,RIGHT(FIXED(P_19号2様式!K2,3,FALSE),4),\"\"))","v":".621"},{"$f":"IF(P_19号2様式!L2<>\"\",\"(\",\"\")","v":""},{"$f":"IF(P_19号2様式!L2<> \"\", FIXED(P_19号2様式!L2,2,FALSE),\"\")","v":""},{"$f":"IF(P_19号2様式!L2<>\"\",\")\",\"\")","v":""},{"$f":"IF(P_19号2様式!M2<> \"\",TEXT(INT(P_19号2様式!M2),\"#,##0\"),\"\")","v":"7,774"},null,{"$f":"IF(P_19号2様式!M2= \"\",\"\",IF(VALUE(FIXED(P_19号2様式!M2,0,TRUE))<>P_19号2様式!M2,RIGHT(FIXED(P_19号2様式!M2,3,FALSE),4),\"\"))","v":""},{"$f":"IF(P_19号2様式!N2<> \"\",TEXT(INT(P_19号2様式!N2),\"#,##0\"),\"\")","v":"4,526"},{"$f":"IF(P_19号2様式!N2= \"\",\"\",IF(VALUE(FIXED(P_19号2様式!N2,0,TRUE))<>P_19号2様式!N2,RIGHT(FIXED(P_19号2様式!N2,3,FALSE),4),\"\"))","v":".621"}]
[null,null,null,null,null,null,null,null,null,null,null,null,null,null,null,null,"（イ）あん分の際切り捨てた票数",null,null,{"$f":"IF(P_19号2様式!GB2<> \"\",TEXT(INT(P_19号2様式!GB2),\"#,##0\"),\"\")","v":""},null,{"$f":"IF(P_19号2様式!GB2= \"\",\"\",IF(VALUE(FIXED(P_19号2様式!GB2,0,TRUE))<>P_19号2様式!GB2,RIGHT(FIXED(P_19号2様式!GB2,3,FALSE),4),\"\"))","v":""}]
[null,{"$f":"IF(P_19号2様式!O2=\"\",\"\",P_19号2様式!O2)","v":"03"},null,{"$f":"IF(P_19号2様式!P2=\"\",\"\",P_19号2様式!P2)","v":"オリーブの木"},null,{"$f":"IF(P_19号2様式!Q2<> \"\",TEXT(INT(P_19号2様式!Q2),\"#,##0\"),\"\")","v":"95"},{"$f":"IF(P_19号2様式!Q2= \"\",\"\",IF(VALUE(FIXED(P_19号2様式!Q2,0,TRUE))<>P_19号2様式!Q2,RIGHT(FIXED(P_19号2様式!Q2,3,FALSE),4),\"\"))","v":".266"},{"$f":"IF(P_19号2様式!R2<>\"\",\"(\",\"\")","v":""},{"$f":"IF(P_19号2様式!R2<> \"\", FIXED(P_19号2様式!R2,2,FALSE),\"\")","v":""},{"$f":"IF(P_19号2様式!R2<>\"\",\")\",\"\")","v":""},{"$f":"IF(P_19号2様式!S2<> \"\",TEXT(INT(P_19号2様式!S2),\"#,##0\"),\"\")","v":"86"},null,{"$f":"IF(P_19号2様式!S2= \"\",\"\",IF(VALUE(FIXED(P_19号2様式!S2,0,TRUE))<>P_19号2様式!S2,RIGHT(FIXED(P_19号2様式!S2,3,FALSE),4),\"\"))","v":""},{"$f":"IF(P_19号2様式!T2<> \"\",TEXT(INT(P_19号2様式!T2),\"#,##0\"),\"\")","v":"9"},{"$f":"IF(P_19号2様式!T2= \"\",\"\",IF(VALUE(FIXED(P_19号2様式!T2,0,TRUE))<>P_19号2様式!T2,RIGHT(FIXED(P_19号2様式!T2,3,FALSE),4),\"\"))","v":".266"}]
[]
[null,{"$f":"IF(P_19号2様式!U2=\"\",\"\",P_19号2様式!U2)","v":"04"},null,{"$f":"IF(P_19号2様式!V2=\"\",\"\",P_19号2様式!V2)","v":"社会民主党"},null,{"$f":"IF(P_19号2様式!W2<> \"\",TEXT(INT(P_19号2様式!W2),\"#,##0\"),\"\")","v":"510"},{"$f":"IF(P_19号2様式!W2= \"\",\"\",IF(VALUE(FIXED(P_19号2様式!W2,0,TRUE))<>P_19号2様式!W2,RIGHT(FIXED(P_19号2様式!W2,3,FALSE),4),\"\"))","v":""},{"$f":"IF(P_19号2様式!X2<>\"\",\"(\",\"\")","v":""},{"$f":"IF(P_19号2様式!X2<> \"\", FIXED(P_19号2様式!X2,2,FALSE),\"\")","v":""},{"$f":"IF(P_19号2様式!X2<>\"\",\")\",\"\")","v":""},{"$f":"IF(P_19号2様式!Y2<> \"\",TEXT(INT(P_19号2様式!Y2),\"#,##0\"),\"\")","v":"424"},null,{"$f":"IF(P_19号2様式!Y2= \"\",\"\",IF(VALUE(FIXED(P_19号2様式!Y2,0,TRUE))<>P_19号2様式!Y2,RIGHT(FIXED(P_19号2様式!Y2,3,FALSE),4),\"\"))","v":""},{"$f":"IF(P_19号2様式!Z2<> \"\",TEXT(INT(P_19号2様式!Z2),\"#,##0\"),\"\")","v":"86"},{"$f":"IF(P_19号2様式!Z2= \"\",\"\",IF(VALUE(FIXED(P_19号2様式!Z2,0,TRUE))<>P_19号2様式!Z2,RIGHT(FIXED(P_19号2様式!Z2,3,FALSE),4),\"\"))","v":""},null,"（ウ）いずれの政党等にも属しない票数",null,null,{"$f":"IF(P_19号2様式!GC2<> \"\",TEXT(INT(P_19号2様式!GC2),\"#,##0\"),\"\")","v":""},null,{"$f":"IF(P_19号2様式!GC2= \"\",\"\",IF(VALUE(FIXED(P_19号2様式!GC2,0,TRUE))<>P_19号2様式!GC2,RIGHT(FIXED(P_19号2様式!GC2,3,FALSE),4),\"\"))","v":""}]
[]
[null,{"$f":"IF(P_19号2様式!AA2=\"\",\"\",P_19号2様式!AA2)","v":"05"},null,{"$f":"IF(P_19号2様式!AB2=\"\",\"\",P_19号2様式!AB2)","v":"公明党"},null,{"$f":"IF(P_19号2様式!AC2<> \"\",TEXT(INT(P_19号2様式!AC2),\"#,##0\"),\"\")","v":"2,880"},{"$f":"IF(P_19号2様式!AC2= \"\",\"\",IF(VALUE(FIXED(P_19号2様式!AC2,0,TRUE))<>P_19号2様式!AC2,RIGHT(FIXED(P_19号2様式!AC2,3,FALSE),4),\"\"))","v":".745"},{"$f":"IF(P_19号2様式!AD2<>\"\",\"(\",\"\")","v":""},{"$f":"IF(P_19号2様式!AD2<> \"\", FIXED(P_19号2様式!AD2,2,FALSE),\"\")","v":""},{"$f":"IF(P_19号2様式!AD2<>\"\",\")\",\"\")","v":""},{"$f":"IF(P_19号2様式!AE2<> \"\",TEXT(INT(P_19号2様式!AE2),\"#,##0\"),\"\")","v":"1,391"},null,{"$f":"IF(P_19号2様式!AE2= \"\",\"\",IF(VALUE(FIXED(P_19号2様式!AE2,0,TRUE))<>P_19号2様式!AE2,RIGHT(FIXED(P_19号2様式!AE2,3,FALSE),4),\"\"))","v":""},{"$f":"IF(P_19号2様式!AF2<> \"\",TEXT(INT(P_19号2様式!AF2),\"#,##0\"),\"\")","v":"1,489"},{"$f":"IF(P_19号2様式!AF2= \"\",\"\",IF(VALUE(FIXED(P_19号2様式!AF2,0,TRUE))<>P_19号2様式!AF2,RIGHT(FIXED(P_19号2様式!AF2,3,FALSE),4),\"\"))","v":".745"}]
[null,null,null,null,null,null,null,null,null,null,null,null,null,null,null,null,"（エ）有効投票数（ア＋イ＋ウ）",null,null,{"$f":"IF(P_19号2様式!GD2<> \"\",TEXT(INT(P_19号2様式!GD2),\"#,##0\"),\"\")","v":""},null,{"$f":"IF(P_19号2様式!GD2= \"\",\"\",IF(VALUE(FIXED(P_19号2様式!GD2,0,TRUE))<>P_19号2様式!GD2,RIGHT(FIXED(P_19号2様式!GD2,3,FALSE),4),\"\"))","v":""}]
[null,{"$f":"IF(P_19号2様式!AG2=\"\",\"\",P_19号2様式!AG2)","v":"06"},null,{"$f":"IF(P_19号2様式!AH2=\"\",\"\",P_19号2様式!AH2)","v":"国民民主党"},null,{"$f":"IF(P_19号2様式!AI2<> \"\",TEXT(INT(P_19号2様式!AI2),\"#,##0\"),\"\")","v":"1,001"},{"$f":"IF(P_19号2様式!AI2= \"\",\"\",IF(VALUE(FIXED(P_19号2様式!AI2,0,TRUE))<>P_19号2様式!AI2,RIGHT(FIXED(P_19号2様式!AI2,3,FALSE),4),\"\"))","v":".357"},{"$f":"IF(P_19号2様式!AJ2<>\"\",\"(\",\"\")","v":""},{"$f":"IF(P_19号2様式!AJ2<> \"\", FIXED(P_19号2様式!AJ2,2,FALSE),\"\")","v":""},{"$f":"IF(P_19号2様式!AJ2<>\"\",\")\",\"\")","v":""},{"$f":"IF(P_19号2様式!AK2<> \"\",TEXT(INT(P_19号2様式!AK2),\"#,##0\"),\"\")","v":"751"},null,{"$f":"IF(P_19号2様式!AK2= \"\",\"\",IF(VALUE(FIXED(P_19号2様式!AK2,0,TRUE))<>P_19号2様式!AK2,RIGHT(FIXED(P_19号2様式!AK2,3,FALSE),4),\"\"))","v":""},{"$f":"IF(P_19号2様式!AL2<> \"\",TEXT(INT(P_19号2様式!AL2),\"#,##0\"),\"\")","v":"250"},{"$f":"IF(P_19号2様式!AL2= \"\",\"\",IF(VALUE(FIXED(P_19号2様式!AL2,0,TRUE))<>P_19号2様式!AL2,RIGHT(FIXED(P_19号2様式!AL2,3,FALSE),4),\"\"))","v":".357"}]
[]
[null,{"$f":"IF(P_19号2様式!AM2=\"\",\"\",P_19号2様式!AM2)","v":"07"},null,{"$f":"IF(P_19号2様式!AN2=\"\",\"\",P_19号2様式!AN2)","v":"日本維新の会"},null,{"$f":"IF(P_19号2様式!AO2<> \"\",TEXT(INT(P_19号2様式!AO2),\"#,##0\"),\"\")","v":"1,446"},{"$f":"IF(P_19号2様式!AO2= \"\",\"\",IF(VALUE(FIXED(P_19号2様式!AO2,0,TRUE))<>P_19号2様式!AO2,RIGHT(FIXED(P_19号2様式!AO2,3,FALSE),4),\"\"))","v":""},{"$f":"IF(P_19号2様式!AP2<>\"\",\"(\",\"\")","v":""},{"$f":"IF(P_19号2様式!AP2<> \"\", FIXED(P_19号2様式!AP2,2,FALSE),\"\")","v":""},{"$f":"IF(P_19号2様式!AP2<>\"\",\")\",\"\")","v":""},{"$f":"IF(P_19号2様式!AQ2<> \"\",TEXT(INT(P_19号2様式!AQ2),\"#,##0\"),\"\")","v":"1,164"},null,{"$f":"IF(P_19号2様式!AQ2= \"\",\"\",IF(VALUE(FIXED(P_19号2様式!AQ2,0,TRUE))<>P_19号2様式!AQ2,RIGHT(FIXED(P_19号2様式!AQ2,3,FALSE),4),\"\"))","v":""},{"$f":"IF(P_19号2様式!AR2<> \"\",TEXT(INT(P_19号2様式!AR2),\"#,##0\"),\"\")","v":"282"},{"$f":"IF(P_19号2様式!AR2= \"\",\"\",IF(VALUE(FIXED(P_19号2様式!AR2,0,TRUE))<>P_19号2様式!AR2,RIGHT(FIXED(P_19号2様式!AR2,3,FALSE),4),\"\"))","v":""},null,"（オ）無効投票数",null,null,{"$f":"IF(P_19号2様式!GE2<> \"\",TEXT(INT(P_19号2様式!GE2),\"#,##0\"),\"\")","v":""},null,{"$f":"IF(P_19号2様式!GE2= \"\",\"\",IF(VALUE(FIXED(P_19号2様式!GE2,0,TRUE))<>P_19号2様式!GE2,RIGHT(FIXED(P_19号2様式!GE2,3,FALSE),4),\"\"))","v":""}]
[]
[null,{"$f":"IF(P_19号2様式!AS2=\"\",\"\",P_19号2様式!AS2)","v":"08"},null,{"$f":"IF(P_19号2様式!AT2=\"\",\"\",P_19号2様式!AT2)","v":"幸福実現党"},null,{"$f":"IF(P_19号2様式!AU2<> \"\",TEXT(INT(P_19号2様式!AU2),\"#,##0\"),\"\")","v":"111"},{"$f":"IF(P_19号2様式!AU2= \"\",\"\",IF(VALUE(FIXED(P_19号2様式!AU2,0,TRUE))<>P_19号2様式!AU2,RIGHT(FIXED(P_19号2様式!AU2,3,FALSE),4),\"\"))","v":""},{"$f":"IF(P_19号2様式!AV2<>\"\",\"(\",\"\")","v":""},{"$f":"IF(P_19号2様式!AV2<> \"\", FIXED(P_19号2様式!AV2,2,FALSE),\"\")","v":""},{"$f":"IF(P_19号2様式!AV2<>\"\",\")\",\"\")","v":""},{"$f":"IF(P_19号2様式!AW2<> \"\",TEXT(INT(P_19号2様式!AW2),\"#,##0\"),\"\")","v":"86"},null,{"$f":"IF(P_19号2様式!AW2= \"\",\"\",IF(VALUE(FIXED(P_19号2様式!AW2,0,TRUE))<>P_19号2様式!AW2,RIGHT(FIXED(P_19号2様式!AW2,3,FALSE),4),\"\"))","v":""},{"$f":"IF(P_19号2様式!AX2<> \"\",TEXT(INT(P_19号2様式!AX2),\"#,##0\"),\"\")","v":"25"},{"$f":"IF(P_19号2様式!AX2= \"\",\"\",IF(VALUE(FIXED(P_19号2様式!AX2,0,TRUE))<>P_19号2様式!AX2,RIGHT(FIXED(P_19号2様式!AX2,3,FALSE),4),\"\"))","v":""}]
[null,null,null,null,null,null,null,null,null,null,null,null,null,null,null,null,"（カ）投票総数（エ＋オ）",null,null,{"$f":"IF(P_19号2様式!GF2<> \"\",TEXT(INT(P_19号2様式!GF2),\"#,##0\"),\"\")","v":""},null,{"$f":"IF(P_19号2様式!GF2= \"\",\"\",IF(VALUE(FIXED(P_19号2様式!GF2,0,TRUE))<>P_19号2様式!GF2,RIGHT(FIXED(P_19号2様式!GF2,3,FALSE),4),\"\"))","v":""}]
[null,{"$f":"IF(P_19号2様式!AY2=\"\",\"\",P_19号2様式!AY2)","v":"09"},null,{"$f":"IF(P_19号2様式!AZ2=\"\",\"\",P_19号2様式!AZ2)","v":"立憲民主党"},null,{"$f":"IF(P_19号2様式!BA2<> \"\",TEXT(INT(P_19号2様式!BA2),\"#,##0\"),\"\")","v":"2,384"},{"$f":"IF(P_19号2様式!BA2= \"\",\"\",IF(VALUE(FIXED(P_19号2様式!BA2,0,TRUE))<>P_19号2様式!BA2,RIGHT(FIXED(P_19号2様式!BA2,3,FALSE),4),\"\"))","v":".154"},{"$f":"IF(P_19号2様式!BB2<>\"\",\"(\",\"\")","v":""},{"$f":"IF(P_19号2様式!BB2<> \"\", FIXED(P_19号2様式!BB2,2,FALSE),\"\")","v":""},{"$f":"IF(P_19号2様式!BB2<>\"\",\")\",\"\")","v":""},{"$f":"IF(P_19号2様式!BC2<> \"\",TEXT(INT(P_19号2様式!BC2),\"#,##0\"),\"\")","v":"1,767"},null,{"$f":"IF(P_19号2様式!BC2= \"\",\"\",IF(VALUE(FIXED(P_19号2様式!BC2,0,TRUE))<>P_19号2様式!BC2,RIGHT(FIXED(P_19号2様式!BC2,3,FALSE),4),\"\"))","v":""},{"$f":"IF(P_19号2様式!BD2<> \"\",TEXT(INT(P_19号2様式!BD2),\"#,##0\"),\"\")","v":"617"},{"$f":"IF(P_19号2様式!BD2= \"\",\"\",IF(VALUE(FIXED(P_19号2様式!BD2,0,TRUE))<>P_19号2様式!BD2,RIGHT(FIXED(P_19号2様式!BD2,3,FALSE),4),\"\"))","v":".154"}]
[]
[null,{"$f":"IF(P_19号2様式!BE2=\"\",\"\",P_19号2様式!BE2)","v":"10"},null,{"$f":"IF(P_19号2様式!BF2=\"\",\"\",P_19号2様式!BF2)","v":"労働の解放をめざす労働者党"},null,{"$f":"IF(P_19号2様式!BG2<> \"\",TEXT(INT(P_19号2様式!BG2),\"#,##0\"),\"\")","v":"52"},{"$f":"IF(P_19号2様式!BG2= \"\",\"\",IF(VALUE(FIXED(P_19号2様式!BG2,0,TRUE))<>P_19号2様式!BG2,RIGHT(FIXED(P_19号2様式!BG2,3,FALSE),4),\"\"))","v":""},{"$f":"IF(P_19号2様式!BH2<>\"\",\"(\",\"\")","v":""},{"$f":"IF(P_19号2様式!BH2<> \"\", FIXED(P_19号2様式!BH2,2,FALSE),\"\")","v":""},{"$f":"IF(P_19号2様式!BH2<>\"\",\")\",\"\")","v":""},{"$f":"IF(P_19号2様式!BI2<> \"\",TEXT(INT(P_19号2様式!BI2),\"#,##0\"),\"\")","v":"23"},null,{"$f":"IF(P_19号2様式!BI2= \"\",\"\",IF(VALUE(FIXED(P_19号2様式!BI2,0,TRUE))<>P_19号2様式!BI2,RIGHT(FIXED(P_19号2様式!BI2,3,FALSE),4),\"\"))","v":""},{"$f":"IF(P_19号2様式!BJ2<> \"\",TEXT(INT(P_19号2様式!BJ2),\"#,##0\"),\"\")","v":"29"},{"$f":"IF(P_19号2様式!BJ2= \"\",\"\",IF(VALUE(FIXED(P_19号2様式!BJ2,0,TRUE))<>P_19号2様式!BJ2,RIGHT(FIXED(P_19号2様式!BJ2,3,FALSE),4),\"\"))","v":""},null,"（キ）持ち帰り・不受理・その他",null,null,{"$f":"IF(P_19号2様式!GG2<> \"\",TEXT(INT(P_19号2様式!GG2),\"#,##0\"),\"\")","v":""},null,{"$f":"IF(P_19号2様式!GG2= \"\",\"\",IF(VALUE(FIXED(P_19号2様式!GG2,0,TRUE))<>P_19号2様式!GG2,RIGHT(FIXED(P_19号2様式!GG2,3,FALSE),4),\"\"))","v":""}]
[]
[null,{"$f":"IF(P_19号2様式!BK2=\"\",\"\",P_19号2様式!BK2)","v":"11"},null,{"$f":"IF(P_19号2様式!BL2=\"\",\"\",P_19号2様式!BL2)","v":"ＮＨＫから国民を守る党"},null,{"$f":"IF(P_19号2様式!BM2<> \"\",TEXT(INT(P_19号2様式!BM2),\"#,##0\"),\"\")","v":"233"},{"$f":"IF(P_19号2様式!BM2= \"\",\"\",IF(VALUE(FIXED(P_19号2様式!BM2,0,TRUE))<>P_19号2様式!BM2,RIGHT(FIXED(P_19号2様式!BM2,3,FALSE),4),\"\"))","v":""},{"$f":"IF(P_19号2様式!BN2<>\"\",\"(\",\"\")","v":""},{"$f":"IF(P_19号2様式!BN2<> \"\", FIXED(P_19号2様式!BN2,2,FALSE),\"\")","v":""},{"$f":"IF(P_19号2様式!BN2<>\"\",\")\",\"\")","v":""},{"$f":"IF(P_19号2様式!BO2<> \"\",TEXT(INT(P_19号2様式!BO2),\"#,##0\"),\"\")","v":"191"},null,{"$f":"IF(P_19号2様式!BO2= \"\",\"\",IF(VALUE(FIXED(P_19号2様式!BO2,0,TRUE))<>P_19号2様式!BO2,RIGHT(FIXED(P_19号2様式!BO2,3,FALSE),4),\"\"))","v":""},{"$f":"IF(P_19号2様式!BP2<> \"\",TEXT(INT(P_19号2様式!BP2),\"#,##0\"),\"\")","v":"42"},{"$f":"IF(P_19号2様式!BP2= \"\",\"\",IF(VALUE(FIXED(P_19号2様式!BP2,0,TRUE))<>P_19号2様式!BP2,RIGHT(FIXED(P_19号2様式!BP2,3,FALSE),4),\"\"))","v":""}]
[null,null,null,null,null,null,null,null,null,null,null,null,null,null,null,null,"（ク）投票者総数（カ＋キ）",null,null,{"$f":"IF(P_19号2様式!GH2<> \"\",TEXT(INT(P_19号2様式!GH2),\"#,##0\"),\"\")","v":""},null,{"$f":"IF(P_19号2様式!GH2= \"\",\"\",IF(VALUE(FIXED(P_19号2様式!GH2,0,TRUE))<>P_19号2様式!GH2,RIGHT(FIXED(P_19号2様式!GH2,3,FALSE),4),\"\"))","v":""}]
[null,{"$f":"IF(P_19号2様式!BQ2=\"\",\"\",P_19号2様式!BQ2)","v":"12"},null,{"$f":"IF(P_19号2様式!BR2=\"\",\"\",P_19号2様式!BR2)","v":"安楽死制度を考える会"},null,{"$f":"IF(P_19号2様式!BS2<> \"\",TEXT(INT(P_19号2様式!BS2),\"#,##0\"),\"\")","v":"88"},{"$f":"IF(P_19号2様式!BS2= \"\",\"\",IF(VALUE(FIXED(P_19号2様式!BS2,0,TRUE))<>P_19号2様式!BS2,RIGHT(FIXED(P_19号2様式!BS2,3,FALSE),4),\"\"))","v":""},{"$f":"IF(P_19号2様式!BT2<>\"\",\"(\",\"\")","v":""},{"$f":"IF(P_19号2様式!BT2<> \"\", FIXED(P_19号2様式!BT2,2,FALSE),\"\")","v":""},{"$f":"IF(P_19号2様式!BT2<>\"\",\")\",\"\")","v":""},{"$f":"IF(P_19号2様式!BU2<> \"\",TEXT(INT(P_19号2様式!BU2),\"#,##0\"),\"\")","v":"61"},null,{"$f":"IF(P_19号2様式!BU2= \"\",\"\",IF(VALUE(FIXED(P_19号2様式!BU2,0,TRUE))<>P_19号2様式!BU2,RIGHT(FIXED(P_19号2様式!BU2,3,FALSE),4),\"\"))","v":""},{"$f":"IF(P_19号2様式!BV2<> \"\",TEXT(INT(P_19号2様式!BV2),\"#,##0\"),\"\")","v":"27"},{"$f":"IF(P_19号2様式!BV2= \"\",\"\",IF(VALUE(FIXED(P_19号2様式!BV2,0,TRUE))<>P_19号2様式!BV2,RIGHT(FIXED(P_19号2様式!BV2,3,FALSE),4),\"\"))","v":""}]
[]
[null,{"$f":"IF(P_19号2様式!BW2=\"\",\"\",P_19号2様式!BW2)","v":"13"},null,{"$f":"IF(P_19号2様式!BX2=\"\",\"\",P_19号2様式!BX2)","v":"れいわ新選組"},null,{"$f":"IF(P_19号2様式!BY2<> \"\",TEXT(INT(P_19号2様式!BY2),\"#,##0\"),\"\")","v":"774"},{"$f":"IF(P_19号2様式!BY2= \"\",\"\",IF(VALUE(FIXED(P_19号2様式!BY2,0,TRUE))<>P_19号2様式!BY2,RIGHT(FIXED(P_19号2様式!BY2,3,FALSE),4),\"\"))","v":".309"},{"$f":"IF(P_19号2様式!BZ2<>\"\",\"(\",\"\")","v":""},{"$f":"IF(P_19号2様式!BZ2<> \"\", FIXED(P_19号2様式!BZ2,2,FALSE),\"\")","v":""},{"$f":"IF(P_19号2様式!BZ2<>\"\",\")\",\"\")","v":""},{"$f":"IF(P_19号2様式!CA2<> \"\",TEXT(INT(P_19号2様式!CA2),\"#,##0\"),\"\")","v":"414"},null,{"$f":"IF(P_19号2様式!CA2= \"\",\"\",IF(VALUE(FIXED(P_19号2様式!CA2,0,TRUE))<>P_19号2様式!CA2,RIGHT(FIXED(P_19号2様式!CA2,3,FALSE),4),\"\"))","v":".188"},{"$f":"IF(P_19号2様式!CB2<> \"\",TEXT(INT(P_19号2様式!CB2),\"#,##0\"),\"\")","v":"360"},{"$f":"IF(P_19号2様式!CB2= \"\",\"\",IF(VALUE(FIXED(P_19号2様式!CB2,0,TRUE))<>P_19号2様式!CB2,RIGHT(FIXED(P_19号2様式!CB2,3,FALSE),4),\"\"))","v":".121"},null,"（ケ）開票進捗率",null,null,{"$f":"IF(P_19号2様式!GI2<> \"\",TEXT(INT(P_19号2様式!GI2),\"#,##0\"),\"\")","v":"3"},null,{"$f":"IF(P_19号2様式!GI2= \"\",\"\",IF(VALUE(FIXED(P_19号2様式!GI2,0,TRUE))<>P_19号2様式!GI2,RIGHT(FIXED(P_19号2様式!GI2,2,FALSE),3),\".00\"))","v":".74"}]
[]
[null,{"$f":"IF(P_19号2様式!CC2=\"\",\"\",P_19号2様式!CC2)","v":""},null,{"$f":"IF(P_19号2様式!CD2=\"\",\"\",P_19号2様式!CD2)","v":""},null,{"$f":"IF(P_19号2様式!CE2<> \"\",TEXT(INT(P_19号2様式!CE2),\"#,##0\"),\"\")","v":""},{"$f":"IF(P_19号2様式!CE2= \"\",\"\",IF(VALUE(FIXED(P_19号2様式!CE2,0,TRUE))<>P_19号2様式!CE2,RIGHT(FIXED(P_19号2様式!CE2,3,FALSE),4),\"\"))","v":""},{"$f":"IF(P_19号2様式!CF2<>\"\",\"(\",\"\")","v":""},{"$f":"IF(P_19号2様式!CF2<> \"\", FIXED(P_19号2様式!CF2,2,FALSE),\"\")","v":""},{"$f":"IF(P_19号2様式!CF2<>\"\",\")\",\"\")","v":""},{"$f":"IF(P_19号2様式!CG2<> \"\",TEXT(INT(P_19号2様式!CG2),\"#,##0\"),\"\")","v":""},null,{"$f":"IF(P_19号2様式!CG2= \"\",\"\",IF(VALUE(FIXED(P_19号2様式!CG2,0,TRUE))<>P_19号2様式!CG2,RIGHT(FIXED(P_19号2様式!CG2,3,FALSE),4),\"\"))","v":""},{"$f":"IF(P_19号2様式!CH2<> \"\",TEXT(INT(P_19号2様式!CH2),\"#,##0\"),\"\")","v":""},{"$f":"IF(P_19号2様式!CH2= \"\",\"\",IF(VALUE(FIXED(P_19号2様式!CH2,0,TRUE))<>P_19号2様式!CH2,RIGHT(FIXED(P_19号2様式!CH2,3,FALSE),4),\"\"))","v":""}]
[]
[null,{"$f":"IF(P_19号2様式!CI2=\"\",\"\",P_19号2様式!CI2)","v":""},null,{"$f":"IF(P_19号2様式!CJ2=\"\",\"\",P_19号2様式!CJ2)","v":""},null,{"$f":"IF(P_19号2様式!CK2<> \"\",TEXT(INT(P_19号2様式!CK2),\"#,##0\"),\"\")","v":""},{"$f":"IF(P_19号2様式!CK2= \"\",\"\",IF(VALUE(FIXED(P_19号2様式!CK2,0,TRUE))<>P_19号2様式!CK2,RIGHT(FIXED(P_19号2様式!CK2,3,FALSE),4),\"\"))","v":""},{"$f":"IF(P_19号2様式!CL2<>\"\",\"(\",\"\")","v":""},{"$f":"IF(P_19号2様式!CL2<> \"\", FIXED(P_19号2様式!CL2,2,FALSE),\"\")","v":""},{"$f":"IF(P_19号2様式!CL2<>\"\",\")\",\"\")","v":""},{"$f":"IF(P_19号2様式!CM2<> \"\",TEXT(INT(P_19号2様式!CM2),\"#,##0\"),\"\")","v":""},null,{"$f":"IF(P_19号2様式!CM2= \"\",\"\",IF(VALUE(FIXED(P_19号2様式!CM2,0,TRUE))<>P_19号2様式!CM2,RIGHT(FIXED(P_19号2様式!CM2,3,FALSE),4),\"\"))","v":""},{"$f":"IF(P_19号2様式!CN2<> \"\",TEXT(INT(P_19号2様式!CN2),\"#,##0\"),\"\")","v":""},{"$f":"IF(P_19号2様式!CN2= \"\",\"\",IF(VALUE(FIXED(P_19号2様式!CN2,0,TRUE))<>P_19号2様式!CN2,RIGHT(FIXED(P_19号2様式!CN2,3,FALSE),4),\"\"))","v":""}]
[]
[null,{"$f":"IF(P_19号2様式!CO2=\"\",\"\",P_19号2様式!CO2)","v":""},null,{"$f":"IF(P_19号2様式!CP2=\"\",\"\",P_19号2様式!CP2)","v":""},null,{"$f":"IF(P_19号2様式!CQ2<> \"\",TEXT(INT(P_19号2様式!CQ2),\"#,##0\"),\"\")","v":""},{"$f":"IF(P_19号2様式!CQ2= \"\",\"\",IF(VALUE(FIXED(P_19号2様式!CQ2,0,TRUE))<>P_19号2様式!CQ2,RIGHT(FIXED(P_19号2様式!CQ2,3,FALSE),4),\"\"))","v":""},{"$f":"IF(P_19号2様式!CR2<>\"\",\"(\",\"\")","v":""},{"$f":"IF(P_19号2様式!CR2<> \"\", FIXED(P_19号2様式!CR2,2,FALSE),\"\")","v":""},{"$f":"IF(P_19号2様式!CR2<>\"\",\")\",\"\")","v":""},{"$f":"IF(P_19号2様式!CS2<> \"\",TEXT(INT(P_19号2様式!CS2),\"#,##0\"),\"\")","v":""},null,{"$f":"IF(P_19号2様式!CS2= \"\",\"\",IF(VALUE(FIXED(P_19号2様式!CS2,0,TRUE))<>P_19号2様式!CS2,RIGHT(FIXED(P_19号2様式!CS2,3,FALSE),4),\"\"))","v":""},{"$f":"IF(P_19号2様式!CT2<> \"\",TEXT(INT(P_19号2様式!CT2),\"#,##0\"),\"\")","v":""},{"$f":"IF(P_19号2様式!CT2= \"\",\"\",IF(VALUE(FIXED(P_19号2様式!CT2,0,TRUE))<>P_19号2様式!CT2,RIGHT(FIXED(P_19号2様式!CT2,3,FALSE),4),\"\"))","v":""},null," 《　補　足　説　明　》"]
[]
[null,{"$f":"IF(P_19号2様式!CU2=\"\",\"\",P_19号2様式!CU2)","v":""},null,{"$f":"IF(P_19号2様式!CV2=\"\",\"\",P_19号2様式!CV2)","v":""},null,{"$f":"IF(P_19号2様式!CW2<> \"\",TEXT(INT(P_19号2様式!CW2),\"#,##0\"),\"\")","v":""},{"$f":"IF(P_19号2様式!CW2= \"\",\"\",IF(VALUE(FIXED(P_19号2様式!CW2,0,TRUE))<>P_19号2様式!CW2,RIGHT(FIXED(P_19号2様式!CW2,3,FALSE),4),\"\"))","v":""},{"$f":"IF(P_19号2様式!CX2<>\"\",\"(\",\"\")","v":""},{"$f":"IF(P_19号2様式!CX2<> \"\", FIXED(P_19号2様式!CX2,2,FALSE),\"\")","v":""},{"$f":"IF(P_19号2様式!CX2<>\"\",\")\",\"\")","v":""},{"$f":"IF(P_19号2様式!CY2<> \"\",TEXT(INT(P_19号2様式!CY2),\"#,##0\"),\"\")","v":""},null,{"$f":"IF(P_19号2様式!CY2= \"\",\"\",IF(VALUE(FIXED(P_19号2様式!CY2,0,TRUE))<>P_19号2様式!CY2,RIGHT(FIXED(P_19号2様式!CY2,3,FALSE),4),\"\"))","v":""},{"$f":"IF(P_19号2様式!CZ2<> \"\",TEXT(INT(P_19号2様式!CZ2),\"#,##0\"),\"\")","v":""},{"$f":"IF(P_19号2様式!CZ2= \"\",\"\",IF(VALUE(FIXED(P_19号2様式!CZ2,0,TRUE))<>P_19号2様式!CZ2,RIGHT(FIXED(P_19号2様式!CZ2,3,FALSE),4),\"\"))","v":""},null,"    （１）　（　　）内は、各政党等の得票率です。"]
[]
[null,{"$f":"IF(P_19号2様式!DA2=\"\",\"\",P_19号2様式!DA2)","v":""},null,{"$f":"IF(P_19号2様式!DB2=\"\",\"\",P_19号2様式!DB2)","v":""},null,{"$f":"IF(P_19号2様式!DC2<> \"\",TEXT(INT(P_19号2様式!DC2),\"#,##0\"),\"\")","v":""},{"$f":"IF(P_19号2様式!DC2= \"\",\"\",IF(VALUE(FIXED(P_19号2様式!DC2,0,TRUE))<>P_19号2様式!DC2,RIGHT(FIXED(P_19号2様式!DC2,3,FALSE),4),\"\"))","v":""},{"$f":"IF(P_19号2様式!DD2<>\"\",\"(\",\"\")","v":""},{"$f":"IF(P_19号2様式!DD2<> \"\", FIXED(P_19号2様式!DD2,2,FALSE),\"\")","v":""},{"$f":"IF(P_19号2様式!DD2<>\"\",\")\",\"\")","v":""},{"$f":"IF(P_19号2様式!DE2<> \"\",TEXT(INT(P_19号2様式!DE2),\"#,##0\"),\"\")","v":""},null,{"$f":"IF(P_19号2様式!DE2= \"\",\"\",IF(VALUE(FIXED(P_19号2様式!DE2,0,TRUE))<>P_19号2様式!DE2,RIGHT(FIXED(P_19号2様式!DE2,3,FALSE),4),\"\"))","v":""},{"$f":"IF(P_19号2様式!DF2<> \"\",TEXT(INT(P_19号2様式!DF2),\"#,##0\"),\"\")","v":""},{"$f":"IF(P_19号2様式!DF2= \"\",\"\",IF(VALUE(FIXED(P_19号2様式!DF2,0,TRUE))<>P_19号2様式!DF2,RIGHT(FIXED(P_19号2様式!DF2,3,FALSE),4),\"\"))","v":""},null,"    （２）　得票率は、全団体結了時に表示します。"]
[]
[null,{"$f":"IF(P_19号2様式!DG2=\"\",\"\",P_19号2様式!DG2)","v":""},null,{"$f":"IF(P_19号2様式!DH2=\"\",\"\",P_19号2様式!DH2)","v":""},null,{"$f":"IF(P_19号2様式!DI2<> \"\",TEXT(INT(P_19号2様式!DI2),\"#,##0\"),\"\")","v":""},{"$f":"IF(P_19号2様式!DI2= \"\",\"\",IF(VALUE(FIXED(P_19号2様式!DI2,0,TRUE))<>P_19号2様式!DI2,RIGHT(FIXED(P_19号2様式!DI2,3,FALSE),4),\"\"))","v":""},{"$f":"IF(P_19号2様式!DJ2<>\"\",\"(\",\"\")","v":""},{"$f":"IF(P_19号2様式!DJ2<> \"\", FIXED(P_19号2様式!DJ2,2,FALSE),\"\")","v":""},{"$f":"IF(P_19号2様式!DJ2<>\"\",\")\",\"\")","v":""},{"$f":"IF(P_19号2様式!DK2<> \"\",TEXT(INT(P_19号2様式!DK2),\"#,##0\"),\"\")","v":""},null,{"$f":"IF(P_19号2様式!DK2= \"\",\"\",IF(VALUE(FIXED(P_19号2様式!DK2,0,TRUE))<>P_19号2様式!DK2,RIGHT(FIXED(P_19号2様式!DK2,3,FALSE),4),\"\"))","v":""},{"$f":"IF(P_19号2様式!DL2<> \"\",TEXT(INT(P_19号2様式!DL2),\"#,##0\"),\"\")","v":""},{"$f":"IF(P_19号2様式!DL2= \"\",\"\",IF(VALUE(FIXED(P_19号2様式!DL2,0,TRUE))<>P_19号2様式!DL2,RIGHT(FIXED(P_19号2様式!DL2,3,FALSE),4),\"\"))","v":""}]
[]
[null,{"$f":"IF(P_19号2様式!DM2=\"\",\"\",P_19号2様式!DM2)","v":""},null,{"$f":"IF(P_19号2様式!DN2=\"\",\"\",P_19号2様式!DN2)","v":""},null,{"$f":"IF(P_19号2様式!DO2<> \"\",TEXT(INT(P_19号2様式!DO2),\"#,##0\"),\"\")","v":""},{"$f":"IF(P_19号2様式!DO2= \"\",\"\",IF(VALUE(FIXED(P_19号2様式!DO2,0,TRUE))<>P_19号2様式!DO2,RIGHT(FIXED(P_19号2様式!DO2,3,FALSE),4),\"\"))","v":""},{"$f":"IF(P_19号2様式!DP2<>\"\",\"(\",\"\")","v":""},{"$f":"IF(P_19号2様式!DP2<> \"\", FIXED(P_19号2様式!DP2,2,FALSE),\"\")","v":""},{"$f":"IF(P_19号2様式!DP2<>\"\",\")\",\"\")","v":""},{"$f":"IF(P_19号2様式!DQ2<> \"\",TEXT(INT(P_19号2様式!DQ2),\"#,##0\"),\"\")","v":""},null,{"$f":"IF(P_19号2様式!DQ2= \"\",\"\",IF(VALUE(FIXED(P_19号2様式!DQ2,0,TRUE))<>P_19号2様式!DQ2,RIGHT(FIXED(P_19号2様式!DQ2,3,FALSE),4),\"\"))","v":""},{"$f":"IF(P_19号2様式!DR2<> \"\",TEXT(INT(P_19号2様式!DR2),\"#,##0\"),\"\")","v":""},{"$f":"IF(P_19号2様式!DR2= \"\",\"\",IF(VALUE(FIXED(P_19号2様式!DR2,0,TRUE))<>P_19号2様式!DR2,RIGHT(FIXED(P_19号2様式!DR2,3,FALSE),4),\"\"))","v":""}]
[]
[null,{"$f":"IF(P_19号2様式!DS2=\"\",\"\",P_19号2様式!DS2)","v":""},null,{"$f":"IF(P_19号2様式!DT2=\"\",\"\",P_19号2様式!DT2)","v":""},null,{"$f":"IF(P_19号2様式!DU2<> \"\",TEXT(INT(P_19号2様式!DU2),\"#,##0\"),\"\")","v":""},{"$f":"IF(P_19号2様式!DU2= \"\",\"\",IF(VALUE(FIXED(P_19号2様式!DU2,0,TRUE))<>P_19号2様式!DU2,RIGHT(FIXED(P_19号2様式!DU2,3,FALSE),4),\"\"))","v":""},{"$f":"IF(P_19号2様式!DV2<>\"\",\"(\",\"\")","v":""},{"$f":"IF(P_19号2様式!DV2<> \"\", FIXED(P_19号2様式!DV2,2,FALSE),\"\")","v":""},{"$f":"IF(P_19号2様式!DV2<>\"\",\")\",\"\")","v":""},{"$f":"IF(P_19号2様式!DW2<> \"\",TEXT(INT(P_19号2様式!DW2),\"#,##0\"),\"\")","v":""},null,{"$f":"IF(P_19号2様式!DW2= \"\",\"\",IF(VALUE(FIXED(P_19号2様式!DW2,0,TRUE))<>P_19号2様式!DW2,RIGHT(FIXED(P_19号2様式!DW2,3,FALSE),4),\"\"))","v":""},{"$f":"IF(P_19号2様式!DX2<> \"\",TEXT(INT(P_19号2様式!DX2),\"#,##0\"),\"\")","v":""},{"$f":"IF(P_19号2様式!DX2= \"\",\"\",IF(VALUE(FIXED(P_19号2様式!DX2,0,TRUE))<>P_19号2様式!DX2,RIGHT(FIXED(P_19号2様式!DX2,3,FALSE),4),\"\"))","v":""}]
[]
[null,{"$f":"IF(P_19号2様式!DY2=\"\",\"\",P_19号2様式!DY2)","v":""},null,{"$f":"IF(P_19号2様式!DZ2=\"\",\"\",P_19号2様式!DZ2)","v":""},null,{"$f":"IF(P_19号2様式!EA2<> \"\",TEXT(INT(P_19号2様式!EA2),\"#,##0\"),\"\")","v":""},{"$f":"IF(P_19号2様式!EA2= \"\",\"\",IF(VALUE(FIXED(P_19号2様式!EA2,0,TRUE))<>P_19号2様式!EA2,RIGHT(FIXED(P_19号2様式!EA2,3,FALSE),4),\"\"))","v":""},{"$f":"IF(P_19号2様式!EB2<>\"\",\"(\",\"\")","v":""},{"$f":"IF(P_19号2様式!EB2<> \"\", FIXED(P_19号2様式!EB2,2,FALSE),\"\")","v":""},{"$f":"IF(P_19号2様式!EB2<>\"\",\")\",\"\")","v":""},{"$f":"IF(P_19号2様式!EC2<> \"\",TEXT(INT(P_19号2様式!EC2),\"#,##0\"),\"\")","v":""},null,{"$f":"IF(P_19号2様式!EC2= \"\",\"\",IF(VALUE(FIXED(P_19号2様式!EC2,0,TRUE))<>P_19号2様式!EC2,RIGHT(FIXED(P_19号2様式!EC2,3,FALSE),4),\"\"))","v":""},{"$f":"IF(P_19号2様式!ED2<> \"\",TEXT(INT(P_19号2様式!ED2),\"#,##0\"),\"\")","v":""},{"$f":"IF(P_19号2様式!ED2= \"\",\"\",IF(VALUE(FIXED(P_19号2様式!ED2,0,TRUE))<>P_19号2様式!ED2,RIGHT(FIXED(P_19号2様式!ED2,3,FALSE),4),\"\"))","v":""}]
[]
[null,{"$f":"IF(P_19号2様式!EE2=\"\",\"\",P_19号2様式!EE2)","v":""},null,{"$f":"IF(P_19号2様式!EF2=\"\",\"\",P_19号2様式!EF2)","v":""},null,{"$f":"IF(P_19号2様式!EG2<> \"\",TEXT(INT(P_19号2様式!EG2),\"#,##0\"),\"\")","v":""},{"$f":"IF(P_19号2様式!EG2= \"\",\"\",IF(VALUE(FIXED(P_19号2様式!EG2,0,TRUE))<>P_19号2様式!EG2,RIGHT(FIXED(P_19号2様式!EG2,3,FALSE),4),\"\"))","v":""},{"$f":"IF(P_19号2様式!EH2<>\"\",\"(\",\"\")","v":""},{"$f":"IF(P_19号2様式!EH2<> \"\", FIXED(P_19号2様式!EH2,2,FALSE),\"\")","v":""},{"$f":"IF(P_19号2様式!EH2<>\"\",\")\",\"\")","v":""},{"$f":"IF(P_19号2様式!EI2<> \"\",TEXT(INT(P_19号2様式!EI2),\"#,##0\"),\"\")","v":""},null,{"$f":"IF(P_19号2様式!EI2= \"\",\"\",IF(VALUE(FIXED(P_19号2様式!EI2,0,TRUE))<>P_19号2様式!EI2,RIGHT(FIXED(P_19号2様式!EI2,3,FALSE),4),\"\"))","v":""},{"$f":"IF(P_19号2様式!EJ2<> \"\",TEXT(INT(P_19号2様式!EJ2),\"#,##0\"),\"\")","v":""},{"$f":"IF(P_19号2様式!EJ2= \"\",\"\",IF(VALUE(FIXED(P_19号2様式!EJ2,0,TRUE))<>P_19号2様式!EJ2,RIGHT(FIXED(P_19号2様式!EJ2,3,FALSE),4),\"\"))","v":""}]
[]
[null,{"$f":"IF(P_19号2様式!EK2=\"\",\"\",P_19号2様式!EK2)","v":""},null,{"$f":"IF(P_19号2様式!EL2=\"\",\"\",P_19号2様式!EL2)","v":""},null,{"$f":"IF(P_19号2様式!EM2<> \"\",TEXT(INT(P_19号2様式!EM2),\"#,##0\"),\"\")","v":""},{"$f":"IF(P_19号2様式!EM2= \"\",\"\",IF(VALUE(FIXED(P_19号2様式!EM2,0,TRUE))<>P_19号2様式!EM2,RIGHT(FIXED(P_19号2様式!EM2,3,FALSE),4),\"\"))","v":""},{"$f":"IF(P_19号2様式!EN2<>\"\",\"(\",\"\")","v":""},{"$f":"IF(P_19号2様式!EN2<> \"\", FIXED(P_19号2様式!EN2,2,FALSE),\"\")","v":""},{"$f":"IF(P_19号2様式!EN2<>\"\",\")\",\"\")","v":""},{"$f":"IF(P_19号2様式!EO2<> \"\",TEXT(INT(P_19号2様式!EO2),\"#,##0\"),\"\")","v":""},null,{"$f":"IF(P_19号2様式!EO2= \"\",\"\",IF(VALUE(FIXED(P_19号2様式!EO2,0,TRUE))<>P_19号2様式!EO2,RIGHT(FIXED(P_19号2様式!EO2,3,FALSE),4),\"\"))","v":""},{"$f":"IF(P_19号2様式!EP2<> \"\",TEXT(INT(P_19号2様式!EP2),\"#,##0\"),\"\")","v":""},{"$f":"IF(P_19号2様式!EP2= \"\",\"\",IF(VALUE(FIXED(P_19号2様式!EP2,0,TRUE))<>P_19号2様式!EP2,RIGHT(FIXED(P_19号2様式!EP2,3,FALSE),4),\"\"))","v":""}]
[]
[null,{"$f":"IF(P_19号2様式!EQ2=\"\",\"\",P_19号2様式!EQ2)","v":""},null,{"$f":"IF(P_19号2様式!ER2=\"\",\"\",P_19号2様式!ER2)","v":""},null,{"$f":"IF(P_19号2様式!ES2<> \"\",TEXT(INT(P_19号2様式!ES2),\"#,##0\"),\"\")","v":""},{"$f":"IF(P_19号2様式!ES2= \"\",\"\",IF(VALUE(FIXED(P_19号2様式!ES2,0,TRUE))<>P_19号2様式!ES2,RIGHT(FIXED(P_19号2様式!ES2,3,FALSE),4),\"\"))","v":""},{"$f":"IF(P_19号2様式!ET2<>\"\",\"(\",\"\")","v":""},{"$f":"IF(P_19号2様式!ET2<> \"\", FIXED(P_19号2様式!ET2,2,FALSE),\"\")","v":""},{"$f":"IF(P_19号2様式!ET2<>\"\",\")\",\"\")","v":""},{"$f":"IF(P_19号2様式!EU2<> \"\",TEXT(INT(P_19号2様式!EU2),\"#,##0\"),\"\")","v":""},null,{"$f":"IF(P_19号2様式!EU2= \"\",\"\",IF(VALUE(FIXED(P_19号2様式!EU2,0,TRUE))<>P_19号2様式!EU2,RIGHT(FIXED(P_19号2様式!EU2,3,FALSE),4),\"\"))","v":""},{"$f":"IF(P_19号2様式!EV2<> \"\",TEXT(INT(P_19号2様式!EV2),\"#,##0\"),\"\")","v":""},{"$f":"IF(P_19号2様式!EV2= \"\",\"\",IF(VALUE(FIXED(P_19号2様式!EV2,0,TRUE))<>P_19号2様式!EV2,RIGHT(FIXED(P_19号2様式!EV2,3,FALSE),4),\"\"))","v":""}]
[]
[null,{"$f":"IF(P_19号2様式!EW2=\"\",\"\",P_19号2様式!EW2)","v":""},null,{"$f":"IF(P_19号2様式!EX2=\"\",\"\",P_19号2様式!EX2)","v":""},null,{"$f":"IF(P_19号2様式!EY2<> \"\",TEXT(INT(P_19号2様式!EY2),\"#,##0\"),\"\")","v":""},{"$f":"IF(P_19号2様式!EY2= \"\",\"\",IF(VALUE(FIXED(P_19号2様式!EY2,0,TRUE))<>P_19号2様式!EY2,RIGHT(FIXED(P_19号2様式!EY2,3,FALSE),4),\"\"))","v":""},{"$f":"IF(P_19号2様式!EZ2<>\"\",\"(\",\"\")","v":""},{"$f":"IF(P_19号2様式!EZ2<> \"\", FIXED(P_19号2様式!EZ2,2,FALSE),\"\")","v":""},{"$f":"IF(P_19号2様式!EZ2<>\"\",\")\",\"\")","v":""},{"$f":"IF(P_19号2様式!FA2<> \"\",TEXT(INT(P_19号2様式!FA2),\"#,##0\"),\"\")","v":""},null,{"$f":"IF(P_19号2様式!FA2= \"\",\"\",IF(VALUE(FIXED(P_19号2様式!FA2,0,TRUE))<>P_19号2様式!FA2,RIGHT(FIXED(P_19号2様式!FA2,3,FALSE),4),\"\"))","v":""},{"$f":"IF(P_19号2様式!FB2<> \"\",TEXT(INT(P_19号2様式!FB2),\"#,##0\"),\"\")","v":""},{"$f":"IF(P_19号2様式!FB2= \"\",\"\",IF(VALUE(FIXED(P_19号2様式!FB2,0,TRUE))<>P_19号2様式!FB2,RIGHT(FIXED(P_19号2様式!FB2,3,FALSE),4),\"\"))","v":""}]
[]
[null,{"$f":"IF(P_19号2様式!FC2=\"\",\"\",P_19号2様式!FC2)","v":""},null,{"$f":"IF(P_19号2様式!FD2=\"\",\"\",P_19号2様式!FD2)","v":""},null,{"$f":"IF(P_19号2様式!FE2<> \"\",TEXT(INT(P_19号2様式!FE2),\"#,##0\"),\"\")","v":""},{"$f":"IF(P_19号2様式!FE2= \"\",\"\",IF(VALUE(FIXED(P_19号2様式!FE2,0,TRUE))<>P_19号2様式!FE2,RIGHT(FIXED(P_19号2様式!FE2,3,FALSE),4),\"\"))","v":""},{"$f":"IF(P_19号2様式!FF2<>\"\",\"(\",\"\")","v":""},{"$f":"IF(P_19号2様式!FF2<> \"\", FIXED(P_19号2様式!FF2,2,FALSE),\"\")","v":""},{"$f":"IF(P_19号2様式!FF2<>\"\",\")\",\"\")","v":""},{"$f":"IF(P_19号2様式!FG2<> \"\",TEXT(INT(P_19号2様式!FG2),\"#,##0\"),\"\")","v":""},null,{"$f":"IF(P_19号2様式!FG2= \"\",\"\",IF(VALUE(FIXED(P_19号2様式!FG2,0,TRUE))<>P_19号2様式!FG2,RIGHT(FIXED(P_19号2様式!FG2,3,FALSE),4),\"\"))","v":""},{"$f":"IF(P_19号2様式!FH2<> \"\",TEXT(INT(P_19号2様式!FH2),\"#,##0\"),\"\")","v":""},{"$f":"IF(P_19号2様式!FH2= \"\",\"\",IF(VALUE(FIXED(P_19号2様式!FH2,0,TRUE))<>P_19号2様式!FH2,RIGHT(FIXED(P_19号2様式!FH2,3,FALSE),4),\"\"))","v":""}]
[]
[null,{"$f":"IF(P_19号2様式!FI2=\"\",\"\",P_19号2様式!FI2)","v":""},null,{"$f":"IF(P_19号2様式!FJ2=\"\",\"\",P_19号2様式!FJ2)","v":""},null,{"$f":"IF(P_19号2様式!FK2<> \"\",TEXT(INT(P_19号2様式!FK2),\"#,##0\"),\"\")","v":""},{"$f":"IF(P_19号2様式!FK2= \"\",\"\",IF(VALUE(FIXED(P_19号2様式!FK2,0,TRUE))<>P_19号2様式!FK2,RIGHT(FIXED(P_19号2様式!FK2,3,FALSE),4),\"\"))","v":""},{"$f":"IF(P_19号2様式!FL2<>\"\",\"(\",\"\")","v":""},{"$f":"IF(P_19号2様式!FL2<> \"\", FIXED(P_19号2様式!FL2,2,FALSE),\"\")","v":""},{"$f":"IF(P_19号2様式!FL2<>\"\",\")\",\"\")","v":""},{"$f":"IF(P_19号2様式!FM2<> \"\",TEXT(INT(P_19号2様式!FM2),\"#,##0\"),\"\")","v":""},null,{"$f":"IF(P_19号2様式!FM2= \"\",\"\",IF(VALUE(FIXED(P_19号2様式!FM2,0,TRUE))<>P_19号2様式!FM2,RIGHT(FIXED(P_19号2様式!FM2,3,FALSE),4),\"\"))","v":""},{"$f":"IF(P_19号2様式!FN2<> \"\",TEXT(INT(P_19号2様式!FN2),\"#,##0\"),\"\")","v":""},{"$f":"IF(P_19号2様式!FN2= \"\",\"\",IF(VALUE(FIXED(P_19号2様式!FN2,0,TRUE))<>P_19号2様式!FN2,RIGHT(FIXED(P_19号2様式!FN2,3,FALSE),4),\"\"))","v":""}]
[]
[null,{"$f":"IF(P_19号2様式!FO2=\"\",\"\",P_19号2様式!FO2)","v":""},null,{"$f":"IF(P_19号2様式!FP2=\"\",\"\",P_19号2様式!FP2)","v":""},null,{"$f":"IF(P_19号2様式!FQ2<> \"\",TEXT(INT(P_19号2様式!FQ2),\"#,##0\"),\"\")","v":""},{"$f":"IF(P_19号2様式!FQ2= \"\",\"\",IF(VALUE(FIXED(P_19号2様式!FQ2,0,TRUE))<>P_19号2様式!FQ2,RIGHT(FIXED(P_19号2様式!FQ2,3,FALSE),4),\"\"))","v":""},{"$f":"IF(P_19号2様式!FR2<>\"\",\"(\",\"\")","v":""},{"$f":"IF(P_19号2様式!FR2<> \"\", FIXED(P_19号2様式!FR2,2,FALSE),\"\")","v":""},{"$f":"IF(P_19号2様式!FR2<>\"\",\")\",\"\")","v":""},{"$f":"IF(P_19号2様式!FS2<> \"\",TEXT(INT(P_19号2様式!FS2),\"#,##0\"),\"\")","v":""},null,{"$f":"IF(P_19号2様式!FS2= \"\",\"\",IF(VALUE(FIXED(P_19号2様式!FS2,0,TRUE))<>P_19号2様式!FS2,RIGHT(FIXED(P_19号2様式!FS2,3,FALSE),4),\"\"))","v":""},{"$f":"IF(P_19号2様式!FT2<> \"\",TEXT(INT(P_19号2様式!FT2),\"#,##0\"),\"\")","v":""},{"$f":"IF(P_19号2様式!FT2= \"\",\"\",IF(VALUE(FIXED(P_19号2様式!FT2,0,TRUE))<>P_19号2様式!FT2,RIGHT(FIXED(P_19号2様式!FT2,3,FALSE),4),\"\"))","v":""}]
[]
[null,{"$f":"IF(P_19号2様式!FU2=\"\",\"\",P_19号2様式!FU2)","v":""},null,{"$f":"IF(P_19号2様式!FV2=\"\",\"\",P_19号2様式!FV2)","v":""},null,{"$f":"IF(P_19号2様式!FW2<> \"\",TEXT(INT(P_19号2様式!FW2),\"#,##0\"),\"\")","v":""},{"$f":"IF(P_19号2様式!FW2= \"\",\"\",IF(VALUE(FIXED(P_19号2様式!FW2,0,TRUE))<>P_19号2様式!FW2,RIGHT(FIXED(P_19号2様式!FW2,3,FALSE),4),\"\"))","v":""},{"$f":"IF(P_19号2様式!FX2<>\"\",\"(\",\"\")","v":""},{"$f":"IF(P_19号2様式!FX2<> \"\", FIXED(P_19号2様式!FX2,2,FALSE),\"\")","v":""},{"$f":"IF(P_19号2様式!FX2<>\"\",\")\",\"\")","v":""},{"$f":"IF(P_19号2様式!FY2<> \"\",TEXT(INT(P_19号2様式!FY2),\"#,##0\"),\"\")","v":""},null,{"$f":"IF(P_19号2様式!FY2= \"\",\"\",IF(VALUE(FIXED(P_19号2様式!FY2,0,TRUE))<>P_19号2様式!FY2,RIGHT(FIXED(P_19号2様式!FY2,3,FALSE),4),\"\"))","v":""},{"$f":"IF(P_19号2様式!FZ2<> \"\",TEXT(INT(P_19号2様式!FZ2),\"#,##0\"),\"\")","v":""},{"$f":"IF(P_19号2様式!FZ2= \"\",\"\",IF(VALUE(FIXED(P_19号2様式!FZ2,0,TRUE))<>P_19号2様式!FZ2,RIGHT(FIXED(P_19号2様式!FZ2,3,FALSE),4),\"\"))","v":""}]

{"sheet":"パラメタシート","index":1,"n_rows":1,"n_cols":2,"rows_kept":1,"cut":false,"hidden":false,"merged":[]}
["執行日","2019-07-21"]

{"sheet":"P_19号2様式","index":2,"n_rows":2,"n_cols":195,"rows_kept":2,"cut":false,"hidden":false,"merged":[]}
["頁番号","行番号","届出番号1","政党名1","得票数1","得票率1","政党得票数1","候補者得票数1","届出番号2","政党名2","得票数2","得票率2","政党得票数2","候補者得票数2","届出番号3","政党名3","得票数3","得票率3","政党得票数3","候補者得票数3","届出番号4","政党名4","得票数4","得票率4","政党得票数4","候補者得票数4","届出番号5","政党名5","得票数5","得票率5","政党得票数5","候補者得票数5","届出番号6","政党名6","得票数6","得票率6","政党得票数6","候補者得票数6","届出番号7","政党名7","得票数7","得票率7","政党得票数7","候補者得票数7","届出番号8","政党名8","得票数8","得票率8","政党得票数8","候補者得票数8","届出番号9","政党名9","得票数9","得票率9","政党得票数9","候補者得票数9","届出番号10","政党名10","得票数10","得票率10","政党得票数10","候補者得票数10","届出番号11","政党名11","得票数11","得票率11","政党得票数11","候補者得票数11","届出番号12","政党名12","得票数12","得票率12","政党得票数12","候補者得票数12","届出番号13","政党名13","得票数13","得票率13","政党得票数13","候補者得票数13","届出番号14","政党名14","得票数14","得票率14","政党得票数14","候補者得票数14","届出番号15","政党名15","得票数15","得票率15","政党得票数15","候補者得票数15","届出番号16","政党名16","得票数16","得票率16","政党得票数16","候補者得票数16","届出番号17","政党名17","得票数17","得票率17","政党得票数17","候補者得票数17","届出番号18","政党名18","得票数18","得票率18","政党得票数18","候補者得票数18","届出番号19","政党名19","得票数19","得票率19","政党得票数19","候補者得票数19","届出番号20","政党名20","得票数20","得票率20","政党得票数20","候補者得票数20","届出番号21","政党名21","得票数21","得票率21","政党得票数21","候補者得票数21","届出番号22","政党名22","得票数22","得票率22","政党得票数22","候補者得票数22","届出番号23","政党名23","得票数23","得票率23","政党得票数23","候補者得票数23","届出番号24","政党名24","得票数24","得票率24","政党得票数24","候補者得票数24","届出番号25","政党名25","得票数25","得票率25","政党得票数25","候補者得票数25","届出番号26","政党名26","得票数26","得票率26","政党得票数26","候補者得票数26","届出番号27","政党名27","得票数27","得票率27","政党得票数27","候補者得票数27","届出番号28","政党名28","得票数28","得票率28","政党得票数28","候補者得票数28","届出番号29","政党名29","得票数29","得票率29","政党得票数29","候補者得票数29","届出番号30","政党名30","得票数30","得票率30","政党得票数30","候補者得票数30","ア","イ","ウ","エ","オ","カ","キ","ク","開票進捗率","選挙名","翌日開票区分","開票時刻","開票確定時刻"]
[1,1,"01","日本共産党",1109.519,null,960,149.51900000000001,"02","自由民主党",12300.620999999999,null,7774,4526.6210000000001,"03","オリーブの木",95.266000000000005,null,86,9.266,"04","社会民主党",510,null,424,86,"05","公明党",2880.7449999999999,null,1391,1489.7449999999999,"06","国民民主党",1001.357,null,751,250.357,"07","日本維新の会",1446,null,1164,282,"08","幸福実現党",111,null,86,25,"09","立憲民主党",2384.154,null,1767,617.154,"10","労働の解放をめざす労働者党",52,null,23,29,"11","ＮＨＫから国民を守る党",233,null,191,42,"12","安楽死制度を考える会",88,null,61,27,"13","れいわ新選組",774.30899999999997,null,414.18799999999999,360.12099999999998,null,null,null,null,null,null,null,null,null,null,null,null,null,null,null,null,null,null,null,null,null,null,null,null,null,null,null,null,null,null,null,null,null,null,null,null,null,null,null,null,null,null,null,null,null,null,null,null,null,null,null,null,null,null,null,null,null,null,null,null,null,null,null,null,null,null,null,null,null,null,null,null,null,null,null,null,null,null,null,null,null,null,null,null,null,null,null,null,null,null,null,null,null,null,null,null,null,null,null,null,null,null,22985.971000000001,null,null,null,null,null,null,null,3.7428924598269502,"参議院比例代表選出議員選挙","0","23:00:00"]