{"text_format":"1","workbook":"xlsx","n_sheets":3,"sheets":["投票速報（国内）_144_","パラメタシート","P_14号4様式"],"not_rendered":{"charts":0,"images":0,"macros":1,"external_links":0,"defined_names":7,"comments":0,"pivot_tables":0},"unopened":[],"bounds":{"document_bytes":16777216,"sheet_cells":100000,"rows_first":2000,"rows_last":500,"rows_between":2000,"halvings":0,"cell_chars":16384,"cell_head_chars":4096},"cells_cut":0,"cells_raw":0,"read":"whole","date_system":"1900"}

{"sheet":"投票速報（国内）_144_","index":0,"n_rows":113,"n_cols":23,"rows_kept":113,"cut":false,"hidden":false,"merged":[[55,12,55,14],[54,12,54,14],[6,11,7,12],[6,14,7,14],[50,12,50,14],[51,12,51,14],[102,12,102,14],[96,12,96,14],[97,12,97,14],[98,12,98,14],[99,12,99,14],[92,12,92,14],[93,12,93,14],[94,12,94,14],[41,12,41,14],[48,12,48,14],[49,12,49,14],[42,12,42,14],[43,12,43,14],[44,12,44,14],[45,12,45,14],[46,12,46,14],[47,12,47,14],[27,12,27,14],[0,21,0,22],[57,21,57,22],[59,20,59,22],[106,15,106,17],[107,15,107,17],[108,15,108,17],[59,13,59,15],[102,15,102,17],[103,15,103,17],[104,15,104,17],[105,15,105,17],[98,15,98,17],[99,15,99,17],[100,15,100,17],[101,15,101,17],[94,15,94,17],[95,15,95,17],[96,15,96,17],[97,15,97,17],[90,15,90,17],[91,15,91,17],[92,15,92,17],[93,15,93,17],[1,20,1,22],[2,13,2,15],[2,20,2,22],[58,13,58,15],[58,16,58,19],[58,20,58,22],[1,13,1,15],[1,16,1,19],[54,15,54,17],[55,15,55,17],[56,15,56,17],[56,12,56,14],[50,15,50,17],[51,15,51,17],[53,15,53,17],[53,12,53,14],[46,15,46,17],[47,15,47,17],[48,15,48,17],[49,15,49,17],[42,15,42,17],[43,15,43,17],[44,15,44,17],[45,15,45,17],[78,15,78,17],[79,15,79,17],[80,15,80,17],[81,15,81,17],[74,15,74,17],[75,15,75,17],[76,15,76,17],[77,15,77,17],[67,15,67,17],[68,15,68,17],[69,15,69,17],[70,15,70,17],[71,15,71,17],[72,15,72,17],[73,15,73,17],[79,12,79,14],[88,12,88,14],[89,12,89,14],[84,12,84,14],[85,12,85,14],[86,12,86,14],[87,12,87,14],[91,12,91,14],[86,15,86,17],[87,15,87,17],[88,15,88,17],[89,15,89,17],[82,15,82,17],[83,15,83,17],[84,15,84,17],[85,15,85,17],[113,12,113,14],[113,15,113,17],[18,15,18,17],[19,15,19,17],[20,15,20,17],[21,15,21,17],[38,15,38,17],[39,15,39,17],[40,15,40,17],[41,15,41,17],[34,15,34,17],[35,15,35,17],[36,15,36,17],[37,15,37,17],[30,15,30,17],[31,15,31,17],[32,15,32,17],[33,15,33,17],[26,12,26,14],[26,15,26,17],[27,15,27,17],[28,15,28,17],[29,15,29,17],[22,15,22,17],[23,15,23,17],[24,15,24,17],[25,15,25,17],[78,12,78,14],[10,15,10,17],[11,15,11,17],[12,15,12,17],[13,15,13,17],[14,15,14,17],[15,15,15,17],[16,15,16,17],[17,15,17,17],[40,12,40,14],[36,12,36,14],[37,12,37,14],[38,12,38,14],[39,12,39,14],[32,12,32,14],[33,12,33,14],[34,12,34,14],[35,12,35,14],[28,12,28,14],[29,12,29,14],[30,12,30,14],[31,12,31,14],[24,12,24,14],[25,12,25,14],[10,12,10,14],[11,12,11,14],[22,12,22,14],[23,12,23,14],[20,12,20,14],[21,12,21,14],[12,12,12,14],[13,12,13,14],[14,12,14,14],[15,12,15,14],[16,12,16,14],[17,12,17,14],[18,12,18,14],[19,12,19,14],[60,21,60,22],[60,6,60,10],[70,12,70,14],[71,12,71,14],[72,12,72,14],[73,12,73,14],[74,12,74,14],[75,12,75,14],[66,12,66,14],[66,15,66,17],[67,12,67,14],[68,12,68,14],[69,12,69,14],[100,12,100,14],[101,12,101,14],[111,12,111,14],[80,12,80,14],[81,12,81,14],[82,12,82,14],[83,12,83,14],[90,12,90,14],[95,12,95,14],[59,1,59,4],[5,0,8,1],[5,2,7,4],[3,6,3,10],[24,0,24,1],[37,0,37,1],[19,0,19,1],[43,0,43,1],[49,0,49,1],[54,0,54,1],[53,0,53,1],[68,0,68,1],[5,19,8,19],[5,20,7,22],[9,0,9,1],[5,8,7,10],[5,18,8,18],[8,15,8,17],[9,12,9,14],[9,15,9,17],[8,12,8,14],[6,16,7,16],[5,11,5,12],[5,5,5,7],[6,5,7,7],[3,21,3,22],[60,1,60,4],[20,0,20,1],[21,0,21,1],[25,0,25,1],[26,0,26,1],[36,0,36,1],[27,0,27,1],[28,0,28,1],[39,0,39,1],[40,0,40,1],[55,0,55,1],[48,0,48,1],[47,0,47,1],[46,0,46,1],[41,0,41,1],[106,0,106,1],[107,0,107,1],[108,0,108,1],[110,0,110,1],[50,0,50,1],[104,0,104,1],[105,0,105,1],[111,0,111,1],[112,0,112,1],[57,0,58,2],[51,0,51,1],[69,0,69,1],[62,0,65,1],[83,0,83,1],[84,0,84,1],[85,0,85,1],[94,0,94,1],[95,0,95,1],[0,0,1,2],[3,1,3,4],[32,0,32,1],[33,0,33,1],[56,0,56,1],[35,0,35,1],[29,0,29,1],[2,1,2,4],[99,0,99,1],[100,0,100,1],[101,0,101,1],[112,15,112,17],[112,12,112,14],[102,0,102,1],[113,0,113,1],[103,0,103,1],[111,15,111,17],[110,12,110,14],[106,12,106,14],[107,12,107,14],[108,12,108,14],[103,12,103,14],[104,12,104,14],[105,12,105,14],[110,15,110,17],[76,0,76,1],[77,0,77,1],[62,8,64,10],[63,5,64,7],[62,18,65,18],[62,19,65,19],[62,20,64,22],[65,12,65,14],[65,15,65,17],[63,11,64,12],[63,14,64,14],[63,16,64,16],[62,11,62,12],[62,5,62,7],[62,2,64,4],[76,12,76,14],[77,12,77,14],[82,0,82,1],[67,0,67,1],[18,0,18,1],[23,0,23,1],[44,0,44,1],[45,0,45,1],[42,0,42,1],[22,0,22,1],[30,0,30,1],[31,0,31,1],[34,0,34,1],[38,0,38,1],[70,0,70,1],[71,0,71,1],[72,0,72,1],[73,0,73,1],[66,0,66,1],[78,0,78,1],[79,0,79,1],[80,0,80,1],[81,0,81,1],[74,0,74,1],[75,0,75,1],[14,0,14,1],[15,0,15,1],[16,0,16,1],[17,0,17,1],[10,0,10,1],[11,0,11,1],[12,0,12,1],[13,0,13,1],[96,0,96,1],[97,0,97,1],[98,0,98,1],[90,0,90,1],[91,0,91,1],[92,0,92,1],[93,0,93,1],[86,0,86,1],[87,0,87,1],[88,0,88,1],[89,0,89,1],[58,5,59,11],[1,5,2,11]]}
["第14号の4様式",null,null,null,null,null,null,null,null,null,null,null,null,null,null,null,null,null,null,null,null,{"$f":"IF(P_14号4様式!A2=\"\",\" ページ\", P_14号4様式!A2 & \"ページ\")","v":"1ページ"}]
[null,null,null,null,null,{"$f":"IF(P_14号4様式!BM2=\"\",\"投 票 速 報（国 内）\",\"投 票 速 報（国 内） (確定)\")","v":"投 票 速 報（国 内）"},null,null,null,null,null,null,null,"中間報告",null,null,{"$f":"IF(P_14号4様式!BR2=\"\",\"第　　　回\",\"第 　\" & P_14号4様式!BR2 & \"　回\")","v":"第 　2　回"},null,null,null,{"$f":"IF(P_14号4様式!BS2=\"\",\"        時     　 分　現在\",P_14号4様式!BS2)","v":"11:00:00"}]
[null,{"$f":"IF(パラメタシート!B1=\"\",\"\",パラメタシート!B1)","v":"2019-07-21"},null,null,null,null,null,null,null,null,null,null,null,"結了報告",null,null,null,null,null,null,{"$f":"IF(P_14号4様式!BM2=\"\",\"        時     　 分　結了\",P_14号4様式!BM2)","v":"        時     　 分　結了"}]
[null,{"$f":"IF(P_14号4様式!BQ2=\"\",\"\",P_14号4様式!BQ2)","v":"参議院選挙区選出議員選挙"},null,null,null,null,"（ 建 制 順 ）",null,null,null,null,null,null,null,null,null,null,null,null,null,null,"鹿 児 島 県"]
[]
["市区町村名",null,"当 日 有 権 者 数（ｅ'）\n（ 当日有権者見込（ｅ））",null,null,{"$f":"IF(P_14号4様式!BS2=\"\",\"（ｆ)\",\"（ｱ)\")","v":"（ｱ)"},null,null,"（ｇ)\n棄　権　者　数",null,null,{"$f":"IF(P_14号4様式!BS2=\"\",\"\",\"当日投票者\")","v":"当日投票者"},null,"（ｈ)",null,null,null,null,"投\n票\n率\n順\n位","投票\n結了\n時刻","前回選挙の投票率"]
[null,null,null,null,null,{"$f":"IF(P_14号4様式!BS2=\"\",\"投 票 者 数\",\"当 日 投 票 者 数\")","v":"当 日 投 票 者 数"},null,null,null,null,null,"投 票 率 =",null,{"$f":"IF(P_14号4様式!BS2=\"\",\"（ｆ)\",\"（ｱ)\")","v":"（ｱ)"},"(",{"$f":"IF(P_14号4様式!BS2=\"\",\"（ｆ)\",\"（ｱ)\")","v":"（ｱ)"},")"]
[null,null,null,null,null,null,null,null,null,null,null,null,null,"（ｅ'）",null,"（ｅ ）"]
[null,null,"男","女","計","男","女","計","男","女","計","男","女",null,null,"計",null,null,null,null,"男","女","計"]
[{"$f":"IF(P_14号4様式!C2=\"\",\"\",P_14号4様式!C2)","v":"　 鹿児島市"},null,{"$f":"IF(P_14号4様式!D2=\"\",\"\",P_14号4様式!D2)","v":229194},{"$f":"IF(P_14号4様式!E2=\"\",\"\",P_14号4様式!E2)","v":272963},{"$f":"IF(P_14号4様式!F2=\"\",\"\",P_14号4様式!F2)","v":502157},{"$f":"IF(P_14号4様式!G2=\"\",\"\",P_14号4様式!G2)","v":17280},{"$f":"IF(P_14号4様式!H2=\"\",\"\",P_14号4様式!H2)","v":16064},{"$f":"IF(P_14号4様式!I2=\"\",\"\",P_14号4様式!I2)","v":33344},{"$f":"IF(P_14号4様式!J2=\"\",\"\",P_14号4様式!J2)","v":""},{"$f":"IF(P_14号4様式!K2=\"\",\"\",P_14号4様式!K2)","v":""},{"$f":"IF(P_14号4様式!L2=\"\",\"\",P_14号4様式!L2)","v":""},{"$f":"IF(P_14号4様式!M2=\"\",\"\",P_14号4様式!M2)","v":7.5394643838844004},{"$f":"IF(P_14号4様式!N2=\"\",\"\",P_14号4様式!N2)","v":5.8850466913098103},null,null,{"$f":"IF(P_14号4様式!O2=\"\",\"\",P_14号4様式!O2)","v":6.6401543740304296},null,null,{"$f":"IF(P_14号4様式!P2=\"\",\"\",P_14号4様式!P2)","v":""},{"$f":"IF(P_14号4様式!Q2=\"\",\"\",P_14号4様式!Q2)","v":""},{"$f":"IF(P_14号4様式!R2=\"\",\"\",P_14号4様式!R2)","v":14.015449070437301},{"$f":"IF(P_14号4様式!S2=\"\",\"\",P_14号4様式!S2)","v":11.8299621543794},{"$f":"IF(P_14号4様式!T2=\"\",\"\",P_14号4様式!T2)","v":12.8273559972196}]
[{"$f":"IF(P_14号4様式!C3=\"\",\"\",P_14号4様式!C3)","v":"　 鹿屋市"},null,{"$f":"IF(P_14号4様式!D3=\"\",\"\",P_14号4様式!D3)","v":40055},{"$f":"IF(P_14号4様式!E3=\"\",\"\",P_14号4様式!E3)","v":44650},{"$f":"IF(P_14号4様式!F3=\"\",\"\",P_14号4様式!F3)","v":84705},{"$f":"IF(P_14号4様式!G3=\"\",\"\",P_14号4様式!G3)","v":4585},{"$f":"IF(P_14号4様式!H3=\"\",\"\",P_14号4様式!H3)","v":4180},{"$f":"IF(P_14号4様式!I3=\"\",\"\",P_14号4様式!I3)","v":8765},{"$f":"IF(P_14号4様式!J3=\"\",\"\",P_14号4様式!J3)","v":""},{"$f":"IF(P_14号4様式!K3=\"\",\"\",P_14号4様式!K3)","v":""},{"$f":"IF(P_14号4様式!L3=\"\",\"\",P_14号4様式!L3)","v":""},{"$f":"IF(P_14号4様式!M3=\"\",\"\",P_14号4様式!M3)","v":11.446760704032},{"$f":"IF(P_14号4様式!N3=\"\",\"\",P_14号4様式!N3)","v":9.3617021276595693},null,null,{"$f":"IF(P_14号4様式!O3=\"\",\"\",P_14号4様式!O3)","v":10.347677232749},null,null,{"$f":"IF(P_14号4様式!P3=\"\",\"\",P_14号4様式!P3)","v":""},{"$f":"IF(P_14号4様式!Q3=\"\",\"\",P_14号4様式!Q3)","v":""},{"$f":"IF(P_14号4様式!R3=\"\",\"\",P_14号4様式!R3)","v":14.8603184887981},{"$f":"IF(P_14号4様式!S3=\"\",\"\",P_14号4様式!S3)","v":12.7421247205189},{"$f":"IF(P_14号4様式!T3=\"\",\"\",P_14号4様式!T3)","v":13.738569753810101}]
[{"$f":"IF(P_14号4様式!C4=\"\",\"\",P_14号4様式!C4)","v":"　 枕崎市"},null,{"$f":"IF(P_14号4様式!D4=\"\",\"\",P_14号4様式!D4)","v":8288},{"$f":"IF(P_14号4様式!E4=\"\",\"\",P_14号4様式!E4)","v":9837},{"$f":"IF(P_14号4様式!F4=\"\",\"\",P_14号4様式!F4)","v":18125},{"$f":"IF(P_14号4様式!G4=\"\",\"\",P_14号4様式!G4)","v":944},{"$f":"IF(P_14号4様式!H4=\"\",\"\",P_14号4様式!H4)","v":970},{"$f":"IF(P_14号4様式!I4=\"\",\"\",P_14号4様式!I4)","v":1914},{"$f":"IF(P_14号4様式!J4=\"\",\"\",P_14号4様式!J4)","v":""},{"$f":"IF(P_14号4様式!K4=\"\",\"\",P_14号4様式!K4)","v":""},{"$f":"IF(P_14号4様式!L4=\"\",\"\",P_14号4様式!L4)","v":""},{"$f":"IF(P_14号4様式!M4=\"\",\"\",P_14号4様式!M4)","v":11.3899613899614},{"$f":"IF(P_14号4様式!N4=\"\",\"\",P_14号4様式!N4)","v":9.8607298973264204},null,null,{"$f":"IF(P_14号4様式!O4=\"\",\"\",P_14号4様式!O4)","v":10.56},null,null,{"$f":"IF(P_14号4様式!P4=\"\",\"\",P_14号4様式!P4)","v":""},{"$f":"IF(P_14号4様式!Q4=\"\",\"\",P_14号4様式!Q4)","v":""},{"$f":"IF(P_14号4様式!R4=\"\",\"\",P_14号4様式!R4)","v":22.015485958627099},{"$f":"IF(P_14号4様式!S4=\"\",\"\",P_14号4様式!S4)","v":19.707680550248401},{"$f":"IF(P_14号4様式!T4=\"\",\"\",P_14号4様式!T4)","v":20.7520527169081}]
[{"$f":"IF(P_14号4様式!C5=\"\",\"\",P_14号4様式!C5)","v":"　 阿久根市"},null,{"$f":"IF(P_14号4様式!D5=\"\",\"\",P_14号4様式!D5)","v":8279},{"$f":"IF(P_14号4様式!E5=\"\",\"\",P_14号4様式!E5)","v":9476},{"$f":"IF(P_14号4様式!F5=\"\",\"\",P_14号4様式!F5)","v":17755},{"$f":"IF(P_14号4様式!G5=\"\",\"\",P_14号4様式!G5)","v":1305},{"$f":"IF(P_14号4様式!H5=\"\",\"\",P_14号4様式!H5)","v":1248},{"$f":"IF(P_14号4様式!I5=\"\",\"\",P_14号4様式!I5)","v":2553},{"$f":"IF(P_14号4様式!J5=\"\",\"\",P_14号4様式!J5)","v":""},{"$f":"IF(P_14号4様式!K5=\"\",\"\",P_14号4様式!K5)","v":""},{"$f":"IF(P_14号4様式!L5=\"\",\"\",P_14号4様式!L5)","v":""},{"$f":"IF(P_14号4様式!M5=\"\",\"\",P_14号4様式!M5)","v":15.762773281797299},{"$f":"IF(P_14号4様式!N5=\"\",\"\",P_14号4様式!N5)","v":13.170113972140101},null,null,{"$f":"IF(P_14号4様式!O5=\"\",\"\",P_14号4様式!O5)","v":14.379048155449199},null,null,{"$f":"IF(P_14号4様式!P5=\"\",\"\",P_14号4様式!P5)","v":""},{"$f":"IF(P_14号4様式!Q5=\"\",\"\",P_14号4様式!Q5)","v":""},{"$f":"IF(P_14号4様式!R5=\"\",\"\",P_14号4様式!R5)","v":23.465164405610501},{"$f":"IF(P_14号4様式!S5=\"\",\"\",P_14号4様式!S5)","v":21.5327029156816},{"$f":"IF(P_14号4様式!T5=\"\",\"\",P_14号4様式!T5)","v":22.424403183023902}]
[{"$f":"IF(P_14号4様式!C6=\"\",\"\",P_14号4様式!C6)","v":"　 出水市"},null,{"$f":"IF(P_14号4様式!D6=\"\",\"\",P_14号4様式!D6)","v":20599},{"$f":"IF(P_14号4様式!E6=\"\",\"\",P_14号4様式!E6)","v":23590},{"$f":"IF(P_14号4様式!F6=\"\",\"\",P_14号4様式!F6)","v":44189},{"$f":"IF(P_14号4様式!G6=\"\",\"\",P_14号4様式!G6)","v":2603},{"$f":"IF(P_14号4様式!H6=\"\",\"\",P_14号4様式!H6)","v":2403},{"$f":"IF(P_14号4様式!I6=\"\",\"\",P_14号4様式!I6)","v":5006},{"$f":"IF(P_14号4様式!J6=\"\",\"\",P_14号4様式!J6)","v":""},{"$f":"IF(P_14号4様式!K6=\"\",\"\",P_14号4様式!K6)","v":""},{"$f":"IF(P_14号4様式!L6=\"\",\"\",P_14号4様式!L6)","v":""},{"$f":"IF(P_14号4様式!M6=\"\",\"\",P_14号4様式!M6)","v":12.6365357541628},{"$f":"IF(P_14号4様式!N6=\"\",\"\",P_14号4様式!N6)","v":10.186519711742299},null,null,{"$f":"IF(P_14号4様式!O6=\"\",\"\",P_14号4様式!O6)","v":11.328611192830801},null,null,{"$f":"IF(P_14号4様式!P6=\"\",\"\",P_14号4様式!P6)","v":""},{"$f":"IF(P_14号4様式!Q6=\"\",\"\",P_14号4様式!Q6)","v":""},{"$f":"IF(P_14号4様式!R6=\"\",\"\",P_14号4様式!R6)","v":20.174893678023601},{"$f":"IF(P_14号4様式!S6=\"\",\"\",P_14号4様式!S6)","v":17.583096503150902},{"$f":"IF(P_14号4様式!T6=\"\",\"\",P_14号4様式!T6)","v":18.782904924125098}]
[{"$f":"IF(P_14号4様式!C7=\"\",\"\",P_14号4様式!C7)","v":"　 指宿市"},null,{"$f":"IF(P_14号4様式!D7=\"\",\"\",P_14号4様式!D7)","v":15889},{"$f":"IF(P_14号4様式!E7=\"\",\"\",P_14号4様式!E7)","v":18816},{"$f":"IF(P_14号4様式!F7=\"\",\"\",P_14号4様式!F7)","v":34705},{"$f":"IF(P_14号4様式!G7=\"\",\"\",P_14号4様式!G7)","v":2099},{"$f":"IF(P_14号4様式!H7=\"\",\"\",P_14号4様式!H7)","v":2004},{"$f":"IF(P_14号4様式!I7=\"\",\"\",P_14号4様式!I7)","v":4103},{"$f":"IF(P_14号4様式!J7=\"\",\"\",P_14号4様式!J7)","v":""},{"$f":"IF(P_14号4様式!K7=\"\",\"\",P_14号4様式!K7)","v":""},{"$f":"IF(P_14号4様式!L7=\"\",\"\",P_14号4様式!L7)","v":""},{"$f":"IF(P_14号4様式!M7=\"\",\"\",P_14号4様式!M7)","v":13.21039713009},{"$f":"IF(P_14号4様式!N7=\"\",\"\",P_14号4様式!N7)","v":10.6505102040816},null,null,{"$f":"IF(P_14号4様式!O7=\"\",\"\",P_14号4様式!O7)","v":11.822503961965101},null,null,{"$f":"IF(P_14号4様式!P7=\"\",\"\",P_14号4様式!P7)","v":""},{"$f":"IF(P_14号4様式!Q7=\"\",\"\",P_14号4様式!Q7)","v":""},{"$f":"IF(P_14号4様式!R7=\"\",\"\",P_14号4様式!R7)","v":18.5902495294761},{"$f":"IF(P_14号4様式!S7=\"\",\"\",P_14号4様式!S7)","v":16.3150134729778},{"$f":"IF(P_14号4様式!T7=\"\",\"\",P_14号4様式!T7)","v":17.3519645821804}]
[{"$f":"IF(P_14号4様式!C8=\"\",\"\",P_14号4様式!C8)","v":"　 西之表市"},null,{"$f":"IF(P_14号4様式!D8=\"\",\"\",P_14号4様式!D8)","v":6197},{"$f":"IF(P_14号4様式!E8=\"\",\"\",P_14号4様式!E8)","v":6899},{"$f":"IF(P_14号4様式!F8=\"\",\"\",P_14号4様式!F8)","v":13096},{"$f":"IF(P_14号4様式!G8=\"\",\"\",P_14号4様式!G8)","v":1238},{"$f":"IF(P_14号4様式!H8=\"\",\"\",P_14号4様式!H8)","v":1167},{"$f":"IF(P_14号4様式!I8=\"\",\"\",P_14号4様式!I8)","v":2405},{"$f":"IF(P_14号4様式!J8=\"\",\"\",P_14号4様式!J8)","v":""},{"$f":"IF(P_14号4様式!K8=\"\",\"\",P_14号4様式!K8)","v":""},{"$f":"IF(P_14号4様式!L8=\"\",\"\",P_14号4様式!L8)","v":""},{"$f":"IF(P_14号4様式!M8=\"\",\"\",P_14号4様式!M8)","v":19.977408423430699},{"$f":"IF(P_14号4様式!N8=\"\",\"\",P_14号4様式!N8)","v":16.9154949992753},null,null,{"$f":"IF(P_14号4様式!O8=\"\",\"\",P_14号4様式!O8)","v":18.3643860720831},null,null,{"$f":"IF(P_14号4様式!P8=\"\",\"\",P_14号4様式!P8)","v":""},{"$f":"IF(P_14号4様式!Q8=\"\",\"\",P_14号4様式!Q8)","v":""},{"$f":"IF(P_14号4様式!R8=\"\",\"\",P_14号4様式!R8)","v":23.917197452229299},{"$f":"IF(P_14号4様式!S8=\"\",\"\",P_14号4様式!S8)","v":21.965156794425098},{"$f":"IF(P_14号4様式!T8=\"\",\"\",P_14号4様式!T8)","v":22.876254180602}]
[{"$f":"IF(P_14号4様式!C9=\"\",\"\",P_14号4様式!C9)","v":"　 垂水市"},null,{"$f":"IF(P_14号4様式!D9=\"\",\"\",P_14号4様式!D9)","v":6024},{"$f":"IF(P_14号4様式!E9=\"\",\"\",P_14号4様式!E9)","v":6884},{"$f":"IF(P_14号4様式!F9=\"\",\"\",P_14号4様式!F9)","v":12908},{"$f":"IF(P_14号4様式!G9=\"\",\"\",P_14号4様式!G9)","v":638},{"$f":"IF(P_14号4様式!H9=\"\",\"\",P_14号4様式!H9)","v":596},{"$f":"IF(P_14号4様式!I9=\"\",\"\",P_14号4様式!I9)","v":1234},{"$f":"IF(P_14号4様式!J9=\"\",\"\",P_14号4様式!J9)","v":""},{"$f":"IF(P_14号4様式!K9=\"\",\"\",P_14号4様式!K9)","v":""},{"$f":"IF(P_14号4様式!L9=\"\",\"\",P_14号4様式!L9)","v":""},{"$f":"IF(P_14号4様式!M9=\"\",\"\",P_14号4様式!M9)","v":10.590969455511299},{"$f":"IF(P_14号4様式!N9=\"\",\"\",P_14号4様式!N9)","v":8.6577571179546808},null,null,{"$f":"IF(P_14号4様式!O9=\"\",\"\",P_14号4様式!O9)","v":9.5599628137589097},null,null,{"$f":"IF(P_14号4様式!P9=\"\",\"\",P_14号4様式!P9)","v":""},{"$f":"IF(P_14号4様式!Q9=\"\",\"\",P_14号4様式!Q9)","v":""},{"$f":"IF(P_14号4様式!R9=\"\",\"\",P_14号4様式!R9)","v":15.2908067542214},{"$f":"IF(P_14号4様式!S9=\"\",\"\",P_14号4様式!S9)","v":13.0148933315443},{"$f":"IF(P_14号4様式!T9=\"\",\"\",P_14号4様式!T9)","v":14.0659975449491}]
[{"$f":"IF(P_14号4様式!C10=\"\",\"\",P_14号4様式!C10)","v":"　 薩摩川内市第１"},null,{"$f":"IF(P_14号4様式!D10=\"\",\"\",P_14号4様式!D10)","v":35607},{"$f":"IF(P_14号4様式!E10=\"\",\"\",P_14号4様式!E10)","v":39491},{"$f":"IF(P_14号4様式!F10=\"\",\"\",P_14号4様式!F10)","v":75098},{"$f":"IF(P_14号4様式!G10=\"\",\"\",P_14号4様式!G10)","v":3790},{"$f":"IF(P_14号4様式!H10=\"\",\"\",P_14号4様式!H10)","v":3407},{"$f":"IF(P_14号4様式!I10=\"\",\"\",P_14号4様式!I10)","v":7197},{"$f":"IF(P_14号4様式!J10=\"\",\"\",P_14号4様式!J10)","v":""},{"$f":"IF(P_14号4様式!K10=\"\",\"\",P_14号4様式!K10)","v":""},{"$f":"IF(P_14号4様式!L10=\"\",\"\",P_14号4様式!L10)","v":""},{"$f":"IF(P_14号4様式!M10=\"\",\"\",P_14号4様式!M10)","v":10.643974499396201},{"$f":"IF(P_14号4様式!N10=\"\",\"\",P_14号4様式!N10)","v":8.6272821655567107},null,null,{"$f":"IF(P_14号4様式!O10=\"\",\"\",P_14号4様式!O10)","v":9.5834775892833406},null,null,{"$f":"IF(P_14号4様式!P10=\"\",\"\",P_14号4様式!P10)","v":""},{"$f":"IF(P_14号4様式!Q10=\"\",\"\",P_14号4様式!Q10)","v":""},{"$f":"IF(P_14号4様式!R10=\"\",\"\",P_14号4様式!R10)","v":21.361417213000401},{"$f":"IF(P_14号4様式!S10=\"\",\"\",P_14号4様式!S10)","v":19.4438922572309},{"$f":"IF(P_14号4様式!T10=\"\",\"\",P_14号4様式!T10)","v":20.347224960243899}]
[{"$f":"IF(P_14号4様式!C11=\"\",\"\",P_14号4様式!C11)","v":"　 薩摩川内市第２"},null,{"$f":"IF(P_14号4様式!D11=\"\",\"\",P_14号4様式!D11)","v":990},{"$f":"IF(P_14号4様式!E11=\"\",\"\",P_14号4様式!E11)","v":1034},{"$f":"IF(P_14号4様式!F11=\"\",\"\",P_14号4様式!F11)","v":2024},{"$f":"IF(P_14号4様式!G11=\"\",\"\",P_14号4様式!G11)","v":273},{"$f":"IF(P_14号4様式!H11=\"\",\"\",P_14号4様式!H11)","v":277},{"$f":"IF(P_14号4様式!I11=\"\",\"\",P_14号4様式!I11)","v":550},{"$f":"IF(P_14号4様式!J11=\"\",\"\",P_14号4様式!J11)","v":""},{"$f":"IF(P_14号4様式!K11=\"\",\"\",P_14号4様式!K11)","v":""},{"$f":"IF(P_14号4様式!L11=\"\",\"\",P_14号4様式!L11)","v":""},{"$f":"IF(P_14号4様式!M11=\"\",\"\",P_14号4様式!M11)","v":27.575757575757599},{"$f":"IF(P_14号4様式!N11=\"\",\"\",P_14号4様式!N11)","v":26.789168278529999},null,null,{"$f":"IF(P_14号4様式!O11=\"\",\"\",P_14号4様式!O11)","v":27.173913043478301},null,null,{"$f":"IF(P_14号4様式!P11=\"\",\"\",P_14号4様式!P11)","v":""},{"$f":"IF(P_14号4様式!Q11=\"\",\"\",P_14号4様式!Q11)","v":""},{"$f":"IF(P_14号4様式!R11=\"\",\"\",P_14号4様式!R11)","v":37.166513339466398},{"$f":"IF(P_14号4様式!S11=\"\",\"\",P_14号4様式!S11)","v":33.887915936952702},{"$f":"IF(P_14号4様式!T11=\"\",\"\",P_14号4様式!T11)","v":35.486765365634803}]
[{"$f":"IF(P_14号4様式!C12=\"\",\"\",P_14号4様式!C12)","v":"　 薩摩川内市第３"},null,{"$f":"IF(P_14号4様式!D12=\"\",\"\",P_14号4様式!D12)","v":986},{"$f":"IF(P_14号4様式!E12=\"\",\"\",P_14号4様式!E12)","v":925},{"$f":"IF(P_14号4様式!F12=\"\",\"\",P_14号4様式!F12)","v":1911},{"$f":"IF(P_14号4様式!G12=\"\",\"\",P_14号4様式!G12)","v":217},{"$f":"IF(P_14号4様式!H12=\"\",\"\",P_14号4様式!H12)","v":184},{"$f":"IF(P_14号4様式!I12=\"\",\"\",P_14号4様式!I12)","v":401},{"$f":"IF(P_14号4様式!J12=\"\",\"\",P_14号4様式!J12)","v":""},{"$f":"IF(P_14号4様式!K12=\"\",\"\",P_14号4様式!K12)","v":""},{"$f":"IF(P_14号4様式!L12=\"\",\"\",P_14号4様式!L12)","v":""},{"$f":"IF(P_14号4様式!M12=\"\",\"\",P_14号4様式!M12)","v":22.008113590263701},{"$f":"IF(P_14号4様式!N12=\"\",\"\",P_14号4様式!N12)","v":19.891891891891898},null,null,{"$f":"IF(P_14号4様式!O12=\"\",\"\",P_14号4様式!O12)","v":20.983778126635301},null,null,{"$f":"IF(P_14号4様式!P12=\"\",\"\",P_14号4様式!P12)","v":""},{"$f":"IF(P_14号4様式!Q12=\"\",\"\",P_14号4様式!Q12)","v":""},{"$f":"IF(P_14号4様式!R12=\"\",\"\",P_14号4様式!R12)","v":26.5834932821497},{"$f":"IF(P_14号4様式!S12=\"\",\"\",P_14号4様式!S12)","v":30.651340996168599},{"$f":"IF(P_14号4様式!T12=\"\",\"\",P_14号4様式!T12)","v":28.619367209971202}]
[{"$f":"IF(P_14号4様式!C13=\"\",\"\",P_14号4様式!C13)","v":"＊（薩摩川内市）計"},null,{"$f":"IF(P_14号4様式!D13=\"\",\"\",P_14号4様式!D13)","v":37583},{"$f":"IF(P_14号4様式!E13=\"\",\"\",P_14号4様式!E13)","v":41450},{"$f":"IF(P_14号4様式!F13=\"\",\"\",P_14号4様式!F13)","v":79033},{"$f":"IF(P_14号4様式!G13=\"\",\"\",P_14号4様式!G13)","v":4280},{"$f":"IF(P_14号4様式!H13=\"\",\"\",P_14号4様式!H13)","v":3868},{"$f":"IF(P_14号4様式!I13=\"\",\"\",P_14号4様式!I13)","v":8148},{"$f":"IF(P_14号4様式!J13=\"\",\"\",P_14号4様式!J13)","v":""},{"$f":"IF(P_14号4様式!K13=\"\",\"\",P_14号4様式!K13)","v":""},{"$f":"IF(P_14号4様式!L13=\"\",\"\",P_14号4様式!L13)","v":""},{"$f":"IF(P_14号4様式!M13=\"\",\"\",P_14号4様式!M13)","v":11.388127610887899},{"$f":"IF(P_14号4様式!N13=\"\",\"\",P_14号4様式!N13)","v":9.3317249698431795},null,null,{"$f":"IF(P_14号4様式!O13=\"\",\"\",P_14号4様式!O13)","v":10.309617501549999},null,null,{"$f":"IF(P_14号4様式!P13=\"\",\"\",P_14号4様式!P13)","v":""},{"$f":"IF(P_14号4様式!Q13=\"\",\"\",P_14号4様式!Q13)","v":""},{"$f":"IF(P_14号4様式!R13=\"\",\"\",P_14号4様式!R13)","v":21.957128561647401},{"$f":"IF(P_14号4様式!S13=\"\",\"\",P_14号4様式!S13)","v":20.108413858119299},{"$f":"IF(P_14号4様式!T13=\"\",\"\",P_14号4様式!T13)","v":20.9815432068056}]
[{"$f":"IF(P_14号4様式!C14=\"\",\"\",P_14号4様式!C14)","v":"　 日置市"},null,{"$f":"IF(P_14号4様式!D14=\"\",\"\",P_14号4様式!D14)","v":18815},{"$f":"IF(P_14号4様式!E14=\"\",\"\",P_14号4様式!E14)","v":21758},{"$f":"IF(P_14号4様式!F14=\"\",\"\",P_14号4様式!F14)","v":40573},{"$f":"IF(P_14号4様式!G14=\"\",\"\",P_14号4様式!G14)","v":2327},{"$f":"IF(P_14号4様式!H14=\"\",\"\",P_14号4様式!H14)","v":2216},{"$f":"IF(P_14号4様式!I14=\"\",\"\",P_14号4様式!I14)","v":4543},{"$f":"IF(P_14号4様式!J14=\"\",\"\",P_14号4様式!J14)","v":""},{"$f":"IF(P_14号4様式!K14=\"\",\"\",P_14号4様式!K14)","v":""},{"$f":"IF(P_14号4様式!L14=\"\",\"\",P_14号4様式!L14)","v":""},{"$f":"IF(P_14号4様式!M14=\"\",\"\",P_14号4様式!M14)","v":12.3677916555939},{"$f":"IF(P_14号4様式!N14=\"\",\"\",P_14号4様式!N14)","v":10.184759628642301},null,null,{"$f":"IF(P_14号4様式!O14=\"\",\"\",P_14号4様式!O14)","v":11.1971015207157},null,null,{"$f":"IF(P_14号4様式!P14=\"\",\"\",P_14号4様式!P14)","v":""},{"$f":"IF(P_14号4様式!Q14=\"\",\"\",P_14号4様式!Q14)","v":""},{"$f":"IF(P_14号4様式!R14=\"\",\"\",P_14号4様式!R14)","v":21.637032813228998},{"$f":"IF(P_14号4様式!S14=\"\",\"\",P_14号4様式!S14)","v":18.673306064378401},{"$f":"IF(P_14号4様式!T14=\"\",\"\",P_14号4様式!T14)","v":20.0416437307039}]
[{"$f":"IF(P_14号4様式!C15=\"\",\"\",P_14号4様式!C15)","v":"　 曽於市"},null,{"$f":"IF(P_14号4様式!D15=\"\",\"\",P_14号4様式!D15)","v":14461},{"$f":"IF(P_14号4様式!E15=\"\",\"\",P_14号4様式!E15)","v":16545},{"$f":"IF(P_14号4様式!F15=\"\",\"\",P_14号4様式!F15)","v":31006},{"$f":"IF(P_14号4様式!G15=\"\",\"\",P_14号4様式!G15)","v":1898},{"$f":"IF(P_14号4様式!H15=\"\",\"\",P_14号4様式!H15)","v":1680},{"$f":"IF(P_14号4様式!I15=\"\",\"\",P_14号4様式!I15)","v":3578},{"$f":"IF(P_14号4様式!J15=\"\",\"\",P_14号4様式!J15)","v":""},{"$f":"IF(P_14号4様式!K15=\"\",\"\",P_14号4様式!K15)","v":""},{"$f":"IF(P_14号4様式!L15=\"\",\"\",P_14号4様式!L15)","v":""},{"$f":"IF(P_14号4様式!M15=\"\",\"\",P_14号4様式!M15)","v":13.124956780305601},{"$f":"IF(P_14号4様式!N15=\"\",\"\",P_14号4様式!N15)","v":10.1541251133273},null,null,{"$f":"IF(P_14号4様式!O15=\"\",\"\",P_14号4様式!O15)","v":11.5397019931626},null,null,{"$f":"IF(P_14号4様式!P15=\"\",\"\",P_14号4様式!P15)","v":""},{"$f":"IF(P_14号4様式!Q15=\"\",\"\",P_14号4様式!Q15)","v":""},{"$f":"IF(P_14号4様式!R15=\"\",\"\",P_14号4様式!R15)","v":16.426040162751001},{"$f":"IF(P_14号4様式!S15=\"\",\"\",P_14号4様式!S15)","v":13.1752751905165},{"$f":"IF(P_14号4様式!T15=\"\",\"\",P_14号4様式!T15)","v":14.6784814736139}]
[{"$f":"IF(P_14号4様式!C16=\"\",\"\",P_14号4様式!C16)","v":"　 霧島市"},null,{"$f":"IF(P_14号4様式!D16=\"\",\"\",P_14号4様式!D16)","v":49434},{"$f":"IF(P_14号4様式!E16=\"\",\"\",P_14号4様式!E16)","v":54283},{"$f":"IF(P_14号4様式!F16=\"\",\"\",P_14号4様式!F16)","v":103717},{"$f":"IF(P_14号4様式!G16=\"\",\"\",P_14号4様式!G16)","v":5859},{"$f":"IF(P_14号4様式!H16=\"\",\"\",P_14号4様式!H16)","v":5364},{"$f":"IF(P_14号4様式!I16=\"\",\"\",P_14号4様式!I16)","v":11223},{"$f":"IF(P_14号4様式!J16=\"\",\"\",P_14号4様式!J16)","v":""},{"$f":"IF(P_14号4様式!K16=\"\",\"\",P_14号4様式!K16)","v":""},{"$f":"IF(P_14号4様式!L16=\"\",\"\",P_14号4様式!L16)","v":""},{"$f":"IF(P_14号4様式!M16=\"\",\"\",P_14号4様式!M16)","v":11.8521665250637},{"$f":"IF(P_14号4様式!N16=\"\",\"\",P_14号4様式!N16)","v":9.8815467089143905},null,null,{"$f":"IF(P_14号4様式!O16=\"\",\"\",P_14号4様式!O16)","v":10.8207911914151},null,null,{"$f":"IF(P_14号4様式!P16=\"\",\"\",P_14号4様式!P16)","v":""},{"$f":"IF(P_14号4様式!Q16=\"\",\"\",P_14号4様式!Q16)","v":""},{"$f":"IF(P_14号4様式!R16=\"\",\"\",P_14号4様式!R16)","v":16.745577896657},{"$f":"IF(P_14号4様式!S16=\"\",\"\",P_14号4様式!S16)","v":14.6715328467153},{"$f":"IF(P_14号4様式!T16=\"\",\"\",P_14号4様式!T16)","v":15.6483796542104}]
[{"$f":"IF(P_14号4様式!C17=\"\",\"\",P_14号4様式!C17)","v":"　 いちき串木野市"},null,{"$f":"IF(P_14号4様式!D17=\"\",\"\",P_14号4様式!D17)","v":11079},{"$f":"IF(P_14号4様式!E17=\"\",\"\",P_14号4様式!E17)","v":12769},{"$f":"IF(P_14号4様式!F17=\"\",\"\",P_14号4様式!F17)","v":23848},{"$f":"IF(P_14号4様式!G17=\"\",\"\",P_14号4様式!G17)","v":908},{"$f":"IF(P_14号4様式!H17=\"\",\"\",P_14号4様式!H17)","v":791},{"$f":"IF(P_14号4様式!I17=\"\",\"\",P_14号4様式!I17)","v":1699},{"$f":"IF(P_14号4様式!J17=\"\",\"\",P_14号4様式!J17)","v":""},{"$f":"IF(P_14号4様式!K17=\"\",\"\",P_14号4様式!K17)","v":""},{"$f":"IF(P_14号4様式!L17=\"\",\"\",P_14号4様式!L17)","v":""},{"$f":"IF(P_14号4様式!M17=\"\",\"\",P_14号4様式!M17)","v":8.1956855311851307},{"$f":"IF(P_14号4様式!N17=\"\",\"\",P_14号4様式!N17)","v":6.19469026548673},null,null,{"$f":"IF(P_14号4様式!O17=\"\",\"\",P_14号4様式!O17)","v":7.12428715196243},null,null,{"$f":"IF(P_14号4様式!P17=\"\",\"\",P_14号4様式!P17)","v":""},{"$f":"IF(P_14号4様式!Q17=\"\",\"\",P_14号4様式!Q17)","v":""},{"$f":"IF(P_14号4様式!R17=\"\",\"\",P_14号4様式!R17)","v":18.612565445026199},{"$f":"IF(P_14号4様式!S17=\"\",\"\",P_14号4様式!S17)","v":16.011425994136701},{"$f":"IF(P_14号4様式!T17=\"\",\"\",P_14号4様式!T17)","v":17.215200096918799}]
[{"$f":"IF(P_14号4様式!C18=\"\",\"\",P_14号4様式!C18)","v":"　 南さつま市"},null,{"$f":"IF(P_14号4様式!D18=\"\",\"\",P_14号4様式!D18)","v":13301},{"$f":"IF(P_14号4様式!E18=\"\",\"\",P_14号4様式!E18)","v":15816},{"$f":"IF(P_14号4様式!F18=\"\",\"\",P_14号4様式!F18)","v":29117},{"$f":"IF(P_14号4様式!G18=\"\",\"\",P_14号4様式!G18)","v":1800},{"$f":"IF(P_14号4様式!H18=\"\",\"\",P_14号4様式!H18)","v":1694},{"$f":"IF(P_14号4様式!I18=\"\",\"\",P_14号4様式!I18)","v":3494},{"$f":"IF(P_14号4様式!J18=\"\",\"\",P_14号4様式!J18)","v":""},{"$f":"IF(P_14号4様式!K18=\"\",\"\",P_14号4様式!K18)","v":""},{"$f":"IF(P_14号4様式!L18=\"\",\"\",P_14号4様式!L18)","v":""},{"$f":"IF(P_14号4様式!M18=\"\",\"\",P_14号4様式!M18)","v":13.532817081422399},{"$f":"IF(P_14号4様式!N18=\"\",\"\",P_14号4様式!N18)","v":10.7106727364694},null,null,{"$f":"IF(P_14号4様式!O18=\"\",\"\",P_14号4様式!O18)","v":11.9998626232098},null,null,{"$f":"IF(P_14号4様式!P18=\"\",\"\",P_14号4様式!P18)","v":""},{"$f":"IF(P_14号4様式!Q18=\"\",\"\",P_14号4様式!Q18)","v":""},{"$f":"IF(P_14号4様式!R18=\"\",\"\",P_14号4様式!R18)","v":22.634989200863899},{"$f":"IF(P_14号4様式!S18=\"\",\"\",P_14号4様式!S18)","v":20.135475362666298},{"$f":"IF(P_14号4様式!T18=\"\",\"\",P_14号4様式!T18)","v":21.271097736490901}]
[{"$f":"IF(P_14号4様式!C19=\"\",\"\",P_14号4様式!C19)","v":"　 志布志市"},null,{"$f":"IF(P_14号4様式!D19=\"\",\"\",P_14号4様式!D19)","v":12361},{"$f":"IF(P_14号4様式!E19=\"\",\"\",P_14号4様式!E19)","v":13789},{"$f":"IF(P_14号4様式!F19=\"\",\"\",P_14号4様式!F19)","v":26150},{"$f":"IF(P_14号4様式!G19=\"\",\"\",P_14号4様式!G19)","v":1550},{"$f":"IF(P_14号4様式!H19=\"\",\"\",P_14号4様式!H19)","v":1415},{"$f":"IF(P_14号4様式!I19=\"\",\"\",P_14号4様式!I19)","v":2965},{"$f":"IF(P_14号4様式!J19=\"\",\"\",P_14号4様式!J19)","v":""},{"$f":"IF(P_14号4様式!K19=\"\",\"\",P_14号4様式!K19)","v":""},{"$f":"IF(P_14号4様式!L19=\"\",\"\",P_14号4様式!L19)","v":""},{"$f":"IF(P_14号4様式!M19=\"\",\"\",P_14号4様式!M19)","v":12.539438556751101},{"$f":"IF(P_14号4様式!N19=\"\",\"\",P_14号4様式!N19)","v":10.2618028863587},null,null,{"$f":"IF(P_14号4様式!O19=\"\",\"\",P_14号4様式!O19)","v":11.3384321223709},null,null,{"$f":"IF(P_14号4様式!P19=\"\",\"\",P_14号4様式!P19)","v":""},{"$f":"IF(P_14号4様式!Q19=\"\",\"\",P_14号4様式!Q19)","v":""},{"$f":"IF(P_14号4様式!R19=\"\",\"\",P_14号4様式!R19)","v":17.094753328112802},{"$f":"IF(P_14号4様式!S19=\"\",\"\",P_14号4様式!S19)","v":14.134374128798401},{"$f":"IF(P_14号4様式!T19=\"\",\"\",P_14号4様式!T19)","v":15.528431300243399}]
[{"$f":"IF(P_14号4様式!C20=\"\",\"\",P_14号4様式!C20)","v":"　 奄美市"},null,{"$f":"IF(P_14号4様式!D20=\"\",\"\",P_14号4様式!D20)","v":17291},{"$f":"IF(P_14号4様式!E20=\"\",\"\",P_14号4様式!E20)","v":19255},{"$f":"IF(P_14号4様式!F20=\"\",\"\",P_14号4様式!F20)","v":36546},{"$f":"IF(P_14号4様式!G20=\"\",\"\",P_14号4様式!G20)","v":2559},{"$f":"IF(P_14号4様式!H20=\"\",\"\",P_14号4様式!H20)","v":2406},{"$f":"IF(P_14号4様式!I20=\"\",\"\",P_14号4様式!I20)","v":4965},{"$f":"IF(P_14号4様式!J20=\"\",\"\",P_14号4様式!J20)","v":""},{"$f":"IF(P_14号4様式!K20=\"\",\"\",P_14号4様式!K20)","v":""},{"$f":"IF(P_14号4様式!L20=\"\",\"\",P_14号4様式!L20)","v":""},{"$f":"IF(P_14号4様式!M20=\"\",\"\",P_14号4様式!M20)","v":14.799606731825801},{"$f":"IF(P_14号4様式!N20=\"\",\"\",P_14号4様式!N20)","v":12.495455725785501},null,null,{"$f":"IF(P_14号4様式!O20=\"\",\"\",P_14号4様式!O20)","v":13.5856181251026},null,null,{"$f":"IF(P_14号4様式!P20=\"\",\"\",P_14号4様式!P20)","v":""},{"$f":"IF(P_14号4様式!Q20=\"\",\"\",P_14号4様式!Q20)","v":""},{"$f":"IF(P_14号4様式!R20=\"\",\"\",P_14号4様式!R20)","v":18.484266852788899},{"$f":"IF(P_14号4様式!S20=\"\",\"\",P_14号4様式!S20)","v":15.926852939674101},{"$f":"IF(P_14号4様式!T20=\"\",\"\",P_14号4様式!T20)","v":17.122654337775401}]
[{"$f":"IF(P_14号4様式!C21=\"\",\"\",P_14号4様式!C21)","v":"　 南九州市"},null,{"$f":"IF(P_14号4様式!D21=\"\",\"\",P_14号4様式!D21)","v":13934},{"$f":"IF(P_14号4様式!E21=\"\",\"\",P_14号4様式!E21)","v":16228},{"$f":"IF(P_14号4様式!F21=\"\",\"\",P_14号4様式!F21)","v":30162},{"$f":"IF(P_14号4様式!G21=\"\",\"\",P_14号4様式!G21)","v":1784},{"$f":"IF(P_14号4様式!H21=\"\",\"\",P_14号4様式!H21)","v":1510},{"$f":"IF(P_14号4様式!I21=\"\",\"\",P_14号4様式!I21)","v":3294},{"$f":"IF(P_14号4様式!J21=\"\",\"\",P_14号4様式!J21)","v":""},{"$f":"IF(P_14号4様式!K21=\"\",\"\",P_14号4様式!K21)","v":""},{"$f":"IF(P_14号4様式!L21=\"\",\"\",P_14号4様式!L21)","v":""},{"$f":"IF(P_14号4様式!M21=\"\",\"\",P_14号4様式!M21)","v":12.8032151571695},{"$f":"IF(P_14号4様式!N21=\"\",\"\",P_14号4様式!N21)","v":9.3049051022923308},null,null,{"$f":"IF(P_14号4様式!O21=\"\",\"\",P_14号4様式!O21)","v":10.9210264571315},null,null,{"$f":"IF(P_14号4様式!P21=\"\",\"\",P_14号4様式!P21)","v":""},{"$f":"IF(P_14号4様式!Q21=\"\",\"\",P_14号4様式!Q21)","v":""},{"$f":"IF(P_14号4様式!R21=\"\",\"\",P_14号4様式!R21)","v":24.5866921710616},{"$f":"IF(P_14号4様式!S21=\"\",\"\",P_14号4様式!S21)","v":20.6434630008775},{"$f":"IF(P_14号4様式!T21=\"\",\"\",P_14号4様式!T21)","v":22.4624208237482}]
[{"$f":"IF(P_14号4様式!C22=\"\",\"\",P_14号4様式!C22)","v":"　 伊佐市"},null,{"$f":"IF(P_14号4様式!D22=\"\",\"\",P_14号4様式!D22)","v":10168},{"$f":"IF(P_14号4様式!E22=\"\",\"\",P_14号4様式!E22)","v":12040},{"$f":"IF(P_14号4様式!F22=\"\",\"\",P_14号4様式!F22)","v":22208},{"$f":"IF(P_14号4様式!G22=\"\",\"\",P_14号4様式!G22)","v":1823},{"$f":"IF(P_14号4様式!H22=\"\",\"\",P_14号4様式!H22)","v":1800},{"$f":"IF(P_14号4様式!I22=\"\",\"\",P_14号4様式!I22)","v":3623},{"$f":"IF(P_14号4様式!J22=\"\",\"\",P_14号4様式!J22)","v":""},{"$f":"IF(P_14号4様式!K22=\"\",\"\",P_14号4様式!K22)","v":""},{"$f":"IF(P_14号4様式!L22=\"\",\"\",P_14号4様式!L22)","v":""},{"$f":"IF(P_14号4様式!M22=\"\",\"\",P_14号4様式!M22)","v":17.928796223446099},{"$f":"IF(P_14号4様式!N22=\"\",\"\",P_14号4様式!N22)","v":14.950166112956801},null,null,{"$f":"IF(P_14号4様式!O22=\"\",\"\",P_14号4様式!O22)","v":16.313940922190199},null,null,{"$f":"IF(P_14号4様式!P22=\"\",\"\",P_14号4様式!P22)","v":""},{"$f":"IF(P_14号4様式!Q22=\"\",\"\",P_14号4様式!Q22)","v":""},{"$f":"IF(P_14号4様式!R22=\"\",\"\",P_14号4様式!R22)","v":25.9670053127039},{"$f":"IF(P_14号4様式!S22=\"\",\"\",P_14号4様式!S22)","v":23.382890947302901},{"$f":"IF(P_14号4様式!T22=\"\",\"\",P_14号4様式!T22)","v":24.558873430607399}]
[{"$f":"IF(P_14号4様式!C23=\"\",\"\",P_14号4様式!C23)","v":"　 姶良市"},null,{"$f":"IF(P_14号4様式!D23=\"\",\"\",P_14号4様式!D23)","v":29479},{"$f":"IF(P_14号4様式!E23=\"\",\"\",P_14号4様式!E23)","v":34537},{"$f":"IF(P_14号4様式!F23=\"\",\"\",P_14号4様式!F23)","v":64016},{"$f":"IF(P_14号4様式!G23=\"\",\"\",P_14号4様式!G23)","v":3243},{"$f":"IF(P_14号4様式!H23=\"\",\"\",P_14号4様式!H23)","v":3022},{"$f":"IF(P_14号4様式!I23=\"\",\"\",P_14号4様式!I23)","v":6265},{"$f":"IF(P_14号4様式!J23=\"\",\"\",P_14号4様式!J23)","v":""},{"$f":"IF(P_14号4様式!K23=\"\",\"\",P_14号4様式!K23)","v":""},{"$f":"IF(P_14号4様式!L23=\"\",\"\",P_14号4様式!L23)","v":""},{"$f":"IF(P_14号4様式!M23=\"\",\"\",P_14号4様式!M23)","v":11.001051596051401},{"$f":"IF(P_14号4様式!N23=\"\",\"\",P_14号4様式!N23)","v":8.7500361930683006},null,null,{"$f":"IF(P_14号4様式!O23=\"\",\"\",P_14号4様式!O23)","v":9.7866158460384902},null,null,{"$f":"IF(P_14号4様式!P23=\"\",\"\",P_14号4様式!P23)","v":""},{"$f":"IF(P_14号4様式!Q23=\"\",\"\",P_14号4様式!Q23)","v":""},{"$f":"IF(P_14号4様式!R23=\"\",\"\",P_14号4様式!R23)","v":18.428887965655701},{"$f":"IF(P_14号4様式!S23=\"\",\"\",P_14号4様式!S23)","v":15.778057859718},{"$f":"IF(P_14号4様式!T23=\"\",\"\",P_14号4様式!T23)","v":16.9933810574435}]
[{"$f":"IF(P_14号4様式!C24=\"\",\"\",P_14号4様式!C24)","v":"　 三島村"},null,{"$f":"IF(P_14号4様式!D24=\"\",\"\",P_14号4様式!D24)","v":129},{"$f":"IF(P_14号4様式!E24=\"\",\"\",P_14号4様式!E24)","v":145},{"$f":"IF(P_14号4様式!F24=\"\",\"\",P_14号4様式!F24)","v":274},{"$f":"IF(P_14号4様式!G24=\"\",\"\",P_14号4様式!G24)","v":0},{"$f":"IF(P_14号4様式!H24=\"\",\"\",P_14号4様式!H24)","v":0},{"$f":"IF(P_14号4様式!I24=\"\",\"\",P_14号4様式!I24)","v":0},{"$f":"IF(P_14号4様式!J24=\"\",\"\",P_14号4様式!J24)","v":""},{"$f":"IF(P_14号4様式!K24=\"\",\"\",P_14号4様式!K24)","v":""},{"$f":"IF(P_14号4様式!L24=\"\",\"\",P_14号4様式!L24)","v":""},{"$f":"IF(P_14号4様式!M24=\"\",\"\",P_14号4様式!M24)","v":0},{"$f":"IF(P_14号4様式!N24=\"\",\"\",P_14号4様式!N24)","v":0},null,null,{"$f":"IF(P_14号4様式!O24=\"\",\"\",P_14号4様式!O24)","v":0},null,null,{"$f":"IF(P_14号4様式!P24=\"\",\"\",P_14号4様式!P24)","v":""},{"$f":"IF(P_14号4様式!Q24=\"\",\"\",P_14号4様式!Q24)","v":""},{"$f":"IF(P_14号4様式!R24=\"\",\"\",P_14号4様式!R24)","v":0},{"$f":"IF(P_14号4様式!S24=\"\",\"\",P_14号4様式!S24)","v":0},{"$f":"IF(P_14号4様式!T24=\"\",\"\",P_14号4様式!T24)","v":0}]
[{"$f":"IF(P_14号4様式!C25=\"\",\"\",P_14号4様式!C25)","v":"　 十島村"},null,{"$f":"IF(P_14号4様式!D25=\"\",\"\",P_14号4様式!D25)","v":289},{"$f":"IF(P_14号4様式!E25=\"\",\"\",P_14号4様式!E25)","v":271},{"$f":"IF(P_14号4様式!F25=\"\",\"\",P_14号4様式!F25)","v":560},{"$f":"IF(P_14号4様式!G25=\"\",\"\",P_14号4様式!G25)","v":0},{"$f":"IF(P_14号4様式!H25=\"\",\"\",P_14号4様式!H25)","v":0},{"$f":"IF(P_14号4様式!I25=\"\",\"\",P_14号4様式!I25)","v":0},{"$f":"IF(P_14号4様式!J25=\"\",\"\",P_14号4様式!J25)","v":""},{"$f":"IF(P_14号4様式!K25=\"\",\"\",P_14号4様式!K25)","v":""},{"$f":"IF(P_14号4様式!L25=\"\",\"\",P_14号4様式!L25)","v":""},{"$f":"IF(P_14号4様式!M25=\"\",\"\",P_14号4様式!M25)","v":0},{"$f":"IF(P_14号4様式!N25=\"\",\"\",P_14号4様式!N25)","v":0},null,null,{"$f":"IF(P_14号4様式!O25=\"\",\"\",P_14号4様式!O25)","v":0},null,null,{"$f":"IF(P_14号4様式!P25=\"\",\"\",P_14号4様式!P25)","v":""},{"$f":"IF(P_14号4様式!Q25=\"\",\"\",P_14号4様式!Q25)","v":""},{"$f":"IF(P_14号4様式!R25=\"\",\"\",P_14号4様式!R25)","v":0},{"$f":"IF(P_14号4様式!S25=\"\",\"\",P_14号4様式!S25)","v":0},{"$f":"IF(P_14号4様式!T25=\"\",\"\",P_14号4様式!T25)","v":0}]
[{"$f":"IF(P_14号4様式!C26=\"\",\"\",P_14号4様式!C26)","v":"＊（鹿児島郡）計"},null,{"$f":"IF(P_14号4様式!D26=\"\",\"\",P_14号4様式!D26)","v":418},{"$f":"IF(P_14号4様式!E26=\"\",\"\",P_14号4様式!E26)","v":416},{"$f":"IF(P_14号4様式!F26=\"\",\"\",P_14号4様式!F26)","v":834},{"$f":"IF(P_14号4様式!G26=\"\",\"\",P_14号4様式!G26)","v":0},{"$f":"IF(P_14号4様式!H26=\"\",\"\",P_14号4様式!H26)","v":0},{"$f":"IF(P_14号4様式!I26=\"\",\"\",P_14号4様式!I26)","v":0},{"$f":"IF(P_14号4様式!J26=\"\",\"\",P_14号4様式!J26)","v":""},{"$f":"IF(P_14号4様式!K26=\"\",\"\",P_14号4様式!K26)","v":""},{"$f":"IF(P_14号4様式!L26=\"\",\"\",P_14号4様式!L26)","v":""},{"$f":"IF(P_14号4様式!M26=\"\",\"\",P_14号4様式!M26)","v":0},{"$f":"IF(P_14号4様式!N26=\"\",\"\",P_14号4様式!N26)","v":0},null,null,{"$f":"IF(P_14号4様式!O26=\"\",\"\",P_14号4様式!O26)","v":0},null,null,{"$f":"IF(P_14号4様式!P26=\"\",\"\",P_14号4様式!P26)","v":""},{"$f":"IF(P_14号4様式!Q26=\"\",\"\",P_14号4様式!Q26)","v":""},{"$f":"IF(P_14号4様式!R26=\"\",\"\",P_14号4様式!R26)","v":0},{"$f":"IF(P_14号4様式!S26=\"\",\"\",P_14号4様式!S26)","v":0},{"$f":"IF(P_14号4様式!T26=\"\",\"\",P_14号4様式!T26)","v":0}]
[{"$f":"IF(P_14号4様式!C27=\"\",\"\",P_14号4様式!C27)","v":"　 さつま町"},null,{"$f":"IF(P_14号4様式!D27=\"\",\"\",P_14号4様式!D27)","v":8383},{"$f":"IF(P_14号4様式!E27=\"\",\"\",P_14号4様式!E27)","v":9731},{"$f":"IF(P_14号4様式!F27=\"\",\"\",P_14号4様式!F27)","v":18114},{"$f":"IF(P_14号4様式!G27=\"\",\"\",P_14号4様式!G27)","v":1264},{"$f":"IF(P_14号4様式!H27=\"\",\"\",P_14号4様式!H27)","v":1225},{"$f":"IF(P_14号4様式!I27=\"\",\"\",P_14号4様式!I27)","v":2489},{"$f":"IF(P_14号4様式!J27=\"\",\"\",P_14号4様式!J27)","v":""},{"$f":"IF(P_14号4様式!K27=\"\",\"\",P_14号4様式!K27)","v":""},{"$f":"IF(P_14号4様式!L27=\"\",\"\",P_14号4様式!L27)","v":""},{"$f":"IF(P_14号4様式!M27=\"\",\"\",P_14号4様式!M27)","v":15.078134319456},{"$f":"IF(P_14号4様式!N27=\"\",\"\",P_14号4様式!N27)","v":12.5886342616381},null,null,{"$f":"IF(P_14号4様式!O27=\"\",\"\",P_14号4様式!O27)","v":13.7407530087225},null,null,{"$f":"IF(P_14号4様式!P27=\"\",\"\",P_14号4様式!P27)","v":""},{"$f":"IF(P_14号4様式!Q27=\"\",\"\",P_14号4様式!Q27)","v":""},{"$f":"IF(P_14号4様式!R27=\"\",\"\",P_14号4様式!R27)","v":26.8597835888188},{"$f":"IF(P_14号4様式!S27=\"\",\"\",P_14号4様式!S27)","v":24.6290801186944},{"$f":"IF(P_14号4様式!T27=\"\",\"\",P_14号4様式!T27)","v":25.653501734044202}]
[{"$f":"IF(P_14号4様式!C28=\"\",\"\",P_14号4様式!C28)","v":"＊（薩摩郡）計"},null,{"$f":"IF(P_14号4様式!D28=\"\",\"\",P_14号4様式!D28)","v":8383},{"$f":"IF(P_14号4様式!E28=\"\",\"\",P_14号4様式!E28)","v":9731},{"$f":"IF(P_14号4様式!F28=\"\",\"\",P_14号4様式!F28)","v":18114},{"$f":"IF(P_14号4様式!G28=\"\",\"\",P_14号4様式!G28)","v":1264},{"$f":"IF(P_14号4様式!H28=\"\",\"\",P_14号4様式!H28)","v":1225},{"$f":"IF(P_14号4様式!I28=\"\",\"\",P_14号4様式!I28)","v":2489},{"$f":"IF(P_14号4様式!J28=\"\",\"\",P_14号4様式!J28)","v":""},{"$f":"IF(P_14号4様式!K28=\"\",\"\",P_14号4様式!K28)","v":""},{"$f":"IF(P_14号4様式!L28=\"\",\"\",P_14号4様式!L28)","v":""},{"$f":"IF(P_14号4様式!M28=\"\",\"\",P_14号4様式!M28)","v":15.078134319456},{"$f":"IF(P_14号4様式!N28=\"\",\"\",P_14号4様式!N28)","v":12.5886342616381},null,null,{"$f":"IF(P_14号4様式!O28=\"\",\"\",P_14号4様式!O28)","v":13.7407530087225},null,null,{"$f":"IF(P_14号4様式!P28=\"\",\"\",P_14号4様式!P28)","v":""},{"$f":"IF(P_14号4様式!Q28=\"\",\"\",P_14号4様式!Q28)","v":""},{"$f":"IF(P_14号4様式!R28=\"\",\"\",P_14号4様式!R28)","v":26.8597835888188},{"$f":"IF(P_14号4様式!S28=\"\",\"\",P_14号4様式!S28)","v":24.6290801186944},{"$f":"IF(P_14号4様式!T28=\"\",\"\",P_14号4様式!T28)","v":25.653501734044202}]
[{"$f":"IF(P_14号4様式!C29=\"\",\"\",P_14号4様式!C29)","v":"　 長島町"},null,{"$f":"IF(P_14号4様式!D29=\"\",\"\",P_14号4様式!D29)","v":4171},{"$f":"IF(P_14号4様式!E29=\"\",\"\",P_14号4様式!E29)","v":4540},{"$f":"IF(P_14号4様式!F29=\"\",\"\",P_14号4様式!F29)","v":8711},{"$f":"IF(P_14号4様式!G29=\"\",\"\",P_14号4様式!G29)","v":1153},{"$f":"IF(P_14号4様式!H29=\"\",\"\",P_14号4様式!H29)","v":1069},{"$f":"IF(P_14号4様式!I29=\"\",\"\",P_14号4様式!I29)","v":2222},{"$f":"IF(P_14号4様式!J29=\"\",\"\",P_14号4様式!J29)","v":""},{"$f":"IF(P_14号4様式!K29=\"\",\"\",P_14号4様式!K29)","v":""},{"$f":"IF(P_14号4様式!L29=\"\",\"\",P_14号4様式!L29)","v":""},{"$f":"IF(P_14号4様式!M29=\"\",\"\",P_14号4様式!M29)","v":27.643251018940301},{"$f":"IF(P_14号4様式!N29=\"\",\"\",P_14号4様式!N29)","v":23.546255506607899},null,null,{"$f":"IF(P_14号4様式!O29=\"\",\"\",P_14号4様式!O29)","v":25.507978418092101},null,null,{"$f":"IF(P_14号4様式!P29=\"\",\"\",P_14号4様式!P29)","v":""},{"$f":"IF(P_14号4様式!Q29=\"\",\"\",P_14号4様式!Q29)","v":""},{"$f":"IF(P_14号4様式!R29=\"\",\"\",P_14号4様式!R29)","v":31.8024463420263},{"$f":"IF(P_14号4様式!S29=\"\",\"\",P_14号4様式!S29)","v":30.498409331919401},{"$f":"IF(P_14号4様式!T29=\"\",\"\",P_14号4様式!T29)","v":31.1229000884173}]
[{"$f":"IF(P_14号4様式!C30=\"\",\"\",P_14号4様式!C30)","v":"＊（出水郡）計"},null,{"$f":"IF(P_14号4様式!D30=\"\",\"\",P_14号4様式!D30)","v":4171},{"$f":"IF(P_14号4様式!E30=\"\",\"\",P_14号4様式!E30)","v":4540},{"$f":"IF(P_14号4様式!F30=\"\",\"\",P_14号4様式!F30)","v":8711},{"$f":"IF(P_14号4様式!G30=\"\",\"\",P_14号4様式!G30)","v":1153},{"$f":"IF(P_14号4様式!H30=\"\",\"\",P_14号4様式!H30)","v":1069},{"$f":"IF(P_14号4様式!I30=\"\",\"\",P_14号4様式!I30)","v":2222},{"$f":"IF(P_14号4様式!J30=\"\",\"\",P_14号4様式!J30)","v":""},{"$f":"IF(P_14号4様式!K30=\"\",\"\",P_14号4様式!K30)","v":""},{"$f":"IF(P_14号4様式!L30=\"\",\"\",P_14号4様式!L30)","v":""},{"$f":"IF(P_14号4様式!M30=\"\",\"\",P_14号4様式!M30)","v":27.643251018940301},{"$f":"IF(P_14号4様式!N30=\"\",\"\",P_14号4様式!N30)","v":23.546255506607899},null,null,{"$f":"IF(P_14号4様式!O30=\"\",\"\",P_14号4様式!O30)","v":25.507978418092101},null,null,{"$f":"IF(P_14号4様式!P30=\"\",\"\",P_14号4様式!P30)","v":""},{"$f":"IF(P_14号4様式!Q30=\"\",\"\",P_14号4様式!Q30)","v":""},{"$f":"IF(P_14号4様式!R30=\"\",\"\",P_14号4様式!R30)","v":31.8024463420263},{"$f":"IF(P_14号4様式!S30=\"\",\"\",P_14号4様式!S30)","v":30.498409331919401},{"$f":"IF(P_14号4様式!T30=\"\",\"\",P_14号4様式!T30)","v":31.1229000884173}]
[{"$f":"IF(P_14号4様式!C31=\"\",\"\",P_14号4様式!C31)","v":"　 湧水町"},null,{"$f":"IF(P_14号4様式!D31=\"\",\"\",P_14号4様式!D31)","v":3764},{"$f":"IF(P_14号4様式!E31=\"\",\"\",P_14号4様式!E31)","v":4337},{"$f":"IF(P_14号4様式!F31=\"\",\"\",P_14号4様式!F31)","v":8101},{"$f":"IF(P_14号4様式!G31=\"\",\"\",P_14号4様式!G31)","v":696},{"$f":"IF(P_14号4様式!H31=\"\",\"\",P_14号4様式!H31)","v":639},{"$f":"IF(P_14号4様式!I31=\"\",\"\",P_14号4様式!I31)","v":1335},{"$f":"IF(P_14号4様式!J31=\"\",\"\",P_14号4様式!J31)","v":""},{"$f":"IF(P_14号4様式!K31=\"\",\"\",P_14号4様式!K31)","v":""},{"$f":"IF(P_14号4様式!L31=\"\",\"\",P_14号4様式!L31)","v":""},{"$f":"IF(P_14号4様式!M31=\"\",\"\",P_14号4様式!M31)","v":18.4909670563231},{"$f":"IF(P_14号4様式!N31=\"\",\"\",P_14号4様式!N31)","v":14.733686880332},null,null,{"$f":"IF(P_14号4様式!O31=\"\",\"\",P_14号4様式!O31)","v":16.4794469818541},null,null,{"$f":"IF(P_14号4様式!P31=\"\",\"\",P_14号4様式!P31)","v":""},{"$f":"IF(P_14号4様式!Q31=\"\",\"\",P_14号4様式!Q31)","v":""},{"$f":"IF(P_14号4様式!R31=\"\",\"\",P_14号4様式!R31)","v":24.993637057775501},{"$f":"IF(P_14号4様式!S31=\"\",\"\",P_14号4様式!S31)","v":22.150676110753398},{"$f":"IF(P_14号4様式!T31=\"\",\"\",P_14号4様式!T31)","v":23.4513274336283}]
[{"$f":"IF(P_14号4様式!C32=\"\",\"\",P_14号4様式!C32)","v":"＊（姶良郡）計"},null,{"$f":"IF(P_14号4様式!D32=\"\",\"\",P_14号4様式!D32)","v":3764},{"$f":"IF(P_14号4様式!E32=\"\",\"\",P_14号4様式!E32)","v":4337},{"$f":"IF(P_14号4様式!F32=\"\",\"\",P_14号4様式!F32)","v":8101},{"$f":"IF(P_14号4様式!G32=\"\",\"\",P_14号4様式!G32)","v":696},{"$f":"IF(P_14号4様式!H32=\"\",\"\",P_14号4様式!H32)","v":639},{"$f":"IF(P_14号4様式!I32=\"\",\"\",P_14号4様式!I32)","v":1335},{"$f":"IF(P_14号4様式!J32=\"\",\"\",P_14号4様式!J32)","v":""},{"$f":"IF(P_14号4様式!K32=\"\",\"\",P_14号4様式!K32)","v":""},{"$f":"IF(P_14号4様式!L32=\"\",\"\",P_14号4様式!L32)","v":""},{"$f":"IF(P_14号4様式!M32=\"\",\"\",P_14号4様式!M32)","v":18.4909670563231},{"$f":"IF(P_14号4様式!N32=\"\",\"\",P_14号4様式!N32)","v":14.733686880332},null,null,{"$f":"IF(P_14号4様式!O32=\"\",\"\",P_14号4様式!O32)","v":16.4794469818541},null,null,{"$f":"IF(P_14号4様式!P32=\"\",\"\",P_14号4様式!P32)","v":""},{"$f":"IF(P_14号4様式!Q32=\"\",\"\",P_14号4様式!Q32)","v":""},{"$f":"IF(P_14号4様式!R32=\"\",\"\",P_14号4様式!R32)","v":24.993637057775501},{"$f":"IF(P_14号4様式!S32=\"\",\"\",P_14号4様式!S32)","v":22.150676110753398},{"$f":"IF(P_14号4様式!T32=\"\",\"\",P_14号4様式!T32)","v":23.4513274336283}]
[{"$f":"IF(P_14号4様式!C33=\"\",\"\",P_14号4様式!C33)","v":"　 大崎町"},null,{"$f":"IF(P_14号4様式!D33=\"\",\"\",P_14号4様式!D33)","v":5279},{"$f":"IF(P_14号4様式!E33=\"\",\"\",P_14号4様式!E33)","v":5815},{"$f":"IF(P_14号4様式!F33=\"\",\"\",P_14号4様式!F33)","v":11094},{"$f":"IF(P_14号4様式!G33=\"\",\"\",P_14号4様式!G33)","v":739},{"$f":"IF(P_14号4様式!H33=\"\",\"\",P_14号4様式!H33)","v":695},{"$f":"IF(P_14号4様式!I33=\"\",\"\",P_14号4様式!I33)","v":1434},{"$f":"IF(P_14号4様式!J33=\"\",\"\",P_14号4様式!J33)","v":""},{"$f":"IF(P_14号4様式!K33=\"\",\"\",P_14号4様式!K33)","v":""},{"$f":"IF(P_14号4様式!L33=\"\",\"\",P_14号4様式!L33)","v":""},{"$f":"IF(P_14号4様式!M33=\"\",\"\",P_14号4様式!M33)","v":13.9988634211025},{"$f":"IF(P_14号4様式!N33=\"\",\"\",P_14号4様式!N33)","v":11.951848667239901},null,null,{"$f":"IF(P_14号4様式!O33=\"\",\"\",P_14号4様式!O33)","v":12.925905895078399},null,null,{"$f":"IF(P_14号4様式!P33=\"\",\"\",P_14号4様式!P33)","v":""},{"$f":"IF(P_14号4様式!Q33=\"\",\"\",P_14号4様式!Q33)","v":""},{"$f":"IF(P_14号4様式!R33=\"\",\"\",P_14号4様式!R33)","v":15.264853256979199},{"$f":"IF(P_14号4様式!S33=\"\",\"\",P_14号4様式!S33)","v":12.412785980853499},{"$f":"IF(P_14号4様式!T33=\"\",\"\",P_14号4様式!T33)","v":13.7690409326866}]
[{"$f":"IF(P_14号4様式!C34=\"\",\"\",P_14号4様式!C34)","v":"＊（曽於郡）計"},null,{"$f":"IF(P_14号4様式!D34=\"\",\"\",P_14号4様式!D34)","v":5279},{"$f":"IF(P_14号4様式!E34=\"\",\"\",P_14号4様式!E34)","v":5815},{"$f":"IF(P_14号4様式!F34=\"\",\"\",P_14号4様式!F34)","v":11094},{"$f":"IF(P_14号4様式!G34=\"\",\"\",P_14号4様式!G34)","v":739},{"$f":"IF(P_14号4様式!H34=\"\",\"\",P_14号4様式!H34)","v":695},{"$f":"IF(P_14号4様式!I34=\"\",\"\",P_14号4様式!I34)","v":1434},{"$f":"IF(P_14号4様式!J34=\"\",\"\",P_14号4様式!J34)","v":""},{"$f":"IF(P_14号4様式!K34=\"\",\"\",P_14号4様式!K34)","v":""},{"$f":"IF(P_14号4様式!L34=\"\",\"\",P_14号4様式!L34)","v":""},{"$f":"IF(P_14号4様式!M34=\"\",\"\",P_14号4様式!M34)","v":13.9988634211025},{"$f":"IF(P_14号4様式!N34=\"\",\"\",P_14号4様式!N34)","v":11.951848667239901},null,null,{"$f":"IF(P_14号4様式!O34=\"\",\"\",P_14号4様式!O34)","v":12.925905895078399},null,null,{"$f":"IF(P_14号4様式!P34=\"\",\"\",P_14号4様式!P34)","v":""},{"$f":"IF(P_14号4様式!Q34=\"\",\"\",P_14号4様式!Q34)","v":""},{"$f":"IF(P_14号4様式!R34=\"\",\"\",P_14号4様式!R34)","v":15.264853256979199},{"$f":"IF(P_14号4様式!S34=\"\",\"\",P_14号4様式!S34)","v":12.412785980853499},{"$f":"IF(P_14号4様式!T34=\"\",\"\",P_14号4様式!T34)","v":13.7690409326866}]
[{"$f":"IF(P_14号4様式!C35=\"\",\"\",P_14号4様式!C35)","v":"　 東串良町"},null,{"$f":"IF(P_14号4様式!D35=\"\",\"\",P_14号4様式!D35)","v":2558},{"$f":"IF(P_14号4様式!E35=\"\",\"\",P_14号4様式!E35)","v":2943},{"$f":"IF(P_14号4様式!F35=\"\",\"\",P_14号4様式!F35)","v":5501},{"$f":"IF(P_14号4様式!G35=\"\",\"\",P_14号4様式!G35)","v":352},{"$f":"IF(P_14号4様式!H35=\"\",\"\",P_14号4様式!H35)","v":308},{"$f":"IF(P_14号4様式!I35=\"\",\"\",P_14号4様式!I35)","v":660},{"$f":"IF(P_14号4様式!J35=\"\",\"\",P_14号4様式!J35)","v":""},{"$f":"IF(P_14号4様式!K35=\"\",\"\",P_14号4様式!K35)","v":""},{"$f":"IF(P_14号4様式!L35=\"\",\"\",P_14号4様式!L35)","v":""},{"$f":"IF(P_14号4様式!M35=\"\",\"\",P_14号4様式!M35)","v":13.7607505863956},{"$f":"IF(P_14号4様式!N35=\"\",\"\",P_14号4様式!N35)","v":10.4655113829426},null,null,{"$f":"IF(P_14号4様式!O35=\"\",\"\",P_14号4様式!O35)","v":11.997818578440301},null,null,{"$f":"IF(P_14号4様式!P35=\"\",\"\",P_14号4様式!P35)","v":""},{"$f":"IF(P_14号4様式!Q35=\"\",\"\",P_14号4様式!Q35)","v":""},{"$f":"IF(P_14号4様式!R35=\"\",\"\",P_14号4様式!R35)","v":15.401869158878499},{"$f":"IF(P_14号4様式!S35=\"\",\"\",P_14号4様式!S35)","v":13.368630046326899},{"$f":"IF(P_14号4様式!T35=\"\",\"\",P_14号4様式!T35)","v":14.323328067403899}]
[{"$f":"IF(P_14号4様式!C36=\"\",\"\",P_14号4様式!C36)","v":"　 錦江町"},null,{"$f":"IF(P_14号4様式!D36=\"\",\"\",P_14号4様式!D36)","v":3083},{"$f":"IF(P_14号4様式!E36=\"\",\"\",P_14号4様式!E36)","v":3461},{"$f":"IF(P_14号4様式!F36=\"\",\"\",P_14号4様式!F36)","v":6544},{"$f":"IF(P_14号4様式!G36=\"\",\"\",P_14号4様式!G36)","v":622},{"$f":"IF(P_14号4様式!H36=\"\",\"\",P_14号4様式!H36)","v":550},{"$f":"IF(P_14号4様式!I36=\"\",\"\",P_14号4様式!I36)","v":1172},{"$f":"IF(P_14号4様式!J36=\"\",\"\",P_14号4様式!J36)","v":""},{"$f":"IF(P_14号4様式!K36=\"\",\"\",P_14号4様式!K36)","v":""},{"$f":"IF(P_14号4様式!L36=\"\",\"\",P_14号4様式!L36)","v":""},{"$f":"IF(P_14号4様式!M36=\"\",\"\",P_14号4様式!M36)","v":20.175154070710299},{"$f":"IF(P_14号4様式!N36=\"\",\"\",P_14号4様式!N36)","v":15.891360878358901},null,null,{"$f":"IF(P_14号4様式!O36=\"\",\"\",P_14号4様式!O36)","v":17.9095354523227},null,null,{"$f":"IF(P_14号4様式!P36=\"\",\"\",P_14号4様式!P36)","v":""},{"$f":"IF(P_14号4様式!Q36=\"\",\"\",P_14号4様式!Q36)","v":""},{"$f":"IF(P_14号4様式!R36=\"\",\"\",P_14号4様式!R36)","v":24.6600181323663},{"$f":"IF(P_14号4様式!S36=\"\",\"\",P_14号4様式!S36)","v":22.254564699656001},{"$f":"IF(P_14号4様式!T36=\"\",\"\",P_14号4様式!T36)","v":23.377539503386}]
[{"$f":"IF(P_14号4様式!C37=\"\",\"\",P_14号4様式!C37)","v":"　 南大隅町"},null,{"$f":"IF(P_14号4様式!D37=\"\",\"\",P_14号4様式!D37)","v":3056},{"$f":"IF(P_14号4様式!E37=\"\",\"\",P_14号4様式!E37)","v":3388},{"$f":"IF(P_14号4様式!F37=\"\",\"\",P_14号4様式!F37)","v":6444},{"$f":"IF(P_14号4様式!G37=\"\",\"\",P_14号4様式!G37)","v":707},{"$f":"IF(P_14号4様式!H37=\"\",\"\",P_14号4様式!H37)","v":767},{"$f":"IF(P_14号4様式!I37=\"\",\"\",P_14号4様式!I37)","v":1474},{"$f":"IF(P_14号4様式!J37=\"\",\"\",P_14号4様式!J37)","v":""},{"$f":"IF(P_14号4様式!K37=\"\",\"\",P_14号4様式!K37)","v":""},{"$f":"IF(P_14号4様式!L37=\"\",\"\",P_14号4様式!L37)","v":""},{"$f":"IF(P_14号4様式!M37=\"\",\"\",P_14号4様式!M37)","v":23.1348167539267},{"$f":"IF(P_14号4様式!N37=\"\",\"\",P_14号4様式!N37)","v":22.638724911452201},null,null,{"$f":"IF(P_14号4様式!O37=\"\",\"\",P_14号4様式!O37)","v":22.873991309745499},null,null,{"$f":"IF(P_14号4様式!P37=\"\",\"\",P_14号4様式!P37)","v":""},{"$f":"IF(P_14号4様式!Q37=\"\",\"\",P_14号4様式!Q37)","v":""},{"$f":"IF(P_14号4様式!R37=\"\",\"\",P_14号4様式!R37)","v":28.226299694189599},{"$f":"IF(P_14号4様式!S37=\"\",\"\",P_14号4様式!S37)","v":28.002125398512199},{"$f":"IF(P_14号4様式!T37=\"\",\"\",P_14号4様式!T37)","v":28.106340631219801}]
[{"$f":"IF(P_14号4様式!C38=\"\",\"\",P_14号4様式!C38)","v":"　 肝付町"},null,{"$f":"IF(P_14号4様式!D38=\"\",\"\",P_14号4様式!D38)","v":6228},{"$f":"IF(P_14号4様式!E38=\"\",\"\",P_14号4様式!E38)","v":6899},{"$f":"IF(P_14号4様式!F38=\"\",\"\",P_14号4様式!F38)","v":13127},{"$f":"IF(P_14号4様式!G38=\"\",\"\",P_14号4様式!G38)","v":1069},{"$f":"IF(P_14号4様式!H38=\"\",\"\",P_14号4様式!H38)","v":963},{"$f":"IF(P_14号4様式!I38=\"\",\"\",P_14号4様式!I38)","v":2032},{"$f":"IF(P_14号4様式!J38=\"\",\"\",P_14号4様式!J38)","v":""},{"$f":"IF(P_14号4様式!K38=\"\",\"\",P_14号4様式!K38)","v":""},{"$f":"IF(P_14号4様式!L38=\"\",\"\",P_14号4様式!L38)","v":""},{"$f":"IF(P_14号4様式!M38=\"\",\"\",P_14号4様式!M38)","v":17.1644187540141},{"$f":"IF(P_14号4様式!N38=\"\",\"\",P_14号4様式!N38)","v":13.9585447166256},null,null,{"$f":"IF(P_14号4様式!O38=\"\",\"\",P_14号4様式!O38)","v":15.4795459739468},null,null,{"$f":"IF(P_14号4様式!P38=\"\",\"\",P_14号4様式!P38)","v":""},{"$f":"IF(P_14号4様式!Q38=\"\",\"\",P_14号4様式!Q38)","v":""},{"$f":"IF(P_14号4様式!R38=\"\",\"\",P_14号4様式!R38)","v":20.795989670363099},{"$f":"IF(P_14号4様式!S38=\"\",\"\",P_14号4様式!S38)","v":17.166101694915302},{"$f":"IF(P_14号4様式!T38=\"\",\"\",P_14号4様式!T38)","v":18.878062759707699}]
[{"$f":"IF(P_14号4様式!C39=\"\",\"\",P_14号4様式!C39)","v":"＊（肝属郡）計"},null,{"$f":"IF(P_14号4様式!D39=\"\",\"\",P_14号4様式!D39)","v":14925},{"$f":"IF(P_14号4様式!E39=\"\",\"\",P_14号4様式!E39)","v":16691},{"$f":"IF(P_14号4様式!F39=\"\",\"\",P_14号4様式!F39)","v":31616},{"$f":"IF(P_14号4様式!G39=\"\",\"\",P_14号4様式!G39)","v":2750},{"$f":"IF(P_14号4様式!H39=\"\",\"\",P_14号4様式!H39)","v":2588},{"$f":"IF(P_14号4様式!I39=\"\",\"\",P_14号4様式!I39)","v":5338},{"$f":"IF(P_14号4様式!J39=\"\",\"\",P_14号4様式!J39)","v":""},{"$f":"IF(P_14号4様式!K39=\"\",\"\",P_14号4様式!K39)","v":""},{"$f":"IF(P_14号4様式!L39=\"\",\"\",P_14号4様式!L39)","v":""},{"$f":"IF(P_14号4様式!M39=\"\",\"\",P_14号4様式!M39)","v":18.425460636515901},{"$f":"IF(P_14号4様式!N39=\"\",\"\",P_14号4様式!N39)","v":15.505362171230001},null,null,{"$f":"IF(P_14号4様式!O39=\"\",\"\",P_14号4様式!O39)","v":16.8838562753036},null,null,{"$f":"IF(P_14号4様式!P39=\"\",\"\",P_14号4様式!P39)","v":""},{"$f":"IF(P_14号4様式!Q39=\"\",\"\",P_14号4様式!Q39)","v":""},{"$f":"IF(P_14号4様式!R39=\"\",\"\",P_14号4様式!R39)","v":22.2264317736945},{"$f":"IF(P_14号4様式!S39=\"\",\"\",P_14号4様式!S39)","v":19.871794871794901},{"$f":"IF(P_14号4様式!T39=\"\",\"\",P_14号4様式!T39)","v":20.975811943038199}]
[{"$f":"IF(P_14号4様式!C40=\"\",\"\",P_14号4様式!C40)","v":"　 中種子町"},null,{"$f":"IF(P_14号4様式!D40=\"\",\"\",P_14号4様式!D40)","v":3206},{"$f":"IF(P_14号4様式!E40=\"\",\"\",P_14号4様式!E40)","v":3631},{"$f":"IF(P_14号4様式!F40=\"\",\"\",P_14号4様式!F40)","v":6837},{"$f":"IF(P_14号4様式!G40=\"\",\"\",P_14号4様式!G40)","v":890},{"$f":"IF(P_14号4様式!H40=\"\",\"\",P_14号4様式!H40)","v":827},{"$f":"IF(P_14号4様式!I40=\"\",\"\",P_14号4様式!I40)","v":1717},{"$f":"IF(P_14号4様式!J40=\"\",\"\",P_14号4様式!J40)","v":""},{"$f":"IF(P_14号4様式!K40=\"\",\"\",P_14号4様式!K40)","v":""},{"$f":"IF(P_14号4様式!L40=\"\",\"\",P_14号4様式!L40)","v":""},{"$f":"IF(P_14号4様式!M40=\"\",\"\",P_14号4様式!M40)","v":27.7604491578291},{"$f":"IF(P_14号4様式!N40=\"\",\"\",P_14号4様式!N40)","v":22.776094739741101},null,null,{"$f":"IF(P_14号4様式!O40=\"\",\"\",P_14号4様式!O40)","v":25.113353810150699},null,null,{"$f":"IF(P_14号4様式!P40=\"\",\"\",P_14号4様式!P40)","v":""},{"$f":"IF(P_14号4様式!Q40=\"\",\"\",P_14号4様式!Q40)","v":""},{"$f":"IF(P_14号4様式!R40=\"\",\"\",P_14号4様式!R40)","v":30.5135951661631},{"$f":"IF(P_14号4様式!S40=\"\",\"\",P_14号4様式!S40)","v":27.205298013244999},{"$f":"IF(P_14号4様式!T40=\"\",\"\",P_14号4様式!T40)","v":28.750882145377599}]
[{"$f":"IF(P_14号4様式!C41=\"\",\"\",P_14号4様式!C41)","v":"　 南種子町"},null,{"$f":"IF(P_14号4様式!D41=\"\",\"\",P_14号4様式!D41)","v":2379},{"$f":"IF(P_14号4様式!E41=\"\",\"\",P_14号4様式!E41)","v":2466},{"$f":"IF(P_14号4様式!F41=\"\",\"\",P_14号4様式!F41)","v":4845},{"$f":"IF(P_14号4様式!G41=\"\",\"\",P_14号4様式!G41)","v":608},{"$f":"IF(P_14号4様式!H41=\"\",\"\",P_14号4様式!H41)","v":531},{"$f":"IF(P_14号4様式!I41=\"\",\"\",P_14号4様式!I41)","v":1139},{"$f":"IF(P_14号4様式!J41=\"\",\"\",P_14号4様式!J41)","v":""},{"$f":"IF(P_14号4様式!K41=\"\",\"\",P_14号4様式!K41)","v":""},{"$f":"IF(P_14号4様式!L41=\"\",\"\",P_14号4様式!L41)","v":""},{"$f":"IF(P_14号4様式!M41=\"\",\"\",P_14号4様式!M41)","v":25.556956704497701},{"$f":"IF(P_14号4様式!N41=\"\",\"\",P_14号4様式!N41)","v":21.5328467153285},null,null,{"$f":"IF(P_14号4様式!O41=\"\",\"\",P_14号4様式!O41)","v":23.508771929824601},null,null,{"$f":"IF(P_14号4様式!P41=\"\",\"\",P_14号4様式!P41)","v":""},{"$f":"IF(P_14号4様式!Q41=\"\",\"\",P_14号4様式!Q41)","v":""},{"$f":"IF(P_14号4様式!R41=\"\",\"\",P_14号4様式!R41)","v":32.788225674570697},{"$f":"IF(P_14号4様式!S41=\"\",\"\",P_14号4様式!S41)","v":30.330448465775},{"$f":"IF(P_14号4様式!T41=\"\",\"\",P_14号4様式!T41)","v":31.5356856455493}]
[{"$f":"IF(P_14号4様式!C42=\"\",\"\",P_14号4様式!C42)","v":"　 屋久島町"},null,{"$f":"IF(P_14号4様式!D42=\"\",\"\",P_14号4様式!D42)","v":5147},{"$f":"IF(P_14号4様式!E42=\"\",\"\",P_14号4様式!E42)","v":5345},{"$f":"IF(P_14号4様式!F42=\"\",\"\",P_14号4様式!F42)","v":10492},{"$f":"IF(P_14号4様式!G42=\"\",\"\",P_14号4様式!G42)","v":1115},{"$f":"IF(P_14号4様式!H42=\"\",\"\",P_14号4様式!H42)","v":1116},{"$f":"IF(P_14号4様式!I42=\"\",\"\",P_14号4様式!I42)","v":2231},{"$f":"IF(P_14号4様式!J42=\"\",\"\",P_14号4様式!J42)","v":""},{"$f":"IF(P_14号4様式!K42=\"\",\"\",P_14号4様式!K42)","v":""},{"$f":"IF(P_14号4様式!L42=\"\",\"\",P_14号4様式!L42)","v":""},{"$f":"IF(P_14号4様式!M42=\"\",\"\",P_14号4様式!M42)","v":21.663104721196799},{"$f":"IF(P_14号4様式!N42=\"\",\"\",P_14号4様式!N42)","v":20.879326473339599},null,null,{"$f":"IF(P_14号4様式!O42=\"\",\"\",P_14号4様式!O42)","v":21.263820053374001},null,null,{"$f":"IF(P_14号4様式!P42=\"\",\"\",P_14号4様式!P42)","v":""},{"$f":"IF(P_14号4様式!Q42=\"\",\"\",P_14号4様式!Q42)","v":""},{"$f":"IF(P_14号4様式!R42=\"\",\"\",P_14号4様式!R42)","v":27.313940309784702},{"$f":"IF(P_14号4様式!S42=\"\",\"\",P_14号4様式!S42)","v":27.073524085476301},{"$f":"IF(P_14号4様式!T42=\"\",\"\",P_14号4様式!T42)","v":27.191198224852101}]
[{"$f":"IF(P_14号4様式!C43=\"\",\"\",P_14号4様式!C43)","v":"＊（熊毛郡）計"},null,{"$f":"IF(P_14号4様式!D43=\"\",\"\",P_14号4様式!D43)","v":10732},{"$f":"IF(P_14号4様式!E43=\"\",\"\",P_14号4様式!E43)","v":11442},{"$f":"IF(P_14号4様式!F43=\"\",\"\",P_14号4様式!F43)","v":22174},{"$f":"IF(P_14号4様式!G43=\"\",\"\",P_14号4様式!G43)","v":2613},{"$f":"IF(P_14号4様式!H43=\"\",\"\",P_14号4様式!H43)","v":2474},{"$f":"IF(P_14号4様式!I43=\"\",\"\",P_14号4様式!I43)","v":5087},{"$f":"IF(P_14号4様式!J43=\"\",\"\",P_14号4様式!J43)","v":""},{"$f":"IF(P_14号4様式!K43=\"\",\"\",P_14号4様式!K43)","v":""},{"$f":"IF(P_14号4様式!L43=\"\",\"\",P_14号4様式!L43)","v":""},{"$f":"IF(P_14号4様式!M43=\"\",\"\",P_14号4様式!M43)","v":24.347745061498301},{"$f":"IF(P_14号4様式!N43=\"\",\"\",P_14号4様式!N43)","v":21.622094039503601},null,null,{"$f":"IF(P_14号4様式!O43=\"\",\"\",P_14号4様式!O43)","v":22.941282583205599},null,null,{"$f":"IF(P_14号4様式!P43=\"\",\"\",P_14号4様式!P43)","v":""},{"$f":"IF(P_14号4様式!Q43=\"\",\"\",P_14号4様式!Q43)","v":""},{"$f":"IF(P_14号4様式!R43=\"\",\"\",P_14号4様式!R43)","v":29.4841628959276},{"$f":"IF(P_14号4様式!S43=\"\",\"\",P_14号4様式!S43)","v":27.814849227130701},{"$f":"IF(P_14号4様式!T43=\"\",\"\",P_14号4様式!T43)","v":28.6207348508017}]
[{"$f":"IF(P_14号4様式!C44=\"\",\"\",P_14号4様式!C44)","v":"　 大和村"},null,{"$f":"IF(P_14号4様式!D44=\"\",\"\",P_14号4様式!D44)","v":623},{"$f":"IF(P_14号4様式!E44=\"\",\"\",P_14号4様式!E44)","v":676},{"$f":"IF(P_14号4様式!F44=\"\",\"\",P_14号4様式!F44)","v":1299},{"$f":"IF(P_14号4様式!G44=\"\",\"\",P_14号4様式!G44)","v":185},{"$f":"IF(P_14号4様式!H44=\"\",\"\",P_14号4様式!H44)","v":211},{"$f":"IF(P_14号4様式!I44=\"\",\"\",P_14号4様式!I44)","v":396},{"$f":"IF(P_14号4様式!J44=\"\",\"\",P_14号4様式!J44)","v":""},{"$f":"IF(P_14号4様式!K44=\"\",\"\",P_14号4様式!K44)","v":""},{"$f":"IF(P_14号4様式!L44=\"\",\"\",P_14号4様式!L44)","v":""},{"$f":"IF(P_14号4様式!M44=\"\",\"\",P_14号4様式!M44)","v":29.6950240770466},{"$f":"IF(P_14号4様式!N44=\"\",\"\",P_14号4様式!N44)","v":31.213017751479299},null,null,{"$f":"IF(P_14号4様式!O44=\"\",\"\",P_14号4様式!O44)","v":30.484988452655902},null,null,{"$f":"IF(P_14号4様式!P44=\"\",\"\",P_14号4様式!P44)","v":""},{"$f":"IF(P_14号4様式!Q44=\"\",\"\",P_14号4様式!Q44)","v":""},{"$f":"IF(P_14号4様式!R44=\"\",\"\",P_14号4様式!R44)","v":34.312210200927403},{"$f":"IF(P_14号4様式!S44=\"\",\"\",P_14号4様式!S44)","v":37.257617728531898},{"$f":"IF(P_14号4様式!T44=\"\",\"\",P_14号4様式!T44)","v":35.865595325054798}]
[]
["市　計",null,{"$f":"IF(P_14号4様式!U2=\"\",\"\",P_14号4様式!U2)","v":562431},{"$f":"IF(P_14号4様式!V2=\"\",\"\",P_14号4様式!V2)","v":651585},{"$f":"IF(P_14号4様式!W2=\"\",\"\",P_14号4様式!W2)","v":1214016},{"$f":"IF(P_14号4様式!X2=\"\",\"\",P_14号4様式!X2)","v":58723},{"$f":"IF(P_14号4様式!Y2=\"\",\"\",P_14号4様式!Y2)","v":54398},{"$f":"IF(P_14号4様式!Z2=\"\",\"\",P_14号4様式!Z2)","v":113121},{"$f":"IF(P_14号4様式!AA2=\"\",\"\",P_14号4様式!AA2)","v":""},{"$f":"IF(P_14号4様式!AB2=\"\",\"\",P_14号4様式!AB2)","v":""},{"$f":"IF(P_14号4様式!AC2=\"\",\"\",P_14号4様式!AC2)","v":""},{"$f":"IF(P_14号4様式!AD2=\"\",\"\",P_14号4様式!AD2)","v":10.4409251979354},{"$f":"IF(P_14号4様式!AE2=\"\",\"\",P_14号4様式!AE2)","v":8.3485654212420499},null,null,{"$f":"IF(P_14号4様式!AF2=\"\",\"\",P_14号4様式!AF2)","v":9.3179167325636598},null,null,null,{"$f":"IF(P_14号4様式!AG2=\"\",\"\",P_14号4様式!AG2)","v":""},{"$f":"IF(P_14号4様式!AH2=\"\",\"\",P_14号4様式!AH2)","v":17.147272125000899},{"$f":"IF(P_14号4様式!AI2=\"\",\"\",P_14号4様式!AI2)","v":14.7837869647486},{"$f":"IF(P_14号4様式!AJ2=\"\",\"\",P_14号4様式!AJ2)","v":15.8741060934393}]
["町村計",null,{"$f":"IF(P_14号4様式!AK2=\"\",\"\",P_14号4様式!AK2)","v":75099},{"$f":"IF(P_14号4様式!AL2=\"\",\"\",P_14号4様式!AL2)","v":81129},{"$f":"IF(P_14号4様式!AM2=\"\",\"\",P_14号4様式!AM2)","v":156228},{"$f":"IF(P_14号4様式!AN2=\"\",\"\",P_14号4様式!AN2)","v":14555},{"$f":"IF(P_14号4様式!AO2=\"\",\"\",P_14号4様式!AO2)","v":13152},{"$f":"IF(P_14号4様式!AP2=\"\",\"\",P_14号4様式!AP2)","v":27707},{"$f":"IF(P_14号4様式!AQ2=\"\",\"\",P_14号4様式!AQ2)","v":""},{"$f":"IF(P_14号4様式!AR2=\"\",\"\",P_14号4様式!AR2)","v":""},{"$f":"IF(P_14号4様式!AS2=\"\",\"\",P_14号4様式!AS2)","v":""},{"$f":"IF(P_14号4様式!AT2=\"\",\"\",P_14号4様式!AT2)","v":19.381083636266801},{"$f":"IF(P_14号4様式!AU2=\"\",\"\",P_14号4様式!AU2)","v":16.211219169470802},null,null,{"$f":"IF(P_14号4様式!AV2=\"\",\"\",P_14号4様式!AV2)","v":17.734977084773501},null,null,null,{"$f":"IF(P_14号4様式!AW2=\"\",\"\",P_14号4様式!AW2)","v":""},{"$f":"IF(P_14号4様式!AX2=\"\",\"\",P_14号4様式!AX2)","v":24.265901727515999},{"$f":"IF(P_14号4様式!AY2=\"\",\"\",P_14号4様式!AY2)","v":21.582103159297301},{"$f":"IF(P_14号4様式!AZ2=\"\",\"\",P_14号4様式!AZ2)","v":22.862764748298201}]
["県計",null,{"$f":"IF(P_14号4様式!BA2=\"\",\"\",P_14号4様式!BA2)","v":637530},{"$f":"IF(P_14号4様式!BB2=\"\",\"\",P_14号4様式!BB2)","v":732714},{"$f":"IF(P_14号4様式!BC2=\"\",\"\",P_14号4様式!BC2)","v":1370244},{"$f":"IF(P_14号4様式!BD2=\"\",\"\",P_14号4様式!BD2)","v":73278},{"$f":"IF(P_14号4様式!BE2=\"\",\"\",P_14号4様式!BE2)","v":67550},{"$f":"IF(P_14号4様式!BF2=\"\",\"\",P_14号4様式!BF2)","v":140828},{"$f":"IF(P_14号4様式!BG2=\"\",\"\",P_14号4様式!BG2)","v":""},{"$f":"IF(P_14号4様式!BH2=\"\",\"\",P_14号4様式!BH2)","v":""},{"$f":"IF(P_14号4様式!BI2=\"\",\"\",P_14号4様式!BI2)","v":""},{"$f":"IF(P_14号4様式!BJ2=\"\",\"\",P_14号4様式!BJ2)","v":11.4940473389488},{"$f":"IF(P_14号4様式!BK2=\"\",\"\",P_14号4様式!BK2)","v":9.2191496272761295},null,null,{"$f":"IF(P_14号4様式!BL2=\"\",\"\",P_14号4様式!BL2)","v":10.2775855978935},null,null,null,{"$f":"IF(P_14号4様式!BM2=\"\",\"\",P_14号4様式!BM2)","v":""},{"$f":"IF(P_14号4様式!BN2=\"\",\"\",P_14号4様式!BN2)","v":18.008261608303101},{"$f":"IF(P_14号4様式!BO2=\"\",\"\",P_14号4様式!BO2)","v":15.561091191434301},{"$f":"IF(P_14号4様式!BP2=\"\",\"\",P_14号4様式!BP2)","v":16.6945735766759}]
[]
["第14号の4様式",null,null,null,null,null,null,null,null,null,null,null,null,null,null,null,null,null,null,null,null,{"$f":"IF(P_14号4様式!A45=\"\",\" ページ\", P_14号4様式!A45 & \"ページ\")","v":"2ページ"}]
[null,null,null,null,null,{"$f":"+F2","v":"投 票 速 報（国 内）"},null,null,null,null,null,null,null,"中間報告",null,null,{"$f":"IF(P_14号4様式!BR45=\"\",\"第　　　回\",\"第 　\" & P_14号4様式!BR45 & \"　回\")","v":"第 　2　回"},null,null,null,{"$f":"IF(P_14号4様式!BS45=\"\",\"        時     　 分　現在\",P_14号4様式!BS45)","v":"11:00:00"}]
[null,{"$f":"IF(パラメタシート!B1=\"\",\"\",パラメタシート!B1)","v":"2019-07-21"},null,null,null,null,null,null,null,null,null,null,null,"結了報告",null,null,null,null,null,null,{"$f":"IF(P_14号4様式!BM45=\"\",\"        時     　 分　結了\",P_14号4様式!BM45)","v":"        時     　 分　結了"}]
[null,{"$f":"IF(P_14号4様式!BQ45=\"\",\"\",P_14号4様式!BQ45)","v":"参議院選挙区選出議員選挙"},null,null,null,null,"（ 建 制 順 ）",null,null,null,null,null,null,null,null,null,null,null,null,null,null,"鹿 児 島 県"]
[]
["市区町村名",null,"当 日 有 権 者 数（ｅ'）\n（ 当日有権者見込（ｅ））",null,null,{"$f":"IF(P_14号4様式!BS45=\"\",\"（ｆ)\",\"（ｱ)\")","v":"（ｱ)"},null,null,"（ｇ)\n棄　権　者　数",null,null,{"$f":"IF(P_14号4様式!BS45=\"\",\"\",\"当日投票者\")","v":"当日投票者"},null,"（ｈ)",null,null,null,null,"投\n票\n率\n順\n位","投票\n結了\n時刻","前回選挙の投票率"]
[null,null,null,null,null,{"$f":"IF(P_14号4様式!BS45=\"\",\"投 票 者 数\",\"当 日 投 票 者 数\")","v":"当 日 投 票 者 数"},null,null,null,null,null,"投 票 率 =",null,{"$f":"IF(P_14号4様式!BS45=\"\",\"（ｆ)\",\"（ｱ)\")","v":"（ｱ)"},"(",{"$f":"IF(P_14号4様式!BS45=\"\",\"（ｆ)\",\"（ｱ)\")","v":"（ｱ)"},")"]
[null,null,null,null,null,null,null,null,null,null,null,null,null,"（ｅ'）",null,"（ｅ ）"]
[null,null,"男","女","計","男","女","計","男","女","計","男","女",null,null,"計",null,null,null,null,"男","女","計"]
[{"$f":"IF(P_14号4様式!C45=\"\",\"\",P_14号4様式!C45)","v":"　 宇検村"},null,{"$f":"IF(P_14号4様式!D45=\"\",\"\",P_14号4様式!D45)","v":736},{"$f":"IF(P_14号4様式!E45=\"\",\"\",P_14号4様式!E45)","v":788},{"$f":"IF(P_14号4様式!F45=\"\",\"\",P_14号4様式!F45)","v":1524},{"$f":"IF(P_14号4様式!G45=\"\",\"\",P_14号4様式!G45)","v":172},{"$f":"IF(P_14号4様式!H45=\"\",\"\",P_14号4様式!H45)","v":154},{"$f":"IF(P_14号4様式!I45=\"\",\"\",P_14号4様式!I45)","v":326},{"$f":"IF(P_14号4様式!J45=\"\",\"\",P_14号4様式!J45)","v":""},{"$f":"IF(P_14号4様式!K45=\"\",\"\",P_14号4様式!K45)","v":""},{"$f":"IF(P_14号4様式!L45=\"\",\"\",P_14号4様式!L45)","v":""},{"$f":"IF(P_14号4様式!M45=\"\",\"\",P_14号4様式!M45)","v":23.369565217391301},{"$f":"IF(P_14号4様式!N45=\"\",\"\",P_14号4様式!N45)","v":19.543147208121798},null,null,{"$f":"IF(P_14号4様式!O45=\"\",\"\",P_14号4様式!O45)","v":21.3910761154856},null,null,{"$f":"IF(P_14号4様式!P45=\"\",\"\",P_14号4様式!P45)","v":""},{"$f":"IF(P_14号4様式!Q45=\"\",\"\",P_14号4様式!Q45)","v":""},{"$f":"IF(P_14号4様式!R45=\"\",\"\",P_14号4様式!R45)","v":24.523160762942801},{"$f":"IF(P_14号4様式!S45=\"\",\"\",P_14号4様式!S45)","v":19.123020706455499},{"$f":"IF(P_14号4様式!T45=\"\",\"\",P_14号4様式!T45)","v":21.6720257234727}]
[{"$f":"IF(P_14号4様式!C46=\"\",\"\",P_14号4様式!C46)","v":"　 瀬戸内町"},null,{"$f":"IF(P_14号4様式!D46=\"\",\"\",P_14号4様式!D46)","v":3796},{"$f":"IF(P_14号4様式!E46=\"\",\"\",P_14号4様式!E46)","v":4019},{"$f":"IF(P_14号4様式!F46=\"\",\"\",P_14号4様式!F46)","v":7815},{"$f":"IF(P_14号4様式!G46=\"\",\"\",P_14号4様式!G46)","v":730},{"$f":"IF(P_14号4様式!H46=\"\",\"\",P_14号4様式!H46)","v":601},{"$f":"IF(P_14号4様式!I46=\"\",\"\",P_14号4様式!I46)","v":1331},{"$f":"IF(P_14号4様式!J46=\"\",\"\",P_14号4様式!J46)","v":""},{"$f":"IF(P_14号4様式!K46=\"\",\"\",P_14号4様式!K46)","v":""},{"$f":"IF(P_14号4様式!L46=\"\",\"\",P_14号4様式!L46)","v":""},{"$f":"IF(P_14号4様式!M46=\"\",\"\",P_14号4様式!M46)","v":19.230769230769202},{"$f":"IF(P_14号4様式!N46=\"\",\"\",P_14号4様式!N46)","v":14.9539686489176},null,null,{"$f":"IF(P_14号4様式!O46=\"\",\"\",P_14号4様式!O46)","v":17.031349968010201},null,null,{"$f":"IF(P_14号4様式!P46=\"\",\"\",P_14号4様式!P46)","v":""},{"$f":"IF(P_14号4様式!Q46=\"\",\"\",P_14号4様式!Q46)","v":""},{"$f":"IF(P_14号4様式!R46=\"\",\"\",P_14号4様式!R46)","v":22.803787480273499},{"$f":"IF(P_14号4様式!S46=\"\",\"\",P_14号4様式!S46)","v":19.404418828050002},{"$f":"IF(P_14号4様式!T46=\"\",\"\",P_14号4様式!T46)","v":21.026864172734101}]
[{"$f":"IF(P_14号4様式!C47=\"\",\"\",P_14号4様式!C47)","v":"　 龍郷町"},null,{"$f":"IF(P_14号4様式!D47=\"\",\"\",P_14号4様式!D47)","v":2393},{"$f":"IF(P_14号4様式!E47=\"\",\"\",P_14号4様式!E47)","v":2602},{"$f":"IF(P_14号4様式!F47=\"\",\"\",P_14号4様式!F47)","v":4995},{"$f":"IF(P_14号4様式!G47=\"\",\"\",P_14号4様式!G47)","v":469},{"$f":"IF(P_14号4様式!H47=\"\",\"\",P_14号4様式!H47)","v":447},{"$f":"IF(P_14号4様式!I47=\"\",\"\",P_14号4様式!I47)","v":916},{"$f":"IF(P_14号4様式!J47=\"\",\"\",P_14号4様式!J47)","v":""},{"$f":"IF(P_14号4様式!K47=\"\",\"\",P_14号4様式!K47)","v":""},{"$f":"IF(P_14号4様式!L47=\"\",\"\",P_14号4様式!L47)","v":""},{"$f":"IF(P_14号4様式!M47=\"\",\"\",P_14号4様式!M47)","v":19.598829920601801},{"$f":"IF(P_14号4様式!N47=\"\",\"\",P_14号4様式!N47)","v":17.179093005380501},null,null,{"$f":"IF(P_14号4様式!O47=\"\",\"\",P_14号4様式!O47)","v":18.3383383383383},null,null,{"$f":"IF(P_14号4様式!P47=\"\",\"\",P_14号4様式!P47)","v":""},{"$f":"IF(P_14号4様式!Q47=\"\",\"\",P_14号4様式!Q47)","v":""},{"$f":"IF(P_14号4様式!R47=\"\",\"\",P_14号4様式!R47)","v":23.174335162515799},{"$f":"IF(P_14号4様式!S47=\"\",\"\",P_14号4様式!S47)","v":22.631987577639801},{"$f":"IF(P_14号4様式!T47=\"\",\"\",P_14号4様式!T47)","v":22.891809908999001}]
[{"$f":"IF(P_14号4様式!C48=\"\",\"\",P_14号4様式!C48)","v":"　 喜界町"},null,{"$f":"IF(P_14号4様式!D48=\"\",\"\",P_14号4様式!D48)","v":2968},{"$f":"IF(P_14号4様式!E48=\"\",\"\",P_14号4様式!E48)","v":3063},{"$f":"IF(P_14号4様式!F48=\"\",\"\",P_14号4様式!F48)","v":6031},{"$f":"IF(P_14号4様式!G48=\"\",\"\",P_14号4様式!G48)","v":456},{"$f":"IF(P_14号4様式!H48=\"\",\"\",P_14号4様式!H48)","v":399},{"$f":"IF(P_14号4様式!I48=\"\",\"\",P_14号4様式!I48)","v":855},{"$f":"IF(P_14号4様式!J48=\"\",\"\",P_14号4様式!J48)","v":""},{"$f":"IF(P_14号4様式!K48=\"\",\"\",P_14号4様式!K48)","v":""},{"$f":"IF(P_14号4様式!L48=\"\",\"\",P_14号4様式!L48)","v":""},{"$f":"IF(P_14号4様式!M48=\"\",\"\",P_14号4様式!M48)","v":15.3638814016173},{"$f":"IF(P_14号4様式!N48=\"\",\"\",P_14号4様式!N48)","v":13.026444662096001},null,null,{"$f":"IF(P_14号4様式!O48=\"\",\"\",P_14号4様式!O48)","v":14.1767534405571},null,null,{"$f":"IF(P_14号4様式!P48=\"\",\"\",P_14号4様式!P48)","v":""},{"$f":"IF(P_14号4様式!Q48=\"\",\"\",P_14号4様式!Q48)","v":""},{"$f":"IF(P_14号4様式!R48=\"\",\"\",P_14号4様式!R48)","v":18.439249259137299},{"$f":"IF(P_14号4様式!S48=\"\",\"\",P_14号4様式!S48)","v":15.113742598940499},{"$f":"IF(P_14号4様式!T48=\"\",\"\",P_14号4様式!T48)","v":16.730707652897902}]
[{"$f":"IF(P_14号4様式!C49=\"\",\"\",P_14号4様式!C49)","v":"　 徳之島町"},null,{"$f":"IF(P_14号4様式!D49=\"\",\"\",P_14号4様式!D49)","v":4264},{"$f":"IF(P_14号4様式!E49=\"\",\"\",P_14号4様式!E49)","v":4451},{"$f":"IF(P_14号4様式!F49=\"\",\"\",P_14号4様式!F49)","v":8715},{"$f":"IF(P_14号4様式!G49=\"\",\"\",P_14号4様式!G49)","v":714},{"$f":"IF(P_14号4様式!H49=\"\",\"\",P_14号4様式!H49)","v":544},{"$f":"IF(P_14号4様式!I49=\"\",\"\",P_14号4様式!I49)","v":1258},{"$f":"IF(P_14号4様式!J49=\"\",\"\",P_14号4様式!J49)","v":""},{"$f":"IF(P_14号4様式!K49=\"\",\"\",P_14号4様式!K49)","v":""},{"$f":"IF(P_14号4様式!L49=\"\",\"\",P_14号4様式!L49)","v":""},{"$f":"IF(P_14号4様式!M49=\"\",\"\",P_14号4様式!M49)","v":16.7448405253283},{"$f":"IF(P_14号4様式!N49=\"\",\"\",P_14号4様式!N49)","v":12.2219725904291},null,null,{"$f":"IF(P_14号4様式!O49=\"\",\"\",P_14号4様式!O49)","v":14.434882386689599},null,null,{"$f":"IF(P_14号4様式!P49=\"\",\"\",P_14号4様式!P49)","v":""},{"$f":"IF(P_14号4様式!Q49=\"\",\"\",P_14号4様式!Q49)","v":""},{"$f":"IF(P_14号4様式!R49=\"\",\"\",P_14号4様式!R49)","v":19.323993773626899},{"$f":"IF(P_14号4様式!S49=\"\",\"\",P_14号4様式!S49)","v":14.9260042283298},{"$f":"IF(P_14号4様式!T49=\"\",\"\",P_14号4様式!T49)","v":17.069470033597099}]
[{"$f":"IF(P_14号4様式!C50=\"\",\"\",P_14号4様式!C50)","v":"　 天城町"},null,{"$f":"IF(P_14号4様式!D50=\"\",\"\",P_14号4様式!D50)","v":2556},{"$f":"IF(P_14号4様式!E50=\"\",\"\",P_14号4様式!E50)","v":2456},{"$f":"IF(P_14号4様式!F50=\"\",\"\",P_14号4様式!F50)","v":5012},{"$f":"IF(P_14号4様式!G50=\"\",\"\",P_14号4様式!G50)","v":579},{"$f":"IF(P_14号4様式!H50=\"\",\"\",P_14号4様式!H50)","v":473},{"$f":"IF(P_14号4様式!I50=\"\",\"\",P_14号4様式!I50)","v":1052},{"$f":"IF(P_14号4様式!J50=\"\",\"\",P_14号4様式!J50)","v":""},{"$f":"IF(P_14号4様式!K50=\"\",\"\",P_14号4様式!K50)","v":""},{"$f":"IF(P_14号4様式!L50=\"\",\"\",P_14号4様式!L50)","v":""},{"$f":"IF(P_14号4様式!M50=\"\",\"\",P_14号4様式!M50)","v":22.652582159624401},{"$f":"IF(P_14号4様式!N50=\"\",\"\",P_14号4様式!N50)","v":19.258957654723101},null,null,{"$f":"IF(P_14号4様式!O50=\"\",\"\",P_14号4様式!O50)","v":20.989624900239399},null,null,{"$f":"IF(P_14号4様式!P50=\"\",\"\",P_14号4様式!P50)","v":""},{"$f":"IF(P_14号4様式!Q50=\"\",\"\",P_14号4様式!Q50)","v":""},{"$f":"IF(P_14号4様式!R50=\"\",\"\",P_14号4様式!R50)","v":27.969639468690701},{"$f":"IF(P_14号4様式!S50=\"\",\"\",P_14号4様式!S50)","v":25.3789350952196},{"$f":"IF(P_14号4様式!T50=\"\",\"\",P_14号4様式!T50)","v":26.689708141320999}]
[{"$f":"IF(P_14号4様式!C51=\"\",\"\",P_14号4様式!C51)","v":"　 伊仙町"},null,{"$f":"IF(P_14号4様式!D51=\"\",\"\",P_14号4様式!D51)","v":2759},{"$f":"IF(P_14号4様式!E51=\"\",\"\",P_14号4様式!E51)","v":2670},{"$f":"IF(P_14号4様式!F51=\"\",\"\",P_14号4様式!F51)","v":5429},{"$f":"IF(P_14号4様式!G51=\"\",\"\",P_14号4様式!G51)","v":523},{"$f":"IF(P_14号4様式!H51=\"\",\"\",P_14号4様式!H51)","v":427},{"$f":"IF(P_14号4様式!I51=\"\",\"\",P_14号4様式!I51)","v":950},{"$f":"IF(P_14号4様式!J51=\"\",\"\",P_14号4様式!J51)","v":""},{"$f":"IF(P_14号4様式!K51=\"\",\"\",P_14号4様式!K51)","v":""},{"$f":"IF(P_14号4様式!L51=\"\",\"\",P_14号4様式!L51)","v":""},{"$f":"IF(P_14号4様式!M51=\"\",\"\",P_14号4様式!M51)","v":18.956143530264601},{"$f":"IF(P_14号4様式!N51=\"\",\"\",P_14号4様式!N51)","v":15.9925093632959},null,null,{"$f":"IF(P_14号4様式!O51=\"\",\"\",P_14号4様式!O51)","v":17.498618530116001},null,null,{"$f":"IF(P_14号4様式!P51=\"\",\"\",P_14号4様式!P51)","v":""},{"$f":"IF(P_14号4様式!Q51=\"\",\"\",P_14号4様式!Q51)","v":""},{"$f":"IF(P_14号4様式!R51=\"\",\"\",P_14号4様式!R51)","v":23.353084698501199},{"$f":"IF(P_14号4様式!S51=\"\",\"\",P_14号4様式!S51)","v":19.102698913424501},{"$f":"IF(P_14号4様式!T51=\"\",\"\",P_14号4様式!T51)","v":21.2338343236631}]
[{"$f":"IF(P_14号4様式!C52=\"\",\"\",P_14号4様式!C52)","v":"　 和泊町"},null,{"$f":"IF(P_14号4様式!D52=\"\",\"\",P_14号4様式!D52)","v":2661},{"$f":"IF(P_14号4様式!E52=\"\",\"\",P_14号4様式!E52)","v":2731},{"$f":"IF(P_14号4様式!F52=\"\",\"\",P_14号4様式!F52)","v":5392},{"$f":"IF(P_14号4様式!G52=\"\",\"\",P_14号4様式!G52)","v":544},{"$f":"IF(P_14号4様式!H52=\"\",\"\",P_14号4様式!H52)","v":457},{"$f":"IF(P_14号4様式!I52=\"\",\"\",P_14号4様式!I52)","v":1001},{"$f":"IF(P_14号4様式!J52=\"\",\"\",P_14号4様式!J52)","v":""},{"$f":"IF(P_14号4様式!K52=\"\",\"\",P_14号4様式!K52)","v":""},{"$f":"IF(P_14号4様式!L52=\"\",\"\",P_14号4様式!L52)","v":""},{"$f":"IF(P_14号4様式!M52=\"\",\"\",P_14号4様式!M52)","v":20.443442314919199},{"$f":"IF(P_14号4様式!N52=\"\",\"\",P_14号4様式!N52)","v":16.733797143903299},null,null,{"$f":"IF(P_14号4様式!O52=\"\",\"\",P_14号4様式!O52)","v":18.564540059347198},null,null,{"$f":"IF(P_14号4様式!P52=\"\",\"\",P_14号4様式!P52)","v":""},{"$f":"IF(P_14号4様式!Q52=\"\",\"\",P_14号4様式!Q52)","v":""},{"$f":"IF(P_14号4様式!R52=\"\",\"\",P_14号4様式!R52)","v":26.007991282237601},{"$f":"IF(P_14号4様式!S52=\"\",\"\",P_14号4様式!S52)","v":20.3212290502793},{"$f":"IF(P_14号4様式!T52=\"\",\"\",P_14号4様式!T52)","v":23.108420865230499}]
[{"$f":"IF(P_14号4様式!C53=\"\",\"\",P_14号4様式!C53)","v":"　 知名町"},null,{"$f":"IF(P_14号4様式!D53=\"\",\"\",P_14号4様式!D53)","v":2537},{"$f":"IF(P_14号4様式!E53=\"\",\"\",P_14号4様式!E53)","v":2448},{"$f":"IF(P_14号4様式!F53=\"\",\"\",P_14号4様式!F53)","v":4985},{"$f":"IF(P_14号4様式!G53=\"\",\"\",P_14号4様式!G53)","v":533},{"$f":"IF(P_14号4様式!H53=\"\",\"\",P_14号4様式!H53)","v":407},{"$f":"IF(P_14号4様式!I53=\"\",\"\",P_14号4様式!I53)","v":940},{"$f":"IF(P_14号4様式!J53=\"\",\"\",P_14号4様式!J53)","v":""},{"$f":"IF(P_14号4様式!K53=\"\",\"\",P_14号4様式!K53)","v":""},{"$f":"IF(P_14号4様式!L53=\"\",\"\",P_14号4様式!L53)","v":""},{"$f":"IF(P_14号4様式!M53=\"\",\"\",P_14号4様式!M53)","v":21.009065825778499},{"$f":"IF(P_14号4様式!N53=\"\",\"\",P_14号4様式!N53)","v":16.625816993464099},null,null,{"$f":"IF(P_14号4様式!O53=\"\",\"\",P_14号4様式!O53)","v":18.856569709127399},null,null,{"$f":"IF(P_14号4様式!P53=\"\",\"\",P_14号4様式!P53)","v":""},{"$f":"IF(P_14号4様式!Q53=\"\",\"\",P_14号4様式!Q53)","v":""},{"$f":"IF(P_14号4様式!R53=\"\",\"\",P_14号4様式!R53)","v":25.986078886310899},{"$f":"IF(P_14号4様式!S53=\"\",\"\",P_14号4様式!S53)","v":22.969296541002699},{"$f":"IF(P_14号4様式!T53=\"\",\"\",P_14号4様式!T53)","v":24.481488660593101}]
[{"$f":"IF(P_14号4様式!C54=\"\",\"\",P_14号4様式!C54)","v":"　 与論町"},null,{"$f":"IF(P_14号4様式!D54=\"\",\"\",P_14号4様式!D54)","v":2134},{"$f":"IF(P_14号4様式!E54=\"\",\"\",P_14号4様式!E54)","v":2253},{"$f":"IF(P_14号4様式!F54=\"\",\"\",P_14号4様式!F54)","v":4387},{"$f":"IF(P_14号4様式!G54=\"\",\"\",P_14号4様式!G54)","v":435},{"$f":"IF(P_14号4様式!H54=\"\",\"\",P_14号4様式!H54)","v":342},{"$f":"IF(P_14号4様式!I54=\"\",\"\",P_14号4様式!I54)","v":777},{"$f":"IF(P_14号4様式!J54=\"\",\"\",P_14号4様式!J54)","v":""},{"$f":"IF(P_14号4様式!K54=\"\",\"\",P_14号4様式!K54)","v":""},{"$f":"IF(P_14号4様式!L54=\"\",\"\",P_14号4様式!L54)","v":""},{"$f":"IF(P_14号4様式!M54=\"\",\"\",P_14号4様式!M54)","v":20.384254920337401},{"$f":"IF(P_14号4様式!N54=\"\",\"\",P_14号4様式!N54)","v":15.1797603195739},null,null,{"$f":"IF(P_14号4様式!O54=\"\",\"\",P_14号4様式!O54)","v":17.7114201048553},null,null,{"$f":"IF(P_14号4様式!P54=\"\",\"\",P_14号4様式!P54)","v":""},{"$f":"IF(P_14号4様式!Q54=\"\",\"\",P_14号4様式!Q54)","v":""},{"$f":"IF(P_14号4様式!R54=\"\",\"\",P_14号4様式!R54)","v":25.011731581417202},{"$f":"IF(P_14号4様式!S54=\"\",\"\",P_14号4様式!S54)","v":18.3326058489742},{"$f":"IF(P_14号4様式!T54=\"\",\"\",P_14号4様式!T54)","v":21.551334237901401}]
[{"$f":"IF(P_14号4様式!C55=\"\",\"\",P_14号4様式!C55)","v":"＊（大島郡）計"},null,{"$f":"IF(P_14号4様式!D55=\"\",\"\",P_14号4様式!D55)","v":27427},{"$f":"IF(P_14号4様式!E55=\"\",\"\",P_14号4様式!E55)","v":28157},{"$f":"IF(P_14号4様式!F55=\"\",\"\",P_14号4様式!F55)","v":55584},{"$f":"IF(P_14号4様式!G55=\"\",\"\",P_14号4様式!G55)","v":5340},{"$f":"IF(P_14号4様式!H55=\"\",\"\",P_14号4様式!H55)","v":4462},{"$f":"IF(P_14号4様式!I55=\"\",\"\",P_14号4様式!I55)","v":9802},{"$f":"IF(P_14号4様式!J55=\"\",\"\",P_14号4様式!J55)","v":""},{"$f":"IF(P_14号4様式!K55=\"\",\"\",P_14号4様式!K55)","v":""},{"$f":"IF(P_14号4様式!L55=\"\",\"\",P_14号4様式!L55)","v":""},{"$f":"IF(P_14号4様式!M55=\"\",\"\",P_14号4様式!M55)","v":19.469865461042001},{"$f":"IF(P_14号4様式!N55=\"\",\"\",P_14号4様式!N55)","v":15.8468586852293},null,null,{"$f":"IF(P_14号4様式!O55=\"\",\"\",P_14号4様式!O55)","v":17.634571099597},null,null,{"$f":"IF(P_14号4様式!P55=\"\",\"\",P_14号4様式!P55)","v":""},{"$f":"IF(P_14号4様式!Q55=\"\",\"\",P_14号4様式!Q55)","v":""},{"$f":"IF(P_14号4様式!R55=\"\",\"\",P_14号4様式!R55)","v":23.431931575196},{"$f":"IF(P_14号4様式!S55=\"\",\"\",P_14号4様式!S55)","v":19.740604575163399},{"$f":"IF(P_14号4様式!T55=\"\",\"\",P_14号4様式!T55)","v":21.543979385751101}]
[{"$f":"IF(P_14号4様式!C56=\"\",\"\",P_14号4様式!C56)","v":""},null,{"$f":"IF(P_14号4様式!D56=\"\",\"\",P_14号4様式!D56)","v":""},{"$f":"IF(P_14号4様式!E56=\"\",\"\",P_14号4様式!E56)","v":""},{"$f":"IF(P_14号4様式!F56=\"\",\"\",P_14号4様式!F56)","v":""},{"$f":"IF(P_14号4様式!G56=\"\",\"\",P_14号4様式!G56)","v":""},{"$f":"IF(P_14号4様式!H56=\"\",\"\",P_14号4様式!H56)","v":""},{"$f":"IF(P_14号4様式!I56=\"\",\"\",P_14号4様式!I56)","v":""},{"$f":"IF(P_14号4様式!J56=\"\",\"\",P_14号4様式!J56)","v":""},{"$f":"IF(P_14号4様式!K56=\"\",\"\",P_14号4様式!K56)","v":""},{"$f":"IF(P_14号4様式!L56=\"\",\"\",P_14号4様式!L56)","v":""},{"$f":"IF(P_14号4様式!M56=\"\",\"\",P_14号4様式!M56)","v":""},{"$f":"IF(P_14号4様式!N56=\"\",\"\",P_14号4様式!N56)","v":""},null,null,{"$f":"IF(P_14号4様式!O56=\"\",\"\",P_14号4様式!O56)","v":""},null,null,{"$f":"IF(P_14号4様式!P56=\"\",\"\",P_14号4様式!P56)","v":""},{"$f":"IF(P_14号4様式!Q56=\"\",\"\",P_14号4様式!Q56)","v":""},{"$f":"IF(P_14号4様式!R56=\"\",\"\",P_14号4様式!R56)","v":""},{"$f":"IF(P_14号4様式!S56=\"\",\"\",P_14号4様式!S56)","v":""},{"$f":"IF(P_14号4様式!T56=\"\",\"\",P_14号4様式!T56)","v":""}]
[{"$f":"IF(P_14号4様式!C57=\"\",\"\",P_14号4様式!C57)","v":""},null,{"$f":"IF(P_14号4様式!D57=\"\",\"\",P_14号4様式!D57)","v":""},{"$f":"IF(P_14号4様式!E57=\"\",\"\",P_14号4様式!E57)","v":""},{"$f":"IF(P_14号4様式!F57=\"\",\"\",P_14号4様式!F57)","v":""},{"$f":"IF(P_14号4様式!G57=\"\",\"\",P_14号4様式!G57)","v":""},{"$f":"IF(P_14号4様式!H57=\"\",\"\",P_14号4様式!H57)","v":""},{"$f":"IF(P_14号4様式!I57=\"\",\"\",P_14号4様式!I57)","v":""},{"$f":"IF(P_14号4様式!J57=\"\",\"\",P_14号4様式!J57)","v":""},{"$f":"IF(P_14号4様式!K57=\"\",\"\",P_14号4様式!K57)","v":""},{"$f":"IF(P_14号4様式!L57=\"\",\"\",P_14号4様式!L57)","v":""},{"$f":"IF(P_14号4様式!M57=\"\",\"\",P_14号4様式!M57)","v":""},{"$f":"IF(P_14号4様式!N57=\"\",\"\",P_14号4様式!N57)","v":""},null,null,{"$f":"IF(P_14号4様式!O57=\"\",\"\",P_14号4様式!O57)","v":""},null,null,{"$f":"IF(P_14号4様式!P57=\"\",\"\",P_14号4様式!P57)","v":""},{"$f":"IF(P_14号4様式!Q57=\"\",\"\",P_14号4様式!Q57)","v":""},{"$f":"IF(P_14号4様式!R57=\"\",\"\",P_14号4様式!R57)","v":""},{"$f":"IF(P_14号4様式!S57=\"\",\"\",P_14号4様式!S57)","v":""},{"$f":"IF(P_14号4様式!T57=\"\",\"\",P_14号4様式!T57)","v":""}]
[{"$f":"IF(P_14号4様式!C58=\"\",\"\",P_14号4様式!C58)","v":""},null,{"$f":"IF(P_14号4様式!D58=\"\",\"\",P_14号4様式!D58)","v":""},{"$f":"IF(P_14号4様式!E58=\"\",\"\",P_14号4様式!E58)","v":""},{"$f":"IF(P_14号4様式!F58=\"\",\"\",P_14号4様式!F58)","v":""},{"$f":"IF(P_14号4様式!G58=\"\",\"\",P_14号4様式!G58)","v":""},{"$f":"IF(P_14号4様式!H58=\"\",\"\",P_14号4様式!H58)","v":""},{"$f":"IF(P_14号4様式!I58=\"\",\"\",P_14号4様式!I58)","v":""},{"$f":"IF(P_14号4様式!J58=\"\",\"\",P_14号4様式!J58)","v":""},{"$f":"IF(P_14号4様式!K58=\"\",\"\",P_14号4様式!K58)","v":""},{"$f":"IF(P_14号4様式!L58=\"\",\"\",P_14号4様式!L58)","v":""},{"$f":"IF(P_14号4様式!M58=\"\",\"\",P_14号4様式!M58)","v":""},{"$f":"IF(P_14号4様式!N58=\"\",\"\",P_14号4様式!N58)","v":""},null,null,{"$f":"IF(P_14号4様式!O58=\"\",\"\",P_14号4様式!O58)","v":""},null,null,{"$f":"IF(P_14号4様式!P58=\"\",\"\",P_14号4様式!P58)","v":""},{"$f":"IF(P_14号4様式!Q58=\"\",\"\",P_14号4様式!Q58)","v":""},{"$f":"IF(P_14号4様式!R58=\"\",\"\",P_14号4様式!R58)","v":""},{"$f":"IF(P_14号4様式!S58=\"\",\"\",P_14号4様式!S58)","v":""},{"$f":"IF(P_14号4様式!T58=\"\",\"\",P_14号4様式!T58)","v":""}]
[{"$f":"IF(P_14号4様式!C59=\"\",\"\",P_14号4様式!C59)","v":""},null,{"$f":"IF(P_14号4様式!D59=\"\",\"\",P_14号4様式!D59)","v":""},{"$f":"IF(P_14号4様式!E59=\"\",\"\",P_14号4様式!E59)","v":""},{"$f":"IF(P_14号4様式!F59=\"\",\"\",P_14号4様式!F59)","v":""},{"$f":"IF(P_14号4様式!G59=\"\",\"\",P_14号4様式!G59)","v":""},{"$f":"IF(P_14号4様式!H59=\"\",\"\",P_14号4様式!H59)","v":""},{"$f":"IF(P_14号4様式!I59=\"\",\"\",P_14号4様式!I59)","v":""},{"$f":"IF(P_14号4様式!J59=\"\",\"\",P_14号4様式!J59)","v":""},{"$f":"IF(P_14号4様式!K59=\"\",\"\",P_14号4様式!K59)","v":""},{"$f":"IF(P_14号4様式!L59=\"\",\"\",P_14号4様式!L59)","v":""},{"$f":"IF(P_14号4様式!M59=\"\",\"\",P_14号4様式!M59)","v":""},{"$f":"IF(P_14号4様式!N59=\"\",\"\",P_14号4様式!N59)","v":""},null,null,{"$f":"IF(P_14号4様式!O59=\"\",\"\",P_14号4様式!O59)","v":""},null,null,{"$f":"IF(P_14号4様式!P59=\"\",\"\",P_14号4様式!P59)","v":""},{"$f":"IF(P_14号4様式!Q59=\"\",\"\",P_14号4様式!Q59)","v":""},{"$f":"IF(P_14号4様式!R59=\"\",\"\",P_14号4様式!R59)","v":""},{"$f":"IF(P_14号4様式!S59=\"\",\"\",P_14号4様式!S59)","v":""},{"$f":"IF(P_14号4様式!T59=\"\",\"\",P_14号4様式!T59)","v":""}]
[{"$f":"IF(P_14号4様式!C60=\"\",\"\",P_14号4様式!C60)","v":""},null,{"$f":"IF(P_14号4様式!D60=\"\",\"\",P_14号4様式!D60)","v":""},{"$f":"IF(P_14号4様式!E60=\"\",\"\",P_14号4様式!E60)","v":""},{"$f":"IF(P_14号4様式!F60=\"\",\"\",P_14号4様式!F60)","v":""},{"$f":"IF(P_14号4様式!G60=\"\",\"\",P_14号4様式!G60)","v":""},{"$f":"IF(P_14号4様式!H60=\"\",\"\",P_14号4様式!H60)","v":""},{"$f":"IF(P_14号4様式!I60=\"\",\"\",P_14号4様式!I60)","v":""},{"$f":"IF(P_14号4様式!J60=\"\",\"\",P_14号4様式!J60)","v":""},{"$f":"IF(P_14号4様式!K60=\"\",\"\",P_14号4様式!K60)","v":""},{"$f":"IF(P_14号4様式!L60=\"\",\"\",P_14号4様式!L60)","v":""},{"$f":"IF(P_14号4様式!M60=\"\",\"\",P_14号4様式!M60)","v":""},{"$f":"IF(P_14号4様式!N60=\"\",\"\",P_14号4様式!N60)","v":""},null,null,{"$f":"IF(P_14号4様式!O60=\"\",\"\",P_14号4様式!O60)","v":""},null,null,{"$f":"IF(P_14号4様式!P60=\"\",\"\",P_14号4様式!P60)","v":""},{"$f":"IF(P_14号4様式!Q60=\"\",\"\",P_14号4様式!Q60)","v":""},{"$f":"IF(P_14号4様式!R60=\"\",\"\",P_14号4様式!R60)","v":""},{"$f":"IF(P_14号4様式!S60=\"\",\"\",P_14号4様式!S60)","v":""},{"$f":"IF(P_14号4様式!T60=\"\",\"\",P_14号4様式!T60)","v":""}]
[{"$f":"IF(P_14号4様式!C61=\"\",\"\",P_14号4様式!C61)","v":""},null,{"$f":"IF(P_14号4様式!D61=\"\",\"\",P_14号4様式!D61)","v":""},{"$f":"IF(P_14号4様式!E61=\"\",\"\",P_14号4様式!E61)","v":""},{"$f":"IF(P_14号4様式!F61=\"\",\"\",P_14号4様式!F61)","v":""},{"$f":"IF(P_14号4様式!G61=\"\",\"\",P_14号4様式!G61)","v":""},{"$f":"IF(P_14号4様式!H61=\"\",\"\",P_14号4様式!H61)","v":""},{"$f":"IF(P_14号4様式!I61=\"\",\"\",P_14号4様式!I61)","v":""},{"$f":"IF(P_14号4様式!J61=\"\",\"\",P_14号4様式!J61)","v":""},{"$f":"IF(P_14号4様式!K61=\"\",\"\",P_14号4様式!K61)","v":""},{"$f":"IF(P_14号4様式!L61=\"\",\"\",P_14号4様式!L61)","v":""},{"$f":"IF(P_14号4様式!M61=\"\",\"\",P_14号4様式!M61)","v":""},{"$f":"IF(P_14号4様式!N61=\"\",\"\",P_14号4様式!N61)","v":""},null,null,{"$f":"IF(P_14号4様式!O61=\"\",\"\",P_14号4様式!O61)","v":""},null,null,{"$f":"IF(P_14号4様式!P61=\"\",\"\",P_14号4様式!P61)","v":""},{"$f":"IF(P_14号4様式!Q61=\"\",\"\",P_14号4様式!Q61)","v":""},{"$f":"IF(P_14号4様式!R61=\"\",\"\",P_14号4様式!R61)","v":""},{"$f":"IF(P_14号4様式!S61=\"\",\"\",P_14号4様式!S61)","v":""},{"$f":"IF(P_14号4様式!T61=\"\",\"\",P_14号4様式!T61)","v":""}]
[{"$f":"IF(P_14号4様式!C62=\"\",\"\",P_14号4様式!C62)","v":""},null,{"$f":"IF(P_14号4様式!D62=\"\",\"\",P_14号4様式!D62)","v":""},{"$f":"IF(P_14号4様式!E62=\"\",\"\",P_14号4様式!E62)","v":""},{"$f":"IF(P_14号4様式!F62=\"\",\"\",P_14号4様式!F62)","v":""},{"$f":"IF(P_14号4様式!G62=\"\",\"\",P_14号4様式!G62)","v":""},{"$f":"IF(P_14号4様式!H62=\"\",\"\",P_14号4様式!H62)","v":""},{"$f":"IF(P_14号4様式!I62=\"\",\"\",P_14号4様式!I62)","v":""},{"$f":"IF(P_14号4様式!J62=\"\",\"\",P_14号4様式!J62)","v":""},{"$f":"IF(P_14号4様式!K62=\"\",\"\",P_14号4様式!K62)","v":""},{"$f":"IF(P_14号4様式!L62=\"\",\"\",P_14号4様式!L62)","v":""},{"$f":"IF(P_14号4様式!M62=\"\",\"\",P_14号4様式!M62)","v":""},{"$f":"IF(P_14号4様式!N62=\"\",\"\",P_14号4様式!N62)","v":""},null,null,{"$f":"IF(P_14号4様式!O62=\"\",\"\",P_14号4様式!O62)","v":""},null,null,{"$f":"IF(P_14号4様式!P62=\"\",\"\",P_14号4様式!P62)","v":""},{"$f":"IF(P_14号4様式!Q62=\"\",\"\",P_14号4様式!Q62)","v":""},{"$f":"IF(P_14号4様式!R62=\"\",\"\",P_14号4様式!R62)","v":""},{"$f":"IF(P_14号4様式!S62=\"\",\"\",P_14号4様式!S62)","v":""},{"$f":"IF(P_14号4様式!T62=\"\",\"\",P_14号4様式!T62)","v":""}]
[{"$f":"IF(P_14号4様式!C63=\"\",\"\",P_14号4様式!C63)","v":""},null,{"$f":"IF(P_14号4様式!D63=\"\",\"\",P_14号4様式!D63)","v":""},{"$f":"IF(P_14号4様式!E63=\"\",\"\",P_14号4様式!E63)","v":""},{"$f":"IF(P_14号4様式!F63=\"\",\"\",P_14号4様式!F63)","v":""},{"$f":"IF(P_14号4様式!G63=\"\",\"\",P_14号4様式!G63)","v":""},{"$f":"IF(P_14号4様式!H63=\"\",\"\",P_14号4様式!H63)","v":""},{"$f":"IF(P_14号4様式!I63=\"\",\"\",P_14号4様式!I63)","v":""},{"$f":"IF(P_14号4様式!J63=\"\",\"\",P_14号4様式!J63)","v":""},{"$f":"IF(P_14号4様式!K63=\"\",\"\",P_14号4様式!K63)","v":""},{"$f":"IF(P_14号4様式!L63=\"\",\"\",P_14号4様式!L63)","v":""},{"$f":"IF(P_14号4様式!M63=\"\",\"\",P_14号4様式!M63)","v":""},{"$f":"IF(P_14号4様式!N63=\"\",\"\",P_14号4様式!N63)","v":""},null,null,{"$f":"IF(P_14号4様式!O63=\"\",\"\",P_14号4様式!O63)","v":""},null,null,{"$f":"IF(P_14号4様式!P63=\"\",\"\",P_14号4様式!P63)","v":""},{"$f":"IF(P_14号4様式!Q63=\"\",\"\",P_14号4様式!Q63)","v":""},{"$f":"IF(P_14号4様式!R63=\"\",\"\",P_14号4様式!R63)","v":""},{"$f":"IF(P_14号4様式!S63=\"\",\"\",P_14号4様式!S63)","v":""},{"$f":"IF(P_14号4様式!T63=\"\",\"\",P_14号4様式!T63)","v":""}]
[{"$f":"IF(P_14号4様式!C64=\"\",\"\",P_14号4様式!C64)","v":""},null,{"$f":"IF(P_14号4様式!D64=\"\",\"\",P_14号4様式!D64)","v":""},{"$f":"IF(P_14号4様式!E64=\"\",\"\",P_14号4様式!E64)","v":""},{"$f":"IF(P_14号4様式!F64=\"\",\"\",P_14号4様式!F64)","v":""},{"$f":"IF(P_14号4様式!G64=\"\",\"\",P_14号4様式!G64)","v":""},{"$f":"IF(P_14号4様式!H64=\"\",\"\",P_14号4様式!H64)","v":""},{"$f":"IF(P_14号4様式!I64=\"\",\"\",P_14号4様式!I64)","v":""},{"$f":"IF(P_14号4様式!J64=\"\",\"\",P_14号4様式!J64)","v":""},{"$f":"IF(P_14号4様式!K64=\"\",\"\",P_14号4様式!K64)","v":""},{"$f":"IF(P_14号4様式!L64=\"\",\"\",P_14号4様式!L64)","v":""},{"$f":"IF(P_14号4様式!M64=\"\",\"\",P_14号4様式!M64)","v":""},{"$f":"IF(P_14号4様式!N64=\"\",\"\",P_14号4様式!N64)","v":""},null,null,{"$f":"IF(P_14号4様式!O64=\"\",\"\",P_14号4様式!O64)","v":""},null,null,{"$f":"IF(P_14号4様式!P64=\"\",\"\",P_14号4様式!P64)","v":""},{"$f":"IF(P_14号4様式!Q64=\"\",\"\",P_14号4様式!Q64)","v":""},{"$f":"IF(P_14号4様式!R64=\"\",\"\",P_14号4様式!R64)","v":""},{"$f":"IF(P_14号4様式!S64=\"\",\"\",P_14号4様式!S64)","v":""},{"$f":"IF(P_14号4様式!T64=\"\",\"\",P_14号4様式!T64)","v":""}]
[{"$f":"IF(P_14号4様式!C65=\"\",\"\",P_14号4様式!C65)","v":""},null,{"$f":"IF(P_14号4様式!D65=\"\",\"\",P_14号4様式!D65)","v":""},{"$f":"IF(P_14号4様式!E65=\"\",\"\",P_14号4様式!E65)","v":""},{"$f":"IF(P_14号4様式!F65=\"\",\"\",P_14号4様式!F65)","v":""},{"$f":"IF(P_14号4様式!G65=\"\",\"\",P_14号4様式!G65)","v":""},{"$f":"IF(P_14号4様式!H65=\"\",\"\",P_14号4様式!H65)","v":""},{"$f":"IF(P_14号4様式!I65=\"\",\"\",P_14号4様式!I65)","v":""},{"$f":"IF(P_14号4様式!J65=\"\",\"\",P_14号4様式!J65)","v":""},{"$f":"IF(P_14号4様式!K65=\"\",\"\",P_14号4様式!K65)","v":""},{"$f":"IF(P_14号4様式!L65=\"\",\"\",P_14号4様式!L65)","v":""},{"$f":"IF(P_14号4様式!M65=\"\",\"\",P_14号4様式!M65)","v":""},{"$f":"IF(P_14号4様式!N65=\"\",\"\",P_14号4様式!N65)","v":""},null,null,{"$f":"IF(P_14号4様式!O65=\"\",\"\",P_14号4様式!O65)","v":""},null,null,{"$f":"IF(P_14号4様式!P65=\"\",\"\",P_14号4様式!P65)","v":""},{"$f":"IF(P_14号4様式!Q65=\"\",\"\",P_14号4様式!Q65)","v":""},{"$f":"IF(P_14号4様式!R65=\"\",\"\",P_14号4様式!R65)","v":""},{"$f":"IF(P_14号4様式!S65=\"\",\"\",P_14号4様式!S65)","v":""},{"$f":"IF(P_14号4様式!T65=\"\",\"\",P_14号4様式!T65)","v":""}]
[{"$f":"IF(P_14号4様式!C66=\"\",\"\",P_14号4様式!C66)","v":""},null,{"$f":"IF(P_14号4様式!D66=\"\",\"\",P_14号4様式!D66)","v":""},{"$f":"IF(P_14号4様式!E66=\"\",\"\",P_14号4様式!E66)","v":""},{"$f":"IF(P_14号4様式!F66=\"\",\"\",P_14号4様式!F66)","v":""},{"$f":"IF(P_14号4様式!G66=\"\",\"\",P_14号4様式!G66)","v":""},{"$f":"IF(P_14号4様式!H66=\"\",\"\",P_14号4様式!H66)","v":""},{"$f":"IF(P_14号4様式!I66=\"\",\"\",P_14号4様式!I66)","v":""},{"$f":"IF(P_14号4様式!J66=\"\",\"\",P_14号4様式!J66)","v":""},{"$f":"IF(P_14号4様式!K66=\"\",\"\",P_14号4様式!K66)","v":""},{"$f":"IF(P_14号4様式!L66=\"\",\"\",P_14号4様式!L66)","v":""},{"$f":"IF(P_14号4様式!M66=\"\",\"\",P_14号4様式!M66)","v":""},{"$f":"IF(P_14号4様式!N66=\"\",\"\",P_14号4様式!N66)","v":""},null,null,{"$f":"IF(P_14号4様式!O66=\"\",\"\",P_14号4様式!O66)","v":""},null,null,{"$f":"IF(P_14号4様式!P66=\"\",\"\",P_14号4様式!P66)","v":""},{"$f":"IF(P_14号4様式!Q66=\"\",\"\",P_14号4様式!Q66)","v":""},{"$f":"IF(P_14号4様式!R66=\"\",\"\",P_14号4様式!R66)","v":""},{"$f":"IF(P_14号4様式!S66=\"\",\"\",P_14号4様式!S66)","v":""},{"$f":"IF(P_14号4様式!T66=\"\",\"\",P_14号4様式!T66)","v":""}]
[{"$f":"IF(P_14号4様式!C67=\"\",\"\",P_14号4様式!C67)","v":""},null,{"$f":"IF(P_14号4様式!D67=\"\",\"\",P_14号4様式!D67)","v":""},{"$f":"IF(P_14号4様式!E67=\"\",\"\",P_14号4様式!E67)","v":""},{"$f":"IF(P_14号4様式!F67=\"\",\"\",P_14号4様式!F67)","v":""},{"$f":"IF(P_14号4様式!G67=\"\",\"\",P_14号4様式!G67)","v":""},{"$f":"IF(P_14号4様式!H67=\"\",\"\",P_14号4様式!H67)","v":""},{"$f":"IF(P_14号4様式!I67=\"\",\"\",P_14号4様式!I67)","v":""},{"$f":"IF(P_14号4様式!J67=\"\",\"\",P_14号4様式!J67)","v":""},{"$f":"IF(P_14号4様式!K67=\"\",\"\",P_14号4様式!K67)","v":""},{"$f":"IF(P_14号4様式!L67=\"\",\"\",P_14号4様式!L67)","v":""},{"$f":"IF(P_14号4様式!M67=\"\",\"\",P_14号4様式!M67)","v":""},{"$f":"IF(P_14号4様式!N67=\"\",\"\",P_14号4様式!N67)","v":""},null,null,{"$f":"IF(P_14号4様式!O67=\"\",\"\",P_14号4様式!O67)","v":""},null,null,{"$f":"IF(P_14号4様式!P67=\"\",\"\",P_14号4様式!P67)","v":""},{"$f":"IF(P_14号4様式!Q67=\"\",\"\",P_14号4様式!Q67)","v":""},{"$f":"IF(P_14号4様式!R67=\"\",\"\",P_14号4様式!R67)","v":""},{"$f":"IF(P_14号4様式!S67=\"\",\"\",P_14号4様式!S67)","v":""},{"$f":"IF(P_14号4様式!T67=\"\",\"\",P_14号4様式!T67)","v":""}]
[{"$f":"IF(P_14号4様式!C68=\"\",\"\",P_14号4様式!C68)","v":""},null,{"$f":"IF(P_14号4様式!D68=\"\",\"\",P_14号4様式!D68)","v":""},{"$f":"IF(P_14号4様式!E68=\"\",\"\",P_14号4様式!E68)","v":""},{"$f":"IF(P_14号4様式!F68=\"\",\"\",P_14号4様式!F68)","v":""},{"$f":"IF(P_14号4様式!G68=\"\",\"\",P_14号4様式!G68)","v":""},{"$f":"IF(P_14号4様式!H68=\"\",\"\",P_14号4様式!H68)","v":""},{"$f":"IF(P_14号4様式!I68=\"\",\"\",P_14号4様式!I68)","v":""},{"$f":"IF(P_14号4様式!J68=\"\",\"\",P_14号4様式!J68)","v":""},{"$f":"IF(P_14号4様式!K68=\"\",\"\",P_14号4様式!K68)","v":""},{"$f":"IF(P_14号4様式!L68=\"\",\"\",P_14号4様式!L68)","v":""},{"$f":"IF(P_14号4様式!M68=\"\",\"\",P_14号4様式!M68)","v":""},{"$f":"IF(P_14号4様式!N68=\"\",\"\",P_14号4様式!N68)","v":""},null,null,{"$f":"IF(P_14号4様式!O68=\"\",\"\",P_14号4様式!O68)","v":""},null,null,{"$f":"IF(P_14号4様式!P68=\"\",\"\",P_14号4様式!P68)","v":""},{"$f":"IF(P_14号4様式!Q68=\"\",\"\",P_14号4様式!Q68)","v":""},{"$f":"IF(P_14号4様式!R68=\"\",\"\",P_14号4様式!R68)","v":""},{"$f":"IF(P_14号4様式!S68=\"\",\"\",P_14号4様式!S68)","v":""},{"$f":"IF(P_14号4様式!T68=\"\",\"\",P_14号4様式!T68)","v":""}]
[{"$f":"IF(P_14号4様式!C69=\"\",\"\",P_14号4様式!C69)","v":""},null,{"$f":"IF(P_14号4様式!D69=\"\",\"\",P_14号4様式!D69)","v":""},{"$f":"IF(P_14号4様式!E69=\"\",\"\",P_14号4様式!E69)","v":""},{"$f":"IF(P_14号4様式!F69=\"\",\"\",P_14号4様式!F69)","v":""},{"$f":"IF(P_14号4様式!G69=\"\",\"\",P_14号4様式!G69)","v":""},{"$f":"IF(P_14号4様式!H69=\"\",\"\",P_14号4様式!H69)","v":""},{"$f":"IF(P_14号4様式!I69=\"\",\"\",P_14号4様式!I69)","v":""},{"$f":"IF(P_14号4様式!J69=\"\",\"\",P_14号4様式!J69)","v":""},{"$f":"IF(P_14号4様式!K69=\"\",\"\",P_14号4様式!K69)","v":""},{"$f":"IF(P_14号4様式!L69=\"\",\"\",P_14号4様式!L69)","v":""},{"$f":"IF(P_14号4様式!M69=\"\",\"\",P_14号4様式!M69)","v":""},{"$f":"IF(P_14号4様式!N69=\"\",\"\",P_14号4様式!N69)","v":""},null,null,{"$f":"IF(P_14号4様式!O69=\"\",\"\",P_14号4様式!O69)","v":""},null,null,{"$f":"IF(P_14号4様式!P69=\"\",\"\",P_14号4様式!P69)","v":""},{"$f":"IF(P_14号4様式!Q69=\"\",\"\",P_14号4様式!Q69)","v":""},{"$f":"IF(P_14号4様式!R69=\"\",\"\",P_14号4様式!R69)","v":""},{"$f":"IF(P_14号4様式!S69=\"\",\"\",P_14号4様式!S69)","v":""},{"$f":"IF(P_14号4様式!T69=\"\",\"\",P_14号4様式!T69)","v":""}]
[{"$f":"IF(P_14号4様式!C70=\"\",\"\",P_14号4様式!C70)","v":""},null,{"$f":"IF(P_14号4様式!D70=\"\",\"\",P_14号4様式!D70)","v":""},{"$f":"IF(P_14号4様式!E70=\"\",\"\",P_14号4様式!E70)","v":""},{"$f":"IF(P_14号4様式!F70=\"\",\"\",P_14号4様式!F70)","v":""},{"$f":"IF(P_14号4様式!G70=\"\",\"\",P_14号4様式!G70)","v":""},{"$f":"IF(P_14号4様式!H70=\"\",\"\",P_14号4様式!H70)","v":""},{"$f":"IF(P_14号4様式!I70=\"\",\"\",P_14号4様式!I70)","v":""},{"$f":"IF(P_14号4様式!J70=\"\",\"\",P_14号4様式!J70)","v":""},{"$f":"IF(P_14号4様式!K70=\"\",\"\",P_14号4様式!K70)","v":""},{"$f":"IF(P_14号4様式!L70=\"\",\"\",P_14号4様式!L70)","v":""},{"$f":"IF(P_14号4様式!M70=\"\",\"\",P_14号4様式!M70)","v":""},{"$f":"IF(P_14号4様式!N70=\"\",\"\",P_14号4様式!N70)","v":""},null,null,{"$f":"IF(P_14号4様式!O70=\"\",\"\",P_14号4様式!O70)","v":""},null,null,{"$f":"IF(P_14号4様式!P70=\"\",\"\",P_14号4様式!P70)","v":""},{"$f":"IF(P_14号4様式!Q70=\"\",\"\",P_14号4様式!Q70)","v":""},{"$f":"IF(P_14号4様式!R70=\"\",\"\",P_14号4様式!R70)","v":""},{"$f":"IF(P_14号4様式!S70=\"\",\"\",P_14号4様式!S70)","v":""},{"$f":"IF(P_14号4様式!T70=\"\",\"\",P_14号4様式!T70)","v":""}]
[{"$f":"IF(P_14号4様式!C71=\"\",\"\",P_14号4様式!C71)","v":""},null,{"$f":"IF(P_14号4様式!D71=\"\",\"\",P_14号4様式!D71)","v":""},{"$f":"IF(P_14号4様式!E71=\"\",\"\",P_14号4様式!E71)","v":""},{"$f":"IF(P_14号4様式!F71=\"\",\"\",P_14号4様式!F71)","v":""},{"$f":"IF(P_14号4様式!G71=\"\",\"\",P_14号4様式!G71)","v":""},{"$f":"IF(P_14号4様式!H71=\"\",\"\",P_14号4様式!H71)","v":""},{"$f":"IF(P_14号4様式!I71=\"\",\"\",P_14号4様式!I71)","v":""},{"$f":"IF(P_14号4様式!J71=\"\",\"\",P_14号4様式!J71)","v":""},{"$f":"IF(P_14号4様式!K71=\"\",\"\",P_14号4様式!K71)","v":""},{"$f":"IF(P_14号4様式!L71=\"\",\"\",P_14号4様式!L71)","v":""},{"$f":"IF(P_14号4様式!M71=\"\",\"\",P_14号4様式!M71)","v":""},{"$f":"IF(P_14号4様式!N71=\"\",\"\",P_14号4様式!N71)","v":""},null,null,{"$f":"IF(P_14号4様式!O71=\"\",\"\",P_14号4様式!O71)","v":""},null,null,{"$f":"IF(P_14号4様式!P71=\"\",\"\",P_14号4様式!P71)","v":""},{"$f":"IF(P_14号4様式!Q71=\"\",\"\",P_14号4様式!Q71)","v":""},{"$f":"IF(P_14号4様式!R71=\"\",\"\",P_14号4様式!R71)","v":""},{"$f":"IF(P_14号4様式!S71=\"\",\"\",P_14号4様式!S71)","v":""},{"$f":"IF(P_14号4様式!T71=\"\",\"\",P_14号4様式!T71)","v":""}]
[{"$f":"IF(P_14号4様式!C72=\"\",\"\",P_14号4様式!C72)","v":""},null,{"$f":"IF(P_14号4様式!D72=\"\",\"\",P_14号4様式!D72)","v":""},{"$f":"IF(P_14号4様式!E72=\"\",\"\",P_14号4様式!E72)","v":""},{"$f":"IF(P_14号4様式!F72=\"\",\"\",P_14号4様式!F72)","v":""},{"$f":"IF(P_14号4様式!G72=\"\",\"\",P_14号4様式!G72)","v":""},{"$f":"IF(P_14号4様式!H72=\"\",\"\",P_14号4様式!H72)","v":""},{"$f":"IF(P_14号4様式!I72=\"\",\"\",P_14号4様式!I72)","v":""},{"$f":"IF(P_14号4様式!J72=\"\",\"\",P_14号4様式!J72)","v":""},{"$f":"IF(P_14号4様式!K72=\"\",\"\",P_14号4様式!K72)","v":""},{"$f":"IF(P_14号4様式!L72=\"\",\"\",P_14号4様式!L72)","v":""},{"$f":"IF(P_14号4様式!M72=\"\",\"\",P_14号4様式!M72)","v":""},{"$f":"IF(P_14号4様式!N72=\"\",\"\",P_14号4様式!N72)","v":""},null,null,{"$f":"IF(P_14号4様式!O72=\"\",\"\",P_14号4様式!O72)","v":""},null,null,{"$f":"IF(P_14号4様式!P72=\"\",\"\",P_14号4様式!P72)","v":""},{"$f":"IF(P_14号4様式!Q72=\"\",\"\",P_14号4様式!Q72)","v":""},{"$f":"IF(P_14号4様式!R72=\"\",\"\",P_14号4様式!R72)","v":""},{"$f":"IF(P_14号4様式!S72=\"\",\"\",P_14号4様式!S72)","v":""},{"$f":"IF(P_14号4様式!T72=\"\",\"\",P_14号4様式!T72)","v":""}]
[{"$f":"IF(P_14号4様式!C73=\"\",\"\",P_14号4様式!C73)","v":""},null,{"$f":"IF(P_14号4様式!D73=\"\",\"\",P_14号4様式!D73)","v":""},{"$f":"IF(P_14号4様式!E73=\"\",\"\",P_14号4様式!E73)","v":""},{"$f":"IF(P_14号4様式!F73=\"\",\"\",P_14号4様式!F73)","v":""},{"$f":"IF(P_14号4様式!G73=\"\",\"\",P_14号4様式!G73)","v":""},{"$f":"IF(P_14号4様式!H73=\"\",\"\",P_14号4様式!H73)","v":""},{"$f":"IF(P_14号4様式!I73=\"\",\"\",P_14号4様式!I73)","v":""},{"$f":"IF(P_14号4様式!J73=\"\",\"\",P_14号4様式!J73)","v":""},{"$f":"IF(P_14号4様式!K73=\"\",\"\",P_14号4様式!K73)","v":""},{"$f":"IF(P_14号4様式!L73=\"\",\"\",P_14号4様式!L73)","v":""},{"$f":"IF(P_14号4様式!M73=\"\",\"\",P_14号4様式!M73)","v":""},{"$f":"IF(P_14号4様式!N73=\"\",\"\",P_14号4様式!N73)","v":""},null,null,{"$f":"IF(P_14号4様式!O73=\"\",\"\",P_14号4様式!O73)","v":""},null,null,{"$f":"IF(P_14号4様式!P73=\"\",\"\",P_14号4様式!P73)","v":""},{"$f":"IF(P_14号4様式!Q73=\"\",\"\",P_14号4様式!Q73)","v":""},{"$f":"IF(P_14号4様式!R73=\"\",\"\",P_14号4様式!R73)","v":""},{"$f":"IF(P_14号4様式!S73=\"\",\"\",P_14号4様式!S73)","v":""},{"$f":"IF(P_14号4様式!T73=\"\",\"\",P_14号4様式!T73)","v":""}]
[{"$f":"IF(P_14号4様式!C74=\"\",\"\",P_14号4様式!C74)","v":""},null,{"$f":"IF(P_14号4様式!D74=\"\",\"\",P_14号4様式!D74)","v":""},{"$f":"IF(P_14号4様式!E74=\"\",\"\",P_14号4様式!E74)","v":""},{"$f":"IF(P_14号4様式!F74=\"\",\"\",P_14号4様式!F74)","v":""},{"$f":"IF(P_14号4様式!G74=\"\",\"\",P_14号4様式!G74)","v":""},{"$f":"IF(P_14号4様式!H74=\"\",\"\",P_14号4様式!H74)","v":""},{"$f":"IF(P_14号4様式!I74=\"\",\"\",P_14号4様式!I74)","v":""},{"$f":"IF(P_14号4様式!J74=\"\",\"\",P_14号4様式!J74)","v":""},{"$f":"IF(P_14号4様式!K74=\"\",\"\",P_14号4様式!K74)","v":""},{"$f":"IF(P_14号4様式!L74=\"\",\"\",P_14号4様式!L74)","v":""},{"$f":"IF(P_14号4様式!M74=\"\",\"\",P_14号4様式!M74)","v":""},{"$f":"IF(P_14号4様式!N74=\"\",\"\",P_14号4様式!N74)","v":""},null,null,{"$f":"IF(P_14号4様式!O74=\"\",\"\",P_14号4様式!O74)","v":""},null,null,{"$f":"IF(P_14号4様式!P74=\"\",\"\",P_14号4様式!P74)","v":""},{"$f":"IF(P_14号4様式!Q74=\"\",\"\",P_14号4様式!Q74)","v":""},{"$f":"IF(P_14号4様式!R74=\"\",\"\",P_14号4様式!R74)","v":""},{"$f":"IF(P_14号4様式!S74=\"\",\"\",P_14号4様式!S74)","v":""},{"$f":"IF(P_14号4様式!T74=\"\",\"\",P_14号4様式!T74)","v":""}]
[{"$f":"IF(P_14号4様式!C75=\"\",\"\",P_14号4様式!C75)","v":""},null,{"$f":"IF(P_14号4様式!D75=\"\",\"\",P_14号4様式!D75)","v":""},{"$f":"IF(P_14号4様式!E75=\"\",\"\",P_14号4様式!E75)","v":""},{"$f":"IF(P_14号4様式!F75=\"\",\"\",P_14号4様式!F75)","v":""},{"$f":"IF(P_14号4様式!G75=\"\",\"\",P_14号4様式!G75)","v":""},{"$f":"IF(P_14号4様式!H75=\"\",\"\",P_14号4様式!H75)","v":""},{"$f":"IF(P_14号4様式!I75=\"\",\"\",P_14号4様式!I75)","v":""},{"$f":"IF(P_14号4様式!J75=\"\",\"\",P_14号4様式!J75)","v":""},{"$f":"IF(P_14号4様式!K75=\"\",\"\",P_14号4様式!K75)","v":""},{"$f":"IF(P_14号4様式!L75=\"\",\"\",P_14号4様式!L75)","v":""},{"$f":"IF(P_14号4様式!M75=\"\",\"\",P_14号4様式!M75)","v":""},{"$f":"IF(P_14号4様式!N75=\"\",\"\",P_14号4様式!N75)","v":""},null,null,{"$f":"IF(P_14号4様式!O75=\"\",\"\",P_14号4様式!O75)","v":""},null,null,{"$f":"IF(P_14号4様式!P75=\"\",\"\",P_14号4様式!P75)","v":""},{"$f":"IF(P_14号4様式!Q75=\"\",\"\",P_14号4様式!Q75)","v":""},{"$f":"IF(P_14号4様式!R75=\"\",\"\",P_14号4様式!R75)","v":""},{"$f":"IF(P_14号4様式!S75=\"\",\"\",P_14号4様式!S75)","v":""},{"$f":"IF(P_14号4様式!T75=\"\",\"\",P_14号4様式!T75)","v":""}]
[{"$f":"IF(P_14号4様式!C76=\"\",\"\",P_14号4様式!C76)","v":""},null,{"$f":"IF(P_14号4様式!D76=\"\",\"\",P_14号4様式!D76)","v":""},{"$f":"IF(P_14号4様式!E76=\"\",\"\",P_14号4様式!E76)","v":""},{"$f":"IF(P_14号4様式!F76=\"\",\"\",P_14号4様式!F76)","v":""},{"$f":"IF(P_14号4様式!G76=\"\",\"\",P_14号4様式!G76)","v":""},{"$f":"IF(P_14号4様式!H76=\"\",\"\",P_14号4様式!H76)","v":""},{"$f":"IF(P_14号4様式!I76=\"\",\"\",P_14号4様式!I76)","v":""},{"$f":"IF(P_14号4様式!J76=\"\",\"\",P_14号4様式!J76)","v":""},{"$f":"IF(P_14号4様式!K76=\"\",\"\",P_14号4様式!K76)","v":""},{"$f":"IF(P_14号4様式!L76=\"\",\"\",P_14号4様式!L76)","v":""},{"$f":"IF(P_14号4様式!M76=\"\",\"\",P_14号4様式!M76)","v":""},{"$f":"IF(P_14号4様式!N76=\"\",\"\",P_14号4様式!N76)","v":""},null,null,{"$f":"IF(P_14号4様式!O76=\"\",\"\",P_14号4様式!O76)","v":""},null,null,{"$f":"IF(P_14号4様式!P76=\"\",\"\",P_14号4様式!P76)","v":""},{"$f":"IF(P_14号4様式!Q76=\"\",\"\",P_14号4様式!Q76)","v":""},{"$f":"IF(P_14号4様式!R76=\"\",\"\",P_14号4様式!R76)","v":""},{"$f":"IF(P_14号4様式!S76=\"\",\"\",P_14号4様式!S76)","v":""},{"$f":"IF(P_14号4様式!T76=\"\",\"\",P_14号4様式!T76)","v":""}]
[{"$f":"IF(P_14号4様式!C77=\"\",\"\",P_14号4様式!C77)","v":""},null,{"$f":"IF(P_14号4様式!D77=\"\",\"\",P_14号4様式!D77)","v":""},{"$f":"IF(P_14号4様式!E77=\"\",\"\",P_14号4様式!E77)","v":""},{"$f":"IF(P_14号4様式!F77=\"\",\"\",P_14号4様式!F77)","v":""},{"$f":"IF(P_14号4様式!G77=\"\",\"\",P_14号4様式!G77)","v":""},{"$f":"IF(P_14号4様式!H77=\"\",\"\",P_14号4様式!H77)","v":""},{"$f":"IF(P_14号4様式!I77=\"\",\"\",P_14号4様式!I77)","v":""},{"$f":"IF(P_14号4様式!J77=\"\",\"\",P_14号4様式!J77)","v":""},{"$f":"IF(P_14号4様式!K77=\"\",\"\",P_14号4様式!K77)","v":""},{"$f":"IF(P_14号4様式!L77=\"\",\"\",P_14号4様式!L77)","v":""},{"$f":"IF(P_14号4様式!M77=\"\",\"\",P_14号4様式!M77)","v":""},{"$f":"IF(P_14号4様式!N77=\"\",\"\",P_14号4様式!N77)","v":""},null,null,{"$f":"IF(P_14号4様式!O77=\"\",\"\",P_14号4様式!O77)","v":""},null,null,{"$f":"IF(P_14号4様式!P77=\"\",\"\",P_14号4様式!P77)","v":""},{"$f":"IF(P_14号4様式!Q77=\"\",\"\",P_14号4様式!Q77)","v":""},{"$f":"IF(P_14号4様式!R77=\"\",\"\",P_14号4様式!R77)","v":""},{"$f":"IF(P_14号4様式!S77=\"\",\"\",P_14号4様式!S77)","v":""},{"$f":"IF(P_14号4様式!T77=\"\",\"\",P_14号4様式!T77)","v":""}]
[{"$f":"IF(P_14号4様式!C78=\"\",\"\",P_14号4様式!C78)","v":""},null,{"$f":"IF(P_14号4様式!D78=\"\",\"\",P_14号4様式!D78)","v":""},{"$f":"IF(P_14号4様式!E78=\"\",\"\",P_14号4様式!E78)","v":""},{"$f":"IF(P_14号4様式!F78=\"\",\"\",P_14号4様式!F78)","v":""},{"$f":"IF(P_14号4様式!G78=\"\",\"\",P_14号4様式!G78)","v":""},{"$f":"IF(P_14号4様式!H78=\"\",\"\",P_14号4様式!H78)","v":""},{"$f":"IF(P_14号4様式!I78=\"\",\"\",P_14号4様式!I78)","v":""},{"$f":"IF(P_14号4様式!J78=\"\",\"\",P_14号4様式!J78)","v":""},{"$f":"IF(P_14号4様式!K78=\"\",\"\",P_14号4様式!K78)","v":""},{"$f":"IF(P_14号4様式!L78=\"\",\"\",P_14号4様式!L78)","v":""},{"$f":"IF(P_14号4様式!M78=\"\",\"\",P_14号4様式!M78)","v":""},{"$f":"IF(P_14号4様式!N78=\"\",\"\",P_14号4様式!N78)","v":""},null,null,{"$f":"IF(P_14号4様式!O78=\"\",\"\",P_14号4様式!O78)","v":""},null,null,{"$f":"IF(P_14号4様式!P78=\"\",\"\",P_14号4様式!P78)","v":""},{"$f":"IF(P_14号4様式!Q78=\"\",\"\",P_14号4様式!Q78)","v":""},{"$f":"IF(P_14号4様式!R78=\"\",\"\",P_14号4様式!R78)","v":""},{"$f":"IF(P_14号4様式!S78=\"\",\"\",P_14号4様式!S78)","v":""},{"$f":"IF(P_14号4様式!T78=\"\",\"\",P_14号4様式!T78)","v":""}]
[{"$f":"IF(P_14号4様式!C79=\"\",\"\",P_14号4様式!C79)","v":""},null,{"$f":"IF(P_14号4様式!D79=\"\",\"\",P_14号4様式!D79)","v":""},{"$f":"IF(P_14号4様式!E79=\"\",\"\",P_14号4様式!E79)","v":""},{"$f":"IF(P_14号4様式!F79=\"\",\"\",P_14号4様式!F79)","v":""},{"$f":"IF(P_14号4様式!G79=\"\",\"\",P_14号4様式!G79)","v":""},{"$f":"IF(P_14号4様式!H79=\"\",\"\",P_14号4様式!H79)","v":""},{"$f":"IF(P_14号4様式!I79=\"\",\"\",P_14号4様式!I79)","v":""},{"$f":"IF(P_14号4様式!J79=\"\",\"\",P_14号4様式!J79)","v":""},{"$f":"IF(P_14号4様式!K79=\"\",\"\",P_14号4様式!K79)","v":""},{"$f":"IF(P_14号4様式!L79=\"\",\"\",P_14号4様式!L79)","v":""},{"$f":"IF(P_14号4様式!M79=\"\",\"\",P_14号4様式!M79)","v":""},{"$f":"IF(P_14号4様式!N79=\"\",\"\",P_14号4様式!N79)","v":""},null,null,{"$f":"IF(P_14号4様式!O79=\"\",\"\",P_14号4様式!O79)","v":""},null,null,{"$f":"IF(P_14号4様式!P79=\"\",\"\",P_14号4様式!P79)","v":""},{"$f":"IF(P_14号4様式!Q79=\"\",\"\",P_14号4様式!Q79)","v":""},{"$f":"IF(P_14号4様式!R79=\"\",\"\",P_14号4様式!R79)","v":""},{"$f":"IF(P_14号4様式!S79=\"\",\"\",P_14号4様式!S79)","v":""},{"$f":"IF(P_14号4様式!T79=\"\",\"\",P_14号4様式!T79)","v":""}]
[{"$f":"IF(P_14号4様式!C80=\"\",\"\",P_14号4様式!C80)","v":""},null,{"$f":"IF(P_14号4様式!D80=\"\",\"\",P_14号4様式!D80)","v":""},{"$f":"IF(P_14号4様式!E80=\"\",\"\",P_14号4様式!E80)","v":""},{"$f":"IF(P_14号4様式!F80=\"\",\"\",P_14号4様式!F80)","v":""},{"$f":"IF(P_14号4様式!G80=\"\",\"\",P_14号4様式!G80)","v":""},{"$f":"IF(P_14号4様式!H80=\"\",\"\",P_14号4様式!H80)","v":""},{"$f":"IF(P_14号4様式!I80=\"\",\"\",P_14号4様式!I80)","v":""},{"$f":"IF(P_14号4様式!J80=\"\",\"\",P_14号4様式!J80)","v":""},{"$f":"IF(P_14号4様式!K80=\"\",\"\",P_14号4様式!K80)","v":""},{"$f":"IF(P_14号4様式!L80=\"\",\"\",P_14号4様式!L80)","v":""},{"$f":"IF(P_14号4様式!M80=\"\",\"\",P_14号4様式!M80)","v":""},{"$f":"IF(P_14号4様式!N80=\"\",\"\",P_14号4様式!N80)","v":""},null,null,{"$f":"IF(P_14号4様式!O80=\"\",\"\",P_14号4様式!O80)","v":""},null,null,{"$f":"IF(P_14号4様式!P80=\"\",\"\",P_14号4様式!P80)","v":""},{"$f":"IF(P_14号4様式!Q80=\"\",\"\",P_14号4様式!Q80)","v":""},{"$f":"IF(P_14号4様式!R80=\"\",\"\",P_14号4様式!R80)","v":""},{"$f":"IF(P_14号4様式!S80=\"\",\"\",P_14号4様式!S80)","v":""},{"$f":"IF(P_14号4様式!T80=\"\",\"\",P_14号4様式!T80)","v":""}]
[{"$f":"IF(P_14号4様式!C81=\"\",\"\",P_14号4様式!C81)","v":""},null,{"$f":"IF(P_14号4様式!D81=\"\",\"\",P_14号4様式!D81)","v":""},{"$f":"IF(P_14号4様式!E81=\"\",\"\",P_14号4様式!E81)","v":""},{"$f":"IF(P_14号4様式!F81=\"\",\"\",P_14号4様式!F81)","v":""},{"$f":"IF(P_14号4様式!G81=\"\",\"\",P_14号4様式!G81)","v":""},{"$f":"IF(P_14号4様式!H81=\"\",\"\",P_14号4様式!H81)","v":""},{"$f":"IF(P_14号4様式!I81=\"\",\"\",P_14号4様式!I81)","v":""},{"$f":"IF(P_14号4様式!J81=\"\",\"\",P_14号4様式!J81)","v":""},{"$f":"IF(P_14号4様式!K81=\"\",\"\",P_14号4様式!K81)","v":""},{"$f":"IF(P_14号4様式!L81=\"\",\"\",P_14号4様式!L81)","v":""},{"$f":"IF(P_14号4様式!M81=\"\",\"\",P_14号4様式!M81)","v":""},{"$f":"IF(P_14号4様式!N81=\"\",\"\",P_14号4様式!N81)","v":""},null,null,{"$f":"IF(P_14号4様式!O81=\"\",\"\",P_14号4様式!O81)","v":""},null,null,{"$f":"IF(P_14号4様式!P81=\"\",\"\",P_14号4様式!P81)","v":""},{"$f":"IF(P_14号4様式!Q81=\"\",\"\",P_14号4様式!Q81)","v":""},{"$f":"IF(P_14号4様式!R81=\"\",\"\",P_14号4様式!R81)","v":""},{"$f":"IF(P_14号4様式!S81=\"\",\"\",P_14号4様式!S81)","v":""},{"$f":"IF(P_14号4様式!T81=\"\",\"\",P_14号4様式!T81)","v":""}]
[{"$f":"IF(P_14号4様式!C82=\"\",\"\",P_14号4様式!C82)","v":""},null,{"$f":"IF(P_14号4様式!D82=\"\",\"\",P_14号4様式!D82)","v":""},{"$f":"IF(P_14号4様式!E82=\"\",\"\",P_14号4様式!E82)","v":""},{"$f":"IF(P_14号4様式!F82=\"\",\"\",P_14号4様式!F82)","v":""},{"$f":"IF(P_14号4様式!G82=\"\",\"\",P_14号4様式!G82)","v":""},{"$f":"IF(P_14号4様式!H82=\"\",\"\",P_14号4様式!H82)","v":""},{"$f":"IF(P_14号4様式!I82=\"\",\"\",P_14号4様式!I82)","v":""},{"$f":"IF(P_14号4様式!J82=\"\",\"\",P_14号4様式!J82)","v":""},{"$f":"IF(P_14号4様式!K82=\"\",\"\",P_14号4様式!K82)","v":""},{"$f":"IF(P_14号4様式!L82=\"\",\"\",P_14号4様式!L82)","v":""},{"$f":"IF(P_14号4様式!M82=\"\",\"\",P_14号4様式!M82)","v":""},{"$f":"IF(P_14号4様式!N82=\"\",\"\",P_14号4様式!N82)","v":""},null,null,{"$f":"IF(P_14号4様式!O82=\"\",\"\",P_14号4様式!O82)","v":""},null,null,{"$f":"IF(P_14号4様式!P82=\"\",\"\",P_14号4様式!P82)","v":""},{"$f":"IF(P_14号4様式!Q82=\"\",\"\",P_14号4様式!Q82)","v":""},{"$f":"IF(P_14号4様式!R82=\"\",\"\",P_14号4様式!R82)","v":""},{"$f":"IF(P_14号4様式!S82=\"\",\"\",P_14号4様式!S82)","v":""},{"$f":"IF(P_14号4様式!T82=\"\",\"\",P_14号4様式!T82)","v":""}]
[{"$f":"IF(P_14号4様式!C83=\"\",\"\",P_14号4様式!C83)","v":""},null,{"$f":"IF(P_14号4様式!D83=\"\",\"\",P_14号4様式!D83)","v":""},{"$f":"IF(P_14号4様式!E83=\"\",\"\",P_14号4様式!E83)","v":""},{"$f":"IF(P_14号4様式!F83=\"\",\"\",P_14号4様式!F83)","v":""},{"$f":"IF(P_14号4様式!G83=\"\",\"\",P_14号4様式!G83)","v":""},{"$f":"IF(P_14号4様式!H83=\"\",\"\",P_14号4様式!H83)","v":""},{"$f":"IF(P_14号4様式!I83=\"\",\"\",P_14号4様式!I83)","v":""},{"$f":"IF(P_14号4様式!J83=\"\",\"\",P_14号4様式!J83)","v":""},{"$f":"IF(P_14号4様式!K83=\"\",\"\",P_14号4様式!K83)","v":""},{"$f":"IF(P_14号4様式!L83=\"\",\"\",P_14号4様式!L83)","v":""},{"$f":"IF(P_14号4様式!M83=\"\",\"\",P_14号4様式!M83)","v":""},{"$f":"IF(P_14号4様式!N83=\"\",\"\",P_14号4様式!N83)","v":""},null,null,{"$f":"IF(P_14号4様式!O83=\"\",\"\",P_14号4様式!O83)","v":""},null,null,{"$f":"IF(P_14号4様式!P83=\"\",\"\",P_14号4様式!P83)","v":""},{"$f":"IF(P_14号4様式!Q83=\"\",\"\",P_14号4様式!Q83)","v":""},{"$f":"IF(P_14号4様式!R83=\"\",\"\",P_14号4様式!R83)","v":""},{"$f":"IF(P_14号4様式!S83=\"\",\"\",P_14号4様式!S83)","v":""},{"$f":"IF(P_14号4様式!T83=\"\",\"\",P_14号4様式!T83)","v":""}]
[{"$f":"IF(P_14号4様式!C84=\"\",\"\",P_14号4様式!C84)","v":""},null,{"$f":"IF(P_14号4様式!D84=\"\",\"\",P_14号4様式!D84)","v":""},{"$f":"IF(P_14号4様式!E84=\"\",\"\",P_14号4様式!E84)","v":""},{"$f":"IF(P_14号4様式!F84=\"\",\"\",P_14号4様式!F84)","v":""},{"$f":"IF(P_14号4様式!G84=\"\",\"\",P_14号4様式!G84)","v":""},{"$f":"IF(P_14号4様式!H84=\"\",\"\",P_14号4様式!H84)","v":""},{"$f":"IF(P_14号4様式!I84=\"\",\"\",P_14号4様式!I84)","v":""},{"$f":"IF(P_14号4様式!J84=\"\",\"\",P_14号4様式!J84)","v":""},{"$f":"IF(P_14号4様式!K84=\"\",\"\",P_14号4様式!K84)","v":""},{"$f":"IF(P_14号4様式!L84=\"\",\"\",P_14号4様式!L84)","v":""},{"$f":"IF(P_14号4様式!M84=\"\",\"\",P_14号4様式!M84)","v":""},{"$f":"IF(P_14号4様式!N84=\"\",\"\",P_14号4様式!N84)","v":""},null,null,{"$f":"IF(P_14号4様式!O84=\"\",\"\",P_14号4様式!O84)","v":""},null,null,{"$f":"IF(P_14号4様式!P84=\"\",\"\",P_14号4様式!P84)","v":""},{"$f":"IF(P_14号4様式!Q84=\"\",\"\",P_14号4様式!Q84)","v":""},{"$f":"IF(P_14号4様式!R84=\"\",\"\",P_14号4様式!R84)","v":""},{"$f":"IF(P_14号4様式!S84=\"\",\"\",P_14号4様式!S84)","v":""},{"$f":"IF(P_14号4様式!T84=\"\",\"\",P_14号4様式!T84)","v":""}]
[{"$f":"IF(P_14号4様式!C85=\"\",\"\",P_14号4様式!C85)","v":""},null,{"$f":"IF(P_14号4様式!D85=\"\",\"\",P_14号4様式!D85)","v":""},{"$f":"IF(P_14号4様式!E85=\"\",\"\",P_14号4様式!E85)","v":""},{"$f":"IF(P_14号4様式!F85=\"\",\"\",P_14号4様式!F85)","v":""},{"$f":"IF(P_14号4様式!G85=\"\",\"\",P_14号4様式!G85)","v":""},{"$f":"IF(P_14号4様式!H85=\"\",\"\",P_14号4様式!H85)","v":""},{"$f":"IF(P_14号4様式!I85=\"\",\"\",P_14号4様式!I85)","v":""},{"$f":"IF(P_14号4様式!J85=\"\",\"\",P_14号4様式!J85)","v":""},{"$f":"IF(P_14号4様式!K85=\"\",\"\",P_14号4様式!K85)","v":""},{"$f":"IF(P_14号4様式!L85=\"\",\"\",P_14号4様式!L85)","v":""},{"$f":"IF(P_14号4様式!M85=\"\",\"\",P_14号4様式!M85)","v":""},{"$f":"IF(P_14号4様式!N85=\"\",\"\",P_14号4様式!N85)","v":""},null,null,{"$f":"IF(P_14号4様式!O85=\"\",\"\",P_14号4様式!O85)","v":""},null,null,{"$f":"IF(P_14号4様式!P85=\"\",\"\",P_14号4様式!P85)","v":""},{"$f":"IF(P_14号4様式!Q85=\"\",\"\",P_14号4様式!Q85)","v":""},{"$f":"IF(P_14号4様式!R85=\"\",\"\",P_14号4様式!R85)","v":""},{"$f":"IF(P_14号4様式!S85=\"\",\"\",P_14号4様式!S85)","v":""},{"$f":"IF(P_14号4様式!T85=\"\",\"\",P_14号4様式!T85)","v":""}]
[{"$f":"IF(P_14号4様式!C86=\"\",\"\",P_14号4様式!C86)","v":""},null,{"$f":"IF(P_14号4様式!D86=\"\",\"\",P_14号4様式!D86)","v":""},{"$f":"IF(P_14号4様式!E86=\"\",\"\",P_14号4様式!E86)","v":""},{"$f":"IF(P_14号4様式!F86=\"\",\"\",P_14号4様式!F86)","v":""},{"$f":"IF(P_14号4様式!G86=\"\",\"\",P_14号4様式!G86)","v":""},{"$f":"IF(P_14号4様式!H86=\"\",\"\",P_14号4様式!H86)","v":""},{"$f":"IF(P_14号4様式!I86=\"\",\"\",P_14号4様式!I86)","v":""},{"$f":"IF(P_14号4様式!J86=\"\",\"\",P_14号4様式!J86)","v":""},{"$f":"IF(P_14号4様式!K86=\"\",\"\",P_14号4様式!K86)","v":""},{"$f":"IF(P_14号4様式!L86=\"\",\"\",P_14号4様式!L86)","v":""},{"$f":"IF(P_14号4様式!M86=\"\",\"\",P_14号4様式!M86)","v":""},{"$f":"IF(P_14号4様式!N86=\"\",\"\",P_14号4様式!N86)","v":""},null,null,{"$f":"IF(P_14号4様式!O86=\"\",\"\",P_14号4様式!O86)","v":""},null,null,{"$f":"IF(P_14号4様式!P86=\"\",\"\",P_14号4様式!P86)","v":""},{"$f":"IF(P_14号4様式!Q86=\"\",\"\",P_14号4様式!Q86)","v":""},{"$f":"IF(P_14号4様式!R86=\"\",\"\",P_14号4様式!R86)","v":""},{"$f":"IF(P_14号4様式!S86=\"\",\"\",P_14号4様式!S86)","v":""},{"$f":"IF(P_14号4様式!T86=\"\",\"\",P_14号4様式!T86)","v":""}]
[{"$f":"IF(P_14号4様式!C87=\"\",\"\",P_14号4様式!C87)","v":""},null,{"$f":"IF(P_14号4様式!D87=\"\",\"\",P_14号4様式!D87)","v":""},{"$f":"IF(P_14号4様式!E87=\"\",\"\",P_14号4様式!E87)","v":""},{"$f":"IF(P_14号4様式!F87=\"\",\"\",P_14号4様式!F87)","v":""},{"$f":"IF(P_14号4様式!G87=\"\",\"\",P_14号4様式!G87)","v":""},{"$f":"IF(P_14号4様式!H87=\"\",\"\",P_14号4様式!H87)","v":""},{"$f":"IF(P_14号4様式!I87=\"\",\"\",P_14号4様式!I87)","v":""},{"$f":"IF(P_14号4様式!J87=\"\",\"\",P_14号4様式!J87)","v":""},{"$f":"IF(P_14号4様式!K87=\"\",\"\",P_14号4様式!K87)","v":""},{"$f":"IF(P_14号4様式!L87=\"\",\"\",P_14号4様式!L87)","v":""},{"$f":"IF(P_14号4様式!M87=\"\",\"\",P_14号4様式!M87)","v":""},{"$f":"IF(P_14号4様式!N87=\"\",\"\",P_14号4様式!N87)","v":""},null,null,{"$f":"IF(P_14号4様式!O87=\"\",\"\",P_14号4様式!O87)","v":""},null,null,{"$f":"IF(P_14号4様式!P87=\"\",\"\",P_14号4様式!P87)","v":""},{"$f":"IF(P_14号4様式!Q87=\"\",\"\",P_14号4様式!Q87)","v":""},{"$f":"IF(P_14号4様式!R87=\"\",\"\",P_14号4様式!R87)","v":""},{"$f":"IF(P_14号4様式!S87=\"\",\"\",P_14号4様式!S87)","v":""},{"$f":"IF(P_14号4様式!T87=\"\",\"\",P_14号4様式!T87)","v":""}]
[]
["市　計",null,{"$f":"IF(P_14号4様式!U45=\"\",\"\",P_14号4様式!U45)","v":562431},{"$f":"IF(P_14号4様式!V45=\"\",\"\",P_14号4様式!V45)","v":651585},{"$f":"IF(P_14号4様式!W45=\"\",\"\",P_14号4様式!W45)","v":1214016},{"$f":"IF(P_14号4様式!X45=\"\",\"\",P_14号4様式!X45)","v":58723},{"$f":"IF(P_14号4様式!Y45=\"\",\"\",P_14号4様式!Y45)","v":54398},{"$f":"IF(P_14号4様式!Z45=\"\",\"\",P_14号4様式!Z45)","v":113121},{"$f":"IF(P_14号4様式!AA45=\"\",\"\",P_14号4様式!AA45)","v":""},{"$f":"IF(P_14号4様式!AB45=\"\",\"\",P_14号4様式!AB45)","v":""},{"$f":"IF(P_14号4様式!AC45=\"\",\"\",P_14号4様式!AC45)","v":""},{"$f":"IF(P_14号4様式!AD45=\"\",\"\",P_14号4様式!AD45)","v":10.4409251979354},{"$f":"IF(P_14号4様式!AE45=\"\",\"\",P_14号4様式!AE45)","v":8.3485654212420499},null,null,{"$f":"IF(P_14号4様式!AF45=\"\",\"\",P_14号4様式!AF45)","v":9.3179167325636598},null,null,null,{"$f":"IF(P_14号4様式!AG45=\"\",\"\",P_14号4様式!AG45)","v":""},{"$f":"IF(P_14号4様式!AH45=\"\",\"\",P_14号4様式!AH45)","v":17.147272125000899},{"$f":"IF(P_14号4様式!AI45=\"\",\"\",P_14号4様式!AI45)","v":14.7837869647486},{"$f":"IF(P_14号4様式!AJ45=\"\",\"\",P_14号4様式!AJ45)","v":15.8741060934393}]
["町村計",null,{"$f":"IF(P_14号4様式!AK45=\"\",\"\",P_14号4様式!AK45)","v":75099},{"$f":"IF(P_14号4様式!AL45=\"\",\"\",P_14号4様式!AL45)","v":81129},{"$f":"IF(P_14号4様式!AM45=\"\",\"\",P_14号4様式!AM45)","v":156228},{"$f":"IF(P_14号4様式!AN45=\"\",\"\",P_14号4様式!AN45)","v":14555},{"$f":"IF(P_14号4様式!AO45=\"\",\"\",P_14号4様式!AO45)","v":13152},{"$f":"IF(P_14号4様式!AP45=\"\",\"\",P_14号4様式!AP45)","v":27707},{"$f":"IF(P_14号4様式!AQ45=\"\",\"\",P_14号4様式!AQ45)","v":""},{"$f":"IF(P_14号4様式!AR45=\"\",\"\",P_14号4様式!AR45)","v":""},{"$f":"IF(P_14号4様式!AS45=\"\",\"\",P_14号4様式!AS45)","v":""},{"$f":"IF(P_14号4様式!AT45=\"\",\"\",P_14号4様式!AT45)","v":19.381083636266801},{"$f":"IF(P_14号4様式!AU45=\"\",\"\",P_14号4様式!AU45)","v":16.211219169470802},null,null,{"$f":"IF(P_14号4様式!AV45=\"\",\"\",P_14号4様式!AV45)","v":17.734977084773501},null,null,null,{"$f":"IF(P_14号4様式!AW45=\"\",\"\",P_14号4様式!AW45)","v":""},{"$f":"IF(P_14号4様式!AX45=\"\",\"\",P_14号4様式!AX45)","v":24.265901727515999},{"$f":"IF(P_14号4様式!AY45=\"\",\"\",P_14号4様式!AY45)","v":21.582103159297301},{"$f":"IF(P_14号4様式!AZ45=\"\",\"\",P_14号4様式!AZ45)","v":22.862764748298201}]
["県計",null,{"$f":"IF(P_14号4様式!BA45=\"\",\"\",P_14号4様式!BA45)","v":637530},{"$f":"IF(P_14号4様式!BB45=\"\",\"\",P_14号4様式!BB45)","v":732714},{"$f":"IF(P_14号4様式!BC45=\"\",\"\",P_14号4様式!BC45)","v":1370244},{"$f":"IF(P_14号4様式!BD45=\"\",\"\",P_14号4様式!BD45)","v":73278},{"$f":"IF(P_14号4様式!BE45=\"\",\"\",P_14号4様式!BE45)","v":67550},{"$f":"IF(P_14号4様式!BF45=\"\",\"\",P_14号4様式!BF45)","v":140828},{"$f":"IF(P_14号4様式!BG45=\"\",\"\",P_14号4様式!BG45)","v":""},{"$f":"IF(P_14号4様式!BH45=\"\",\"\",P_14号4様式!BH45)","v":""},{"$f":"IF(P_14号4様式!BI45=\"\",\"\",P_14号4様式!BI45)","v":""},{"$f":"IF(P_14号4様式!BJ45=\"\",\"\",P_14号4様式!BJ45)","v":11.4940473389488},{"$f":"IF(P_14号4様式!BK45=\"\",\"\",P_14号4様式!BK45)","v":9.2191496272761295},null,null,{"$f":"IF(P_14号4様式!BL45=\"\",\"\",P_14号4様式!BL45)","v":10.2775855978935},null,null,null,{"$f":"IF(P_14号4様式!BM45=\"\",\"\",P_14号4様式!BM45)","v":""},{"$f":"IF(P_14号4様式!BN45=\"\",\"\",P_14号4様式!BN45)","v":18.008261608303101},{"$f":"IF(P_14号4様式!BO45=\"\",\"\",P_14号4様式!BO45)","v":15.561091191434301},{"$f":"IF(P_14号4様式!BP45=\"\",\"\",P_14号4様式!BP45)","v":16.6945735766759}]

{"sheet":"パラメタシート","index":1,"n_rows":1,"n_cols":2,"rows_kept":1,"cut":false,"hidden":false,"merged":[]}
["執行日","2019-07-21"]

{"sheet":"P_14号4様式","index":2,"n_rows":87,"n_cols":71,"rows_kept":87,"cut":false,"hidden":false,"merged":[]}
["頁番号","行番号","市区町村名","当日有権者男","当日有権者女","当日有権者計","投票者男","投票者女","投票者計","棄権者男","棄権者女","棄権者計","投票率男","投票率女","投票率計","投票率順位","投票結了時刻","前回投票率男","前回投票率女","前回投票率計","市部有権者男","市部有権者女","市部有権者計","市部投票者男","市部投票者女","市部投票者計","市部棄権者男","市部棄権者女","市部棄権者計","市部投票率男","市部投票率女","市部投票率計","市部投票結了時刻","市部前回投票率男","市部前回投票率女","市部前回投票率計","郡部有権者男","郡部有権者女","郡部有権者計","郡部投票者男","郡部投票者女","郡部投票者計","郡部棄権者男","郡部棄権者女","郡部棄権者計","郡部投票率男","郡部投票率女","郡部投票率計","郡部投票結了時刻","郡部前回投票率男","郡部前回投票率女","郡部前回投票率計","県計有権者男","県計有権者女","県計有権者計","県計投票者男","県計投票者女","県計投票者計","県計棄権者男","県計棄権者女","県計棄権者計","県計投票率男","県計投票率女","県計投票率計","県計投票結了時刻","県計前回投票率男","県計前回投票率女","県計前回投票率計","選挙名","報告回数","投票時刻"]
[1,1,"　 鹿児島市",229194,272963,502157,17280,16064,33344,null,null,null,7.5394643838844004,5.8850466913098103,6.6401543740304296,null,null,14.015449070437301,11.8299621543794,12.8273559972196,562431,651585,1214016,58723,54398,113121,null,null,null,10.4409251979354,8.3485654212420499,9.3179167325636598,null,17.147272125000899,14.7837869647486,15.8741060934393,75099,81129,156228,14555,13152,27707,null,null,null,19.381083636266801,16.211219169470802,17.734977084773501,null,24.265901727515999,21.582103159297301,22.862764748298201,637530,732714,1370244,73278,67550,140828,null,null,null,11.4940473389488,9.2191496272761295,10.2775855978935,null,18.008261608303101,15.561091191434301,16.6945735766759,"参議院選挙区選出議員選挙",2,"11:00:00"]
[1,2,"　 鹿屋市",40055,44650,84705,4585,4180,8765,null,null,null,11.446760704032,9.3617021276595693,10.347677232749,null,null,14.8603184887981,12.7421247205189,13.738569753810101,562431,651585,1214016,58723,54398,113121,null,null,null,10.4409251979354,8.3485654212420499,9.3179167325636598,null,17.147272125000899,14.7837869647486,15.8741060934393,75099,81129,156228,14555,13152,27707,null,null,null,19.381083636266801,16.211219169470802,17.734977084773501,null,24.265901727515999,21.582103159297301,22.862764748298201,637530,732714,1370244,73278,67550,140828,null,null,null,11.4940473389488,9.2191496272761295,10.2775855978935,null,18.008261608303101,15.561091191434301,16.6945735766759,"参議院選挙区選出議員選挙",2,"11:00:00"]
[1,3,"　 枕崎市",8288,9837,18125,944,970,1914,null,null,null,11.3899613899614,9.8607298973264204,10.56,null,null,22.015485958627099,19.707680550248401,20.7520527169081,562431,651585,1214016,58723,54398,113121,null,null,null,10.4409251979354,8.3485654212420499,9.3179167325636598,null,17.147272125000899,14.7837869647486,15.8741060934393,75099,81129,156228,14555,13152,27707,null,null,null,19.381083636266801,16.211219169470802,17.734977084773501,null,24.265901727515999,21.582103159297301,22.862764748298201,637530,732714,1370244,73278,67550,140828,null,null,null,11.4940473389488,9.2191496272761295,10.2775855978935,null,18.008261608303101,15.561091191434301,16.6945735766759,"参議院選挙区選出議員選挙",2,"11:00:00"]
[1,4,"　 阿久根市",8279,9476,17755,1305,1248,2553,null,null,null,15.762773281797299,13.170113972140101,14.379048155449199,null,null,23.465164405610501,21.5327029156816,22.424403183023902,562431,651585,1214016,58723,54398,113121,null,null,null,10.4409251979354,8.3485654212420499,9.3179167325636598,null,17.147272125000899,14.7837869647486,15.8741060934393,75099,81129,156228,14555,13152,27707,null,null,null,19.381083636266801,16.211219169470802,17.734977084773501,null,24.265901727515999,21.582103159297301,22.862764748298201,637530,732714,1370244,73278,67550,140828,null,null,null,11.4940473389488,9.2191496272761295,10.2775855978935,null,18.008261608303101,15.561091191434301,16.6945735766759,"参議院選挙区選出議員選挙",2,"11:00:00"]
[1,5,"　 出水市",20599,23590,44189,2603,2403,5006,null,null,null,12.6365357541628,10.186519711742299,11.328611192830801,null,null,20.174893678023601,17.583096503150902,18.782904924125098,562431,651585,1214016,58723,54398,113121,null,null,null,10.4409251979354,8.3485654212420499,9.3179167325636598,null,17.147272125000899,14.7837869647486,15.8741060934393,75099,81129,156228,14555,13152,27707,null,null,null,19.381083636266801,16.211219169470802,17.734977084773501,null,24.265901727515999,21.582103159297301,22.862764748298201,637530,732714,1370244,73278,67550,140828,null,null,null,11.4940473389488,9.2191496272761295,10.2775855978935,null,18.008261608303101,15.561091191434301,16.6945735766759,"参議院選挙区選出議員選挙",2,"11:00:00"]
[1,6,"　 指宿市",15889,18816,34705,2099,2004,4103,null,null,null,13.21039713009,10.6505102040816,11.822503961965101,null,null,18.5902495294761,16.3150134729778,17.3519645821804,562431,651585,1214016,58723,54398,113121,null,null,null,10.4409251979354,8.3485654212420499,9.3179167325636598,null,17.147272125000899,14.7837869647486,15.8741060934393,75099,81129,156228,14555,13152,27707,null,null,null,19.381083636266801,16.211219169470802,17.734977084773501,null,24.265901727515999,21.582103159297301,22.862764748298201,637530,732714,1370244,73278,67550,140828,null,null,null,11.4940473389488,9.2191496272761295,10.2775855978935,null,18.008261608303101,15.561091191434301,16.6945735766759,"参議院選挙区選出議員選挙",2,"11:00:00"]
[1,7,"　 西之表市",6197,6899,13096,1238,1167,2405,null,null,null,19.977408423430699,16.9154949992753,18.3643860720831,null,null,23.917197452229299,21.965156794425098,22.876254180602,562431,651585,1214016,58723,54398,113121,null,null,null,10.4409251979354,8.3485654212420499,9.3179167325636598,null,17.147272125000899,14.7837869647486,15.8741060934393,75099,81129,156228,14555,13152,27707,null,null,null,19.381083636266801,16.211219169470802,17.734977084773501,null,24.265901727515999,21.582103159297301,22.862764748298201,637530,732714,1370244,73278,67550,140828,null,null,null,11.4940473389488,9.2191496272761295,10.2775855978935,null,18.008261608303101,15.561091191434301,16.6945735766759,"参議院選挙区選出議員選挙",2,"11:00:00"]
[1,8,"　 垂水市",6024,6884,12908,638,596,1234,null,null,null,10.590969455511299,8.6577571179546808,9.5599628137589097,null,null,15.2908067542214,13.0148933315443,14.0659975449491,562431,651585,1214016,58723,54398,113121,null,null,null,10.4409251979354,8.3485654212420499,9.3179167325636598,null,17.147272125000899,14.7837869647486,15.8741060934393,75099,81129,156228,14555,13152,27707,null,null,null,19.381083636266801,16.211219169470802,17.734977084773501,null,24.265901727515999,21.582103159297301,22.862764748298201,637530,732714,1370244,73278,67550,140828,null,null,null,11.4940473389488,9.2191496272761295,10.2775855978935,null,18.008261608303101,15.561091191434301,16.6945735766759,"参議院選挙区選出議員選挙",2,"11:00:00"]
[1,9,"　 薩摩川内市第１",35607,39491,75098,3790,3407,7197,null,null,null,10.643974499396201,8.6272821655567107,9.5834775892833406,null,null,21.361417213000401,19.4438922572309,20.347224960243899,562431,651585,1214016,58723,54398,113121,null,null,null,10.4409251979354,8.3485654212420499,9.3179167325636598,null,17.147272125000899,14.7837869647486,15.8741060934393,75099,81129,156228,14555,13152,27707,null,null,null,19.381083636266801,16.211219169470802,17.734977084773501,null,24.265901727515999,21.582103159297301,22.862764748298201,637530,732714,1370244,73278,67550,140828,null,null,null,11.4940473389488,9.2191496272761295,10.2775855978935,null,18.008261608303101,15.561091191434301,16.6945735766759,"参議院選挙区選出議員選挙",2,"11:00:00"]
[1,10,"　 薩摩川内市第２",990,1034,2024,273,277,550,null,null,null,27.575757575757599,26.789168278529999,27.173913043478301,null,null,37.166513339466398,33.887915936952702,35.486765365634803,562431,651585,1214016,58723,54398,113121,null,null,null,10.4409251979354,8.3485654212420499,9.3179167325636598,null,17.147272125000899,14.7837869647486,15.8741060934393,75099,81129,156228,14555,13152,27707,null,null,null,19.381083636266801,16.211219169470802,17.734977084773501,null,24.265901727515999,21.582103159297301,22.862764748298201,637530,732714,1370244,73278,67550,140828,null,null,null,11.4940473389488,9.2191496272761295,10.2775855978935,null,18.008261608303101,15.561091191434301,16.6945735766759,"参議院選挙区選出議員選挙",2,"11:00:00"]
[1,11,"　 薩摩川内市第３",986,925,1911,217,184,401,null,null,null,22.008113590263701,19.891891891891898,20.983778126635301,null,null,26.5834932821497,30.651340996168599,28.619367209971202,562431,651585,1214016,58723,54398,113121,null,null,null,10.4409251979354,8.3485654212420499,9.3179167325636598,null,17.147272125000899,14.7837869647486,15.8741060934393,75099,81129,156228,14555,13152,27707,null,null,null,19.381083636266801,16.211219169470802,17.734977084773501,null,24.265901727515999,21.582103159297301,22.862764748298201,637530,732714,1370244,73278,67550,140828,null,null,null,11.4940473389488,9.2191496272761295,10.2775855978935,null,18.008261608303101,15.561091191434301,16.6945735766759,"参議院選挙区選出議員選挙",2,"11:00:00"]
[1,12,"＊（薩摩川内市）計",37583,41450,79033,4280,3868,8148,null,null,null,11.388127610887899,9.3317249698431795,10.309617501549999,null,null,21.957128561647401,20.108413858119299,20.9815432068056,562431,651585,1214016,58723,54398,113121,null,null,null,10.4409251979354,8.3485654212420499,9.3179167325636598,null,17.147272125000899,14.7837869647486,15.8741060934393,75099,81129,156228,14555,13152,27707,null,null,null,19.381083636266801,16.211219169470802,17.734977084773501,null,24.265901727515999,21.582103159297301,22.862764748298201,637530,732714,1370244,73278,67550,140828,null,null,null,11.4940473389488,9.2191496272761295,10.2775855978935,null,18.008261608303101,15.561091191434301,16.6945735766759,"参議院選挙区選出議員選挙",2,"11:00:00"]
[1,13,"　 日置市",18815,21758,40573,2327,2216,4543,null,null,null,12.3677916555939,10.184759628642301,11.1971015207157,null,null,21.637032813228998,18.673306064378401,20.0416437307039,562431,651585,1214016,58723,54398,113121,null,null,null,10.4409251979354,8.3485654212420499,9.3179167325636598,null,17.147272125000899,14.7837869647486,15.8741060934393,75099,81129,156228,14555,13152,27707,null,null,null,19.381083636266801,16.211219169470802,17.734977084773501,null,24.265901727515999,21.582103159297301,22.862764748298201,637530,732714,1370244,73278,67550,140828,null,null,null,11.4940473389488,9.2191496272761295,10.2775855978935,null,18.008261608303101,15.561091191434301,16.6945735766759,"参議院選挙区選出議員選挙",2,"11:00:00"]
[1,14,"　 曽於市",14461,16545,31006,1898,1680,3578,null,null,null,13.124956780305601,10.1541251133273,11.5397019931626,null,null,16.426040162751001,13.1752751905165,14.6784814736139,562431,651585,1214016,58723,54398,113121,null,null,null,10.4409251979354,8.3485654212420499,9.3179167325636598,null,17.147272125000899,14.7837869647486,15.8741060934393,75099,81129,156228,14555,13152,27707,null,null,null,19.381083636266801,16.211219169470802,17.734977084773501,null,24.265901727515999,21.582103159297301,22.862764748298201,637530,732714,1370244,73278,67550,140828,null,null,null,11.4940473389488,9.2191496272761295,10.2775855978935,null,18.008261608303101,15.561091191434301,16.6945735766759,"参議院選挙区選出議員選挙",2,"11:00:00"]
[1,15,"　 霧島市",49434,54283,103717,5859,5364,11223,null,null,null,11.8521665250637,9.8815467089143905,10.8207911914151,null,null,16.745577896657,14.6715328467153,15.6483796542104,562431,651585,1214016,58723,54398,113121,null,null,null,10.4409251979354,8.3485654212420499,9.3179167325636598,null,17.147272125000899,14.7837869647486,15.8741060934393,75099,81129,156228,14555,13152,27707,null,null,null,19.381083636266801,16.211219169470802,17.734977084773501,null,24.265901727515999,21.582103159297301,22.862764748298201,637530,732714,1370244,73278,67550,140828,null,null,null,11.4940473389488,9.2191496272761295,10.2775855978935,null,18.008261608303101,15.561091191434301,16.6945735766759,"参議院選挙区選出議員選挙",2,"11:00:00"]
[1,16,"　 いちき串木野市",11079,12769,23848,908,791,1699,null,null,null,8.1956855311851307,6.19469026548673,7.12428715196243,null,null,18.612565445026199,16.011425994136701,17.215200096918799,562431,651585,1214016,58723,54398,113121,null,null,null,10.4409251979354,8.3485654212420499,9.3179167325636598,null,17.147272125000899,14.7837869647486,15.8741060934393,75099,81129,156228,14555,13152,27707,null,null,null,19.381083636266801,16.211219169470802,17.734977084773501,null,24.265901727515999,21.582103159297301,22.862764748298201,637530,732714,1370244,73278,67550,140828,null,null,null,11.4940473389488,9.2191496272761295,10.2775855978935,null,18.008261608303101,15.561091191434301,16.6945735766759,"参議院選挙区選出議員選挙",2,"11:00:00"]
[1,17,"　 南さつま市",13301,15816,29117,1800,1694,3494,null,null,null,13.532817081422399,10.7106727364694,11.9998626232098,null,null,22.634989200863899,20.135475362666298,21.271097736490901,562431,651585,1214016,58723,54398,113121,null,null,null,10.4409251979354,8.3485654212420499,9.3179167325636598,null,17.147272125000899,14.7837869647486,15.8741060934393,75099,81129,156228,14555,13152,27707,null,null,null,19.381083636266801,16.211219169470802,17.734977084773501,null,24.265901727515999,21.582103159297301,22.862764748298201,637530,732714,1370244,73278,67550,140828,null,null,null,11.4940473389488,9.2191496272761295,10.2775855978935,null,18.008261608303101,15.561091191434301,16.6945735766759,"参議院選挙区選出議員選挙",2,"11:00:00"]
[1,18,"　 志布志市",12361,13789,26150,1550,1415,2965,null,null,null,12.539438556751101,10.2618028863587,11.3384321223709,null,null,17.094753328112802,14.134374128798401,15.528431300243399,562431,651585,1214016,58723,54398,113121,null,null,null,10.4409251979354,8.3485654212420499,9.3179167325636598,null,17.147272125000899,14.7837869647486,15.8741060934393,75099,81129,156228,14555,13152,27707,null,null,null,19.381083636266801,16.211219169470802,17.734977084773501,null,24.265901727515999,21.582103159297301,22.862764748298201,637530,732714,1370244,73278,67550,140828,null,null,null,11.4940473389488,9.2191496272761295,10.2775855978935,null,18.008261608303101,15.561091191434301,16.6945735766759,"参議院選挙区選出議員選挙",2,"11:00:00"]
[1,19,"　 奄美市",17291,19255,36546,2559,2406,4965,null,null,null,14.799606731825801,12.495455725785501,13.5856181251026,null,null,18.484266852788899,15.926852939674101,17.122654337775401,562431,651585,1214016,58723,54398,113121,null,null,null,10.4409251979354,8.3485654212420499,9.3179167325636598,null,17.147272125000899,14.7837869647486,15.8741060934393,75099,81129,156228,14555,13152,27707,null,null,null,19.381083636266801,16.211219169470802,17.734977084773501,null,24.265901727515999,21.582103159297301,22.862764748298201,637530,732714,1370244,73278,67550,140828,null,null,null,11.4940473389488,9.2191496272761295,10.2775855978935,null,18.008261608303101,15.561091191434301,16.6945735766759,"参議院選挙区選出議員選挙",2,"11:00:00"]
[1,20,"　 南九州市",13934,16228,30162,1784,1510,3294,null,null,null,12.8032151571695,9.3049051022923308,10.9210264571315,null,null,24.5866921710616,20.6434630008775,22.4624208237482,562431,651585,1214016,58723,54398,113121,null,null,null,10.4409251979354,8.3485654212420499,9.3179167325636598,null,17.147272125000899,14.7837869647486,15.8741060934393,75099,81129,156228,14555,13152,27707,null,null,null,19.381083636266801,16.211219169470802,17.734977084773501,null,24.265901727515999,21.582103159297301,22.862764748298201,637530,732714,1370244,73278,67550,140828,null,null,null,11.4940473389488,9.2191496272761295,10.2775855978935,null,18.008261608303101,15.561091191434301,16.6945735766759,"参議院選挙区選出議員選挙",2,"11:00:00"]
[1,21,"　 伊佐市",10168,12040,22208,1823,1800,3623,null,null,null,17.928796223446099,14.950166112956801,16.313940922190199,null,null,25.9670053127039,23.382890947302901,24.558873430607399,562431,651585,1214016,58723,54398,113121,null,null,null,10.4409251979354,8.3485654212420499,9.3179167325636598,null,17.147272125000899,14.7837869647486,15.8741060934393,75099,81129,156228,14555,13152,27707,null,null,null,19.381083636266801,16.211219169470802,17.734977084773501,null,24.265901727515999,21.582103159297301,22.862764748298201,637530,732714,1370244,73278,67550,140828,null,null,null,11.4940473389488,9.2191496272761295,10.2775855978935,null,18.008261608303101,15.561091191434301,16.6945735766759,"参議院選挙区選出議員選挙",2,"11:00:00"]
[1,22,"　 姶良市",29479,34537,64016,3243,3022,6265,null,null,null,11.001051596051401,8.7500361930683006,9.7866158460384902,null,null,18.428887965655701,15.778057859718,16.9933810574435,562431,651585,1214016,58723,54398,113121,null,null,null,10.4409251979354,8.3485654212420499,9.3179167325636598,null,17.147272125000899,14.7837869647486,15.8741060934393,75099,81129,156228,14555,13152,27707,null,null,null,19.381083636266801,16.211219169470802,17.734977084773501,null,24.265901727515999,21.582103159297301,22.862764748298201,637530,732714,1370244,73278,67550,140828,null,null,null,11.4940473389488,9.2191496272761295,10.2775855978935,null,18.008261608303101,15.561091191434301,16.6945735766759,"参議院選挙区選出議員選挙",2,"11:00:00"]
[1,23,"　 三島村",129,145,274,0,0,0,null,null,null,0,0,0,null,null,0,0,0,562431,651585,1214016,58723,54398,113121,null,null,null,10.4409251979354,8.3485654212420499,9.3179167325636598,null,17.147272125000899,14.7837869647486,15.8741060934393,75099,81129,156228,14555,13152,27707,null,null,null,19.381083636266801,16.211219169470802,17.734977084773501,null,24.265901727515999,21.582103159297301,22.862764748298201,637530,732714,1370244,73278,67550,140828,null,null,null,11.4940473389488,9.2191496272761295,10.2775855978935,null,18.008261608303101,15.561091191434301,16.6945735766759,"参議院選挙区選出議員選挙",2,"11:00:00"]
[1,24,"　 十島村",289,271,560,0,0,0,null,null,null,0,0,0,null,null,0,0,0,562431,651585,1214016,58723,54398,113121,null,null,null,10.4409251979354,8.3485654212420499,9.3179167325636598,null,17.147272125000899,14.7837869647486,15.8741060934393,75099,81129,156228,14555,13152,27707,null,null,null,19.381083636266801,16.211219169470802,17.734977084773501,null,24.265901727515999,21.582103159297301,22.862764748298201,637530,732714,1370244,73278,67550,140828,null,null,null,11.4940473389488,9.2191496272761295,10.2775855978935,null,18.008261608303101,15.561091191434301,16.6945735766759,"参議院選挙区選出議員選挙",2,"11:00:00"]
[1,25,"＊（鹿児島郡）計",418,416,834,0,0,0,null,null,null,0,0,0,null,null,0,0,0,562431,651585,1214016,58723,54398,113121,null,null,null,10.4409251979354,8.3485654212420499,9.3179167325636598,null,17.147272125000899,14.7837869647486,15.8741060934393,75099,81129,156228,14555,13152,27707,null,null,null,19.381083636266801,16.211219169470802,17.734977084773501,null,24.265901727515999,21.582103159297301,22.862764748298201,637530,732714,1370244,73278,67550,140828,null,null,null,11.4940473389488,9.2191496272761295,10.2775855978935,null,18.008261608303101,15.561091191434301,16.6945735766759,"参議院選挙区選出議員選挙",2,"11:00:00"]
[1,26,"　 さつま町",8383,9731,18114,1264,1225,2489,null,null,null,15.078134319456,12.5886342616381,13.7407530087225,null,null,26.8597835888188,24.6290801186944,25.653501734044202,562431,651585,1214016,58723,54398,113121,null,null,null,10.4409251979354,8.3485654212420499,9.3179167325636598,null,17.147272125000899,14.7837869647486,15.8741060934393,75099,81129,156228,14555,13152,27707,null,null,null,19.381083636266801,16.211219169470802,17.734977084773501,null,24.265901727515999,21.582103159297301,22.862764748298201,637530,732714,1370244,73278,67550,140828,null,null,null,11.4940473389488,9.2191496272761295,10.2775855978935,null,18.008261608303101,15.561091191434301,16.6945735766759,"参議院選挙区選出議員選挙",2,"11:00:00"]
[1,27,"＊（薩摩郡）計",8383,9731,18114,1264,1225,2489,null,null,null,15.078134319456,12.5886342616381,13.7407530087225,null,null,26.8597835888188,24.6290801186944,25.653501734044202,562431,651585,1214016,58723,54398,113121,null,null,null,10.4409251979354,8.3485654212420499,9.3179167325636598,null,17.147272125000899,14.7837869647486,15.8741060934393,75099,81129,156228,14555,13152,27707,null,null,null,19.381083636266801,16.211219169470802,17.734977084773501,null,24.265901727515999,21.582103159297301,22.862764748298201,637530,732714,1370244,73278,67550,140828,null,null,null,11.4940473389488,9.2191496272761295,10.2775855978935,null,18.008261608303101,15.561091191434301,16.6945735766759,"参議院選挙区選出議員選挙",2,"11:00:00"]
[1,28,"　 長島町",4171,4540,8711,1153,1069,2222,null,null,null,27.643251018940301,23.546255506607899,25.507978418092101,null,null,31.8024463420263,30.498409331919401,31.1229000884173,562431,651585,1214016,58723,54398,113121,null,null,null,10.4409251979354,8.3485654212420499,9.3179167325636598,null,17.147272125000899,14.7837869647486,15.8741060934393,75099,81129,156228,14555,13152,27707,null,null,null,19.381083636266801,16.211219169470802,17.734977084773501,null,24.265901727515999,21.582103159297301,22.862764748298201,637530,732714,1370244,73278,67550,140828,null,null,null,11.4940473389488,9.2191496272761295,10.2775855978935,null,18.008261608303101,15.561091191434301,16.6945735766759,"参議院選挙区選出議員選挙",2,"11:00:00"]
[1,29,"＊（出水郡）計",4171,4540,8711,1153,1069,2222,null,null,null,27.643251018940301,23.546255506607899,25.507978418092101,null,null,31.8024463420263,30.498409331919401,31.1229000884173,562431,651585,1214016,58723,54398,113121,null,null,null,10.4409251979354,8.3485654212420499,9.3179167325636598,null,17.147272125000899,14.7837869647486,15.8741060934393,75099,81129,156228,14555,13152,27707,null,null,null,19.381083636266801,16.211219169470802,17.734977084773501,null,24.265901727515999,21.582103159297301,22.862764748298201,637530,732714,1370244,73278,67550,140828,null,null,null,11.4940473389488,9.2191496272761295,10.2775855978935,null,18.008261608303101,15.561091191434301,16.6945735766759,"参議院選挙区選出議員選挙",2,"11:00:00"]
[1,30,"　 湧水町",3764,4337,8101,696,639,1335,null,null,null,18.4909670563231,14.733686880332,16.4794469818541,null,null,24.993637057775501,22.150676110753398,23.4513274336283,562431,651585,1214016,58723,54398,113121,null,null,null,10.4409251979354,8.3485654212420499,9.3179167325636598,null,17.147272125000899,14.7837869647486,15.8741060934393,75099,81129,156228,14555,13152,27707,null,null,null,19.381083636266801,16.211219169470802,17.734977084773501,null,24.265901727515999,21.582103159297301,22.862764748298201,637530,732714,1370244,73278,67550,140828,null,null,null,11.4940473389488,9.2191496272761295,10.2775855978935,null,18.008261608303101,15.561091191434301,16.6945735766759,"参議院選挙区選出議員選挙",2,"11:00:00"]
[1,31,"＊（姶良郡）計",3764,4337,8101,696,639,1335,null,null,null,18.4909670563231,14.733686880332,16.4794469818541,null,null,24.993637057775501,22.150676110753398,23.4513274336283,562431,651585,1214016,58723,54398,113121,null,null,null,10.4409251979354,8.3485654212420499,9.3179167325636598,null,17.147272125000899,14.7837869647486,15.8741060934393,75099,81129,156228,14555,13152,27707,null,null,null,19.381083636266801,16.211219169470802,17.734977084773501,null,24.265901727515999,21.582103159297301,22.862764748298201,637530,732714,1370244,73278,67550,140828,null,null,null,11.4940473389488,9.2191496272761295,10.2775855978935,null,18.008261608303101,15.561091191434301,16.6945735766759,"参議院選挙区選出議員選挙",2,"11:00:00"]
[1,32,"　 大崎町",5279,5815,11094,739,695,1434,null,null,null,13.9988634211025,11.951848667239901,12.925905895078399,null,null,15.264853256979199,12.412785980853499,13.7690409326866,562431,651585,1214016,58723,54398,113121,null,null,null,10.4409251979354,8.3485654212420499,9.3179167325636598,null,17.147272125000899,14.7837869647486,15.8741060934393,75099,81129,156228,14555,13152,27707,null,null,null,19.381083636266801,16.211219169470802,17.734977084773501,null,24.265901727515999,21.582103159297301,22.862764748298201,637530,732714,1370244,73278,67550,140828,null,null,null,11.4940473389488,9.2191496272761295,10.2775855978935,null,18.008261608303101,15.561091191434301,16.6945735766759,"参議院選挙区選出議員選挙",2,"11:00:00"]
[1,33,"＊（曽於郡）計",5279,5815,11094,739,695,1434,null,null,null,13.9988634211025,11.951848667239901,12.925905895078399,null,null,15.264853256979199,12.412785980853499,13.7690409326866,562431,651585,1214016,58723,54398,113121,null,null,null,10.4409251979354,8.3485654212420499,9.3179167325636598,null,17.147272125000899,14.7837869647486,15.8741060934393,75099,81129,156228,14555,13152,27707,null,null,null,19.381083636266801,16.211219169470802,17.734977084773501,null,24.265901727515999,21.582103159297301,22.862764748298201,637530,732714,1370244,73278,67550,140828,null,null,null,11.4940473389488,9.2191496272761295,10.2775855978935,null,18.008261608303101,15.561091191434301,16.6945735766759,"参議院選挙区選出議員選挙",2,"11:00:00"]
[1,34,"　 東串良町",2558,2943,5501,352,308,660,null,null,null,13.7607505863956,10.4655113829426,11.997818578440301,null,null,15.401869158878499,13.368630046326899,14.323328067403899,562431,651585,1214016,58723,54398,113121,null,null,null,10.4409251979354,8.3485654212420499,9.3179167325636598,null,17.147272125000899,14.7837869647486,15.8741060934393,75099,81129,156228,14555,13152,27707,null,null,null,19.381083636266801,16.211219169470802,17.734977084773501,null,24.265901727515999,21.582103159297301,22.862764748298201,637530,732714,1370244,73278,67550,140828,null,null,null,11.4940473389488,9.2191496272761295,10.2775855978935,null,18.008261608303101,15.561091191434301,16.6945735766759,"参議院選挙区選出議員選挙",2,"11:00:00"]
[1,35,"　 錦江町",3083,3461,6544,622,550,1172,null,null,null,20.175154070710299,15.891360878358901,17.9095354523227,null,null,24.6600181323663,22.254564699656001,23.377539503386,562431,651585,1214016,58723,54398,113121,null,null,null,10.4409251979354,8.3485654212420499,9.3179167325636598,null,17.147272125000899,14.7837869647486,15.8741060934393,75099,81129,156228,14555,13152,27707,null,null,null,19.381083636266801,16.211219169470802,17.734977084773501,null,24.265901727515999,21.582103159297301,22.862764748298201,637530,732714,1370244,73278,67550,140828,null,null,null,11.4940473389488,9.2191496272761295,10.2775855978935,null,18.008261608303101,15.561091191434301,16.6945735766759,"参議院選挙区選出議員選挙",2,"11:00:00"]
[1,36,"　 南大隅町",3056,3388,6444,707,767,1474,null,null,null,23.1348167539267,22.638724911452201,22.873991309745499,null,null,28.226299694189599,28.002125398512199,28.106340631219801,562431,651585,1214016,58723,54398,113121,null,null,null,10.4409251979354,8.3485654212420499,9.3179167325636598,null,17.147272125000899,14.7837869647486,15.8741060934393,75099,81129,156228,14555,13152,27707,null,null,null,19.381083636266801,16.211219169470802,17.734977084773501,null,24.265901727515999,21.582103159297301,22.862764748298201,637530,732714,1370244,73278,67550,140828,null,null,null,11.4940473389488,9.2191496272761295,10.2775855978935,null,18.008261608303101,15.561091191434301,16.6945735766759,"参議院選挙区選出議員選挙",2,"11:00:00"]
[1,37,"　 肝付町",6228,6899,13127,1069,963,2032,null,null,null,17.1644187540141,13.9585447166256,15.4795459739468,null,null,20.795989670363099,17.166101694915302,18.878062759707699,562431,651585,1214016,58723,54398,113121,null,null,null,10.4409251979354,8.3485654212420499,9.3179167325636598,null,17.147272125000899,14.7837869647486,15.8741060934393,75099,81129,156228,14555,13152,27707,null,null,null,19.381083636266801,16.211219169470802,17.734977084773501,null,24.265901727515999,21.582103159297301,22.862764748298201,637530,732714,1370244,73278,67550,140828,null,null,null,11.4940473389488,9.2191496272761295,10.2775855978935,null,18.008261608303101,15.561091191434301,16.6945735766759,"参議院選挙区選出議員選挙",2,"11:00:00"]
[1,38,"＊（肝属郡）計",14925,16691,31616,2750,2588,5338,null,null,null,18.425460636515901,15.505362171230001,16.8838562753036,null,null,22.2264317736945,19.871794871794901,20.975811943038199,562431,651585,1214016,58723,54398,113121,null,null,null,10.4409251979354,8.3485654212420499,9.3179167325636598,null,17.147272125000899,14.7837869647486,15.8741060934393,75099,81129,156228,14555,13152,27707,null,null,null,19.381083636266801,16.211219169470802,17.734977084773501,null,24.265901727515999,21.582103159297301,22.862764748298201,637530,732714,1370244,73278,67550,140828,null,null,null,11.4940473389488,9.2191496272761295,10.2775855978935,null,18.008261608303101,15.561091191434301,16.6945735766759,"参議院選挙区選出議員選挙",2,"11:00:00"]
[1,39,"　 中種子町",3206,3631,6837,890,827,1717,null,null,null,27.7604491578291,22.776094739741101,25.113353810150699,null,null,30.5135951661631,27.205298013244999,28.750882145377599,562431,651585,1214016,58723,54398,113121,null,null,null,10.4409251979354,8.3485654212420499,9.3179167325636598,null,17.147272125000899,14.7837869647486,15.8741060934393,75099,81129,156228,14555,13152,27707,null,null,null,19.381083636266801,16.211219169470802,17.734977084773501,null,24.265901727515999,21.582103159297301,22.862764748298201,637530,732714,1370244,73278,67550,140828,null,null,null,11.4940473389488,9.2191496272761295,10.2775855978935,null,18.008261608303101,15.561091191434301,16.6945735766759,"参議院選挙区選出議員選挙",2,"11:00:00"]
[1,40,"　 南種子町",2379,2466,4845,608,531,1139,null,null,null,25.556956704497701,21.5328467153285,23.508771929824601,null,null,32.788225674570697,30.330448465775,31.5356856455493,562431,651585,1214016,58723,54398,113121,null,null,null,10.4409251979354,8.3485654212420499,9.3179167325636598,null,17.147272125000899,14.7837869647486,15.8741060934393,75099,81129,156228,14555,13152,27707,null,null,null,19.381083636266801,16.211219169470802,17.734977084773501,null,24.265901727515999,21.582103159297301,22.862764748298201,637530,732714,1370244,73278,67550,140828,null,null,null,11.4940473389488,9.2191496272761295,10.2775855978935,null,18.008261608303101,15.561091191434301,16.6945735766759,"参議院選挙区選出議員選挙",2,"11:00:00"]
[1,41,"　 屋久島町",5147,5345,10492,1115,1116,2231,null,null,null,21.663104721196799,20.879326473339599,21.263820053374001,null,null,27.313940309784702,27.073524085476301,27.191198224852101,562431,651585,1214016,58723,54398,113121,null,null,null,10.4409251979354,8.3485654212420499,9.3179167325636598,null,17.147272125000899,14.7837869647486,15.8741060934393,75099,81129,156228,14555,13152,27707,null,null,null,19.381083636266801,16.211219169470802,17.734977084773501,null,24.265901727515999,21.582103159297301,22.862764748298201,637530,732714,1370244,73278,67550,140828,null,null,null,11.4940473389488,9.2191496272761295,10.2775855978935,null,18.008261608303101,15.561091191434301,16.6945735766759,"参議院選挙区選出議員選挙",2,"11:00:00"]
[1,42,"＊（熊毛郡）計",10732,11442,22174,2613,2474,5087,null,null,null,24.347745061498301,21.622094039503601,22.941282583205599,null,null,29.4841628959276,27.814849227130701,28.6207348508017,562431,651585,1214016,58723,54398,113121,null,null,null,10.4409251979354,8.3485654212420499,9.3179167325636598,null,17.147272125000899,14.7837869647486,15.8741060934393,75099,81129,156228,14555,13152,27707,null,null,null,19.381083636266801,16.211219169470802,17.734977084773501,null,24.265901727515999,21.582103159297301,22.862764748298201,637530,732714,1370244,73278,67550,140828,null,null,null,11.4940473389488,9.2191496272761295,10.2775855978935,null,18.008261608303101,15.561091191434301,16.6945735766759,"参議院選挙区選出議員選挙",2,"11:00:00"]
[1,43,"　 大和村",623,676,1299,185,211,396,null,null,null,29.6950240770466,31.213017751479299,30.484988452655902,null,null,34.312210200927403,37.257617728531898,35.865595325054798,562431,651585,1214016,58723,54398,113121,null,null,null,10.4409251979354,8.3485654212420499,9.3179167325636598,null,17.147272125000899,14.7837869647486,15.8741060934393,75099,81129,156228,14555,13152,27707,null,null,null,19.381083636266801,16.211219169470802,17.734977084773501,null,24.265901727515999,21.582103159297301,22.862764748298201,637530,732714,1370244,73278,67550,140828,null,null,null,11.4940473389488,9.2191496272761295,10.2775855978935,null,18.008261608303101,15.561091191434301,16.6945735766759,"参議院選挙区選出議員選挙",2,"11:00:00"]
[2,1,"　 宇検村",736,788,1524,172,154,326,null,null,null,23.369565217391301,19.543147208121798,21.3910761154856,null,null,24.523160762942801,19.123020706455499,21.6720257234727,562431,651585,1214016,58723,54398,113121,null,null,null,10.4409251979354,8.3485654212420499,9.3179167325636598,null,17.147272125000899,14.7837869647486,15.8741060934393,75099,81129,156228,14555,13152,27707,null,null,null,19.381083636266801,16.211219169470802,17.734977084773501,null,24.265901727515999,21.582103159297301,22.862764748298201,637530,732714,1370244,73278,67550,140828,null,null,null,11.4940473389488,9.2191496272761295,10.2775855978935,null,18.008261608303101,15.561091191434301,16.6945735766759,"参議院選挙区選出議員選挙",2,"11:00:00"]
[2,2,"　 瀬戸内町",3796,4019,7815,730,601,1331,null,null,null,19.230769230769202,14.9539686489176,17.031349968010201,null,null,22.803787480273499,19.404418828050002,21.026864172734101,562431,651585,1214016,58723,54398,113121,null,null,null,10.4409251979354,8.3485654212420499,9.3179167325636598,null,17.147272125000899,14.7837869647486,15.8741060934393,75099,81129,156228,14555,13152,27707,null,null,null,19.381083636266801,16.211219169470802,17.734977084773501,null,24.265901727515999,21.582103159297301,22.862764748298201,637530,732714,1370244,73278,67550,140828,null,null,null,11.4940473389488,9.2191496272761295,10.2775855978935,null,18.008261608303101,15.561091191434301,16.6945735766759,"参議院選挙区選出議員選挙",2,"11:00:00"]
[2,3,"　 龍郷町",2393,2602,4995,469,447,916,null,null,null,19.598829920601801,17.179093005380501,18.3383383383383,null,null,23.174335162515799,22.631987577639801,22.891809908999001,562431,651585,1214016,58723,54398,113121,null,null,null,10.4409251979354,8.3485654212420499,9.3179167325636598,null,17.147272125000899,14.7837869647486,15.8741060934393,75099,81129,156228,14555,13152,27707,null,null,null,19.381083636266801,16.211219169470802,17.734977084773501,null,24.265901727515999,21.582103159297301,22.862764748298201,637530,732714,1370244,73278,67550,140828,null,null,null,11.4940473389488,9.2191496272761295,10.2775855978935,null,18.008261608303101,15.561091191434301,16.6945735766759,"参議院選挙区選出議員選挙",2,"11:00:00"]
[2,4,"　 喜界町",2968,3063,6031,456,399,855,null,null,null,15.3638814016173,13.026444662096001,14.1767534405571,null,null,18.439249259137299,15.113742598940499,16.730707652897902,562431,651585,1214016,58723,54398,113121,null,null,null,10.4409251979354,8.3485654212420499,9.3179167325636598,null,17.147272125000899,14.7837869647486,15.8741060934393,75099,81129,156228,14555,13152,27707,null,null,null,19.381083636266801,16.211219169470802,17.734977084773501,null,24.265901727515999,21.582103159297301,22.862764748298201,637530,732714,1370244,73278,67550,140828,null,null,null,11.4940473389488,9.2191496272761295,10.2775855978935,null,18.008261608303101,15.561091191434301,16.6945735766759,"参議院選挙区選出議員選挙",2,"11:00:00"]
[2,5,"　 徳之島町",4264,4451,8715,714,544,1258,null,null,null,16.7448405253283,12.2219725904291,14.434882386689599,null,null,19.323993773626899,14.9260042283298,17.069470033597099,562431,651585,1214016,58723,54398,113121,null,null,null,10.4409251979354,8.3485654212420499,9.3179167325636598,null,17.147272125000899,14.7837869647486,15.8741060934393,75099,81129,156228,14555,13152,27707,null,null,null,19.381083636266801,16.211219169470802,17.734977084773501,null,24.265901727515999,21.582103159297301,22.862764748298201,637530,732714,1370244,73278,67550,140828,null,null,null,11.4940473389488,9.2191496272761295,10.2775855978935,null,18.008261608303101,15.561091191434301,16.6945735766759,"参議院選挙区選出議員選挙",2,"11:00:00"]
[2,6,"　 天城町",2556,2456,5012,579,473,1052,null,null,null,22.652582159624401,19.258957654723101,20.989624900239399,null,null,27.969639468690701,25.3789350952196,26.689708141320999,562431,651585,1214016,58723,54398,113121,null,null,null,10.4409251979354,8.3485654212420499,9.3179167325636598,null,17.147272125000899,14.7837869647486,15.8741060934393,75099,81129,156228,14555,13152,27707,null,null,null,19.381083636266801,16.211219169470802,17.734977084773501,null,24.265901727515999,21.582103159297301,22.862764748298201,637530,732714,1370244,73278,67550,140828,null,null,null,11.4940473389488,9.2191496272761295,10.2775855978935,null,18.008261608303101,15.561091191434301,16.6945735766759,"参議院選挙区選出議員選挙",2,"11:00:00"]
[2,7,"　 伊仙町",2759,2670,5429,523,427,950,null,null,null,18.956143530264601,15.9925093632959,17.498618530116001,null,null,23.353084698501199,19.102698913424501,21.2338343236631,562431,651585,1214016,58723,54398,113121,null,null,null,10.4409251979354,8.3485654212420499,9.3179167325636598,null,17.147272125000899,14.7837869647486,15.8741060934393,75099,81129,156228,14555,13152,27707,null,null,null,19.381083636266801,16.211219169470802,17.734977084773501,null,24.265901727515999,21.582103159297301,22.862764748298201,637530,732714,1370244,73278,67550,140828,null,null,null,11.4940473389488,9.2191496272761295,10.2775855978935,null,18.008261608303101,15.561091191434301,16.6945735766759,"参議院選挙区選出議員選挙",2,"11:00:00"]
[2,8,"　 和泊町",2661,2731,5392,544,457,1001,null,null,null,20.443442314919199,16.733797143903299,18.564540059347198,null,null,26.007991282237601,20.3212290502793,23.108420865230499,562431,651585,1214016,58723,54398,113121,null,null,null,10.4409251979354,8.3485654212420499,9.3179167325636598,null,17.147272125000899,14.7837869647486,15.8741060934393,75099,81129,156228,14555,13152,27707,null,null,null,19.381083636266801,16.211219169470802,17.734977084773501,null,24.265901727515999,21.582103159297301,22.862764748298201,637530,732714,1370244,73278,67550,140828,null,null,null,11.4940473389488,9.2191496272761295,10.2775855978935,null,18.008261608303101,15.561091191434301,16.6945735766759,"参議院選挙区選出議員選挙",2,"11:00:00"]
[2,9,"　 知名町",2537,2448,4985,533,407,940,null,null,null,21.009065825778499,16.625816993464099,18.856569709127399,null,null,25.986078886310899,22.969296541002699,24.481488660593101,562431,651585,1214016,58723,54398,113121,null,null,null,10.4409251979354,8.3485654212420499,9.3179167325636598,null,17.147272125000899,14.7837869647486,15.8741060934393,75099,81129,156228,14555,13152,27707,null,null,null,19.381083636266801,16.211219169470802,17.734977084773501,null,24.265901727515999,21.582103159297301,22.862764748298201,637530,732714,1370244,73278,67550,140828,null,null,null,11.4940473389488,9.2191496272761295,10.2775855978935,null,18.008261608303101,15.561091191434301,16.6945735766759,"参議院選挙区選出議員選挙",2,"11:00:00"]
[2,10,"　 与論町",2134,2253,4387,435,342,777,null,null,null,20.384254920337401,15.1797603195739,17.7114201048553,null,null,25.011731581417202,18.3326058489742,21.551334237901401,562431,651585,1214016,58723,54398,113121,null,null,null,10.4409251979354,8.3485654212420499,9.3179167325636598,null,17.147272125000899,14.7837869647486,15.8741060934393,75099,81129,156228,14555,13152,27707,null,null,null,19.381083636266801,16.211219169470802,17.734977084773501,null,24.265901727515999,21.582103159297301,22.862764748298201,637530,732714,1370244,73278,67550,140828,null,null,null,11.4940473389488,9.2191496272761295,10.2775855978935,null,18.008261608303101,15.561091191434301,16.6945735766759,"参議院選挙区選出議員選挙",2,"11:00:00"]
[2,11,"＊（大島郡）計",27427,28157,55584,5340,4462,9802,null,null,null,19.469865461042001,15.8468586852293,17.634571099597,null,null,23.431931575196,19.740604575163399,21.543979385751101,562431,651585,1214016,58723,54398,113121,null,null,null,10.4409251979354,8.3485654212420499,9.3179167325636598,null,17.147272125000899,14.7837869647486,15.8741060934393,75099,81129,156228,14555,13152,27707,null,null,null,19.381083636266801,16.211219169470802,17.734977084773501,null,24.265901727515999,21.582103159297301,22.862764748298201,637530,732714,1370244,73278,67550,140828,null,null,null,11.4940473389488,9.2191496272761295,10.2775855978935,null,18.008261608303101,15.561091191434301,16.6945735766759,"参議院選挙区選出議員選挙",2,"11:00:00"]
[2,12,null,null,null,null,null,null,null,null,null,null,null,null,null,null,null,null,null,null,562431,651585,1214016,58723,54398,113121,null,null,null,10.4409251979354,8.3485654212420499,9.3179167325636598,null,17.147272125000899,14.7837869647486,15.8741060934393,75099,81129,156228,14555,13152,27707,null,null,null,19.381083636266801,16.211219169470802,17.734977084773501,null,24.265901727515999,21.582103159297301,22.862764748298201,637530,732714,1370244,73278,67550,140828,null,null,null,11.4940473389488,9.2191496272761295,10.2775855978935,null,18.008261608303101,15.561091191434301,16.6945735766759,"参議院選挙区選出議員選挙",2,"11:00:00"]
[2,13,null,null,null,null,null,null,null,null,null,null,null,null,null,null,null,null,null,null,562431,651585,1214016,58723,54398,113121,null,null,null,10.4409251979354,8.3485654212420499,9.3179167325636598,null,17.147272125000899,14.7837869647486,15.8741060934393,75099,81129,156228,14555,13152,27707,null,null,null,19.381083636266801,16.211219169470802,17.734977084773501,null,24.265901727515999,21.582103159297301,22.862764748298201,637530,732714,1370244,73278,67550,140828,null,null,null,11.4940473389488,9.2191496272761295,10.2775855978935,null,18.008261608303101,15.561091191434301,16.6945735766759,"参議院選挙区選出議員選挙",2,"11:00:00"]
[2,14,null,null,null,null,null,null,null,null,null,null,null,null,null,null,null,null,null,null,562431,651585,1214016,58723,54398,113121,null,null,null,10.4409251979354,8.3485654212420499,9.3179167325636598,null,17.147272125000899,14.7837869647486,15.8741060934393,75099,81129,156228,14555,13152,27707,null,null,null,19.381083636266801,16.211219169470802,17.734977084773501,null,24.265901727515999,21.582103159297301,22.862764748298201,637530,732714,1370244,73278,67550,140828,null,null,null,11.4940473389488,9.2191496272761295,10.2775855978935,null,18.008261608303101,15.561091191434301,16.6945735766759,"参議院選挙区選出議員選挙",2,"11:00:00"]
[2,15,null,null,null,null,null,null,null,null,null,null,null,null,null,null,null,null,null,null,562431,651585,1214016,58723,54398,113121,null,null,null,10.4409251979354,8.3485654212420499,9.3179167325636598,null,17.147272125000899,14.7837869647486,15.8741060934393,75099,81129,156228,14555,13152,27707,null,null,null,19.381083636266801,16.211219169470802,17.734977084773501,null,24.265901727515999,21.582103159297301,22.862764748298201,637530,732714,1370244,73278,67550,140828,null,null,null,11.4940473389488,9.2191496272761295,10.2775855978935,null,18.008261608303101,15.561091191434301,16.6945735766759,"参議院選挙区選出議員選挙",2,"11:00:00"]
[2,16,null,null,null,null,null,null,null,null,null,null,null,null,null,null,null,null,null,null,562431,651585,1214016,58723,54398,113121,null,null,null,10.4409251979354,8.3485654212420499,9.3179167325636598,null,17.147272125000899,14.7837869647486,15.8741060934393,75099,81129,156228,14555,13152,27707,null,null,null,19.381083636266801,16.211219169470802,17.734977084773501,null,24.265901727515999,21.582103159297301,22.862764748298201,637530,732714,1370244,73278,67550,140828,null,null,null,11.4940473389488,9.2191496272761295,10.2775855978935,null,18.008261608303101,15.561091191434301,16.6945735766759,"参議院選挙区選出議員選挙",2,"11:00:00"]
[2,17,null,null,null,null,null,null,null,null,null,null,null,null,null,null,null,null,null,null,562431,651585,1214016,58723,54398,113121,null,null,null,10.4409251979354,8.3485654212420499,9.3179167325636598,null,17.147272125000899,14.7837869647486,15.8741060934393,75099,81129,156228,14555,13152,27707,null,null,null,19.381083636266801,16.211219169470802,17.734977084773501,null,24.265901727515999,21.582103159297301,22.862764748298201,637530,732714,1370244,73278,67550,140828,null,null,null,11.4940473389488,9.2191496272761295,10.2775855978935,null,18.008261608303101,15.561091191434301,16.6945735766759,"参議院選挙区選出議員選挙",2,"11:00:00"]
[2,18,null,null,null,null,null,null,null,null,null,null,null,null,null,null,null,null,null,null,562431,651585,1214016,58723,54398,113121,null,null,null,10.4409251979354,8.3485654212420499,9.3179167325636598,null,17.147272125000899,14.7837869647486,15.8741060934393,75099,81129,156228,14555,13152,27707,null,null,null,19.381083636266801,16.211219169470802,17.734977084773501,null,24.265901727515999,21.582103159297301,22.862764748298201,637530,732714,1370244,73278,67550,140828,null,null,null,11.4940473389488,9.2191496272761295,10.2775855978935,null,18.008261608303101,15.561091191434301,16.6945735766759,"参議院選挙区選出議員選挙",2,"11:00:00"]
[2,19,null,null,null,null,null,null,null,null,null,null,null,null,null,null,null,null,null,null,562431,651585,1214016,58723,54398,113121,null,null,null,10.4409251979354,8.3485654212420499,9.3179167325636598,null,17.147272125000899,14.7837869647486,15.8741060934393,75099,81129,156228,14555,13152,27707,null,null,null,19.381083636266801,16.211219169470802,17.734977084773501,null,24.265901727515999,21.582103159297301,22.862764748298201,637530,732714,1370244,73278,67550,140828,null,null,null,11.4940473389488,9.2191496272761295,10.2775855978935,null,18.008261608303101,15.561091191434301,16.6945735766759,"参議院選挙区選出議員選挙",2,"11:00:00"]
[2,20,null,null,null,null,null,null,null,null,null,null,null,null,null,null,null,null,null,null,562431,651585,1214016,58723,54398,113121,null,null,null,10.4409251979354,8.3485654212420499,9.3179167325636598,null,17.147272125000899,14.7837869647486,15.8741060934393,75099,81129,156228,14555,13152,27707,null,null,null,19.381083636266801,16.211219169470802,17.734977084773501,null,24.265901727515999,21.582103159297301,22.862764748298201,637530,732714,1370244,73278,67550,140828,null,null,null,11.4940473389488,9.2191496272761295,10.2775855978935,null,18.008261608303101,15.561091191434301,16.6945735766759,"参議院選挙区選出議員選挙",2,"11:00:00"]
[2,21,null,null,null,null,null,null,null,null,null,null,null,null,null,null,null,null,null,null,562431,651585,1214016,58723,54398,113121,null,null,null,10.4409251979354,8.3485654212420499,9.3179167325636598,null,17.147272125000899,14.7837869647486,15.8741060934393,75099,81129,156228,14555,13152,27707,null,null,null,19.381083636266801,16.211219169470802,17.734977084773501,null,24.265901727515999,21.582103159297301,22.862764748298201,637530,732714,1370244,73278,67550,140828,null,null,null,11.4940473389488,9.2191496272761295,10.2775855978935,null,18.008261608303101,15.561091191434301,16.6945735766759,"参議院選挙区選出議員選挙",2,"11:00:00"]
[2,22,null,null,null,null,null,null,null,null,null,null,null,null,null,null,null,null,null,null,562431,651585,1214016,58723,54398,113121,null,null,null,10.4409251979354,8.3485654212420499,9.3179167325636598,null,17.147272125000899,14.7837869647486,15.8741060934393,75099,81129,156228,14555,13152,27707,null,null,null,19.381083636266801,16.211219169470802,17.734977084773501,null,24.265901727515999,21.582103159297301,22.862764748298201,637530,732714,1370244,73278,67550,140828,null,null,null,11.4940473389488,9.2191496272761295,10.2775855978935,null,18.008261608303101,15.561091191434301,16.6945735766759,"参議院選挙区選出議員選挙",2,"11:00:00"]
[2,23,null,null,null,null,null,null,null,null,null,null,null,null,null,null,null,null,null,null,562431,651585,1214016,58723,54398,113121,null,null,null,10.4409251979354,8.3485654212420499,9.3179167325636598,null,17.147272125000899,14.7837869647486,15.8741060934393,75099,81129,156228,14555,13152,27707,null,null,null,19.381083636266801,16.211219169470802,17.734977084773501,null,24.265901727515999,21.582103159297301,22.862764748298201,637530,732714,1370244,73278,67550,140828,null,null,null,11.4940473389488,9.2191496272761295,10.2775855978935,null,18.008261608303101,15.561091191434301,16.6945735766759,"参議院選挙区選出議員選挙",2,"11:00:00"]
[2,24,null,null,null,null,null,null,null,null,null,null,null,null,null,null,null,null,null,null,562431,651585,1214016,58723,54398,113121,null,null,null,10.4409251979354,8.3485654212420499,9.3179167325636598,null,17.147272125000899,14.7837869647486,15.8741060934393,75099,81129,156228,14555,13152,27707,null,null,null,19.381083636266801,16.211219169470802,17.734977084773501,null,24.265901727515999,21.582103159297301,22.862764748298201,637530,732714,1370244,73278,67550,140828,null,null,null,11.4940473389488,9.2191496272761295,10.2775855978935,null,18.008261608303101,15.561091191434301,16.6945735766759,"参議院選挙区選出議員選挙",2,"11:00:00"]
[2,25,null,null,null,null,null,null,null,null,null,null,null,null,null,null,null,null,null,null,562431,651585,1214016,58723,54398,113121,null,null,null,10.4409251979354,8.3485654212420499,9.3179167325636598,null,17.147272125000899,14.7837869647486,15.8741060934393,75099,81129,156228,14555,13152,27707,null,null,null,19.381083636266801,16.211219169470802,17.734977084773501,null,24.265901727515999,21.582103159297301,22.862764748298201,637530,732714,1370244,73278,67550,140828,null,null,null,11.4940473389488,9.2191496272761295,10.2775855978935,null,18.008261608303101,15.561091191434301,16.6945735766759,"参議院選挙区選出議員選挙",2,"11:00:00"]
[2,26,null,null,null,null,null,null,null,null,null,null,null,null,null,null,null,null,null,null,562431,651585,1214016,58723,54398,113121,null,null,null,10.4409251979354,8.3485654212420499,9.3179167325636598,null,17.147272125000899,14.7837869647486,15.8741060934393,75099,81129,156228,14555,13152,27707,null,null,null,19.381083636266801,16.211219169470802,17.734977084773501,null,24.265901727515999,21.582103159297301,22.862764748298201,637530,732714,1370244,73278,67550,140828,null,null,null,11.4940473389488,9.2191496272761295,10.2775855978935,null,18.008261608303101,15.561091191434301,16.6945735766759,"参議院選挙区選出議員選挙",2,"11:00:00"]
[2,27,null,null,null,null,null,null,null,null,null,null,null,null,null,null,null,null,null,null,562431,651585,1214016,58723,54398,113121,null,null,null,10.4409251979354,8.3485654212420499,9.3179167325636598,null,17.147272125000899,14.7837869647486,15.8741060934393,75099,81129,156228,14555,13152,27707,null,null,null,19.381083636266801,16.211219169470802,17.734977084773501,null,24.265901727515999,21.582103159297301,22.862764748298201,637530,732714,1370244,73278,67550,140828,null,null,null,11.4940473389488,9.2191496272761295,10.2775855978935,null,18.008261608303101,15.561091191434301,16.6945735766759,"参議院選挙区選出議員選挙",2,"11:00:00"]
[2,28,null,null,null,null,null,null,null,null,null,null,null,null,null,null,null,null,null,null,562431,651585,1214016,58723,54398,113121,null,null,null,10.4409251979354,8.3485654212420499,9.3179167325636598,null,17.147272125000899,14.7837869647486,15.8741060934393,75099,81129,156228,14555,13152,27707,null,null,null,19.381083636266801,16.211219169470802,17.734977084773501,null,24.265901727515999,21.582103159297301,22.862764748298201,637530,732714,1370244,73278,67550,140828,null,null,null,11.4940473389488,9.2191496272761295,10.2775855978935,null,18.008261608303101,15.561091191434301,16.6945735766759,"参議院選挙区選出議員選挙",2,"11:00:00"]
[2,29,null,null,null,null,null,null,null,null,null,null,null,null,null,null,null,null,null,null,562431,651585,1214016,58723,54398,113121,null,null,null,10.4409251979354,8.3485654212420499,9.3179167325636598,null,17.147272125000899,14.7837869647486,15.8741060934393,75099,81129,156228,14555,13152,27707,null,null,null,19.381083636266801,16.211219169470802,17.734977084773501,null,24.265901727515999,21.582103159297301,22.862764748298201,637530,732714,1370244,73278,67550,140828,null,null,null,11.4940473389488,9.2191496272761295,10.2775855978935,null,18.008261608303101,15.561091191434301,16.6945735766759,"参議院選挙区選出議員選挙",2,"11:00:00"]
[2,30,null,null,null,null,null,null,null,null,null,null,null,null,null,null,null,null,null,null,562431,651585,1214016,58723,54398,113121,null,null,null,10.4409251979354,8.3485654212420499,9.3179167325636598,null,17.147272125000899,14.7837869647486,15.8741060934393,75099,81129,156228,14555,13152,27707,null,null,null,19.381083636266801,16.211219169470802,17.734977084773501,null,24.265901727515999,21.582103159297301,22.862764748298201,637530,732714,1370244,73278,67550,140828,null,null,null,11.4940473389488,9.2191496272761295,10.2775855978935,null,18.008261608303101,15.561091191434301,16.6945735766759,"参議院選挙区選出議員選挙",2,"11:00:00"]
[2,31,null,null,null,null,null,null,null,null,null,null,null,null,null,null,null,null,null,null,562431,651585,1214016,58723,54398,113121,null,null,null,10.4409251979354,8.3485654212420499,9.3179167325636598,null,17.147272125000899,14.7837869647486,15.8741060934393,75099,81129,156228,14555,13152,27707,null,null,null,19.381083636266801,16.211219169470802,17.734977084773501,null,24.265901727515999,21.582103159297301,22.862764748298201,637530,732714,1370244,73278,67550,140828,null,null,null,11.4940473389488,9.2191496272761295,10.2775855978935,null,18.008261608303101,15.561091191434301,16.6945735766759,"参議院選挙区選出議員選挙",2,"11:00:00"]
[2,32,null,null,null,null,null,null,null,null,null,null,null,null,null,null,null,null,null,null,562431,651585,1214016,58723,54398,113121,null,null,null,10.4409251979354,8.3485654212420499,9.3179167325636598,null,17.147272125000899,14.7837869647486,15.8741060934393,75099,81129,156228,14555,13152,27707,null,null,null,19.381083636266801,16.211219169470802,17.734977084773501,null,24.265901727515999,21.582103159297301,22.862764748298201,637530,732714,1370244,73278,67550,140828,null,null,null,11.4940473389488,9.2191496272761295,10.2775855978935,null,18.008261608303101,15.561091191434301,16.6945735766759,"参議院選挙区選出議員選挙",2,"11:00:00"]
[2,33,null,null,null,null,null,null,null,null,null,null,null,null,null,null,null,null,null,null,562431,651585,1214016,58723,54398,113121,null,null,null,10.4409251979354,8.3485654212420499,9.3179167325636598,null,17.147272125000899,14.7837869647486,15.8741060934393,75099,81129,156228,14555,13152,27707,null,null,null,19.381083636266801,16.211219169470802,17.734977084773501,null,24.265901727515999,21.582103159297301,22.862764748298201,637530,732714,1370244,73278,67550,140828,null,null,null,11.4940473389488,9.2191496272761295,10.2775855978935,null,18.008261608303101,15.561091191434301,16.6945735766759,"参議院選挙区選出議員選挙",2,"11:00:00"]
[2,34,null,null,null,null,null,null,null,null,null,null,null,null,null,null,null,null,null,null,562431,651585,1214016,58723,54398,113121,null,null,null,10.4409251979354,8.3485654212420499,9.3179167325636598,null,17.147272125000899,14.7837869647486,15.8741060934393,75099,81129,156228,14555,13152,27707,null,null,null,19.381083636266801,16.211219169470802,17.734977084773501,null,24.265901727515999,21.582103159297301,22.862764748298201,637530,732714,1370244,73278,67550,140828,null,null,null,11.4940473389488,9.2191496272761295,10.2775855978935,null,18.008261608303101,15.561091191434301,16.6945735766759,"参議院選挙区選出議員選挙",2,"11:00:00"]
[2,35,null,null,null,null,null,null,null,null,null,null,null,null,null,null,null,null,null,null,562431,651585,1214016,58723,54398,113121,null,null,null,10.4409251979354,8.3485654212420499,9.3179167325636598,null,17.147272125000899,14.7837869647486,15.8741060934393,75099,81129,156228,14555,13152,27707,null,null,null,19.381083636266801,16.211219169470802,17.734977084773501,null,24.265901727515999,21.582103159297301,22.862764748298201,637530,732714,1370244,73278,67550,140828,null,null,null,11.4940473389488,9.2191496272761295,10.2775855978935,null,18.008261608303101,15.561091191434301,16.6945735766759,"参議院選挙区選出議員選挙",2,"11:00:00"]
[2,36,null,null,null,null,null,null,null,null,null,null,null,null,null,null,null,null,null,null,562431,651585,1214016,58723,54398,113121,null,null,null,10.4409251979354,8.3485654212420499,9.3179167325636598,null,17.147272125000899,14.7837869647486,15.8741060934393,75099,81129,156228,14555,13152,27707,null,null,null,19.381083636266801,16.211219169470802,17.734977084773501,null,24.265901727515999,21.582103159297301,22.862764748298201,637530,732714,1370244,73278,67550,140828,null,null,null,11.4940473389488,9.2191496272761295,10.2775855978935,null,18.008261608303101,15.561091191434301,16.6945735766759,"参議院選挙区選出議員選挙",2,"11:00:00"]
[2,37,null,null,null,null,null,null,null,null,null,null,null,null,null,null,null,null,null,null,562431,651585,1214016,58723,54398,113121,null,null,null,10.4409251979354,8.3485654212420499,9.3179167325636598,null,17.147272125000899,14.7837869647486,15.8741060934393,75099,81129,156228,14555,13152,27707,null,null,null,19.381083636266801,16.211219169470802,17.734977084773501,null,24.265901727515999,21.582103159297301,22.862764748298201,637530,732714,1370244,73278,67550,140828,null,null,null,11.4940473389488,9.2191496272761295,10.2775855978935,null,18.008261608303101,15.561091191434301,16.6945735766759,"参議院選挙区選出議員選挙",2,"11:00:00"]
[2,38,null,null,null,null,null,null,null,null,null,null,null,null,null,null,null,null,null,null,562431,651585,1214016,58723,54398,113121,null,null,null,10.4409251979354,8.3485654212420499,9.3179167325636598,null,17.147272125000899,14.7837869647486,15.8741060934393,75099,81129,156228,14555,13152,27707,null,null,null,19.381083636266801,16.211219169470802,17.734977084773501,null,24.265901727515999,21.582103159297301,22.862764748298201,637530,732714,1370244,73278,67550,140828,null,null,null,11.4940473389488,9.2191496272761295,10.2775855978935,null,18.008261608303101,15.561091191434301,16.6945735766759,"参議院選挙区選出議員選挙",2,"11:00:00"]
[2,39,null,null,null,null,null,null,null,null,null,null,null,null,null,null,null,null,null,null,562431,651585,1214016,58723,54398,113121,null,null,null,10.4409251979354,8.3485654212420499,9.3179167325636598,null,17.147272125000899,14.7837869647486,15.8741060934393,75099,81129,156228,14555,13152,27707,null,null,null,19.381083636266801,16.211219169470802,17.734977084773501,null,24.265901727515999,21.582103159297301,22.862764748298201,637530,732714,1370244,73278,67550,140828,null,null,null,11.4940473389488,9.2191496272761295,10.2775855978935,null,18.008261608303101,15.561091191434301,16.6945735766759,"参議院選挙区選出議員選挙",2,"11:00:00"]
[2,40,null,null,null,null,null,null,null,null,null,null,null,null,null,null,null,null,null,null,562431,651585,1214016,58723,54398,113121,null,null,null,10.4409251979354,8.3485654212420499,9.3179167325636598,null,17.147272125000899,14.7837869647486,15.8741060934393,75099,81129,156228,14555,13152,27707,null,null,null,19.381083636266801,16.211219169470802,17.734977084773501,null,24.265901727515999,21.582103159297301,22.862764748298201,637530,732714,1370244,73278,67550,140828,null,null,null,11.4940473389488,9.2191496272761295,10.2775855978935,null,18.008261608303101,15.561091191434301,16.6945735766759,"参議院選挙区選出議員選挙",2,"11:00:00"]
[2,41,null,null,null,null,null,null,null,null,null,null,null,null,null,null,null,null,null,null,562431,651585,1214016,58723,54398,113121,null,null,null,10.4409251979354,8.3485654212420499,9.3179167325636598,null,17.147272125000899,14.7837869647486,15.8741060934393,75099,81129,156228,14555,13152,27707,null,null,null,19.381083636266801,16.211219169470802,17.734977084773501,null,24.265901727515999,21.582103159297301,22.862764748298201,637530,732714,1370244,73278,67550,140828,null,null,null,11.4940473389488,9.2191496272761295,10.2775855978935,null,18.008261608303101,15.561091191434301,16.6945735766759,"参議院選挙区選出議員選挙",2,"11:00:00"]
[2,42,null,null,null,null,null,null,null,null,null,null,null,null,null,null,null,null,null,null,562431,651585,1214016,58723,54398,113121,null,null,null,10.4409251979354,8.3485654212420499,9.3179167325636598,null,17.147272125000899,14.7837869647486,15.8741060934393,75099,81129,156228,14555,13152,27707,null,null,null,19.381083636266801,16.211219169470802,17.734977084773501,null,24.265901727515999,21.582103159297301,22.862764748298201,637530,732714,1370244,73278,67550,140828,null,null,null,11.4940473389488,9.2191496272761295,10.2775855978935,null,18.008261608303101,15.561091191434301,16.6945735766759,"参議院選挙区選出議員選挙",2,"11:00:00"]
[2,43,null,null,null,null,null,null,null,null,null,null,null,null,null,null,null,null,null,null,562431,651585,1214016,58723,54398,113121,null,null,null,10.4409251979354,8.3485654212420499,9.3179167325636598,null,17.147272125000899,14.7837869647486,15.8741060934393,75099,81129,156228,14555,13152,27707,null,null,null,19.381083636266801,16.211219169470802,17.734977084773501,null,24.265901727515999,21.582103159297301,22.862764748298201,637530,732714,1370244,73278,67550,140828,null,null,null,11.4940473389488,9.2191496272761295,10.2775855978935,null,18.008261608303101,15.561091191434301,16.6945735766759,"参議院選挙区選出議員選挙",2,"11:00:00"]