{"text_format":"1","workbook":"xlsx","n_sheets":3,"sheets":["開票速報（得票詳細）_231_","パラメタシート","P_23号様式"],"not_rendered":{"charts":0,"images":0,"macros":1,"external_links":0,"defined_names":7,"comments":0,"pivot_tables":0},"unopened":[],"bounds":{"document_bytes":16777216,"sheet_cells":100000,"rows_first":2000,"rows_last":500,"rows_between":2000,"halvings":0,"cell_chars":16384,"cell_head_chars":4096},"cells_cut":0,"cells_raw":0,"read":"whole","date_system":"1900"}

{"sheet":"開票速報（得票詳細）_231_","index":0,"n_rows":112,"n_cols":21,"rows_kept":112,"cut":false,"hidden":false,"merged":[[56,20,57,21],[61,18,61,19],[59,17,59,19],[60,17,60,19],[63,16,63,17],[63,18,63,19],[0,20,1,21],[3,14,3,16],[54,16,54,17],[54,18,54,19],[55,16,55,17],[55,18,55,19],[49,18,49,19],[50,18,50,19],[51,18,51,19],[44,18,44,19],[53,16,53,17],[53,18,53,19],[45,18,45,19],[46,18,46,19],[47,18,47,19],[48,18,48,19],[49,16,49,17],[18,18,18,19],[19,18,19,19],[14,18,14,19],[15,18,15,19],[16,18,16,19],[24,18,24,19],[25,18,25,19],[50,16,50,17],[51,16,51,17],[35,18,35,19],[28,18,28,19],[29,18,29,19],[30,18,30,19],[31,18,31,19],[40,18,40,19],[41,18,41,19],[42,18,42,19],[43,18,43,19],[36,18,36,19],[37,18,37,19],[38,18,38,19],[39,18,39,19],[47,16,47,17],[48,16,48,17],[26,18,26,19],[27,18,27,19],[20,18,20,19],[21,18,21,19],[22,18,22,19],[23,18,23,19],[32,18,32,19],[33,18,33,19],[34,18,34,19],[27,16,27,17],[28,16,28,17],[21,16,21,17],[22,16,22,17],[23,16,23,17],[24,16,24,17],[46,16,46,17],[45,16,45,17],[36,16,36,17],[29,16,29,17],[30,16,30,17],[31,16,31,17],[32,16,32,17],[33,16,33,17],[34,16,34,17],[35,16,35,17],[37,16,37,17],[38,16,38,17],[39,16,39,17],[40,16,40,17],[41,16,41,17],[42,16,42,17],[43,16,43,17],[44,16,44,17],[18,16,18,17],[19,16,19,17],[20,16,20,17],[13,16,13,17],[14,16,14,17],[15,16,15,17],[16,16,16,17],[25,16,25,17],[26,16,26,17],[5,18,5,19],[6,14,6,15],[6,16,6,17],[7,16,7,17],[7,18,7,19],[10,18,10,19],[11,18,11,19],[12,18,12,19],[17,16,17,17],[13,18,13,19],[17,18,17,19],[12,2,12,3],[13,2,13,3],[10,16,10,17],[11,16,11,17],[1,7,3,12],[9,18,9,19],[8,18,8,19],[6,10,6,11],[6,12,6,13],[7,14,7,15],[8,14,8,15],[8,6,8,7],[1,0,2,2],[6,2,8,3],[9,2,9,3],[8,16,8,17],[6,6,6,7],[6,8,6,9],[9,16,9,17],[3,17,3,19],[4,17,4,19],[6,18,6,19],[12,16,12,17],[4,14,4,16],[7,10,7,11],[7,12,7,13],[10,2,10,3],[11,2,11,3],[8,8,8,9],[8,10,8,11],[8,12,8,13],[8,4,8,5],[6,4,6,5],[7,4,7,5],[7,6,7,7],[7,8,7,9],[16,2,16,3],[17,2,17,3],[28,2,28,3],[29,2,29,3],[25,2,25,3],[26,2,26,3],[27,2,27,3],[22,2,22,3],[23,2,23,3],[24,2,24,3],[18,2,18,3],[19,2,19,3],[20,2,20,3],[21,2,21,3],[63,12,63,13],[63,14,63,15],[64,12,64,13],[64,14,64,15],[43,2,43,3],[50,2,50,3],[51,2,51,3],[44,2,44,3],[45,2,45,3],[46,2,46,3],[47,2,47,3],[60,14,60,16],[59,14,59,16],[64,16,64,17],[64,18,64,19],[65,2,65,3],[65,16,65,17],[65,18,65,19],[66,2,66,3],[66,16,66,17],[66,18,66,19],[64,4,64,5],[64,6,64,7],[64,8,64,9],[64,10,64,11],[69,2,69,3],[69,16,69,17],[69,18,69,19],[70,2,70,3],[70,16,70,17],[70,18,70,19],[67,2,67,3],[67,16,67,17],[67,18,67,19],[68,2,68,3],[68,16,68,17],[68,18,68,19],[73,2,73,3],[73,16,73,17],[73,18,73,19],[74,2,74,3],[74,16,74,17],[74,18,74,19],[71,2,71,3],[71,16,71,17],[71,18,71,19],[72,2,72,3],[72,16,72,17],[72,18,72,19],[77,2,77,3],[77,16,77,17],[77,18,77,19],[78,2,78,3],[78,16,78,17],[78,18,78,19],[75,2,75,3],[75,16,75,17],[75,18,75,19],[76,2,76,3],[76,16,76,17],[76,18,76,19],[81,2,81,3],[81,16,81,17],[81,18,81,19],[82,2,82,3],[82,16,82,17],[82,18,82,19],[79,2,79,3],[79,16,79,17],[79,18,79,19],[80,2,80,3],[80,16,80,17],[80,18,80,19],[85,2,85,3],[85,16,85,17],[85,18,85,19],[86,2,86,3],[86,16,86,17],[86,18,86,19],[83,2,83,3],[83,16,83,17],[83,18,83,19],[84,2,84,3],[84,16,84,17],[84,18,84,19],[89,2,89,3],[89,16,89,17],[89,18,89,19],[90,2,90,3],[90,16,90,17],[90,18,90,19],[87,2,87,3],[87,16,87,17],[87,18,87,19],[88,2,88,3],[88,16,88,17],[88,18,88,19],[93,2,93,3],[93,16,93,17],[93,18,93,19],[94,2,94,3],[94,16,94,17],[94,18,94,19],[91,2,91,3],[91,16,91,17],[91,18,91,19],[92,2,92,3],[92,16,92,17],[92,18,92,19],[97,2,97,3],[97,16,97,17],[97,18,97,19],[98,2,98,3],[98,16,98,17],[98,18,98,19],[95,2,95,3],[95,16,95,17],[95,18,95,19],[96,2,96,3],[96,16,96,17],[96,18,96,19],[101,2,101,3],[101,16,101,17],[101,18,101,19],[102,2,102,3],[102,16,102,17],[102,18,102,19],[99,2,99,3],[99,16,99,17],[99,18,99,19],[100,2,100,3],[100,16,100,17],[100,18,100,19],[105,2,105,3],[105,16,105,17],[105,18,105,19],[106,2,106,3],[106,16,106,17],[106,18,106,19],[103,2,103,3],[103,16,103,17],[103,18,103,19],[104,2,104,3],[104,16,104,17],[104,18,104,19],[110,2,110,3],[110,16,110,17],[110,18,110,19],[111,2,111,3],[111,16,111,17],[111,18,111,19],[3,1,3,4],[57,0,58,2],[57,7,59,12],[59,1,59,4],[53,2,53,3],[54,2,54,3],[55,2,55,3],[48,2,48,3],[49,2,49,3],[42,2,42,3],[36,2,36,3],[37,2,37,3],[38,2,38,3],[39,2,39,3],[40,2,40,3],[41,2,41,3],[30,2,30,3],[31,2,31,3],[32,2,32,3],[33,2,33,3],[34,2,34,3],[35,2,35,3],[14,2,14,3],[15,2,15,3],[62,2,64,3],[62,4,62,5],[62,6,62,7],[62,8,62,9],[62,10,62,11],[62,12,62,13],[62,14,62,15],[62,16,62,17],[62,18,62,19],[63,4,63,5],[63,6,63,7],[63,8,63,9],[63,10,63,11],[107,2,107,3],[107,16,107,17],[107,18,107,19],[109,2,109,3],[109,16,109,17],[109,18,109,19]]}
[null,null,null,null,null,null,null,null,null,null,null,null,null,null,null,null,null,null,null,null,{"$f":"IF(P_23号様式!A2=\"\",\" ページ\", P_23号様式!A2 & \"ページ\")","v":"1ページ"}]
["第23号様式",null,null,null,null,null,null,"開　票　速　報"]
[]
[null,{"$f":"IF(パラメタシート!B1=\"\",\"\",パラメタシート!B1)","v":"2017-10-22"},null,null,null,null,null,null,null,null,null,null,null,null,{"$f":"IF(P_23号様式!AK2=\"0\",\"即日 開票  中間報告\",\"翌日 開票  中間報告\")","v":"即日 開票  中間報告"},null,null,{"$f":"IF(P_23号様式!AI2=\"\",\"     時     分\",P_23号様式!AI2)","v":"     時     分"}]
[null,"最高裁判所裁判官国民審査",null,null,null,null,null,null,null,null,null,null,null,null,"開票  結了報告",null,null,{"$f":"IF(P_23号様式!AJ2=\"\",\"     時     分\",P_23号様式!AJ2)","v":"01:25:00"}]
[null,null,null,null,null,null,null,null,null,null,null,null,null,null,null,null,null,null,"鹿 児 島 県"]
[null,null,"市区町村名",null,"（ア）",null,"（イ）",null,"（ウ）",null,"（エ）",null,"（オ）",null,"（カ）"]
[null,null,null,null,"有 効 投 票 数",null,"無 効 投 票 数",null,"投　票　総　数",null,"持ち帰り・不受理",null,"投 票 者 総 数",null,"記　載　無　効",null,"無 効 投 票 率",null,"開票確定時刻"]
[null,null,null,null,null,null,null,null,"（ア） ＋ (イ)",null,"そ　の　他",null,"（ウ） ＋ (エ)",null,null,null,"（イ）/（ウ）％"]
[null,null,{"$f":"IF(P_23号様式!C2=\"\",\"\",P_23号様式!C2)","v":"　鹿児島市１区"},null,{"$f":"IF(P_23号様式!D2=\"\",\"\",P_23号様式!D2)","v":172760},null,{"$f":"IF(P_23号様式!E2=\"\",\"\",P_23号様式!E2)","v":6643},null,{"$f":"IF(P_23号様式!F2=\"\",\"\",P_23号様式!F2)","v":179403},null,{"$f":"IF(P_23号様式!G2=\"\",\"\",P_23号様式!G2)","v":133},null,{"$f":"IF(P_23号様式!H2=\"\",\"\",P_23号様式!H2)","v":179536},null,{"$f":"IF(P_23号様式!I2=\"\",\"\",P_23号様式!I2)","v":0},null,{"$f":"IF(P_23号様式!J2=\"\",\"\",P_23号様式!J2)","v":3.7028366303796498},null,{"$f":"IF(P_23号様式!K2=\"\",\"\",P_23号様式!K2)","v":"01:25:00"}]
[null,null,{"$f":"IF(P_23号様式!C3=\"\",\"\",P_23号様式!C3)","v":"　鹿児島市２区"},null,{"$f":"IF(P_23号様式!D3=\"\",\"\",P_23号様式!D3)","v":63355},null,{"$f":"IF(P_23号様式!E3=\"\",\"\",P_23号様式!E3)","v":133},null,{"$f":"IF(P_23号様式!F3=\"\",\"\",P_23号様式!F3)","v":63488},null,{"$f":"IF(P_23号様式!G3=\"\",\"\",P_23号様式!G3)","v":66},null,{"$f":"IF(P_23号様式!H3=\"\",\"\",P_23号様式!H3)","v":63554},null,{"$f":"IF(P_23号様式!I3=\"\",\"\",P_23号様式!I3)","v":0},null,{"$f":"IF(P_23号様式!J3=\"\",\"\",P_23号様式!J3)","v":0.209488407258065},null,{"$f":"IF(P_23号様式!K3=\"\",\"\",P_23号様式!K3)","v":"00:17:00"}]
[null,null,{"$f":"IF(P_23号様式!C4=\"\",\"\",P_23号様式!C4)","v":"＊（鹿児島市）計"},null,{"$f":"IF(P_23号様式!D4=\"\",\"\",P_23号様式!D4)","v":236115},null,{"$f":"IF(P_23号様式!E4=\"\",\"\",P_23号様式!E4)","v":6776},null,{"$f":"IF(P_23号様式!F4=\"\",\"\",P_23号様式!F4)","v":242891},null,{"$f":"IF(P_23号様式!G4=\"\",\"\",P_23号様式!G4)","v":199},null,{"$f":"IF(P_23号様式!H4=\"\",\"\",P_23号様式!H4)","v":243090},null,{"$f":"IF(P_23号様式!I4=\"\",\"\",P_23号様式!I4)","v":0},null,{"$f":"IF(P_23号様式!J4=\"\",\"\",P_23号様式!J4)","v":2.78972872605407},null,{"$f":"IF(P_23号様式!K4=\"\",\"\",P_23号様式!K4)","v":"01:25:00"}]
[null,null,{"$f":"IF(P_23号様式!C5=\"\",\"\",P_23号様式!C5)","v":"　鹿屋市"},null,{"$f":"IF(P_23号様式!D5=\"\",\"\",P_23号様式!D5)","v":41124},null,{"$f":"IF(P_23号様式!E5=\"\",\"\",P_23号様式!E5)","v":2291},null,{"$f":"IF(P_23号様式!F5=\"\",\"\",P_23号様式!F5)","v":43415},null,{"$f":"IF(P_23号様式!G5=\"\",\"\",P_23号様式!G5)","v":4},null,{"$f":"IF(P_23号様式!H5=\"\",\"\",P_23号様式!H5)","v":43419},null,{"$f":"IF(P_23号様式!I5=\"\",\"\",P_23号様式!I5)","v":0},null,{"$f":"IF(P_23号様式!J5=\"\",\"\",P_23号様式!J5)","v":5.27697800299436},null,{"$f":"IF(P_23号様式!K5=\"\",\"\",P_23号様式!K5)","v":"01:00:00"}]
[null,null,{"$f":"IF(P_23号様式!C6=\"\",\"\",P_23号様式!C6)","v":"　枕崎市"},null,{"$f":"IF(P_23号様式!D6=\"\",\"\",P_23号様式!D6)","v":9411},null,{"$f":"IF(P_23号様式!E6=\"\",\"\",P_23号様式!E6)","v":512},null,{"$f":"IF(P_23号様式!F6=\"\",\"\",P_23号様式!F6)","v":9923},null,{"$f":"IF(P_23号様式!G6=\"\",\"\",P_23号様式!G6)","v":1},null,{"$f":"IF(P_23号様式!H6=\"\",\"\",P_23号様式!H6)","v":9924},null,{"$f":"IF(P_23号様式!I6=\"\",\"\",P_23号様式!I6)","v":0},null,{"$f":"IF(P_23号様式!J6=\"\",\"\",P_23号様式!J6)","v":5.1597299203869804},null,{"$f":"IF(P_23号様式!K6=\"\",\"\",P_23号様式!K6)","v":"22:38:00"}]
[null,null,{"$f":"IF(P_23号様式!C7=\"\",\"\",P_23号様式!C7)","v":"　阿久根市"},null,{"$f":"IF(P_23号様式!D7=\"\",\"\",P_23号様式!D7)","v":11263},null,{"$f":"IF(P_23号様式!E7=\"\",\"\",P_23号様式!E7)","v":226},null,{"$f":"IF(P_23号様式!F7=\"\",\"\",P_23号様式!F7)","v":11489},null,{"$f":"IF(P_23号様式!G7=\"\",\"\",P_23号様式!G7)","v":3},null,{"$f":"IF(P_23号様式!H7=\"\",\"\",P_23号様式!H7)","v":11492},null,{"$f":"IF(P_23号様式!I7=\"\",\"\",P_23号様式!I7)","v":0},null,{"$f":"IF(P_23号様式!J7=\"\",\"\",P_23号様式!J7)","v":1.9670989642266501},null,{"$f":"IF(P_23号様式!K7=\"\",\"\",P_23号様式!K7)","v":"23:40:00"}]
[null,null,{"$f":"IF(P_23号様式!C8=\"\",\"\",P_23号様式!C8)","v":"　出水市"},null,{"$f":"IF(P_23号様式!D8=\"\",\"\",P_23号様式!D8)","v":25405},null,{"$f":"IF(P_23号様式!E8=\"\",\"\",P_23号様式!E8)","v":633},null,{"$f":"IF(P_23号様式!F8=\"\",\"\",P_23号様式!F8)","v":26038},null,{"$f":"IF(P_23号様式!G8=\"\",\"\",P_23号様式!G8)","v":0},null,{"$f":"IF(P_23号様式!H8=\"\",\"\",P_23号様式!H8)","v":26038},null,{"$f":"IF(P_23号様式!I8=\"\",\"\",P_23号様式!I8)","v":0},null,{"$f":"IF(P_23号様式!J8=\"\",\"\",P_23号様式!J8)","v":2.4310622935709301},null,{"$f":"IF(P_23号様式!K8=\"\",\"\",P_23号様式!K8)","v":"01:00:00"}]
[null,null,{"$f":"IF(P_23号様式!C9=\"\",\"\",P_23号様式!C9)","v":"　指宿市"},null,{"$f":"IF(P_23号様式!D9=\"\",\"\",P_23号様式!D9)","v":18744},null,{"$f":"IF(P_23号様式!E9=\"\",\"\",P_23号様式!E9)","v":59},null,{"$f":"IF(P_23号様式!F9=\"\",\"\",P_23号様式!F9)","v":18803},null,{"$f":"IF(P_23号様式!G9=\"\",\"\",P_23号様式!G9)","v":1},null,{"$f":"IF(P_23号様式!H9=\"\",\"\",P_23号様式!H9)","v":18804},null,{"$f":"IF(P_23号様式!I9=\"\",\"\",P_23号様式!I9)","v":0},null,{"$f":"IF(P_23号様式!J9=\"\",\"\",P_23号様式!J9)","v":0.313779716002766},null,{"$f":"IF(P_23号様式!K9=\"\",\"\",P_23号様式!K9)","v":"00:41:00"}]
[null,null,{"$f":"IF(P_23号様式!C10=\"\",\"\",P_23号様式!C10)","v":"　西之表市"},null,{"$f":"IF(P_23号様式!D10=\"\",\"\",P_23号様式!D10)","v":6981},null,{"$f":"IF(P_23号様式!E10=\"\",\"\",P_23号様式!E10)","v":125},null,{"$f":"IF(P_23号様式!F10=\"\",\"\",P_23号様式!F10)","v":7106},null,{"$f":"IF(P_23号様式!G10=\"\",\"\",P_23号様式!G10)","v":0},null,{"$f":"IF(P_23号様式!H10=\"\",\"\",P_23号様式!H10)","v":7106},null,{"$f":"IF(P_23号様式!I10=\"\",\"\",P_23号様式!I10)","v":1},null,{"$f":"IF(P_23号様式!J10=\"\",\"\",P_23号様式!J10)","v":1.7590768364762199},null,{"$f":"IF(P_23号様式!K10=\"\",\"\",P_23号様式!K10)","v":"23:16:00"}]
[null,null,{"$f":"IF(P_23号様式!C11=\"\",\"\",P_23号様式!C11)","v":"　垂水市"},null,{"$f":"IF(P_23号様式!D11=\"\",\"\",P_23号様式!D11)","v":7650},null,{"$f":"IF(P_23号様式!E11=\"\",\"\",P_23号様式!E11)","v":397},null,{"$f":"IF(P_23号様式!F11=\"\",\"\",P_23号様式!F11)","v":8047},null,{"$f":"IF(P_23号様式!G11=\"\",\"\",P_23号様式!G11)","v":0},null,{"$f":"IF(P_23号様式!H11=\"\",\"\",P_23号様式!H11)","v":8047},null,{"$f":"IF(P_23号様式!I11=\"\",\"\",P_23号様式!I11)","v":0},null,{"$f":"IF(P_23号様式!J11=\"\",\"\",P_23号様式!J11)","v":4.9335155958742396},null,{"$f":"IF(P_23号様式!K11=\"\",\"\",P_23号様式!K11)","v":"23:34:00"}]
[null,null,{"$f":"IF(P_23号様式!C12=\"\",\"\",P_23号様式!C12)","v":"　薩摩川内市第１"},null,{"$f":"IF(P_23号様式!D12=\"\",\"\",P_23号様式!D12)","v":45178},null,{"$f":"IF(P_23号様式!E12=\"\",\"\",P_23号様式!E12)","v":1214},null,{"$f":"IF(P_23号様式!F12=\"\",\"\",P_23号様式!F12)","v":46392},null,{"$f":"IF(P_23号様式!G12=\"\",\"\",P_23号様式!G12)","v":3},null,{"$f":"IF(P_23号様式!H12=\"\",\"\",P_23号様式!H12)","v":46395},null,{"$f":"IF(P_23号様式!I12=\"\",\"\",P_23号様式!I12)","v":0},null,{"$f":"IF(P_23号様式!J12=\"\",\"\",P_23号様式!J12)","v":2.61683048801518},null,{"$f":"IF(P_23号様式!K12=\"\",\"\",P_23号様式!K12)","v":"23:43:00"}]
[null,null,{"$f":"IF(P_23号様式!C13=\"\",\"\",P_23号様式!C13)","v":"　薩摩川内市第２"},null,{"$f":"IF(P_23号様式!D13=\"\",\"\",P_23号様式!D13)","v":1537},null,{"$f":"IF(P_23号様式!E13=\"\",\"\",P_23号様式!E13)","v":15},null,{"$f":"IF(P_23号様式!F13=\"\",\"\",P_23号様式!F13)","v":1552},null,{"$f":"IF(P_23号様式!G13=\"\",\"\",P_23号様式!G13)","v":0},null,{"$f":"IF(P_23号様式!H13=\"\",\"\",P_23号様式!H13)","v":1552},null,{"$f":"IF(P_23号様式!I13=\"\",\"\",P_23号様式!I13)","v":0},null,{"$f":"IF(P_23号様式!J13=\"\",\"\",P_23号様式!J13)","v":0.96649484536082497},null,{"$f":"IF(P_23号様式!K13=\"\",\"\",P_23号様式!K13)","v":"22:45:00"}]
[null,null,{"$f":"IF(P_23号様式!C14=\"\",\"\",P_23号様式!C14)","v":"　薩摩川内市第３"},null,{"$f":"IF(P_23号様式!D14=\"\",\"\",P_23号様式!D14)","v":1382},null,{"$f":"IF(P_23号様式!E14=\"\",\"\",P_23号様式!E14)","v":23},null,{"$f":"IF(P_23号様式!F14=\"\",\"\",P_23号様式!F14)","v":1405},null,{"$f":"IF(P_23号様式!G14=\"\",\"\",P_23号様式!G14)","v":0},null,{"$f":"IF(P_23号様式!H14=\"\",\"\",P_23号様式!H14)","v":1405},null,{"$f":"IF(P_23号様式!I14=\"\",\"\",P_23号様式!I14)","v":0},null,{"$f":"IF(P_23号様式!J14=\"\",\"\",P_23号様式!J14)","v":1.6370106761565799},null,{"$f":"IF(P_23号様式!K14=\"\",\"\",P_23号様式!K14)","v":"21:35:00"}]
[null,null,{"$f":"IF(P_23号様式!C15=\"\",\"\",P_23号様式!C15)","v":"＊（薩摩川内市）計"},null,{"$f":"IF(P_23号様式!D15=\"\",\"\",P_23号様式!D15)","v":48097},null,{"$f":"IF(P_23号様式!E15=\"\",\"\",P_23号様式!E15)","v":1252},null,{"$f":"IF(P_23号様式!F15=\"\",\"\",P_23号様式!F15)","v":49349},null,{"$f":"IF(P_23号様式!G15=\"\",\"\",P_23号様式!G15)","v":3},null,{"$f":"IF(P_23号様式!H15=\"\",\"\",P_23号様式!H15)","v":49352},null,{"$f":"IF(P_23号様式!I15=\"\",\"\",P_23号様式!I15)","v":0},null,{"$f":"IF(P_23号様式!J15=\"\",\"\",P_23号様式!J15)","v":2.53703215870636},null,{"$f":"IF(P_23号様式!K15=\"\",\"\",P_23号様式!K15)","v":"23:43:00"}]
[null,null,{"$f":"IF(P_23号様式!C16=\"\",\"\",P_23号様式!C16)","v":"　日置市"},null,{"$f":"IF(P_23号様式!D16=\"\",\"\",P_23号様式!D16)","v":24776},null,{"$f":"IF(P_23号様式!E16=\"\",\"\",P_23号様式!E16)","v":614},null,{"$f":"IF(P_23号様式!F16=\"\",\"\",P_23号様式!F16)","v":25390},null,{"$f":"IF(P_23号様式!G16=\"\",\"\",P_23号様式!G16)","v":0},null,{"$f":"IF(P_23号様式!H16=\"\",\"\",P_23号様式!H16)","v":25390},null,{"$f":"IF(P_23号様式!I16=\"\",\"\",P_23号様式!I16)","v":0},null,{"$f":"IF(P_23号様式!J16=\"\",\"\",P_23号様式!J16)","v":2.4182749113824298},null,{"$f":"IF(P_23号様式!K16=\"\",\"\",P_23号様式!K16)","v":"23:36:00"}]
[null,null,{"$f":"IF(P_23号様式!C17=\"\",\"\",P_23号様式!C17)","v":"　曽於市"},null,{"$f":"IF(P_23号様式!D17=\"\",\"\",P_23号様式!D17)","v":17649},null,{"$f":"IF(P_23号様式!E17=\"\",\"\",P_23号様式!E17)","v":273},null,{"$f":"IF(P_23号様式!F17=\"\",\"\",P_23号様式!F17)","v":17922},null,{"$f":"IF(P_23号様式!G17=\"\",\"\",P_23号様式!G17)","v":0},null,{"$f":"IF(P_23号様式!H17=\"\",\"\",P_23号様式!H17)","v":17922},null,{"$f":"IF(P_23号様式!I17=\"\",\"\",P_23号様式!I17)","v":0},null,{"$f":"IF(P_23号様式!J17=\"\",\"\",P_23号様式!J17)","v":1.5232674924673599},null,{"$f":"IF(P_23号様式!K17=\"\",\"\",P_23号様式!K17)","v":"22:54:00"}]
[null,null,{"$f":"IF(P_23号様式!C18=\"\",\"\",P_23号様式!C18)","v":"　霧島市"},null,{"$f":"IF(P_23号様式!D18=\"\",\"\",P_23号様式!D18)","v":51799},null,{"$f":"IF(P_23号様式!E18=\"\",\"\",P_23号様式!E18)","v":1909},null,{"$f":"IF(P_23号様式!F18=\"\",\"\",P_23号様式!F18)","v":53708},null,{"$f":"IF(P_23号様式!G18=\"\",\"\",P_23号様式!G18)","v":45},null,{"$f":"IF(P_23号様式!H18=\"\",\"\",P_23号様式!H18)","v":53753},null,{"$f":"IF(P_23号様式!I18=\"\",\"\",P_23号様式!I18)","v":0},null,{"$f":"IF(P_23号様式!J18=\"\",\"\",P_23号様式!J18)","v":3.5544053027481901},null,{"$f":"IF(P_23号様式!K18=\"\",\"\",P_23号様式!K18)","v":"01:14:00"}]
[null,null,{"$f":"IF(P_23号様式!C19=\"\",\"\",P_23号様式!C19)","v":"　いちき串木野市"},null,{"$f":"IF(P_23号様式!D19=\"\",\"\",P_23号様式!D19)","v":17571},null,{"$f":"IF(P_23号様式!E19=\"\",\"\",P_23号様式!E19)","v":711},null,{"$f":"IF(P_23号様式!F19=\"\",\"\",P_23号様式!F19)","v":18282},null,{"$f":"IF(P_23号様式!G19=\"\",\"\",P_23号様式!G19)","v":11},null,{"$f":"IF(P_23号様式!H19=\"\",\"\",P_23号様式!H19)","v":18293},null,{"$f":"IF(P_23号様式!I19=\"\",\"\",P_23号様式!I19)","v":0},null,{"$f":"IF(P_23号様式!J19=\"\",\"\",P_23号様式!J19)","v":3.88907121759107},null,{"$f":"IF(P_23号様式!K19=\"\",\"\",P_23号様式!K19)","v":"00:10:00"}]
[null,null,{"$f":"IF(P_23号様式!C20=\"\",\"\",P_23号様式!C20)","v":"　南さつま市"},null,{"$f":"IF(P_23号様式!D20=\"\",\"\",P_23号様式!D20)","v":16813},null,{"$f":"IF(P_23号様式!E20=\"\",\"\",P_23号様式!E20)","v":995},null,{"$f":"IF(P_23号様式!F20=\"\",\"\",P_23号様式!F20)","v":17808},null,{"$f":"IF(P_23号様式!G20=\"\",\"\",P_23号様式!G20)","v":3},null,{"$f":"IF(P_23号様式!H20=\"\",\"\",P_23号様式!H20)","v":17811},null,{"$f":"IF(P_23号様式!I20=\"\",\"\",P_23号様式!I20)","v":0},null,{"$f":"IF(P_23号様式!J20=\"\",\"\",P_23号様式!J20)","v":5.5873764600179703},null,{"$f":"IF(P_23号様式!K20=\"\",\"\",P_23号様式!K20)","v":"00:18:00"}]
[null,null,{"$f":"IF(P_23号様式!C21=\"\",\"\",P_23号様式!C21)","v":"　志布志市"},null,{"$f":"IF(P_23号様式!D21=\"\",\"\",P_23号様式!D21)","v":14518},null,{"$f":"IF(P_23号様式!E21=\"\",\"\",P_23号様式!E21)","v":378},null,{"$f":"IF(P_23号様式!F21=\"\",\"\",P_23号様式!F21)","v":14896},null,{"$f":"IF(P_23号様式!G21=\"\",\"\",P_23号様式!G21)","v":1},null,{"$f":"IF(P_23号様式!H21=\"\",\"\",P_23号様式!H21)","v":14897},null,{"$f":"IF(P_23号様式!I21=\"\",\"\",P_23号様式!I21)","v":0},null,{"$f":"IF(P_23号様式!J21=\"\",\"\",P_23号様式!J21)","v":2.5375939849624101},null,{"$f":"IF(P_23号様式!K21=\"\",\"\",P_23号様式!K21)","v":"00:06:00"}]
[null,null,{"$f":"IF(P_23号様式!C22=\"\",\"\",P_23号様式!C22)","v":"　奄美市"},null,{"$f":"IF(P_23号様式!D22=\"\",\"\",P_23号様式!D22)","v":21128},null,{"$f":"IF(P_23号様式!E22=\"\",\"\",P_23号様式!E22)","v":1420},null,{"$f":"IF(P_23号様式!F22=\"\",\"\",P_23号様式!F22)","v":22548},null,{"$f":"IF(P_23号様式!G22=\"\",\"\",P_23号様式!G22)","v":2},null,{"$f":"IF(P_23号様式!H22=\"\",\"\",P_23号様式!H22)","v":22550},null,{"$f":"IF(P_23号様式!I22=\"\",\"\",P_23号様式!I22)","v":0},null,{"$f":"IF(P_23号様式!J22=\"\",\"\",P_23号様式!J22)","v":6.2976760688309401},null,{"$f":"IF(P_23号様式!K22=\"\",\"\",P_23号様式!K22)","v":"23:19:00"}]
[null,null,{"$f":"IF(P_23号様式!C23=\"\",\"\",P_23号様式!C23)","v":"　南九州市"},null,{"$f":"IF(P_23号様式!D23=\"\",\"\",P_23号様式!D23)","v":17065},null,{"$f":"IF(P_23号様式!E23=\"\",\"\",P_23号様式!E23)","v":392},null,{"$f":"IF(P_23号様式!F23=\"\",\"\",P_23号様式!F23)","v":17457},null,{"$f":"IF(P_23号様式!G23=\"\",\"\",P_23号様式!G23)","v":3},null,{"$f":"IF(P_23号様式!H23=\"\",\"\",P_23号様式!H23)","v":17460},null,{"$f":"IF(P_23号様式!I23=\"\",\"\",P_23号様式!I23)","v":0},null,{"$f":"IF(P_23号様式!J23=\"\",\"\",P_23号様式!J23)","v":2.2455175574268198},null,{"$f":"IF(P_23号様式!K23=\"\",\"\",P_23号様式!K23)","v":"22:15:00"}]
[null,null,{"$f":"IF(P_23号様式!C24=\"\",\"\",P_23号様式!C24)","v":"　伊佐市"},null,{"$f":"IF(P_23号様式!D24=\"\",\"\",P_23号様式!D24)","v":13909},null,{"$f":"IF(P_23号様式!E24=\"\",\"\",P_23号様式!E24)","v":521},null,{"$f":"IF(P_23号様式!F24=\"\",\"\",P_23号様式!F24)","v":14430},null,{"$f":"IF(P_23号様式!G24=\"\",\"\",P_23号様式!G24)","v":3},null,{"$f":"IF(P_23号様式!H24=\"\",\"\",P_23号様式!H24)","v":14433},null,{"$f":"IF(P_23号様式!I24=\"\",\"\",P_23号様式!I24)","v":0},null,{"$f":"IF(P_23号様式!J24=\"\",\"\",P_23号様式!J24)","v":3.6105336105336101},null,{"$f":"IF(P_23号様式!K24=\"\",\"\",P_23号様式!K24)","v":"00:36:00"}]
[null,null,{"$f":"IF(P_23号様式!C25=\"\",\"\",P_23号様式!C25)","v":"　姶良市"},null,{"$f":"IF(P_23号様式!D25=\"\",\"\",P_23号様式!D25)","v":35121},null,{"$f":"IF(P_23号様式!E25=\"\",\"\",P_23号様式!E25)","v":1468},null,{"$f":"IF(P_23号様式!F25=\"\",\"\",P_23号様式!F25)","v":36589},null,{"$f":"IF(P_23号様式!G25=\"\",\"\",P_23号様式!G25)","v":0},null,{"$f":"IF(P_23号様式!H25=\"\",\"\",P_23号様式!H25)","v":36589},null,{"$f":"IF(P_23号様式!I25=\"\",\"\",P_23号様式!I25)","v":0},null,{"$f":"IF(P_23号様式!J25=\"\",\"\",P_23号様式!J25)","v":4.0121347946104002},null,{"$f":"IF(P_23号様式!K25=\"\",\"\",P_23号様式!K25)","v":"00:15:00"}]
[null,null,{"$f":"IF(P_23号様式!C26=\"\",\"\",P_23号様式!C26)","v":"　三島村"},null,{"$f":"IF(P_23号様式!D26=\"\",\"\",P_23号様式!D26)","v":238},null,{"$f":"IF(P_23号様式!E26=\"\",\"\",P_23号様式!E26)","v":2},null,{"$f":"IF(P_23号様式!F26=\"\",\"\",P_23号様式!F26)","v":240},null,{"$f":"IF(P_23号様式!G26=\"\",\"\",P_23号様式!G26)","v":0},null,{"$f":"IF(P_23号様式!H26=\"\",\"\",P_23号様式!H26)","v":240},null,{"$f":"IF(P_23号様式!I26=\"\",\"\",P_23号様式!I26)","v":0},null,{"$f":"IF(P_23号様式!J26=\"\",\"\",P_23号様式!J26)","v":0.83333333333333304},null,{"$f":"IF(P_23号様式!K26=\"\",\"\",P_23号様式!K26)","v":"21:08:00"}]
[null,null,{"$f":"IF(P_23号様式!C27=\"\",\"\",P_23号様式!C27)","v":"　十島村"},null,{"$f":"IF(P_23号様式!D27=\"\",\"\",P_23号様式!D27)","v":444},null,{"$f":"IF(P_23号様式!E27=\"\",\"\",P_23号様式!E27)","v":21},null,{"$f":"IF(P_23号様式!F27=\"\",\"\",P_23号様式!F27)","v":465},null,{"$f":"IF(P_23号様式!G27=\"\",\"\",P_23号様式!G27)","v":0},null,{"$f":"IF(P_23号様式!H27=\"\",\"\",P_23号様式!H27)","v":465},null,{"$f":"IF(P_23号様式!I27=\"\",\"\",P_23号様式!I27)","v":0},null,{"$f":"IF(P_23号様式!J27=\"\",\"\",P_23号様式!J27)","v":4.5161290322580596},null,{"$f":"IF(P_23号様式!K27=\"\",\"\",P_23号様式!K27)","v":"21:29:00"}]
[null,null,{"$f":"IF(P_23号様式!C28=\"\",\"\",P_23号様式!C28)","v":"＊（鹿児島郡）計"},null,{"$f":"IF(P_23号様式!D28=\"\",\"\",P_23号様式!D28)","v":682},null,{"$f":"IF(P_23号様式!E28=\"\",\"\",P_23号様式!E28)","v":23},null,{"$f":"IF(P_23号様式!F28=\"\",\"\",P_23号様式!F28)","v":705},null,{"$f":"IF(P_23号様式!G28=\"\",\"\",P_23号様式!G28)","v":0},null,{"$f":"IF(P_23号様式!H28=\"\",\"\",P_23号様式!H28)","v":705},null,{"$f":"IF(P_23号様式!I28=\"\",\"\",P_23号様式!I28)","v":0},null,{"$f":"IF(P_23号様式!J28=\"\",\"\",P_23号様式!J28)","v":3.2624113475177299},null,{"$f":"IF(P_23号様式!K28=\"\",\"\",P_23号様式!K28)","v":"21:29:00"}]
[null,null,{"$f":"IF(P_23号様式!C29=\"\",\"\",P_23号様式!C29)","v":"　さつま町"},null,{"$f":"IF(P_23号様式!D29=\"\",\"\",P_23号様式!D29)","v":12091},null,{"$f":"IF(P_23号様式!E29=\"\",\"\",P_23号様式!E29)","v":225},null,{"$f":"IF(P_23号様式!F29=\"\",\"\",P_23号様式!F29)","v":12316},null,{"$f":"IF(P_23号様式!G29=\"\",\"\",P_23号様式!G29)","v":0},null,{"$f":"IF(P_23号様式!H29=\"\",\"\",P_23号様式!H29)","v":12316},null,{"$f":"IF(P_23号様式!I29=\"\",\"\",P_23号様式!I29)","v":0},null,{"$f":"IF(P_23号様式!J29=\"\",\"\",P_23号様式!J29)","v":1.8268918480026},null,{"$f":"IF(P_23号様式!K29=\"\",\"\",P_23号様式!K29)","v":"23:16:00"}]
[null,null,{"$f":"IF(P_23号様式!C30=\"\",\"\",P_23号様式!C30)","v":"＊（薩摩郡）計"},null,{"$f":"IF(P_23号様式!D30=\"\",\"\",P_23号様式!D30)","v":12091},null,{"$f":"IF(P_23号様式!E30=\"\",\"\",P_23号様式!E30)","v":225},null,{"$f":"IF(P_23号様式!F30=\"\",\"\",P_23号様式!F30)","v":12316},null,{"$f":"IF(P_23号様式!G30=\"\",\"\",P_23号様式!G30)","v":0},null,{"$f":"IF(P_23号様式!H30=\"\",\"\",P_23号様式!H30)","v":12316},null,{"$f":"IF(P_23号様式!I30=\"\",\"\",P_23号様式!I30)","v":0},null,{"$f":"IF(P_23号様式!J30=\"\",\"\",P_23号様式!J30)","v":1.8268918480026},null,{"$f":"IF(P_23号様式!K30=\"\",\"\",P_23号様式!K30)","v":"23:16:00"}]
[null,null,{"$f":"IF(P_23号様式!C31=\"\",\"\",P_23号様式!C31)","v":"　長島町"},null,{"$f":"IF(P_23号様式!D31=\"\",\"\",P_23号様式!D31)","v":6444},null,{"$f":"IF(P_23号様式!E31=\"\",\"\",P_23号様式!E31)","v":88},null,{"$f":"IF(P_23号様式!F31=\"\",\"\",P_23号様式!F31)","v":6532},null,{"$f":"IF(P_23号様式!G31=\"\",\"\",P_23号様式!G31)","v":0},null,{"$f":"IF(P_23号様式!H31=\"\",\"\",P_23号様式!H31)","v":6532},null,{"$f":"IF(P_23号様式!I31=\"\",\"\",P_23号様式!I31)","v":0},null,{"$f":"IF(P_23号様式!J31=\"\",\"\",P_23号様式!J31)","v":1.3472137170851199},null,{"$f":"IF(P_23号様式!K31=\"\",\"\",P_23号様式!K31)","v":"23:14:00"}]
[null,null,{"$f":"IF(P_23号様式!C32=\"\",\"\",P_23号様式!C32)","v":"＊（出水郡）計"},null,{"$f":"IF(P_23号様式!D32=\"\",\"\",P_23号様式!D32)","v":6444},null,{"$f":"IF(P_23号様式!E32=\"\",\"\",P_23号様式!E32)","v":88},null,{"$f":"IF(P_23号様式!F32=\"\",\"\",P_23号様式!F32)","v":6532},null,{"$f":"IF(P_23号様式!G32=\"\",\"\",P_23号様式!G32)","v":0},null,{"$f":"IF(P_23号様式!H32=\"\",\"\",P_23号様式!H32)","v":6532},null,{"$f":"IF(P_23号様式!I32=\"\",\"\",P_23号様式!I32)","v":0},null,{"$f":"IF(P_23号様式!J32=\"\",\"\",P_23号様式!J32)","v":1.3472137170851199},null,{"$f":"IF(P_23号様式!K32=\"\",\"\",P_23号様式!K32)","v":"23:14:00"}]
[null,null,{"$f":"IF(P_23号様式!C33=\"\",\"\",P_23号様式!C33)","v":"　湧水町"},null,{"$f":"IF(P_23号様式!D33=\"\",\"\",P_23号様式!D33)","v":5259},null,{"$f":"IF(P_23号様式!E33=\"\",\"\",P_23号様式!E33)","v":124},null,{"$f":"IF(P_23号様式!F33=\"\",\"\",P_23号様式!F33)","v":5383},null,{"$f":"IF(P_23号様式!G33=\"\",\"\",P_23号様式!G33)","v":0},null,{"$f":"IF(P_23号様式!H33=\"\",\"\",P_23号様式!H33)","v":5383},null,{"$f":"IF(P_23号様式!I33=\"\",\"\",P_23号様式!I33)","v":0},null,{"$f":"IF(P_23号様式!J33=\"\",\"\",P_23号様式!J33)","v":2.3035482073193401},null,{"$f":"IF(P_23号様式!K33=\"\",\"\",P_23号様式!K33)","v":"22:26:00"}]
[null,null,{"$f":"IF(P_23号様式!C34=\"\",\"\",P_23号様式!C34)","v":"＊（姶良郡）計"},null,{"$f":"IF(P_23号様式!D34=\"\",\"\",P_23号様式!D34)","v":5259},null,{"$f":"IF(P_23号様式!E34=\"\",\"\",P_23号様式!E34)","v":124},null,{"$f":"IF(P_23号様式!F34=\"\",\"\",P_23号様式!F34)","v":5383},null,{"$f":"IF(P_23号様式!G34=\"\",\"\",P_23号様式!G34)","v":0},null,{"$f":"IF(P_23号様式!H34=\"\",\"\",P_23号様式!H34)","v":5383},null,{"$f":"IF(P_23号様式!I34=\"\",\"\",P_23号様式!I34)","v":0},null,{"$f":"IF(P_23号様式!J34=\"\",\"\",P_23号様式!J34)","v":2.3035482073193401},null,{"$f":"IF(P_23号様式!K34=\"\",\"\",P_23号様式!K34)","v":"22:26:00"}]
[null,null,{"$f":"IF(P_23号様式!C35=\"\",\"\",P_23号様式!C35)","v":"　大崎町"},null,{"$f":"IF(P_23号様式!D35=\"\",\"\",P_23号様式!D35)","v":6334},null,{"$f":"IF(P_23号様式!E35=\"\",\"\",P_23号様式!E35)","v":201},null,{"$f":"IF(P_23号様式!F35=\"\",\"\",P_23号様式!F35)","v":6535},null,{"$f":"IF(P_23号様式!G35=\"\",\"\",P_23号様式!G35)","v":0},null,{"$f":"IF(P_23号様式!H35=\"\",\"\",P_23号様式!H35)","v":6535},null,{"$f":"IF(P_23号様式!I35=\"\",\"\",P_23号様式!I35)","v":0},null,{"$f":"IF(P_23号様式!J35=\"\",\"\",P_23号様式!J35)","v":3.0757459831675602},null,{"$f":"IF(P_23号様式!K35=\"\",\"\",P_23号様式!K35)","v":"23:03:00"}]
[null,null,{"$f":"IF(P_23号様式!C36=\"\",\"\",P_23号様式!C36)","v":"＊（曽於郡）計"},null,{"$f":"IF(P_23号様式!D36=\"\",\"\",P_23号様式!D36)","v":6334},null,{"$f":"IF(P_23号様式!E36=\"\",\"\",P_23号様式!E36)","v":201},null,{"$f":"IF(P_23号様式!F36=\"\",\"\",P_23号様式!F36)","v":6535},null,{"$f":"IF(P_23号様式!G36=\"\",\"\",P_23号様式!G36)","v":0},null,{"$f":"IF(P_23号様式!H36=\"\",\"\",P_23号様式!H36)","v":6535},null,{"$f":"IF(P_23号様式!I36=\"\",\"\",P_23号様式!I36)","v":0},null,{"$f":"IF(P_23号様式!J36=\"\",\"\",P_23号様式!J36)","v":3.0757459831675602},null,{"$f":"IF(P_23号様式!K36=\"\",\"\",P_23号様式!K36)","v":"23:03:00"}]
[null,null,{"$f":"IF(P_23号様式!C37=\"\",\"\",P_23号様式!C37)","v":"　東串良町"},null,{"$f":"IF(P_23号様式!D37=\"\",\"\",P_23号様式!D37)","v":3096},null,{"$f":"IF(P_23号様式!E37=\"\",\"\",P_23号様式!E37)","v":67},null,{"$f":"IF(P_23号様式!F37=\"\",\"\",P_23号様式!F37)","v":3163},null,{"$f":"IF(P_23号様式!G37=\"\",\"\",P_23号様式!G37)","v":0},null,{"$f":"IF(P_23号様式!H37=\"\",\"\",P_23号様式!H37)","v":3163},null,{"$f":"IF(P_23号様式!I37=\"\",\"\",P_23号様式!I37)","v":0},null,{"$f":"IF(P_23号様式!J37=\"\",\"\",P_23号様式!J37)","v":2.1182421751501699},null,{"$f":"IF(P_23号様式!K37=\"\",\"\",P_23号様式!K37)","v":"21:26:00"}]
[null,null,{"$f":"IF(P_23号様式!C38=\"\",\"\",P_23号様式!C38)","v":"　錦江町"},null,{"$f":"IF(P_23号様式!D38=\"\",\"\",P_23号様式!D38)","v":4234},null,{"$f":"IF(P_23号様式!E38=\"\",\"\",P_23号様式!E38)","v":112},null,{"$f":"IF(P_23号様式!F38=\"\",\"\",P_23号様式!F38)","v":4346},null,{"$f":"IF(P_23号様式!G38=\"\",\"\",P_23号様式!G38)","v":0},null,{"$f":"IF(P_23号様式!H38=\"\",\"\",P_23号様式!H38)","v":4346},null,{"$f":"IF(P_23号様式!I38=\"\",\"\",P_23号様式!I38)","v":0},null,{"$f":"IF(P_23号様式!J38=\"\",\"\",P_23号様式!J38)","v":2.5770823745973299},null,{"$f":"IF(P_23号様式!K38=\"\",\"\",P_23号様式!K38)","v":"22:06:00"}]
[null,null,{"$f":"IF(P_23号様式!C39=\"\",\"\",P_23号様式!C39)","v":"　南大隅町"},null,{"$f":"IF(P_23号様式!D39=\"\",\"\",P_23号様式!D39)","v":4272},null,{"$f":"IF(P_23号様式!E39=\"\",\"\",P_23号様式!E39)","v":158},null,{"$f":"IF(P_23号様式!F39=\"\",\"\",P_23号様式!F39)","v":4430},null,{"$f":"IF(P_23号様式!G39=\"\",\"\",P_23号様式!G39)","v":0},null,{"$f":"IF(P_23号様式!H39=\"\",\"\",P_23号様式!H39)","v":4430},null,{"$f":"IF(P_23号様式!I39=\"\",\"\",P_23号様式!I39)","v":0},null,{"$f":"IF(P_23号様式!J39=\"\",\"\",P_23号様式!J39)","v":3.5665914221218999},null,{"$f":"IF(P_23号様式!K39=\"\",\"\",P_23号様式!K39)","v":"22:09:00"}]
[null,null,{"$f":"IF(P_23号様式!C40=\"\",\"\",P_23号様式!C40)","v":"　肝付町"},null,{"$f":"IF(P_23号様式!D40=\"\",\"\",P_23号様式!D40)","v":7409},null,{"$f":"IF(P_23号様式!E40=\"\",\"\",P_23号様式!E40)","v":195},null,{"$f":"IF(P_23号様式!F40=\"\",\"\",P_23号様式!F40)","v":7604},null,{"$f":"IF(P_23号様式!G40=\"\",\"\",P_23号様式!G40)","v":1},null,{"$f":"IF(P_23号様式!H40=\"\",\"\",P_23号様式!H40)","v":7605},null,{"$f":"IF(P_23号様式!I40=\"\",\"\",P_23号様式!I40)","v":0},null,{"$f":"IF(P_23号様式!J40=\"\",\"\",P_23号様式!J40)","v":2.5644397685428699},null,{"$f":"IF(P_23号様式!K40=\"\",\"\",P_23号様式!K40)","v":"23:05:00"}]
[null,null,{"$f":"IF(P_23号様式!C41=\"\",\"\",P_23号様式!C41)","v":"＊（肝属郡）計"},null,{"$f":"IF(P_23号様式!D41=\"\",\"\",P_23号様式!D41)","v":19011},null,{"$f":"IF(P_23号様式!E41=\"\",\"\",P_23号様式!E41)","v":532},null,{"$f":"IF(P_23号様式!F41=\"\",\"\",P_23号様式!F41)","v":19543},null,{"$f":"IF(P_23号様式!G41=\"\",\"\",P_23号様式!G41)","v":1},null,{"$f":"IF(P_23号様式!H41=\"\",\"\",P_23号様式!H41)","v":19544},null,{"$f":"IF(P_23号様式!I41=\"\",\"\",P_23号様式!I41)","v":0},null,{"$f":"IF(P_23号様式!J41=\"\",\"\",P_23号様式!J41)","v":2.7222023230824299},null,{"$f":"IF(P_23号様式!K41=\"\",\"\",P_23号様式!K41)","v":"23:05:00"}]
[null,null,{"$f":"IF(P_23号様式!C42=\"\",\"\",P_23号様式!C42)","v":"　中種子町"},null,{"$f":"IF(P_23号様式!D42=\"\",\"\",P_23号様式!D42)","v":4181},null,{"$f":"IF(P_23号様式!E42=\"\",\"\",P_23号様式!E42)","v":208},null,{"$f":"IF(P_23号様式!F42=\"\",\"\",P_23号様式!F42)","v":4389},null,{"$f":"IF(P_23号様式!G42=\"\",\"\",P_23号様式!G42)","v":0},null,{"$f":"IF(P_23号様式!H42=\"\",\"\",P_23号様式!H42)","v":4389},null,{"$f":"IF(P_23号様式!I42=\"\",\"\",P_23号様式!I42)","v":0},null,{"$f":"IF(P_23号様式!J42=\"\",\"\",P_23号様式!J42)","v":4.73912052859421},null,{"$f":"IF(P_23号様式!K42=\"\",\"\",P_23号様式!K42)","v":"21:48:00"}]
[null,null,{"$f":"IF(P_23号様式!C43=\"\",\"\",P_23号様式!C43)","v":"　南種子町"},null,{"$f":"IF(P_23号様式!D43=\"\",\"\",P_23号様式!D43)","v":2841},null,{"$f":"IF(P_23号様式!E43=\"\",\"\",P_23号様式!E43)","v":232},null,{"$f":"IF(P_23号様式!F43=\"\",\"\",P_23号様式!F43)","v":3073},null,{"$f":"IF(P_23号様式!G43=\"\",\"\",P_23号様式!G43)","v":1},null,{"$f":"IF(P_23号様式!H43=\"\",\"\",P_23号様式!H43)","v":3074},null,{"$f":"IF(P_23号様式!I43=\"\",\"\",P_23号様式!I43)","v":0},null,{"$f":"IF(P_23号様式!J43=\"\",\"\",P_23号様式!J43)","v":7.5496257728604004},null,{"$f":"IF(P_23号様式!K43=\"\",\"\",P_23号様式!K43)","v":"22:01:00"}]
[null,null,{"$f":"IF(P_23号様式!C44=\"\",\"\",P_23号様式!C44)","v":"　屋久島町"},null,{"$f":"IF(P_23号様式!D44=\"\",\"\",P_23号様式!D44)","v":6310},null,{"$f":"IF(P_23号様式!E44=\"\",\"\",P_23号様式!E44)","v":151},null,{"$f":"IF(P_23号様式!F44=\"\",\"\",P_23号様式!F44)","v":6461},null,{"$f":"IF(P_23号様式!G44=\"\",\"\",P_23号様式!G44)","v":0},null,{"$f":"IF(P_23号様式!H44=\"\",\"\",P_23号様式!H44)","v":6461},null,{"$f":"IF(P_23号様式!I44=\"\",\"\",P_23号様式!I44)","v":0},null,{"$f":"IF(P_23号様式!J44=\"\",\"\",P_23号様式!J44)","v":2.3370995201981102},null,{"$f":"IF(P_23号様式!K44=\"\",\"\",P_23号様式!K44)","v":"23:52:00"}]
[]
[null,null,"市　計",null,{"$f":"IF(P_23号様式!L2=\"\",\"\",P_23号様式!L2)","v":635139},null,{"$f":"IF(P_23号様式!M2=\"\",\"\",P_23号様式!M2)","v":20952},null,{"$f":"IF(P_23号様式!N2=\"\",\"\",P_23号様式!N2)","v":656091},null,{"$f":"IF(P_23号様式!O2=\"\",\"\",P_23号様式!O2)","v":279},null,{"$f":"IF(P_23号様式!P2=\"\",\"\",P_23号様式!P2)","v":656370},null,{"$f":"IF(P_23号様式!Q2=\"\",\"\",P_23号様式!Q2)","v":1},null,{"$f":"IF(P_23号様式!R2=\"\",\"\",P_23号様式!R2)","v":3.1934594438881199},null,{"$f":"IF(P_23号様式!S2=\"\",\"\",P_23号様式!S2)","v":"01:25:00"}]
[null,null,"町村計",null,{"$f":"IF(P_23号様式!T2=\"\",\"\",P_23号様式!T2)","v":103979},null,{"$f":"IF(P_23号様式!U2=\"\",\"\",P_23号様式!U2)","v":3002},null,{"$f":"IF(P_23号様式!V2=\"\",\"\",P_23号様式!V2)","v":106981},null,{"$f":"IF(P_23号様式!W2=\"\",\"\",P_23号様式!W2)","v":9},null,{"$f":"IF(P_23号様式!X2=\"\",\"\",P_23号様式!X2)","v":106990},null,{"$f":"IF(P_23号様式!Y2=\"\",\"\",P_23号様式!Y2)","v":0},null,{"$f":"IF(P_23号様式!Z2=\"\",\"\",P_23号様式!Z2)","v":2.80610575709705},null,{"$f":"IF(P_23号様式!AA2=\"\",\"\",P_23号様式!AA2)","v":"00:09:00"}]
[null,null,"県計",null,{"$f":"IF(P_23号様式!AB2=\"\",\"\",P_23号様式!AB2)","v":739118},null,{"$f":"IF(P_23号様式!AC2=\"\",\"\",P_23号様式!AC2)","v":23954},null,{"$f":"IF(P_23号様式!AD2=\"\",\"\",P_23号様式!AD2)","v":763072},null,{"$f":"IF(P_23号様式!AE2=\"\",\"\",P_23号様式!AE2)","v":288},null,{"$f":"IF(P_23号様式!AF2=\"\",\"\",P_23号様式!AF2)","v":763360},null,{"$f":"IF(P_23号様式!AG2=\"\",\"\",P_23号様式!AG2)","v":1},null,{"$f":"IF(P_23号様式!AH2=\"\",\"\",P_23号様式!AH2)","v":3.1391533171181698},null,{"$f":"IF(P_23号様式!AJ2=\"\",\"\",P_23号様式!AJ2)","v":"01:25:00"}]
[null,null,null,null,null,null,null,null,null,null,null,null,null,null,null,null,null,null,null,null,{"$f":"IF(P_23号様式!A45=\"\",\" ページ\", P_23号様式!A45 & \"ページ\")","v":"2ページ"}]
["第23号様式",null,null,null,null,null,null,"開　票　速　報"]
[]
[null,{"$f":"IF(パラメタシート!B1=\"\",\"\",パラメタシート!B1)","v":"2017-10-22"},null,null,null,null,null,null,null,null,null,null,null,null,{"$f":"IF(P_23号様式!AK45=\"0\",\"即日 開票  中間報告\",\"翌日 開票  中間報告\")","v":"即日 開票  中間報告"},null,null,{"$f":"IF(P_23号様式!AI45=\"\",\"     時     分\",P_23号様式!AI45)","v":"     時     分"}]
[null,"最高裁判所裁判官国民審査",null,null,null,null,null,null,null,null,null,null,null,null,"開票  結了報告",null,null,{"$f":"IF(P_23号様式!AJ45=\"\",\"     時     分\",P_23号様式!AJ45)","v":"01:25:00"}]
[null,null,null,null,null,null,null,null,null,null,null,null,null,null,null,null,null,null,"鹿 児 島 県"]
[null,null,"市区町村名",null,"（ア）",null,"（イ）",null,"（ウ）",null,"（エ）",null,"（オ）",null,"（カ）"]
[null,null,null,null,"有 効 投 票 数",null,"無 効 投 票 数",null,"投　票　総　数",null,"持ち帰り・不受理",null,"投 票 者 総 数",null,"記　載　無　効",null,"無 効 投 票 率",null,"開票確定時刻"]
[null,null,null,null,null,null,null,null,"（ア） ＋ (イ)",null,"そ　の　他",null,"（ウ） ＋ (エ)",null,null,null,"（イ）/（ウ）％"]
[null,null,{"$f":"IF(P_23号様式!C45=\"\",\"\",P_23号様式!C45)","v":"＊（熊毛郡）計"},null,{"$f":"IF(P_23号様式!D45=\"\",\"\",P_23号様式!D45)","v":13332},null,{"$f":"IF(P_23号様式!E45=\"\",\"\",P_23号様式!E45)","v":591},null,{"$f":"IF(P_23号様式!F45=\"\",\"\",P_23号様式!F45)","v":13923},null,{"$f":"IF(P_23号様式!G45=\"\",\"\",P_23号様式!G45)","v":1},null,{"$f":"IF(P_23号様式!H45=\"\",\"\",P_23号様式!H45)","v":13924},null,{"$f":"IF(P_23号様式!I45=\"\",\"\",P_23号様式!I45)","v":0},null,{"$f":"IF(P_23号様式!J45=\"\",\"\",P_23号様式!J45)","v":4.2447748330101298},null,{"$f":"IF(P_23号様式!K45=\"\",\"\",P_23号様式!K45)","v":"23:52:00"}]
[null,null,{"$f":"IF(P_23号様式!C46=\"\",\"\",P_23号様式!C46)","v":"　大和村"},null,{"$f":"IF(P_23号様式!D46=\"\",\"\",P_23号様式!D46)","v":952},null,{"$f":"IF(P_23号様式!E46=\"\",\"\",P_23号様式!E46)","v":29},null,{"$f":"IF(P_23号様式!F46=\"\",\"\",P_23号様式!F46)","v":981},null,{"$f":"IF(P_23号様式!G46=\"\",\"\",P_23号様式!G46)","v":0},null,{"$f":"IF(P_23号様式!H46=\"\",\"\",P_23号様式!H46)","v":981},null,{"$f":"IF(P_23号様式!I46=\"\",\"\",P_23号様式!I46)","v":0},null,{"$f":"IF(P_23号様式!J46=\"\",\"\",P_23号様式!J46)","v":2.9561671763506601},null,{"$f":"IF(P_23号様式!K46=\"\",\"\",P_23号様式!K46)","v":"22:49:00"}]
[null,null,{"$f":"IF(P_23号様式!C47=\"\",\"\",P_23号様式!C47)","v":"　宇検村"},null,{"$f":"IF(P_23号様式!D47=\"\",\"\",P_23号様式!D47)","v":1329},null,{"$f":"IF(P_23号様式!E47=\"\",\"\",P_23号様式!E47)","v":21},null,{"$f":"IF(P_23号様式!F47=\"\",\"\",P_23号様式!F47)","v":1350},null,{"$f":"IF(P_23号様式!G47=\"\",\"\",P_23号様式!G47)","v":0},null,{"$f":"IF(P_23号様式!H47=\"\",\"\",P_23号様式!H47)","v":1350},null,{"$f":"IF(P_23号様式!I47=\"\",\"\",P_23号様式!I47)","v":0},null,{"$f":"IF(P_23号様式!J47=\"\",\"\",P_23号様式!J47)","v":1.55555555555556},null,{"$f":"IF(P_23号様式!K47=\"\",\"\",P_23号様式!K47)","v":"21:47:00"}]
[null,null,{"$f":"IF(P_23号様式!C48=\"\",\"\",P_23号様式!C48)","v":"　瀬戸内町"},null,{"$f":"IF(P_23号様式!D48=\"\",\"\",P_23号様式!D48)","v":5803},null,{"$f":"IF(P_23号様式!E48=\"\",\"\",P_23号様式!E48)","v":150},null,{"$f":"IF(P_23号様式!F48=\"\",\"\",P_23号様式!F48)","v":5953},null,{"$f":"IF(P_23号様式!G48=\"\",\"\",P_23号様式!G48)","v":3},null,{"$f":"IF(P_23号様式!H48=\"\",\"\",P_23号様式!H48)","v":5956},null,{"$f":"IF(P_23号様式!I48=\"\",\"\",P_23号様式!I48)","v":0},null,{"$f":"IF(P_23号様式!J48=\"\",\"\",P_23号様式!J48)","v":2.51973794725349},null,{"$f":"IF(P_23号様式!K48=\"\",\"\",P_23号様式!K48)","v":"22:59:00"}]
[null,null,{"$f":"IF(P_23号様式!C49=\"\",\"\",P_23号様式!C49)","v":"　龍郷町"},null,{"$f":"IF(P_23号様式!D49=\"\",\"\",P_23号様式!D49)","v":4108},null,{"$f":"IF(P_23号様式!E49=\"\",\"\",P_23号様式!E49)","v":124},null,{"$f":"IF(P_23号様式!F49=\"\",\"\",P_23号様式!F49)","v":4232},null,{"$f":"IF(P_23号様式!G49=\"\",\"\",P_23号様式!G49)","v":1},null,{"$f":"IF(P_23号様式!H49=\"\",\"\",P_23号様式!H49)","v":4233},null,{"$f":"IF(P_23号様式!I49=\"\",\"\",P_23号様式!I49)","v":0},null,{"$f":"IF(P_23号様式!J49=\"\",\"\",P_23号様式!J49)","v":2.9300567107750499},null,{"$f":"IF(P_23号様式!K49=\"\",\"\",P_23号様式!K49)","v":"22:24:00"}]
[null,null,{"$f":"IF(P_23号様式!C50=\"\",\"\",P_23号様式!C50)","v":"　喜界町"},null,{"$f":"IF(P_23号様式!D50=\"\",\"\",P_23号様式!D50)","v":4254},null,{"$f":"IF(P_23号様式!E50=\"\",\"\",P_23号様式!E50)","v":58},null,{"$f":"IF(P_23号様式!F50=\"\",\"\",P_23号様式!F50)","v":4312},null,{"$f":"IF(P_23号様式!G50=\"\",\"\",P_23号様式!G50)","v":2},null,{"$f":"IF(P_23号様式!H50=\"\",\"\",P_23号様式!H50)","v":4314},null,{"$f":"IF(P_23号様式!I50=\"\",\"\",P_23号様式!I50)","v":0},null,{"$f":"IF(P_23号様式!J50=\"\",\"\",P_23号様式!J50)","v":1.3450834879406299},null,{"$f":"IF(P_23号様式!K50=\"\",\"\",P_23号様式!K50)","v":"22:06:00"}]
[null,null,{"$f":"IF(P_23号様式!C51=\"\",\"\",P_23号様式!C51)","v":"　徳之島町"},null,{"$f":"IF(P_23号様式!D51=\"\",\"\",P_23号様式!D51)","v":5842},null,{"$f":"IF(P_23号様式!E51=\"\",\"\",P_23号様式!E51)","v":189},null,{"$f":"IF(P_23号様式!F51=\"\",\"\",P_23号様式!F51)","v":6031},null,{"$f":"IF(P_23号様式!G51=\"\",\"\",P_23号様式!G51)","v":0},null,{"$f":"IF(P_23号様式!H51=\"\",\"\",P_23号様式!H51)","v":6031},null,{"$f":"IF(P_23号様式!I51=\"\",\"\",P_23号様式!I51)","v":0},null,{"$f":"IF(P_23号様式!J51=\"\",\"\",P_23号様式!J51)","v":3.13380865528105},null,{"$f":"IF(P_23号様式!K51=\"\",\"\",P_23号様式!K51)","v":"00:09:00"}]
[null,null,{"$f":"IF(P_23号様式!C52=\"\",\"\",P_23号様式!C52)","v":"　天城町"},null,{"$f":"IF(P_23号様式!D52=\"\",\"\",P_23号様式!D52)","v":3365},null,{"$f":"IF(P_23号様式!E52=\"\",\"\",P_23号様式!E52)","v":93},null,{"$f":"IF(P_23号様式!F52=\"\",\"\",P_23号様式!F52)","v":3458},null,{"$f":"IF(P_23号様式!G52=\"\",\"\",P_23号様式!G52)","v":0},null,{"$f":"IF(P_23号様式!H52=\"\",\"\",P_23号様式!H52)","v":3458},null,{"$f":"IF(P_23号様式!I52=\"\",\"\",P_23号様式!I52)","v":0},null,{"$f":"IF(P_23号様式!J52=\"\",\"\",P_23号様式!J52)","v":2.6894158473105798},null,{"$f":"IF(P_23号様式!K52=\"\",\"\",P_23号様式!K52)","v":"22:28:00"}]
[null,null,{"$f":"IF(P_23号様式!C53=\"\",\"\",P_23号様式!C53)","v":"　伊仙町"},null,{"$f":"IF(P_23号様式!D53=\"\",\"\",P_23号様式!D53)","v":4939},null,{"$f":"IF(P_23号様式!E53=\"\",\"\",P_23号様式!E53)","v":166},null,{"$f":"IF(P_23号様式!F53=\"\",\"\",P_23号様式!F53)","v":5105},null,{"$f":"IF(P_23号様式!G53=\"\",\"\",P_23号様式!G53)","v":0},null,{"$f":"IF(P_23号様式!H53=\"\",\"\",P_23号様式!H53)","v":5105},null,{"$f":"IF(P_23号様式!I53=\"\",\"\",P_23号様式!I53)","v":0},null,{"$f":"IF(P_23号様式!J53=\"\",\"\",P_23号様式!J53)","v":3.2517140058765901},null,{"$f":"IF(P_23号様式!K53=\"\",\"\",P_23号様式!K53)","v":"00:03:00"}]
[null,null,{"$f":"IF(P_23号様式!C54=\"\",\"\",P_23号様式!C54)","v":"　和泊町"},null,{"$f":"IF(P_23号様式!D54=\"\",\"\",P_23号様式!D54)","v":3927},null,{"$f":"IF(P_23号様式!E54=\"\",\"\",P_23号様式!E54)","v":54},null,{"$f":"IF(P_23号様式!F54=\"\",\"\",P_23号様式!F54)","v":3981},null,{"$f":"IF(P_23号様式!G54=\"\",\"\",P_23号様式!G54)","v":0},null,{"$f":"IF(P_23号様式!H54=\"\",\"\",P_23号様式!H54)","v":3981},null,{"$f":"IF(P_23号様式!I54=\"\",\"\",P_23号様式!I54)","v":0},null,{"$f":"IF(P_23号様式!J54=\"\",\"\",P_23号様式!J54)","v":1.35644310474755},null,{"$f":"IF(P_23号様式!K54=\"\",\"\",P_23号様式!K54)","v":"22:15:00"}]
[null,null,{"$f":"IF(P_23号様式!C55=\"\",\"\",P_23号様式!C55)","v":"　知名町"},null,{"$f":"IF(P_23号様式!D55=\"\",\"\",P_23号様式!D55)","v":3433},null,{"$f":"IF(P_23号様式!E55=\"\",\"\",P_23号様式!E55)","v":137},null,{"$f":"IF(P_23号様式!F55=\"\",\"\",P_23号様式!F55)","v":3570},null,{"$f":"IF(P_23号様式!G55=\"\",\"\",P_23号様式!G55)","v":0},null,{"$f":"IF(P_23号様式!H55=\"\",\"\",P_23号様式!H55)","v":3570},null,{"$f":"IF(P_23号様式!I55=\"\",\"\",P_23号様式!I55)","v":0},null,{"$f":"IF(P_23号様式!J55=\"\",\"\",P_23号様式!J55)","v":3.8375350140056002},null,{"$f":"IF(P_23号様式!K55=\"\",\"\",P_23号様式!K55)","v":"21:59:00"}]
[null,null,{"$f":"IF(P_23号様式!C56=\"\",\"\",P_23号様式!C56)","v":"　与論町"},null,{"$f":"IF(P_23号様式!D56=\"\",\"\",P_23号様式!D56)","v":2874},null,{"$f":"IF(P_23号様式!E56=\"\",\"\",P_23号様式!E56)","v":197},null,{"$f":"IF(P_23号様式!F56=\"\",\"\",P_23号様式!F56)","v":3071},null,{"$f":"IF(P_23号様式!G56=\"\",\"\",P_23号様式!G56)","v":1},null,{"$f":"IF(P_23号様式!H56=\"\",\"\",P_23号様式!H56)","v":3072},null,{"$f":"IF(P_23号様式!I56=\"\",\"\",P_23号様式!I56)","v":0},null,{"$f":"IF(P_23号様式!J56=\"\",\"\",P_23号様式!J56)","v":6.4148485835232796},null,{"$f":"IF(P_23号様式!K56=\"\",\"\",P_23号様式!K56)","v":"00:02:00"}]
[null,null,{"$f":"IF(P_23号様式!C57=\"\",\"\",P_23号様式!C57)","v":"＊（大島郡）計"},null,{"$f":"IF(P_23号様式!D57=\"\",\"\",P_23号様式!D57)","v":40826},null,{"$f":"IF(P_23号様式!E57=\"\",\"\",P_23号様式!E57)","v":1218},null,{"$f":"IF(P_23号様式!F57=\"\",\"\",P_23号様式!F57)","v":42044},null,{"$f":"IF(P_23号様式!G57=\"\",\"\",P_23号様式!G57)","v":7},null,{"$f":"IF(P_23号様式!H57=\"\",\"\",P_23号様式!H57)","v":42051},null,{"$f":"IF(P_23号様式!I57=\"\",\"\",P_23号様式!I57)","v":0},null,{"$f":"IF(P_23号様式!J57=\"\",\"\",P_23号様式!J57)","v":2.8969650841975101},null,{"$f":"IF(P_23号様式!K57=\"\",\"\",P_23号様式!K57)","v":"00:09:00"}]
[null,null,{"$f":"IF(P_23号様式!C58=\"\",\"\",P_23号様式!C58)","v":""},null,{"$f":"IF(P_23号様式!D58=\"\",\"\",P_23号様式!D58)","v":""},null,{"$f":"IF(P_23号様式!E58=\"\",\"\",P_23号様式!E58)","v":""},null,{"$f":"IF(P_23号様式!F58=\"\",\"\",P_23号様式!F58)","v":""},null,{"$f":"IF(P_23号様式!G58=\"\",\"\",P_23号様式!G58)","v":""},null,{"$f":"IF(P_23号様式!H58=\"\",\"\",P_23号様式!H58)","v":""},null,{"$f":"IF(P_23号様式!I58=\"\",\"\",P_23号様式!I58)","v":""},null,{"$f":"IF(P_23号様式!J58=\"\",\"\",P_23号様式!J58)","v":""},null,{"$f":"IF(P_23号様式!K58=\"\",\"\",P_23号様式!K58)","v":""}]
[null,null,{"$f":"IF(P_23号様式!C59=\"\",\"\",P_23号様式!C59)","v":""},null,{"$f":"IF(P_23号様式!D59=\"\",\"\",P_23号様式!D59)","v":""},null,{"$f":"IF(P_23号様式!E59=\"\",\"\",P_23号様式!E59)","v":""},null,{"$f":"IF(P_23号様式!F59=\"\",\"\",P_23号様式!F59)","v":""},null,{"$f":"IF(P_23号様式!G59=\"\",\"\",P_23号様式!G59)","v":""},null,{"$f":"IF(P_23号様式!H59=\"\",\"\",P_23号様式!H59)","v":""},null,{"$f":"IF(P_23号様式!I59=\"\",\"\",P_23号様式!I59)","v":""},null,{"$f":"IF(P_23号様式!J59=\"\",\"\",P_23号様式!J59)","v":""},null,{"$f":"IF(P_23号様式!K59=\"\",\"\",P_23号様式!K59)","v":""}]
[null,null,{"$f":"IF(P_23号様式!C60=\"\",\"\",P_23号様式!C60)","v":""},null,{"$f":"IF(P_23号様式!D60=\"\",\"\",P_23号様式!D60)","v":""},null,{"$f":"IF(P_23号様式!E60=\"\",\"\",P_23号様式!E60)","v":""},null,{"$f":"IF(P_23号様式!F60=\"\",\"\",P_23号様式!F60)","v":""},null,{"$f":"IF(P_23号様式!G60=\"\",\"\",P_23号様式!G60)","v":""},null,{"$f":"IF(P_23号様式!H60=\"\",\"\",P_23号様式!H60)","v":""},null,{"$f":"IF(P_23号様式!I60=\"\",\"\",P_23号様式!I60)","v":""},null,{"$f":"IF(P_23号様式!J60=\"\",\"\",P_23号様式!J60)","v":""},null,{"$f":"IF(P_23号様式!K60=\"\",\"\",P_23号様式!K60)","v":""}]
[null,null,{"$f":"IF(P_23号様式!C61=\"\",\"\",P_23号様式!C61)","v":""},null,{"$f":"IF(P_23号様式!D61=\"\",\"\",P_23号様式!D61)","v":""},null,{"$f":"IF(P_23号様式!E61=\"\",\"\",P_23号様式!E61)","v":""},null,{"$f":"IF(P_23号様式!F61=\"\",\"\",P_23号様式!F61)","v":""},null,{"$f":"IF(P_23号様式!G61=\"\",\"\",P_23号様式!G61)","v":""},null,{"$f":"IF(P_23号様式!H61=\"\",\"\",P_23号様式!H61)","v":""},null,{"$f":"IF(P_23号様式!I61=\"\",\"\",P_23号様式!I61)","v":""},null,{"$f":"IF(P_23号様式!J61=\"\",\"\",P_23号様式!J61)","v":""},null,{"$f":"IF(P_23号様式!K61=\"\",\"\",P_23号様式!K61)","v":""}]
[null,null,{"$f":"IF(P_23号様式!C62=\"\",\"\",P_23号様式!C62)","v":""},null,{"$f":"IF(P_23号様式!D62=\"\",\"\",P_23号様式!D62)","v":""},null,{"$f":"IF(P_23号様式!E62=\"\",\"\",P_23号様式!E62)","v":""},null,{"$f":"IF(P_23号様式!F62=\"\",\"\",P_23号様式!F62)","v":""},null,{"$f":"IF(P_23号様式!G62=\"\",\"\",P_23号様式!G62)","v":""},null,{"$f":"IF(P_23号様式!H62=\"\",\"\",P_23号様式!H62)","v":""},null,{"$f":"IF(P_23号様式!I62=\"\",\"\",P_23号様式!I62)","v":""},null,{"$f":"IF(P_23号様式!J62=\"\",\"\",P_23号様式!J62)","v":""},null,{"$f":"IF(P_23号様式!K62=\"\",\"\",P_23号様式!K62)","v":""}]
[null,null,{"$f":"IF(P_23号様式!C63=\"\",\"\",P_23号様式!C63)","v":""},null,{"$f":"IF(P_23号様式!D63=\"\",\"\",P_23号様式!D63)","v":""},null,{"$f":"IF(P_23号様式!E63=\"\",\"\",P_23号様式!E63)","v":""},null,{"$f":"IF(P_23号様式!F63=\"\",\"\",P_23号様式!F63)","v":""},null,{"$f":"IF(P_23号様式!G63=\"\",\"\",P_23号様式!G63)","v":""},null,{"$f":"IF(P_23号様式!H63=\"\",\"\",P_23号様式!H63)","v":""},null,{"$f":"IF(P_23号様式!I63=\"\",\"\",P_23号様式!I63)","v":""},null,{"$f":"IF(P_23号様式!J63=\"\",\"\",P_23号様式!J63)","v":""},null,{"$f":"IF(P_23号様式!K63=\"\",\"\",P_23号様式!K63)","v":""}]
[null,null,{"$f":"IF(P_23号様式!C64=\"\",\"\",P_23号様式!C64)","v":""},null,{"$f":"IF(P_23号様式!D64=\"\",\"\",P_23号様式!D64)","v":""},null,{"$f":"IF(P_23号様式!E64=\"\",\"\",P_23号様式!E64)","v":""},null,{"$f":"IF(P_23号様式!F64=\"\",\"\",P_23号様式!F64)","v":""},null,{"$f":"IF(P_23号様式!G64=\"\",\"\",P_23号様式!G64)","v":""},null,{"$f":"IF(P_23号様式!H64=\"\",\"\",P_23号様式!H64)","v":""},null,{"$f":"IF(P_23号様式!I64=\"\",\"\",P_23号様式!I64)","v":""},null,{"$f":"IF(P_23号様式!J64=\"\",\"\",P_23号様式!J64)","v":""},null,{"$f":"IF(P_23号様式!K64=\"\",\"\",P_23号様式!K64)","v":""}]
[null,null,{"$f":"IF(P_23号様式!C65=\"\",\"\",P_23号様式!C65)","v":""},null,{"$f":"IF(P_23号様式!D65=\"\",\"\",P_23号様式!D65)","v":""},null,{"$f":"IF(P_23号様式!E65=\"\",\"\",P_23号様式!E65)","v":""},null,{"$f":"IF(P_23号様式!F65=\"\",\"\",P_23号様式!F65)","v":""},null,{"$f":"IF(P_23号様式!G65=\"\",\"\",P_23号様式!G65)","v":""},null,{"$f":"IF(P_23号様式!H65=\"\",\"\",P_23号様式!H65)","v":""},null,{"$f":"IF(P_23号様式!I65=\"\",\"\",P_23号様式!I65)","v":""},null,{"$f":"IF(P_23号様式!J65=\"\",\"\",P_23号様式!J65)","v":""},null,{"$f":"IF(P_23号様式!K65=\"\",\"\",P_23号様式!K65)","v":""}]
[null,null,{"$f":"IF(P_23号様式!C66=\"\",\"\",P_23号様式!C66)","v":""},null,{"$f":"IF(P_23号様式!D66=\"\",\"\",P_23号様式!D66)","v":""},null,{"$f":"IF(P_23号様式!E66=\"\",\"\",P_23号様式!E66)","v":""},null,{"$f":"IF(P_23号様式!F66=\"\",\"\",P_23号様式!F66)","v":""},null,{"$f":"IF(P_23号様式!G66=\"\",\"\",P_23号様式!G66)","v":""},null,{"$f":"IF(P_23号様式!H66=\"\",\"\",P_23号様式!H66)","v":""},null,{"$f":"IF(P_23号様式!I66=\"\",\"\",P_23号様式!I66)","v":""},null,{"$f":"IF(P_23号様式!J66=\"\",\"\",P_23号様式!J66)","v":""},null,{"$f":"IF(P_23号様式!K66=\"\",\"\",P_23号様式!K66)","v":""}]
[null,null,{"$f":"IF(P_23号様式!C67=\"\",\"\",P_23号様式!C67)","v":""},null,{"$f":"IF(P_23号様式!D67=\"\",\"\",P_23号様式!D67)","v":""},null,{"$f":"IF(P_23号様式!E67=\"\",\"\",P_23号様式!E67)","v":""},null,{"$f":"IF(P_23号様式!F67=\"\",\"\",P_23号様式!F67)","v":""},null,{"$f":"IF(P_23号様式!G67=\"\",\"\",P_23号様式!G67)","v":""},null,{"$f":"IF(P_23号様式!H67=\"\",\"\",P_23号様式!H67)","v":""},null,{"$f":"IF(P_23号様式!I67=\"\",\"\",P_23号様式!I67)","v":""},null,{"$f":"IF(P_23号様式!J67=\"\",\"\",P_23号様式!J67)","v":""},null,{"$f":"IF(P_23号様式!K67=\"\",\"\",P_23号様式!K67)","v":""}]
[null,null,{"$f":"IF(P_23号様式!C68=\"\",\"\",P_23号様式!C68)","v":""},null,{"$f":"IF(P_23号様式!D68=\"\",\"\",P_23号様式!D68)","v":""},null,{"$f":"IF(P_23号様式!E68=\"\",\"\",P_23号様式!E68)","v":""},null,{"$f":"IF(P_23号様式!F68=\"\",\"\",P_23号様式!F68)","v":""},null,{"$f":"IF(P_23号様式!G68=\"\",\"\",P_23号様式!G68)","v":""},null,{"$f":"IF(P_23号様式!H68=\"\",\"\",P_23号様式!H68)","v":""},null,{"$f":"IF(P_23号様式!I68=\"\",\"\",P_23号様式!I68)","v":""},null,{"$f":"IF(P_23号様式!J68=\"\",\"\",P_23号様式!J68)","v":""},null,{"$f":"IF(P_23号様式!K68=\"\",\"\",P_23号様式!K68)","v":""}]
[null,null,{"$f":"IF(P_23号様式!C69=\"\",\"\",P_23号様式!C69)","v":""},null,{"$f":"IF(P_23号様式!D69=\"\",\"\",P_23号様式!D69)","v":""},null,{"$f":"IF(P_23号様式!E69=\"\",\"\",P_23号様式!E69)","v":""},null,{"$f":"IF(P_23号様式!F69=\"\",\"\",P_23号様式!F69)","v":""},null,{"$f":"IF(P_23号様式!G69=\"\",\"\",P_23号様式!G69)","v":""},null,{"$f":"IF(P_23号様式!H69=\"\",\"\",P_23号様式!H69)","v":""},null,{"$f":"IF(P_23号様式!I69=\"\",\"\",P_23号様式!I69)","v":""},null,{"$f":"IF(P_23号様式!J69=\"\",\"\",P_23号様式!J69)","v":""},null,{"$f":"IF(P_23号様式!K69=\"\",\"\",P_23号様式!K69)","v":""}]
[null,null,{"$f":"IF(P_23号様式!C70=\"\",\"\",P_23号様式!C70)","v":""},null,{"$f":"IF(P_23号様式!D70=\"\",\"\",P_23号様式!D70)","v":""},null,{"$f":"IF(P_23号様式!E70=\"\",\"\",P_23号様式!E70)","v":""},null,{"$f":"IF(P_23号様式!F70=\"\",\"\",P_23号様式!F70)","v":""},null,{"$f":"IF(P_23号様式!G70=\"\",\"\",P_23号様式!G70)","v":""},null,{"$f":"IF(P_23号様式!H70=\"\",\"\",P_23号様式!H70)","v":""},null,{"$f":"IF(P_23号様式!I70=\"\",\"\",P_23号様式!I70)","v":""},null,{"$f":"IF(P_23号様式!J70=\"\",\"\",P_23号様式!J70)","v":""},null,{"$f":"IF(P_23号様式!K70=\"\",\"\",P_23号様式!K70)","v":""}]
[null,null,{"$f":"IF(P_23号様式!C71=\"\",\"\",P_23号様式!C71)","v":""},null,{"$f":"IF(P_23号様式!D71=\"\",\"\",P_23号様式!D71)","v":""},null,{"$f":"IF(P_23号様式!E71=\"\",\"\",P_23号様式!E71)","v":""},null,{"$f":"IF(P_23号様式!F71=\"\",\"\",P_23号様式!F71)","v":""},null,{"$f":"IF(P_23号様式!G71=\"\",\"\",P_23号様式!G71)","v":""},null,{"$f":"IF(P_23号様式!H71=\"\",\"\",P_23号様式!H71)","v":""},null,{"$f":"IF(P_23号様式!I71=\"\",\"\",P_23号様式!I71)","v":""},null,{"$f":"IF(P_23号様式!J71=\"\",\"\",P_23号様式!J71)","v":""},null,{"$f":"IF(P_23号様式!K71=\"\",\"\",P_23号様式!K71)","v":""}]
[null,null,{"$f":"IF(P_23号様式!C72=\"\",\"\",P_23号様式!C72)","v":""},null,{"$f":"IF(P_23号様式!D72=\"\",\"\",P_23号様式!D72)","v":""},null,{"$f":"IF(P_23号様式!E72=\"\",\"\",P_23号様式!E72)","v":""},null,{"$f":"IF(P_23号様式!F72=\"\",\"\",P_23号様式!F72)","v":""},null,{"$f":"IF(P_23号様式!G72=\"\",\"\",P_23号様式!G72)","v":""},null,{"$f":"IF(P_23号様式!H72=\"\",\"\",P_23号様式!H72)","v":""},null,{"$f":"IF(P_23号様式!I72=\"\",\"\",P_23号様式!I72)","v":""},null,{"$f":"IF(P_23号様式!J72=\"\",\"\",P_23号様式!J72)","v":""},null,{"$f":"IF(P_23号様式!K72=\"\",\"\",P_23号様式!K72)","v":""}]
[null,null,{"$f":"IF(P_23号様式!C73=\"\",\"\",P_23号様式!C73)","v":""},null,{"$f":"IF(P_23号様式!D73=\"\",\"\",P_23号様式!D73)","v":""},null,{"$f":"IF(P_23号様式!E73=\"\",\"\",P_23号様式!E73)","v":""},null,{"$f":"IF(P_23号様式!F73=\"\",\"\",P_23号様式!F73)","v":""},null,{"$f":"IF(P_23号様式!G73=\"\",\"\",P_23号様式!G73)","v":""},null,{"$f":"IF(P_23号様式!H73=\"\",\"\",P_23号様式!H73)","v":""},null,{"$f":"IF(P_23号様式!I73=\"\",\"\",P_23号様式!I73)","v":""},null,{"$f":"IF(P_23号様式!J73=\"\",\"\",P_23号様式!J73)","v":""},null,{"$f":"IF(P_23号様式!K73=\"\",\"\",P_23号様式!K73)","v":""}]
[null,null,{"$f":"IF(P_23号様式!C74=\"\",\"\",P_23号様式!C74)","v":""},null,{"$f":"IF(P_23号様式!D74=\"\",\"\",P_23号様式!D74)","v":""},null,{"$f":"IF(P_23号様式!E74=\"\",\"\",P_23号様式!E74)","v":""},null,{"$f":"IF(P_23号様式!F74=\"\",\"\",P_23号様式!F74)","v":""},null,{"$f":"IF(P_23号様式!G74=\"\",\"\",P_23号様式!G74)","v":""},null,{"$f":"IF(P_23号様式!H74=\"\",\"\",P_23号様式!H74)","v":""},null,{"$f":"IF(P_23号様式!I74=\"\",\"\",P_23号様式!I74)","v":""},null,{"$f":"IF(P_23号様式!J74=\"\",\"\",P_23号様式!J74)","v":""},null,{"$f":"IF(P_23号様式!K74=\"\",\"\",P_23号様式!K74)","v":""}]
[null,null,{"$f":"IF(P_23号様式!C75=\"\",\"\",P_23号様式!C75)","v":""},null,{"$f":"IF(P_23号様式!D75=\"\",\"\",P_23号様式!D75)","v":""},null,{"$f":"IF(P_23号様式!E75=\"\",\"\",P_23号様式!E75)","v":""},null,{"$f":"IF(P_23号様式!F75=\"\",\"\",P_23号様式!F75)","v":""},null,{"$f":"IF(P_23号様式!G75=\"\",\"\",P_23号様式!G75)","v":""},null,{"$f":"IF(P_23号様式!H75=\"\",\"\",P_23号様式!H75)","v":""},null,{"$f":"IF(P_23号様式!I75=\"\",\"\",P_23号様式!I75)","v":""},null,{"$f":"IF(P_23号様式!J75=\"\",\"\",P_23号様式!J75)","v":""},null,{"$f":"IF(P_23号様式!K75=\"\",\"\",P_23号様式!K75)","v":""}]
[null,null,{"$f":"IF(P_23号様式!C76=\"\",\"\",P_23号様式!C76)","v":""},null,{"$f":"IF(P_23号様式!D76=\"\",\"\",P_23号様式!D76)","v":""},null,{"$f":"IF(P_23号様式!E76=\"\",\"\",P_23号様式!E76)","v":""},null,{"$f":"IF(P_23号様式!F76=\"\",\"\",P_23号様式!F76)","v":""},null,{"$f":"IF(P_23号様式!G76=\"\",\"\",P_23号様式!G76)","v":""},null,{"$f":"IF(P_23号様式!H76=\"\",\"\",P_23号様式!H76)","v":""},null,{"$f":"IF(P_23号様式!I76=\"\",\"\",P_23号様式!I76)","v":""},null,{"$f":"IF(P_23号様式!J76=\"\",\"\",P_23号様式!J76)","v":""},null,{"$f":"IF(P_23号様式!K76=\"\",\"\",P_23号様式!K76)","v":""}]
[null,null,{"$f":"IF(P_23号様式!C77=\"\",\"\",P_23号様式!C77)","v":""},null,{"$f":"IF(P_23号様式!D77=\"\",\"\",P_23号様式!D77)","v":""},null,{"$f":"IF(P_23号様式!E77=\"\",\"\",P_23号様式!E77)","v":""},null,{"$f":"IF(P_23号様式!F77=\"\",\"\",P_23号様式!F77)","v":""},null,{"$f":"IF(P_23号様式!G77=\"\",\"\",P_23号様式!G77)","v":""},null,{"$f":"IF(P_23号様式!H77=\"\",\"\",P_23号様式!H77)","v":""},null,{"$f":"IF(P_23号様式!I77=\"\",\"\",P_23号様式!I77)","v":""},null,{"$f":"IF(P_23号様式!J77=\"\",\"\",P_23号様式!J77)","v":""},null,{"$f":"IF(P_23号様式!K77=\"\",\"\",P_23号様式!K77)","v":""}]
[null,null,{"$f":"IF(P_23号様式!C78=\"\",\"\",P_23号様式!C78)","v":""},null,{"$f":"IF(P_23号様式!D78=\"\",\"\",P_23号様式!D78)","v":""},null,{"$f":"IF(P_23号様式!E78=\"\",\"\",P_23号様式!E78)","v":""},null,{"$f":"IF(P_23号様式!F78=\"\",\"\",P_23号様式!F78)","v":""},null,{"$f":"IF(P_23号様式!G78=\"\",\"\",P_23号様式!G78)","v":""},null,{"$f":"IF(P_23号様式!H78=\"\",\"\",P_23号様式!H78)","v":""},null,{"$f":"IF(P_23号様式!I78=\"\",\"\",P_23号様式!I78)","v":""},null,{"$f":"IF(P_23号様式!J78=\"\",\"\",P_23号様式!J78)","v":""},null,{"$f":"IF(P_23号様式!K78=\"\",\"\",P_23号様式!K78)","v":""}]
[null,null,{"$f":"IF(P_23号様式!C79=\"\",\"\",P_23号様式!C79)","v":""},null,{"$f":"IF(P_23号様式!D79=\"\",\"\",P_23号様式!D79)","v":""},null,{"$f":"IF(P_23号様式!E79=\"\",\"\",P_23号様式!E79)","v":""},null,{"$f":"IF(P_23号様式!F79=\"\",\"\",P_23号様式!F79)","v":""},null,{"$f":"IF(P_23号様式!G79=\"\",\"\",P_23号様式!G79)","v":""},null,{"$f":"IF(P_23号様式!H79=\"\",\"\",P_23号様式!H79)","v":""},null,{"$f":"IF(P_23号様式!I79=\"\",\"\",P_23号様式!I79)","v":""},null,{"$f":"IF(P_23号様式!J79=\"\",\"\",P_23号様式!J79)","v":""},null,{"$f":"IF(P_23号様式!K79=\"\",\"\",P_23号様式!K79)","v":""}]
[null,null,{"$f":"IF(P_23号様式!C80=\"\",\"\",P_23号様式!C80)","v":""},null,{"$f":"IF(P_23号様式!D80=\"\",\"\",P_23号様式!D80)","v":""},null,{"$f":"IF(P_23号様式!E80=\"\",\"\",P_23号様式!E80)","v":""},null,{"$f":"IF(P_23号様式!F80=\"\",\"\",P_23号様式!F80)","v":""},null,{"$f":"IF(P_23号様式!G80=\"\",\"\",P_23号様式!G80)","v":""},null,{"$f":"IF(P_23号様式!H80=\"\",\"\",P_23号様式!H80)","v":""},null,{"$f":"IF(P_23号様式!I80=\"\",\"\",P_23号様式!I80)","v":""},null,{"$f":"IF(P_23号様式!J80=\"\",\"\",P_23号様式!J80)","v":""},null,{"$f":"IF(P_23号様式!K80=\"\",\"\",P_23号様式!K80)","v":""}]
[null,null,{"$f":"IF(P_23号様式!C81=\"\",\"\",P_23号様式!C81)","v":""},null,{"$f":"IF(P_23号様式!D81=\"\",\"\",P_23号様式!D81)","v":""},null,{"$f":"IF(P_23号様式!E81=\"\",\"\",P_23号様式!E81)","v":""},null,{"$f":"IF(P_23号様式!F81=\"\",\"\",P_23号様式!F81)","v":""},null,{"$f":"IF(P_23号様式!G81=\"\",\"\",P_23号様式!G81)","v":""},null,{"$f":"IF(P_23号様式!H81=\"\",\"\",P_23号様式!H81)","v":""},null,{"$f":"IF(P_23号様式!I81=\"\",\"\",P_23号様式!I81)","v":""},null,{"$f":"IF(P_23号様式!J81=\"\",\"\",P_23号様式!J81)","v":""},null,{"$f":"IF(P_23号様式!K81=\"\",\"\",P_23号様式!K81)","v":""}]
[null,null,{"$f":"IF(P_23号様式!C82=\"\",\"\",P_23号様式!C82)","v":""},null,{"$f":"IF(P_23号様式!D82=\"\",\"\",P_23号様式!D82)","v":""},null,{"$f":"IF(P_23号様式!E82=\"\",\"\",P_23号様式!E82)","v":""},null,{"$f":"IF(P_23号様式!F82=\"\",\"\",P_23号様式!F82)","v":""},null,{"$f":"IF(P_23号様式!G82=\"\",\"\",P_23号様式!G82)","v":""},null,{"$f":"IF(P_23号様式!H82=\"\",\"\",P_23号様式!H82)","v":""},null,{"$f":"IF(P_23号様式!I82=\"\",\"\",P_23号様式!I82)","v":""},null,{"$f":"IF(P_23号様式!J82=\"\",\"\",P_23号様式!J82)","v":""},null,{"$f":"IF(P_23号様式!K82=\"\",\"\",P_23号様式!K82)","v":""}]
[null,null,{"$f":"IF(P_23号様式!C83=\"\",\"\",P_23号様式!C83)","v":""},null,{"$f":"IF(P_23号様式!D83=\"\",\"\",P_23号様式!D83)","v":""},null,{"$f":"IF(P_23号様式!E83=\"\",\"\",P_23号様式!E83)","v":""},null,{"$f":"IF(P_23号様式!F83=\"\",\"\",P_23号様式!F83)","v":""},null,{"$f":"IF(P_23号様式!G83=\"\",\"\",P_23号様式!G83)","v":""},null,{"$f":"IF(P_23号様式!H83=\"\",\"\",P_23号様式!H83)","v":""},null,{"$f":"IF(P_23号様式!I83=\"\",\"\",P_23号様式!I83)","v":""},null,{"$f":"IF(P_23号様式!J83=\"\",\"\",P_23号様式!J83)","v":""},null,{"$f":"IF(P_23号様式!K83=\"\",\"\",P_23号様式!K83)","v":""}]
[null,null,{"$f":"IF(P_23号様式!C84=\"\",\"\",P_23号様式!C84)","v":""},null,{"$f":"IF(P_23号様式!D84=\"\",\"\",P_23号様式!D84)","v":""},null,{"$f":"IF(P_23号様式!E84=\"\",\"\",P_23号様式!E84)","v":""},null,{"$f":"IF(P_23号様式!F84=\"\",\"\",P_23号様式!F84)","v":""},null,{"$f":"IF(P_23号様式!G84=\"\",\"\",P_23号様式!G84)","v":""},null,{"$f":"IF(P_23号様式!H84=\"\",\"\",P_23号様式!H84)","v":""},null,{"$f":"IF(P_23号様式!I84=\"\",\"\",P_23号様式!I84)","v":""},null,{"$f":"IF(P_23号様式!J84=\"\",\"\",P_23号様式!J84)","v":""},null,{"$f":"IF(P_23号様式!K84=\"\",\"\",P_23号様式!K84)","v":""}]
[null,null,{"$f":"IF(P_23号様式!C85=\"\",\"\",P_23号様式!C85)","v":""},null,{"$f":"IF(P_23号様式!D85=\"\",\"\",P_23号様式!D85)","v":""},null,{"$f":"IF(P_23号様式!E85=\"\",\"\",P_23号様式!E85)","v":""},null,{"$f":"IF(P_23号様式!F85=\"\",\"\",P_23号様式!F85)","v":""},null,{"$f":"IF(P_23号様式!G85=\"\",\"\",P_23号様式!G85)","v":""},null,{"$f":"IF(P_23号様式!H85=\"\",\"\",P_23号様式!H85)","v":""},null,{"$f":"IF(P_23号様式!I85=\"\",\"\",P_23号様式!I85)","v":""},null,{"$f":"IF(P_23号様式!J85=\"\",\"\",P_23号様式!J85)","v":""},null,{"$f":"IF(P_23号様式!K85=\"\",\"\",P_23号様式!K85)","v":""}]
[null,null,{"$f":"IF(P_23号様式!C86=\"\",\"\",P_23号様式!C86)","v":""},null,{"$f":"IF(P_23号様式!D86=\"\",\"\",P_23号様式!D86)","v":""},null,{"$f":"IF(P_23号様式!E86=\"\",\"\",P_23号様式!E86)","v":""},null,{"$f":"IF(P_23号様式!F86=\"\",\"\",P_23号様式!F86)","v":""},null,{"$f":"IF(P_23号様式!G86=\"\",\"\",P_23号様式!G86)","v":""},null,{"$f":"IF(P_23号様式!H86=\"\",\"\",P_23号様式!H86)","v":""},null,{"$f":"IF(P_23号様式!I86=\"\",\"\",P_23号様式!I86)","v":""},null,{"$f":"IF(P_23号様式!J86=\"\",\"\",P_23号様式!J86)","v":""},null,{"$f":"IF(P_23号様式!K86=\"\",\"\",P_23号様式!K86)","v":""}]
[null,null,{"$f":"IF(P_23号様式!C87=\"\",\"\",P_23号様式!C87)","v":""},null,{"$f":"IF(P_23号様式!D87=\"\",\"\",P_23号様式!D87)","v":""},null,{"$f":"IF(P_23号様式!E87=\"\",\"\",P_23号様式!E87)","v":""},null,{"$f":"IF(P_23号様式!F87=\"\",\"\",P_23号様式!F87)","v":""},null,{"$f":"IF(P_23号様式!G87=\"\",\"\",P_23号様式!G87)","v":""},null,{"$f":"IF(P_23号様式!H87=\"\",\"\",P_23号様式!H87)","v":""},null,{"$f":"IF(P_23号様式!I87=\"\",\"\",P_23号様式!I87)","v":""},null,{"$f":"IF(P_23号様式!J87=\"\",\"\",P_23号様式!J87)","v":""},null,{"$f":"IF(P_23号様式!K87=\"\",\"\",P_23号様式!K87)","v":""}]
[]
[null,null,"市部計",null,{"$f":"IF(P_23号様式!L45=\"\",\"\",P_23号様式!L45)","v":635139},null,{"$f":"IF(P_23号様式!M45=\"\",\"\",P_23号様式!M45)","v":20952},null,{"$f":"IF(P_23号様式!N45=\"\",\"\",P_23号様式!N45)","v":656091},null,{"$f":"IF(P_23号様式!O45=\"\",\"\",P_23号様式!O45)","v":279},null,{"$f":"IF(P_23号様式!P45=\"\",\"\",P_23号様式!P45)","v":656370},null,{"$f":"IF(P_23号様式!Q45=\"\",\"\",P_23号様式!Q45)","v":1},null,{"$f":"IF(P_23号様式!R45=\"\",\"\",P_23号様式!R45)","v":3.1934594438881199},null,{"$f":"IF(P_23号様式!S45=\"\",\"\",P_23号様式!S45)","v":"01:25:00"}]
[null,null,"郡部計",null,{"$f":"IF(P_23号様式!T45=\"\",\"\",P_23号様式!T45)","v":103979},null,{"$f":"IF(P_23号様式!U45=\"\",\"\",P_23号様式!U45)","v":3002},null,{"$f":"IF(P_23号様式!V45=\"\",\"\",P_23号様式!V45)","v":106981},null,{"$f":"IF(P_23号様式!W45=\"\",\"\",P_23号様式!W45)","v":9},null,{"$f":"IF(P_23号様式!X45=\"\",\"\",P_23号様式!X45)","v":106990},null,{"$f":"IF(P_23号様式!Y45=\"\",\"\",P_23号様式!Y45)","v":0},null,{"$f":"IF(P_23号様式!Z45=\"\",\"\",P_23号様式!Z45)","v":2.80610575709705},null,{"$f":"IF(P_23号様式!AA45=\"\",\"\",P_23号様式!AA45)","v":"00:09:00"}]
[null,null,"県計",null,{"$f":"IF(P_23号様式!AB45=\"\",\"\",P_23号様式!AB45)","v":739118},null,{"$f":"IF(P_23号様式!AC45=\"\",\"\",P_23号様式!AC45)","v":23954},null,{"$f":"IF(P_23号様式!AD45=\"\",\"\",P_23号様式!AD45)","v":763072},null,{"$f":"IF(P_23号様式!AE45=\"\",\"\",P_23号様式!AE45)","v":288},null,{"$f":"IF(P_23号様式!AF45=\"\",\"\",P_23号様式!AF45)","v":763360},null,{"$f":"IF(P_23号様式!AG45=\"\",\"\",P_23号様式!AG45)","v":1},null,{"$f":"IF(P_23号様式!AH45=\"\",\"\",P_23号様式!AH45)","v":3.1391533171181698},null,{"$f":"IF(P_23号様式!AJ45=\"\",\"\",P_23号様式!AJ45)","v":"01:25:00"}]

{"sheet":"パラメタシート","index":1,"n_rows":1,"n_cols":2,"rows_kept":1,"cut":false,"hidden":false,"merged":[]}
["執行日","2017-10-22"]

{"sheet":"P_23号様式","index":2,"n_rows":87,"n_cols":37,"rows_kept":87,"cut":false,"hidden":false,"merged":[]}
["頁番号","行番号","市区町村名","ア","イ","ウ","エ","オ","カ","無効投票率","開票確定時刻","市部ア","市部イ","市部ウ","市部エ","市部オ","市部カ","市部無効投票率","市部開票確定時刻","郡部計ア","郡部計イ","郡部計ウ","郡部計エ","郡部計オ","郡部計カ","郡部計無効投票率","郡部計開票確定時刻","県計ア","県計イ","県計ウ","県計エ","県計オ","県計カ","県計無効投票率","県計開票時刻","県計開票確定時刻","翌日開票区分"]
[1,1,"　鹿児島市１区",172760,6643,179403,133,179536,0,3.7028366303796498,"01:25:00",635139,20952,656091,279,656370,1,3.1934594438881199,"01:25:00",103979,3002,106981,9,106990,0,2.80610575709705,"00:09:00",739118,23954,763072,288,763360,1,3.1391533171181698,null,"01:25:00","0"]
[1,2,"　鹿児島市２区",63355,133,63488,66,63554,0,0.209488407258065,"00:17:00",635139,20952,656091,279,656370,1,3.1934594438881199,"01:25:00",103979,3002,106981,9,106990,0,2.80610575709705,"00:09:00",739118,23954,763072,288,763360,1,3.1391533171181698,null,"01:25:00","0"]
[1,3,"＊（鹿児島市）計",236115,6776,242891,199,243090,0,2.78972872605407,"01:25:00",635139,20952,656091,279,656370,1,3.1934594438881199,"01:25:00",103979,3002,106981,9,106990,0,2.80610575709705,"00:09:00",739118,23954,763072,288,763360,1,3.1391533171181698,null,"01:25:00","0"]
[1,4,"　鹿屋市",41124,2291,43415,4,43419,0,5.27697800299436,"01:00:00",635139,20952,656091,279,656370,1,3.1934594438881199,"01:25:00",103979,3002,106981,9,106990,0,2.80610575709705,"00:09:00",739118,23954,763072,288,763360,1,3.1391533171181698,null,"01:25:00","0"]
[1,5,"　枕崎市",9411,512,9923,1,9924,0,5.1597299203869804,"22:38:00",635139,20952,656091,279,656370,1,3.1934594438881199,"01:25:00",103979,3002,106981,9,106990,0,2.80610575709705,"00:09:00",739118,23954,763072,288,763360,1,3.1391533171181698,null,"01:25:00","0"]
[1,6,"　阿久根市",11263,226,11489,3,11492,0,1.9670989642266501,"23:40:00",635139,20952,656091,279,656370,1,3.1934594438881199,"01:25:00",103979,3002,106981,9,106990,0,2.80610575709705,"00:09:00",739118,23954,763072,288,763360,1,3.1391533171181698,null,"01:25:00","0"]
[1,7,"　出水市",25405,633,26038,0,26038,0,2.4310622935709301,"01:00:00",635139,20952,656091,279,656370,1,3.1934594438881199,"01:25:00",103979,3002,106981,9,106990,0,2.80610575709705,"00:09:00",739118,23954,763072,288,763360,1,3.1391533171181698,null,"01:25:00","0"]
[1,8,"　指宿市",18744,59,18803,1,18804,0,0.313779716002766,"00:41:00",635139,20952,656091,279,656370,1,3.1934594438881199,"01:25:00",103979,3002,106981,9,106990,0,2.80610575709705,"00:09:00",739118,23954,763072,288,763360,1,3.1391533171181698,null,"01:25:00","0"]
[1,9,"　西之表市",6981,125,7106,0,7106,1,1.7590768364762199,"23:16:00",635139,20952,656091,279,656370,1,3.1934594438881199,"01:25:00",103979,3002,106981,9,106990,0,2.80610575709705,"00:09:00",739118,23954,763072,288,763360,1,3.1391533171181698,null,"01:25:00","0"]
[1,10,"　垂水市",7650,397,8047,0,8047,0,4.9335155958742396,"23:34:00",635139,20952,656091,279,656370,1,3.1934594438881199,"01:25:00",103979,3002,106981,9,106990,0,2.80610575709705,"00:09:00",739118,23954,763072,288,763360,1,3.1391533171181698,null,"01:25:00","0"]
[1,11,"　薩摩川内市第１",45178,1214,46392,3,46395,0,2.61683048801518,"23:43:00",635139,20952,656091,279,656370,1,3.1934594438881199,"01:25:00",103979,3002,106981,9,106990,0,2.80610575709705,"00:09:00",739118,23954,763072,288,763360,1,3.1391533171181698,null,"01:25:00","0"]
[1,12,"　薩摩川内市第２",1537,15,1552,0,1552,0,0.96649484536082497,"22:45:00",635139,20952,656091,279,656370,1,3.1934594438881199,"01:25:00",103979,3002,106981,9,106990,0,2.80610575709705,"00:09:00",739118,23954,763072,288,763360,1,3.1391533171181698,null,"01:25:00","0"]
[1,13,"　薩摩川内市第３",1382,23,1405,0,1405,0,1.6370106761565799,"21:35:00",635139,20952,656091,279,656370,1,3.1934594438881199,"01:25:00",103979,3002,106981,9,106990,0,2.80610575709705,"00:09:00",739118,23954,763072,288,763360,1,3.1391533171181698,null,"01:25:00","0"]
[1,14,"＊（薩摩川内市）計",48097,1252,49349,3,49352,0,2.53703215870636,"23:43:00",635139,20952,656091,279,656370,1,3.1934594438881199,"01:25:00",103979,3002,106981,9,106990,0,2.80610575709705,"00:09:00",739118,23954,763072,288,763360,1,3.1391533171181698,null,"01:25:00","0"]
[1,15,"　日置市",24776,614,25390,0,25390,0,2.4182749113824298,"23:36:00",635139,20952,656091,279,656370,1,3.1934594438881199,"01:25:00",103979,3002,106981,9,106990,0,2.80610575709705,"00:09:00",739118,23954,763072,288,763360,1,3.1391533171181698,null,"01:25:00","0"]
[1,16,"　曽於市",17649,273,17922,0,17922,0,1.5232674924673599,"22:54:00",635139,20952,656091,279,656370,1,3.1934594438881199,"01:25:00",103979,3002,106981,9,106990,0,2.80610575709705,"00:09:00",739118,23954,763072,288,763360,1,3.1391533171181698,null,"01:25:00","0"]
[1,17,"　霧島市",51799,1909,53708,45,53753,0,3.5544053027481901,"01:14:00",635139,20952,656091,279,656370,1,3.1934594438881199,"01:25:00",103979,3002,106981,9,106990,0,2.80610575709705,"00:09:00",739118,23954,763072,288,763360,1,3.1391533171181698,null,"01:25:00","0"]
[1,18,"　いちき串木野市",17571,711,18282,11,18293,0,3.88907121759107,"00:10:00",635139,20952,656091,279,656370,1,3.1934594438881199,"01:25:00",103979,3002,106981,9,106990,0,2.80610575709705,"00:09:00",739118,23954,763072,288,763360,1,3.1391533171181698,null,"01:25:00","0"]
[1,19,"　南さつま市",16813,995,17808,3,17811,0,5.5873764600179703,"00:18:00",635139,20952,656091,279,656370,1,3.1934594438881199,"01:25:00",103979,3002,106981,9,106990,0,2.80610575709705,"00:09:00",739118,23954,763072,288,763360,1,3.1391533171181698,null,"01:25:00","0"]
[1,20,"　志布志市",14518,378,14896,1,14897,0,2.5375939849624101,"00:06:00",635139,20952,656091,279,656370,1,3.1934594438881199,"01:25:00",103979,3002,106981,9,106990,0,2.80610575709705,"00:09:00",739118,23954,763072,288,763360,1,3.1391533171181698,null,"01:25:00","0"]
[1,21,"　奄美市",21128,1420,22548,2,22550,0,6.2976760688309401,"23:19:00",635139,20952,656091,279,656370,1,3.1934594438881199,"01:25:00",103979,3002,106981,9,106990,0,2.80610575709705,"00:09:00",739118,23954,763072,288,763360,1,3.1391533171181698,null,"01:25:00","0"]
[1,22,"　南九州市",17065,392,17457,3,17460,0,2.2455175574268198,"22:15:00",635139,20952,656091,279,656370,1,3.1934594438881199,"01:25:00",103979,3002,106981,9,106990,0,2.80610575709705,"00:09:00",739118,23954,763072,288,763360,1,3.1391533171181698,null,"01:25:00","0"]
[1,23,"　伊佐市",13909,521,14430,3,14433,0,3.6105336105336101,"00:36:00",635139,20952,656091,279,656370,1,3.1934594438881199,"01:25:00",103979,3002,106981,9,106990,0,2.80610575709705,"00:09:00",739118,23954,763072,288,763360,1,3.1391533171181698,null,"01:25:00","0"]
[1,24,"　姶良市",35121,1468,36589,0,36589,0,4.0121347946104002,"00:15:00",635139,20952,656091,279,656370,1,3.1934594438881199,"01:25:00",103979,3002,106981,9,106990,0,2.80610575709705,"00:09:00",739118,23954,763072,288,763360,1,3.1391533171181698,null,"01:25:00","0"]
[1,25,"　三島村",238,2,240,0,240,0,0.83333333333333304,"21:08:00",635139,20952,656091,279,656370,1,3.1934594438881199,"01:25:00",103979,3002,106981,9,106990,0,2.80610575709705,"00:09:00",739118,23954,763072,288,763360,1,3.1391533171181698,null,"01:25:00","0"]
[1,26,"　十島村",444,21,465,0,465,0,4.5161290322580596,"21:29:00",635139,20952,656091,279,656370,1,3.1934594438881199,"01:25:00",103979,3002,106981,9,106990,0,2.80610575709705,"00:09:00",739118,23954,763072,288,763360,1,3.1391533171181698,null,"01:25:00","0"]
[1,27,"＊（鹿児島郡）計",682,23,705,0,705,0,3.2624113475177299,"21:29:00",635139,20952,656091,279,656370,1,3.1934594438881199,"01:25:00",103979,3002,106981,9,106990,0,2.80610575709705,"00:09:00",739118,23954,763072,288,763360,1,3.1391533171181698,null,"01:25:00","0"]
[1,28,"　さつま町",12091,225,12316,0,12316,0,1.8268918480026,"23:16:00",635139,20952,656091,279,656370,1,3.1934594438881199,"01:25:00",103979,3002,106981,9,106990,0,2.80610575709705,"00:09:00",739118,23954,763072,288,763360,1,3.1391533171181698,null,"01:25:00","0"]
[1,29,"＊（薩摩郡）計",12091,225,12316,0,12316,0,1.8268918480026,"23:16:00",635139,20952,656091,279,656370,1,3.1934594438881199,"01:25:00",103979,3002,106981,9,106990,0,2.80610575709705,"00:09:00",739118,23954,763072,288,763360,1,3.1391533171181698,null,"01:25:00","0"]
[1,30,"　長島町",6444,88,6532,0,6532,0,1.3472137170851199,"23:14:00",635139,20952,656091,279,656370,1,3.1934594438881199,"01:25:00",103979,3002,106981,9,106990,0,2.80610575709705,"00:09:00",739118,23954,763072,288,763360,1,3.1391533171181698,null,"01:25:00","0"]
[1,31,"＊（出水郡）計",6444,88,6532,0,6532,0,1.3472137170851199,"23:14:00",635139,20952,656091,279,656370,1,3.1934594438881199,"01:25:00",103979,3002,106981,9,106990,0,2.80610575709705,"00:09:00",739118,23954,763072,288,763360,1,3.1391533171181698,null,"01:25:00","0"]
[1,32,"　湧水町",5259,124,5383,0,5383,0,2.3035482073193401,"22:26:00",635139,20952,656091,279,656370,1,3.1934594438881199,"01:25:00",103979,3002,106981,9,106990,0,2.80610575709705,"00:09:00",739118,23954,763072,288,763360,1,3.1391533171181698,null,"01:25:00","0"]
[1,33,"＊（姶良郡）計",5259,124,5383,0,5383,0,2.3035482073193401,"22:26:00",635139,20952,656091,279,656370,1,3.1934594438881199,"01:25:00",103979,3002,106981,9,106990,0,2.80610575709705,"00:09:00",739118,23954,763072,288,763360,1,3.1391533171181698,null,"01:25:00","0"]
[1,34,"　大崎町",6334,201,6535,0,6535,0,3.0757459831675602,"23:03:00",635139,20952,656091,279,656370,1,3.1934594438881199,"01:25:00",103979,3002,106981,9,106990,0,2.80610575709705,"00:09:00",739118,23954,763072,288,763360,1,3.1391533171181698,null,"01:25:00","0"]
[1,35,"＊（曽於郡）計",6334,201,6535,0,6535,0,3.0757459831675602,"23:03:00",635139,20952,656091,279,656370,1,3.1934594438881199,"01:25:00",103979,3002,106981,9,106990,0,2.80610575709705,"00:09:00",739118,23954,763072,288,763360,1,3.1391533171181698,null,"01:25:00","0"]
[1,36,"　東串良町",3096,67,3163,0,3163,0,2.1182421751501699,"21:26:00",635139,20952,656091,279,656370,1,3.1934594438881199,"01:25:00",103979,3002,106981,9,106990,0,2.80610575709705,"00:09:00",739118,23954,763072,288,763360,1,3.1391533171181698,null,"01:25:00","0"]
[1,37,"　錦江町",4234,112,4346,0,4346,0,2.5770823745973299,"22:06:00",635139,20952,656091,279,656370,1,3.1934594438881199,"01:25:00",103979,3002,106981,9,106990,0,2.80610575709705,"00:09:00",739118,23954,763072,288,763360,1,3.1391533171181698,null,"01:25:00","0"]
[1,38,"　南大隅町",4272,158,4430,0,4430,0,3.5665914221218999,"22:09:00",635139,20952,656091,279,656370,1,3.1934594438881199,"01:25:00",103979,3002,106981,9,106990,0,2.80610575709705,"00:09:00",739118,23954,763072,288,763360,1,3.1391533171181698,null,"01:25:00","0"]
[1,39,"　肝付町",7409,195,7604,1,7605,0,2.5644397685428699,"23:05:00",635139,20952,656091,279,656370,1,3.1934594438881199,"01:25:00",103979,3002,106981,9,106990,0,2.80610575709705,"00:09:00",739118,23954,763072,288,763360,1,3.1391533171181698,null,"01:25:00","0"]
[1,40,"＊（肝属郡）計",19011,532,19543,1,19544,0,2.7222023230824299,"23:05:00",635139,20952,656091,279,656370,1,3.1934594438881199,"01:25:00",103979,3002,106981,9,106990,0,2.80610575709705,"00:09:00",739118,23954,763072,288,763360,1,3.1391533171181698,null,"01:25:00","0"]
[1,41,"　中種子町",4181,208,4389,0,4389,0,4.73912052859421,"21:48:00",635139,20952,656091,279,656370,1,3.1934594438881199,"01:25:00",103979,3002,106981,9,106990,0,2.80610575709705,"00:09:00",739118,23954,763072,288,763360,1,3.1391533171181698,null,"01:25:00","0"]
[1,42,"　南種子町",2841,232,3073,1,3074,0,7.5496257728604004,"22:01:00",635139,20952,656091,279,656370,1,3.1934594438881199,"01:25:00",103979,3002,106981,9,106990,0,2.80610575709705,"00:09:00",739118,23954,763072,288,763360,1,3.1391533171181698,null,"01:25:00","0"]
[1,43,"　屋久島町",6310,151,6461,0,6461,0,2.3370995201981102,"23:52:00",635139,20952,656091,279,656370,1,3.1934594438881199,"01:25:00",103979,3002,106981,9,106990,0,2.80610575709705,"00:09:00",739118,23954,763072,288,763360,1,3.1391533171181698,null,"01:25:00","0"]
[2,1,"＊（熊毛郡）計",13332,591,13923,1,13924,0,4.2447748330101298,"23:52:00",635139,20952,656091,279,656370,1,3.1934594438881199,"01:25:00",103979,3002,106981,9,106990,0,2.80610575709705,"00:09:00",739118,23954,763072,288,763360,1,3.1391533171181698,null,"01:25:00","0"]
[2,2,"　大和村",952,29,981,0,981,0,2.9561671763506601,"22:49:00",635139,20952,656091,279,656370,1,3.1934594438881199,"01:25:00",103979,3002,106981,9,106990,0,2.80610575709705,"00:09:00",739118,23954,763072,288,763360,1,3.1391533171181698,null,"01:25:00","0"]
[2,3,"　宇検村",1329,21,1350,0,1350,0,1.55555555555556,"21:47:00",635139,20952,656091,279,656370,1,3.1934594438881199,"01:25:00",103979,3002,106981,9,106990,0,2.80610575709705,"00:09:00",739118,23954,763072,288,763360,1,3.1391533171181698,null,"01:25:00","0"]
[2,4,"　瀬戸内町",5803,150,5953,3,5956,0,2.51973794725349,"22:59:00",635139,20952,656091,279,656370,1,3.1934594438881199,"01:25:00",103979,3002,106981,9,106990,0,2.80610575709705,"00:09:00",739118,23954,763072,288,763360,1,3.1391533171181698,null,"01:25:00","0"]
[2,5,"　龍郷町",4108,124,4232,1,4233,0,2.9300567107750499,"22:24:00",635139,20952,656091,279,656370,1,3.1934594438881199,"01:25:00",103979,3002,106981,9,106990,0,2.80610575709705,"00:09:00",739118,23954,763072,288,763360,1,3.1391533171181698,null,"01:25:00","0"]
[2,6,"　喜界町",4254,58,4312,2,4314,0,1.3450834879406299,"22:06:00",635139,20952,656091,279,656370,1,3.1934594438881199,"01:25:00",103979,3002,106981,9,106990,0,2.80610575709705,"00:09:00",739118,23954,763072,288,763360,1,3.1391533171181698,null,"01:25:00","0"]
[2,7,"　徳之島町",5842,189,6031,0,6031,0,3.13380865528105,"00:09:00",635139,20952,656091,279,656370,1,3.1934594438881199,"01:25:00",103979,3002,106981,9,106990,0,2.80610575709705,"00:09:00",739118,23954,763072,288,763360,1,3.1391533171181698,null,"01:25:00","0"]
[2,8,"　天城町",3365,93,3458,0,3458,0,2.6894158473105798,"22:28:00",635139,20952,656091,279,656370,1,3.1934594438881199,"01:25:00",103979,3002,106981,9,106990,0,2.80610575709705,"00:09:00",739118,23954,763072,288,763360,1,3.1391533171181698,null,"01:25:00","0"]
[2,9,"　伊仙町",4939,166,5105,0,5105,0,3.2517140058765901,"00:03:00",635139,20952,656091,279,656370,1,3.1934594438881199,"01:25:00",103979,3002,106981,9,106990,0,2.80610575709705,"00:09:00",739118,23954,763072,288,763360,1,3.1391533171181698,null,"01:25:00","0"]
[2,10,"　和泊町",3927,54,3981,0,3981,0,1.35644310474755,"22:15:00",635139,20952,656091,279,656370,1,3.1934594438881199,"01:25:00",103979,3002,106981,9,106990,0,2.80610575709705,"00:09:00",739118,23954,763072,288,763360,1,3.1391533171181698,null,"01:25:00","0"]
[2,11,"　知名町",3433,137,3570,0,3570,0,3.8375350140056002,"21:59:00",635139,20952,656091,279,656370,1,3.1934594438881199,"01:25:00",103979,3002,106981,9,106990,0,2.80610575709705,"00:09:00",739118,23954,763072,288,763360,1,3.1391533171181698,null,"01:25:00","0"]
[2,12,"　与論町",2874,197,3071,1,3072,0,6.4148485835232796,"00:02:00",635139,20952,656091,279,656370,1,3.1934594438881199,"01:25:00",103979,3002,106981,9,106990,0,2.80610575709705,"00:09:00",739118,23954,763072,288,763360,1,3.1391533171181698,null,"01:25:00","0"]
[2,13,"＊（大島郡）計",40826,1218,42044,7,42051,0,2.8969650841975101,"00:09:00",635139,20952,656091,279,656370,1,3.1934594438881199,"01:25:00",103979,3002,106981,9,106990,0,2.80610575709705,"00:09:00",739118,23954,763072,288,763360,1,3.1391533171181698,null,"01:25:00","0"]
[2,14,null,null,null,null,null,null,null,null,null,635139,20952,656091,279,656370,1,3.1934594438881199,"01:25:00",103979,3002,106981,9,106990,0,2.80610575709705,"00:09:00",739118,23954,763072,288,763360,1,3.1391533171181698,null,"01:25:00","0"]
[2,15,null,null,null,null,null,null,null,null,null,635139,20952,656091,279,656370,1,3.1934594438881199,"01:25:00",103979,3002,106981,9,106990,0,2.80610575709705,"00:09:00",739118,23954,763072,288,763360,1,3.1391533171181698,null,"01:25:00","0"]
[2,16,null,null,null,null,null,null,null,null,null,635139,20952,656091,279,656370,1,3.1934594438881199,"01:25:00",103979,3002,106981,9,106990,0,2.80610575709705,"00:09:00",739118,23954,763072,288,763360,1,3.1391533171181698,null,"01:25:00","0"]
[2,17,null,null,null,null,null,null,null,null,null,635139,20952,656091,279,656370,1,3.1934594438881199,"01:25:00",103979,3002,106981,9,106990,0,2.80610575709705,"00:09:00",739118,23954,763072,288,763360,1,3.1391533171181698,null,"01:25:00","0"]
[2,18,null,null,null,null,null,null,null,null,null,635139,20952,656091,279,656370,1,3.1934594438881199,"01:25:00",103979,3002,106981,9,106990,0,2.80610575709705,"00:09:00",739118,23954,763072,288,763360,1,3.1391533171181698,null,"01:25:00","0"]
[2,19,null,null,null,null,null,null,null,null,null,635139,20952,656091,279,656370,1,3.1934594438881199,"01:25:00",103979,3002,106981,9,106990,0,2.80610575709705,"00:09:00",739118,23954,763072,288,763360,1,3.1391533171181698,null,"01:25:00","0"]
[2,20,null,null,null,null,null,null,null,null,null,635139,20952,656091,279,656370,1,3.1934594438881199,"01:25:00",103979,3002,106981,9,106990,0,2.80610575709705,"00:09:00",739118,23954,763072,288,763360,1,3.1391533171181698,null,"01:25:00","0"]
[2,21,null,null,null,null,null,null,null,null,null,635139,20952,656091,279,656370,1,3.1934594438881199,"01:25:00",103979,3002,106981,9,106990,0,2.80610575709705,"00:09:00",739118,23954,763072,288,763360,1,3.1391533171181698,null,"01:25:00","0"]
[2,22,null,null,null,null,null,null,null,null,null,635139,20952,656091,279,656370,1,3.1934594438881199,"01:25:00",103979,3002,106981,9,106990,0,2.80610575709705,"00:09:00",739118,23954,763072,288,763360,1,3.1391533171181698,null,"01:25:00","0"]
[2,23,null,null,null,null,null,null,null,null,null,635139,20952,656091,279,656370,1,3.1934594438881199,"01:25:00",103979,3002,106981,9,106990,0,2.80610575709705,"00:09:00",739118,23954,763072,288,763360,1,3.1391533171181698,null,"01:25:00","0"]
[2,24,null,null,null,null,null,null,null,null,null,635139,20952,656091,279,656370,1,3.1934594438881199,"01:25:00",103979,3002,106981,9,106990,0,2.80610575709705,"00:09:00",739118,23954,763072,288,763360,1,3.1391533171181698,null,"01:25:00","0"]
[2,25,null,null,null,null,null,null,null,null,null,635139,20952,656091,279,656370,1,3.1934594438881199,"01:25:00",103979,3002,106981,9,106990,0,2.80610575709705,"00:09:00",739118,23954,763072,288,763360,1,3.1391533171181698,null,"01:25:00","0"]
[2,26,null,null,null,null,null,null,null,null,null,635139,20952,656091,279,656370,1,3.1934594438881199,"01:25:00",103979,3002,106981,9,106990,0,2.80610575709705,"00:09:00",739118,23954,763072,288,763360,1,3.1391533171181698,null,"01:25:00","0"]
[2,27,null,null,null,null,null,null,null,null,null,635139,20952,656091,279,656370,1,3.1934594438881199,"01:25:00",103979,3002,106981,9,106990,0,2.80610575709705,"00:09:00",739118,23954,763072,288,763360,1,3.1391533171181698,null,"01:25:00","0"]
[2,28,null,null,null,null,null,null,null,null,null,635139,20952,656091,279,656370,1,3.1934594438881199,"01:25:00",103979,3002,106981,9,106990,0,2.80610575709705,"00:09:00",739118,23954,763072,288,763360,1,3.1391533171181698,null,"01:25:00","0"]
[2,29,null,null,null,null,null,null,null,null,null,635139,20952,656091,279,656370,1,3.1934594438881199,"01:25:00",103979,3002,106981,9,106990,0,2.80610575709705,"00:09:00",739118,23954,763072,288,763360,1,3.1391533171181698,null,"01:25:00","0"]
[2,30,null,null,null,null,null,null,null,null,null,635139,20952,656091,279,656370,1,3.1934594438881199,"01:25:00",103979,3002,106981,9,106990,0,2.80610575709705,"00:09:00",739118,23954,763072,288,763360,1,3.1391533171181698,null,"01:25:00","0"]
[2,31,null,null,null,null,null,null,null,null,null,635139,20952,656091,279,656370,1,3.1934594438881199,"01:25:00",103979,3002,106981,9,106990,0,2.80610575709705,"00:09:00",739118,23954,763072,288,763360,1,3.1391533171181698,null,"01:25:00","0"]
[2,32,null,null,null,null,null,null,null,null,null,635139,20952,656091,279,656370,1,3.1934594438881199,"01:25:00",103979,3002,106981,9,106990,0,2.80610575709705,"00:09:00",739118,23954,763072,288,763360,1,3.1391533171181698,null,"01:25:00","0"]
[2,33,null,null,null,null,null,null,null,null,null,635139,20952,656091,279,656370,1,3.1934594438881199,"01:25:00",103979,3002,106981,9,106990,0,2.80610575709705,"00:09:00",739118,23954,763072,288,763360,1,3.1391533171181698,null,"01:25:00","0"]
[2,34,null,null,null,null,null,null,null,null,null,635139,20952,656091,279,656370,1,3.1934594438881199,"01:25:00",103979,3002,106981,9,106990,0,2.80610575709705,"00:09:00",739118,23954,763072,288,763360,1,3.1391533171181698,null,"01:25:00","0"]
[2,35,null,null,null,null,null,null,null,null,null,635139,20952,656091,279,656370,1,3.1934594438881199,"01:25:00",103979,3002,106981,9,106990,0,2.80610575709705,"00:09:00",739118,23954,763072,288,763360,1,3.1391533171181698,null,"01:25:00","0"]
[2,36,null,null,null,null,null,null,null,null,null,635139,20952,656091,279,656370,1,3.1934594438881199,"01:25:00",103979,3002,106981,9,106990,0,2.80610575709705,"00:09:00",739118,23954,763072,288,763360,1,3.1391533171181698,null,"01:25:00","0"]
[2,37,null,null,null,null,null,null,null,null,null,635139,20952,656091,279,656370,1,3.1934594438881199,"01:25:00",103979,3002,106981,9,106990,0,2.80610575709705,"00:09:00",739118,23954,763072,288,763360,1,3.1391533171181698,null,"01:25:00","0"]
[2,38,null,null,null,null,null,null,null,null,null,635139,20952,656091,279,656370,1,3.1934594438881199,"01:25:00",103979,3002,106981,9,106990,0,2.80610575709705,"00:09:00",739118,23954,763072,288,763360,1,3.1391533171181698,null,"01:25:00","0"]
[2,39,null,null,null,null,null,null,null,null,null,635139,20952,656091,279,656370,1,3.1934594438881199,"01:25:00",103979,3002,106981,9,106990,0,2.80610575709705,"00:09:00",739118,23954,763072,288,763360,1,3.1391533171181698,null,"01:25:00","0"]
[2,40,null,null,null,null,null,null,null,null,null,635139,20952,656091,279,656370,1,3.1934594438881199,"01:25:00",103979,3002,106981,9,106990,0,2.80610575709705,"00:09:00",739118,23954,763072,288,763360,1,3.1391533171181698,null,"01:25:00","0"]
[2,41,null,null,null,null,null,null,null,null,null,635139,20952,656091,279,656370,1,3.1934594438881199,"01:25:00",103979,3002,106981,9,106990,0,2.80610575709705,"00:09:00",739118,23954,763072,288,763360,1,3.1391533171181698,null,"01:25:00","0"]
[2,42,null,null,null,null,null,null,null,null,null,635139,20952,656091,279,656370,1,3.1934594438881199,"01:25:00",103979,3002,106981,9,106990,0,2.80610575709705,"00:09:00",739118,23954,763072,288,763360,1,3.1391533171181698,null,"01:25:00","0"]
[2,43,null,null,null,null,null,null,null,null,null,635139,20952,656091,279,656370,1,3.1934594438881199,"01:25:00",103979,3002,106981,9,106990,0,2.80610575709705,"00:09:00",739118,23954,763072,288,763360,1,3.1391533171181698,null,"01:25:00","0"]