{"text_format":"1","workbook":"xlsx","n_sheets":3,"sheets":["開票速報（裁判官別得票数）_221_","パラメタシート","P_22号様式"],"not_rendered":{"charts":0,"images":0,"macros":1,"external_links":0,"defined_names":7,"comments":0,"pivot_tables":0},"unopened":[],"bounds":{"document_bytes":16777216,"sheet_cells":100000,"rows_first":2000,"rows_last":500,"rows_between":2000,"halvings":0,"cell_chars":16384,"cell_head_chars":4096},"cells_cut":0,"cells_raw":0,"read":"whole","date_system":"1900"}

{"sheet":"開票速報（裁判官別得票数）_221_","index":0,"n_rows":224,"n_cols":18,"rows_kept":224,"cut":false,"hidden":false,"merged":[[60,1,60,4],[116,1,116,4],[172,1,172,4],[112,16,113,17],[168,16,169,17],[4,1,4,4],[60,13,60,14],[61,13,61,14],[116,13,116,14],[62,2,62,5],[54,0,54,1],[53,0,53,1],[48,0,48,1],[49,0,49,1],[50,0,50,1],[4,13,4,14],[6,10,6,13],[197,0,197,1],[198,0,198,1],[199,0,199,1],[200,0,200,1],[201,0,201,1],[202,0,202,1],[188,0,188,1],[189,0,189,1],[190,0,190,1],[191,0,191,1],[192,0,192,1],[193,0,193,1],[194,0,194,1],[195,0,195,1],[196,0,196,1],[0,16,1,17],[7,8,8,8],[4,15,4,16],[5,15,5,16],[6,14,6,17],[173,13,173,14],[119,13,120,13],[119,16,120,16],[119,17,120,17],[175,16,176,16],[175,17,176,17],[1,7,3,9],[62,6,62,9],[62,10,62,13],[62,14,62,17],[3,13,3,14],[5,13,5,14],[60,15,60,16],[61,15,61,16],[6,6,6,9],[56,16,57,17],[57,7,59,9],[7,9,8,9],[7,12,8,12],[7,17,8,17],[6,2,6,5],[44,0,44,1],[32,0,32,1],[33,0,33,1],[34,0,34,1],[35,0,35,1],[40,0,40,1],[41,0,41,1],[31,0,31,1],[7,13,8,13],[7,4,8,4],[7,5,8,5],[9,0,9,1],[10,0,10,1],[12,0,12,1],[13,0,13,1],[7,16,8,16],[63,13,64,13],[28,0,28,1],[29,0,29,1],[30,0,30,1],[63,5,64,5],[63,8,64,8],[67,0,67,1],[59,1,59,4],[63,4,64,4],[42,0,42,1],[43,0,43,1],[51,0,51,1],[65,0,65,1],[45,0,45,1],[46,0,46,1],[47,0,47,1],[66,0,66,1],[70,0,70,1],[71,0,71,1],[72,0,72,1],[73,0,73,1],[74,0,74,1],[75,0,75,1],[76,0,76,1],[63,9,64,9],[63,12,64,12],[118,2,118,5],[118,6,118,9],[95,0,95,1],[96,0,96,1],[97,0,97,1],[113,0,114,3],[115,1,115,4],[98,0,98,1],[99,0,99,1],[100,0,100,1],[101,0,101,1],[102,0,102,1],[103,0,103,1],[104,0,104,1],[110,0,110,1],[111,0,111,1],[63,16,64,16],[113,7,115,9],[105,0,105,1],[106,0,106,1],[107,0,107,1],[109,0,109,1],[22,0,22,1],[23,0,23,1],[86,0,86,1],[87,0,87,1],[88,0,88,1],[89,0,89,1],[90,0,90,1],[91,0,91,1],[92,0,92,1],[93,0,93,1],[94,0,94,1],[77,0,77,1],[78,0,78,1],[79,0,79,1],[84,0,84,1],[85,0,85,1],[68,0,68,1],[69,0,69,1],[121,0,121,1],[122,0,122,1],[24,0,24,1],[25,0,25,1],[26,0,26,1],[27,0,27,1],[123,0,123,1],[11,0,11,1],[14,0,14,1],[15,0,15,1],[16,0,16,1],[17,0,17,1],[18,0,18,1],[19,0,19,1],[20,0,20,1],[21,0,21,1],[36,0,36,1],[37,0,37,1],[38,0,38,1],[39,0,39,1],[80,0,80,1],[81,0,81,1],[82,0,82,1],[83,0,83,1],[124,0,124,1],[125,0,125,1],[126,0,126,1],[127,0,127,1],[128,0,128,1],[129,0,129,1],[130,0,130,1],[131,0,131,1],[132,0,132,1],[133,0,133,1],[134,0,134,1],[135,0,135,1],[136,0,136,1],[137,0,137,1],[138,0,138,1],[139,0,139,1],[140,0,140,1],[141,0,141,1],[142,0,142,1],[143,0,143,1],[144,0,144,1],[145,0,145,1],[146,0,146,1],[147,0,147,1],[148,0,148,1],[149,0,149,1],[150,0,150,1],[178,0,178,1],[179,0,179,1],[184,0,184,1],[185,0,185,1],[186,0,186,1],[187,0,187,1],[160,0,160,1],[161,0,161,1],[162,0,162,1],[163,0,163,1],[177,0,177,1],[180,0,180,1],[181,0,181,1],[182,0,182,1],[183,0,183,1],[203,0,203,1],[204,0,204,1],[205,0,205,1],[206,0,206,1],[207,0,207,1],[208,0,208,1],[209,0,209,1],[210,0,210,1],[211,0,211,1],[212,0,212,1],[213,0,213,1],[214,0,214,1],[215,0,215,1],[216,0,216,1],[217,0,217,1],[218,0,218,1],[219,0,219,1],[63,17,64,17],[116,15,116,16],[117,15,117,16],[117,13,117,14],[172,13,172,14],[118,10,118,13],[118,14,118,17],[119,12,120,12],[172,15,172,16],[173,15,173,16],[175,4,176,4],[175,5,176,5],[174,14,174,17],[174,10,174,13],[175,12,176,12],[175,13,176,13],[1,0,2,3],[55,0,55,1],[3,1,3,4],[57,0,58,3],[169,0,170,3],[6,0,8,1],[62,0,64,1],[175,8,176,8],[175,9,176,9],[118,0,120,1],[174,0,176,1],[169,7,171,9],[171,1,171,4],[119,4,120,4],[119,5,120,5],[119,8,120,8],[119,9,120,9],[165,0,165,1],[166,0,166,1],[167,0,167,1],[174,2,174,5],[174,6,174,9],[151,0,151,1],[152,0,152,1],[153,0,153,1],[154,0,154,1],[155,0,155,1],[156,0,156,1],[157,0,157,1],[158,0,158,1],[159,0,159,1],[221,0,221,1],[222,0,222,1],[223,0,223,1]]}
[null,null,null,null,null,null,null,null,null,null,null,null,null,null,null,null,{"$f":"IF(P_22号様式!A2=\"\",\" ページ\", P_22号様式!A2 & \"ページ\")","v":"1ページ"}]
["第22号様式",null,null,null,null,null,null,"開　票　速  報"]
[]
[null,{"$f":"IF(パラメタシート!B1=\"\",\"\",パラメタシート!B1)","v":"2017-10-22"}]
[null,"最高裁判所裁判官国民審査",null,null,null,null,null,null,null,null,null,null,null,{"$f":"IF(P_22号様式!BT2=\"0\",\"即日 開票  中間報告\",\"翌日 開票  中間報告\")","v":"即日 開票  中間報告"},null,{"$f":"IF(P_22号様式!BU2=\"\",\"     時     分\",P_22号様式!BU2)","v":"     時     分"}]
[null,null,null,null,null,null,null,null,null,null,null,null,null,"開票  結了報告",null,{"$f":"IF(P_22号様式!BV2=\"\",\"     時     分\",P_22号様式!BV2)","v":"01:25:00"},null,"鹿児島県"]
["市区町村名",null,{"$f":"IF(P_22号様式!D2=\"\",\"\",P_22号様式!D2)","v":"小池　裕"},null,null,null,{"$f":"IF(P_22号様式!I2=\"\",\"\",P_22号様式!I2)","v":"戸倉　三郎"},null,null,null,{"$f":"IF(P_22号様式!N2=\"\",\"\",P_22号様式!N2)","v":"山口　厚"},null,null,null,{"$f":"IF(P_22号様式!S2=\"\",\"\",P_22号様式!S2)","v":"菅野　博之"}]
[null,null,"罷免を可と","罷免を可と","記載無効","計","罷免を可と","罷免を可と","記載無効","計","罷免を可と","罷免を可と","記載無効","計","罷免を可と","罷免を可と","記載無効","計"]
[null,null,"する投票","しない投票",null,null,"する投票","しない投票",null,null,"する投票","しない投票",null,null,"する投票","しない投票"]
[{"$f":"IF(P_22号様式!C2=\"\",\"\",P_22号様式!C2)","v":"　鹿児島市１区"},null,{"$f":"IF(P_22号様式!E2=\"\",\"\",P_22号様式!E2)","v":11678},{"$f":"IF(P_22号様式!F2=\"\",\"\",P_22号様式!F2)","v":161082},{"$f":"IF(P_22号様式!G2=\"\",\"\",P_22号様式!G2)","v":0},{"$f":"IF(P_22号様式!H2=\"\",\"\",P_22号様式!H2)","v":172760},{"$f":"IF(P_22号様式!J2=\"\",\"\",P_22号様式!J2)","v":10559},{"$f":"IF(P_22号様式!K2=\"\",\"\",P_22号様式!K2)","v":162201},{"$f":"IF(P_22号様式!L2=\"\",\"\",P_22号様式!L2)","v":0},{"$f":"IF(P_22号様式!M2=\"\",\"\",P_22号様式!M2)","v":172760},{"$f":"IF(P_22号様式!O2=\"\",\"\",P_22号様式!O2)","v":10799},{"$f":"IF(P_22号様式!P2=\"\",\"\",P_22号様式!P2)","v":161961},{"$f":"IF(P_22号様式!Q2=\"\",\"\",P_22号様式!Q2)","v":0},{"$f":"IF(P_22号様式!R2=\"\",\"\",P_22号様式!R2)","v":172760},{"$f":"IF(P_22号様式!T2=\"\",\"\",P_22号様式!T2)","v":10950},{"$f":"IF(P_22号様式!U2=\"\",\"\",P_22号様式!U2)","v":161810},{"$f":"IF(P_22号様式!V2=\"\",\"\",P_22号様式!V2)","v":0},{"$f":"IF(P_22号様式!W2=\"\",\"\",P_22号様式!W2)","v":172760}]
[{"$f":"IF(P_22号様式!C3=\"\",\"\",P_22号様式!C3)","v":"　鹿児島市２区"},null,{"$f":"IF(P_22号様式!E3=\"\",\"\",P_22号様式!E3)","v":5617},{"$f":"IF(P_22号様式!F3=\"\",\"\",P_22号様式!F3)","v":57738},{"$f":"IF(P_22号様式!G3=\"\",\"\",P_22号様式!G3)","v":0},{"$f":"IF(P_22号様式!H3=\"\",\"\",P_22号様式!H3)","v":63355},{"$f":"IF(P_22号様式!J3=\"\",\"\",P_22号様式!J3)","v":4902},{"$f":"IF(P_22号様式!K3=\"\",\"\",P_22号様式!K3)","v":58453},{"$f":"IF(P_22号様式!L3=\"\",\"\",P_22号様式!L3)","v":0},{"$f":"IF(P_22号様式!M3=\"\",\"\",P_22号様式!M3)","v":63355},{"$f":"IF(P_22号様式!O3=\"\",\"\",P_22号様式!O3)","v":5127},{"$f":"IF(P_22号様式!P3=\"\",\"\",P_22号様式!P3)","v":58228},{"$f":"IF(P_22号様式!Q3=\"\",\"\",P_22号様式!Q3)","v":0},{"$f":"IF(P_22号様式!R3=\"\",\"\",P_22号様式!R3)","v":63355},{"$f":"IF(P_22号様式!T3=\"\",\"\",P_22号様式!T3)","v":5050},{"$f":"IF(P_22号様式!U3=\"\",\"\",P_22号様式!U3)","v":58305},{"$f":"IF(P_22号様式!V3=\"\",\"\",P_22号様式!V3)","v":0},{"$f":"IF(P_22号様式!W3=\"\",\"\",P_22号様式!W3)","v":63355}]
[{"$f":"IF(P_22号様式!C4=\"\",\"\",P_22号様式!C4)","v":"＊（鹿児島市）計"},null,{"$f":"IF(P_22号様式!E4=\"\",\"\",P_22号様式!E4)","v":17295},{"$f":"IF(P_22号様式!F4=\"\",\"\",P_22号様式!F4)","v":218820},{"$f":"IF(P_22号様式!G4=\"\",\"\",P_22号様式!G4)","v":0},{"$f":"IF(P_22号様式!H4=\"\",\"\",P_22号様式!H4)","v":236115},{"$f":"IF(P_22号様式!J4=\"\",\"\",P_22号様式!J4)","v":15461},{"$f":"IF(P_22号様式!K4=\"\",\"\",P_22号様式!K4)","v":220654},{"$f":"IF(P_22号様式!L4=\"\",\"\",P_22号様式!L4)","v":0},{"$f":"IF(P_22号様式!M4=\"\",\"\",P_22号様式!M4)","v":236115},{"$f":"IF(P_22号様式!O4=\"\",\"\",P_22号様式!O4)","v":15926},{"$f":"IF(P_22号様式!P4=\"\",\"\",P_22号様式!P4)","v":220189},{"$f":"IF(P_22号様式!Q4=\"\",\"\",P_22号様式!Q4)","v":0},{"$f":"IF(P_22号様式!R4=\"\",\"\",P_22号様式!R4)","v":236115},{"$f":"IF(P_22号様式!T4=\"\",\"\",P_22号様式!T4)","v":16000},{"$f":"IF(P_22号様式!U4=\"\",\"\",P_22号様式!U4)","v":220115},{"$f":"IF(P_22号様式!V4=\"\",\"\",P_22号様式!V4)","v":0},{"$f":"IF(P_22号様式!W4=\"\",\"\",P_22号様式!W4)","v":236115}]
[{"$f":"IF(P_22号様式!C5=\"\",\"\",P_22号様式!C5)","v":"　鹿屋市"},null,{"$f":"IF(P_22号様式!E5=\"\",\"\",P_22号様式!E5)","v":2125},{"$f":"IF(P_22号様式!F5=\"\",\"\",P_22号様式!F5)","v":38999},{"$f":"IF(P_22号様式!G5=\"\",\"\",P_22号様式!G5)","v":0},{"$f":"IF(P_22号様式!H5=\"\",\"\",P_22号様式!H5)","v":41124},{"$f":"IF(P_22号様式!J5=\"\",\"\",P_22号様式!J5)","v":1847},{"$f":"IF(P_22号様式!K5=\"\",\"\",P_22号様式!K5)","v":39277},{"$f":"IF(P_22号様式!L5=\"\",\"\",P_22号様式!L5)","v":0},{"$f":"IF(P_22号様式!M5=\"\",\"\",P_22号様式!M5)","v":41124},{"$f":"IF(P_22号様式!O5=\"\",\"\",P_22号様式!O5)","v":1910},{"$f":"IF(P_22号様式!P5=\"\",\"\",P_22号様式!P5)","v":39214},{"$f":"IF(P_22号様式!Q5=\"\",\"\",P_22号様式!Q5)","v":0},{"$f":"IF(P_22号様式!R5=\"\",\"\",P_22号様式!R5)","v":41124},{"$f":"IF(P_22号様式!T5=\"\",\"\",P_22号様式!T5)","v":1968},{"$f":"IF(P_22号様式!U5=\"\",\"\",P_22号様式!U5)","v":39156},{"$f":"IF(P_22号様式!V5=\"\",\"\",P_22号様式!V5)","v":0},{"$f":"IF(P_22号様式!W5=\"\",\"\",P_22号様式!W5)","v":41124}]
[{"$f":"IF(P_22号様式!C6=\"\",\"\",P_22号様式!C6)","v":"　枕崎市"},null,{"$f":"IF(P_22号様式!E6=\"\",\"\",P_22号様式!E6)","v":432},{"$f":"IF(P_22号様式!F6=\"\",\"\",P_22号様式!F6)","v":8979},{"$f":"IF(P_22号様式!G6=\"\",\"\",P_22号様式!G6)","v":0},{"$f":"IF(P_22号様式!H6=\"\",\"\",P_22号様式!H6)","v":9411},{"$f":"IF(P_22号様式!J6=\"\",\"\",P_22号様式!J6)","v":371},{"$f":"IF(P_22号様式!K6=\"\",\"\",P_22号様式!K6)","v":9040},{"$f":"IF(P_22号様式!L6=\"\",\"\",P_22号様式!L6)","v":0},{"$f":"IF(P_22号様式!M6=\"\",\"\",P_22号様式!M6)","v":9411},{"$f":"IF(P_22号様式!O6=\"\",\"\",P_22号様式!O6)","v":362},{"$f":"IF(P_22号様式!P6=\"\",\"\",P_22号様式!P6)","v":9049},{"$f":"IF(P_22号様式!Q6=\"\",\"\",P_22号様式!Q6)","v":0},{"$f":"IF(P_22号様式!R6=\"\",\"\",P_22号様式!R6)","v":9411},{"$f":"IF(P_22号様式!T6=\"\",\"\",P_22号様式!T6)","v":386},{"$f":"IF(P_22号様式!U6=\"\",\"\",P_22号様式!U6)","v":9025},{"$f":"IF(P_22号様式!V6=\"\",\"\",P_22号様式!V6)","v":0},{"$f":"IF(P_22号様式!W6=\"\",\"\",P_22号様式!W6)","v":9411}]
[{"$f":"IF(P_22号様式!C7=\"\",\"\",P_22号様式!C7)","v":"　阿久根市"},null,{"$f":"IF(P_22号様式!E7=\"\",\"\",P_22号様式!E7)","v":443},{"$f":"IF(P_22号様式!F7=\"\",\"\",P_22号様式!F7)","v":10820},{"$f":"IF(P_22号様式!G7=\"\",\"\",P_22号様式!G7)","v":0},{"$f":"IF(P_22号様式!H7=\"\",\"\",P_22号様式!H7)","v":11263},{"$f":"IF(P_22号様式!J7=\"\",\"\",P_22号様式!J7)","v":395},{"$f":"IF(P_22号様式!K7=\"\",\"\",P_22号様式!K7)","v":10868},{"$f":"IF(P_22号様式!L7=\"\",\"\",P_22号様式!L7)","v":0},{"$f":"IF(P_22号様式!M7=\"\",\"\",P_22号様式!M7)","v":11263},{"$f":"IF(P_22号様式!O7=\"\",\"\",P_22号様式!O7)","v":406},{"$f":"IF(P_22号様式!P7=\"\",\"\",P_22号様式!P7)","v":10857},{"$f":"IF(P_22号様式!Q7=\"\",\"\",P_22号様式!Q7)","v":0},{"$f":"IF(P_22号様式!R7=\"\",\"\",P_22号様式!R7)","v":11263},{"$f":"IF(P_22号様式!T7=\"\",\"\",P_22号様式!T7)","v":398},{"$f":"IF(P_22号様式!U7=\"\",\"\",P_22号様式!U7)","v":10865},{"$f":"IF(P_22号様式!V7=\"\",\"\",P_22号様式!V7)","v":0},{"$f":"IF(P_22号様式!W7=\"\",\"\",P_22号様式!W7)","v":11263}]
[{"$f":"IF(P_22号様式!C8=\"\",\"\",P_22号様式!C8)","v":"　出水市"},null,{"$f":"IF(P_22号様式!E8=\"\",\"\",P_22号様式!E8)","v":952},{"$f":"IF(P_22号様式!F8=\"\",\"\",P_22号様式!F8)","v":24453},{"$f":"IF(P_22号様式!G8=\"\",\"\",P_22号様式!G8)","v":0},{"$f":"IF(P_22号様式!H8=\"\",\"\",P_22号様式!H8)","v":25405},{"$f":"IF(P_22号様式!J8=\"\",\"\",P_22号様式!J8)","v":784},{"$f":"IF(P_22号様式!K8=\"\",\"\",P_22号様式!K8)","v":24621},{"$f":"IF(P_22号様式!L8=\"\",\"\",P_22号様式!L8)","v":0},{"$f":"IF(P_22号様式!M8=\"\",\"\",P_22号様式!M8)","v":25405},{"$f":"IF(P_22号様式!O8=\"\",\"\",P_22号様式!O8)","v":810},{"$f":"IF(P_22号様式!P8=\"\",\"\",P_22号様式!P8)","v":24595},{"$f":"IF(P_22号様式!Q8=\"\",\"\",P_22号様式!Q8)","v":0},{"$f":"IF(P_22号様式!R8=\"\",\"\",P_22号様式!R8)","v":25405},{"$f":"IF(P_22号様式!T8=\"\",\"\",P_22号様式!T8)","v":844},{"$f":"IF(P_22号様式!U8=\"\",\"\",P_22号様式!U8)","v":24561},{"$f":"IF(P_22号様式!V8=\"\",\"\",P_22号様式!V8)","v":0},{"$f":"IF(P_22号様式!W8=\"\",\"\",P_22号様式!W8)","v":25405}]
[{"$f":"IF(P_22号様式!C9=\"\",\"\",P_22号様式!C9)","v":"　指宿市"},null,{"$f":"IF(P_22号様式!E9=\"\",\"\",P_22号様式!E9)","v":662},{"$f":"IF(P_22号様式!F9=\"\",\"\",P_22号様式!F9)","v":18082},{"$f":"IF(P_22号様式!G9=\"\",\"\",P_22号様式!G9)","v":0},{"$f":"IF(P_22号様式!H9=\"\",\"\",P_22号様式!H9)","v":18744},{"$f":"IF(P_22号様式!J9=\"\",\"\",P_22号様式!J9)","v":531},{"$f":"IF(P_22号様式!K9=\"\",\"\",P_22号様式!K9)","v":18213},{"$f":"IF(P_22号様式!L9=\"\",\"\",P_22号様式!L9)","v":0},{"$f":"IF(P_22号様式!M9=\"\",\"\",P_22号様式!M9)","v":18744},{"$f":"IF(P_22号様式!O9=\"\",\"\",P_22号様式!O9)","v":556},{"$f":"IF(P_22号様式!P9=\"\",\"\",P_22号様式!P9)","v":18188},{"$f":"IF(P_22号様式!Q9=\"\",\"\",P_22号様式!Q9)","v":0},{"$f":"IF(P_22号様式!R9=\"\",\"\",P_22号様式!R9)","v":18744},{"$f":"IF(P_22号様式!T9=\"\",\"\",P_22号様式!T9)","v":571},{"$f":"IF(P_22号様式!U9=\"\",\"\",P_22号様式!U9)","v":18173},{"$f":"IF(P_22号様式!V9=\"\",\"\",P_22号様式!V9)","v":0},{"$f":"IF(P_22号様式!W9=\"\",\"\",P_22号様式!W9)","v":18744}]
[{"$f":"IF(P_22号様式!C10=\"\",\"\",P_22号様式!C10)","v":"　西之表市"},null,{"$f":"IF(P_22号様式!E10=\"\",\"\",P_22号様式!E10)","v":319},{"$f":"IF(P_22号様式!F10=\"\",\"\",P_22号様式!F10)","v":6661},{"$f":"IF(P_22号様式!G10=\"\",\"\",P_22号様式!G10)","v":1},{"$f":"IF(P_22号様式!H10=\"\",\"\",P_22号様式!H10)","v":6981},{"$f":"IF(P_22号様式!J10=\"\",\"\",P_22号様式!J10)","v":267},{"$f":"IF(P_22号様式!K10=\"\",\"\",P_22号様式!K10)","v":6714},{"$f":"IF(P_22号様式!L10=\"\",\"\",P_22号様式!L10)","v":0},{"$f":"IF(P_22号様式!M10=\"\",\"\",P_22号様式!M10)","v":6981},{"$f":"IF(P_22号様式!O10=\"\",\"\",P_22号様式!O10)","v":286},{"$f":"IF(P_22号様式!P10=\"\",\"\",P_22号様式!P10)","v":6694},{"$f":"IF(P_22号様式!Q10=\"\",\"\",P_22号様式!Q10)","v":1},{"$f":"IF(P_22号様式!R10=\"\",\"\",P_22号様式!R10)","v":6981},{"$f":"IF(P_22号様式!T10=\"\",\"\",P_22号様式!T10)","v":274},{"$f":"IF(P_22号様式!U10=\"\",\"\",P_22号様式!U10)","v":6707},{"$f":"IF(P_22号様式!V10=\"\",\"\",P_22号様式!V10)","v":0},{"$f":"IF(P_22号様式!W10=\"\",\"\",P_22号様式!W10)","v":6981}]
[{"$f":"IF(P_22号様式!C11=\"\",\"\",P_22号様式!C11)","v":"　垂水市"},null,{"$f":"IF(P_22号様式!E11=\"\",\"\",P_22号様式!E11)","v":292},{"$f":"IF(P_22号様式!F11=\"\",\"\",P_22号様式!F11)","v":7358},{"$f":"IF(P_22号様式!G11=\"\",\"\",P_22号様式!G11)","v":0},{"$f":"IF(P_22号様式!H11=\"\",\"\",P_22号様式!H11)","v":7650},{"$f":"IF(P_22号様式!J11=\"\",\"\",P_22号様式!J11)","v":250},{"$f":"IF(P_22号様式!K11=\"\",\"\",P_22号様式!K11)","v":7400},{"$f":"IF(P_22号様式!L11=\"\",\"\",P_22号様式!L11)","v":0},{"$f":"IF(P_22号様式!M11=\"\",\"\",P_22号様式!M11)","v":7650},{"$f":"IF(P_22号様式!O11=\"\",\"\",P_22号様式!O11)","v":254},{"$f":"IF(P_22号様式!P11=\"\",\"\",P_22号様式!P11)","v":7396},{"$f":"IF(P_22号様式!Q11=\"\",\"\",P_22号様式!Q11)","v":0},{"$f":"IF(P_22号様式!R11=\"\",\"\",P_22号様式!R11)","v":7650},{"$f":"IF(P_22号様式!T11=\"\",\"\",P_22号様式!T11)","v":252},{"$f":"IF(P_22号様式!U11=\"\",\"\",P_22号様式!U11)","v":7398},{"$f":"IF(P_22号様式!V11=\"\",\"\",P_22号様式!V11)","v":0},{"$f":"IF(P_22号様式!W11=\"\",\"\",P_22号様式!W11)","v":7650}]
[{"$f":"IF(P_22号様式!C12=\"\",\"\",P_22号様式!C12)","v":"　薩摩川内市第１"},null,{"$f":"IF(P_22号様式!E12=\"\",\"\",P_22号様式!E12)","v":1822},{"$f":"IF(P_22号様式!F12=\"\",\"\",P_22号様式!F12)","v":43356},{"$f":"IF(P_22号様式!G12=\"\",\"\",P_22号様式!G12)","v":0},{"$f":"IF(P_22号様式!H12=\"\",\"\",P_22号様式!H12)","v":45178},{"$f":"IF(P_22号様式!J12=\"\",\"\",P_22号様式!J12)","v":1566},{"$f":"IF(P_22号様式!K12=\"\",\"\",P_22号様式!K12)","v":43612},{"$f":"IF(P_22号様式!L12=\"\",\"\",P_22号様式!L12)","v":0},{"$f":"IF(P_22号様式!M12=\"\",\"\",P_22号様式!M12)","v":45178},{"$f":"IF(P_22号様式!O12=\"\",\"\",P_22号様式!O12)","v":1656},{"$f":"IF(P_22号様式!P12=\"\",\"\",P_22号様式!P12)","v":43522},{"$f":"IF(P_22号様式!Q12=\"\",\"\",P_22号様式!Q12)","v":0},{"$f":"IF(P_22号様式!R12=\"\",\"\",P_22号様式!R12)","v":45178},{"$f":"IF(P_22号様式!T12=\"\",\"\",P_22号様式!T12)","v":1649},{"$f":"IF(P_22号様式!U12=\"\",\"\",P_22号様式!U12)","v":43529},{"$f":"IF(P_22号様式!V12=\"\",\"\",P_22号様式!V12)","v":0},{"$f":"IF(P_22号様式!W12=\"\",\"\",P_22号様式!W12)","v":45178}]
[{"$f":"IF(P_22号様式!C13=\"\",\"\",P_22号様式!C13)","v":"　薩摩川内市第２"},null,{"$f":"IF(P_22号様式!E13=\"\",\"\",P_22号様式!E13)","v":20},{"$f":"IF(P_22号様式!F13=\"\",\"\",P_22号様式!F13)","v":1517},{"$f":"IF(P_22号様式!G13=\"\",\"\",P_22号様式!G13)","v":0},{"$f":"IF(P_22号様式!H13=\"\",\"\",P_22号様式!H13)","v":1537},{"$f":"IF(P_22号様式!J13=\"\",\"\",P_22号様式!J13)","v":18},{"$f":"IF(P_22号様式!K13=\"\",\"\",P_22号様式!K13)","v":1519},{"$f":"IF(P_22号様式!L13=\"\",\"\",P_22号様式!L13)","v":0},{"$f":"IF(P_22号様式!M13=\"\",\"\",P_22号様式!M13)","v":1537},{"$f":"IF(P_22号様式!O13=\"\",\"\",P_22号様式!O13)","v":18},{"$f":"IF(P_22号様式!P13=\"\",\"\",P_22号様式!P13)","v":1519},{"$f":"IF(P_22号様式!Q13=\"\",\"\",P_22号様式!Q13)","v":0},{"$f":"IF(P_22号様式!R13=\"\",\"\",P_22号様式!R13)","v":1537},{"$f":"IF(P_22号様式!T13=\"\",\"\",P_22号様式!T13)","v":21},{"$f":"IF(P_22号様式!U13=\"\",\"\",P_22号様式!U13)","v":1516},{"$f":"IF(P_22号様式!V13=\"\",\"\",P_22号様式!V13)","v":0},{"$f":"IF(P_22号様式!W13=\"\",\"\",P_22号様式!W13)","v":1537}]
[{"$f":"IF(P_22号様式!C14=\"\",\"\",P_22号様式!C14)","v":"　薩摩川内市第３"},null,{"$f":"IF(P_22号様式!E14=\"\",\"\",P_22号様式!E14)","v":47},{"$f":"IF(P_22号様式!F14=\"\",\"\",P_22号様式!F14)","v":1335},{"$f":"IF(P_22号様式!G14=\"\",\"\",P_22号様式!G14)","v":0},{"$f":"IF(P_22号様式!H14=\"\",\"\",P_22号様式!H14)","v":1382},{"$f":"IF(P_22号様式!J14=\"\",\"\",P_22号様式!J14)","v":35},{"$f":"IF(P_22号様式!K14=\"\",\"\",P_22号様式!K14)","v":1347},{"$f":"IF(P_22号様式!L14=\"\",\"\",P_22号様式!L14)","v":0},{"$f":"IF(P_22号様式!M14=\"\",\"\",P_22号様式!M14)","v":1382},{"$f":"IF(P_22号様式!O14=\"\",\"\",P_22号様式!O14)","v":40},{"$f":"IF(P_22号様式!P14=\"\",\"\",P_22号様式!P14)","v":1342},{"$f":"IF(P_22号様式!Q14=\"\",\"\",P_22号様式!Q14)","v":0},{"$f":"IF(P_22号様式!R14=\"\",\"\",P_22号様式!R14)","v":1382},{"$f":"IF(P_22号様式!T14=\"\",\"\",P_22号様式!T14)","v":40},{"$f":"IF(P_22号様式!U14=\"\",\"\",P_22号様式!U14)","v":1342},{"$f":"IF(P_22号様式!V14=\"\",\"\",P_22号様式!V14)","v":0},{"$f":"IF(P_22号様式!W14=\"\",\"\",P_22号様式!W14)","v":1382}]
[{"$f":"IF(P_22号様式!C15=\"\",\"\",P_22号様式!C15)","v":"＊（薩摩川内市）計"},null,{"$f":"IF(P_22号様式!E15=\"\",\"\",P_22号様式!E15)","v":1889},{"$f":"IF(P_22号様式!F15=\"\",\"\",P_22号様式!F15)","v":46208},{"$f":"IF(P_22号様式!G15=\"\",\"\",P_22号様式!G15)","v":0},{"$f":"IF(P_22号様式!H15=\"\",\"\",P_22号様式!H15)","v":48097},{"$f":"IF(P_22号様式!J15=\"\",\"\",P_22号様式!J15)","v":1619},{"$f":"IF(P_22号様式!K15=\"\",\"\",P_22号様式!K15)","v":46478},{"$f":"IF(P_22号様式!L15=\"\",\"\",P_22号様式!L15)","v":0},{"$f":"IF(P_22号様式!M15=\"\",\"\",P_22号様式!M15)","v":48097},{"$f":"IF(P_22号様式!O15=\"\",\"\",P_22号様式!O15)","v":1714},{"$f":"IF(P_22号様式!P15=\"\",\"\",P_22号様式!P15)","v":46383},{"$f":"IF(P_22号様式!Q15=\"\",\"\",P_22号様式!Q15)","v":0},{"$f":"IF(P_22号様式!R15=\"\",\"\",P_22号様式!R15)","v":48097},{"$f":"IF(P_22号様式!T15=\"\",\"\",P_22号様式!T15)","v":1710},{"$f":"IF(P_22号様式!U15=\"\",\"\",P_22号様式!U15)","v":46387},{"$f":"IF(P_22号様式!V15=\"\",\"\",P_22号様式!V15)","v":0},{"$f":"IF(P_22号様式!W15=\"\",\"\",P_22号様式!W15)","v":48097}]
[{"$f":"IF(P_22号様式!C16=\"\",\"\",P_22号様式!C16)","v":"　日置市"},null,{"$f":"IF(P_22号様式!E16=\"\",\"\",P_22号様式!E16)","v":1141},{"$f":"IF(P_22号様式!F16=\"\",\"\",P_22号様式!F16)","v":23635},{"$f":"IF(P_22号様式!G16=\"\",\"\",P_22号様式!G16)","v":0},{"$f":"IF(P_22号様式!H16=\"\",\"\",P_22号様式!H16)","v":24776},{"$f":"IF(P_22号様式!J16=\"\",\"\",P_22号様式!J16)","v":1017},{"$f":"IF(P_22号様式!K16=\"\",\"\",P_22号様式!K16)","v":23759},{"$f":"IF(P_22号様式!L16=\"\",\"\",P_22号様式!L16)","v":0},{"$f":"IF(P_22号様式!M16=\"\",\"\",P_22号様式!M16)","v":24776},{"$f":"IF(P_22号様式!O16=\"\",\"\",P_22号様式!O16)","v":1074},{"$f":"IF(P_22号様式!P16=\"\",\"\",P_22号様式!P16)","v":23702},{"$f":"IF(P_22号様式!Q16=\"\",\"\",P_22号様式!Q16)","v":0},{"$f":"IF(P_22号様式!R16=\"\",\"\",P_22号様式!R16)","v":24776},{"$f":"IF(P_22号様式!T16=\"\",\"\",P_22号様式!T16)","v":1077},{"$f":"IF(P_22号様式!U16=\"\",\"\",P_22号様式!U16)","v":23699},{"$f":"IF(P_22号様式!V16=\"\",\"\",P_22号様式!V16)","v":0},{"$f":"IF(P_22号様式!W16=\"\",\"\",P_22号様式!W16)","v":24776}]
[{"$f":"IF(P_22号様式!C17=\"\",\"\",P_22号様式!C17)","v":"　曽於市"},null,{"$f":"IF(P_22号様式!E17=\"\",\"\",P_22号様式!E17)","v":522},{"$f":"IF(P_22号様式!F17=\"\",\"\",P_22号様式!F17)","v":17127},{"$f":"IF(P_22号様式!G17=\"\",\"\",P_22号様式!G17)","v":0},{"$f":"IF(P_22号様式!H17=\"\",\"\",P_22号様式!H17)","v":17649},{"$f":"IF(P_22号様式!J17=\"\",\"\",P_22号様式!J17)","v":475},{"$f":"IF(P_22号様式!K17=\"\",\"\",P_22号様式!K17)","v":17174},{"$f":"IF(P_22号様式!L17=\"\",\"\",P_22号様式!L17)","v":0},{"$f":"IF(P_22号様式!M17=\"\",\"\",P_22号様式!M17)","v":17649},{"$f":"IF(P_22号様式!O17=\"\",\"\",P_22号様式!O17)","v":488},{"$f":"IF(P_22号様式!P17=\"\",\"\",P_22号様式!P17)","v":17161},{"$f":"IF(P_22号様式!Q17=\"\",\"\",P_22号様式!Q17)","v":0},{"$f":"IF(P_22号様式!R17=\"\",\"\",P_22号様式!R17)","v":17649},{"$f":"IF(P_22号様式!T17=\"\",\"\",P_22号様式!T17)","v":488},{"$f":"IF(P_22号様式!U17=\"\",\"\",P_22号様式!U17)","v":17161},{"$f":"IF(P_22号様式!V17=\"\",\"\",P_22号様式!V17)","v":0},{"$f":"IF(P_22号様式!W17=\"\",\"\",P_22号様式!W17)","v":17649}]
[{"$f":"IF(P_22号様式!C18=\"\",\"\",P_22号様式!C18)","v":"　霧島市"},null,{"$f":"IF(P_22号様式!E18=\"\",\"\",P_22号様式!E18)","v":2767},{"$f":"IF(P_22号様式!F18=\"\",\"\",P_22号様式!F18)","v":49032},{"$f":"IF(P_22号様式!G18=\"\",\"\",P_22号様式!G18)","v":0},{"$f":"IF(P_22号様式!H18=\"\",\"\",P_22号様式!H18)","v":51799},{"$f":"IF(P_22号様式!J18=\"\",\"\",P_22号様式!J18)","v":2449},{"$f":"IF(P_22号様式!K18=\"\",\"\",P_22号様式!K18)","v":49350},{"$f":"IF(P_22号様式!L18=\"\",\"\",P_22号様式!L18)","v":0},{"$f":"IF(P_22号様式!M18=\"\",\"\",P_22号様式!M18)","v":51799},{"$f":"IF(P_22号様式!O18=\"\",\"\",P_22号様式!O18)","v":2474},{"$f":"IF(P_22号様式!P18=\"\",\"\",P_22号様式!P18)","v":49325},{"$f":"IF(P_22号様式!Q18=\"\",\"\",P_22号様式!Q18)","v":0},{"$f":"IF(P_22号様式!R18=\"\",\"\",P_22号様式!R18)","v":51799},{"$f":"IF(P_22号様式!T18=\"\",\"\",P_22号様式!T18)","v":2536},{"$f":"IF(P_22号様式!U18=\"\",\"\",P_22号様式!U18)","v":49263},{"$f":"IF(P_22号様式!V18=\"\",\"\",P_22号様式!V18)","v":0},{"$f":"IF(P_22号様式!W18=\"\",\"\",P_22号様式!W18)","v":51799}]
[{"$f":"IF(P_22号様式!C19=\"\",\"\",P_22号様式!C19)","v":"　いちき串木野市"},null,{"$f":"IF(P_22号様式!E19=\"\",\"\",P_22号様式!E19)","v":850},{"$f":"IF(P_22号様式!F19=\"\",\"\",P_22号様式!F19)","v":16721},{"$f":"IF(P_22号様式!G19=\"\",\"\",P_22号様式!G19)","v":0},{"$f":"IF(P_22号様式!H19=\"\",\"\",P_22号様式!H19)","v":17571},{"$f":"IF(P_22号様式!J19=\"\",\"\",P_22号様式!J19)","v":742},{"$f":"IF(P_22号様式!K19=\"\",\"\",P_22号様式!K19)","v":16829},{"$f":"IF(P_22号様式!L19=\"\",\"\",P_22号様式!L19)","v":0},{"$f":"IF(P_22号様式!M19=\"\",\"\",P_22号様式!M19)","v":17571},{"$f":"IF(P_22号様式!O19=\"\",\"\",P_22号様式!O19)","v":760},{"$f":"IF(P_22号様式!P19=\"\",\"\",P_22号様式!P19)","v":16811},{"$f":"IF(P_22号様式!Q19=\"\",\"\",P_22号様式!Q19)","v":0},{"$f":"IF(P_22号様式!R19=\"\",\"\",P_22号様式!R19)","v":17571},{"$f":"IF(P_22号様式!T19=\"\",\"\",P_22号様式!T19)","v":740},{"$f":"IF(P_22号様式!U19=\"\",\"\",P_22号様式!U19)","v":16831},{"$f":"IF(P_22号様式!V19=\"\",\"\",P_22号様式!V19)","v":0},{"$f":"IF(P_22号様式!W19=\"\",\"\",P_22号様式!W19)","v":17571}]
[{"$f":"IF(P_22号様式!C20=\"\",\"\",P_22号様式!C20)","v":"　南さつま市"},null,{"$f":"IF(P_22号様式!E20=\"\",\"\",P_22号様式!E20)","v":949},{"$f":"IF(P_22号様式!F20=\"\",\"\",P_22号様式!F20)","v":15864},{"$f":"IF(P_22号様式!G20=\"\",\"\",P_22号様式!G20)","v":0},{"$f":"IF(P_22号様式!H20=\"\",\"\",P_22号様式!H20)","v":16813},{"$f":"IF(P_22号様式!J20=\"\",\"\",P_22号様式!J20)","v":832},{"$f":"IF(P_22号様式!K20=\"\",\"\",P_22号様式!K20)","v":15981},{"$f":"IF(P_22号様式!L20=\"\",\"\",P_22号様式!L20)","v":0},{"$f":"IF(P_22号様式!M20=\"\",\"\",P_22号様式!M20)","v":16813},{"$f":"IF(P_22号様式!O20=\"\",\"\",P_22号様式!O20)","v":857},{"$f":"IF(P_22号様式!P20=\"\",\"\",P_22号様式!P20)","v":15956},{"$f":"IF(P_22号様式!Q20=\"\",\"\",P_22号様式!Q20)","v":0},{"$f":"IF(P_22号様式!R20=\"\",\"\",P_22号様式!R20)","v":16813},{"$f":"IF(P_22号様式!T20=\"\",\"\",P_22号様式!T20)","v":850},{"$f":"IF(P_22号様式!U20=\"\",\"\",P_22号様式!U20)","v":15963},{"$f":"IF(P_22号様式!V20=\"\",\"\",P_22号様式!V20)","v":0},{"$f":"IF(P_22号様式!W20=\"\",\"\",P_22号様式!W20)","v":16813}]
[{"$f":"IF(P_22号様式!C21=\"\",\"\",P_22号様式!C21)","v":"　志布志市"},null,{"$f":"IF(P_22号様式!E21=\"\",\"\",P_22号様式!E21)","v":446},{"$f":"IF(P_22号様式!F21=\"\",\"\",P_22号様式!F21)","v":14072},{"$f":"IF(P_22号様式!G21=\"\",\"\",P_22号様式!G21)","v":0},{"$f":"IF(P_22号様式!H21=\"\",\"\",P_22号様式!H21)","v":14518},{"$f":"IF(P_22号様式!J21=\"\",\"\",P_22号様式!J21)","v":368},{"$f":"IF(P_22号様式!K21=\"\",\"\",P_22号様式!K21)","v":14150},{"$f":"IF(P_22号様式!L21=\"\",\"\",P_22号様式!L21)","v":0},{"$f":"IF(P_22号様式!M21=\"\",\"\",P_22号様式!M21)","v":14518},{"$f":"IF(P_22号様式!O21=\"\",\"\",P_22号様式!O21)","v":386},{"$f":"IF(P_22号様式!P21=\"\",\"\",P_22号様式!P21)","v":14132},{"$f":"IF(P_22号様式!Q21=\"\",\"\",P_22号様式!Q21)","v":0},{"$f":"IF(P_22号様式!R21=\"\",\"\",P_22号様式!R21)","v":14518},{"$f":"IF(P_22号様式!T21=\"\",\"\",P_22号様式!T21)","v":385},{"$f":"IF(P_22号様式!U21=\"\",\"\",P_22号様式!U21)","v":14133},{"$f":"IF(P_22号様式!V21=\"\",\"\",P_22号様式!V21)","v":0},{"$f":"IF(P_22号様式!W21=\"\",\"\",P_22号様式!W21)","v":14518}]
[{"$f":"IF(P_22号様式!C22=\"\",\"\",P_22号様式!C22)","v":"　奄美市"},null,{"$f":"IF(P_22号様式!E22=\"\",\"\",P_22号様式!E22)","v":1206},{"$f":"IF(P_22号様式!F22=\"\",\"\",P_22号様式!F22)","v":19922},{"$f":"IF(P_22号様式!G22=\"\",\"\",P_22号様式!G22)","v":0},{"$f":"IF(P_22号様式!H22=\"\",\"\",P_22号様式!H22)","v":21128},{"$f":"IF(P_22号様式!J22=\"\",\"\",P_22号様式!J22)","v":1026},{"$f":"IF(P_22号様式!K22=\"\",\"\",P_22号様式!K22)","v":20102},{"$f":"IF(P_22号様式!L22=\"\",\"\",P_22号様式!L22)","v":0},{"$f":"IF(P_22号様式!M22=\"\",\"\",P_22号様式!M22)","v":21128},{"$f":"IF(P_22号様式!O22=\"\",\"\",P_22号様式!O22)","v":1029},{"$f":"IF(P_22号様式!P22=\"\",\"\",P_22号様式!P22)","v":20099},{"$f":"IF(P_22号様式!Q22=\"\",\"\",P_22号様式!Q22)","v":0},{"$f":"IF(P_22号様式!R22=\"\",\"\",P_22号様式!R22)","v":21128},{"$f":"IF(P_22号様式!T22=\"\",\"\",P_22号様式!T22)","v":1060},{"$f":"IF(P_22号様式!U22=\"\",\"\",P_22号様式!U22)","v":20068},{"$f":"IF(P_22号様式!V22=\"\",\"\",P_22号様式!V22)","v":0},{"$f":"IF(P_22号様式!W22=\"\",\"\",P_22号様式!W22)","v":21128}]
[{"$f":"IF(P_22号様式!C23=\"\",\"\",P_22号様式!C23)","v":"　南九州市"},null,{"$f":"IF(P_22号様式!E23=\"\",\"\",P_22号様式!E23)","v":562},{"$f":"IF(P_22号様式!F23=\"\",\"\",P_22号様式!F23)","v":16503},{"$f":"IF(P_22号様式!G23=\"\",\"\",P_22号様式!G23)","v":0},{"$f":"IF(P_22号様式!H23=\"\",\"\",P_22号様式!H23)","v":17065},{"$f":"IF(P_22号様式!J23=\"\",\"\",P_22号様式!J23)","v":500},{"$f":"IF(P_22号様式!K23=\"\",\"\",P_22号様式!K23)","v":16565},{"$f":"IF(P_22号様式!L23=\"\",\"\",P_22号様式!L23)","v":0},{"$f":"IF(P_22号様式!M23=\"\",\"\",P_22号様式!M23)","v":17065},{"$f":"IF(P_22号様式!O23=\"\",\"\",P_22号様式!O23)","v":530},{"$f":"IF(P_22号様式!P23=\"\",\"\",P_22号様式!P23)","v":16535},{"$f":"IF(P_22号様式!Q23=\"\",\"\",P_22号様式!Q23)","v":0},{"$f":"IF(P_22号様式!R23=\"\",\"\",P_22号様式!R23)","v":17065},{"$f":"IF(P_22号様式!T23=\"\",\"\",P_22号様式!T23)","v":517},{"$f":"IF(P_22号様式!U23=\"\",\"\",P_22号様式!U23)","v":16548},{"$f":"IF(P_22号様式!V23=\"\",\"\",P_22号様式!V23)","v":0},{"$f":"IF(P_22号様式!W23=\"\",\"\",P_22号様式!W23)","v":17065}]
[{"$f":"IF(P_22号様式!C24=\"\",\"\",P_22号様式!C24)","v":"　伊佐市"},null,{"$f":"IF(P_22号様式!E24=\"\",\"\",P_22号様式!E24)","v":529},{"$f":"IF(P_22号様式!F24=\"\",\"\",P_22号様式!F24)","v":13380},{"$f":"IF(P_22号様式!G24=\"\",\"\",P_22号様式!G24)","v":0},{"$f":"IF(P_22号様式!H24=\"\",\"\",P_22号様式!H24)","v":13909},{"$f":"IF(P_22号様式!J24=\"\",\"\",P_22号様式!J24)","v":449},{"$f":"IF(P_22号様式!K24=\"\",\"\",P_22号様式!K24)","v":13460},{"$f":"IF(P_22号様式!L24=\"\",\"\",P_22号様式!L24)","v":0},{"$f":"IF(P_22号様式!M24=\"\",\"\",P_22号様式!M24)","v":13909},{"$f":"IF(P_22号様式!O24=\"\",\"\",P_22号様式!O24)","v":480},{"$f":"IF(P_22号様式!P24=\"\",\"\",P_22号様式!P24)","v":13429},{"$f":"IF(P_22号様式!Q24=\"\",\"\",P_22号様式!Q24)","v":0},{"$f":"IF(P_22号様式!R24=\"\",\"\",P_22号様式!R24)","v":13909},{"$f":"IF(P_22号様式!T24=\"\",\"\",P_22号様式!T24)","v":494},{"$f":"IF(P_22号様式!U24=\"\",\"\",P_22号様式!U24)","v":13415},{"$f":"IF(P_22号様式!V24=\"\",\"\",P_22号様式!V24)","v":0},{"$f":"IF(P_22号様式!W24=\"\",\"\",P_22号様式!W24)","v":13909}]
[{"$f":"IF(P_22号様式!C25=\"\",\"\",P_22号様式!C25)","v":"　姶良市"},null,{"$f":"IF(P_22号様式!E25=\"\",\"\",P_22号様式!E25)","v":2634},{"$f":"IF(P_22号様式!F25=\"\",\"\",P_22号様式!F25)","v":32487},{"$f":"IF(P_22号様式!G25=\"\",\"\",P_22号様式!G25)","v":0},{"$f":"IF(P_22号様式!H25=\"\",\"\",P_22号様式!H25)","v":35121},{"$f":"IF(P_22号様式!J25=\"\",\"\",P_22号様式!J25)","v":2438},{"$f":"IF(P_22号様式!K25=\"\",\"\",P_22号様式!K25)","v":32683},{"$f":"IF(P_22号様式!L25=\"\",\"\",P_22号様式!L25)","v":0},{"$f":"IF(P_22号様式!M25=\"\",\"\",P_22号様式!M25)","v":35121},{"$f":"IF(P_22号様式!O25=\"\",\"\",P_22号様式!O25)","v":2474},{"$f":"IF(P_22号様式!P25=\"\",\"\",P_22号様式!P25)","v":32647},{"$f":"IF(P_22号様式!Q25=\"\",\"\",P_22号様式!Q25)","v":0},{"$f":"IF(P_22号様式!R25=\"\",\"\",P_22号様式!R25)","v":35121},{"$f":"IF(P_22号様式!T25=\"\",\"\",P_22号様式!T25)","v":2495},{"$f":"IF(P_22号様式!U25=\"\",\"\",P_22号様式!U25)","v":32626},{"$f":"IF(P_22号様式!V25=\"\",\"\",P_22号様式!V25)","v":0},{"$f":"IF(P_22号様式!W25=\"\",\"\",P_22号様式!W25)","v":35121}]
[{"$f":"IF(P_22号様式!C26=\"\",\"\",P_22号様式!C26)","v":"　三島村"},null,{"$f":"IF(P_22号様式!E26=\"\",\"\",P_22号様式!E26)","v":4},{"$f":"IF(P_22号様式!F26=\"\",\"\",P_22号様式!F26)","v":234},{"$f":"IF(P_22号様式!G26=\"\",\"\",P_22号様式!G26)","v":0},{"$f":"IF(P_22号様式!H26=\"\",\"\",P_22号様式!H26)","v":238},{"$f":"IF(P_22号様式!J26=\"\",\"\",P_22号様式!J26)","v":4},{"$f":"IF(P_22号様式!K26=\"\",\"\",P_22号様式!K26)","v":234},{"$f":"IF(P_22号様式!L26=\"\",\"\",P_22号様式!L26)","v":0},{"$f":"IF(P_22号様式!M26=\"\",\"\",P_22号様式!M26)","v":238},{"$f":"IF(P_22号様式!O26=\"\",\"\",P_22号様式!O26)","v":1},{"$f":"IF(P_22号様式!P26=\"\",\"\",P_22号様式!P26)","v":237},{"$f":"IF(P_22号様式!Q26=\"\",\"\",P_22号様式!Q26)","v":0},{"$f":"IF(P_22号様式!R26=\"\",\"\",P_22号様式!R26)","v":238},{"$f":"IF(P_22号様式!T26=\"\",\"\",P_22号様式!T26)","v":3},{"$f":"IF(P_22号様式!U26=\"\",\"\",P_22号様式!U26)","v":235},{"$f":"IF(P_22号様式!V26=\"\",\"\",P_22号様式!V26)","v":0},{"$f":"IF(P_22号様式!W26=\"\",\"\",P_22号様式!W26)","v":238}]
[{"$f":"IF(P_22号様式!C27=\"\",\"\",P_22号様式!C27)","v":"　十島村"},null,{"$f":"IF(P_22号様式!E27=\"\",\"\",P_22号様式!E27)","v":25},{"$f":"IF(P_22号様式!F27=\"\",\"\",P_22号様式!F27)","v":419},{"$f":"IF(P_22号様式!G27=\"\",\"\",P_22号様式!G27)","v":0},{"$f":"IF(P_22号様式!H27=\"\",\"\",P_22号様式!H27)","v":444},{"$f":"IF(P_22号様式!J27=\"\",\"\",P_22号様式!J27)","v":21},{"$f":"IF(P_22号様式!K27=\"\",\"\",P_22号様式!K27)","v":423},{"$f":"IF(P_22号様式!L27=\"\",\"\",P_22号様式!L27)","v":0},{"$f":"IF(P_22号様式!M27=\"\",\"\",P_22号様式!M27)","v":444},{"$f":"IF(P_22号様式!O27=\"\",\"\",P_22号様式!O27)","v":17},{"$f":"IF(P_22号様式!P27=\"\",\"\",P_22号様式!P27)","v":427},{"$f":"IF(P_22号様式!Q27=\"\",\"\",P_22号様式!Q27)","v":0},{"$f":"IF(P_22号様式!R27=\"\",\"\",P_22号様式!R27)","v":444},{"$f":"IF(P_22号様式!T27=\"\",\"\",P_22号様式!T27)","v":20},{"$f":"IF(P_22号様式!U27=\"\",\"\",P_22号様式!U27)","v":424},{"$f":"IF(P_22号様式!V27=\"\",\"\",P_22号様式!V27)","v":0},{"$f":"IF(P_22号様式!W27=\"\",\"\",P_22号様式!W27)","v":444}]
[{"$f":"IF(P_22号様式!C28=\"\",\"\",P_22号様式!C28)","v":"＊（鹿児島郡）計"},null,{"$f":"IF(P_22号様式!E28=\"\",\"\",P_22号様式!E28)","v":29},{"$f":"IF(P_22号様式!F28=\"\",\"\",P_22号様式!F28)","v":653},{"$f":"IF(P_22号様式!G28=\"\",\"\",P_22号様式!G28)","v":0},{"$f":"IF(P_22号様式!H28=\"\",\"\",P_22号様式!H28)","v":682},{"$f":"IF(P_22号様式!J28=\"\",\"\",P_22号様式!J28)","v":25},{"$f":"IF(P_22号様式!K28=\"\",\"\",P_22号様式!K28)","v":657},{"$f":"IF(P_22号様式!L28=\"\",\"\",P_22号様式!L28)","v":0},{"$f":"IF(P_22号様式!M28=\"\",\"\",P_22号様式!M28)","v":682},{"$f":"IF(P_22号様式!O28=\"\",\"\",P_22号様式!O28)","v":18},{"$f":"IF(P_22号様式!P28=\"\",\"\",P_22号様式!P28)","v":664},{"$f":"IF(P_22号様式!Q28=\"\",\"\",P_22号様式!Q28)","v":0},{"$f":"IF(P_22号様式!R28=\"\",\"\",P_22号様式!R28)","v":682},{"$f":"IF(P_22号様式!T28=\"\",\"\",P_22号様式!T28)","v":23},{"$f":"IF(P_22号様式!U28=\"\",\"\",P_22号様式!U28)","v":659},{"$f":"IF(P_22号様式!V28=\"\",\"\",P_22号様式!V28)","v":0},{"$f":"IF(P_22号様式!W28=\"\",\"\",P_22号様式!W28)","v":682}]
[{"$f":"IF(P_22号様式!C29=\"\",\"\",P_22号様式!C29)","v":"　さつま町"},null,{"$f":"IF(P_22号様式!E29=\"\",\"\",P_22号様式!E29)","v":367},{"$f":"IF(P_22号様式!F29=\"\",\"\",P_22号様式!F29)","v":11724},{"$f":"IF(P_22号様式!G29=\"\",\"\",P_22号様式!G29)","v":0},{"$f":"IF(P_22号様式!H29=\"\",\"\",P_22号様式!H29)","v":12091},{"$f":"IF(P_22号様式!J29=\"\",\"\",P_22号様式!J29)","v":284},{"$f":"IF(P_22号様式!K29=\"\",\"\",P_22号様式!K29)","v":11807},{"$f":"IF(P_22号様式!L29=\"\",\"\",P_22号様式!L29)","v":0},{"$f":"IF(P_22号様式!M29=\"\",\"\",P_22号様式!M29)","v":12091},{"$f":"IF(P_22号様式!O29=\"\",\"\",P_22号様式!O29)","v":297},{"$f":"IF(P_22号様式!P29=\"\",\"\",P_22号様式!P29)","v":11794},{"$f":"IF(P_22号様式!Q29=\"\",\"\",P_22号様式!Q29)","v":0},{"$f":"IF(P_22号様式!R29=\"\",\"\",P_22号様式!R29)","v":12091},{"$f":"IF(P_22号様式!T29=\"\",\"\",P_22号様式!T29)","v":295},{"$f":"IF(P_22号様式!U29=\"\",\"\",P_22号様式!U29)","v":11796},{"$f":"IF(P_22号様式!V29=\"\",\"\",P_22号様式!V29)","v":0},{"$f":"IF(P_22号様式!W29=\"\",\"\",P_22号様式!W29)","v":12091}]
[{"$f":"IF(P_22号様式!C30=\"\",\"\",P_22号様式!C30)","v":"＊（薩摩郡）計"},null,{"$f":"IF(P_22号様式!E30=\"\",\"\",P_22号様式!E30)","v":367},{"$f":"IF(P_22号様式!F30=\"\",\"\",P_22号様式!F30)","v":11724},{"$f":"IF(P_22号様式!G30=\"\",\"\",P_22号様式!G30)","v":0},{"$f":"IF(P_22号様式!H30=\"\",\"\",P_22号様式!H30)","v":12091},{"$f":"IF(P_22号様式!J30=\"\",\"\",P_22号様式!J30)","v":284},{"$f":"IF(P_22号様式!K30=\"\",\"\",P_22号様式!K30)","v":11807},{"$f":"IF(P_22号様式!L30=\"\",\"\",P_22号様式!L30)","v":0},{"$f":"IF(P_22号様式!M30=\"\",\"\",P_22号様式!M30)","v":12091},{"$f":"IF(P_22号様式!O30=\"\",\"\",P_22号様式!O30)","v":297},{"$f":"IF(P_22号様式!P30=\"\",\"\",P_22号様式!P30)","v":11794},{"$f":"IF(P_22号様式!Q30=\"\",\"\",P_22号様式!Q30)","v":0},{"$f":"IF(P_22号様式!R30=\"\",\"\",P_22号様式!R30)","v":12091},{"$f":"IF(P_22号様式!T30=\"\",\"\",P_22号様式!T30)","v":295},{"$f":"IF(P_22号様式!U30=\"\",\"\",P_22号様式!U30)","v":11796},{"$f":"IF(P_22号様式!V30=\"\",\"\",P_22号様式!V30)","v":0},{"$f":"IF(P_22号様式!W30=\"\",\"\",P_22号様式!W30)","v":12091}]
[{"$f":"IF(P_22号様式!C31=\"\",\"\",P_22号様式!C31)","v":"　長島町"},null,{"$f":"IF(P_22号様式!E31=\"\",\"\",P_22号様式!E31)","v":101},{"$f":"IF(P_22号様式!F31=\"\",\"\",P_22号様式!F31)","v":6343},{"$f":"IF(P_22号様式!G31=\"\",\"\",P_22号様式!G31)","v":0},{"$f":"IF(P_22号様式!H31=\"\",\"\",P_22号様式!H31)","v":6444},{"$f":"IF(P_22号様式!J31=\"\",\"\",P_22号様式!J31)","v":68},{"$f":"IF(P_22号様式!K31=\"\",\"\",P_22号様式!K31)","v":6376},{"$f":"IF(P_22号様式!L31=\"\",\"\",P_22号様式!L31)","v":0},{"$f":"IF(P_22号様式!M31=\"\",\"\",P_22号様式!M31)","v":6444},{"$f":"IF(P_22号様式!O31=\"\",\"\",P_22号様式!O31)","v":75},{"$f":"IF(P_22号様式!P31=\"\",\"\",P_22号様式!P31)","v":6369},{"$f":"IF(P_22号様式!Q31=\"\",\"\",P_22号様式!Q31)","v":0},{"$f":"IF(P_22号様式!R31=\"\",\"\",P_22号様式!R31)","v":6444},{"$f":"IF(P_22号様式!T31=\"\",\"\",P_22号様式!T31)","v":73},{"$f":"IF(P_22号様式!U31=\"\",\"\",P_22号様式!U31)","v":6371},{"$f":"IF(P_22号様式!V31=\"\",\"\",P_22号様式!V31)","v":0},{"$f":"IF(P_22号様式!W31=\"\",\"\",P_22号様式!W31)","v":6444}]
[{"$f":"IF(P_22号様式!C32=\"\",\"\",P_22号様式!C32)","v":"＊（出水郡）計"},null,{"$f":"IF(P_22号様式!E32=\"\",\"\",P_22号様式!E32)","v":101},{"$f":"IF(P_22号様式!F32=\"\",\"\",P_22号様式!F32)","v":6343},{"$f":"IF(P_22号様式!G32=\"\",\"\",P_22号様式!G32)","v":0},{"$f":"IF(P_22号様式!H32=\"\",\"\",P_22号様式!H32)","v":6444},{"$f":"IF(P_22号様式!J32=\"\",\"\",P_22号様式!J32)","v":68},{"$f":"IF(P_22号様式!K32=\"\",\"\",P_22号様式!K32)","v":6376},{"$f":"IF(P_22号様式!L32=\"\",\"\",P_22号様式!L32)","v":0},{"$f":"IF(P_22号様式!M32=\"\",\"\",P_22号様式!M32)","v":6444},{"$f":"IF(P_22号様式!O32=\"\",\"\",P_22号様式!O32)","v":75},{"$f":"IF(P_22号様式!P32=\"\",\"\",P_22号様式!P32)","v":6369},{"$f":"IF(P_22号様式!Q32=\"\",\"\",P_22号様式!Q32)","v":0},{"$f":"IF(P_22号様式!R32=\"\",\"\",P_22号様式!R32)","v":6444},{"$f":"IF(P_22号様式!T32=\"\",\"\",P_22号様式!T32)","v":73},{"$f":"IF(P_22号様式!U32=\"\",\"\",P_22号様式!U32)","v":6371},{"$f":"IF(P_22号様式!V32=\"\",\"\",P_22号様式!V32)","v":0},{"$f":"IF(P_22号様式!W32=\"\",\"\",P_22号様式!W32)","v":6444}]
[{"$f":"IF(P_22号様式!C33=\"\",\"\",P_22号様式!C33)","v":"　湧水町"},null,{"$f":"IF(P_22号様式!E33=\"\",\"\",P_22号様式!E33)","v":197},{"$f":"IF(P_22号様式!F33=\"\",\"\",P_22号様式!F33)","v":5062},{"$f":"IF(P_22号様式!G33=\"\",\"\",P_22号様式!G33)","v":0},{"$f":"IF(P_22号様式!H33=\"\",\"\",P_22号様式!H33)","v":5259},{"$f":"IF(P_22号様式!J33=\"\",\"\",P_22号様式!J33)","v":160},{"$f":"IF(P_22号様式!K33=\"\",\"\",P_22号様式!K33)","v":5099},{"$f":"IF(P_22号様式!L33=\"\",\"\",P_22号様式!L33)","v":0},{"$f":"IF(P_22号様式!M33=\"\",\"\",P_22号様式!M33)","v":5259},{"$f":"IF(P_22号様式!O33=\"\",\"\",P_22号様式!O33)","v":174},{"$f":"IF(P_22号様式!P33=\"\",\"\",P_22号様式!P33)","v":5085},{"$f":"IF(P_22号様式!Q33=\"\",\"\",P_22号様式!Q33)","v":0},{"$f":"IF(P_22号様式!R33=\"\",\"\",P_22号様式!R33)","v":5259},{"$f":"IF(P_22号様式!T33=\"\",\"\",P_22号様式!T33)","v":167},{"$f":"IF(P_22号様式!U33=\"\",\"\",P_22号様式!U33)","v":5092},{"$f":"IF(P_22号様式!V33=\"\",\"\",P_22号様式!V33)","v":0},{"$f":"IF(P_22号様式!W33=\"\",\"\",P_22号様式!W33)","v":5259}]
[{"$f":"IF(P_22号様式!C34=\"\",\"\",P_22号様式!C34)","v":"＊（姶良郡）計"},null,{"$f":"IF(P_22号様式!E34=\"\",\"\",P_22号様式!E34)","v":197},{"$f":"IF(P_22号様式!F34=\"\",\"\",P_22号様式!F34)","v":5062},{"$f":"IF(P_22号様式!G34=\"\",\"\",P_22号様式!G34)","v":0},{"$f":"IF(P_22号様式!H34=\"\",\"\",P_22号様式!H34)","v":5259},{"$f":"IF(P_22号様式!J34=\"\",\"\",P_22号様式!J34)","v":160},{"$f":"IF(P_22号様式!K34=\"\",\"\",P_22号様式!K34)","v":5099},{"$f":"IF(P_22号様式!L34=\"\",\"\",P_22号様式!L34)","v":0},{"$f":"IF(P_22号様式!M34=\"\",\"\",P_22号様式!M34)","v":5259},{"$f":"IF(P_22号様式!O34=\"\",\"\",P_22号様式!O34)","v":174},{"$f":"IF(P_22号様式!P34=\"\",\"\",P_22号様式!P34)","v":5085},{"$f":"IF(P_22号様式!Q34=\"\",\"\",P_22号様式!Q34)","v":0},{"$f":"IF(P_22号様式!R34=\"\",\"\",P_22号様式!R34)","v":5259},{"$f":"IF(P_22号様式!T34=\"\",\"\",P_22号様式!T34)","v":167},{"$f":"IF(P_22号様式!U34=\"\",\"\",P_22号様式!U34)","v":5092},{"$f":"IF(P_22号様式!V34=\"\",\"\",P_22号様式!V34)","v":0},{"$f":"IF(P_22号様式!W34=\"\",\"\",P_22号様式!W34)","v":5259}]
[{"$f":"IF(P_22号様式!C35=\"\",\"\",P_22号様式!C35)","v":"　大崎町"},null,{"$f":"IF(P_22号様式!E35=\"\",\"\",P_22号様式!E35)","v":171},{"$f":"IF(P_22号様式!F35=\"\",\"\",P_22号様式!F35)","v":6162},{"$f":"IF(P_22号様式!G35=\"\",\"\",P_22号様式!G35)","v":1},{"$f":"IF(P_22号様式!H35=\"\",\"\",P_22号様式!H35)","v":6334},{"$f":"IF(P_22号様式!J35=\"\",\"\",P_22号様式!J35)","v":134},{"$f":"IF(P_22号様式!K35=\"\",\"\",P_22号様式!K35)","v":6199},{"$f":"IF(P_22号様式!L35=\"\",\"\",P_22号様式!L35)","v":1},{"$f":"IF(P_22号様式!M35=\"\",\"\",P_22号様式!M35)","v":6334},{"$f":"IF(P_22号様式!O35=\"\",\"\",P_22号様式!O35)","v":156},{"$f":"IF(P_22号様式!P35=\"\",\"\",P_22号様式!P35)","v":6177},{"$f":"IF(P_22号様式!Q35=\"\",\"\",P_22号様式!Q35)","v":1},{"$f":"IF(P_22号様式!R35=\"\",\"\",P_22号様式!R35)","v":6334},{"$f":"IF(P_22号様式!T35=\"\",\"\",P_22号様式!T35)","v":146},{"$f":"IF(P_22号様式!U35=\"\",\"\",P_22号様式!U35)","v":6187},{"$f":"IF(P_22号様式!V35=\"\",\"\",P_22号様式!V35)","v":1},{"$f":"IF(P_22号様式!W35=\"\",\"\",P_22号様式!W35)","v":6334}]
[{"$f":"IF(P_22号様式!C36=\"\",\"\",P_22号様式!C36)","v":"＊（曽於郡）計"},null,{"$f":"IF(P_22号様式!E36=\"\",\"\",P_22号様式!E36)","v":171},{"$f":"IF(P_22号様式!F36=\"\",\"\",P_22号様式!F36)","v":6162},{"$f":"IF(P_22号様式!G36=\"\",\"\",P_22号様式!G36)","v":1},{"$f":"IF(P_22号様式!H36=\"\",\"\",P_22号様式!H36)","v":6334},{"$f":"IF(P_22号様式!J36=\"\",\"\",P_22号様式!J36)","v":134},{"$f":"IF(P_22号様式!K36=\"\",\"\",P_22号様式!K36)","v":6199},{"$f":"IF(P_22号様式!L36=\"\",\"\",P_22号様式!L36)","v":1},{"$f":"IF(P_22号様式!M36=\"\",\"\",P_22号様式!M36)","v":6334},{"$f":"IF(P_22号様式!O36=\"\",\"\",P_22号様式!O36)","v":156},{"$f":"IF(P_22号様式!P36=\"\",\"\",P_22号様式!P36)","v":6177},{"$f":"IF(P_22号様式!Q36=\"\",\"\",P_22号様式!Q36)","v":1},{"$f":"IF(P_22号様式!R36=\"\",\"\",P_22号様式!R36)","v":6334},{"$f":"IF(P_22号様式!T36=\"\",\"\",P_22号様式!T36)","v":146},{"$f":"IF(P_22号様式!U36=\"\",\"\",P_22号様式!U36)","v":6187},{"$f":"IF(P_22号様式!V36=\"\",\"\",P_22号様式!V36)","v":1},{"$f":"IF(P_22号様式!W36=\"\",\"\",P_22号様式!W36)","v":6334}]
[{"$f":"IF(P_22号様式!C37=\"\",\"\",P_22号様式!C37)","v":"　東串良町"},null,{"$f":"IF(P_22号様式!E37=\"\",\"\",P_22号様式!E37)","v":107},{"$f":"IF(P_22号様式!F37=\"\",\"\",P_22号様式!F37)","v":2989},{"$f":"IF(P_22号様式!G37=\"\",\"\",P_22号様式!G37)","v":0},{"$f":"IF(P_22号様式!H37=\"\",\"\",P_22号様式!H37)","v":3096},{"$f":"IF(P_22号様式!J37=\"\",\"\",P_22号様式!J37)","v":95},{"$f":"IF(P_22号様式!K37=\"\",\"\",P_22号様式!K37)","v":3001},{"$f":"IF(P_22号様式!L37=\"\",\"\",P_22号様式!L37)","v":0},{"$f":"IF(P_22号様式!M37=\"\",\"\",P_22号様式!M37)","v":3096},{"$f":"IF(P_22号様式!O37=\"\",\"\",P_22号様式!O37)","v":105},{"$f":"IF(P_22号様式!P37=\"\",\"\",P_22号様式!P37)","v":2991},{"$f":"IF(P_22号様式!Q37=\"\",\"\",P_22号様式!Q37)","v":0},{"$f":"IF(P_22号様式!R37=\"\",\"\",P_22号様式!R37)","v":3096},{"$f":"IF(P_22号様式!T37=\"\",\"\",P_22号様式!T37)","v":95},{"$f":"IF(P_22号様式!U37=\"\",\"\",P_22号様式!U37)","v":3001},{"$f":"IF(P_22号様式!V37=\"\",\"\",P_22号様式!V37)","v":0},{"$f":"IF(P_22号様式!W37=\"\",\"\",P_22号様式!W37)","v":3096}]
[{"$f":"IF(P_22号様式!C38=\"\",\"\",P_22号様式!C38)","v":"　錦江町"},null,{"$f":"IF(P_22号様式!E38=\"\",\"\",P_22号様式!E38)","v":116},{"$f":"IF(P_22号様式!F38=\"\",\"\",P_22号様式!F38)","v":4118},{"$f":"IF(P_22号様式!G38=\"\",\"\",P_22号様式!G38)","v":0},{"$f":"IF(P_22号様式!H38=\"\",\"\",P_22号様式!H38)","v":4234},{"$f":"IF(P_22号様式!J38=\"\",\"\",P_22号様式!J38)","v":101},{"$f":"IF(P_22号様式!K38=\"\",\"\",P_22号様式!K38)","v":4133},{"$f":"IF(P_22号様式!L38=\"\",\"\",P_22号様式!L38)","v":0},{"$f":"IF(P_22号様式!M38=\"\",\"\",P_22号様式!M38)","v":4234},{"$f":"IF(P_22号様式!O38=\"\",\"\",P_22号様式!O38)","v":108},{"$f":"IF(P_22号様式!P38=\"\",\"\",P_22号様式!P38)","v":4126},{"$f":"IF(P_22号様式!Q38=\"\",\"\",P_22号様式!Q38)","v":0},{"$f":"IF(P_22号様式!R38=\"\",\"\",P_22号様式!R38)","v":4234},{"$f":"IF(P_22号様式!T38=\"\",\"\",P_22号様式!T38)","v":102},{"$f":"IF(P_22号様式!U38=\"\",\"\",P_22号様式!U38)","v":4132},{"$f":"IF(P_22号様式!V38=\"\",\"\",P_22号様式!V38)","v":0},{"$f":"IF(P_22号様式!W38=\"\",\"\",P_22号様式!W38)","v":4234}]
[{"$f":"IF(P_22号様式!C39=\"\",\"\",P_22号様式!C39)","v":"　南大隅町"},null,{"$f":"IF(P_22号様式!E39=\"\",\"\",P_22号様式!E39)","v":137},{"$f":"IF(P_22号様式!F39=\"\",\"\",P_22号様式!F39)","v":4135},{"$f":"IF(P_22号様式!G39=\"\",\"\",P_22号様式!G39)","v":0},{"$f":"IF(P_22号様式!H39=\"\",\"\",P_22号様式!H39)","v":4272},{"$f":"IF(P_22号様式!J39=\"\",\"\",P_22号様式!J39)","v":125},{"$f":"IF(P_22号様式!K39=\"\",\"\",P_22号様式!K39)","v":4147},{"$f":"IF(P_22号様式!L39=\"\",\"\",P_22号様式!L39)","v":0},{"$f":"IF(P_22号様式!M39=\"\",\"\",P_22号様式!M39)","v":4272},{"$f":"IF(P_22号様式!O39=\"\",\"\",P_22号様式!O39)","v":116},{"$f":"IF(P_22号様式!P39=\"\",\"\",P_22号様式!P39)","v":4156},{"$f":"IF(P_22号様式!Q39=\"\",\"\",P_22号様式!Q39)","v":0},{"$f":"IF(P_22号様式!R39=\"\",\"\",P_22号様式!R39)","v":4272},{"$f":"IF(P_22号様式!T39=\"\",\"\",P_22号様式!T39)","v":126},{"$f":"IF(P_22号様式!U39=\"\",\"\",P_22号様式!U39)","v":4146},{"$f":"IF(P_22号様式!V39=\"\",\"\",P_22号様式!V39)","v":0},{"$f":"IF(P_22号様式!W39=\"\",\"\",P_22号様式!W39)","v":4272}]
[{"$f":"IF(P_22号様式!C40=\"\",\"\",P_22号様式!C40)","v":"　肝付町"},null,{"$f":"IF(P_22号様式!E40=\"\",\"\",P_22号様式!E40)","v":297},{"$f":"IF(P_22号様式!F40=\"\",\"\",P_22号様式!F40)","v":7112},{"$f":"IF(P_22号様式!G40=\"\",\"\",P_22号様式!G40)","v":0},{"$f":"IF(P_22号様式!H40=\"\",\"\",P_22号様式!H40)","v":7409},{"$f":"IF(P_22号様式!J40=\"\",\"\",P_22号様式!J40)","v":235},{"$f":"IF(P_22号様式!K40=\"\",\"\",P_22号様式!K40)","v":7174},{"$f":"IF(P_22号様式!L40=\"\",\"\",P_22号様式!L40)","v":0},{"$f":"IF(P_22号様式!M40=\"\",\"\",P_22号様式!M40)","v":7409},{"$f":"IF(P_22号様式!O40=\"\",\"\",P_22号様式!O40)","v":233},{"$f":"IF(P_22号様式!P40=\"\",\"\",P_22号様式!P40)","v":7176},{"$f":"IF(P_22号様式!Q40=\"\",\"\",P_22号様式!Q40)","v":0},{"$f":"IF(P_22号様式!R40=\"\",\"\",P_22号様式!R40)","v":7409},{"$f":"IF(P_22号様式!T40=\"\",\"\",P_22号様式!T40)","v":239},{"$f":"IF(P_22号様式!U40=\"\",\"\",P_22号様式!U40)","v":7170},{"$f":"IF(P_22号様式!V40=\"\",\"\",P_22号様式!V40)","v":0},{"$f":"IF(P_22号様式!W40=\"\",\"\",P_22号様式!W40)","v":7409}]
[{"$f":"IF(P_22号様式!C41=\"\",\"\",P_22号様式!C41)","v":"＊（肝属郡）計"},null,{"$f":"IF(P_22号様式!E41=\"\",\"\",P_22号様式!E41)","v":657},{"$f":"IF(P_22号様式!F41=\"\",\"\",P_22号様式!F41)","v":18354},{"$f":"IF(P_22号様式!G41=\"\",\"\",P_22号様式!G41)","v":0},{"$f":"IF(P_22号様式!H41=\"\",\"\",P_22号様式!H41)","v":19011},{"$f":"IF(P_22号様式!J41=\"\",\"\",P_22号様式!J41)","v":556},{"$f":"IF(P_22号様式!K41=\"\",\"\",P_22号様式!K41)","v":18455},{"$f":"IF(P_22号様式!L41=\"\",\"\",P_22号様式!L41)","v":0},{"$f":"IF(P_22号様式!M41=\"\",\"\",P_22号様式!M41)","v":19011},{"$f":"IF(P_22号様式!O41=\"\",\"\",P_22号様式!O41)","v":562},{"$f":"IF(P_22号様式!P41=\"\",\"\",P_22号様式!P41)","v":18449},{"$f":"IF(P_22号様式!Q41=\"\",\"\",P_22号様式!Q41)","v":0},{"$f":"IF(P_22号様式!R41=\"\",\"\",P_22号様式!R41)","v":19011},{"$f":"IF(P_22号様式!T41=\"\",\"\",P_22号様式!T41)","v":562},{"$f":"IF(P_22号様式!U41=\"\",\"\",P_22号様式!U41)","v":18449},{"$f":"IF(P_22号様式!V41=\"\",\"\",P_22号様式!V41)","v":0},{"$f":"IF(P_22号様式!W41=\"\",\"\",P_22号様式!W41)","v":19011}]
[{"$f":"IF(P_22号様式!C42=\"\",\"\",P_22号様式!C42)","v":"　中種子町"},null,{"$f":"IF(P_22号様式!E42=\"\",\"\",P_22号様式!E42)","v":188},{"$f":"IF(P_22号様式!F42=\"\",\"\",P_22号様式!F42)","v":3993},{"$f":"IF(P_22号様式!G42=\"\",\"\",P_22号様式!G42)","v":0},{"$f":"IF(P_22号様式!H42=\"\",\"\",P_22号様式!H42)","v":4181},{"$f":"IF(P_22号様式!J42=\"\",\"\",P_22号様式!J42)","v":143},{"$f":"IF(P_22号様式!K42=\"\",\"\",P_22号様式!K42)","v":4038},{"$f":"IF(P_22号様式!L42=\"\",\"\",P_22号様式!L42)","v":0},{"$f":"IF(P_22号様式!M42=\"\",\"\",P_22号様式!M42)","v":4181},{"$f":"IF(P_22号様式!O42=\"\",\"\",P_22号様式!O42)","v":158},{"$f":"IF(P_22号様式!P42=\"\",\"\",P_22号様式!P42)","v":4023},{"$f":"IF(P_22号様式!Q42=\"\",\"\",P_22号様式!Q42)","v":0},{"$f":"IF(P_22号様式!R42=\"\",\"\",P_22号様式!R42)","v":4181},{"$f":"IF(P_22号様式!T42=\"\",\"\",P_22号様式!T42)","v":149},{"$f":"IF(P_22号様式!U42=\"\",\"\",P_22号様式!U42)","v":4032},{"$f":"IF(P_22号様式!V42=\"\",\"\",P_22号様式!V42)","v":0},{"$f":"IF(P_22号様式!W42=\"\",\"\",P_22号様式!W42)","v":4181}]
[{"$f":"IF(P_22号様式!C43=\"\",\"\",P_22号様式!C43)","v":"　南種子町"},null,{"$f":"IF(P_22号様式!E43=\"\",\"\",P_22号様式!E43)","v":168},{"$f":"IF(P_22号様式!F43=\"\",\"\",P_22号様式!F43)","v":2673},{"$f":"IF(P_22号様式!G43=\"\",\"\",P_22号様式!G43)","v":0},{"$f":"IF(P_22号様式!H43=\"\",\"\",P_22号様式!H43)","v":2841},{"$f":"IF(P_22号様式!J43=\"\",\"\",P_22号様式!J43)","v":142},{"$f":"IF(P_22号様式!K43=\"\",\"\",P_22号様式!K43)","v":2699},{"$f":"IF(P_22号様式!L43=\"\",\"\",P_22号様式!L43)","v":0},{"$f":"IF(P_22号様式!M43=\"\",\"\",P_22号様式!M43)","v":2841},{"$f":"IF(P_22号様式!O43=\"\",\"\",P_22号様式!O43)","v":157},{"$f":"IF(P_22号様式!P43=\"\",\"\",P_22号様式!P43)","v":2684},{"$f":"IF(P_22号様式!Q43=\"\",\"\",P_22号様式!Q43)","v":0},{"$f":"IF(P_22号様式!R43=\"\",\"\",P_22号様式!R43)","v":2841},{"$f":"IF(P_22号様式!T43=\"\",\"\",P_22号様式!T43)","v":151},{"$f":"IF(P_22号様式!U43=\"\",\"\",P_22号様式!U43)","v":2690},{"$f":"IF(P_22号様式!V43=\"\",\"\",P_22号様式!V43)","v":0},{"$f":"IF(P_22号様式!W43=\"\",\"\",P_22号様式!W43)","v":2841}]
[{"$f":"IF(P_22号様式!C44=\"\",\"\",P_22号様式!C44)","v":"　屋久島町"},null,{"$f":"IF(P_22号様式!E44=\"\",\"\",P_22号様式!E44)","v":404},{"$f":"IF(P_22号様式!F44=\"\",\"\",P_22号様式!F44)","v":5906},{"$f":"IF(P_22号様式!G44=\"\",\"\",P_22号様式!G44)","v":0},{"$f":"IF(P_22号様式!H44=\"\",\"\",P_22号様式!H44)","v":6310},{"$f":"IF(P_22号様式!J44=\"\",\"\",P_22号様式!J44)","v":367},{"$f":"IF(P_22号様式!K44=\"\",\"\",P_22号様式!K44)","v":5943},{"$f":"IF(P_22号様式!L44=\"\",\"\",P_22号様式!L44)","v":0},{"$f":"IF(P_22号様式!M44=\"\",\"\",P_22号様式!M44)","v":6310},{"$f":"IF(P_22号様式!O44=\"\",\"\",P_22号様式!O44)","v":379},{"$f":"IF(P_22号様式!P44=\"\",\"\",P_22号様式!P44)","v":5931},{"$f":"IF(P_22号様式!Q44=\"\",\"\",P_22号様式!Q44)","v":0},{"$f":"IF(P_22号様式!R44=\"\",\"\",P_22号様式!R44)","v":6310},{"$f":"IF(P_22号様式!T44=\"\",\"\",P_22号様式!T44)","v":375},{"$f":"IF(P_22号様式!U44=\"\",\"\",P_22号様式!U44)","v":5935},{"$f":"IF(P_22号様式!V44=\"\",\"\",P_22号様式!V44)","v":0},{"$f":"IF(P_22号様式!W44=\"\",\"\",P_22号様式!W44)","v":6310}]
[]
["市　計",null,{"$f":"IF(P_22号様式!X2=\"\",\"\",P_22号様式!X2)","v":36015},{"$f":"IF(P_22号様式!Y2=\"\",\"\",P_22号様式!Y2)","v":599123},{"$f":"IF(P_22号様式!Z2=\"\",\"\",P_22号様式!Z2)","v":1},{"$f":"IF(P_22号様式!AA2=\"\",\"\",P_22号様式!AA2)","v":635139},{"$f":"IF(P_22号様式!AB2=\"\",\"\",P_22号様式!AB2)","v":31821},{"$f":"IF(P_22号様式!AC2=\"\",\"\",P_22号様式!AC2)","v":603318},{"$f":"IF(P_22号様式!AD2=\"\",\"\",P_22号様式!AD2)","v":0},{"$f":"IF(P_22号様式!AE2=\"\",\"\",P_22号様式!AE2)","v":635139},{"$f":"IF(P_22号様式!AF2=\"\",\"\",P_22号様式!AF2)","v":32776},{"$f":"IF(P_22号様式!AG2=\"\",\"\",P_22号様式!AG2)","v":602362},{"$f":"IF(P_22号様式!AH2=\"\",\"\",P_22号様式!AH2)","v":1},{"$f":"IF(P_22号様式!AI2=\"\",\"\",P_22号様式!AI2)","v":635139},{"$f":"IF(P_22号様式!AJ2=\"\",\"\",P_22号様式!AJ2)","v":33045},{"$f":"IF(P_22号様式!AK2=\"\",\"\",P_22号様式!AK2)","v":602094},{"$f":"IF(P_22号様式!AL2=\"\",\"\",P_22号様式!AL2)","v":0},{"$f":"IF(P_22号様式!AM2=\"\",\"\",P_22号様式!AM2)","v":635139}]
["町村計",null,{"$f":"IF(P_22号様式!AN2=\"\",\"\",P_22号様式!AN2)","v":3415},{"$f":"IF(P_22号様式!AO2=\"\",\"\",P_22号様式!AO2)","v":100563},{"$f":"IF(P_22号様式!AP2=\"\",\"\",P_22号様式!AP2)","v":1},{"$f":"IF(P_22号様式!AQ2=\"\",\"\",P_22号様式!AQ2)","v":103979},{"$f":"IF(P_22号様式!AR2=\"\",\"\",P_22号様式!AR2)","v":2859},{"$f":"IF(P_22号様式!AS2=\"\",\"\",P_22号様式!AS2)","v":101119},{"$f":"IF(P_22号様式!AT2=\"\",\"\",P_22号様式!AT2)","v":1},{"$f":"IF(P_22号様式!AU2=\"\",\"\",P_22号様式!AU2)","v":103979},{"$f":"IF(P_22号様式!AV2=\"\",\"\",P_22号様式!AV2)","v":2993},{"$f":"IF(P_22号様式!AW2=\"\",\"\",P_22号様式!AW2)","v":100985},{"$f":"IF(P_22号様式!AX2=\"\",\"\",P_22号様式!AX2)","v":1},{"$f":"IF(P_22号様式!AY2=\"\",\"\",P_22号様式!AY2)","v":103979},{"$f":"IF(P_22号様式!AZ2=\"\",\"\",P_22号様式!AZ2)","v":2956},{"$f":"IF(P_22号様式!BA2=\"\",\"\",P_22号様式!BA2)","v":101022},{"$f":"IF(P_22号様式!BB2=\"\",\"\",P_22号様式!BB2)","v":1},{"$f":"IF(P_22号様式!BC2=\"\",\"\",P_22号様式!BC2)","v":103979}]
["県計",null,{"$f":"IF(P_22号様式!BD2=\"\",\"\",P_22号様式!BD2)","v":39430},{"$f":"IF(P_22号様式!BE2=\"\",\"\",P_22号様式!BE2)","v":699686},{"$f":"IF(P_22号様式!BF2=\"\",\"\",P_22号様式!BF2)","v":2},{"$f":"IF(P_22号様式!BG2=\"\",\"\",P_22号様式!BG2)","v":739118},{"$f":"IF(P_22号様式!BH2=\"\",\"\",P_22号様式!BH2)","v":34680},{"$f":"IF(P_22号様式!BI2=\"\",\"\",P_22号様式!BI2)","v":704437},{"$f":"IF(P_22号様式!BJ2=\"\",\"\",P_22号様式!BJ2)","v":1},{"$f":"IF(P_22号様式!BK2=\"\",\"\",P_22号様式!BK2)","v":739118},{"$f":"IF(P_22号様式!BL2=\"\",\"\",P_22号様式!BL2)","v":35769},{"$f":"IF(P_22号様式!BM2=\"\",\"\",P_22号様式!BM2)","v":703347},{"$f":"IF(P_22号様式!BN2=\"\",\"\",P_22号様式!BN2)","v":2},{"$f":"IF(P_22号様式!BO2=\"\",\"\",P_22号様式!BO2)","v":739118},{"$f":"IF(P_22号様式!BP2=\"\",\"\",P_22号様式!BP2)","v":36001},{"$f":"IF(P_22号様式!BQ2=\"\",\"\",P_22号様式!BQ2)","v":703116},{"$f":"IF(P_22号様式!BR2=\"\",\"\",P_22号様式!BR2)","v":1},{"$f":"IF(P_22号様式!BS2=\"\",\"\",P_22号様式!BS2)","v":739118}]
[null,null,null,null,null,null,null,null,null,null,null,null,null,null,null,null,{"$f":"IF(P_22号様式!A45=\"\",\" ページ\", P_22号様式!A45 & \"ページ\")","v":"2ページ"}]
["第22号様式",null,null,null,null,null,null,"開　票　速  報"]
[]
[null,{"$f":"IF(パラメタシート!B1=\"\",\"\",パラメタシート!B1)","v":"2017-10-22"}]
[null,"最高裁判所裁判官国民審査",null,null,null,null,null,null,null,null,null,null,null,{"$f":"IF(P_22号様式!BT45=\"0\",\"即日 開票  中間報告\",\"翌日 開票  中間報告\")","v":"即日 開票  中間報告"},null,{"$f":"IF(P_22号様式!BU45=\"\",\"     時     分\",P_22号様式!BU45)","v":"     時     分"}]
[null,null,null,null,null,null,null,null,null,null,null,null,null,"開票  結了報告",null,{"$f":"IF(P_22号様式!BV45=\"\",\"     時     分\",P_22号様式!BV45)","v":"01:25:00"},null,"鹿児島県"]
["市区町村名",null,{"$f":"IF(P_22号様式!D45=\"\",\"\",P_22号様式!D45)","v":"大谷　直人"},null,null,null,{"$f":"IF(P_22号様式!I45=\"\",\"\",P_22号様式!I45)","v":"木澤　克之"},null,null,null,{"$f":"IF(P_22号様式!N45=\"\",\"\",P_22号様式!N45)","v":"林　景一"},null,null,null,{"$f":"IF(P_22号様式!S45=\"\",\"\",P_22号様式!S45)","v":""}]
[null,null,"罷免を可と","罷免を可と","記載無効","計","罷免を可と","罷免を可と","記載無効","計","罷免を可と","罷免を可と","記載無効","計","罷免を可と","罷免を可と","記載無効","計"]
[null,null,"する投票","しない投票",null,null,"する投票","しない投票",null,null,"する投票","しない投票",null,null,"する投票","しない投票"]
[{"$f":"IF(P_22号様式!C45=\"\",\"\",P_22号様式!C45)","v":"　鹿児島市１区"},null,{"$f":"IF(P_22号様式!E45=\"\",\"\",P_22号様式!E45)","v":10687},{"$f":"IF(P_22号様式!F45=\"\",\"\",P_22号様式!F45)","v":162073},{"$f":"IF(P_22号様式!G45=\"\",\"\",P_22号様式!G45)","v":0},{"$f":"IF(P_22号様式!H45=\"\",\"\",P_22号様式!H45)","v":172760},{"$f":"IF(P_22号様式!J45=\"\",\"\",P_22号様式!J45)","v":10786},{"$f":"IF(P_22号様式!K45=\"\",\"\",P_22号様式!K45)","v":161974},{"$f":"IF(P_22号様式!L45=\"\",\"\",P_22号様式!L45)","v":0},{"$f":"IF(P_22号様式!M45=\"\",\"\",P_22号様式!M45)","v":172760},{"$f":"IF(P_22号様式!O45=\"\",\"\",P_22号様式!O45)","v":10205},{"$f":"IF(P_22号様式!P45=\"\",\"\",P_22号様式!P45)","v":162555},{"$f":"IF(P_22号様式!Q45=\"\",\"\",P_22号様式!Q45)","v":0},{"$f":"IF(P_22号様式!R45=\"\",\"\",P_22号様式!R45)","v":172760},{"$f":"IF(P_22号様式!T45=\"\",\"\",P_22号様式!T45)","v":""},{"$f":"IF(P_22号様式!U45=\"\",\"\",P_22号様式!U45)","v":""},{"$f":"IF(P_22号様式!V45=\"\",\"\",P_22号様式!V45)","v":""},{"$f":"IF(P_22号様式!W45=\"\",\"\",P_22号様式!W45)","v":""}]
[{"$f":"IF(P_22号様式!C46=\"\",\"\",P_22号様式!C46)","v":"　鹿児島市２区"},null,{"$f":"IF(P_22号様式!E46=\"\",\"\",P_22号様式!E46)","v":4977},{"$f":"IF(P_22号様式!F46=\"\",\"\",P_22号様式!F46)","v":58378},{"$f":"IF(P_22号様式!G46=\"\",\"\",P_22号様式!G46)","v":0},{"$f":"IF(P_22号様式!H46=\"\",\"\",P_22号様式!H46)","v":63355},{"$f":"IF(P_22号様式!J46=\"\",\"\",P_22号様式!J46)","v":4874},{"$f":"IF(P_22号様式!K46=\"\",\"\",P_22号様式!K46)","v":58481},{"$f":"IF(P_22号様式!L46=\"\",\"\",P_22号様式!L46)","v":0},{"$f":"IF(P_22号様式!M46=\"\",\"\",P_22号様式!M46)","v":63355},{"$f":"IF(P_22号様式!O46=\"\",\"\",P_22号様式!O46)","v":4710},{"$f":"IF(P_22号様式!P46=\"\",\"\",P_22号様式!P46)","v":58645},{"$f":"IF(P_22号様式!Q46=\"\",\"\",P_22号様式!Q46)","v":0},{"$f":"IF(P_22号様式!R46=\"\",\"\",P_22号様式!R46)","v":63355},{"$f":"IF(P_22号様式!T46=\"\",\"\",P_22号様式!T46)","v":""},{"$f":"IF(P_22号様式!U46=\"\",\"\",P_22号様式!U46)","v":""},{"$f":"IF(P_22号様式!V46=\"\",\"\",P_22号様式!V46)","v":""},{"$f":"IF(P_22号様式!W46=\"\",\"\",P_22号様式!W46)","v":""}]
[{"$f":"IF(P_22号様式!C47=\"\",\"\",P_22号様式!C47)","v":"＊（鹿児島市）計"},null,{"$f":"IF(P_22号様式!E47=\"\",\"\",P_22号様式!E47)","v":15664},{"$f":"IF(P_22号様式!F47=\"\",\"\",P_22号様式!F47)","v":220451},{"$f":"IF(P_22号様式!G47=\"\",\"\",P_22号様式!G47)","v":0},{"$f":"IF(P_22号様式!H47=\"\",\"\",P_22号様式!H47)","v":236115},{"$f":"IF(P_22号様式!J47=\"\",\"\",P_22号様式!J47)","v":15660},{"$f":"IF(P_22号様式!K47=\"\",\"\",P_22号様式!K47)","v":220455},{"$f":"IF(P_22号様式!L47=\"\",\"\",P_22号様式!L47)","v":0},{"$f":"IF(P_22号様式!M47=\"\",\"\",P_22号様式!M47)","v":236115},{"$f":"IF(P_22号様式!O47=\"\",\"\",P_22号様式!O47)","v":14915},{"$f":"IF(P_22号様式!P47=\"\",\"\",P_22号様式!P47)","v":221200},{"$f":"IF(P_22号様式!Q47=\"\",\"\",P_22号様式!Q47)","v":0},{"$f":"IF(P_22号様式!R47=\"\",\"\",P_22号様式!R47)","v":236115},{"$f":"IF(P_22号様式!T47=\"\",\"\",P_22号様式!T47)","v":""},{"$f":"IF(P_22号様式!U47=\"\",\"\",P_22号様式!U47)","v":""},{"$f":"IF(P_22号様式!V47=\"\",\"\",P_22号様式!V47)","v":""},{"$f":"IF(P_22号様式!W47=\"\",\"\",P_22号様式!W47)","v":""}]
[{"$f":"IF(P_22号様式!C48=\"\",\"\",P_22号様式!C48)","v":"　鹿屋市"},null,{"$f":"IF(P_22号様式!E48=\"\",\"\",P_22号様式!E48)","v":1868},{"$f":"IF(P_22号様式!F48=\"\",\"\",P_22号様式!F48)","v":39256},{"$f":"IF(P_22号様式!G48=\"\",\"\",P_22号様式!G48)","v":0},{"$f":"IF(P_22号様式!H48=\"\",\"\",P_22号様式!H48)","v":41124},{"$f":"IF(P_22号様式!J48=\"\",\"\",P_22号様式!J48)","v":1823},{"$f":"IF(P_22号様式!K48=\"\",\"\",P_22号様式!K48)","v":39301},{"$f":"IF(P_22号様式!L48=\"\",\"\",P_22号様式!L48)","v":0},{"$f":"IF(P_22号様式!M48=\"\",\"\",P_22号様式!M48)","v":41124},{"$f":"IF(P_22号様式!O48=\"\",\"\",P_22号様式!O48)","v":1716},{"$f":"IF(P_22号様式!P48=\"\",\"\",P_22号様式!P48)","v":39408},{"$f":"IF(P_22号様式!Q48=\"\",\"\",P_22号様式!Q48)","v":0},{"$f":"IF(P_22号様式!R48=\"\",\"\",P_22号様式!R48)","v":41124},{"$f":"IF(P_22号様式!T48=\"\",\"\",P_22号様式!T48)","v":""},{"$f":"IF(P_22号様式!U48=\"\",\"\",P_22号様式!U48)","v":""},{"$f":"IF(P_22号様式!V48=\"\",\"\",P_22号様式!V48)","v":""},{"$f":"IF(P_22号様式!W48=\"\",\"\",P_22号様式!W48)","v":""}]
[{"$f":"IF(P_22号様式!C49=\"\",\"\",P_22号様式!C49)","v":"　枕崎市"},null,{"$f":"IF(P_22号様式!E49=\"\",\"\",P_22号様式!E49)","v":362},{"$f":"IF(P_22号様式!F49=\"\",\"\",P_22号様式!F49)","v":9049},{"$f":"IF(P_22号様式!G49=\"\",\"\",P_22号様式!G49)","v":0},{"$f":"IF(P_22号様式!H49=\"\",\"\",P_22号様式!H49)","v":9411},{"$f":"IF(P_22号様式!J49=\"\",\"\",P_22号様式!J49)","v":358},{"$f":"IF(P_22号様式!K49=\"\",\"\",P_22号様式!K49)","v":9053},{"$f":"IF(P_22号様式!L49=\"\",\"\",P_22号様式!L49)","v":0},{"$f":"IF(P_22号様式!M49=\"\",\"\",P_22号様式!M49)","v":9411},{"$f":"IF(P_22号様式!O49=\"\",\"\",P_22号様式!O49)","v":356},{"$f":"IF(P_22号様式!P49=\"\",\"\",P_22号様式!P49)","v":9055},{"$f":"IF(P_22号様式!Q49=\"\",\"\",P_22号様式!Q49)","v":0},{"$f":"IF(P_22号様式!R49=\"\",\"\",P_22号様式!R49)","v":9411},{"$f":"IF(P_22号様式!T49=\"\",\"\",P_22号様式!T49)","v":""},{"$f":"IF(P_22号様式!U49=\"\",\"\",P_22号様式!U49)","v":""},{"$f":"IF(P_22号様式!V49=\"\",\"\",P_22号様式!V49)","v":""},{"$f":"IF(P_22号様式!W49=\"\",\"\",P_22号様式!W49)","v":""}]
[{"$f":"IF(P_22号様式!C50=\"\",\"\",P_22号様式!C50)","v":"　阿久根市"},null,{"$f":"IF(P_22号様式!E50=\"\",\"\",P_22号様式!E50)","v":380},{"$f":"IF(P_22号様式!F50=\"\",\"\",P_22号様式!F50)","v":10883},{"$f":"IF(P_22号様式!G50=\"\",\"\",P_22号様式!G50)","v":0},{"$f":"IF(P_22号様式!H50=\"\",\"\",P_22号様式!H50)","v":11263},{"$f":"IF(P_22号様式!J50=\"\",\"\",P_22号様式!J50)","v":391},{"$f":"IF(P_22号様式!K50=\"\",\"\",P_22号様式!K50)","v":10872},{"$f":"IF(P_22号様式!L50=\"\",\"\",P_22号様式!L50)","v":0},{"$f":"IF(P_22号様式!M50=\"\",\"\",P_22号様式!M50)","v":11263},{"$f":"IF(P_22号様式!O50=\"\",\"\",P_22号様式!O50)","v":370},{"$f":"IF(P_22号様式!P50=\"\",\"\",P_22号様式!P50)","v":10893},{"$f":"IF(P_22号様式!Q50=\"\",\"\",P_22号様式!Q50)","v":0},{"$f":"IF(P_22号様式!R50=\"\",\"\",P_22号様式!R50)","v":11263},{"$f":"IF(P_22号様式!T50=\"\",\"\",P_22号様式!T50)","v":""},{"$f":"IF(P_22号様式!U50=\"\",\"\",P_22号様式!U50)","v":""},{"$f":"IF(P_22号様式!V50=\"\",\"\",P_22号様式!V50)","v":""},{"$f":"IF(P_22号様式!W50=\"\",\"\",P_22号様式!W50)","v":""}]
[{"$f":"IF(P_22号様式!C51=\"\",\"\",P_22号様式!C51)","v":"　出水市"},null,{"$f":"IF(P_22号様式!E51=\"\",\"\",P_22号様式!E51)","v":829},{"$f":"IF(P_22号様式!F51=\"\",\"\",P_22号様式!F51)","v":24576},{"$f":"IF(P_22号様式!G51=\"\",\"\",P_22号様式!G51)","v":0},{"$f":"IF(P_22号様式!H51=\"\",\"\",P_22号様式!H51)","v":25405},{"$f":"IF(P_22号様式!J51=\"\",\"\",P_22号様式!J51)","v":825},{"$f":"IF(P_22号様式!K51=\"\",\"\",P_22号様式!K51)","v":24580},{"$f":"IF(P_22号様式!L51=\"\",\"\",P_22号様式!L51)","v":0},{"$f":"IF(P_22号様式!M51=\"\",\"\",P_22号様式!M51)","v":25405},{"$f":"IF(P_22号様式!O51=\"\",\"\",P_22号様式!O51)","v":752},{"$f":"IF(P_22号様式!P51=\"\",\"\",P_22号様式!P51)","v":24653},{"$f":"IF(P_22号様式!Q51=\"\",\"\",P_22号様式!Q51)","v":0},{"$f":"IF(P_22号様式!R51=\"\",\"\",P_22号様式!R51)","v":25405},{"$f":"IF(P_22号様式!T51=\"\",\"\",P_22号様式!T51)","v":""},{"$f":"IF(P_22号様式!U51=\"\",\"\",P_22号様式!U51)","v":""},{"$f":"IF(P_22号様式!V51=\"\",\"\",P_22号様式!V51)","v":""},{"$f":"IF(P_22号様式!W51=\"\",\"\",P_22号様式!W51)","v":""}]
[{"$f":"IF(P_22号様式!C52=\"\",\"\",P_22号様式!C52)","v":"　指宿市"},null,{"$f":"IF(P_22号様式!E52=\"\",\"\",P_22号様式!E52)","v":544},{"$f":"IF(P_22号様式!F52=\"\",\"\",P_22号様式!F52)","v":18200},{"$f":"IF(P_22号様式!G52=\"\",\"\",P_22号様式!G52)","v":0},{"$f":"IF(P_22号様式!H52=\"\",\"\",P_22号様式!H52)","v":18744},{"$f":"IF(P_22号様式!J52=\"\",\"\",P_22号様式!J52)","v":536},{"$f":"IF(P_22号様式!K52=\"\",\"\",P_22号様式!K52)","v":18208},{"$f":"IF(P_22号様式!L52=\"\",\"\",P_22号様式!L52)","v":0},{"$f":"IF(P_22号様式!M52=\"\",\"\",P_22号様式!M52)","v":18744},{"$f":"IF(P_22号様式!O52=\"\",\"\",P_22号様式!O52)","v":486},{"$f":"IF(P_22号様式!P52=\"\",\"\",P_22号様式!P52)","v":18258},{"$f":"IF(P_22号様式!Q52=\"\",\"\",P_22号様式!Q52)","v":0},{"$f":"IF(P_22号様式!R52=\"\",\"\",P_22号様式!R52)","v":18744},{"$f":"IF(P_22号様式!T52=\"\",\"\",P_22号様式!T52)","v":""},{"$f":"IF(P_22号様式!U52=\"\",\"\",P_22号様式!U52)","v":""},{"$f":"IF(P_22号様式!V52=\"\",\"\",P_22号様式!V52)","v":""},{"$f":"IF(P_22号様式!W52=\"\",\"\",P_22号様式!W52)","v":""}]
[{"$f":"IF(P_22号様式!C53=\"\",\"\",P_22号様式!C53)","v":"　西之表市"},null,{"$f":"IF(P_22号様式!E53=\"\",\"\",P_22号様式!E53)","v":272},{"$f":"IF(P_22号様式!F53=\"\",\"\",P_22号様式!F53)","v":6709},{"$f":"IF(P_22号様式!G53=\"\",\"\",P_22号様式!G53)","v":0},{"$f":"IF(P_22号様式!H53=\"\",\"\",P_22号様式!H53)","v":6981},{"$f":"IF(P_22号様式!J53=\"\",\"\",P_22号様式!J53)","v":268},{"$f":"IF(P_22号様式!K53=\"\",\"\",P_22号様式!K53)","v":6713},{"$f":"IF(P_22号様式!L53=\"\",\"\",P_22号様式!L53)","v":0},{"$f":"IF(P_22号様式!M53=\"\",\"\",P_22号様式!M53)","v":6981},{"$f":"IF(P_22号様式!O53=\"\",\"\",P_22号様式!O53)","v":238},{"$f":"IF(P_22号様式!P53=\"\",\"\",P_22号様式!P53)","v":6743},{"$f":"IF(P_22号様式!Q53=\"\",\"\",P_22号様式!Q53)","v":0},{"$f":"IF(P_22号様式!R53=\"\",\"\",P_22号様式!R53)","v":6981},{"$f":"IF(P_22号様式!T53=\"\",\"\",P_22号様式!T53)","v":""},{"$f":"IF(P_22号様式!U53=\"\",\"\",P_22号様式!U53)","v":""},{"$f":"IF(P_22号様式!V53=\"\",\"\",P_22号様式!V53)","v":""},{"$f":"IF(P_22号様式!W53=\"\",\"\",P_22号様式!W53)","v":""}]
[{"$f":"IF(P_22号様式!C54=\"\",\"\",P_22号様式!C54)","v":"　垂水市"},null,{"$f":"IF(P_22号様式!E54=\"\",\"\",P_22号様式!E54)","v":238},{"$f":"IF(P_22号様式!F54=\"\",\"\",P_22号様式!F54)","v":7412},{"$f":"IF(P_22号様式!G54=\"\",\"\",P_22号様式!G54)","v":0},{"$f":"IF(P_22号様式!H54=\"\",\"\",P_22号様式!H54)","v":7650},{"$f":"IF(P_22号様式!J54=\"\",\"\",P_22号様式!J54)","v":237},{"$f":"IF(P_22号様式!K54=\"\",\"\",P_22号様式!K54)","v":7413},{"$f":"IF(P_22号様式!L54=\"\",\"\",P_22号様式!L54)","v":0},{"$f":"IF(P_22号様式!M54=\"\",\"\",P_22号様式!M54)","v":7650},{"$f":"IF(P_22号様式!O54=\"\",\"\",P_22号様式!O54)","v":228},{"$f":"IF(P_22号様式!P54=\"\",\"\",P_22号様式!P54)","v":7422},{"$f":"IF(P_22号様式!Q54=\"\",\"\",P_22号様式!Q54)","v":0},{"$f":"IF(P_22号様式!R54=\"\",\"\",P_22号様式!R54)","v":7650},{"$f":"IF(P_22号様式!T54=\"\",\"\",P_22号様式!T54)","v":""},{"$f":"IF(P_22号様式!U54=\"\",\"\",P_22号様式!U54)","v":""},{"$f":"IF(P_22号様式!V54=\"\",\"\",P_22号様式!V54)","v":""},{"$f":"IF(P_22号様式!W54=\"\",\"\",P_22号様式!W54)","v":""}]
[{"$f":"IF(P_22号様式!C55=\"\",\"\",P_22号様式!C55)","v":"　薩摩川内市第１"},null,{"$f":"IF(P_22号様式!E55=\"\",\"\",P_22号様式!E55)","v":1589},{"$f":"IF(P_22号様式!F55=\"\",\"\",P_22号様式!F55)","v":43589},{"$f":"IF(P_22号様式!G55=\"\",\"\",P_22号様式!G55)","v":0},{"$f":"IF(P_22号様式!H55=\"\",\"\",P_22号様式!H55)","v":45178},{"$f":"IF(P_22号様式!J55=\"\",\"\",P_22号様式!J55)","v":1568},{"$f":"IF(P_22号様式!K55=\"\",\"\",P_22号様式!K55)","v":43610},{"$f":"IF(P_22号様式!L55=\"\",\"\",P_22号様式!L55)","v":0},{"$f":"IF(P_22号様式!M55=\"\",\"\",P_22号様式!M55)","v":45178},{"$f":"IF(P_22号様式!O55=\"\",\"\",P_22号様式!O55)","v":1475},{"$f":"IF(P_22号様式!P55=\"\",\"\",P_22号様式!P55)","v":43703},{"$f":"IF(P_22号様式!Q55=\"\",\"\",P_22号様式!Q55)","v":0},{"$f":"IF(P_22号様式!R55=\"\",\"\",P_22号様式!R55)","v":45178},{"$f":"IF(P_22号様式!T55=\"\",\"\",P_22号様式!T55)","v":""},{"$f":"IF(P_22号様式!U55=\"\",\"\",P_22号様式!U55)","v":""},{"$f":"IF(P_22号様式!V55=\"\",\"\",P_22号様式!V55)","v":""},{"$f":"IF(P_22号様式!W55=\"\",\"\",P_22号様式!W55)","v":""}]
[{"$f":"IF(P_22号様式!C56=\"\",\"\",P_22号様式!C56)","v":"　薩摩川内市第２"},null,{"$f":"IF(P_22号様式!E56=\"\",\"\",P_22号様式!E56)","v":19},{"$f":"IF(P_22号様式!F56=\"\",\"\",P_22号様式!F56)","v":1518},{"$f":"IF(P_22号様式!G56=\"\",\"\",P_22号様式!G56)","v":0},{"$f":"IF(P_22号様式!H56=\"\",\"\",P_22号様式!H56)","v":1537},{"$f":"IF(P_22号様式!J56=\"\",\"\",P_22号様式!J56)","v":19},{"$f":"IF(P_22号様式!K56=\"\",\"\",P_22号様式!K56)","v":1518},{"$f":"IF(P_22号様式!L56=\"\",\"\",P_22号様式!L56)","v":0},{"$f":"IF(P_22号様式!M56=\"\",\"\",P_22号様式!M56)","v":1537},{"$f":"IF(P_22号様式!O56=\"\",\"\",P_22号様式!O56)","v":15},{"$f":"IF(P_22号様式!P56=\"\",\"\",P_22号様式!P56)","v":1522},{"$f":"IF(P_22号様式!Q56=\"\",\"\",P_22号様式!Q56)","v":0},{"$f":"IF(P_22号様式!R56=\"\",\"\",P_22号様式!R56)","v":1537},{"$f":"IF(P_22号様式!T56=\"\",\"\",P_22号様式!T56)","v":""},{"$f":"IF(P_22号様式!U56=\"\",\"\",P_22号様式!U56)","v":""},{"$f":"IF(P_22号様式!V56=\"\",\"\",P_22号様式!V56)","v":""},{"$f":"IF(P_22号様式!W56=\"\",\"\",P_22号様式!W56)","v":""}]
[{"$f":"IF(P_22号様式!C57=\"\",\"\",P_22号様式!C57)","v":"　薩摩川内市第３"},null,{"$f":"IF(P_22号様式!E57=\"\",\"\",P_22号様式!E57)","v":36},{"$f":"IF(P_22号様式!F57=\"\",\"\",P_22号様式!F57)","v":1346},{"$f":"IF(P_22号様式!G57=\"\",\"\",P_22号様式!G57)","v":0},{"$f":"IF(P_22号様式!H57=\"\",\"\",P_22号様式!H57)","v":1382},{"$f":"IF(P_22号様式!J57=\"\",\"\",P_22号様式!J57)","v":38},{"$f":"IF(P_22号様式!K57=\"\",\"\",P_22号様式!K57)","v":1344},{"$f":"IF(P_22号様式!L57=\"\",\"\",P_22号様式!L57)","v":0},{"$f":"IF(P_22号様式!M57=\"\",\"\",P_22号様式!M57)","v":1382},{"$f":"IF(P_22号様式!O57=\"\",\"\",P_22号様式!O57)","v":35},{"$f":"IF(P_22号様式!P57=\"\",\"\",P_22号様式!P57)","v":1347},{"$f":"IF(P_22号様式!Q57=\"\",\"\",P_22号様式!Q57)","v":0},{"$f":"IF(P_22号様式!R57=\"\",\"\",P_22号様式!R57)","v":1382},{"$f":"IF(P_22号様式!T57=\"\",\"\",P_22号様式!T57)","v":""},{"$f":"IF(P_22号様式!U57=\"\",\"\",P_22号様式!U57)","v":""},{"$f":"IF(P_22号様式!V57=\"\",\"\",P_22号様式!V57)","v":""},{"$f":"IF(P_22号様式!W57=\"\",\"\",P_22号様式!W57)","v":""}]
[{"$f":"IF(P_22号様式!C58=\"\",\"\",P_22号様式!C58)","v":"＊（薩摩川内市）計"},null,{"$f":"IF(P_22号様式!E58=\"\",\"\",P_22号様式!E58)","v":1644},{"$f":"IF(P_22号様式!F58=\"\",\"\",P_22号様式!F58)","v":46453},{"$f":"IF(P_22号様式!G58=\"\",\"\",P_22号様式!G58)","v":0},{"$f":"IF(P_22号様式!H58=\"\",\"\",P_22号様式!H58)","v":48097},{"$f":"IF(P_22号様式!J58=\"\",\"\",P_22号様式!J58)","v":1625},{"$f":"IF(P_22号様式!K58=\"\",\"\",P_22号様式!K58)","v":46472},{"$f":"IF(P_22号様式!L58=\"\",\"\",P_22号様式!L58)","v":0},{"$f":"IF(P_22号様式!M58=\"\",\"\",P_22号様式!M58)","v":48097},{"$f":"IF(P_22号様式!O58=\"\",\"\",P_22号様式!O58)","v":1525},{"$f":"IF(P_22号様式!P58=\"\",\"\",P_22号様式!P58)","v":46572},{"$f":"IF(P_22号様式!Q58=\"\",\"\",P_22号様式!Q58)","v":0},{"$f":"IF(P_22号様式!R58=\"\",\"\",P_22号様式!R58)","v":48097},{"$f":"IF(P_22号様式!T58=\"\",\"\",P_22号様式!T58)","v":""},{"$f":"IF(P_22号様式!U58=\"\",\"\",P_22号様式!U58)","v":""},{"$f":"IF(P_22号様式!V58=\"\",\"\",P_22号様式!V58)","v":""},{"$f":"IF(P_22号様式!W58=\"\",\"\",P_22号様式!W58)","v":""}]
[{"$f":"IF(P_22号様式!C59=\"\",\"\",P_22号様式!C59)","v":"　日置市"},null,{"$f":"IF(P_22号様式!E59=\"\",\"\",P_22号様式!E59)","v":1024},{"$f":"IF(P_22号様式!F59=\"\",\"\",P_22号様式!F59)","v":23752},{"$f":"IF(P_22号様式!G59=\"\",\"\",P_22号様式!G59)","v":0},{"$f":"IF(P_22号様式!H59=\"\",\"\",P_22号様式!H59)","v":24776},{"$f":"IF(P_22号様式!J59=\"\",\"\",P_22号様式!J59)","v":1026},{"$f":"IF(P_22号様式!K59=\"\",\"\",P_22号様式!K59)","v":23750},{"$f":"IF(P_22号様式!L59=\"\",\"\",P_22号様式!L59)","v":0},{"$f":"IF(P_22号様式!M59=\"\",\"\",P_22号様式!M59)","v":24776},{"$f":"IF(P_22号様式!O59=\"\",\"\",P_22号様式!O59)","v":947},{"$f":"IF(P_22号様式!P59=\"\",\"\",P_22号様式!P59)","v":23829},{"$f":"IF(P_22号様式!Q59=\"\",\"\",P_22号様式!Q59)","v":0},{"$f":"IF(P_22号様式!R59=\"\",\"\",P_22号様式!R59)","v":24776},{"$f":"IF(P_22号様式!T59=\"\",\"\",P_22号様式!T59)","v":""},{"$f":"IF(P_22号様式!U59=\"\",\"\",P_22号様式!U59)","v":""},{"$f":"IF(P_22号様式!V59=\"\",\"\",P_22号様式!V59)","v":""},{"$f":"IF(P_22号様式!W59=\"\",\"\",P_22号様式!W59)","v":""}]
[{"$f":"IF(P_22号様式!C60=\"\",\"\",P_22号様式!C60)","v":"　曽於市"},null,{"$f":"IF(P_22号様式!E60=\"\",\"\",P_22号様式!E60)","v":459},{"$f":"IF(P_22号様式!F60=\"\",\"\",P_22号様式!F60)","v":17190},{"$f":"IF(P_22号様式!G60=\"\",\"\",P_22号様式!G60)","v":0},{"$f":"IF(P_22号様式!H60=\"\",\"\",P_22号様式!H60)","v":17649},{"$f":"IF(P_22号様式!J60=\"\",\"\",P_22号様式!J60)","v":463},{"$f":"IF(P_22号様式!K60=\"\",\"\",P_22号様式!K60)","v":17186},{"$f":"IF(P_22号様式!L60=\"\",\"\",P_22号様式!L60)","v":0},{"$f":"IF(P_22号様式!M60=\"\",\"\",P_22号様式!M60)","v":17649},{"$f":"IF(P_22号様式!O60=\"\",\"\",P_22号様式!O60)","v":423},{"$f":"IF(P_22号様式!P60=\"\",\"\",P_22号様式!P60)","v":17226},{"$f":"IF(P_22号様式!Q60=\"\",\"\",P_22号様式!Q60)","v":0},{"$f":"IF(P_22号様式!R60=\"\",\"\",P_22号様式!R60)","v":17649},{"$f":"IF(P_22号様式!T60=\"\",\"\",P_22号様式!T60)","v":""},{"$f":"IF(P_22号様式!U60=\"\",\"\",P_22号様式!U60)","v":""},{"$f":"IF(P_22号様式!V60=\"\",\"\",P_22号様式!V60)","v":""},{"$f":"IF(P_22号様式!W60=\"\",\"\",P_22号様式!W60)","v":""}]
[{"$f":"IF(P_22号様式!C61=\"\",\"\",P_22号様式!C61)","v":"　霧島市"},null,{"$f":"IF(P_22号様式!E61=\"\",\"\",P_22号様式!E61)","v":2431},{"$f":"IF(P_22号様式!F61=\"\",\"\",P_22号様式!F61)","v":49368},{"$f":"IF(P_22号様式!G61=\"\",\"\",P_22号様式!G61)","v":0},{"$f":"IF(P_22号様式!H61=\"\",\"\",P_22号様式!H61)","v":51799},{"$f":"IF(P_22号様式!J61=\"\",\"\",P_22号様式!J61)","v":2472},{"$f":"IF(P_22号様式!K61=\"\",\"\",P_22号様式!K61)","v":49327},{"$f":"IF(P_22号様式!L61=\"\",\"\",P_22号様式!L61)","v":0},{"$f":"IF(P_22号様式!M61=\"\",\"\",P_22号様式!M61)","v":51799},{"$f":"IF(P_22号様式!O61=\"\",\"\",P_22号様式!O61)","v":2346},{"$f":"IF(P_22号様式!P61=\"\",\"\",P_22号様式!P61)","v":49453},{"$f":"IF(P_22号様式!Q61=\"\",\"\",P_22号様式!Q61)","v":0},{"$f":"IF(P_22号様式!R61=\"\",\"\",P_22号様式!R61)","v":51799},{"$f":"IF(P_22号様式!T61=\"\",\"\",P_22号様式!T61)","v":""},{"$f":"IF(P_22号様式!U61=\"\",\"\",P_22号様式!U61)","v":""},{"$f":"IF(P_22号様式!V61=\"\",\"\",P_22号様式!V61)","v":""},{"$f":"IF(P_22号様式!W61=\"\",\"\",P_22号様式!W61)","v":""}]
[{"$f":"IF(P_22号様式!C62=\"\",\"\",P_22号様式!C62)","v":"　いちき串木野市"},null,{"$f":"IF(P_22号様式!E62=\"\",\"\",P_22号様式!E62)","v":733},{"$f":"IF(P_22号様式!F62=\"\",\"\",P_22号様式!F62)","v":16838},{"$f":"IF(P_22号様式!G62=\"\",\"\",P_22号様式!G62)","v":0},{"$f":"IF(P_22号様式!H62=\"\",\"\",P_22号様式!H62)","v":17571},{"$f":"IF(P_22号様式!J62=\"\",\"\",P_22号様式!J62)","v":706},{"$f":"IF(P_22号様式!K62=\"\",\"\",P_22号様式!K62)","v":16865},{"$f":"IF(P_22号様式!L62=\"\",\"\",P_22号様式!L62)","v":0},{"$f":"IF(P_22号様式!M62=\"\",\"\",P_22号様式!M62)","v":17571},{"$f":"IF(P_22号様式!O62=\"\",\"\",P_22号様式!O62)","v":666},{"$f":"IF(P_22号様式!P62=\"\",\"\",P_22号様式!P62)","v":16905},{"$f":"IF(P_22号様式!Q62=\"\",\"\",P_22号様式!Q62)","v":0},{"$f":"IF(P_22号様式!R62=\"\",\"\",P_22号様式!R62)","v":17571},{"$f":"IF(P_22号様式!T62=\"\",\"\",P_22号様式!T62)","v":""},{"$f":"IF(P_22号様式!U62=\"\",\"\",P_22号様式!U62)","v":""},{"$f":"IF(P_22号様式!V62=\"\",\"\",P_22号様式!V62)","v":""},{"$f":"IF(P_22号様式!W62=\"\",\"\",P_22号様式!W62)","v":""}]
[{"$f":"IF(P_22号様式!C63=\"\",\"\",P_22号様式!C63)","v":"　南さつま市"},null,{"$f":"IF(P_22号様式!E63=\"\",\"\",P_22号様式!E63)","v":832},{"$f":"IF(P_22号様式!F63=\"\",\"\",P_22号様式!F63)","v":15981},{"$f":"IF(P_22号様式!G63=\"\",\"\",P_22号様式!G63)","v":0},{"$f":"IF(P_22号様式!H63=\"\",\"\",P_22号様式!H63)","v":16813},{"$f":"IF(P_22号様式!J63=\"\",\"\",P_22号様式!J63)","v":799},{"$f":"IF(P_22号様式!K63=\"\",\"\",P_22号様式!K63)","v":16014},{"$f":"IF(P_22号様式!L63=\"\",\"\",P_22号様式!L63)","v":0},{"$f":"IF(P_22号様式!M63=\"\",\"\",P_22号様式!M63)","v":16813},{"$f":"IF(P_22号様式!O63=\"\",\"\",P_22号様式!O63)","v":790},{"$f":"IF(P_22号様式!P63=\"\",\"\",P_22号様式!P63)","v":16023},{"$f":"IF(P_22号様式!Q63=\"\",\"\",P_22号様式!Q63)","v":0},{"$f":"IF(P_22号様式!R63=\"\",\"\",P_22号様式!R63)","v":16813},{"$f":"IF(P_22号様式!T63=\"\",\"\",P_22号様式!T63)","v":""},{"$f":"IF(P_22号様式!U63=\"\",\"\",P_22号様式!U63)","v":""},{"$f":"IF(P_22号様式!V63=\"\",\"\",P_22号様式!V63)","v":""},{"$f":"IF(P_22号様式!W63=\"\",\"\",P_22号様式!W63)","v":""}]
[{"$f":"IF(P_22号様式!C64=\"\",\"\",P_22号様式!C64)","v":"　志布志市"},null,{"$f":"IF(P_22号様式!E64=\"\",\"\",P_22号様式!E64)","v":361},{"$f":"IF(P_22号様式!F64=\"\",\"\",P_22号様式!F64)","v":14157},{"$f":"IF(P_22号様式!G64=\"\",\"\",P_22号様式!G64)","v":0},{"$f":"IF(P_22号様式!H64=\"\",\"\",P_22号様式!H64)","v":14518},{"$f":"IF(P_22号様式!J64=\"\",\"\",P_22号様式!J64)","v":383},{"$f":"IF(P_22号様式!K64=\"\",\"\",P_22号様式!K64)","v":14135},{"$f":"IF(P_22号様式!L64=\"\",\"\",P_22号様式!L64)","v":0},{"$f":"IF(P_22号様式!M64=\"\",\"\",P_22号様式!M64)","v":14518},{"$f":"IF(P_22号様式!O64=\"\",\"\",P_22号様式!O64)","v":338},{"$f":"IF(P_22号様式!P64=\"\",\"\",P_22号様式!P64)","v":14180},{"$f":"IF(P_22号様式!Q64=\"\",\"\",P_22号様式!Q64)","v":0},{"$f":"IF(P_22号様式!R64=\"\",\"\",P_22号様式!R64)","v":14518},{"$f":"IF(P_22号様式!T64=\"\",\"\",P_22号様式!T64)","v":""},{"$f":"IF(P_22号様式!U64=\"\",\"\",P_22号様式!U64)","v":""},{"$f":"IF(P_22号様式!V64=\"\",\"\",P_22号様式!V64)","v":""},{"$f":"IF(P_22号様式!W64=\"\",\"\",P_22号様式!W64)","v":""}]
[{"$f":"IF(P_22号様式!C65=\"\",\"\",P_22号様式!C65)","v":"　奄美市"},null,{"$f":"IF(P_22号様式!E65=\"\",\"\",P_22号様式!E65)","v":1050},{"$f":"IF(P_22号様式!F65=\"\",\"\",P_22号様式!F65)","v":20078},{"$f":"IF(P_22号様式!G65=\"\",\"\",P_22号様式!G65)","v":0},{"$f":"IF(P_22号様式!H65=\"\",\"\",P_22号様式!H65)","v":21128},{"$f":"IF(P_22号様式!J65=\"\",\"\",P_22号様式!J65)","v":994},{"$f":"IF(P_22号様式!K65=\"\",\"\",P_22号様式!K65)","v":20134},{"$f":"IF(P_22号様式!L65=\"\",\"\",P_22号様式!L65)","v":0},{"$f":"IF(P_22号様式!M65=\"\",\"\",P_22号様式!M65)","v":21128},{"$f":"IF(P_22号様式!O65=\"\",\"\",P_22号様式!O65)","v":997},{"$f":"IF(P_22号様式!P65=\"\",\"\",P_22号様式!P65)","v":20131},{"$f":"IF(P_22号様式!Q65=\"\",\"\",P_22号様式!Q65)","v":0},{"$f":"IF(P_22号様式!R65=\"\",\"\",P_22号様式!R65)","v":21128},{"$f":"IF(P_22号様式!T65=\"\",\"\",P_22号様式!T65)","v":""},{"$f":"IF(P_22号様式!U65=\"\",\"\",P_22号様式!U65)","v":""},{"$f":"IF(P_22号様式!V65=\"\",\"\",P_22号様式!V65)","v":""},{"$f":"IF(P_22号様式!W65=\"\",\"\",P_22号様式!W65)","v":""}]
[{"$f":"IF(P_22号様式!C66=\"\",\"\",P_22号様式!C66)","v":"　南九州市"},null,{"$f":"IF(P_22号様式!E66=\"\",\"\",P_22号様式!E66)","v":502},{"$f":"IF(P_22号様式!F66=\"\",\"\",P_22号様式!F66)","v":16563},{"$f":"IF(P_22号様式!G66=\"\",\"\",P_22号様式!G66)","v":0},{"$f":"IF(P_22号様式!H66=\"\",\"\",P_22号様式!H66)","v":17065},{"$f":"IF(P_22号様式!J66=\"\",\"\",P_22号様式!J66)","v":497},{"$f":"IF(P_22号様式!K66=\"\",\"\",P_22号様式!K66)","v":16568},{"$f":"IF(P_22号様式!L66=\"\",\"\",P_22号様式!L66)","v":0},{"$f":"IF(P_22号様式!M66=\"\",\"\",P_22号様式!M66)","v":17065},{"$f":"IF(P_22号様式!O66=\"\",\"\",P_22号様式!O66)","v":459},{"$f":"IF(P_22号様式!P66=\"\",\"\",P_22号様式!P66)","v":16606},{"$f":"IF(P_22号様式!Q66=\"\",\"\",P_22号様式!Q66)","v":0},{"$f":"IF(P_22号様式!R66=\"\",\"\",P_22号様式!R66)","v":17065},{"$f":"IF(P_22号様式!T66=\"\",\"\",P_22号様式!T66)","v":""},{"$f":"IF(P_22号様式!U66=\"\",\"\",P_22号様式!U66)","v":""},{"$f":"IF(P_22号様式!V66=\"\",\"\",P_22号様式!V66)","v":""},{"$f":"IF(P_22号様式!W66=\"\",\"\",P_22号様式!W66)","v":""}]
[{"$f":"IF(P_22号様式!C67=\"\",\"\",P_22号様式!C67)","v":"　伊佐市"},null,{"$f":"IF(P_22号様式!E67=\"\",\"\",P_22号様式!E67)","v":456},{"$f":"IF(P_22号様式!F67=\"\",\"\",P_22号様式!F67)","v":13453},{"$f":"IF(P_22号様式!G67=\"\",\"\",P_22号様式!G67)","v":0},{"$f":"IF(P_22号様式!H67=\"\",\"\",P_22号様式!H67)","v":13909},{"$f":"IF(P_22号様式!J67=\"\",\"\",P_22号様式!J67)","v":443},{"$f":"IF(P_22号様式!K67=\"\",\"\",P_22号様式!K67)","v":13466},{"$f":"IF(P_22号様式!L67=\"\",\"\",P_22号様式!L67)","v":0},{"$f":"IF(P_22号様式!M67=\"\",\"\",P_22号様式!M67)","v":13909},{"$f":"IF(P_22号様式!O67=\"\",\"\",P_22号様式!O67)","v":423},{"$f":"IF(P_22号様式!P67=\"\",\"\",P_22号様式!P67)","v":13486},{"$f":"IF(P_22号様式!Q67=\"\",\"\",P_22号様式!Q67)","v":0},{"$f":"IF(P_22号様式!R67=\"\",\"\",P_22号様式!R67)","v":13909},{"$f":"IF(P_22号様式!T67=\"\",\"\",P_22号様式!T67)","v":""},{"$f":"IF(P_22号様式!U67=\"\",\"\",P_22号様式!U67)","v":""},{"$f":"IF(P_22号様式!V67=\"\",\"\",P_22号様式!V67)","v":""},{"$f":"IF(P_22号様式!W67=\"\",\"\",P_22号様式!W67)","v":""}]
[{"$f":"IF(P_22号様式!C68=\"\",\"\",P_22号様式!C68)","v":"　姶良市"},null,{"$f":"IF(P_22号様式!E68=\"\",\"\",P_22号様式!E68)","v":2401},{"$f":"IF(P_22号様式!F68=\"\",\"\",P_22号様式!F68)","v":32720},{"$f":"IF(P_22号様式!G68=\"\",\"\",P_22号様式!G68)","v":0},{"$f":"IF(P_22号様式!H68=\"\",\"\",P_22号様式!H68)","v":35121},{"$f":"IF(P_22号様式!J68=\"\",\"\",P_22号様式!J68)","v":2366},{"$f":"IF(P_22号様式!K68=\"\",\"\",P_22号様式!K68)","v":32755},{"$f":"IF(P_22号様式!L68=\"\",\"\",P_22号様式!L68)","v":0},{"$f":"IF(P_22号様式!M68=\"\",\"\",P_22号様式!M68)","v":35121},{"$f":"IF(P_22号様式!O68=\"\",\"\",P_22号様式!O68)","v":2274},{"$f":"IF(P_22号様式!P68=\"\",\"\",P_22号様式!P68)","v":32847},{"$f":"IF(P_22号様式!Q68=\"\",\"\",P_22号様式!Q68)","v":0},{"$f":"IF(P_22号様式!R68=\"\",\"\",P_22号様式!R68)","v":35121},{"$f":"IF(P_22号様式!T68=\"\",\"\",P_22号様式!T68)","v":""},{"$f":"IF(P_22号様式!U68=\"\",\"\",P_22号様式!U68)","v":""},{"$f":"IF(P_22号様式!V68=\"\",\"\",P_22号様式!V68)","v":""},{"$f":"IF(P_22号様式!W68=\"\",\"\",P_22号様式!W68)","v":""}]
[{"$f":"IF(P_22号様式!C69=\"\",\"\",P_22号様式!C69)","v":"　三島村"},null,{"$f":"IF(P_22号様式!E69=\"\",\"\",P_22号様式!E69)","v":4},{"$f":"IF(P_22号様式!F69=\"\",\"\",P_22号様式!F69)","v":234},{"$f":"IF(P_22号様式!G69=\"\",\"\",P_22号様式!G69)","v":0},{"$f":"IF(P_22号様式!H69=\"\",\"\",P_22号様式!H69)","v":238},{"$f":"IF(P_22号様式!J69=\"\",\"\",P_22号様式!J69)","v":2},{"$f":"IF(P_22号様式!K69=\"\",\"\",P_22号様式!K69)","v":236},{"$f":"IF(P_22号様式!L69=\"\",\"\",P_22号様式!L69)","v":0},{"$f":"IF(P_22号様式!M69=\"\",\"\",P_22号様式!M69)","v":238},{"$f":"IF(P_22号様式!O69=\"\",\"\",P_22号様式!O69)","v":2},{"$f":"IF(P_22号様式!P69=\"\",\"\",P_22号様式!P69)","v":236},{"$f":"IF(P_22号様式!Q69=\"\",\"\",P_22号様式!Q69)","v":0},{"$f":"IF(P_22号様式!R69=\"\",\"\",P_22号様式!R69)","v":238},{"$f":"IF(P_22号様式!T69=\"\",\"\",P_22号様式!T69)","v":""},{"$f":"IF(P_22号様式!U69=\"\",\"\",P_22号様式!U69)","v":""},{"$f":"IF(P_22号様式!V69=\"\",\"\",P_22号様式!V69)","v":""},{"$f":"IF(P_22号様式!W69=\"\",\"\",P_22号様式!W69)","v":""}]
[{"$f":"IF(P_22号様式!C70=\"\",\"\",P_22号様式!C70)","v":"　十島村"},null,{"$f":"IF(P_22号様式!E70=\"\",\"\",P_22号様式!E70)","v":20},{"$f":"IF(P_22号様式!F70=\"\",\"\",P_22号様式!F70)","v":424},{"$f":"IF(P_22号様式!G70=\"\",\"\",P_22号様式!G70)","v":0},{"$f":"IF(P_22号様式!H70=\"\",\"\",P_22号様式!H70)","v":444},{"$f":"IF(P_22号様式!J70=\"\",\"\",P_22号様式!J70)","v":20},{"$f":"IF(P_22号様式!K70=\"\",\"\",P_22号様式!K70)","v":424},{"$f":"IF(P_22号様式!L70=\"\",\"\",P_22号様式!L70)","v":0},{"$f":"IF(P_22号様式!M70=\"\",\"\",P_22号様式!M70)","v":444},{"$f":"IF(P_22号様式!O70=\"\",\"\",P_22号様式!O70)","v":16},{"$f":"IF(P_22号様式!P70=\"\",\"\",P_22号様式!P70)","v":428},{"$f":"IF(P_22号様式!Q70=\"\",\"\",P_22号様式!Q70)","v":0},{"$f":"IF(P_22号様式!R70=\"\",\"\",P_22号様式!R70)","v":444},{"$f":"IF(P_22号様式!T70=\"\",\"\",P_22号様式!T70)","v":""},{"$f":"IF(P_22号様式!U70=\"\",\"\",P_22号様式!U70)","v":""},{"$f":"IF(P_22号様式!V70=\"\",\"\",P_22号様式!V70)","v":""},{"$f":"IF(P_22号様式!W70=\"\",\"\",P_22号様式!W70)","v":""}]
[{"$f":"IF(P_22号様式!C71=\"\",\"\",P_22号様式!C71)","v":"＊（鹿児島郡）計"},null,{"$f":"IF(P_22号様式!E71=\"\",\"\",P_22号様式!E71)","v":24},{"$f":"IF(P_22号様式!F71=\"\",\"\",P_22号様式!F71)","v":658},{"$f":"IF(P_22号様式!G71=\"\",\"\",P_22号様式!G71)","v":0},{"$f":"IF(P_22号様式!H71=\"\",\"\",P_22号様式!H71)","v":682},{"$f":"IF(P_22号様式!J71=\"\",\"\",P_22号様式!J71)","v":22},{"$f":"IF(P_22号様式!K71=\"\",\"\",P_22号様式!K71)","v":660},{"$f":"IF(P_22号様式!L71=\"\",\"\",P_22号様式!L71)","v":0},{"$f":"IF(P_22号様式!M71=\"\",\"\",P_22号様式!M71)","v":682},{"$f":"IF(P_22号様式!O71=\"\",\"\",P_22号様式!O71)","v":18},{"$f":"IF(P_22号様式!P71=\"\",\"\",P_22号様式!P71)","v":664},{"$f":"IF(P_22号様式!Q71=\"\",\"\",P_22号様式!Q71)","v":0},{"$f":"IF(P_22号様式!R71=\"\",\"\",P_22号様式!R71)","v":682},{"$f":"IF(P_22号様式!T71=\"\",\"\",P_22号様式!T71)","v":""},{"$f":"IF(P_22号様式!U71=\"\",\"\",P_22号様式!U71)","v":""},{"$f":"IF(P_22号様式!V71=\"\",\"\",P_22号様式!V71)","v":""},{"$f":"IF(P_22号様式!W71=\"\",\"\",P_22号様式!W71)","v":""}]
[{"$f":"IF(P_22号様式!C72=\"\",\"\",P_22号様式!C72)","v":"　さつま町"},null,{"$f":"IF(P_22号様式!E72=\"\",\"\",P_22号様式!E72)","v":301},{"$f":"IF(P_22号様式!F72=\"\",\"\",P_22号様式!F72)","v":11790},{"$f":"IF(P_22号様式!G72=\"\",\"\",P_22号様式!G72)","v":0},{"$f":"IF(P_22号様式!H72=\"\",\"\",P_22号様式!H72)","v":12091},{"$f":"IF(P_22号様式!J72=\"\",\"\",P_22号様式!J72)","v":271},{"$f":"IF(P_22号様式!K72=\"\",\"\",P_22号様式!K72)","v":11820},{"$f":"IF(P_22号様式!L72=\"\",\"\",P_22号様式!L72)","v":0},{"$f":"IF(P_22号様式!M72=\"\",\"\",P_22号様式!M72)","v":12091},{"$f":"IF(P_22号様式!O72=\"\",\"\",P_22号様式!O72)","v":263},{"$f":"IF(P_22号様式!P72=\"\",\"\",P_22号様式!P72)","v":11828},{"$f":"IF(P_22号様式!Q72=\"\",\"\",P_22号様式!Q72)","v":0},{"$f":"IF(P_22号様式!R72=\"\",\"\",P_22号様式!R72)","v":12091},{"$f":"IF(P_22号様式!T72=\"\",\"\",P_22号様式!T72)","v":""},{"$f":"IF(P_22号様式!U72=\"\",\"\",P_22号様式!U72)","v":""},{"$f":"IF(P_22号様式!V72=\"\",\"\",P_22号様式!V72)","v":""},{"$f":"IF(P_22号様式!W72=\"\",\"\",P_22号様式!W72)","v":""}]
[{"$f":"IF(P_22号様式!C73=\"\",\"\",P_22号様式!C73)","v":"＊（薩摩郡）計"},null,{"$f":"IF(P_22号様式!E73=\"\",\"\",P_22号様式!E73)","v":301},{"$f":"IF(P_22号様式!F73=\"\",\"\",P_22号様式!F73)","v":11790},{"$f":"IF(P_22号様式!G73=\"\",\"\",P_22号様式!G73)","v":0},{"$f":"IF(P_22号様式!H73=\"\",\"\",P_22号様式!H73)","v":12091},{"$f":"IF(P_22号様式!J73=\"\",\"\",P_22号様式!J73)","v":271},{"$f":"IF(P_22号様式!K73=\"\",\"\",P_22号様式!K73)","v":11820},{"$f":"IF(P_22号様式!L73=\"\",\"\",P_22号様式!L73)","v":0},{"$f":"IF(P_22号様式!M73=\"\",\"\",P_22号様式!M73)","v":12091},{"$f":"IF(P_22号様式!O73=\"\",\"\",P_22号様式!O73)","v":263},{"$f":"IF(P_22号様式!P73=\"\",\"\",P_22号様式!P73)","v":11828},{"$f":"IF(P_22号様式!Q73=\"\",\"\",P_22号様式!Q73)","v":0},{"$f":"IF(P_22号様式!R73=\"\",\"\",P_22号様式!R73)","v":12091},{"$f":"IF(P_22号様式!T73=\"\",\"\",P_22号様式!T73)","v":""},{"$f":"IF(P_22号様式!U73=\"\",\"\",P_22号様式!U73)","v":""},{"$f":"IF(P_22号様式!V73=\"\",\"\",P_22号様式!V73)","v":""},{"$f":"IF(P_22号様式!W73=\"\",\"\",P_22号様式!W73)","v":""}]
[{"$f":"IF(P_22号様式!C74=\"\",\"\",P_22号様式!C74)","v":"　長島町"},null,{"$f":"IF(P_22号様式!E74=\"\",\"\",P_22号様式!E74)","v":71},{"$f":"IF(P_22号様式!F74=\"\",\"\",P_22号様式!F74)","v":6373},{"$f":"IF(P_22号様式!G74=\"\",\"\",P_22号様式!G74)","v":0},{"$f":"IF(P_22号様式!H74=\"\",\"\",P_22号様式!H74)","v":6444},{"$f":"IF(P_22号様式!J74=\"\",\"\",P_22号様式!J74)","v":70},{"$f":"IF(P_22号様式!K74=\"\",\"\",P_22号様式!K74)","v":6374},{"$f":"IF(P_22号様式!L74=\"\",\"\",P_22号様式!L74)","v":0},{"$f":"IF(P_22号様式!M74=\"\",\"\",P_22号様式!M74)","v":6444},{"$f":"IF(P_22号様式!O74=\"\",\"\",P_22号様式!O74)","v":66},{"$f":"IF(P_22号様式!P74=\"\",\"\",P_22号様式!P74)","v":6378},{"$f":"IF(P_22号様式!Q74=\"\",\"\",P_22号様式!Q74)","v":0},{"$f":"IF(P_22号様式!R74=\"\",\"\",P_22号様式!R74)","v":6444},{"$f":"IF(P_22号様式!T74=\"\",\"\",P_22号様式!T74)","v":""},{"$f":"IF(P_22号様式!U74=\"\",\"\",P_22号様式!U74)","v":""},{"$f":"IF(P_22号様式!V74=\"\",\"\",P_22号様式!V74)","v":""},{"$f":"IF(P_22号様式!W74=\"\",\"\",P_22号様式!W74)","v":""}]
[{"$f":"IF(P_22号様式!C75=\"\",\"\",P_22号様式!C75)","v":"＊（出水郡）計"},null,{"$f":"IF(P_22号様式!E75=\"\",\"\",P_22号様式!E75)","v":71},{"$f":"IF(P_22号様式!F75=\"\",\"\",P_22号様式!F75)","v":6373},{"$f":"IF(P_22号様式!G75=\"\",\"\",P_22号様式!G75)","v":0},{"$f":"IF(P_22号様式!H75=\"\",\"\",P_22号様式!H75)","v":6444},{"$f":"IF(P_22号様式!J75=\"\",\"\",P_22号様式!J75)","v":70},{"$f":"IF(P_22号様式!K75=\"\",\"\",P_22号様式!K75)","v":6374},{"$f":"IF(P_22号様式!L75=\"\",\"\",P_22号様式!L75)","v":0},{"$f":"IF(P_22号様式!M75=\"\",\"\",P_22号様式!M75)","v":6444},{"$f":"IF(P_22号様式!O75=\"\",\"\",P_22号様式!O75)","v":66},{"$f":"IF(P_22号様式!P75=\"\",\"\",P_22号様式!P75)","v":6378},{"$f":"IF(P_22号様式!Q75=\"\",\"\",P_22号様式!Q75)","v":0},{"$f":"IF(P_22号様式!R75=\"\",\"\",P_22号様式!R75)","v":6444},{"$f":"IF(P_22号様式!T75=\"\",\"\",P_22号様式!T75)","v":""},{"$f":"IF(P_22号様式!U75=\"\",\"\",P_22号様式!U75)","v":""},{"$f":"IF(P_22号様式!V75=\"\",\"\",P_22号様式!V75)","v":""},{"$f":"IF(P_22号様式!W75=\"\",\"\",P_22号様式!W75)","v":""}]
[{"$f":"IF(P_22号様式!C76=\"\",\"\",P_22号様式!C76)","v":"　湧水町"},null,{"$f":"IF(P_22号様式!E76=\"\",\"\",P_22号様式!E76)","v":166},{"$f":"IF(P_22号様式!F76=\"\",\"\",P_22号様式!F76)","v":5093},{"$f":"IF(P_22号様式!G76=\"\",\"\",P_22号様式!G76)","v":0},{"$f":"IF(P_22号様式!H76=\"\",\"\",P_22号様式!H76)","v":5259},{"$f":"IF(P_22号様式!J76=\"\",\"\",P_22号様式!J76)","v":160},{"$f":"IF(P_22号様式!K76=\"\",\"\",P_22号様式!K76)","v":5099},{"$f":"IF(P_22号様式!L76=\"\",\"\",P_22号様式!L76)","v":0},{"$f":"IF(P_22号様式!M76=\"\",\"\",P_22号様式!M76)","v":5259},{"$f":"IF(P_22号様式!O76=\"\",\"\",P_22号様式!O76)","v":155},{"$f":"IF(P_22号様式!P76=\"\",\"\",P_22号様式!P76)","v":5104},{"$f":"IF(P_22号様式!Q76=\"\",\"\",P_22号様式!Q76)","v":0},{"$f":"IF(P_22号様式!R76=\"\",\"\",P_22号様式!R76)","v":5259},{"$f":"IF(P_22号様式!T76=\"\",\"\",P_22号様式!T76)","v":""},{"$f":"IF(P_22号様式!U76=\"\",\"\",P_22号様式!U76)","v":""},{"$f":"IF(P_22号様式!V76=\"\",\"\",P_22号様式!V76)","v":""},{"$f":"IF(P_22号様式!W76=\"\",\"\",P_22号様式!W76)","v":""}]
[{"$f":"IF(P_22号様式!C77=\"\",\"\",P_22号様式!C77)","v":"＊（姶良郡）計"},null,{"$f":"IF(P_22号様式!E77=\"\",\"\",P_22号様式!E77)","v":166},{"$f":"IF(P_22号様式!F77=\"\",\"\",P_22号様式!F77)","v":5093},{"$f":"IF(P_22号様式!G77=\"\",\"\",P_22号様式!G77)","v":0},{"$f":"IF(P_22号様式!H77=\"\",\"\",P_22号様式!H77)","v":5259},{"$f":"IF(P_22号様式!J77=\"\",\"\",P_22号様式!J77)","v":160},{"$f":"IF(P_22号様式!K77=\"\",\"\",P_22号様式!K77)","v":5099},{"$f":"IF(P_22号様式!L77=\"\",\"\",P_22号様式!L77)","v":0},{"$f":"IF(P_22号様式!M77=\"\",\"\",P_22号様式!M77)","v":5259},{"$f":"IF(P_22号様式!O77=\"\",\"\",P_22号様式!O77)","v":155},{"$f":"IF(P_22号様式!P77=\"\",\"\",P_22号様式!P77)","v":5104},{"$f":"IF(P_22号様式!Q77=\"\",\"\",P_22号様式!Q77)","v":0},{"$f":"IF(P_22号様式!R77=\"\",\"\",P_22号様式!R77)","v":5259},{"$f":"IF(P_22号様式!T77=\"\",\"\",P_22号様式!T77)","v":""},{"$f":"IF(P_22号様式!U77=\"\",\"\",P_22号様式!U77)","v":""},{"$f":"IF(P_22号様式!V77=\"\",\"\",P_22号様式!V77)","v":""},{"$f":"IF(P_22号様式!W77=\"\",\"\",P_22号様式!W77)","v":""}]
[{"$f":"IF(P_22号様式!C78=\"\",\"\",P_22号様式!C78)","v":"　大崎町"},null,{"$f":"IF(P_22号様式!E78=\"\",\"\",P_22号様式!E78)","v":141},{"$f":"IF(P_22号様式!F78=\"\",\"\",P_22号様式!F78)","v":6192},{"$f":"IF(P_22号様式!G78=\"\",\"\",P_22号様式!G78)","v":1},{"$f":"IF(P_22号様式!H78=\"\",\"\",P_22号様式!H78)","v":6334},{"$f":"IF(P_22号様式!J78=\"\",\"\",P_22号様式!J78)","v":132},{"$f":"IF(P_22号様式!K78=\"\",\"\",P_22号様式!K78)","v":6201},{"$f":"IF(P_22号様式!L78=\"\",\"\",P_22号様式!L78)","v":1},{"$f":"IF(P_22号様式!M78=\"\",\"\",P_22号様式!M78)","v":6334},{"$f":"IF(P_22号様式!O78=\"\",\"\",P_22号様式!O78)","v":124},{"$f":"IF(P_22号様式!P78=\"\",\"\",P_22号様式!P78)","v":6209},{"$f":"IF(P_22号様式!Q78=\"\",\"\",P_22号様式!Q78)","v":1},{"$f":"IF(P_22号様式!R78=\"\",\"\",P_22号様式!R78)","v":6334},{"$f":"IF(P_22号様式!T78=\"\",\"\",P_22号様式!T78)","v":""},{"$f":"IF(P_22号様式!U78=\"\",\"\",P_22号様式!U78)","v":""},{"$f":"IF(P_22号様式!V78=\"\",\"\",P_22号様式!V78)","v":""},{"$f":"IF(P_22号様式!W78=\"\",\"\",P_22号様式!W78)","v":""}]
[{"$f":"IF(P_22号様式!C79=\"\",\"\",P_22号様式!C79)","v":"＊（曽於郡）計"},null,{"$f":"IF(P_22号様式!E79=\"\",\"\",P_22号様式!E79)","v":141},{"$f":"IF(P_22号様式!F79=\"\",\"\",P_22号様式!F79)","v":6192},{"$f":"IF(P_22号様式!G79=\"\",\"\",P_22号様式!G79)","v":1},{"$f":"IF(P_22号様式!H79=\"\",\"\",P_22号様式!H79)","v":6334},{"$f":"IF(P_22号様式!J79=\"\",\"\",P_22号様式!J79)","v":132},{"$f":"IF(P_22号様式!K79=\"\",\"\",P_22号様式!K79)","v":6201},{"$f":"IF(P_22号様式!L79=\"\",\"\",P_22号様式!L79)","v":1},{"$f":"IF(P_22号様式!M79=\"\",\"\",P_22号様式!M79)","v":6334},{"$f":"IF(P_22号様式!O79=\"\",\"\",P_22号様式!O79)","v":124},{"$f":"IF(P_22号様式!P79=\"\",\"\",P_22号様式!P79)","v":6209},{"$f":"IF(P_22号様式!Q79=\"\",\"\",P_22号様式!Q79)","v":1},{"$f":"IF(P_22号様式!R79=\"\",\"\",P_22号様式!R79)","v":6334},{"$f":"IF(P_22号様式!T79=\"\",\"\",P_22号様式!T79)","v":""},{"$f":"IF(P_22号様式!U79=\"\",\"\",P_22号様式!U79)","v":""},{"$f":"IF(P_22号様式!V79=\"\",\"\",P_22号様式!V79)","v":""},{"$f":"IF(P_22号様式!W79=\"\",\"\",P_22号様式!W79)","v":""}]
[{"$f":"IF(P_22号様式!C80=\"\",\"\",P_22号様式!C80)","v":"　東串良町"},null,{"$f":"IF(P_22号様式!E80=\"\",\"\",P_22号様式!E80)","v":93},{"$f":"IF(P_22号様式!F80=\"\",\"\",P_22号様式!F80)","v":3003},{"$f":"IF(P_22号様式!G80=\"\",\"\",P_22号様式!G80)","v":0},{"$f":"IF(P_22号様式!H80=\"\",\"\",P_22号様式!H80)","v":3096},{"$f":"IF(P_22号様式!J80=\"\",\"\",P_22号様式!J80)","v":91},{"$f":"IF(P_22号様式!K80=\"\",\"\",P_22号様式!K80)","v":3005},{"$f":"IF(P_22号様式!L80=\"\",\"\",P_22号様式!L80)","v":0},{"$f":"IF(P_22号様式!M80=\"\",\"\",P_22号様式!M80)","v":3096},{"$f":"IF(P_22号様式!O80=\"\",\"\",P_22号様式!O80)","v":82},{"$f":"IF(P_22号様式!P80=\"\",\"\",P_22号様式!P80)","v":3014},{"$f":"IF(P_22号様式!Q80=\"\",\"\",P_22号様式!Q80)","v":0},{"$f":"IF(P_22号様式!R80=\"\",\"\",P_22号様式!R80)","v":3096},{"$f":"IF(P_22号様式!T80=\"\",\"\",P_22号様式!T80)","v":""},{"$f":"IF(P_22号様式!U80=\"\",\"\",P_22号様式!U80)","v":""},{"$f":"IF(P_22号様式!V80=\"\",\"\",P_22号様式!V80)","v":""},{"$f":"IF(P_22号様式!W80=\"\",\"\",P_22号様式!W80)","v":""}]
[{"$f":"IF(P_22号様式!C81=\"\",\"\",P_22号様式!C81)","v":"　錦江町"},null,{"$f":"IF(P_22号様式!E81=\"\",\"\",P_22号様式!E81)","v":101},{"$f":"IF(P_22号様式!F81=\"\",\"\",P_22号様式!F81)","v":4133},{"$f":"IF(P_22号様式!G81=\"\",\"\",P_22号様式!G81)","v":0},{"$f":"IF(P_22号様式!H81=\"\",\"\",P_22号様式!H81)","v":4234},{"$f":"IF(P_22号様式!J81=\"\",\"\",P_22号様式!J81)","v":100},{"$f":"IF(P_22号様式!K81=\"\",\"\",P_22号様式!K81)","v":4134},{"$f":"IF(P_22号様式!L81=\"\",\"\",P_22号様式!L81)","v":0},{"$f":"IF(P_22号様式!M81=\"\",\"\",P_22号様式!M81)","v":4234},{"$f":"IF(P_22号様式!O81=\"\",\"\",P_22号様式!O81)","v":94},{"$f":"IF(P_22号様式!P81=\"\",\"\",P_22号様式!P81)","v":4140},{"$f":"IF(P_22号様式!Q81=\"\",\"\",P_22号様式!Q81)","v":0},{"$f":"IF(P_22号様式!R81=\"\",\"\",P_22号様式!R81)","v":4234},{"$f":"IF(P_22号様式!T81=\"\",\"\",P_22号様式!T81)","v":""},{"$f":"IF(P_22号様式!U81=\"\",\"\",P_22号様式!U81)","v":""},{"$f":"IF(P_22号様式!V81=\"\",\"\",P_22号様式!V81)","v":""},{"$f":"IF(P_22号様式!W81=\"\",\"\",P_22号様式!W81)","v":""}]
[{"$f":"IF(P_22号様式!C82=\"\",\"\",P_22号様式!C82)","v":"　南大隅町"},null,{"$f":"IF(P_22号様式!E82=\"\",\"\",P_22号様式!E82)","v":108},{"$f":"IF(P_22号様式!F82=\"\",\"\",P_22号様式!F82)","v":4164},{"$f":"IF(P_22号様式!G82=\"\",\"\",P_22号様式!G82)","v":0},{"$f":"IF(P_22号様式!H82=\"\",\"\",P_22号様式!H82)","v":4272},{"$f":"IF(P_22号様式!J82=\"\",\"\",P_22号様式!J82)","v":106},{"$f":"IF(P_22号様式!K82=\"\",\"\",P_22号様式!K82)","v":4166},{"$f":"IF(P_22号様式!L82=\"\",\"\",P_22号様式!L82)","v":0},{"$f":"IF(P_22号様式!M82=\"\",\"\",P_22号様式!M82)","v":4272},{"$f":"IF(P_22号様式!O82=\"\",\"\",P_22号様式!O82)","v":101},{"$f":"IF(P_22号様式!P82=\"\",\"\",P_22号様式!P82)","v":4171},{"$f":"IF(P_22号様式!Q82=\"\",\"\",P_22号様式!Q82)","v":0},{"$f":"IF(P_22号様式!R82=\"\",\"\",P_22号様式!R82)","v":4272},{"$f":"IF(P_22号様式!T82=\"\",\"\",P_22号様式!T82)","v":""},{"$f":"IF(P_22号様式!U82=\"\",\"\",P_22号様式!U82)","v":""},{"$f":"IF(P_22号様式!V82=\"\",\"\",P_22号様式!V82)","v":""},{"$f":"IF(P_22号様式!W82=\"\",\"\",P_22号様式!W82)","v":""}]
[{"$f":"IF(P_22号様式!C83=\"\",\"\",P_22号様式!C83)","v":"　肝付町"},null,{"$f":"IF(P_22号様式!E83=\"\",\"\",P_22号様式!E83)","v":232},{"$f":"IF(P_22号様式!F83=\"\",\"\",P_22号様式!F83)","v":7177},{"$f":"IF(P_22号様式!G83=\"\",\"\",P_22号様式!G83)","v":0},{"$f":"IF(P_22号様式!H83=\"\",\"\",P_22号様式!H83)","v":7409},{"$f":"IF(P_22号様式!J83=\"\",\"\",P_22号様式!J83)","v":218},{"$f":"IF(P_22号様式!K83=\"\",\"\",P_22号様式!K83)","v":7191},{"$f":"IF(P_22号様式!L83=\"\",\"\",P_22号様式!L83)","v":0},{"$f":"IF(P_22号様式!M83=\"\",\"\",P_22号様式!M83)","v":7409},{"$f":"IF(P_22号様式!O83=\"\",\"\",P_22号様式!O83)","v":199},{"$f":"IF(P_22号様式!P83=\"\",\"\",P_22号様式!P83)","v":7210},{"$f":"IF(P_22号様式!Q83=\"\",\"\",P_22号様式!Q83)","v":0},{"$f":"IF(P_22号様式!R83=\"\",\"\",P_22号様式!R83)","v":7409},{"$f":"IF(P_22号様式!T83=\"\",\"\",P_22号様式!T83)","v":""},{"$f":"IF(P_22号様式!U83=\"\",\"\",P_22号様式!U83)","v":""},{"$f":"IF(P_22号様式!V83=\"\",\"\",P_22号様式!V83)","v":""},{"$f":"IF(P_22号様式!W83=\"\",\"\",P_22号様式!W83)","v":""}]
[{"$f":"IF(P_22号様式!C84=\"\",\"\",P_22号様式!C84)","v":"＊（肝属郡）計"},null,{"$f":"IF(P_22号様式!E84=\"\",\"\",P_22号様式!E84)","v":534},{"$f":"IF(P_22号様式!F84=\"\",\"\",P_22号様式!F84)","v":18477},{"$f":"IF(P_22号様式!G84=\"\",\"\",P_22号様式!G84)","v":0},{"$f":"IF(P_22号様式!H84=\"\",\"\",P_22号様式!H84)","v":19011},{"$f":"IF(P_22号様式!J84=\"\",\"\",P_22号様式!J84)","v":515},{"$f":"IF(P_22号様式!K84=\"\",\"\",P_22号様式!K84)","v":18496},{"$f":"IF(P_22号様式!L84=\"\",\"\",P_22号様式!L84)","v":0},{"$f":"IF(P_22号様式!M84=\"\",\"\",P_22号様式!M84)","v":19011},{"$f":"IF(P_22号様式!O84=\"\",\"\",P_22号様式!O84)","v":476},{"$f":"IF(P_22号様式!P84=\"\",\"\",P_22号様式!P84)","v":18535},{"$f":"IF(P_22号様式!Q84=\"\",\"\",P_22号様式!Q84)","v":0},{"$f":"IF(P_22号様式!R84=\"\",\"\",P_22号様式!R84)","v":19011},{"$f":"IF(P_22号様式!T84=\"\",\"\",P_22号様式!T84)","v":""},{"$f":"IF(P_22号様式!U84=\"\",\"\",P_22号様式!U84)","v":""},{"$f":"IF(P_22号様式!V84=\"\",\"\",P_22号様式!V84)","v":""},{"$f":"IF(P_22号様式!W84=\"\",\"\",P_22号様式!W84)","v":""}]
[{"$f":"IF(P_22号様式!C85=\"\",\"\",P_22号様式!C85)","v":"　中種子町"},null,{"$f":"IF(P_22号様式!E85=\"\",\"\",P_22号様式!E85)","v":147},{"$f":"IF(P_22号様式!F85=\"\",\"\",P_22号様式!F85)","v":4034},{"$f":"IF(P_22号様式!G85=\"\",\"\",P_22号様式!G85)","v":0},{"$f":"IF(P_22号様式!H85=\"\",\"\",P_22号様式!H85)","v":4181},{"$f":"IF(P_22号様式!J85=\"\",\"\",P_22号様式!J85)","v":139},{"$f":"IF(P_22号様式!K85=\"\",\"\",P_22号様式!K85)","v":4042},{"$f":"IF(P_22号様式!L85=\"\",\"\",P_22号様式!L85)","v":0},{"$f":"IF(P_22号様式!M85=\"\",\"\",P_22号様式!M85)","v":4181},{"$f":"IF(P_22号様式!O85=\"\",\"\",P_22号様式!O85)","v":135},{"$f":"IF(P_22号様式!P85=\"\",\"\",P_22号様式!P85)","v":4046},{"$f":"IF(P_22号様式!Q85=\"\",\"\",P_22号様式!Q85)","v":0},{"$f":"IF(P_22号様式!R85=\"\",\"\",P_22号様式!R85)","v":4181},{"$f":"IF(P_22号様式!T85=\"\",\"\",P_22号様式!T85)","v":""},{"$f":"IF(P_22号様式!U85=\"\",\"\",P_22号様式!U85)","v":""},{"$f":"IF(P_22号様式!V85=\"\",\"\",P_22号様式!V85)","v":""},{"$f":"IF(P_22号様式!W85=\"\",\"\",P_22号様式!W85)","v":""}]
[{"$f":"IF(P_22号様式!C86=\"\",\"\",P_22号様式!C86)","v":"　南種子町"},null,{"$f":"IF(P_22号様式!E86=\"\",\"\",P_22号様式!E86)","v":141},{"$f":"IF(P_22号様式!F86=\"\",\"\",P_22号様式!F86)","v":2700},{"$f":"IF(P_22号様式!G86=\"\",\"\",P_22号様式!G86)","v":0},{"$f":"IF(P_22号様式!H86=\"\",\"\",P_22号様式!H86)","v":2841},{"$f":"IF(P_22号様式!J86=\"\",\"\",P_22号様式!J86)","v":145},{"$f":"IF(P_22号様式!K86=\"\",\"\",P_22号様式!K86)","v":2696},{"$f":"IF(P_22号様式!L86=\"\",\"\",P_22号様式!L86)","v":0},{"$f":"IF(P_22号様式!M86=\"\",\"\",P_22号様式!M86)","v":2841},{"$f":"IF(P_22号様式!O86=\"\",\"\",P_22号様式!O86)","v":135},{"$f":"IF(P_22号様式!P86=\"\",\"\",P_22号様式!P86)","v":2706},{"$f":"IF(P_22号様式!Q86=\"\",\"\",P_22号様式!Q86)","v":0},{"$f":"IF(P_22号様式!R86=\"\",\"\",P_22号様式!R86)","v":2841},{"$f":"IF(P_22号様式!T86=\"\",\"\",P_22号様式!T86)","v":""},{"$f":"IF(P_22号様式!U86=\"\",\"\",P_22号様式!U86)","v":""},{"$f":"IF(P_22号様式!V86=\"\",\"\",P_22号様式!V86)","v":""},{"$f":"IF(P_22号様式!W86=\"\",\"\",P_22号様式!W86)","v":""}]
[{"$f":"IF(P_22号様式!C87=\"\",\"\",P_22号様式!C87)","v":"　屋久島町"},null,{"$f":"IF(P_22号様式!E87=\"\",\"\",P_22号様式!E87)","v":361},{"$f":"IF(P_22号様式!F87=\"\",\"\",P_22号様式!F87)","v":5949},{"$f":"IF(P_22号様式!G87=\"\",\"\",P_22号様式!G87)","v":0},{"$f":"IF(P_22号様式!H87=\"\",\"\",P_22号様式!H87)","v":6310},{"$f":"IF(P_22号様式!J87=\"\",\"\",P_22号様式!J87)","v":371},{"$f":"IF(P_22号様式!K87=\"\",\"\",P_22号様式!K87)","v":5939},{"$f":"IF(P_22号様式!L87=\"\",\"\",P_22号様式!L87)","v":0},{"$f":"IF(P_22号様式!M87=\"\",\"\",P_22号様式!M87)","v":6310},{"$f":"IF(P_22号様式!O87=\"\",\"\",P_22号様式!O87)","v":338},{"$f":"IF(P_22号様式!P87=\"\",\"\",P_22号様式!P87)","v":5972},{"$f":"IF(P_22号様式!Q87=\"\",\"\",P_22号様式!Q87)","v":0},{"$f":"IF(P_22号様式!R87=\"\",\"\",P_22号様式!R87)","v":6310},{"$f":"IF(P_22号様式!T87=\"\",\"\",P_22号様式!T87)","v":""},{"$f":"IF(P_22号様式!U87=\"\",\"\",P_22号様式!U87)","v":""},{"$f":"IF(P_22号様式!V87=\"\",\"\",P_22号様式!V87)","v":""},{"$f":"IF(P_22号様式!W87=\"\",\"\",P_22号様式!W87)","v":""}]
[]
["市　計",null,{"$f":"IF(P_22号様式!X45=\"\",\"\",P_22号様式!X45)","v":32050},{"$f":"IF(P_22号様式!Y45=\"\",\"\",P_22号様式!Y45)","v":603089},{"$f":"IF(P_22号様式!Z45=\"\",\"\",P_22号様式!Z45)","v":0},{"$f":"IF(P_22号様式!AA45=\"\",\"\",P_22号様式!AA45)","v":635139},{"$f":"IF(P_22号様式!AB45=\"\",\"\",P_22号様式!AB45)","v":31872},{"$f":"IF(P_22号様式!AC45=\"\",\"\",P_22号様式!AC45)","v":603267},{"$f":"IF(P_22号様式!AD45=\"\",\"\",P_22号様式!AD45)","v":0},{"$f":"IF(P_22号様式!AE45=\"\",\"\",P_22号様式!AE45)","v":635139},{"$f":"IF(P_22号様式!AF45=\"\",\"\",P_22号様式!AF45)","v":30249},{"$f":"IF(P_22号様式!AG45=\"\",\"\",P_22号様式!AG45)","v":604890},{"$f":"IF(P_22号様式!AH45=\"\",\"\",P_22号様式!AH45)","v":0},{"$f":"IF(P_22号様式!AI45=\"\",\"\",P_22号様式!AI45)","v":635139},{"$f":"IF(P_22号様式!AJ45=\"\",\"\",P_22号様式!AJ45)","v":""},{"$f":"IF(P_22号様式!AK45=\"\",\"\",P_22号様式!AK45)","v":""},{"$f":"IF(P_22号様式!AL45=\"\",\"\",P_22号様式!AL45)","v":""},{"$f":"IF(P_22号様式!AM45=\"\",\"\",P_22号様式!AM45)","v":""}]
["町村計",null,{"$f":"IF(P_22号様式!AN45=\"\",\"\",P_22号様式!AN45)","v":2883},{"$f":"IF(P_22号様式!AO45=\"\",\"\",P_22号様式!AO45)","v":101095},{"$f":"IF(P_22号様式!AP45=\"\",\"\",P_22号様式!AP45)","v":1},{"$f":"IF(P_22号様式!AQ45=\"\",\"\",P_22号様式!AQ45)","v":103979},{"$f":"IF(P_22号様式!AR45=\"\",\"\",P_22号様式!AR45)","v":2797},{"$f":"IF(P_22号様式!AS45=\"\",\"\",P_22号様式!AS45)","v":101181},{"$f":"IF(P_22号様式!AT45=\"\",\"\",P_22号様式!AT45)","v":1},{"$f":"IF(P_22号様式!AU45=\"\",\"\",P_22号様式!AU45)","v":103979},{"$f":"IF(P_22号様式!AV45=\"\",\"\",P_22号様式!AV45)","v":2668},{"$f":"IF(P_22号様式!AW45=\"\",\"\",P_22号様式!AW45)","v":101310},{"$f":"IF(P_22号様式!AX45=\"\",\"\",P_22号様式!AX45)","v":1},{"$f":"IF(P_22号様式!AY45=\"\",\"\",P_22号様式!AY45)","v":103979},{"$f":"IF(P_22号様式!AZ45=\"\",\"\",P_22号様式!AZ45)","v":""},{"$f":"IF(P_22号様式!BA45=\"\",\"\",P_22号様式!BA45)","v":""},{"$f":"IF(P_22号様式!BB45=\"\",\"\",P_22号様式!BB45)","v":""},{"$f":"IF(P_22号様式!BC45=\"\",\"\",P_22号様式!BC45)","v":""}]
["県計",null,{"$f":"IF(P_22号様式!BD45=\"\",\"\",P_22号様式!BD45)","v":34933},{"$f":"IF(P_22号様式!BE45=\"\",\"\",P_22号様式!BE45)","v":704184},{"$f":"IF(P_22号様式!BF45=\"\",\"\",P_22号様式!BF45)","v":1},{"$f":"IF(P_22号様式!BG45=\"\",\"\",P_22号様式!BG45)","v":739118},{"$f":"IF(P_22号様式!BH45=\"\",\"\",P_22号様式!BH45)","v":34669},{"$f":"IF(P_22号様式!BI45=\"\",\"\",P_22号様式!BI45)","v":704448},{"$f":"IF(P_22号様式!BJ45=\"\",\"\",P_22号様式!BJ45)","v":1},{"$f":"IF(P_22号様式!BK45=\"\",\"\",P_22号様式!BK45)","v":739118},{"$f":"IF(P_22号様式!BL45=\"\",\"\",P_22号様式!BL45)","v":32917},{"$f":"IF(P_22号様式!BM45=\"\",\"\",P_22号様式!BM45)","v":706200},{"$f":"IF(P_22号様式!BN45=\"\",\"\",P_22号様式!BN45)","v":1},{"$f":"IF(P_22号様式!BO45=\"\",\"\",P_22号様式!BO45)","v":739118},{"$f":"IF(P_22号様式!BP45=\"\",\"\",P_22号様式!BP45)","v":""},{"$f":"IF(P_22号様式!BQ45=\"\",\"\",P_22号様式!BQ45)","v":""},{"$f":"IF(P_22号様式!BR45=\"\",\"\",P_22号様式!BR45)","v":""},{"$f":"IF(P_22号様式!BS45=\"\",\"\",P_22号様式!BS45)","v":""}]
[null,null,null,null,null,null,null,null,null,null,null,null,null,null,null,null,{"$f":"IF(P_22号様式!A88=\"\",\" ページ\", P_22号様式!A88 & \"ページ\")","v":"3ページ"}]
["第22号様式",null,null,null,null,null,null,"開　票　速  報"]
[]
[null,{"$f":"IF(パラメタシート!B1=\"\",\"\",パラメタシート!B1)","v":"2017-10-22"}]
[null,"最高裁判所裁判官国民審査",null,null,null,null,null,null,null,null,null,null,null,{"$f":"IF(P_22号様式!BT88=\"0\",\"即日 開票  中間報告\",\"翌日 開票  中間報告\")","v":"即日 開票  中間報告"},null,{"$f":"IF(P_22号様式!BU88=\"\",\"     時     分\",P_22号様式!BU88)","v":"     時     分"}]
[null,null,null,null,null,null,null,null,null,null,null,null,null,"開票  結了報告",null,{"$f":"IF(P_22号様式!BV88=\"\",\"     時     分\",P_22号様式!BV88)","v":"01:25:00"},null,"鹿児島県"]
["市区町村名",null,{"$f":"IF(P_22号様式!D88=\"\",\"\",P_22号様式!D88)","v":"小池　裕"},null,null,null,{"$f":"IF(P_22号様式!I88=\"\",\"\",P_22号様式!I88)","v":"戸倉　三郎"},null,null,null,{"$f":"IF(P_22号様式!N88=\"\",\"\",P_22号様式!N88)","v":"山口　厚"},null,null,null,{"$f":"IF(P_22号様式!S88=\"\",\"\",P_22号様式!S88)","v":"菅野　博之"}]
[null,null,"罷免を可と","罷免を可と","記載無効","計","罷免を可と","罷免を可と","記載無効","計","罷免を可と","罷免を可と","記載無効","計","罷免を可と","罷免を可と","記載無効","計"]
[null,null,"する投票","しない投票",null,null,"する投票","しない投票",null,null,"する投票","しない投票",null,null,"する投票","しない投票"]
[{"$f":"IF(P_22号様式!C88=\"\",\"\",P_22号様式!C88)","v":"＊（熊毛郡）計"},null,{"$f":"IF(P_22号様式!E88=\"\",\"\",P_22号様式!E88)","v":760},{"$f":"IF(P_22号様式!F88=\"\",\"\",P_22号様式!F88)","v":12572},{"$f":"IF(P_22号様式!G88=\"\",\"\",P_22号様式!G88)","v":0},{"$f":"IF(P_22号様式!H88=\"\",\"\",P_22号様式!H88)","v":13332},{"$f":"IF(P_22号様式!J88=\"\",\"\",P_22号様式!J88)","v":652},{"$f":"IF(P_22号様式!K88=\"\",\"\",P_22号様式!K88)","v":12680},{"$f":"IF(P_22号様式!L88=\"\",\"\",P_22号様式!L88)","v":0},{"$f":"IF(P_22号様式!M88=\"\",\"\",P_22号様式!M88)","v":13332},{"$f":"IF(P_22号様式!O88=\"\",\"\",P_22号様式!O88)","v":694},{"$f":"IF(P_22号様式!P88=\"\",\"\",P_22号様式!P88)","v":12638},{"$f":"IF(P_22号様式!Q88=\"\",\"\",P_22号様式!Q88)","v":0},{"$f":"IF(P_22号様式!R88=\"\",\"\",P_22号様式!R88)","v":13332},{"$f":"IF(P_22号様式!T88=\"\",\"\",P_22号様式!T88)","v":675},{"$f":"IF(P_22号様式!U88=\"\",\"\",P_22号様式!U88)","v":12657},{"$f":"IF(P_22号様式!V88=\"\",\"\",P_22号様式!V88)","v":0},{"$f":"IF(P_22号様式!W88=\"\",\"\",P_22号様式!W88)","v":13332}]
[{"$f":"IF(P_22号様式!C89=\"\",\"\",P_22号様式!C89)","v":"　大和村"},null,{"$f":"IF(P_22号様式!E89=\"\",\"\",P_22号様式!E89)","v":28},{"$f":"IF(P_22号様式!F89=\"\",\"\",P_22号様式!F89)","v":924},{"$f":"IF(P_22号様式!G89=\"\",\"\",P_22号様式!G89)","v":0},{"$f":"IF(P_22号様式!H89=\"\",\"\",P_22号様式!H89)","v":952},{"$f":"IF(P_22号様式!J89=\"\",\"\",P_22号様式!J89)","v":25},{"$f":"IF(P_22号様式!K89=\"\",\"\",P_22号様式!K89)","v":927},{"$f":"IF(P_22号様式!L89=\"\",\"\",P_22号様式!L89)","v":0},{"$f":"IF(P_22号様式!M89=\"\",\"\",P_22号様式!M89)","v":952},{"$f":"IF(P_22号様式!O89=\"\",\"\",P_22号様式!O89)","v":25},{"$f":"IF(P_22号様式!P89=\"\",\"\",P_22号様式!P89)","v":927},{"$f":"IF(P_22号様式!Q89=\"\",\"\",P_22号様式!Q89)","v":0},{"$f":"IF(P_22号様式!R89=\"\",\"\",P_22号様式!R89)","v":952},{"$f":"IF(P_22号様式!T89=\"\",\"\",P_22号様式!T89)","v":26},{"$f":"IF(P_22号様式!U89=\"\",\"\",P_22号様式!U89)","v":926},{"$f":"IF(P_22号様式!V89=\"\",\"\",P_22号様式!V89)","v":0},{"$f":"IF(P_22号様式!W89=\"\",\"\",P_22号様式!W89)","v":952}]
[{"$f":"IF(P_22号様式!C90=\"\",\"\",P_22号様式!C90)","v":"　宇検村"},null,{"$f":"IF(P_22号様式!E90=\"\",\"\",P_22号様式!E90)","v":38},{"$f":"IF(P_22号様式!F90=\"\",\"\",P_22号様式!F90)","v":1291},{"$f":"IF(P_22号様式!G90=\"\",\"\",P_22号様式!G90)","v":0},{"$f":"IF(P_22号様式!H90=\"\",\"\",P_22号様式!H90)","v":1329},{"$f":"IF(P_22号様式!J90=\"\",\"\",P_22号様式!J90)","v":27},{"$f":"IF(P_22号様式!K90=\"\",\"\",P_22号様式!K90)","v":1302},{"$f":"IF(P_22号様式!L90=\"\",\"\",P_22号様式!L90)","v":0},{"$f":"IF(P_22号様式!M90=\"\",\"\",P_22号様式!M90)","v":1329},{"$f":"IF(P_22号様式!O90=\"\",\"\",P_22号様式!O90)","v":29},{"$f":"IF(P_22号様式!P90=\"\",\"\",P_22号様式!P90)","v":1300},{"$f":"IF(P_22号様式!Q90=\"\",\"\",P_22号様式!Q90)","v":0},{"$f":"IF(P_22号様式!R90=\"\",\"\",P_22号様式!R90)","v":1329},{"$f":"IF(P_22号様式!T90=\"\",\"\",P_22号様式!T90)","v":28},{"$f":"IF(P_22号様式!U90=\"\",\"\",P_22号様式!U90)","v":1301},{"$f":"IF(P_22号様式!V90=\"\",\"\",P_22号様式!V90)","v":0},{"$f":"IF(P_22号様式!W90=\"\",\"\",P_22号様式!W90)","v":1329}]
[{"$f":"IF(P_22号様式!C91=\"\",\"\",P_22号様式!C91)","v":"　瀬戸内町"},null,{"$f":"IF(P_22号様式!E91=\"\",\"\",P_22号様式!E91)","v":189},{"$f":"IF(P_22号様式!F91=\"\",\"\",P_22号様式!F91)","v":5614},{"$f":"IF(P_22号様式!G91=\"\",\"\",P_22号様式!G91)","v":0},{"$f":"IF(P_22号様式!H91=\"\",\"\",P_22号様式!H91)","v":5803},{"$f":"IF(P_22号様式!J91=\"\",\"\",P_22号様式!J91)","v":157},{"$f":"IF(P_22号様式!K91=\"\",\"\",P_22号様式!K91)","v":5646},{"$f":"IF(P_22号様式!L91=\"\",\"\",P_22号様式!L91)","v":0},{"$f":"IF(P_22号様式!M91=\"\",\"\",P_22号様式!M91)","v":5803},{"$f":"IF(P_22号様式!O91=\"\",\"\",P_22号様式!O91)","v":155},{"$f":"IF(P_22号様式!P91=\"\",\"\",P_22号様式!P91)","v":5648},{"$f":"IF(P_22号様式!Q91=\"\",\"\",P_22号様式!Q91)","v":0},{"$f":"IF(P_22号様式!R91=\"\",\"\",P_22号様式!R91)","v":5803},{"$f":"IF(P_22号様式!T91=\"\",\"\",P_22号様式!T91)","v":164},{"$f":"IF(P_22号様式!U91=\"\",\"\",P_22号様式!U91)","v":5639},{"$f":"IF(P_22号様式!V91=\"\",\"\",P_22号様式!V91)","v":0},{"$f":"IF(P_22号様式!W91=\"\",\"\",P_22号様式!W91)","v":5803}]
[{"$f":"IF(P_22号様式!C92=\"\",\"\",P_22号様式!C92)","v":"　龍郷町"},null,{"$f":"IF(P_22号様式!E92=\"\",\"\",P_22号様式!E92)","v":132},{"$f":"IF(P_22号様式!F92=\"\",\"\",P_22号様式!F92)","v":3976},{"$f":"IF(P_22号様式!G92=\"\",\"\",P_22号様式!G92)","v":0},{"$f":"IF(P_22号様式!H92=\"\",\"\",P_22号様式!H92)","v":4108},{"$f":"IF(P_22号様式!J92=\"\",\"\",P_22号様式!J92)","v":116},{"$f":"IF(P_22号様式!K92=\"\",\"\",P_22号様式!K92)","v":3992},{"$f":"IF(P_22号様式!L92=\"\",\"\",P_22号様式!L92)","v":0},{"$f":"IF(P_22号様式!M92=\"\",\"\",P_22号様式!M92)","v":4108},{"$f":"IF(P_22号様式!O92=\"\",\"\",P_22号様式!O92)","v":121},{"$f":"IF(P_22号様式!P92=\"\",\"\",P_22号様式!P92)","v":3987},{"$f":"IF(P_22号様式!Q92=\"\",\"\",P_22号様式!Q92)","v":0},{"$f":"IF(P_22号様式!R92=\"\",\"\",P_22号様式!R92)","v":4108},{"$f":"IF(P_22号様式!T92=\"\",\"\",P_22号様式!T92)","v":120},{"$f":"IF(P_22号様式!U92=\"\",\"\",P_22号様式!U92)","v":3988},{"$f":"IF(P_22号様式!V92=\"\",\"\",P_22号様式!V92)","v":0},{"$f":"IF(P_22号様式!W92=\"\",\"\",P_22号様式!W92)","v":4108}]
[{"$f":"IF(P_22号様式!C93=\"\",\"\",P_22号様式!C93)","v":"　喜界町"},null,{"$f":"IF(P_22号様式!E93=\"\",\"\",P_22号様式!E93)","v":97},{"$f":"IF(P_22号様式!F93=\"\",\"\",P_22号様式!F93)","v":4157},{"$f":"IF(P_22号様式!G93=\"\",\"\",P_22号様式!G93)","v":0},{"$f":"IF(P_22号様式!H93=\"\",\"\",P_22号様式!H93)","v":4254},{"$f":"IF(P_22号様式!J93=\"\",\"\",P_22号様式!J93)","v":73},{"$f":"IF(P_22号様式!K93=\"\",\"\",P_22号様式!K93)","v":4181},{"$f":"IF(P_22号様式!L93=\"\",\"\",P_22号様式!L93)","v":0},{"$f":"IF(P_22号様式!M93=\"\",\"\",P_22号様式!M93)","v":4254},{"$f":"IF(P_22号様式!O93=\"\",\"\",P_22号様式!O93)","v":82},{"$f":"IF(P_22号様式!P93=\"\",\"\",P_22号様式!P93)","v":4172},{"$f":"IF(P_22号様式!Q93=\"\",\"\",P_22号様式!Q93)","v":0},{"$f":"IF(P_22号様式!R93=\"\",\"\",P_22号様式!R93)","v":4254},{"$f":"IF(P_22号様式!T93=\"\",\"\",P_22号様式!T93)","v":82},{"$f":"IF(P_22号様式!U93=\"\",\"\",P_22号様式!U93)","v":4172},{"$f":"IF(P_22号様式!V93=\"\",\"\",P_22号様式!V93)","v":0},{"$f":"IF(P_22号様式!W93=\"\",\"\",P_22号様式!W93)","v":4254}]
[{"$f":"IF(P_22号様式!C94=\"\",\"\",P_22号様式!C94)","v":"　徳之島町"},null,{"$f":"IF(P_22号様式!E94=\"\",\"\",P_22号様式!E94)","v":177},{"$f":"IF(P_22号様式!F94=\"\",\"\",P_22号様式!F94)","v":5665},{"$f":"IF(P_22号様式!G94=\"\",\"\",P_22号様式!G94)","v":0},{"$f":"IF(P_22号様式!H94=\"\",\"\",P_22号様式!H94)","v":5842},{"$f":"IF(P_22号様式!J94=\"\",\"\",P_22号様式!J94)","v":153},{"$f":"IF(P_22号様式!K94=\"\",\"\",P_22号様式!K94)","v":5689},{"$f":"IF(P_22号様式!L94=\"\",\"\",P_22号様式!L94)","v":0},{"$f":"IF(P_22号様式!M94=\"\",\"\",P_22号様式!M94)","v":5842},{"$f":"IF(P_22号様式!O94=\"\",\"\",P_22号様式!O94)","v":157},{"$f":"IF(P_22号様式!P94=\"\",\"\",P_22号様式!P94)","v":5685},{"$f":"IF(P_22号様式!Q94=\"\",\"\",P_22号様式!Q94)","v":0},{"$f":"IF(P_22号様式!R94=\"\",\"\",P_22号様式!R94)","v":5842},{"$f":"IF(P_22号様式!T94=\"\",\"\",P_22号様式!T94)","v":154},{"$f":"IF(P_22号様式!U94=\"\",\"\",P_22号様式!U94)","v":5688},{"$f":"IF(P_22号様式!V94=\"\",\"\",P_22号様式!V94)","v":0},{"$f":"IF(P_22号様式!W94=\"\",\"\",P_22号様式!W94)","v":5842}]
[{"$f":"IF(P_22号様式!C95=\"\",\"\",P_22号様式!C95)","v":"　天城町"},null,{"$f":"IF(P_22号様式!E95=\"\",\"\",P_22号様式!E95)","v":80},{"$f":"IF(P_22号様式!F95=\"\",\"\",P_22号様式!F95)","v":3285},{"$f":"IF(P_22号様式!G95=\"\",\"\",P_22号様式!G95)","v":0},{"$f":"IF(P_22号様式!H95=\"\",\"\",P_22号様式!H95)","v":3365},{"$f":"IF(P_22号様式!J95=\"\",\"\",P_22号様式!J95)","v":66},{"$f":"IF(P_22号様式!K95=\"\",\"\",P_22号様式!K95)","v":3299},{"$f":"IF(P_22号様式!L95=\"\",\"\",P_22号様式!L95)","v":0},{"$f":"IF(P_22号様式!M95=\"\",\"\",P_22号様式!M95)","v":3365},{"$f":"IF(P_22号様式!O95=\"\",\"\",P_22号様式!O95)","v":71},{"$f":"IF(P_22号様式!P95=\"\",\"\",P_22号様式!P95)","v":3294},{"$f":"IF(P_22号様式!Q95=\"\",\"\",P_22号様式!Q95)","v":0},{"$f":"IF(P_22号様式!R95=\"\",\"\",P_22号様式!R95)","v":3365},{"$f":"IF(P_22号様式!T95=\"\",\"\",P_22号様式!T95)","v":68},{"$f":"IF(P_22号様式!U95=\"\",\"\",P_22号様式!U95)","v":3297},{"$f":"IF(P_22号様式!V95=\"\",\"\",P_22号様式!V95)","v":0},{"$f":"IF(P_22号様式!W95=\"\",\"\",P_22号様式!W95)","v":3365}]
[{"$f":"IF(P_22号様式!C96=\"\",\"\",P_22号様式!C96)","v":"　伊仙町"},null,{"$f":"IF(P_22号様式!E96=\"\",\"\",P_22号様式!E96)","v":98},{"$f":"IF(P_22号様式!F96=\"\",\"\",P_22号様式!F96)","v":4841},{"$f":"IF(P_22号様式!G96=\"\",\"\",P_22号様式!G96)","v":0},{"$f":"IF(P_22号様式!H96=\"\",\"\",P_22号様式!H96)","v":4939},{"$f":"IF(P_22号様式!J96=\"\",\"\",P_22号様式!J96)","v":82},{"$f":"IF(P_22号様式!K96=\"\",\"\",P_22号様式!K96)","v":4857},{"$f":"IF(P_22号様式!L96=\"\",\"\",P_22号様式!L96)","v":0},{"$f":"IF(P_22号様式!M96=\"\",\"\",P_22号様式!M96)","v":4939},{"$f":"IF(P_22号様式!O96=\"\",\"\",P_22号様式!O96)","v":87},{"$f":"IF(P_22号様式!P96=\"\",\"\",P_22号様式!P96)","v":4852},{"$f":"IF(P_22号様式!Q96=\"\",\"\",P_22号様式!Q96)","v":0},{"$f":"IF(P_22号様式!R96=\"\",\"\",P_22号様式!R96)","v":4939},{"$f":"IF(P_22号様式!T96=\"\",\"\",P_22号様式!T96)","v":90},{"$f":"IF(P_22号様式!U96=\"\",\"\",P_22号様式!U96)","v":4849},{"$f":"IF(P_22号様式!V96=\"\",\"\",P_22号様式!V96)","v":0},{"$f":"IF(P_22号様式!W96=\"\",\"\",P_22号様式!W96)","v":4939}]
[{"$f":"IF(P_22号様式!C97=\"\",\"\",P_22号様式!C97)","v":"　和泊町"},null,{"$f":"IF(P_22号様式!E97=\"\",\"\",P_22号様式!E97)","v":81},{"$f":"IF(P_22号様式!F97=\"\",\"\",P_22号様式!F97)","v":3846},{"$f":"IF(P_22号様式!G97=\"\",\"\",P_22号様式!G97)","v":0},{"$f":"IF(P_22号様式!H97=\"\",\"\",P_22号様式!H97)","v":3927},{"$f":"IF(P_22号様式!J97=\"\",\"\",P_22号様式!J97)","v":78},{"$f":"IF(P_22号様式!K97=\"\",\"\",P_22号様式!K97)","v":3849},{"$f":"IF(P_22号様式!L97=\"\",\"\",P_22号様式!L97)","v":0},{"$f":"IF(P_22号様式!M97=\"\",\"\",P_22号様式!M97)","v":3927},{"$f":"IF(P_22号様式!O97=\"\",\"\",P_22号様式!O97)","v":79},{"$f":"IF(P_22号様式!P97=\"\",\"\",P_22号様式!P97)","v":3848},{"$f":"IF(P_22号様式!Q97=\"\",\"\",P_22号様式!Q97)","v":0},{"$f":"IF(P_22号様式!R97=\"\",\"\",P_22号様式!R97)","v":3927},{"$f":"IF(P_22号様式!T97=\"\",\"\",P_22号様式!T97)","v":81},{"$f":"IF(P_22号様式!U97=\"\",\"\",P_22号様式!U97)","v":3846},{"$f":"IF(P_22号様式!V97=\"\",\"\",P_22号様式!V97)","v":0},{"$f":"IF(P_22号様式!W97=\"\",\"\",P_22号様式!W97)","v":3927}]
[{"$f":"IF(P_22号様式!C98=\"\",\"\",P_22号様式!C98)","v":"　知名町"},null,{"$f":"IF(P_22号様式!E98=\"\",\"\",P_22号様式!E98)","v":98},{"$f":"IF(P_22号様式!F98=\"\",\"\",P_22号様式!F98)","v":3335},{"$f":"IF(P_22号様式!G98=\"\",\"\",P_22号様式!G98)","v":0},{"$f":"IF(P_22号様式!H98=\"\",\"\",P_22号様式!H98)","v":3433},{"$f":"IF(P_22号様式!J98=\"\",\"\",P_22号様式!J98)","v":104},{"$f":"IF(P_22号様式!K98=\"\",\"\",P_22号様式!K98)","v":3329},{"$f":"IF(P_22号様式!L98=\"\",\"\",P_22号様式!L98)","v":0},{"$f":"IF(P_22号様式!M98=\"\",\"\",P_22号様式!M98)","v":3433},{"$f":"IF(P_22号様式!O98=\"\",\"\",P_22号様式!O98)","v":101},{"$f":"IF(P_22号様式!P98=\"\",\"\",P_22号様式!P98)","v":3332},{"$f":"IF(P_22号様式!Q98=\"\",\"\",P_22号様式!Q98)","v":0},{"$f":"IF(P_22号様式!R98=\"\",\"\",P_22号様式!R98)","v":3433},{"$f":"IF(P_22号様式!T98=\"\",\"\",P_22号様式!T98)","v":106},{"$f":"IF(P_22号様式!U98=\"\",\"\",P_22号様式!U98)","v":3327},{"$f":"IF(P_22号様式!V98=\"\",\"\",P_22号様式!V98)","v":0},{"$f":"IF(P_22号様式!W98=\"\",\"\",P_22号様式!W98)","v":3433}]
[{"$f":"IF(P_22号様式!C99=\"\",\"\",P_22号様式!C99)","v":"　与論町"},null,{"$f":"IF(P_22号様式!E99=\"\",\"\",P_22号様式!E99)","v":115},{"$f":"IF(P_22号様式!F99=\"\",\"\",P_22号様式!F99)","v":2759},{"$f":"IF(P_22号様式!G99=\"\",\"\",P_22号様式!G99)","v":0},{"$f":"IF(P_22号様式!H99=\"\",\"\",P_22号様式!H99)","v":2874},{"$f":"IF(P_22号様式!J99=\"\",\"\",P_22号様式!J99)","v":99},{"$f":"IF(P_22号様式!K99=\"\",\"\",P_22号様式!K99)","v":2775},{"$f":"IF(P_22号様式!L99=\"\",\"\",P_22号様式!L99)","v":0},{"$f":"IF(P_22号様式!M99=\"\",\"\",P_22号様式!M99)","v":2874},{"$f":"IF(P_22号様式!O99=\"\",\"\",P_22号様式!O99)","v":110},{"$f":"IF(P_22号様式!P99=\"\",\"\",P_22号様式!P99)","v":2764},{"$f":"IF(P_22号様式!Q99=\"\",\"\",P_22号様式!Q99)","v":0},{"$f":"IF(P_22号様式!R99=\"\",\"\",P_22号様式!R99)","v":2874},{"$f":"IF(P_22号様式!T99=\"\",\"\",P_22号様式!T99)","v":96},{"$f":"IF(P_22号様式!U99=\"\",\"\",P_22号様式!U99)","v":2778},{"$f":"IF(P_22号様式!V99=\"\",\"\",P_22号様式!V99)","v":0},{"$f":"IF(P_22号様式!W99=\"\",\"\",P_22号様式!W99)","v":2874}]
[{"$f":"IF(P_22号様式!C100=\"\",\"\",P_22号様式!C100)","v":"＊（大島郡）計"},null,{"$f":"IF(P_22号様式!E100=\"\",\"\",P_22号様式!E100)","v":1133},{"$f":"IF(P_22号様式!F100=\"\",\"\",P_22号様式!F100)","v":39693},{"$f":"IF(P_22号様式!G100=\"\",\"\",P_22号様式!G100)","v":0},{"$f":"IF(P_22号様式!H100=\"\",\"\",P_22号様式!H100)","v":40826},{"$f":"IF(P_22号様式!J100=\"\",\"\",P_22号様式!J100)","v":980},{"$f":"IF(P_22号様式!K100=\"\",\"\",P_22号様式!K100)","v":39846},{"$f":"IF(P_22号様式!L100=\"\",\"\",P_22号様式!L100)","v":0},{"$f":"IF(P_22号様式!M100=\"\",\"\",P_22号様式!M100)","v":40826},{"$f":"IF(P_22号様式!O100=\"\",\"\",P_22号様式!O100)","v":1017},{"$f":"IF(P_22号様式!P100=\"\",\"\",P_22号様式!P100)","v":39809},{"$f":"IF(P_22号様式!Q100=\"\",\"\",P_22号様式!Q100)","v":0},{"$f":"IF(P_22号様式!R100=\"\",\"\",P_22号様式!R100)","v":40826},{"$f":"IF(P_22号様式!T100=\"\",\"\",P_22号様式!T100)","v":1015},{"$f":"IF(P_22号様式!U100=\"\",\"\",P_22号様式!U100)","v":39811},{"$f":"IF(P_22号様式!V100=\"\",\"\",P_22号様式!V100)","v":0},{"$f":"IF(P_22号様式!W100=\"\",\"\",P_22号様式!W100)","v":40826}]
[{"$f":"IF(P_22号様式!C101=\"\",\"\",P_22号様式!C101)","v":""},null,{"$f":"IF(P_22号様式!E101=\"\",\"\",P_22号様式!E101)","v":""},{"$f":"IF(P_22号様式!F101=\"\",\"\",P_22号様式!F101)","v":""},{"$f":"IF(P_22号様式!G101=\"\",\"\",P_22号様式!G101)","v":""},{"$f":"IF(P_22号様式!H101=\"\",\"\",P_22号様式!H101)","v":""},{"$f":"IF(P_22号様式!J101=\"\",\"\",P_22号様式!J101)","v":""},{"$f":"IF(P_22号様式!K101=\"\",\"\",P_22号様式!K101)","v":""},{"$f":"IF(P_22号様式!L101=\"\",\"\",P_22号様式!L101)","v":""},{"$f":"IF(P_22号様式!M101=\"\",\"\",P_22号様式!M101)","v":""},{"$f":"IF(P_22号様式!O101=\"\",\"\",P_22号様式!O101)","v":""},{"$f":"IF(P_22号様式!P101=\"\",\"\",P_22号様式!P101)","v":""},{"$f":"IF(P_22号様式!Q101=\"\",\"\",P_22号様式!Q101)","v":""},{"$f":"IF(P_22号様式!R101=\"\",\"\",P_22号様式!R101)","v":""},{"$f":"IF(P_22号様式!T101=\"\",\"\",P_22号様式!T101)","v":""},{"$f":"IF(P_22号様式!U101=\"\",\"\",P_22号様式!U101)","v":""},{"$f":"IF(P_22号様式!V101=\"\",\"\",P_22号様式!V101)","v":""},{"$f":"IF(P_22号様式!W101=\"\",\"\",P_22号様式!W101)","v":""}]
[{"$f":"IF(P_22号様式!C102=\"\",\"\",P_22号様式!C102)","v":""},null,{"$f":"IF(P_22号様式!E102=\"\",\"\",P_22号様式!E102)","v":""},{"$f":"IF(P_22号様式!F102=\"\",\"\",P_22号様式!F102)","v":""},{"$f":"IF(P_22号様式!G102=\"\",\"\",P_22号様式!G102)","v":""},{"$f":"IF(P_22号様式!H102=\"\",\"\",P_22号様式!H102)","v":""},{"$f":"IF(P_22号様式!J102=\"\",\"\",P_22号様式!J102)","v":""},{"$f":"IF(P_22号様式!K102=\"\",\"\",P_22号様式!K102)","v":""},{"$f":"IF(P_22号様式!L102=\"\",\"\",P_22号様式!L102)","v":""},{"$f":"IF(P_22号様式!M102=\"\",\"\",P_22号様式!M102)","v":""},{"$f":"IF(P_22号様式!O102=\"\",\"\",P_22号様式!O102)","v":""},{"$f":"IF(P_22号様式!P102=\"\",\"\",P_22号様式!P102)","v":""},{"$f":"IF(P_22号様式!Q102=\"\",\"\",P_22号様式!Q102)","v":""},{"$f":"IF(P_22号様式!R102=\"\",\"\",P_22号様式!R102)","v":""},{"$f":"IF(P_22号様式!T102=\"\",\"\",P_22号様式!T102)","v":""},{"$f":"IF(P_22号様式!U102=\"\",\"\",P_22号様式!U102)","v":""},{"$f":"IF(P_22号様式!V102=\"\",\"\",P_22号様式!V102)","v":""},{"$f":"IF(P_22号様式!W102=\"\",\"\",P_22号様式!W102)","v":""}]
[{"$f":"IF(P_22号様式!C103=\"\",\"\",P_22号様式!C103)","v":""},null,{"$f":"IF(P_22号様式!E103=\"\",\"\",P_22号様式!E103)","v":""},{"$f":"IF(P_22号様式!F103=\"\",\"\",P_22号様式!F103)","v":""},{"$f":"IF(P_22号様式!G103=\"\",\"\",P_22号様式!G103)","v":""},{"$f":"IF(P_22号様式!H103=\"\",\"\",P_22号様式!H103)","v":""},{"$f":"IF(P_22号様式!J103=\"\",\"\",P_22号様式!J103)","v":""},{"$f":"IF(P_22号様式!K103=\"\",\"\",P_22号様式!K103)","v":""},{"$f":"IF(P_22号様式!L103=\"\",\"\",P_22号様式!L103)","v":""},{"$f":"IF(P_22号様式!M103=\"\",\"\",P_22号様式!M103)","v":""},{"$f":"IF(P_22号様式!O103=\"\",\"\",P_22号様式!O103)","v":""},{"$f":"IF(P_22号様式!P103=\"\",\"\",P_22号様式!P103)","v":""},{"$f":"IF(P_22号様式!Q103=\"\",\"\",P_22号様式!Q103)","v":""},{"$f":"IF(P_22号様式!R103=\"\",\"\",P_22号様式!R103)","v":""},{"$f":"IF(P_22号様式!T103=\"\",\"\",P_22号様式!T103)","v":""},{"$f":"IF(P_22号様式!U103=\"\",\"\",P_22号様式!U103)","v":""},{"$f":"IF(P_22号様式!V103=\"\",\"\",P_22号様式!V103)","v":""},{"$f":"IF(P_22号様式!W103=\"\",\"\",P_22号様式!W103)","v":""}]
[{"$f":"IF(P_22号様式!C104=\"\",\"\",P_22号様式!C104)","v":""},null,{"$f":"IF(P_22号様式!E104=\"\",\"\",P_22号様式!E104)","v":""},{"$f":"IF(P_22号様式!F104=\"\",\"\",P_22号様式!F104)","v":""},{"$f":"IF(P_22号様式!G104=\"\",\"\",P_22号様式!G104)","v":""},{"$f":"IF(P_22号様式!H104=\"\",\"\",P_22号様式!H104)","v":""},{"$f":"IF(P_22号様式!J104=\"\",\"\",P_22号様式!J104)","v":""},{"$f":"IF(P_22号様式!K104=\"\",\"\",P_22号様式!K104)","v":""},{"$f":"IF(P_22号様式!L104=\"\",\"\",P_22号様式!L104)","v":""},{"$f":"IF(P_22号様式!M104=\"\",\"\",P_22号様式!M104)","v":""},{"$f":"IF(P_22号様式!O104=\"\",\"\",P_22号様式!O104)","v":""},{"$f":"IF(P_22号様式!P104=\"\",\"\",P_22号様式!P104)","v":""},{"$f":"IF(P_22号様式!Q104=\"\",\"\",P_22号様式!Q104)","v":""},{"$f":"IF(P_22号様式!R104=\"\",\"\",P_22号様式!R104)","v":""},{"$f":"IF(P_22号様式!T104=\"\",\"\",P_22号様式!T104)","v":""},{"$f":"IF(P_22号様式!U104=\"\",\"\",P_22号様式!U104)","v":""},{"$f":"IF(P_22号様式!V104=\"\",\"\",P_22号様式!V104)","v":""},{"$f":"IF(P_22号様式!W104=\"\",\"\",P_22号様式!W104)","v":""}]
[{"$f":"IF(P_22号様式!C105=\"\",\"\",P_22号様式!C105)","v":""},null,{"$f":"IF(P_22号様式!E105=\"\",\"\",P_22号様式!E105)","v":""},{"$f":"IF(P_22号様式!F105=\"\",\"\",P_22号様式!F105)","v":""},{"$f":"IF(P_22号様式!G105=\"\",\"\",P_22号様式!G105)","v":""},{"$f":"IF(P_22号様式!H105=\"\",\"\",P_22号様式!H105)","v":""},{"$f":"IF(P_22号様式!J105=\"\",\"\",P_22号様式!J105)","v":""},{"$f":"IF(P_22号様式!K105=\"\",\"\",P_22号様式!K105)","v":""},{"$f":"IF(P_22号様式!L105=\"\",\"\",P_22号様式!L105)","v":""},{"$f":"IF(P_22号様式!M105=\"\",\"\",P_22号様式!M105)","v":""},{"$f":"IF(P_22号様式!O105=\"\",\"\",P_22号様式!O105)","v":""},{"$f":"IF(P_22号様式!P105=\"\",\"\",P_22号様式!P105)","v":""},{"$f":"IF(P_22号様式!Q105=\"\",\"\",P_22号様式!Q105)","v":""},{"$f":"IF(P_22号様式!R105=\"\",\"\",P_22号様式!R105)","v":""},{"$f":"IF(P_22号様式!T105=\"\",\"\",P_22号様式!T105)","v":""},{"$f":"IF(P_22号様式!U105=\"\",\"\",P_22号様式!U105)","v":""},{"$f":"IF(P_22号様式!V105=\"\",\"\",P_22号様式!V105)","v":""},{"$f":"IF(P_22号様式!W105=\"\",\"\",P_22号様式!W105)","v":""}]
[{"$f":"IF(P_22号様式!C106=\"\",\"\",P_22号様式!C106)","v":""},null,{"$f":"IF(P_22号様式!E106=\"\",\"\",P_22号様式!E106)","v":""},{"$f":"IF(P_22号様式!F106=\"\",\"\",P_22号様式!F106)","v":""},{"$f":"IF(P_22号様式!G106=\"\",\"\",P_22号様式!G106)","v":""},{"$f":"IF(P_22号様式!H106=\"\",\"\",P_22号様式!H106)","v":""},{"$f":"IF(P_22号様式!J106=\"\",\"\",P_22号様式!J106)","v":""},{"$f":"IF(P_22号様式!K106=\"\",\"\",P_22号様式!K106)","v":""},{"$f":"IF(P_22号様式!L106=\"\",\"\",P_22号様式!L106)","v":""},{"$f":"IF(P_22号様式!M106=\"\",\"\",P_22号様式!M106)","v":""},{"$f":"IF(P_22号様式!O106=\"\",\"\",P_22号様式!O106)","v":""},{"$f":"IF(P_22号様式!P106=\"\",\"\",P_22号様式!P106)","v":""},{"$f":"IF(P_22号様式!Q106=\"\",\"\",P_22号様式!Q106)","v":""},{"$f":"IF(P_22号様式!R106=\"\",\"\",P_22号様式!R106)","v":""},{"$f":"IF(P_22号様式!T106=\"\",\"\",P_22号様式!T106)","v":""},{"$f":"IF(P_22号様式!U106=\"\",\"\",P_22号様式!U106)","v":""},{"$f":"IF(P_22号様式!V106=\"\",\"\",P_22号様式!V106)","v":""},{"$f":"IF(P_22号様式!W106=\"\",\"\",P_22号様式!W106)","v":""}]
[{"$f":"IF(P_22号様式!C107=\"\",\"\",P_22号様式!C107)","v":""},null,{"$f":"IF(P_22号様式!E107=\"\",\"\",P_22号様式!E107)","v":""},{"$f":"IF(P_22号様式!F107=\"\",\"\",P_22号様式!F107)","v":""},{"$f":"IF(P_22号様式!G107=\"\",\"\",P_22号様式!G107)","v":""},{"$f":"IF(P_22号様式!H107=\"\",\"\",P_22号様式!H107)","v":""},{"$f":"IF(P_22号様式!J107=\"\",\"\",P_22号様式!J107)","v":""},{"$f":"IF(P_22号様式!K107=\"\",\"\",P_22号様式!K107)","v":""},{"$f":"IF(P_22号様式!L107=\"\",\"\",P_22号様式!L107)","v":""},{"$f":"IF(P_22号様式!M107=\"\",\"\",P_22号様式!M107)","v":""},{"$f":"IF(P_22号様式!O107=\"\",\"\",P_22号様式!O107)","v":""},{"$f":"IF(P_22号様式!P107=\"\",\"\",P_22号様式!P107)","v":""},{"$f":"IF(P_22号様式!Q107=\"\",\"\",P_22号様式!Q107)","v":""},{"$f":"IF(P_22号様式!R107=\"\",\"\",P_22号様式!R107)","v":""},{"$f":"IF(P_22号様式!T107=\"\",\"\",P_22号様式!T107)","v":""},{"$f":"IF(P_22号様式!U107=\"\",\"\",P_22号様式!U107)","v":""},{"$f":"IF(P_22号様式!V107=\"\",\"\",P_22号様式!V107)","v":""},{"$f":"IF(P_22号様式!W107=\"\",\"\",P_22号様式!W107)","v":""}]
[{"$f":"IF(P_22号様式!C108=\"\",\"\",P_22号様式!C108)","v":""},null,{"$f":"IF(P_22号様式!E108=\"\",\"\",P_22号様式!E108)","v":""},{"$f":"IF(P_22号様式!F108=\"\",\"\",P_22号様式!F108)","v":""},{"$f":"IF(P_22号様式!G108=\"\",\"\",P_22号様式!G108)","v":""},{"$f":"IF(P_22号様式!H108=\"\",\"\",P_22号様式!H108)","v":""},{"$f":"IF(P_22号様式!J108=\"\",\"\",P_22号様式!J108)","v":""},{"$f":"IF(P_22号様式!K108=\"\",\"\",P_22号様式!K108)","v":""},{"$f":"IF(P_22号様式!L108=\"\",\"\",P_22号様式!L108)","v":""},{"$f":"IF(P_22号様式!M108=\"\",\"\",P_22号様式!M108)","v":""},{"$f":"IF(P_22号様式!O108=\"\",\"\",P_22号様式!O108)","v":""},{"$f":"IF(P_22号様式!P108=\"\",\"\",P_22号様式!P108)","v":""},{"$f":"IF(P_22号様式!Q108=\"\",\"\",P_22号様式!Q108)","v":""},{"$f":"IF(P_22号様式!R108=\"\",\"\",P_22号様式!R108)","v":""},{"$f":"IF(P_22号様式!T108=\"\",\"\",P_22号様式!T108)","v":""},{"$f":"IF(P_22号様式!U108=\"\",\"\",P_22号様式!U108)","v":""},{"$f":"IF(P_22号様式!V108=\"\",\"\",P_22号様式!V108)","v":""},{"$f":"IF(P_22号様式!W108=\"\",\"\",P_22号様式!W108)","v":""}]
[{"$f":"IF(P_22号様式!C109=\"\",\"\",P_22号様式!C109)","v":""},null,{"$f":"IF(P_22号様式!E109=\"\",\"\",P_22号様式!E109)","v":""},{"$f":"IF(P_22号様式!F109=\"\",\"\",P_22号様式!F109)","v":""},{"$f":"IF(P_22号様式!G109=\"\",\"\",P_22号様式!G109)","v":""},{"$f":"IF(P_22号様式!H109=\"\",\"\",P_22号様式!H109)","v":""},{"$f":"IF(P_22号様式!J109=\"\",\"\",P_22号様式!J109)","v":""},{"$f":"IF(P_22号様式!K109=\"\",\"\",P_22号様式!K109)","v":""},{"$f":"IF(P_22号様式!L109=\"\",\"\",P_22号様式!L109)","v":""},{"$f":"IF(P_22号様式!M109=\"\",\"\",P_22号様式!M109)","v":""},{"$f":"IF(P_22号様式!O109=\"\",\"\",P_22号様式!O109)","v":""},{"$f":"IF(P_22号様式!P109=\"\",\"\",P_22号様式!P109)","v":""},{"$f":"IF(P_22号様式!Q109=\"\",\"\",P_22号様式!Q109)","v":""},{"$f":"IF(P_22号様式!R109=\"\",\"\",P_22号様式!R109)","v":""},{"$f":"IF(P_22号様式!T109=\"\",\"\",P_22号様式!T109)","v":""},{"$f":"IF(P_22号様式!U109=\"\",\"\",P_22号様式!U109)","v":""},{"$f":"IF(P_22号様式!V109=\"\",\"\",P_22号様式!V109)","v":""},{"$f":"IF(P_22号様式!W109=\"\",\"\",P_22号様式!W109)","v":""}]
[{"$f":"IF(P_22号様式!C110=\"\",\"\",P_22号様式!C110)","v":""},null,{"$f":"IF(P_22号様式!E110=\"\",\"\",P_22号様式!E110)","v":""},{"$f":"IF(P_22号様式!F110=\"\",\"\",P_22号様式!F110)","v":""},{"$f":"IF(P_22号様式!G110=\"\",\"\",P_22号様式!G110)","v":""},{"$f":"IF(P_22号様式!H110=\"\",\"\",P_22号様式!H110)","v":""},{"$f":"IF(P_22号様式!J110=\"\",\"\",P_22号様式!J110)","v":""},{"$f":"IF(P_22号様式!K110=\"\",\"\",P_22号様式!K110)","v":""},{"$f":"IF(P_22号様式!L110=\"\",\"\",P_22号様式!L110)","v":""},{"$f":"IF(P_22号様式!M110=\"\",\"\",P_22号様式!M110)","v":""},{"$f":"IF(P_22号様式!O110=\"\",\"\",P_22号様式!O110)","v":""},{"$f":"IF(P_22号様式!P110=\"\",\"\",P_22号様式!P110)","v":""},{"$f":"IF(P_22号様式!Q110=\"\",\"\",P_22号様式!Q110)","v":""},{"$f":"IF(P_22号様式!R110=\"\",\"\",P_22号様式!R110)","v":""},{"$f":"IF(P_22号様式!T110=\"\",\"\",P_22号様式!T110)","v":""},{"$f":"IF(P_22号様式!U110=\"\",\"\",P_22号様式!U110)","v":""},{"$f":"IF(P_22号様式!V110=\"\",\"\",P_22号様式!V110)","v":""},{"$f":"IF(P_22号様式!W110=\"\",\"\",P_22号様式!W110)","v":""}]
[{"$f":"IF(P_22号様式!C111=\"\",\"\",P_22号様式!C111)","v":""},null,{"$f":"IF(P_22号様式!E111=\"\",\"\",P_22号様式!E111)","v":""},{"$f":"IF(P_22号様式!F111=\"\",\"\",P_22号様式!F111)","v":""},{"$f":"IF(P_22号様式!G111=\"\",\"\",P_22号様式!G111)","v":""},{"$f":"IF(P_22号様式!H111=\"\",\"\",P_22号様式!H111)","v":""},{"$f":"IF(P_22号様式!J111=\"\",\"\",P_22号様式!J111)","v":""},{"$f":"IF(P_22号様式!K111=\"\",\"\",P_22号様式!K111)","v":""},{"$f":"IF(P_22号様式!L111=\"\",\"\",P_22号様式!L111)","v":""},{"$f":"IF(P_22号様式!M111=\"\",\"\",P_22号様式!M111)","v":""},{"$f":"IF(P_22号様式!O111=\"\",\"\",P_22号様式!O111)","v":""},{"$f":"IF(P_22号様式!P111=\"\",\"\",P_22号様式!P111)","v":""},{"$f":"IF(P_22号様式!Q111=\"\",\"\",P_22号様式!Q111)","v":""},{"$f":"IF(P_22号様式!R111=\"\",\"\",P_22号様式!R111)","v":""},{"$f":"IF(P_22号様式!T111=\"\",\"\",P_22号様式!T111)","v":""},{"$f":"IF(P_22号様式!U111=\"\",\"\",P_22号様式!U111)","v":""},{"$f":"IF(P_22号様式!V111=\"\",\"\",P_22号様式!V111)","v":""},{"$f":"IF(P_22号様式!W111=\"\",\"\",P_22号様式!W111)","v":""}]
[{"$f":"IF(P_22号様式!C112=\"\",\"\",P_22号様式!C112)","v":""},null,{"$f":"IF(P_22号様式!E112=\"\",\"\",P_22号様式!E112)","v":""},{"$f":"IF(P_22号様式!F112=\"\",\"\",P_22号様式!F112)","v":""},{"$f":"IF(P_22号様式!G112=\"\",\"\",P_22号様式!G112)","v":""},{"$f":"IF(P_22号様式!H112=\"\",\"\",P_22号様式!H112)","v":""},{"$f":"IF(P_22号様式!J112=\"\",\"\",P_22号様式!J112)","v":""},{"$f":"IF(P_22号様式!K112=\"\",\"\",P_22号様式!K112)","v":""},{"$f":"IF(P_22号様式!L112=\"\",\"\",P_22号様式!L112)","v":""},{"$f":"IF(P_22号様式!M112=\"\",\"\",P_22号様式!M112)","v":""},{"$f":"IF(P_22号様式!O112=\"\",\"\",P_22号様式!O112)","v":""},{"$f":"IF(P_22号様式!P112=\"\",\"\",P_22号様式!P112)","v":""},{"$f":"IF(P_22号様式!Q112=\"\",\"\",P_22号様式!Q112)","v":""},{"$f":"IF(P_22号様式!R112=\"\",\"\",P_22号様式!R112)","v":""},{"$f":"IF(P_22号様式!T112=\"\",\"\",P_22号様式!T112)","v":""},{"$f":"IF(P_22号様式!U112=\"\",\"\",P_22号様式!U112)","v":""},{"$f":"IF(P_22号様式!V112=\"\",\"\",P_22号様式!V112)","v":""},{"$f":"IF(P_22号様式!W112=\"\",\"\",P_22号様式!W112)","v":""}]
[{"$f":"IF(P_22号様式!C113=\"\",\"\",P_22号様式!C113)","v":""},null,{"$f":"IF(P_22号様式!E113=\"\",\"\",P_22号様式!E113)","v":""},{"$f":"IF(P_22号様式!F113=\"\",\"\",P_22号様式!F113)","v":""},{"$f":"IF(P_22号様式!G113=\"\",\"\",P_22号様式!G113)","v":""},{"$f":"IF(P_22号様式!H113=\"\",\"\",P_22号様式!H113)","v":""},{"$f":"IF(P_22号様式!J113=\"\",\"\",P_22号様式!J113)","v":""},{"$f":"IF(P_22号様式!K113=\"\",\"\",P_22号様式!K113)","v":""},{"$f":"IF(P_22号様式!L113=\"\",\"\",P_22号様式!L113)","v":""},{"$f":"IF(P_22号様式!M113=\"\",\"\",P_22号様式!M113)","v":""},{"$f":"IF(P_22号様式!O113=\"\",\"\",P_22号様式!O113)","v":""},{"$f":"IF(P_22号様式!P113=\"\",\"\",P_22号様式!P113)","v":""},{"$f":"IF(P_22号様式!Q113=\"\",\"\",P_22号様式!Q113)","v":""},{"$f":"IF(P_22号様式!R113=\"\",\"\",P_22号様式!R113)","v":""},{"$f":"IF(P_22号様式!T113=\"\",\"\",P_22号様式!T113)","v":""},{"$f":"IF(P_22号様式!U113=\"\",\"\",P_22号様式!U113)","v":""},{"$f":"IF(P_22号様式!V113=\"\",\"\",P_22号様式!V113)","v":""},{"$f":"IF(P_22号様式!W113=\"\",\"\",P_22号様式!W113)","v":""}]
[{"$f":"IF(P_22号様式!C114=\"\",\"\",P_22号様式!C114)","v":""},null,{"$f":"IF(P_22号様式!E114=\"\",\"\",P_22号様式!E114)","v":""},{"$f":"IF(P_22号様式!F114=\"\",\"\",P_22号様式!F114)","v":""},{"$f":"IF(P_22号様式!G114=\"\",\"\",P_22号様式!G114)","v":""},{"$f":"IF(P_22号様式!H114=\"\",\"\",P_22号様式!H114)","v":""},{"$f":"IF(P_22号様式!J114=\"\",\"\",P_22号様式!J114)","v":""},{"$f":"IF(P_22号様式!K114=\"\",\"\",P_22号様式!K114)","v":""},{"$f":"IF(P_22号様式!L114=\"\",\"\",P_22号様式!L114)","v":""},{"$f":"IF(P_22号様式!M114=\"\",\"\",P_22号様式!M114)","v":""},{"$f":"IF(P_22号様式!O114=\"\",\"\",P_22号様式!O114)","v":""},{"$f":"IF(P_22号様式!P114=\"\",\"\",P_22号様式!P114)","v":""},{"$f":"IF(P_22号様式!Q114=\"\",\"\",P_22号様式!Q114)","v":""},{"$f":"IF(P_22号様式!R114=\"\",\"\",P_22号様式!R114)","v":""},{"$f":"IF(P_22号様式!T114=\"\",\"\",P_22号様式!T114)","v":""},{"$f":"IF(P_22号様式!U114=\"\",\"\",P_22号様式!U114)","v":""},{"$f":"IF(P_22号様式!V114=\"\",\"\",P_22号様式!V114)","v":""},{"$f":"IF(P_22号様式!W114=\"\",\"\",P_22号様式!W114)","v":""}]
[{"$f":"IF(P_22号様式!C115=\"\",\"\",P_22号様式!C115)","v":""},null,{"$f":"IF(P_22号様式!E115=\"\",\"\",P_22号様式!E115)","v":""},{"$f":"IF(P_22号様式!F115=\"\",\"\",P_22号様式!F115)","v":""},{"$f":"IF(P_22号様式!G115=\"\",\"\",P_22号様式!G115)","v":""},{"$f":"IF(P_22号様式!H115=\"\",\"\",P_22号様式!H115)","v":""},{"$f":"IF(P_22号様式!J115=\"\",\"\",P_22号様式!J115)","v":""},{"$f":"IF(P_22号様式!K115=\"\",\"\",P_22号様式!K115)","v":""},{"$f":"IF(P_22号様式!L115=\"\",\"\",P_22号様式!L115)","v":""},{"$f":"IF(P_22号様式!M115=\"\",\"\",P_22号様式!M115)","v":""},{"$f":"IF(P_22号様式!O115=\"\",\"\",P_22号様式!O115)","v":""},{"$f":"IF(P_22号様式!P115=\"\",\"\",P_22号様式!P115)","v":""},{"$f":"IF(P_22号様式!Q115=\"\",\"\",P_22号様式!Q115)","v":""},{"$f":"IF(P_22号様式!R115=\"\",\"\",P_22号様式!R115)","v":""},{"$f":"IF(P_22号様式!T115=\"\",\"\",P_22号様式!T115)","v":""},{"$f":"IF(P_22号様式!U115=\"\",\"\",P_22号様式!U115)","v":""},{"$f":"IF(P_22号様式!V115=\"\",\"\",P_22号様式!V115)","v":""},{"$f":"IF(P_22号様式!W115=\"\",\"\",P_22号様式!W115)","v":""}]
[{"$f":"IF(P_22号様式!C116=\"\",\"\",P_22号様式!C116)","v":""},null,{"$f":"IF(P_22号様式!E116=\"\",\"\",P_22号様式!E116)","v":""},{"$f":"IF(P_22号様式!F116=\"\",\"\",P_22号様式!F116)","v":""},{"$f":"IF(P_22号様式!G116=\"\",\"\",P_22号様式!G116)","v":""},{"$f":"IF(P_22号様式!H116=\"\",\"\",P_22号様式!H116)","v":""},{"$f":"IF(P_22号様式!J116=\"\",\"\",P_22号様式!J116)","v":""},{"$f":"IF(P_22号様式!K116=\"\",\"\",P_22号様式!K116)","v":""},{"$f":"IF(P_22号様式!L116=\"\",\"\",P_22号様式!L116)","v":""},{"$f":"IF(P_22号様式!M116=\"\",\"\",P_22号様式!M116)","v":""},{"$f":"IF(P_22号様式!O116=\"\",\"\",P_22号様式!O116)","v":""},{"$f":"IF(P_22号様式!P116=\"\",\"\",P_22号様式!P116)","v":""},{"$f":"IF(P_22号様式!Q116=\"\",\"\",P_22号様式!Q116)","v":""},{"$f":"IF(P_22号様式!R116=\"\",\"\",P_22号様式!R116)","v":""},{"$f":"IF(P_22号様式!T116=\"\",\"\",P_22号様式!T116)","v":""},{"$f":"IF(P_22号様式!U116=\"\",\"\",P_22号様式!U116)","v":""},{"$f":"IF(P_22号様式!V116=\"\",\"\",P_22号様式!V116)","v":""},{"$f":"IF(P_22号様式!W116=\"\",\"\",P_22号様式!W116)","v":""}]
[{"$f":"IF(P_22号様式!C117=\"\",\"\",P_22号様式!C117)","v":""},null,{"$f":"IF(P_22号様式!E117=\"\",\"\",P_22号様式!E117)","v":""},{"$f":"IF(P_22号様式!F117=\"\",\"\",P_22号様式!F117)","v":""},{"$f":"IF(P_22号様式!G117=\"\",\"\",P_22号様式!G117)","v":""},{"$f":"IF(P_22号様式!H117=\"\",\"\",P_22号様式!H117)","v":""},{"$f":"IF(P_22号様式!J117=\"\",\"\",P_22号様式!J117)","v":""},{"$f":"IF(P_22号様式!K117=\"\",\"\",P_22号様式!K117)","v":""},{"$f":"IF(P_22号様式!L117=\"\",\"\",P_22号様式!L117)","v":""},{"$f":"IF(P_22号様式!M117=\"\",\"\",P_22号様式!M117)","v":""},{"$f":"IF(P_22号様式!O117=\"\",\"\",P_22号様式!O117)","v":""},{"$f":"IF(P_22号様式!P117=\"\",\"\",P_22号様式!P117)","v":""},{"$f":"IF(P_22号様式!Q117=\"\",\"\",P_22号様式!Q117)","v":""},{"$f":"IF(P_22号様式!R117=\"\",\"\",P_22号様式!R117)","v":""},{"$f":"IF(P_22号様式!T117=\"\",\"\",P_22号様式!T117)","v":""},{"$f":"IF(P_22号様式!U117=\"\",\"\",P_22号様式!U117)","v":""},{"$f":"IF(P_22号様式!V117=\"\",\"\",P_22号様式!V117)","v":""},{"$f":"IF(P_22号様式!W117=\"\",\"\",P_22号様式!W117)","v":""}]
[{"$f":"IF(P_22号様式!C118=\"\",\"\",P_22号様式!C118)","v":""},null,{"$f":"IF(P_22号様式!E118=\"\",\"\",P_22号様式!E118)","v":""},{"$f":"IF(P_22号様式!F118=\"\",\"\",P_22号様式!F118)","v":""},{"$f":"IF(P_22号様式!G118=\"\",\"\",P_22号様式!G118)","v":""},{"$f":"IF(P_22号様式!H118=\"\",\"\",P_22号様式!H118)","v":""},{"$f":"IF(P_22号様式!J118=\"\",\"\",P_22号様式!J118)","v":""},{"$f":"IF(P_22号様式!K118=\"\",\"\",P_22号様式!K118)","v":""},{"$f":"IF(P_22号様式!L118=\"\",\"\",P_22号様式!L118)","v":""},{"$f":"IF(P_22号様式!M118=\"\",\"\",P_22号様式!M118)","v":""},{"$f":"IF(P_22号様式!O118=\"\",\"\",P_22号様式!O118)","v":""},{"$f":"IF(P_22号様式!P118=\"\",\"\",P_22号様式!P118)","v":""},{"$f":"IF(P_22号様式!Q118=\"\",\"\",P_22号様式!Q118)","v":""},{"$f":"IF(P_22号様式!R118=\"\",\"\",P_22号様式!R118)","v":""},{"$f":"IF(P_22号様式!T118=\"\",\"\",P_22号様式!T118)","v":""},{"$f":"IF(P_22号様式!U118=\"\",\"\",P_22号様式!U118)","v":""},{"$f":"IF(P_22号様式!V118=\"\",\"\",P_22号様式!V118)","v":""},{"$f":"IF(P_22号様式!W118=\"\",\"\",P_22号様式!W118)","v":""}]
[{"$f":"IF(P_22号様式!C119=\"\",\"\",P_22号様式!C119)","v":""},null,{"$f":"IF(P_22号様式!E119=\"\",\"\",P_22号様式!E119)","v":""},{"$f":"IF(P_22号様式!F119=\"\",\"\",P_22号様式!F119)","v":""},{"$f":"IF(P_22号様式!G119=\"\",\"\",P_22号様式!G119)","v":""},{"$f":"IF(P_22号様式!H119=\"\",\"\",P_22号様式!H119)","v":""},{"$f":"IF(P_22号様式!J119=\"\",\"\",P_22号様式!J119)","v":""},{"$f":"IF(P_22号様式!K119=\"\",\"\",P_22号様式!K119)","v":""},{"$f":"IF(P_22号様式!L119=\"\",\"\",P_22号様式!L119)","v":""},{"$f":"IF(P_22号様式!M119=\"\",\"\",P_22号様式!M119)","v":""},{"$f":"IF(P_22号様式!O119=\"\",\"\",P_22号様式!O119)","v":""},{"$f":"IF(P_22号様式!P119=\"\",\"\",P_22号様式!P119)","v":""},{"$f":"IF(P_22号様式!Q119=\"\",\"\",P_22号様式!Q119)","v":""},{"$f":"IF(P_22号様式!R119=\"\",\"\",P_22号様式!R119)","v":""},{"$f":"IF(P_22号様式!T119=\"\",\"\",P_22号様式!T119)","v":""},{"$f":"IF(P_22号様式!U119=\"\",\"\",P_22号様式!U119)","v":""},{"$f":"IF(P_22号様式!V119=\"\",\"\",P_22号様式!V119)","v":""},{"$f":"IF(P_22号様式!W119=\"\",\"\",P_22号様式!W119)","v":""}]
[{"$f":"IF(P_22号様式!C120=\"\",\"\",P_22号様式!C120)","v":""},null,{"$f":"IF(P_22号様式!E120=\"\",\"\",P_22号様式!E120)","v":""},{"$f":"IF(P_22号様式!F120=\"\",\"\",P_22号様式!F120)","v":""},{"$f":"IF(P_22号様式!G120=\"\",\"\",P_22号様式!G120)","v":""},{"$f":"IF(P_22号様式!H120=\"\",\"\",P_22号様式!H120)","v":""},{"$f":"IF(P_22号様式!J120=\"\",\"\",P_22号様式!J120)","v":""},{"$f":"IF(P_22号様式!K120=\"\",\"\",P_22号様式!K120)","v":""},{"$f":"IF(P_22号様式!L120=\"\",\"\",P_22号様式!L120)","v":""},{"$f":"IF(P_22号様式!M120=\"\",\"\",P_22号様式!M120)","v":""},{"$f":"IF(P_22号様式!O120=\"\",\"\",P_22号様式!O120)","v":""},{"$f":"IF(P_22号様式!P120=\"\",\"\",P_22号様式!P120)","v":""},{"$f":"IF(P_22号様式!Q120=\"\",\"\",P_22号様式!Q120)","v":""},{"$f":"IF(P_22号様式!R120=\"\",\"\",P_22号様式!R120)","v":""},{"$f":"IF(P_22号様式!T120=\"\",\"\",P_22号様式!T120)","v":""},{"$f":"IF(P_22号様式!U120=\"\",\"\",P_22号様式!U120)","v":""},{"$f":"IF(P_22号様式!V120=\"\",\"\",P_22号様式!V120)","v":""},{"$f":"IF(P_22号様式!W120=\"\",\"\",P_22号様式!W120)","v":""}]
[{"$f":"IF(P_22号様式!C121=\"\",\"\",P_22号様式!C121)","v":""},null,{"$f":"IF(P_22号様式!E121=\"\",\"\",P_22号様式!E121)","v":""},{"$f":"IF(P_22号様式!F121=\"\",\"\",P_22号様式!F121)","v":""},{"$f":"IF(P_22号様式!G121=\"\",\"\",P_22号様式!G121)","v":""},{"$f":"IF(P_22号様式!H121=\"\",\"\",P_22号様式!H121)","v":""},{"$f":"IF(P_22号様式!J121=\"\",\"\",P_22号様式!J121)","v":""},{"$f":"IF(P_22号様式!K121=\"\",\"\",P_22号様式!K121)","v":""},{"$f":"IF(P_22号様式!L121=\"\",\"\",P_22号様式!L121)","v":""},{"$f":"IF(P_22号様式!M121=\"\",\"\",P_22号様式!M121)","v":""},{"$f":"IF(P_22号様式!O121=\"\",\"\",P_22号様式!O121)","v":""},{"$f":"IF(P_22号様式!P121=\"\",\"\",P_22号様式!P121)","v":""},{"$f":"IF(P_22号様式!Q121=\"\",\"\",P_22号様式!Q121)","v":""},{"$f":"IF(P_22号様式!R121=\"\",\"\",P_22号様式!R121)","v":""},{"$f":"IF(P_22号様式!T121=\"\",\"\",P_22号様式!T121)","v":""},{"$f":"IF(P_22号様式!U121=\"\",\"\",P_22号様式!U121)","v":""},{"$f":"IF(P_22号様式!V121=\"\",\"\",P_22号様式!V121)","v":""},{"$f":"IF(P_22号様式!W121=\"\",\"\",P_22号様式!W121)","v":""}]
[{"$f":"IF(P_22号様式!C122=\"\",\"\",P_22号様式!C122)","v":""},null,{"$f":"IF(P_22号様式!E122=\"\",\"\",P_22号様式!E122)","v":""},{"$f":"IF(P_22号様式!F122=\"\",\"\",P_22号様式!F122)","v":""},{"$f":"IF(P_22号様式!G122=\"\",\"\",P_22号様式!G122)","v":""},{"$f":"IF(P_22号様式!H122=\"\",\"\",P_22号様式!H122)","v":""},{"$f":"IF(P_22号様式!J122=\"\",\"\",P_22号様式!J122)","v":""},{"$f":"IF(P_22号様式!K122=\"\",\"\",P_22号様式!K122)","v":""},{"$f":"IF(P_22号様式!L122=\"\",\"\",P_22号様式!L122)","v":""},{"$f":"IF(P_22号様式!M122=\"\",\"\",P_22号様式!M122)","v":""},{"$f":"IF(P_22号様式!O122=\"\",\"\",P_22号様式!O122)","v":""},{"$f":"IF(P_22号様式!P122=\"\",\"\",P_22号様式!P122)","v":""},{"$f":"IF(P_22号様式!Q122=\"\",\"\",P_22号様式!Q122)","v":""},{"$f":"IF(P_22号様式!R122=\"\",\"\",P_22号様式!R122)","v":""},{"$f":"IF(P_22号様式!T122=\"\",\"\",P_22号様式!T122)","v":""},{"$f":"IF(P_22号様式!U122=\"\",\"\",P_22号様式!U122)","v":""},{"$f":"IF(P_22号様式!V122=\"\",\"\",P_22号様式!V122)","v":""},{"$f":"IF(P_22号様式!W122=\"\",\"\",P_22号様式!W122)","v":""}]
[{"$f":"IF(P_22号様式!C123=\"\",\"\",P_22号様式!C123)","v":""},null,{"$f":"IF(P_22号様式!E123=\"\",\"\",P_22号様式!E123)","v":""},{"$f":"IF(P_22号様式!F123=\"\",\"\",P_22号様式!F123)","v":""},{"$f":"IF(P_22号様式!G123=\"\",\"\",P_22号様式!G123)","v":""},{"$f":"IF(P_22号様式!H123=\"\",\"\",P_22号様式!H123)","v":""},{"$f":"IF(P_22号様式!J123=\"\",\"\",P_22号様式!J123)","v":""},{"$f":"IF(P_22号様式!K123=\"\",\"\",P_22号様式!K123)","v":""},{"$f":"IF(P_22号様式!L123=\"\",\"\",P_22号様式!L123)","v":""},{"$f":"IF(P_22号様式!M123=\"\",\"\",P_22号様式!M123)","v":""},{"$f":"IF(P_22号様式!O123=\"\",\"\",P_22号様式!O123)","v":""},{"$f":"IF(P_22号様式!P123=\"\",\"\",P_22号様式!P123)","v":""},{"$f":"IF(P_22号様式!Q123=\"\",\"\",P_22号様式!Q123)","v":""},{"$f":"IF(P_22号様式!R123=\"\",\"\",P_22号様式!R123)","v":""},{"$f":"IF(P_22号様式!T123=\"\",\"\",P_22号様式!T123)","v":""},{"$f":"IF(P_22号様式!U123=\"\",\"\",P_22号様式!U123)","v":""},{"$f":"IF(P_22号様式!V123=\"\",\"\",P_22号様式!V123)","v":""},{"$f":"IF(P_22号様式!W123=\"\",\"\",P_22号様式!W123)","v":""}]
[{"$f":"IF(P_22号様式!C124=\"\",\"\",P_22号様式!C124)","v":""},null,{"$f":"IF(P_22号様式!E124=\"\",\"\",P_22号様式!E124)","v":""},{"$f":"IF(P_22号様式!F124=\"\",\"\",P_22号様式!F124)","v":""},{"$f":"IF(P_22号様式!G124=\"\",\"\",P_22号様式!G124)","v":""},{"$f":"IF(P_22号様式!H124=\"\",\"\",P_22号様式!H124)","v":""},{"$f":"IF(P_22号様式!J124=\"\",\"\",P_22号様式!J124)","v":""},{"$f":"IF(P_22号様式!K124=\"\",\"\",P_22号様式!K124)","v":""},{"$f":"IF(P_22号様式!L124=\"\",\"\",P_22号様式!L124)","v":""},{"$f":"IF(P_22号様式!M124=\"\",\"\",P_22号様式!M124)","v":""},{"$f":"IF(P_22号様式!O124=\"\",\"\",P_22号様式!O124)","v":""},{"$f":"IF(P_22号様式!P124=\"\",\"\",P_22号様式!P124)","v":""},{"$f":"IF(P_22号様式!Q124=\"\",\"\",P_22号様式!Q124)","v":""},{"$f":"IF(P_22号様式!R124=\"\",\"\",P_22号様式!R124)","v":""},{"$f":"IF(P_22号様式!T124=\"\",\"\",P_22号様式!T124)","v":""},{"$f":"IF(P_22号様式!U124=\"\",\"\",P_22号様式!U124)","v":""},{"$f":"IF(P_22号様式!V124=\"\",\"\",P_22号様式!V124)","v":""},{"$f":"IF(P_22号様式!W124=\"\",\"\",P_22号様式!W124)","v":""}]
[{"$f":"IF(P_22号様式!C125=\"\",\"\",P_22号様式!C125)","v":""},null,{"$f":"IF(P_22号様式!E125=\"\",\"\",P_22号様式!E125)","v":""},{"$f":"IF(P_22号様式!F125=\"\",\"\",P_22号様式!F125)","v":""},{"$f":"IF(P_22号様式!G125=\"\",\"\",P_22号様式!G125)","v":""},{"$f":"IF(P_22号様式!H125=\"\",\"\",P_22号様式!H125)","v":""},{"$f":"IF(P_22号様式!J125=\"\",\"\",P_22号様式!J125)","v":""},{"$f":"IF(P_22号様式!K125=\"\",\"\",P_22号様式!K125)","v":""},{"$f":"IF(P_22号様式!L125=\"\",\"\",P_22号様式!L125)","v":""},{"$f":"IF(P_22号様式!M125=\"\",\"\",P_22号様式!M125)","v":""},{"$f":"IF(P_22号様式!O125=\"\",\"\",P_22号様式!O125)","v":""},{"$f":"IF(P_22号様式!P125=\"\",\"\",P_22号様式!P125)","v":""},{"$f":"IF(P_22号様式!Q125=\"\",\"\",P_22号様式!Q125)","v":""},{"$f":"IF(P_22号様式!R125=\"\",\"\",P_22号様式!R125)","v":""},{"$f":"IF(P_22号様式!T125=\"\",\"\",P_22号様式!T125)","v":""},{"$f":"IF(P_22号様式!U125=\"\",\"\",P_22号様式!U125)","v":""},{"$f":"IF(P_22号様式!V125=\"\",\"\",P_22号様式!V125)","v":""},{"$f":"IF(P_22号様式!W125=\"\",\"\",P_22号様式!W125)","v":""}]
[{"$f":"IF(P_22号様式!C126=\"\",\"\",P_22号様式!C126)","v":""},null,{"$f":"IF(P_22号様式!E126=\"\",\"\",P_22号様式!E126)","v":""},{"$f":"IF(P_22号様式!F126=\"\",\"\",P_22号様式!F126)","v":""},{"$f":"IF(P_22号様式!G126=\"\",\"\",P_22号様式!G126)","v":""},{"$f":"IF(P_22号様式!H126=\"\",\"\",P_22号様式!H126)","v":""},{"$f":"IF(P_22号様式!J126=\"\",\"\",P_22号様式!J126)","v":""},{"$f":"IF(P_22号様式!K126=\"\",\"\",P_22号様式!K126)","v":""},{"$f":"IF(P_22号様式!L126=\"\",\"\",P_22号様式!L126)","v":""},{"$f":"IF(P_22号様式!M126=\"\",\"\",P_22号様式!M126)","v":""},{"$f":"IF(P_22号様式!O126=\"\",\"\",P_22号様式!O126)","v":""},{"$f":"IF(P_22号様式!P126=\"\",\"\",P_22号様式!P126)","v":""},{"$f":"IF(P_22号様式!Q126=\"\",\"\",P_22号様式!Q126)","v":""},{"$f":"IF(P_22号様式!R126=\"\",\"\",P_22号様式!R126)","v":""},{"$f":"IF(P_22号様式!T126=\"\",\"\",P_22号様式!T126)","v":""},{"$f":"IF(P_22号様式!U126=\"\",\"\",P_22号様式!U126)","v":""},{"$f":"IF(P_22号様式!V126=\"\",\"\",P_22号様式!V126)","v":""},{"$f":"IF(P_22号様式!W126=\"\",\"\",P_22号様式!W126)","v":""}]
[{"$f":"IF(P_22号様式!C127=\"\",\"\",P_22号様式!C127)","v":""},null,{"$f":"IF(P_22号様式!E127=\"\",\"\",P_22号様式!E127)","v":""},{"$f":"IF(P_22号様式!F127=\"\",\"\",P_22号様式!F127)","v":""},{"$f":"IF(P_22号様式!G127=\"\",\"\",P_22号様式!G127)","v":""},{"$f":"IF(P_22号様式!H127=\"\",\"\",P_22号様式!H127)","v":""},{"$f":"IF(P_22号様式!J127=\"\",\"\",P_22号様式!J127)","v":""},{"$f":"IF(P_22号様式!K127=\"\",\"\",P_22号様式!K127)","v":""},{"$f":"IF(P_22号様式!L127=\"\",\"\",P_22号様式!L127)","v":""},{"$f":"IF(P_22号様式!M127=\"\",\"\",P_22号様式!M127)","v":""},{"$f":"IF(P_22号様式!O127=\"\",\"\",P_22号様式!O127)","v":""},{"$f":"IF(P_22号様式!P127=\"\",\"\",P_22号様式!P127)","v":""},{"$f":"IF(P_22号様式!Q127=\"\",\"\",P_22号様式!Q127)","v":""},{"$f":"IF(P_22号様式!R127=\"\",\"\",P_22号様式!R127)","v":""},{"$f":"IF(P_22号様式!T127=\"\",\"\",P_22号様式!T127)","v":""},{"$f":"IF(P_22号様式!U127=\"\",\"\",P_22号様式!U127)","v":""},{"$f":"IF(P_22号様式!V127=\"\",\"\",P_22号様式!V127)","v":""},{"$f":"IF(P_22号様式!W127=\"\",\"\",P_22号様式!W127)","v":""}]
[{"$f":"IF(P_22号様式!C128=\"\",\"\",P_22号様式!C128)","v":""},null,{"$f":"IF(P_22号様式!E128=\"\",\"\",P_22号様式!E128)","v":""},{"$f":"IF(P_22号様式!F128=\"\",\"\",P_22号様式!F128)","v":""},{"$f":"IF(P_22号様式!G128=\"\",\"\",P_22号様式!G128)","v":""},{"$f":"IF(P_22号様式!H128=\"\",\"\",P_22号様式!H128)","v":""},{"$f":"IF(P_22号様式!J128=\"\",\"\",P_22号様式!J128)","v":""},{"$f":"IF(P_22号様式!K128=\"\",\"\",P_22号様式!K128)","v":""},{"$f":"IF(P_22号様式!L128=\"\",\"\",P_22号様式!L128)","v":""},{"$f":"IF(P_22号様式!M128=\"\",\"\",P_22号様式!M128)","v":""},{"$f":"IF(P_22号様式!O128=\"\",\"\",P_22号様式!O128)","v":""},{"$f":"IF(P_22号様式!P128=\"\",\"\",P_22号様式!P128)","v":""},{"$f":"IF(P_22号様式!Q128=\"\",\"\",P_22号様式!Q128)","v":""},{"$f":"IF(P_22号様式!R128=\"\",\"\",P_22号様式!R128)","v":""},{"$f":"IF(P_22号様式!T128=\"\",\"\",P_22号様式!T128)","v":""},{"$f":"IF(P_22号様式!U128=\"\",\"\",P_22号様式!U128)","v":""},{"$f":"IF(P_22号様式!V128=\"\",\"\",P_22号様式!V128)","v":""},{"$f":"IF(P_22号様式!W128=\"\",\"\",P_22号様式!W128)","v":""}]
[{"$f":"IF(P_22号様式!C129=\"\",\"\",P_22号様式!C129)","v":""},null,{"$f":"IF(P_22号様式!E129=\"\",\"\",P_22号様式!E129)","v":""},{"$f":"IF(P_22号様式!F129=\"\",\"\",P_22号様式!F129)","v":""},{"$f":"IF(P_22号様式!G129=\"\",\"\",P_22号様式!G129)","v":""},{"$f":"IF(P_22号様式!H129=\"\",\"\",P_22号様式!H129)","v":""},{"$f":"IF(P_22号様式!J129=\"\",\"\",P_22号様式!J129)","v":""},{"$f":"IF(P_22号様式!K129=\"\",\"\",P_22号様式!K129)","v":""},{"$f":"IF(P_22号様式!L129=\"\",\"\",P_22号様式!L129)","v":""},{"$f":"IF(P_22号様式!M129=\"\",\"\",P_22号様式!M129)","v":""},{"$f":"IF(P_22号様式!O129=\"\",\"\",P_22号様式!O129)","v":""},{"$f":"IF(P_22号様式!P129=\"\",\"\",P_22号様式!P129)","v":""},{"$f":"IF(P_22号様式!Q129=\"\",\"\",P_22号様式!Q129)","v":""},{"$f":"IF(P_22号様式!R129=\"\",\"\",P_22号様式!R129)","v":""},{"$f":"IF(P_22号様式!T129=\"\",\"\",P_22号様式!T129)","v":""},{"$f":"IF(P_22号様式!U129=\"\",\"\",P_22号様式!U129)","v":""},{"$f":"IF(P_22号様式!V129=\"\",\"\",P_22号様式!V129)","v":""},{"$f":"IF(P_22号様式!W129=\"\",\"\",P_22号様式!W129)","v":""}]
[{"$f":"IF(P_22号様式!C130=\"\",\"\",P_22号様式!C130)","v":""},null,{"$f":"IF(P_22号様式!E130=\"\",\"\",P_22号様式!E130)","v":""},{"$f":"IF(P_22号様式!F130=\"\",\"\",P_22号様式!F130)","v":""},{"$f":"IF(P_22号様式!G130=\"\",\"\",P_22号様式!G130)","v":""},{"$f":"IF(P_22号様式!H130=\"\",\"\",P_22号様式!H130)","v":""},{"$f":"IF(P_22号様式!J130=\"\",\"\",P_22号様式!J130)","v":""},{"$f":"IF(P_22号様式!K130=\"\",\"\",P_22号様式!K130)","v":""},{"$f":"IF(P_22号様式!L130=\"\",\"\",P_22号様式!L130)","v":""},{"$f":"IF(P_22号様式!M130=\"\",\"\",P_22号様式!M130)","v":""},{"$f":"IF(P_22号様式!O130=\"\",\"\",P_22号様式!O130)","v":""},{"$f":"IF(P_22号様式!P130=\"\",\"\",P_22号様式!P130)","v":""},{"$f":"IF(P_22号様式!Q130=\"\",\"\",P_22号様式!Q130)","v":""},{"$f":"IF(P_22号様式!R130=\"\",\"\",P_22号様式!R130)","v":""},{"$f":"IF(P_22号様式!T130=\"\",\"\",P_22号様式!T130)","v":""},{"$f":"IF(P_22号様式!U130=\"\",\"\",P_22号様式!U130)","v":""},{"$f":"IF(P_22号様式!V130=\"\",\"\",P_22号様式!V130)","v":""},{"$f":"IF(P_22号様式!W130=\"\",\"\",P_22号様式!W130)","v":""}]
[]
["市　計",null,{"$f":"IF(P_22号様式!X88=\"\",\"\",P_22号様式!X88)","v":36015},{"$f":"IF(P_22号様式!Y88=\"\",\"\",P_22号様式!Y88)","v":599123},{"$f":"IF(P_22号様式!Z88=\"\",\"\",P_22号様式!Z88)","v":1},{"$f":"IF(P_22号様式!AA88=\"\",\"\",P_22号様式!AA88)","v":635139},{"$f":"IF(P_22号様式!AB88=\"\",\"\",P_22号様式!AB88)","v":31821},{"$f":"IF(P_22号様式!AC88=\"\",\"\",P_22号様式!AC88)","v":603318},{"$f":"IF(P_22号様式!AD88=\"\",\"\",P_22号様式!AD88)","v":0},{"$f":"IF(P_22号様式!AE88=\"\",\"\",P_22号様式!AE88)","v":635139},{"$f":"IF(P_22号様式!AF88=\"\",\"\",P_22号様式!AF88)","v":32776},{"$f":"IF(P_22号様式!AG88=\"\",\"\",P_22号様式!AG88)","v":602362},{"$f":"IF(P_22号様式!AH88=\"\",\"\",P_22号様式!AH88)","v":1},{"$f":"IF(P_22号様式!AI88=\"\",\"\",P_22号様式!AI88)","v":635139},{"$f":"IF(P_22号様式!AJ88=\"\",\"\",P_22号様式!AJ88)","v":33045},{"$f":"IF(P_22号様式!AK88=\"\",\"\",P_22号様式!AK88)","v":602094},{"$f":"IF(P_22号様式!AL88=\"\",\"\",P_22号様式!AL88)","v":0},{"$f":"IF(P_22号様式!AM88=\"\",\"\",P_22号様式!AM88)","v":635139}]
["町村計",null,{"$f":"IF(P_22号様式!AN88=\"\",\"\",P_22号様式!AN88)","v":3415},{"$f":"IF(P_22号様式!AO88=\"\",\"\",P_22号様式!AO88)","v":100563},{"$f":"IF(P_22号様式!AP88=\"\",\"\",P_22号様式!AP88)","v":1},{"$f":"IF(P_22号様式!AQ88=\"\",\"\",P_22号様式!AQ88)","v":103979},{"$f":"IF(P_22号様式!AR88=\"\",\"\",P_22号様式!AR88)","v":2859},{"$f":"IF(P_22号様式!AS88=\"\",\"\",P_22号様式!AS88)","v":101119},{"$f":"IF(P_22号様式!AT88=\"\",\"\",P_22号様式!AT88)","v":1},{"$f":"IF(P_22号様式!AU88=\"\",\"\",P_22号様式!AU88)","v":103979},{"$f":"IF(P_22号様式!AV88=\"\",\"\",P_22号様式!AV88)","v":2993},{"$f":"IF(P_22号様式!AW88=\"\",\"\",P_22号様式!AW88)","v":100985},{"$f":"IF(P_22号様式!AX88=\"\",\"\",P_22号様式!AX88)","v":1},{"$f":"IF(P_22号様式!AY88=\"\",\"\",P_22号様式!AY88)","v":103979},{"$f":"IF(P_22号様式!AZ88=\"\",\"\",P_22号様式!AZ88)","v":2956},{"$f":"IF(P_22号様式!BA88=\"\",\"\",P_22号様式!BA88)","v":101022},{"$f":"IF(P_22号様式!BB88=\"\",\"\",P_22号様式!BB88)","v":1},{"$f":"IF(P_22号様式!BC88=\"\",\"\",P_22号様式!BC88)","v":103979}]
["県計",null,{"$f":"IF(P_22号様式!BD88=\"\",\"\",P_22号様式!BD88)","v":39430},{"$f":"IF(P_22号様式!BE88=\"\",\"\",P_22号様式!BE88)","v":699686},{"$f":"IF(P_22号様式!BF88=\"\",\"\",P_22号様式!BF88)","v":2},{"$f":"IF(P_22号様式!BG88=\"\",\"\",P_22号様式!BG88)","v":739118},{"$f":"IF(P_22号様式!BH88=\"\",\"\",P_22号様式!BH88)","v":34680},{"$f":"IF(P_22号様式!BI88=\"\",\"\",P_22号様式!BI88)","v":704437},{"$f":"IF(P_22号様式!BJ88=\"\",\"\",P_22号様式!BJ88)","v":1},{"$f":"IF(P_22号様式!BK88=\"\",\"\",P_22号様式!BK88)","v":739118},{"$f":"IF(P_22号様式!BL88=\"\",\"\",P_22号様式!BL88)","v":35769},{"$f":"IF(P_22号様式!BM88=\"\",\"\",P_22号様式!BM88)","v":703347},{"$f":"IF(P_22号様式!BN88=\"\",\"\",P_22号様式!BN88)","v":2},{"$f":"IF(P_22号様式!BO88=\"\",\"\",P_22号様式!BO88)","v":739118},{"$f":"IF(P_22号様式!BP88=\"\",\"\",P_22号様式!BP88)","v":36001},{"$f":"IF(P_22号様式!BQ88=\"\",\"\",P_22号様式!BQ88)","v":703116},{"$f":"IF(P_22号様式!BR88=\"\",\"\",P_22号様式!BR88)","v":1},{"$f":"IF(P_22号様式!BS88=\"\",\"\",P_22号様式!BS88)","v":739118}]
[null,null,null,null,null,null,null,null,null,null,null,null,null,null,null,null,{"$f":"IF(P_22号様式!A131=\"\",\" ページ\", P_22号様式!A131 & \"ページ\")","v":"4ページ"}]
["第22号様式",null,null,null,null,null,null,"開　票　速  報"]
[]
[null,{"$f":"IF(パラメタシート!B1=\"\",\"\",パラメタシート!B1)","v":"2017-10-22"}]
[null,"最高裁判所裁判官国民審査",null,null,null,null,null,null,null,null,null,null,null,{"$f":"IF(P_22号様式!BT131=\"0\",\"即日 開票  中間報告\",\"翌日 開票  中間報告\")","v":"即日 開票  中間報告"},null,{"$f":"IF(P_22号様式!BU131=\"\",\"     時     分\",P_22号様式!BU131)","v":"     時     分"}]
[null,null,null,null,null,null,null,null,null,null,null,null,null,"開票  結了報告",null,{"$f":"IF(P_22号様式!BV131=\"\",\"     時     分\",P_22号様式!BV131)","v":"01:25:00"},null,"鹿児島県"]
["市区町村名",null,{"$f":"IF(P_22号様式!D131=\"\",\"\",P_22号様式!D131)","v":"大谷　直人"},null,null,null,{"$f":"IF(P_22号様式!I131=\"\",\"\",P_22号様式!I131)","v":"木澤　克之"},null,null,null,{"$f":"IF(P_22号様式!N131=\"\",\"\",P_22号様式!N131)","v":"林　景一"},null,null,null,{"$f":"IF(P_22号様式!S131=\"\",\"\",P_22号様式!S131)","v":""}]
[null,null,"罷免を可と","罷免を可と","記載無効","計","罷免を可と","罷免を可と","記載無効","計","罷免を可と","罷免を可と","記載無効","計","罷免を可と","罷免を可と","記載無効","計"]
[null,null,"する投票","しない投票",null,null,"する投票","しない投票",null,null,"する投票","しない投票",null,null,"する投票","しない投票"]
[{"$f":"IF(P_22号様式!C131=\"\",\"\",P_22号様式!C131)","v":"＊（熊毛郡）計"},null,{"$f":"IF(P_22号様式!E131=\"\",\"\",P_22号様式!E131)","v":649},{"$f":"IF(P_22号様式!F131=\"\",\"\",P_22号様式!F131)","v":12683},{"$f":"IF(P_22号様式!G131=\"\",\"\",P_22号様式!G131)","v":0},{"$f":"IF(P_22号様式!H131=\"\",\"\",P_22号様式!H131)","v":13332},{"$f":"IF(P_22号様式!J131=\"\",\"\",P_22号様式!J131)","v":655},{"$f":"IF(P_22号様式!K131=\"\",\"\",P_22号様式!K131)","v":12677},{"$f":"IF(P_22号様式!L131=\"\",\"\",P_22号様式!L131)","v":0},{"$f":"IF(P_22号様式!M131=\"\",\"\",P_22号様式!M131)","v":13332},{"$f":"IF(P_22号様式!O131=\"\",\"\",P_22号様式!O131)","v":608},{"$f":"IF(P_22号様式!P131=\"\",\"\",P_22号様式!P131)","v":12724},{"$f":"IF(P_22号様式!Q131=\"\",\"\",P_22号様式!Q131)","v":0},{"$f":"IF(P_22号様式!R131=\"\",\"\",P_22号様式!R131)","v":13332},{"$f":"IF(P_22号様式!T131=\"\",\"\",P_22号様式!T131)","v":""},{"$f":"IF(P_22号様式!U131=\"\",\"\",P_22号様式!U131)","v":""},{"$f":"IF(P_22号様式!V131=\"\",\"\",P_22号様式!V131)","v":""},{"$f":"IF(P_22号様式!W131=\"\",\"\",P_22号様式!W131)","v":""}]
[{"$f":"IF(P_22号様式!C132=\"\",\"\",P_22号様式!C132)","v":"　大和村"},null,{"$f":"IF(P_22号様式!E132=\"\",\"\",P_22号様式!E132)","v":27},{"$f":"IF(P_22号様式!F132=\"\",\"\",P_22号様式!F132)","v":925},{"$f":"IF(P_22号様式!G132=\"\",\"\",P_22号様式!G132)","v":0},{"$f":"IF(P_22号様式!H132=\"\",\"\",P_22号様式!H132)","v":952},{"$f":"IF(P_22号様式!J132=\"\",\"\",P_22号様式!J132)","v":26},{"$f":"IF(P_22号様式!K132=\"\",\"\",P_22号様式!K132)","v":926},{"$f":"IF(P_22号様式!L132=\"\",\"\",P_22号様式!L132)","v":0},{"$f":"IF(P_22号様式!M132=\"\",\"\",P_22号様式!M132)","v":952},{"$f":"IF(P_22号様式!O132=\"\",\"\",P_22号様式!O132)","v":25},{"$f":"IF(P_22号様式!P132=\"\",\"\",P_22号様式!P132)","v":927},{"$f":"IF(P_22号様式!Q132=\"\",\"\",P_22号様式!Q132)","v":0},{"$f":"IF(P_22号様式!R132=\"\",\"\",P_22号様式!R132)","v":952},{"$f":"IF(P_22号様式!T132=\"\",\"\",P_22号様式!T132)","v":""},{"$f":"IF(P_22号様式!U132=\"\",\"\",P_22号様式!U132)","v":""},{"$f":"IF(P_22号様式!V132=\"\",\"\",P_22号様式!V132)","v":""},{"$f":"IF(P_22号様式!W132=\"\",\"\",P_22号様式!W132)","v":""}]
[{"$f":"IF(P_22号様式!C133=\"\",\"\",P_22号様式!C133)","v":"　宇検村"},null,{"$f":"IF(P_22号様式!E133=\"\",\"\",P_22号様式!E133)","v":25},{"$f":"IF(P_22号様式!F133=\"\",\"\",P_22号様式!F133)","v":1304},{"$f":"IF(P_22号様式!G133=\"\",\"\",P_22号様式!G133)","v":0},{"$f":"IF(P_22号様式!H133=\"\",\"\",P_22号様式!H133)","v":1329},{"$f":"IF(P_22号様式!J133=\"\",\"\",P_22号様式!J133)","v":25},{"$f":"IF(P_22号様式!K133=\"\",\"\",P_22号様式!K133)","v":1304},{"$f":"IF(P_22号様式!L133=\"\",\"\",P_22号様式!L133)","v":0},{"$f":"IF(P_22号様式!M133=\"\",\"\",P_22号様式!M133)","v":1329},{"$f":"IF(P_22号様式!O133=\"\",\"\",P_22号様式!O133)","v":27},{"$f":"IF(P_22号様式!P133=\"\",\"\",P_22号様式!P133)","v":1302},{"$f":"IF(P_22号様式!Q133=\"\",\"\",P_22号様式!Q133)","v":0},{"$f":"IF(P_22号様式!R133=\"\",\"\",P_22号様式!R133)","v":1329},{"$f":"IF(P_22号様式!T133=\"\",\"\",P_22号様式!T133)","v":""},{"$f":"IF(P_22号様式!U133=\"\",\"\",P_22号様式!U133)","v":""},{"$f":"IF(P_22号様式!V133=\"\",\"\",P_22号様式!V133)","v":""},{"$f":"IF(P_22号様式!W133=\"\",\"\",P_22号様式!W133)","v":""}]
[{"$f":"IF(P_22号様式!C134=\"\",\"\",P_22号様式!C134)","v":"　瀬戸内町"},null,{"$f":"IF(P_22号様式!E134=\"\",\"\",P_22号様式!E134)","v":162},{"$f":"IF(P_22号様式!F134=\"\",\"\",P_22号様式!F134)","v":5641},{"$f":"IF(P_22号様式!G134=\"\",\"\",P_22号様式!G134)","v":0},{"$f":"IF(P_22号様式!H134=\"\",\"\",P_22号様式!H134)","v":5803},{"$f":"IF(P_22号様式!J134=\"\",\"\",P_22号様式!J134)","v":160},{"$f":"IF(P_22号様式!K134=\"\",\"\",P_22号様式!K134)","v":5643},{"$f":"IF(P_22号様式!L134=\"\",\"\",P_22号様式!L134)","v":0},{"$f":"IF(P_22号様式!M134=\"\",\"\",P_22号様式!M134)","v":5803},{"$f":"IF(P_22号様式!O134=\"\",\"\",P_22号様式!O134)","v":158},{"$f":"IF(P_22号様式!P134=\"\",\"\",P_22号様式!P134)","v":5645},{"$f":"IF(P_22号様式!Q134=\"\",\"\",P_22号様式!Q134)","v":0},{"$f":"IF(P_22号様式!R134=\"\",\"\",P_22号様式!R134)","v":5803},{"$f":"IF(P_22号様式!T134=\"\",\"\",P_22号様式!T134)","v":""},{"$f":"IF(P_22号様式!U134=\"\",\"\",P_22号様式!U134)","v":""},{"$f":"IF(P_22号様式!V134=\"\",\"\",P_22号様式!V134)","v":""},{"$f":"IF(P_22号様式!W134=\"\",\"\",P_22号様式!W134)","v":""}]
[{"$f":"IF(P_22号様式!C135=\"\",\"\",P_22号様式!C135)","v":"　龍郷町"},null,{"$f":"IF(P_22号様式!E135=\"\",\"\",P_22号様式!E135)","v":115},{"$f":"IF(P_22号様式!F135=\"\",\"\",P_22号様式!F135)","v":3993},{"$f":"IF(P_22号様式!G135=\"\",\"\",P_22号様式!G135)","v":0},{"$f":"IF(P_22号様式!H135=\"\",\"\",P_22号様式!H135)","v":4108},{"$f":"IF(P_22号様式!J135=\"\",\"\",P_22号様式!J135)","v":114},{"$f":"IF(P_22号様式!K135=\"\",\"\",P_22号様式!K135)","v":3994},{"$f":"IF(P_22号様式!L135=\"\",\"\",P_22号様式!L135)","v":0},{"$f":"IF(P_22号様式!M135=\"\",\"\",P_22号様式!M135)","v":4108},{"$f":"IF(P_22号様式!O135=\"\",\"\",P_22号様式!O135)","v":113},{"$f":"IF(P_22号様式!P135=\"\",\"\",P_22号様式!P135)","v":3995},{"$f":"IF(P_22号様式!Q135=\"\",\"\",P_22号様式!Q135)","v":0},{"$f":"IF(P_22号様式!R135=\"\",\"\",P_22号様式!R135)","v":4108},{"$f":"IF(P_22号様式!T135=\"\",\"\",P_22号様式!T135)","v":""},{"$f":"IF(P_22号様式!U135=\"\",\"\",P_22号様式!U135)","v":""},{"$f":"IF(P_22号様式!V135=\"\",\"\",P_22号様式!V135)","v":""},{"$f":"IF(P_22号様式!W135=\"\",\"\",P_22号様式!W135)","v":""}]
[{"$f":"IF(P_22号様式!C136=\"\",\"\",P_22号様式!C136)","v":"　喜界町"},null,{"$f":"IF(P_22号様式!E136=\"\",\"\",P_22号様式!E136)","v":85},{"$f":"IF(P_22号様式!F136=\"\",\"\",P_22号様式!F136)","v":4169},{"$f":"IF(P_22号様式!G136=\"\",\"\",P_22号様式!G136)","v":0},{"$f":"IF(P_22号様式!H136=\"\",\"\",P_22号様式!H136)","v":4254},{"$f":"IF(P_22号様式!J136=\"\",\"\",P_22号様式!J136)","v":78},{"$f":"IF(P_22号様式!K136=\"\",\"\",P_22号様式!K136)","v":4176},{"$f":"IF(P_22号様式!L136=\"\",\"\",P_22号様式!L136)","v":0},{"$f":"IF(P_22号様式!M136=\"\",\"\",P_22号様式!M136)","v":4254},{"$f":"IF(P_22号様式!O136=\"\",\"\",P_22号様式!O136)","v":79},{"$f":"IF(P_22号様式!P136=\"\",\"\",P_22号様式!P136)","v":4175},{"$f":"IF(P_22号様式!Q136=\"\",\"\",P_22号様式!Q136)","v":0},{"$f":"IF(P_22号様式!R136=\"\",\"\",P_22号様式!R136)","v":4254},{"$f":"IF(P_22号様式!T136=\"\",\"\",P_22号様式!T136)","v":""},{"$f":"IF(P_22号様式!U136=\"\",\"\",P_22号様式!U136)","v":""},{"$f":"IF(P_22号様式!V136=\"\",\"\",P_22号様式!V136)","v":""},{"$f":"IF(P_22号様式!W136=\"\",\"\",P_22号様式!W136)","v":""}]
[{"$f":"IF(P_22号様式!C137=\"\",\"\",P_22号様式!C137)","v":"　徳之島町"},null,{"$f":"IF(P_22号様式!E137=\"\",\"\",P_22号様式!E137)","v":155},{"$f":"IF(P_22号様式!F137=\"\",\"\",P_22号様式!F137)","v":5687},{"$f":"IF(P_22号様式!G137=\"\",\"\",P_22号様式!G137)","v":0},{"$f":"IF(P_22号様式!H137=\"\",\"\",P_22号様式!H137)","v":5842},{"$f":"IF(P_22号様式!J137=\"\",\"\",P_22号様式!J137)","v":152},{"$f":"IF(P_22号様式!K137=\"\",\"\",P_22号様式!K137)","v":5690},{"$f":"IF(P_22号様式!L137=\"\",\"\",P_22号様式!L137)","v":0},{"$f":"IF(P_22号様式!M137=\"\",\"\",P_22号様式!M137)","v":5842},{"$f":"IF(P_22号様式!O137=\"\",\"\",P_22号様式!O137)","v":147},{"$f":"IF(P_22号様式!P137=\"\",\"\",P_22号様式!P137)","v":5695},{"$f":"IF(P_22号様式!Q137=\"\",\"\",P_22号様式!Q137)","v":0},{"$f":"IF(P_22号様式!R137=\"\",\"\",P_22号様式!R137)","v":5842},{"$f":"IF(P_22号様式!T137=\"\",\"\",P_22号様式!T137)","v":""},{"$f":"IF(P_22号様式!U137=\"\",\"\",P_22号様式!U137)","v":""},{"$f":"IF(P_22号様式!V137=\"\",\"\",P_22号様式!V137)","v":""},{"$f":"IF(P_22号様式!W137=\"\",\"\",P_22号様式!W137)","v":""}]
[{"$f":"IF(P_22号様式!C138=\"\",\"\",P_22号様式!C138)","v":"　天城町"},null,{"$f":"IF(P_22号様式!E138=\"\",\"\",P_22号様式!E138)","v":60},{"$f":"IF(P_22号様式!F138=\"\",\"\",P_22号様式!F138)","v":3305},{"$f":"IF(P_22号様式!G138=\"\",\"\",P_22号様式!G138)","v":0},{"$f":"IF(P_22号様式!H138=\"\",\"\",P_22号様式!H138)","v":3365},{"$f":"IF(P_22号様式!J138=\"\",\"\",P_22号様式!J138)","v":57},{"$f":"IF(P_22号様式!K138=\"\",\"\",P_22号様式!K138)","v":3308},{"$f":"IF(P_22号様式!L138=\"\",\"\",P_22号様式!L138)","v":0},{"$f":"IF(P_22号様式!M138=\"\",\"\",P_22号様式!M138)","v":3365},{"$f":"IF(P_22号様式!O138=\"\",\"\",P_22号様式!O138)","v":55},{"$f":"IF(P_22号様式!P138=\"\",\"\",P_22号様式!P138)","v":3310},{"$f":"IF(P_22号様式!Q138=\"\",\"\",P_22号様式!Q138)","v":0},{"$f":"IF(P_22号様式!R138=\"\",\"\",P_22号様式!R138)","v":3365},{"$f":"IF(P_22号様式!T138=\"\",\"\",P_22号様式!T138)","v":""},{"$f":"IF(P_22号様式!U138=\"\",\"\",P_22号様式!U138)","v":""},{"$f":"IF(P_22号様式!V138=\"\",\"\",P_22号様式!V138)","v":""},{"$f":"IF(P_22号様式!W138=\"\",\"\",P_22号様式!W138)","v":""}]
[{"$f":"IF(P_22号様式!C139=\"\",\"\",P_22号様式!C139)","v":"　伊仙町"},null,{"$f":"IF(P_22号様式!E139=\"\",\"\",P_22号様式!E139)","v":90},{"$f":"IF(P_22号様式!F139=\"\",\"\",P_22号様式!F139)","v":4849},{"$f":"IF(P_22号様式!G139=\"\",\"\",P_22号様式!G139)","v":0},{"$f":"IF(P_22号様式!H139=\"\",\"\",P_22号様式!H139)","v":4939},{"$f":"IF(P_22号様式!J139=\"\",\"\",P_22号様式!J139)","v":84},{"$f":"IF(P_22号様式!K139=\"\",\"\",P_22号様式!K139)","v":4855},{"$f":"IF(P_22号様式!L139=\"\",\"\",P_22号様式!L139)","v":0},{"$f":"IF(P_22号様式!M139=\"\",\"\",P_22号様式!M139)","v":4939},{"$f":"IF(P_22号様式!O139=\"\",\"\",P_22号様式!O139)","v":78},{"$f":"IF(P_22号様式!P139=\"\",\"\",P_22号様式!P139)","v":4861},{"$f":"IF(P_22号様式!Q139=\"\",\"\",P_22号様式!Q139)","v":0},{"$f":"IF(P_22号様式!R139=\"\",\"\",P_22号様式!R139)","v":4939},{"$f":"IF(P_22号様式!T139=\"\",\"\",P_22号様式!T139)","v":""},{"$f":"IF(P_22号様式!U139=\"\",\"\",P_22号様式!U139)","v":""},{"$f":"IF(P_22号様式!V139=\"\",\"\",P_22号様式!V139)","v":""},{"$f":"IF(P_22号様式!W139=\"\",\"\",P_22号様式!W139)","v":""}]
[{"$f":"IF(P_22号様式!C140=\"\",\"\",P_22号様式!C140)","v":"　和泊町"},null,{"$f":"IF(P_22号様式!E140=\"\",\"\",P_22号様式!E140)","v":71},{"$f":"IF(P_22号様式!F140=\"\",\"\",P_22号様式!F140)","v":3856},{"$f":"IF(P_22号様式!G140=\"\",\"\",P_22号様式!G140)","v":0},{"$f":"IF(P_22号様式!H140=\"\",\"\",P_22号様式!H140)","v":3927},{"$f":"IF(P_22号様式!J140=\"\",\"\",P_22号様式!J140)","v":77},{"$f":"IF(P_22号様式!K140=\"\",\"\",P_22号様式!K140)","v":3850},{"$f":"IF(P_22号様式!L140=\"\",\"\",P_22号様式!L140)","v":0},{"$f":"IF(P_22号様式!M140=\"\",\"\",P_22号様式!M140)","v":3927},{"$f":"IF(P_22号様式!O140=\"\",\"\",P_22号様式!O140)","v":75},{"$f":"IF(P_22号様式!P140=\"\",\"\",P_22号様式!P140)","v":3852},{"$f":"IF(P_22号様式!Q140=\"\",\"\",P_22号様式!Q140)","v":0},{"$f":"IF(P_22号様式!R140=\"\",\"\",P_22号様式!R140)","v":3927},{"$f":"IF(P_22号様式!T140=\"\",\"\",P_22号様式!T140)","v":""},{"$f":"IF(P_22号様式!U140=\"\",\"\",P_22号様式!U140)","v":""},{"$f":"IF(P_22号様式!V140=\"\",\"\",P_22号様式!V140)","v":""},{"$f":"IF(P_22号様式!W140=\"\",\"\",P_22号様式!W140)","v":""}]
[{"$f":"IF(P_22号様式!C141=\"\",\"\",P_22号様式!C141)","v":"　知名町"},null,{"$f":"IF(P_22号様式!E141=\"\",\"\",P_22号様式!E141)","v":106},{"$f":"IF(P_22号様式!F141=\"\",\"\",P_22号様式!F141)","v":3327},{"$f":"IF(P_22号様式!G141=\"\",\"\",P_22号様式!G141)","v":0},{"$f":"IF(P_22号様式!H141=\"\",\"\",P_22号様式!H141)","v":3433},{"$f":"IF(P_22号様式!J141=\"\",\"\",P_22号様式!J141)","v":105},{"$f":"IF(P_22号様式!K141=\"\",\"\",P_22号様式!K141)","v":3328},{"$f":"IF(P_22号様式!L141=\"\",\"\",P_22号様式!L141)","v":0},{"$f":"IF(P_22号様式!M141=\"\",\"\",P_22号様式!M141)","v":3433},{"$f":"IF(P_22号様式!O141=\"\",\"\",P_22号様式!O141)","v":114},{"$f":"IF(P_22号様式!P141=\"\",\"\",P_22号様式!P141)","v":3319},{"$f":"IF(P_22号様式!Q141=\"\",\"\",P_22号様式!Q141)","v":0},{"$f":"IF(P_22号様式!R141=\"\",\"\",P_22号様式!R141)","v":3433},{"$f":"IF(P_22号様式!T141=\"\",\"\",P_22号様式!T141)","v":""},{"$f":"IF(P_22号様式!U141=\"\",\"\",P_22号様式!U141)","v":""},{"$f":"IF(P_22号様式!V141=\"\",\"\",P_22号様式!V141)","v":""},{"$f":"IF(P_22号様式!W141=\"\",\"\",P_22号様式!W141)","v":""}]
[{"$f":"IF(P_22号様式!C142=\"\",\"\",P_22号様式!C142)","v":"　与論町"},null,{"$f":"IF(P_22号様式!E142=\"\",\"\",P_22号様式!E142)","v":101},{"$f":"IF(P_22号様式!F142=\"\",\"\",P_22号様式!F142)","v":2773},{"$f":"IF(P_22号様式!G142=\"\",\"\",P_22号様式!G142)","v":0},{"$f":"IF(P_22号様式!H142=\"\",\"\",P_22号様式!H142)","v":2874},{"$f":"IF(P_22号様式!J142=\"\",\"\",P_22号様式!J142)","v":94},{"$f":"IF(P_22号様式!K142=\"\",\"\",P_22号様式!K142)","v":2780},{"$f":"IF(P_22号様式!L142=\"\",\"\",P_22号様式!L142)","v":0},{"$f":"IF(P_22号様式!M142=\"\",\"\",P_22号様式!M142)","v":2874},{"$f":"IF(P_22号様式!O142=\"\",\"\",P_22号様式!O142)","v":87},{"$f":"IF(P_22号様式!P142=\"\",\"\",P_22号様式!P142)","v":2787},{"$f":"IF(P_22号様式!Q142=\"\",\"\",P_22号様式!Q142)","v":0},{"$f":"IF(P_22号様式!R142=\"\",\"\",P_22号様式!R142)","v":2874},{"$f":"IF(P_22号様式!T142=\"\",\"\",P_22号様式!T142)","v":""},{"$f":"IF(P_22号様式!U142=\"\",\"\",P_22号様式!U142)","v":""},{"$f":"IF(P_22号様式!V142=\"\",\"\",P_22号様式!V142)","v":""},{"$f":"IF(P_22号様式!W142=\"\",\"\",P_22号様式!W142)","v":""}]
[{"$f":"IF(P_22号様式!C143=\"\",\"\",P_22号様式!C143)","v":"＊（大島郡）計"},null,{"$f":"IF(P_22号様式!E143=\"\",\"\",P_22号様式!E143)","v":997},{"$f":"IF(P_22号様式!F143=\"\",\"\",P_22号様式!F143)","v":39829},{"$f":"IF(P_22号様式!G143=\"\",\"\",P_22号様式!G143)","v":0},{"$f":"IF(P_22号様式!H143=\"\",\"\",P_22号様式!H143)","v":40826},{"$f":"IF(P_22号様式!J143=\"\",\"\",P_22号様式!J143)","v":972},{"$f":"IF(P_22号様式!K143=\"\",\"\",P_22号様式!K143)","v":39854},{"$f":"IF(P_22号様式!L143=\"\",\"\",P_22号様式!L143)","v":0},{"$f":"IF(P_22号様式!M143=\"\",\"\",P_22号様式!M143)","v":40826},{"$f":"IF(P_22号様式!O143=\"\",\"\",P_22号様式!O143)","v":958},{"$f":"IF(P_22号様式!P143=\"\",\"\",P_22号様式!P143)","v":39868},{"$f":"IF(P_22号様式!Q143=\"\",\"\",P_22号様式!Q143)","v":0},{"$f":"IF(P_22号様式!R143=\"\",\"\",P_22号様式!R143)","v":40826},{"$f":"IF(P_22号様式!T143=\"\",\"\",P_22号様式!T143)","v":""},{"$f":"IF(P_22号様式!U143=\"\",\"\",P_22号様式!U143)","v":""},{"$f":"IF(P_22号様式!V143=\"\",\"\",P_22号様式!V143)","v":""},{"$f":"IF(P_22号様式!W143=\"\",\"\",P_22号様式!W143)","v":""}]
[{"$f":"IF(P_22号様式!C144=\"\",\"\",P_22号様式!C144)","v":""},null,{"$f":"IF(P_22号様式!E144=\"\",\"\",P_22号様式!E144)","v":""},{"$f":"IF(P_22号様式!F144=\"\",\"\",P_22号様式!F144)","v":""},{"$f":"IF(P_22号様式!G144=\"\",\"\",P_22号様式!G144)","v":""},{"$f":"IF(P_22号様式!H144=\"\",\"\",P_22号様式!H144)","v":""},{"$f":"IF(P_22号様式!J144=\"\",\"\",P_22号様式!J144)","v":""},{"$f":"IF(P_22号様式!K144=\"\",\"\",P_22号様式!K144)","v":""},{"$f":"IF(P_22号様式!L144=\"\",\"\",P_22号様式!L144)","v":""},{"$f":"IF(P_22号様式!M144=\"\",\"\",P_22号様式!M144)","v":""},{"$f":"IF(P_22号様式!O144=\"\",\"\",P_22号様式!O144)","v":""},{"$f":"IF(P_22号様式!P144=\"\",\"\",P_22号様式!P144)","v":""},{"$f":"IF(P_22号様式!Q144=\"\",\"\",P_22号様式!Q144)","v":""},{"$f":"IF(P_22号様式!R144=\"\",\"\",P_22号様式!R144)","v":""},{"$f":"IF(P_22号様式!T144=\"\",\"\",P_22号様式!T144)","v":""},{"$f":"IF(P_22号様式!U144=\"\",\"\",P_22号様式!U144)","v":""},{"$f":"IF(P_22号様式!V144=\"\",\"\",P_22号様式!V144)","v":""},{"$f":"IF(P_22号様式!W144=\"\",\"\",P_22号様式!W144)","v":""}]
[{"$f":"IF(P_22号様式!C145=\"\",\"\",P_22号様式!C145)","v":""},null,{"$f":"IF(P_22号様式!E145=\"\",\"\",P_22号様式!E145)","v":""},{"$f":"IF(P_22号様式!F145=\"\",\"\",P_22号様式!F145)","v":""},{"$f":"IF(P_22号様式!G145=\"\",\"\",P_22号様式!G145)","v":""},{"$f":"IF(P_22号様式!H145=\"\",\"\",P_22号様式!H145)","v":""},{"$f":"IF(P_22号様式!J145=\"\",\"\",P_22号様式!J145)","v":""},{"$f":"IF(P_22号様式!K145=\"\",\"\",P_22号様式!K145)","v":""},{"$f":"IF(P_22号様式!L145=\"\",\"\",P_22号様式!L145)","v":""},{"$f":"IF(P_22号様式!M145=\"\",\"\",P_22号様式!M145)","v":""},{"$f":"IF(P_22号様式!O145=\"\",\"\",P_22号様式!O145)","v":""},{"$f":"IF(P_22号様式!P145=\"\",\"\",P_22号様式!P145)","v":""},{"$f":"IF(P_22号様式!Q145=\"\",\"\",P_22号様式!Q145)","v":""},{"$f":"IF(P_22号様式!R145=\"\",\"\",P_22号様式!R145)","v":""},{"$f":"IF(P_22号様式!T145=\"\",\"\",P_22号様式!T145)","v":""},{"$f":"IF(P_22号様式!U145=\"\",\"\",P_22号様式!U145)","v":""},{"$f":"IF(P_22号様式!V145=\"\",\"\",P_22号様式!V145)","v":""},{"$f":"IF(P_22号様式!W145=\"\",\"\",P_22号様式!W145)","v":""}]
[{"$f":"IF(P_22号様式!C146=\"\",\"\",P_22号様式!C146)","v":""},null,{"$f":"IF(P_22号様式!E146=\"\",\"\",P_22号様式!E146)","v":""},{"$f":"IF(P_22号様式!F146=\"\",\"\",P_22号様式!F146)","v":""},{"$f":"IF(P_22号様式!G146=\"\",\"\",P_22号様式!G146)","v":""},{"$f":"IF(P_22号様式!H146=\"\",\"\",P_22号様式!H146)","v":""},{"$f":"IF(P_22号様式!J146=\"\",\"\",P_22号様式!J146)","v":""},{"$f":"IF(P_22号様式!K146=\"\",\"\",P_22号様式!K146)","v":""},{"$f":"IF(P_22号様式!L146=\"\",\"\",P_22号様式!L146)","v":""},{"$f":"IF(P_22号様式!M146=\"\",\"\",P_22号様式!M146)","v":""},{"$f":"IF(P_22号様式!O146=\"\",\"\",P_22号様式!O146)","v":""},{"$f":"IF(P_22号様式!P146=\"\",\"\",P_22号様式!P146)","v":""},{"$f":"IF(P_22号様式!Q146=\"\",\"\",P_22号様式!Q146)","v":""},{"$f":"IF(P_22号様式!R146=\"\",\"\",P_22号様式!R146)","v":""},{"$f":"IF(P_22号様式!T146=\"\",\"\",P_22号様式!T146)","v":""},{"$f":"IF(P_22号様式!U146=\"\",\"\",P_22号様式!U146)","v":""},{"$f":"IF(P_22号様式!V146=\"\",\"\",P_22号様式!V146)","v":""},{"$f":"IF(P_22号様式!W146=\"\",\"\",P_22号様式!W146)","v":""}]
[{"$f":"IF(P_22号様式!C147=\"\",\"\",P_22号様式!C147)","v":""},null,{"$f":"IF(P_22号様式!E147=\"\",\"\",P_22号様式!E147)","v":""},{"$f":"IF(P_22号様式!F147=\"\",\"\",P_22号様式!F147)","v":""},{"$f":"IF(P_22号様式!G147=\"\",\"\",P_22号様式!G147)","v":""},{"$f":"IF(P_22号様式!H147=\"\",\"\",P_22号様式!H147)","v":""},{"$f":"IF(P_22号様式!J147=\"\",\"\",P_22号様式!J147)","v":""},{"$f":"IF(P_22号様式!K147=\"\",\"\",P_22号様式!K147)","v":""},{"$f":"IF(P_22号様式!L147=\"\",\"\",P_22号様式!L147)","v":""},{"$f":"IF(P_22号様式!M147=\"\",\"\",P_22号様式!M147)","v":""},{"$f":"IF(P_22号様式!O147=\"\",\"\",P_22号様式!O147)","v":""},{"$f":"IF(P_22号様式!P147=\"\",\"\",P_22号様式!P147)","v":""},{"$f":"IF(P_22号様式!Q147=\"\",\"\",P_22号様式!Q147)","v":""},{"$f":"IF(P_22号様式!R147=\"\",\"\",P_22号様式!R147)","v":""},{"$f":"IF(P_22号様式!T147=\"\",\"\",P_22号様式!T147)","v":""},{"$f":"IF(P_22号様式!U147=\"\",\"\",P_22号様式!U147)","v":""},{"$f":"IF(P_22号様式!V147=\"\",\"\",P_22号様式!V147)","v":""},{"$f":"IF(P_22号様式!W147=\"\",\"\",P_22号様式!W147)","v":""}]
[{"$f":"IF(P_22号様式!C148=\"\",\"\",P_22号様式!C148)","v":""},null,{"$f":"IF(P_22号様式!E148=\"\",\"\",P_22号様式!E148)","v":""},{"$f":"IF(P_22号様式!F148=\"\",\"\",P_22号様式!F148)","v":""},{"$f":"IF(P_22号様式!G148=\"\",\"\",P_22号様式!G148)","v":""},{"$f":"IF(P_22号様式!H148=\"\",\"\",P_22号様式!H148)","v":""},{"$f":"IF(P_22号様式!J148=\"\",\"\",P_22号様式!J148)","v":""},{"$f":"IF(P_22号様式!K148=\"\",\"\",P_22号様式!K148)","v":""},{"$f":"IF(P_22号様式!L148=\"\",\"\",P_22号様式!L148)","v":""},{"$f":"IF(P_22号様式!M148=\"\",\"\",P_22号様式!M148)","v":""},{"$f":"IF(P_22号様式!O148=\"\",\"\",P_22号様式!O148)","v":""},{"$f":"IF(P_22号様式!P148=\"\",\"\",P_22号様式!P148)","v":""},{"$f":"IF(P_22号様式!Q148=\"\",\"\",P_22号様式!Q148)","v":""},{"$f":"IF(P_22号様式!R148=\"\",\"\",P_22号様式!R148)","v":""},{"$f":"IF(P_22号様式!T148=\"\",\"\",P_22号様式!T148)","v":""},{"$f":"IF(P_22号様式!U148=\"\",\"\",P_22号様式!U148)","v":""},{"$f":"IF(P_22号様式!V148=\"\",\"\",P_22号様式!V148)","v":""},{"$f":"IF(P_22号様式!W148=\"\",\"\",P_22号様式!W148)","v":""}]
[{"$f":"IF(P_22号様式!C149=\"\",\"\",P_22号様式!C149)","v":""},null,{"$f":"IF(P_22号様式!E149=\"\",\"\",P_22号様式!E149)","v":""},{"$f":"IF(P_22号様式!F149=\"\",\"\",P_22号様式!F149)","v":""},{"$f":"IF(P_22号様式!G149=\"\",\"\",P_22号様式!G149)","v":""},{"$f":"IF(P_22号様式!H149=\"\",\"\",P_22号様式!H149)","v":""},{"$f":"IF(P_22号様式!J149=\"\",\"\",P_22号様式!J149)","v":""},{"$f":"IF(P_22号様式!K149=\"\",\"\",P_22号様式!K149)","v":""},{"$f":"IF(P_22号様式!L149=\"\",\"\",P_22号様式!L149)","v":""},{"$f":"IF(P_22号様式!M149=\"\",\"\",P_22号様式!M149)","v":""},{"$f":"IF(P_22号様式!O149=\"\",\"\",P_22号様式!O149)","v":""},{"$f":"IF(P_22号様式!P149=\"\",\"\",P_22号様式!P149)","v":""},{"$f":"IF(P_22号様式!Q149=\"\",\"\",P_22号様式!Q149)","v":""},{"$f":"IF(P_22号様式!R149=\"\",\"\",P_22号様式!R149)","v":""},{"$f":"IF(P_22号様式!T149=\"\",\"\",P_22号様式!T149)","v":""},{"$f":"IF(P_22号様式!U149=\"\",\"\",P_22号様式!U149)","v":""},{"$f":"IF(P_22号様式!V149=\"\",\"\",P_22号様式!V149)","v":""},{"$f":"IF(P_22号様式!W149=\"\",\"\",P_22号様式!W149)","v":""}]
[{"$f":"IF(P_22号様式!C150=\"\",\"\",P_22号様式!C150)","v":""},null,{"$f":"IF(P_22号様式!E150=\"\",\"\",P_22号様式!E150)","v":""},{"$f":"IF(P_22号様式!F150=\"\",\"\",P_22号様式!F150)","v":""},{"$f":"IF(P_22号様式!G150=\"\",\"\",P_22号様式!G150)","v":""},{"$f":"IF(P_22号様式!H150=\"\",\"\",P_22号様式!H150)","v":""},{"$f":"IF(P_22号様式!J150=\"\",\"\",P_22号様式!J150)","v":""},{"$f":"IF(P_22号様式!K150=\"\",\"\",P_22号様式!K150)","v":""},{"$f":"IF(P_22号様式!L150=\"\",\"\",P_22号様式!L150)","v":""},{"$f":"IF(P_22号様式!M150=\"\",\"\",P_22号様式!M150)","v":""},{"$f":"IF(P_22号様式!O150=\"\",\"\",P_22号様式!O150)","v":""},{"$f":"IF(P_22号様式!P150=\"\",\"\",P_22号様式!P150)","v":""},{"$f":"IF(P_22号様式!Q150=\"\",\"\",P_22号様式!Q150)","v":""},{"$f":"IF(P_22号様式!R150=\"\",\"\",P_22号様式!R150)","v":""},{"$f":"IF(P_22号様式!T150=\"\",\"\",P_22号様式!T150)","v":""},{"$f":"IF(P_22号様式!U150=\"\",\"\",P_22号様式!U150)","v":""},{"$f":"IF(P_22号様式!V150=\"\",\"\",P_22号様式!V150)","v":""},{"$f":"IF(P_22号様式!W150=\"\",\"\",P_22号様式!W150)","v":""}]
[{"$f":"IF(P_22号様式!C151=\"\",\"\",P_22号様式!C151)","v":""},null,{"$f":"IF(P_22号様式!E151=\"\",\"\",P_22号様式!E151)","v":""},{"$f":"IF(P_22号様式!F151=\"\",\"\",P_22号様式!F151)","v":""},{"$f":"IF(P_22号様式!G151=\"\",\"\",P_22号様式!G151)","v":""},{"$f":"IF(P_22号様式!H151=\"\",\"\",P_22号様式!H151)","v":""},{"$f":"IF(P_22号様式!J151=\"\",\"\",P_22号様式!J151)","v":""},{"$f":"IF(P_22号様式!K151=\"\",\"\",P_22号様式!K151)","v":""},{"$f":"IF(P_22号様式!L151=\"\",\"\",P_22号様式!L151)","v":""},{"$f":"IF(P_22号様式!M151=\"\",\"\",P_22号様式!M151)","v":""},{"$f":"IF(P_22号様式!O151=\"\",\"\",P_22号様式!O151)","v":""},{"$f":"IF(P_22号様式!P151=\"\",\"\",P_22号様式!P151)","v":""},{"$f":"IF(P_22号様式!Q151=\"\",\"\",P_22号様式!Q151)","v":""},{"$f":"IF(P_22号様式!R151=\"\",\"\",P_22号様式!R151)","v":""},{"$f":"IF(P_22号様式!T151=\"\",\"\",P_22号様式!T151)","v":""},{"$f":"IF(P_22号様式!U151=\"\",\"\",P_22号様式!U151)","v":""},{"$f":"IF(P_22号様式!V151=\"\",\"\",P_22号様式!V151)","v":""},{"$f":"IF(P_22号様式!W151=\"\",\"\",P_22号様式!W151)","v":""}]
[{"$f":"IF(P_22号様式!C152=\"\",\"\",P_22号様式!C152)","v":""},null,{"$f":"IF(P_22号様式!E152=\"\",\"\",P_22号様式!E152)","v":""},{"$f":"IF(P_22号様式!F152=\"\",\"\",P_22号様式!F152)","v":""},{"$f":"IF(P_22号様式!G152=\"\",\"\",P_22号様式!G152)","v":""},{"$f":"IF(P_22号様式!H152=\"\",\"\",P_22号様式!H152)","v":""},{"$f":"IF(P_22号様式!J152=\"\",\"\",P_22号様式!J152)","v":""},{"$f":"IF(P_22号様式!K152=\"\",\"\",P_22号様式!K152)","v":""},{"$f":"IF(P_22号様式!L152=\"\",\"\",P_22号様式!L152)","v":""},{"$f":"IF(P_22号様式!M152=\"\",\"\",P_22号様式!M152)","v":""},{"$f":"IF(P_22号様式!O152=\"\",\"\",P_22号様式!O152)","v":""},{"$f":"IF(P_22号様式!P152=\"\",\"\",P_22号様式!P152)","v":""},{"$f":"IF(P_22号様式!Q152=\"\",\"\",P_22号様式!Q152)","v":""},{"$f":"IF(P_22号様式!R152=\"\",\"\",P_22号様式!R152)","v":""},{"$f":"IF(P_22号様式!T152=\"\",\"\",P_22号様式!T152)","v":""},{"$f":"IF(P_22号様式!U152=\"\",\"\",P_22号様式!U152)","v":""},{"$f":"IF(P_22号様式!V152=\"\",\"\",P_22号様式!V152)","v":""},{"$f":"IF(P_22号様式!W152=\"\",\"\",P_22号様式!W152)","v":""}]
[{"$f":"IF(P_22号様式!C153=\"\",\"\",P_22号様式!C153)","v":""},null,{"$f":"IF(P_22号様式!E153=\"\",\"\",P_22号様式!E153)","v":""},{"$f":"IF(P_22号様式!F153=\"\",\"\",P_22号様式!F153)","v":""},{"$f":"IF(P_22号様式!G153=\"\",\"\",P_22号様式!G153)","v":""},{"$f":"IF(P_22号様式!H153=\"\",\"\",P_22号様式!H153)","v":""},{"$f":"IF(P_22号様式!J153=\"\",\"\",P_22号様式!J153)","v":""},{"$f":"IF(P_22号様式!K153=\"\",\"\",P_22号様式!K153)","v":""},{"$f":"IF(P_22号様式!L153=\"\",\"\",P_22号様式!L153)","v":""},{"$f":"IF(P_22号様式!M153=\"\",\"\",P_22号様式!M153)","v":""},{"$f":"IF(P_22号様式!O153=\"\",\"\",P_22号様式!O153)","v":""},{"$f":"IF(P_22号様式!P153=\"\",\"\",P_22号様式!P153)","v":""},{"$f":"IF(P_22号様式!Q153=\"\",\"\",P_22号様式!Q153)","v":""},{"$f":"IF(P_22号様式!R153=\"\",\"\",P_22号様式!R153)","v":""},{"$f":"IF(P_22号様式!T153=\"\",\"\",P_22号様式!T153)","v":""},{"$f":"IF(P_22号様式!U153=\"\",\"\",P_22号様式!U153)","v":""},{"$f":"IF(P_22号様式!V153=\"\",\"\",P_22号様式!V153)","v":""},{"$f":"IF(P_22号様式!W153=\"\",\"\",P_22号様式!W153)","v":""}]
[{"$f":"IF(P_22号様式!C154=\"\",\"\",P_22号様式!C154)","v":""},null,{"$f":"IF(P_22号様式!E154=\"\",\"\",P_22号様式!E154)","v":""},{"$f":"IF(P_22号様式!F154=\"\",\"\",P_22号様式!F154)","v":""},{"$f":"IF(P_22号様式!G154=\"\",\"\",P_22号様式!G154)","v":""},{"$f":"IF(P_22号様式!H154=\"\",\"\",P_22号様式!H154)","v":""},{"$f":"IF(P_22号様式!J154=\"\",\"\",P_22号様式!J154)","v":""},{"$f":"IF(P_22号様式!K154=\"\",\"\",P_22号様式!K154)","v":""},{"$f":"IF(P_22号様式!L154=\"\",\"\",P_22号様式!L154)","v":""},{"$f":"IF(P_22号様式!M154=\"\",\"\",P_22号様式!M154)","v":""},{"$f":"IF(P_22号様式!O154=\"\",\"\",P_22号様式!O154)","v":""},{"$f":"IF(P_22号様式!P154=\"\",\"\",P_22号様式!P154)","v":""},{"$f":"IF(P_22号様式!Q154=\"\",\"\",P_22号様式!Q154)","v":""},{"$f":"IF(P_22号様式!R154=\"\",\"\",P_22号様式!R154)","v":""},{"$f":"IF(P_22号様式!T154=\"\",\"\",P_22号様式!T154)","v":""},{"$f":"IF(P_22号様式!U154=\"\",\"\",P_22号様式!U154)","v":""},{"$f":"IF(P_22号様式!V154=\"\",\"\",P_22号様式!V154)","v":""},{"$f":"IF(P_22号様式!W154=\"\",\"\",P_22号様式!W154)","v":""}]
[{"$f":"IF(P_22号様式!C155=\"\",\"\",P_22号様式!C155)","v":""},null,{"$f":"IF(P_22号様式!E155=\"\",\"\",P_22号様式!E155)","v":""},{"$f":"IF(P_22号様式!F155=\"\",\"\",P_22号様式!F155)","v":""},{"$f":"IF(P_22号様式!G155=\"\",\"\",P_22号様式!G155)","v":""},{"$f":"IF(P_22号様式!H155=\"\",\"\",P_22号様式!H155)","v":""},{"$f":"IF(P_22号様式!J155=\"\",\"\",P_22号様式!J155)","v":""},{"$f":"IF(P_22号様式!K155=\"\",\"\",P_22号様式!K155)","v":""},{"$f":"IF(P_22号様式!L155=\"\",\"\",P_22号様式!L155)","v":""},{"$f":"IF(P_22号様式!M155=\"\",\"\",P_22号様式!M155)","v":""},{"$f":"IF(P_22号様式!O155=\"\",\"\",P_22号様式!O155)","v":""},{"$f":"IF(P_22号様式!P155=\"\",\"\",P_22号様式!P155)","v":""},{"$f":"IF(P_22号様式!Q155=\"\",\"\",P_22号様式!Q155)","v":""},{"$f":"IF(P_22号様式!R155=\"\",\"\",P_22号様式!R155)","v":""},{"$f":"IF(P_22号様式!T155=\"\",\"\",P_22号様式!T155)","v":""},{"$f":"IF(P_22号様式!U155=\"\",\"\",P_22号様式!U155)","v":""},{"$f":"IF(P_22号様式!V155=\"\",\"\",P_22号様式!V155)","v":""},{"$f":"IF(P_22号様式!W155=\"\",\"\",P_22号様式!W155)","v":""}]
[{"$f":"IF(P_22号様式!C156=\"\",\"\",P_22号様式!C156)","v":""},null,{"$f":"IF(P_22号様式!E156=\"\",\"\",P_22号様式!E156)","v":""},{"$f":"IF(P_22号様式!F156=\"\",\"\",P_22号様式!F156)","v":""},{"$f":"IF(P_22号様式!G156=\"\",\"\",P_22号様式!G156)","v":""},{"$f":"IF(P_22号様式!H156=\"\",\"\",P_22号様式!H156)","v":""},{"$f":"IF(P_22号様式!J156=\"\",\"\",P_22号様式!J156)","v":""},{"$f":"IF(P_22号様式!K156=\"\",\"\",P_22号様式!K156)","v":""},{"$f":"IF(P_22号様式!L156=\"\",\"\",P_22号様式!L156)","v":""},{"$f":"IF(P_22号様式!M156=\"\",\"\",P_22号様式!M156)","v":""},{"$f":"IF(P_22号様式!O156=\"\",\"\",P_22号様式!O156)","v":""},{"$f":"IF(P_22号様式!P156=\"\",\"\",P_22号様式!P156)","v":""},{"$f":"IF(P_22号様式!Q156=\"\",\"\",P_22号様式!Q156)","v":""},{"$f":"IF(P_22号様式!R156=\"\",\"\",P_22号様式!R156)","v":""},{"$f":"IF(P_22号様式!T156=\"\",\"\",P_22号様式!T156)","v":""},{"$f":"IF(P_22号様式!U156=\"\",\"\",P_22号様式!U156)","v":""},{"$f":"IF(P_22号様式!V156=\"\",\"\",P_22号様式!V156)","v":""},{"$f":"IF(P_22号様式!W156=\"\",\"\",P_22号様式!W156)","v":""}]
[{"$f":"IF(P_22号様式!C157=\"\",\"\",P_22号様式!C157)","v":""},null,{"$f":"IF(P_22号様式!E157=\"\",\"\",P_22号様式!E157)","v":""},{"$f":"IF(P_22号様式!F157=\"\",\"\",P_22号様式!F157)","v":""},{"$f":"IF(P_22号様式!G157=\"\",\"\",P_22号様式!G157)","v":""},{"$f":"IF(P_22号様式!H157=\"\",\"\",P_22号様式!H157)","v":""},{"$f":"IF(P_22号様式!J157=\"\",\"\",P_22号様式!J157)","v":""},{"$f":"IF(P_22号様式!K157=\"\",\"\",P_22号様式!K157)","v":""},{"$f":"IF(P_22号様式!L157=\"\",\"\",P_22号様式!L157)","v":""},{"$f":"IF(P_22号様式!M157=\"\",\"\",P_22号様式!M157)","v":""},{"$f":"IF(P_22号様式!O157=\"\",\"\",P_22号様式!O157)","v":""},{"$f":"IF(P_22号様式!P157=\"\",\"\",P_22号様式!P157)","v":""},{"$f":"IF(P_22号様式!Q157=\"\",\"\",P_22号様式!Q157)","v":""},{"$f":"IF(P_22号様式!R157=\"\",\"\",P_22号様式!R157)","v":""},{"$f":"IF(P_22号様式!T157=\"\",\"\",P_22号様式!T157)","v":""},{"$f":"IF(P_22号様式!U157=\"\",\"\",P_22号様式!U157)","v":""},{"$f":"IF(P_22号様式!V157=\"\",\"\",P_22号様式!V157)","v":""},{"$f":"IF(P_22号様式!W157=\"\",\"\",P_22号様式!W157)","v":""}]
[{"$f":"IF(P_22号様式!C158=\"\",\"\",P_22号様式!C158)","v":""},null,{"$f":"IF(P_22号様式!E158=\"\",\"\",P_22号様式!E158)","v":""},{"$f":"IF(P_22号様式!F158=\"\",\"\",P_22号様式!F158)","v":""},{"$f":"IF(P_22号様式!G158=\"\",\"\",P_22号様式!G158)","v":""},{"$f":"IF(P_22号様式!H158=\"\",\"\",P_22号様式!H158)","v":""},{"$f":"IF(P_22号様式!J158=\"\",\"\",P_22号様式!J158)","v":""},{"$f":"IF(P_22号様式!K158=\"\",\"\",P_22号様式!K158)","v":""},{"$f":"IF(P_22号様式!L158=\"\",\"\",P_22号様式!L158)","v":""},{"$f":"IF(P_22号様式!M158=\"\",\"\",P_22号様式!M158)","v":""},{"$f":"IF(P_22号様式!O158=\"\",\"\",P_22号様式!O158)","v":""},{"$f":"IF(P_22号様式!P158=\"\",\"\",P_22号様式!P158)","v":""},{"$f":"IF(P_22号様式!Q158=\"\",\"\",P_22号様式!Q158)","v":""},{"$f":"IF(P_22号様式!R158=\"\",\"\",P_22号様式!R158)","v":""},{"$f":"IF(P_22号様式!T158=\"\",\"\",P_22号様式!T158)","v":""},{"$f":"IF(P_22号様式!U158=\"\",\"\",P_22号様式!U158)","v":""},{"$f":"IF(P_22号様式!V158=\"\",\"\",P_22号様式!V158)","v":""},{"$f":"IF(P_22号様式!W158=\"\",\"\",P_22号様式!W158)","v":""}]
[{"$f":"IF(P_22号様式!C159=\"\",\"\",P_22号様式!C159)","v":""},null,{"$f":"IF(P_22号様式!E159=\"\",\"\",P_22号様式!E159)","v":""},{"$f":"IF(P_22号様式!F159=\"\",\"\",P_22号様式!F159)","v":""},{"$f":"IF(P_22号様式!G159=\"\",\"\",P_22号様式!G159)","v":""},{"$f":"IF(P_22号様式!H159=\"\",\"\",P_22号様式!H159)","v":""},{"$f":"IF(P_22号様式!J159=\"\",\"\",P_22号様式!J159)","v":""},{"$f":"IF(P_22号様式!K159=\"\",\"\",P_22号様式!K159)","v":""},{"$f":"IF(P_22号様式!L159=\"\",\"\",P_22号様式!L159)","v":""},{"$f":"IF(P_22号様式!M159=\"\",\"\",P_22号様式!M159)","v":""},{"$f":"IF(P_22号様式!O159=\"\",\"\",P_22号様式!O159)","v":""},{"$f":"IF(P_22号様式!P159=\"\",\"\",P_22号様式!P159)","v":""},{"$f":"IF(P_22号様式!Q159=\"\",\"\",P_22号様式!Q159)","v":""},{"$f":"IF(P_22号様式!R159=\"\",\"\",P_22号様式!R159)","v":""},{"$f":"IF(P_22号様式!T159=\"\",\"\",P_22号様式!T159)","v":""},{"$f":"IF(P_22号様式!U159=\"\",\"\",P_22号様式!U159)","v":""},{"$f":"IF(P_22号様式!V159=\"\",\"\",P_22号様式!V159)","v":""},{"$f":"IF(P_22号様式!W159=\"\",\"\",P_22号様式!W159)","v":""}]
[{"$f":"IF(P_22号様式!C160=\"\",\"\",P_22号様式!C160)","v":""},null,{"$f":"IF(P_22号様式!E160=\"\",\"\",P_22号様式!E160)","v":""},{"$f":"IF(P_22号様式!F160=\"\",\"\",P_22号様式!F160)","v":""},{"$f":"IF(P_22号様式!G160=\"\",\"\",P_22号様式!G160)","v":""},{"$f":"IF(P_22号様式!H160=\"\",\"\",P_22号様式!H160)","v":""},{"$f":"IF(P_22号様式!J160=\"\",\"\",P_22号様式!J160)","v":""},{"$f":"IF(P_22号様式!K160=\"\",\"\",P_22号様式!K160)","v":""},{"$f":"IF(P_22号様式!L160=\"\",\"\",P_22号様式!L160)","v":""},{"$f":"IF(P_22号様式!M160=\"\",\"\",P_22号様式!M160)","v":""},{"$f":"IF(P_22号様式!O160=\"\",\"\",P_22号様式!O160)","v":""},{"$f":"IF(P_22号様式!P160=\"\",\"\",P_22号様式!P160)","v":""},{"$f":"IF(P_22号様式!Q160=\"\",\"\",P_22号様式!Q160)","v":""},{"$f":"IF(P_22号様式!R160=\"\",\"\",P_22号様式!R160)","v":""},{"$f":"IF(P_22号様式!T160=\"\",\"\",P_22号様式!T160)","v":""},{"$f":"IF(P_22号様式!U160=\"\",\"\",P_22号様式!U160)","v":""},{"$f":"IF(P_22号様式!V160=\"\",\"\",P_22号様式!V160)","v":""},{"$f":"IF(P_22号様式!W160=\"\",\"\",P_22号様式!W160)","v":""}]
[{"$f":"IF(P_22号様式!C161=\"\",\"\",P_22号様式!C161)","v":""},null,{"$f":"IF(P_22号様式!E161=\"\",\"\",P_22号様式!E161)","v":""},{"$f":"IF(P_22号様式!F161=\"\",\"\",P_22号様式!F161)","v":""},{"$f":"IF(P_22号様式!G161=\"\",\"\",P_22号様式!G161)","v":""},{"$f":"IF(P_22号様式!H161=\"\",\"\",P_22号様式!H161)","v":""},{"$f":"IF(P_22号様式!J161=\"\",\"\",P_22号様式!J161)","v":""},{"$f":"IF(P_22号様式!K161=\"\",\"\",P_22号様式!K161)","v":""},{"$f":"IF(P_22号様式!L161=\"\",\"\",P_22号様式!L161)","v":""},{"$f":"IF(P_22号様式!M161=\"\",\"\",P_22号様式!M161)","v":""},{"$f":"IF(P_22号様式!O161=\"\",\"\",P_22号様式!O161)","v":""},{"$f":"IF(P_22号様式!P161=\"\",\"\",P_22号様式!P161)","v":""},{"$f":"IF(P_22号様式!Q161=\"\",\"\",P_22号様式!Q161)","v":""},{"$f":"IF(P_22号様式!R161=\"\",\"\",P_22号様式!R161)","v":""},{"$f":"IF(P_22号様式!T161=\"\",\"\",P_22号様式!T161)","v":""},{"$f":"IF(P_22号様式!U161=\"\",\"\",P_22号様式!U161)","v":""},{"$f":"IF(P_22号様式!V161=\"\",\"\",P_22号様式!V161)","v":""},{"$f":"IF(P_22号様式!W161=\"\",\"\",P_22号様式!W161)","v":""}]
[{"$f":"IF(P_22号様式!C162=\"\",\"\",P_22号様式!C162)","v":""},null,{"$f":"IF(P_22号様式!E162=\"\",\"\",P_22号様式!E162)","v":""},{"$f":"IF(P_22号様式!F162=\"\",\"\",P_22号様式!F162)","v":""},{"$f":"IF(P_22号様式!G162=\"\",\"\",P_22号様式!G162)","v":""},{"$f":"IF(P_22号様式!H162=\"\",\"\",P_22号様式!H162)","v":""},{"$f":"IF(P_22号様式!J162=\"\",\"\",P_22号様式!J162)","v":""},{"$f":"IF(P_22号様式!K162=\"\",\"\",P_22号様式!K162)","v":""},{"$f":"IF(P_22号様式!L162=\"\",\"\",P_22号様式!L162)","v":""},{"$f":"IF(P_22号様式!M162=\"\",\"\",P_22号様式!M162)","v":""},{"$f":"IF(P_22号様式!O162=\"\",\"\",P_22号様式!O162)","v":""},{"$f":"IF(P_22号様式!P162=\"\",\"\",P_22号様式!P162)","v":""},{"$f":"IF(P_22号様式!Q162=\"\",\"\",P_22号様式!Q162)","v":""},{"$f":"IF(P_22号様式!R162=\"\",\"\",P_22号様式!R162)","v":""},{"$f":"IF(P_22号様式!T162=\"\",\"\",P_22号様式!T162)","v":""},{"$f":"IF(P_22号様式!U162=\"\",\"\",P_22号様式!U162)","v":""},{"$f":"IF(P_22号様式!V162=\"\",\"\",P_22号様式!V162)","v":""},{"$f":"IF(P_22号様式!W162=\"\",\"\",P_22号様式!W162)","v":""}]
[{"$f":"IF(P_22号様式!C163=\"\",\"\",P_22号様式!C163)","v":""},null,{"$f":"IF(P_22号様式!E163=\"\",\"\",P_22号様式!E163)","v":""},{"$f":"IF(P_22号様式!F163=\"\",\"\",P_22号様式!F163)","v":""},{"$f":"IF(P_22号様式!G163=\"\",\"\",P_22号様式!G163)","v":""},{"$f":"IF(P_22号様式!H163=\"\",\"\",P_22号様式!H163)","v":""},{"$f":"IF(P_22号様式!J163=\"\",\"\",P_22号様式!J163)","v":""},{"$f":"IF(P_22号様式!K163=\"\",\"\",P_22号様式!K163)","v":""},{"$f":"IF(P_22号様式!L163=\"\",\"\",P_22号様式!L163)","v":""},{"$f":"IF(P_22号様式!M163=\"\",\"\",P_22号様式!M163)","v":""},{"$f":"IF(P_22号様式!O163=\"\",\"\",P_22号様式!O163)","v":""},{"$f":"IF(P_22号様式!P163=\"\",\"\",P_22号様式!P163)","v":""},{"$f":"IF(P_22号様式!Q163=\"\",\"\",P_22号様式!Q163)","v":""},{"$f":"IF(P_22号様式!R163=\"\",\"\",P_22号様式!R163)","v":""},{"$f":"IF(P_22号様式!T163=\"\",\"\",P_22号様式!T163)","v":""},{"$f":"IF(P_22号様式!U163=\"\",\"\",P_22号様式!U163)","v":""},{"$f":"IF(P_22号様式!V163=\"\",\"\",P_22号様式!V163)","v":""},{"$f":"IF(P_22号様式!W163=\"\",\"\",P_22号様式!W163)","v":""}]
[{"$f":"IF(P_22号様式!C164=\"\",\"\",P_22号様式!C164)","v":""},null,{"$f":"IF(P_22号様式!E164=\"\",\"\",P_22号様式!E164)","v":""},{"$f":"IF(P_22号様式!F164=\"\",\"\",P_22号様式!F164)","v":""},{"$f":"IF(P_22号様式!G164=\"\",\"\",P_22号様式!G164)","v":""},{"$f":"IF(P_22号様式!H164=\"\",\"\",P_22号様式!H164)","v":""},{"$f":"IF(P_22号様式!J164=\"\",\"\",P_22号様式!J164)","v":""},{"$f":"IF(P_22号様式!K164=\"\",\"\",P_22号様式!K164)","v":""},{"$f":"IF(P_22号様式!L164=\"\",\"\",P_22号様式!L164)","v":""},{"$f":"IF(P_22号様式!M164=\"\",\"\",P_22号様式!M164)","v":""},{"$f":"IF(P_22号様式!O164=\"\",\"\",P_22号様式!O164)","v":""},{"$f":"IF(P_22号様式!P164=\"\",\"\",P_22号様式!P164)","v":""},{"$f":"IF(P_22号様式!Q164=\"\",\"\",P_22号様式!Q164)","v":""},{"$f":"IF(P_22号様式!R164=\"\",\"\",P_22号様式!R164)","v":""},{"$f":"IF(P_22号様式!T164=\"\",\"\",P_22号様式!T164)","v":""},{"$f":"IF(P_22号様式!U164=\"\",\"\",P_22号様式!U164)","v":""},{"$f":"IF(P_22号様式!V164=\"\",\"\",P_22号様式!V164)","v":""},{"$f":"IF(P_22号様式!W164=\"\",\"\",P_22号様式!W164)","v":""}]
[{"$f":"IF(P_22号様式!C165=\"\",\"\",P_22号様式!C165)","v":""},null,{"$f":"IF(P_22号様式!E165=\"\",\"\",P_22号様式!E165)","v":""},{"$f":"IF(P_22号様式!F165=\"\",\"\",P_22号様式!F165)","v":""},{"$f":"IF(P_22号様式!G165=\"\",\"\",P_22号様式!G165)","v":""},{"$f":"IF(P_22号様式!H165=\"\",\"\",P_22号様式!H165)","v":""},{"$f":"IF(P_22号様式!J165=\"\",\"\",P_22号様式!J165)","v":""},{"$f":"IF(P_22号様式!K165=\"\",\"\",P_22号様式!K165)","v":""},{"$f":"IF(P_22号様式!L165=\"\",\"\",P_22号様式!L165)","v":""},{"$f":"IF(P_22号様式!M165=\"\",\"\",P_22号様式!M165)","v":""},{"$f":"IF(P_22号様式!O165=\"\",\"\",P_22号様式!O165)","v":""},{"$f":"IF(P_22号様式!P165=\"\",\"\",P_22号様式!P165)","v":""},{"$f":"IF(P_22号様式!Q165=\"\",\"\",P_22号様式!Q165)","v":""},{"$f":"IF(P_22号様式!R165=\"\",\"\",P_22号様式!R165)","v":""},{"$f":"IF(P_22号様式!T165=\"\",\"\",P_22号様式!T165)","v":""},{"$f":"IF(P_22号様式!U165=\"\",\"\",P_22号様式!U165)","v":""},{"$f":"IF(P_22号様式!V165=\"\",\"\",P_22号様式!V165)","v":""},{"$f":"IF(P_22号様式!W165=\"\",\"\",P_22号様式!W165)","v":""}]
[{"$f":"IF(P_22号様式!C166=\"\",\"\",P_22号様式!C166)","v":""},null,{"$f":"IF(P_22号様式!E166=\"\",\"\",P_22号様式!E166)","v":""},{"$f":"IF(P_22号様式!F166=\"\",\"\",P_22号様式!F166)","v":""},{"$f":"IF(P_22号様式!G166=\"\",\"\",P_22号様式!G166)","v":""},{"$f":"IF(P_22号様式!H166=\"\",\"\",P_22号様式!H166)","v":""},{"$f":"IF(P_22号様式!J166=\"\",\"\",P_22号様式!J166)","v":""},{"$f":"IF(P_22号様式!K166=\"\",\"\",P_22号様式!K166)","v":""},{"$f":"IF(P_22号様式!L166=\"\",\"\",P_22号様式!L166)","v":""},{"$f":"IF(P_22号様式!M166=\"\",\"\",P_22号様式!M166)","v":""},{"$f":"IF(P_22号様式!O166=\"\",\"\",P_22号様式!O166)","v":""},{"$f":"IF(P_22号様式!P166=\"\",\"\",P_22号様式!P166)","v":""},{"$f":"IF(P_22号様式!Q166=\"\",\"\",P_22号様式!Q166)","v":""},{"$f":"IF(P_22号様式!R166=\"\",\"\",P_22号様式!R166)","v":""},{"$f":"IF(P_22号様式!T166=\"\",\"\",P_22号様式!T166)","v":""},{"$f":"IF(P_22号様式!U166=\"\",\"\",P_22号様式!U166)","v":""},{"$f":"IF(P_22号様式!V166=\"\",\"\",P_22号様式!V166)","v":""},{"$f":"IF(P_22号様式!W166=\"\",\"\",P_22号様式!W166)","v":""}]
[{"$f":"IF(P_22号様式!C167=\"\",\"\",P_22号様式!C167)","v":""},null,{"$f":"IF(P_22号様式!E167=\"\",\"\",P_22号様式!E167)","v":""},{"$f":"IF(P_22号様式!F167=\"\",\"\",P_22号様式!F167)","v":""},{"$f":"IF(P_22号様式!G167=\"\",\"\",P_22号様式!G167)","v":""},{"$f":"IF(P_22号様式!H167=\"\",\"\",P_22号様式!H167)","v":""},{"$f":"IF(P_22号様式!J167=\"\",\"\",P_22号様式!J167)","v":""},{"$f":"IF(P_22号様式!K167=\"\",\"\",P_22号様式!K167)","v":""},{"$f":"IF(P_22号様式!L167=\"\",\"\",P_22号様式!L167)","v":""},{"$f":"IF(P_22号様式!M167=\"\",\"\",P_22号様式!M167)","v":""},{"$f":"IF(P_22号様式!O167=\"\",\"\",P_22号様式!O167)","v":""},{"$f":"IF(P_22号様式!P167=\"\",\"\",P_22号様式!P167)","v":""},{"$f":"IF(P_22号様式!Q167=\"\",\"\",P_22号様式!Q167)","v":""},{"$f":"IF(P_22号様式!R167=\"\",\"\",P_22号様式!R167)","v":""},{"$f":"IF(P_22号様式!T167=\"\",\"\",P_22号様式!T167)","v":""},{"$f":"IF(P_22号様式!U167=\"\",\"\",P_22号様式!U167)","v":""},{"$f":"IF(P_22号様式!V167=\"\",\"\",P_22号様式!V167)","v":""},{"$f":"IF(P_22号様式!W167=\"\",\"\",P_22号様式!W167)","v":""}]
[{"$f":"IF(P_22号様式!C168=\"\",\"\",P_22号様式!C168)","v":""},null,{"$f":"IF(P_22号様式!E168=\"\",\"\",P_22号様式!E168)","v":""},{"$f":"IF(P_22号様式!F168=\"\",\"\",P_22号様式!F168)","v":""},{"$f":"IF(P_22号様式!G168=\"\",\"\",P_22号様式!G168)","v":""},{"$f":"IF(P_22号様式!H168=\"\",\"\",P_22号様式!H168)","v":""},{"$f":"IF(P_22号様式!J168=\"\",\"\",P_22号様式!J168)","v":""},{"$f":"IF(P_22号様式!K168=\"\",\"\",P_22号様式!K168)","v":""},{"$f":"IF(P_22号様式!L168=\"\",\"\",P_22号様式!L168)","v":""},{"$f":"IF(P_22号様式!M168=\"\",\"\",P_22号様式!M168)","v":""},{"$f":"IF(P_22号様式!O168=\"\",\"\",P_22号様式!O168)","v":""},{"$f":"IF(P_22号様式!P168=\"\",\"\",P_22号様式!P168)","v":""},{"$f":"IF(P_22号様式!Q168=\"\",\"\",P_22号様式!Q168)","v":""},{"$f":"IF(P_22号様式!R168=\"\",\"\",P_22号様式!R168)","v":""},{"$f":"IF(P_22号様式!T168=\"\",\"\",P_22号様式!T168)","v":""},{"$f":"IF(P_22号様式!U168=\"\",\"\",P_22号様式!U168)","v":""},{"$f":"IF(P_22号様式!V168=\"\",\"\",P_22号様式!V168)","v":""},{"$f":"IF(P_22号様式!W168=\"\",\"\",P_22号様式!W168)","v":""}]
[{"$f":"IF(P_22号様式!C169=\"\",\"\",P_22号様式!C169)","v":""},null,{"$f":"IF(P_22号様式!E169=\"\",\"\",P_22号様式!E169)","v":""},{"$f":"IF(P_22号様式!F169=\"\",\"\",P_22号様式!F169)","v":""},{"$f":"IF(P_22号様式!G169=\"\",\"\",P_22号様式!G169)","v":""},{"$f":"IF(P_22号様式!H169=\"\",\"\",P_22号様式!H169)","v":""},{"$f":"IF(P_22号様式!J169=\"\",\"\",P_22号様式!J169)","v":""},{"$f":"IF(P_22号様式!K169=\"\",\"\",P_22号様式!K169)","v":""},{"$f":"IF(P_22号様式!L169=\"\",\"\",P_22号様式!L169)","v":""},{"$f":"IF(P_22号様式!M169=\"\",\"\",P_22号様式!M169)","v":""},{"$f":"IF(P_22号様式!O169=\"\",\"\",P_22号様式!O169)","v":""},{"$f":"IF(P_22号様式!P169=\"\",\"\",P_22号様式!P169)","v":""},{"$f":"IF(P_22号様式!Q169=\"\",\"\",P_22号様式!Q169)","v":""},{"$f":"IF(P_22号様式!R169=\"\",\"\",P_22号様式!R169)","v":""},{"$f":"IF(P_22号様式!T169=\"\",\"\",P_22号様式!T169)","v":""},{"$f":"IF(P_22号様式!U169=\"\",\"\",P_22号様式!U169)","v":""},{"$f":"IF(P_22号様式!V169=\"\",\"\",P_22号様式!V169)","v":""},{"$f":"IF(P_22号様式!W169=\"\",\"\",P_22号様式!W169)","v":""}]
[{"$f":"IF(P_22号様式!C170=\"\",\"\",P_22号様式!C170)","v":""},null,{"$f":"IF(P_22号様式!E170=\"\",\"\",P_22号様式!E170)","v":""},{"$f":"IF(P_22号様式!F170=\"\",\"\",P_22号様式!F170)","v":""},{"$f":"IF(P_22号様式!G170=\"\",\"\",P_22号様式!G170)","v":""},{"$f":"IF(P_22号様式!H170=\"\",\"\",P_22号様式!H170)","v":""},{"$f":"IF(P_22号様式!J170=\"\",\"\",P_22号様式!J170)","v":""},{"$f":"IF(P_22号様式!K170=\"\",\"\",P_22号様式!K170)","v":""},{"$f":"IF(P_22号様式!L170=\"\",\"\",P_22号様式!L170)","v":""},{"$f":"IF(P_22号様式!M170=\"\",\"\",P_22号様式!M170)","v":""},{"$f":"IF(P_22号様式!O170=\"\",\"\",P_22号様式!O170)","v":""},{"$f":"IF(P_22号様式!P170=\"\",\"\",P_22号様式!P170)","v":""},{"$f":"IF(P_22号様式!Q170=\"\",\"\",P_22号様式!Q170)","v":""},{"$f":"IF(P_22号様式!R170=\"\",\"\",P_22号様式!R170)","v":""},{"$f":"IF(P_22号様式!T170=\"\",\"\",P_22号様式!T170)","v":""},{"$f":"IF(P_22号様式!U170=\"\",\"\",P_22号様式!U170)","v":""},{"$f":"IF(P_22号様式!V170=\"\",\"\",P_22号様式!V170)","v":""},{"$f":"IF(P_22号様式!W170=\"\",\"\",P_22号様式!W170)","v":""}]
[{"$f":"IF(P_22号様式!C171=\"\",\"\",P_22号様式!C171)","v":""},null,{"$f":"IF(P_22号様式!E171=\"\",\"\",P_22号様式!E171)","v":""},{"$f":"IF(P_22号様式!F171=\"\",\"\",P_22号様式!F171)","v":""},{"$f":"IF(P_22号様式!G171=\"\",\"\",P_22号様式!G171)","v":""},{"$f":"IF(P_22号様式!H171=\"\",\"\",P_22号様式!H171)","v":""},{"$f":"IF(P_22号様式!J171=\"\",\"\",P_22号様式!J171)","v":""},{"$f":"IF(P_22号様式!K171=\"\",\"\",P_22号様式!K171)","v":""},{"$f":"IF(P_22号様式!L171=\"\",\"\",P_22号様式!L171)","v":""},{"$f":"IF(P_22号様式!M171=\"\",\"\",P_22号様式!M171)","v":""},{"$f":"IF(P_22号様式!O171=\"\",\"\",P_22号様式!O171)","v":""},{"$f":"IF(P_22号様式!P171=\"\",\"\",P_22号様式!P171)","v":""},{"$f":"IF(P_22号様式!Q171=\"\",\"\",P_22号様式!Q171)","v":""},{"$f":"IF(P_22号様式!R171=\"\",\"\",P_22号様式!R171)","v":""},{"$f":"IF(P_22号様式!T171=\"\",\"\",P_22号様式!T171)","v":""},{"$f":"IF(P_22号様式!U171=\"\",\"\",P_22号様式!U171)","v":""},{"$f":"IF(P_22号様式!V171=\"\",\"\",P_22号様式!V171)","v":""},{"$f":"IF(P_22号様式!W171=\"\",\"\",P_22号様式!W171)","v":""}]
[{"$f":"IF(P_22号様式!C172=\"\",\"\",P_22号様式!C172)","v":""},null,{"$f":"IF(P_22号様式!E172=\"\",\"\",P_22号様式!E172)","v":""},{"$f":"IF(P_22号様式!F172=\"\",\"\",P_22号様式!F172)","v":""},{"$f":"IF(P_22号様式!G172=\"\",\"\",P_22号様式!G172)","v":""},{"$f":"IF(P_22号様式!H172=\"\",\"\",P_22号様式!H172)","v":""},{"$f":"IF(P_22号様式!J172=\"\",\"\",P_22号様式!J172)","v":""},{"$f":"IF(P_22号様式!K172=\"\",\"\",P_22号様式!K172)","v":""},{"$f":"IF(P_22号様式!L172=\"\",\"\",P_22号様式!L172)","v":""},{"$f":"IF(P_22号様式!M172=\"\",\"\",P_22号様式!M172)","v":""},{"$f":"IF(P_22号様式!O172=\"\",\"\",P_22号様式!O172)","v":""},{"$f":"IF(P_22号様式!P172=\"\",\"\",P_22号様式!P172)","v":""},{"$f":"IF(P_22号様式!Q172=\"\",\"\",P_22号様式!Q172)","v":""},{"$f":"IF(P_22号様式!R172=\"\",\"\",P_22号様式!R172)","v":""},{"$f":"IF(P_22号様式!T172=\"\",\"\",P_22号様式!T172)","v":""},{"$f":"IF(P_22号様式!U172=\"\",\"\",P_22号様式!U172)","v":""},{"$f":"IF(P_22号様式!V172=\"\",\"\",P_22号様式!V172)","v":""},{"$f":"IF(P_22号様式!W172=\"\",\"\",P_22号様式!W172)","v":""}]
[{"$f":"IF(P_22号様式!C173=\"\",\"\",P_22号様式!C173)","v":""},null,{"$f":"IF(P_22号様式!E173=\"\",\"\",P_22号様式!E173)","v":""},{"$f":"IF(P_22号様式!F173=\"\",\"\",P_22号様式!F173)","v":""},{"$f":"IF(P_22号様式!G173=\"\",\"\",P_22号様式!G173)","v":""},{"$f":"IF(P_22号様式!H173=\"\",\"\",P_22号様式!H173)","v":""},{"$f":"IF(P_22号様式!J173=\"\",\"\",P_22号様式!J173)","v":""},{"$f":"IF(P_22号様式!K173=\"\",\"\",P_22号様式!K173)","v":""},{"$f":"IF(P_22号様式!L173=\"\",\"\",P_22号様式!L173)","v":""},{"$f":"IF(P_22号様式!M173=\"\",\"\",P_22号様式!M173)","v":""},{"$f":"IF(P_22号様式!O173=\"\",\"\",P_22号様式!O173)","v":""},{"$f":"IF(P_22号様式!P173=\"\",\"\",P_22号様式!P173)","v":""},{"$f":"IF(P_22号様式!Q173=\"\",\"\",P_22号様式!Q173)","v":""},{"$f":"IF(P_22号様式!R173=\"\",\"\",P_22号様式!R173)","v":""},{"$f":"IF(P_22号様式!T173=\"\",\"\",P_22号様式!T173)","v":""},{"$f":"IF(P_22号様式!U173=\"\",\"\",P_22号様式!U173)","v":""},{"$f":"IF(P_22号様式!V173=\"\",\"\",P_22号様式!V173)","v":""},{"$f":"IF(P_22号様式!W173=\"\",\"\",P_22号様式!W173)","v":""}]
[]
["市　計",null,{"$f":"IF(P_22号様式!X131=\"\",\"\",P_22号様式!X131)","v":32050},{"$f":"IF(P_22号様式!Y131=\"\",\"\",P_22号様式!Y131)","v":603089},{"$f":"IF(P_22号様式!Z131=\"\",\"\",P_22号様式!Z131)","v":0},{"$f":"IF(P_22号様式!AA131=\"\",\"\",P_22号様式!AA131)","v":635139},{"$f":"IF(P_22号様式!AB131=\"\",\"\",P_22号様式!AB131)","v":31872},{"$f":"IF(P_22号様式!AC131=\"\",\"\",P_22号様式!AC131)","v":603267},{"$f":"IF(P_22号様式!AD131=\"\",\"\",P_22号様式!AD131)","v":0},{"$f":"IF(P_22号様式!AE131=\"\",\"\",P_22号様式!AE131)","v":635139},{"$f":"IF(P_22号様式!AF131=\"\",\"\",P_22号様式!AF131)","v":30249},{"$f":"IF(P_22号様式!AG131=\"\",\"\",P_22号様式!AG131)","v":604890},{"$f":"IF(P_22号様式!AH131=\"\",\"\",P_22号様式!AH131)","v":0},{"$f":"IF(P_22号様式!AI131=\"\",\"\",P_22号様式!AI131)","v":635139},{"$f":"IF(P_22号様式!AJ131=\"\",\"\",P_22号様式!AJ131)","v":""},{"$f":"IF(P_22号様式!AK131=\"\",\"\",P_22号様式!AK131)","v":""},{"$f":"IF(P_22号様式!AL131=\"\",\"\",P_22号様式!AL131)","v":""},{"$f":"IF(P_22号様式!AM131=\"\",\"\",P_22号様式!AM131)","v":""}]
["町村計",null,{"$f":"IF(P_22号様式!AN131=\"\",\"\",P_22号様式!AN131)","v":2883},{"$f":"IF(P_22号様式!AO131=\"\",\"\",P_22号様式!AO131)","v":101095},{"$f":"IF(P_22号様式!AP131=\"\",\"\",P_22号様式!AP131)","v":1},{"$f":"IF(P_22号様式!AQ131=\"\",\"\",P_22号様式!AQ131)","v":103979},{"$f":"IF(P_22号様式!AR131=\"\",\"\",P_22号様式!AR131)","v":2797},{"$f":"IF(P_22号様式!AS131=\"\",\"\",P_22号様式!AS131)","v":101181},{"$f":"IF(P_22号様式!AT131=\"\",\"\",P_22号様式!AT131)","v":1},{"$f":"IF(P_22号様式!AU131=\"\",\"\",P_22号様式!AU131)","v":103979},{"$f":"IF(P_22号様式!AV131=\"\",\"\",P_22号様式!AV131)","v":2668},{"$f":"IF(P_22号様式!AW131=\"\",\"\",P_22号様式!AW131)","v":101310},{"$f":"IF(P_22号様式!AX131=\"\",\"\",P_22号様式!AX131)","v":1},{"$f":"IF(P_22号様式!AY131=\"\",\"\",P_22号様式!AY131)","v":103979},{"$f":"IF(P_22号様式!AZ131=\"\",\"\",P_22号様式!AZ131)","v":""},{"$f":"IF(P_22号様式!BA131=\"\",\"\",P_22号様式!BA131)","v":""},{"$f":"IF(P_22号様式!BB131=\"\",\"\",P_22号様式!BB131)","v":""},{"$f":"IF(P_22号様式!BC131=\"\",\"\",P_22号様式!BC131)","v":""}]
["県計",null,{"$f":"IF(P_22号様式!BD131=\"\",\"\",P_22号様式!BD131)","v":34933},{"$f":"IF(P_22号様式!BE131=\"\",\"\",P_22号様式!BE131)","v":704184},{"$f":"IF(P_22号様式!BF131=\"\",\"\",P_22号様式!BF131)","v":1},{"$f":"IF(P_22号様式!BG131=\"\",\"\",P_22号様式!BG131)","v":739118},{"$f":"IF(P_22号様式!BH131=\"\",\"\",P_22号様式!BH131)","v":34669},{"$f":"IF(P_22号様式!BI131=\"\",\"\",P_22号様式!BI131)","v":704448},{"$f":"IF(P_22号様式!BJ131=\"\",\"\",P_22号様式!BJ131)","v":1},{"$f":"IF(P_22号様式!BK131=\"\",\"\",P_22号様式!BK131)","v":739118},{"$f":"IF(P_22号様式!BL131=\"\",\"\",P_22号様式!BL131)","v":32917},{"$f":"IF(P_22号様式!BM131=\"\",\"\",P_22号様式!BM131)","v":706200},{"$f":"IF(P_22号様式!BN131=\"\",\"\",P_22号様式!BN131)","v":1},{"$f":"IF(P_22号様式!BO131=\"\",\"\",P_22号様式!BO131)","v":739118},{"$f":"IF(P_22号様式!BP131=\"\",\"\",P_22号様式!BP131)","v":""},{"$f":"IF(P_22号様式!BQ131=\"\",\"\",P_22号様式!BQ131)","v":""},{"$f":"IF(P_22号様式!BR131=\"\",\"\",P_22号様式!BR131)","v":""},{"$f":"IF(P_22号様式!BS131=\"\",\"\",P_22号様式!BS131)","v":""}]

{"sheet":"パラメタシート","index":1,"n_rows":1,"n_cols":2,"rows_kept":1,"cut":false,"hidden":false,"merged":[]}
["執行日","2017-10-22"]

{"sheet":"P_22号様式","index":2,"n_rows":173,"n_cols":74,"rows_kept":173,"cut":false,"hidden":false,"merged":[]}
["頁番号","行番号","市区町村名","裁判官名1","罷免可1","罷免不可1","記載無効1","計1","裁判官名2","罷免可2","罷免不可2","記載無効2","計2","裁判官名3","罷免可3","罷免不可3","記載無効3","計3","裁判官名4","罷免可4","罷免不可4","記載無効4","計4","市部計罷免可1","市部計罷免不可1","市部計記載無効1","市部計1","市部計罷免可2","市部計罷免不可2","市部計記載無効2","市部計2","市部計罷免可3","市部計罷免不可3","市部計記載無効3","市部計3","市部計罷免可4","市部計罷免不可4","市部計記載無効4","市部計4","郡部計罷免可1","郡部計罷免不可1","郡部計記載無効1","郡部計1","郡部計罷免可2","郡部計罷免不可2","郡部計記載無効2","郡部計2","郡部計罷免可3","郡部計罷免不可3","郡部計記載無効3","郡部計3","郡部計罷免可4","郡部計罷免不可4","郡部計記載無効4","郡部計4","県計罷免可1","県計罷免不可1","県計記載無効1","県計1","県計罷免可2","県計罷免不可2","県計記載無効2","県計2","県計罷免可3","県計罷免不可3","県計記載無効3","県計3","県計罷免可4","県計罷免不可4","県計記載無効4","県計4","翌日開票区分","開票時刻","開票確定時刻"]
[1,1,"　鹿児島市１区","小池　裕",11678,161082,0,172760,"戸倉　三郎",10559,162201,0,172760,"山口　厚",10799,161961,0,172760,"菅野　博之",10950,161810,0,172760,36015,599123,1,635139,31821,603318,0,635139,32776,602362,1,635139,33045,602094,0,635139,3415,100563,1,103979,2859,101119,1,103979,2993,100985,1,103979,2956,101022,1,103979,39430,699686,2,739118,34680,704437,1,739118,35769,703347,2,739118,36001,703116,1,739118,"0",null,"01:25:00"]
[1,2,"　鹿児島市２区","小池　裕",5617,57738,0,63355,"戸倉　三郎",4902,58453,0,63355,"山口　厚",5127,58228,0,63355,"菅野　博之",5050,58305,0,63355,36015,599123,1,635139,31821,603318,0,635139,32776,602362,1,635139,33045,602094,0,635139,3415,100563,1,103979,2859,101119,1,103979,2993,100985,1,103979,2956,101022,1,103979,39430,699686,2,739118,34680,704437,1,739118,35769,703347,2,739118,36001,703116,1,739118,"0",null,"01:25:00"]
[1,3,"＊（鹿児島市）計","小池　裕",17295,218820,0,236115,"戸倉　三郎",15461,220654,0,236115,"山口　厚",15926,220189,0,236115,"菅野　博之",16000,220115,0,236115,36015,599123,1,635139,31821,603318,0,635139,32776,602362,1,635139,33045,602094,0,635139,3415,100563,1,103979,2859,101119,1,103979,2993,100985,1,103979,2956,101022,1,103979,39430,699686,2,739118,34680,704437,1,739118,35769,703347,2,739118,36001,703116,1,739118,"0",null,"01:25:00"]
[1,4,"　鹿屋市","小池　裕",2125,38999,0,41124,"戸倉　三郎",1847,39277,0,41124,"山口　厚",1910,39214,0,41124,"菅野　博之",1968,39156,0,41124,36015,599123,1,635139,31821,603318,0,635139,32776,602362,1,635139,33045,602094,0,635139,3415,100563,1,103979,2859,101119,1,103979,2993,100985,1,103979,2956,101022,1,103979,39430,699686,2,739118,34680,704437,1,739118,35769,703347,2,739118,36001,703116,1,739118,"0",null,"01:25:00"]
[1,5,"　枕崎市","小池　裕",432,8979,0,9411,"戸倉　三郎",371,9040,0,9411,"山口　厚",362,9049,0,9411,"菅野　博之",386,9025,0,9411,36015,599123,1,635139,31821,603318,0,635139,32776,602362,1,635139,33045,602094,0,635139,3415,100563,1,103979,2859,101119,1,103979,2993,100985,1,103979,2956,101022,1,103979,39430,699686,2,739118,34680,704437,1,739118,35769,703347,2,739118,36001,703116,1,739118,"0",null,"01:25:00"]
[1,6,"　阿久根市","小池　裕",443,10820,0,11263,"戸倉　三郎",395,10868,0,11263,"山口　厚",406,10857,0,11263,"菅野　博之",398,10865,0,11263,36015,599123,1,635139,31821,603318,0,635139,32776,602362,1,635139,33045,602094,0,635139,3415,100563,1,103979,2859,101119,1,103979,2993,100985,1,103979,2956,101022,1,103979,39430,699686,2,739118,34680,704437,1,739118,35769,703347,2,739118,36001,703116,1,739118,"0",null,"01:25:00"]
[1,7,"　出水市","小池　裕",952,24453,0,25405,"戸倉　三郎",784,24621,0,25405,"山口　厚",810,24595,0,25405,"菅野　博之",844,24561,0,25405,36015,599123,1,635139,31821,603318,0,635139,32776,602362,1,635139,33045,602094,0,635139,3415,100563,1,103979,2859,101119,1,103979,2993,100985,1,103979,2956,101022,1,103979,39430,699686,2,739118,34680,704437,1,739118,35769,703347,2,739118,36001,703116,1,739118,"0",null,"01:25:00"]
[1,8,"　指宿市","小池　裕",662,18082,0,18744,"戸倉　三郎",531,18213,0,18744,"山口　厚",556,18188,0,18744,"菅野　博之",571,18173,0,18744,36015,599123,1,635139,31821,603318,0,635139,32776,602362,1,635139,33045,602094,0,635139,3415,100563,1,103979,2859,101119,1,103979,2993,100985,1,103979,2956,101022,1,103979,39430,699686,2,739118,34680,704437,1,739118,35769,703347,2,739118,36001,703116,1,739118,"0",null,"01:25:00"]
[1,9,"　西之表市","小池　裕",319,6661,1,6981,"戸倉　三郎",267,6714,0,6981,"山口　厚",286,6694,1,6981,"菅野　博之",274,6707,0,6981,36015,599123,1,635139,31821,603318,0,635139,32776,602362,1,635139,33045,602094,0,635139,3415,100563,1,103979,2859,101119,1,103979,2993,100985,1,103979,2956,101022,1,103979,39430,699686,2,739118,34680,704437,1,739118,35769,703347,2,739118,36001,703116,1,739118,"0",null,"01:25:00"]
[1,10,"　垂水市","小池　裕",292,7358,0,7650,"戸倉　三郎",250,7400,0,7650,"山口　厚",254,7396,0,7650,"菅野　博之",252,7398,0,7650,36015,599123,1,635139,31821,603318,0,635139,32776,602362,1,635139,33045,602094,0,635139,3415,100563,1,103979,2859,101119,1,103979,2993,100985,1,103979,2956,101022,1,103979,39430,699686,2,739118,34680,704437,1,739118,35769,703347,2,739118,36001,703116,1,739118,"0",null,"01:25:00"]
[1,11,"　薩摩川内市第１","小池　裕",1822,43356,0,45178,"戸倉　三郎",1566,43612,0,45178,"山口　厚",1656,43522,0,45178,"菅野　博之",1649,43529,0,45178,36015,599123,1,635139,31821,603318,0,635139,32776,602362,1,635139,33045,602094,0,635139,3415,100563,1,103979,2859,101119,1,103979,2993,100985,1,103979,2956,101022,1,103979,39430,699686,2,739118,34680,704437,1,739118,35769,703347,2,739118,36001,703116,1,739118,"0",null,"01:25:00"]
[1,12,"　薩摩川内市第２","小池　裕",20,1517,0,1537,"戸倉　三郎",18,1519,0,1537,"山口　厚",18,1519,0,1537,"菅野　博之",21,1516,0,1537,36015,599123,1,635139,31821,603318,0,635139,32776,602362,1,635139,33045,602094,0,635139,3415,100563,1,103979,2859,101119,1,103979,2993,100985,1,103979,2956,101022,1,103979,39430,699686,2,739118,34680,704437,1,739118,35769,703347,2,739118,36001,703116,1,739118,"0",null,"01:25:00"]
[1,13,"　薩摩川内市第３","小池　裕",47,1335,0,1382,"戸倉　三郎",35,1347,0,1382,"山口　厚",40,1342,0,1382,"菅野　博之",40,1342,0,1382,36015,599123,1,635139,31821,603318,0,635139,32776,602362,1,635139,33045,602094,0,635139,3415,100563,1,103979,2859,101119,1,103979,2993,100985,1,103979,2956,101022,1,103979,39430,699686,2,739118,34680,704437,1,739118,35769,703347,2,739118,36001,703116,1,739118,"0",null,"01:25:00"]
[1,14,"＊（薩摩川内市）計","小池　裕",1889,46208,0,48097,"戸倉　三郎",1619,46478,0,48097,"山口　厚",1714,46383,0,48097,"菅野　博之",1710,46387,0,48097,36015,599123,1,635139,31821,603318,0,635139,32776,602362,1,635139,33045,602094,0,635139,3415,100563,1,103979,2859,101119,1,103979,2993,100985,1,103979,2956,101022,1,103979,39430,699686,2,739118,34680,704437,1,739118,35769,703347,2,739118,36001,703116,1,739118,"0",null,"01:25:00"]
[1,15,"　日置市","小池　裕",1141,23635,0,24776,"戸倉　三郎",1017,23759,0,24776,"山口　厚",1074,23702,0,24776,"菅野　博之",1077,23699,0,24776,36015,599123,1,635139,31821,603318,0,635139,32776,602362,1,635139,33045,602094,0,635139,3415,100563,1,103979,2859,101119,1,103979,2993,100985,1,103979,2956,101022,1,103979,39430,699686,2,739118,34680,704437,1,739118,35769,703347,2,739118,36001,703116,1,739118,"0",null,"01:25:00"]
[1,16,"　曽於市","小池　裕",522,17127,0,17649,"戸倉　三郎",475,17174,0,17649,"山口　厚",488,17161,0,17649,"菅野　博之",488,17161,0,17649,36015,599123,1,635139,31821,603318,0,635139,32776,602362,1,635139,33045,602094,0,635139,3415,100563,1,103979,2859,101119,1,103979,2993,100985,1,103979,2956,101022,1,103979,39430,699686,2,739118,34680,704437,1,739118,35769,703347,2,739118,36001,703116,1,739118,"0",null,"01:25:00"]
[1,17,"　霧島市","小池　裕",2767,49032,0,51799,"戸倉　三郎",2449,49350,0,51799,"山口　厚",2474,49325,0,51799,"菅野　博之",2536,49263,0,51799,36015,599123,1,635139,31821,603318,0,635139,32776,602362,1,635139,33045,602094,0,635139,3415,100563,1,103979,2859,101119,1,103979,2993,100985,1,103979,2956,101022,1,103979,39430,699686,2,739118,34680,704437,1,739118,35769,703347,2,739118,36001,703116,1,739118,"0",null,"01:25:00"]
[1,18,"　いちき串木野市","小池　裕",850,16721,0,17571,"戸倉　三郎",742,16829,0,17571,"山口　厚",760,16811,0,17571,"菅野　博之",740,16831,0,17571,36015,599123,1,635139,31821,603318,0,635139,32776,602362,1,635139,33045,602094,0,635139,3415,100563,1,103979,2859,101119,1,103979,2993,100985,1,103979,2956,101022,1,103979,39430,699686,2,739118,34680,704437,1,739118,35769,703347,2,739118,36001,703116,1,739118,"0",null,"01:25:00"]
[1,19,"　南さつま市","小池　裕",949,15864,0,16813,"戸倉　三郎",832,15981,0,16813,"山口　厚",857,15956,0,16813,"菅野　博之",850,15963,0,16813,36015,599123,1,635139,31821,603318,0,635139,32776,602362,1,635139,33045,602094,0,635139,3415,100563,1,103979,2859,101119,1,103979,2993,100985,1,103979,2956,101022,1,103979,39430,699686,2,739118,34680,704437,1,739118,35769,703347,2,739118,36001,703116,1,739118,"0",null,"01:25:00"]
[1,20,"　志布志市","小池　裕",446,14072,0,14518,"戸倉　三郎",368,14150,0,14518,"山口　厚",386,14132,0,14518,"菅野　博之",385,14133,0,14518,36015,599123,1,635139,31821,603318,0,635139,32776,602362,1,635139,33045,602094,0,635139,3415,100563,1,103979,2859,101119,1,103979,2993,100985,1,103979,2956,101022,1,103979,39430,699686,2,739118,34680,704437,1,739118,35769,703347,2,739118,36001,703116,1,739118,"0",null,"01:25:00"]
[1,21,"　奄美市","小池　裕",1206,19922,0,21128,"戸倉　三郎",1026,20102,0,21128,"山口　厚",1029,20099,0,21128,"菅野　博之",1060,20068,0,21128,36015,599123,1,635139,31821,603318,0,635139,32776,602362,1,635139,33045,602094,0,635139,3415,100563,1,103979,2859,101119,1,103979,2993,100985,1,103979,2956,101022,1,103979,39430,699686,2,739118,34680,704437,1,739118,35769,703347,2,739118,36001,703116,1,739118,"0",null,"01:25:00"]
[1,22,"　南九州市","小池　裕",562,16503,0,17065,"戸倉　三郎",500,16565,0,17065,"山口　厚",530,16535,0,17065,"菅野　博之",517,16548,0,17065,36015,599123,1,635139,31821,603318,0,635139,32776,602362,1,635139,33045,602094,0,635139,3415,100563,1,103979,2859,101119,1,103979,2993,100985,1,103979,2956,101022,1,103979,39430,699686,2,739118,34680,704437,1,739118,35769,703347,2,739118,36001,703116,1,739118,"0",null,"01:25:00"]
[1,23,"　伊佐市","小池　裕",529,13380,0,13909,"戸倉　三郎",449,13460,0,13909,"山口　厚",480,13429,0,13909,"菅野　博之",494,13415,0,13909,36015,599123,1,635139,31821,603318,0,635139,32776,602362,1,635139,33045,602094,0,635139,3415,100563,1,103979,2859,101119,1,103979,2993,100985,1,103979,2956,101022,1,103979,39430,699686,2,739118,34680,704437,1,739118,35769,703347,2,739118,36001,703116,1,739118,"0",null,"01:25:00"]
[1,24,"　姶良市","小池　裕",2634,32487,0,35121,"戸倉　三郎",2438,32683,0,35121,"山口　厚",2474,32647,0,35121,"菅野　博之",2495,32626,0,35121,36015,599123,1,635139,31821,603318,0,635139,32776,602362,1,635139,33045,602094,0,635139,3415,100563,1,103979,2859,101119,1,103979,2993,100985,1,103979,2956,101022,1,103979,39430,699686,2,739118,34680,704437,1,739118,35769,703347,2,739118,36001,703116,1,739118,"0",null,"01:25:00"]
[1,25,"　三島村","小池　裕",4,234,0,238,"戸倉　三郎",4,234,0,238,"山口　厚",1,237,0,238,"菅野　博之",3,235,0,238,36015,599123,1,635139,31821,603318,0,635139,32776,602362,1,635139,33045,602094,0,635139,3415,100563,1,103979,2859,101119,1,103979,2993,100985,1,103979,2956,101022,1,103979,39430,699686,2,739118,34680,704437,1,739118,35769,703347,2,739118,36001,703116,1,739118,"0",null,"01:25:00"]
[1,26,"　十島村","小池　裕",25,419,0,444,"戸倉　三郎",21,423,0,444,"山口　厚",17,427,0,444,"菅野　博之",20,424,0,444,36015,599123,1,635139,31821,603318,0,635139,32776,602362,1,635139,33045,602094,0,635139,3415,100563,1,103979,2859,101119,1,103979,2993,100985,1,103979,2956,101022,1,103979,39430,699686,2,739118,34680,704437,1,739118,35769,703347,2,739118,36001,703116,1,739118,"0",null,"01:25:00"]
[1,27,"＊（鹿児島郡）計","小池　裕",29,653,0,682,"戸倉　三郎",25,657,0,682,"山口　厚",18,664,0,682,"菅野　博之",23,659,0,682,36015,599123,1,635139,31821,603318,0,635139,32776,602362,1,635139,33045,602094,0,635139,3415,100563,1,103979,2859,101119,1,103979,2993,100985,1,103979,2956,101022,1,103979,39430,699686,2,739118,34680,704437,1,739118,35769,703347,2,739118,36001,703116,1,739118,"0",null,"01:25:00"]
[1,28,"　さつま町","小池　裕",367,11724,0,12091,"戸倉　三郎",284,11807,0,12091,"山口　厚",297,11794,0,12091,"菅野　博之",295,11796,0,12091,36015,599123,1,635139,31821,603318,0,635139,32776,602362,1,635139,33045,602094,0,635139,3415,100563,1,103979,2859,101119,1,103979,2993,100985,1,103979,2956,101022,1,103979,39430,699686,2,739118,34680,704437,1,739118,35769,703347,2,739118,36001,703116,1,739118,"0",null,"01:25:00"]
[1,29,"＊（薩摩郡）計","小池　裕",367,11724,0,12091,"戸倉　三郎",284,11807,0,12091,"山口　厚",297,11794,0,12091,"菅野　博之",295,11796,0,12091,36015,599123,1,635139,31821,603318,0,635139,32776,602362,1,635139,33045,602094,0,635139,3415,100563,1,103979,2859,101119,1,103979,2993,100985,1,103979,2956,101022,1,103979,39430,699686,2,739118,34680,704437,1,739118,35769,703347,2,739118,36001,703116,1,739118,"0",null,"01:25:00"]
[1,30,"　長島町","小池　裕",101,6343,0,6444,"戸倉　三郎",68,6376,0,6444,"山口　厚",75,6369,0,6444,"菅野　博之",73,6371,0,6444,36015,599123,1,635139,31821,603318,0,635139,32776,602362,1,635139,33045,602094,0,635139,3415,100563,1,103979,2859,101119,1,103979,2993,100985,1,103979,2956,101022,1,103979,39430,699686,2,739118,34680,704437,1,739118,35769,703347,2,739118,36001,703116,1,739118,"0",null,"01:25:00"]
[1,31,"＊（出水郡）計","小池　裕",101,6343,0,6444,"戸倉　三郎",68,6376,0,6444,"山口　厚",75,6369,0,6444,"菅野　博之",73,6371,0,6444,36015,599123,1,635139,31821,603318,0,635139,32776,602362,1,635139,33045,602094,0,635139,3415,100563,1,103979,2859,101119,1,103979,2993,100985,1,103979,2956,101022,1,103979,39430,699686,2,739118,34680,704437,1,739118,35769,703347,2,739118,36001,703116,1,739118,"0",null,"01:25:00"]
[1,32,"　湧水町","小池　裕",197,5062,0,5259,"戸倉　三郎",160,5099,0,5259,"山口　厚",174,5085,0,5259,"菅野　博之",167,5092,0,5259,36015,599123,1,635139,31821,603318,0,635139,32776,602362,1,635139,33045,602094,0,635139,3415,100563,1,103979,2859,101119,1,103979,2993,100985,1,103979,2956,101022,1,103979,39430,699686,2,739118,34680,704437,1,739118,35769,703347,2,739118,36001,703116,1,739118,"0",null,"01:25:00"]
[1,33,"＊（姶良郡）計","小池　裕",197,5062,0,5259,"戸倉　三郎",160,5099,0,5259,"山口　厚",174,5085,0,5259,"菅野　博之",167,5092,0,5259,36015,599123,1,635139,31821,603318,0,635139,32776,602362,1,635139,33045,602094,0,635139,3415,100563,1,103979,2859,101119,1,103979,2993,100985,1,103979,2956,101022,1,103979,39430,699686,2,739118,34680,704437,1,739118,35769,703347,2,739118,36001,703116,1,739118,"0",null,"01:25:00"]
[1,34,"　大崎町","小池　裕",171,6162,1,6334,"戸倉　三郎",134,6199,1,6334,"山口　厚",156,6177,1,6334,"菅野　博之",146,6187,1,6334,36015,599123,1,635139,31821,603318,0,635139,32776,602362,1,635139,33045,602094,0,635139,3415,100563,1,103979,2859,101119,1,103979,2993,100985,1,103979,2956,101022,1,103979,39430,699686,2,739118,34680,704437,1,739118,35769,703347,2,739118,36001,703116,1,739118,"0",null,"01:25:00"]
[1,35,"＊（曽於郡）計","小池　裕",171,6162,1,6334,"戸倉　三郎",134,6199,1,6334,"山口　厚",156,6177,1,6334,"菅野　博之",146,6187,1,6334,36015,599123,1,635139,31821,603318,0,635139,32776,602362,1,635139,33045,602094,0,635139,3415,100563,1,103979,2859,101119,1,103979,2993,100985,1,103979,2956,101022,1,103979,39430,699686,2,739118,34680,704437,1,739118,35769,703347,2,739118,36001,703116,1,739118,"0",null,"01:25:00"]
[1,36,"　東串良町","小池　裕",107,2989,0,3096,"戸倉　三郎",95,3001,0,3096,"山口　厚",105,2991,0,3096,"菅野　博之",95,3001,0,3096,36015,599123,1,635139,31821,603318,0,635139,32776,602362,1,635139,33045,602094,0,635139,3415,100563,1,103979,2859,101119,1,103979,2993,100985,1,103979,2956,101022,1,103979,39430,699686,2,739118,34680,704437,1,739118,35769,703347,2,739118,36001,703116,1,739118,"0",null,"01:25:00"]
[1,37,"　錦江町","小池　裕",116,4118,0,4234,"戸倉　三郎",101,4133,0,4234,"山口　厚",108,4126,0,4234,"菅野　博之",102,4132,0,4234,36015,599123,1,635139,31821,603318,0,635139,32776,602362,1,635139,33045,602094,0,635139,3415,100563,1,103979,2859,101119,1,103979,2993,100985,1,103979,2956,101022,1,103979,39430,699686,2,739118,34680,704437,1,739118,35769,703347,2,739118,36001,703116,1,739118,"0",null,"01:25:00"]
[1,38,"　南大隅町","小池　裕",137,4135,0,4272,"戸倉　三郎",125,4147,0,4272,"山口　厚",116,4156,0,4272,"菅野　博之",126,4146,0,4272,36015,599123,1,635139,31821,603318,0,635139,32776,602362,1,635139,33045,602094,0,635139,3415,100563,1,103979,2859,101119,1,103979,2993,100985,1,103979,2956,101022,1,103979,39430,699686,2,739118,34680,704437,1,739118,35769,703347,2,739118,36001,703116,1,739118,"0",null,"01:25:00"]
[1,39,"　肝付町","小池　裕",297,7112,0,7409,"戸倉　三郎",235,7174,0,7409,"山口　厚",233,7176,0,7409,"菅野　博之",239,7170,0,7409,36015,599123,1,635139,31821,603318,0,635139,32776,602362,1,635139,33045,602094,0,635139,3415,100563,1,103979,2859,101119,1,103979,2993,100985,1,103979,2956,101022,1,103979,39430,699686,2,739118,34680,704437,1,739118,35769,703347,2,739118,36001,703116,1,739118,"0",null,"01:25:00"]
[1,40,"＊（肝属郡）計","小池　裕",657,18354,0,19011,"戸倉　三郎",556,18455,0,19011,"山口　厚",562,18449,0,19011,"菅野　博之",562,18449,0,19011,36015,599123,1,635139,31821,603318,0,635139,32776,602362,1,635139,33045,602094,0,635139,3415,100563,1,103979,2859,101119,1,103979,2993,100985,1,103979,2956,101022,1,103979,39430,699686,2,739118,34680,704437,1,739118,35769,703347,2,739118,36001,703116,1,739118,"0",null,"01:25:00"]
[1,41,"　中種子町","小池　裕",188,3993,0,4181,"戸倉　三郎",143,4038,0,4181,"山口　厚",158,4023,0,4181,"菅野　博之",149,4032,0,4181,36015,599123,1,635139,31821,603318,0,635139,32776,602362,1,635139,33045,602094,0,635139,3415,100563,1,103979,2859,101119,1,103979,2993,100985,1,103979,2956,101022,1,103979,39430,699686,2,739118,34680,704437,1,739118,35769,703347,2,739118,36001,703116,1,739118,"0",null,"01:25:00"]
[1,42,"　南種子町","小池　裕",168,2673,0,2841,"戸倉　三郎",142,2699,0,2841,"山口　厚",157,2684,0,2841,"菅野　博之",151,2690,0,2841,36015,599123,1,635139,31821,603318,0,635139,32776,602362,1,635139,33045,602094,0,635139,3415,100563,1,103979,2859,101119,1,103979,2993,100985,1,103979,2956,101022,1,103979,39430,699686,2,739118,34680,704437,1,739118,35769,703347,2,739118,36001,703116,1,739118,"0",null,"01:25:00"]
[1,43,"　屋久島町","小池　裕",404,5906,0,6310,"戸倉　三郎",367,5943,0,6310,"山口　厚",379,5931,0,6310,"菅野　博之",375,5935,0,6310,36015,599123,1,635139,31821,603318,0,635139,32776,602362,1,635139,33045,602094,0,635139,3415,100563,1,103979,2859,101119,1,103979,2993,100985,1,103979,2956,101022,1,103979,39430,699686,2,739118,34680,704437,1,739118,35769,703347,2,739118,36001,703116,1,739118,"0",null,"01:25:00"]
[2,1,"　鹿児島市１区","大谷　直人",10687,162073,0,172760,"木澤　克之",10786,161974,0,172760,"林　景一",10205,162555,0,172760,null,null,null,null,null,32050,603089,0,635139,31872,603267,0,635139,30249,604890,0,635139,null,null,null,null,2883,101095,1,103979,2797,101181,1,103979,2668,101310,1,103979,null,null,null,null,34933,704184,1,739118,34669,704448,1,739118,32917,706200,1,739118,null,null,null,null,"0",null,"01:25:00"]
[2,2,"　鹿児島市２区","大谷　直人",4977,58378,0,63355,"木澤　克之",4874,58481,0,63355,"林　景一",4710,58645,0,63355,null,null,null,null,null,32050,603089,0,635139,31872,603267,0,635139,30249,604890,0,635139,null,null,null,null,2883,101095,1,103979,2797,101181,1,103979,2668,101310,1,103979,null,null,null,null,34933,704184,1,739118,34669,704448,1,739118,32917,706200,1,739118,null,null,null,null,"0",null,"01:25:00"]
[2,3,"＊（鹿児島市）計","大谷　直人",15664,220451,0,236115,"木澤　克之",15660,220455,0,236115,"林　景一",14915,221200,0,236115,null,null,null,null,null,32050,603089,0,635139,31872,603267,0,635139,30249,604890,0,635139,null,null,null,null,2883,101095,1,103979,2797,101181,1,103979,2668,101310,1,103979,null,null,null,null,34933,704184,1,739118,34669,704448,1,739118,32917,706200,1,739118,null,null,null,null,"0",null,"01:25:00"]
[2,4,"　鹿屋市","大谷　直人",1868,39256,0,41124,"木澤　克之",1823,39301,0,41124,"林　景一",1716,39408,0,41124,null,null,null,null,null,32050,603089,0,635139,31872,603267,0,635139,30249,604890,0,635139,null,null,null,null,2883,101095,1,103979,2797,101181,1,103979,2668,101310,1,103979,null,null,null,null,34933,704184,1,739118,34669,704448,1,739118,32917,706200,1,739118,null,null,null,null,"0",null,"01:25:00"]
[2,5,"　枕崎市","大谷　直人",362,9049,0,9411,"木澤　克之",358,9053,0,9411,"林　景一",356,9055,0,9411,null,null,null,null,null,32050,603089,0,635139,31872,603267,0,635139,30249,604890,0,635139,null,null,null,null,2883,101095,1,103979,2797,101181,1,103979,2668,101310,1,103979,null,null,null,null,34933,704184,1,739118,34669,704448,1,739118,32917,706200,1,739118,null,null,null,null,"0",null,"01:25:00"]
[2,6,"　阿久根市","大谷　直人",380,10883,0,11263,"木澤　克之",391,10872,0,11263,"林　景一",370,10893,0,11263,null,null,null,null,null,32050,603089,0,635139,31872,603267,0,635139,30249,604890,0,635139,null,null,null,null,2883,101095,1,103979,2797,101181,1,103979,2668,101310,1,103979,null,null,null,null,34933,704184,1,739118,34669,704448,1,739118,32917,706200,1,739118,null,null,null,null,"0",null,"01:25:00"]
[2,7,"　出水市","大谷　直人",829,24576,0,25405,"木澤　克之",825,24580,0,25405,"林　景一",752,24653,0,25405,null,null,null,null,null,32050,603089,0,635139,31872,603267,0,635139,30249,604890,0,635139,null,null,null,null,2883,101095,1,103979,2797,101181,1,103979,2668,101310,1,103979,null,null,null,null,34933,704184,1,739118,34669,704448,1,739118,32917,706200,1,739118,null,null,null,null,"0",null,"01:25:00"]
[2,8,"　指宿市","大谷　直人",544,18200,0,18744,"木澤　克之",536,18208,0,18744,"林　景一",486,18258,0,18744,null,null,null,null,null,32050,603089,0,635139,31872,603267,0,635139,30249,604890,0,635139,null,null,null,null,2883,101095,1,103979,2797,101181,1,103979,2668,101310,1,103979,null,null,null,null,34933,704184,1,739118,34669,704448,1,739118,32917,706200,1,739118,null,null,null,null,"0",null,"01:25:00"]
[2,9,"　西之表市","大谷　直人",272,6709,0,6981,"木澤　克之",268,6713,0,6981,"林　景一",238,6743,0,6981,null,null,null,null,null,32050,603089,0,635139,31872,603267,0,635139,30249,604890,0,635139,null,null,null,null,2883,101095,1,103979,2797,101181,1,103979,2668,101310,1,103979,null,null,null,null,34933,704184,1,739118,34669,704448,1,739118,32917,706200,1,739118,null,null,null,null,"0",null,"01:25:00"]
[2,10,"　垂水市","大谷　直人",238,7412,0,7650,"木澤　克之",237,7413,0,7650,"林　景一",228,7422,0,7650,null,null,null,null,null,32050,603089,0,635139,31872,603267,0,635139,30249,604890,0,635139,null,null,null,null,2883,101095,1,103979,2797,101181,1,103979,2668,101310,1,103979,null,null,null,null,34933,704184,1,739118,34669,704448,1,739118,32917,706200,1,739118,null,null,null,null,"0",null,"01:25:00"]
[2,11,"　薩摩川内市第１","大谷　直人",1589,43589,0,45178,"木澤　克之",1568,43610,0,45178,"林　景一",1475,43703,0,45178,null,null,null,null,null,32050,603089,0,635139,31872,603267,0,635139,30249,604890,0,635139,null,null,null,null,2883,101095,1,103979,2797,101181,1,103979,2668,101310,1,103979,null,null,null,null,34933,704184,1,739118,34669,704448,1,739118,32917,706200,1,739118,null,null,null,null,"0",null,"01:25:00"]
[2,12,"　薩摩川内市第２","大谷　直人",19,1518,0,1537,"木澤　克之",19,1518,0,1537,"林　景一",15,1522,0,1537,null,null,null,null,null,32050,603089,0,635139,31872,603267,0,635139,30249,604890,0,635139,null,null,null,null,2883,101095,1,103979,2797,101181,1,103979,2668,101310,1,103979,null,null,null,null,34933,704184,1,739118,34669,704448,1,739118,32917,706200,1,739118,null,null,null,null,"0",null,"01:25:00"]
[2,13,"　薩摩川内市第３","大谷　直人",36,1346,0,1382,"木澤　克之",38,1344,0,1382,"林　景一",35,1347,0,1382,null,null,null,null,null,32050,603089,0,635139,31872,603267,0,635139,30249,604890,0,635139,null,null,null,null,2883,101095,1,103979,2797,101181,1,103979,2668,101310,1,103979,null,null,null,null,34933,704184,1,739118,34669,704448,1,739118,32917,706200,1,739118,null,null,null,null,"0",null,"01:25:00"]
[2,14,"＊（薩摩川内市）計","大谷　直人",1644,46453,0,48097,"木澤　克之",1625,46472,0,48097,"林　景一",1525,46572,0,48097,null,null,null,null,null,32050,603089,0,635139,31872,603267,0,635139,30249,604890,0,635139,null,null,null,null,2883,101095,1,103979,2797,101181,1,103979,2668,101310,1,103979,null,null,null,null,34933,704184,1,739118,34669,704448,1,739118,32917,706200,1,739118,null,null,null,null,"0",null,"01:25:00"]
[2,15,"　日置市","大谷　直人",1024,23752,0,24776,"木澤　克之",1026,23750,0,24776,"林　景一",947,23829,0,24776,null,null,null,null,null,32050,603089,0,635139,31872,603267,0,635139,30249,604890,0,635139,null,null,null,null,2883,101095,1,103979,2797,101181,1,103979,2668,101310,1,103979,null,null,null,null,34933,704184,1,739118,34669,704448,1,739118,32917,706200,1,739118,null,null,null,null,"0",null,"01:25:00"]
[2,16,"　曽於市","大谷　直人",459,17190,0,17649,"木澤　克之",463,17186,0,17649,"林　景一",423,17226,0,17649,null,null,null,null,null,32050,603089,0,635139,31872,603267,0,635139,30249,604890,0,635139,null,null,null,null,2883,101095,1,103979,2797,101181,1,103979,2668,101310,1,103979,null,null,null,null,34933,704184,1,739118,34669,704448,1,739118,32917,706200,1,739118,null,null,null,null,"0",null,"01:25:00"]
[2,17,"　霧島市","大谷　直人",2431,49368,0,51799,"木澤　克之",2472,49327,0,51799,"林　景一",2346,49453,0,51799,null,null,null,null,null,32050,603089,0,635139,31872,603267,0,635139,30249,604890,0,635139,null,null,null,null,2883,101095,1,103979,2797,101181,1,103979,2668,101310,1,103979,null,null,null,null,34933,704184,1,739118,34669,704448,1,739118,32917,706200,1,739118,null,null,null,null,"0",null,"01:25:00"]
[2,18,"　いちき串木野市","大谷　直人",733,16838,0,17571,"木澤　克之",706,16865,0,17571,"林　景一",666,16905,0,17571,null,null,null,null,null,32050,603089,0,635139,31872,603267,0,635139,30249,604890,0,635139,null,null,null,null,2883,101095,1,103979,2797,101181,1,103979,2668,101310,1,103979,null,null,null,null,34933,704184,1,739118,34669,704448,1,739118,32917,706200,1,739118,null,null,null,null,"0",null,"01:25:00"]
[2,19,"　南さつま市","大谷　直人",832,15981,0,16813,"木澤　克之",799,16014,0,16813,"林　景一",790,16023,0,16813,null,null,null,null,null,32050,603089,0,635139,31872,603267,0,635139,30249,604890,0,635139,null,null,null,null,2883,101095,1,103979,2797,101181,1,103979,2668,101310,1,103979,null,null,null,null,34933,704184,1,739118,34669,704448,1,739118,32917,706200,1,739118,null,null,null,null,"0",null,"01:25:00"]
[2,20,"　志布志市","大谷　直人",361,14157,0,14518,"木澤　克之",383,14135,0,14518,"林　景一",338,14180,0,14518,null,null,null,null,null,32050,603089,0,635139,31872,603267,0,635139,30249,604890,0,635139,null,null,null,null,2883,101095,1,103979,2797,101181,1,103979,2668,101310,1,103979,null,null,null,null,34933,704184,1,739118,34669,704448,1,739118,32917,706200,1,739118,null,null,null,null,"0",null,"01:25:00"]
[2,21,"　奄美市","大谷　直人",1050,20078,0,21128,"木澤　克之",994,20134,0,21128,"林　景一",997,20131,0,21128,null,null,null,null,null,32050,603089,0,635139,31872,603267,0,635139,30249,604890,0,635139,null,null,null,null,2883,101095,1,103979,2797,101181,1,103979,2668,101310,1,103979,null,null,null,null,34933,704184,1,739118,34669,704448,1,739118,32917,706200,1,739118,null,null,null,null,"0",null,"01:25:00"]
[2,22,"　南九州市","大谷　直人",502,16563,0,17065,"木澤　克之",497,16568,0,17065,"林　景一",459,16606,0,17065,null,null,null,null,null,32050,603089,0,635139,31872,603267,0,635139,30249,604890,0,635139,null,null,null,null,2883,101095,1,103979,2797,101181,1,103979,2668,101310,1,103979,null,null,null,null,34933,704184,1,739118,34669,704448,1,739118,32917,706200,1,739118,null,null,null,null,"0",null,"01:25:00"]
[2,23,"　伊佐市","大谷　直人",456,13453,0,13909,"木澤　克之",443,13466,0,13909,"林　景一",423,13486,0,13909,null,null,null,null,null,32050,603089,0,635139,31872,603267,0,635139,30249,604890,0,635139,null,null,null,null,2883,101095,1,103979,2797,101181,1,103979,2668,101310,1,103979,null,null,null,null,34933,704184,1,739118,34669,704448,1,739118,32917,706200,1,739118,null,null,null,null,"0",null,"01:25:00"]
[2,24,"　姶良市","大谷　直人",2401,32720,0,35121,"木澤　克之",2366,32755,0,35121,"林　景一",2274,32847,0,35121,null,null,null,null,null,32050,603089,0,635139,31872,603267,0,635139,30249,604890,0,635139,null,null,null,null,2883,101095,1,103979,2797,101181,1,103979,2668,101310,1,103979,null,null,null,null,34933,704184,1,739118,34669,704448,1,739118,32917,706200,1,739118,null,null,null,null,"0",null,"01:25:00"]
[2,25,"　三島村","大谷　直人",4,234,0,238,"木澤　克之",2,236,0,238,"林　景一",2,236,0,238,null,null,null,null,null,32050,603089,0,635139,31872,603267,0,635139,30249,604890,0,635139,null,null,null,null,2883,101095,1,103979,2797,101181,1,103979,2668,101310,1,103979,null,null,null,null,34933,704184,1,739118,34669,704448,1,739118,32917,706200,1,739118,null,null,null,null,"0",null,"01:25:00"]
[2,26,"　十島村","大谷　直人",20,424,0,444,"木澤　克之",20,424,0,444,"林　景一",16,428,0,444,null,null,null,null,null,32050,603089,0,635139,31872,603267,0,635139,30249,604890,0,635139,null,null,null,null,2883,101095,1,103979,2797,101181,1,103979,2668,101310,1,103979,null,null,null,null,34933,704184,1,739118,34669,704448,1,739118,32917,706200,1,739118,null,null,null,null,"0",null,"01:25:00"]
[2,27,"＊（鹿児島郡）計","大谷　直人",24,658,0,682,"木澤　克之",22,660,0,682,"林　景一",18,664,0,682,null,null,null,null,null,32050,603089,0,635139,31872,603267,0,635139,30249,604890,0,635139,null,null,null,null,2883,101095,1,103979,2797,101181,1,103979,2668,101310,1,103979,null,null,null,null,34933,704184,1,739118,34669,704448,1,739118,32917,706200,1,739118,null,null,null,null,"0",null,"01:25:00"]
[2,28,"　さつま町","大谷　直人",301,11790,0,12091,"木澤　克之",271,11820,0,12091,"林　景一",263,11828,0,12091,null,null,null,null,null,32050,603089,0,635139,31872,603267,0,635139,30249,604890,0,635139,null,null,null,null,2883,101095,1,103979,2797,101181,1,103979,2668,101310,1,103979,null,null,null,null,34933,704184,1,739118,34669,704448,1,739118,32917,706200,1,739118,null,null,null,null,"0",null,"01:25:00"]
[2,29,"＊（薩摩郡）計","大谷　直人",301,11790,0,12091,"木澤　克之",271,11820,0,12091,"林　景一",263,11828,0,12091,null,null,null,null,null,32050,603089,0,635139,31872,603267,0,635139,30249,604890,0,635139,null,null,null,null,2883,101095,1,103979,2797,101181,1,103979,2668,101310,1,103979,null,null,null,null,34933,704184,1,739118,34669,704448,1,739118,32917,706200,1,739118,null,null,null,null,"0",null,"01:25:00"]
[2,30,"　長島町","大谷　直人",71,6373,0,6444,"木澤　克之",70,6374,0,6444,"林　景一",66,6378,0,6444,null,null,null,null,null,32050,603089,0,635139,31872,603267,0,635139,30249,604890,0,635139,null,null,null,null,2883,101095,1,103979,2797,101181,1,103979,2668,101310,1,103979,null,null,null,null,34933,704184,1,739118,34669,704448,1,739118,32917,706200,1,739118,null,null,null,null,"0",null,"01:25:00"]
[2,31,"＊（出水郡）計","大谷　直人",71,6373,0,6444,"木澤　克之",70,6374,0,6444,"林　景一",66,6378,0,6444,null,null,null,null,null,32050,603089,0,635139,31872,603267,0,635139,30249,604890,0,635139,null,null,null,null,2883,101095,1,103979,2797,101181,1,103979,2668,101310,1,103979,null,null,null,null,34933,704184,1,739118,34669,704448,1,739118,32917,706200,1,739118,null,null,null,null,"0",null,"01:25:00"]
[2,32,"　湧水町","大谷　直人",166,5093,0,5259,"木澤　克之",160,5099,0,5259,"林　景一",155,5104,0,5259,null,null,null,null,null,32050,603089,0,635139,31872,603267,0,635139,30249,604890,0,635139,null,null,null,null,2883,101095,1,103979,2797,101181,1,103979,2668,101310,1,103979,null,null,null,null,34933,704184,1,739118,34669,704448,1,739118,32917,706200,1,739118,null,null,null,null,"0",null,"01:25:00"]
[2,33,"＊（姶良郡）計","大谷　直人",166,5093,0,5259,"木澤　克之",160,5099,0,5259,"林　景一",155,5104,0,5259,null,null,null,null,null,32050,603089,0,635139,31872,603267,0,635139,30249,604890,0,635139,null,null,null,null,2883,101095,1,103979,2797,101181,1,103979,2668,101310,1,103979,null,null,null,null,34933,704184,1,739118,34669,704448,1,739118,32917,706200,1,739118,null,null,null,null,"0",null,"01:25:00"]
[2,34,"　大崎町","大谷　直人",141,6192,1,6334,"木澤　克之",132,6201,1,6334,"林　景一",124,6209,1,6334,null,null,null,null,null,32050,603089,0,635139,31872,603267,0,635139,30249,604890,0,635139,null,null,null,null,2883,101095,1,103979,2797,101181,1,103979,2668,101310,1,103979,null,null,null,null,34933,704184,1,739118,34669,704448,1,739118,32917,706200,1,739118,null,null,null,null,"0",null,"01:25:00"]
[2,35,"＊（曽於郡）計","大谷　直人",141,6192,1,6334,"木澤　克之",132,6201,1,6334,"林　景一",124,6209,1,6334,null,null,null,null,null,32050,603089,0,635139,31872,603267,0,635139,30249,604890,0,635139,null,null,null,null,2883,101095,1,103979,2797,101181,1,103979,2668,101310,1,103979,null,null,null,null,34933,704184,1,739118,34669,704448,1,739118,32917,706200,1,739118,null,null,null,null,"0",null,"01:25:00"]
[2,36,"　東串良町","大谷　直人",93,3003,0,3096,"木澤　克之",91,3005,0,3096,"林　景一",82,3014,0,3096,null,null,null,null,null,32050,603089,0,635139,31872,603267,0,635139,30249,604890,0,635139,null,null,null,null,2883,101095,1,103979,2797,101181,1,103979,2668,101310,1,103979,null,null,null,null,34933,704184,1,739118,34669,704448,1,739118,32917,706200,1,739118,null,null,null,null,"0",null,"01:25:00"]
[2,37,"　錦江町","大谷　直人",101,4133,0,4234,"木澤　克之",100,4134,0,4234,"林　景一",94,4140,0,4234,null,null,null,null,null,32050,603089,0,635139,31872,603267,0,635139,30249,604890,0,635139,null,null,null,null,2883,101095,1,103979,2797,101181,1,103979,2668,101310,1,103979,null,null,null,null,34933,704184,1,739118,34669,704448,1,739118,32917,706200,1,739118,null,null,null,null,"0",null,"01:25:00"]
[2,38,"　南大隅町","大谷　直人",108,4164,0,4272,"木澤　克之",106,4166,0,4272,"林　景一",101,4171,0,4272,null,null,null,null,null,32050,603089,0,635139,31872,603267,0,635139,30249,604890,0,635139,null,null,null,null,2883,101095,1,103979,2797,101181,1,103979,2668,101310,1,103979,null,null,null,null,34933,704184,1,739118,34669,704448,1,739118,32917,706200,1,739118,null,null,null,null,"0",null,"01:25:00"]
[2,39,"　肝付町","大谷　直人",232,7177,0,7409,"木澤　克之",218,7191,0,7409,"林　景一",199,7210,0,7409,null,null,null,null,null,32050,603089,0,635139,31872,603267,0,635139,30249,604890,0,635139,null,null,null,null,2883,101095,1,103979,2797,101181,1,103979,2668,101310,1,103979,null,null,null,null,34933,704184,1,739118,34669,704448,1,739118,32917,706200,1,739118,null,null,null,null,"0",null,"01:25:00"]
[2,40,"＊（肝属郡）計","大谷　直人",534,18477,0,19011,"木澤　克之",515,18496,0,19011,"林　景一",476,18535,0,19011,null,null,null,null,null,32050,603089,0,635139,31872,603267,0,635139,30249,604890,0,635139,null,null,null,null,2883,101095,1,103979,2797,101181,1,103979,2668,101310,1,103979,null,null,null,null,34933,704184,1,739118,34669,704448,1,739118,32917,706200,1,739118,null,null,null,null,"0",null,"01:25:00"]
[2,41,"　中種子町","大谷　直人",147,4034,0,4181,"木澤　克之",139,4042,0,4181,"林　景一",135,4046,0,4181,null,null,null,null,null,32050,603089,0,635139,31872,603267,0,635139,30249,604890,0,635139,null,null,null,null,2883,101095,1,103979,2797,101181,1,103979,2668,101310,1,103979,null,null,null,null,34933,704184,1,739118,34669,704448,1,739118,32917,706200,1,739118,null,null,null,null,"0",null,"01:25:00"]
[2,42,"　南種子町","大谷　直人",141,2700,0,2841,"木澤　克之",145,2696,0,2841,"林　景一",135,2706,0,2841,null,null,null,null,null,32050,603089,0,635139,31872,603267,0,635139,30249,604890,0,635139,null,null,null,null,2883,101095,1,103979,2797,101181,1,103979,2668,101310,1,103979,null,null,null,null,34933,704184,1,739118,34669,704448,1,739118,32917,706200,1,739118,null,null,null,null,"0",null,"01:25:00"]
[2,43,"　屋久島町","大谷　直人",361,5949,0,6310,"木澤　克之",371,5939,0,6310,"林　景一",338,5972,0,6310,null,null,null,null,null,32050,603089,0,635139,31872,603267,0,635139,30249,604890,0,635139,null,null,null,null,2883,101095,1,103979,2797,101181,1,103979,2668,101310,1,103979,null,null,null,null,34933,704184,1,739118,34669,704448,1,739118,32917,706200,1,739118,null,null,null,null,"0",null,"01:25:00"]
[3,1,"＊（熊毛郡）計","小池　裕",760,12572,0,13332,"戸倉　三郎",652,12680,0,13332,"山口　厚",694,12638,0,13332,"菅野　博之",675,12657,0,13332,36015,599123,1,635139,31821,603318,0,635139,32776,602362,1,635139,33045,602094,0,635139,3415,100563,1,103979,2859,101119,1,103979,2993,100985,1,103979,2956,101022,1,103979,39430,699686,2,739118,34680,704437,1,739118,35769,703347,2,739118,36001,703116,1,739118,"0",null,"01:25:00"]
[3,2,"　大和村","小池　裕",28,924,0,952,"戸倉　三郎",25,927,0,952,"山口　厚",25,927,0,952,"菅野　博之",26,926,0,952,36015,599123,1,635139,31821,603318,0,635139,32776,602362,1,635139,33045,602094,0,635139,3415,100563,1,103979,2859,101119,1,103979,2993,100985,1,103979,2956,101022,1,103979,39430,699686,2,739118,34680,704437,1,739118,35769,703347,2,739118,36001,703116,1,739118,"0",null,"01:25:00"]
[3,3,"　宇検村","小池　裕",38,1291,0,1329,"戸倉　三郎",27,1302,0,1329,"山口　厚",29,1300,0,1329,"菅野　博之",28,1301,0,1329,36015,599123,1,635139,31821,603318,0,635139,32776,602362,1,635139,33045,602094,0,635139,3415,100563,1,103979,2859,101119,1,103979,2993,100985,1,103979,2956,101022,1,103979,39430,699686,2,739118,34680,704437,1,739118,35769,703347,2,739118,36001,703116,1,739118,"0",null,"01:25:00"]
[3,4,"　瀬戸内町","小池　裕",189,5614,0,5803,"戸倉　三郎",157,5646,0,5803,"山口　厚",155,5648,0,5803,"菅野　博之",164,5639,0,5803,36015,599123,1,635139,31821,603318,0,635139,32776,602362,1,635139,33045,602094,0,635139,3415,100563,1,103979,2859,101119,1,103979,2993,100985,1,103979,2956,101022,1,103979,39430,699686,2,739118,34680,704437,1,739118,35769,703347,2,739118,36001,703116,1,739118,"0",null,"01:25:00"]
[3,5,"　龍郷町","小池　裕",132,3976,0,4108,"戸倉　三郎",116,3992,0,4108,"山口　厚",121,3987,0,4108,"菅野　博之",120,3988,0,4108,36015,599123,1,635139,31821,603318,0,635139,32776,602362,1,635139,33045,602094,0,635139,3415,100563,1,103979,2859,101119,1,103979,2993,100985,1,103979,2956,101022,1,103979,39430,699686,2,739118,34680,704437,1,739118,35769,703347,2,739118,36001,703116,1,739118,"0",null,"01:25:00"]
[3,6,"　喜界町","小池　裕",97,4157,0,4254,"戸倉　三郎",73,4181,0,4254,"山口　厚",82,4172,0,4254,"菅野　博之",82,4172,0,4254,36015,599123,1,635139,31821,603318,0,635139,32776,602362,1,635139,33045,602094,0,635139,3415,100563,1,103979,2859,101119,1,103979,2993,100985,1,103979,2956,101022,1,103979,39430,699686,2,739118,34680,704437,1,739118,35769,703347,2,739118,36001,703116,1,739118,"0",null,"01:25:00"]
[3,7,"　徳之島町","小池　裕",177,5665,0,5842,"戸倉　三郎",153,5689,0,5842,"山口　厚",157,5685,0,5842,"菅野　博之",154,5688,0,5842,36015,599123,1,635139,31821,603318,0,635139,32776,602362,1,635139,33045,602094,0,635139,3415,100563,1,103979,2859,101119,1,103979,2993,100985,1,103979,2956,101022,1,103979,39430,699686,2,739118,34680,704437,1,739118,35769,703347,2,739118,36001,703116,1,739118,"0",null,"01:25:00"]
[3,8,"　天城町","小池　裕",80,3285,0,3365,"戸倉　三郎",66,3299,0,3365,"山口　厚",71,3294,0,3365,"菅野　博之",68,3297,0,3365,36015,599123,1,635139,31821,603318,0,635139,32776,602362,1,635139,33045,602094,0,635139,3415,100563,1,103979,2859,101119,1,103979,2993,100985,1,103979,2956,101022,1,103979,39430,699686,2,739118,34680,704437,1,739118,35769,703347,2,739118,36001,703116,1,739118,"0",null,"01:25:00"]
[3,9,"　伊仙町","小池　裕",98,4841,0,4939,"戸倉　三郎",82,4857,0,4939,"山口　厚",87,4852,0,4939,"菅野　博之",90,4849,0,4939,36015,599123,1,635139,31821,603318,0,635139,32776,602362,1,635139,33045,602094,0,635139,3415,100563,1,103979,2859,101119,1,103979,2993,100985,1,103979,2956,101022,1,103979,39430,699686,2,739118,34680,704437,1,739118,35769,703347,2,739118,36001,703116,1,739118,"0",null,"01:25:00"]
[3,10,"　和泊町","小池　裕",81,3846,0,3927,"戸倉　三郎",78,3849,0,3927,"山口　厚",79,3848,0,3927,"菅野　博之",81,3846,0,3927,36015,599123,1,635139,31821,603318,0,635139,32776,602362,1,635139,33045,602094,0,635139,3415,100563,1,103979,2859,101119,1,103979,2993,100985,1,103979,2956,101022,1,103979,39430,699686,2,739118,34680,704437,1,739118,35769,703347,2,739118,36001,703116,1,739118,"0",null,"01:25:00"]
[3,11,"　知名町","小池　裕",98,3335,0,3433,"戸倉　三郎",104,3329,0,3433,"山口　厚",101,3332,0,3433,"菅野　博之",106,3327,0,3433,36015,599123,1,635139,31821,603318,0,635139,32776,602362,1,635139,33045,602094,0,635139,3415,100563,1,103979,2859,101119,1,103979,2993,100985,1,103979,2956,101022,1,103979,39430,699686,2,739118,34680,704437,1,739118,35769,703347,2,739118,36001,703116,1,739118,"0",null,"01:25:00"]
[3,12,"　与論町","小池　裕",115,2759,0,2874,"戸倉　三郎",99,2775,0,2874,"山口　厚",110,2764,0,2874,"菅野　博之",96,2778,0,2874,36015,599123,1,635139,31821,603318,0,635139,32776,602362,1,635139,33045,602094,0,635139,3415,100563,1,103979,2859,101119,1,103979,2993,100985,1,103979,2956,101022,1,103979,39430,699686,2,739118,34680,704437,1,739118,35769,703347,2,739118,36001,703116,1,739118,"0",null,"01:25:00"]
[3,13,"＊（大島郡）計","小池　裕",1133,39693,0,40826,"戸倉　三郎",980,39846,0,40826,"山口　厚",1017,39809,0,40826,"菅野　博之",1015,39811,0,40826,36015,599123,1,635139,31821,603318,0,635139,32776,602362,1,635139,33045,602094,0,635139,3415,100563,1,103979,2859,101119,1,103979,2993,100985,1,103979,2956,101022,1,103979,39430,699686,2,739118,34680,704437,1,739118,35769,703347,2,739118,36001,703116,1,739118,"0",null,"01:25:00"]
[3,14,null,"小池　裕",null,null,null,null,"戸倉　三郎",null,null,null,null,"山口　厚",null,null,null,null,"菅野　博之",null,null,null,null,36015,599123,1,635139,31821,603318,0,635139,32776,602362,1,635139,33045,602094,0,635139,3415,100563,1,103979,2859,101119,1,103979,2993,100985,1,103979,2956,101022,1,103979,39430,699686,2,739118,34680,704437,1,739118,35769,703347,2,739118,36001,703116,1,739118,"0",null,"01:25:00"]
[3,15,null,"小池　裕",null,null,null,null,"戸倉　三郎",null,null,null,null,"山口　厚",null,null,null,null,"菅野　博之",null,null,null,null,36015,599123,1,635139,31821,603318,0,635139,32776,602362,1,635139,33045,602094,0,635139,3415,100563,1,103979,2859,101119,1,103979,2993,100985,1,103979,2956,101022,1,103979,39430,699686,2,739118,34680,704437,1,739118,35769,703347,2,739118,36001,703116,1,739118,"0",null,"01:25:00"]
[3,16,null,"小池　裕",null,null,null,null,"戸倉　三郎",null,null,null,null,"山口　厚",null,null,null,null,"菅野　博之",null,null,null,null,36015,599123,1,635139,31821,603318,0,635139,32776,602362,1,635139,33045,602094,0,635139,3415,100563,1,103979,2859,101119,1,103979,2993,100985,1,103979,2956,101022,1,103979,39430,699686,2,739118,34680,704437,1,739118,35769,703347,2,739118,36001,703116,1,739118,"0",null,"01:25:00"]
[3,17,null,"小池　裕",null,null,null,null,"戸倉　三郎",null,null,null,null,"山口　厚",null,null,null,null,"菅野　博之",null,null,null,null,36015,599123,1,635139,31821,603318,0,635139,32776,602362,1,635139,33045,602094,0,635139,3415,100563,1,103979,2859,101119,1,103979,2993,100985,1,103979,2956,101022,1,103979,39430,699686,2,739118,34680,704437,1,739118,35769,703347,2,739118,36001,703116,1,739118,"0",null,"01:25:00"]
[3,18,null,"小池　裕",null,null,null,null,"戸倉　三郎",null,null,null,null,"山口　厚",null,null,null,null,"菅野　博之",null,null,null,null,36015,599123,1,635139,31821,603318,0,635139,32776,602362,1,635139,33045,602094,0,635139,3415,100563,1,103979,2859,101119,1,103979,2993,100985,1,103979,2956,101022,1,103979,39430,699686,2,739118,34680,704437,1,739118,35769,703347,2,739118,36001,703116,1,739118,"0",null,"01:25:00"]
[3,19,null,"小池　裕",null,null,null,null,"戸倉　三郎",null,null,null,null,"山口　厚",null,null,null,null,"菅野　博之",null,null,null,null,36015,599123,1,635139,31821,603318,0,635139,32776,602362,1,635139,33045,602094,0,635139,3415,100563,1,103979,2859,101119,1,103979,2993,100985,1,103979,2956,101022,1,103979,39430,699686,2,739118,34680,704437,1,739118,35769,703347,2,739118,36001,703116,1,739118,"0",null,"01:25:00"]
[3,20,null,"小池　裕",null,null,null,null,"戸倉　三郎",null,null,null,null,"山口　厚",null,null,null,null,"菅野　博之",null,null,null,null,36015,599123,1,635139,31821,603318,0,635139,32776,602362,1,635139,33045,602094,0,635139,3415,100563,1,103979,2859,101119,1,103979,2993,100985,1,103979,2956,101022,1,103979,39430,699686,2,739118,34680,704437,1,739118,35769,703347,2,739118,36001,703116,1,739118,"0",null,"01:25:00"]
[3,21,null,"小池　裕",null,null,null,null,"戸倉　三郎",null,null,null,null,"山口　厚",null,null,null,null,"菅野　博之",null,null,null,null,36015,599123,1,635139,31821,603318,0,635139,32776,602362,1,635139,33045,602094,0,635139,3415,100563,1,103979,2859,101119,1,103979,2993,100985,1,103979,2956,101022,1,103979,39430,699686,2,739118,34680,704437,1,739118,35769,703347,2,739118,36001,703116,1,739118,"0",null,"01:25:00"]
[3,22,null,"小池　裕",null,null,null,null,"戸倉　三郎",null,null,null,null,"山口　厚",null,null,null,null,"菅野　博之",null,null,null,null,36015,599123,1,635139,31821,603318,0,635139,32776,602362,1,635139,33045,602094,0,635139,3415,100563,1,103979,2859,101119,1,103979,2993,100985,1,103979,2956,101022,1,103979,39430,699686,2,739118,34680,704437,1,739118,35769,703347,2,739118,36001,703116,1,739118,"0",null,"01:25:00"]
[3,23,null,"小池　裕",null,null,null,null,"戸倉　三郎",null,null,null,null,"山口　厚",null,null,null,null,"菅野　博之",null,null,null,null,36015,599123,1,635139,31821,603318,0,635139,32776,602362,1,635139,33045,602094,0,635139,3415,100563,1,103979,2859,101119,1,103979,2993,100985,1,103979,2956,101022,1,103979,39430,699686,2,739118,34680,704437,1,739118,35769,703347,2,739118,36001,703116,1,739118,"0",null,"01:25:00"]
[3,24,null,"小池　裕",null,null,null,null,"戸倉　三郎",null,null,null,null,"山口　厚",null,null,null,null,"菅野　博之",null,null,null,null,36015,599123,1,635139,31821,603318,0,635139,32776,602362,1,635139,33045,602094,0,635139,3415,100563,1,103979,2859,101119,1,103979,2993,100985,1,103979,2956,101022,1,103979,39430,699686,2,739118,34680,704437,1,739118,35769,703347,2,739118,36001,703116,1,739118,"0",null,"01:25:00"]
[3,25,null,"小池　裕",null,null,null,null,"戸倉　三郎",null,null,null,null,"山口　厚",null,null,null,null,"菅野　博之",null,null,null,null,36015,599123,1,635139,31821,603318,0,635139,32776,602362,1,635139,33045,602094,0,635139,3415,100563,1,103979,2859,101119,1,103979,2993,100985,1,103979,2956,101022,1,103979,39430,699686,2,739118,34680,704437,1,739118,35769,703347,2,739118,36001,703116,1,739118,"0",null,"01:25:00"]
[3,26,null,"小池　裕",null,null,null,null,"戸倉　三郎",null,null,null,null,"山口　厚",null,null,null,null,"菅野　博之",null,null,null,null,36015,599123,1,635139,31821,603318,0,635139,32776,602362,1,635139,33045,602094,0,635139,3415,100563,1,103979,2859,101119,1,103979,2993,100985,1,103979,2956,101022,1,103979,39430,699686,2,739118,34680,704437,1,739118,35769,703347,2,739118,36001,703116,1,739118,"0",null,"01:25:00"]
[3,27,null,"小池　裕",null,null,null,null,"戸倉　三郎",null,null,null,null,"山口　厚",null,null,null,null,"菅野　博之",null,null,null,null,36015,599123,1,635139,31821,603318,0,635139,32776,602362,1,635139,33045,602094,0,635139,3415,100563,1,103979,2859,101119,1,103979,2993,100985,1,103979,2956,101022,1,103979,39430,699686,2,739118,34680,704437,1,739118,35769,703347,2,739118,36001,703116,1,739118,"0",null,"01:25:00"]
[3,28,null,"小池　裕",null,null,null,null,"戸倉　三郎",null,null,null,null,"山口　厚",null,null,null,null,"菅野　博之",null,null,null,null,36015,599123,1,635139,31821,603318,0,635139,32776,602362,1,635139,33045,602094,0,635139,3415,100563,1,103979,2859,101119,1,103979,2993,100985,1,103979,2956,101022,1,103979,39430,699686,2,739118,34680,704437,1,739118,35769,703347,2,739118,36001,703116,1,739118,"0",null,"01:25:00"]
[3,29,null,"小池　裕",null,null,null,null,"戸倉　三郎",null,null,null,null,"山口　厚",null,null,null,null,"菅野　博之",null,null,null,null,36015,599123,1,635139,31821,603318,0,635139,32776,602362,1,635139,33045,602094,0,635139,3415,100563,1,103979,2859,101119,1,103979,2993,100985,1,103979,2956,101022,1,103979,39430,699686,2,739118,34680,704437,1,739118,35769,703347,2,739118,36001,703116,1,739118,"0",null,"01:25:00"]
[3,30,null,"小池　裕",null,null,null,null,"戸倉　三郎",null,null,null,null,"山口　厚",null,null,null,null,"菅野　博之",null,null,null,null,36015,599123,1,635139,31821,603318,0,635139,32776,602362,1,635139,33045,602094,0,635139,3415,100563,1,103979,2859,101119,1,103979,2993,100985,1,103979,2956,101022,1,103979,39430,699686,2,739118,34680,704437,1,739118,35769,703347,2,739118,36001,703116,1,739118,"0",null,"01:25:00"]
[3,31,null,"小池　裕",null,null,null,null,"戸倉　三郎",null,null,null,null,"山口　厚",null,null,null,null,"菅野　博之",null,null,null,null,36015,599123,1,635139,31821,603318,0,635139,32776,602362,1,635139,33045,602094,0,635139,3415,100563,1,103979,2859,101119,1,103979,2993,100985,1,103979,2956,101022,1,103979,39430,699686,2,739118,34680,704437,1,739118,35769,703347,2,739118,36001,703116,1,739118,"0",null,"01:25:00"]
[3,32,null,"小池　裕",null,null,null,null,"戸倉　三郎",null,null,null,null,"山口　厚",null,null,null,null,"菅野　博之",null,null,null,null,36015,599123,1,635139,31821,603318,0,635139,32776,602362,1,635139,33045,602094,0,635139,3415,100563,1,103979,2859,101119,1,103979,2993,100985,1,103979,2956,101022,1,103979,39430,699686,2,739118,34680,704437,1,739118,35769,703347,2,739118,36001,703116,1,739118,"0",null,"01:25:00"]
[3,33,null,"小池　裕",null,null,null,null,"戸倉　三郎",null,null,null,null,"山口　厚",null,null,null,null,"菅野　博之",null,null,null,null,36015,599123,1,635139,31821,603318,0,635139,32776,602362,1,635139,33045,602094,0,635139,3415,100563,1,103979,2859,101119,1,103979,2993,100985,1,103979,2956,101022,1,103979,39430,699686,2,739118,34680,704437,1,739118,35769,703347,2,739118,36001,703116,1,739118,"0",null,"01:25:00"]
[3,34,null,"小池　裕",null,null,null,null,"戸倉　三郎",null,null,null,null,"山口　厚",null,null,null,null,"菅野　博之",null,null,null,null,36015,599123,1,635139,31821,603318,0,635139,32776,602362,1,635139,33045,602094,0,635139,3415,100563,1,103979,2859,101119,1,103979,2993,100985,1,103979,2956,101022,1,103979,39430,699686,2,739118,34680,704437,1,739118,35769,703347,2,739118,36001,703116,1,739118,"0",null,"01:25:00"]
[3,35,null,"小池　裕",null,null,null,null,"戸倉　三郎",null,null,null,null,"山口　厚",null,null,null,null,"菅野　博之",null,null,null,null,36015,599123,1,635139,31821,603318,0,635139,32776,602362,1,635139,33045,602094,0,635139,3415,100563,1,103979,2859,101119,1,103979,2993,100985,1,103979,2956,101022,1,103979,39430,699686,2,739118,34680,704437,1,739118,35769,703347,2,739118,36001,703116,1,739118,"0",null,"01:25:00"]
[3,36,null,"小池　裕",null,null,null,null,"戸倉　三郎",null,null,null,null,"山口　厚",null,null,null,null,"菅野　博之",null,null,null,null,36015,599123,1,635139,31821,603318,0,635139,32776,602362,1,635139,33045,602094,0,635139,3415,100563,1,103979,2859,101119,1,103979,2993,100985,1,103979,2956,101022,1,103979,39430,699686,2,739118,34680,704437,1,739118,35769,703347,2,739118,36001,703116,1,739118,"0",null,"01:25:00"]
[3,37,null,"小池　裕",null,null,null,null,"戸倉　三郎",null,null,null,null,"山口　厚",null,null,null,null,"菅野　博之",null,null,null,null,36015,599123,1,635139,31821,603318,0,635139,32776,602362,1,635139,33045,602094,0,635139,3415,100563,1,103979,2859,101119,1,103979,2993,100985,1,103979,2956,101022,1,103979,39430,699686,2,739118,34680,704437,1,739118,35769,703347,2,739118,36001,703116,1,739118,"0",null,"01:25:00"]
[3,38,null,"小池　裕",null,null,null,null,"戸倉　三郎",null,null,null,null,"山口　厚",null,null,null,null,"菅野　博之",null,null,null,null,36015,599123,1,635139,31821,603318,0,635139,32776,602362,1,635139,33045,602094,0,635139,3415,100563,1,103979,2859,101119,1,103979,2993,100985,1,103979,2956,101022,1,103979,39430,699686,2,739118,34680,704437,1,739118,35769,703347,2,739118,36001,703116,1,739118,"0",null,"01:25:00"]
[3,39,null,"小池　裕",null,null,null,null,"戸倉　三郎",null,null,null,null,"山口　厚",null,null,null,null,"菅野　博之",null,null,null,null,36015,599123,1,635139,31821,603318,0,635139,32776,602362,1,635139,33045,602094,0,635139,3415,100563,1,103979,2859,101119,1,103979,2993,100985,1,103979,2956,101022,1,103979,39430,699686,2,739118,34680,704437,1,739118,35769,703347,2,739118,36001,703116,1,739118,"0",null,"01:25:00"]
[3,40,null,"小池　裕",null,null,null,null,"戸倉　三郎",null,null,null,null,"山口　厚",null,null,null,null,"菅野　博之",null,null,null,null,36015,599123,1,635139,31821,603318,0,635139,32776,602362,1,635139,33045,602094,0,635139,3415,100563,1,103979,2859,101119,1,103979,2993,100985,1,103979,2956,101022,1,103979,39430,699686,2,739118,34680,704437,1,739118,35769,703347,2,739118,36001,703116,1,739118,"0",null,"01:25:00"]
[3,41,null,"小池　裕",null,null,null,null,"戸倉　三郎",null,null,null,null,"山口　厚",null,null,null,null,"菅野　博之",null,null,null,null,36015,599123,1,635139,31821,603318,0,635139,32776,602362,1,635139,33045,602094,0,635139,3415,100563,1,103979,2859,101119,1,103979,2993,100985,1,103979,2956,101022,1,103979,39430,699686,2,739118,34680,704437,1,739118,35769,703347,2,739118,36001,703116,1,739118,"0",null,"01:25:00"]
[3,42,null,"小池　裕",null,null,null,null,"戸倉　三郎",null,null,null,null,"山口　厚",null,null,null,null,"菅野　博之",null,null,null,null,36015,599123,1,635139,31821,603318,0,635139,32776,602362,1,635139,33045,602094,0,635139,3415,100563,1,103979,2859,101119,1,103979,2993,100985,1,103979,2956,101022,1,103979,39430,699686,2,739118,34680,704437,1,739118,35769,703347,2,739118,36001,703116,1,739118,"0",null,"01:25:00"]
[3,43,null,"小池　裕",null,null,null,null,"戸倉　三郎",null,null,null,null,"山口　厚",null,null,null,null,"菅野　博之",null,null,null,null,36015,599123,1,635139,31821,603318,0,635139,32776,602362,1,635139,33045,602094,0,635139,3415,100563,1,103979,2859,101119,1,103979,2993,100985,1,103979,2956,101022,1,103979,39430,699686,2,739118,34680,704437,1,739118,35769,703347,2,739118,36001,703116,1,739118,"0",null,"01:25:00"]
[4,1,"＊（熊毛郡）計","大谷　直人",649,12683,0,13332,"木澤　克之",655,12677,0,13332,"林　景一",608,12724,0,13332,null,null,null,null,null,32050,603089,0,635139,31872,603267,0,635139,30249,604890,0,635139,null,null,null,null,2883,101095,1,103979,2797,101181,1,103979,2668,101310,1,103979,null,null,null,null,34933,704184,1,739118,34669,704448,1,739118,32917,706200,1,739118,null,null,null,null,"0",null,"01:25:00"]
[4,2,"　大和村","大谷　直人",27,925,0,952,"木澤　克之",26,926,0,952,"林　景一",25,927,0,952,null,null,null,null,null,32050,603089,0,635139,31872,603267,0,635139,30249,604890,0,635139,null,null,null,null,2883,101095,1,103979,2797,101181,1,103979,2668,101310,1,103979,null,null,null,null,34933,704184,1,739118,34669,704448,1,739118,32917,706200,1,739118,null,null,null,null,"0",null,"01:25:00"]
[4,3,"　宇検村","大谷　直人",25,1304,0,1329,"木澤　克之",25,1304,0,1329,"林　景一",27,1302,0,1329,null,null,null,null,null,32050,603089,0,635139,31872,603267,0,635139,30249,604890,0,635139,null,null,null,null,2883,101095,1,103979,2797,101181,1,103979,2668,101310,1,103979,null,null,null,null,34933,704184,1,739118,34669,704448,1,739118,32917,706200,1,739118,null,null,null,null,"0",null,"01:25:00"]
[4,4,"　瀬戸内町","大谷　直人",162,5641,0,5803,"木澤　克之",160,5643,0,5803,"林　景一",158,5645,0,5803,null,null,null,null,null,32050,603089,0,635139,31872,603267,0,635139,30249,604890,0,635139,null,null,null,null,2883,101095,1,103979,2797,101181,1,103979,2668,101310,1,103979,null,null,null,null,34933,704184,1,739118,34669,704448,1,739118,32917,706200,1,739118,null,null,null,null,"0",null,"01:25:00"]
[4,5,"　龍郷町","大谷　直人",115,3993,0,4108,"木澤　克之",114,3994,0,4108,"林　景一",113,3995,0,4108,null,null,null,null,null,32050,603089,0,635139,31872,603267,0,635139,30249,604890,0,635139,null,null,null,null,2883,101095,1,103979,2797,101181,1,103979,2668,101310,1,103979,null,null,null,null,34933,704184,1,739118,34669,704448,1,739118,32917,706200,1,739118,null,null,null,null,"0",null,"01:25:00"]
[4,6,"　喜界町","大谷　直人",85,4169,0,4254,"木澤　克之",78,4176,0,4254,"林　景一",79,4175,0,4254,null,null,null,null,null,32050,603089,0,635139,31872,603267,0,635139,30249,604890,0,635139,null,null,null,null,2883,101095,1,103979,2797,101181,1,103979,2668,101310,1,103979,null,null,null,null,34933,704184,1,739118,34669,704448,1,739118,32917,706200,1,739118,null,null,null,null,"0",null,"01:25:00"]
[4,7,"　徳之島町","大谷　直人",155,5687,0,5842,"木澤　克之",152,5690,0,5842,"林　景一",147,5695,0,5842,null,null,null,null,null,32050,603089,0,635139,31872,603267,0,635139,30249,604890,0,635139,null,null,null,null,2883,101095,1,103979,2797,101181,1,103979,2668,101310,1,103979,null,null,null,null,34933,704184,1,739118,34669,704448,1,739118,32917,706200,1,739118,null,null,null,null,"0",null,"01:25:00"]
[4,8,"　天城町","大谷　直人",60,3305,0,3365,"木澤　克之",57,3308,0,3365,"林　景一",55,3310,0,3365,null,null,null,null,null,32050,603089,0,635139,31872,603267,0,635139,30249,604890,0,635139,null,null,null,null,2883,101095,1,103979,2797,101181,1,103979,2668,101310,1,103979,null,null,null,null,34933,704184,1,739118,34669,704448,1,739118,32917,706200,1,739118,null,null,null,null,"0",null,"01:25:00"]
[4,9,"　伊仙町","大谷　直人",90,4849,0,4939,"木澤　克之",84,4855,0,4939,"林　景一",78,4861,0,4939,null,null,null,null,null,32050,603089,0,635139,31872,603267,0,635139,30249,604890,0,635139,null,null,null,null,2883,101095,1,103979,2797,101181,1,103979,2668,101310,1,103979,null,null,null,null,34933,704184,1,739118,34669,704448,1,739118,32917,706200,1,739118,null,null,null,null,"0",null,"01:25:00"]
[4,10,"　和泊町","大谷　直人",71,3856,0,3927,"木澤　克之",77,3850,0,3927,"林　景一",75,3852,0,3927,null,null,null,null,null,32050,603089,0,635139,31872,603267,0,635139,30249,604890,0,635139,null,null,null,null,2883,101095,1,103979,2797,101181,1,103979,2668,101310,1,103979,null,null,null,null,34933,704184,1,739118,34669,704448,1,739118,32917,706200,1,739118,null,null,null,null,"0",null,"01:25:00"]
[4,11,"　知名町","大谷　直人",106,3327,0,3433,"木澤　克之",105,3328,0,3433,"林　景一",114,3319,0,3433,null,null,null,null,null,32050,603089,0,635139,31872,603267,0,635139,30249,604890,0,635139,null,null,null,null,2883,101095,1,103979,2797,101181,1,103979,2668,101310,1,103979,null,null,null,null,34933,704184,1,739118,34669,704448,1,739118,32917,706200,1,739118,null,null,null,null,"0",null,"01:25:00"]
[4,12,"　与論町","大谷　直人",101,2773,0,2874,"木澤　克之",94,2780,0,2874,"林　景一",87,2787,0,2874,null,null,null,null,null,32050,603089,0,635139,31872,603267,0,635139,30249,604890,0,635139,null,null,null,null,2883,101095,1,103979,2797,101181,1,103979,2668,101310,1,103979,null,null,null,null,34933,704184,1,739118,34669,704448,1,739118,32917,706200,1,739118,null,null,null,null,"0",null,"01:25:00"]
[4,13,"＊（大島郡）計","大谷　直人",997,39829,0,40826,"木澤　克之",972,39854,0,40826,"林　景一",958,39868,0,40826,null,null,null,null,null,32050,603089,0,635139,31872,603267,0,635139,30249,604890,0,635139,null,null,null,null,2883,101095,1,103979,2797,101181,1,103979,2668,101310,1,103979,null,null,null,null,34933,704184,1,739118,34669,704448,1,739118,32917,706200,1,739118,null,null,null,null,"0",null,"01:25:00"]
[4,14,null,"大谷　直人",null,null,null,null,"木澤　克之",null,null,null,null,"林　景一",null,null,null,null,null,null,null,null,null,32050,603089,0,635139,31872,603267,0,635139,30249,604890,0,635139,null,null,null,null,2883,101095,1,103979,2797,101181,1,103979,2668,101310,1,103979,null,null,null,null,34933,704184,1,739118,34669,704448,1,739118,32917,706200,1,739118,null,null,null,null,"0",null,"01:25:00"]
[4,15,null,"大谷　直人",null,null,null,null,"木澤　克之",null,null,null,null,"林　景一",null,null,null,null,null,null,null,null,null,32050,603089,0,635139,31872,603267,0,635139,30249,604890,0,635139,null,null,null,null,2883,101095,1,103979,2797,101181,1,103979,2668,101310,1,103979,null,null,null,null,34933,704184,1,739118,34669,704448,1,739118,32917,706200,1,739118,null,null,null,null,"0",null,"01:25:00"]
[4,16,null,"大谷　直人",null,null,null,null,"木澤　克之",null,null,null,null,"林　景一",null,null,null,null,null,null,null,null,null,32050,603089,0,635139,31872,603267,0,635139,30249,604890,0,635139,null,null,null,null,2883,101095,1,103979,2797,101181,1,103979,2668,101310,1,103979,null,null,null,null,34933,704184,1,739118,34669,704448,1,739118,32917,706200,1,739118,null,null,null,null,"0",null,"01:25:00"]
[4,17,null,"大谷　直人",null,null,null,null,"木澤　克之",null,null,null,null,"林　景一",null,null,null,null,null,null,null,null,null,32050,603089,0,635139,31872,603267,0,635139,30249,604890,0,635139,null,null,null,null,2883,101095,1,103979,2797,101181,1,103979,2668,101310,1,103979,null,null,null,null,34933,704184,1,739118,34669,704448,1,739118,32917,706200,1,739118,null,null,null,null,"0",null,"01:25:00"]
[4,18,null,"大谷　直人",null,null,null,null,"木澤　克之",null,null,null,null,"林　景一",null,null,null,null,null,null,null,null,null,32050,603089,0,635139,31872,603267,0,635139,30249,604890,0,635139,null,null,null,null,2883,101095,1,103979,2797,101181,1,103979,2668,101310,1,103979,null,null,null,null,34933,704184,1,739118,34669,704448,1,739118,32917,706200,1,739118,null,null,null,null,"0",null,"01:25:00"]
[4,19,null,"大谷　直人",null,null,null,null,"木澤　克之",null,null,null,null,"林　景一",null,null,null,null,null,null,null,null,null,32050,603089,0,635139,31872,603267,0,635139,30249,604890,0,635139,null,null,null,null,2883,101095,1,103979,2797,101181,1,103979,2668,101310,1,103979,null,null,null,null,34933,704184,1,739118,34669,704448,1,739118,32917,706200,1,739118,null,null,null,null,"0",null,"01:25:00"]
[4,20,null,"大谷　直人",null,null,null,null,"木澤　克之",null,null,null,null,"林　景一",null,null,null,null,null,null,null,null,null,32050,603089,0,635139,31872,603267,0,635139,30249,604890,0,635139,null,null,null,null,2883,101095,1,103979,2797,101181,1,103979,2668,101310,1,103979,null,null,null,null,34933,704184,1,739118,34669,704448,1,739118,32917,706200,1,739118,null,null,null,null,"0",null,"01:25:00"]
[4,21,null,"大谷　直人",null,null,null,null,"木澤　克之",null,null,null,null,"林　景一",null,null,null,null,null,null,null,null,null,32050,603089,0,635139,31872,603267,0,635139,30249,604890,0,635139,null,null,null,null,2883,101095,1,103979,2797,101181,1,103979,2668,101310,1,103979,null,null,null,null,34933,704184,1,739118,34669,704448,1,739118,32917,706200,1,739118,null,null,null,null,"0",null,"01:25:00"]
[4,22,null,"大谷　直人",null,null,null,null,"木澤　克之",null,null,null,null,"林　景一",null,null,null,null,null,null,null,null,null,32050,603089,0,635139,31872,603267,0,635139,30249,604890,0,635139,null,null,null,null,2883,101095,1,103979,2797,101181,1,103979,2668,101310,1,103979,null,null,null,null,34933,704184,1,739118,34669,704448,1,739118,32917,706200,1,739118,null,null,null,null,"0",null,"01:25:00"]
[4,23,null,"大谷　直人",null,null,null,null,"木澤　克之",null,null,null,null,"林　景一",null,null,null,null,null,null,null,null,null,32050,603089,0,635139,31872,603267,0,635139,30249,604890,0,635139,null,null,null,null,2883,101095,1,103979,2797,101181,1,103979,2668,101310,1,103979,null,null,null,null,34933,704184,1,739118,34669,704448,1,739118,32917,706200,1,739118,null,null,null,null,"0",null,"01:25:00"]
[4,24,null,"大谷　直人",null,null,null,null,"木澤　克之",null,null,null,null,"林　景一",null,null,null,null,null,null,null,null,null,32050,603089,0,635139,31872,603267,0,635139,30249,604890,0,635139,null,null,null,null,2883,101095,1,103979,2797,101181,1,103979,2668,101310,1,103979,null,null,null,null,34933,704184,1,739118,34669,704448,1,739118,32917,706200,1,739118,null,null,null,null,"0",null,"01:25:00"]
[4,25,null,"大谷　直人",null,null,null,null,"木澤　克之",null,null,null,null,"林　景一",null,null,null,null,null,null,null,null,null,32050,603089,0,635139,31872,603267,0,635139,30249,604890,0,635139,null,null,null,null,2883,101095,1,103979,2797,101181,1,103979,2668,101310,1,103979,null,null,null,null,34933,704184,1,739118,34669,704448,1,739118,32917,706200,1,739118,null,null,null,null,"0",null,"01:25:00"]
[4,26,null,"大谷　直人",null,null,null,null,"木澤　克之",null,null,null,null,"林　景一",null,null,null,null,null,null,null,null,null,32050,603089,0,635139,31872,603267,0,635139,30249,604890,0,635139,null,null,null,null,2883,101095,1,103979,2797,101181,1,103979,2668,101310,1,103979,null,null,null,null,34933,704184,1,739118,34669,704448,1,739118,32917,706200,1,739118,null,null,null,null,"0",null,"01:25:00"]
[4,27,null,"大谷　直人",null,null,null,null,"木澤　克之",null,null,null,null,"林　景一",null,null,null,null,null,null,null,null,null,32050,603089,0,635139,31872,603267,0,635139,30249,604890,0,635139,null,null,null,null,2883,101095,1,103979,2797,101181,1,103979,2668,101310,1,103979,null,null,null,null,34933,704184,1,739118,34669,704448,1,739118,32917,706200,1,739118,null,null,null,null,"0",null,"01:25:00"]
[4,28,null,"大谷　直人",null,null,null,null,"木澤　克之",null,null,null,null,"林　景一",null,null,null,null,null,null,null,null,null,32050,603089,0,635139,31872,603267,0,635139,30249,604890,0,635139,null,null,null,null,2883,101095,1,103979,2797,101181,1,103979,2668,101310,1,103979,null,null,null,null,34933,704184,1,739118,34669,704448,1,739118,32917,706200,1,739118,null,null,null,null,"0",null,"01:25:00"]
[4,29,null,"大谷　直人",null,null,null,null,"木澤　克之",null,null,null,null,"林　景一",null,null,null,null,null,null,null,null,null,32050,603089,0,635139,31872,603267,0,635139,30249,604890,0,635139,null,null,null,null,2883,101095,1,103979,2797,101181,1,103979,2668,101310,1,103979,null,null,null,null,34933,704184,1,739118,34669,704448,1,739118,32917,706200,1,739118,null,null,null,null,"0",null,"01:25:00"]
[4,30,null,"大谷　直人",null,null,null,null,"木澤　克之",null,null,null,null,"林　景一",null,null,null,null,null,null,null,null,null,32050,603089,0,635139,31872,603267,0,635139,30249,604890,0,635139,null,null,null,null,2883,101095,1,103979,2797,101181,1,103979,2668,101310,1,103979,null,null,null,null,34933,704184,1,739118,34669,704448,1,739118,32917,706200,1,739118,null,null,null,null,"0",null,"01:25:00"]
[4,31,null,"大谷　直人",null,null,null,null,"木澤　克之",null,null,null,null,"林　景一",null,null,null,null,null,null,null,null,null,32050,603089,0,635139,31872,603267,0,635139,30249,604890,0,635139,null,null,null,null,2883,101095,1,103979,2797,101181,1,103979,2668,101310,1,103979,null,null,null,null,34933,704184,1,739118,34669,704448,1,739118,32917,706200,1,739118,null,null,null,null,"0",null,"01:25:00"]
[4,32,null,"大谷　直人",null,null,null,null,"木澤　克之",null,null,null,null,"林　景一",null,null,null,null,null,null,null,null,null,32050,603089,0,635139,31872,603267,0,635139,30249,604890,0,635139,null,null,null,null,2883,101095,1,103979,2797,101181,1,103979,2668,101310,1,103979,null,null,null,null,34933,704184,1,739118,34669,704448,1,739118,32917,706200,1,739118,null,null,null,null,"0",null,"01:25:00"]
[4,33,null,"大谷　直人",null,null,null,null,"木澤　克之",null,null,null,null,"林　景一",null,null,null,null,null,null,null,null,null,32050,603089,0,635139,31872,603267,0,635139,30249,604890,0,635139,null,null,null,null,2883,101095,1,103979,2797,101181,1,103979,2668,101310,1,103979,null,null,null,null,34933,704184,1,739118,34669,704448,1,739118,32917,706200,1,739118,null,null,null,null,"0",null,"01:25:00"]
[4,34,null,"大谷　直人",null,null,null,null,"木澤　克之",null,null,null,null,"林　景一",null,null,null,null,null,null,null,null,null,32050,603089,0,635139,31872,603267,0,635139,30249,604890,0,635139,null,null,null,null,2883,101095,1,103979,2797,101181,1,103979,2668,101310,1,103979,null,null,null,null,34933,704184,1,739118,34669,704448,1,739118,32917,706200,1,739118,null,null,null,null,"0",null,"01:25:00"]
[4,35,null,"大谷　直人",null,null,null,null,"木澤　克之",null,null,null,null,"林　景一",null,null,null,null,null,null,null,null,null,32050,603089,0,635139,31872,603267,0,635139,30249,604890,0,635139,null,null,null,null,2883,101095,1,103979,2797,101181,1,103979,2668,101310,1,103979,null,null,null,null,34933,704184,1,739118,34669,704448,1,739118,32917,706200,1,739118,null,null,null,null,"0",null,"01:25:00"]
[4,36,null,"大谷　直人",null,null,null,null,"木澤　克之",null,null,null,null,"林　景一",null,null,null,null,null,null,null,null,null,32050,603089,0,635139,31872,603267,0,635139,30249,604890,0,635139,null,null,null,null,2883,101095,1,103979,2797,101181,1,103979,2668,101310,1,103979,null,null,null,null,34933,704184,1,739118,34669,704448,1,739118,32917,706200,1,739118,null,null,null,null,"0",null,"01:25:00"]
[4,37,null,"大谷　直人",null,null,null,null,"木澤　克之",null,null,null,null,"林　景一",null,null,null,null,null,null,null,null,null,32050,603089,0,635139,31872,603267,0,635139,30249,604890,0,635139,null,null,null,null,2883,101095,1,103979,2797,101181,1,103979,2668,101310,1,103979,null,null,null,null,34933,704184,1,739118,34669,704448,1,739118,32917,706200,1,739118,null,null,null,null,"0",null,"01:25:00"]
[4,38,null,"大谷　直人",null,null,null,null,"木澤　克之",null,null,null,null,"林　景一",null,null,null,null,null,null,null,null,null,32050,603089,0,635139,31872,603267,0,635139,30249,604890,0,635139,null,null,null,null,2883,101095,1,103979,2797,101181,1,103979,2668,101310,1,103979,null,null,null,null,34933,704184,1,739118,34669,704448,1,739118,32917,706200,1,739118,null,null,null,null,"0",null,"01:25:00"]
[4,39,null,"大谷　直人",null,null,null,null,"木澤　克之",null,null,null,null,"林　景一",null,null,null,null,null,null,null,null,null,32050,603089,0,635139,31872,603267,0,635139,30249,604890,0,635139,null,null,null,null,2883,101095,1,103979,2797,101181,1,103979,2668,101310,1,103979,null,null,null,null,34933,704184,1,739118,34669,704448,1,739118,32917,706200,1,739118,null,null,null,null,"0",null,"01:25:00"]
[4,40,null,"大谷　直人",null,null,null,null,"木澤　克之",null,null,null,null,"林　景一",null,null,null,null,null,null,null,null,null,32050,603089,0,635139,31872,603267,0,635139,30249,604890,0,635139,null,null,null,null,2883,101095,1,103979,2797,101181,1,103979,2668,101310,1,103979,null,null,null,null,34933,704184,1,739118,34669,704448,1,739118,32917,706200,1,739118,null,null,null,null,"0",null,"01:25:00"]
[4,41,null,"大谷　直人",null,null,null,null,"木澤　克之",null,null,null,null,"林　景一",null,null,null,null,null,null,null,null,null,32050,603089,0,635139,31872,603267,0,635139,30249,604890,0,635139,null,null,null,null,2883,101095,1,103979,2797,101181,1,103979,2668,101310,1,103979,null,null,null,null,34933,704184,1,739118,34669,704448,1,739118,32917,706200,1,739118,null,null,null,null,"0",null,"01:25:00"]
[4,42,null,"大谷　直人",null,null,null,null,"木澤　克之",null,null,null,null,"林　景一",null,null,null,null,null,null,null,null,null,32050,603089,0,635139,31872,603267,0,635139,30249,604890,0,635139,null,null,null,null,2883,101095,1,103979,2797,101181,1,103979,2668,101310,1,103979,null,null,null,null,34933,704184,1,739118,34669,704448,1,739118,32917,706200,1,739118,null,null,null,null,"0",null,"01:25:00"]
[4,43,null,"大谷　直人",null,null,null,null,"木澤　克之",null,null,null,null,"林　景一",null,null,null,null,null,null,null,null,null,32050,603089,0,635139,31872,603267,0,635139,30249,604890,0,635139,null,null,null,null,2883,101095,1,103979,2797,101181,1,103979,2668,101310,1,103979,null,null,null,null,34933,704184,1,739118,34669,704448,1,739118,32917,706200,1,739118,null,null,null,null,"0",null,"01:25:00"]