{"text_format":"1","workbook":"xlsx","n_sheets":3,"sheets":["投票速報_141_","パラメタシート","P_14号様式"],"not_rendered":{"charts":0,"images":0,"macros":1,"external_links":1,"defined_names":10,"comments":0,"pivot_tables":0},"unopened":[],"bounds":{"document_bytes":16777216,"sheet_cells":100000,"rows_first":2000,"rows_last":500,"rows_between":2000,"halvings":0,"cell_chars":16384,"cell_head_chars":4096},"cells_cut":0,"cells_raw":0,"read":"whole","date_system":"1900"}

{"sheet":"投票速報_141_","index":0,"n_rows":113,"n_cols":23,"rows_kept":113,"cut":false,"hidden":false,"merged":[[62,5,62,7],[63,5,64,7],[0,21,0,22],[57,21,57,22],[58,16,58,19],[59,13,59,15],[6,16,7,16],[62,19,65,19],[28,12,28,14],[29,12,29,14],[30,12,30,14],[31,12,31,14],[32,12,32,14],[33,12,33,14],[62,18,65,18],[35,12,35,14],[36,12,36,14],[62,8,64,10],[73,0,73,1],[5,20,7,22],[79,12,79,14],[5,18,8,18],[66,12,66,14],[5,19,8,19],[8,12,8,14],[8,15,8,17],[38,12,38,14],[39,12,39,14],[70,0,70,1],[71,0,71,1],[72,0,72,1],[69,0,69,1],[59,1,59,4],[66,0,66,1],[67,0,67,1],[68,0,68,1],[62,0,65,1],[62,2,64,4],[10,0,10,1],[23,0,23,1],[19,0,19,1],[20,0,20,1],[21,0,21,1],[78,0,78,1],[56,0,56,1],[60,1,60,4],[57,0,58,2],[74,0,74,1],[75,0,75,1],[81,0,81,1],[82,0,82,1],[83,0,83,1],[84,0,84,1],[76,0,76,1],[77,0,77,1],[79,0,79,1],[80,0,80,1],[85,0,85,1],[86,0,86,1],[87,0,87,1],[88,0,88,1],[17,0,17,1],[18,0,18,1],[39,0,39,1],[1,7,2,9],[6,11,7,12],[6,14,7,14],[22,0,22,1],[15,0,15,1],[16,0,16,1],[0,0,1,2],[3,1,3,4],[2,1,2,4],[14,0,14,1],[6,5,7,7],[5,11,5,12],[5,5,5,7],[3,7,3,9],[5,8,7,10],[5,0,8,1],[5,2,7,4],[13,0,13,1],[12,0,12,1],[9,0,9,1],[11,0,11,1],[55,0,55,1],[54,0,54,1],[34,0,34,1],[46,0,46,1],[24,0,24,1],[25,0,25,1],[26,0,26,1],[27,0,27,1],[38,0,38,1],[49,0,49,1],[28,0,28,1],[37,0,37,1],[33,0,33,1],[31,0,31,1],[29,0,29,1],[35,0,35,1],[36,0,36,1],[30,0,30,1],[32,0,32,1],[51,0,51,1],[43,0,43,1],[45,0,45,1],[34,12,34,14],[58,13,58,15],[58,7,59,9],[46,12,46,14],[47,12,47,14],[40,0,40,1],[47,15,47,17],[48,15,48,17],[51,12,51,14],[48,12,48,14],[37,12,37,14],[40,12,40,14],[44,12,44,14],[41,12,41,14],[45,12,45,14],[49,12,49,14],[50,12,50,14],[53,0,53,1],[44,0,44,1],[41,0,41,1],[50,0,50,1],[42,0,42,1],[48,0,48,1],[47,0,47,1],[89,0,89,1],[90,0,90,1],[91,0,91,1],[92,0,92,1],[93,0,93,1],[94,0,94,1],[95,0,95,1],[96,0,96,1],[97,0,97,1],[98,0,98,1],[99,0,99,1],[100,0,100,1],[101,0,101,1],[102,0,102,1],[103,0,103,1],[104,0,104,1],[105,0,105,1],[111,0,111,1],[112,0,112,1],[113,0,113,1],[106,0,106,1],[107,0,107,1],[108,0,108,1],[110,0,110,1],[107,12,107,14],[108,12,108,14],[110,12,110,14],[110,15,110,17],[3,21,3,22],[60,7,60,9],[9,12,9,14],[9,15,9,17],[10,12,10,14],[11,12,11,14],[12,12,12,14],[13,12,13,14],[60,21,60,22],[62,20,64,22],[63,11,64,12],[63,14,64,14],[63,16,64,16],[65,12,65,14],[69,15,69,17],[66,15,66,17],[28,15,28,17],[29,15,29,17],[24,15,24,17],[25,15,25,17],[30,15,30,17],[31,15,31,17],[32,15,32,17],[33,15,33,17],[53,15,53,17],[34,15,34,17],[35,15,35,17],[36,15,36,17],[37,15,37,17],[38,15,38,17],[39,15,39,17],[51,15,51,17],[40,15,40,17],[46,15,46,17],[26,12,26,14],[27,12,27,14],[20,12,20,14],[21,12,21,14],[22,12,22,14],[23,12,23,14],[25,12,25,14],[24,12,24,14],[26,15,26,17],[27,15,27,17],[18,12,18,14],[19,12,19,14],[17,12,17,14],[14,15,14,17],[15,15,15,17],[16,15,16,17],[14,12,14,14],[15,12,15,14],[16,12,16,14],[19,15,19,17],[10,15,10,17],[11,15,11,17],[12,15,12,17],[13,15,13,17],[22,15,22,17],[23,15,23,17],[17,15,17,17],[18,15,18,17],[20,15,20,17],[21,15,21,17],[54,15,54,17],[55,15,55,17],[49,15,49,17],[50,15,50,17],[55,12,55,14],[54,12,54,14],[41,15,41,17],[42,15,42,17],[43,15,43,17],[44,15,44,17],[45,15,45,17],[53,12,53,14],[42,12,42,14],[43,12,43,14],[71,15,71,17],[72,15,72,17],[67,12,67,14],[68,12,68,14],[56,12,56,14],[56,15,56,17],[62,11,62,12],[65,15,65,17],[70,15,70,17],[71,12,71,14],[72,12,72,14],[69,12,69,14],[70,12,70,14],[67,15,67,17],[68,15,68,17],[73,15,73,17],[74,15,74,17],[75,15,75,17],[76,15,76,17],[77,15,77,17],[76,12,76,14],[77,12,77,14],[78,15,78,17],[79,15,79,17],[73,12,73,14],[74,12,74,14],[75,12,75,14],[78,12,78,14],[80,15,80,17],[81,15,81,17],[82,15,82,17],[83,15,83,17],[84,15,84,17],[85,15,85,17],[86,15,86,17],[87,15,87,17],[88,15,88,17],[89,15,89,17],[90,15,90,17],[91,15,91,17],[92,15,92,17],[93,15,93,17],[94,15,94,17],[95,15,95,17],[96,15,96,17],[97,15,97,17],[98,15,98,17],[99,15,99,17],[100,15,100,17],[101,15,101,17],[102,15,102,17],[103,15,103,17],[104,15,104,17],[105,15,105,17],[106,15,106,17],[80,12,80,14],[81,12,81,14],[82,12,82,14],[83,12,83,14],[84,12,84,14],[85,12,85,14],[86,12,86,14],[87,12,87,14],[88,12,88,14],[89,12,89,14],[90,12,90,14],[91,12,91,14],[92,12,92,14],[93,12,93,14],[94,12,94,14],[95,12,95,14],[96,12,96,14],[97,12,97,14],[98,12,98,14],[99,12,99,14],[100,12,100,14],[101,12,101,14],[102,12,102,14],[103,12,103,14],[104,12,104,14],[105,12,105,14],[106,12,106,14],[107,15,107,17],[108,15,108,17],[111,12,111,14],[112,12,112,14],[113,12,113,14],[111,15,111,17],[112,15,112,17],[113,15,113,17],[1,20,1,22],[2,20,2,22],[1,16,1,19],[1,13,1,15],[2,13,2,15],[58,20,58,22],[59,20,59,22]]}
["第14号様式",null,null,null,null,null,null,null,null,null,null,null,null,null,null,null,null,null,null,null,null,{"$f":"IF(P_14号様式!A2=\"\",\" ページ\", P_14号様式!A2 & \"ページ\")","v":"1ページ"}]
[null,null,null,null,null,null,null,"投　票　速　報",null,null,null,null,null,"中間報告",null,null,{"$f":"IF(P_14号様式!BR2=\"\",\"第　　　回\",\"第   \" & P_14号様式!BR2 & \"  回\")","v":"第　　　回"},null,null,null,{"$f":"IF(P_14号様式!BS2=\"\",\"時     　分　現在\",P_14号様式!BS2)","v":"時     　分　現在"}]
[null,{"$f":"IF(パラメタシート!B1=\"\",\"\",パラメタシート!B1)","v":"2017-10-22"},null,null,null,null,null,null,null,null,null,null,null,"結了報告",null,null,null,null,null,null,{"$f":"IF(P_14号様式!BM2=\"\",\"時     　分　結了\",P_14号様式!BM2)","v":"23:03:00"}]
[null,{"$f":"IF(P_14号様式!BQ2=\"\",\"\",P_14号様式!BQ2)","v":"最高裁判所裁判官国民審査"},null,null,null,null,null,"（ 建 制 順 ）",null,null,null,null,null,null,null,null,null,null,null,null,null,"鹿 児 島 県"]
[]
["市区町村名",null,"当 日 有 権 者 数（ｅ'）\n（ 当日有権者見込（ｅ））",null,null,{"$f":"IF(P_14号様式!BS2=\"\",\"（ｆ）\",\"（ｱ）\")","v":"（ｆ）"},null,null,"（ｇ）\n棄　権　者　数",null,null,{"$f":"IF(P_14号様式!BS2=\"\",\"\",\"当日投票者\")","v":""},null,"(ｈ)",null,null,null,null,"投\n票\n率\n順\n位","投票\n結了\n時刻","前回選挙の投票率"]
[null,null,null,null,null,{"$f":"IF(P_14号様式!BS2=\"\",\"投 票 者 数\",\"当 日 投 票 者 数\")","v":"投 票 者 数"},null,null,null,null,null,"投 票 率 =",null,{"$f":"IF(P_14号様式!BS2=\"\",\"(ｆ)\",\"(ｱ)\")","v":"(ｆ)"},"(",{"$f":"IF(P_14号様式!BS2=\"\",\"(ｆ)\",\"(ｱ)\")","v":"(ｆ)"},")"]
[null,null,null,null,null,null,null,null,null,null,null,null,null,"(ｅ')",null,"(ｅ )"]
[null,null,"男","女","計","男","女","計","男","女","計","男","女",null,null,"計",null,null,null,null,"男","女","計"]
[{"$f":"IF(P_14号様式!C2=\"\",\"\",P_14号様式!C2)","v":"　 鹿児島市１区"},null,{"$f":"IF(P_14号様式!D2=\"\",\"\",P_14号様式!D2)","v":162309},{"$f":"IF(P_14号様式!E2=\"\",\"\",P_14号様式!E2)","v":197229},{"$f":"IF(P_14号様式!F2=\"\",\"\",P_14号様式!F2)","v":359538},{"$f":"IF(P_14号様式!G2=\"\",\"\",P_14号様式!G2)","v":82261},{"$f":"IF(P_14号様式!H2=\"\",\"\",P_14号様式!H2)","v":97275},{"$f":"IF(P_14号様式!I2=\"\",\"\",P_14号様式!I2)","v":179536},{"$f":"IF(P_14号様式!J2=\"\",\"\",P_14号様式!J2)","v":80048},{"$f":"IF(P_14号様式!K2=\"\",\"\",P_14号様式!K2)","v":99954},{"$f":"IF(P_14号様式!L2=\"\",\"\",P_14号様式!L2)","v":180002},{"$f":"IF(P_14号様式!M2=\"\",\"\",P_14号様式!M2)","v":50.681724365253899},{"$f":"IF(P_14号様式!N2=\"\",\"\",P_14号様式!N2)","v":49.320840241546598},null,null,{"$f":"IF(P_14号様式!O2=\"\",\"\",P_14号様式!O2)","v":49.9351946108617},null,null,{"$f":"IF(P_14号様式!P2=\"\",\"\",P_14号様式!P2)","v":45},{"$f":"IF(P_14号様式!Q2=\"\",\"\",P_14号様式!Q2)","v":"22:05:00"},{"$f":"IF(P_14号様式!R2=\"\",\"\",P_14号様式!R2)","v":46.695919097568797},{"$f":"IF(P_14号様式!S2=\"\",\"\",P_14号様式!S2)","v":44.061628548306501},{"$f":"IF(P_14号様式!T2=\"\",\"\",P_14号様式!T2)","v":45.249416932726497}]
[{"$f":"IF(P_14号様式!C3=\"\",\"\",P_14号様式!C3)","v":"　 鹿児島市２区"},null,{"$f":"IF(P_14号様式!D3=\"\",\"\",P_14号様式!D3)","v":65734},{"$f":"IF(P_14号様式!E3=\"\",\"\",P_14号様式!E3)","v":75174},{"$f":"IF(P_14号様式!F3=\"\",\"\",P_14号様式!F3)","v":140908},{"$f":"IF(P_14号様式!G3=\"\",\"\",P_14号様式!G3)","v":30150},{"$f":"IF(P_14号様式!H3=\"\",\"\",P_14号様式!H3)","v":33404},{"$f":"IF(P_14号様式!I3=\"\",\"\",P_14号様式!I3)","v":63554},{"$f":"IF(P_14号様式!J3=\"\",\"\",P_14号様式!J3)","v":35584},{"$f":"IF(P_14号様式!K3=\"\",\"\",P_14号様式!K3)","v":41770},{"$f":"IF(P_14号様式!L3=\"\",\"\",P_14号様式!L3)","v":77354},{"$f":"IF(P_14号様式!M3=\"\",\"\",P_14号様式!M3)","v":45.866674780174598},{"$f":"IF(P_14号様式!N3=\"\",\"\",P_14号様式!N3)","v":44.435576130045},null,null,{"$f":"IF(P_14号様式!O3=\"\",\"\",P_14号様式!O3)","v":45.103187895648198},null,null,{"$f":"IF(P_14号様式!P3=\"\",\"\",P_14号様式!P3)","v":46},{"$f":"IF(P_14号様式!Q3=\"\",\"\",P_14号様式!Q3)","v":"22:26:00"},{"$f":"IF(P_14号様式!R3=\"\",\"\",P_14号様式!R3)","v":38.689091480666498},{"$f":"IF(P_14号様式!S3=\"\",\"\",P_14号様式!S3)","v":36.672034060205803},{"$f":"IF(P_14号様式!T3=\"\",\"\",P_14号様式!T3)","v":37.609384815415403}]
[{"$f":"IF(P_14号様式!C4=\"\",\"\",P_14号様式!C4)","v":"＊（鹿児島市）計"},null,{"$f":"IF(P_14号様式!D4=\"\",\"\",P_14号様式!D4)","v":228043},{"$f":"IF(P_14号様式!E4=\"\",\"\",P_14号様式!E4)","v":272403},{"$f":"IF(P_14号様式!F4=\"\",\"\",P_14号様式!F4)","v":500446},{"$f":"IF(P_14号様式!G4=\"\",\"\",P_14号様式!G4)","v":112411},{"$f":"IF(P_14号様式!H4=\"\",\"\",P_14号様式!H4)","v":130679},{"$f":"IF(P_14号様式!I4=\"\",\"\",P_14号様式!I4)","v":243090},{"$f":"IF(P_14号様式!J4=\"\",\"\",P_14号様式!J4)","v":115632},{"$f":"IF(P_14号様式!K4=\"\",\"\",P_14号様式!K4)","v":141724},{"$f":"IF(P_14号様式!L4=\"\",\"\",P_14号様式!L4)","v":257356},{"$f":"IF(P_14号様式!M4=\"\",\"\",P_14号様式!M4)","v":49.293773542709097},{"$f":"IF(P_14号様式!N4=\"\",\"\",P_14号様式!N4)","v":47.972672841341698},null,null,{"$f":"IF(P_14号様式!O4=\"\",\"\",P_14号様式!O4)","v":48.574671393117299},null,null,{"$f":"IF(P_14号様式!P4=\"\",\"\",P_14号様式!P4)","v":""},{"$f":"IF(P_14号様式!Q4=\"\",\"\",P_14号様式!Q4)","v":"22:26:00"},{"$f":"IF(P_14号様式!R4=\"\",\"\",P_14号様式!R4)","v":44.410850383316202},{"$f":"IF(P_14号様式!S4=\"\",\"\",P_14号様式!S4)","v":42.035595230523498},{"$f":"IF(P_14号様式!T4=\"\",\"\",P_14号様式!T4)","v":43.115751337192897}]
[{"$f":"IF(P_14号様式!C5=\"\",\"\",P_14号様式!C5)","v":"　 鹿屋市"},null,{"$f":"IF(P_14号様式!D5=\"\",\"\",P_14号様式!D5)","v":39844},{"$f":"IF(P_14号様式!E5=\"\",\"\",P_14号様式!E5)","v":44808},{"$f":"IF(P_14号様式!F5=\"\",\"\",P_14号様式!F5)","v":84652},{"$f":"IF(P_14号様式!G5=\"\",\"\",P_14号様式!G5)","v":20654},{"$f":"IF(P_14号様式!H5=\"\",\"\",P_14号様式!H5)","v":22765},{"$f":"IF(P_14号様式!I5=\"\",\"\",P_14号様式!I5)","v":43419},{"$f":"IF(P_14号様式!J5=\"\",\"\",P_14号様式!J5)","v":19190},{"$f":"IF(P_14号様式!K5=\"\",\"\",P_14号様式!K5)","v":22043},{"$f":"IF(P_14号様式!L5=\"\",\"\",P_14号様式!L5)","v":41233},{"$f":"IF(P_14号様式!M5=\"\",\"\",P_14号様式!M5)","v":51.8371649432788},{"$f":"IF(P_14号様式!N5=\"\",\"\",P_14号様式!N5)","v":50.8056597036244},null,null,{"$f":"IF(P_14号様式!O5=\"\",\"\",P_14号様式!O5)","v":51.291168548882503},null,null,{"$f":"IF(P_14号様式!P5=\"\",\"\",P_14号様式!P5)","v":44},{"$f":"IF(P_14号様式!Q5=\"\",\"\",P_14号様式!Q5)","v":"21:27:00"},{"$f":"IF(P_14号様式!R5=\"\",\"\",P_14号様式!R5)","v":45.172554417087198},{"$f":"IF(P_14号様式!S5=\"\",\"\",P_14号様式!S5)","v":42.8401703653889},{"$f":"IF(P_14号様式!T5=\"\",\"\",P_14号様式!T5)","v":43.931587233433497}]
[{"$f":"IF(P_14号様式!C6=\"\",\"\",P_14号様式!C6)","v":"　 枕崎市"},null,{"$f":"IF(P_14号様式!D6=\"\",\"\",P_14号様式!D6)","v":8466},{"$f":"IF(P_14号様式!E6=\"\",\"\",P_14号様式!E6)","v":10135},{"$f":"IF(P_14号様式!F6=\"\",\"\",P_14号様式!F6)","v":18601},{"$f":"IF(P_14号様式!G6=\"\",\"\",P_14号様式!G6)","v":4493},{"$f":"IF(P_14号様式!H6=\"\",\"\",P_14号様式!H6)","v":5431},{"$f":"IF(P_14号様式!I6=\"\",\"\",P_14号様式!I6)","v":9924},{"$f":"IF(P_14号様式!J6=\"\",\"\",P_14号様式!J6)","v":3973},{"$f":"IF(P_14号様式!K6=\"\",\"\",P_14号様式!K6)","v":4704},{"$f":"IF(P_14号様式!L6=\"\",\"\",P_14号様式!L6)","v":8677},{"$f":"IF(P_14号様式!M6=\"\",\"\",P_14号様式!M6)","v":53.0711079612568},{"$f":"IF(P_14号様式!N6=\"\",\"\",P_14号様式!N6)","v":53.586581154415398},null,null,{"$f":"IF(P_14号様式!O6=\"\",\"\",P_14号様式!O6)","v":53.351970324176101},null,null,{"$f":"IF(P_14号様式!P6=\"\",\"\",P_14号様式!P6)","v":41},{"$f":"IF(P_14号様式!Q6=\"\",\"\",P_14号様式!Q6)","v":"20:18:00"},{"$f":"IF(P_14号様式!R6=\"\",\"\",P_14号様式!R6)","v":52.725379007059402},{"$f":"IF(P_14号様式!S6=\"\",\"\",P_14号様式!S6)","v":52.972409215890799},{"$f":"IF(P_14号様式!T6=\"\",\"\",P_14号様式!T6)","v":52.861163227016903}]
[{"$f":"IF(P_14号様式!C7=\"\",\"\",P_14号様式!C7)","v":"　 阿久根市"},null,{"$f":"IF(P_14号様式!D7=\"\",\"\",P_14号様式!D7)","v":8469},{"$f":"IF(P_14号様式!E7=\"\",\"\",P_14号様式!E7)","v":9784},{"$f":"IF(P_14号様式!F7=\"\",\"\",P_14号様式!F7)","v":18253},{"$f":"IF(P_14号様式!G7=\"\",\"\",P_14号様式!G7)","v":5455},{"$f":"IF(P_14号様式!H7=\"\",\"\",P_14号様式!H7)","v":6037},{"$f":"IF(P_14号様式!I7=\"\",\"\",P_14号様式!I7)","v":11492},{"$f":"IF(P_14号様式!J7=\"\",\"\",P_14号様式!J7)","v":3014},{"$f":"IF(P_14号様式!K7=\"\",\"\",P_14号様式!K7)","v":3747},{"$f":"IF(P_14号様式!L7=\"\",\"\",P_14号様式!L7)","v":6761},{"$f":"IF(P_14号様式!M7=\"\",\"\",P_14号様式!M7)","v":64.411382689809898},{"$f":"IF(P_14号様式!N7=\"\",\"\",P_14号様式!N7)","v":61.702780049059697},null,null,{"$f":"IF(P_14号様式!O7=\"\",\"\",P_14号様式!O7)","v":62.959513504629399},null,null,{"$f":"IF(P_14号様式!P7=\"\",\"\",P_14号様式!P7)","v":23},{"$f":"IF(P_14号様式!Q7=\"\",\"\",P_14号様式!Q7)","v":"20:40:00"},{"$f":"IF(P_14号様式!R7=\"\",\"\",P_14号様式!R7)","v":54.394026421596799},{"$f":"IF(P_14号様式!S7=\"\",\"\",P_14号様式!S7)","v":51.075110456553801},{"$f":"IF(P_14号様式!T7=\"\",\"\",P_14号様式!T7)","v":52.604552673372197}]
[{"$f":"IF(P_14号様式!C8=\"\",\"\",P_14号様式!C8)","v":"　 出水市"},null,{"$f":"IF(P_14号様式!D8=\"\",\"\",P_14号様式!D8)","v":20613},{"$f":"IF(P_14号様式!E8=\"\",\"\",P_14号様式!E8)","v":23886},{"$f":"IF(P_14号様式!F8=\"\",\"\",P_14号様式!F8)","v":44499},{"$f":"IF(P_14号様式!G8=\"\",\"\",P_14号様式!G8)","v":12155},{"$f":"IF(P_14号様式!H8=\"\",\"\",P_14号様式!H8)","v":13883},{"$f":"IF(P_14号様式!I8=\"\",\"\",P_14号様式!I8)","v":26038},{"$f":"IF(P_14号様式!J8=\"\",\"\",P_14号様式!J8)","v":8458},{"$f":"IF(P_14号様式!K8=\"\",\"\",P_14号様式!K8)","v":10003},{"$f":"IF(P_14号様式!L8=\"\",\"\",P_14号様式!L8)","v":18461},{"$f":"IF(P_14号様式!M8=\"\",\"\",P_14号様式!M8)","v":58.967641779459598},{"$f":"IF(P_14号様式!N8=\"\",\"\",P_14号様式!N8)","v":58.121912417315599},null,null,{"$f":"IF(P_14号様式!O8=\"\",\"\",P_14号様式!O8)","v":58.5136744645947},null,null,{"$f":"IF(P_14号様式!P8=\"\",\"\",P_14号様式!P8)","v":32},{"$f":"IF(P_14号様式!Q8=\"\",\"\",P_14号様式!Q8)","v":"21:29:00"},{"$f":"IF(P_14号様式!R8=\"\",\"\",P_14号様式!R8)","v":50.070631789176304},{"$f":"IF(P_14号様式!S8=\"\",\"\",P_14号様式!S8)","v":47.923015906149502},{"$f":"IF(P_14号様式!T8=\"\",\"\",P_14号様式!T8)","v":48.914167528438497}]
[{"$f":"IF(P_14号様式!C9=\"\",\"\",P_14号様式!C9)","v":"　 指宿市"},null,{"$f":"IF(P_14号様式!D9=\"\",\"\",P_14号様式!D9)","v":16102},{"$f":"IF(P_14号様式!E9=\"\",\"\",P_14号様式!E9)","v":19215},{"$f":"IF(P_14号様式!F9=\"\",\"\",P_14号様式!F9)","v":35317},{"$f":"IF(P_14号様式!G9=\"\",\"\",P_14号様式!G9)","v":8780},{"$f":"IF(P_14号様式!H9=\"\",\"\",P_14号様式!H9)","v":10024},{"$f":"IF(P_14号様式!I9=\"\",\"\",P_14号様式!I9)","v":18804},{"$f":"IF(P_14号様式!J9=\"\",\"\",P_14号様式!J9)","v":7322},{"$f":"IF(P_14号様式!K9=\"\",\"\",P_14号様式!K9)","v":9191},{"$f":"IF(P_14号様式!L9=\"\",\"\",P_14号様式!L9)","v":16513},{"$f":"IF(P_14号様式!M9=\"\",\"\",P_14号様式!M9)","v":54.527387902123998},{"$f":"IF(P_14号様式!N9=\"\",\"\",P_14号様式!N9)","v":52.167577413479101},null,null,{"$f":"IF(P_14号様式!O9=\"\",\"\",P_14号様式!O9)","v":53.243480476824203},null,null,{"$f":"IF(P_14号様式!P9=\"\",\"\",P_14号様式!P9)","v":42},{"$f":"IF(P_14号様式!Q9=\"\",\"\",P_14号様式!Q9)","v":"19:25:00"},{"$f":"IF(P_14号様式!R9=\"\",\"\",P_14号様式!R9)","v":43.695068359375},{"$f":"IF(P_14号様式!S9=\"\",\"\",P_14号様式!S9)","v":41.3097345132743},{"$f":"IF(P_14号様式!T9=\"\",\"\",P_14号様式!T9)","v":42.390552836085099}]
[{"$f":"IF(P_14号様式!C10=\"\",\"\",P_14号様式!C10)","v":"　 西之表市"},null,{"$f":"IF(P_14号様式!D10=\"\",\"\",P_14号様式!D10)","v":6205},{"$f":"IF(P_14号様式!E10=\"\",\"\",P_14号様式!E10)","v":7006},{"$f":"IF(P_14号様式!F10=\"\",\"\",P_14号様式!F10)","v":13211},{"$f":"IF(P_14号様式!G10=\"\",\"\",P_14号様式!G10)","v":3478},{"$f":"IF(P_14号様式!H10=\"\",\"\",P_14号様式!H10)","v":3628},{"$f":"IF(P_14号様式!I10=\"\",\"\",P_14号様式!I10)","v":7106},{"$f":"IF(P_14号様式!J10=\"\",\"\",P_14号様式!J10)","v":2727},{"$f":"IF(P_14号様式!K10=\"\",\"\",P_14号様式!K10)","v":3378},{"$f":"IF(P_14号様式!L10=\"\",\"\",P_14号様式!L10)","v":6105},{"$f":"IF(P_14号様式!M10=\"\",\"\",P_14号様式!M10)","v":56.051571313456897},{"$f":"IF(P_14号様式!N10=\"\",\"\",P_14号様式!N10)","v":51.784184984299202},null,null,{"$f":"IF(P_14号様式!O10=\"\",\"\",P_14号様式!O10)","v":53.788509575353899},null,null,{"$f":"IF(P_14号様式!P10=\"\",\"\",P_14号様式!P10)","v":40},{"$f":"IF(P_14号様式!Q10=\"\",\"\",P_14号様式!Q10)","v":"20:00:00"},{"$f":"IF(P_14号様式!R10=\"\",\"\",P_14号様式!R10)","v":56.971229845083798},{"$f":"IF(P_14号様式!S10=\"\",\"\",P_14号様式!S10)","v":52.906336088154298},{"$f":"IF(P_14号様式!T10=\"\",\"\",P_14号様式!T10)","v":54.799057853672899}]
[{"$f":"IF(P_14号様式!C11=\"\",\"\",P_14号様式!C11)","v":"　 垂水市"},null,{"$f":"IF(P_14号様式!D11=\"\",\"\",P_14号様式!D11)","v":6210},{"$f":"IF(P_14号様式!E11=\"\",\"\",P_14号様式!E11)","v":7195},{"$f":"IF(P_14号様式!F11=\"\",\"\",P_14号様式!F11)","v":13405},{"$f":"IF(P_14号様式!G11=\"\",\"\",P_14号様式!G11)","v":3741},{"$f":"IF(P_14号様式!H11=\"\",\"\",P_14号様式!H11)","v":4306},{"$f":"IF(P_14号様式!I11=\"\",\"\",P_14号様式!I11)","v":8047},{"$f":"IF(P_14号様式!J11=\"\",\"\",P_14号様式!J11)","v":2469},{"$f":"IF(P_14号様式!K11=\"\",\"\",P_14号様式!K11)","v":2889},{"$f":"IF(P_14号様式!L11=\"\",\"\",P_14号様式!L11)","v":5358},{"$f":"IF(P_14号様式!M11=\"\",\"\",P_14号様式!M11)","v":60.241545893719803},{"$f":"IF(P_14号様式!N11=\"\",\"\",P_14号様式!N11)","v":59.847116052814499},null,null,{"$f":"IF(P_14号様式!O11=\"\",\"\",P_14号様式!O11)","v":60.029839612084999},null,null,{"$f":"IF(P_14号様式!P11=\"\",\"\",P_14号様式!P11)","v":30},{"$f":"IF(P_14号様式!Q11=\"\",\"\",P_14号様式!Q11)","v":"20:35:00"},{"$f":"IF(P_14号様式!R11=\"\",\"\",P_14号様式!R11)","v":51.663073606405902},{"$f":"IF(P_14号様式!S11=\"\",\"\",P_14号様式!S11)","v":50.51261829653},{"$f":"IF(P_14号様式!T11=\"\",\"\",P_14号様式!T11)","v":51.042405332576898}]
[{"$f":"IF(P_14号様式!C12=\"\",\"\",P_14号様式!C12)","v":"　 薩摩川内市第１"},null,{"$f":"IF(P_14号様式!D12=\"\",\"\",P_14号様式!D12)","v":35532},{"$f":"IF(P_14号様式!E12=\"\",\"\",P_14号様式!E12)","v":39797},{"$f":"IF(P_14号様式!F12=\"\",\"\",P_14号様式!F12)","v":75329},{"$f":"IF(P_14号様式!G12=\"\",\"\",P_14号様式!G12)","v":21943},{"$f":"IF(P_14号様式!H12=\"\",\"\",P_14号様式!H12)","v":24452},{"$f":"IF(P_14号様式!I12=\"\",\"\",P_14号様式!I12)","v":46395},{"$f":"IF(P_14号様式!J12=\"\",\"\",P_14号様式!J12)","v":13589},{"$f":"IF(P_14号様式!K12=\"\",\"\",P_14号様式!K12)","v":15345},{"$f":"IF(P_14号様式!L12=\"\",\"\",P_14号様式!L12)","v":28934},{"$f":"IF(P_14号様式!M12=\"\",\"\",P_14号様式!M12)","v":61.755600585387803},{"$f":"IF(P_14号様式!N12=\"\",\"\",P_14号様式!N12)","v":61.441817222403699},null,null,{"$f":"IF(P_14号様式!O12=\"\",\"\",P_14号様式!O12)","v":61.589825963440397},null,null,{"$f":"IF(P_14号様式!P12=\"\",\"\",P_14号様式!P12)","v":28},{"$f":"IF(P_14号様式!Q12=\"\",\"\",P_14号様式!Q12)","v":"21:37:00"},{"$f":"IF(P_14号様式!R12=\"\",\"\",P_14号様式!R12)","v":57.474646479074401},{"$f":"IF(P_14号様式!S12=\"\",\"\",P_14号様式!S12)","v":55.379405493540702},{"$f":"IF(P_14号様式!T12=\"\",\"\",P_14号様式!T12)","v":56.359022305329198}]
[{"$f":"IF(P_14号様式!C13=\"\",\"\",P_14号様式!C13)","v":"　 薩摩川内市第２"},null,{"$f":"IF(P_14号様式!D13=\"\",\"\",P_14号様式!D13)","v":1039},{"$f":"IF(P_14号様式!E13=\"\",\"\",P_14号様式!E13)","v":1094},{"$f":"IF(P_14号様式!F13=\"\",\"\",P_14号様式!F13)","v":2133},{"$f":"IF(P_14号様式!G13=\"\",\"\",P_14号様式!G13)","v":768},{"$f":"IF(P_14号様式!H13=\"\",\"\",P_14号様式!H13)","v":784},{"$f":"IF(P_14号様式!I13=\"\",\"\",P_14号様式!I13)","v":1552},{"$f":"IF(P_14号様式!J13=\"\",\"\",P_14号様式!J13)","v":271},{"$f":"IF(P_14号様式!K13=\"\",\"\",P_14号様式!K13)","v":310},{"$f":"IF(P_14号様式!L13=\"\",\"\",P_14号様式!L13)","v":581},{"$f":"IF(P_14号様式!M13=\"\",\"\",P_14号様式!M13)","v":73.917228103946101},{"$f":"IF(P_14号様式!N13=\"\",\"\",P_14号様式!N13)","v":71.663619744058494},null,null,{"$f":"IF(P_14号様式!O13=\"\",\"\",P_14号様式!O13)","v":72.761368963900594},null,null,{"$f":"IF(P_14号様式!P13=\"\",\"\",P_14号様式!P13)","v":11},{"$f":"IF(P_14号様式!Q13=\"\",\"\",P_14号様式!Q13)","v":"19:56:00"},{"$f":"IF(P_14号様式!R13=\"\",\"\",P_14号様式!R13)","v":72.571942446043195},{"$f":"IF(P_14号様式!S13=\"\",\"\",P_14号様式!S13)","v":69.529314616019803},{"$f":"IF(P_14号様式!T13=\"\",\"\",P_14号様式!T13)","v":70.985794231597097}]
[{"$f":"IF(P_14号様式!C14=\"\",\"\",P_14号様式!C14)","v":"　 薩摩川内市第３"},null,{"$f":"IF(P_14号様式!D14=\"\",\"\",P_14号様式!D14)","v":1009},{"$f":"IF(P_14号様式!E14=\"\",\"\",P_14号様式!E14)","v":984},{"$f":"IF(P_14号様式!F14=\"\",\"\",P_14号様式!F14)","v":1993},{"$f":"IF(P_14号様式!G14=\"\",\"\",P_14号様式!G14)","v":742},{"$f":"IF(P_14号様式!H14=\"\",\"\",P_14号様式!H14)","v":663},{"$f":"IF(P_14号様式!I14=\"\",\"\",P_14号様式!I14)","v":1405},{"$f":"IF(P_14号様式!J14=\"\",\"\",P_14号様式!J14)","v":267},{"$f":"IF(P_14号様式!K14=\"\",\"\",P_14号様式!K14)","v":321},{"$f":"IF(P_14号様式!L14=\"\",\"\",P_14号様式!L14)","v":588},{"$f":"IF(P_14号様式!M14=\"\",\"\",P_14号様式!M14)","v":73.538156590683798},{"$f":"IF(P_14号様式!N14=\"\",\"\",P_14号様式!N14)","v":67.378048780487802},null,null,{"$f":"IF(P_14号様式!O14=\"\",\"\",P_14号様式!O14)","v":70.496738585047694},null,null,{"$f":"IF(P_14号様式!P14=\"\",\"\",P_14号様式!P14)","v":15},{"$f":"IF(P_14号様式!Q14=\"\",\"\",P_14号様式!Q14)","v":"19:00:00"},{"$f":"IF(P_14号様式!R14=\"\",\"\",P_14号様式!R14)","v":68.071161048689106},{"$f":"IF(P_14号様式!S14=\"\",\"\",P_14号様式!S14)","v":65.059144676979102},{"$f":"IF(P_14号様式!T14=\"\",\"\",P_14号様式!T14)","v":66.543608675588402}]
[{"$f":"IF(P_14号様式!C15=\"\",\"\",P_14号様式!C15)","v":"＊（薩摩川内市）計"},null,{"$f":"IF(P_14号様式!D15=\"\",\"\",P_14号様式!D15)","v":37580},{"$f":"IF(P_14号様式!E15=\"\",\"\",P_14号様式!E15)","v":41875},{"$f":"IF(P_14号様式!F15=\"\",\"\",P_14号様式!F15)","v":79455},{"$f":"IF(P_14号様式!G15=\"\",\"\",P_14号様式!G15)","v":23453},{"$f":"IF(P_14号様式!H15=\"\",\"\",P_14号様式!H15)","v":25899},{"$f":"IF(P_14号様式!I15=\"\",\"\",P_14号様式!I15)","v":49352},{"$f":"IF(P_14号様式!J15=\"\",\"\",P_14号様式!J15)","v":14127},{"$f":"IF(P_14号様式!K15=\"\",\"\",P_14号様式!K15)","v":15976},{"$f":"IF(P_14号様式!L15=\"\",\"\",P_14号様式!L15)","v":30103},{"$f":"IF(P_14号様式!M15=\"\",\"\",P_14号様式!M15)","v":62.408195848855797},{"$f":"IF(P_14号様式!N15=\"\",\"\",P_14号様式!N15)","v":61.848358208955197},null,null,{"$f":"IF(P_14号様式!O15=\"\",\"\",P_14号様式!O15)","v":62.113145805801999},null,null,{"$f":"IF(P_14号様式!P15=\"\",\"\",P_14号様式!P15)","v":""},{"$f":"IF(P_14号様式!Q15=\"\",\"\",P_14号様式!Q15)","v":"21:37:00"},{"$f":"IF(P_14号様式!R15=\"\",\"\",P_14号様式!R15)","v":58.230469275245397},{"$f":"IF(P_14号様式!S15=\"\",\"\",P_14号様式!S15)","v":56.0379371665679},{"$f":"IF(P_14号様式!T15=\"\",\"\",P_14号様式!T15)","v":57.065272177419402}]
[{"$f":"IF(P_14号様式!C16=\"\",\"\",P_14号様式!C16)","v":"　 日置市"},null,{"$f":"IF(P_14号様式!D16=\"\",\"\",P_14号様式!D16)","v":19073},{"$f":"IF(P_14号様式!E16=\"\",\"\",P_14号様式!E16)","v":22125},{"$f":"IF(P_14号様式!F16=\"\",\"\",P_14号様式!F16)","v":41198},{"$f":"IF(P_14号様式!G16=\"\",\"\",P_14号様式!G16)","v":11854},{"$f":"IF(P_14号様式!H16=\"\",\"\",P_14号様式!H16)","v":13536},{"$f":"IF(P_14号様式!I16=\"\",\"\",P_14号様式!I16)","v":25390},{"$f":"IF(P_14号様式!J16=\"\",\"\",P_14号様式!J16)","v":7219},{"$f":"IF(P_14号様式!K16=\"\",\"\",P_14号様式!K16)","v":8589},{"$f":"IF(P_14号様式!L16=\"\",\"\",P_14号様式!L16)","v":15808},{"$f":"IF(P_14号様式!M16=\"\",\"\",P_14号様式!M16)","v":62.1506842132858},{"$f":"IF(P_14号様式!N16=\"\",\"\",P_14号様式!N16)","v":61.179661016949098},null,null,{"$f":"IF(P_14号様式!O16=\"\",\"\",P_14号様式!O16)","v":61.629205301228197},null,null,{"$f":"IF(P_14号様式!P16=\"\",\"\",P_14号様式!P16)","v":27},{"$f":"IF(P_14号様式!Q16=\"\",\"\",P_14号様式!Q16)","v":"19:53:00"},{"$f":"IF(P_14号様式!R16=\"\",\"\",P_14号様式!R16)","v":56.985391065872101},{"$f":"IF(P_14号様式!S16=\"\",\"\",P_14号様式!S16)","v":54.840735755944401},{"$f":"IF(P_14号様式!T16=\"\",\"\",P_14号様式!T16)","v":55.826525417565598}]
[{"$f":"IF(P_14号様式!C17=\"\",\"\",P_14号様式!C17)","v":"　 曽於市"},null,{"$f":"IF(P_14号様式!D17=\"\",\"\",P_14号様式!D17)","v":14808},{"$f":"IF(P_14号様式!E17=\"\",\"\",P_14号様式!E17)","v":17210},{"$f":"IF(P_14号様式!F17=\"\",\"\",P_14号様式!F17)","v":32018},{"$f":"IF(P_14号様式!G17=\"\",\"\",P_14号様式!G17)","v":8527},{"$f":"IF(P_14号様式!H17=\"\",\"\",P_14号様式!H17)","v":9395},{"$f":"IF(P_14号様式!I17=\"\",\"\",P_14号様式!I17)","v":17922},{"$f":"IF(P_14号様式!J17=\"\",\"\",P_14号様式!J17)","v":6281},{"$f":"IF(P_14号様式!K17=\"\",\"\",P_14号様式!K17)","v":7815},{"$f":"IF(P_14号様式!L17=\"\",\"\",P_14号様式!L17)","v":14096},{"$f":"IF(P_14号様式!M17=\"\",\"\",P_14号様式!M17)","v":57.583738519719098},{"$f":"IF(P_14号様式!N17=\"\",\"\",P_14号様式!N17)","v":54.590354445090099},null,null,{"$f":"IF(P_14号様式!O17=\"\",\"\",P_14号様式!O17)","v":55.974764195140203},null,null,{"$f":"IF(P_14号様式!P17=\"\",\"\",P_14号様式!P17)","v":39},{"$f":"IF(P_14号様式!Q17=\"\",\"\",P_14号様式!Q17)","v":"21:13:00"},{"$f":"IF(P_14号様式!R17=\"\",\"\",P_14号様式!R17)","v":51.509199240489799},{"$f":"IF(P_14号様式!S17=\"\",\"\",P_14号様式!S17)","v":48.034342521464097},{"$f":"IF(P_14号様式!T17=\"\",\"\",P_14号様式!T17)","v":49.643691057403601}]
[{"$f":"IF(P_14号様式!C18=\"\",\"\",P_14号様式!C18)","v":"　 霧島市"},null,{"$f":"IF(P_14号様式!D18=\"\",\"\",P_14号様式!D18)","v":48769},{"$f":"IF(P_14号様式!E18=\"\",\"\",P_14号様式!E18)","v":54458},{"$f":"IF(P_14号様式!F18=\"\",\"\",P_14号様式!F18)","v":103227},{"$f":"IF(P_14号様式!G18=\"\",\"\",P_14号様式!G18)","v":25664},{"$f":"IF(P_14号様式!H18=\"\",\"\",P_14号様式!H18)","v":28089},{"$f":"IF(P_14号様式!I18=\"\",\"\",P_14号様式!I18)","v":53753},{"$f":"IF(P_14号様式!J18=\"\",\"\",P_14号様式!J18)","v":23105},{"$f":"IF(P_14号様式!K18=\"\",\"\",P_14号様式!K18)","v":26369},{"$f":"IF(P_14号様式!L18=\"\",\"\",P_14号様式!L18)","v":49474},{"$f":"IF(P_14号様式!M18=\"\",\"\",P_14号様式!M18)","v":52.623592856117597},{"$f":"IF(P_14号様式!N18=\"\",\"\",P_14号様式!N18)","v":51.579198648499798},null,null,{"$f":"IF(P_14号様式!O18=\"\",\"\",P_14号様式!O18)","v":52.072616660369903},null,null,{"$f":"IF(P_14号様式!P18=\"\",\"\",P_14号様式!P18)","v":43},{"$f":"IF(P_14号様式!Q18=\"\",\"\",P_14号様式!Q18)","v":"21:16:00"},{"$f":"IF(P_14号様式!R18=\"\",\"\",P_14号様式!R18)","v":48.046431425327},{"$f":"IF(P_14号様式!S18=\"\",\"\",P_14号様式!S18)","v":46.281361172679702},{"$f":"IF(P_14号様式!T18=\"\",\"\",P_14号様式!T18)","v":47.110417510346402}]
[{"$f":"IF(P_14号様式!C19=\"\",\"\",P_14号様式!C19)","v":"　 いちき串木野市"},null,{"$f":"IF(P_14号様式!D19=\"\",\"\",P_14号様式!D19)","v":11214},{"$f":"IF(P_14号様式!E19=\"\",\"\",P_14号様式!E19)","v":12991},{"$f":"IF(P_14号様式!F19=\"\",\"\",P_14号様式!F19)","v":24205},{"$f":"IF(P_14号様式!G19=\"\",\"\",P_14号様式!G19)","v":8282},{"$f":"IF(P_14号様式!H19=\"\",\"\",P_14号様式!H19)","v":10011},{"$f":"IF(P_14号様式!I19=\"\",\"\",P_14号様式!I19)","v":18293},{"$f":"IF(P_14号様式!J19=\"\",\"\",P_14号様式!J19)","v":2932},{"$f":"IF(P_14号様式!K19=\"\",\"\",P_14号様式!K19)","v":2980},{"$f":"IF(P_14号様式!L19=\"\",\"\",P_14号様式!L19)","v":5912},{"$f":"IF(P_14号様式!M19=\"\",\"\",P_14号様式!M19)","v":73.854110932762595},{"$f":"IF(P_14号様式!N19=\"\",\"\",P_14号様式!N19)","v":77.061042260026198},null,null,{"$f":"IF(P_14号様式!O19=\"\",\"\",P_14号様式!O19)","v":75.575294360669304},null,null,{"$f":"IF(P_14号様式!P19=\"\",\"\",P_14号様式!P19)","v":7},{"$f":"IF(P_14号様式!Q19=\"\",\"\",P_14号様式!Q19)","v":"19:48:00"},{"$f":"IF(P_14号様式!R19=\"\",\"\",P_14号様式!R19)","v":53.502573497339299},{"$f":"IF(P_14号様式!S19=\"\",\"\",P_14号様式!S19)","v":53.493957817308399},{"$f":"IF(P_14号様式!T19=\"\",\"\",P_14号様式!T19)","v":53.497942386831298}]
[{"$f":"IF(P_14号様式!C20=\"\",\"\",P_14号様式!C20)","v":"　 南さつま市"},null,{"$f":"IF(P_14号様式!D20=\"\",\"\",P_14号様式!D20)","v":13579},{"$f":"IF(P_14号様式!E20=\"\",\"\",P_14号様式!E20)","v":16320},{"$f":"IF(P_14号様式!F20=\"\",\"\",P_14号様式!F20)","v":29899},{"$f":"IF(P_14号様式!G20=\"\",\"\",P_14号様式!G20)","v":8243},{"$f":"IF(P_14号様式!H20=\"\",\"\",P_14号様式!H20)","v":9568},{"$f":"IF(P_14号様式!I20=\"\",\"\",P_14号様式!I20)","v":17811},{"$f":"IF(P_14号様式!J20=\"\",\"\",P_14号様式!J20)","v":5336},{"$f":"IF(P_14号様式!K20=\"\",\"\",P_14号様式!K20)","v":6752},{"$f":"IF(P_14号様式!L20=\"\",\"\",P_14号様式!L20)","v":12088},{"$f":"IF(P_14号様式!M20=\"\",\"\",P_14号様式!M20)","v":60.704028278960202},{"$f":"IF(P_14号様式!N20=\"\",\"\",P_14号様式!N20)","v":58.627450980392197},null,null,{"$f":"IF(P_14号様式!O20=\"\",\"\",P_14号様式!O20)","v":59.570554199137099},null,null,{"$f":"IF(P_14号様式!P20=\"\",\"\",P_14号様式!P20)","v":31},{"$f":"IF(P_14号様式!Q20=\"\",\"\",P_14号様式!Q20)","v":"20:18:00"},{"$f":"IF(P_14号様式!R20=\"\",\"\",P_14号様式!R20)","v":58.838311315336},{"$f":"IF(P_14号様式!S20=\"\",\"\",P_14号様式!S20)","v":56.121537086684498},{"$f":"IF(P_14号様式!T20=\"\",\"\",P_14号様式!T20)","v":57.353563637547602}]
[{"$f":"IF(P_14号様式!C21=\"\",\"\",P_14号様式!C21)","v":"　 志布志市"},null,{"$f":"IF(P_14号様式!D21=\"\",\"\",P_14号様式!D21)","v":12483},{"$f":"IF(P_14号様式!E21=\"\",\"\",P_14号様式!E21)","v":14095},{"$f":"IF(P_14号様式!F21=\"\",\"\",P_14号様式!F21)","v":26578},{"$f":"IF(P_14号様式!G21=\"\",\"\",P_14号様式!G21)","v":6967},{"$f":"IF(P_14号様式!H21=\"\",\"\",P_14号様式!H21)","v":7930},{"$f":"IF(P_14号様式!I21=\"\",\"\",P_14号様式!I21)","v":14897},{"$f":"IF(P_14号様式!J21=\"\",\"\",P_14号様式!J21)","v":5516},{"$f":"IF(P_14号様式!K21=\"\",\"\",P_14号様式!K21)","v":6165},{"$f":"IF(P_14号様式!L21=\"\",\"\",P_14号様式!L21)","v":11681},{"$f":"IF(P_14号様式!M21=\"\",\"\",P_14号様式!M21)","v":55.811904189697998},{"$f":"IF(P_14号様式!N21=\"\",\"\",P_14号様式!N21)","v":56.261085491308997},null,null,{"$f":"IF(P_14号様式!O21=\"\",\"\",P_14号様式!O21)","v":56.0501166378208},null,null,{"$f":"IF(P_14号様式!P21=\"\",\"\",P_14号様式!P21)","v":38},{"$f":"IF(P_14号様式!Q21=\"\",\"\",P_14号様式!Q21)","v":"20:53:00"},{"$f":"IF(P_14号様式!R21=\"\",\"\",P_14号様式!R21)","v":49.421214268840103},{"$f":"IF(P_14号様式!S21=\"\",\"\",P_14号様式!S21)","v":46.573533500139},{"$f":"IF(P_14号様式!T21=\"\",\"\",P_14号様式!T21)","v":47.908590836932802}]
[{"$f":"IF(P_14号様式!C22=\"\",\"\",P_14号様式!C22)","v":"　 奄美市"},null,{"$f":"IF(P_14号様式!D22=\"\",\"\",P_14号様式!D22)","v":16943},{"$f":"IF(P_14号様式!E22=\"\",\"\",P_14号様式!E22)","v":19242},{"$f":"IF(P_14号様式!F22=\"\",\"\",P_14号様式!F22)","v":36185},{"$f":"IF(P_14号様式!G22=\"\",\"\",P_14号様式!G22)","v":10497},{"$f":"IF(P_14号様式!H22=\"\",\"\",P_14号様式!H22)","v":12053},{"$f":"IF(P_14号様式!I22=\"\",\"\",P_14号様式!I22)","v":22550},{"$f":"IF(P_14号様式!J22=\"\",\"\",P_14号様式!J22)","v":6446},{"$f":"IF(P_14号様式!K22=\"\",\"\",P_14号様式!K22)","v":7189},{"$f":"IF(P_14号様式!L22=\"\",\"\",P_14号様式!L22)","v":13635},{"$f":"IF(P_14号様式!M22=\"\",\"\",P_14号様式!M22)","v":61.954789588620699},{"$f":"IF(P_14号様式!N22=\"\",\"\",P_14号様式!N22)","v":62.639018813013202},null,null,{"$f":"IF(P_14号様式!O22=\"\",\"\",P_14号様式!O22)","v":62.318640320574801},null,null,{"$f":"IF(P_14号様式!P22=\"\",\"\",P_14号様式!P22)","v":26},{"$f":"IF(P_14号様式!Q22=\"\",\"\",P_14号様式!Q22)","v":"20:10:00"},{"$f":"IF(P_14号様式!R22=\"\",\"\",P_14号様式!R22)","v":50.484695376299896},{"$f":"IF(P_14号様式!S22=\"\",\"\",P_14号様式!S22)","v":50.348825279573198},{"$f":"IF(P_14号様式!T22=\"\",\"\",P_14号様式!T22)","v":50.412159386553498}]
[{"$f":"IF(P_14号様式!C23=\"\",\"\",P_14号様式!C23)","v":"　 南九州市"},null,{"$f":"IF(P_14号様式!D23=\"\",\"\",P_14号様式!D23)","v":14237},{"$f":"IF(P_14号様式!E23=\"\",\"\",P_14号様式!E23)","v":16612},{"$f":"IF(P_14号様式!F23=\"\",\"\",P_14号様式!F23)","v":30849},{"$f":"IF(P_14号様式!G23=\"\",\"\",P_14号様式!G23)","v":8326},{"$f":"IF(P_14号様式!H23=\"\",\"\",P_14号様式!H23)","v":9134},{"$f":"IF(P_14号様式!I23=\"\",\"\",P_14号様式!I23)","v":17460},{"$f":"IF(P_14号様式!J23=\"\",\"\",P_14号様式!J23)","v":5911},{"$f":"IF(P_14号様式!K23=\"\",\"\",P_14号様式!K23)","v":7478},{"$f":"IF(P_14号様式!L23=\"\",\"\",P_14号様式!L23)","v":13389},{"$f":"IF(P_14号様式!M23=\"\",\"\",P_14号様式!M23)","v":58.481421647819097},{"$f":"IF(P_14号様式!N23=\"\",\"\",P_14号様式!N23)","v":54.9843486636167},null,null,{"$f":"IF(P_14号様式!O23=\"\",\"\",P_14号様式!O23)","v":56.598268987649497},null,null,{"$f":"IF(P_14号様式!P23=\"\",\"\",P_14号様式!P23)","v":36},{"$f":"IF(P_14号様式!Q23=\"\",\"\",P_14号様式!Q23)","v":"19:40:00"},{"$f":"IF(P_14号様式!R23=\"\",\"\",P_14号様式!R23)","v":54.291185119332603},{"$f":"IF(P_14号様式!S23=\"\",\"\",P_14号様式!S23)","v":51.087209302325597},{"$f":"IF(P_14号様式!T23=\"\",\"\",P_14号様式!T23)","v":52.559469566037102}]
[{"$f":"IF(P_14号様式!C24=\"\",\"\",P_14号様式!C24)","v":"　 伊佐市"},null,{"$f":"IF(P_14号様式!D24=\"\",\"\",P_14号様式!D24)","v":10515},{"$f":"IF(P_14号様式!E24=\"\",\"\",P_14号様式!E24)","v":12478},{"$f":"IF(P_14号様式!F24=\"\",\"\",P_14号様式!F24)","v":22993},{"$f":"IF(P_14号様式!G24=\"\",\"\",P_14号様式!G24)","v":6680},{"$f":"IF(P_14号様式!H24=\"\",\"\",P_14号様式!H24)","v":7753},{"$f":"IF(P_14号様式!I24=\"\",\"\",P_14号様式!I24)","v":14433},{"$f":"IF(P_14号様式!J24=\"\",\"\",P_14号様式!J24)","v":3835},{"$f":"IF(P_14号様式!K24=\"\",\"\",P_14号様式!K24)","v":4725},{"$f":"IF(P_14号様式!L24=\"\",\"\",P_14号様式!L24)","v":8560},{"$f":"IF(P_14号様式!M24=\"\",\"\",P_14号様式!M24)","v":63.528292914883501},{"$f":"IF(P_14号様式!N24=\"\",\"\",P_14号様式!N24)","v":62.133354704279498},null,null,{"$f":"IF(P_14号様式!O24=\"\",\"\",P_14号様式!O24)","v":62.771278215109},null,null,{"$f":"IF(P_14号様式!P24=\"\",\"\",P_14号様式!P24)","v":25},{"$f":"IF(P_14号様式!Q24=\"\",\"\",P_14号様式!Q24)","v":"20:44:00"},{"$f":"IF(P_14号様式!R24=\"\",\"\",P_14号様式!R24)","v":53.1189887331685},{"$f":"IF(P_14号様式!S24=\"\",\"\",P_14号様式!S24)","v":51.167598193093902},{"$f":"IF(P_14号様式!T24=\"\",\"\",P_14号様式!T24)","v":52.056051380432102}]
[{"$f":"IF(P_14号様式!C25=\"\",\"\",P_14号様式!C25)","v":"　 姶良市"},null,{"$f":"IF(P_14号様式!D25=\"\",\"\",P_14号様式!D25)","v":29010},{"$f":"IF(P_14号様式!E25=\"\",\"\",P_14号様式!E25)","v":34160},{"$f":"IF(P_14号様式!F25=\"\",\"\",P_14号様式!F25)","v":63170},{"$f":"IF(P_14号様式!G25=\"\",\"\",P_14号様式!G25)","v":16972},{"$f":"IF(P_14号様式!H25=\"\",\"\",P_14号様式!H25)","v":19617},{"$f":"IF(P_14号様式!I25=\"\",\"\",P_14号様式!I25)","v":36589},{"$f":"IF(P_14号様式!J25=\"\",\"\",P_14号様式!J25)","v":12038},{"$f":"IF(P_14号様式!K25=\"\",\"\",P_14号様式!K25)","v":14543},{"$f":"IF(P_14号様式!L25=\"\",\"\",P_14号様式!L25)","v":26581},{"$f":"IF(P_14号様式!M25=\"\",\"\",P_14号様式!M25)","v":58.503964150293001},{"$f":"IF(P_14号様式!N25=\"\",\"\",P_14号様式!N25)","v":57.426814988290403},null,null,{"$f":"IF(P_14号様式!O25=\"\",\"\",P_14号様式!O25)","v":57.921481716004401},null,null,{"$f":"IF(P_14号様式!P25=\"\",\"\",P_14号様式!P25)","v":33},{"$f":"IF(P_14号様式!Q25=\"\",\"\",P_14号様式!Q25)","v":"21:27:00"},{"$f":"IF(P_14号様式!R25=\"\",\"\",P_14号様式!R25)","v":50.014234875444799},{"$f":"IF(P_14号様式!S25=\"\",\"\",P_14号様式!S25)","v":47.797667236364703},{"$f":"IF(P_14号様式!T25=\"\",\"\",P_14号様式!T25)","v":48.811247986200399}]
[{"$f":"IF(P_14号様式!C26=\"\",\"\",P_14号様式!C26)","v":"　 三島村"},null,{"$f":"IF(P_14号様式!D26=\"\",\"\",P_14号様式!D26)","v":137},{"$f":"IF(P_14号様式!E26=\"\",\"\",P_14号様式!E26)","v":155},{"$f":"IF(P_14号様式!F26=\"\",\"\",P_14号様式!F26)","v":292},{"$f":"IF(P_14号様式!G26=\"\",\"\",P_14号様式!G26)","v":118},{"$f":"IF(P_14号様式!H26=\"\",\"\",P_14号様式!H26)","v":122},{"$f":"IF(P_14号様式!I26=\"\",\"\",P_14号様式!I26)","v":240},{"$f":"IF(P_14号様式!J26=\"\",\"\",P_14号様式!J26)","v":19},{"$f":"IF(P_14号様式!K26=\"\",\"\",P_14号様式!K26)","v":33},{"$f":"IF(P_14号様式!L26=\"\",\"\",P_14号様式!L26)","v":52},{"$f":"IF(P_14号様式!M26=\"\",\"\",P_14号様式!M26)","v":86.131386861313899},{"$f":"IF(P_14号様式!N26=\"\",\"\",P_14号様式!N26)","v":78.709677419354804},null,null,{"$f":"IF(P_14号様式!O26=\"\",\"\",P_14号様式!O26)","v":82.191780821917803},null,null,{"$f":"IF(P_14号様式!P26=\"\",\"\",P_14号様式!P26)","v":5},{"$f":"IF(P_14号様式!Q26=\"\",\"\",P_14号様式!Q26)","v":"17:55:00"},{"$f":"IF(P_14号様式!R26=\"\",\"\",P_14号様式!R26)","v":77.027027027027003},{"$f":"IF(P_14号様式!S26=\"\",\"\",P_14号様式!S26)","v":75.816993464052302},{"$f":"IF(P_14号様式!T26=\"\",\"\",P_14号様式!T26)","v":76.4119601328904}]
[{"$f":"IF(P_14号様式!C27=\"\",\"\",P_14号様式!C27)","v":"　 十島村"},null,{"$f":"IF(P_14号様式!D27=\"\",\"\",P_14号様式!D27)","v":287},{"$f":"IF(P_14号様式!E27=\"\",\"\",P_14号様式!E27)","v":274},{"$f":"IF(P_14号様式!F27=\"\",\"\",P_14号様式!F27)","v":561},{"$f":"IF(P_14号様式!G27=\"\",\"\",P_14号様式!G27)","v":246},{"$f":"IF(P_14号様式!H27=\"\",\"\",P_14号様式!H27)","v":219},{"$f":"IF(P_14号様式!I27=\"\",\"\",P_14号様式!I27)","v":465},{"$f":"IF(P_14号様式!J27=\"\",\"\",P_14号様式!J27)","v":41},{"$f":"IF(P_14号様式!K27=\"\",\"\",P_14号様式!K27)","v":55},{"$f":"IF(P_14号様式!L27=\"\",\"\",P_14号様式!L27)","v":96},{"$f":"IF(P_14号様式!M27=\"\",\"\",P_14号様式!M27)","v":85.714285714285694},{"$f":"IF(P_14号様式!N27=\"\",\"\",P_14号様式!N27)","v":79.927007299270102},null,null,{"$f":"IF(P_14号様式!O27=\"\",\"\",P_14号様式!O27)","v":82.887700534759404},null,null,{"$f":"IF(P_14号様式!P27=\"\",\"\",P_14号様式!P27)","v":4},{"$f":"IF(P_14号様式!Q27=\"\",\"\",P_14号様式!Q27)","v":"18:05:00"},{"$f":"IF(P_14号様式!R27=\"\",\"\",P_14号様式!R27)","v":88.129496402877706},{"$f":"IF(P_14号様式!S27=\"\",\"\",P_14号様式!S27)","v":79.770992366412202},{"$f":"IF(P_14号様式!T27=\"\",\"\",P_14号様式!T27)","v":84.074074074074105}]
[{"$f":"IF(P_14号様式!C28=\"\",\"\",P_14号様式!C28)","v":"＊（鹿児島郡）計"},null,{"$f":"IF(P_14号様式!D28=\"\",\"\",P_14号様式!D28)","v":424},{"$f":"IF(P_14号様式!E28=\"\",\"\",P_14号様式!E28)","v":429},{"$f":"IF(P_14号様式!F28=\"\",\"\",P_14号様式!F28)","v":853},{"$f":"IF(P_14号様式!G28=\"\",\"\",P_14号様式!G28)","v":364},{"$f":"IF(P_14号様式!H28=\"\",\"\",P_14号様式!H28)","v":341},{"$f":"IF(P_14号様式!I28=\"\",\"\",P_14号様式!I28)","v":705},{"$f":"IF(P_14号様式!J28=\"\",\"\",P_14号様式!J28)","v":60},{"$f":"IF(P_14号様式!K28=\"\",\"\",P_14号様式!K28)","v":88},{"$f":"IF(P_14号様式!L28=\"\",\"\",P_14号様式!L28)","v":148},{"$f":"IF(P_14号様式!M28=\"\",\"\",P_14号様式!M28)","v":85.849056603773604},{"$f":"IF(P_14号様式!N28=\"\",\"\",P_14号様式!N28)","v":79.487179487179503},null,null,{"$f":"IF(P_14号様式!O28=\"\",\"\",P_14号様式!O28)","v":82.649472450175907},null,null,{"$f":"IF(P_14号様式!P28=\"\",\"\",P_14号様式!P28)","v":""},{"$f":"IF(P_14号様式!Q28=\"\",\"\",P_14号様式!Q28)","v":"18:05:00"},{"$f":"IF(P_14号様式!R28=\"\",\"\",P_14号様式!R28)","v":84.272300469483596},{"$f":"IF(P_14号様式!S28=\"\",\"\",P_14号様式!S28)","v":78.313253012048193},{"$f":"IF(P_14号様式!T28=\"\",\"\",P_14号様式!T28)","v":81.331747919143893}]
[{"$f":"IF(P_14号様式!C29=\"\",\"\",P_14号様式!C29)","v":"　 さつま町"},null,{"$f":"IF(P_14号様式!D29=\"\",\"\",P_14号様式!D29)","v":8599},{"$f":"IF(P_14号様式!E29=\"\",\"\",P_14号様式!E29)","v":10050},{"$f":"IF(P_14号様式!F29=\"\",\"\",P_14号様式!F29)","v":18649},{"$f":"IF(P_14号様式!G29=\"\",\"\",P_14号様式!G29)","v":5771},{"$f":"IF(P_14号様式!H29=\"\",\"\",P_14号様式!H29)","v":6545},{"$f":"IF(P_14号様式!I29=\"\",\"\",P_14号様式!I29)","v":12316},{"$f":"IF(P_14号様式!J29=\"\",\"\",P_14号様式!J29)","v":2828},{"$f":"IF(P_14号様式!K29=\"\",\"\",P_14号様式!K29)","v":3505},{"$f":"IF(P_14号様式!L29=\"\",\"\",P_14号様式!L29)","v":6333},{"$f":"IF(P_14号様式!M29=\"\",\"\",P_14号様式!M29)","v":67.112454936620495},{"$f":"IF(P_14号様式!N29=\"\",\"\",P_14号様式!N29)","v":65.124378109452707},null,null,{"$f":"IF(P_14号様式!O29=\"\",\"\",P_14号様式!O29)","v":66.041074588449803},null,null,{"$f":"IF(P_14号様式!P29=\"\",\"\",P_14号様式!P29)","v":18},{"$f":"IF(P_14号様式!Q29=\"\",\"\",P_14号様式!Q29)","v":"19:57:00"},{"$f":"IF(P_14号様式!R29=\"\",\"\",P_14号様式!R29)","v":63.458731049971902},{"$f":"IF(P_14号様式!S29=\"\",\"\",P_14号様式!S29)","v":60.270219198790599},{"$f":"IF(P_14号様式!T29=\"\",\"\",P_14号様式!T29)","v":61.727128123556902}]
[{"$f":"IF(P_14号様式!C30=\"\",\"\",P_14号様式!C30)","v":"＊（薩摩郡）計"},null,{"$f":"IF(P_14号様式!D30=\"\",\"\",P_14号様式!D30)","v":8599},{"$f":"IF(P_14号様式!E30=\"\",\"\",P_14号様式!E30)","v":10050},{"$f":"IF(P_14号様式!F30=\"\",\"\",P_14号様式!F30)","v":18649},{"$f":"IF(P_14号様式!G30=\"\",\"\",P_14号様式!G30)","v":5771},{"$f":"IF(P_14号様式!H30=\"\",\"\",P_14号様式!H30)","v":6545},{"$f":"IF(P_14号様式!I30=\"\",\"\",P_14号様式!I30)","v":12316},{"$f":"IF(P_14号様式!J30=\"\",\"\",P_14号様式!J30)","v":2828},{"$f":"IF(P_14号様式!K30=\"\",\"\",P_14号様式!K30)","v":3505},{"$f":"IF(P_14号様式!L30=\"\",\"\",P_14号様式!L30)","v":6333},{"$f":"IF(P_14号様式!M30=\"\",\"\",P_14号様式!M30)","v":67.112454936620495},{"$f":"IF(P_14号様式!N30=\"\",\"\",P_14号様式!N30)","v":65.124378109452707},null,null,{"$f":"IF(P_14号様式!O30=\"\",\"\",P_14号様式!O30)","v":66.041074588449803},null,null,{"$f":"IF(P_14号様式!P30=\"\",\"\",P_14号様式!P30)","v":""},{"$f":"IF(P_14号様式!Q30=\"\",\"\",P_14号様式!Q30)","v":"19:57:00"},{"$f":"IF(P_14号様式!R30=\"\",\"\",P_14号様式!R30)","v":63.458731049971902},{"$f":"IF(P_14号様式!S30=\"\",\"\",P_14号様式!S30)","v":60.270219198790599},{"$f":"IF(P_14号様式!T30=\"\",\"\",P_14号様式!T30)","v":61.727128123556902}]
[{"$f":"IF(P_14号様式!C31=\"\",\"\",P_14号様式!C31)","v":"　 長島町"},null,{"$f":"IF(P_14号様式!D31=\"\",\"\",P_14号様式!D31)","v":4254},{"$f":"IF(P_14号様式!E31=\"\",\"\",P_14号様式!E31)","v":4625},{"$f":"IF(P_14号様式!F31=\"\",\"\",P_14号様式!F31)","v":8879},{"$f":"IF(P_14号様式!G31=\"\",\"\",P_14号様式!G31)","v":3181},{"$f":"IF(P_14号様式!H31=\"\",\"\",P_14号様式!H31)","v":3351},{"$f":"IF(P_14号様式!I31=\"\",\"\",P_14号様式!I31)","v":6532},{"$f":"IF(P_14号様式!J31=\"\",\"\",P_14号様式!J31)","v":1073},{"$f":"IF(P_14号様式!K31=\"\",\"\",P_14号様式!K31)","v":1274},{"$f":"IF(P_14号様式!L31=\"\",\"\",P_14号様式!L31)","v":2347},{"$f":"IF(P_14号様式!M31=\"\",\"\",P_14号様式!M31)","v":74.776680771038997},{"$f":"IF(P_14号様式!N31=\"\",\"\",P_14号様式!N31)","v":72.454054054054097},null,null,{"$f":"IF(P_14号様式!O31=\"\",\"\",P_14号様式!O31)","v":73.566843112963198},null,null,{"$f":"IF(P_14号様式!P31=\"\",\"\",P_14号様式!P31)","v":9},{"$f":"IF(P_14号様式!Q31=\"\",\"\",P_14号様式!Q31)","v":"20:35:00"},{"$f":"IF(P_14号様式!R31=\"\",\"\",P_14号様式!R31)","v":71.314102564102598},{"$f":"IF(P_14号様式!S31=\"\",\"\",P_14号様式!S31)","v":67.312961011591099},{"$f":"IF(P_14号様式!T31=\"\",\"\",P_14号様式!T31)","v":69.230769230769198}]
[{"$f":"IF(P_14号様式!C32=\"\",\"\",P_14号様式!C32)","v":"＊（出水郡）計"},null,{"$f":"IF(P_14号様式!D32=\"\",\"\",P_14号様式!D32)","v":4254},{"$f":"IF(P_14号様式!E32=\"\",\"\",P_14号様式!E32)","v":4625},{"$f":"IF(P_14号様式!F32=\"\",\"\",P_14号様式!F32)","v":8879},{"$f":"IF(P_14号様式!G32=\"\",\"\",P_14号様式!G32)","v":3181},{"$f":"IF(P_14号様式!H32=\"\",\"\",P_14号様式!H32)","v":3351},{"$f":"IF(P_14号様式!I32=\"\",\"\",P_14号様式!I32)","v":6532},{"$f":"IF(P_14号様式!J32=\"\",\"\",P_14号様式!J32)","v":1073},{"$f":"IF(P_14号様式!K32=\"\",\"\",P_14号様式!K32)","v":1274},{"$f":"IF(P_14号様式!L32=\"\",\"\",P_14号様式!L32)","v":2347},{"$f":"IF(P_14号様式!M32=\"\",\"\",P_14号様式!M32)","v":74.776680771038997},{"$f":"IF(P_14号様式!N32=\"\",\"\",P_14号様式!N32)","v":72.454054054054097},null,null,{"$f":"IF(P_14号様式!O32=\"\",\"\",P_14号様式!O32)","v":73.566843112963198},null,null,{"$f":"IF(P_14号様式!P32=\"\",\"\",P_14号様式!P32)","v":""},{"$f":"IF(P_14号様式!Q32=\"\",\"\",P_14号様式!Q32)","v":"20:35:00"},{"$f":"IF(P_14号様式!R32=\"\",\"\",P_14号様式!R32)","v":71.314102564102598},{"$f":"IF(P_14号様式!S32=\"\",\"\",P_14号様式!S32)","v":67.312961011591099},{"$f":"IF(P_14号様式!T32=\"\",\"\",P_14号様式!T32)","v":69.230769230769198}]
[{"$f":"IF(P_14号様式!C33=\"\",\"\",P_14号様式!C33)","v":"　 湧水町"},null,{"$f":"IF(P_14号様式!D33=\"\",\"\",P_14号様式!D33)","v":3846},{"$f":"IF(P_14号様式!E33=\"\",\"\",P_14号様式!E33)","v":4507},{"$f":"IF(P_14号様式!F33=\"\",\"\",P_14号様式!F33)","v":8353},{"$f":"IF(P_14号様式!G33=\"\",\"\",P_14号様式!G33)","v":2554},{"$f":"IF(P_14号様式!H33=\"\",\"\",P_14号様式!H33)","v":2829},{"$f":"IF(P_14号様式!I33=\"\",\"\",P_14号様式!I33)","v":5383},{"$f":"IF(P_14号様式!J33=\"\",\"\",P_14号様式!J33)","v":1292},{"$f":"IF(P_14号様式!K33=\"\",\"\",P_14号様式!K33)","v":1678},{"$f":"IF(P_14号様式!L33=\"\",\"\",P_14号様式!L33)","v":2970},{"$f":"IF(P_14号様式!M33=\"\",\"\",P_14号様式!M33)","v":66.406656266250707},{"$f":"IF(P_14号様式!N33=\"\",\"\",P_14号様式!N33)","v":62.769025959618403},null,null,{"$f":"IF(P_14号様式!O33=\"\",\"\",P_14号様式!O33)","v":64.443912366814303},null,null,{"$f":"IF(P_14号様式!P33=\"\",\"\",P_14号様式!P33)","v":20},{"$f":"IF(P_14号様式!Q33=\"\",\"\",P_14号様式!Q33)","v":"19:58:00"},{"$f":"IF(P_14号様式!R33=\"\",\"\",P_14号様式!R33)","v":56.880040322580598},{"$f":"IF(P_14号様式!S33=\"\",\"\",P_14号様式!S33)","v":52.496313461133298},{"$f":"IF(P_14号様式!T33=\"\",\"\",P_14号様式!T33)","v":54.492254733218601}]
[{"$f":"IF(P_14号様式!C34=\"\",\"\",P_14号様式!C34)","v":"＊（姶良郡）計"},null,{"$f":"IF(P_14号様式!D34=\"\",\"\",P_14号様式!D34)","v":3846},{"$f":"IF(P_14号様式!E34=\"\",\"\",P_14号様式!E34)","v":4507},{"$f":"IF(P_14号様式!F34=\"\",\"\",P_14号様式!F34)","v":8353},{"$f":"IF(P_14号様式!G34=\"\",\"\",P_14号様式!G34)","v":2554},{"$f":"IF(P_14号様式!H34=\"\",\"\",P_14号様式!H34)","v":2829},{"$f":"IF(P_14号様式!I34=\"\",\"\",P_14号様式!I34)","v":5383},{"$f":"IF(P_14号様式!J34=\"\",\"\",P_14号様式!J34)","v":1292},{"$f":"IF(P_14号様式!K34=\"\",\"\",P_14号様式!K34)","v":1678},{"$f":"IF(P_14号様式!L34=\"\",\"\",P_14号様式!L34)","v":2970},{"$f":"IF(P_14号様式!M34=\"\",\"\",P_14号様式!M34)","v":66.406656266250707},{"$f":"IF(P_14号様式!N34=\"\",\"\",P_14号様式!N34)","v":62.769025959618403},null,null,{"$f":"IF(P_14号様式!O34=\"\",\"\",P_14号様式!O34)","v":64.443912366814303},null,null,{"$f":"IF(P_14号様式!P34=\"\",\"\",P_14号様式!P34)","v":""},{"$f":"IF(P_14号様式!Q34=\"\",\"\",P_14号様式!Q34)","v":"19:58:00"},{"$f":"IF(P_14号様式!R34=\"\",\"\",P_14号様式!R34)","v":56.880040322580598},{"$f":"IF(P_14号様式!S34=\"\",\"\",P_14号様式!S34)","v":52.496313461133298},{"$f":"IF(P_14号様式!T34=\"\",\"\",P_14号様式!T34)","v":54.492254733218601}]
[{"$f":"IF(P_14号様式!C35=\"\",\"\",P_14号様式!C35)","v":"　 大崎町"},null,{"$f":"IF(P_14号様式!D35=\"\",\"\",P_14号様式!D35)","v":5450},{"$f":"IF(P_14号様式!E35=\"\",\"\",P_14号様式!E35)","v":5996},{"$f":"IF(P_14号様式!F35=\"\",\"\",P_14号様式!F35)","v":11446},{"$f":"IF(P_14号様式!G35=\"\",\"\",P_14号様式!G35)","v":3118},{"$f":"IF(P_14号様式!H35=\"\",\"\",P_14号様式!H35)","v":3417},{"$f":"IF(P_14号様式!I35=\"\",\"\",P_14号様式!I35)","v":6535},{"$f":"IF(P_14号様式!J35=\"\",\"\",P_14号様式!J35)","v":2332},{"$f":"IF(P_14号様式!K35=\"\",\"\",P_14号様式!K35)","v":2579},{"$f":"IF(P_14号様式!L35=\"\",\"\",P_14号様式!L35)","v":4911},{"$f":"IF(P_14号様式!M35=\"\",\"\",P_14号様式!M35)","v":57.211009174311897},{"$f":"IF(P_14号様式!N35=\"\",\"\",P_14号様式!N35)","v":56.987991994663098},null,null,{"$f":"IF(P_14号様式!O35=\"\",\"\",P_14号様式!O35)","v":57.094181373405597},null,null,{"$f":"IF(P_14号様式!P35=\"\",\"\",P_14号様式!P35)","v":34},{"$f":"IF(P_14号様式!Q35=\"\",\"\",P_14号様式!Q35)","v":"20:28:00"},{"$f":"IF(P_14号様式!R35=\"\",\"\",P_14号様式!R35)","v":49.659985683607701},{"$f":"IF(P_14号様式!S35=\"\",\"\",P_14号様式!S35)","v":47.784045124899301},{"$f":"IF(P_14号様式!T35=\"\",\"\",P_14号様式!T35)","v":48.672941575510897}]
[{"$f":"IF(P_14号様式!C36=\"\",\"\",P_14号様式!C36)","v":"＊（曽於郡）計"},null,{"$f":"IF(P_14号様式!D36=\"\",\"\",P_14号様式!D36)","v":5450},{"$f":"IF(P_14号様式!E36=\"\",\"\",P_14号様式!E36)","v":5996},{"$f":"IF(P_14号様式!F36=\"\",\"\",P_14号様式!F36)","v":11446},{"$f":"IF(P_14号様式!G36=\"\",\"\",P_14号様式!G36)","v":3118},{"$f":"IF(P_14号様式!H36=\"\",\"\",P_14号様式!H36)","v":3417},{"$f":"IF(P_14号様式!I36=\"\",\"\",P_14号様式!I36)","v":6535},{"$f":"IF(P_14号様式!J36=\"\",\"\",P_14号様式!J36)","v":2332},{"$f":"IF(P_14号様式!K36=\"\",\"\",P_14号様式!K36)","v":2579},{"$f":"IF(P_14号様式!L36=\"\",\"\",P_14号様式!L36)","v":4911},{"$f":"IF(P_14号様式!M36=\"\",\"\",P_14号様式!M36)","v":57.211009174311897},{"$f":"IF(P_14号様式!N36=\"\",\"\",P_14号様式!N36)","v":56.987991994663098},null,null,{"$f":"IF(P_14号様式!O36=\"\",\"\",P_14号様式!O36)","v":57.094181373405597},null,null,{"$f":"IF(P_14号様式!P36=\"\",\"\",P_14号様式!P36)","v":""},{"$f":"IF(P_14号様式!Q36=\"\",\"\",P_14号様式!Q36)","v":"20:28:00"},{"$f":"IF(P_14号様式!R36=\"\",\"\",P_14号様式!R36)","v":49.659985683607701},{"$f":"IF(P_14号様式!S36=\"\",\"\",P_14号様式!S36)","v":47.784045124899301},{"$f":"IF(P_14号様式!T36=\"\",\"\",P_14号様式!T36)","v":48.672941575510897}]
[{"$f":"IF(P_14号様式!C37=\"\",\"\",P_14号様式!C37)","v":"　 東串良町"},null,{"$f":"IF(P_14号様式!D37=\"\",\"\",P_14号様式!D37)","v":2595},{"$f":"IF(P_14号様式!E37=\"\",\"\",P_14号様式!E37)","v":2985},{"$f":"IF(P_14号様式!F37=\"\",\"\",P_14号様式!F37)","v":5580},{"$f":"IF(P_14号様式!G37=\"\",\"\",P_14号様式!G37)","v":1475},{"$f":"IF(P_14号様式!H37=\"\",\"\",P_14号様式!H37)","v":1688},{"$f":"IF(P_14号様式!I37=\"\",\"\",P_14号様式!I37)","v":3163},{"$f":"IF(P_14号様式!J37=\"\",\"\",P_14号様式!J37)","v":1120},{"$f":"IF(P_14号様式!K37=\"\",\"\",P_14号様式!K37)","v":1297},{"$f":"IF(P_14号様式!L37=\"\",\"\",P_14号様式!L37)","v":2417},{"$f":"IF(P_14号様式!M37=\"\",\"\",P_14号様式!M37)","v":56.840077071290899},{"$f":"IF(P_14号様式!N37=\"\",\"\",P_14号様式!N37)","v":56.5494137353434},null,null,{"$f":"IF(P_14号様式!O37=\"\",\"\",P_14号様式!O37)","v":56.684587813620098},null,null,{"$f":"IF(P_14号様式!P37=\"\",\"\",P_14号様式!P37)","v":35},{"$f":"IF(P_14号様式!Q37=\"\",\"\",P_14号様式!Q37)","v":"19:20:00"},{"$f":"IF(P_14号様式!R37=\"\",\"\",P_14号様式!R37)","v":48.376259798432301},{"$f":"IF(P_14号様式!S37=\"\",\"\",P_14号様式!S37)","v":48.228794280142999},{"$f":"IF(P_14号様式!T37=\"\",\"\",P_14号様式!T37)","v":48.297428769979099}]
[{"$f":"IF(P_14号様式!C38=\"\",\"\",P_14号様式!C38)","v":"　 錦江町"},null,{"$f":"IF(P_14号様式!D38=\"\",\"\",P_14号様式!D38)","v":3200},{"$f":"IF(P_14号様式!E38=\"\",\"\",P_14号様式!E38)","v":3641},{"$f":"IF(P_14号様式!F38=\"\",\"\",P_14号様式!F38)","v":6841},{"$f":"IF(P_14号様式!G38=\"\",\"\",P_14号様式!G38)","v":2066},{"$f":"IF(P_14号様式!H38=\"\",\"\",P_14号様式!H38)","v":2280},{"$f":"IF(P_14号様式!I38=\"\",\"\",P_14号様式!I38)","v":4346},{"$f":"IF(P_14号様式!J38=\"\",\"\",P_14号様式!J38)","v":1134},{"$f":"IF(P_14号様式!K38=\"\",\"\",P_14号様式!K38)","v":1361},{"$f":"IF(P_14号様式!L38=\"\",\"\",P_14号様式!L38)","v":2495},{"$f":"IF(P_14号様式!M38=\"\",\"\",P_14号様式!M38)","v":64.5625},{"$f":"IF(P_14号様式!N38=\"\",\"\",P_14号様式!N38)","v":62.620159296896503},null,null,{"$f":"IF(P_14号様式!O38=\"\",\"\",P_14号様式!O38)","v":63.528723870779103},null,null,{"$f":"IF(P_14号様式!P38=\"\",\"\",P_14号様式!P38)","v":21},{"$f":"IF(P_14号様式!Q38=\"\",\"\",P_14号様式!Q38)","v":"20:00:00"},{"$f":"IF(P_14号様式!R38=\"\",\"\",P_14号様式!R38)","v":59.910979228486703},{"$f":"IF(P_14号様式!S38=\"\",\"\",P_14号様式!S38)","v":58.710846492363402},{"$f":"IF(P_14号様式!T38=\"\",\"\",P_14号様式!T38)","v":59.270012442969701}]
[{"$f":"IF(P_14号様式!C39=\"\",\"\",P_14号様式!C39)","v":"　 南大隅町"},null,{"$f":"IF(P_14号様式!D39=\"\",\"\",P_14号様式!D39)","v":3181},{"$f":"IF(P_14号様式!E39=\"\",\"\",P_14号様式!E39)","v":3584},{"$f":"IF(P_14号様式!F39=\"\",\"\",P_14号様式!F39)","v":6765},{"$f":"IF(P_14号様式!G39=\"\",\"\",P_14号様式!G39)","v":2088},{"$f":"IF(P_14号様式!H39=\"\",\"\",P_14号様式!H39)","v":2342},{"$f":"IF(P_14号様式!I39=\"\",\"\",P_14号様式!I39)","v":4430},{"$f":"IF(P_14号様式!J39=\"\",\"\",P_14号様式!J39)","v":1093},{"$f":"IF(P_14号様式!K39=\"\",\"\",P_14号様式!K39)","v":1242},{"$f":"IF(P_14号様式!L39=\"\",\"\",P_14号様式!L39)","v":2335},{"$f":"IF(P_14号様式!M39=\"\",\"\",P_14号様式!M39)","v":65.639735932096798},{"$f":"IF(P_14号様式!N39=\"\",\"\",P_14号様式!N39)","v":65.345982142857096},null,null,{"$f":"IF(P_14号様式!O39=\"\",\"\",P_14号様式!O39)","v":65.484109386548397},null,null,{"$f":"IF(P_14号様式!P39=\"\",\"\",P_14号様式!P39)","v":19},{"$f":"IF(P_14号様式!Q39=\"\",\"\",P_14号様式!Q39)","v":"19:57:00"},{"$f":"IF(P_14号様式!R39=\"\",\"\",P_14号様式!R39)","v":61.102741789695699},{"$f":"IF(P_14号様式!S39=\"\",\"\",P_14号様式!S39)","v":58.339758416859397},{"$f":"IF(P_14号様式!T39=\"\",\"\",P_14号様式!T39)","v":59.611650485436897}]
[{"$f":"IF(P_14号様式!C40=\"\",\"\",P_14号様式!C40)","v":"　 肝付町"},null,{"$f":"IF(P_14号様式!D40=\"\",\"\",P_14号様式!D40)","v":6407},{"$f":"IF(P_14号様式!E40=\"\",\"\",P_14号様式!E40)","v":7144},{"$f":"IF(P_14号様式!F40=\"\",\"\",P_14号様式!F40)","v":13551},{"$f":"IF(P_14号様式!G40=\"\",\"\",P_14号様式!G40)","v":3681},{"$f":"IF(P_14号様式!H40=\"\",\"\",P_14号様式!H40)","v":3924},{"$f":"IF(P_14号様式!I40=\"\",\"\",P_14号様式!I40)","v":7605},{"$f":"IF(P_14号様式!J40=\"\",\"\",P_14号様式!J40)","v":2726},{"$f":"IF(P_14号様式!K40=\"\",\"\",P_14号様式!K40)","v":3220},{"$f":"IF(P_14号様式!L40=\"\",\"\",P_14号様式!L40)","v":5946},{"$f":"IF(P_14号様式!M40=\"\",\"\",P_14号様式!M40)","v":57.4527860152958},{"$f":"IF(P_14号様式!N40=\"\",\"\",P_14号様式!N40)","v":54.927211646136598},null,null,{"$f":"IF(P_14号様式!O40=\"\",\"\",P_14号様式!O40)","v":56.121319459818501},null,null,{"$f":"IF(P_14号様式!P40=\"\",\"\",P_14号様式!P40)","v":37},{"$f":"IF(P_14号様式!Q40=\"\",\"\",P_14号様式!Q40)","v":"23:03:00"},{"$f":"IF(P_14号様式!R40=\"\",\"\",P_14号様式!R40)","v":50.330628193567797},{"$f":"IF(P_14号様式!S40=\"\",\"\",P_14号様式!S40)","v":47.7349106062643},{"$f":"IF(P_14号様式!T40=\"\",\"\",P_14号様式!T40)","v":48.96047683247}]
[{"$f":"IF(P_14号様式!C41=\"\",\"\",P_14号様式!C41)","v":"＊（肝属郡）計"},null,{"$f":"IF(P_14号様式!D41=\"\",\"\",P_14号様式!D41)","v":15383},{"$f":"IF(P_14号様式!E41=\"\",\"\",P_14号様式!E41)","v":17354},{"$f":"IF(P_14号様式!F41=\"\",\"\",P_14号様式!F41)","v":32737},{"$f":"IF(P_14号様式!G41=\"\",\"\",P_14号様式!G41)","v":9310},{"$f":"IF(P_14号様式!H41=\"\",\"\",P_14号様式!H41)","v":10234},{"$f":"IF(P_14号様式!I41=\"\",\"\",P_14号様式!I41)","v":19544},{"$f":"IF(P_14号様式!J41=\"\",\"\",P_14号様式!J41)","v":6073},{"$f":"IF(P_14号様式!K41=\"\",\"\",P_14号様式!K41)","v":7120},{"$f":"IF(P_14号様式!L41=\"\",\"\",P_14号様式!L41)","v":13193},{"$f":"IF(P_14号様式!M41=\"\",\"\",P_14号様式!M41)","v":60.521354742247901},{"$f":"IF(P_14号様式!N41=\"\",\"\",P_14号様式!N41)","v":58.971994929122999},null,null,{"$f":"IF(P_14号様式!O41=\"\",\"\",P_14号様式!O41)","v":59.700033601124098},null,null,{"$f":"IF(P_14号様式!P41=\"\",\"\",P_14号様式!P41)","v":""},{"$f":"IF(P_14号様式!Q41=\"\",\"\",P_14号様式!Q41)","v":"23:03:00"},{"$f":"IF(P_14号様式!R41=\"\",\"\",P_14号様式!R41)","v":54.250405692173302},{"$f":"IF(P_14号様式!S41=\"\",\"\",P_14号様式!S41)","v":52.397372742200297},{"$f":"IF(P_14号様式!T41=\"\",\"\",P_14号様式!T41)","v":53.263151755511501}]
[{"$f":"IF(P_14号様式!C42=\"\",\"\",P_14号様式!C42)","v":"　 中種子町"},null,{"$f":"IF(P_14号様式!D42=\"\",\"\",P_14号様式!D42)","v":3255},{"$f":"IF(P_14号様式!E42=\"\",\"\",P_14号様式!E42)","v":3677},{"$f":"IF(P_14号様式!F42=\"\",\"\",P_14号様式!F42)","v":6932},{"$f":"IF(P_14号様式!G42=\"\",\"\",P_14号様式!G42)","v":2127},{"$f":"IF(P_14号様式!H42=\"\",\"\",P_14号様式!H42)","v":2262},{"$f":"IF(P_14号様式!I42=\"\",\"\",P_14号様式!I42)","v":4389},{"$f":"IF(P_14号様式!J42=\"\",\"\",P_14号様式!J42)","v":1128},{"$f":"IF(P_14号様式!K42=\"\",\"\",P_14号様式!K42)","v":1415},{"$f":"IF(P_14号様式!L42=\"\",\"\",P_14号様式!L42)","v":2543},{"$f":"IF(P_14号様式!M42=\"\",\"\",P_14号様式!M42)","v":65.345622119815701},{"$f":"IF(P_14号様式!N42=\"\",\"\",P_14号様式!N42)","v":61.517541474027702},null,null,{"$f":"IF(P_14号様式!O42=\"\",\"\",P_14号様式!O42)","v":63.315060588574703},null,null,{"$f":"IF(P_14号様式!P42=\"\",\"\",P_14号様式!P42)","v":22},{"$f":"IF(P_14号様式!Q42=\"\",\"\",P_14号様式!Q42)","v":"19:48:00"},{"$f":"IF(P_14号様式!R42=\"\",\"\",P_14号様式!R42)","v":62.670299727520401},{"$f":"IF(P_14号様式!S42=\"\",\"\",P_14号様式!S42)","v":58.459495351925597},{"$f":"IF(P_14号様式!T42=\"\",\"\",P_14号様式!T42)","v":60.427277872099602}]
[{"$f":"IF(P_14号様式!C43=\"\",\"\",P_14号様式!C43)","v":"　 南種子町"},null,{"$f":"IF(P_14号様式!D43=\"\",\"\",P_14号様式!D43)","v":2391},{"$f":"IF(P_14号様式!E43=\"\",\"\",P_14号様式!E43)","v":2500},{"$f":"IF(P_14号様式!F43=\"\",\"\",P_14号様式!F43)","v":4891},{"$f":"IF(P_14号様式!G43=\"\",\"\",P_14号様式!G43)","v":1548},{"$f":"IF(P_14号様式!H43=\"\",\"\",P_14号様式!H43)","v":1526},{"$f":"IF(P_14号様式!I43=\"\",\"\",P_14号様式!I43)","v":3074},{"$f":"IF(P_14号様式!J43=\"\",\"\",P_14号様式!J43)","v":843},{"$f":"IF(P_14号様式!K43=\"\",\"\",P_14号様式!K43)","v":974},{"$f":"IF(P_14号様式!L43=\"\",\"\",P_14号様式!L43)","v":1817},{"$f":"IF(P_14号様式!M43=\"\",\"\",P_14号様式!M43)","v":64.742785445420296},{"$f":"IF(P_14号様式!N43=\"\",\"\",P_14号様式!N43)","v":61.04},null,null,{"$f":"IF(P_14号様式!O43=\"\",\"\",P_14号様式!O43)","v":62.850132897157998},null,null,{"$f":"IF(P_14号様式!P43=\"\",\"\",P_14号様式!P43)","v":24},{"$f":"IF(P_14号様式!Q43=\"\",\"\",P_14号様式!Q43)","v":"19:58:00"},{"$f":"IF(P_14号様式!R43=\"\",\"\",P_14号様式!R43)","v":61.033634126333098},{"$f":"IF(P_14号様式!S43=\"\",\"\",P_14号様式!S43)","v":57.829888712241598},{"$f":"IF(P_14号様式!T43=\"\",\"\",P_14号様式!T43)","v":59.406540169560003}]
[{"$f":"IF(P_14号様式!C44=\"\",\"\",P_14号様式!C44)","v":"　 屋久島町"},null,{"$f":"IF(P_14号様式!D44=\"\",\"\",P_14号様式!D44)","v":5222},{"$f":"IF(P_14号様式!E44=\"\",\"\",P_14号様式!E44)","v":5434},{"$f":"IF(P_14号様式!F44=\"\",\"\",P_14号様式!F44)","v":10656},{"$f":"IF(P_14号様式!G44=\"\",\"\",P_14号様式!G44)","v":3186},{"$f":"IF(P_14号様式!H44=\"\",\"\",P_14号様式!H44)","v":3275},{"$f":"IF(P_14号様式!I44=\"\",\"\",P_14号様式!I44)","v":6461},{"$f":"IF(P_14号様式!J44=\"\",\"\",P_14号様式!J44)","v":2036},{"$f":"IF(P_14号様式!K44=\"\",\"\",P_14号様式!K44)","v":2159},{"$f":"IF(P_14号様式!L44=\"\",\"\",P_14号様式!L44)","v":4195},{"$f":"IF(P_14号様式!M44=\"\",\"\",P_14号様式!M44)","v":61.011106855610898},{"$f":"IF(P_14号様式!N44=\"\",\"\",P_14号様式!N44)","v":60.268678689731303},null,null,{"$f":"IF(P_14号様式!O44=\"\",\"\",P_14号様式!O44)","v":60.632507507507498},null,null,{"$f":"IF(P_14号様式!P44=\"\",\"\",P_14号様式!P44)","v":29},{"$f":"IF(P_14号様式!Q44=\"\",\"\",P_14号様式!Q44)","v":"20:03:00"},{"$f":"IF(P_14号様式!R44=\"\",\"\",P_14号様式!R44)","v":61.344696969696997},{"$f":"IF(P_14号様式!S44=\"\",\"\",P_14号様式!S44)","v":61.132952108649},{"$f":"IF(P_14号様式!T44=\"\",\"\",P_14号様式!T44)","v":61.235748436925299}]
[]
["市　計",null,{"$f":"IF(P_14号様式!U2=\"\",\"\",P_14号様式!U2)","v":562163},{"$f":"IF(P_14号様式!V2=\"\",\"\",P_14号様式!V2)","v":655998},{"$f":"IF(P_14号様式!W2=\"\",\"\",P_14号様式!W2)","v":1218161},{"$f":"IF(P_14号様式!X2=\"\",\"\",P_14号様式!X2)","v":306632},{"$f":"IF(P_14号様式!Y2=\"\",\"\",P_14号様式!Y2)","v":349738},{"$f":"IF(P_14号様式!Z2=\"\",\"\",P_14号様式!Z2)","v":656370},{"$f":"IF(P_14号様式!AA2=\"\",\"\",P_14号様式!AA2)","v":255531},{"$f":"IF(P_14号様式!AB2=\"\",\"\",P_14号様式!AB2)","v":306260},{"$f":"IF(P_14号様式!AC2=\"\",\"\",P_14号様式!AC2)","v":561791},{"$f":"IF(P_14号様式!AD2=\"\",\"\",P_14号様式!AD2)","v":54.545034091535697},{"$f":"IF(P_14号様式!AE2=\"\",\"\",P_14号様式!AE2)","v":53.313882054518501},null,null,{"$f":"IF(P_14号様式!AF2=\"\",\"\",P_14号様式!AF2)","v":53.8820402229262},null,null,null,{"$f":"IF(P_14号様式!AG2=\"\",\"\",P_14号様式!AG2)","v":"22:26:00"},{"$f":"IF(P_14号様式!AH2=\"\",\"\",P_14号様式!AH2)","v":48.580688020683702},{"$f":"IF(P_14号様式!AI2=\"\",\"\",P_14号様式!AI2)","v":46.323323878346898},{"$f":"IF(P_14号様式!AJ2=\"\",\"\",P_14号様式!AJ2)","v":47.360975734561599}]
["町村計",null,{"$f":"IF(P_14号様式!AK2=\"\",\"\",P_14号様式!AK2)","v":76322},{"$f":"IF(P_14号様式!AL2=\"\",\"\",P_14号様式!AL2)","v":83176},{"$f":"IF(P_14号様式!AM2=\"\",\"\",P_14号様式!AM2)","v":159498},{"$f":"IF(P_14号様式!AN2=\"\",\"\",P_14号様式!AN2)","v":51954},{"$f":"IF(P_14号様式!AO2=\"\",\"\",P_14号様式!AO2)","v":55036},{"$f":"IF(P_14号様式!AP2=\"\",\"\",P_14号様式!AP2)","v":106990},{"$f":"IF(P_14号様式!AQ2=\"\",\"\",P_14号様式!AQ2)","v":24368},{"$f":"IF(P_14号様式!AR2=\"\",\"\",P_14号様式!AR2)","v":28140},{"$f":"IF(P_14号様式!AS2=\"\",\"\",P_14号様式!AS2)","v":52508},{"$f":"IF(P_14号様式!AT2=\"\",\"\",P_14号様式!AT2)","v":68.072115510599801},{"$f":"IF(P_14号様式!AU2=\"\",\"\",P_14号様式!AU2)","v":66.168125420794496},null,null,{"$f":"IF(P_14号様式!AV2=\"\",\"\",P_14号様式!AV2)","v":67.079211024589696},null,null,null,{"$f":"IF(P_14号様式!AW2=\"\",\"\",P_14号様式!AW2)","v":"23:03:00"},{"$f":"IF(P_14号様式!AX2=\"\",\"\",P_14号様式!AX2)","v":60.0958037938302},{"$f":"IF(P_14号様式!AY2=\"\",\"\",P_14号様式!AY2)","v":57.915971062882598},{"$f":"IF(P_14号様式!AZ2=\"\",\"\",P_14号様式!AZ2)","v":58.953087680274201}]
["県計",null,{"$f":"IF(P_14号様式!BA2=\"\",\"\",P_14号様式!BA2)","v":638485},{"$f":"IF(P_14号様式!BB2=\"\",\"\",P_14号様式!BB2)","v":739174},{"$f":"IF(P_14号様式!BC2=\"\",\"\",P_14号様式!BC2)","v":1377659},{"$f":"IF(P_14号様式!BD2=\"\",\"\",P_14号様式!BD2)","v":358586},{"$f":"IF(P_14号様式!BE2=\"\",\"\",P_14号様式!BE2)","v":404774},{"$f":"IF(P_14号様式!BF2=\"\",\"\",P_14号様式!BF2)","v":763360},{"$f":"IF(P_14号様式!BG2=\"\",\"\",P_14号様式!BG2)","v":279899},{"$f":"IF(P_14号様式!BH2=\"\",\"\",P_14号様式!BH2)","v":334400},{"$f":"IF(P_14号様式!BI2=\"\",\"\",P_14号様式!BI2)","v":614299},{"$f":"IF(P_14号様式!BJ2=\"\",\"\",P_14号様式!BJ2)","v":56.162008504506801},{"$f":"IF(P_14号様式!BK2=\"\",\"\",P_14号様式!BK2)","v":54.760313539166702},null,null,{"$f":"IF(P_14号様式!BL2=\"\",\"\",P_14号様式!BL2)","v":55.409938163217497},null,null,null,{"$f":"IF(P_14号様式!BM2=\"\",\"\",P_14号様式!BM2)","v":"23:03:00"},{"$f":"IF(P_14号様式!BN2=\"\",\"\",P_14号様式!BN2)","v":49.999763870632599},{"$f":"IF(P_14号様式!BO2=\"\",\"\",P_14号様式!BO2)","v":47.6728790706902},{"$f":"IF(P_14号様式!BP2=\"\",\"\",P_14号様式!BP2)","v":48.746968060910604}]
[]
["第14号様式",null,null,null,null,null,null,null,null,null,null,null,null,null,null,null,null,null,null,null,null,{"$f":"IF(P_14号様式!A45=\"\",\" ページ\", P_14号様式!A45 & \"ページ\")","v":"2ページ"}]
[null,null,null,null,null,null,null,"投　票　速　報",null,null,null,null,null,"中間報告",null,null,{"$f":"IF(P_14号様式!BR45=\"\",\"第　　　回\",\"第 　\" & P_14号様式!BR45 & \"　回\")","v":"第　　　回"},null,null,null,{"$f":"IF(P_14号様式!BS45=\"\",\"時     　分　現在\",P_14号様式!BS45)","v":"時     　分　現在"}]
[null,{"$f":"IF(パラメタシート!B1=\"\",\"\",パラメタシート!B1)","v":"2017-10-22"},null,null,null,null,null,null,null,null,null,null,null,"結了報告",null,null,null,null,null,null,{"$f":"IF(P_14号様式!BM45=\"\",\"時     　分　結了\",P_14号様式!BM45)","v":"23:03:00"}]
[null,{"$f":"IF(P_14号様式!BQ45=\"\",\"\",P_14号様式!BQ45)","v":"最高裁判所裁判官国民審査"},null,null,null,null,null,"（ 建 制 順 ）",null,null,null,null,null,null,null,null,null,null,null,null,null,"鹿 児 島 県"]
[]
["市区町村名",null,"当 日 有 権 者 数（ｅ'）\n（ 当日有権者見込（ｅ））",null,null,{"$f":"IF(P_14号様式!BS45=\"\",\"（ｆ）\",\"（ｱ）\")","v":"（ｆ）"},null,null,"（ｇ）\n棄　権　者　数",null,null,{"$f":"IF(P_14号様式!BS45=\"\",\"\",\"当日投票者\")","v":""},null,"(ｈ)",null,null,null,null,"投\n票\n率\n順\n位","投票\n結了\n時刻","前回選挙の投票率"]
[null,null,null,null,null,{"$f":"IF(P_14号様式!BS45=\"\",\"投 票 者 数\",\"当 日 投 票 者 数\")","v":"投 票 者 数"},null,null,null,null,null,"投 票 率 =",null,{"$f":"IF(P_14号様式!BS45=\"\",\"(ｆ)\",\"(ｱ)\")","v":"(ｆ)"},"(",{"$f":"IF(P_14号様式!BS45=\"\",\"(ｆ)\",\"(ｱ)\")","v":"(ｆ)"},")"]
[null,null,null,null,null,null,null,null,null,null,null,null,null,"(ｅ')",null,"(ｅ )"]
[null,null,"男","女","計","男","女","計","男","女","計","男","女",null,null,"計",null,null,null,null,"男","女","計"]
[{"$f":"IF(P_14号様式!C45=\"\",\"\",P_14号様式!C45)","v":"＊（熊毛郡）計"},null,{"$f":"IF(P_14号様式!D45=\"\",\"\",P_14号様式!D45)","v":10868},{"$f":"IF(P_14号様式!E45=\"\",\"\",P_14号様式!E45)","v":11611},{"$f":"IF(P_14号様式!F45=\"\",\"\",P_14号様式!F45)","v":22479},{"$f":"IF(P_14号様式!G45=\"\",\"\",P_14号様式!G45)","v":6861},{"$f":"IF(P_14号様式!H45=\"\",\"\",P_14号様式!H45)","v":7063},{"$f":"IF(P_14号様式!I45=\"\",\"\",P_14号様式!I45)","v":13924},{"$f":"IF(P_14号様式!J45=\"\",\"\",P_14号様式!J45)","v":4007},{"$f":"IF(P_14号様式!K45=\"\",\"\",P_14号様式!K45)","v":4548},{"$f":"IF(P_14号様式!L45=\"\",\"\",P_14号様式!L45)","v":8555},{"$f":"IF(P_14号様式!M45=\"\",\"\",P_14号様式!M45)","v":63.130290761869702},{"$f":"IF(P_14号様式!N45=\"\",\"\",P_14号様式!N45)","v":60.830247179398803},null,null,{"$f":"IF(P_14号様式!O45=\"\",\"\",P_14号様式!O45)","v":61.942257217847803},null,null,{"$f":"IF(P_14号様式!P45=\"\",\"\",P_14号様式!P45)","v":""},{"$f":"IF(P_14号様式!Q45=\"\",\"\",P_14号様式!Q45)","v":"20:03:00"},{"$f":"IF(P_14号様式!R45=\"\",\"\",P_14号様式!R45)","v":61.673169403865302},{"$f":"IF(P_14号様式!S45=\"\",\"\",P_14号様式!S45)","v":59.585753978277303},{"$f":"IF(P_14号様式!T45=\"\",\"\",P_14号様式!T45)","v":60.590444580312699}]
[{"$f":"IF(P_14号様式!C46=\"\",\"\",P_14号様式!C46)","v":"　 大和村"},null,{"$f":"IF(P_14号様式!D46=\"\",\"\",P_14号様式!D46)","v":629},{"$f":"IF(P_14号様式!E46=\"\",\"\",P_14号様式!E46)","v":688},{"$f":"IF(P_14号様式!F46=\"\",\"\",P_14号様式!F46)","v":1317},{"$f":"IF(P_14号様式!G46=\"\",\"\",P_14号様式!G46)","v":479},{"$f":"IF(P_14号様式!H46=\"\",\"\",P_14号様式!H46)","v":502},{"$f":"IF(P_14号様式!I46=\"\",\"\",P_14号様式!I46)","v":981},{"$f":"IF(P_14号様式!J46=\"\",\"\",P_14号様式!J46)","v":150},{"$f":"IF(P_14号様式!K46=\"\",\"\",P_14号様式!K46)","v":186},{"$f":"IF(P_14号様式!L46=\"\",\"\",P_14号様式!L46)","v":336},{"$f":"IF(P_14号様式!M46=\"\",\"\",P_14号様式!M46)","v":76.152623211446794},{"$f":"IF(P_14号様式!N46=\"\",\"\",P_14号様式!N46)","v":72.965116279069804},null,null,{"$f":"IF(P_14号様式!O46=\"\",\"\",P_14号様式!O46)","v":74.487471526195904},null,null,{"$f":"IF(P_14号様式!P46=\"\",\"\",P_14号様式!P46)","v":8},{"$f":"IF(P_14号様式!Q46=\"\",\"\",P_14号様式!Q46)","v":"19:46:00"},{"$f":"IF(P_14号様式!R46=\"\",\"\",P_14号様式!R46)","v":70.3196347031963},{"$f":"IF(P_14号様式!S46=\"\",\"\",P_14号様式!S46)","v":72.229822161422703},{"$f":"IF(P_14号様式!T46=\"\",\"\",P_14号様式!T46)","v":71.325648414985594}]
[{"$f":"IF(P_14号様式!C47=\"\",\"\",P_14号様式!C47)","v":"　 宇検村"},null,{"$f":"IF(P_14号様式!D47=\"\",\"\",P_14号様式!D47)","v":733},{"$f":"IF(P_14号様式!E47=\"\",\"\",P_14号様式!E47)","v":800},{"$f":"IF(P_14号様式!F47=\"\",\"\",P_14号様式!F47)","v":1533},{"$f":"IF(P_14号様式!G47=\"\",\"\",P_14号様式!G47)","v":640},{"$f":"IF(P_14号様式!H47=\"\",\"\",P_14号様式!H47)","v":710},{"$f":"IF(P_14号様式!I47=\"\",\"\",P_14号様式!I47)","v":1350},{"$f":"IF(P_14号様式!J47=\"\",\"\",P_14号様式!J47)","v":93},{"$f":"IF(P_14号様式!K47=\"\",\"\",P_14号様式!K47)","v":90},{"$f":"IF(P_14号様式!L47=\"\",\"\",P_14号様式!L47)","v":183},{"$f":"IF(P_14号様式!M47=\"\",\"\",P_14号様式!M47)","v":87.312414733970002},{"$f":"IF(P_14号様式!N47=\"\",\"\",P_14号様式!N47)","v":88.75},null,null,{"$f":"IF(P_14号様式!O47=\"\",\"\",P_14号様式!O47)","v":88.062622309197707},null,null,{"$f":"IF(P_14号様式!P47=\"\",\"\",P_14号様式!P47)","v":2},{"$f":"IF(P_14号様式!Q47=\"\",\"\",P_14号様式!Q47)","v":"18:14:00"},{"$f":"IF(P_14号様式!R47=\"\",\"\",P_14号様式!R47)","v":80.188679245282998},{"$f":"IF(P_14号様式!S47=\"\",\"\",P_14号様式!S47)","v":76.456599286563602},{"$f":"IF(P_14号様式!T47=\"\",\"\",P_14号様式!T47)","v":78.2059380922299}]
[{"$f":"IF(P_14号様式!C48=\"\",\"\",P_14号様式!C48)","v":"　 瀬戸内町"},null,{"$f":"IF(P_14号様式!D48=\"\",\"\",P_14号様式!D48)","v":3729},{"$f":"IF(P_14号様式!E48=\"\",\"\",P_14号様式!E48)","v":4072},{"$f":"IF(P_14号様式!F48=\"\",\"\",P_14号様式!F48)","v":7801},{"$f":"IF(P_14号様式!G48=\"\",\"\",P_14号様式!G48)","v":2865},{"$f":"IF(P_14号様式!H48=\"\",\"\",P_14号様式!H48)","v":3091},{"$f":"IF(P_14号様式!I48=\"\",\"\",P_14号様式!I48)","v":5956},{"$f":"IF(P_14号様式!J48=\"\",\"\",P_14号様式!J48)","v":864},{"$f":"IF(P_14号様式!K48=\"\",\"\",P_14号様式!K48)","v":981},{"$f":"IF(P_14号様式!L48=\"\",\"\",P_14号様式!L48)","v":1845},{"$f":"IF(P_14号様式!M48=\"\",\"\",P_14号様式!M48)","v":76.830249396621099},{"$f":"IF(P_14号様式!N48=\"\",\"\",P_14号様式!N48)","v":75.908644400785803},null,null,{"$f":"IF(P_14号様式!O48=\"\",\"\",P_14号様式!O48)","v":76.349186001794607},null,null,{"$f":"IF(P_14号様式!P48=\"\",\"\",P_14号様式!P48)","v":6},{"$f":"IF(P_14号様式!Q48=\"\",\"\",P_14号様式!Q48)","v":"20:33:00"},{"$f":"IF(P_14号様式!R48=\"\",\"\",P_14号様式!R48)","v":67.6967776016904},{"$f":"IF(P_14号様式!S48=\"\",\"\",P_14号様式!S48)","v":67.232313575525794},{"$f":"IF(P_14号様式!T48=\"\",\"\",P_14号様式!T48)","v":67.452948557089101}]
[{"$f":"IF(P_14号様式!C49=\"\",\"\",P_14号様式!C49)","v":"　 龍郷町"},null,{"$f":"IF(P_14号様式!D49=\"\",\"\",P_14号様式!D49)","v":2309},{"$f":"IF(P_14号様式!E49=\"\",\"\",P_14号様式!E49)","v":2542},{"$f":"IF(P_14号様式!F49=\"\",\"\",P_14号様式!F49)","v":4851},{"$f":"IF(P_14号様式!G49=\"\",\"\",P_14号様式!G49)","v":2032},{"$f":"IF(P_14号様式!H49=\"\",\"\",P_14号様式!H49)","v":2201},{"$f":"IF(P_14号様式!I49=\"\",\"\",P_14号様式!I49)","v":4233},{"$f":"IF(P_14号様式!J49=\"\",\"\",P_14号様式!J49)","v":277},{"$f":"IF(P_14号様式!K49=\"\",\"\",P_14号様式!K49)","v":341},{"$f":"IF(P_14号様式!L49=\"\",\"\",P_14号様式!L49)","v":618},{"$f":"IF(P_14号様式!M49=\"\",\"\",P_14号様式!M49)","v":88.003464703334799},{"$f":"IF(P_14号様式!N49=\"\",\"\",P_14号様式!N49)","v":86.585365853658502},null,null,{"$f":"IF(P_14号様式!O49=\"\",\"\",P_14号様式!O49)","v":87.260358688930097},null,null,{"$f":"IF(P_14号様式!P49=\"\",\"\",P_14号様式!P49)","v":3},{"$f":"IF(P_14号様式!Q49=\"\",\"\",P_14号様式!Q49)","v":"22:09:00"},{"$f":"IF(P_14号様式!R49=\"\",\"\",P_14号様式!R49)","v":63.330457290767903},{"$f":"IF(P_14号様式!S49=\"\",\"\",P_14号様式!S49)","v":63.5863153755407},{"$f":"IF(P_14号様式!T49=\"\",\"\",P_14号様式!T49)","v":63.464307755605802}]
[{"$f":"IF(P_14号様式!C50=\"\",\"\",P_14号様式!C50)","v":"　 喜界町"},null,{"$f":"IF(P_14号様式!D50=\"\",\"\",P_14号様式!D50)","v":2981},{"$f":"IF(P_14号様式!E50=\"\",\"\",P_14号様式!E50)","v":3128},{"$f":"IF(P_14号様式!F50=\"\",\"\",P_14号様式!F50)","v":6109},{"$f":"IF(P_14号様式!G50=\"\",\"\",P_14号様式!G50)","v":2128},{"$f":"IF(P_14号様式!H50=\"\",\"\",P_14号様式!H50)","v":2186},{"$f":"IF(P_14号様式!I50=\"\",\"\",P_14号様式!I50)","v":4314},{"$f":"IF(P_14号様式!J50=\"\",\"\",P_14号様式!J50)","v":853},{"$f":"IF(P_14号様式!K50=\"\",\"\",P_14号様式!K50)","v":942},{"$f":"IF(P_14号様式!L50=\"\",\"\",P_14号様式!L50)","v":1795},{"$f":"IF(P_14号様式!M50=\"\",\"\",P_14号様式!M50)","v":71.385441127138506},{"$f":"IF(P_14号様式!N50=\"\",\"\",P_14号様式!N50)","v":69.884910485933503},null,null,{"$f":"IF(P_14号様式!O50=\"\",\"\",P_14号様式!O50)","v":70.617122278605294},null,null,{"$f":"IF(P_14号様式!P50=\"\",\"\",P_14号様式!P50)","v":13},{"$f":"IF(P_14号様式!Q50=\"\",\"\",P_14号様式!Q50)","v":"19:12:00"},{"$f":"IF(P_14号様式!R50=\"\",\"\",P_14号様式!R50)","v":64.909390444810498},{"$f":"IF(P_14号様式!S50=\"\",\"\",P_14号様式!S50)","v":60.140286672766102},{"$f":"IF(P_14号様式!T50=\"\",\"\",P_14号様式!T50)","v":62.432689261957499}]
[{"$f":"IF(P_14号様式!C51=\"\",\"\",P_14号様式!C51)","v":"　 徳之島町"},null,{"$f":"IF(P_14号様式!D51=\"\",\"\",P_14号様式!D51)","v":4356},{"$f":"IF(P_14号様式!E51=\"\",\"\",P_14号様式!E51)","v":4578},{"$f":"IF(P_14号様式!F51=\"\",\"\",P_14号様式!F51)","v":8934},{"$f":"IF(P_14号様式!G51=\"\",\"\",P_14号様式!G51)","v":2927},{"$f":"IF(P_14号様式!H51=\"\",\"\",P_14号様式!H51)","v":3104},{"$f":"IF(P_14号様式!I51=\"\",\"\",P_14号様式!I51)","v":6031},{"$f":"IF(P_14号様式!J51=\"\",\"\",P_14号様式!J51)","v":1429},{"$f":"IF(P_14号様式!K51=\"\",\"\",P_14号様式!K51)","v":1474},{"$f":"IF(P_14号様式!L51=\"\",\"\",P_14号様式!L51)","v":2903},{"$f":"IF(P_14号様式!M51=\"\",\"\",P_14号様式!M51)","v":67.194674012855799},{"$f":"IF(P_14号様式!N51=\"\",\"\",P_14号様式!N51)","v":67.802533857579704},null,null,{"$f":"IF(P_14号様式!O51=\"\",\"\",P_14号様式!O51)","v":67.506156256995695},null,null,{"$f":"IF(P_14号様式!P51=\"\",\"\",P_14号様式!P51)","v":17},{"$f":"IF(P_14号様式!Q51=\"\",\"\",P_14号様式!Q51)","v":"21:33:00"},{"$f":"IF(P_14号様式!R51=\"\",\"\",P_14号様式!R51)","v":55.137062625362198},{"$f":"IF(P_14号様式!S51=\"\",\"\",P_14号様式!S51)","v":56.687898089172002},{"$f":"IF(P_14号様式!T51=\"\",\"\",P_14号様式!T51)","v":55.931281939762997}]
[{"$f":"IF(P_14号様式!C52=\"\",\"\",P_14号様式!C52)","v":"　 天城町"},null,{"$f":"IF(P_14号様式!D52=\"\",\"\",P_14号様式!D52)","v":2593},{"$f":"IF(P_14号様式!E52=\"\",\"\",P_14号様式!E52)","v":2489},{"$f":"IF(P_14号様式!F52=\"\",\"\",P_14号様式!F52)","v":5082},{"$f":"IF(P_14号様式!G52=\"\",\"\",P_14号様式!G52)","v":1757},{"$f":"IF(P_14号様式!H52=\"\",\"\",P_14号様式!H52)","v":1701},{"$f":"IF(P_14号様式!I52=\"\",\"\",P_14号様式!I52)","v":3458},{"$f":"IF(P_14号様式!J52=\"\",\"\",P_14号様式!J52)","v":836},{"$f":"IF(P_14号様式!K52=\"\",\"\",P_14号様式!K52)","v":788},{"$f":"IF(P_14号様式!L52=\"\",\"\",P_14号様式!L52)","v":1624},{"$f":"IF(P_14号様式!M52=\"\",\"\",P_14号様式!M52)","v":67.759352101812595},{"$f":"IF(P_14号様式!N52=\"\",\"\",P_14号様式!N52)","v":68.340699075934097},null,null,{"$f":"IF(P_14号様式!O52=\"\",\"\",P_14号様式!O52)","v":68.044077134986196},null,null,{"$f":"IF(P_14号様式!P52=\"\",\"\",P_14号様式!P52)","v":16},{"$f":"IF(P_14号様式!Q52=\"\",\"\",P_14号様式!Q52)","v":"20:28:00"},{"$f":"IF(P_14号様式!R52=\"\",\"\",P_14号様式!R52)","v":52.533333333333303},{"$f":"IF(P_14号様式!S52=\"\",\"\",P_14号様式!S52)","v":50.612406163571698},{"$f":"IF(P_14号様式!T52=\"\",\"\",P_14号様式!T52)","v":51.590380139643102}]
[{"$f":"IF(P_14号様式!C53=\"\",\"\",P_14号様式!C53)","v":"　 伊仙町"},null,{"$f":"IF(P_14号様式!D53=\"\",\"\",P_14号様式!D53)","v":2854},{"$f":"IF(P_14号様式!E53=\"\",\"\",P_14号様式!E53)","v":2782},{"$f":"IF(P_14号様式!F53=\"\",\"\",P_14号様式!F53)","v":5636},{"$f":"IF(P_14号様式!G53=\"\",\"\",P_14号様式!G53)","v":2629},{"$f":"IF(P_14号様式!H53=\"\",\"\",P_14号様式!H53)","v":2476},{"$f":"IF(P_14号様式!I53=\"\",\"\",P_14号様式!I53)","v":5105},{"$f":"IF(P_14号様式!J53=\"\",\"\",P_14号様式!J53)","v":225},{"$f":"IF(P_14号様式!K53=\"\",\"\",P_14号様式!K53)","v":306},{"$f":"IF(P_14号様式!L53=\"\",\"\",P_14号様式!L53)","v":531},{"$f":"IF(P_14号様式!M53=\"\",\"\",P_14号様式!M53)","v":92.116327960756806},{"$f":"IF(P_14号様式!N53=\"\",\"\",P_14号様式!N53)","v":89.000718907261003},null,null,{"$f":"IF(P_14号様式!O53=\"\",\"\",P_14号様式!O53)","v":90.578424414478306},null,null,{"$f":"IF(P_14号様式!P53=\"\",\"\",P_14号様式!P53)","v":1},{"$f":"IF(P_14号様式!Q53=\"\",\"\",P_14号様式!Q53)","v":"20:41:00"},{"$f":"IF(P_14号様式!R53=\"\",\"\",P_14号様式!R53)","v":60.034904013961601},{"$f":"IF(P_14号様式!S53=\"\",\"\",P_14号様式!S53)","v":57.613596947624004},{"$f":"IF(P_14号様式!T53=\"\",\"\",P_14号様式!T53)","v":58.820459290187898}]
[{"$f":"IF(P_14号様式!C54=\"\",\"\",P_14号様式!C54)","v":"　 和泊町"},null,{"$f":"IF(P_14号様式!D54=\"\",\"\",P_14号様式!D54)","v":2668},{"$f":"IF(P_14号様式!E54=\"\",\"\",P_14号様式!E54)","v":2779},{"$f":"IF(P_14号様式!F54=\"\",\"\",P_14号様式!F54)","v":5447},{"$f":"IF(P_14号様式!G54=\"\",\"\",P_14号様式!G54)","v":1986},{"$f":"IF(P_14号様式!H54=\"\",\"\",P_14号様式!H54)","v":1995},{"$f":"IF(P_14号様式!I54=\"\",\"\",P_14号様式!I54)","v":3981},{"$f":"IF(P_14号様式!J54=\"\",\"\",P_14号様式!J54)","v":682},{"$f":"IF(P_14号様式!K54=\"\",\"\",P_14号様式!K54)","v":784},{"$f":"IF(P_14号様式!L54=\"\",\"\",P_14号様式!L54)","v":1466},{"$f":"IF(P_14号様式!M54=\"\",\"\",P_14号様式!M54)","v":74.437781109445297},{"$f":"IF(P_14号様式!N54=\"\",\"\",P_14号様式!N54)","v":71.788413098236802},null,null,{"$f":"IF(P_14号様式!O54=\"\",\"\",P_14号様式!O54)","v":73.086102441711006},null,null,{"$f":"IF(P_14号様式!P54=\"\",\"\",P_14号様式!P54)","v":10},{"$f":"IF(P_14号様式!Q54=\"\",\"\",P_14号様式!Q54)","v":"19:01:00"},{"$f":"IF(P_14号様式!R54=\"\",\"\",P_14号様式!R54)","v":63.904034896401299},{"$f":"IF(P_14号様式!S54=\"\",\"\",P_14号様式!S54)","v":63.185840707964601},{"$f":"IF(P_14号様式!T54=\"\",\"\",P_14号様式!T54)","v":63.540172166427503}]
[{"$f":"IF(P_14号様式!C55=\"\",\"\",P_14号様式!C55)","v":"　 知名町"},null,{"$f":"IF(P_14号様式!D55=\"\",\"\",P_14号様式!D55)","v":2539},{"$f":"IF(P_14号様式!E55=\"\",\"\",P_14号様式!E55)","v":2500},{"$f":"IF(P_14号様式!F55=\"\",\"\",P_14号様式!F55)","v":5039},{"$f":"IF(P_14号様式!G55=\"\",\"\",P_14号様式!G55)","v":1820},{"$f":"IF(P_14号様式!H55=\"\",\"\",P_14号様式!H55)","v":1750},{"$f":"IF(P_14号様式!I55=\"\",\"\",P_14号様式!I55)","v":3570},{"$f":"IF(P_14号様式!J55=\"\",\"\",P_14号様式!J55)","v":719},{"$f":"IF(P_14号様式!K55=\"\",\"\",P_14号様式!K55)","v":750},{"$f":"IF(P_14号様式!L55=\"\",\"\",P_14号様式!L55)","v":1469},{"$f":"IF(P_14号様式!M55=\"\",\"\",P_14号様式!M55)","v":71.681764474202495},{"$f":"IF(P_14号様式!N55=\"\",\"\",P_14号様式!N55)","v":70},null,null,{"$f":"IF(P_14号様式!O55=\"\",\"\",P_14号様式!O55)","v":70.847390355229194},null,null,{"$f":"IF(P_14号様式!P55=\"\",\"\",P_14号様式!P55)","v":12},{"$f":"IF(P_14号様式!Q55=\"\",\"\",P_14号様式!Q55)","v":"19:15:00"},{"$f":"IF(P_14号様式!R55=\"\",\"\",P_14号様式!R55)","v":63.001543209876502},{"$f":"IF(P_14号様式!S55=\"\",\"\",P_14号様式!S55)","v":60.015378700499802},{"$f":"IF(P_14号様式!T55=\"\",\"\",P_14号様式!T55)","v":61.505873290968601}]
[{"$f":"IF(P_14号様式!C56=\"\",\"\",P_14号様式!C56)","v":"　 与論町"},null,{"$f":"IF(P_14号様式!D56=\"\",\"\",P_14号様式!D56)","v":2107},{"$f":"IF(P_14号様式!E56=\"\",\"\",P_14号様式!E56)","v":2246},{"$f":"IF(P_14号様式!F56=\"\",\"\",P_14号様式!F56)","v":4353},{"$f":"IF(P_14号様式!G56=\"\",\"\",P_14号様式!G56)","v":1532},{"$f":"IF(P_14号様式!H56=\"\",\"\",P_14号様式!H56)","v":1540},{"$f":"IF(P_14号様式!I56=\"\",\"\",P_14号様式!I56)","v":3072},{"$f":"IF(P_14号様式!J56=\"\",\"\",P_14号様式!J56)","v":575},{"$f":"IF(P_14号様式!K56=\"\",\"\",P_14号様式!K56)","v":706},{"$f":"IF(P_14号様式!L56=\"\",\"\",P_14号様式!L56)","v":1281},{"$f":"IF(P_14号様式!M56=\"\",\"\",P_14号様式!M56)","v":72.710014238253393},{"$f":"IF(P_14号様式!N56=\"\",\"\",P_14号様式!N56)","v":68.566340160284994},null,null,{"$f":"IF(P_14号様式!O56=\"\",\"\",P_14号様式!O56)","v":70.572019297036505},null,null,{"$f":"IF(P_14号様式!P56=\"\",\"\",P_14号様式!P56)","v":14},{"$f":"IF(P_14号様式!Q56=\"\",\"\",P_14号様式!Q56)","v":"23:02:00"},{"$f":"IF(P_14号様式!R56=\"\",\"\",P_14号様式!R56)","v":64.725223109441103},{"$f":"IF(P_14号様式!S56=\"\",\"\",P_14号様式!S56)","v":62.144420131291},{"$f":"IF(P_14号様式!T56=\"\",\"\",P_14号様式!T56)","v":63.389216130493899}]
[{"$f":"IF(P_14号様式!C57=\"\",\"\",P_14号様式!C57)","v":"＊（大島郡）計"},null,{"$f":"IF(P_14号様式!D57=\"\",\"\",P_14号様式!D57)","v":27498},{"$f":"IF(P_14号様式!E57=\"\",\"\",P_14号様式!E57)","v":28604},{"$f":"IF(P_14号様式!F57=\"\",\"\",P_14号様式!F57)","v":56102},{"$f":"IF(P_14号様式!G57=\"\",\"\",P_14号様式!G57)","v":20795},{"$f":"IF(P_14号様式!H57=\"\",\"\",P_14号様式!H57)","v":21256},{"$f":"IF(P_14号様式!I57=\"\",\"\",P_14号様式!I57)","v":42051},{"$f":"IF(P_14号様式!J57=\"\",\"\",P_14号様式!J57)","v":6703},{"$f":"IF(P_14号様式!K57=\"\",\"\",P_14号様式!K57)","v":7348},{"$f":"IF(P_14号様式!L57=\"\",\"\",P_14号様式!L57)","v":14051},{"$f":"IF(P_14号様式!M57=\"\",\"\",P_14号様式!M57)","v":75.623681722307097},{"$f":"IF(P_14号様式!N57=\"\",\"\",P_14号様式!N57)","v":74.311285134946203},null,null,{"$f":"IF(P_14号様式!O57=\"\",\"\",P_14号様式!O57)","v":74.954547074970606},null,null,{"$f":"IF(P_14号様式!P57=\"\",\"\",P_14号様式!P57)","v":""},{"$f":"IF(P_14号様式!Q57=\"\",\"\",P_14号様式!Q57)","v":"23:02:00"},{"$f":"IF(P_14号様式!R57=\"\",\"\",P_14号様式!R57)","v":62.171722585486101},{"$f":"IF(P_14号様式!S57=\"\",\"\",P_14号様式!S57)","v":61.030836704858402},{"$f":"IF(P_14号様式!T57=\"\",\"\",P_14号様式!T57)","v":61.587108013937303}]
[{"$f":"IF(P_14号様式!C58=\"\",\"\",P_14号様式!C58)","v":""},null,{"$f":"IF(P_14号様式!D58=\"\",\"\",P_14号様式!D58)","v":""},{"$f":"IF(P_14号様式!E58=\"\",\"\",P_14号様式!E58)","v":""},{"$f":"IF(P_14号様式!F58=\"\",\"\",P_14号様式!F58)","v":""},{"$f":"IF(P_14号様式!G58=\"\",\"\",P_14号様式!G58)","v":""},{"$f":"IF(P_14号様式!H58=\"\",\"\",P_14号様式!H58)","v":""},{"$f":"IF(P_14号様式!I58=\"\",\"\",P_14号様式!I58)","v":""},{"$f":"IF(P_14号様式!J58=\"\",\"\",P_14号様式!J58)","v":""},{"$f":"IF(P_14号様式!K58=\"\",\"\",P_14号様式!K58)","v":""},{"$f":"IF(P_14号様式!L58=\"\",\"\",P_14号様式!L58)","v":""},{"$f":"IF(P_14号様式!M58=\"\",\"\",P_14号様式!M58)","v":""},{"$f":"IF(P_14号様式!N58=\"\",\"\",P_14号様式!N58)","v":""},null,null,{"$f":"IF(P_14号様式!O58=\"\",\"\",P_14号様式!O58)","v":""},null,null,{"$f":"IF(P_14号様式!P58=\"\",\"\",P_14号様式!P58)","v":""},{"$f":"IF(P_14号様式!Q58=\"\",\"\",P_14号様式!Q58)","v":""},{"$f":"IF(P_14号様式!R58=\"\",\"\",P_14号様式!R58)","v":""},{"$f":"IF(P_14号様式!S58=\"\",\"\",P_14号様式!S58)","v":""},{"$f":"IF(P_14号様式!T58=\"\",\"\",P_14号様式!T58)","v":""}]
[{"$f":"IF(P_14号様式!C59=\"\",\"\",P_14号様式!C59)","v":""},null,{"$f":"IF(P_14号様式!D59=\"\",\"\",P_14号様式!D59)","v":""},{"$f":"IF(P_14号様式!E59=\"\",\"\",P_14号様式!E59)","v":""},{"$f":"IF(P_14号様式!F59=\"\",\"\",P_14号様式!F59)","v":""},{"$f":"IF(P_14号様式!G59=\"\",\"\",P_14号様式!G59)","v":""},{"$f":"IF(P_14号様式!H59=\"\",\"\",P_14号様式!H59)","v":""},{"$f":"IF(P_14号様式!I59=\"\",\"\",P_14号様式!I59)","v":""},{"$f":"IF(P_14号様式!J59=\"\",\"\",P_14号様式!J59)","v":""},{"$f":"IF(P_14号様式!K59=\"\",\"\",P_14号様式!K59)","v":""},{"$f":"IF(P_14号様式!L59=\"\",\"\",P_14号様式!L59)","v":""},{"$f":"IF(P_14号様式!M59=\"\",\"\",P_14号様式!M59)","v":""},{"$f":"IF(P_14号様式!N59=\"\",\"\",P_14号様式!N59)","v":""},null,null,{"$f":"IF(P_14号様式!O59=\"\",\"\",P_14号様式!O59)","v":""},null,null,{"$f":"IF(P_14号様式!P59=\"\",\"\",P_14号様式!P59)","v":""},{"$f":"IF(P_14号様式!Q59=\"\",\"\",P_14号様式!Q59)","v":""},{"$f":"IF(P_14号様式!R59=\"\",\"\",P_14号様式!R59)","v":""},{"$f":"IF(P_14号様式!S59=\"\",\"\",P_14号様式!S59)","v":""},{"$f":"IF(P_14号様式!T59=\"\",\"\",P_14号様式!T59)","v":""}]
[{"$f":"IF(P_14号様式!C60=\"\",\"\",P_14号様式!C60)","v":""},null,{"$f":"IF(P_14号様式!D60=\"\",\"\",P_14号様式!D60)","v":""},{"$f":"IF(P_14号様式!E60=\"\",\"\",P_14号様式!E60)","v":""},{"$f":"IF(P_14号様式!F60=\"\",\"\",P_14号様式!F60)","v":""},{"$f":"IF(P_14号様式!G60=\"\",\"\",P_14号様式!G60)","v":""},{"$f":"IF(P_14号様式!H60=\"\",\"\",P_14号様式!H60)","v":""},{"$f":"IF(P_14号様式!I60=\"\",\"\",P_14号様式!I60)","v":""},{"$f":"IF(P_14号様式!J60=\"\",\"\",P_14号様式!J60)","v":""},{"$f":"IF(P_14号様式!K60=\"\",\"\",P_14号様式!K60)","v":""},{"$f":"IF(P_14号様式!L60=\"\",\"\",P_14号様式!L60)","v":""},{"$f":"IF(P_14号様式!M60=\"\",\"\",P_14号様式!M60)","v":""},{"$f":"IF(P_14号様式!N60=\"\",\"\",P_14号様式!N60)","v":""},null,null,{"$f":"IF(P_14号様式!O60=\"\",\"\",P_14号様式!O60)","v":""},null,null,{"$f":"IF(P_14号様式!P60=\"\",\"\",P_14号様式!P60)","v":""},{"$f":"IF(P_14号様式!Q60=\"\",\"\",P_14号様式!Q60)","v":""},{"$f":"IF(P_14号様式!R60=\"\",\"\",P_14号様式!R60)","v":""},{"$f":"IF(P_14号様式!S60=\"\",\"\",P_14号様式!S60)","v":""},{"$f":"IF(P_14号様式!T60=\"\",\"\",P_14号様式!T60)","v":""}]
[{"$f":"IF(P_14号様式!C61=\"\",\"\",P_14号様式!C61)","v":""},null,{"$f":"IF(P_14号様式!D61=\"\",\"\",P_14号様式!D61)","v":""},{"$f":"IF(P_14号様式!E61=\"\",\"\",P_14号様式!E61)","v":""},{"$f":"IF(P_14号様式!F61=\"\",\"\",P_14号様式!F61)","v":""},{"$f":"IF(P_14号様式!G61=\"\",\"\",P_14号様式!G61)","v":""},{"$f":"IF(P_14号様式!H61=\"\",\"\",P_14号様式!H61)","v":""},{"$f":"IF(P_14号様式!I61=\"\",\"\",P_14号様式!I61)","v":""},{"$f":"IF(P_14号様式!J61=\"\",\"\",P_14号様式!J61)","v":""},{"$f":"IF(P_14号様式!K61=\"\",\"\",P_14号様式!K61)","v":""},{"$f":"IF(P_14号様式!L61=\"\",\"\",P_14号様式!L61)","v":""},{"$f":"IF(P_14号様式!M61=\"\",\"\",P_14号様式!M61)","v":""},{"$f":"IF(P_14号様式!N61=\"\",\"\",P_14号様式!N61)","v":""},null,null,{"$f":"IF(P_14号様式!O61=\"\",\"\",P_14号様式!O61)","v":""},null,null,{"$f":"IF(P_14号様式!P61=\"\",\"\",P_14号様式!P61)","v":""},{"$f":"IF(P_14号様式!Q61=\"\",\"\",P_14号様式!Q61)","v":""},{"$f":"IF(P_14号様式!R61=\"\",\"\",P_14号様式!R61)","v":""},{"$f":"IF(P_14号様式!S61=\"\",\"\",P_14号様式!S61)","v":""},{"$f":"IF(P_14号様式!T61=\"\",\"\",P_14号様式!T61)","v":""}]
[{"$f":"IF(P_14号様式!C62=\"\",\"\",P_14号様式!C62)","v":""},null,{"$f":"IF(P_14号様式!D62=\"\",\"\",P_14号様式!D62)","v":""},{"$f":"IF(P_14号様式!E62=\"\",\"\",P_14号様式!E62)","v":""},{"$f":"IF(P_14号様式!F62=\"\",\"\",P_14号様式!F62)","v":""},{"$f":"IF(P_14号様式!G62=\"\",\"\",P_14号様式!G62)","v":""},{"$f":"IF(P_14号様式!H62=\"\",\"\",P_14号様式!H62)","v":""},{"$f":"IF(P_14号様式!I62=\"\",\"\",P_14号様式!I62)","v":""},{"$f":"IF(P_14号様式!J62=\"\",\"\",P_14号様式!J62)","v":""},{"$f":"IF(P_14号様式!K62=\"\",\"\",P_14号様式!K62)","v":""},{"$f":"IF(P_14号様式!L62=\"\",\"\",P_14号様式!L62)","v":""},{"$f":"IF(P_14号様式!M62=\"\",\"\",P_14号様式!M62)","v":""},{"$f":"IF(P_14号様式!N62=\"\",\"\",P_14号様式!N62)","v":""},null,null,{"$f":"IF(P_14号様式!O62=\"\",\"\",P_14号様式!O62)","v":""},null,null,{"$f":"IF(P_14号様式!P62=\"\",\"\",P_14号様式!P62)","v":""},{"$f":"IF(P_14号様式!Q62=\"\",\"\",P_14号様式!Q62)","v":""},{"$f":"IF(P_14号様式!R62=\"\",\"\",P_14号様式!R62)","v":""},{"$f":"IF(P_14号様式!S62=\"\",\"\",P_14号様式!S62)","v":""},{"$f":"IF(P_14号様式!T62=\"\",\"\",P_14号様式!T62)","v":""}]
[{"$f":"IF(P_14号様式!C63=\"\",\"\",P_14号様式!C63)","v":""},null,{"$f":"IF(P_14号様式!D63=\"\",\"\",P_14号様式!D63)","v":""},{"$f":"IF(P_14号様式!E63=\"\",\"\",P_14号様式!E63)","v":""},{"$f":"IF(P_14号様式!F63=\"\",\"\",P_14号様式!F63)","v":""},{"$f":"IF(P_14号様式!G63=\"\",\"\",P_14号様式!G63)","v":""},{"$f":"IF(P_14号様式!H63=\"\",\"\",P_14号様式!H63)","v":""},{"$f":"IF(P_14号様式!I63=\"\",\"\",P_14号様式!I63)","v":""},{"$f":"IF(P_14号様式!J63=\"\",\"\",P_14号様式!J63)","v":""},{"$f":"IF(P_14号様式!K63=\"\",\"\",P_14号様式!K63)","v":""},{"$f":"IF(P_14号様式!L63=\"\",\"\",P_14号様式!L63)","v":""},{"$f":"IF(P_14号様式!M63=\"\",\"\",P_14号様式!M63)","v":""},{"$f":"IF(P_14号様式!N63=\"\",\"\",P_14号様式!N63)","v":""},null,null,{"$f":"IF(P_14号様式!O63=\"\",\"\",P_14号様式!O63)","v":""},null,null,{"$f":"IF(P_14号様式!P63=\"\",\"\",P_14号様式!P63)","v":""},{"$f":"IF(P_14号様式!Q63=\"\",\"\",P_14号様式!Q63)","v":""},{"$f":"IF(P_14号様式!R63=\"\",\"\",P_14号様式!R63)","v":""},{"$f":"IF(P_14号様式!S63=\"\",\"\",P_14号様式!S63)","v":""},{"$f":"IF(P_14号様式!T63=\"\",\"\",P_14号様式!T63)","v":""}]
[{"$f":"IF(P_14号様式!C64=\"\",\"\",P_14号様式!C64)","v":""},null,{"$f":"IF(P_14号様式!D64=\"\",\"\",P_14号様式!D64)","v":""},{"$f":"IF(P_14号様式!E64=\"\",\"\",P_14号様式!E64)","v":""},{"$f":"IF(P_14号様式!F64=\"\",\"\",P_14号様式!F64)","v":""},{"$f":"IF(P_14号様式!G64=\"\",\"\",P_14号様式!G64)","v":""},{"$f":"IF(P_14号様式!H64=\"\",\"\",P_14号様式!H64)","v":""},{"$f":"IF(P_14号様式!I64=\"\",\"\",P_14号様式!I64)","v":""},{"$f":"IF(P_14号様式!J64=\"\",\"\",P_14号様式!J64)","v":""},{"$f":"IF(P_14号様式!K64=\"\",\"\",P_14号様式!K64)","v":""},{"$f":"IF(P_14号様式!L64=\"\",\"\",P_14号様式!L64)","v":""},{"$f":"IF(P_14号様式!M64=\"\",\"\",P_14号様式!M64)","v":""},{"$f":"IF(P_14号様式!N64=\"\",\"\",P_14号様式!N64)","v":""},null,null,{"$f":"IF(P_14号様式!O64=\"\",\"\",P_14号様式!O64)","v":""},null,null,{"$f":"IF(P_14号様式!P64=\"\",\"\",P_14号様式!P64)","v":""},{"$f":"IF(P_14号様式!Q64=\"\",\"\",P_14号様式!Q64)","v":""},{"$f":"IF(P_14号様式!R64=\"\",\"\",P_14号様式!R64)","v":""},{"$f":"IF(P_14号様式!S64=\"\",\"\",P_14号様式!S64)","v":""},{"$f":"IF(P_14号様式!T64=\"\",\"\",P_14号様式!T64)","v":""}]
[{"$f":"IF(P_14号様式!C65=\"\",\"\",P_14号様式!C65)","v":""},null,{"$f":"IF(P_14号様式!D65=\"\",\"\",P_14号様式!D65)","v":""},{"$f":"IF(P_14号様式!E65=\"\",\"\",P_14号様式!E65)","v":""},{"$f":"IF(P_14号様式!F65=\"\",\"\",P_14号様式!F65)","v":""},{"$f":"IF(P_14号様式!G65=\"\",\"\",P_14号様式!G65)","v":""},{"$f":"IF(P_14号様式!H65=\"\",\"\",P_14号様式!H65)","v":""},{"$f":"IF(P_14号様式!I65=\"\",\"\",P_14号様式!I65)","v":""},{"$f":"IF(P_14号様式!J65=\"\",\"\",P_14号様式!J65)","v":""},{"$f":"IF(P_14号様式!K65=\"\",\"\",P_14号様式!K65)","v":""},{"$f":"IF(P_14号様式!L65=\"\",\"\",P_14号様式!L65)","v":""},{"$f":"IF(P_14号様式!M65=\"\",\"\",P_14号様式!M65)","v":""},{"$f":"IF(P_14号様式!N65=\"\",\"\",P_14号様式!N65)","v":""},null,null,{"$f":"IF(P_14号様式!O65=\"\",\"\",P_14号様式!O65)","v":""},null,null,{"$f":"IF(P_14号様式!P65=\"\",\"\",P_14号様式!P65)","v":""},{"$f":"IF(P_14号様式!Q65=\"\",\"\",P_14号様式!Q65)","v":""},{"$f":"IF(P_14号様式!R65=\"\",\"\",P_14号様式!R65)","v":""},{"$f":"IF(P_14号様式!S65=\"\",\"\",P_14号様式!S65)","v":""},{"$f":"IF(P_14号様式!T65=\"\",\"\",P_14号様式!T65)","v":""}]
[{"$f":"IF(P_14号様式!C66=\"\",\"\",P_14号様式!C66)","v":""},null,{"$f":"IF(P_14号様式!D66=\"\",\"\",P_14号様式!D66)","v":""},{"$f":"IF(P_14号様式!E66=\"\",\"\",P_14号様式!E66)","v":""},{"$f":"IF(P_14号様式!F66=\"\",\"\",P_14号様式!F66)","v":""},{"$f":"IF(P_14号様式!G66=\"\",\"\",P_14号様式!G66)","v":""},{"$f":"IF(P_14号様式!H66=\"\",\"\",P_14号様式!H66)","v":""},{"$f":"IF(P_14号様式!I66=\"\",\"\",P_14号様式!I66)","v":""},{"$f":"IF(P_14号様式!J66=\"\",\"\",P_14号様式!J66)","v":""},{"$f":"IF(P_14号様式!K66=\"\",\"\",P_14号様式!K66)","v":""},{"$f":"IF(P_14号様式!L66=\"\",\"\",P_14号様式!L66)","v":""},{"$f":"IF(P_14号様式!M66=\"\",\"\",P_14号様式!M66)","v":""},{"$f":"IF(P_14号様式!N66=\"\",\"\",P_14号様式!N66)","v":""},null,null,{"$f":"IF(P_14号様式!O66=\"\",\"\",P_14号様式!O66)","v":""},null,null,{"$f":"IF(P_14号様式!P66=\"\",\"\",P_14号様式!P66)","v":""},{"$f":"IF(P_14号様式!Q66=\"\",\"\",P_14号様式!Q66)","v":""},{"$f":"IF(P_14号様式!R66=\"\",\"\",P_14号様式!R66)","v":""},{"$f":"IF(P_14号様式!S66=\"\",\"\",P_14号様式!S66)","v":""},{"$f":"IF(P_14号様式!T66=\"\",\"\",P_14号様式!T66)","v":""}]
[{"$f":"IF(P_14号様式!C67=\"\",\"\",P_14号様式!C67)","v":""},null,{"$f":"IF(P_14号様式!D67=\"\",\"\",P_14号様式!D67)","v":""},{"$f":"IF(P_14号様式!E67=\"\",\"\",P_14号様式!E67)","v":""},{"$f":"IF(P_14号様式!F67=\"\",\"\",P_14号様式!F67)","v":""},{"$f":"IF(P_14号様式!G67=\"\",\"\",P_14号様式!G67)","v":""},{"$f":"IF(P_14号様式!H67=\"\",\"\",P_14号様式!H67)","v":""},{"$f":"IF(P_14号様式!I67=\"\",\"\",P_14号様式!I67)","v":""},{"$f":"IF(P_14号様式!J67=\"\",\"\",P_14号様式!J67)","v":""},{"$f":"IF(P_14号様式!K67=\"\",\"\",P_14号様式!K67)","v":""},{"$f":"IF(P_14号様式!L67=\"\",\"\",P_14号様式!L67)","v":""},{"$f":"IF(P_14号様式!M67=\"\",\"\",P_14号様式!M67)","v":""},{"$f":"IF(P_14号様式!N67=\"\",\"\",P_14号様式!N67)","v":""},null,null,{"$f":"IF(P_14号様式!O67=\"\",\"\",P_14号様式!O67)","v":""},null,null,{"$f":"IF(P_14号様式!P67=\"\",\"\",P_14号様式!P67)","v":""},{"$f":"IF(P_14号様式!Q67=\"\",\"\",P_14号様式!Q67)","v":""},{"$f":"IF(P_14号様式!R67=\"\",\"\",P_14号様式!R67)","v":""},{"$f":"IF(P_14号様式!S67=\"\",\"\",P_14号様式!S67)","v":""},{"$f":"IF(P_14号様式!T67=\"\",\"\",P_14号様式!T67)","v":""}]
[{"$f":"IF(P_14号様式!C68=\"\",\"\",P_14号様式!C68)","v":""},null,{"$f":"IF(P_14号様式!D68=\"\",\"\",P_14号様式!D68)","v":""},{"$f":"IF(P_14号様式!E68=\"\",\"\",P_14号様式!E68)","v":""},{"$f":"IF(P_14号様式!F68=\"\",\"\",P_14号様式!F68)","v":""},{"$f":"IF(P_14号様式!G68=\"\",\"\",P_14号様式!G68)","v":""},{"$f":"IF(P_14号様式!H68=\"\",\"\",P_14号様式!H68)","v":""},{"$f":"IF(P_14号様式!I68=\"\",\"\",P_14号様式!I68)","v":""},{"$f":"IF(P_14号様式!J68=\"\",\"\",P_14号様式!J68)","v":""},{"$f":"IF(P_14号様式!K68=\"\",\"\",P_14号様式!K68)","v":""},{"$f":"IF(P_14号様式!L68=\"\",\"\",P_14号様式!L68)","v":""},{"$f":"IF(P_14号様式!M68=\"\",\"\",P_14号様式!M68)","v":""},{"$f":"IF(P_14号様式!N68=\"\",\"\",P_14号様式!N68)","v":""},null,null,{"$f":"IF(P_14号様式!O68=\"\",\"\",P_14号様式!O68)","v":""},null,null,{"$f":"IF(P_14号様式!P68=\"\",\"\",P_14号様式!P68)","v":""},{"$f":"IF(P_14号様式!Q68=\"\",\"\",P_14号様式!Q68)","v":""},{"$f":"IF(P_14号様式!R68=\"\",\"\",P_14号様式!R68)","v":""},{"$f":"IF(P_14号様式!S68=\"\",\"\",P_14号様式!S68)","v":""},{"$f":"IF(P_14号様式!T68=\"\",\"\",P_14号様式!T68)","v":""}]
[{"$f":"IF(P_14号様式!C69=\"\",\"\",P_14号様式!C69)","v":""},null,{"$f":"IF(P_14号様式!D69=\"\",\"\",P_14号様式!D69)","v":""},{"$f":"IF(P_14号様式!E69=\"\",\"\",P_14号様式!E69)","v":""},{"$f":"IF(P_14号様式!F69=\"\",\"\",P_14号様式!F69)","v":""},{"$f":"IF(P_14号様式!G69=\"\",\"\",P_14号様式!G69)","v":""},{"$f":"IF(P_14号様式!H69=\"\",\"\",P_14号様式!H69)","v":""},{"$f":"IF(P_14号様式!I69=\"\",\"\",P_14号様式!I69)","v":""},{"$f":"IF(P_14号様式!J69=\"\",\"\",P_14号様式!J69)","v":""},{"$f":"IF(P_14号様式!K69=\"\",\"\",P_14号様式!K69)","v":""},{"$f":"IF(P_14号様式!L69=\"\",\"\",P_14号様式!L69)","v":""},{"$f":"IF(P_14号様式!M69=\"\",\"\",P_14号様式!M69)","v":""},{"$f":"IF(P_14号様式!N69=\"\",\"\",P_14号様式!N69)","v":""},null,null,{"$f":"IF(P_14号様式!O69=\"\",\"\",P_14号様式!O69)","v":""},null,null,{"$f":"IF(P_14号様式!P69=\"\",\"\",P_14号様式!P69)","v":""},{"$f":"IF(P_14号様式!Q69=\"\",\"\",P_14号様式!Q69)","v":""},{"$f":"IF(P_14号様式!R69=\"\",\"\",P_14号様式!R69)","v":""},{"$f":"IF(P_14号様式!S69=\"\",\"\",P_14号様式!S69)","v":""},{"$f":"IF(P_14号様式!T69=\"\",\"\",P_14号様式!T69)","v":""}]
[{"$f":"IF(P_14号様式!C70=\"\",\"\",P_14号様式!C70)","v":""},null,{"$f":"IF(P_14号様式!D70=\"\",\"\",P_14号様式!D70)","v":""},{"$f":"IF(P_14号様式!E70=\"\",\"\",P_14号様式!E70)","v":""},{"$f":"IF(P_14号様式!F70=\"\",\"\",P_14号様式!F70)","v":""},{"$f":"IF(P_14号様式!G70=\"\",\"\",P_14号様式!G70)","v":""},{"$f":"IF(P_14号様式!H70=\"\",\"\",P_14号様式!H70)","v":""},{"$f":"IF(P_14号様式!I70=\"\",\"\",P_14号様式!I70)","v":""},{"$f":"IF(P_14号様式!J70=\"\",\"\",P_14号様式!J70)","v":""},{"$f":"IF(P_14号様式!K70=\"\",\"\",P_14号様式!K70)","v":""},{"$f":"IF(P_14号様式!L70=\"\",\"\",P_14号様式!L70)","v":""},{"$f":"IF(P_14号様式!M70=\"\",\"\",P_14号様式!M70)","v":""},{"$f":"IF(P_14号様式!N70=\"\",\"\",P_14号様式!N70)","v":""},null,null,{"$f":"IF(P_14号様式!O70=\"\",\"\",P_14号様式!O70)","v":""},null,null,{"$f":"IF(P_14号様式!P70=\"\",\"\",P_14号様式!P70)","v":""},{"$f":"IF(P_14号様式!Q70=\"\",\"\",P_14号様式!Q70)","v":""},{"$f":"IF(P_14号様式!R70=\"\",\"\",P_14号様式!R70)","v":""},{"$f":"IF(P_14号様式!S70=\"\",\"\",P_14号様式!S70)","v":""},{"$f":"IF(P_14号様式!T70=\"\",\"\",P_14号様式!T70)","v":""}]
[{"$f":"IF(P_14号様式!C71=\"\",\"\",P_14号様式!C71)","v":""},null,{"$f":"IF(P_14号様式!D71=\"\",\"\",P_14号様式!D71)","v":""},{"$f":"IF(P_14号様式!E71=\"\",\"\",P_14号様式!E71)","v":""},{"$f":"IF(P_14号様式!F71=\"\",\"\",P_14号様式!F71)","v":""},{"$f":"IF(P_14号様式!G71=\"\",\"\",P_14号様式!G71)","v":""},{"$f":"IF(P_14号様式!H71=\"\",\"\",P_14号様式!H71)","v":""},{"$f":"IF(P_14号様式!I71=\"\",\"\",P_14号様式!I71)","v":""},{"$f":"IF(P_14号様式!J71=\"\",\"\",P_14号様式!J71)","v":""},{"$f":"IF(P_14号様式!K71=\"\",\"\",P_14号様式!K71)","v":""},{"$f":"IF(P_14号様式!L71=\"\",\"\",P_14号様式!L71)","v":""},{"$f":"IF(P_14号様式!M71=\"\",\"\",P_14号様式!M71)","v":""},{"$f":"IF(P_14号様式!N71=\"\",\"\",P_14号様式!N71)","v":""},null,null,{"$f":"IF(P_14号様式!O71=\"\",\"\",P_14号様式!O71)","v":""},null,null,{"$f":"IF(P_14号様式!P71=\"\",\"\",P_14号様式!P71)","v":""},{"$f":"IF(P_14号様式!Q71=\"\",\"\",P_14号様式!Q71)","v":""},{"$f":"IF(P_14号様式!R71=\"\",\"\",P_14号様式!R71)","v":""},{"$f":"IF(P_14号様式!S71=\"\",\"\",P_14号様式!S71)","v":""},{"$f":"IF(P_14号様式!T71=\"\",\"\",P_14号様式!T71)","v":""}]
[{"$f":"IF(P_14号様式!C72=\"\",\"\",P_14号様式!C72)","v":""},null,{"$f":"IF(P_14号様式!D72=\"\",\"\",P_14号様式!D72)","v":""},{"$f":"IF(P_14号様式!E72=\"\",\"\",P_14号様式!E72)","v":""},{"$f":"IF(P_14号様式!F72=\"\",\"\",P_14号様式!F72)","v":""},{"$f":"IF(P_14号様式!G72=\"\",\"\",P_14号様式!G72)","v":""},{"$f":"IF(P_14号様式!H72=\"\",\"\",P_14号様式!H72)","v":""},{"$f":"IF(P_14号様式!I72=\"\",\"\",P_14号様式!I72)","v":""},{"$f":"IF(P_14号様式!J72=\"\",\"\",P_14号様式!J72)","v":""},{"$f":"IF(P_14号様式!K72=\"\",\"\",P_14号様式!K72)","v":""},{"$f":"IF(P_14号様式!L72=\"\",\"\",P_14号様式!L72)","v":""},{"$f":"IF(P_14号様式!M72=\"\",\"\",P_14号様式!M72)","v":""},{"$f":"IF(P_14号様式!N72=\"\",\"\",P_14号様式!N72)","v":""},null,null,{"$f":"IF(P_14号様式!O72=\"\",\"\",P_14号様式!O72)","v":""},null,null,{"$f":"IF(P_14号様式!P72=\"\",\"\",P_14号様式!P72)","v":""},{"$f":"IF(P_14号様式!Q72=\"\",\"\",P_14号様式!Q72)","v":""},{"$f":"IF(P_14号様式!R72=\"\",\"\",P_14号様式!R72)","v":""},{"$f":"IF(P_14号様式!S72=\"\",\"\",P_14号様式!S72)","v":""},{"$f":"IF(P_14号様式!T72=\"\",\"\",P_14号様式!T72)","v":""}]
[{"$f":"IF(P_14号様式!C73=\"\",\"\",P_14号様式!C73)","v":""},null,{"$f":"IF(P_14号様式!D73=\"\",\"\",P_14号様式!D73)","v":""},{"$f":"IF(P_14号様式!E73=\"\",\"\",P_14号様式!E73)","v":""},{"$f":"IF(P_14号様式!F73=\"\",\"\",P_14号様式!F73)","v":""},{"$f":"IF(P_14号様式!G73=\"\",\"\",P_14号様式!G73)","v":""},{"$f":"IF(P_14号様式!H73=\"\",\"\",P_14号様式!H73)","v":""},{"$f":"IF(P_14号様式!I73=\"\",\"\",P_14号様式!I73)","v":""},{"$f":"IF(P_14号様式!J73=\"\",\"\",P_14号様式!J73)","v":""},{"$f":"IF(P_14号様式!K73=\"\",\"\",P_14号様式!K73)","v":""},{"$f":"IF(P_14号様式!L73=\"\",\"\",P_14号様式!L73)","v":""},{"$f":"IF(P_14号様式!M73=\"\",\"\",P_14号様式!M73)","v":""},{"$f":"IF(P_14号様式!N73=\"\",\"\",P_14号様式!N73)","v":""},null,null,{"$f":"IF(P_14号様式!O73=\"\",\"\",P_14号様式!O73)","v":""},null,null,{"$f":"IF(P_14号様式!P73=\"\",\"\",P_14号様式!P73)","v":""},{"$f":"IF(P_14号様式!Q73=\"\",\"\",P_14号様式!Q73)","v":""},{"$f":"IF(P_14号様式!R73=\"\",\"\",P_14号様式!R73)","v":""},{"$f":"IF(P_14号様式!S73=\"\",\"\",P_14号様式!S73)","v":""},{"$f":"IF(P_14号様式!T73=\"\",\"\",P_14号様式!T73)","v":""}]
[{"$f":"IF(P_14号様式!C74=\"\",\"\",P_14号様式!C74)","v":""},null,{"$f":"IF(P_14号様式!D74=\"\",\"\",P_14号様式!D74)","v":""},{"$f":"IF(P_14号様式!E74=\"\",\"\",P_14号様式!E74)","v":""},{"$f":"IF(P_14号様式!F74=\"\",\"\",P_14号様式!F74)","v":""},{"$f":"IF(P_14号様式!G74=\"\",\"\",P_14号様式!G74)","v":""},{"$f":"IF(P_14号様式!H74=\"\",\"\",P_14号様式!H74)","v":""},{"$f":"IF(P_14号様式!I74=\"\",\"\",P_14号様式!I74)","v":""},{"$f":"IF(P_14号様式!J74=\"\",\"\",P_14号様式!J74)","v":""},{"$f":"IF(P_14号様式!K74=\"\",\"\",P_14号様式!K74)","v":""},{"$f":"IF(P_14号様式!L74=\"\",\"\",P_14号様式!L74)","v":""},{"$f":"IF(P_14号様式!M74=\"\",\"\",P_14号様式!M74)","v":""},{"$f":"IF(P_14号様式!N74=\"\",\"\",P_14号様式!N74)","v":""},null,null,{"$f":"IF(P_14号様式!O74=\"\",\"\",P_14号様式!O74)","v":""},null,null,{"$f":"IF(P_14号様式!P74=\"\",\"\",P_14号様式!P74)","v":""},{"$f":"IF(P_14号様式!Q74=\"\",\"\",P_14号様式!Q74)","v":""},{"$f":"IF(P_14号様式!R74=\"\",\"\",P_14号様式!R74)","v":""},{"$f":"IF(P_14号様式!S74=\"\",\"\",P_14号様式!S74)","v":""},{"$f":"IF(P_14号様式!T74=\"\",\"\",P_14号様式!T74)","v":""}]
[{"$f":"IF(P_14号様式!C75=\"\",\"\",P_14号様式!C75)","v":""},null,{"$f":"IF(P_14号様式!D75=\"\",\"\",P_14号様式!D75)","v":""},{"$f":"IF(P_14号様式!E75=\"\",\"\",P_14号様式!E75)","v":""},{"$f":"IF(P_14号様式!F75=\"\",\"\",P_14号様式!F75)","v":""},{"$f":"IF(P_14号様式!G75=\"\",\"\",P_14号様式!G75)","v":""},{"$f":"IF(P_14号様式!H75=\"\",\"\",P_14号様式!H75)","v":""},{"$f":"IF(P_14号様式!I75=\"\",\"\",P_14号様式!I75)","v":""},{"$f":"IF(P_14号様式!J75=\"\",\"\",P_14号様式!J75)","v":""},{"$f":"IF(P_14号様式!K75=\"\",\"\",P_14号様式!K75)","v":""},{"$f":"IF(P_14号様式!L75=\"\",\"\",P_14号様式!L75)","v":""},{"$f":"IF(P_14号様式!M75=\"\",\"\",P_14号様式!M75)","v":""},{"$f":"IF(P_14号様式!N75=\"\",\"\",P_14号様式!N75)","v":""},null,null,{"$f":"IF(P_14号様式!O75=\"\",\"\",P_14号様式!O75)","v":""},null,null,{"$f":"IF(P_14号様式!P75=\"\",\"\",P_14号様式!P75)","v":""},{"$f":"IF(P_14号様式!Q75=\"\",\"\",P_14号様式!Q75)","v":""},{"$f":"IF(P_14号様式!R75=\"\",\"\",P_14号様式!R75)","v":""},{"$f":"IF(P_14号様式!S75=\"\",\"\",P_14号様式!S75)","v":""},{"$f":"IF(P_14号様式!T75=\"\",\"\",P_14号様式!T75)","v":""}]
[{"$f":"IF(P_14号様式!C76=\"\",\"\",P_14号様式!C76)","v":""},null,{"$f":"IF(P_14号様式!D76=\"\",\"\",P_14号様式!D76)","v":""},{"$f":"IF(P_14号様式!E76=\"\",\"\",P_14号様式!E76)","v":""},{"$f":"IF(P_14号様式!F76=\"\",\"\",P_14号様式!F76)","v":""},{"$f":"IF(P_14号様式!G76=\"\",\"\",P_14号様式!G76)","v":""},{"$f":"IF(P_14号様式!H76=\"\",\"\",P_14号様式!H76)","v":""},{"$f":"IF(P_14号様式!I76=\"\",\"\",P_14号様式!I76)","v":""},{"$f":"IF(P_14号様式!J76=\"\",\"\",P_14号様式!J76)","v":""},{"$f":"IF(P_14号様式!K76=\"\",\"\",P_14号様式!K76)","v":""},{"$f":"IF(P_14号様式!L76=\"\",\"\",P_14号様式!L76)","v":""},{"$f":"IF(P_14号様式!M76=\"\",\"\",P_14号様式!M76)","v":""},{"$f":"IF(P_14号様式!N76=\"\",\"\",P_14号様式!N76)","v":""},null,null,{"$f":"IF(P_14号様式!O76=\"\",\"\",P_14号様式!O76)","v":""},null,null,{"$f":"IF(P_14号様式!P76=\"\",\"\",P_14号様式!P76)","v":""},{"$f":"IF(P_14号様式!Q76=\"\",\"\",P_14号様式!Q76)","v":""},{"$f":"IF(P_14号様式!R76=\"\",\"\",P_14号様式!R76)","v":""},{"$f":"IF(P_14号様式!S76=\"\",\"\",P_14号様式!S76)","v":""},{"$f":"IF(P_14号様式!T76=\"\",\"\",P_14号様式!T76)","v":""}]
[{"$f":"IF(P_14号様式!C77=\"\",\"\",P_14号様式!C77)","v":""},null,{"$f":"IF(P_14号様式!D77=\"\",\"\",P_14号様式!D77)","v":""},{"$f":"IF(P_14号様式!E77=\"\",\"\",P_14号様式!E77)","v":""},{"$f":"IF(P_14号様式!F77=\"\",\"\",P_14号様式!F77)","v":""},{"$f":"IF(P_14号様式!G77=\"\",\"\",P_14号様式!G77)","v":""},{"$f":"IF(P_14号様式!H77=\"\",\"\",P_14号様式!H77)","v":""},{"$f":"IF(P_14号様式!I77=\"\",\"\",P_14号様式!I77)","v":""},{"$f":"IF(P_14号様式!J77=\"\",\"\",P_14号様式!J77)","v":""},{"$f":"IF(P_14号様式!K77=\"\",\"\",P_14号様式!K77)","v":""},{"$f":"IF(P_14号様式!L77=\"\",\"\",P_14号様式!L77)","v":""},{"$f":"IF(P_14号様式!M77=\"\",\"\",P_14号様式!M77)","v":""},{"$f":"IF(P_14号様式!N77=\"\",\"\",P_14号様式!N77)","v":""},null,null,{"$f":"IF(P_14号様式!O77=\"\",\"\",P_14号様式!O77)","v":""},null,null,{"$f":"IF(P_14号様式!P77=\"\",\"\",P_14号様式!P77)","v":""},{"$f":"IF(P_14号様式!Q77=\"\",\"\",P_14号様式!Q77)","v":""},{"$f":"IF(P_14号様式!R77=\"\",\"\",P_14号様式!R77)","v":""},{"$f":"IF(P_14号様式!S77=\"\",\"\",P_14号様式!S77)","v":""},{"$f":"IF(P_14号様式!T77=\"\",\"\",P_14号様式!T77)","v":""}]
[{"$f":"IF(P_14号様式!C78=\"\",\"\",P_14号様式!C78)","v":""},null,{"$f":"IF(P_14号様式!D78=\"\",\"\",P_14号様式!D78)","v":""},{"$f":"IF(P_14号様式!E78=\"\",\"\",P_14号様式!E78)","v":""},{"$f":"IF(P_14号様式!F78=\"\",\"\",P_14号様式!F78)","v":""},{"$f":"IF(P_14号様式!G78=\"\",\"\",P_14号様式!G78)","v":""},{"$f":"IF(P_14号様式!H78=\"\",\"\",P_14号様式!H78)","v":""},{"$f":"IF(P_14号様式!I78=\"\",\"\",P_14号様式!I78)","v":""},{"$f":"IF(P_14号様式!J78=\"\",\"\",P_14号様式!J78)","v":""},{"$f":"IF(P_14号様式!K78=\"\",\"\",P_14号様式!K78)","v":""},{"$f":"IF(P_14号様式!L78=\"\",\"\",P_14号様式!L78)","v":""},{"$f":"IF(P_14号様式!M78=\"\",\"\",P_14号様式!M78)","v":""},{"$f":"IF(P_14号様式!N78=\"\",\"\",P_14号様式!N78)","v":""},null,null,{"$f":"IF(P_14号様式!O78=\"\",\"\",P_14号様式!O78)","v":""},null,null,{"$f":"IF(P_14号様式!P78=\"\",\"\",P_14号様式!P78)","v":""},{"$f":"IF(P_14号様式!Q78=\"\",\"\",P_14号様式!Q78)","v":""},{"$f":"IF(P_14号様式!R78=\"\",\"\",P_14号様式!R78)","v":""},{"$f":"IF(P_14号様式!S78=\"\",\"\",P_14号様式!S78)","v":""},{"$f":"IF(P_14号様式!T78=\"\",\"\",P_14号様式!T78)","v":""}]
[{"$f":"IF(P_14号様式!C79=\"\",\"\",P_14号様式!C79)","v":""},null,{"$f":"IF(P_14号様式!D79=\"\",\"\",P_14号様式!D79)","v":""},{"$f":"IF(P_14号様式!E79=\"\",\"\",P_14号様式!E79)","v":""},{"$f":"IF(P_14号様式!F79=\"\",\"\",P_14号様式!F79)","v":""},{"$f":"IF(P_14号様式!G79=\"\",\"\",P_14号様式!G79)","v":""},{"$f":"IF(P_14号様式!H79=\"\",\"\",P_14号様式!H79)","v":""},{"$f":"IF(P_14号様式!I79=\"\",\"\",P_14号様式!I79)","v":""},{"$f":"IF(P_14号様式!J79=\"\",\"\",P_14号様式!J79)","v":""},{"$f":"IF(P_14号様式!K79=\"\",\"\",P_14号様式!K79)","v":""},{"$f":"IF(P_14号様式!L79=\"\",\"\",P_14号様式!L79)","v":""},{"$f":"IF(P_14号様式!M79=\"\",\"\",P_14号様式!M79)","v":""},{"$f":"IF(P_14号様式!N79=\"\",\"\",P_14号様式!N79)","v":""},null,null,{"$f":"IF(P_14号様式!O79=\"\",\"\",P_14号様式!O79)","v":""},null,null,{"$f":"IF(P_14号様式!P79=\"\",\"\",P_14号様式!P79)","v":""},{"$f":"IF(P_14号様式!Q79=\"\",\"\",P_14号様式!Q79)","v":""},{"$f":"IF(P_14号様式!R79=\"\",\"\",P_14号様式!R79)","v":""},{"$f":"IF(P_14号様式!S79=\"\",\"\",P_14号様式!S79)","v":""},{"$f":"IF(P_14号様式!T79=\"\",\"\",P_14号様式!T79)","v":""}]
[{"$f":"IF(P_14号様式!C80=\"\",\"\",P_14号様式!C80)","v":""},null,{"$f":"IF(P_14号様式!D80=\"\",\"\",P_14号様式!D80)","v":""},{"$f":"IF(P_14号様式!E80=\"\",\"\",P_14号様式!E80)","v":""},{"$f":"IF(P_14号様式!F80=\"\",\"\",P_14号様式!F80)","v":""},{"$f":"IF(P_14号様式!G80=\"\",\"\",P_14号様式!G80)","v":""},{"$f":"IF(P_14号様式!H80=\"\",\"\",P_14号様式!H80)","v":""},{"$f":"IF(P_14号様式!I80=\"\",\"\",P_14号様式!I80)","v":""},{"$f":"IF(P_14号様式!J80=\"\",\"\",P_14号様式!J80)","v":""},{"$f":"IF(P_14号様式!K80=\"\",\"\",P_14号様式!K80)","v":""},{"$f":"IF(P_14号様式!L80=\"\",\"\",P_14号様式!L80)","v":""},{"$f":"IF(P_14号様式!M80=\"\",\"\",P_14号様式!M80)","v":""},{"$f":"IF(P_14号様式!N80=\"\",\"\",P_14号様式!N80)","v":""},null,null,{"$f":"IF(P_14号様式!O80=\"\",\"\",P_14号様式!O80)","v":""},null,null,{"$f":"IF(P_14号様式!P80=\"\",\"\",P_14号様式!P80)","v":""},{"$f":"IF(P_14号様式!Q80=\"\",\"\",P_14号様式!Q80)","v":""},{"$f":"IF(P_14号様式!R80=\"\",\"\",P_14号様式!R80)","v":""},{"$f":"IF(P_14号様式!S80=\"\",\"\",P_14号様式!S80)","v":""},{"$f":"IF(P_14号様式!T80=\"\",\"\",P_14号様式!T80)","v":""}]
[{"$f":"IF(P_14号様式!C81=\"\",\"\",P_14号様式!C81)","v":""},null,{"$f":"IF(P_14号様式!D81=\"\",\"\",P_14号様式!D81)","v":""},{"$f":"IF(P_14号様式!E81=\"\",\"\",P_14号様式!E81)","v":""},{"$f":"IF(P_14号様式!F81=\"\",\"\",P_14号様式!F81)","v":""},{"$f":"IF(P_14号様式!G81=\"\",\"\",P_14号様式!G81)","v":""},{"$f":"IF(P_14号様式!H81=\"\",\"\",P_14号様式!H81)","v":""},{"$f":"IF(P_14号様式!I81=\"\",\"\",P_14号様式!I81)","v":""},{"$f":"IF(P_14号様式!J81=\"\",\"\",P_14号様式!J81)","v":""},{"$f":"IF(P_14号様式!K81=\"\",\"\",P_14号様式!K81)","v":""},{"$f":"IF(P_14号様式!L81=\"\",\"\",P_14号様式!L81)","v":""},{"$f":"IF(P_14号様式!M81=\"\",\"\",P_14号様式!M81)","v":""},{"$f":"IF(P_14号様式!N81=\"\",\"\",P_14号様式!N81)","v":""},null,null,{"$f":"IF(P_14号様式!O81=\"\",\"\",P_14号様式!O81)","v":""},null,null,{"$f":"IF(P_14号様式!P81=\"\",\"\",P_14号様式!P81)","v":""},{"$f":"IF(P_14号様式!Q81=\"\",\"\",P_14号様式!Q81)","v":""},{"$f":"IF(P_14号様式!R81=\"\",\"\",P_14号様式!R81)","v":""},{"$f":"IF(P_14号様式!S81=\"\",\"\",P_14号様式!S81)","v":""},{"$f":"IF(P_14号様式!T81=\"\",\"\",P_14号様式!T81)","v":""}]
[{"$f":"IF(P_14号様式!C82=\"\",\"\",P_14号様式!C82)","v":""},null,{"$f":"IF(P_14号様式!D82=\"\",\"\",P_14号様式!D82)","v":""},{"$f":"IF(P_14号様式!E82=\"\",\"\",P_14号様式!E82)","v":""},{"$f":"IF(P_14号様式!F82=\"\",\"\",P_14号様式!F82)","v":""},{"$f":"IF(P_14号様式!G82=\"\",\"\",P_14号様式!G82)","v":""},{"$f":"IF(P_14号様式!H82=\"\",\"\",P_14号様式!H82)","v":""},{"$f":"IF(P_14号様式!I82=\"\",\"\",P_14号様式!I82)","v":""},{"$f":"IF(P_14号様式!J82=\"\",\"\",P_14号様式!J82)","v":""},{"$f":"IF(P_14号様式!K82=\"\",\"\",P_14号様式!K82)","v":""},{"$f":"IF(P_14号様式!L82=\"\",\"\",P_14号様式!L82)","v":""},{"$f":"IF(P_14号様式!M82=\"\",\"\",P_14号様式!M82)","v":""},{"$f":"IF(P_14号様式!N82=\"\",\"\",P_14号様式!N82)","v":""},null,null,{"$f":"IF(P_14号様式!O82=\"\",\"\",P_14号様式!O82)","v":""},null,null,{"$f":"IF(P_14号様式!P82=\"\",\"\",P_14号様式!P82)","v":""},{"$f":"IF(P_14号様式!Q82=\"\",\"\",P_14号様式!Q82)","v":""},{"$f":"IF(P_14号様式!R82=\"\",\"\",P_14号様式!R82)","v":""},{"$f":"IF(P_14号様式!S82=\"\",\"\",P_14号様式!S82)","v":""},{"$f":"IF(P_14号様式!T82=\"\",\"\",P_14号様式!T82)","v":""}]
[{"$f":"IF(P_14号様式!C83=\"\",\"\",P_14号様式!C83)","v":""},null,{"$f":"IF(P_14号様式!D83=\"\",\"\",P_14号様式!D83)","v":""},{"$f":"IF(P_14号様式!E83=\"\",\"\",P_14号様式!E83)","v":""},{"$f":"IF(P_14号様式!F83=\"\",\"\",P_14号様式!F83)","v":""},{"$f":"IF(P_14号様式!G83=\"\",\"\",P_14号様式!G83)","v":""},{"$f":"IF(P_14号様式!H83=\"\",\"\",P_14号様式!H83)","v":""},{"$f":"IF(P_14号様式!I83=\"\",\"\",P_14号様式!I83)","v":""},{"$f":"IF(P_14号様式!J83=\"\",\"\",P_14号様式!J83)","v":""},{"$f":"IF(P_14号様式!K83=\"\",\"\",P_14号様式!K83)","v":""},{"$f":"IF(P_14号様式!L83=\"\",\"\",P_14号様式!L83)","v":""},{"$f":"IF(P_14号様式!M83=\"\",\"\",P_14号様式!M83)","v":""},{"$f":"IF(P_14号様式!N83=\"\",\"\",P_14号様式!N83)","v":""},null,null,{"$f":"IF(P_14号様式!O83=\"\",\"\",P_14号様式!O83)","v":""},null,null,{"$f":"IF(P_14号様式!P83=\"\",\"\",P_14号様式!P83)","v":""},{"$f":"IF(P_14号様式!Q83=\"\",\"\",P_14号様式!Q83)","v":""},{"$f":"IF(P_14号様式!R83=\"\",\"\",P_14号様式!R83)","v":""},{"$f":"IF(P_14号様式!S83=\"\",\"\",P_14号様式!S83)","v":""},{"$f":"IF(P_14号様式!T83=\"\",\"\",P_14号様式!T83)","v":""}]
[{"$f":"IF(P_14号様式!C84=\"\",\"\",P_14号様式!C84)","v":""},null,{"$f":"IF(P_14号様式!D84=\"\",\"\",P_14号様式!D84)","v":""},{"$f":"IF(P_14号様式!E84=\"\",\"\",P_14号様式!E84)","v":""},{"$f":"IF(P_14号様式!F84=\"\",\"\",P_14号様式!F84)","v":""},{"$f":"IF(P_14号様式!G84=\"\",\"\",P_14号様式!G84)","v":""},{"$f":"IF(P_14号様式!H84=\"\",\"\",P_14号様式!H84)","v":""},{"$f":"IF(P_14号様式!I84=\"\",\"\",P_14号様式!I84)","v":""},{"$f":"IF(P_14号様式!J84=\"\",\"\",P_14号様式!J84)","v":""},{"$f":"IF(P_14号様式!K84=\"\",\"\",P_14号様式!K84)","v":""},{"$f":"IF(P_14号様式!L84=\"\",\"\",P_14号様式!L84)","v":""},{"$f":"IF(P_14号様式!M84=\"\",\"\",P_14号様式!M84)","v":""},{"$f":"IF(P_14号様式!N84=\"\",\"\",P_14号様式!N84)","v":""},null,null,{"$f":"IF(P_14号様式!O84=\"\",\"\",P_14号様式!O84)","v":""},null,null,{"$f":"IF(P_14号様式!P84=\"\",\"\",P_14号様式!P84)","v":""},{"$f":"IF(P_14号様式!Q84=\"\",\"\",P_14号様式!Q84)","v":""},{"$f":"IF(P_14号様式!R84=\"\",\"\",P_14号様式!R84)","v":""},{"$f":"IF(P_14号様式!S84=\"\",\"\",P_14号様式!S84)","v":""},{"$f":"IF(P_14号様式!T84=\"\",\"\",P_14号様式!T84)","v":""}]
[{"$f":"IF(P_14号様式!C85=\"\",\"\",P_14号様式!C85)","v":""},null,{"$f":"IF(P_14号様式!D85=\"\",\"\",P_14号様式!D85)","v":""},{"$f":"IF(P_14号様式!E85=\"\",\"\",P_14号様式!E85)","v":""},{"$f":"IF(P_14号様式!F85=\"\",\"\",P_14号様式!F85)","v":""},{"$f":"IF(P_14号様式!G85=\"\",\"\",P_14号様式!G85)","v":""},{"$f":"IF(P_14号様式!H85=\"\",\"\",P_14号様式!H85)","v":""},{"$f":"IF(P_14号様式!I85=\"\",\"\",P_14号様式!I85)","v":""},{"$f":"IF(P_14号様式!J85=\"\",\"\",P_14号様式!J85)","v":""},{"$f":"IF(P_14号様式!K85=\"\",\"\",P_14号様式!K85)","v":""},{"$f":"IF(P_14号様式!L85=\"\",\"\",P_14号様式!L85)","v":""},{"$f":"IF(P_14号様式!M85=\"\",\"\",P_14号様式!M85)","v":""},{"$f":"IF(P_14号様式!N85=\"\",\"\",P_14号様式!N85)","v":""},null,null,{"$f":"IF(P_14号様式!O85=\"\",\"\",P_14号様式!O85)","v":""},null,null,{"$f":"IF(P_14号様式!P85=\"\",\"\",P_14号様式!P85)","v":""},{"$f":"IF(P_14号様式!Q85=\"\",\"\",P_14号様式!Q85)","v":""},{"$f":"IF(P_14号様式!R85=\"\",\"\",P_14号様式!R85)","v":""},{"$f":"IF(P_14号様式!S85=\"\",\"\",P_14号様式!S85)","v":""},{"$f":"IF(P_14号様式!T85=\"\",\"\",P_14号様式!T85)","v":""}]
[{"$f":"IF(P_14号様式!C86=\"\",\"\",P_14号様式!C86)","v":""},null,{"$f":"IF(P_14号様式!D86=\"\",\"\",P_14号様式!D86)","v":""},{"$f":"IF(P_14号様式!E86=\"\",\"\",P_14号様式!E86)","v":""},{"$f":"IF(P_14号様式!F86=\"\",\"\",P_14号様式!F86)","v":""},{"$f":"IF(P_14号様式!G86=\"\",\"\",P_14号様式!G86)","v":""},{"$f":"IF(P_14号様式!H86=\"\",\"\",P_14号様式!H86)","v":""},{"$f":"IF(P_14号様式!I86=\"\",\"\",P_14号様式!I86)","v":""},{"$f":"IF(P_14号様式!J86=\"\",\"\",P_14号様式!J86)","v":""},{"$f":"IF(P_14号様式!K86=\"\",\"\",P_14号様式!K86)","v":""},{"$f":"IF(P_14号様式!L86=\"\",\"\",P_14号様式!L86)","v":""},{"$f":"IF(P_14号様式!M86=\"\",\"\",P_14号様式!M86)","v":""},{"$f":"IF(P_14号様式!N86=\"\",\"\",P_14号様式!N86)","v":""},null,null,{"$f":"IF(P_14号様式!O86=\"\",\"\",P_14号様式!O86)","v":""},null,null,{"$f":"IF(P_14号様式!P86=\"\",\"\",P_14号様式!P86)","v":""},{"$f":"IF(P_14号様式!Q86=\"\",\"\",P_14号様式!Q86)","v":""},{"$f":"IF(P_14号様式!R86=\"\",\"\",P_14号様式!R86)","v":""},{"$f":"IF(P_14号様式!S86=\"\",\"\",P_14号様式!S86)","v":""},{"$f":"IF(P_14号様式!T86=\"\",\"\",P_14号様式!T86)","v":""}]
[{"$f":"IF(P_14号様式!C87=\"\",\"\",P_14号様式!C87)","v":""},null,{"$f":"IF(P_14号様式!D87=\"\",\"\",P_14号様式!D87)","v":""},{"$f":"IF(P_14号様式!E87=\"\",\"\",P_14号様式!E87)","v":""},{"$f":"IF(P_14号様式!F87=\"\",\"\",P_14号様式!F87)","v":""},{"$f":"IF(P_14号様式!G87=\"\",\"\",P_14号様式!G87)","v":""},{"$f":"IF(P_14号様式!H87=\"\",\"\",P_14号様式!H87)","v":""},{"$f":"IF(P_14号様式!I87=\"\",\"\",P_14号様式!I87)","v":""},{"$f":"IF(P_14号様式!J87=\"\",\"\",P_14号様式!J87)","v":""},{"$f":"IF(P_14号様式!K87=\"\",\"\",P_14号様式!K87)","v":""},{"$f":"IF(P_14号様式!L87=\"\",\"\",P_14号様式!L87)","v":""},{"$f":"IF(P_14号様式!M87=\"\",\"\",P_14号様式!M87)","v":""},{"$f":"IF(P_14号様式!N87=\"\",\"\",P_14号様式!N87)","v":""},null,null,{"$f":"IF(P_14号様式!O87=\"\",\"\",P_14号様式!O87)","v":""},null,null,{"$f":"IF(P_14号様式!P87=\"\",\"\",P_14号様式!P87)","v":""},{"$f":"IF(P_14号様式!Q87=\"\",\"\",P_14号様式!Q87)","v":""},{"$f":"IF(P_14号様式!R87=\"\",\"\",P_14号様式!R87)","v":""},{"$f":"IF(P_14号様式!S87=\"\",\"\",P_14号様式!S87)","v":""},{"$f":"IF(P_14号様式!T87=\"\",\"\",P_14号様式!T87)","v":""}]
[]
["市　計",null,{"$f":"IF(P_14号様式!U45=\"\",\"\",P_14号様式!U45)","v":562163},{"$f":"IF(P_14号様式!V45=\"\",\"\",P_14号様式!V45)","v":655998},{"$f":"IF(P_14号様式!W45=\"\",\"\",P_14号様式!W45)","v":1218161},{"$f":"IF(P_14号様式!X45=\"\",\"\",P_14号様式!X45)","v":306632},{"$f":"IF(P_14号様式!Y45=\"\",\"\",P_14号様式!Y45)","v":349738},{"$f":"IF(P_14号様式!Z45=\"\",\"\",P_14号様式!Z45)","v":656370},{"$f":"IF(P_14号様式!AA45=\"\",\"\",P_14号様式!AA45)","v":255531},{"$f":"IF(P_14号様式!AB45=\"\",\"\",P_14号様式!AB45)","v":306260},{"$f":"IF(P_14号様式!AC45=\"\",\"\",P_14号様式!AC45)","v":561791},{"$f":"IF(P_14号様式!AD45=\"\",\"\",P_14号様式!AD45)","v":54.545034091535697},{"$f":"IF(P_14号様式!AE45=\"\",\"\",P_14号様式!AE45)","v":53.313882054518501},null,null,{"$f":"IF(P_14号様式!AF45=\"\",\"\",P_14号様式!AF45)","v":53.8820402229262},null,null,null,{"$f":"IF(P_14号様式!AG45=\"\",\"\",P_14号様式!AG45)","v":"22:26:00"},{"$f":"IF(P_14号様式!AH45=\"\",\"\",P_14号様式!AH45)","v":48.580688020683702},{"$f":"IF(P_14号様式!AI45=\"\",\"\",P_14号様式!AI45)","v":46.323323878346898},{"$f":"IF(P_14号様式!AJ45=\"\",\"\",P_14号様式!AJ45)","v":47.360975734561599}]
["町村計",null,{"$f":"IF(P_14号様式!AK45=\"\",\"\",P_14号様式!AK45)","v":76322},{"$f":"IF(P_14号様式!AL45=\"\",\"\",P_14号様式!AL45)","v":83176},{"$f":"IF(P_14号様式!AM45=\"\",\"\",P_14号様式!AM45)","v":159498},{"$f":"IF(P_14号様式!AN45=\"\",\"\",P_14号様式!AN45)","v":51954},{"$f":"IF(P_14号様式!AO45=\"\",\"\",P_14号様式!AO45)","v":55036},{"$f":"IF(P_14号様式!AP45=\"\",\"\",P_14号様式!AP45)","v":106990},{"$f":"IF(P_14号様式!AQ45=\"\",\"\",P_14号様式!AQ45)","v":24368},{"$f":"IF(P_14号様式!AR45=\"\",\"\",P_14号様式!AR45)","v":28140},{"$f":"IF(P_14号様式!AS45=\"\",\"\",P_14号様式!AS45)","v":52508},{"$f":"IF(P_14号様式!AT45=\"\",\"\",P_14号様式!AT45)","v":68.072115510599801},{"$f":"IF(P_14号様式!AU45=\"\",\"\",P_14号様式!AU45)","v":66.168125420794496},null,null,{"$f":"IF(P_14号様式!AV45=\"\",\"\",P_14号様式!AV45)","v":67.079211024589696},null,null,null,{"$f":"IF(P_14号様式!AW45=\"\",\"\",P_14号様式!AW45)","v":"23:03:00"},{"$f":"IF(P_14号様式!AX45=\"\",\"\",P_14号様式!AX45)","v":60.0958037938302},{"$f":"IF(P_14号様式!AY45=\"\",\"\",P_14号様式!AY45)","v":57.915971062882598},{"$f":"IF(P_14号様式!AZ45=\"\",\"\",P_14号様式!AZ45)","v":58.953087680274201}]
["県計",null,{"$f":"IF(P_14号様式!BA45=\"\",\"\",P_14号様式!BA45)","v":638485},{"$f":"IF(P_14号様式!BB45=\"\",\"\",P_14号様式!BB45)","v":739174},{"$f":"IF(P_14号様式!BC45=\"\",\"\",P_14号様式!BC45)","v":1377659},{"$f":"IF(P_14号様式!BD45=\"\",\"\",P_14号様式!BD45)","v":358586},{"$f":"IF(P_14号様式!BE45=\"\",\"\",P_14号様式!BE45)","v":404774},{"$f":"IF(P_14号様式!BF45=\"\",\"\",P_14号様式!BF45)","v":763360},{"$f":"IF(P_14号様式!BG45=\"\",\"\",P_14号様式!BG45)","v":279899},{"$f":"IF(P_14号様式!BH45=\"\",\"\",P_14号様式!BH45)","v":334400},{"$f":"IF(P_14号様式!BI45=\"\",\"\",P_14号様式!BI45)","v":614299},{"$f":"IF(P_14号様式!BJ45=\"\",\"\",P_14号様式!BJ45)","v":56.162008504506801},{"$f":"IF(P_14号様式!BK45=\"\",\"\",P_14号様式!BK45)","v":54.760313539166702},null,null,{"$f":"IF(P_14号様式!BL45=\"\",\"\",P_14号様式!BL45)","v":55.409938163217497},null,null,null,{"$f":"IF(P_14号様式!BM45=\"\",\"\",P_14号様式!BM45)","v":"23:03:00"},{"$f":"IF(P_14号様式!BN45=\"\",\"\",P_14号様式!BN45)","v":49.999763870632599},{"$f":"IF(P_14号様式!BO45=\"\",\"\",P_14号様式!BO45)","v":47.6728790706902},{"$f":"IF(P_14号様式!BP45=\"\",\"\",P_14号様式!BP45)","v":48.746968060910604}]

{"sheet":"パラメタシート","index":1,"n_rows":1,"n_cols":2,"rows_kept":1,"cut":false,"hidden":false,"merged":[]}
["執行日","2017-10-22"]

{"sheet":"P_14号様式","index":2,"n_rows":87,"n_cols":71,"rows_kept":87,"cut":false,"hidden":false,"merged":[]}
["頁番号","行番号","市区町村名","当日有権者男","当日有権者女","当日有権者計","投票者男","投票者女","投票者計","棄権者男","棄権者女","棄権者計","投票率男","投票率女","投票率計","投票率順位","投票結了時刻","前回投票率男","前回投票率女","前回投票率計","市部有権者男","市部有権者女","市部有権者計","市部投票者男","市部投票者女","市部投票者計","市部棄権者男","市部棄権者女","市部棄権者計","市部投票率男","市部投票率女","市部投票率計","市部投票結了時刻","市部前回投票率男","市部前回投票率女","市部前回投票率計","郡部有権者男","郡部有権者女","郡部有権者計","郡部投票者男","郡部投票者女","郡部投票者計","郡部棄権者男","郡部棄権者女","郡部棄権者計","郡部投票率男","郡部投票率女","郡部投票率計","郡部投票結了時刻","郡部前回投票率男","郡部前回投票率女","郡部前回投票率計","県計有権者男","県計有権者女","県計有権者計","県計投票者男","県計投票者女","県計投票者計","県計棄権者男","県計棄権者女","県計棄権者計","県計投票率男","県計投票率女","県計投票率計","県計投票結了時刻","県計前回投票率男","県計前回投票率女","県計前回投票率計","選挙名","報告回数","投票時刻"]
[1,1,"　 鹿児島市１区",162309,197229,359538,82261,97275,179536,80048,99954,180002,50.681724365253899,49.320840241546598,49.9351946108617,45,"22:05:00",46.695919097568797,44.061628548306501,45.249416932726497,562163,655998,1218161,306632,349738,656370,255531,306260,561791,54.545034091535697,53.313882054518501,53.8820402229262,"22:26:00",48.580688020683702,46.323323878346898,47.360975734561599,76322,83176,159498,51954,55036,106990,24368,28140,52508,68.072115510599801,66.168125420794496,67.079211024589696,"23:03:00",60.0958037938302,57.915971062882598,58.953087680274201,638485,739174,1377659,358586,404774,763360,279899,334400,614299,56.162008504506801,54.760313539166702,55.409938163217497,"23:03:00",49.999763870632599,47.6728790706902,48.746968060910604,"最高裁判所裁判官国民審査"]
[1,2,"　 鹿児島市２区",65734,75174,140908,30150,33404,63554,35584,41770,77354,45.866674780174598,44.435576130045,45.103187895648198,46,"22:26:00",38.689091480666498,36.672034060205803,37.609384815415403,562163,655998,1218161,306632,349738,656370,255531,306260,561791,54.545034091535697,53.313882054518501,53.8820402229262,"22:26:00",48.580688020683702,46.323323878346898,47.360975734561599,76322,83176,159498,51954,55036,106990,24368,28140,52508,68.072115510599801,66.168125420794496,67.079211024589696,"23:03:00",60.0958037938302,57.915971062882598,58.953087680274201,638485,739174,1377659,358586,404774,763360,279899,334400,614299,56.162008504506801,54.760313539166702,55.409938163217497,"23:03:00",49.999763870632599,47.6728790706902,48.746968060910604,"最高裁判所裁判官国民審査"]
[1,3,"＊（鹿児島市）計",228043,272403,500446,112411,130679,243090,115632,141724,257356,49.293773542709097,47.972672841341698,48.574671393117299,null,"22:26:00",44.410850383316202,42.035595230523498,43.115751337192897,562163,655998,1218161,306632,349738,656370,255531,306260,561791,54.545034091535697,53.313882054518501,53.8820402229262,"22:26:00",48.580688020683702,46.323323878346898,47.360975734561599,76322,83176,159498,51954,55036,106990,24368,28140,52508,68.072115510599801,66.168125420794496,67.079211024589696,"23:03:00",60.0958037938302,57.915971062882598,58.953087680274201,638485,739174,1377659,358586,404774,763360,279899,334400,614299,56.162008504506801,54.760313539166702,55.409938163217497,"23:03:00",49.999763870632599,47.6728790706902,48.746968060910604,"最高裁判所裁判官国民審査"]
[1,4,"　 鹿屋市",39844,44808,84652,20654,22765,43419,19190,22043,41233,51.8371649432788,50.8056597036244,51.291168548882503,44,"21:27:00",45.172554417087198,42.8401703653889,43.931587233433497,562163,655998,1218161,306632,349738,656370,255531,306260,561791,54.545034091535697,53.313882054518501,53.8820402229262,"22:26:00",48.580688020683702,46.323323878346898,47.360975734561599,76322,83176,159498,51954,55036,106990,24368,28140,52508,68.072115510599801,66.168125420794496,67.079211024589696,"23:03:00",60.0958037938302,57.915971062882598,58.953087680274201,638485,739174,1377659,358586,404774,763360,279899,334400,614299,56.162008504506801,54.760313539166702,55.409938163217497,"23:03:00",49.999763870632599,47.6728790706902,48.746968060910604,"最高裁判所裁判官国民審査"]
[1,5,"　 枕崎市",8466,10135,18601,4493,5431,9924,3973,4704,8677,53.0711079612568,53.586581154415398,53.351970324176101,41,"20:18:00",52.725379007059402,52.972409215890799,52.861163227016903,562163,655998,1218161,306632,349738,656370,255531,306260,561791,54.545034091535697,53.313882054518501,53.8820402229262,"22:26:00",48.580688020683702,46.323323878346898,47.360975734561599,76322,83176,159498,51954,55036,106990,24368,28140,52508,68.072115510599801,66.168125420794496,67.079211024589696,"23:03:00",60.0958037938302,57.915971062882598,58.953087680274201,638485,739174,1377659,358586,404774,763360,279899,334400,614299,56.162008504506801,54.760313539166702,55.409938163217497,"23:03:00",49.999763870632599,47.6728790706902,48.746968060910604,"最高裁判所裁判官国民審査"]
[1,6,"　 阿久根市",8469,9784,18253,5455,6037,11492,3014,3747,6761,64.411382689809898,61.702780049059697,62.959513504629399,23,"20:40:00",54.394026421596799,51.075110456553801,52.604552673372197,562163,655998,1218161,306632,349738,656370,255531,306260,561791,54.545034091535697,53.313882054518501,53.8820402229262,"22:26:00",48.580688020683702,46.323323878346898,47.360975734561599,76322,83176,159498,51954,55036,106990,24368,28140,52508,68.072115510599801,66.168125420794496,67.079211024589696,"23:03:00",60.0958037938302,57.915971062882598,58.953087680274201,638485,739174,1377659,358586,404774,763360,279899,334400,614299,56.162008504506801,54.760313539166702,55.409938163217497,"23:03:00",49.999763870632599,47.6728790706902,48.746968060910604,"最高裁判所裁判官国民審査"]
[1,7,"　 出水市",20613,23886,44499,12155,13883,26038,8458,10003,18461,58.967641779459598,58.121912417315599,58.5136744645947,32,"21:29:00",50.070631789176304,47.923015906149502,48.914167528438497,562163,655998,1218161,306632,349738,656370,255531,306260,561791,54.545034091535697,53.313882054518501,53.8820402229262,"22:26:00",48.580688020683702,46.323323878346898,47.360975734561599,76322,83176,159498,51954,55036,106990,24368,28140,52508,68.072115510599801,66.168125420794496,67.079211024589696,"23:03:00",60.0958037938302,57.915971062882598,58.953087680274201,638485,739174,1377659,358586,404774,763360,279899,334400,614299,56.162008504506801,54.760313539166702,55.409938163217497,"23:03:00",49.999763870632599,47.6728790706902,48.746968060910604,"最高裁判所裁判官国民審査"]
[1,8,"　 指宿市",16102,19215,35317,8780,10024,18804,7322,9191,16513,54.527387902123998,52.167577413479101,53.243480476824203,42,"19:25:00",43.695068359375,41.3097345132743,42.390552836085099,562163,655998,1218161,306632,349738,656370,255531,306260,561791,54.545034091535697,53.313882054518501,53.8820402229262,"22:26:00",48.580688020683702,46.323323878346898,47.360975734561599,76322,83176,159498,51954,55036,106990,24368,28140,52508,68.072115510599801,66.168125420794496,67.079211024589696,"23:03:00",60.0958037938302,57.915971062882598,58.953087680274201,638485,739174,1377659,358586,404774,763360,279899,334400,614299,56.162008504506801,54.760313539166702,55.409938163217497,"23:03:00",49.999763870632599,47.6728790706902,48.746968060910604,"最高裁判所裁判官国民審査"]
[1,9,"　 西之表市",6205,7006,13211,3478,3628,7106,2727,3378,6105,56.051571313456897,51.784184984299202,53.788509575353899,40,"20:00:00",56.971229845083798,52.906336088154298,54.799057853672899,562163,655998,1218161,306632,349738,656370,255531,306260,561791,54.545034091535697,53.313882054518501,53.8820402229262,"22:26:00",48.580688020683702,46.323323878346898,47.360975734561599,76322,83176,159498,51954,55036,106990,24368,28140,52508,68.072115510599801,66.168125420794496,67.079211024589696,"23:03:00",60.0958037938302,57.915971062882598,58.953087680274201,638485,739174,1377659,358586,404774,763360,279899,334400,614299,56.162008504506801,54.760313539166702,55.409938163217497,"23:03:00",49.999763870632599,47.6728790706902,48.746968060910604,"最高裁判所裁判官国民審査"]
[1,10,"　 垂水市",6210,7195,13405,3741,4306,8047,2469,2889,5358,60.241545893719803,59.847116052814499,60.029839612084999,30,"20:35:00",51.663073606405902,50.51261829653,51.042405332576898,562163,655998,1218161,306632,349738,656370,255531,306260,561791,54.545034091535697,53.313882054518501,53.8820402229262,"22:26:00",48.580688020683702,46.323323878346898,47.360975734561599,76322,83176,159498,51954,55036,106990,24368,28140,52508,68.072115510599801,66.168125420794496,67.079211024589696,"23:03:00",60.0958037938302,57.915971062882598,58.953087680274201,638485,739174,1377659,358586,404774,763360,279899,334400,614299,56.162008504506801,54.760313539166702,55.409938163217497,"23:03:00",49.999763870632599,47.6728790706902,48.746968060910604,"最高裁判所裁判官国民審査"]
[1,11,"　 薩摩川内市第１",35532,39797,75329,21943,24452,46395,13589,15345,28934,61.755600585387803,61.441817222403699,61.589825963440397,28,"21:37:00",57.474646479074401,55.379405493540702,56.359022305329198,562163,655998,1218161,306632,349738,656370,255531,306260,561791,54.545034091535697,53.313882054518501,53.8820402229262,"22:26:00",48.580688020683702,46.323323878346898,47.360975734561599,76322,83176,159498,51954,55036,106990,24368,28140,52508,68.072115510599801,66.168125420794496,67.079211024589696,"23:03:00",60.0958037938302,57.915971062882598,58.953087680274201,638485,739174,1377659,358586,404774,763360,279899,334400,614299,56.162008504506801,54.760313539166702,55.409938163217497,"23:03:00",49.999763870632599,47.6728790706902,48.746968060910604,"最高裁判所裁判官国民審査"]
[1,12,"　 薩摩川内市第２",1039,1094,2133,768,784,1552,271,310,581,73.917228103946101,71.663619744058494,72.761368963900594,11,"19:56:00",72.571942446043195,69.529314616019803,70.985794231597097,562163,655998,1218161,306632,349738,656370,255531,306260,561791,54.545034091535697,53.313882054518501,53.8820402229262,"22:26:00",48.580688020683702,46.323323878346898,47.360975734561599,76322,83176,159498,51954,55036,106990,24368,28140,52508,68.072115510599801,66.168125420794496,67.079211024589696,"23:03:00",60.0958037938302,57.915971062882598,58.953087680274201,638485,739174,1377659,358586,404774,763360,279899,334400,614299,56.162008504506801,54.760313539166702,55.409938163217497,"23:03:00",49.999763870632599,47.6728790706902,48.746968060910604,"最高裁判所裁判官国民審査"]
[1,13,"　 薩摩川内市第３",1009,984,1993,742,663,1405,267,321,588,73.538156590683798,67.378048780487802,70.496738585047694,15,"19:00:00",68.071161048689106,65.059144676979102,66.543608675588402,562163,655998,1218161,306632,349738,656370,255531,306260,561791,54.545034091535697,53.313882054518501,53.8820402229262,"22:26:00",48.580688020683702,46.323323878346898,47.360975734561599,76322,83176,159498,51954,55036,106990,24368,28140,52508,68.072115510599801,66.168125420794496,67.079211024589696,"23:03:00",60.0958037938302,57.915971062882598,58.953087680274201,638485,739174,1377659,358586,404774,763360,279899,334400,614299,56.162008504506801,54.760313539166702,55.409938163217497,"23:03:00",49.999763870632599,47.6728790706902,48.746968060910604,"最高裁判所裁判官国民審査"]
[1,14,"＊（薩摩川内市）計",37580,41875,79455,23453,25899,49352,14127,15976,30103,62.408195848855797,61.848358208955197,62.113145805801999,null,"21:37:00",58.230469275245397,56.0379371665679,57.065272177419402,562163,655998,1218161,306632,349738,656370,255531,306260,561791,54.545034091535697,53.313882054518501,53.8820402229262,"22:26:00",48.580688020683702,46.323323878346898,47.360975734561599,76322,83176,159498,51954,55036,106990,24368,28140,52508,68.072115510599801,66.168125420794496,67.079211024589696,"23:03:00",60.0958037938302,57.915971062882598,58.953087680274201,638485,739174,1377659,358586,404774,763360,279899,334400,614299,56.162008504506801,54.760313539166702,55.409938163217497,"23:03:00",49.999763870632599,47.6728790706902,48.746968060910604,"最高裁判所裁判官国民審査"]
[1,15,"　 日置市",19073,22125,41198,11854,13536,25390,7219,8589,15808,62.1506842132858,61.179661016949098,61.629205301228197,27,"19:53:00",56.985391065872101,54.840735755944401,55.826525417565598,562163,655998,1218161,306632,349738,656370,255531,306260,561791,54.545034091535697,53.313882054518501,53.8820402229262,"22:26:00",48.580688020683702,46.323323878346898,47.360975734561599,76322,83176,159498,51954,55036,106990,24368,28140,52508,68.072115510599801,66.168125420794496,67.079211024589696,"23:03:00",60.0958037938302,57.915971062882598,58.953087680274201,638485,739174,1377659,358586,404774,763360,279899,334400,614299,56.162008504506801,54.760313539166702,55.409938163217497,"23:03:00",49.999763870632599,47.6728790706902,48.746968060910604,"最高裁判所裁判官国民審査"]
[1,16,"　 曽於市",14808,17210,32018,8527,9395,17922,6281,7815,14096,57.583738519719098,54.590354445090099,55.974764195140203,39,"21:13:00",51.509199240489799,48.034342521464097,49.643691057403601,562163,655998,1218161,306632,349738,656370,255531,306260,561791,54.545034091535697,53.313882054518501,53.8820402229262,"22:26:00",48.580688020683702,46.323323878346898,47.360975734561599,76322,83176,159498,51954,55036,106990,24368,28140,52508,68.072115510599801,66.168125420794496,67.079211024589696,"23:03:00",60.0958037938302,57.915971062882598,58.953087680274201,638485,739174,1377659,358586,404774,763360,279899,334400,614299,56.162008504506801,54.760313539166702,55.409938163217497,"23:03:00",49.999763870632599,47.6728790706902,48.746968060910604,"最高裁判所裁判官国民審査"]
[1,17,"　 霧島市",48769,54458,103227,25664,28089,53753,23105,26369,49474,52.623592856117597,51.579198648499798,52.072616660369903,43,"21:16:00",48.046431425327,46.281361172679702,47.110417510346402,562163,655998,1218161,306632,349738,656370,255531,306260,561791,54.545034091535697,53.313882054518501,53.8820402229262,"22:26:00",48.580688020683702,46.323323878346898,47.360975734561599,76322,83176,159498,51954,55036,106990,24368,28140,52508,68.072115510599801,66.168125420794496,67.079211024589696,"23:03:00",60.0958037938302,57.915971062882598,58.953087680274201,638485,739174,1377659,358586,404774,763360,279899,334400,614299,56.162008504506801,54.760313539166702,55.409938163217497,"23:03:00",49.999763870632599,47.6728790706902,48.746968060910604,"最高裁判所裁判官国民審査"]
[1,18,"　 いちき串木野市",11214,12991,24205,8282,10011,18293,2932,2980,5912,73.854110932762595,77.061042260026198,75.575294360669304,7,"19:48:00",53.502573497339299,53.493957817308399,53.497942386831298,562163,655998,1218161,306632,349738,656370,255531,306260,561791,54.545034091535697,53.313882054518501,53.8820402229262,"22:26:00",48.580688020683702,46.323323878346898,47.360975734561599,76322,83176,159498,51954,55036,106990,24368,28140,52508,68.072115510599801,66.168125420794496,67.079211024589696,"23:03:00",60.0958037938302,57.915971062882598,58.953087680274201,638485,739174,1377659,358586,404774,763360,279899,334400,614299,56.162008504506801,54.760313539166702,55.409938163217497,"23:03:00",49.999763870632599,47.6728790706902,48.746968060910604,"最高裁判所裁判官国民審査"]
[1,19,"　 南さつま市",13579,16320,29899,8243,9568,17811,5336,6752,12088,60.704028278960202,58.627450980392197,59.570554199137099,31,"20:18:00",58.838311315336,56.121537086684498,57.353563637547602,562163,655998,1218161,306632,349738,656370,255531,306260,561791,54.545034091535697,53.313882054518501,53.8820402229262,"22:26:00",48.580688020683702,46.323323878346898,47.360975734561599,76322,83176,159498,51954,55036,106990,24368,28140,52508,68.072115510599801,66.168125420794496,67.079211024589696,"23:03:00",60.0958037938302,57.915971062882598,58.953087680274201,638485,739174,1377659,358586,404774,763360,279899,334400,614299,56.162008504506801,54.760313539166702,55.409938163217497,"23:03:00",49.999763870632599,47.6728790706902,48.746968060910604,"最高裁判所裁判官国民審査"]
[1,20,"　 志布志市",12483,14095,26578,6967,7930,14897,5516,6165,11681,55.811904189697998,56.261085491308997,56.0501166378208,38,"20:53:00",49.421214268840103,46.573533500139,47.908590836932802,562163,655998,1218161,306632,349738,656370,255531,306260,561791,54.545034091535697,53.313882054518501,53.8820402229262,"22:26:00",48.580688020683702,46.323323878346898,47.360975734561599,76322,83176,159498,51954,55036,106990,24368,28140,52508,68.072115510599801,66.168125420794496,67.079211024589696,"23:03:00",60.0958037938302,57.915971062882598,58.953087680274201,638485,739174,1377659,358586,404774,763360,279899,334400,614299,56.162008504506801,54.760313539166702,55.409938163217497,"23:03:00",49.999763870632599,47.6728790706902,48.746968060910604,"最高裁判所裁判官国民審査"]
[1,21,"　 奄美市",16943,19242,36185,10497,12053,22550,6446,7189,13635,61.954789588620699,62.639018813013202,62.318640320574801,26,"20:10:00",50.484695376299896,50.348825279573198,50.412159386553498,562163,655998,1218161,306632,349738,656370,255531,306260,561791,54.545034091535697,53.313882054518501,53.8820402229262,"22:26:00",48.580688020683702,46.323323878346898,47.360975734561599,76322,83176,159498,51954,55036,106990,24368,28140,52508,68.072115510599801,66.168125420794496,67.079211024589696,"23:03:00",60.0958037938302,57.915971062882598,58.953087680274201,638485,739174,1377659,358586,404774,763360,279899,334400,614299,56.162008504506801,54.760313539166702,55.409938163217497,"23:03:00",49.999763870632599,47.6728790706902,48.746968060910604,"最高裁判所裁判官国民審査"]
[1,22,"　 南九州市",14237,16612,30849,8326,9134,17460,5911,7478,13389,58.481421647819097,54.9843486636167,56.598268987649497,36,"19:40:00",54.291185119332603,51.087209302325597,52.559469566037102,562163,655998,1218161,306632,349738,656370,255531,306260,561791,54.545034091535697,53.313882054518501,53.8820402229262,"22:26:00",48.580688020683702,46.323323878346898,47.360975734561599,76322,83176,159498,51954,55036,106990,24368,28140,52508,68.072115510599801,66.168125420794496,67.079211024589696,"23:03:00",60.0958037938302,57.915971062882598,58.953087680274201,638485,739174,1377659,358586,404774,763360,279899,334400,614299,56.162008504506801,54.760313539166702,55.409938163217497,"23:03:00",49.999763870632599,47.6728790706902,48.746968060910604,"最高裁判所裁判官国民審査"]
[1,23,"　 伊佐市",10515,12478,22993,6680,7753,14433,3835,4725,8560,63.528292914883501,62.133354704279498,62.771278215109,25,"20:44:00",53.1189887331685,51.167598193093902,52.056051380432102,562163,655998,1218161,306632,349738,656370,255531,306260,561791,54.545034091535697,53.313882054518501,53.8820402229262,"22:26:00",48.580688020683702,46.323323878346898,47.360975734561599,76322,83176,159498,51954,55036,106990,24368,28140,52508,68.072115510599801,66.168125420794496,67.079211024589696,"23:03:00",60.0958037938302,57.915971062882598,58.953087680274201,638485,739174,1377659,358586,404774,763360,279899,334400,614299,56.162008504506801,54.760313539166702,55.409938163217497,"23:03:00",49.999763870632599,47.6728790706902,48.746968060910604,"最高裁判所裁判官国民審査"]
[1,24,"　 姶良市",29010,34160,63170,16972,19617,36589,12038,14543,26581,58.503964150293001,57.426814988290403,57.921481716004401,33,"21:27:00",50.014234875444799,47.797667236364703,48.811247986200399,562163,655998,1218161,306632,349738,656370,255531,306260,561791,54.545034091535697,53.313882054518501,53.8820402229262,"22:26:00",48.580688020683702,46.323323878346898,47.360975734561599,76322,83176,159498,51954,55036,106990,24368,28140,52508,68.072115510599801,66.168125420794496,67.079211024589696,"23:03:00",60.0958037938302,57.915971062882598,58.953087680274201,638485,739174,1377659,358586,404774,763360,279899,334400,614299,56.162008504506801,54.760313539166702,55.409938163217497,"23:03:00",49.999763870632599,47.6728790706902,48.746968060910604,"最高裁判所裁判官国民審査"]
[1,25,"　 三島村",137,155,292,118,122,240,19,33,52,86.131386861313899,78.709677419354804,82.191780821917803,5,"17:55:00",77.027027027027003,75.816993464052302,76.4119601328904,562163,655998,1218161,306632,349738,656370,255531,306260,561791,54.545034091535697,53.313882054518501,53.8820402229262,"22:26:00",48.580688020683702,46.323323878346898,47.360975734561599,76322,83176,159498,51954,55036,106990,24368,28140,52508,68.072115510599801,66.168125420794496,67.079211024589696,"23:03:00",60.0958037938302,57.915971062882598,58.953087680274201,638485,739174,1377659,358586,404774,763360,279899,334400,614299,56.162008504506801,54.760313539166702,55.409938163217497,"23:03:00",49.999763870632599,47.6728790706902,48.746968060910604,"最高裁判所裁判官国民審査"]
[1,26,"　 十島村",287,274,561,246,219,465,41,55,96,85.714285714285694,79.927007299270102,82.887700534759404,4,"18:05:00",88.129496402877706,79.770992366412202,84.074074074074105,562163,655998,1218161,306632,349738,656370,255531,306260,561791,54.545034091535697,53.313882054518501,53.8820402229262,"22:26:00",48.580688020683702,46.323323878346898,47.360975734561599,76322,83176,159498,51954,55036,106990,24368,28140,52508,68.072115510599801,66.168125420794496,67.079211024589696,"23:03:00",60.0958037938302,57.915971062882598,58.953087680274201,638485,739174,1377659,358586,404774,763360,279899,334400,614299,56.162008504506801,54.760313539166702,55.409938163217497,"23:03:00",49.999763870632599,47.6728790706902,48.746968060910604,"最高裁判所裁判官国民審査"]
[1,27,"＊（鹿児島郡）計",424,429,853,364,341,705,60,88,148,85.849056603773604,79.487179487179503,82.649472450175907,null,"18:05:00",84.272300469483596,78.313253012048193,81.331747919143893,562163,655998,1218161,306632,349738,656370,255531,306260,561791,54.545034091535697,53.313882054518501,53.8820402229262,"22:26:00",48.580688020683702,46.323323878346898,47.360975734561599,76322,83176,159498,51954,55036,106990,24368,28140,52508,68.072115510599801,66.168125420794496,67.079211024589696,"23:03:00",60.0958037938302,57.915971062882598,58.953087680274201,638485,739174,1377659,358586,404774,763360,279899,334400,614299,56.162008504506801,54.760313539166702,55.409938163217497,"23:03:00",49.999763870632599,47.6728790706902,48.746968060910604,"最高裁判所裁判官国民審査"]
[1,28,"　 さつま町",8599,10050,18649,5771,6545,12316,2828,3505,6333,67.112454936620495,65.124378109452707,66.041074588449803,18,"19:57:00",63.458731049971902,60.270219198790599,61.727128123556902,562163,655998,1218161,306632,349738,656370,255531,306260,561791,54.545034091535697,53.313882054518501,53.8820402229262,"22:26:00",48.580688020683702,46.323323878346898,47.360975734561599,76322,83176,159498,51954,55036,106990,24368,28140,52508,68.072115510599801,66.168125420794496,67.079211024589696,"23:03:00",60.0958037938302,57.915971062882598,58.953087680274201,638485,739174,1377659,358586,404774,763360,279899,334400,614299,56.162008504506801,54.760313539166702,55.409938163217497,"23:03:00",49.999763870632599,47.6728790706902,48.746968060910604,"最高裁判所裁判官国民審査"]
[1,29,"＊（薩摩郡）計",8599,10050,18649,5771,6545,12316,2828,3505,6333,67.112454936620495,65.124378109452707,66.041074588449803,null,"19:57:00",63.458731049971902,60.270219198790599,61.727128123556902,562163,655998,1218161,306632,349738,656370,255531,306260,561791,54.545034091535697,53.313882054518501,53.8820402229262,"22:26:00",48.580688020683702,46.323323878346898,47.360975734561599,76322,83176,159498,51954,55036,106990,24368,28140,52508,68.072115510599801,66.168125420794496,67.079211024589696,"23:03:00",60.0958037938302,57.915971062882598,58.953087680274201,638485,739174,1377659,358586,404774,763360,279899,334400,614299,56.162008504506801,54.760313539166702,55.409938163217497,"23:03:00",49.999763870632599,47.6728790706902,48.746968060910604,"最高裁判所裁判官国民審査"]
[1,30,"　 長島町",4254,4625,8879,3181,3351,6532,1073,1274,2347,74.776680771038997,72.454054054054097,73.566843112963198,9,"20:35:00",71.314102564102598,67.312961011591099,69.230769230769198,562163,655998,1218161,306632,349738,656370,255531,306260,561791,54.545034091535697,53.313882054518501,53.8820402229262,"22:26:00",48.580688020683702,46.323323878346898,47.360975734561599,76322,83176,159498,51954,55036,106990,24368,28140,52508,68.072115510599801,66.168125420794496,67.079211024589696,"23:03:00",60.0958037938302,57.915971062882598,58.953087680274201,638485,739174,1377659,358586,404774,763360,279899,334400,614299,56.162008504506801,54.760313539166702,55.409938163217497,"23:03:00",49.999763870632599,47.6728790706902,48.746968060910604,"最高裁判所裁判官国民審査"]
[1,31,"＊（出水郡）計",4254,4625,8879,3181,3351,6532,1073,1274,2347,74.776680771038997,72.454054054054097,73.566843112963198,null,"20:35:00",71.314102564102598,67.312961011591099,69.230769230769198,562163,655998,1218161,306632,349738,656370,255531,306260,561791,54.545034091535697,53.313882054518501,53.8820402229262,"22:26:00",48.580688020683702,46.323323878346898,47.360975734561599,76322,83176,159498,51954,55036,106990,24368,28140,52508,68.072115510599801,66.168125420794496,67.079211024589696,"23:03:00",60.0958037938302,57.915971062882598,58.953087680274201,638485,739174,1377659,358586,404774,763360,279899,334400,614299,56.162008504506801,54.760313539166702,55.409938163217497,"23:03:00",49.999763870632599,47.6728790706902,48.746968060910604,"最高裁判所裁判官国民審査"]
[1,32,"　 湧水町",3846,4507,8353,2554,2829,5383,1292,1678,2970,66.406656266250707,62.769025959618403,64.443912366814303,20,"19:58:00",56.880040322580598,52.496313461133298,54.492254733218601,562163,655998,1218161,306632,349738,656370,255531,306260,561791,54.545034091535697,53.313882054518501,53.8820402229262,"22:26:00",48.580688020683702,46.323323878346898,47.360975734561599,76322,83176,159498,51954,55036,106990,24368,28140,52508,68.072115510599801,66.168125420794496,67.079211024589696,"23:03:00",60.0958037938302,57.915971062882598,58.953087680274201,638485,739174,1377659,358586,404774,763360,279899,334400,614299,56.162008504506801,54.760313539166702,55.409938163217497,"23:03:00",49.999763870632599,47.6728790706902,48.746968060910604,"最高裁判所裁判官国民審査"]
[1,33,"＊（姶良郡）計",3846,4507,8353,2554,2829,5383,1292,1678,2970,66.406656266250707,62.769025959618403,64.443912366814303,null,"19:58:00",56.880040322580598,52.496313461133298,54.492254733218601,562163,655998,1218161,306632,349738,656370,255531,306260,561791,54.545034091535697,53.313882054518501,53.8820402229262,"22:26:00",48.580688020683702,46.323323878346898,47.360975734561599,76322,83176,159498,51954,55036,106990,24368,28140,52508,68.072115510599801,66.168125420794496,67.079211024589696,"23:03:00",60.0958037938302,57.915971062882598,58.953087680274201,638485,739174,1377659,358586,404774,763360,279899,334400,614299,56.162008504506801,54.760313539166702,55.409938163217497,"23:03:00",49.999763870632599,47.6728790706902,48.746968060910604,"最高裁判所裁判官国民審査"]
[1,34,"　 大崎町",5450,5996,11446,3118,3417,6535,2332,2579,4911,57.211009174311897,56.987991994663098,57.094181373405597,34,"20:28:00",49.659985683607701,47.784045124899301,48.672941575510897,562163,655998,1218161,306632,349738,656370,255531,306260,561791,54.545034091535697,53.313882054518501,53.8820402229262,"22:26:00",48.580688020683702,46.323323878346898,47.360975734561599,76322,83176,159498,51954,55036,106990,24368,28140,52508,68.072115510599801,66.168125420794496,67.079211024589696,"23:03:00",60.0958037938302,57.915971062882598,58.953087680274201,638485,739174,1377659,358586,404774,763360,279899,334400,614299,56.162008504506801,54.760313539166702,55.409938163217497,"23:03:00",49.999763870632599,47.6728790706902,48.746968060910604,"最高裁判所裁判官国民審査"]
[1,35,"＊（曽於郡）計",5450,5996,11446,3118,3417,6535,2332,2579,4911,57.211009174311897,56.987991994663098,57.094181373405597,null,"20:28:00",49.659985683607701,47.784045124899301,48.672941575510897,562163,655998,1218161,306632,349738,656370,255531,306260,561791,54.545034091535697,53.313882054518501,53.8820402229262,"22:26:00",48.580688020683702,46.323323878346898,47.360975734561599,76322,83176,159498,51954,55036,106990,24368,28140,52508,68.072115510599801,66.168125420794496,67.079211024589696,"23:03:00",60.0958037938302,57.915971062882598,58.953087680274201,638485,739174,1377659,358586,404774,763360,279899,334400,614299,56.162008504506801,54.760313539166702,55.409938163217497,"23:03:00",49.999763870632599,47.6728790706902,48.746968060910604,"最高裁判所裁判官国民審査"]
[1,36,"　 東串良町",2595,2985,5580,1475,1688,3163,1120,1297,2417,56.840077071290899,56.5494137353434,56.684587813620098,35,"19:20:00",48.376259798432301,48.228794280142999,48.297428769979099,562163,655998,1218161,306632,349738,656370,255531,306260,561791,54.545034091535697,53.313882054518501,53.8820402229262,"22:26:00",48.580688020683702,46.323323878346898,47.360975734561599,76322,83176,159498,51954,55036,106990,24368,28140,52508,68.072115510599801,66.168125420794496,67.079211024589696,"23:03:00",60.0958037938302,57.915971062882598,58.953087680274201,638485,739174,1377659,358586,404774,763360,279899,334400,614299,56.162008504506801,54.760313539166702,55.409938163217497,"23:03:00",49.999763870632599,47.6728790706902,48.746968060910604,"最高裁判所裁判官国民審査"]
[1,37,"　 錦江町",3200,3641,6841,2066,2280,4346,1134,1361,2495,64.5625,62.620159296896503,63.528723870779103,21,"20:00:00",59.910979228486703,58.710846492363402,59.270012442969701,562163,655998,1218161,306632,349738,656370,255531,306260,561791,54.545034091535697,53.313882054518501,53.8820402229262,"22:26:00",48.580688020683702,46.323323878346898,47.360975734561599,76322,83176,159498,51954,55036,106990,24368,28140,52508,68.072115510599801,66.168125420794496,67.079211024589696,"23:03:00",60.0958037938302,57.915971062882598,58.953087680274201,638485,739174,1377659,358586,404774,763360,279899,334400,614299,56.162008504506801,54.760313539166702,55.409938163217497,"23:03:00",49.999763870632599,47.6728790706902,48.746968060910604,"最高裁判所裁判官国民審査"]
[1,38,"　 南大隅町",3181,3584,6765,2088,2342,4430,1093,1242,2335,65.639735932096798,65.345982142857096,65.484109386548397,19,"19:57:00",61.102741789695699,58.339758416859397,59.611650485436897,562163,655998,1218161,306632,349738,656370,255531,306260,561791,54.545034091535697,53.313882054518501,53.8820402229262,"22:26:00",48.580688020683702,46.323323878346898,47.360975734561599,76322,83176,159498,51954,55036,106990,24368,28140,52508,68.072115510599801,66.168125420794496,67.079211024589696,"23:03:00",60.0958037938302,57.915971062882598,58.953087680274201,638485,739174,1377659,358586,404774,763360,279899,334400,614299,56.162008504506801,54.760313539166702,55.409938163217497,"23:03:00",49.999763870632599,47.6728790706902,48.746968060910604,"最高裁判所裁判官国民審査"]
[1,39,"　 肝付町",6407,7144,13551,3681,3924,7605,2726,3220,5946,57.4527860152958,54.927211646136598,56.121319459818501,37,"23:03:00",50.330628193567797,47.7349106062643,48.96047683247,562163,655998,1218161,306632,349738,656370,255531,306260,561791,54.545034091535697,53.313882054518501,53.8820402229262,"22:26:00",48.580688020683702,46.323323878346898,47.360975734561599,76322,83176,159498,51954,55036,106990,24368,28140,52508,68.072115510599801,66.168125420794496,67.079211024589696,"23:03:00",60.0958037938302,57.915971062882598,58.953087680274201,638485,739174,1377659,358586,404774,763360,279899,334400,614299,56.162008504506801,54.760313539166702,55.409938163217497,"23:03:00",49.999763870632599,47.6728790706902,48.746968060910604,"最高裁判所裁判官国民審査"]
[1,40,"＊（肝属郡）計",15383,17354,32737,9310,10234,19544,6073,7120,13193,60.521354742247901,58.971994929122999,59.700033601124098,null,"23:03:00",54.250405692173302,52.397372742200297,53.263151755511501,562163,655998,1218161,306632,349738,656370,255531,306260,561791,54.545034091535697,53.313882054518501,53.8820402229262,"22:26:00",48.580688020683702,46.323323878346898,47.360975734561599,76322,83176,159498,51954,55036,106990,24368,28140,52508,68.072115510599801,66.168125420794496,67.079211024589696,"23:03:00",60.0958037938302,57.915971062882598,58.953087680274201,638485,739174,1377659,358586,404774,763360,279899,334400,614299,56.162008504506801,54.760313539166702,55.409938163217497,"23:03:00",49.999763870632599,47.6728790706902,48.746968060910604,"最高裁判所裁判官国民審査"]
[1,41,"　 中種子町",3255,3677,6932,2127,2262,4389,1128,1415,2543,65.345622119815701,61.517541474027702,63.315060588574703,22,"19:48:00",62.670299727520401,58.459495351925597,60.427277872099602,562163,655998,1218161,306632,349738,656370,255531,306260,561791,54.545034091535697,53.313882054518501,53.8820402229262,"22:26:00",48.580688020683702,46.323323878346898,47.360975734561599,76322,83176,159498,51954,55036,106990,24368,28140,52508,68.072115510599801,66.168125420794496,67.079211024589696,"23:03:00",60.0958037938302,57.915971062882598,58.953087680274201,638485,739174,1377659,358586,404774,763360,279899,334400,614299,56.162008504506801,54.760313539166702,55.409938163217497,"23:03:00",49.999763870632599,47.6728790706902,48.746968060910604,"最高裁判所裁判官国民審査"]
[1,42,"　 南種子町",2391,2500,4891,1548,1526,3074,843,974,1817,64.742785445420296,61.04,62.850132897157998,24,"19:58:00",61.033634126333098,57.829888712241598,59.406540169560003,562163,655998,1218161,306632,349738,656370,255531,306260,561791,54.545034091535697,53.313882054518501,53.8820402229262,"22:26:00",48.580688020683702,46.323323878346898,47.360975734561599,76322,83176,159498,51954,55036,106990,24368,28140,52508,68.072115510599801,66.168125420794496,67.079211024589696,"23:03:00",60.0958037938302,57.915971062882598,58.953087680274201,638485,739174,1377659,358586,404774,763360,279899,334400,614299,56.162008504506801,54.760313539166702,55.409938163217497,"23:03:00",49.999763870632599,47.6728790706902,48.746968060910604,"最高裁判所裁判官国民審査"]
[1,43,"　 屋久島町",5222,5434,10656,3186,3275,6461,2036,2159,4195,61.011106855610898,60.268678689731303,60.632507507507498,29,"20:03:00",61.344696969696997,61.132952108649,61.235748436925299,562163,655998,1218161,306632,349738,656370,255531,306260,561791,54.545034091535697,53.313882054518501,53.8820402229262,"22:26:00",48.580688020683702,46.323323878346898,47.360975734561599,76322,83176,159498,51954,55036,106990,24368,28140,52508,68.072115510599801,66.168125420794496,67.079211024589696,"23:03:00",60.0958037938302,57.915971062882598,58.953087680274201,638485,739174,1377659,358586,404774,763360,279899,334400,614299,56.162008504506801,54.760313539166702,55.409938163217497,"23:03:00",49.999763870632599,47.6728790706902,48.746968060910604,"最高裁判所裁判官国民審査"]
[2,1,"＊（熊毛郡）計",10868,11611,22479,6861,7063,13924,4007,4548,8555,63.130290761869702,60.830247179398803,61.942257217847803,null,"20:03:00",61.673169403865302,59.585753978277303,60.590444580312699,562163,655998,1218161,306632,349738,656370,255531,306260,561791,54.545034091535697,53.313882054518501,53.8820402229262,"22:26:00",48.580688020683702,46.323323878346898,47.360975734561599,76322,83176,159498,51954,55036,106990,24368,28140,52508,68.072115510599801,66.168125420794496,67.079211024589696,"23:03:00",60.0958037938302,57.915971062882598,58.953087680274201,638485,739174,1377659,358586,404774,763360,279899,334400,614299,56.162008504506801,54.760313539166702,55.409938163217497,"23:03:00",49.999763870632599,47.6728790706902,48.746968060910604,"最高裁判所裁判官国民審査"]
[2,2,"　 大和村",629,688,1317,479,502,981,150,186,336,76.152623211446794,72.965116279069804,74.487471526195904,8,"19:46:00",70.3196347031963,72.229822161422703,71.325648414985594,562163,655998,1218161,306632,349738,656370,255531,306260,561791,54.545034091535697,53.313882054518501,53.8820402229262,"22:26:00",48.580688020683702,46.323323878346898,47.360975734561599,76322,83176,159498,51954,55036,106990,24368,28140,52508,68.072115510599801,66.168125420794496,67.079211024589696,"23:03:00",60.0958037938302,57.915971062882598,58.953087680274201,638485,739174,1377659,358586,404774,763360,279899,334400,614299,56.162008504506801,54.760313539166702,55.409938163217497,"23:03:00",49.999763870632599,47.6728790706902,48.746968060910604,"最高裁判所裁判官国民審査"]
[2,3,"　 宇検村",733,800,1533,640,710,1350,93,90,183,87.312414733970002,88.75,88.062622309197707,2,"18:14:00",80.188679245282998,76.456599286563602,78.2059380922299,562163,655998,1218161,306632,349738,656370,255531,306260,561791,54.545034091535697,53.313882054518501,53.8820402229262,"22:26:00",48.580688020683702,46.323323878346898,47.360975734561599,76322,83176,159498,51954,55036,106990,24368,28140,52508,68.072115510599801,66.168125420794496,67.079211024589696,"23:03:00",60.0958037938302,57.915971062882598,58.953087680274201,638485,739174,1377659,358586,404774,763360,279899,334400,614299,56.162008504506801,54.760313539166702,55.409938163217497,"23:03:00",49.999763870632599,47.6728790706902,48.746968060910604,"最高裁判所裁判官国民審査"]
[2,4,"　 瀬戸内町",3729,4072,7801,2865,3091,5956,864,981,1845,76.830249396621099,75.908644400785803,76.349186001794607,6,"20:33:00",67.6967776016904,67.232313575525794,67.452948557089101,562163,655998,1218161,306632,349738,656370,255531,306260,561791,54.545034091535697,53.313882054518501,53.8820402229262,"22:26:00",48.580688020683702,46.323323878346898,47.360975734561599,76322,83176,159498,51954,55036,106990,24368,28140,52508,68.072115510599801,66.168125420794496,67.079211024589696,"23:03:00",60.0958037938302,57.915971062882598,58.953087680274201,638485,739174,1377659,358586,404774,763360,279899,334400,614299,56.162008504506801,54.760313539166702,55.409938163217497,"23:03:00",49.999763870632599,47.6728790706902,48.746968060910604,"最高裁判所裁判官国民審査"]
[2,5,"　 龍郷町",2309,2542,4851,2032,2201,4233,277,341,618,88.003464703334799,86.585365853658502,87.260358688930097,3,"22:09:00",63.330457290767903,63.5863153755407,63.464307755605802,562163,655998,1218161,306632,349738,656370,255531,306260,561791,54.545034091535697,53.313882054518501,53.8820402229262,"22:26:00",48.580688020683702,46.323323878346898,47.360975734561599,76322,83176,159498,51954,55036,106990,24368,28140,52508,68.072115510599801,66.168125420794496,67.079211024589696,"23:03:00",60.0958037938302,57.915971062882598,58.953087680274201,638485,739174,1377659,358586,404774,763360,279899,334400,614299,56.162008504506801,54.760313539166702,55.409938163217497,"23:03:00",49.999763870632599,47.6728790706902,48.746968060910604,"最高裁判所裁判官国民審査"]
[2,6,"　 喜界町",2981,3128,6109,2128,2186,4314,853,942,1795,71.385441127138506,69.884910485933503,70.617122278605294,13,"19:12:00",64.909390444810498,60.140286672766102,62.432689261957499,562163,655998,1218161,306632,349738,656370,255531,306260,561791,54.545034091535697,53.313882054518501,53.8820402229262,"22:26:00",48.580688020683702,46.323323878346898,47.360975734561599,76322,83176,159498,51954,55036,106990,24368,28140,52508,68.072115510599801,66.168125420794496,67.079211024589696,"23:03:00",60.0958037938302,57.915971062882598,58.953087680274201,638485,739174,1377659,358586,404774,763360,279899,334400,614299,56.162008504506801,54.760313539166702,55.409938163217497,"23:03:00",49.999763870632599,47.6728790706902,48.746968060910604,"最高裁判所裁判官国民審査"]
[2,7,"　 徳之島町",4356,4578,8934,2927,3104,6031,1429,1474,2903,67.194674012855799,67.802533857579704,67.506156256995695,17,"21:33:00",55.137062625362198,56.687898089172002,55.931281939762997,562163,655998,1218161,306632,349738,656370,255531,306260,561791,54.545034091535697,53.313882054518501,53.8820402229262,"22:26:00",48.580688020683702,46.323323878346898,47.360975734561599,76322,83176,159498,51954,55036,106990,24368,28140,52508,68.072115510599801,66.168125420794496,67.079211024589696,"23:03:00",60.0958037938302,57.915971062882598,58.953087680274201,638485,739174,1377659,358586,404774,763360,279899,334400,614299,56.162008504506801,54.760313539166702,55.409938163217497,"23:03:00",49.999763870632599,47.6728790706902,48.746968060910604,"最高裁判所裁判官国民審査"]
[2,8,"　 天城町",2593,2489,5082,1757,1701,3458,836,788,1624,67.759352101812595,68.340699075934097,68.044077134986196,16,"20:28:00",52.533333333333303,50.612406163571698,51.590380139643102,562163,655998,1218161,306632,349738,656370,255531,306260,561791,54.545034091535697,53.313882054518501,53.8820402229262,"22:26:00",48.580688020683702,46.323323878346898,47.360975734561599,76322,83176,159498,51954,55036,106990,24368,28140,52508,68.072115510599801,66.168125420794496,67.079211024589696,"23:03:00",60.0958037938302,57.915971062882598,58.953087680274201,638485,739174,1377659,358586,404774,763360,279899,334400,614299,56.162008504506801,54.760313539166702,55.409938163217497,"23:03:00",49.999763870632599,47.6728790706902,48.746968060910604,"最高裁判所裁判官国民審査"]
[2,9,"　 伊仙町",2854,2782,5636,2629,2476,5105,225,306,531,92.116327960756806,89.000718907261003,90.578424414478306,1,"20:41:00",60.034904013961601,57.613596947624004,58.820459290187898,562163,655998,1218161,306632,349738,656370,255531,306260,561791,54.545034091535697,53.313882054518501,53.8820402229262,"22:26:00",48.580688020683702,46.323323878346898,47.360975734561599,76322,83176,159498,51954,55036,106990,24368,28140,52508,68.072115510599801,66.168125420794496,67.079211024589696,"23:03:00",60.0958037938302,57.915971062882598,58.953087680274201,638485,739174,1377659,358586,404774,763360,279899,334400,614299,56.162008504506801,54.760313539166702,55.409938163217497,"23:03:00",49.999763870632599,47.6728790706902,48.746968060910604,"最高裁判所裁判官国民審査"]
[2,10,"　 和泊町",2668,2779,5447,1986,1995,3981,682,784,1466,74.437781109445297,71.788413098236802,73.086102441711006,10,"19:01:00",63.904034896401299,63.185840707964601,63.540172166427503,562163,655998,1218161,306632,349738,656370,255531,306260,561791,54.545034091535697,53.313882054518501,53.8820402229262,"22:26:00",48.580688020683702,46.323323878346898,47.360975734561599,76322,83176,159498,51954,55036,106990,24368,28140,52508,68.072115510599801,66.168125420794496,67.079211024589696,"23:03:00",60.0958037938302,57.915971062882598,58.953087680274201,638485,739174,1377659,358586,404774,763360,279899,334400,614299,56.162008504506801,54.760313539166702,55.409938163217497,"23:03:00",49.999763870632599,47.6728790706902,48.746968060910604,"最高裁判所裁判官国民審査"]
[2,11,"　 知名町",2539,2500,5039,1820,1750,3570,719,750,1469,71.681764474202495,70,70.847390355229194,12,"19:15:00",63.001543209876502,60.015378700499802,61.505873290968601,562163,655998,1218161,306632,349738,656370,255531,306260,561791,54.545034091535697,53.313882054518501,53.8820402229262,"22:26:00",48.580688020683702,46.323323878346898,47.360975734561599,76322,83176,159498,51954,55036,106990,24368,28140,52508,68.072115510599801,66.168125420794496,67.079211024589696,"23:03:00",60.0958037938302,57.915971062882598,58.953087680274201,638485,739174,1377659,358586,404774,763360,279899,334400,614299,56.162008504506801,54.760313539166702,55.409938163217497,"23:03:00",49.999763870632599,47.6728790706902,48.746968060910604,"最高裁判所裁判官国民審査"]
[2,12,"　 与論町",2107,2246,4353,1532,1540,3072,575,706,1281,72.710014238253393,68.566340160284994,70.572019297036505,14,"23:02:00",64.725223109441103,62.144420131291,63.389216130493899,562163,655998,1218161,306632,349738,656370,255531,306260,561791,54.545034091535697,53.313882054518501,53.8820402229262,"22:26:00",48.580688020683702,46.323323878346898,47.360975734561599,76322,83176,159498,51954,55036,106990,24368,28140,52508,68.072115510599801,66.168125420794496,67.079211024589696,"23:03:00",60.0958037938302,57.915971062882598,58.953087680274201,638485,739174,1377659,358586,404774,763360,279899,334400,614299,56.162008504506801,54.760313539166702,55.409938163217497,"23:03:00",49.999763870632599,47.6728790706902,48.746968060910604,"最高裁判所裁判官国民審査"]
[2,13,"＊（大島郡）計",27498,28604,56102,20795,21256,42051,6703,7348,14051,75.623681722307097,74.311285134946203,74.954547074970606,null,"23:02:00",62.171722585486101,61.030836704858402,61.587108013937303,562163,655998,1218161,306632,349738,656370,255531,306260,561791,54.545034091535697,53.313882054518501,53.8820402229262,"22:26:00",48.580688020683702,46.323323878346898,47.360975734561599,76322,83176,159498,51954,55036,106990,24368,28140,52508,68.072115510599801,66.168125420794496,67.079211024589696,"23:03:00",60.0958037938302,57.915971062882598,58.953087680274201,638485,739174,1377659,358586,404774,763360,279899,334400,614299,56.162008504506801,54.760313539166702,55.409938163217497,"23:03:00",49.999763870632599,47.6728790706902,48.746968060910604,"最高裁判所裁判官国民審査"]
[2,14,null,null,null,null,null,null,null,null,null,null,null,null,null,null,null,null,null,null,562163,655998,1218161,306632,349738,656370,255531,306260,561791,54.545034091535697,53.313882054518501,53.8820402229262,"22:26:00",48.580688020683702,46.323323878346898,47.360975734561599,76322,83176,159498,51954,55036,106990,24368,28140,52508,68.072115510599801,66.168125420794496,67.079211024589696,"23:03:00",60.0958037938302,57.915971062882598,58.953087680274201,638485,739174,1377659,358586,404774,763360,279899,334400,614299,56.162008504506801,54.760313539166702,55.409938163217497,"23:03:00",49.999763870632599,47.6728790706902,48.746968060910604,"最高裁判所裁判官国民審査"]
[2,15,null,null,null,null,null,null,null,null,null,null,null,null,null,null,null,null,null,null,562163,655998,1218161,306632,349738,656370,255531,306260,561791,54.545034091535697,53.313882054518501,53.8820402229262,"22:26:00",48.580688020683702,46.323323878346898,47.360975734561599,76322,83176,159498,51954,55036,106990,24368,28140,52508,68.072115510599801,66.168125420794496,67.079211024589696,"23:03:00",60.0958037938302,57.915971062882598,58.953087680274201,638485,739174,1377659,358586,404774,763360,279899,334400,614299,56.162008504506801,54.760313539166702,55.409938163217497,"23:03:00",49.999763870632599,47.6728790706902,48.746968060910604,"最高裁判所裁判官国民審査"]
[2,16,null,null,null,null,null,null,null,null,null,null,null,null,null,null,null,null,null,null,562163,655998,1218161,306632,349738,656370,255531,306260,561791,54.545034091535697,53.313882054518501,53.8820402229262,"22:26:00",48.580688020683702,46.323323878346898,47.360975734561599,76322,83176,159498,51954,55036,106990,24368,28140,52508,68.072115510599801,66.168125420794496,67.079211024589696,"23:03:00",60.0958037938302,57.915971062882598,58.953087680274201,638485,739174,1377659,358586,404774,763360,279899,334400,614299,56.162008504506801,54.760313539166702,55.409938163217497,"23:03:00",49.999763870632599,47.6728790706902,48.746968060910604,"最高裁判所裁判官国民審査"]
[2,17,null,null,null,null,null,null,null,null,null,null,null,null,null,null,null,null,null,null,562163,655998,1218161,306632,349738,656370,255531,306260,561791,54.545034091535697,53.313882054518501,53.8820402229262,"22:26:00",48.580688020683702,46.323323878346898,47.360975734561599,76322,83176,159498,51954,55036,106990,24368,28140,52508,68.072115510599801,66.168125420794496,67.079211024589696,"23:03:00",60.0958037938302,57.915971062882598,58.953087680274201,638485,739174,1377659,358586,404774,763360,279899,334400,614299,56.162008504506801,54.760313539166702,55.409938163217497,"23:03:00",49.999763870632599,47.6728790706902,48.746968060910604,"最高裁判所裁判官国民審査"]
[2,18,null,null,null,null,null,null,null,null,null,null,null,null,null,null,null,null,null,null,562163,655998,1218161,306632,349738,656370,255531,306260,561791,54.545034091535697,53.313882054518501,53.8820402229262,"22:26:00",48.580688020683702,46.323323878346898,47.360975734561599,76322,83176,159498,51954,55036,106990,24368,28140,52508,68.072115510599801,66.168125420794496,67.079211024589696,"23:03:00",60.0958037938302,57.915971062882598,58.953087680274201,638485,739174,1377659,358586,404774,763360,279899,334400,614299,56.162008504506801,54.760313539166702,55.409938163217497,"23:03:00",49.999763870632599,47.6728790706902,48.746968060910604,"最高裁判所裁判官国民審査"]
[2,19,null,null,null,null,null,null,null,null,null,null,null,null,null,null,null,null,null,null,562163,655998,1218161,306632,349738,656370,255531,306260,561791,54.545034091535697,53.313882054518501,53.8820402229262,"22:26:00",48.580688020683702,46.323323878346898,47.360975734561599,76322,83176,159498,51954,55036,106990,24368,28140,52508,68.072115510599801,66.168125420794496,67.079211024589696,"23:03:00",60.0958037938302,57.915971062882598,58.953087680274201,638485,739174,1377659,358586,404774,763360,279899,334400,614299,56.162008504506801,54.760313539166702,55.409938163217497,"23:03:00",49.999763870632599,47.6728790706902,48.746968060910604,"最高裁判所裁判官国民審査"]
[2,20,null,null,null,null,null,null,null,null,null,null,null,null,null,null,null,null,null,null,562163,655998,1218161,306632,349738,656370,255531,306260,561791,54.545034091535697,53.313882054518501,53.8820402229262,"22:26:00",48.580688020683702,46.323323878346898,47.360975734561599,76322,83176,159498,51954,55036,106990,24368,28140,52508,68.072115510599801,66.168125420794496,67.079211024589696,"23:03:00",60.0958037938302,57.915971062882598,58.953087680274201,638485,739174,1377659,358586,404774,763360,279899,334400,614299,56.162008504506801,54.760313539166702,55.409938163217497,"23:03:00",49.999763870632599,47.6728790706902,48.746968060910604,"最高裁判所裁判官国民審査"]
[2,21,null,null,null,null,null,null,null,null,null,null,null,null,null,null,null,null,null,null,562163,655998,1218161,306632,349738,656370,255531,306260,561791,54.545034091535697,53.313882054518501,53.8820402229262,"22:26:00",48.580688020683702,46.323323878346898,47.360975734561599,76322,83176,159498,51954,55036,106990,24368,28140,52508,68.072115510599801,66.168125420794496,67.079211024589696,"23:03:00",60.0958037938302,57.915971062882598,58.953087680274201,638485,739174,1377659,358586,404774,763360,279899,334400,614299,56.162008504506801,54.760313539166702,55.409938163217497,"23:03:00",49.999763870632599,47.6728790706902,48.746968060910604,"最高裁判所裁判官国民審査"]
[2,22,null,null,null,null,null,null,null,null,null,null,null,null,null,null,null,null,null,null,562163,655998,1218161,306632,349738,656370,255531,306260,561791,54.545034091535697,53.313882054518501,53.8820402229262,"22:26:00",48.580688020683702,46.323323878346898,47.360975734561599,76322,83176,159498,51954,55036,106990,24368,28140,52508,68.072115510599801,66.168125420794496,67.079211024589696,"23:03:00",60.0958037938302,57.915971062882598,58.953087680274201,638485,739174,1377659,358586,404774,763360,279899,334400,614299,56.162008504506801,54.760313539166702,55.409938163217497,"23:03:00",49.999763870632599,47.6728790706902,48.746968060910604,"最高裁判所裁判官国民審査"]
[2,23,null,null,null,null,null,null,null,null,null,null,null,null,null,null,null,null,null,null,562163,655998,1218161,306632,349738,656370,255531,306260,561791,54.545034091535697,53.313882054518501,53.8820402229262,"22:26:00",48.580688020683702,46.323323878346898,47.360975734561599,76322,83176,159498,51954,55036,106990,24368,28140,52508,68.072115510599801,66.168125420794496,67.079211024589696,"23:03:00",60.0958037938302,57.915971062882598,58.953087680274201,638485,739174,1377659,358586,404774,763360,279899,334400,614299,56.162008504506801,54.760313539166702,55.409938163217497,"23:03:00",49.999763870632599,47.6728790706902,48.746968060910604,"最高裁判所裁判官国民審査"]
[2,24,null,null,null,null,null,null,null,null,null,null,null,null,null,null,null,null,null,null,562163,655998,1218161,306632,349738,656370,255531,306260,561791,54.545034091535697,53.313882054518501,53.8820402229262,"22:26:00",48.580688020683702,46.323323878346898,47.360975734561599,76322,83176,159498,51954,55036,106990,24368,28140,52508,68.072115510599801,66.168125420794496,67.079211024589696,"23:03:00",60.0958037938302,57.915971062882598,58.953087680274201,638485,739174,1377659,358586,404774,763360,279899,334400,614299,56.162008504506801,54.760313539166702,55.409938163217497,"23:03:00",49.999763870632599,47.6728790706902,48.746968060910604,"最高裁判所裁判官国民審査"]
[2,25,null,null,null,null,null,null,null,null,null,null,null,null,null,null,null,null,null,null,562163,655998,1218161,306632,349738,656370,255531,306260,561791,54.545034091535697,53.313882054518501,53.8820402229262,"22:26:00",48.580688020683702,46.323323878346898,47.360975734561599,76322,83176,159498,51954,55036,106990,24368,28140,52508,68.072115510599801,66.168125420794496,67.079211024589696,"23:03:00",60.0958037938302,57.915971062882598,58.953087680274201,638485,739174,1377659,358586,404774,763360,279899,334400,614299,56.162008504506801,54.760313539166702,55.409938163217497,"23:03:00",49.999763870632599,47.6728790706902,48.746968060910604,"最高裁判所裁判官国民審査"]
[2,26,null,null,null,null,null,null,null,null,null,null,null,null,null,null,null,null,null,null,562163,655998,1218161,306632,349738,656370,255531,306260,561791,54.545034091535697,53.313882054518501,53.8820402229262,"22:26:00",48.580688020683702,46.323323878346898,47.360975734561599,76322,83176,159498,51954,55036,106990,24368,28140,52508,68.072115510599801,66.168125420794496,67.079211024589696,"23:03:00",60.0958037938302,57.915971062882598,58.953087680274201,638485,739174,1377659,358586,404774,763360,279899,334400,614299,56.162008504506801,54.760313539166702,55.409938163217497,"23:03:00",49.999763870632599,47.6728790706902,48.746968060910604,"最高裁判所裁判官国民審査"]
[2,27,null,null,null,null,null,null,null,null,null,null,null,null,null,null,null,null,null,null,562163,655998,1218161,306632,349738,656370,255531,306260,561791,54.545034091535697,53.313882054518501,53.8820402229262,"22:26:00",48.580688020683702,46.323323878346898,47.360975734561599,76322,83176,159498,51954,55036,106990,24368,28140,52508,68.072115510599801,66.168125420794496,67.079211024589696,"23:03:00",60.0958037938302,57.915971062882598,58.953087680274201,638485,739174,1377659,358586,404774,763360,279899,334400,614299,56.162008504506801,54.760313539166702,55.409938163217497,"23:03:00",49.999763870632599,47.6728790706902,48.746968060910604,"最高裁判所裁判官国民審査"]
[2,28,null,null,null,null,null,null,null,null,null,null,null,null,null,null,null,null,null,null,562163,655998,1218161,306632,349738,656370,255531,306260,561791,54.545034091535697,53.313882054518501,53.8820402229262,"22:26:00",48.580688020683702,46.323323878346898,47.360975734561599,76322,83176,159498,51954,55036,106990,24368,28140,52508,68.072115510599801,66.168125420794496,67.079211024589696,"23:03:00",60.0958037938302,57.915971062882598,58.953087680274201,638485,739174,1377659,358586,404774,763360,279899,334400,614299,56.162008504506801,54.760313539166702,55.409938163217497,"23:03:00",49.999763870632599,47.6728790706902,48.746968060910604,"最高裁判所裁判官国民審査"]
[2,29,null,null,null,null,null,null,null,null,null,null,null,null,null,null,null,null,null,null,562163,655998,1218161,306632,349738,656370,255531,306260,561791,54.545034091535697,53.313882054518501,53.8820402229262,"22:26:00",48.580688020683702,46.323323878346898,47.360975734561599,76322,83176,159498,51954,55036,106990,24368,28140,52508,68.072115510599801,66.168125420794496,67.079211024589696,"23:03:00",60.0958037938302,57.915971062882598,58.953087680274201,638485,739174,1377659,358586,404774,763360,279899,334400,614299,56.162008504506801,54.760313539166702,55.409938163217497,"23:03:00",49.999763870632599,47.6728790706902,48.746968060910604,"最高裁判所裁判官国民審査"]
[2,30,null,null,null,null,null,null,null,null,null,null,null,null,null,null,null,null,null,null,562163,655998,1218161,306632,349738,656370,255531,306260,561791,54.545034091535697,53.313882054518501,53.8820402229262,"22:26:00",48.580688020683702,46.323323878346898,47.360975734561599,76322,83176,159498,51954,55036,106990,24368,28140,52508,68.072115510599801,66.168125420794496,67.079211024589696,"23:03:00",60.0958037938302,57.915971062882598,58.953087680274201,638485,739174,1377659,358586,404774,763360,279899,334400,614299,56.162008504506801,54.760313539166702,55.409938163217497,"23:03:00",49.999763870632599,47.6728790706902,48.746968060910604,"最高裁判所裁判官国民審査"]
[2,31,null,null,null,null,null,null,null,null,null,null,null,null,null,null,null,null,null,null,562163,655998,1218161,306632,349738,656370,255531,306260,561791,54.545034091535697,53.313882054518501,53.8820402229262,"22:26:00",48.580688020683702,46.323323878346898,47.360975734561599,76322,83176,159498,51954,55036,106990,24368,28140,52508,68.072115510599801,66.168125420794496,67.079211024589696,"23:03:00",60.0958037938302,57.915971062882598,58.953087680274201,638485,739174,1377659,358586,404774,763360,279899,334400,614299,56.162008504506801,54.760313539166702,55.409938163217497,"23:03:00",49.999763870632599,47.6728790706902,48.746968060910604,"最高裁判所裁判官国民審査"]
[2,32,null,null,null,null,null,null,null,null,null,null,null,null,null,null,null,null,null,null,562163,655998,1218161,306632,349738,656370,255531,306260,561791,54.545034091535697,53.313882054518501,53.8820402229262,"22:26:00",48.580688020683702,46.323323878346898,47.360975734561599,76322,83176,159498,51954,55036,106990,24368,28140,52508,68.072115510599801,66.168125420794496,67.079211024589696,"23:03:00",60.0958037938302,57.915971062882598,58.953087680274201,638485,739174,1377659,358586,404774,763360,279899,334400,614299,56.162008504506801,54.760313539166702,55.409938163217497,"23:03:00",49.999763870632599,47.6728790706902,48.746968060910604,"最高裁判所裁判官国民審査"]
[2,33,null,null,null,null,null,null,null,null,null,null,null,null,null,null,null,null,null,null,562163,655998,1218161,306632,349738,656370,255531,306260,561791,54.545034091535697,53.313882054518501,53.8820402229262,"22:26:00",48.580688020683702,46.323323878346898,47.360975734561599,76322,83176,159498,51954,55036,106990,24368,28140,52508,68.072115510599801,66.168125420794496,67.079211024589696,"23:03:00",60.0958037938302,57.915971062882598,58.953087680274201,638485,739174,1377659,358586,404774,763360,279899,334400,614299,56.162008504506801,54.760313539166702,55.409938163217497,"23:03:00",49.999763870632599,47.6728790706902,48.746968060910604,"最高裁判所裁判官国民審査"]
[2,34,null,null,null,null,null,null,null,null,null,null,null,null,null,null,null,null,null,null,562163,655998,1218161,306632,349738,656370,255531,306260,561791,54.545034091535697,53.313882054518501,53.8820402229262,"22:26:00",48.580688020683702,46.323323878346898,47.360975734561599,76322,83176,159498,51954,55036,106990,24368,28140,52508,68.072115510599801,66.168125420794496,67.079211024589696,"23:03:00",60.0958037938302,57.915971062882598,58.953087680274201,638485,739174,1377659,358586,404774,763360,279899,334400,614299,56.162008504506801,54.760313539166702,55.409938163217497,"23:03:00",49.999763870632599,47.6728790706902,48.746968060910604,"最高裁判所裁判官国民審査"]
[2,35,null,null,null,null,null,null,null,null,null,null,null,null,null,null,null,null,null,null,562163,655998,1218161,306632,349738,656370,255531,306260,561791,54.545034091535697,53.313882054518501,53.8820402229262,"22:26:00",48.580688020683702,46.323323878346898,47.360975734561599,76322,83176,159498,51954,55036,106990,24368,28140,52508,68.072115510599801,66.168125420794496,67.079211024589696,"23:03:00",60.0958037938302,57.915971062882598,58.953087680274201,638485,739174,1377659,358586,404774,763360,279899,334400,614299,56.162008504506801,54.760313539166702,55.409938163217497,"23:03:00",49.999763870632599,47.6728790706902,48.746968060910604,"最高裁判所裁判官国民審査"]
[2,36,null,null,null,null,null,null,null,null,null,null,null,null,null,null,null,null,null,null,562163,655998,1218161,306632,349738,656370,255531,306260,561791,54.545034091535697,53.313882054518501,53.8820402229262,"22:26:00",48.580688020683702,46.323323878346898,47.360975734561599,76322,83176,159498,51954,55036,106990,24368,28140,52508,68.072115510599801,66.168125420794496,67.079211024589696,"23:03:00",60.0958037938302,57.915971062882598,58.953087680274201,638485,739174,1377659,358586,404774,763360,279899,334400,614299,56.162008504506801,54.760313539166702,55.409938163217497,"23:03:00",49.999763870632599,47.6728790706902,48.746968060910604,"最高裁判所裁判官国民審査"]
[2,37,null,null,null,null,null,null,null,null,null,null,null,null,null,null,null,null,null,null,562163,655998,1218161,306632,349738,656370,255531,306260,561791,54.545034091535697,53.313882054518501,53.8820402229262,"22:26:00",48.580688020683702,46.323323878346898,47.360975734561599,76322,83176,159498,51954,55036,106990,24368,28140,52508,68.072115510599801,66.168125420794496,67.079211024589696,"23:03:00",60.0958037938302,57.915971062882598,58.953087680274201,638485,739174,1377659,358586,404774,763360,279899,334400,614299,56.162008504506801,54.760313539166702,55.409938163217497,"23:03:00",49.999763870632599,47.6728790706902,48.746968060910604,"最高裁判所裁判官国民審査"]
[2,38,null,null,null,null,null,null,null,null,null,null,null,null,null,null,null,null,null,null,562163,655998,1218161,306632,349738,656370,255531,306260,561791,54.545034091535697,53.313882054518501,53.8820402229262,"22:26:00",48.580688020683702,46.323323878346898,47.360975734561599,76322,83176,159498,51954,55036,106990,24368,28140,52508,68.072115510599801,66.168125420794496,67.079211024589696,"23:03:00",60.0958037938302,57.915971062882598,58.953087680274201,638485,739174,1377659,358586,404774,763360,279899,334400,614299,56.162008504506801,54.760313539166702,55.409938163217497,"23:03:00",49.999763870632599,47.6728790706902,48.746968060910604,"最高裁判所裁判官国民審査"]
[2,39,null,null,null,null,null,null,null,null,null,null,null,null,null,null,null,null,null,null,562163,655998,1218161,306632,349738,656370,255531,306260,561791,54.545034091535697,53.313882054518501,53.8820402229262,"22:26:00",48.580688020683702,46.323323878346898,47.360975734561599,76322,83176,159498,51954,55036,106990,24368,28140,52508,68.072115510599801,66.168125420794496,67.079211024589696,"23:03:00",60.0958037938302,57.915971062882598,58.953087680274201,638485,739174,1377659,358586,404774,763360,279899,334400,614299,56.162008504506801,54.760313539166702,55.409938163217497,"23:03:00",49.999763870632599,47.6728790706902,48.746968060910604,"最高裁判所裁判官国民審査"]
[2,40,null,null,null,null,null,null,null,null,null,null,null,null,null,null,null,null,null,null,562163,655998,1218161,306632,349738,656370,255531,306260,561791,54.545034091535697,53.313882054518501,53.8820402229262,"22:26:00",48.580688020683702,46.323323878346898,47.360975734561599,76322,83176,159498,51954,55036,106990,24368,28140,52508,68.072115510599801,66.168125420794496,67.079211024589696,"23:03:00",60.0958037938302,57.915971062882598,58.953087680274201,638485,739174,1377659,358586,404774,763360,279899,334400,614299,56.162008504506801,54.760313539166702,55.409938163217497,"23:03:00",49.999763870632599,47.6728790706902,48.746968060910604,"最高裁判所裁判官国民審査"]
[2,41,null,null,null,null,null,null,null,null,null,null,null,null,null,null,null,null,null,null,562163,655998,1218161,306632,349738,656370,255531,306260,561791,54.545034091535697,53.313882054518501,53.8820402229262,"22:26:00",48.580688020683702,46.323323878346898,47.360975734561599,76322,83176,159498,51954,55036,106990,24368,28140,52508,68.072115510599801,66.168125420794496,67.079211024589696,"23:03:00",60.0958037938302,57.915971062882598,58.953087680274201,638485,739174,1377659,358586,404774,763360,279899,334400,614299,56.162008504506801,54.760313539166702,55.409938163217497,"23:03:00",49.999763870632599,47.6728790706902,48.746968060910604,"最高裁判所裁判官国民審査"]
[2,42,null,null,null,null,null,null,null,null,null,null,null,null,null,null,null,null,null,null,562163,655998,1218161,306632,349738,656370,255531,306260,561791,54.545034091535697,53.313882054518501,53.8820402229262,"22:26:00",48.580688020683702,46.323323878346898,47.360975734561599,76322,83176,159498,51954,55036,106990,24368,28140,52508,68.072115510599801,66.168125420794496,67.079211024589696,"23:03:00",60.0958037938302,57.915971062882598,58.953087680274201,638485,739174,1377659,358586,404774,763360,279899,334400,614299,56.162008504506801,54.760313539166702,55.409938163217497,"23:03:00",49.999763870632599,47.6728790706902,48.746968060910604,"最高裁判所裁判官国民審査"]
[2,43,null,null,null,null,null,null,null,null,null,null,null,null,null,null,null,null,null,null,562163,655998,1218161,306632,349738,656370,255531,306260,561791,54.545034091535697,53.313882054518501,53.8820402229262,"22:26:00",48.580688020683702,46.323323878346898,47.360975734561599,76322,83176,159498,51954,55036,106990,24368,28140,52508,68.072115510599801,66.168125420794496,67.079211024589696,"23:03:00",60.0958037938302,57.915971062882598,58.953087680274201,638485,739174,1377659,358586,404774,763360,279899,334400,614299,56.162008504506801,54.760313539166702,55.409938163217497,"23:03:00",49.999763870632599,47.6728790706902,48.746968060910604,"最高裁判所裁判官国民審査"]