{"text_format":"1","workbook":"xlsx","n_sheets":3,"sheets":["衆比開票速報（得票詳細）_211_","パラメタシート","P_21号様式"],"not_rendered":{"charts":0,"images":0,"macros":1,"external_links":0,"defined_names":8,"comments":0,"pivot_tables":0},"unopened":[],"bounds":{"document_bytes":16777216,"sheet_cells":100000,"rows_first":2000,"rows_last":500,"rows_between":2000,"halvings":0,"cell_chars":16384,"cell_head_chars":4096},"cells_cut":0,"cells_raw":0,"read":"whole","date_system":"1900"}

{"sheet":"衆比開票速報（得票詳細）_211_","index":0,"n_rows":114,"n_cols":22,"rows_kept":114,"cut":false,"hidden":false,"merged":[[49,19,49,20],[43,19,43,20],[48,19,48,20],[48,0,48,1],[54,0,54,1],[53,0,53,1],[48,21,48,22],[49,21,49,22],[46,21,46,22],[47,21,47,22],[50,0,50,1],[51,0,51,1],[44,0,44,1],[45,0,45,1],[3,18,3,21],[4,18,4,21],[3,15,3,16],[4,15,4,16],[5,16,5,18],[41,19,41,20],[38,19,38,20],[39,19,39,20],[58,0,59,3],[58,7,59,14],[44,19,44,20],[45,19,45,20],[46,19,46,20],[55,0,55,1],[47,19,47,20],[50,19,50,20],[40,19,40,20],[42,19,42,20],[30,19,30,20],[31,19,31,20],[32,19,32,20],[33,19,33,20],[34,19,34,20],[35,19,35,20],[36,19,36,20],[37,19,37,20],[26,19,26,20],[27,19,27,20],[28,19,28,20],[29,19,29,20],[24,19,24,20],[25,19,25,20],[18,19,18,20],[19,19,19,20],[20,19,20,20],[21,19,21,20],[40,21,40,22],[41,21,41,22],[50,21,50,22],[11,19,11,20],[12,19,12,20],[13,19,13,20],[14,19,14,20],[15,19,15,20],[16,19,16,20],[17,19,17,20],[44,21,44,22],[45,21,45,22],[42,21,42,22],[43,21,43,22],[36,21,36,22],[37,21,37,22],[38,21,38,22],[39,21,39,22],[33,21,33,22],[34,21,34,22],[35,21,35,22],[28,21,28,22],[29,21,29,22],[30,21,30,22],[22,21,22,22],[23,21,23,22],[32,21,32,22],[12,21,12,22],[13,21,13,22],[14,21,14,22],[15,21,15,22],[24,21,24,22],[25,21,25,22],[16,21,16,22],[17,21,17,22],[18,21,18,22],[19,21,19,22],[26,21,26,22],[28,0,28,1],[29,0,29,1],[30,0,30,1],[31,0,31,1],[24,0,24,1],[25,0,25,1],[26,0,26,1],[27,0,27,1],[20,0,20,1],[21,0,21,1],[22,0,22,1],[23,0,23,1],[16,0,16,1],[17,0,17,1],[18,0,18,1],[31,21,31,22],[27,21,27,22],[20,21,20,22],[21,21,21,22],[46,0,46,1],[47,0,47,1],[40,0,40,1],[41,0,41,1],[42,0,42,1],[43,0,43,1],[49,0,49,1],[32,0,32,1],[33,0,33,1],[34,0,34,1],[35,0,35,1],[36,0,36,1],[37,0,37,1],[38,0,38,1],[39,0,39,1],[19,0,19,1],[12,0,12,1],[13,0,13,1],[14,0,14,1],[15,0,15,1],[6,11,6,12],[9,21,9,22],[7,17,7,18],[11,0,11,1],[10,21,10,22],[11,21,11,22],[9,0,9,1],[7,21,7,22],[8,5,8,6],[8,7,8,8],[6,3,6,4],[6,5,6,6],[6,7,6,8],[6,9,6,10],[10,0,10,1],[10,19,10,20],[9,19,9,20],[7,15,7,16],[8,9,8,10],[6,13,6,14],[6,15,6,16],[8,19,8,20],[6,19,6,20],[6,17,6,18],[6,21,6,22],[7,13,7,14],[8,21,8,22],[7,19,7,20],[8,13,8,14],[107,0,107,1],[107,19,107,20],[107,21,107,22],[8,15,8,16],[8,17,8,18],[53,19,53,20],[53,21,53,22],[51,21,51,22],[108,0,108,1],[108,19,108,20],[108,21,108,22],[105,0,105,1],[105,19,105,20],[105,21,105,22],[106,0,106,1],[106,19,106,20],[106,21,106,22],[103,0,103,1],[103,19,103,20],[103,21,103,22],[104,0,104,1],[104,19,104,20],[51,19,51,20],[8,3,8,4],[113,0,113,1],[113,19,113,20],[113,21,113,22],[110,0,110,1],[110,19,110,20],[110,21,110,22],[111,0,111,1],[111,19,111,20],[111,21,111,22],[112,0,112,1],[112,19,112,20],[112,21,112,22],[104,21,104,22],[101,0,101,1],[101,19,101,20],[101,21,101,22],[102,0,102,1],[102,19,102,20],[102,21,102,22],[99,0,99,1],[99,19,99,20],[99,21,99,22],[100,0,100,1],[100,19,100,20],[100,21,100,22],[97,0,97,1],[97,19,97,20],[97,21,97,22],[98,0,98,1],[98,19,98,20],[98,21,98,22],[95,0,95,1],[95,19,95,20],[95,21,95,22],[96,0,96,1],[96,19,96,20],[96,21,96,22],[93,0,93,1],[93,19,93,20],[93,21,93,22],[94,0,94,1],[94,19,94,20],[94,21,94,22],[91,0,91,1],[91,19,91,20],[91,21,91,22],[92,0,92,1],[92,19,92,20],[92,21,92,22],[89,0,89,1],[89,19,89,20],[89,21,89,22],[90,0,90,1],[90,19,90,20],[90,21,90,22],[87,0,87,1],[87,19,87,20],[87,21,87,22],[88,0,88,1],[88,19,88,20],[88,21,88,22],[85,0,85,1],[85,19,85,20],[85,21,85,22],[86,0,86,1],[86,19,86,20],[86,21,86,22],[83,0,83,1],[83,19,83,20],[83,21,83,22],[84,0,84,1],[84,19,84,20],[84,21,84,22],[81,0,81,1],[81,19,81,20],[81,21,81,22],[82,0,82,1],[82,19,82,20],[82,21,82,22],[79,0,79,1],[79,19,79,20],[79,21,79,22],[80,0,80,1],[80,19,80,20],[80,21,80,22],[77,0,77,1],[77,19,77,20],[77,21,77,22],[78,0,78,1],[78,19,78,20],[78,21,78,22],[75,0,75,1],[75,19,75,20],[75,21,75,22],[76,0,76,1],[76,19,76,20],[76,21,76,22],[73,0,73,1],[73,19,73,20],[73,21,73,22],[74,0,74,1],[74,19,74,20],[74,21,74,22],[71,0,71,1],[71,19,71,20],[71,21,71,22],[72,0,72,1],[72,19,72,20],[72,21,72,22],[69,0,69,1],[69,19,69,20],[69,21,69,22],[70,0,70,1],[70,19,70,20],[70,21,70,22],[67,0,67,1],[67,19,67,20],[67,21,67,22],[68,0,68,1],[68,19,68,20],[68,21,68,22],[66,0,66,1],[66,19,66,20],[66,21,66,22],[65,3,65,4],[65,5,65,6],[65,7,65,8],[65,9,65,10],[65,11,65,12],[63,0,65,1],[63,3,63,4],[64,19,64,20],[64,21,64,22],[65,13,65,14],[65,15,65,16],[65,17,65,18],[65,19,65,20],[65,21,65,22],[63,19,63,20],[63,21,63,22],[64,3,64,4],[64,5,64,6],[64,7,64,8],[64,9,64,10],[64,11,64,12],[64,13,64,14],[64,15,64,16],[64,17,64,18],[63,13,63,14],[63,15,63,16],[63,17,63,18],[56,0,56,1],[62,16,62,18],[63,5,63,6],[63,7,63,8],[63,9,63,10],[63,11,63,12],[60,1,60,5],[61,1,61,5],[58,21,59,22],[60,15,60,16],[60,18,60,21],[61,15,61,16],[61,18,61,21],[1,0,2,3],[1,7,2,14],[4,1,4,5],[3,1,3,5],[56,19,56,20],[56,21,56,22],[54,19,54,20],[54,21,54,22],[55,19,55,20],[55,21,55,22],[7,3,7,4],[7,5,7,6],[7,7,7,8],[7,9,7,10],[7,11,7,12],[8,11,8,12],[22,19,22,20],[23,19,23,20],[6,0,8,1]]}
[]
["第21号様式",null,null,null,null,null,null,"開  票  速  報"]
[null,null,null,null,null,null,null,null,null,null,null,null,null,null,null,null,null,null,null,null,null,"鹿 児 島 県"]
[null,{"$f":"IF(パラメタシート!B1=\"\",\"\",パラメタシート!B1)","v":"2017-10-22"},null,null,null,null,null,null,null,null,null,null,null,null,null,{"$f":"IF(P_21号様式!BH2=\"0\",\"即日　開票\",\"翌日　開票\")","v":"即日　開票"},null,"中間報告",{"$f":"IF(P_21号様式!BI2=\"\",\"時   　 分　現在\",P_21号様式!BI2)","v":"時   　 分　現在"}]
[null,{"$f":"IF(P_21号様式!BG2=\"\",\"\",P_21号様式!BG2)","v":"衆議院比例代表選出議員選挙"},null,null,null,null,null,null,null,null,null,null,null,null,null,"開票",null,"結了報告",{"$f":"IF(P_21号様式!BF2=\"\",\"時   　 分　結了\",P_21号様式!BF2)","v":"01:19:00"}]
[]
["市区町村名",null,null,"(ア)",null,"(イ)",null,"(ウ)",null,"(エ)",null,"(オ)",null,"(カ)",null,"(キ)",null,"(ク)"]
[null,null,"開票率","政党等得票総数",null,"あん分の際切り",null,"いずれの政党等",null,"有 効 投 票 数",null,"無 効 投 票 数",null,"投 票 総 数",null,"持ち帰り･不受理",null,"投票者総数",null,"無効投票率",null,"開票確定時刻"]
[null,null,"％",null,null,"捨 て た 票 数",null,"にも属しない票数",null,"(ア)＋(イ)＋(ウ)",null,null,null,"(エ)＋(オ)",null,"その他",null,"(カ)＋(キ)",null,"(オ)／(カ)％"]
[{"$f":"IF(P_21号様式!C2=\"\",\"\",P_21号様式!C2)","v":"鹿児島市１区"},null,{"$f":"IF(P_21号様式!D2=\"\",\"\",P_21号様式!D2)","v":""},{"$f":"IF(P_21号様式!E2<> \"\",TEXT(INT(P_21号様式!E2),\"#,##0\"),\"\")","v":"182,798"},{"$f":"IF(P_21号様式!E2= \"\",\"\",IF(VALUE(FIXED(P_21号様式!E2,0,TRUE))<>P_21号様式!E2,RIGHT(FIXED(P_21号様式!E2,3,FALSE),4),\"\"))","v":""},{"$f":"IF(P_21号様式!F2<> \"\",TEXT(INT(P_21号様式!F2),\"#,##0\"),\"\")","v":"0"},{"$f":"IF(P_21号様式!F2= \"\",\"\",IF(VALUE(FIXED(P_21号様式!F2,0,TRUE))<>P_21号様式!F2,RIGHT(FIXED(P_21号様式!F2,3,FALSE),4),\"\"))","v":""},{"$f":"IF(P_21号様式!G2<> \"\",TEXT(INT(P_21号様式!G2),\"#,##0\"),\"\")","v":"0"},{"$f":"IF(P_21号様式!G2= \"\",\"\",IF(VALUE(FIXED(P_21号様式!G2,0,TRUE))<>P_21号様式!G2,RIGHT(FIXED(P_21号様式!G2,3,FALSE),4),\"\"))","v":""},{"$f":"IF(P_21号様式!H2<> \"\",TEXT(INT(P_21号様式!H2),\"#,##0\"),\"\")","v":"182,798"},{"$f":"IF(P_21号様式!H2= \"\",\"\",IF(VALUE(FIXED(P_21号様式!H2,0,TRUE))<>P_21号様式!H2,RIGHT(FIXED(P_21号様式!H2,3,FALSE),4),\"\"))","v":""},{"$f":"IF(P_21号様式!I2<> \"\",TEXT(INT(P_21号様式!I2),\"#,##0\"),\"\")","v":"3,174"},{"$f":"IF(P_21号様式!I2= \"\",\"\",IF(VALUE(FIXED(P_21号様式!I2,0,TRUE))<>P_21号様式!I2,RIGHT(FIXED(P_21号様式!I2,3,FALSE),4),\"\"))","v":""},{"$f":"IF(P_21号様式!J2<> \"\",TEXT(INT(P_21号様式!J2),\"#,##0\"),\"\")","v":"185,972"},{"$f":"IF(P_21号様式!J2= \"\",\"\",IF(VALUE(FIXED(P_21号様式!J2,0,TRUE))<>P_21号様式!J2,RIGHT(FIXED(P_21号様式!J2,3,FALSE),4),\"\"))","v":""},{"$f":"IF(P_21号様式!K2<> \"\",TEXT(INT(P_21号様式!K2),\"#,##0\"),\"\")","v":"15"},{"$f":"IF(P_21号様式!K2= \"\",\"\",IF(VALUE(FIXED(P_21号様式!K2,0,TRUE))<>P_21号様式!K2,RIGHT(FIXED(P_21号様式!K2,3,FALSE),4),\"\"))","v":""},{"$f":"IF(P_21号様式!L2<> \"\",TEXT(INT(P_21号様式!L2),\"#,##0\"),\"\")","v":"185,987"},{"$f":"IF(P_21号様式!L2= \"\",\"\",IF(VALUE(FIXED(P_21号様式!L2,0,TRUE))<>P_21号様式!L2,RIGHT(FIXED(P_21号様式!L2,3,FALSE),4),\"\"))","v":""},{"$f":"IF(P_21号様式!M2=\"\",\"\",P_21号様式!M2)","v":1.70670853676898},null,{"$f":"IF(P_21号様式!N2=\"\",\"\",P_21号様式!N2)","v":"01:14:00"}]
[{"$f":"IF(P_21号様式!C3=\"\",\"\",P_21号様式!C3)","v":"鹿児島市２区"},null,{"$f":"IF(P_21号様式!D3=\"\",\"\",P_21号様式!D3)","v":""},{"$f":"IF(P_21号様式!E3<> \"\",TEXT(INT(P_21号様式!E3),\"#,##0\"),\"\")","v":"65,500"},{"$f":"IF(P_21号様式!E3= \"\",\"\",IF(VALUE(FIXED(P_21号様式!E3,0,TRUE))<>P_21号様式!E3,RIGHT(FIXED(P_21号様式!E3,3,FALSE),4),\"\"))","v":""},{"$f":"IF(P_21号様式!F3<> \"\",TEXT(INT(P_21号様式!F3),\"#,##0\"),\"\")","v":"0"},{"$f":"IF(P_21号様式!F3= \"\",\"\",IF(VALUE(FIXED(P_21号様式!F3,0,TRUE))<>P_21号様式!F3,RIGHT(FIXED(P_21号様式!F3,3,FALSE),4),\"\"))","v":""},{"$f":"IF(P_21号様式!G3<> \"\",TEXT(INT(P_21号様式!G3),\"#,##0\"),\"\")","v":"0"},{"$f":"IF(P_21号様式!G3= \"\",\"\",IF(VALUE(FIXED(P_21号様式!G3,0,TRUE))<>P_21号様式!G3,RIGHT(FIXED(P_21号様式!G3,3,FALSE),4),\"\"))","v":""},{"$f":"IF(P_21号様式!H3<> \"\",TEXT(INT(P_21号様式!H3),\"#,##0\"),\"\")","v":"65,500"},{"$f":"IF(P_21号様式!H3= \"\",\"\",IF(VALUE(FIXED(P_21号様式!H3,0,TRUE))<>P_21号様式!H3,RIGHT(FIXED(P_21号様式!H3,3,FALSE),4),\"\"))","v":""},{"$f":"IF(P_21号様式!I3<> \"\",TEXT(INT(P_21号様式!I3),\"#,##0\"),\"\")","v":"1,143"},{"$f":"IF(P_21号様式!I3= \"\",\"\",IF(VALUE(FIXED(P_21号様式!I3,0,TRUE))<>P_21号様式!I3,RIGHT(FIXED(P_21号様式!I3,3,FALSE),4),\"\"))","v":""},{"$f":"IF(P_21号様式!J3<> \"\",TEXT(INT(P_21号様式!J3),\"#,##0\"),\"\")","v":"66,643"},{"$f":"IF(P_21号様式!J3= \"\",\"\",IF(VALUE(FIXED(P_21号様式!J3,0,TRUE))<>P_21号様式!J3,RIGHT(FIXED(P_21号様式!J3,3,FALSE),4),\"\"))","v":""},{"$f":"IF(P_21号様式!K3<> \"\",TEXT(INT(P_21号様式!K3),\"#,##0\"),\"\")","v":"5"},{"$f":"IF(P_21号様式!K3= \"\",\"\",IF(VALUE(FIXED(P_21号様式!K3,0,TRUE))<>P_21号様式!K3,RIGHT(FIXED(P_21号様式!K3,3,FALSE),4),\"\"))","v":""},{"$f":"IF(P_21号様式!L3<> \"\",TEXT(INT(P_21号様式!L3),\"#,##0\"),\"\")","v":"66,648"},{"$f":"IF(P_21号様式!L3= \"\",\"\",IF(VALUE(FIXED(P_21号様式!L3,0,TRUE))<>P_21号様式!L3,RIGHT(FIXED(P_21号様式!L3,3,FALSE),4),\"\"))","v":""},{"$f":"IF(P_21号様式!M3=\"\",\"\",P_21号様式!M3)","v":1.7151088636465901},null,{"$f":"IF(P_21号様式!N3=\"\",\"\",P_21号様式!N3)","v":"00:57:00"}]
[{"$f":"IF(P_21号様式!C4=\"\",\"\",P_21号様式!C4)","v":"＊（鹿児島市）計"},null,{"$f":"IF(P_21号様式!D4=\"\",\"\",P_21号様式!D4)","v":100},{"$f":"IF(P_21号様式!E4<> \"\",TEXT(INT(P_21号様式!E4),\"#,##0\"),\"\")","v":"248,298"},{"$f":"IF(P_21号様式!E4= \"\",\"\",IF(VALUE(FIXED(P_21号様式!E4,0,TRUE))<>P_21号様式!E4,RIGHT(FIXED(P_21号様式!E4,3,FALSE),4),\"\"))","v":""},{"$f":"IF(P_21号様式!F4<> \"\",TEXT(INT(P_21号様式!F4),\"#,##0\"),\"\")","v":"0"},{"$f":"IF(P_21号様式!F4= \"\",\"\",IF(VALUE(FIXED(P_21号様式!F4,0,TRUE))<>P_21号様式!F4,RIGHT(FIXED(P_21号様式!F4,3,FALSE),4),\"\"))","v":""},{"$f":"IF(P_21号様式!G4<> \"\",TEXT(INT(P_21号様式!G4),\"#,##0\"),\"\")","v":"0"},{"$f":"IF(P_21号様式!G4= \"\",\"\",IF(VALUE(FIXED(P_21号様式!G4,0,TRUE))<>P_21号様式!G4,RIGHT(FIXED(P_21号様式!G4,3,FALSE),4),\"\"))","v":""},{"$f":"IF(P_21号様式!H4<> \"\",TEXT(INT(P_21号様式!H4),\"#,##0\"),\"\")","v":"248,298"},{"$f":"IF(P_21号様式!H4= \"\",\"\",IF(VALUE(FIXED(P_21号様式!H4,0,TRUE))<>P_21号様式!H4,RIGHT(FIXED(P_21号様式!H4,3,FALSE),4),\"\"))","v":""},{"$f":"IF(P_21号様式!I4<> \"\",TEXT(INT(P_21号様式!I4),\"#,##0\"),\"\")","v":"4,317"},{"$f":"IF(P_21号様式!I4= \"\",\"\",IF(VALUE(FIXED(P_21号様式!I4,0,TRUE))<>P_21号様式!I4,RIGHT(FIXED(P_21号様式!I4,3,FALSE),4),\"\"))","v":""},{"$f":"IF(P_21号様式!J4<> \"\",TEXT(INT(P_21号様式!J4),\"#,##0\"),\"\")","v":"252,615"},{"$f":"IF(P_21号様式!J4= \"\",\"\",IF(VALUE(FIXED(P_21号様式!J4,0,TRUE))<>P_21号様式!J4,RIGHT(FIXED(P_21号様式!J4,3,FALSE),4),\"\"))","v":""},{"$f":"IF(P_21号様式!K4<> \"\",TEXT(INT(P_21号様式!K4),\"#,##0\"),\"\")","v":"20"},{"$f":"IF(P_21号様式!K4= \"\",\"\",IF(VALUE(FIXED(P_21号様式!K4,0,TRUE))<>P_21号様式!K4,RIGHT(FIXED(P_21号様式!K4,3,FALSE),4),\"\"))","v":""},{"$f":"IF(P_21号様式!L4<> \"\",TEXT(INT(P_21号様式!L4),\"#,##0\"),\"\")","v":"252,635"},{"$f":"IF(P_21号様式!L4= \"\",\"\",IF(VALUE(FIXED(P_21号様式!L4,0,TRUE))<>P_21号様式!L4,RIGHT(FIXED(P_21号様式!L4,3,FALSE),4),\"\"))","v":""},{"$f":"IF(P_21号様式!M4=\"\",\"\",P_21号様式!M4)","v":1.70892464818004},null,{"$f":"IF(P_21号様式!N4=\"\",\"\",P_21号様式!N4)","v":"01:14:00"}]
[{"$f":"IF(P_21号様式!C5=\"\",\"\",P_21号様式!C5)","v":"鹿屋市"},null,{"$f":"IF(P_21号様式!D5=\"\",\"\",P_21号様式!D5)","v":""},{"$f":"IF(P_21号様式!E5<> \"\",TEXT(INT(P_21号様式!E5),\"#,##0\"),\"\")","v":"41,938"},{"$f":"IF(P_21号様式!E5= \"\",\"\",IF(VALUE(FIXED(P_21号様式!E5,0,TRUE))<>P_21号様式!E5,RIGHT(FIXED(P_21号様式!E5,3,FALSE),4),\"\"))","v":""},{"$f":"IF(P_21号様式!F5<> \"\",TEXT(INT(P_21号様式!F5),\"#,##0\"),\"\")","v":"0"},{"$f":"IF(P_21号様式!F5= \"\",\"\",IF(VALUE(FIXED(P_21号様式!F5,0,TRUE))<>P_21号様式!F5,RIGHT(FIXED(P_21号様式!F5,3,FALSE),4),\"\"))","v":""},{"$f":"IF(P_21号様式!G5<> \"\",TEXT(INT(P_21号様式!G5),\"#,##0\"),\"\")","v":"0"},{"$f":"IF(P_21号様式!G5= \"\",\"\",IF(VALUE(FIXED(P_21号様式!G5,0,TRUE))<>P_21号様式!G5,RIGHT(FIXED(P_21号様式!G5,3,FALSE),4),\"\"))","v":""},{"$f":"IF(P_21号様式!H5<> \"\",TEXT(INT(P_21号様式!H5),\"#,##0\"),\"\")","v":"41,938"},{"$f":"IF(P_21号様式!H5= \"\",\"\",IF(VALUE(FIXED(P_21号様式!H5,0,TRUE))<>P_21号様式!H5,RIGHT(FIXED(P_21号様式!H5,3,FALSE),4),\"\"))","v":""},{"$f":"IF(P_21号様式!I5<> \"\",TEXT(INT(P_21号様式!I5),\"#,##0\"),\"\")","v":"1,494"},{"$f":"IF(P_21号様式!I5= \"\",\"\",IF(VALUE(FIXED(P_21号様式!I5,0,TRUE))<>P_21号様式!I5,RIGHT(FIXED(P_21号様式!I5,3,FALSE),4),\"\"))","v":""},{"$f":"IF(P_21号様式!J5<> \"\",TEXT(INT(P_21号様式!J5),\"#,##0\"),\"\")","v":"43,432"},{"$f":"IF(P_21号様式!J5= \"\",\"\",IF(VALUE(FIXED(P_21号様式!J5,0,TRUE))<>P_21号様式!J5,RIGHT(FIXED(P_21号様式!J5,3,FALSE),4),\"\"))","v":""},{"$f":"IF(P_21号様式!K5<> \"\",TEXT(INT(P_21号様式!K5),\"#,##0\"),\"\")","v":"2"},{"$f":"IF(P_21号様式!K5= \"\",\"\",IF(VALUE(FIXED(P_21号様式!K5,0,TRUE))<>P_21号様式!K5,RIGHT(FIXED(P_21号様式!K5,3,FALSE),4),\"\"))","v":""},{"$f":"IF(P_21号様式!L5<> \"\",TEXT(INT(P_21号様式!L5),\"#,##0\"),\"\")","v":"43,434"},{"$f":"IF(P_21号様式!L5= \"\",\"\",IF(VALUE(FIXED(P_21号様式!L5,0,TRUE))<>P_21号様式!L5,RIGHT(FIXED(P_21号様式!L5,3,FALSE),4),\"\"))","v":""},{"$f":"IF(P_21号様式!M5=\"\",\"\",P_21号様式!M5)","v":3.4398600110517599},null,{"$f":"IF(P_21号様式!N5=\"\",\"\",P_21号様式!N5)","v":"01:19:00"}]
[{"$f":"IF(P_21号様式!C6=\"\",\"\",P_21号様式!C6)","v":"枕崎市"},null,{"$f":"IF(P_21号様式!D6=\"\",\"\",P_21号様式!D6)","v":""},{"$f":"IF(P_21号様式!E6<> \"\",TEXT(INT(P_21号様式!E6),\"#,##0\"),\"\")","v":"9,684"},{"$f":"IF(P_21号様式!E6= \"\",\"\",IF(VALUE(FIXED(P_21号様式!E6,0,TRUE))<>P_21号様式!E6,RIGHT(FIXED(P_21号様式!E6,3,FALSE),4),\"\"))","v":""},{"$f":"IF(P_21号様式!F6<> \"\",TEXT(INT(P_21号様式!F6),\"#,##0\"),\"\")","v":"0"},{"$f":"IF(P_21号様式!F6= \"\",\"\",IF(VALUE(FIXED(P_21号様式!F6,0,TRUE))<>P_21号様式!F6,RIGHT(FIXED(P_21号様式!F6,3,FALSE),4),\"\"))","v":""},{"$f":"IF(P_21号様式!G6<> \"\",TEXT(INT(P_21号様式!G6),\"#,##0\"),\"\")","v":"0"},{"$f":"IF(P_21号様式!G6= \"\",\"\",IF(VALUE(FIXED(P_21号様式!G6,0,TRUE))<>P_21号様式!G6,RIGHT(FIXED(P_21号様式!G6,3,FALSE),4),\"\"))","v":""},{"$f":"IF(P_21号様式!H6<> \"\",TEXT(INT(P_21号様式!H6),\"#,##0\"),\"\")","v":"9,684"},{"$f":"IF(P_21号様式!H6= \"\",\"\",IF(VALUE(FIXED(P_21号様式!H6,0,TRUE))<>P_21号様式!H6,RIGHT(FIXED(P_21号様式!H6,3,FALSE),4),\"\"))","v":""},{"$f":"IF(P_21号様式!I6<> \"\",TEXT(INT(P_21号様式!I6),\"#,##0\"),\"\")","v":"248"},{"$f":"IF(P_21号様式!I6= \"\",\"\",IF(VALUE(FIXED(P_21号様式!I6,0,TRUE))<>P_21号様式!I6,RIGHT(FIXED(P_21号様式!I6,3,FALSE),4),\"\"))","v":""},{"$f":"IF(P_21号様式!J6<> \"\",TEXT(INT(P_21号様式!J6),\"#,##0\"),\"\")","v":"9,932"},{"$f":"IF(P_21号様式!J6= \"\",\"\",IF(VALUE(FIXED(P_21号様式!J6,0,TRUE))<>P_21号様式!J6,RIGHT(FIXED(P_21号様式!J6,3,FALSE),4),\"\"))","v":""},{"$f":"IF(P_21号様式!K6<> \"\",TEXT(INT(P_21号様式!K6),\"#,##0\"),\"\")","v":"0"},{"$f":"IF(P_21号様式!K6= \"\",\"\",IF(VALUE(FIXED(P_21号様式!K6,0,TRUE))<>P_21号様式!K6,RIGHT(FIXED(P_21号様式!K6,3,FALSE),4),\"\"))","v":""},{"$f":"IF(P_21号様式!L6<> \"\",TEXT(INT(P_21号様式!L6),\"#,##0\"),\"\")","v":"9,932"},{"$f":"IF(P_21号様式!L6= \"\",\"\",IF(VALUE(FIXED(P_21号様式!L6,0,TRUE))<>P_21号様式!L6,RIGHT(FIXED(P_21号様式!L6,3,FALSE),4),\"\"))","v":""},{"$f":"IF(P_21号様式!M6=\"\",\"\",P_21号様式!M6)","v":2.49697946033025},null,{"$f":"IF(P_21号様式!N6=\"\",\"\",P_21号様式!N6)","v":"22:34:00"}]
[{"$f":"IF(P_21号様式!C7=\"\",\"\",P_21号様式!C7)","v":"阿久根市"},null,{"$f":"IF(P_21号様式!D7=\"\",\"\",P_21号様式!D7)","v":""},{"$f":"IF(P_21号様式!E7<> \"\",TEXT(INT(P_21号様式!E7),\"#,##0\"),\"\")","v":"11,155"},{"$f":"IF(P_21号様式!E7= \"\",\"\",IF(VALUE(FIXED(P_21号様式!E7,0,TRUE))<>P_21号様式!E7,RIGHT(FIXED(P_21号様式!E7,3,FALSE),4),\"\"))","v":""},{"$f":"IF(P_21号様式!F7<> \"\",TEXT(INT(P_21号様式!F7),\"#,##0\"),\"\")","v":"0"},{"$f":"IF(P_21号様式!F7= \"\",\"\",IF(VALUE(FIXED(P_21号様式!F7,0,TRUE))<>P_21号様式!F7,RIGHT(FIXED(P_21号様式!F7,3,FALSE),4),\"\"))","v":""},{"$f":"IF(P_21号様式!G7<> \"\",TEXT(INT(P_21号様式!G7),\"#,##0\"),\"\")","v":"0"},{"$f":"IF(P_21号様式!G7= \"\",\"\",IF(VALUE(FIXED(P_21号様式!G7,0,TRUE))<>P_21号様式!G7,RIGHT(FIXED(P_21号様式!G7,3,FALSE),4),\"\"))","v":""},{"$f":"IF(P_21号様式!H7<> \"\",TEXT(INT(P_21号様式!H7),\"#,##0\"),\"\")","v":"11,155"},{"$f":"IF(P_21号様式!H7= \"\",\"\",IF(VALUE(FIXED(P_21号様式!H7,0,TRUE))<>P_21号様式!H7,RIGHT(FIXED(P_21号様式!H7,3,FALSE),4),\"\"))","v":""},{"$f":"IF(P_21号様式!I7<> \"\",TEXT(INT(P_21号様式!I7),\"#,##0\"),\"\")","v":"343"},{"$f":"IF(P_21号様式!I7= \"\",\"\",IF(VALUE(FIXED(P_21号様式!I7,0,TRUE))<>P_21号様式!I7,RIGHT(FIXED(P_21号様式!I7,3,FALSE),4),\"\"))","v":""},{"$f":"IF(P_21号様式!J7<> \"\",TEXT(INT(P_21号様式!J7),\"#,##0\"),\"\")","v":"11,498"},{"$f":"IF(P_21号様式!J7= \"\",\"\",IF(VALUE(FIXED(P_21号様式!J7,0,TRUE))<>P_21号様式!J7,RIGHT(FIXED(P_21号様式!J7,3,FALSE),4),\"\"))","v":""},{"$f":"IF(P_21号様式!K7<> \"\",TEXT(INT(P_21号様式!K7),\"#,##0\"),\"\")","v":"0"},{"$f":"IF(P_21号様式!K7= \"\",\"\",IF(VALUE(FIXED(P_21号様式!K7,0,TRUE))<>P_21号様式!K7,RIGHT(FIXED(P_21号様式!K7,3,FALSE),4),\"\"))","v":""},{"$f":"IF(P_21号様式!L7<> \"\",TEXT(INT(P_21号様式!L7),\"#,##0\"),\"\")","v":"11,498"},{"$f":"IF(P_21号様式!L7= \"\",\"\",IF(VALUE(FIXED(P_21号様式!L7,0,TRUE))<>P_21号様式!L7,RIGHT(FIXED(P_21号様式!L7,3,FALSE),4),\"\"))","v":""},{"$f":"IF(P_21号様式!M7=\"\",\"\",P_21号様式!M7)","v":2.9831275004348599},null,{"$f":"IF(P_21号様式!N7=\"\",\"\",P_21号様式!N7)","v":"22:45:00"}]
[{"$f":"IF(P_21号様式!C8=\"\",\"\",P_21号様式!C8)","v":"出水市"},null,{"$f":"IF(P_21号様式!D8=\"\",\"\",P_21号様式!D8)","v":""},{"$f":"IF(P_21号様式!E8<> \"\",TEXT(INT(P_21号様式!E8),\"#,##0\"),\"\")","v":"25,655"},{"$f":"IF(P_21号様式!E8= \"\",\"\",IF(VALUE(FIXED(P_21号様式!E8,0,TRUE))<>P_21号様式!E8,RIGHT(FIXED(P_21号様式!E8,3,FALSE),4),\"\"))","v":""},{"$f":"IF(P_21号様式!F8<> \"\",TEXT(INT(P_21号様式!F8),\"#,##0\"),\"\")","v":"0"},{"$f":"IF(P_21号様式!F8= \"\",\"\",IF(VALUE(FIXED(P_21号様式!F8,0,TRUE))<>P_21号様式!F8,RIGHT(FIXED(P_21号様式!F8,3,FALSE),4),\"\"))","v":""},{"$f":"IF(P_21号様式!G8<> \"\",TEXT(INT(P_21号様式!G8),\"#,##0\"),\"\")","v":"0"},{"$f":"IF(P_21号様式!G8= \"\",\"\",IF(VALUE(FIXED(P_21号様式!G8,0,TRUE))<>P_21号様式!G8,RIGHT(FIXED(P_21号様式!G8,3,FALSE),4),\"\"))","v":""},{"$f":"IF(P_21号様式!H8<> \"\",TEXT(INT(P_21号様式!H8),\"#,##0\"),\"\")","v":"25,655"},{"$f":"IF(P_21号様式!H8= \"\",\"\",IF(VALUE(FIXED(P_21号様式!H8,0,TRUE))<>P_21号様式!H8,RIGHT(FIXED(P_21号様式!H8,3,FALSE),4),\"\"))","v":""},{"$f":"IF(P_21号様式!I8<> \"\",TEXT(INT(P_21号様式!I8),\"#,##0\"),\"\")","v":"399"},{"$f":"IF(P_21号様式!I8= \"\",\"\",IF(VALUE(FIXED(P_21号様式!I8,0,TRUE))<>P_21号様式!I8,RIGHT(FIXED(P_21号様式!I8,3,FALSE),4),\"\"))","v":""},{"$f":"IF(P_21号様式!J8<> \"\",TEXT(INT(P_21号様式!J8),\"#,##0\"),\"\")","v":"26,054"},{"$f":"IF(P_21号様式!J8= \"\",\"\",IF(VALUE(FIXED(P_21号様式!J8,0,TRUE))<>P_21号様式!J8,RIGHT(FIXED(P_21号様式!J8,3,FALSE),4),\"\"))","v":""},{"$f":"IF(P_21号様式!K8<> \"\",TEXT(INT(P_21号様式!K8),\"#,##0\"),\"\")","v":"0"},{"$f":"IF(P_21号様式!K8= \"\",\"\",IF(VALUE(FIXED(P_21号様式!K8,0,TRUE))<>P_21号様式!K8,RIGHT(FIXED(P_21号様式!K8,3,FALSE),4),\"\"))","v":""},{"$f":"IF(P_21号様式!L8<> \"\",TEXT(INT(P_21号様式!L8),\"#,##0\"),\"\")","v":"26,054"},{"$f":"IF(P_21号様式!L8= \"\",\"\",IF(VALUE(FIXED(P_21号様式!L8,0,TRUE))<>P_21号様式!L8,RIGHT(FIXED(P_21号様式!L8,3,FALSE),4),\"\"))","v":""},{"$f":"IF(P_21号様式!M8=\"\",\"\",P_21号様式!M8)","v":1.53143471252015},null,{"$f":"IF(P_21号様式!N8=\"\",\"\",P_21号様式!N8)","v":"23:29:00"}]
[{"$f":"IF(P_21号様式!C9=\"\",\"\",P_21号様式!C9)","v":"指宿市"},null,{"$f":"IF(P_21号様式!D9=\"\",\"\",P_21号様式!D9)","v":""},{"$f":"IF(P_21号様式!E9<> \"\",TEXT(INT(P_21号様式!E9),\"#,##0\"),\"\")","v":"18,494"},{"$f":"IF(P_21号様式!E9= \"\",\"\",IF(VALUE(FIXED(P_21号様式!E9,0,TRUE))<>P_21号様式!E9,RIGHT(FIXED(P_21号様式!E9,3,FALSE),4),\"\"))","v":""},{"$f":"IF(P_21号様式!F9<> \"\",TEXT(INT(P_21号様式!F9),\"#,##0\"),\"\")","v":"0"},{"$f":"IF(P_21号様式!F9= \"\",\"\",IF(VALUE(FIXED(P_21号様式!F9,0,TRUE))<>P_21号様式!F9,RIGHT(FIXED(P_21号様式!F9,3,FALSE),4),\"\"))","v":""},{"$f":"IF(P_21号様式!G9<> \"\",TEXT(INT(P_21号様式!G9),\"#,##0\"),\"\")","v":"0"},{"$f":"IF(P_21号様式!G9= \"\",\"\",IF(VALUE(FIXED(P_21号様式!G9,0,TRUE))<>P_21号様式!G9,RIGHT(FIXED(P_21号様式!G9,3,FALSE),4),\"\"))","v":""},{"$f":"IF(P_21号様式!H9<> \"\",TEXT(INT(P_21号様式!H9),\"#,##0\"),\"\")","v":"18,494"},{"$f":"IF(P_21号様式!H9= \"\",\"\",IF(VALUE(FIXED(P_21号様式!H9,0,TRUE))<>P_21号様式!H9,RIGHT(FIXED(P_21号様式!H9,3,FALSE),4),\"\"))","v":""},{"$f":"IF(P_21号様式!I9<> \"\",TEXT(INT(P_21号様式!I9),\"#,##0\"),\"\")","v":"318"},{"$f":"IF(P_21号様式!I9= \"\",\"\",IF(VALUE(FIXED(P_21号様式!I9,0,TRUE))<>P_21号様式!I9,RIGHT(FIXED(P_21号様式!I9,3,FALSE),4),\"\"))","v":""},{"$f":"IF(P_21号様式!J9<> \"\",TEXT(INT(P_21号様式!J9),\"#,##0\"),\"\")","v":"18,812"},{"$f":"IF(P_21号様式!J9= \"\",\"\",IF(VALUE(FIXED(P_21号様式!J9,0,TRUE))<>P_21号様式!J9,RIGHT(FIXED(P_21号様式!J9,3,FALSE),4),\"\"))","v":""},{"$f":"IF(P_21号様式!K9<> \"\",TEXT(INT(P_21号様式!K9),\"#,##0\"),\"\")","v":"0"},{"$f":"IF(P_21号様式!K9= \"\",\"\",IF(VALUE(FIXED(P_21号様式!K9,0,TRUE))<>P_21号様式!K9,RIGHT(FIXED(P_21号様式!K9,3,FALSE),4),\"\"))","v":""},{"$f":"IF(P_21号様式!L9<> \"\",TEXT(INT(P_21号様式!L9),\"#,##0\"),\"\")","v":"18,812"},{"$f":"IF(P_21号様式!L9= \"\",\"\",IF(VALUE(FIXED(P_21号様式!L9,0,TRUE))<>P_21号様式!L9,RIGHT(FIXED(P_21号様式!L9,3,FALSE),4),\"\"))","v":""},{"$f":"IF(P_21号様式!M9=\"\",\"\",P_21号様式!M9)","v":1.6904103763555201},null,{"$f":"IF(P_21号様式!N9=\"\",\"\",P_21号様式!N9)","v":"23:34:00"}]
[{"$f":"IF(P_21号様式!C10=\"\",\"\",P_21号様式!C10)","v":"西之表市"},null,{"$f":"IF(P_21号様式!D10=\"\",\"\",P_21号様式!D10)","v":""},{"$f":"IF(P_21号様式!E10<> \"\",TEXT(INT(P_21号様式!E10),\"#,##0\"),\"\")","v":"7,010"},{"$f":"IF(P_21号様式!E10= \"\",\"\",IF(VALUE(FIXED(P_21号様式!E10,0,TRUE))<>P_21号様式!E10,RIGHT(FIXED(P_21号様式!E10,3,FALSE),4),\"\"))","v":""},{"$f":"IF(P_21号様式!F10<> \"\",TEXT(INT(P_21号様式!F10),\"#,##0\"),\"\")","v":"0"},{"$f":"IF(P_21号様式!F10= \"\",\"\",IF(VALUE(FIXED(P_21号様式!F10,0,TRUE))<>P_21号様式!F10,RIGHT(FIXED(P_21号様式!F10,3,FALSE),4),\"\"))","v":""},{"$f":"IF(P_21号様式!G10<> \"\",TEXT(INT(P_21号様式!G10),\"#,##0\"),\"\")","v":"0"},{"$f":"IF(P_21号様式!G10= \"\",\"\",IF(VALUE(FIXED(P_21号様式!G10,0,TRUE))<>P_21号様式!G10,RIGHT(FIXED(P_21号様式!G10,3,FALSE),4),\"\"))","v":""},{"$f":"IF(P_21号様式!H10<> \"\",TEXT(INT(P_21号様式!H10),\"#,##0\"),\"\")","v":"7,010"},{"$f":"IF(P_21号様式!H10= \"\",\"\",IF(VALUE(FIXED(P_21号様式!H10,0,TRUE))<>P_21号様式!H10,RIGHT(FIXED(P_21号様式!H10,3,FALSE),4),\"\"))","v":""},{"$f":"IF(P_21号様式!I10<> \"\",TEXT(INT(P_21号様式!I10),\"#,##0\"),\"\")","v":"100"},{"$f":"IF(P_21号様式!I10= \"\",\"\",IF(VALUE(FIXED(P_21号様式!I10,0,TRUE))<>P_21号様式!I10,RIGHT(FIXED(P_21号様式!I10,3,FALSE),4),\"\"))","v":""},{"$f":"IF(P_21号様式!J10<> \"\",TEXT(INT(P_21号様式!J10),\"#,##0\"),\"\")","v":"7,110"},{"$f":"IF(P_21号様式!J10= \"\",\"\",IF(VALUE(FIXED(P_21号様式!J10,0,TRUE))<>P_21号様式!J10,RIGHT(FIXED(P_21号様式!J10,3,FALSE),4),\"\"))","v":""},{"$f":"IF(P_21号様式!K10<> \"\",TEXT(INT(P_21号様式!K10),\"#,##0\"),\"\")","v":"0"},{"$f":"IF(P_21号様式!K10= \"\",\"\",IF(VALUE(FIXED(P_21号様式!K10,0,TRUE))<>P_21号様式!K10,RIGHT(FIXED(P_21号様式!K10,3,FALSE),4),\"\"))","v":""},{"$f":"IF(P_21号様式!L10<> \"\",TEXT(INT(P_21号様式!L10),\"#,##0\"),\"\")","v":"7,110"},{"$f":"IF(P_21号様式!L10= \"\",\"\",IF(VALUE(FIXED(P_21号様式!L10,0,TRUE))<>P_21号様式!L10,RIGHT(FIXED(P_21号様式!L10,3,FALSE),4),\"\"))","v":""},{"$f":"IF(P_21号様式!M10=\"\",\"\",P_21号様式!M10)","v":1.40646976090014},null,{"$f":"IF(P_21号様式!N10=\"\",\"\",P_21号様式!N10)","v":"22:28:00"}]
[{"$f":"IF(P_21号様式!C11=\"\",\"\",P_21号様式!C11)","v":"垂水市"},null,{"$f":"IF(P_21号様式!D11=\"\",\"\",P_21号様式!D11)","v":""},{"$f":"IF(P_21号様式!E11<> \"\",TEXT(INT(P_21号様式!E11),\"#,##0\"),\"\")","v":"7,712"},{"$f":"IF(P_21号様式!E11= \"\",\"\",IF(VALUE(FIXED(P_21号様式!E11,0,TRUE))<>P_21号様式!E11,RIGHT(FIXED(P_21号様式!E11,3,FALSE),4),\"\"))","v":""},{"$f":"IF(P_21号様式!F11<> \"\",TEXT(INT(P_21号様式!F11),\"#,##0\"),\"\")","v":"0"},{"$f":"IF(P_21号様式!F11= \"\",\"\",IF(VALUE(FIXED(P_21号様式!F11,0,TRUE))<>P_21号様式!F11,RIGHT(FIXED(P_21号様式!F11,3,FALSE),4),\"\"))","v":""},{"$f":"IF(P_21号様式!G11<> \"\",TEXT(INT(P_21号様式!G11),\"#,##0\"),\"\")","v":"0"},{"$f":"IF(P_21号様式!G11= \"\",\"\",IF(VALUE(FIXED(P_21号様式!G11,0,TRUE))<>P_21号様式!G11,RIGHT(FIXED(P_21号様式!G11,3,FALSE),4),\"\"))","v":""},{"$f":"IF(P_21号様式!H11<> \"\",TEXT(INT(P_21号様式!H11),\"#,##0\"),\"\")","v":"7,712"},{"$f":"IF(P_21号様式!H11= \"\",\"\",IF(VALUE(FIXED(P_21号様式!H11,0,TRUE))<>P_21号様式!H11,RIGHT(FIXED(P_21号様式!H11,3,FALSE),4),\"\"))","v":""},{"$f":"IF(P_21号様式!I11<> \"\",TEXT(INT(P_21号様式!I11),\"#,##0\"),\"\")","v":"339"},{"$f":"IF(P_21号様式!I11= \"\",\"\",IF(VALUE(FIXED(P_21号様式!I11,0,TRUE))<>P_21号様式!I11,RIGHT(FIXED(P_21号様式!I11,3,FALSE),4),\"\"))","v":""},{"$f":"IF(P_21号様式!J11<> \"\",TEXT(INT(P_21号様式!J11),\"#,##0\"),\"\")","v":"8,051"},{"$f":"IF(P_21号様式!J11= \"\",\"\",IF(VALUE(FIXED(P_21号様式!J11,0,TRUE))<>P_21号様式!J11,RIGHT(FIXED(P_21号様式!J11,3,FALSE),4),\"\"))","v":""},{"$f":"IF(P_21号様式!K11<> \"\",TEXT(INT(P_21号様式!K11),\"#,##0\"),\"\")","v":"0"},{"$f":"IF(P_21号様式!K11= \"\",\"\",IF(VALUE(FIXED(P_21号様式!K11,0,TRUE))<>P_21号様式!K11,RIGHT(FIXED(P_21号様式!K11,3,FALSE),4),\"\"))","v":""},{"$f":"IF(P_21号様式!L11<> \"\",TEXT(INT(P_21号様式!L11),\"#,##0\"),\"\")","v":"8,051"},{"$f":"IF(P_21号様式!L11= \"\",\"\",IF(VALUE(FIXED(P_21号様式!L11,0,TRUE))<>P_21号様式!L11,RIGHT(FIXED(P_21号様式!L11,3,FALSE),4),\"\"))","v":""},{"$f":"IF(P_21号様式!M11=\"\",\"\",P_21号様式!M11)","v":4.2106570612346301},null,{"$f":"IF(P_21号様式!N11=\"\",\"\",P_21号様式!N11)","v":"22:54:00"}]
[{"$f":"IF(P_21号様式!C12=\"\",\"\",P_21号様式!C12)","v":"薩摩川内市第１"},null,{"$f":"IF(P_21号様式!D12=\"\",\"\",P_21号様式!D12)","v":""},{"$f":"IF(P_21号様式!E12<> \"\",TEXT(INT(P_21号様式!E12),\"#,##0\"),\"\")","v":"45,760"},{"$f":"IF(P_21号様式!E12= \"\",\"\",IF(VALUE(FIXED(P_21号様式!E12,0,TRUE))<>P_21号様式!E12,RIGHT(FIXED(P_21号様式!E12,3,FALSE),4),\"\"))","v":""},{"$f":"IF(P_21号様式!F12<> \"\",TEXT(INT(P_21号様式!F12),\"#,##0\"),\"\")","v":"0"},{"$f":"IF(P_21号様式!F12= \"\",\"\",IF(VALUE(FIXED(P_21号様式!F12,0,TRUE))<>P_21号様式!F12,RIGHT(FIXED(P_21号様式!F12,3,FALSE),4),\"\"))","v":""},{"$f":"IF(P_21号様式!G12<> \"\",TEXT(INT(P_21号様式!G12),\"#,##0\"),\"\")","v":"0"},{"$f":"IF(P_21号様式!G12= \"\",\"\",IF(VALUE(FIXED(P_21号様式!G12,0,TRUE))<>P_21号様式!G12,RIGHT(FIXED(P_21号様式!G12,3,FALSE),4),\"\"))","v":""},{"$f":"IF(P_21号様式!H12<> \"\",TEXT(INT(P_21号様式!H12),\"#,##0\"),\"\")","v":"45,760"},{"$f":"IF(P_21号様式!H12= \"\",\"\",IF(VALUE(FIXED(P_21号様式!H12,0,TRUE))<>P_21号様式!H12,RIGHT(FIXED(P_21号様式!H12,3,FALSE),4),\"\"))","v":""},{"$f":"IF(P_21号様式!I12<> \"\",TEXT(INT(P_21号様式!I12),\"#,##0\"),\"\")","v":"662"},{"$f":"IF(P_21号様式!I12= \"\",\"\",IF(VALUE(FIXED(P_21号様式!I12,0,TRUE))<>P_21号様式!I12,RIGHT(FIXED(P_21号様式!I12,3,FALSE),4),\"\"))","v":""},{"$f":"IF(P_21号様式!J12<> \"\",TEXT(INT(P_21号様式!J12),\"#,##0\"),\"\")","v":"46,422"},{"$f":"IF(P_21号様式!J12= \"\",\"\",IF(VALUE(FIXED(P_21号様式!J12,0,TRUE))<>P_21号様式!J12,RIGHT(FIXED(P_21号様式!J12,3,FALSE),4),\"\"))","v":""},{"$f":"IF(P_21号様式!K12<> \"\",TEXT(INT(P_21号様式!K12),\"#,##0\"),\"\")","v":"2"},{"$f":"IF(P_21号様式!K12= \"\",\"\",IF(VALUE(FIXED(P_21号様式!K12,0,TRUE))<>P_21号様式!K12,RIGHT(FIXED(P_21号様式!K12,3,FALSE),4),\"\"))","v":""},{"$f":"IF(P_21号様式!L12<> \"\",TEXT(INT(P_21号様式!L12),\"#,##0\"),\"\")","v":"46,424"},{"$f":"IF(P_21号様式!L12= \"\",\"\",IF(VALUE(FIXED(P_21号様式!L12,0,TRUE))<>P_21号様式!L12,RIGHT(FIXED(P_21号様式!L12,3,FALSE),4),\"\"))","v":""},{"$f":"IF(P_21号様式!M12=\"\",\"\",P_21号様式!M12)","v":1.4260479944853699},null,{"$f":"IF(P_21号様式!N12=\"\",\"\",P_21号様式!N12)","v":"23:49:00"}]
[{"$f":"IF(P_21号様式!C13=\"\",\"\",P_21号様式!C13)","v":"薩摩川内市第２"},null,{"$f":"IF(P_21号様式!D13=\"\",\"\",P_21号様式!D13)","v":""},{"$f":"IF(P_21号様式!E13<> \"\",TEXT(INT(P_21号様式!E13),\"#,##0\"),\"\")","v":"1,528"},{"$f":"IF(P_21号様式!E13= \"\",\"\",IF(VALUE(FIXED(P_21号様式!E13,0,TRUE))<>P_21号様式!E13,RIGHT(FIXED(P_21号様式!E13,3,FALSE),4),\"\"))","v":""},{"$f":"IF(P_21号様式!F13<> \"\",TEXT(INT(P_21号様式!F13),\"#,##0\"),\"\")","v":"0"},{"$f":"IF(P_21号様式!F13= \"\",\"\",IF(VALUE(FIXED(P_21号様式!F13,0,TRUE))<>P_21号様式!F13,RIGHT(FIXED(P_21号様式!F13,3,FALSE),4),\"\"))","v":""},{"$f":"IF(P_21号様式!G13<> \"\",TEXT(INT(P_21号様式!G13),\"#,##0\"),\"\")","v":"0"},{"$f":"IF(P_21号様式!G13= \"\",\"\",IF(VALUE(FIXED(P_21号様式!G13,0,TRUE))<>P_21号様式!G13,RIGHT(FIXED(P_21号様式!G13,3,FALSE),4),\"\"))","v":""},{"$f":"IF(P_21号様式!H13<> \"\",TEXT(INT(P_21号様式!H13),\"#,##0\"),\"\")","v":"1,528"},{"$f":"IF(P_21号様式!H13= \"\",\"\",IF(VALUE(FIXED(P_21号様式!H13,0,TRUE))<>P_21号様式!H13,RIGHT(FIXED(P_21号様式!H13,3,FALSE),4),\"\"))","v":""},{"$f":"IF(P_21号様式!I13<> \"\",TEXT(INT(P_21号様式!I13),\"#,##0\"),\"\")","v":"24"},{"$f":"IF(P_21号様式!I13= \"\",\"\",IF(VALUE(FIXED(P_21号様式!I13,0,TRUE))<>P_21号様式!I13,RIGHT(FIXED(P_21号様式!I13,3,FALSE),4),\"\"))","v":""},{"$f":"IF(P_21号様式!J13<> \"\",TEXT(INT(P_21号様式!J13),\"#,##0\"),\"\")","v":"1,552"},{"$f":"IF(P_21号様式!J13= \"\",\"\",IF(VALUE(FIXED(P_21号様式!J13,0,TRUE))<>P_21号様式!J13,RIGHT(FIXED(P_21号様式!J13,3,FALSE),4),\"\"))","v":""},{"$f":"IF(P_21号様式!K13<> \"\",TEXT(INT(P_21号様式!K13),\"#,##0\"),\"\")","v":"0"},{"$f":"IF(P_21号様式!K13= \"\",\"\",IF(VALUE(FIXED(P_21号様式!K13,0,TRUE))<>P_21号様式!K13,RIGHT(FIXED(P_21号様式!K13,3,FALSE),4),\"\"))","v":""},{"$f":"IF(P_21号様式!L13<> \"\",TEXT(INT(P_21号様式!L13),\"#,##0\"),\"\")","v":"1,552"},{"$f":"IF(P_21号様式!L13= \"\",\"\",IF(VALUE(FIXED(P_21号様式!L13,0,TRUE))<>P_21号様式!L13,RIGHT(FIXED(P_21号様式!L13,3,FALSE),4),\"\"))","v":""},{"$f":"IF(P_21号様式!M13=\"\",\"\",P_21号様式!M13)","v":1.5463917525773201},null,{"$f":"IF(P_21号様式!N13=\"\",\"\",P_21号様式!N13)","v":"21:32:00"}]
[{"$f":"IF(P_21号様式!C14=\"\",\"\",P_21号様式!C14)","v":"薩摩川内市第３"},null,{"$f":"IF(P_21号様式!D14=\"\",\"\",P_21号様式!D14)","v":""},{"$f":"IF(P_21号様式!E14<> \"\",TEXT(INT(P_21号様式!E14),\"#,##0\"),\"\")","v":"1,372"},{"$f":"IF(P_21号様式!E14= \"\",\"\",IF(VALUE(FIXED(P_21号様式!E14,0,TRUE))<>P_21号様式!E14,RIGHT(FIXED(P_21号様式!E14,3,FALSE),4),\"\"))","v":""},{"$f":"IF(P_21号様式!F14<> \"\",TEXT(INT(P_21号様式!F14),\"#,##0\"),\"\")","v":"0"},{"$f":"IF(P_21号様式!F14= \"\",\"\",IF(VALUE(FIXED(P_21号様式!F14,0,TRUE))<>P_21号様式!F14,RIGHT(FIXED(P_21号様式!F14,3,FALSE),4),\"\"))","v":""},{"$f":"IF(P_21号様式!G14<> \"\",TEXT(INT(P_21号様式!G14),\"#,##0\"),\"\")","v":"0"},{"$f":"IF(P_21号様式!G14= \"\",\"\",IF(VALUE(FIXED(P_21号様式!G14,0,TRUE))<>P_21号様式!G14,RIGHT(FIXED(P_21号様式!G14,3,FALSE),4),\"\"))","v":""},{"$f":"IF(P_21号様式!H14<> \"\",TEXT(INT(P_21号様式!H14),\"#,##0\"),\"\")","v":"1,372"},{"$f":"IF(P_21号様式!H14= \"\",\"\",IF(VALUE(FIXED(P_21号様式!H14,0,TRUE))<>P_21号様式!H14,RIGHT(FIXED(P_21号様式!H14,3,FALSE),4),\"\"))","v":""},{"$f":"IF(P_21号様式!I14<> \"\",TEXT(INT(P_21号様式!I14),\"#,##0\"),\"\")","v":"33"},{"$f":"IF(P_21号様式!I14= \"\",\"\",IF(VALUE(FIXED(P_21号様式!I14,0,TRUE))<>P_21号様式!I14,RIGHT(FIXED(P_21号様式!I14,3,FALSE),4),\"\"))","v":""},{"$f":"IF(P_21号様式!J14<> \"\",TEXT(INT(P_21号様式!J14),\"#,##0\"),\"\")","v":"1,405"},{"$f":"IF(P_21号様式!J14= \"\",\"\",IF(VALUE(FIXED(P_21号様式!J14,0,TRUE))<>P_21号様式!J14,RIGHT(FIXED(P_21号様式!J14,3,FALSE),4),\"\"))","v":""},{"$f":"IF(P_21号様式!K14<> \"\",TEXT(INT(P_21号様式!K14),\"#,##0\"),\"\")","v":"0"},{"$f":"IF(P_21号様式!K14= \"\",\"\",IF(VALUE(FIXED(P_21号様式!K14,0,TRUE))<>P_21号様式!K14,RIGHT(FIXED(P_21号様式!K14,3,FALSE),4),\"\"))","v":""},{"$f":"IF(P_21号様式!L14<> \"\",TEXT(INT(P_21号様式!L14),\"#,##0\"),\"\")","v":"1,405"},{"$f":"IF(P_21号様式!L14= \"\",\"\",IF(VALUE(FIXED(P_21号様式!L14,0,TRUE))<>P_21号様式!L14,RIGHT(FIXED(P_21号様式!L14,3,FALSE),4),\"\"))","v":""},{"$f":"IF(P_21号様式!M14=\"\",\"\",P_21号様式!M14)","v":2.3487544483985801},null,{"$f":"IF(P_21号様式!N14=\"\",\"\",P_21号様式!N14)","v":"21:22:00"}]
[{"$f":"IF(P_21号様式!C15=\"\",\"\",P_21号様式!C15)","v":"＊（薩摩川内市）計"},null,{"$f":"IF(P_21号様式!D15=\"\",\"\",P_21号様式!D15)","v":100},{"$f":"IF(P_21号様式!E15<> \"\",TEXT(INT(P_21号様式!E15),\"#,##0\"),\"\")","v":"48,660"},{"$f":"IF(P_21号様式!E15= \"\",\"\",IF(VALUE(FIXED(P_21号様式!E15,0,TRUE))<>P_21号様式!E15,RIGHT(FIXED(P_21号様式!E15,3,FALSE),4),\"\"))","v":""},{"$f":"IF(P_21号様式!F15<> \"\",TEXT(INT(P_21号様式!F15),\"#,##0\"),\"\")","v":"0"},{"$f":"IF(P_21号様式!F15= \"\",\"\",IF(VALUE(FIXED(P_21号様式!F15,0,TRUE))<>P_21号様式!F15,RIGHT(FIXED(P_21号様式!F15,3,FALSE),4),\"\"))","v":""},{"$f":"IF(P_21号様式!G15<> \"\",TEXT(INT(P_21号様式!G15),\"#,##0\"),\"\")","v":"0"},{"$f":"IF(P_21号様式!G15= \"\",\"\",IF(VALUE(FIXED(P_21号様式!G15,0,TRUE))<>P_21号様式!G15,RIGHT(FIXED(P_21号様式!G15,3,FALSE),4),\"\"))","v":""},{"$f":"IF(P_21号様式!H15<> \"\",TEXT(INT(P_21号様式!H15),\"#,##0\"),\"\")","v":"48,660"},{"$f":"IF(P_21号様式!H15= \"\",\"\",IF(VALUE(FIXED(P_21号様式!H15,0,TRUE))<>P_21号様式!H15,RIGHT(FIXED(P_21号様式!H15,3,FALSE),4),\"\"))","v":""},{"$f":"IF(P_21号様式!I15<> \"\",TEXT(INT(P_21号様式!I15),\"#,##0\"),\"\")","v":"719"},{"$f":"IF(P_21号様式!I15= \"\",\"\",IF(VALUE(FIXED(P_21号様式!I15,0,TRUE))<>P_21号様式!I15,RIGHT(FIXED(P_21号様式!I15,3,FALSE),4),\"\"))","v":""},{"$f":"IF(P_21号様式!J15<> \"\",TEXT(INT(P_21号様式!J15),\"#,##0\"),\"\")","v":"49,379"},{"$f":"IF(P_21号様式!J15= \"\",\"\",IF(VALUE(FIXED(P_21号様式!J15,0,TRUE))<>P_21号様式!J15,RIGHT(FIXED(P_21号様式!J15,3,FALSE),4),\"\"))","v":""},{"$f":"IF(P_21号様式!K15<> \"\",TEXT(INT(P_21号様式!K15),\"#,##0\"),\"\")","v":"2"},{"$f":"IF(P_21号様式!K15= \"\",\"\",IF(VALUE(FIXED(P_21号様式!K15,0,TRUE))<>P_21号様式!K15,RIGHT(FIXED(P_21号様式!K15,3,FALSE),4),\"\"))","v":""},{"$f":"IF(P_21号様式!L15<> \"\",TEXT(INT(P_21号様式!L15),\"#,##0\"),\"\")","v":"49,381"},{"$f":"IF(P_21号様式!L15= \"\",\"\",IF(VALUE(FIXED(P_21号様式!L15,0,TRUE))<>P_21号様式!L15,RIGHT(FIXED(P_21号様式!L15,3,FALSE),4),\"\"))","v":""},{"$f":"IF(P_21号様式!M15=\"\",\"\",P_21号様式!M15)","v":1.45608457036392},null,{"$f":"IF(P_21号様式!N15=\"\",\"\",P_21号様式!N15)","v":"23:49:00"}]
[{"$f":"IF(P_21号様式!C16=\"\",\"\",P_21号様式!C16)","v":"日置市"},null,{"$f":"IF(P_21号様式!D16=\"\",\"\",P_21号様式!D16)","v":""},{"$f":"IF(P_21号様式!E16<> \"\",TEXT(INT(P_21号様式!E16),\"#,##0\"),\"\")","v":"25,023"},{"$f":"IF(P_21号様式!E16= \"\",\"\",IF(VALUE(FIXED(P_21号様式!E16,0,TRUE))<>P_21号様式!E16,RIGHT(FIXED(P_21号様式!E16,3,FALSE),4),\"\"))","v":""},{"$f":"IF(P_21号様式!F16<> \"\",TEXT(INT(P_21号様式!F16),\"#,##0\"),\"\")","v":"0"},{"$f":"IF(P_21号様式!F16= \"\",\"\",IF(VALUE(FIXED(P_21号様式!F16,0,TRUE))<>P_21号様式!F16,RIGHT(FIXED(P_21号様式!F16,3,FALSE),4),\"\"))","v":""},{"$f":"IF(P_21号様式!G16<> \"\",TEXT(INT(P_21号様式!G16),\"#,##0\"),\"\")","v":"0"},{"$f":"IF(P_21号様式!G16= \"\",\"\",IF(VALUE(FIXED(P_21号様式!G16,0,TRUE))<>P_21号様式!G16,RIGHT(FIXED(P_21号様式!G16,3,FALSE),4),\"\"))","v":""},{"$f":"IF(P_21号様式!H16<> \"\",TEXT(INT(P_21号様式!H16),\"#,##0\"),\"\")","v":"25,023"},{"$f":"IF(P_21号様式!H16= \"\",\"\",IF(VALUE(FIXED(P_21号様式!H16,0,TRUE))<>P_21号様式!H16,RIGHT(FIXED(P_21号様式!H16,3,FALSE),4),\"\"))","v":""},{"$f":"IF(P_21号様式!I16<> \"\",TEXT(INT(P_21号様式!I16),\"#,##0\"),\"\")","v":"419"},{"$f":"IF(P_21号様式!I16= \"\",\"\",IF(VALUE(FIXED(P_21号様式!I16,0,TRUE))<>P_21号様式!I16,RIGHT(FIXED(P_21号様式!I16,3,FALSE),4),\"\"))","v":""},{"$f":"IF(P_21号様式!J16<> \"\",TEXT(INT(P_21号様式!J16),\"#,##0\"),\"\")","v":"25,442"},{"$f":"IF(P_21号様式!J16= \"\",\"\",IF(VALUE(FIXED(P_21号様式!J16,0,TRUE))<>P_21号様式!J16,RIGHT(FIXED(P_21号様式!J16,3,FALSE),4),\"\"))","v":""},{"$f":"IF(P_21号様式!K16<> \"\",TEXT(INT(P_21号様式!K16),\"#,##0\"),\"\")","v":"0"},{"$f":"IF(P_21号様式!K16= \"\",\"\",IF(VALUE(FIXED(P_21号様式!K16,0,TRUE))<>P_21号様式!K16,RIGHT(FIXED(P_21号様式!K16,3,FALSE),4),\"\"))","v":""},{"$f":"IF(P_21号様式!L16<> \"\",TEXT(INT(P_21号様式!L16),\"#,##0\"),\"\")","v":"25,442"},{"$f":"IF(P_21号様式!L16= \"\",\"\",IF(VALUE(FIXED(P_21号様式!L16,0,TRUE))<>P_21号様式!L16,RIGHT(FIXED(P_21号様式!L16,3,FALSE),4),\"\"))","v":""},{"$f":"IF(P_21号様式!M16=\"\",\"\",P_21号様式!M16)","v":1.646883106674},null,{"$f":"IF(P_21号様式!N16=\"\",\"\",P_21号様式!N16)","v":"23:56:00"}]
[{"$f":"IF(P_21号様式!C17=\"\",\"\",P_21号様式!C17)","v":"曽於市"},null,{"$f":"IF(P_21号様式!D17=\"\",\"\",P_21号様式!D17)","v":""},{"$f":"IF(P_21号様式!E17<> \"\",TEXT(INT(P_21号様式!E17),\"#,##0\"),\"\")","v":"17,552"},{"$f":"IF(P_21号様式!E17= \"\",\"\",IF(VALUE(FIXED(P_21号様式!E17,0,TRUE))<>P_21号様式!E17,RIGHT(FIXED(P_21号様式!E17,3,FALSE),4),\"\"))","v":""},{"$f":"IF(P_21号様式!F17<> \"\",TEXT(INT(P_21号様式!F17),\"#,##0\"),\"\")","v":"0"},{"$f":"IF(P_21号様式!F17= \"\",\"\",IF(VALUE(FIXED(P_21号様式!F17,0,TRUE))<>P_21号様式!F17,RIGHT(FIXED(P_21号様式!F17,3,FALSE),4),\"\"))","v":""},{"$f":"IF(P_21号様式!G17<> \"\",TEXT(INT(P_21号様式!G17),\"#,##0\"),\"\")","v":"0"},{"$f":"IF(P_21号様式!G17= \"\",\"\",IF(VALUE(FIXED(P_21号様式!G17,0,TRUE))<>P_21号様式!G17,RIGHT(FIXED(P_21号様式!G17,3,FALSE),4),\"\"))","v":""},{"$f":"IF(P_21号様式!H17<> \"\",TEXT(INT(P_21号様式!H17),\"#,##0\"),\"\")","v":"17,552"},{"$f":"IF(P_21号様式!H17= \"\",\"\",IF(VALUE(FIXED(P_21号様式!H17,0,TRUE))<>P_21号様式!H17,RIGHT(FIXED(P_21号様式!H17,3,FALSE),4),\"\"))","v":""},{"$f":"IF(P_21号様式!I17<> \"\",TEXT(INT(P_21号様式!I17),\"#,##0\"),\"\")","v":"387"},{"$f":"IF(P_21号様式!I17= \"\",\"\",IF(VALUE(FIXED(P_21号様式!I17,0,TRUE))<>P_21号様式!I17,RIGHT(FIXED(P_21号様式!I17,3,FALSE),4),\"\"))","v":""},{"$f":"IF(P_21号様式!J17<> \"\",TEXT(INT(P_21号様式!J17),\"#,##0\"),\"\")","v":"17,939"},{"$f":"IF(P_21号様式!J17= \"\",\"\",IF(VALUE(FIXED(P_21号様式!J17,0,TRUE))<>P_21号様式!J17,RIGHT(FIXED(P_21号様式!J17,3,FALSE),4),\"\"))","v":""},{"$f":"IF(P_21号様式!K17<> \"\",TEXT(INT(P_21号様式!K17),\"#,##0\"),\"\")","v":"0"},{"$f":"IF(P_21号様式!K17= \"\",\"\",IF(VALUE(FIXED(P_21号様式!K17,0,TRUE))<>P_21号様式!K17,RIGHT(FIXED(P_21号様式!K17,3,FALSE),4),\"\"))","v":""},{"$f":"IF(P_21号様式!L17<> \"\",TEXT(INT(P_21号様式!L17),\"#,##0\"),\"\")","v":"17,939"},{"$f":"IF(P_21号様式!L17= \"\",\"\",IF(VALUE(FIXED(P_21号様式!L17,0,TRUE))<>P_21号様式!L17,RIGHT(FIXED(P_21号様式!L17,3,FALSE),4),\"\"))","v":""},{"$f":"IF(P_21号様式!M17=\"\",\"\",P_21号様式!M17)","v":2.1573108868944799},null,{"$f":"IF(P_21号様式!N17=\"\",\"\",P_21号様式!N17)","v":"22:58:00"}]
[{"$f":"IF(P_21号様式!C18=\"\",\"\",P_21号様式!C18)","v":"霧島市"},null,{"$f":"IF(P_21号様式!D18=\"\",\"\",P_21号様式!D18)","v":""},{"$f":"IF(P_21号様式!E18<> \"\",TEXT(INT(P_21号様式!E18),\"#,##0\"),\"\")","v":"52,753"},{"$f":"IF(P_21号様式!E18= \"\",\"\",IF(VALUE(FIXED(P_21号様式!E18,0,TRUE))<>P_21号様式!E18,RIGHT(FIXED(P_21号様式!E18,3,FALSE),4),\"\"))","v":""},{"$f":"IF(P_21号様式!F18<> \"\",TEXT(INT(P_21号様式!F18),\"#,##0\"),\"\")","v":"0"},{"$f":"IF(P_21号様式!F18= \"\",\"\",IF(VALUE(FIXED(P_21号様式!F18,0,TRUE))<>P_21号様式!F18,RIGHT(FIXED(P_21号様式!F18,3,FALSE),4),\"\"))","v":""},{"$f":"IF(P_21号様式!G18<> \"\",TEXT(INT(P_21号様式!G18),\"#,##0\"),\"\")","v":"0"},{"$f":"IF(P_21号様式!G18= \"\",\"\",IF(VALUE(FIXED(P_21号様式!G18,0,TRUE))<>P_21号様式!G18,RIGHT(FIXED(P_21号様式!G18,3,FALSE),4),\"\"))","v":""},{"$f":"IF(P_21号様式!H18<> \"\",TEXT(INT(P_21号様式!H18),\"#,##0\"),\"\")","v":"52,753"},{"$f":"IF(P_21号様式!H18= \"\",\"\",IF(VALUE(FIXED(P_21号様式!H18,0,TRUE))<>P_21号様式!H18,RIGHT(FIXED(P_21号様式!H18,3,FALSE),4),\"\"))","v":""},{"$f":"IF(P_21号様式!I18<> \"\",TEXT(INT(P_21号様式!I18),\"#,##0\"),\"\")","v":"1,010"},{"$f":"IF(P_21号様式!I18= \"\",\"\",IF(VALUE(FIXED(P_21号様式!I18,0,TRUE))<>P_21号様式!I18,RIGHT(FIXED(P_21号様式!I18,3,FALSE),4),\"\"))","v":""},{"$f":"IF(P_21号様式!J18<> \"\",TEXT(INT(P_21号様式!J18),\"#,##0\"),\"\")","v":"53,763"},{"$f":"IF(P_21号様式!J18= \"\",\"\",IF(VALUE(FIXED(P_21号様式!J18,0,TRUE))<>P_21号様式!J18,RIGHT(FIXED(P_21号様式!J18,3,FALSE),4),\"\"))","v":""},{"$f":"IF(P_21号様式!K18<> \"\",TEXT(INT(P_21号様式!K18),\"#,##0\"),\"\")","v":"29"},{"$f":"IF(P_21号様式!K18= \"\",\"\",IF(VALUE(FIXED(P_21号様式!K18,0,TRUE))<>P_21号様式!K18,RIGHT(FIXED(P_21号様式!K18,3,FALSE),4),\"\"))","v":""},{"$f":"IF(P_21号様式!L18<> \"\",TEXT(INT(P_21号様式!L18),\"#,##0\"),\"\")","v":"53,792"},{"$f":"IF(P_21号様式!L18= \"\",\"\",IF(VALUE(FIXED(P_21号様式!L18,0,TRUE))<>P_21号様式!L18,RIGHT(FIXED(P_21号様式!L18,3,FALSE),4),\"\"))","v":""},{"$f":"IF(P_21号様式!M18=\"\",\"\",P_21号様式!M18)","v":1.8786154046463199},null,{"$f":"IF(P_21号様式!N18=\"\",\"\",P_21号様式!N18)","v":"23:47:00"}]
[{"$f":"IF(P_21号様式!C19=\"\",\"\",P_21号様式!C19)","v":"いちき串木野市"},null,{"$f":"IF(P_21号様式!D19=\"\",\"\",P_21号様式!D19)","v":""},{"$f":"IF(P_21号様式!E19<> \"\",TEXT(INT(P_21号様式!E19),\"#,##0\"),\"\")","v":"17,655"},{"$f":"IF(P_21号様式!E19= \"\",\"\",IF(VALUE(FIXED(P_21号様式!E19,0,TRUE))<>P_21号様式!E19,RIGHT(FIXED(P_21号様式!E19,3,FALSE),4),\"\"))","v":""},{"$f":"IF(P_21号様式!F19<> \"\",TEXT(INT(P_21号様式!F19),\"#,##0\"),\"\")","v":"0"},{"$f":"IF(P_21号様式!F19= \"\",\"\",IF(VALUE(FIXED(P_21号様式!F19,0,TRUE))<>P_21号様式!F19,RIGHT(FIXED(P_21号様式!F19,3,FALSE),4),\"\"))","v":""},{"$f":"IF(P_21号様式!G19<> \"\",TEXT(INT(P_21号様式!G19),\"#,##0\"),\"\")","v":"0"},{"$f":"IF(P_21号様式!G19= \"\",\"\",IF(VALUE(FIXED(P_21号様式!G19,0,TRUE))<>P_21号様式!G19,RIGHT(FIXED(P_21号様式!G19,3,FALSE),4),\"\"))","v":""},{"$f":"IF(P_21号様式!H19<> \"\",TEXT(INT(P_21号様式!H19),\"#,##0\"),\"\")","v":"17,655"},{"$f":"IF(P_21号様式!H19= \"\",\"\",IF(VALUE(FIXED(P_21号様式!H19,0,TRUE))<>P_21号様式!H19,RIGHT(FIXED(P_21号様式!H19,3,FALSE),4),\"\"))","v":""},{"$f":"IF(P_21号様式!I19<> \"\",TEXT(INT(P_21号様式!I19),\"#,##0\"),\"\")","v":"652"},{"$f":"IF(P_21号様式!I19= \"\",\"\",IF(VALUE(FIXED(P_21号様式!I19,0,TRUE))<>P_21号様式!I19,RIGHT(FIXED(P_21号様式!I19,3,FALSE),4),\"\"))","v":""},{"$f":"IF(P_21号様式!J19<> \"\",TEXT(INT(P_21号様式!J19),\"#,##0\"),\"\")","v":"18,307"},{"$f":"IF(P_21号様式!J19= \"\",\"\",IF(VALUE(FIXED(P_21号様式!J19,0,TRUE))<>P_21号様式!J19,RIGHT(FIXED(P_21号様式!J19,3,FALSE),4),\"\"))","v":""},{"$f":"IF(P_21号様式!K19<> \"\",TEXT(INT(P_21号様式!K19),\"#,##0\"),\"\")","v":"0"},{"$f":"IF(P_21号様式!K19= \"\",\"\",IF(VALUE(FIXED(P_21号様式!K19,0,TRUE))<>P_21号様式!K19,RIGHT(FIXED(P_21号様式!K19,3,FALSE),4),\"\"))","v":""},{"$f":"IF(P_21号様式!L19<> \"\",TEXT(INT(P_21号様式!L19),\"#,##0\"),\"\")","v":"18,307"},{"$f":"IF(P_21号様式!L19= \"\",\"\",IF(VALUE(FIXED(P_21号様式!L19,0,TRUE))<>P_21号様式!L19,RIGHT(FIXED(P_21号様式!L19,3,FALSE),4),\"\"))","v":""},{"$f":"IF(P_21号様式!M19=\"\",\"\",P_21号様式!M19)","v":3.5614792156005901},null,{"$f":"IF(P_21号様式!N19=\"\",\"\",P_21号様式!N19)","v":"23:57:00"}]
[{"$f":"IF(P_21号様式!C20=\"\",\"\",P_21号様式!C20)","v":"南さつま市"},null,{"$f":"IF(P_21号様式!D20=\"\",\"\",P_21号様式!D20)","v":""},{"$f":"IF(P_21号様式!E20<> \"\",TEXT(INT(P_21号様式!E20),\"#,##0\"),\"\")","v":"17,332"},{"$f":"IF(P_21号様式!E20= \"\",\"\",IF(VALUE(FIXED(P_21号様式!E20,0,TRUE))<>P_21号様式!E20,RIGHT(FIXED(P_21号様式!E20,3,FALSE),4),\"\"))","v":""},{"$f":"IF(P_21号様式!F20<> \"\",TEXT(INT(P_21号様式!F20),\"#,##0\"),\"\")","v":"0"},{"$f":"IF(P_21号様式!F20= \"\",\"\",IF(VALUE(FIXED(P_21号様式!F20,0,TRUE))<>P_21号様式!F20,RIGHT(FIXED(P_21号様式!F20,3,FALSE),4),\"\"))","v":""},{"$f":"IF(P_21号様式!G20<> \"\",TEXT(INT(P_21号様式!G20),\"#,##0\"),\"\")","v":"0"},{"$f":"IF(P_21号様式!G20= \"\",\"\",IF(VALUE(FIXED(P_21号様式!G20,0,TRUE))<>P_21号様式!G20,RIGHT(FIXED(P_21号様式!G20,3,FALSE),4),\"\"))","v":""},{"$f":"IF(P_21号様式!H20<> \"\",TEXT(INT(P_21号様式!H20),\"#,##0\"),\"\")","v":"17,332"},{"$f":"IF(P_21号様式!H20= \"\",\"\",IF(VALUE(FIXED(P_21号様式!H20,0,TRUE))<>P_21号様式!H20,RIGHT(FIXED(P_21号様式!H20,3,FALSE),4),\"\"))","v":""},{"$f":"IF(P_21号様式!I20<> \"\",TEXT(INT(P_21号様式!I20),\"#,##0\"),\"\")","v":"489"},{"$f":"IF(P_21号様式!I20= \"\",\"\",IF(VALUE(FIXED(P_21号様式!I20,0,TRUE))<>P_21号様式!I20,RIGHT(FIXED(P_21号様式!I20,3,FALSE),4),\"\"))","v":""},{"$f":"IF(P_21号様式!J20<> \"\",TEXT(INT(P_21号様式!J20),\"#,##0\"),\"\")","v":"17,821"},{"$f":"IF(P_21号様式!J20= \"\",\"\",IF(VALUE(FIXED(P_21号様式!J20,0,TRUE))<>P_21号様式!J20,RIGHT(FIXED(P_21号様式!J20,3,FALSE),4),\"\"))","v":""},{"$f":"IF(P_21号様式!K20<> \"\",TEXT(INT(P_21号様式!K20),\"#,##0\"),\"\")","v":"7"},{"$f":"IF(P_21号様式!K20= \"\",\"\",IF(VALUE(FIXED(P_21号様式!K20,0,TRUE))<>P_21号様式!K20,RIGHT(FIXED(P_21号様式!K20,3,FALSE),4),\"\"))","v":""},{"$f":"IF(P_21号様式!L20<> \"\",TEXT(INT(P_21号様式!L20),\"#,##0\"),\"\")","v":"17,828"},{"$f":"IF(P_21号様式!L20= \"\",\"\",IF(VALUE(FIXED(P_21号様式!L20,0,TRUE))<>P_21号様式!L20,RIGHT(FIXED(P_21号様式!L20,3,FALSE),4),\"\"))","v":""},{"$f":"IF(P_21号様式!M20=\"\",\"\",P_21号様式!M20)","v":2.74395376241513},null,{"$f":"IF(P_21号様式!N20=\"\",\"\",P_21号様式!N20)","v":"01:19:00"}]
[{"$f":"IF(P_21号様式!C21=\"\",\"\",P_21号様式!C21)","v":"志布志市"},null,{"$f":"IF(P_21号様式!D21=\"\",\"\",P_21号様式!D21)","v":""},{"$f":"IF(P_21号様式!E21<> \"\",TEXT(INT(P_21号様式!E21),\"#,##0\"),\"\")","v":"14,584"},{"$f":"IF(P_21号様式!E21= \"\",\"\",IF(VALUE(FIXED(P_21号様式!E21,0,TRUE))<>P_21号様式!E21,RIGHT(FIXED(P_21号様式!E21,3,FALSE),4),\"\"))","v":""},{"$f":"IF(P_21号様式!F21<> \"\",TEXT(INT(P_21号様式!F21),\"#,##0\"),\"\")","v":"0"},{"$f":"IF(P_21号様式!F21= \"\",\"\",IF(VALUE(FIXED(P_21号様式!F21,0,TRUE))<>P_21号様式!F21,RIGHT(FIXED(P_21号様式!F21,3,FALSE),4),\"\"))","v":""},{"$f":"IF(P_21号様式!G21<> \"\",TEXT(INT(P_21号様式!G21),\"#,##0\"),\"\")","v":"0"},{"$f":"IF(P_21号様式!G21= \"\",\"\",IF(VALUE(FIXED(P_21号様式!G21,0,TRUE))<>P_21号様式!G21,RIGHT(FIXED(P_21号様式!G21,3,FALSE),4),\"\"))","v":""},{"$f":"IF(P_21号様式!H21<> \"\",TEXT(INT(P_21号様式!H21),\"#,##0\"),\"\")","v":"14,584"},{"$f":"IF(P_21号様式!H21= \"\",\"\",IF(VALUE(FIXED(P_21号様式!H21,0,TRUE))<>P_21号様式!H21,RIGHT(FIXED(P_21号様式!H21,3,FALSE),4),\"\"))","v":""},{"$f":"IF(P_21号様式!I21<> \"\",TEXT(INT(P_21号様式!I21),\"#,##0\"),\"\")","v":"320"},{"$f":"IF(P_21号様式!I21= \"\",\"\",IF(VALUE(FIXED(P_21号様式!I21,0,TRUE))<>P_21号様式!I21,RIGHT(FIXED(P_21号様式!I21,3,FALSE),4),\"\"))","v":""},{"$f":"IF(P_21号様式!J21<> \"\",TEXT(INT(P_21号様式!J21),\"#,##0\"),\"\")","v":"14,904"},{"$f":"IF(P_21号様式!J21= \"\",\"\",IF(VALUE(FIXED(P_21号様式!J21,0,TRUE))<>P_21号様式!J21,RIGHT(FIXED(P_21号様式!J21,3,FALSE),4),\"\"))","v":""},{"$f":"IF(P_21号様式!K21<> \"\",TEXT(INT(P_21号様式!K21),\"#,##0\"),\"\")","v":"0"},{"$f":"IF(P_21号様式!K21= \"\",\"\",IF(VALUE(FIXED(P_21号様式!K21,0,TRUE))<>P_21号様式!K21,RIGHT(FIXED(P_21号様式!K21,3,FALSE),4),\"\"))","v":""},{"$f":"IF(P_21号様式!L21<> \"\",TEXT(INT(P_21号様式!L21),\"#,##0\"),\"\")","v":"14,904"},{"$f":"IF(P_21号様式!L21= \"\",\"\",IF(VALUE(FIXED(P_21号様式!L21,0,TRUE))<>P_21号様式!L21,RIGHT(FIXED(P_21号様式!L21,3,FALSE),4),\"\"))","v":""},{"$f":"IF(P_21号様式!M21=\"\",\"\",P_21号様式!M21)","v":2.1470746108427301},null,{"$f":"IF(P_21号様式!N21=\"\",\"\",P_21号様式!N21)","v":"23:42:00"}]
[{"$f":"IF(P_21号様式!C22=\"\",\"\",P_21号様式!C22)","v":"奄美市"},null,{"$f":"IF(P_21号様式!D22=\"\",\"\",P_21号様式!D22)","v":""},{"$f":"IF(P_21号様式!E22<> \"\",TEXT(INT(P_21号様式!E22),\"#,##0\"),\"\")","v":"22,143"},{"$f":"IF(P_21号様式!E22= \"\",\"\",IF(VALUE(FIXED(P_21号様式!E22,0,TRUE))<>P_21号様式!E22,RIGHT(FIXED(P_21号様式!E22,3,FALSE),4),\"\"))","v":""},{"$f":"IF(P_21号様式!F22<> \"\",TEXT(INT(P_21号様式!F22),\"#,##0\"),\"\")","v":"0"},{"$f":"IF(P_21号様式!F22= \"\",\"\",IF(VALUE(FIXED(P_21号様式!F22,0,TRUE))<>P_21号様式!F22,RIGHT(FIXED(P_21号様式!F22,3,FALSE),4),\"\"))","v":""},{"$f":"IF(P_21号様式!G22<> \"\",TEXT(INT(P_21号様式!G22),\"#,##0\"),\"\")","v":"0"},{"$f":"IF(P_21号様式!G22= \"\",\"\",IF(VALUE(FIXED(P_21号様式!G22,0,TRUE))<>P_21号様式!G22,RIGHT(FIXED(P_21号様式!G22,3,FALSE),4),\"\"))","v":""},{"$f":"IF(P_21号様式!H22<> \"\",TEXT(INT(P_21号様式!H22),\"#,##0\"),\"\")","v":"22,143"},{"$f":"IF(P_21号様式!H22= \"\",\"\",IF(VALUE(FIXED(P_21号様式!H22,0,TRUE))<>P_21号様式!H22,RIGHT(FIXED(P_21号様式!H22,3,FALSE),4),\"\"))","v":""},{"$f":"IF(P_21号様式!I22<> \"\",TEXT(INT(P_21号様式!I22),\"#,##0\"),\"\")","v":"433"},{"$f":"IF(P_21号様式!I22= \"\",\"\",IF(VALUE(FIXED(P_21号様式!I22,0,TRUE))<>P_21号様式!I22,RIGHT(FIXED(P_21号様式!I22,3,FALSE),4),\"\"))","v":""},{"$f":"IF(P_21号様式!J22<> \"\",TEXT(INT(P_21号様式!J22),\"#,##0\"),\"\")","v":"22,576"},{"$f":"IF(P_21号様式!J22= \"\",\"\",IF(VALUE(FIXED(P_21号様式!J22,0,TRUE))<>P_21号様式!J22,RIGHT(FIXED(P_21号様式!J22,3,FALSE),4),\"\"))","v":""},{"$f":"IF(P_21号様式!K22<> \"\",TEXT(INT(P_21号様式!K22),\"#,##0\"),\"\")","v":"0"},{"$f":"IF(P_21号様式!K22= \"\",\"\",IF(VALUE(FIXED(P_21号様式!K22,0,TRUE))<>P_21号様式!K22,RIGHT(FIXED(P_21号様式!K22,3,FALSE),4),\"\"))","v":""},{"$f":"IF(P_21号様式!L22<> \"\",TEXT(INT(P_21号様式!L22),\"#,##0\"),\"\")","v":"22,576"},{"$f":"IF(P_21号様式!L22= \"\",\"\",IF(VALUE(FIXED(P_21号様式!L22,0,TRUE))<>P_21号様式!L22,RIGHT(FIXED(P_21号様式!L22,3,FALSE),4),\"\"))","v":""},{"$f":"IF(P_21号様式!M22=\"\",\"\",P_21号様式!M22)","v":1.9179659815733501},null,{"$f":"IF(P_21号様式!N22=\"\",\"\",P_21号様式!N22)","v":"23:13:00"}]
[{"$f":"IF(P_21号様式!C23=\"\",\"\",P_21号様式!C23)","v":"南九州市"},null,{"$f":"IF(P_21号様式!D23=\"\",\"\",P_21号様式!D23)","v":""},{"$f":"IF(P_21号様式!E23<> \"\",TEXT(INT(P_21号様式!E23),\"#,##0\"),\"\")","v":"16,973"},{"$f":"IF(P_21号様式!E23= \"\",\"\",IF(VALUE(FIXED(P_21号様式!E23,0,TRUE))<>P_21号様式!E23,RIGHT(FIXED(P_21号様式!E23,3,FALSE),4),\"\"))","v":""},{"$f":"IF(P_21号様式!F23<> \"\",TEXT(INT(P_21号様式!F23),\"#,##0\"),\"\")","v":"0"},{"$f":"IF(P_21号様式!F23= \"\",\"\",IF(VALUE(FIXED(P_21号様式!F23,0,TRUE))<>P_21号様式!F23,RIGHT(FIXED(P_21号様式!F23,3,FALSE),4),\"\"))","v":""},{"$f":"IF(P_21号様式!G23<> \"\",TEXT(INT(P_21号様式!G23),\"#,##0\"),\"\")","v":"0"},{"$f":"IF(P_21号様式!G23= \"\",\"\",IF(VALUE(FIXED(P_21号様式!G23,0,TRUE))<>P_21号様式!G23,RIGHT(FIXED(P_21号様式!G23,3,FALSE),4),\"\"))","v":""},{"$f":"IF(P_21号様式!H23<> \"\",TEXT(INT(P_21号様式!H23),\"#,##0\"),\"\")","v":"16,973"},{"$f":"IF(P_21号様式!H23= \"\",\"\",IF(VALUE(FIXED(P_21号様式!H23,0,TRUE))<>P_21号様式!H23,RIGHT(FIXED(P_21号様式!H23,3,FALSE),4),\"\"))","v":""},{"$f":"IF(P_21号様式!I23<> \"\",TEXT(INT(P_21号様式!I23),\"#,##0\"),\"\")","v":"495"},{"$f":"IF(P_21号様式!I23= \"\",\"\",IF(VALUE(FIXED(P_21号様式!I23,0,TRUE))<>P_21号様式!I23,RIGHT(FIXED(P_21号様式!I23,3,FALSE),4),\"\"))","v":""},{"$f":"IF(P_21号様式!J23<> \"\",TEXT(INT(P_21号様式!J23),\"#,##0\"),\"\")","v":"17,468"},{"$f":"IF(P_21号様式!J23= \"\",\"\",IF(VALUE(FIXED(P_21号様式!J23,0,TRUE))<>P_21号様式!J23,RIGHT(FIXED(P_21号様式!J23,3,FALSE),4),\"\"))","v":""},{"$f":"IF(P_21号様式!K23<> \"\",TEXT(INT(P_21号様式!K23),\"#,##0\"),\"\")","v":"0"},{"$f":"IF(P_21号様式!K23= \"\",\"\",IF(VALUE(FIXED(P_21号様式!K23,0,TRUE))<>P_21号様式!K23,RIGHT(FIXED(P_21号様式!K23,3,FALSE),4),\"\"))","v":""},{"$f":"IF(P_21号様式!L23<> \"\",TEXT(INT(P_21号様式!L23),\"#,##0\"),\"\")","v":"17,468"},{"$f":"IF(P_21号様式!L23= \"\",\"\",IF(VALUE(FIXED(P_21号様式!L23,0,TRUE))<>P_21号様式!L23,RIGHT(FIXED(P_21号様式!L23,3,FALSE),4),\"\"))","v":""},{"$f":"IF(P_21号様式!M23=\"\",\"\",P_21号様式!M23)","v":2.8337531486146101},null,{"$f":"IF(P_21号様式!N23=\"\",\"\",P_21号様式!N23)","v":"22:04:00"}]
[{"$f":"IF(P_21号様式!C24=\"\",\"\",P_21号様式!C24)","v":"伊佐市"},null,{"$f":"IF(P_21号様式!D24=\"\",\"\",P_21号様式!D24)","v":""},{"$f":"IF(P_21号様式!E24<> \"\",TEXT(INT(P_21号様式!E24),\"#,##0\"),\"\")","v":"14,008"},{"$f":"IF(P_21号様式!E24= \"\",\"\",IF(VALUE(FIXED(P_21号様式!E24,0,TRUE))<>P_21号様式!E24,RIGHT(FIXED(P_21号様式!E24,3,FALSE),4),\"\"))","v":""},{"$f":"IF(P_21号様式!F24<> \"\",TEXT(INT(P_21号様式!F24),\"#,##0\"),\"\")","v":"0"},{"$f":"IF(P_21号様式!F24= \"\",\"\",IF(VALUE(FIXED(P_21号様式!F24,0,TRUE))<>P_21号様式!F24,RIGHT(FIXED(P_21号様式!F24,3,FALSE),4),\"\"))","v":""},{"$f":"IF(P_21号様式!G24<> \"\",TEXT(INT(P_21号様式!G24),\"#,##0\"),\"\")","v":"0"},{"$f":"IF(P_21号様式!G24= \"\",\"\",IF(VALUE(FIXED(P_21号様式!G24,0,TRUE))<>P_21号様式!G24,RIGHT(FIXED(P_21号様式!G24,3,FALSE),4),\"\"))","v":""},{"$f":"IF(P_21号様式!H24<> \"\",TEXT(INT(P_21号様式!H24),\"#,##0\"),\"\")","v":"14,008"},{"$f":"IF(P_21号様式!H24= \"\",\"\",IF(VALUE(FIXED(P_21号様式!H24,0,TRUE))<>P_21号様式!H24,RIGHT(FIXED(P_21号様式!H24,3,FALSE),4),\"\"))","v":""},{"$f":"IF(P_21号様式!I24<> \"\",TEXT(INT(P_21号様式!I24),\"#,##0\"),\"\")","v":"428"},{"$f":"IF(P_21号様式!I24= \"\",\"\",IF(VALUE(FIXED(P_21号様式!I24,0,TRUE))<>P_21号様式!I24,RIGHT(FIXED(P_21号様式!I24,3,FALSE),4),\"\"))","v":""},{"$f":"IF(P_21号様式!J24<> \"\",TEXT(INT(P_21号様式!J24),\"#,##0\"),\"\")","v":"14,436"},{"$f":"IF(P_21号様式!J24= \"\",\"\",IF(VALUE(FIXED(P_21号様式!J24,0,TRUE))<>P_21号様式!J24,RIGHT(FIXED(P_21号様式!J24,3,FALSE),4),\"\"))","v":""},{"$f":"IF(P_21号様式!K24<> \"\",TEXT(INT(P_21号様式!K24),\"#,##0\"),\"\")","v":"0"},{"$f":"IF(P_21号様式!K24= \"\",\"\",IF(VALUE(FIXED(P_21号様式!K24,0,TRUE))<>P_21号様式!K24,RIGHT(FIXED(P_21号様式!K24,3,FALSE),4),\"\"))","v":""},{"$f":"IF(P_21号様式!L24<> \"\",TEXT(INT(P_21号様式!L24),\"#,##0\"),\"\")","v":"14,436"},{"$f":"IF(P_21号様式!L24= \"\",\"\",IF(VALUE(FIXED(P_21号様式!L24,0,TRUE))<>P_21号様式!L24,RIGHT(FIXED(P_21号様式!L24,3,FALSE),4),\"\"))","v":""},{"$f":"IF(P_21号様式!M24=\"\",\"\",P_21号様式!M24)","v":2.9648101967303999},null,{"$f":"IF(P_21号様式!N24=\"\",\"\",P_21号様式!N24)","v":"23:54:00"}]
[{"$f":"IF(P_21号様式!C25=\"\",\"\",P_21号様式!C25)","v":"姶良市"},null,{"$f":"IF(P_21号様式!D25=\"\",\"\",P_21号様式!D25)","v":""},{"$f":"IF(P_21号様式!E25<> \"\",TEXT(INT(P_21号様式!E25),\"#,##0\"),\"\")","v":"36,178"},{"$f":"IF(P_21号様式!E25= \"\",\"\",IF(VALUE(FIXED(P_21号様式!E25,0,TRUE))<>P_21号様式!E25,RIGHT(FIXED(P_21号様式!E25,3,FALSE),4),\"\"))","v":""},{"$f":"IF(P_21号様式!F25<> \"\",TEXT(INT(P_21号様式!F25),\"#,##0\"),\"\")","v":"0"},{"$f":"IF(P_21号様式!F25= \"\",\"\",IF(VALUE(FIXED(P_21号様式!F25,0,TRUE))<>P_21号様式!F25,RIGHT(FIXED(P_21号様式!F25,3,FALSE),4),\"\"))","v":""},{"$f":"IF(P_21号様式!G25<> \"\",TEXT(INT(P_21号様式!G25),\"#,##0\"),\"\")","v":"0"},{"$f":"IF(P_21号様式!G25= \"\",\"\",IF(VALUE(FIXED(P_21号様式!G25,0,TRUE))<>P_21号様式!G25,RIGHT(FIXED(P_21号様式!G25,3,FALSE),4),\"\"))","v":""},{"$f":"IF(P_21号様式!H25<> \"\",TEXT(INT(P_21号様式!H25),\"#,##0\"),\"\")","v":"36,178"},{"$f":"IF(P_21号様式!H25= \"\",\"\",IF(VALUE(FIXED(P_21号様式!H25,0,TRUE))<>P_21号様式!H25,RIGHT(FIXED(P_21号様式!H25,3,FALSE),4),\"\"))","v":""},{"$f":"IF(P_21号様式!I25<> \"\",TEXT(INT(P_21号様式!I25),\"#,##0\"),\"\")","v":"451"},{"$f":"IF(P_21号様式!I25= \"\",\"\",IF(VALUE(FIXED(P_21号様式!I25,0,TRUE))<>P_21号様式!I25,RIGHT(FIXED(P_21号様式!I25,3,FALSE),4),\"\"))","v":""},{"$f":"IF(P_21号様式!J25<> \"\",TEXT(INT(P_21号様式!J25),\"#,##0\"),\"\")","v":"36,629"},{"$f":"IF(P_21号様式!J25= \"\",\"\",IF(VALUE(FIXED(P_21号様式!J25,0,TRUE))<>P_21号様式!J25,RIGHT(FIXED(P_21号様式!J25,3,FALSE),4),\"\"))","v":""},{"$f":"IF(P_21号様式!K25<> \"\",TEXT(INT(P_21号様式!K25),\"#,##0\"),\"\")","v":"0"},{"$f":"IF(P_21号様式!K25= \"\",\"\",IF(VALUE(FIXED(P_21号様式!K25,0,TRUE))<>P_21号様式!K25,RIGHT(FIXED(P_21号様式!K25,3,FALSE),4),\"\"))","v":""},{"$f":"IF(P_21号様式!L25<> \"\",TEXT(INT(P_21号様式!L25),\"#,##0\"),\"\")","v":"36,629"},{"$f":"IF(P_21号様式!L25= \"\",\"\",IF(VALUE(FIXED(P_21号様式!L25,0,TRUE))<>P_21号様式!L25,RIGHT(FIXED(P_21号様式!L25,3,FALSE),4),\"\"))","v":""},{"$f":"IF(P_21号様式!M25=\"\",\"\",P_21号様式!M25)","v":1.23126484479511},null,{"$f":"IF(P_21号様式!N25=\"\",\"\",P_21号様式!N25)","v":"23:26:00"}]
[{"$f":"IF(P_21号様式!C26=\"\",\"\",P_21号様式!C26)","v":"三島村"},null,{"$f":"IF(P_21号様式!D26=\"\",\"\",P_21号様式!D26)","v":""},{"$f":"IF(P_21号様式!E26<> \"\",TEXT(INT(P_21号様式!E26),\"#,##0\"),\"\")","v":"234"},{"$f":"IF(P_21号様式!E26= \"\",\"\",IF(VALUE(FIXED(P_21号様式!E26,0,TRUE))<>P_21号様式!E26,RIGHT(FIXED(P_21号様式!E26,3,FALSE),4),\"\"))","v":""},{"$f":"IF(P_21号様式!F26<> \"\",TEXT(INT(P_21号様式!F26),\"#,##0\"),\"\")","v":"0"},{"$f":"IF(P_21号様式!F26= \"\",\"\",IF(VALUE(FIXED(P_21号様式!F26,0,TRUE))<>P_21号様式!F26,RIGHT(FIXED(P_21号様式!F26,3,FALSE),4),\"\"))","v":""},{"$f":"IF(P_21号様式!G26<> \"\",TEXT(INT(P_21号様式!G26),\"#,##0\"),\"\")","v":"0"},{"$f":"IF(P_21号様式!G26= \"\",\"\",IF(VALUE(FIXED(P_21号様式!G26,0,TRUE))<>P_21号様式!G26,RIGHT(FIXED(P_21号様式!G26,3,FALSE),4),\"\"))","v":""},{"$f":"IF(P_21号様式!H26<> \"\",TEXT(INT(P_21号様式!H26),\"#,##0\"),\"\")","v":"234"},{"$f":"IF(P_21号様式!H26= \"\",\"\",IF(VALUE(FIXED(P_21号様式!H26,0,TRUE))<>P_21号様式!H26,RIGHT(FIXED(P_21号様式!H26,3,FALSE),4),\"\"))","v":""},{"$f":"IF(P_21号様式!I26<> \"\",TEXT(INT(P_21号様式!I26),\"#,##0\"),\"\")","v":"6"},{"$f":"IF(P_21号様式!I26= \"\",\"\",IF(VALUE(FIXED(P_21号様式!I26,0,TRUE))<>P_21号様式!I26,RIGHT(FIXED(P_21号様式!I26,3,FALSE),4),\"\"))","v":""},{"$f":"IF(P_21号様式!J26<> \"\",TEXT(INT(P_21号様式!J26),\"#,##0\"),\"\")","v":"240"},{"$f":"IF(P_21号様式!J26= \"\",\"\",IF(VALUE(FIXED(P_21号様式!J26,0,TRUE))<>P_21号様式!J26,RIGHT(FIXED(P_21号様式!J26,3,FALSE),4),\"\"))","v":""},{"$f":"IF(P_21号様式!K26<> \"\",TEXT(INT(P_21号様式!K26),\"#,##0\"),\"\")","v":"0"},{"$f":"IF(P_21号様式!K26= \"\",\"\",IF(VALUE(FIXED(P_21号様式!K26,0,TRUE))<>P_21号様式!K26,RIGHT(FIXED(P_21号様式!K26,3,FALSE),4),\"\"))","v":""},{"$f":"IF(P_21号様式!L26<> \"\",TEXT(INT(P_21号様式!L26),\"#,##0\"),\"\")","v":"240"},{"$f":"IF(P_21号様式!L26= \"\",\"\",IF(VALUE(FIXED(P_21号様式!L26,0,TRUE))<>P_21号様式!L26,RIGHT(FIXED(P_21号様式!L26,3,FALSE),4),\"\"))","v":""},{"$f":"IF(P_21号様式!M26=\"\",\"\",P_21号様式!M26)","v":2.5},null,{"$f":"IF(P_21号様式!N26=\"\",\"\",P_21号様式!N26)","v":"20:42:00"}]
[{"$f":"IF(P_21号様式!C27=\"\",\"\",P_21号様式!C27)","v":"十島村"},null,{"$f":"IF(P_21号様式!D27=\"\",\"\",P_21号様式!D27)","v":""},{"$f":"IF(P_21号様式!E27<> \"\",TEXT(INT(P_21号様式!E27),\"#,##0\"),\"\")","v":"452"},{"$f":"IF(P_21号様式!E27= \"\",\"\",IF(VALUE(FIXED(P_21号様式!E27,0,TRUE))<>P_21号様式!E27,RIGHT(FIXED(P_21号様式!E27,3,FALSE),4),\"\"))","v":""},{"$f":"IF(P_21号様式!F27<> \"\",TEXT(INT(P_21号様式!F27),\"#,##0\"),\"\")","v":"0"},{"$f":"IF(P_21号様式!F27= \"\",\"\",IF(VALUE(FIXED(P_21号様式!F27,0,TRUE))<>P_21号様式!F27,RIGHT(FIXED(P_21号様式!F27,3,FALSE),4),\"\"))","v":""},{"$f":"IF(P_21号様式!G27<> \"\",TEXT(INT(P_21号様式!G27),\"#,##0\"),\"\")","v":"0"},{"$f":"IF(P_21号様式!G27= \"\",\"\",IF(VALUE(FIXED(P_21号様式!G27,0,TRUE))<>P_21号様式!G27,RIGHT(FIXED(P_21号様式!G27,3,FALSE),4),\"\"))","v":""},{"$f":"IF(P_21号様式!H27<> \"\",TEXT(INT(P_21号様式!H27),\"#,##0\"),\"\")","v":"452"},{"$f":"IF(P_21号様式!H27= \"\",\"\",IF(VALUE(FIXED(P_21号様式!H27,0,TRUE))<>P_21号様式!H27,RIGHT(FIXED(P_21号様式!H27,3,FALSE),4),\"\"))","v":""},{"$f":"IF(P_21号様式!I27<> \"\",TEXT(INT(P_21号様式!I27),\"#,##0\"),\"\")","v":"13"},{"$f":"IF(P_21号様式!I27= \"\",\"\",IF(VALUE(FIXED(P_21号様式!I27,0,TRUE))<>P_21号様式!I27,RIGHT(FIXED(P_21号様式!I27,3,FALSE),4),\"\"))","v":""},{"$f":"IF(P_21号様式!J27<> \"\",TEXT(INT(P_21号様式!J27),\"#,##0\"),\"\")","v":"465"},{"$f":"IF(P_21号様式!J27= \"\",\"\",IF(VALUE(FIXED(P_21号様式!J27,0,TRUE))<>P_21号様式!J27,RIGHT(FIXED(P_21号様式!J27,3,FALSE),4),\"\"))","v":""},{"$f":"IF(P_21号様式!K27<> \"\",TEXT(INT(P_21号様式!K27),\"#,##0\"),\"\")","v":"0"},{"$f":"IF(P_21号様式!K27= \"\",\"\",IF(VALUE(FIXED(P_21号様式!K27,0,TRUE))<>P_21号様式!K27,RIGHT(FIXED(P_21号様式!K27,3,FALSE),4),\"\"))","v":""},{"$f":"IF(P_21号様式!L27<> \"\",TEXT(INT(P_21号様式!L27),\"#,##0\"),\"\")","v":"465"},{"$f":"IF(P_21号様式!L27= \"\",\"\",IF(VALUE(FIXED(P_21号様式!L27,0,TRUE))<>P_21号様式!L27,RIGHT(FIXED(P_21号様式!L27,3,FALSE),4),\"\"))","v":""},{"$f":"IF(P_21号様式!M27=\"\",\"\",P_21号様式!M27)","v":2.7956989247311799},null,{"$f":"IF(P_21号様式!N27=\"\",\"\",P_21号様式!N27)","v":"20:55:00"}]
[{"$f":"IF(P_21号様式!C28=\"\",\"\",P_21号様式!C28)","v":"＊（鹿児島郡）計"},null,{"$f":"IF(P_21号様式!D28=\"\",\"\",P_21号様式!D28)","v":100},{"$f":"IF(P_21号様式!E28<> \"\",TEXT(INT(P_21号様式!E28),\"#,##0\"),\"\")","v":"686"},{"$f":"IF(P_21号様式!E28= \"\",\"\",IF(VALUE(FIXED(P_21号様式!E28,0,TRUE))<>P_21号様式!E28,RIGHT(FIXED(P_21号様式!E28,3,FALSE),4),\"\"))","v":""},{"$f":"IF(P_21号様式!F28<> \"\",TEXT(INT(P_21号様式!F28),\"#,##0\"),\"\")","v":"0"},{"$f":"IF(P_21号様式!F28= \"\",\"\",IF(VALUE(FIXED(P_21号様式!F28,0,TRUE))<>P_21号様式!F28,RIGHT(FIXED(P_21号様式!F28,3,FALSE),4),\"\"))","v":""},{"$f":"IF(P_21号様式!G28<> \"\",TEXT(INT(P_21号様式!G28),\"#,##0\"),\"\")","v":"0"},{"$f":"IF(P_21号様式!G28= \"\",\"\",IF(VALUE(FIXED(P_21号様式!G28,0,TRUE))<>P_21号様式!G28,RIGHT(FIXED(P_21号様式!G28,3,FALSE),4),\"\"))","v":""},{"$f":"IF(P_21号様式!H28<> \"\",TEXT(INT(P_21号様式!H28),\"#,##0\"),\"\")","v":"686"},{"$f":"IF(P_21号様式!H28= \"\",\"\",IF(VALUE(FIXED(P_21号様式!H28,0,TRUE))<>P_21号様式!H28,RIGHT(FIXED(P_21号様式!H28,3,FALSE),4),\"\"))","v":""},{"$f":"IF(P_21号様式!I28<> \"\",TEXT(INT(P_21号様式!I28),\"#,##0\"),\"\")","v":"19"},{"$f":"IF(P_21号様式!I28= \"\",\"\",IF(VALUE(FIXED(P_21号様式!I28,0,TRUE))<>P_21号様式!I28,RIGHT(FIXED(P_21号様式!I28,3,FALSE),4),\"\"))","v":""},{"$f":"IF(P_21号様式!J28<> \"\",TEXT(INT(P_21号様式!J28),\"#,##0\"),\"\")","v":"705"},{"$f":"IF(P_21号様式!J28= \"\",\"\",IF(VALUE(FIXED(P_21号様式!J28,0,TRUE))<>P_21号様式!J28,RIGHT(FIXED(P_21号様式!J28,3,FALSE),4),\"\"))","v":""},{"$f":"IF(P_21号様式!K28<> \"\",TEXT(INT(P_21号様式!K28),\"#,##0\"),\"\")","v":"0"},{"$f":"IF(P_21号様式!K28= \"\",\"\",IF(VALUE(FIXED(P_21号様式!K28,0,TRUE))<>P_21号様式!K28,RIGHT(FIXED(P_21号様式!K28,3,FALSE),4),\"\"))","v":""},{"$f":"IF(P_21号様式!L28<> \"\",TEXT(INT(P_21号様式!L28),\"#,##0\"),\"\")","v":"705"},{"$f":"IF(P_21号様式!L28= \"\",\"\",IF(VALUE(FIXED(P_21号様式!L28,0,TRUE))<>P_21号様式!L28,RIGHT(FIXED(P_21号様式!L28,3,FALSE),4),\"\"))","v":""},{"$f":"IF(P_21号様式!M28=\"\",\"\",P_21号様式!M28)","v":2.6950354609929099},null,{"$f":"IF(P_21号様式!N28=\"\",\"\",P_21号様式!N28)","v":"20:55:00"}]
[{"$f":"IF(P_21号様式!C29=\"\",\"\",P_21号様式!C29)","v":"さつま町"},null,{"$f":"IF(P_21号様式!D29=\"\",\"\",P_21号様式!D29)","v":""},{"$f":"IF(P_21号様式!E29<> \"\",TEXT(INT(P_21号様式!E29),\"#,##0\"),\"\")","v":"12,066"},{"$f":"IF(P_21号様式!E29= \"\",\"\",IF(VALUE(FIXED(P_21号様式!E29,0,TRUE))<>P_21号様式!E29,RIGHT(FIXED(P_21号様式!E29,3,FALSE),4),\"\"))","v":""},{"$f":"IF(P_21号様式!F29<> \"\",TEXT(INT(P_21号様式!F29),\"#,##0\"),\"\")","v":"0"},{"$f":"IF(P_21号様式!F29= \"\",\"\",IF(VALUE(FIXED(P_21号様式!F29,0,TRUE))<>P_21号様式!F29,RIGHT(FIXED(P_21号様式!F29,3,FALSE),4),\"\"))","v":""},{"$f":"IF(P_21号様式!G29<> \"\",TEXT(INT(P_21号様式!G29),\"#,##0\"),\"\")","v":"0"},{"$f":"IF(P_21号様式!G29= \"\",\"\",IF(VALUE(FIXED(P_21号様式!G29,0,TRUE))<>P_21号様式!G29,RIGHT(FIXED(P_21号様式!G29,3,FALSE),4),\"\"))","v":""},{"$f":"IF(P_21号様式!H29<> \"\",TEXT(INT(P_21号様式!H29),\"#,##0\"),\"\")","v":"12,066"},{"$f":"IF(P_21号様式!H29= \"\",\"\",IF(VALUE(FIXED(P_21号様式!H29,0,TRUE))<>P_21号様式!H29,RIGHT(FIXED(P_21号様式!H29,3,FALSE),4),\"\"))","v":""},{"$f":"IF(P_21号様式!I29<> \"\",TEXT(INT(P_21号様式!I29),\"#,##0\"),\"\")","v":"260"},{"$f":"IF(P_21号様式!I29= \"\",\"\",IF(VALUE(FIXED(P_21号様式!I29,0,TRUE))<>P_21号様式!I29,RIGHT(FIXED(P_21号様式!I29,3,FALSE),4),\"\"))","v":""},{"$f":"IF(P_21号様式!J29<> \"\",TEXT(INT(P_21号様式!J29),\"#,##0\"),\"\")","v":"12,326"},{"$f":"IF(P_21号様式!J29= \"\",\"\",IF(VALUE(FIXED(P_21号様式!J29,0,TRUE))<>P_21号様式!J29,RIGHT(FIXED(P_21号様式!J29,3,FALSE),4),\"\"))","v":""},{"$f":"IF(P_21号様式!K29<> \"\",TEXT(INT(P_21号様式!K29),\"#,##0\"),\"\")","v":"0"},{"$f":"IF(P_21号様式!K29= \"\",\"\",IF(VALUE(FIXED(P_21号様式!K29,0,TRUE))<>P_21号様式!K29,RIGHT(FIXED(P_21号様式!K29,3,FALSE),4),\"\"))","v":""},{"$f":"IF(P_21号様式!L29<> \"\",TEXT(INT(P_21号様式!L29),\"#,##0\"),\"\")","v":"12,326"},{"$f":"IF(P_21号様式!L29= \"\",\"\",IF(VALUE(FIXED(P_21号様式!L29,0,TRUE))<>P_21号様式!L29,RIGHT(FIXED(P_21号様式!L29,3,FALSE),4),\"\"))","v":""},{"$f":"IF(P_21号様式!M29=\"\",\"\",P_21号様式!M29)","v":2.10936232354373},null,{"$f":"IF(P_21号様式!N29=\"\",\"\",P_21号様式!N29)","v":"23:08:00"}]
[{"$f":"IF(P_21号様式!C30=\"\",\"\",P_21号様式!C30)","v":"＊（薩摩郡）計"},null,{"$f":"IF(P_21号様式!D30=\"\",\"\",P_21号様式!D30)","v":100},{"$f":"IF(P_21号様式!E30<> \"\",TEXT(INT(P_21号様式!E30),\"#,##0\"),\"\")","v":"12,066"},{"$f":"IF(P_21号様式!E30= \"\",\"\",IF(VALUE(FIXED(P_21号様式!E30,0,TRUE))<>P_21号様式!E30,RIGHT(FIXED(P_21号様式!E30,3,FALSE),4),\"\"))","v":""},{"$f":"IF(P_21号様式!F30<> \"\",TEXT(INT(P_21号様式!F30),\"#,##0\"),\"\")","v":"0"},{"$f":"IF(P_21号様式!F30= \"\",\"\",IF(VALUE(FIXED(P_21号様式!F30,0,TRUE))<>P_21号様式!F30,RIGHT(FIXED(P_21号様式!F30,3,FALSE),4),\"\"))","v":""},{"$f":"IF(P_21号様式!G30<> \"\",TEXT(INT(P_21号様式!G30),\"#,##0\"),\"\")","v":"0"},{"$f":"IF(P_21号様式!G30= \"\",\"\",IF(VALUE(FIXED(P_21号様式!G30,0,TRUE))<>P_21号様式!G30,RIGHT(FIXED(P_21号様式!G30,3,FALSE),4),\"\"))","v":""},{"$f":"IF(P_21号様式!H30<> \"\",TEXT(INT(P_21号様式!H30),\"#,##0\"),\"\")","v":"12,066"},{"$f":"IF(P_21号様式!H30= \"\",\"\",IF(VALUE(FIXED(P_21号様式!H30,0,TRUE))<>P_21号様式!H30,RIGHT(FIXED(P_21号様式!H30,3,FALSE),4),\"\"))","v":""},{"$f":"IF(P_21号様式!I30<> \"\",TEXT(INT(P_21号様式!I30),\"#,##0\"),\"\")","v":"260"},{"$f":"IF(P_21号様式!I30= \"\",\"\",IF(VALUE(FIXED(P_21号様式!I30,0,TRUE))<>P_21号様式!I30,RIGHT(FIXED(P_21号様式!I30,3,FALSE),4),\"\"))","v":""},{"$f":"IF(P_21号様式!J30<> \"\",TEXT(INT(P_21号様式!J30),\"#,##0\"),\"\")","v":"12,326"},{"$f":"IF(P_21号様式!J30= \"\",\"\",IF(VALUE(FIXED(P_21号様式!J30,0,TRUE))<>P_21号様式!J30,RIGHT(FIXED(P_21号様式!J30,3,FALSE),4),\"\"))","v":""},{"$f":"IF(P_21号様式!K30<> \"\",TEXT(INT(P_21号様式!K30),\"#,##0\"),\"\")","v":"0"},{"$f":"IF(P_21号様式!K30= \"\",\"\",IF(VALUE(FIXED(P_21号様式!K30,0,TRUE))<>P_21号様式!K30,RIGHT(FIXED(P_21号様式!K30,3,FALSE),4),\"\"))","v":""},{"$f":"IF(P_21号様式!L30<> \"\",TEXT(INT(P_21号様式!L30),\"#,##0\"),\"\")","v":"12,326"},{"$f":"IF(P_21号様式!L30= \"\",\"\",IF(VALUE(FIXED(P_21号様式!L30,0,TRUE))<>P_21号様式!L30,RIGHT(FIXED(P_21号様式!L30,3,FALSE),4),\"\"))","v":""},{"$f":"IF(P_21号様式!M30=\"\",\"\",P_21号様式!M30)","v":2.10936232354373},null,{"$f":"IF(P_21号様式!N30=\"\",\"\",P_21号様式!N30)","v":"23:08:00"}]
[{"$f":"IF(P_21号様式!C31=\"\",\"\",P_21号様式!C31)","v":"長島町"},null,{"$f":"IF(P_21号様式!D31=\"\",\"\",P_21号様式!D31)","v":""},{"$f":"IF(P_21号様式!E31<> \"\",TEXT(INT(P_21号様式!E31),\"#,##0\"),\"\")","v":"6,347"},{"$f":"IF(P_21号様式!E31= \"\",\"\",IF(VALUE(FIXED(P_21号様式!E31,0,TRUE))<>P_21号様式!E31,RIGHT(FIXED(P_21号様式!E31,3,FALSE),4),\"\"))","v":""},{"$f":"IF(P_21号様式!F31<> \"\",TEXT(INT(P_21号様式!F31),\"#,##0\"),\"\")","v":"0"},{"$f":"IF(P_21号様式!F31= \"\",\"\",IF(VALUE(FIXED(P_21号様式!F31,0,TRUE))<>P_21号様式!F31,RIGHT(FIXED(P_21号様式!F31,3,FALSE),4),\"\"))","v":""},{"$f":"IF(P_21号様式!G31<> \"\",TEXT(INT(P_21号様式!G31),\"#,##0\"),\"\")","v":"0"},{"$f":"IF(P_21号様式!G31= \"\",\"\",IF(VALUE(FIXED(P_21号様式!G31,0,TRUE))<>P_21号様式!G31,RIGHT(FIXED(P_21号様式!G31,3,FALSE),4),\"\"))","v":""},{"$f":"IF(P_21号様式!H31<> \"\",TEXT(INT(P_21号様式!H31),\"#,##0\"),\"\")","v":"6,347"},{"$f":"IF(P_21号様式!H31= \"\",\"\",IF(VALUE(FIXED(P_21号様式!H31,0,TRUE))<>P_21号様式!H31,RIGHT(FIXED(P_21号様式!H31,3,FALSE),4),\"\"))","v":""},{"$f":"IF(P_21号様式!I31<> \"\",TEXT(INT(P_21号様式!I31),\"#,##0\"),\"\")","v":"187"},{"$f":"IF(P_21号様式!I31= \"\",\"\",IF(VALUE(FIXED(P_21号様式!I31,0,TRUE))<>P_21号様式!I31,RIGHT(FIXED(P_21号様式!I31,3,FALSE),4),\"\"))","v":""},{"$f":"IF(P_21号様式!J31<> \"\",TEXT(INT(P_21号様式!J31),\"#,##0\"),\"\")","v":"6,534"},{"$f":"IF(P_21号様式!J31= \"\",\"\",IF(VALUE(FIXED(P_21号様式!J31,0,TRUE))<>P_21号様式!J31,RIGHT(FIXED(P_21号様式!J31,3,FALSE),4),\"\"))","v":""},{"$f":"IF(P_21号様式!K31<> \"\",TEXT(INT(P_21号様式!K31),\"#,##0\"),\"\")","v":"0"},{"$f":"IF(P_21号様式!K31= \"\",\"\",IF(VALUE(FIXED(P_21号様式!K31,0,TRUE))<>P_21号様式!K31,RIGHT(FIXED(P_21号様式!K31,3,FALSE),4),\"\"))","v":""},{"$f":"IF(P_21号様式!L31<> \"\",TEXT(INT(P_21号様式!L31),\"#,##0\"),\"\")","v":"6,534"},{"$f":"IF(P_21号様式!L31= \"\",\"\",IF(VALUE(FIXED(P_21号様式!L31,0,TRUE))<>P_21号様式!L31,RIGHT(FIXED(P_21号様式!L31,3,FALSE),4),\"\"))","v":""},{"$f":"IF(P_21号様式!M31=\"\",\"\",P_21号様式!M31)","v":2.8619528619528598},null,{"$f":"IF(P_21号様式!N31=\"\",\"\",P_21号様式!N31)","v":"22:37:00"}]
[{"$f":"IF(P_21号様式!C32=\"\",\"\",P_21号様式!C32)","v":"＊（出水郡）計"},null,{"$f":"IF(P_21号様式!D32=\"\",\"\",P_21号様式!D32)","v":100},{"$f":"IF(P_21号様式!E32<> \"\",TEXT(INT(P_21号様式!E32),\"#,##0\"),\"\")","v":"6,347"},{"$f":"IF(P_21号様式!E32= \"\",\"\",IF(VALUE(FIXED(P_21号様式!E32,0,TRUE))<>P_21号様式!E32,RIGHT(FIXED(P_21号様式!E32,3,FALSE),4),\"\"))","v":""},{"$f":"IF(P_21号様式!F32<> \"\",TEXT(INT(P_21号様式!F32),\"#,##0\"),\"\")","v":"0"},{"$f":"IF(P_21号様式!F32= \"\",\"\",IF(VALUE(FIXED(P_21号様式!F32,0,TRUE))<>P_21号様式!F32,RIGHT(FIXED(P_21号様式!F32,3,FALSE),4),\"\"))","v":""},{"$f":"IF(P_21号様式!G32<> \"\",TEXT(INT(P_21号様式!G32),\"#,##0\"),\"\")","v":"0"},{"$f":"IF(P_21号様式!G32= \"\",\"\",IF(VALUE(FIXED(P_21号様式!G32,0,TRUE))<>P_21号様式!G32,RIGHT(FIXED(P_21号様式!G32,3,FALSE),4),\"\"))","v":""},{"$f":"IF(P_21号様式!H32<> \"\",TEXT(INT(P_21号様式!H32),\"#,##0\"),\"\")","v":"6,347"},{"$f":"IF(P_21号様式!H32= \"\",\"\",IF(VALUE(FIXED(P_21号様式!H32,0,TRUE))<>P_21号様式!H32,RIGHT(FIXED(P_21号様式!H32,3,FALSE),4),\"\"))","v":""},{"$f":"IF(P_21号様式!I32<> \"\",TEXT(INT(P_21号様式!I32),\"#,##0\"),\"\")","v":"187"},{"$f":"IF(P_21号様式!I32= \"\",\"\",IF(VALUE(FIXED(P_21号様式!I32,0,TRUE))<>P_21号様式!I32,RIGHT(FIXED(P_21号様式!I32,3,FALSE),4),\"\"))","v":""},{"$f":"IF(P_21号様式!J32<> \"\",TEXT(INT(P_21号様式!J32),\"#,##0\"),\"\")","v":"6,534"},{"$f":"IF(P_21号様式!J32= \"\",\"\",IF(VALUE(FIXED(P_21号様式!J32,0,TRUE))<>P_21号様式!J32,RIGHT(FIXED(P_21号様式!J32,3,FALSE),4),\"\"))","v":""},{"$f":"IF(P_21号様式!K32<> \"\",TEXT(INT(P_21号様式!K32),\"#,##0\"),\"\")","v":"0"},{"$f":"IF(P_21号様式!K32= \"\",\"\",IF(VALUE(FIXED(P_21号様式!K32,0,TRUE))<>P_21号様式!K32,RIGHT(FIXED(P_21号様式!K32,3,FALSE),4),\"\"))","v":""},{"$f":"IF(P_21号様式!L32<> \"\",TEXT(INT(P_21号様式!L32),\"#,##0\"),\"\")","v":"6,534"},{"$f":"IF(P_21号様式!L32= \"\",\"\",IF(VALUE(FIXED(P_21号様式!L32,0,TRUE))<>P_21号様式!L32,RIGHT(FIXED(P_21号様式!L32,3,FALSE),4),\"\"))","v":""},{"$f":"IF(P_21号様式!M32=\"\",\"\",P_21号様式!M32)","v":2.8619528619528598},null,{"$f":"IF(P_21号様式!N32=\"\",\"\",P_21号様式!N32)","v":"22:37:00"}]
[{"$f":"IF(P_21号様式!C33=\"\",\"\",P_21号様式!C33)","v":"湧水町"},null,{"$f":"IF(P_21号様式!D33=\"\",\"\",P_21号様式!D33)","v":""},{"$f":"IF(P_21号様式!E33<> \"\",TEXT(INT(P_21号様式!E33),\"#,##0\"),\"\")","v":"5,279"},{"$f":"IF(P_21号様式!E33= \"\",\"\",IF(VALUE(FIXED(P_21号様式!E33,0,TRUE))<>P_21号様式!E33,RIGHT(FIXED(P_21号様式!E33,3,FALSE),4),\"\"))","v":""},{"$f":"IF(P_21号様式!F33<> \"\",TEXT(INT(P_21号様式!F33),\"#,##0\"),\"\")","v":"0"},{"$f":"IF(P_21号様式!F33= \"\",\"\",IF(VALUE(FIXED(P_21号様式!F33,0,TRUE))<>P_21号様式!F33,RIGHT(FIXED(P_21号様式!F33,3,FALSE),4),\"\"))","v":""},{"$f":"IF(P_21号様式!G33<> \"\",TEXT(INT(P_21号様式!G33),\"#,##0\"),\"\")","v":"0"},{"$f":"IF(P_21号様式!G33= \"\",\"\",IF(VALUE(FIXED(P_21号様式!G33,0,TRUE))<>P_21号様式!G33,RIGHT(FIXED(P_21号様式!G33,3,FALSE),4),\"\"))","v":""},{"$f":"IF(P_21号様式!H33<> \"\",TEXT(INT(P_21号様式!H33),\"#,##0\"),\"\")","v":"5,279"},{"$f":"IF(P_21号様式!H33= \"\",\"\",IF(VALUE(FIXED(P_21号様式!H33,0,TRUE))<>P_21号様式!H33,RIGHT(FIXED(P_21号様式!H33,3,FALSE),4),\"\"))","v":""},{"$f":"IF(P_21号様式!I33<> \"\",TEXT(INT(P_21号様式!I33),\"#,##0\"),\"\")","v":"108"},{"$f":"IF(P_21号様式!I33= \"\",\"\",IF(VALUE(FIXED(P_21号様式!I33,0,TRUE))<>P_21号様式!I33,RIGHT(FIXED(P_21号様式!I33,3,FALSE),4),\"\"))","v":""},{"$f":"IF(P_21号様式!J33<> \"\",TEXT(INT(P_21号様式!J33),\"#,##0\"),\"\")","v":"5,387"},{"$f":"IF(P_21号様式!J33= \"\",\"\",IF(VALUE(FIXED(P_21号様式!J33,0,TRUE))<>P_21号様式!J33,RIGHT(FIXED(P_21号様式!J33,3,FALSE),4),\"\"))","v":""},{"$f":"IF(P_21号様式!K33<> \"\",TEXT(INT(P_21号様式!K33),\"#,##0\"),\"\")","v":"0"},{"$f":"IF(P_21号様式!K33= \"\",\"\",IF(VALUE(FIXED(P_21号様式!K33,0,TRUE))<>P_21号様式!K33,RIGHT(FIXED(P_21号様式!K33,3,FALSE),4),\"\"))","v":""},{"$f":"IF(P_21号様式!L33<> \"\",TEXT(INT(P_21号様式!L33),\"#,##0\"),\"\")","v":"5,387"},{"$f":"IF(P_21号様式!L33= \"\",\"\",IF(VALUE(FIXED(P_21号様式!L33,0,TRUE))<>P_21号様式!L33,RIGHT(FIXED(P_21号様式!L33,3,FALSE),4),\"\"))","v":""},{"$f":"IF(P_21号様式!M33=\"\",\"\",P_21号様式!M33)","v":2.0048264340077999},null,{"$f":"IF(P_21号様式!N33=\"\",\"\",P_21号様式!N33)","v":"22:22:00"}]
[{"$f":"IF(P_21号様式!C34=\"\",\"\",P_21号様式!C34)","v":"＊（姶良郡）計"},null,{"$f":"IF(P_21号様式!D34=\"\",\"\",P_21号様式!D34)","v":100},{"$f":"IF(P_21号様式!E34<> \"\",TEXT(INT(P_21号様式!E34),\"#,##0\"),\"\")","v":"5,279"},{"$f":"IF(P_21号様式!E34= \"\",\"\",IF(VALUE(FIXED(P_21号様式!E34,0,TRUE))<>P_21号様式!E34,RIGHT(FIXED(P_21号様式!E34,3,FALSE),4),\"\"))","v":""},{"$f":"IF(P_21号様式!F34<> \"\",TEXT(INT(P_21号様式!F34),\"#,##0\"),\"\")","v":"0"},{"$f":"IF(P_21号様式!F34= \"\",\"\",IF(VALUE(FIXED(P_21号様式!F34,0,TRUE))<>P_21号様式!F34,RIGHT(FIXED(P_21号様式!F34,3,FALSE),4),\"\"))","v":""},{"$f":"IF(P_21号様式!G34<> \"\",TEXT(INT(P_21号様式!G34),\"#,##0\"),\"\")","v":"0"},{"$f":"IF(P_21号様式!G34= \"\",\"\",IF(VALUE(FIXED(P_21号様式!G34,0,TRUE))<>P_21号様式!G34,RIGHT(FIXED(P_21号様式!G34,3,FALSE),4),\"\"))","v":""},{"$f":"IF(P_21号様式!H34<> \"\",TEXT(INT(P_21号様式!H34),\"#,##0\"),\"\")","v":"5,279"},{"$f":"IF(P_21号様式!H34= \"\",\"\",IF(VALUE(FIXED(P_21号様式!H34,0,TRUE))<>P_21号様式!H34,RIGHT(FIXED(P_21号様式!H34,3,FALSE),4),\"\"))","v":""},{"$f":"IF(P_21号様式!I34<> \"\",TEXT(INT(P_21号様式!I34),\"#,##0\"),\"\")","v":"108"},{"$f":"IF(P_21号様式!I34= \"\",\"\",IF(VALUE(FIXED(P_21号様式!I34,0,TRUE))<>P_21号様式!I34,RIGHT(FIXED(P_21号様式!I34,3,FALSE),4),\"\"))","v":""},{"$f":"IF(P_21号様式!J34<> \"\",TEXT(INT(P_21号様式!J34),\"#,##0\"),\"\")","v":"5,387"},{"$f":"IF(P_21号様式!J34= \"\",\"\",IF(VALUE(FIXED(P_21号様式!J34,0,TRUE))<>P_21号様式!J34,RIGHT(FIXED(P_21号様式!J34,3,FALSE),4),\"\"))","v":""},{"$f":"IF(P_21号様式!K34<> \"\",TEXT(INT(P_21号様式!K34),\"#,##0\"),\"\")","v":"0"},{"$f":"IF(P_21号様式!K34= \"\",\"\",IF(VALUE(FIXED(P_21号様式!K34,0,TRUE))<>P_21号様式!K34,RIGHT(FIXED(P_21号様式!K34,3,FALSE),4),\"\"))","v":""},{"$f":"IF(P_21号様式!L34<> \"\",TEXT(INT(P_21号様式!L34),\"#,##0\"),\"\")","v":"5,387"},{"$f":"IF(P_21号様式!L34= \"\",\"\",IF(VALUE(FIXED(P_21号様式!L34,0,TRUE))<>P_21号様式!L34,RIGHT(FIXED(P_21号様式!L34,3,FALSE),4),\"\"))","v":""},{"$f":"IF(P_21号様式!M34=\"\",\"\",P_21号様式!M34)","v":2.0048264340077999},null,{"$f":"IF(P_21号様式!N34=\"\",\"\",P_21号様式!N34)","v":"22:22:00"}]
[{"$f":"IF(P_21号様式!C35=\"\",\"\",P_21号様式!C35)","v":"大崎町"},null,{"$f":"IF(P_21号様式!D35=\"\",\"\",P_21号様式!D35)","v":""},{"$f":"IF(P_21号様式!E35<> \"\",TEXT(INT(P_21号様式!E35),\"#,##0\"),\"\")","v":"6,421"},{"$f":"IF(P_21号様式!E35= \"\",\"\",IF(VALUE(FIXED(P_21号様式!E35,0,TRUE))<>P_21号様式!E35,RIGHT(FIXED(P_21号様式!E35,3,FALSE),4),\"\"))","v":""},{"$f":"IF(P_21号様式!F35<> \"\",TEXT(INT(P_21号様式!F35),\"#,##0\"),\"\")","v":"0"},{"$f":"IF(P_21号様式!F35= \"\",\"\",IF(VALUE(FIXED(P_21号様式!F35,0,TRUE))<>P_21号様式!F35,RIGHT(FIXED(P_21号様式!F35,3,FALSE),4),\"\"))","v":""},{"$f":"IF(P_21号様式!G35<> \"\",TEXT(INT(P_21号様式!G35),\"#,##0\"),\"\")","v":"0"},{"$f":"IF(P_21号様式!G35= \"\",\"\",IF(VALUE(FIXED(P_21号様式!G35,0,TRUE))<>P_21号様式!G35,RIGHT(FIXED(P_21号様式!G35,3,FALSE),4),\"\"))","v":""},{"$f":"IF(P_21号様式!H35<> \"\",TEXT(INT(P_21号様式!H35),\"#,##0\"),\"\")","v":"6,421"},{"$f":"IF(P_21号様式!H35= \"\",\"\",IF(VALUE(FIXED(P_21号様式!H35,0,TRUE))<>P_21号様式!H35,RIGHT(FIXED(P_21号様式!H35,3,FALSE),4),\"\"))","v":""},{"$f":"IF(P_21号様式!I35<> \"\",TEXT(INT(P_21号様式!I35),\"#,##0\"),\"\")","v":"118"},{"$f":"IF(P_21号様式!I35= \"\",\"\",IF(VALUE(FIXED(P_21号様式!I35,0,TRUE))<>P_21号様式!I35,RIGHT(FIXED(P_21号様式!I35,3,FALSE),4),\"\"))","v":""},{"$f":"IF(P_21号様式!J35<> \"\",TEXT(INT(P_21号様式!J35),\"#,##0\"),\"\")","v":"6,539"},{"$f":"IF(P_21号様式!J35= \"\",\"\",IF(VALUE(FIXED(P_21号様式!J35,0,TRUE))<>P_21号様式!J35,RIGHT(FIXED(P_21号様式!J35,3,FALSE),4),\"\"))","v":""},{"$f":"IF(P_21号様式!K35<> \"\",TEXT(INT(P_21号様式!K35),\"#,##0\"),\"\")","v":"0"},{"$f":"IF(P_21号様式!K35= \"\",\"\",IF(VALUE(FIXED(P_21号様式!K35,0,TRUE))<>P_21号様式!K35,RIGHT(FIXED(P_21号様式!K35,3,FALSE),4),\"\"))","v":""},{"$f":"IF(P_21号様式!L35<> \"\",TEXT(INT(P_21号様式!L35),\"#,##0\"),\"\")","v":"6,539"},{"$f":"IF(P_21号様式!L35= \"\",\"\",IF(VALUE(FIXED(P_21号様式!L35,0,TRUE))<>P_21号様式!L35,RIGHT(FIXED(P_21号様式!L35,3,FALSE),4),\"\"))","v":""},{"$f":"IF(P_21号様式!M35=\"\",\"\",P_21号様式!M35)","v":1.8045572717540901},null,{"$f":"IF(P_21号様式!N35=\"\",\"\",P_21号様式!N35)","v":"22:48:00"}]
[{"$f":"IF(P_21号様式!C36=\"\",\"\",P_21号様式!C36)","v":"＊（曽於郡）計"},null,{"$f":"IF(P_21号様式!D36=\"\",\"\",P_21号様式!D36)","v":100},{"$f":"IF(P_21号様式!E36<> \"\",TEXT(INT(P_21号様式!E36),\"#,##0\"),\"\")","v":"6,421"},{"$f":"IF(P_21号様式!E36= \"\",\"\",IF(VALUE(FIXED(P_21号様式!E36,0,TRUE))<>P_21号様式!E36,RIGHT(FIXED(P_21号様式!E36,3,FALSE),4),\"\"))","v":""},{"$f":"IF(P_21号様式!F36<> \"\",TEXT(INT(P_21号様式!F36),\"#,##0\"),\"\")","v":"0"},{"$f":"IF(P_21号様式!F36= \"\",\"\",IF(VALUE(FIXED(P_21号様式!F36,0,TRUE))<>P_21号様式!F36,RIGHT(FIXED(P_21号様式!F36,3,FALSE),4),\"\"))","v":""},{"$f":"IF(P_21号様式!G36<> \"\",TEXT(INT(P_21号様式!G36),\"#,##0\"),\"\")","v":"0"},{"$f":"IF(P_21号様式!G36= \"\",\"\",IF(VALUE(FIXED(P_21号様式!G36,0,TRUE))<>P_21号様式!G36,RIGHT(FIXED(P_21号様式!G36,3,FALSE),4),\"\"))","v":""},{"$f":"IF(P_21号様式!H36<> \"\",TEXT(INT(P_21号様式!H36),\"#,##0\"),\"\")","v":"6,421"},{"$f":"IF(P_21号様式!H36= \"\",\"\",IF(VALUE(FIXED(P_21号様式!H36,0,TRUE))<>P_21号様式!H36,RIGHT(FIXED(P_21号様式!H36,3,FALSE),4),\"\"))","v":""},{"$f":"IF(P_21号様式!I36<> \"\",TEXT(INT(P_21号様式!I36),\"#,##0\"),\"\")","v":"118"},{"$f":"IF(P_21号様式!I36= \"\",\"\",IF(VALUE(FIXED(P_21号様式!I36,0,TRUE))<>P_21号様式!I36,RIGHT(FIXED(P_21号様式!I36,3,FALSE),4),\"\"))","v":""},{"$f":"IF(P_21号様式!J36<> \"\",TEXT(INT(P_21号様式!J36),\"#,##0\"),\"\")","v":"6,539"},{"$f":"IF(P_21号様式!J36= \"\",\"\",IF(VALUE(FIXED(P_21号様式!J36,0,TRUE))<>P_21号様式!J36,RIGHT(FIXED(P_21号様式!J36,3,FALSE),4),\"\"))","v":""},{"$f":"IF(P_21号様式!K36<> \"\",TEXT(INT(P_21号様式!K36),\"#,##0\"),\"\")","v":"0"},{"$f":"IF(P_21号様式!K36= \"\",\"\",IF(VALUE(FIXED(P_21号様式!K36,0,TRUE))<>P_21号様式!K36,RIGHT(FIXED(P_21号様式!K36,3,FALSE),4),\"\"))","v":""},{"$f":"IF(P_21号様式!L36<> \"\",TEXT(INT(P_21号様式!L36),\"#,##0\"),\"\")","v":"6,539"},{"$f":"IF(P_21号様式!L36= \"\",\"\",IF(VALUE(FIXED(P_21号様式!L36,0,TRUE))<>P_21号様式!L36,RIGHT(FIXED(P_21号様式!L36,3,FALSE),4),\"\"))","v":""},{"$f":"IF(P_21号様式!M36=\"\",\"\",P_21号様式!M36)","v":1.8045572717540901},null,{"$f":"IF(P_21号様式!N36=\"\",\"\",P_21号様式!N36)","v":"22:48:00"}]
[{"$f":"IF(P_21号様式!C37=\"\",\"\",P_21号様式!C37)","v":"東串良町"},null,{"$f":"IF(P_21号様式!D37=\"\",\"\",P_21号様式!D37)","v":""},{"$f":"IF(P_21号様式!E37<> \"\",TEXT(INT(P_21号様式!E37),\"#,##0\"),\"\")","v":"3,102"},{"$f":"IF(P_21号様式!E37= \"\",\"\",IF(VALUE(FIXED(P_21号様式!E37,0,TRUE))<>P_21号様式!E37,RIGHT(FIXED(P_21号様式!E37,3,FALSE),4),\"\"))","v":""},{"$f":"IF(P_21号様式!F37<> \"\",TEXT(INT(P_21号様式!F37),\"#,##0\"),\"\")","v":"0"},{"$f":"IF(P_21号様式!F37= \"\",\"\",IF(VALUE(FIXED(P_21号様式!F37,0,TRUE))<>P_21号様式!F37,RIGHT(FIXED(P_21号様式!F37,3,FALSE),4),\"\"))","v":""},{"$f":"IF(P_21号様式!G37<> \"\",TEXT(INT(P_21号様式!G37),\"#,##0\"),\"\")","v":"0"},{"$f":"IF(P_21号様式!G37= \"\",\"\",IF(VALUE(FIXED(P_21号様式!G37,0,TRUE))<>P_21号様式!G37,RIGHT(FIXED(P_21号様式!G37,3,FALSE),4),\"\"))","v":""},{"$f":"IF(P_21号様式!H37<> \"\",TEXT(INT(P_21号様式!H37),\"#,##0\"),\"\")","v":"3,102"},{"$f":"IF(P_21号様式!H37= \"\",\"\",IF(VALUE(FIXED(P_21号様式!H37,0,TRUE))<>P_21号様式!H37,RIGHT(FIXED(P_21号様式!H37,3,FALSE),4),\"\"))","v":""},{"$f":"IF(P_21号様式!I37<> \"\",TEXT(INT(P_21号様式!I37),\"#,##0\"),\"\")","v":"66"},{"$f":"IF(P_21号様式!I37= \"\",\"\",IF(VALUE(FIXED(P_21号様式!I37,0,TRUE))<>P_21号様式!I37,RIGHT(FIXED(P_21号様式!I37,3,FALSE),4),\"\"))","v":""},{"$f":"IF(P_21号様式!J37<> \"\",TEXT(INT(P_21号様式!J37),\"#,##0\"),\"\")","v":"3,168"},{"$f":"IF(P_21号様式!J37= \"\",\"\",IF(VALUE(FIXED(P_21号様式!J37,0,TRUE))<>P_21号様式!J37,RIGHT(FIXED(P_21号様式!J37,3,FALSE),4),\"\"))","v":""},{"$f":"IF(P_21号様式!K37<> \"\",TEXT(INT(P_21号様式!K37),\"#,##0\"),\"\")","v":"0"},{"$f":"IF(P_21号様式!K37= \"\",\"\",IF(VALUE(FIXED(P_21号様式!K37,0,TRUE))<>P_21号様式!K37,RIGHT(FIXED(P_21号様式!K37,3,FALSE),4),\"\"))","v":""},{"$f":"IF(P_21号様式!L37<> \"\",TEXT(INT(P_21号様式!L37),\"#,##0\"),\"\")","v":"3,168"},{"$f":"IF(P_21号様式!L37= \"\",\"\",IF(VALUE(FIXED(P_21号様式!L37,0,TRUE))<>P_21号様式!L37,RIGHT(FIXED(P_21号様式!L37,3,FALSE),4),\"\"))","v":""},{"$f":"IF(P_21号様式!M37=\"\",\"\",P_21号様式!M37)","v":2.0833333333333299},null,{"$f":"IF(P_21号様式!N37=\"\",\"\",P_21号様式!N37)","v":"21:19:00"}]
[{"$f":"IF(P_21号様式!C38=\"\",\"\",P_21号様式!C38)","v":"錦江町"},null,{"$f":"IF(P_21号様式!D38=\"\",\"\",P_21号様式!D38)","v":""},{"$f":"IF(P_21号様式!E38<> \"\",TEXT(INT(P_21号様式!E38),\"#,##0\"),\"\")","v":"4,173"},{"$f":"IF(P_21号様式!E38= \"\",\"\",IF(VALUE(FIXED(P_21号様式!E38,0,TRUE))<>P_21号様式!E38,RIGHT(FIXED(P_21号様式!E38,3,FALSE),4),\"\"))","v":""},{"$f":"IF(P_21号様式!F38<> \"\",TEXT(INT(P_21号様式!F38),\"#,##0\"),\"\")","v":"0"},{"$f":"IF(P_21号様式!F38= \"\",\"\",IF(VALUE(FIXED(P_21号様式!F38,0,TRUE))<>P_21号様式!F38,RIGHT(FIXED(P_21号様式!F38,3,FALSE),4),\"\"))","v":""},{"$f":"IF(P_21号様式!G38<> \"\",TEXT(INT(P_21号様式!G38),\"#,##0\"),\"\")","v":"0"},{"$f":"IF(P_21号様式!G38= \"\",\"\",IF(VALUE(FIXED(P_21号様式!G38,0,TRUE))<>P_21号様式!G38,RIGHT(FIXED(P_21号様式!G38,3,FALSE),4),\"\"))","v":""},{"$f":"IF(P_21号様式!H38<> \"\",TEXT(INT(P_21号様式!H38),\"#,##0\"),\"\")","v":"4,173"},{"$f":"IF(P_21号様式!H38= \"\",\"\",IF(VALUE(FIXED(P_21号様式!H38,0,TRUE))<>P_21号様式!H38,RIGHT(FIXED(P_21号様式!H38,3,FALSE),4),\"\"))","v":""},{"$f":"IF(P_21号様式!I38<> \"\",TEXT(INT(P_21号様式!I38),\"#,##0\"),\"\")","v":"176"},{"$f":"IF(P_21号様式!I38= \"\",\"\",IF(VALUE(FIXED(P_21号様式!I38,0,TRUE))<>P_21号様式!I38,RIGHT(FIXED(P_21号様式!I38,3,FALSE),4),\"\"))","v":""},{"$f":"IF(P_21号様式!J38<> \"\",TEXT(INT(P_21号様式!J38),\"#,##0\"),\"\")","v":"4,349"},{"$f":"IF(P_21号様式!J38= \"\",\"\",IF(VALUE(FIXED(P_21号様式!J38,0,TRUE))<>P_21号様式!J38,RIGHT(FIXED(P_21号様式!J38,3,FALSE),4),\"\"))","v":""},{"$f":"IF(P_21号様式!K38<> \"\",TEXT(INT(P_21号様式!K38),\"#,##0\"),\"\")","v":"0"},{"$f":"IF(P_21号様式!K38= \"\",\"\",IF(VALUE(FIXED(P_21号様式!K38,0,TRUE))<>P_21号様式!K38,RIGHT(FIXED(P_21号様式!K38,3,FALSE),4),\"\"))","v":""},{"$f":"IF(P_21号様式!L38<> \"\",TEXT(INT(P_21号様式!L38),\"#,##0\"),\"\")","v":"4,349"},{"$f":"IF(P_21号様式!L38= \"\",\"\",IF(VALUE(FIXED(P_21号様式!L38,0,TRUE))<>P_21号様式!L38,RIGHT(FIXED(P_21号様式!L38,3,FALSE),4),\"\"))","v":""},{"$f":"IF(P_21号様式!M38=\"\",\"\",P_21号様式!M38)","v":4.0469073350195499},null,{"$f":"IF(P_21号様式!N38=\"\",\"\",P_21号様式!N38)","v":"21:54:00"}]
[{"$f":"IF(P_21号様式!C39=\"\",\"\",P_21号様式!C39)","v":"南大隅町"},null,{"$f":"IF(P_21号様式!D39=\"\",\"\",P_21号様式!D39)","v":""},{"$f":"IF(P_21号様式!E39<> \"\",TEXT(INT(P_21号様式!E39),\"#,##0\"),\"\")","v":"4,244"},{"$f":"IF(P_21号様式!E39= \"\",\"\",IF(VALUE(FIXED(P_21号様式!E39,0,TRUE))<>P_21号様式!E39,RIGHT(FIXED(P_21号様式!E39,3,FALSE),4),\"\"))","v":""},{"$f":"IF(P_21号様式!F39<> \"\",TEXT(INT(P_21号様式!F39),\"#,##0\"),\"\")","v":"0"},{"$f":"IF(P_21号様式!F39= \"\",\"\",IF(VALUE(FIXED(P_21号様式!F39,0,TRUE))<>P_21号様式!F39,RIGHT(FIXED(P_21号様式!F39,3,FALSE),4),\"\"))","v":""},{"$f":"IF(P_21号様式!G39<> \"\",TEXT(INT(P_21号様式!G39),\"#,##0\"),\"\")","v":"0"},{"$f":"IF(P_21号様式!G39= \"\",\"\",IF(VALUE(FIXED(P_21号様式!G39,0,TRUE))<>P_21号様式!G39,RIGHT(FIXED(P_21号様式!G39,3,FALSE),4),\"\"))","v":""},{"$f":"IF(P_21号様式!H39<> \"\",TEXT(INT(P_21号様式!H39),\"#,##0\"),\"\")","v":"4,244"},{"$f":"IF(P_21号様式!H39= \"\",\"\",IF(VALUE(FIXED(P_21号様式!H39,0,TRUE))<>P_21号様式!H39,RIGHT(FIXED(P_21号様式!H39,3,FALSE),4),\"\"))","v":""},{"$f":"IF(P_21号様式!I39<> \"\",TEXT(INT(P_21号様式!I39),\"#,##0\"),\"\")","v":"188"},{"$f":"IF(P_21号様式!I39= \"\",\"\",IF(VALUE(FIXED(P_21号様式!I39,0,TRUE))<>P_21号様式!I39,RIGHT(FIXED(P_21号様式!I39,3,FALSE),4),\"\"))","v":""},{"$f":"IF(P_21号様式!J39<> \"\",TEXT(INT(P_21号様式!J39),\"#,##0\"),\"\")","v":"4,432"},{"$f":"IF(P_21号様式!J39= \"\",\"\",IF(VALUE(FIXED(P_21号様式!J39,0,TRUE))<>P_21号様式!J39,RIGHT(FIXED(P_21号様式!J39,3,FALSE),4),\"\"))","v":""},{"$f":"IF(P_21号様式!K39<> \"\",TEXT(INT(P_21号様式!K39),\"#,##0\"),\"\")","v":"0"},{"$f":"IF(P_21号様式!K39= \"\",\"\",IF(VALUE(FIXED(P_21号様式!K39,0,TRUE))<>P_21号様式!K39,RIGHT(FIXED(P_21号様式!K39,3,FALSE),4),\"\"))","v":""},{"$f":"IF(P_21号様式!L39<> \"\",TEXT(INT(P_21号様式!L39),\"#,##0\"),\"\")","v":"4,432"},{"$f":"IF(P_21号様式!L39= \"\",\"\",IF(VALUE(FIXED(P_21号様式!L39,0,TRUE))<>P_21号様式!L39,RIGHT(FIXED(P_21号様式!L39,3,FALSE),4),\"\"))","v":""},{"$f":"IF(P_21号様式!M39=\"\",\"\",P_21号様式!M39)","v":4.2418772563176903},null,{"$f":"IF(P_21号様式!N39=\"\",\"\",P_21号様式!N39)","v":"22:00:00"}]
[{"$f":"IF(P_21号様式!C40=\"\",\"\",P_21号様式!C40)","v":"肝付町"},null,{"$f":"IF(P_21号様式!D40=\"\",\"\",P_21号様式!D40)","v":""},{"$f":"IF(P_21号様式!E40<> \"\",TEXT(INT(P_21号様式!E40),\"#,##0\"),\"\")","v":"7,416"},{"$f":"IF(P_21号様式!E40= \"\",\"\",IF(VALUE(FIXED(P_21号様式!E40,0,TRUE))<>P_21号様式!E40,RIGHT(FIXED(P_21号様式!E40,3,FALSE),4),\"\"))","v":""},{"$f":"IF(P_21号様式!F40<> \"\",TEXT(INT(P_21号様式!F40),\"#,##0\"),\"\")","v":"0"},{"$f":"IF(P_21号様式!F40= \"\",\"\",IF(VALUE(FIXED(P_21号様式!F40,0,TRUE))<>P_21号様式!F40,RIGHT(FIXED(P_21号様式!F40,3,FALSE),4),\"\"))","v":""},{"$f":"IF(P_21号様式!G40<> \"\",TEXT(INT(P_21号様式!G40),\"#,##0\"),\"\")","v":"0"},{"$f":"IF(P_21号様式!G40= \"\",\"\",IF(VALUE(FIXED(P_21号様式!G40,0,TRUE))<>P_21号様式!G40,RIGHT(FIXED(P_21号様式!G40,3,FALSE),4),\"\"))","v":""},{"$f":"IF(P_21号様式!H40<> \"\",TEXT(INT(P_21号様式!H40),\"#,##0\"),\"\")","v":"7,416"},{"$f":"IF(P_21号様式!H40= \"\",\"\",IF(VALUE(FIXED(P_21号様式!H40,0,TRUE))<>P_21号様式!H40,RIGHT(FIXED(P_21号様式!H40,3,FALSE),4),\"\"))","v":""},{"$f":"IF(P_21号様式!I40<> \"\",TEXT(INT(P_21号様式!I40),\"#,##0\"),\"\")","v":"191"},{"$f":"IF(P_21号様式!I40= \"\",\"\",IF(VALUE(FIXED(P_21号様式!I40,0,TRUE))<>P_21号様式!I40,RIGHT(FIXED(P_21号様式!I40,3,FALSE),4),\"\"))","v":""},{"$f":"IF(P_21号様式!J40<> \"\",TEXT(INT(P_21号様式!J40),\"#,##0\"),\"\")","v":"7,607"},{"$f":"IF(P_21号様式!J40= \"\",\"\",IF(VALUE(FIXED(P_21号様式!J40,0,TRUE))<>P_21号様式!J40,RIGHT(FIXED(P_21号様式!J40,3,FALSE),4),\"\"))","v":""},{"$f":"IF(P_21号様式!K40<> \"\",TEXT(INT(P_21号様式!K40),\"#,##0\"),\"\")","v":"0"},{"$f":"IF(P_21号様式!K40= \"\",\"\",IF(VALUE(FIXED(P_21号様式!K40,0,TRUE))<>P_21号様式!K40,RIGHT(FIXED(P_21号様式!K40,3,FALSE),4),\"\"))","v":""},{"$f":"IF(P_21号様式!L40<> \"\",TEXT(INT(P_21号様式!L40),\"#,##0\"),\"\")","v":"7,607"},{"$f":"IF(P_21号様式!L40= \"\",\"\",IF(VALUE(FIXED(P_21号様式!L40,0,TRUE))<>P_21号様式!L40,RIGHT(FIXED(P_21号様式!L40,3,FALSE),4),\"\"))","v":""},{"$f":"IF(P_21号様式!M40=\"\",\"\",P_21号様式!M40)","v":2.5108452740896499},null,{"$f":"IF(P_21号様式!N40=\"\",\"\",P_21号様式!N40)","v":"22:35:00"}]
[{"$f":"IF(P_21号様式!C41=\"\",\"\",P_21号様式!C41)","v":"＊（肝属郡）計"},null,{"$f":"IF(P_21号様式!D41=\"\",\"\",P_21号様式!D41)","v":100},{"$f":"IF(P_21号様式!E41<> \"\",TEXT(INT(P_21号様式!E41),\"#,##0\"),\"\")","v":"18,935"},{"$f":"IF(P_21号様式!E41= \"\",\"\",IF(VALUE(FIXED(P_21号様式!E41,0,TRUE))<>P_21号様式!E41,RIGHT(FIXED(P_21号様式!E41,3,FALSE),4),\"\"))","v":""},{"$f":"IF(P_21号様式!F41<> \"\",TEXT(INT(P_21号様式!F41),\"#,##0\"),\"\")","v":"0"},{"$f":"IF(P_21号様式!F41= \"\",\"\",IF(VALUE(FIXED(P_21号様式!F41,0,TRUE))<>P_21号様式!F41,RIGHT(FIXED(P_21号様式!F41,3,FALSE),4),\"\"))","v":""},{"$f":"IF(P_21号様式!G41<> \"\",TEXT(INT(P_21号様式!G41),\"#,##0\"),\"\")","v":"0"},{"$f":"IF(P_21号様式!G41= \"\",\"\",IF(VALUE(FIXED(P_21号様式!G41,0,TRUE))<>P_21号様式!G41,RIGHT(FIXED(P_21号様式!G41,3,FALSE),4),\"\"))","v":""},{"$f":"IF(P_21号様式!H41<> \"\",TEXT(INT(P_21号様式!H41),\"#,##0\"),\"\")","v":"18,935"},{"$f":"IF(P_21号様式!H41= \"\",\"\",IF(VALUE(FIXED(P_21号様式!H41,0,TRUE))<>P_21号様式!H41,RIGHT(FIXED(P_21号様式!H41,3,FALSE),4),\"\"))","v":""},{"$f":"IF(P_21号様式!I41<> \"\",TEXT(INT(P_21号様式!I41),\"#,##0\"),\"\")","v":"621"},{"$f":"IF(P_21号様式!I41= \"\",\"\",IF(VALUE(FIXED(P_21号様式!I41,0,TRUE))<>P_21号様式!I41,RIGHT(FIXED(P_21号様式!I41,3,FALSE),4),\"\"))","v":""},{"$f":"IF(P_21号様式!J41<> \"\",TEXT(INT(P_21号様式!J41),\"#,##0\"),\"\")","v":"19,556"},{"$f":"IF(P_21号様式!J41= \"\",\"\",IF(VALUE(FIXED(P_21号様式!J41,0,TRUE))<>P_21号様式!J41,RIGHT(FIXED(P_21号様式!J41,3,FALSE),4),\"\"))","v":""},{"$f":"IF(P_21号様式!K41<> \"\",TEXT(INT(P_21号様式!K41),\"#,##0\"),\"\")","v":"0"},{"$f":"IF(P_21号様式!K41= \"\",\"\",IF(VALUE(FIXED(P_21号様式!K41,0,TRUE))<>P_21号様式!K41,RIGHT(FIXED(P_21号様式!K41,3,FALSE),4),\"\"))","v":""},{"$f":"IF(P_21号様式!L41<> \"\",TEXT(INT(P_21号様式!L41),\"#,##0\"),\"\")","v":"19,556"},{"$f":"IF(P_21号様式!L41= \"\",\"\",IF(VALUE(FIXED(P_21号様式!L41,0,TRUE))<>P_21号様式!L41,RIGHT(FIXED(P_21号様式!L41,3,FALSE),4),\"\"))","v":""},{"$f":"IF(P_21号様式!M41=\"\",\"\",P_21号様式!M41)","v":3.1754960114542898},null,{"$f":"IF(P_21号様式!N41=\"\",\"\",P_21号様式!N41)","v":"22:35:00"}]
[{"$f":"IF(P_21号様式!C42=\"\",\"\",P_21号様式!C42)","v":"中種子町"},null,{"$f":"IF(P_21号様式!D42=\"\",\"\",P_21号様式!D42)","v":""},{"$f":"IF(P_21号様式!E42<> \"\",TEXT(INT(P_21号様式!E42),\"#,##0\"),\"\")","v":"4,242"},{"$f":"IF(P_21号様式!E42= \"\",\"\",IF(VALUE(FIXED(P_21号様式!E42,0,TRUE))<>P_21号様式!E42,RIGHT(FIXED(P_21号様式!E42,3,FALSE),4),\"\"))","v":""},{"$f":"IF(P_21号様式!F42<> \"\",TEXT(INT(P_21号様式!F42),\"#,##0\"),\"\")","v":"0"},{"$f":"IF(P_21号様式!F42= \"\",\"\",IF(VALUE(FIXED(P_21号様式!F42,0,TRUE))<>P_21号様式!F42,RIGHT(FIXED(P_21号様式!F42,3,FALSE),4),\"\"))","v":""},{"$f":"IF(P_21号様式!G42<> \"\",TEXT(INT(P_21号様式!G42),\"#,##0\"),\"\")","v":"0"},{"$f":"IF(P_21号様式!G42= \"\",\"\",IF(VALUE(FIXED(P_21号様式!G42,0,TRUE))<>P_21号様式!G42,RIGHT(FIXED(P_21号様式!G42,3,FALSE),4),\"\"))","v":""},{"$f":"IF(P_21号様式!H42<> \"\",TEXT(INT(P_21号様式!H42),\"#,##0\"),\"\")","v":"4,242"},{"$f":"IF(P_21号様式!H42= \"\",\"\",IF(VALUE(FIXED(P_21号様式!H42,0,TRUE))<>P_21号様式!H42,RIGHT(FIXED(P_21号様式!H42,3,FALSE),4),\"\"))","v":""},{"$f":"IF(P_21号様式!I42<> \"\",TEXT(INT(P_21号様式!I42),\"#,##0\"),\"\")","v":"147"},{"$f":"IF(P_21号様式!I42= \"\",\"\",IF(VALUE(FIXED(P_21号様式!I42,0,TRUE))<>P_21号様式!I42,RIGHT(FIXED(P_21号様式!I42,3,FALSE),4),\"\"))","v":""},{"$f":"IF(P_21号様式!J42<> \"\",TEXT(INT(P_21号様式!J42),\"#,##0\"),\"\")","v":"4,389"},{"$f":"IF(P_21号様式!J42= \"\",\"\",IF(VALUE(FIXED(P_21号様式!J42,0,TRUE))<>P_21号様式!J42,RIGHT(FIXED(P_21号様式!J42,3,FALSE),4),\"\"))","v":""},{"$f":"IF(P_21号様式!K42<> \"\",TEXT(INT(P_21号様式!K42),\"#,##0\"),\"\")","v":"0"},{"$f":"IF(P_21号様式!K42= \"\",\"\",IF(VALUE(FIXED(P_21号様式!K42,0,TRUE))<>P_21号様式!K42,RIGHT(FIXED(P_21号様式!K42,3,FALSE),4),\"\"))","v":""},{"$f":"IF(P_21号様式!L42<> \"\",TEXT(INT(P_21号様式!L42),\"#,##0\"),\"\")","v":"4,389"},{"$f":"IF(P_21号様式!L42= \"\",\"\",IF(VALUE(FIXED(P_21号様式!L42,0,TRUE))<>P_21号様式!L42,RIGHT(FIXED(P_21号様式!L42,3,FALSE),4),\"\"))","v":""},{"$f":"IF(P_21号様式!M42=\"\",\"\",P_21号様式!M42)","v":3.3492822966507201},null,{"$f":"IF(P_21号様式!N42=\"\",\"\",P_21号様式!N42)","v":"21:44:00"}]
[{"$f":"IF(P_21号様式!C43=\"\",\"\",P_21号様式!C43)","v":"南種子町"},null,{"$f":"IF(P_21号様式!D43=\"\",\"\",P_21号様式!D43)","v":""},{"$f":"IF(P_21号様式!E43<> \"\",TEXT(INT(P_21号様式!E43),\"#,##0\"),\"\")","v":"2,984"},{"$f":"IF(P_21号様式!E43= \"\",\"\",IF(VALUE(FIXED(P_21号様式!E43,0,TRUE))<>P_21号様式!E43,RIGHT(FIXED(P_21号様式!E43,3,FALSE),4),\"\"))","v":""},{"$f":"IF(P_21号様式!F43<> \"\",TEXT(INT(P_21号様式!F43),\"#,##0\"),\"\")","v":"0"},{"$f":"IF(P_21号様式!F43= \"\",\"\",IF(VALUE(FIXED(P_21号様式!F43,0,TRUE))<>P_21号様式!F43,RIGHT(FIXED(P_21号様式!F43,3,FALSE),4),\"\"))","v":""},{"$f":"IF(P_21号様式!G43<> \"\",TEXT(INT(P_21号様式!G43),\"#,##0\"),\"\")","v":"0"},{"$f":"IF(P_21号様式!G43= \"\",\"\",IF(VALUE(FIXED(P_21号様式!G43,0,TRUE))<>P_21号様式!G43,RIGHT(FIXED(P_21号様式!G43,3,FALSE),4),\"\"))","v":""},{"$f":"IF(P_21号様式!H43<> \"\",TEXT(INT(P_21号様式!H43),\"#,##0\"),\"\")","v":"2,984"},{"$f":"IF(P_21号様式!H43= \"\",\"\",IF(VALUE(FIXED(P_21号様式!H43,0,TRUE))<>P_21号様式!H43,RIGHT(FIXED(P_21号様式!H43,3,FALSE),4),\"\"))","v":""},{"$f":"IF(P_21号様式!I43<> \"\",TEXT(INT(P_21号様式!I43),\"#,##0\"),\"\")","v":"90"},{"$f":"IF(P_21号様式!I43= \"\",\"\",IF(VALUE(FIXED(P_21号様式!I43,0,TRUE))<>P_21号様式!I43,RIGHT(FIXED(P_21号様式!I43,3,FALSE),4),\"\"))","v":""},{"$f":"IF(P_21号様式!J43<> \"\",TEXT(INT(P_21号様式!J43),\"#,##0\"),\"\")","v":"3,074"},{"$f":"IF(P_21号様式!J43= \"\",\"\",IF(VALUE(FIXED(P_21号様式!J43,0,TRUE))<>P_21号様式!J43,RIGHT(FIXED(P_21号様式!J43,3,FALSE),4),\"\"))","v":""},{"$f":"IF(P_21号様式!K43<> \"\",TEXT(INT(P_21号様式!K43),\"#,##0\"),\"\")","v":"0"},{"$f":"IF(P_21号様式!K43= \"\",\"\",IF(VALUE(FIXED(P_21号様式!K43,0,TRUE))<>P_21号様式!K43,RIGHT(FIXED(P_21号様式!K43,3,FALSE),4),\"\"))","v":""},{"$f":"IF(P_21号様式!L43<> \"\",TEXT(INT(P_21号様式!L43),\"#,##0\"),\"\")","v":"3,074"},{"$f":"IF(P_21号様式!L43= \"\",\"\",IF(VALUE(FIXED(P_21号様式!L43,0,TRUE))<>P_21号様式!L43,RIGHT(FIXED(P_21号様式!L43,3,FALSE),4),\"\"))","v":""},{"$f":"IF(P_21号様式!M43=\"\",\"\",P_21号様式!M43)","v":2.9277813923227098},null,{"$f":"IF(P_21号様式!N43=\"\",\"\",P_21号様式!N43)","v":"21:33:00"}]
[{"$f":"IF(P_21号様式!C44=\"\",\"\",P_21号様式!C44)","v":"屋久島町"},null,{"$f":"IF(P_21号様式!D44=\"\",\"\",P_21号様式!D44)","v":""},{"$f":"IF(P_21号様式!E44<> \"\",TEXT(INT(P_21号様式!E44),\"#,##0\"),\"\")","v":"6,238"},{"$f":"IF(P_21号様式!E44= \"\",\"\",IF(VALUE(FIXED(P_21号様式!E44,0,TRUE))<>P_21号様式!E44,RIGHT(FIXED(P_21号様式!E44,3,FALSE),4),\"\"))","v":""},{"$f":"IF(P_21号様式!F44<> \"\",TEXT(INT(P_21号様式!F44),\"#,##0\"),\"\")","v":"0"},{"$f":"IF(P_21号様式!F44= \"\",\"\",IF(VALUE(FIXED(P_21号様式!F44,0,TRUE))<>P_21号様式!F44,RIGHT(FIXED(P_21号様式!F44,3,FALSE),4),\"\"))","v":""},{"$f":"IF(P_21号様式!G44<> \"\",TEXT(INT(P_21号様式!G44),\"#,##0\"),\"\")","v":"0"},{"$f":"IF(P_21号様式!G44= \"\",\"\",IF(VALUE(FIXED(P_21号様式!G44,0,TRUE))<>P_21号様式!G44,RIGHT(FIXED(P_21号様式!G44,3,FALSE),4),\"\"))","v":""},{"$f":"IF(P_21号様式!H44<> \"\",TEXT(INT(P_21号様式!H44),\"#,##0\"),\"\")","v":"6,238"},{"$f":"IF(P_21号様式!H44= \"\",\"\",IF(VALUE(FIXED(P_21号様式!H44,0,TRUE))<>P_21号様式!H44,RIGHT(FIXED(P_21号様式!H44,3,FALSE),4),\"\"))","v":""},{"$f":"IF(P_21号様式!I44<> \"\",TEXT(INT(P_21号様式!I44),\"#,##0\"),\"\")","v":"236"},{"$f":"IF(P_21号様式!I44= \"\",\"\",IF(VALUE(FIXED(P_21号様式!I44,0,TRUE))<>P_21号様式!I44,RIGHT(FIXED(P_21号様式!I44,3,FALSE),4),\"\"))","v":""},{"$f":"IF(P_21号様式!J44<> \"\",TEXT(INT(P_21号様式!J44),\"#,##0\"),\"\")","v":"6,474"},{"$f":"IF(P_21号様式!J44= \"\",\"\",IF(VALUE(FIXED(P_21号様式!J44,0,TRUE))<>P_21号様式!J44,RIGHT(FIXED(P_21号様式!J44,3,FALSE),4),\"\"))","v":""},{"$f":"IF(P_21号様式!K44<> \"\",TEXT(INT(P_21号様式!K44),\"#,##0\"),\"\")","v":"0"},{"$f":"IF(P_21号様式!K44= \"\",\"\",IF(VALUE(FIXED(P_21号様式!K44,0,TRUE))<>P_21号様式!K44,RIGHT(FIXED(P_21号様式!K44,3,FALSE),4),\"\"))","v":""},{"$f":"IF(P_21号様式!L44<> \"\",TEXT(INT(P_21号様式!L44),\"#,##0\"),\"\")","v":"6,474"},{"$f":"IF(P_21号様式!L44= \"\",\"\",IF(VALUE(FIXED(P_21号様式!L44,0,TRUE))<>P_21号様式!L44,RIGHT(FIXED(P_21号様式!L44,3,FALSE),4),\"\"))","v":""},{"$f":"IF(P_21号様式!M44=\"\",\"\",P_21号様式!M44)","v":3.6453506333024399},null,{"$f":"IF(P_21号様式!N44=\"\",\"\",P_21号様式!N44)","v":"22:46:00"}]
[]
["政令市計",null,{"$f":"IF(P_21号様式!O2=\"\",\"\",P_21号様式!O2)","v":""},{"$f":"IF(P_21号様式!P2<> \"\",TEXT(INT(P_21号様式!P2),\"#,##0\"),\"\")","v":""},{"$f":"IF(P_21号様式!P2= \"\",\"\",IF(VALUE(FIXED(P_21号様式!P2,0,TRUE))<>P_21号様式!P2,RIGHT(FIXED(P_21号様式!P2,3,FALSE),4),\"\"))","v":""},{"$f":"IF(P_21号様式!Q2<> \"\",TEXT(INT(P_21号様式!Q2),\"#,##0\"),\"\")","v":""},{"$f":"IF(P_21号様式!Q2= \"\",\"\",IF(VALUE(FIXED(P_21号様式!Q2,0,TRUE))<>P_21号様式!Q2,RIGHT(FIXED(P_21号様式!Q2,3,FALSE),4),\"\"))","v":""},{"$f":"IF(P_21号様式!R2<> \"\",TEXT(INT(P_21号様式!R2),\"#,##0\"),\"\")","v":""},{"$f":"IF(P_21号様式!R2= \"\",\"\",IF(VALUE(FIXED(P_21号様式!R2,0,TRUE))<>P_21号様式!R2,RIGHT(FIXED(P_21号様式!R2,3,FALSE),4),\"\"))","v":""},{"$f":"IF(P_21号様式!S2<> \"\",TEXT(INT(P_21号様式!S2),\"#,##0\"),\"\")","v":""},{"$f":"IF(P_21号様式!S2= \"\",\"\",IF(VALUE(FIXED(P_21号様式!S2,0,TRUE))<>P_21号様式!S2,RIGHT(FIXED(P_21号様式!S2,3,FALSE),4),\"\"))","v":""},{"$f":"IF(P_21号様式!T2<> \"\",TEXT(INT(P_21号様式!T2),\"#,##0\"),\"\")","v":""},{"$f":"IF(P_21号様式!T2= \"\",\"\",IF(VALUE(FIXED(P_21号様式!T2,0,TRUE))<>P_21号様式!T2,RIGHT(FIXED(P_21号様式!T2,3,FALSE),4),\"\"))","v":""},{"$f":"IF(P_21号様式!U2<> \"\",TEXT(INT(P_21号様式!U2),\"#,##0\"),\"\")","v":""},{"$f":"IF(P_21号様式!U2= \"\",\"\",IF(VALUE(FIXED(P_21号様式!U2,0,TRUE))<>P_21号様式!U2,RIGHT(FIXED(P_21号様式!U2,3,FALSE),4),\"\"))","v":""},{"$f":"IF(P_21号様式!V2<> \"\",TEXT(INT(P_21号様式!V2),\"#,##0\"),\"\")","v":""},{"$f":"IF(P_21号様式!V2= \"\",\"\",IF(VALUE(FIXED(P_21号様式!V2,0,TRUE))<>P_21号様式!V2,RIGHT(FIXED(P_21号様式!V2,3,FALSE),4),\"\"))","v":""},{"$f":"IF(P_21号様式!W2<> \"\",TEXT(INT(P_21号様式!W2),\"#,##0\"),\"\")","v":""},{"$f":"IF(P_21号様式!W2= \"\",\"\",IF(VALUE(FIXED(P_21号様式!W2,0,TRUE))<>P_21号様式!W2,RIGHT(FIXED(P_21号様式!W2,3,FALSE),4),\"\"))","v":""},{"$f":"IF(P_21号様式!X2=\"\",\"\",P_21号様式!X2)","v":""},null,{"$f":"IF(P_21号様式!Y2=\"\",\"\",P_21号様式!Y2)","v":""}]
["その他市計",null,{"$f":"IF(P_21号様式!Z2=\"\",\"\",P_21号様式!Z2)","v":100},{"$f":"IF(P_21号様式!AA2<> \"\",TEXT(INT(P_21号様式!AA2),\"#,##0\"),\"\")","v":"652,807"},{"$f":"IF(P_21号様式!AA2= \"\",\"\",IF(VALUE(FIXED(P_21号様式!AA2,0,TRUE))<>P_21号様式!AA2,RIGHT(FIXED(P_21号様式!AA2,3,FALSE),4),\"\"))","v":""},{"$f":"IF(P_21号様式!AB2<> \"\",TEXT(INT(P_21号様式!AB2),\"#,##0\"),\"\")","v":"0"},{"$f":"IF(P_21号様式!AB2= \"\",\"\",IF(VALUE(FIXED(P_21号様式!AB2,0,TRUE))<>P_21号様式!AB2,RIGHT(FIXED(P_21号様式!AB2,3,FALSE),4),\"\"))","v":""},{"$f":"IF(P_21号様式!AC2<> \"\",TEXT(INT(P_21号様式!AC2),\"#,##0\"),\"\")","v":"0"},{"$f":"IF(P_21号様式!AC2= \"\",\"\",IF(VALUE(FIXED(P_21号様式!AC2,0,TRUE))<>P_21号様式!AC2,RIGHT(FIXED(P_21号様式!AC2,3,FALSE),4),\"\"))","v":""},{"$f":"IF(P_21号様式!AD2<> \"\",TEXT(INT(P_21号様式!AD2),\"#,##0\"),\"\")","v":"652,807"},{"$f":"IF(P_21号様式!AD2= \"\",\"\",IF(VALUE(FIXED(P_21号様式!AD2,0,TRUE))<>P_21号様式!AD2,RIGHT(FIXED(P_21号様式!AD2,3,FALSE),4),\"\"))","v":""},{"$f":"IF(P_21号様式!AE2<> \"\",TEXT(INT(P_21号様式!AE2),\"#,##0\"),\"\")","v":"13,361"},{"$f":"IF(P_21号様式!AE2= \"\",\"\",IF(VALUE(FIXED(P_21号様式!AE2,0,TRUE))<>P_21号様式!AE2,RIGHT(FIXED(P_21号様式!AE2,3,FALSE),4),\"\"))","v":""},{"$f":"IF(P_21号様式!AF2<> \"\",TEXT(INT(P_21号様式!AF2),\"#,##0\"),\"\")","v":"666,168"},{"$f":"IF(P_21号様式!AF2= \"\",\"\",IF(VALUE(FIXED(P_21号様式!AF2,0,TRUE))<>P_21号様式!AF2,RIGHT(FIXED(P_21号様式!AF2,3,FALSE),4),\"\"))","v":""},{"$f":"IF(P_21号様式!AG2<> \"\",TEXT(INT(P_21号様式!AG2),\"#,##0\"),\"\")","v":"60"},{"$f":"IF(P_21号様式!AG2= \"\",\"\",IF(VALUE(FIXED(P_21号様式!AG2,0,TRUE))<>P_21号様式!AG2,RIGHT(FIXED(P_21号様式!AG2,3,FALSE),4),\"\"))","v":""},{"$f":"IF(P_21号様式!AH2<> \"\",TEXT(INT(P_21号様式!AH2),\"#,##0\"),\"\")","v":"666,228"},{"$f":"IF(P_21号様式!AH2= \"\",\"\",IF(VALUE(FIXED(P_21号様式!AH2,0,TRUE))<>P_21号様式!AH2,RIGHT(FIXED(P_21号様式!AH2,3,FALSE),4),\"\"))","v":""},{"$f":"IF(P_21号様式!AI2=\"\",\"\",P_21号様式!AI2)","v":2.0056502263693199},null,{"$f":"IF(P_21号様式!AJ2=\"\",\"\",P_21号様式!AJ2)","v":"01:19:00"}]
["郡計",null,{"$f":"IF(P_21号様式!AK2=\"\",\"\",P_21号様式!AK2)","v":100},{"$f":"IF(P_21号様式!AL2<> \"\",TEXT(INT(P_21号様式!AL2),\"#,##0\"),\"\")","v":"103,573"},{"$f":"IF(P_21号様式!AL2= \"\",\"\",IF(VALUE(FIXED(P_21号様式!AL2,0,TRUE))<>P_21号様式!AL2,RIGHT(FIXED(P_21号様式!AL2,3,FALSE),4),\"\"))","v":""},{"$f":"IF(P_21号様式!AM2<> \"\",TEXT(INT(P_21号様式!AM2),\"#,##0\"),\"\")","v":"0"},{"$f":"IF(P_21号様式!AM2= \"\",\"\",IF(VALUE(FIXED(P_21号様式!AM2,0,TRUE))<>P_21号様式!AM2,RIGHT(FIXED(P_21号様式!AM2,3,FALSE),4),\"\"))","v":""},{"$f":"IF(P_21号様式!AN2<> \"\",TEXT(INT(P_21号様式!AN2),\"#,##0\"),\"\")","v":"0"},{"$f":"IF(P_21号様式!AN2= \"\",\"\",IF(VALUE(FIXED(P_21号様式!AN2,0,TRUE))<>P_21号様式!AN2,RIGHT(FIXED(P_21号様式!AN2,3,FALSE),4),\"\"))","v":""},{"$f":"IF(P_21号様式!AO2<> \"\",TEXT(INT(P_21号様式!AO2),\"#,##0\"),\"\")","v":"103,573"},{"$f":"IF(P_21号様式!AO2= \"\",\"\",IF(VALUE(FIXED(P_21号様式!AO2,0,TRUE))<>P_21号様式!AO2,RIGHT(FIXED(P_21号様式!AO2,3,FALSE),4),\"\"))","v":""},{"$f":"IF(P_21号様式!AP2<> \"\",TEXT(INT(P_21号様式!AP2),\"#,##0\"),\"\")","v":"3,500"},{"$f":"IF(P_21号様式!AP2= \"\",\"\",IF(VALUE(FIXED(P_21号様式!AP2,0,TRUE))<>P_21号様式!AP2,RIGHT(FIXED(P_21号様式!AP2,3,FALSE),4),\"\"))","v":""},{"$f":"IF(P_21号様式!AQ2<> \"\",TEXT(INT(P_21号様式!AQ2),\"#,##0\"),\"\")","v":"107,073"},{"$f":"IF(P_21号様式!AQ2= \"\",\"\",IF(VALUE(FIXED(P_21号様式!AQ2,0,TRUE))<>P_21号様式!AQ2,RIGHT(FIXED(P_21号様式!AQ2,3,FALSE),4),\"\"))","v":""},{"$f":"IF(P_21号様式!AR2<> \"\",TEXT(INT(P_21号様式!AR2),\"#,##0\"),\"\")","v":"4"},{"$f":"IF(P_21号様式!AR2= \"\",\"\",IF(VALUE(FIXED(P_21号様式!AR2,0,TRUE))<>P_21号様式!AR2,RIGHT(FIXED(P_21号様式!AR2,3,FALSE),4),\"\"))","v":""},{"$f":"IF(P_21号様式!AS2<> \"\",TEXT(INT(P_21号様式!AS2),\"#,##0\"),\"\")","v":"107,077"},{"$f":"IF(P_21号様式!AS2= \"\",\"\",IF(VALUE(FIXED(P_21号様式!AS2,0,TRUE))<>P_21号様式!AS2,RIGHT(FIXED(P_21号様式!AS2,3,FALSE),4),\"\"))","v":""},{"$f":"IF(P_21号様式!AT2=\"\",\"\",P_21号様式!AT2)","v":3.2687979229124098},null,{"$f":"IF(P_21号様式!AU2=\"\",\"\",P_21号様式!AU2)","v":"23:29:00"}]
["県計",null,{"$f":"IF(P_21号様式!AV2=\"\",\"\",P_21号様式!AV2)","v":100},{"$f":"IF(P_21号様式!AW2<> \"\",TEXT(INT(P_21号様式!AW2),\"#,##0\"),\"\")","v":"756,380"},{"$f":"IF(P_21号様式!AW2= \"\",\"\",IF(VALUE(FIXED(P_21号様式!AW2,0,TRUE))<>P_21号様式!AW2,RIGHT(FIXED(P_21号様式!AW2,3,FALSE),4),\"\"))","v":""},{"$f":"IF(P_21号様式!AX2<> \"\",TEXT(INT(P_21号様式!AX2),\"#,##0\"),\"\")","v":"0"},{"$f":"IF(P_21号様式!AX2= \"\",\"\",IF(VALUE(FIXED(P_21号様式!AX2,0,TRUE))<>P_21号様式!AX2,RIGHT(FIXED(P_21号様式!AX2,3,FALSE),4),\"\"))","v":""},{"$f":"IF(P_21号様式!AY2<> \"\",TEXT(INT(P_21号様式!AY2),\"#,##0\"),\"\")","v":"0"},{"$f":"IF(P_21号様式!AY2= \"\",\"\",IF(VALUE(FIXED(P_21号様式!AY2,0,TRUE))<>P_21号様式!AY2,RIGHT(FIXED(P_21号様式!AY2,3,FALSE),4),\"\"))","v":""},{"$f":"IF(P_21号様式!AZ2<> \"\",TEXT(INT(P_21号様式!AZ2),\"#,##0\"),\"\")","v":"756,380"},{"$f":"IF(P_21号様式!AZ2= \"\",\"\",IF(VALUE(FIXED(P_21号様式!AZ2,0,TRUE))<>P_21号様式!AZ2,RIGHT(FIXED(P_21号様式!AZ2,3,FALSE),4),\"\"))","v":""},{"$f":"IF(P_21号様式!BA2<> \"\",TEXT(INT(P_21号様式!BA2),\"#,##0\"),\"\")","v":"16,861"},{"$f":"IF(P_21号様式!BA2= \"\",\"\",IF(VALUE(FIXED(P_21号様式!BA2,0,TRUE))<>P_21号様式!BA2,RIGHT(FIXED(P_21号様式!BA2,3,FALSE),4),\"\"))","v":""},{"$f":"IF(P_21号様式!BB2<> \"\",TEXT(INT(P_21号様式!BB2),\"#,##0\"),\"\")","v":"773,241"},{"$f":"IF(P_21号様式!BB2= \"\",\"\",IF(VALUE(FIXED(P_21号様式!BB2,0,TRUE))<>P_21号様式!BB2,RIGHT(FIXED(P_21号様式!BB2,3,FALSE),4),\"\"))","v":""},{"$f":"IF(P_21号様式!BC2<> \"\",TEXT(INT(P_21号様式!BC2),\"#,##0\"),\"\")","v":"64"},{"$f":"IF(P_21号様式!BC2= \"\",\"\",IF(VALUE(FIXED(P_21号様式!BC2,0,TRUE))<>P_21号様式!BC2,RIGHT(FIXED(P_21号様式!BC2,3,FALSE),4),\"\"))","v":""},{"$f":"IF(P_21号様式!BD2<> \"\",TEXT(INT(P_21号様式!BD2),\"#,##0\"),\"\")","v":"773,305"},{"$f":"IF(P_21号様式!BD2= \"\",\"\",IF(VALUE(FIXED(P_21号様式!BD2,0,TRUE))<>P_21号様式!BD2,RIGHT(FIXED(P_21号様式!BD2,3,FALSE),4),\"\"))","v":""},{"$f":"IF(P_21号様式!BE2=\"\",\"\",P_21号様式!BE2)","v":2.1805620757305899},null,{"$f":"IF(P_21号様式!BF2=\"\",\"\",P_21号様式!BF2)","v":"01:19:00"}]
[]
["第21号様式",null,null,null,null,null,null,"開  票  速  報",null,null,null,null,null,null,null,null,null,null,null,null,null,"鹿 児 島 県"]
[]
[null,{"$f":"IF(パラメタシート!B1=\"\",\"\",パラメタシート!B1)","v":"2017-10-22"},null,null,null,null,null,null,null,null,null,null,null,null,null,{"$f":"IF(P_21号様式!BH59=\"0\",\"即日　開票\",\"翌日　開票\")","v":"即日　開票"},null,"中間報告",{"$f":"IF(P_21号様式!BI59=\"\",\"時   　 分　現在\",P_21号様式!BI59)","v":"時   　 分　現在"}]
[null,{"$f":"IF(P_21号様式!BG59=\"\",\"\",P_21号様式!BG59)","v":"衆議院比例代表選出議員選挙"},null,null,null,null,null,null,null,null,null,null,null,null,null,"開票",null,"結了報告",{"$f":"IF(P_21号様式!BF59=\"\",\"時   　 分　結了\",P_21号様式!BF59)","v":"01:19:00"}]
[]
["市区町村名",null,null,"(ア)",null,"(イ)",null,"(ウ)",null,"(エ)",null,"(オ)",null,"(カ)",null,"(キ)",null,"(ク)"]
[null,null,"開票率","政党等得票総数",null,"あん分の際切り",null,"いずれの政党等",null,"有 効 投 票 数",null,"無 効 投 票 数",null,"投 票 総 数",null,"持ち帰り･不受理",null,"投票者総数",null,"無効投票率",null,"開票確定時刻"]
[null,null,"％",null,null,"捨 て た 票 数",null,"にも属しない票数",null,"(ア)＋(イ)＋(ウ)",null,null,null,"(エ)＋(オ)",null,"その他",null,"(カ)＋(キ)",null,"(オ)／(カ)％"]
[{"$f":"IF(P_21号様式!C45=\"\",\"\",P_21号様式!C45)","v":"＊（熊毛郡）計"},null,{"$f":"IF(P_21号様式!D45=\"\",\"\",P_21号様式!D45)","v":100},{"$f":"IF(P_21号様式!E45<> \"\",TEXT(INT(P_21号様式!E45),\"#,##0\"),\"\")","v":"13,464"},{"$f":"IF(P_21号様式!E45= \"\",\"\",IF(VALUE(FIXED(P_21号様式!E45,0,TRUE))<>P_21号様式!E45,RIGHT(FIXED(P_21号様式!E45,3,FALSE),4),\"\"))","v":""},{"$f":"IF(P_21号様式!F45<> \"\",TEXT(INT(P_21号様式!F45),\"#,##0\"),\"\")","v":"0"},{"$f":"IF(P_21号様式!F45= \"\",\"\",IF(VALUE(FIXED(P_21号様式!F45,0,TRUE))<>P_21号様式!F45,RIGHT(FIXED(P_21号様式!F45,3,FALSE),4),\"\"))","v":""},{"$f":"IF(P_21号様式!G45<> \"\",TEXT(INT(P_21号様式!G45),\"#,##0\"),\"\")","v":"0"},{"$f":"IF(P_21号様式!G45= \"\",\"\",IF(VALUE(FIXED(P_21号様式!G45,0,TRUE))<>P_21号様式!G45,RIGHT(FIXED(P_21号様式!G45,3,FALSE),4),\"\"))","v":""},{"$f":"IF(P_21号様式!H45<> \"\",TEXT(INT(P_21号様式!H45),\"#,##0\"),\"\")","v":"13,464"},{"$f":"IF(P_21号様式!H45= \"\",\"\",IF(VALUE(FIXED(P_21号様式!H45,0,TRUE))<>P_21号様式!H45,RIGHT(FIXED(P_21号様式!H45,3,FALSE),4),\"\"))","v":""},{"$f":"IF(P_21号様式!I45<> \"\",TEXT(INT(P_21号様式!I45),\"#,##0\"),\"\")","v":"473"},{"$f":"IF(P_21号様式!I45= \"\",\"\",IF(VALUE(FIXED(P_21号様式!I45,0,TRUE))<>P_21号様式!I45,RIGHT(FIXED(P_21号様式!I45,3,FALSE),4),\"\"))","v":""},{"$f":"IF(P_21号様式!J45<> \"\",TEXT(INT(P_21号様式!J45),\"#,##0\"),\"\")","v":"13,937"},{"$f":"IF(P_21号様式!J45= \"\",\"\",IF(VALUE(FIXED(P_21号様式!J45,0,TRUE))<>P_21号様式!J45,RIGHT(FIXED(P_21号様式!J45,3,FALSE),4),\"\"))","v":""},{"$f":"IF(P_21号様式!K45<> \"\",TEXT(INT(P_21号様式!K45),\"#,##0\"),\"\")","v":"0"},{"$f":"IF(P_21号様式!K45= \"\",\"\",IF(VALUE(FIXED(P_21号様式!K45,0,TRUE))<>P_21号様式!K45,RIGHT(FIXED(P_21号様式!K45,3,FALSE),4),\"\"))","v":""},{"$f":"IF(P_21号様式!L45<> \"\",TEXT(INT(P_21号様式!L45),\"#,##0\"),\"\")","v":"13,937"},{"$f":"IF(P_21号様式!L45= \"\",\"\",IF(VALUE(FIXED(P_21号様式!L45,0,TRUE))<>P_21号様式!L45,RIGHT(FIXED(P_21号様式!L45,3,FALSE),4),\"\"))","v":""},{"$f":"IF(P_21号様式!M45=\"\",\"\",P_21号様式!M45)","v":3.3938437253354401},null,{"$f":"IF(P_21号様式!N45=\"\",\"\",P_21号様式!N45)","v":"22:46:00"}]
[{"$f":"IF(P_21号様式!C46=\"\",\"\",P_21号様式!C46)","v":"大和村"},null,{"$f":"IF(P_21号様式!D46=\"\",\"\",P_21号様式!D46)","v":""},{"$f":"IF(P_21号様式!E46<> \"\",TEXT(INT(P_21号様式!E46),\"#,##0\"),\"\")","v":"945"},{"$f":"IF(P_21号様式!E46= \"\",\"\",IF(VALUE(FIXED(P_21号様式!E46,0,TRUE))<>P_21号様式!E46,RIGHT(FIXED(P_21号様式!E46,3,FALSE),4),\"\"))","v":""},{"$f":"IF(P_21号様式!F46<> \"\",TEXT(INT(P_21号様式!F46),\"#,##0\"),\"\")","v":"0"},{"$f":"IF(P_21号様式!F46= \"\",\"\",IF(VALUE(FIXED(P_21号様式!F46,0,TRUE))<>P_21号様式!F46,RIGHT(FIXED(P_21号様式!F46,3,FALSE),4),\"\"))","v":""},{"$f":"IF(P_21号様式!G46<> \"\",TEXT(INT(P_21号様式!G46),\"#,##0\"),\"\")","v":"0"},{"$f":"IF(P_21号様式!G46= \"\",\"\",IF(VALUE(FIXED(P_21号様式!G46,0,TRUE))<>P_21号様式!G46,RIGHT(FIXED(P_21号様式!G46,3,FALSE),4),\"\"))","v":""},{"$f":"IF(P_21号様式!H46<> \"\",TEXT(INT(P_21号様式!H46),\"#,##0\"),\"\")","v":"945"},{"$f":"IF(P_21号様式!H46= \"\",\"\",IF(VALUE(FIXED(P_21号様式!H46,0,TRUE))<>P_21号様式!H46,RIGHT(FIXED(P_21号様式!H46,3,FALSE),4),\"\"))","v":""},{"$f":"IF(P_21号様式!I46<> \"\",TEXT(INT(P_21号様式!I46),\"#,##0\"),\"\")","v":"37"},{"$f":"IF(P_21号様式!I46= \"\",\"\",IF(VALUE(FIXED(P_21号様式!I46,0,TRUE))<>P_21号様式!I46,RIGHT(FIXED(P_21号様式!I46,3,FALSE),4),\"\"))","v":""},{"$f":"IF(P_21号様式!J46<> \"\",TEXT(INT(P_21号様式!J46),\"#,##0\"),\"\")","v":"982"},{"$f":"IF(P_21号様式!J46= \"\",\"\",IF(VALUE(FIXED(P_21号様式!J46,0,TRUE))<>P_21号様式!J46,RIGHT(FIXED(P_21号様式!J46,3,FALSE),4),\"\"))","v":""},{"$f":"IF(P_21号様式!K46<> \"\",TEXT(INT(P_21号様式!K46),\"#,##0\"),\"\")","v":"0"},{"$f":"IF(P_21号様式!K46= \"\",\"\",IF(VALUE(FIXED(P_21号様式!K46,0,TRUE))<>P_21号様式!K46,RIGHT(FIXED(P_21号様式!K46,3,FALSE),4),\"\"))","v":""},{"$f":"IF(P_21号様式!L46<> \"\",TEXT(INT(P_21号様式!L46),\"#,##0\"),\"\")","v":"982"},{"$f":"IF(P_21号様式!L46= \"\",\"\",IF(VALUE(FIXED(P_21号様式!L46,0,TRUE))<>P_21号様式!L46,RIGHT(FIXED(P_21号様式!L46,3,FALSE),4),\"\"))","v":""},{"$f":"IF(P_21号様式!M46=\"\",\"\",P_21号様式!M46)","v":3.7678207739307501},null,{"$f":"IF(P_21号様式!N46=\"\",\"\",P_21号様式!N46)","v":"21:59:00"}]
[{"$f":"IF(P_21号様式!C47=\"\",\"\",P_21号様式!C47)","v":"宇検村"},null,{"$f":"IF(P_21号様式!D47=\"\",\"\",P_21号様式!D47)","v":""},{"$f":"IF(P_21号様式!E47<> \"\",TEXT(INT(P_21号様式!E47),\"#,##0\"),\"\")","v":"1,305"},{"$f":"IF(P_21号様式!E47= \"\",\"\",IF(VALUE(FIXED(P_21号様式!E47,0,TRUE))<>P_21号様式!E47,RIGHT(FIXED(P_21号様式!E47,3,FALSE),4),\"\"))","v":""},{"$f":"IF(P_21号様式!F47<> \"\",TEXT(INT(P_21号様式!F47),\"#,##0\"),\"\")","v":"0"},{"$f":"IF(P_21号様式!F47= \"\",\"\",IF(VALUE(FIXED(P_21号様式!F47,0,TRUE))<>P_21号様式!F47,RIGHT(FIXED(P_21号様式!F47,3,FALSE),4),\"\"))","v":""},{"$f":"IF(P_21号様式!G47<> \"\",TEXT(INT(P_21号様式!G47),\"#,##0\"),\"\")","v":"0"},{"$f":"IF(P_21号様式!G47= \"\",\"\",IF(VALUE(FIXED(P_21号様式!G47,0,TRUE))<>P_21号様式!G47,RIGHT(FIXED(P_21号様式!G47,3,FALSE),4),\"\"))","v":""},{"$f":"IF(P_21号様式!H47<> \"\",TEXT(INT(P_21号様式!H47),\"#,##0\"),\"\")","v":"1,305"},{"$f":"IF(P_21号様式!H47= \"\",\"\",IF(VALUE(FIXED(P_21号様式!H47,0,TRUE))<>P_21号様式!H47,RIGHT(FIXED(P_21号様式!H47,3,FALSE),4),\"\"))","v":""},{"$f":"IF(P_21号様式!I47<> \"\",TEXT(INT(P_21号様式!I47),\"#,##0\"),\"\")","v":"46"},{"$f":"IF(P_21号様式!I47= \"\",\"\",IF(VALUE(FIXED(P_21号様式!I47,0,TRUE))<>P_21号様式!I47,RIGHT(FIXED(P_21号様式!I47,3,FALSE),4),\"\"))","v":""},{"$f":"IF(P_21号様式!J47<> \"\",TEXT(INT(P_21号様式!J47),\"#,##0\"),\"\")","v":"1,351"},{"$f":"IF(P_21号様式!J47= \"\",\"\",IF(VALUE(FIXED(P_21号様式!J47,0,TRUE))<>P_21号様式!J47,RIGHT(FIXED(P_21号様式!J47,3,FALSE),4),\"\"))","v":""},{"$f":"IF(P_21号様式!K47<> \"\",TEXT(INT(P_21号様式!K47),\"#,##0\"),\"\")","v":"1"},{"$f":"IF(P_21号様式!K47= \"\",\"\",IF(VALUE(FIXED(P_21号様式!K47,0,TRUE))<>P_21号様式!K47,RIGHT(FIXED(P_21号様式!K47,3,FALSE),4),\"\"))","v":""},{"$f":"IF(P_21号様式!L47<> \"\",TEXT(INT(P_21号様式!L47),\"#,##0\"),\"\")","v":"1,352"},{"$f":"IF(P_21号様式!L47= \"\",\"\",IF(VALUE(FIXED(P_21号様式!L47,0,TRUE))<>P_21号様式!L47,RIGHT(FIXED(P_21号様式!L47,3,FALSE),4),\"\"))","v":""},{"$f":"IF(P_21号様式!M47=\"\",\"\",P_21号様式!M47)","v":3.4048852701702401},null,{"$f":"IF(P_21号様式!N47=\"\",\"\",P_21号様式!N47)","v":"21:25:00"}]
[{"$f":"IF(P_21号様式!C48=\"\",\"\",P_21号様式!C48)","v":"瀬戸内町"},null,{"$f":"IF(P_21号様式!D48=\"\",\"\",P_21号様式!D48)","v":""},{"$f":"IF(P_21号様式!E48<> \"\",TEXT(INT(P_21号様式!E48),\"#,##0\"),\"\")","v":"5,733"},{"$f":"IF(P_21号様式!E48= \"\",\"\",IF(VALUE(FIXED(P_21号様式!E48,0,TRUE))<>P_21号様式!E48,RIGHT(FIXED(P_21号様式!E48,3,FALSE),4),\"\"))","v":""},{"$f":"IF(P_21号様式!F48<> \"\",TEXT(INT(P_21号様式!F48),\"#,##0\"),\"\")","v":"0"},{"$f":"IF(P_21号様式!F48= \"\",\"\",IF(VALUE(FIXED(P_21号様式!F48,0,TRUE))<>P_21号様式!F48,RIGHT(FIXED(P_21号様式!F48,3,FALSE),4),\"\"))","v":""},{"$f":"IF(P_21号様式!G48<> \"\",TEXT(INT(P_21号様式!G48),\"#,##0\"),\"\")","v":"0"},{"$f":"IF(P_21号様式!G48= \"\",\"\",IF(VALUE(FIXED(P_21号様式!G48,0,TRUE))<>P_21号様式!G48,RIGHT(FIXED(P_21号様式!G48,3,FALSE),4),\"\"))","v":""},{"$f":"IF(P_21号様式!H48<> \"\",TEXT(INT(P_21号様式!H48),\"#,##0\"),\"\")","v":"5,733"},{"$f":"IF(P_21号様式!H48= \"\",\"\",IF(VALUE(FIXED(P_21号様式!H48,0,TRUE))<>P_21号様式!H48,RIGHT(FIXED(P_21号様式!H48,3,FALSE),4),\"\"))","v":""},{"$f":"IF(P_21号様式!I48<> \"\",TEXT(INT(P_21号様式!I48),\"#,##0\"),\"\")","v":"238"},{"$f":"IF(P_21号様式!I48= \"\",\"\",IF(VALUE(FIXED(P_21号様式!I48,0,TRUE))<>P_21号様式!I48,RIGHT(FIXED(P_21号様式!I48,3,FALSE),4),\"\"))","v":""},{"$f":"IF(P_21号様式!J48<> \"\",TEXT(INT(P_21号様式!J48),\"#,##0\"),\"\")","v":"5,971"},{"$f":"IF(P_21号様式!J48= \"\",\"\",IF(VALUE(FIXED(P_21号様式!J48,0,TRUE))<>P_21号様式!J48,RIGHT(FIXED(P_21号様式!J48,3,FALSE),4),\"\"))","v":""},{"$f":"IF(P_21号様式!K48<> \"\",TEXT(INT(P_21号様式!K48),\"#,##0\"),\"\")","v":"0"},{"$f":"IF(P_21号様式!K48= \"\",\"\",IF(VALUE(FIXED(P_21号様式!K48,0,TRUE))<>P_21号様式!K48,RIGHT(FIXED(P_21号様式!K48,3,FALSE),4),\"\"))","v":""},{"$f":"IF(P_21号様式!L48<> \"\",TEXT(INT(P_21号様式!L48),\"#,##0\"),\"\")","v":"5,971"},{"$f":"IF(P_21号様式!L48= \"\",\"\",IF(VALUE(FIXED(P_21号様式!L48,0,TRUE))<>P_21号様式!L48,RIGHT(FIXED(P_21号様式!L48,3,FALSE),4),\"\"))","v":""},{"$f":"IF(P_21号様式!M48=\"\",\"\",P_21号様式!M48)","v":3.9859320046893298},null,{"$f":"IF(P_21号様式!N48=\"\",\"\",P_21号様式!N48)","v":"22:47:00"}]
[{"$f":"IF(P_21号様式!C49=\"\",\"\",P_21号様式!C49)","v":"龍郷町"},null,{"$f":"IF(P_21号様式!D49=\"\",\"\",P_21号様式!D49)","v":""},{"$f":"IF(P_21号様式!E49<> \"\",TEXT(INT(P_21号様式!E49),\"#,##0\"),\"\")","v":"3,940"},{"$f":"IF(P_21号様式!E49= \"\",\"\",IF(VALUE(FIXED(P_21号様式!E49,0,TRUE))<>P_21号様式!E49,RIGHT(FIXED(P_21号様式!E49,3,FALSE),4),\"\"))","v":""},{"$f":"IF(P_21号様式!F49<> \"\",TEXT(INT(P_21号様式!F49),\"#,##0\"),\"\")","v":"0"},{"$f":"IF(P_21号様式!F49= \"\",\"\",IF(VALUE(FIXED(P_21号様式!F49,0,TRUE))<>P_21号様式!F49,RIGHT(FIXED(P_21号様式!F49,3,FALSE),4),\"\"))","v":""},{"$f":"IF(P_21号様式!G49<> \"\",TEXT(INT(P_21号様式!G49),\"#,##0\"),\"\")","v":"0"},{"$f":"IF(P_21号様式!G49= \"\",\"\",IF(VALUE(FIXED(P_21号様式!G49,0,TRUE))<>P_21号様式!G49,RIGHT(FIXED(P_21号様式!G49,3,FALSE),4),\"\"))","v":""},{"$f":"IF(P_21号様式!H49<> \"\",TEXT(INT(P_21号様式!H49),\"#,##0\"),\"\")","v":"3,940"},{"$f":"IF(P_21号様式!H49= \"\",\"\",IF(VALUE(FIXED(P_21号様式!H49,0,TRUE))<>P_21号様式!H49,RIGHT(FIXED(P_21号様式!H49,3,FALSE),4),\"\"))","v":""},{"$f":"IF(P_21号様式!I49<> \"\",TEXT(INT(P_21号様式!I49),\"#,##0\"),\"\")","v":"294"},{"$f":"IF(P_21号様式!I49= \"\",\"\",IF(VALUE(FIXED(P_21号様式!I49,0,TRUE))<>P_21号様式!I49,RIGHT(FIXED(P_21号様式!I49,3,FALSE),4),\"\"))","v":""},{"$f":"IF(P_21号様式!J49<> \"\",TEXT(INT(P_21号様式!J49),\"#,##0\"),\"\")","v":"4,234"},{"$f":"IF(P_21号様式!J49= \"\",\"\",IF(VALUE(FIXED(P_21号様式!J49,0,TRUE))<>P_21号様式!J49,RIGHT(FIXED(P_21号様式!J49,3,FALSE),4),\"\"))","v":""},{"$f":"IF(P_21号様式!K49<> \"\",TEXT(INT(P_21号様式!K49),\"#,##0\"),\"\")","v":"1"},{"$f":"IF(P_21号様式!K49= \"\",\"\",IF(VALUE(FIXED(P_21号様式!K49,0,TRUE))<>P_21号様式!K49,RIGHT(FIXED(P_21号様式!K49,3,FALSE),4),\"\"))","v":""},{"$f":"IF(P_21号様式!L49<> \"\",TEXT(INT(P_21号様式!L49),\"#,##0\"),\"\")","v":"4,235"},{"$f":"IF(P_21号様式!L49= \"\",\"\",IF(VALUE(FIXED(P_21号様式!L49,0,TRUE))<>P_21号様式!L49,RIGHT(FIXED(P_21号様式!L49,3,FALSE),4),\"\"))","v":""},{"$f":"IF(P_21号様式!M49=\"\",\"\",P_21号様式!M49)","v":6.9437883797827098},null,{"$f":"IF(P_21号様式!N49=\"\",\"\",P_21号様式!N49)","v":"22:09:00"}]
[{"$f":"IF(P_21号様式!C50=\"\",\"\",P_21号様式!C50)","v":"喜界町"},null,{"$f":"IF(P_21号様式!D50=\"\",\"\",P_21号様式!D50)","v":""},{"$f":"IF(P_21号様式!E50<> \"\",TEXT(INT(P_21号様式!E50),\"#,##0\"),\"\")","v":"4,237"},{"$f":"IF(P_21号様式!E50= \"\",\"\",IF(VALUE(FIXED(P_21号様式!E50,0,TRUE))<>P_21号様式!E50,RIGHT(FIXED(P_21号様式!E50,3,FALSE),4),\"\"))","v":""},{"$f":"IF(P_21号様式!F50<> \"\",TEXT(INT(P_21号様式!F50),\"#,##0\"),\"\")","v":"0"},{"$f":"IF(P_21号様式!F50= \"\",\"\",IF(VALUE(FIXED(P_21号様式!F50,0,TRUE))<>P_21号様式!F50,RIGHT(FIXED(P_21号様式!F50,3,FALSE),4),\"\"))","v":""},{"$f":"IF(P_21号様式!G50<> \"\",TEXT(INT(P_21号様式!G50),\"#,##0\"),\"\")","v":"0"},{"$f":"IF(P_21号様式!G50= \"\",\"\",IF(VALUE(FIXED(P_21号様式!G50,0,TRUE))<>P_21号様式!G50,RIGHT(FIXED(P_21号様式!G50,3,FALSE),4),\"\"))","v":""},{"$f":"IF(P_21号様式!H50<> \"\",TEXT(INT(P_21号様式!H50),\"#,##0\"),\"\")","v":"4,237"},{"$f":"IF(P_21号様式!H50= \"\",\"\",IF(VALUE(FIXED(P_21号様式!H50,0,TRUE))<>P_21号様式!H50,RIGHT(FIXED(P_21号様式!H50,3,FALSE),4),\"\"))","v":""},{"$f":"IF(P_21号様式!I50<> \"\",TEXT(INT(P_21号様式!I50),\"#,##0\"),\"\")","v":"79"},{"$f":"IF(P_21号様式!I50= \"\",\"\",IF(VALUE(FIXED(P_21号様式!I50,0,TRUE))<>P_21号様式!I50,RIGHT(FIXED(P_21号様式!I50,3,FALSE),4),\"\"))","v":""},{"$f":"IF(P_21号様式!J50<> \"\",TEXT(INT(P_21号様式!J50),\"#,##0\"),\"\")","v":"4,316"},{"$f":"IF(P_21号様式!J50= \"\",\"\",IF(VALUE(FIXED(P_21号様式!J50,0,TRUE))<>P_21号様式!J50,RIGHT(FIXED(P_21号様式!J50,3,FALSE),4),\"\"))","v":""},{"$f":"IF(P_21号様式!K50<> \"\",TEXT(INT(P_21号様式!K50),\"#,##0\"),\"\")","v":"1"},{"$f":"IF(P_21号様式!K50= \"\",\"\",IF(VALUE(FIXED(P_21号様式!K50,0,TRUE))<>P_21号様式!K50,RIGHT(FIXED(P_21号様式!K50,3,FALSE),4),\"\"))","v":""},{"$f":"IF(P_21号様式!L50<> \"\",TEXT(INT(P_21号様式!L50),\"#,##0\"),\"\")","v":"4,317"},{"$f":"IF(P_21号様式!L50= \"\",\"\",IF(VALUE(FIXED(P_21号様式!L50,0,TRUE))<>P_21号様式!L50,RIGHT(FIXED(P_21号様式!L50,3,FALSE),4),\"\"))","v":""},{"$f":"IF(P_21号様式!M50=\"\",\"\",P_21号様式!M50)","v":1.8303985171455099},null,{"$f":"IF(P_21号様式!N50=\"\",\"\",P_21号様式!N50)","v":"21:45:00"}]
[{"$f":"IF(P_21号様式!C51=\"\",\"\",P_21号様式!C51)","v":"徳之島町"},null,{"$f":"IF(P_21号様式!D51=\"\",\"\",P_21号様式!D51)","v":""},{"$f":"IF(P_21号様式!E51<> \"\",TEXT(INT(P_21号様式!E51),\"#,##0\"),\"\")","v":"5,870"},{"$f":"IF(P_21号様式!E51= \"\",\"\",IF(VALUE(FIXED(P_21号様式!E51,0,TRUE))<>P_21号様式!E51,RIGHT(FIXED(P_21号様式!E51,3,FALSE),4),\"\"))","v":""},{"$f":"IF(P_21号様式!F51<> \"\",TEXT(INT(P_21号様式!F51),\"#,##0\"),\"\")","v":"0"},{"$f":"IF(P_21号様式!F51= \"\",\"\",IF(VALUE(FIXED(P_21号様式!F51,0,TRUE))<>P_21号様式!F51,RIGHT(FIXED(P_21号様式!F51,3,FALSE),4),\"\"))","v":""},{"$f":"IF(P_21号様式!G51<> \"\",TEXT(INT(P_21号様式!G51),\"#,##0\"),\"\")","v":"0"},{"$f":"IF(P_21号様式!G51= \"\",\"\",IF(VALUE(FIXED(P_21号様式!G51,0,TRUE))<>P_21号様式!G51,RIGHT(FIXED(P_21号様式!G51,3,FALSE),4),\"\"))","v":""},{"$f":"IF(P_21号様式!H51<> \"\",TEXT(INT(P_21号様式!H51),\"#,##0\"),\"\")","v":"5,870"},{"$f":"IF(P_21号様式!H51= \"\",\"\",IF(VALUE(FIXED(P_21号様式!H51,0,TRUE))<>P_21号様式!H51,RIGHT(FIXED(P_21号様式!H51,3,FALSE),4),\"\"))","v":""},{"$f":"IF(P_21号様式!I51<> \"\",TEXT(INT(P_21号様式!I51),\"#,##0\"),\"\")","v":"168"},{"$f":"IF(P_21号様式!I51= \"\",\"\",IF(VALUE(FIXED(P_21号様式!I51,0,TRUE))<>P_21号様式!I51,RIGHT(FIXED(P_21号様式!I51,3,FALSE),4),\"\"))","v":""},{"$f":"IF(P_21号様式!J51<> \"\",TEXT(INT(P_21号様式!J51),\"#,##0\"),\"\")","v":"6,038"},{"$f":"IF(P_21号様式!J51= \"\",\"\",IF(VALUE(FIXED(P_21号様式!J51,0,TRUE))<>P_21号様式!J51,RIGHT(FIXED(P_21号様式!J51,3,FALSE),4),\"\"))","v":""},{"$f":"IF(P_21号様式!K51<> \"\",TEXT(INT(P_21号様式!K51),\"#,##0\"),\"\")","v":"0"},{"$f":"IF(P_21号様式!K51= \"\",\"\",IF(VALUE(FIXED(P_21号様式!K51,0,TRUE))<>P_21号様式!K51,RIGHT(FIXED(P_21号様式!K51,3,FALSE),4),\"\"))","v":""},{"$f":"IF(P_21号様式!L51<> \"\",TEXT(INT(P_21号様式!L51),\"#,##0\"),\"\")","v":"6,038"},{"$f":"IF(P_21号様式!L51= \"\",\"\",IF(VALUE(FIXED(P_21号様式!L51,0,TRUE))<>P_21号様式!L51,RIGHT(FIXED(P_21号様式!L51,3,FALSE),4),\"\"))","v":""},{"$f":"IF(P_21号様式!M51=\"\",\"\",P_21号様式!M51)","v":2.7823782709506499},null,{"$f":"IF(P_21号様式!N51=\"\",\"\",P_21号様式!N51)","v":"23:01:00"}]
[{"$f":"IF(P_21号様式!C52=\"\",\"\",P_21号様式!C52)","v":"天城町"},null,{"$f":"IF(P_21号様式!D52=\"\",\"\",P_21号様式!D52)","v":""},{"$f":"IF(P_21号様式!E52<> \"\",TEXT(INT(P_21号様式!E52),\"#,##0\"),\"\")","v":"3,327"},{"$f":"IF(P_21号様式!E52= \"\",\"\",IF(VALUE(FIXED(P_21号様式!E52,0,TRUE))<>P_21号様式!E52,RIGHT(FIXED(P_21号様式!E52,3,FALSE),4),\"\"))","v":""},{"$f":"IF(P_21号様式!F52<> \"\",TEXT(INT(P_21号様式!F52),\"#,##0\"),\"\")","v":"0"},{"$f":"IF(P_21号様式!F52= \"\",\"\",IF(VALUE(FIXED(P_21号様式!F52,0,TRUE))<>P_21号様式!F52,RIGHT(FIXED(P_21号様式!F52,3,FALSE),4),\"\"))","v":""},{"$f":"IF(P_21号様式!G52<> \"\",TEXT(INT(P_21号様式!G52),\"#,##0\"),\"\")","v":"0"},{"$f":"IF(P_21号様式!G52= \"\",\"\",IF(VALUE(FIXED(P_21号様式!G52,0,TRUE))<>P_21号様式!G52,RIGHT(FIXED(P_21号様式!G52,3,FALSE),4),\"\"))","v":""},{"$f":"IF(P_21号様式!H52<> \"\",TEXT(INT(P_21号様式!H52),\"#,##0\"),\"\")","v":"3,327"},{"$f":"IF(P_21号様式!H52= \"\",\"\",IF(VALUE(FIXED(P_21号様式!H52,0,TRUE))<>P_21号様式!H52,RIGHT(FIXED(P_21号様式!H52,3,FALSE),4),\"\"))","v":""},{"$f":"IF(P_21号様式!I52<> \"\",TEXT(INT(P_21号様式!I52),\"#,##0\"),\"\")","v":"133"},{"$f":"IF(P_21号様式!I52= \"\",\"\",IF(VALUE(FIXED(P_21号様式!I52,0,TRUE))<>P_21号様式!I52,RIGHT(FIXED(P_21号様式!I52,3,FALSE),4),\"\"))","v":""},{"$f":"IF(P_21号様式!J52<> \"\",TEXT(INT(P_21号様式!J52),\"#,##0\"),\"\")","v":"3,460"},{"$f":"IF(P_21号様式!J52= \"\",\"\",IF(VALUE(FIXED(P_21号様式!J52,0,TRUE))<>P_21号様式!J52,RIGHT(FIXED(P_21号様式!J52,3,FALSE),4),\"\"))","v":""},{"$f":"IF(P_21号様式!K52<> \"\",TEXT(INT(P_21号様式!K52),\"#,##0\"),\"\")","v":"0"},{"$f":"IF(P_21号様式!K52= \"\",\"\",IF(VALUE(FIXED(P_21号様式!K52,0,TRUE))<>P_21号様式!K52,RIGHT(FIXED(P_21号様式!K52,3,FALSE),4),\"\"))","v":""},{"$f":"IF(P_21号様式!L52<> \"\",TEXT(INT(P_21号様式!L52),\"#,##0\"),\"\")","v":"3,460"},{"$f":"IF(P_21号様式!L52= \"\",\"\",IF(VALUE(FIXED(P_21号様式!L52,0,TRUE))<>P_21号様式!L52,RIGHT(FIXED(P_21号様式!L52,3,FALSE),4),\"\"))","v":""},{"$f":"IF(P_21号様式!M52=\"\",\"\",P_21号様式!M52)","v":3.84393063583815},null,{"$f":"IF(P_21号様式!N52=\"\",\"\",P_21号様式!N52)","v":"21:40:00"}]
[{"$f":"IF(P_21号様式!C53=\"\",\"\",P_21号様式!C53)","v":"伊仙町"},null,{"$f":"IF(P_21号様式!D53=\"\",\"\",P_21号様式!D53)","v":""},{"$f":"IF(P_21号様式!E53<> \"\",TEXT(INT(P_21号様式!E53),\"#,##0\"),\"\")","v":"4,595"},{"$f":"IF(P_21号様式!E53= \"\",\"\",IF(VALUE(FIXED(P_21号様式!E53,0,TRUE))<>P_21号様式!E53,RIGHT(FIXED(P_21号様式!E53,3,FALSE),4),\"\"))","v":""},{"$f":"IF(P_21号様式!F53<> \"\",TEXT(INT(P_21号様式!F53),\"#,##0\"),\"\")","v":"0"},{"$f":"IF(P_21号様式!F53= \"\",\"\",IF(VALUE(FIXED(P_21号様式!F53,0,TRUE))<>P_21号様式!F53,RIGHT(FIXED(P_21号様式!F53,3,FALSE),4),\"\"))","v":""},{"$f":"IF(P_21号様式!G53<> \"\",TEXT(INT(P_21号様式!G53),\"#,##0\"),\"\")","v":"0"},{"$f":"IF(P_21号様式!G53= \"\",\"\",IF(VALUE(FIXED(P_21号様式!G53,0,TRUE))<>P_21号様式!G53,RIGHT(FIXED(P_21号様式!G53,3,FALSE),4),\"\"))","v":""},{"$f":"IF(P_21号様式!H53<> \"\",TEXT(INT(P_21号様式!H53),\"#,##0\"),\"\")","v":"4,595"},{"$f":"IF(P_21号様式!H53= \"\",\"\",IF(VALUE(FIXED(P_21号様式!H53,0,TRUE))<>P_21号様式!H53,RIGHT(FIXED(P_21号様式!H53,3,FALSE),4),\"\"))","v":""},{"$f":"IF(P_21号様式!I53<> \"\",TEXT(INT(P_21号様式!I53),\"#,##0\"),\"\")","v":"511"},{"$f":"IF(P_21号様式!I53= \"\",\"\",IF(VALUE(FIXED(P_21号様式!I53,0,TRUE))<>P_21号様式!I53,RIGHT(FIXED(P_21号様式!I53,3,FALSE),4),\"\"))","v":""},{"$f":"IF(P_21号様式!J53<> \"\",TEXT(INT(P_21号様式!J53),\"#,##0\"),\"\")","v":"5,106"},{"$f":"IF(P_21号様式!J53= \"\",\"\",IF(VALUE(FIXED(P_21号様式!J53,0,TRUE))<>P_21号様式!J53,RIGHT(FIXED(P_21号様式!J53,3,FALSE),4),\"\"))","v":""},{"$f":"IF(P_21号様式!K53<> \"\",TEXT(INT(P_21号様式!K53),\"#,##0\"),\"\")","v":"0"},{"$f":"IF(P_21号様式!K53= \"\",\"\",IF(VALUE(FIXED(P_21号様式!K53,0,TRUE))<>P_21号様式!K53,RIGHT(FIXED(P_21号様式!K53,3,FALSE),4),\"\"))","v":""},{"$f":"IF(P_21号様式!L53<> \"\",TEXT(INT(P_21号様式!L53),\"#,##0\"),\"\")","v":"5,106"},{"$f":"IF(P_21号様式!L53= \"\",\"\",IF(VALUE(FIXED(P_21号様式!L53,0,TRUE))<>P_21号様式!L53,RIGHT(FIXED(P_21号様式!L53,3,FALSE),4),\"\"))","v":""},{"$f":"IF(P_21号様式!M53=\"\",\"\",P_21号様式!M53)","v":10.007833920877401},null,{"$f":"IF(P_21号様式!N53=\"\",\"\",P_21号様式!N53)","v":"23:29:00"}]
[{"$f":"IF(P_21号様式!C54=\"\",\"\",P_21号様式!C54)","v":"和泊町"},null,{"$f":"IF(P_21号様式!D54=\"\",\"\",P_21号様式!D54)","v":""},{"$f":"IF(P_21号様式!E54<> \"\",TEXT(INT(P_21号様式!E54),\"#,##0\"),\"\")","v":"3,926"},{"$f":"IF(P_21号様式!E54= \"\",\"\",IF(VALUE(FIXED(P_21号様式!E54,0,TRUE))<>P_21号様式!E54,RIGHT(FIXED(P_21号様式!E54,3,FALSE),4),\"\"))","v":""},{"$f":"IF(P_21号様式!F54<> \"\",TEXT(INT(P_21号様式!F54),\"#,##0\"),\"\")","v":"0"},{"$f":"IF(P_21号様式!F54= \"\",\"\",IF(VALUE(FIXED(P_21号様式!F54,0,TRUE))<>P_21号様式!F54,RIGHT(FIXED(P_21号様式!F54,3,FALSE),4),\"\"))","v":""},{"$f":"IF(P_21号様式!G54<> \"\",TEXT(INT(P_21号様式!G54),\"#,##0\"),\"\")","v":"0"},{"$f":"IF(P_21号様式!G54= \"\",\"\",IF(VALUE(FIXED(P_21号様式!G54,0,TRUE))<>P_21号様式!G54,RIGHT(FIXED(P_21号様式!G54,3,FALSE),4),\"\"))","v":""},{"$f":"IF(P_21号様式!H54<> \"\",TEXT(INT(P_21号様式!H54),\"#,##0\"),\"\")","v":"3,926"},{"$f":"IF(P_21号様式!H54= \"\",\"\",IF(VALUE(FIXED(P_21号様式!H54,0,TRUE))<>P_21号様式!H54,RIGHT(FIXED(P_21号様式!H54,3,FALSE),4),\"\"))","v":""},{"$f":"IF(P_21号様式!I54<> \"\",TEXT(INT(P_21号様式!I54),\"#,##0\"),\"\")","v":"56"},{"$f":"IF(P_21号様式!I54= \"\",\"\",IF(VALUE(FIXED(P_21号様式!I54,0,TRUE))<>P_21号様式!I54,RIGHT(FIXED(P_21号様式!I54,3,FALSE),4),\"\"))","v":""},{"$f":"IF(P_21号様式!J54<> \"\",TEXT(INT(P_21号様式!J54),\"#,##0\"),\"\")","v":"3,982"},{"$f":"IF(P_21号様式!J54= \"\",\"\",IF(VALUE(FIXED(P_21号様式!J54,0,TRUE))<>P_21号様式!J54,RIGHT(FIXED(P_21号様式!J54,3,FALSE),4),\"\"))","v":""},{"$f":"IF(P_21号様式!K54<> \"\",TEXT(INT(P_21号様式!K54),\"#,##0\"),\"\")","v":"0"},{"$f":"IF(P_21号様式!K54= \"\",\"\",IF(VALUE(FIXED(P_21号様式!K54,0,TRUE))<>P_21号様式!K54,RIGHT(FIXED(P_21号様式!K54,3,FALSE),4),\"\"))","v":""},{"$f":"IF(P_21号様式!L54<> \"\",TEXT(INT(P_21号様式!L54),\"#,##0\"),\"\")","v":"3,982"},{"$f":"IF(P_21号様式!L54= \"\",\"\",IF(VALUE(FIXED(P_21号様式!L54,0,TRUE))<>P_21号様式!L54,RIGHT(FIXED(P_21号様式!L54,3,FALSE),4),\"\"))","v":""},{"$f":"IF(P_21号様式!M54=\"\",\"\",P_21号様式!M54)","v":1.4063284781516801},null,{"$f":"IF(P_21号様式!N54=\"\",\"\",P_21号様式!N54)","v":"21:54:00"}]
[{"$f":"IF(P_21号様式!C55=\"\",\"\",P_21号様式!C55)","v":"知名町"},null,{"$f":"IF(P_21号様式!D55=\"\",\"\",P_21号様式!D55)","v":""},{"$f":"IF(P_21号様式!E55<> \"\",TEXT(INT(P_21号様式!E55),\"#,##0\"),\"\")","v":"3,487"},{"$f":"IF(P_21号様式!E55= \"\",\"\",IF(VALUE(FIXED(P_21号様式!E55,0,TRUE))<>P_21号様式!E55,RIGHT(FIXED(P_21号様式!E55,3,FALSE),4),\"\"))","v":""},{"$f":"IF(P_21号様式!F55<> \"\",TEXT(INT(P_21号様式!F55),\"#,##0\"),\"\")","v":"0"},{"$f":"IF(P_21号様式!F55= \"\",\"\",IF(VALUE(FIXED(P_21号様式!F55,0,TRUE))<>P_21号様式!F55,RIGHT(FIXED(P_21号様式!F55,3,FALSE),4),\"\"))","v":""},{"$f":"IF(P_21号様式!G55<> \"\",TEXT(INT(P_21号様式!G55),\"#,##0\"),\"\")","v":"0"},{"$f":"IF(P_21号様式!G55= \"\",\"\",IF(VALUE(FIXED(P_21号様式!G55,0,TRUE))<>P_21号様式!G55,RIGHT(FIXED(P_21号様式!G55,3,FALSE),4),\"\"))","v":""},{"$f":"IF(P_21号様式!H55<> \"\",TEXT(INT(P_21号様式!H55),\"#,##0\"),\"\")","v":"3,487"},{"$f":"IF(P_21号様式!H55= \"\",\"\",IF(VALUE(FIXED(P_21号様式!H55,0,TRUE))<>P_21号様式!H55,RIGHT(FIXED(P_21号様式!H55,3,FALSE),4),\"\"))","v":""},{"$f":"IF(P_21号様式!I55<> \"\",TEXT(INT(P_21号様式!I55),\"#,##0\"),\"\")","v":"90"},{"$f":"IF(P_21号様式!I55= \"\",\"\",IF(VALUE(FIXED(P_21号様式!I55,0,TRUE))<>P_21号様式!I55,RIGHT(FIXED(P_21号様式!I55,3,FALSE),4),\"\"))","v":""},{"$f":"IF(P_21号様式!J55<> \"\",TEXT(INT(P_21号様式!J55),\"#,##0\"),\"\")","v":"3,577"},{"$f":"IF(P_21号様式!J55= \"\",\"\",IF(VALUE(FIXED(P_21号様式!J55,0,TRUE))<>P_21号様式!J55,RIGHT(FIXED(P_21号様式!J55,3,FALSE),4),\"\"))","v":""},{"$f":"IF(P_21号様式!K55<> \"\",TEXT(INT(P_21号様式!K55),\"#,##0\"),\"\")","v":"0"},{"$f":"IF(P_21号様式!K55= \"\",\"\",IF(VALUE(FIXED(P_21号様式!K55,0,TRUE))<>P_21号様式!K55,RIGHT(FIXED(P_21号様式!K55,3,FALSE),4),\"\"))","v":""},{"$f":"IF(P_21号様式!L55<> \"\",TEXT(INT(P_21号様式!L55),\"#,##0\"),\"\")","v":"3,577"},{"$f":"IF(P_21号様式!L55= \"\",\"\",IF(VALUE(FIXED(P_21号様式!L55,0,TRUE))<>P_21号様式!L55,RIGHT(FIXED(P_21号様式!L55,3,FALSE),4),\"\"))","v":""},{"$f":"IF(P_21号様式!M55=\"\",\"\",P_21号様式!M55)","v":2.51607492311993},null,{"$f":"IF(P_21号様式!N55=\"\",\"\",P_21号様式!N55)","v":"21:55:00"}]
[{"$f":"IF(P_21号様式!C56=\"\",\"\",P_21号様式!C56)","v":"与論町"},null,{"$f":"IF(P_21号様式!D56=\"\",\"\",P_21号様式!D56)","v":""},{"$f":"IF(P_21号様式!E56<> \"\",TEXT(INT(P_21号様式!E56),\"#,##0\"),\"\")","v":"3,010"},{"$f":"IF(P_21号様式!E56= \"\",\"\",IF(VALUE(FIXED(P_21号様式!E56,0,TRUE))<>P_21号様式!E56,RIGHT(FIXED(P_21号様式!E56,3,FALSE),4),\"\"))","v":""},{"$f":"IF(P_21号様式!F56<> \"\",TEXT(INT(P_21号様式!F56),\"#,##0\"),\"\")","v":"0"},{"$f":"IF(P_21号様式!F56= \"\",\"\",IF(VALUE(FIXED(P_21号様式!F56,0,TRUE))<>P_21号様式!F56,RIGHT(FIXED(P_21号様式!F56,3,FALSE),4),\"\"))","v":""},{"$f":"IF(P_21号様式!G56<> \"\",TEXT(INT(P_21号様式!G56),\"#,##0\"),\"\")","v":"0"},{"$f":"IF(P_21号様式!G56= \"\",\"\",IF(VALUE(FIXED(P_21号様式!G56,0,TRUE))<>P_21号様式!G56,RIGHT(FIXED(P_21号様式!G56,3,FALSE),4),\"\"))","v":""},{"$f":"IF(P_21号様式!H56<> \"\",TEXT(INT(P_21号様式!H56),\"#,##0\"),\"\")","v":"3,010"},{"$f":"IF(P_21号様式!H56= \"\",\"\",IF(VALUE(FIXED(P_21号様式!H56,0,TRUE))<>P_21号様式!H56,RIGHT(FIXED(P_21号様式!H56,3,FALSE),4),\"\"))","v":""},{"$f":"IF(P_21号様式!I56<> \"\",TEXT(INT(P_21号様式!I56),\"#,##0\"),\"\")","v":"62"},{"$f":"IF(P_21号様式!I56= \"\",\"\",IF(VALUE(FIXED(P_21号様式!I56,0,TRUE))<>P_21号様式!I56,RIGHT(FIXED(P_21号様式!I56,3,FALSE),4),\"\"))","v":""},{"$f":"IF(P_21号様式!J56<> \"\",TEXT(INT(P_21号様式!J56),\"#,##0\"),\"\")","v":"3,072"},{"$f":"IF(P_21号様式!J56= \"\",\"\",IF(VALUE(FIXED(P_21号様式!J56,0,TRUE))<>P_21号様式!J56,RIGHT(FIXED(P_21号様式!J56,3,FALSE),4),\"\"))","v":""},{"$f":"IF(P_21号様式!K56<> \"\",TEXT(INT(P_21号様式!K56),\"#,##0\"),\"\")","v":"1"},{"$f":"IF(P_21号様式!K56= \"\",\"\",IF(VALUE(FIXED(P_21号様式!K56,0,TRUE))<>P_21号様式!K56,RIGHT(FIXED(P_21号様式!K56,3,FALSE),4),\"\"))","v":""},{"$f":"IF(P_21号様式!L56<> \"\",TEXT(INT(P_21号様式!L56),\"#,##0\"),\"\")","v":"3,073"},{"$f":"IF(P_21号様式!L56= \"\",\"\",IF(VALUE(FIXED(P_21号様式!L56,0,TRUE))<>P_21号様式!L56,RIGHT(FIXED(P_21号様式!L56,3,FALSE),4),\"\"))","v":""},{"$f":"IF(P_21号様式!M56=\"\",\"\",P_21号様式!M56)","v":2.0182291666666701},null,{"$f":"IF(P_21号様式!N56=\"\",\"\",P_21号様式!N56)","v":"23:17:00"}]
[{"$f":"IF(P_21号様式!C57=\"\",\"\",P_21号様式!C57)","v":"＊（大島郡）計"},null,{"$f":"IF(P_21号様式!D57=\"\",\"\",P_21号様式!D57)","v":100},{"$f":"IF(P_21号様式!E57<> \"\",TEXT(INT(P_21号様式!E57),\"#,##0\"),\"\")","v":"40,375"},{"$f":"IF(P_21号様式!E57= \"\",\"\",IF(VALUE(FIXED(P_21号様式!E57,0,TRUE))<>P_21号様式!E57,RIGHT(FIXED(P_21号様式!E57,3,FALSE),4),\"\"))","v":""},{"$f":"IF(P_21号様式!F57<> \"\",TEXT(INT(P_21号様式!F57),\"#,##0\"),\"\")","v":"0"},{"$f":"IF(P_21号様式!F57= \"\",\"\",IF(VALUE(FIXED(P_21号様式!F57,0,TRUE))<>P_21号様式!F57,RIGHT(FIXED(P_21号様式!F57,3,FALSE),4),\"\"))","v":""},{"$f":"IF(P_21号様式!G57<> \"\",TEXT(INT(P_21号様式!G57),\"#,##0\"),\"\")","v":"0"},{"$f":"IF(P_21号様式!G57= \"\",\"\",IF(VALUE(FIXED(P_21号様式!G57,0,TRUE))<>P_21号様式!G57,RIGHT(FIXED(P_21号様式!G57,3,FALSE),4),\"\"))","v":""},{"$f":"IF(P_21号様式!H57<> \"\",TEXT(INT(P_21号様式!H57),\"#,##0\"),\"\")","v":"40,375"},{"$f":"IF(P_21号様式!H57= \"\",\"\",IF(VALUE(FIXED(P_21号様式!H57,0,TRUE))<>P_21号様式!H57,RIGHT(FIXED(P_21号様式!H57,3,FALSE),4),\"\"))","v":""},{"$f":"IF(P_21号様式!I57<> \"\",TEXT(INT(P_21号様式!I57),\"#,##0\"),\"\")","v":"1,714"},{"$f":"IF(P_21号様式!I57= \"\",\"\",IF(VALUE(FIXED(P_21号様式!I57,0,TRUE))<>P_21号様式!I57,RIGHT(FIXED(P_21号様式!I57,3,FALSE),4),\"\"))","v":""},{"$f":"IF(P_21号様式!J57<> \"\",TEXT(INT(P_21号様式!J57),\"#,##0\"),\"\")","v":"42,089"},{"$f":"IF(P_21号様式!J57= \"\",\"\",IF(VALUE(FIXED(P_21号様式!J57,0,TRUE))<>P_21号様式!J57,RIGHT(FIXED(P_21号様式!J57,3,FALSE),4),\"\"))","v":""},{"$f":"IF(P_21号様式!K57<> \"\",TEXT(INT(P_21号様式!K57),\"#,##0\"),\"\")","v":"4"},{"$f":"IF(P_21号様式!K57= \"\",\"\",IF(VALUE(FIXED(P_21号様式!K57,0,TRUE))<>P_21号様式!K57,RIGHT(FIXED(P_21号様式!K57,3,FALSE),4),\"\"))","v":""},{"$f":"IF(P_21号様式!L57<> \"\",TEXT(INT(P_21号様式!L57),\"#,##0\"),\"\")","v":"42,093"},{"$f":"IF(P_21号様式!L57= \"\",\"\",IF(VALUE(FIXED(P_21号様式!L57,0,TRUE))<>P_21号様式!L57,RIGHT(FIXED(P_21号様式!L57,3,FALSE),4),\"\"))","v":""},{"$f":"IF(P_21号様式!M57=\"\",\"\",P_21号様式!M57)","v":4.0723229347335401},null,{"$f":"IF(P_21号様式!N57=\"\",\"\",P_21号様式!N57)","v":"23:29:00"}]
[{"$f":"IF(P_21号様式!C58=\"\",\"\",P_21号様式!C58)","v":""},null,{"$f":"IF(P_21号様式!D58=\"\",\"\",P_21号様式!D58)","v":""},{"$f":"IF(P_21号様式!E58<> \"\",TEXT(INT(P_21号様式!E58),\"#,##0\"),\"\")","v":""},{"$f":"IF(P_21号様式!E58= \"\",\"\",IF(VALUE(FIXED(P_21号様式!E58,0,TRUE))<>P_21号様式!E58,RIGHT(FIXED(P_21号様式!E58,3,FALSE),4),\"\"))","v":""},{"$f":"IF(P_21号様式!F58<> \"\",TEXT(INT(P_21号様式!F58),\"#,##0\"),\"\")","v":""},{"$f":"IF(P_21号様式!F58= \"\",\"\",IF(VALUE(FIXED(P_21号様式!F58,0,TRUE))<>P_21号様式!F58,RIGHT(FIXED(P_21号様式!F58,3,FALSE),4),\"\"))","v":""},{"$f":"IF(P_21号様式!G58<> \"\",TEXT(INT(P_21号様式!G58),\"#,##0\"),\"\")","v":""},{"$f":"IF(P_21号様式!G58= \"\",\"\",IF(VALUE(FIXED(P_21号様式!G58,0,TRUE))<>P_21号様式!G58,RIGHT(FIXED(P_21号様式!G58,3,FALSE),4),\"\"))","v":""},{"$f":"IF(P_21号様式!H58<> \"\",TEXT(INT(P_21号様式!H58),\"#,##0\"),\"\")","v":""},{"$f":"IF(P_21号様式!H58= \"\",\"\",IF(VALUE(FIXED(P_21号様式!H58,0,TRUE))<>P_21号様式!H58,RIGHT(FIXED(P_21号様式!H58,3,FALSE),4),\"\"))","v":""},{"$f":"IF(P_21号様式!I58<> \"\",TEXT(INT(P_21号様式!I58),\"#,##0\"),\"\")","v":""},{"$f":"IF(P_21号様式!I58= \"\",\"\",IF(VALUE(FIXED(P_21号様式!I58,0,TRUE))<>P_21号様式!I58,RIGHT(FIXED(P_21号様式!I58,3,FALSE),4),\"\"))","v":""},{"$f":"IF(P_21号様式!J58<> \"\",TEXT(INT(P_21号様式!J58),\"#,##0\"),\"\")","v":""},{"$f":"IF(P_21号様式!J58= \"\",\"\",IF(VALUE(FIXED(P_21号様式!J58,0,TRUE))<>P_21号様式!J58,RIGHT(FIXED(P_21号様式!J58,3,FALSE),4),\"\"))","v":""},{"$f":"IF(P_21号様式!K58<> \"\",TEXT(INT(P_21号様式!K58),\"#,##0\"),\"\")","v":""},{"$f":"IF(P_21号様式!K58= \"\",\"\",IF(VALUE(FIXED(P_21号様式!K58,0,TRUE))<>P_21号様式!K58,RIGHT(FIXED(P_21号様式!K58,3,FALSE),4),\"\"))","v":""},{"$f":"IF(P_21号様式!L58<> \"\",TEXT(INT(P_21号様式!L58),\"#,##0\"),\"\")","v":""},{"$f":"IF(P_21号様式!L58= \"\",\"\",IF(VALUE(FIXED(P_21号様式!L58,0,TRUE))<>P_21号様式!L58,RIGHT(FIXED(P_21号様式!L58,3,FALSE),4),\"\"))","v":""},{"$f":"IF(P_21号様式!M58=\"\",\"\",P_21号様式!M58)","v":""},null,{"$f":"IF(P_21号様式!N58=\"\",\"\",P_21号様式!N58)","v":""}]
[{"$f":"IF(P_21号様式!C59=\"\",\"\",P_21号様式!C59)","v":""},null,{"$f":"IF(P_21号様式!D59=\"\",\"\",P_21号様式!D59)","v":""},{"$f":"IF(P_21号様式!E59<> \"\",TEXT(INT(P_21号様式!E59),\"#,##0\"),\"\")","v":""},{"$f":"IF(P_21号様式!E59= \"\",\"\",IF(VALUE(FIXED(P_21号様式!E59,0,TRUE))<>P_21号様式!E59,RIGHT(FIXED(P_21号様式!E59,3,FALSE),4),\"\"))","v":""},{"$f":"IF(P_21号様式!F59<> \"\",TEXT(INT(P_21号様式!F59),\"#,##0\"),\"\")","v":""},{"$f":"IF(P_21号様式!F59= \"\",\"\",IF(VALUE(FIXED(P_21号様式!F59,0,TRUE))<>P_21号様式!F59,RIGHT(FIXED(P_21号様式!F59,3,FALSE),4),\"\"))","v":""},{"$f":"IF(P_21号様式!G59<> \"\",TEXT(INT(P_21号様式!G59),\"#,##0\"),\"\")","v":""},{"$f":"IF(P_21号様式!G59= \"\",\"\",IF(VALUE(FIXED(P_21号様式!G59,0,TRUE))<>P_21号様式!G59,RIGHT(FIXED(P_21号様式!G59,3,FALSE),4),\"\"))","v":""},{"$f":"IF(P_21号様式!H59<> \"\",TEXT(INT(P_21号様式!H59),\"#,##0\"),\"\")","v":""},{"$f":"IF(P_21号様式!H59= \"\",\"\",IF(VALUE(FIXED(P_21号様式!H59,0,TRUE))<>P_21号様式!H59,RIGHT(FIXED(P_21号様式!H59,3,FALSE),4),\"\"))","v":""},{"$f":"IF(P_21号様式!I59<> \"\",TEXT(INT(P_21号様式!I59),\"#,##0\"),\"\")","v":""},{"$f":"IF(P_21号様式!I59= \"\",\"\",IF(VALUE(FIXED(P_21号様式!I59,0,TRUE))<>P_21号様式!I59,RIGHT(FIXED(P_21号様式!I59,3,FALSE),4),\"\"))","v":""},{"$f":"IF(P_21号様式!J59<> \"\",TEXT(INT(P_21号様式!J59),\"#,##0\"),\"\")","v":""},{"$f":"IF(P_21号様式!J59= \"\",\"\",IF(VALUE(FIXED(P_21号様式!J59,0,TRUE))<>P_21号様式!J59,RIGHT(FIXED(P_21号様式!J59,3,FALSE),4),\"\"))","v":""},{"$f":"IF(P_21号様式!K59<> \"\",TEXT(INT(P_21号様式!K59),\"#,##0\"),\"\")","v":""},{"$f":"IF(P_21号様式!K59= \"\",\"\",IF(VALUE(FIXED(P_21号様式!K59,0,TRUE))<>P_21号様式!K59,RIGHT(FIXED(P_21号様式!K59,3,FALSE),4),\"\"))","v":""},{"$f":"IF(P_21号様式!L59<> \"\",TEXT(INT(P_21号様式!L59),\"#,##0\"),\"\")","v":""},{"$f":"IF(P_21号様式!L59= \"\",\"\",IF(VALUE(FIXED(P_21号様式!L59,0,TRUE))<>P_21号様式!L59,RIGHT(FIXED(P_21号様式!L59,3,FALSE),4),\"\"))","v":""},{"$f":"IF(P_21号様式!M59=\"\",\"\",P_21号様式!M59)","v":""},null,{"$f":"IF(P_21号様式!N59=\"\",\"\",P_21号様式!N59)","v":""}]
[{"$f":"IF(P_21号様式!C60=\"\",\"\",P_21号様式!C60)","v":""},null,{"$f":"IF(P_21号様式!D60=\"\",\"\",P_21号様式!D60)","v":""},{"$f":"IF(P_21号様式!E60<> \"\",TEXT(INT(P_21号様式!E60),\"#,##0\"),\"\")","v":""},{"$f":"IF(P_21号様式!E60= \"\",\"\",IF(VALUE(FIXED(P_21号様式!E60,0,TRUE))<>P_21号様式!E60,RIGHT(FIXED(P_21号様式!E60,3,FALSE),4),\"\"))","v":""},{"$f":"IF(P_21号様式!F60<> \"\",TEXT(INT(P_21号様式!F60),\"#,##0\"),\"\")","v":""},{"$f":"IF(P_21号様式!F60= \"\",\"\",IF(VALUE(FIXED(P_21号様式!F60,0,TRUE))<>P_21号様式!F60,RIGHT(FIXED(P_21号様式!F60,3,FALSE),4),\"\"))","v":""},{"$f":"IF(P_21号様式!G60<> \"\",TEXT(INT(P_21号様式!G60),\"#,##0\"),\"\")","v":""},{"$f":"IF(P_21号様式!G60= \"\",\"\",IF(VALUE(FIXED(P_21号様式!G60,0,TRUE))<>P_21号様式!G60,RIGHT(FIXED(P_21号様式!G60,3,FALSE),4),\"\"))","v":""},{"$f":"IF(P_21号様式!H60<> \"\",TEXT(INT(P_21号様式!H60),\"#,##0\"),\"\")","v":""},{"$f":"IF(P_21号様式!H60= \"\",\"\",IF(VALUE(FIXED(P_21号様式!H60,0,TRUE))<>P_21号様式!H60,RIGHT(FIXED(P_21号様式!H60,3,FALSE),4),\"\"))","v":""},{"$f":"IF(P_21号様式!I60<> \"\",TEXT(INT(P_21号様式!I60),\"#,##0\"),\"\")","v":""},{"$f":"IF(P_21号様式!I60= \"\",\"\",IF(VALUE(FIXED(P_21号様式!I60,0,TRUE))<>P_21号様式!I60,RIGHT(FIXED(P_21号様式!I60,3,FALSE),4),\"\"))","v":""},{"$f":"IF(P_21号様式!J60<> \"\",TEXT(INT(P_21号様式!J60),\"#,##0\"),\"\")","v":""},{"$f":"IF(P_21号様式!J60= \"\",\"\",IF(VALUE(FIXED(P_21号様式!J60,0,TRUE))<>P_21号様式!J60,RIGHT(FIXED(P_21号様式!J60,3,FALSE),4),\"\"))","v":""},{"$f":"IF(P_21号様式!K60<> \"\",TEXT(INT(P_21号様式!K60),\"#,##0\"),\"\")","v":""},{"$f":"IF(P_21号様式!K60= \"\",\"\",IF(VALUE(FIXED(P_21号様式!K60,0,TRUE))<>P_21号様式!K60,RIGHT(FIXED(P_21号様式!K60,3,FALSE),4),\"\"))","v":""},{"$f":"IF(P_21号様式!L60<> \"\",TEXT(INT(P_21号様式!L60),\"#,##0\"),\"\")","v":""},{"$f":"IF(P_21号様式!L60= \"\",\"\",IF(VALUE(FIXED(P_21号様式!L60,0,TRUE))<>P_21号様式!L60,RIGHT(FIXED(P_21号様式!L60,3,FALSE),4),\"\"))","v":""},{"$f":"IF(P_21号様式!M60=\"\",\"\",P_21号様式!M60)","v":""},null,{"$f":"IF(P_21号様式!N60=\"\",\"\",P_21号様式!N60)","v":""}]
[{"$f":"IF(P_21号様式!C61=\"\",\"\",P_21号様式!C61)","v":""},null,{"$f":"IF(P_21号様式!D61=\"\",\"\",P_21号様式!D61)","v":""},{"$f":"IF(P_21号様式!E61<> \"\",TEXT(INT(P_21号様式!E61),\"#,##0\"),\"\")","v":""},{"$f":"IF(P_21号様式!E61= \"\",\"\",IF(VALUE(FIXED(P_21号様式!E61,0,TRUE))<>P_21号様式!E61,RIGHT(FIXED(P_21号様式!E61,3,FALSE),4),\"\"))","v":""},{"$f":"IF(P_21号様式!F61<> \"\",TEXT(INT(P_21号様式!F61),\"#,##0\"),\"\")","v":""},{"$f":"IF(P_21号様式!F61= \"\",\"\",IF(VALUE(FIXED(P_21号様式!F61,0,TRUE))<>P_21号様式!F61,RIGHT(FIXED(P_21号様式!F61,3,FALSE),4),\"\"))","v":""},{"$f":"IF(P_21号様式!G61<> \"\",TEXT(INT(P_21号様式!G61),\"#,##0\"),\"\")","v":""},{"$f":"IF(P_21号様式!G61= \"\",\"\",IF(VALUE(FIXED(P_21号様式!G61,0,TRUE))<>P_21号様式!G61,RIGHT(FIXED(P_21号様式!G61,3,FALSE),4),\"\"))","v":""},{"$f":"IF(P_21号様式!H61<> \"\",TEXT(INT(P_21号様式!H61),\"#,##0\"),\"\")","v":""},{"$f":"IF(P_21号様式!H61= \"\",\"\",IF(VALUE(FIXED(P_21号様式!H61,0,TRUE))<>P_21号様式!H61,RIGHT(FIXED(P_21号様式!H61,3,FALSE),4),\"\"))","v":""},{"$f":"IF(P_21号様式!I61<> \"\",TEXT(INT(P_21号様式!I61),\"#,##0\"),\"\")","v":""},{"$f":"IF(P_21号様式!I61= \"\",\"\",IF(VALUE(FIXED(P_21号様式!I61,0,TRUE))<>P_21号様式!I61,RIGHT(FIXED(P_21号様式!I61,3,FALSE),4),\"\"))","v":""},{"$f":"IF(P_21号様式!J61<> \"\",TEXT(INT(P_21号様式!J61),\"#,##0\"),\"\")","v":""},{"$f":"IF(P_21号様式!J61= \"\",\"\",IF(VALUE(FIXED(P_21号様式!J61,0,TRUE))<>P_21号様式!J61,RIGHT(FIXED(P_21号様式!J61,3,FALSE),4),\"\"))","v":""},{"$f":"IF(P_21号様式!K61<> \"\",TEXT(INT(P_21号様式!K61),\"#,##0\"),\"\")","v":""},{"$f":"IF(P_21号様式!K61= \"\",\"\",IF(VALUE(FIXED(P_21号様式!K61,0,TRUE))<>P_21号様式!K61,RIGHT(FIXED(P_21号様式!K61,3,FALSE),4),\"\"))","v":""},{"$f":"IF(P_21号様式!L61<> \"\",TEXT(INT(P_21号様式!L61),\"#,##0\"),\"\")","v":""},{"$f":"IF(P_21号様式!L61= \"\",\"\",IF(VALUE(FIXED(P_21号様式!L61,0,TRUE))<>P_21号様式!L61,RIGHT(FIXED(P_21号様式!L61,3,FALSE),4),\"\"))","v":""},{"$f":"IF(P_21号様式!M61=\"\",\"\",P_21号様式!M61)","v":""},null,{"$f":"IF(P_21号様式!N61=\"\",\"\",P_21号様式!N61)","v":""}]
[{"$f":"IF(P_21号様式!C62=\"\",\"\",P_21号様式!C62)","v":""},null,{"$f":"IF(P_21号様式!D62=\"\",\"\",P_21号様式!D62)","v":""},{"$f":"IF(P_21号様式!E62<> \"\",TEXT(INT(P_21号様式!E62),\"#,##0\"),\"\")","v":""},{"$f":"IF(P_21号様式!E62= \"\",\"\",IF(VALUE(FIXED(P_21号様式!E62,0,TRUE))<>P_21号様式!E62,RIGHT(FIXED(P_21号様式!E62,3,FALSE),4),\"\"))","v":""},{"$f":"IF(P_21号様式!F62<> \"\",TEXT(INT(P_21号様式!F62),\"#,##0\"),\"\")","v":""},{"$f":"IF(P_21号様式!F62= \"\",\"\",IF(VALUE(FIXED(P_21号様式!F62,0,TRUE))<>P_21号様式!F62,RIGHT(FIXED(P_21号様式!F62,3,FALSE),4),\"\"))","v":""},{"$f":"IF(P_21号様式!G62<> \"\",TEXT(INT(P_21号様式!G62),\"#,##0\"),\"\")","v":""},{"$f":"IF(P_21号様式!G62= \"\",\"\",IF(VALUE(FIXED(P_21号様式!G62,0,TRUE))<>P_21号様式!G62,RIGHT(FIXED(P_21号様式!G62,3,FALSE),4),\"\"))","v":""},{"$f":"IF(P_21号様式!H62<> \"\",TEXT(INT(P_21号様式!H62),\"#,##0\"),\"\")","v":""},{"$f":"IF(P_21号様式!H62= \"\",\"\",IF(VALUE(FIXED(P_21号様式!H62,0,TRUE))<>P_21号様式!H62,RIGHT(FIXED(P_21号様式!H62,3,FALSE),4),\"\"))","v":""},{"$f":"IF(P_21号様式!I62<> \"\",TEXT(INT(P_21号様式!I62),\"#,##0\"),\"\")","v":""},{"$f":"IF(P_21号様式!I62= \"\",\"\",IF(VALUE(FIXED(P_21号様式!I62,0,TRUE))<>P_21号様式!I62,RIGHT(FIXED(P_21号様式!I62,3,FALSE),4),\"\"))","v":""},{"$f":"IF(P_21号様式!J62<> \"\",TEXT(INT(P_21号様式!J62),\"#,##0\"),\"\")","v":""},{"$f":"IF(P_21号様式!J62= \"\",\"\",IF(VALUE(FIXED(P_21号様式!J62,0,TRUE))<>P_21号様式!J62,RIGHT(FIXED(P_21号様式!J62,3,FALSE),4),\"\"))","v":""},{"$f":"IF(P_21号様式!K62<> \"\",TEXT(INT(P_21号様式!K62),\"#,##0\"),\"\")","v":""},{"$f":"IF(P_21号様式!K62= \"\",\"\",IF(VALUE(FIXED(P_21号様式!K62,0,TRUE))<>P_21号様式!K62,RIGHT(FIXED(P_21号様式!K62,3,FALSE),4),\"\"))","v":""},{"$f":"IF(P_21号様式!L62<> \"\",TEXT(INT(P_21号様式!L62),\"#,##0\"),\"\")","v":""},{"$f":"IF(P_21号様式!L62= \"\",\"\",IF(VALUE(FIXED(P_21号様式!L62,0,TRUE))<>P_21号様式!L62,RIGHT(FIXED(P_21号様式!L62,3,FALSE),4),\"\"))","v":""},{"$f":"IF(P_21号様式!M62=\"\",\"\",P_21号様式!M62)","v":""},null,{"$f":"IF(P_21号様式!N62=\"\",\"\",P_21号様式!N62)","v":""}]
[{"$f":"IF(P_21号様式!C63=\"\",\"\",P_21号様式!C63)","v":""},null,{"$f":"IF(P_21号様式!D63=\"\",\"\",P_21号様式!D63)","v":""},{"$f":"IF(P_21号様式!E63<> \"\",TEXT(INT(P_21号様式!E63),\"#,##0\"),\"\")","v":""},{"$f":"IF(P_21号様式!E63= \"\",\"\",IF(VALUE(FIXED(P_21号様式!E63,0,TRUE))<>P_21号様式!E63,RIGHT(FIXED(P_21号様式!E63,3,FALSE),4),\"\"))","v":""},{"$f":"IF(P_21号様式!F63<> \"\",TEXT(INT(P_21号様式!F63),\"#,##0\"),\"\")","v":""},{"$f":"IF(P_21号様式!F63= \"\",\"\",IF(VALUE(FIXED(P_21号様式!F63,0,TRUE))<>P_21号様式!F63,RIGHT(FIXED(P_21号様式!F63,3,FALSE),4),\"\"))","v":""},{"$f":"IF(P_21号様式!G63<> \"\",TEXT(INT(P_21号様式!G63),\"#,##0\"),\"\")","v":""},{"$f":"IF(P_21号様式!G63= \"\",\"\",IF(VALUE(FIXED(P_21号様式!G63,0,TRUE))<>P_21号様式!G63,RIGHT(FIXED(P_21号様式!G63,3,FALSE),4),\"\"))","v":""},{"$f":"IF(P_21号様式!H63<> \"\",TEXT(INT(P_21号様式!H63),\"#,##0\"),\"\")","v":""},{"$f":"IF(P_21号様式!H63= \"\",\"\",IF(VALUE(FIXED(P_21号様式!H63,0,TRUE))<>P_21号様式!H63,RIGHT(FIXED(P_21号様式!H63,3,FALSE),4),\"\"))","v":""},{"$f":"IF(P_21号様式!I63<> \"\",TEXT(INT(P_21号様式!I63),\"#,##0\"),\"\")","v":""},{"$f":"IF(P_21号様式!I63= \"\",\"\",IF(VALUE(FIXED(P_21号様式!I63,0,TRUE))<>P_21号様式!I63,RIGHT(FIXED(P_21号様式!I63,3,FALSE),4),\"\"))","v":""},{"$f":"IF(P_21号様式!J63<> \"\",TEXT(INT(P_21号様式!J63),\"#,##0\"),\"\")","v":""},{"$f":"IF(P_21号様式!J63= \"\",\"\",IF(VALUE(FIXED(P_21号様式!J63,0,TRUE))<>P_21号様式!J63,RIGHT(FIXED(P_21号様式!J63,3,FALSE),4),\"\"))","v":""},{"$f":"IF(P_21号様式!K63<> \"\",TEXT(INT(P_21号様式!K63),\"#,##0\"),\"\")","v":""},{"$f":"IF(P_21号様式!K63= \"\",\"\",IF(VALUE(FIXED(P_21号様式!K63,0,TRUE))<>P_21号様式!K63,RIGHT(FIXED(P_21号様式!K63,3,FALSE),4),\"\"))","v":""},{"$f":"IF(P_21号様式!L63<> \"\",TEXT(INT(P_21号様式!L63),\"#,##0\"),\"\")","v":""},{"$f":"IF(P_21号様式!L63= \"\",\"\",IF(VALUE(FIXED(P_21号様式!L63,0,TRUE))<>P_21号様式!L63,RIGHT(FIXED(P_21号様式!L63,3,FALSE),4),\"\"))","v":""},{"$f":"IF(P_21号様式!M63=\"\",\"\",P_21号様式!M63)","v":""},null,{"$f":"IF(P_21号様式!N63=\"\",\"\",P_21号様式!N63)","v":""}]
[{"$f":"IF(P_21号様式!C64=\"\",\"\",P_21号様式!C64)","v":""},null,{"$f":"IF(P_21号様式!D64=\"\",\"\",P_21号様式!D64)","v":""},{"$f":"IF(P_21号様式!E64<> \"\",TEXT(INT(P_21号様式!E64),\"#,##0\"),\"\")","v":""},{"$f":"IF(P_21号様式!E64= \"\",\"\",IF(VALUE(FIXED(P_21号様式!E64,0,TRUE))<>P_21号様式!E64,RIGHT(FIXED(P_21号様式!E64,3,FALSE),4),\"\"))","v":""},{"$f":"IF(P_21号様式!F64<> \"\",TEXT(INT(P_21号様式!F64),\"#,##0\"),\"\")","v":""},{"$f":"IF(P_21号様式!F64= \"\",\"\",IF(VALUE(FIXED(P_21号様式!F64,0,TRUE))<>P_21号様式!F64,RIGHT(FIXED(P_21号様式!F64,3,FALSE),4),\"\"))","v":""},{"$f":"IF(P_21号様式!G64<> \"\",TEXT(INT(P_21号様式!G64),\"#,##0\"),\"\")","v":""},{"$f":"IF(P_21号様式!G64= \"\",\"\",IF(VALUE(FIXED(P_21号様式!G64,0,TRUE))<>P_21号様式!G64,RIGHT(FIXED(P_21号様式!G64,3,FALSE),4),\"\"))","v":""},{"$f":"IF(P_21号様式!H64<> \"\",TEXT(INT(P_21号様式!H64),\"#,##0\"),\"\")","v":""},{"$f":"IF(P_21号様式!H64= \"\",\"\",IF(VALUE(FIXED(P_21号様式!H64,0,TRUE))<>P_21号様式!H64,RIGHT(FIXED(P_21号様式!H64,3,FALSE),4),\"\"))","v":""},{"$f":"IF(P_21号様式!I64<> \"\",TEXT(INT(P_21号様式!I64),\"#,##0\"),\"\")","v":""},{"$f":"IF(P_21号様式!I64= \"\",\"\",IF(VALUE(FIXED(P_21号様式!I64,0,TRUE))<>P_21号様式!I64,RIGHT(FIXED(P_21号様式!I64,3,FALSE),4),\"\"))","v":""},{"$f":"IF(P_21号様式!J64<> \"\",TEXT(INT(P_21号様式!J64),\"#,##0\"),\"\")","v":""},{"$f":"IF(P_21号様式!J64= \"\",\"\",IF(VALUE(FIXED(P_21号様式!J64,0,TRUE))<>P_21号様式!J64,RIGHT(FIXED(P_21号様式!J64,3,FALSE),4),\"\"))","v":""},{"$f":"IF(P_21号様式!K64<> \"\",TEXT(INT(P_21号様式!K64),\"#,##0\"),\"\")","v":""},{"$f":"IF(P_21号様式!K64= \"\",\"\",IF(VALUE(FIXED(P_21号様式!K64,0,TRUE))<>P_21号様式!K64,RIGHT(FIXED(P_21号様式!K64,3,FALSE),4),\"\"))","v":""},{"$f":"IF(P_21号様式!L64<> \"\",TEXT(INT(P_21号様式!L64),\"#,##0\"),\"\")","v":""},{"$f":"IF(P_21号様式!L64= \"\",\"\",IF(VALUE(FIXED(P_21号様式!L64,0,TRUE))<>P_21号様式!L64,RIGHT(FIXED(P_21号様式!L64,3,FALSE),4),\"\"))","v":""},{"$f":"IF(P_21号様式!M64=\"\",\"\",P_21号様式!M64)","v":""},null,{"$f":"IF(P_21号様式!N64=\"\",\"\",P_21号様式!N64)","v":""}]
[{"$f":"IF(P_21号様式!C65=\"\",\"\",P_21号様式!C65)","v":""},null,{"$f":"IF(P_21号様式!D65=\"\",\"\",P_21号様式!D65)","v":""},{"$f":"IF(P_21号様式!E65<> \"\",TEXT(INT(P_21号様式!E65),\"#,##0\"),\"\")","v":""},{"$f":"IF(P_21号様式!E65= \"\",\"\",IF(VALUE(FIXED(P_21号様式!E65,0,TRUE))<>P_21号様式!E65,RIGHT(FIXED(P_21号様式!E65,3,FALSE),4),\"\"))","v":""},{"$f":"IF(P_21号様式!F65<> \"\",TEXT(INT(P_21号様式!F65),\"#,##0\"),\"\")","v":""},{"$f":"IF(P_21号様式!F65= \"\",\"\",IF(VALUE(FIXED(P_21号様式!F65,0,TRUE))<>P_21号様式!F65,RIGHT(FIXED(P_21号様式!F65,3,FALSE),4),\"\"))","v":""},{"$f":"IF(P_21号様式!G65<> \"\",TEXT(INT(P_21号様式!G65),\"#,##0\"),\"\")","v":""},{"$f":"IF(P_21号様式!G65= \"\",\"\",IF(VALUE(FIXED(P_21号様式!G65,0,TRUE))<>P_21号様式!G65,RIGHT(FIXED(P_21号様式!G65,3,FALSE),4),\"\"))","v":""},{"$f":"IF(P_21号様式!H65<> \"\",TEXT(INT(P_21号様式!H65),\"#,##0\"),\"\")","v":""},{"$f":"IF(P_21号様式!H65= \"\",\"\",IF(VALUE(FIXED(P_21号様式!H65,0,TRUE))<>P_21号様式!H65,RIGHT(FIXED(P_21号様式!H65,3,FALSE),4),\"\"))","v":""},{"$f":"IF(P_21号様式!I65<> \"\",TEXT(INT(P_21号様式!I65),\"#,##0\"),\"\")","v":""},{"$f":"IF(P_21号様式!I65= \"\",\"\",IF(VALUE(FIXED(P_21号様式!I65,0,TRUE))<>P_21号様式!I65,RIGHT(FIXED(P_21号様式!I65,3,FALSE),4),\"\"))","v":""},{"$f":"IF(P_21号様式!J65<> \"\",TEXT(INT(P_21号様式!J65),\"#,##0\"),\"\")","v":""},{"$f":"IF(P_21号様式!J65= \"\",\"\",IF(VALUE(FIXED(P_21号様式!J65,0,TRUE))<>P_21号様式!J65,RIGHT(FIXED(P_21号様式!J65,3,FALSE),4),\"\"))","v":""},{"$f":"IF(P_21号様式!K65<> \"\",TEXT(INT(P_21号様式!K65),\"#,##0\"),\"\")","v":""},{"$f":"IF(P_21号様式!K65= \"\",\"\",IF(VALUE(FIXED(P_21号様式!K65,0,TRUE))<>P_21号様式!K65,RIGHT(FIXED(P_21号様式!K65,3,FALSE),4),\"\"))","v":""},{"$f":"IF(P_21号様式!L65<> \"\",TEXT(INT(P_21号様式!L65),\"#,##0\"),\"\")","v":""},{"$f":"IF(P_21号様式!L65= \"\",\"\",IF(VALUE(FIXED(P_21号様式!L65,0,TRUE))<>P_21号様式!L65,RIGHT(FIXED(P_21号様式!L65,3,FALSE),4),\"\"))","v":""},{"$f":"IF(P_21号様式!M65=\"\",\"\",P_21号様式!M65)","v":""},null,{"$f":"IF(P_21号様式!N65=\"\",\"\",P_21号様式!N65)","v":""}]
[{"$f":"IF(P_21号様式!C66=\"\",\"\",P_21号様式!C66)","v":""},null,{"$f":"IF(P_21号様式!D66=\"\",\"\",P_21号様式!D66)","v":""},{"$f":"IF(P_21号様式!E66<> \"\",TEXT(INT(P_21号様式!E66),\"#,##0\"),\"\")","v":""},{"$f":"IF(P_21号様式!E66= \"\",\"\",IF(VALUE(FIXED(P_21号様式!E66,0,TRUE))<>P_21号様式!E66,RIGHT(FIXED(P_21号様式!E66,3,FALSE),4),\"\"))","v":""},{"$f":"IF(P_21号様式!F66<> \"\",TEXT(INT(P_21号様式!F66),\"#,##0\"),\"\")","v":""},{"$f":"IF(P_21号様式!F66= \"\",\"\",IF(VALUE(FIXED(P_21号様式!F66,0,TRUE))<>P_21号様式!F66,RIGHT(FIXED(P_21号様式!F66,3,FALSE),4),\"\"))","v":""},{"$f":"IF(P_21号様式!G66<> \"\",TEXT(INT(P_21号様式!G66),\"#,##0\"),\"\")","v":""},{"$f":"IF(P_21号様式!G66= \"\",\"\",IF(VALUE(FIXED(P_21号様式!G66,0,TRUE))<>P_21号様式!G66,RIGHT(FIXED(P_21号様式!G66,3,FALSE),4),\"\"))","v":""},{"$f":"IF(P_21号様式!H66<> \"\",TEXT(INT(P_21号様式!H66),\"#,##0\"),\"\")","v":""},{"$f":"IF(P_21号様式!H66= \"\",\"\",IF(VALUE(FIXED(P_21号様式!H66,0,TRUE))<>P_21号様式!H66,RIGHT(FIXED(P_21号様式!H66,3,FALSE),4),\"\"))","v":""},{"$f":"IF(P_21号様式!I66<> \"\",TEXT(INT(P_21号様式!I66),\"#,##0\"),\"\")","v":""},{"$f":"IF(P_21号様式!I66= \"\",\"\",IF(VALUE(FIXED(P_21号様式!I66,0,TRUE))<>P_21号様式!I66,RIGHT(FIXED(P_21号様式!I66,3,FALSE),4),\"\"))","v":""},{"$f":"IF(P_21号様式!J66<> \"\",TEXT(INT(P_21号様式!J66),\"#,##0\"),\"\")","v":""},{"$f":"IF(P_21号様式!J66= \"\",\"\",IF(VALUE(FIXED(P_21号様式!J66,0,TRUE))<>P_21号様式!J66,RIGHT(FIXED(P_21号様式!J66,3,FALSE),4),\"\"))","v":""},{"$f":"IF(P_21号様式!K66<> \"\",TEXT(INT(P_21号様式!K66),\"#,##0\"),\"\")","v":""},{"$f":"IF(P_21号様式!K66= \"\",\"\",IF(VALUE(FIXED(P_21号様式!K66,0,TRUE))<>P_21号様式!K66,RIGHT(FIXED(P_21号様式!K66,3,FALSE),4),\"\"))","v":""},{"$f":"IF(P_21号様式!L66<> \"\",TEXT(INT(P_21号様式!L66),\"#,##0\"),\"\")","v":""},{"$f":"IF(P_21号様式!L66= \"\",\"\",IF(VALUE(FIXED(P_21号様式!L66,0,TRUE))<>P_21号様式!L66,RIGHT(FIXED(P_21号様式!L66,3,FALSE),4),\"\"))","v":""},{"$f":"IF(P_21号様式!M66=\"\",\"\",P_21号様式!M66)","v":""},null,{"$f":"IF(P_21号様式!N66=\"\",\"\",P_21号様式!N66)","v":""}]
[{"$f":"IF(P_21号様式!C67=\"\",\"\",P_21号様式!C67)","v":""},null,{"$f":"IF(P_21号様式!D67=\"\",\"\",P_21号様式!D67)","v":""},{"$f":"IF(P_21号様式!E67<> \"\",TEXT(INT(P_21号様式!E67),\"#,##0\"),\"\")","v":""},{"$f":"IF(P_21号様式!E67= \"\",\"\",IF(VALUE(FIXED(P_21号様式!E67,0,TRUE))<>P_21号様式!E67,RIGHT(FIXED(P_21号様式!E67,3,FALSE),4),\"\"))","v":""},{"$f":"IF(P_21号様式!F67<> \"\",TEXT(INT(P_21号様式!F67),\"#,##0\"),\"\")","v":""},{"$f":"IF(P_21号様式!F67= \"\",\"\",IF(VALUE(FIXED(P_21号様式!F67,0,TRUE))<>P_21号様式!F67,RIGHT(FIXED(P_21号様式!F67,3,FALSE),4),\"\"))","v":""},{"$f":"IF(P_21号様式!G67<> \"\",TEXT(INT(P_21号様式!G67),\"#,##0\"),\"\")","v":""},{"$f":"IF(P_21号様式!G67= \"\",\"\",IF(VALUE(FIXED(P_21号様式!G67,0,TRUE))<>P_21号様式!G67,RIGHT(FIXED(P_21号様式!G67,3,FALSE),4),\"\"))","v":""},{"$f":"IF(P_21号様式!H67<> \"\",TEXT(INT(P_21号様式!H67),\"#,##0\"),\"\")","v":""},{"$f":"IF(P_21号様式!H67= \"\",\"\",IF(VALUE(FIXED(P_21号様式!H67,0,TRUE))<>P_21号様式!H67,RIGHT(FIXED(P_21号様式!H67,3,FALSE),4),\"\"))","v":""},{"$f":"IF(P_21号様式!I67<> \"\",TEXT(INT(P_21号様式!I67),\"#,##0\"),\"\")","v":""},{"$f":"IF(P_21号様式!I67= \"\",\"\",IF(VALUE(FIXED(P_21号様式!I67,0,TRUE))<>P_21号様式!I67,RIGHT(FIXED(P_21号様式!I67,3,FALSE),4),\"\"))","v":""},{"$f":"IF(P_21号様式!J67<> \"\",TEXT(INT(P_21号様式!J67),\"#,##0\"),\"\")","v":""},{"$f":"IF(P_21号様式!J67= \"\",\"\",IF(VALUE(FIXED(P_21号様式!J67,0,TRUE))<>P_21号様式!J67,RIGHT(FIXED(P_21号様式!J67,3,FALSE),4),\"\"))","v":""},{"$f":"IF(P_21号様式!K67<> \"\",TEXT(INT(P_21号様式!K67),\"#,##0\"),\"\")","v":""},{"$f":"IF(P_21号様式!K67= \"\",\"\",IF(VALUE(FIXED(P_21号様式!K67,0,TRUE))<>P_21号様式!K67,RIGHT(FIXED(P_21号様式!K67,3,FALSE),4),\"\"))","v":""},{"$f":"IF(P_21号様式!L67<> \"\",TEXT(INT(P_21号様式!L67),\"#,##0\"),\"\")","v":""},{"$f":"IF(P_21号様式!L67= \"\",\"\",IF(VALUE(FIXED(P_21号様式!L67,0,TRUE))<>P_21号様式!L67,RIGHT(FIXED(P_21号様式!L67,3,FALSE),4),\"\"))","v":""},{"$f":"IF(P_21号様式!M67=\"\",\"\",P_21号様式!M67)","v":""},null,{"$f":"IF(P_21号様式!N67=\"\",\"\",P_21号様式!N67)","v":""}]
[{"$f":"IF(P_21号様式!C68=\"\",\"\",P_21号様式!C68)","v":""},null,{"$f":"IF(P_21号様式!D68=\"\",\"\",P_21号様式!D68)","v":""},{"$f":"IF(P_21号様式!E68<> \"\",TEXT(INT(P_21号様式!E68),\"#,##0\"),\"\")","v":""},{"$f":"IF(P_21号様式!E68= \"\",\"\",IF(VALUE(FIXED(P_21号様式!E68,0,TRUE))<>P_21号様式!E68,RIGHT(FIXED(P_21号様式!E68,3,FALSE),4),\"\"))","v":""},{"$f":"IF(P_21号様式!F68<> \"\",TEXT(INT(P_21号様式!F68),\"#,##0\"),\"\")","v":""},{"$f":"IF(P_21号様式!F68= \"\",\"\",IF(VALUE(FIXED(P_21号様式!F68,0,TRUE))<>P_21号様式!F68,RIGHT(FIXED(P_21号様式!F68,3,FALSE),4),\"\"))","v":""},{"$f":"IF(P_21号様式!G68<> \"\",TEXT(INT(P_21号様式!G68),\"#,##0\"),\"\")","v":""},{"$f":"IF(P_21号様式!G68= \"\",\"\",IF(VALUE(FIXED(P_21号様式!G68,0,TRUE))<>P_21号様式!G68,RIGHT(FIXED(P_21号様式!G68,3,FALSE),4),\"\"))","v":""},{"$f":"IF(P_21号様式!H68<> \"\",TEXT(INT(P_21号様式!H68),\"#,##0\"),\"\")","v":""},{"$f":"IF(P_21号様式!H68= \"\",\"\",IF(VALUE(FIXED(P_21号様式!H68,0,TRUE))<>P_21号様式!H68,RIGHT(FIXED(P_21号様式!H68,3,FALSE),4),\"\"))","v":""},{"$f":"IF(P_21号様式!I68<> \"\",TEXT(INT(P_21号様式!I68),\"#,##0\"),\"\")","v":""},{"$f":"IF(P_21号様式!I68= \"\",\"\",IF(VALUE(FIXED(P_21号様式!I68,0,TRUE))<>P_21号様式!I68,RIGHT(FIXED(P_21号様式!I68,3,FALSE),4),\"\"))","v":""},{"$f":"IF(P_21号様式!J68<> \"\",TEXT(INT(P_21号様式!J68),\"#,##0\"),\"\")","v":""},{"$f":"IF(P_21号様式!J68= \"\",\"\",IF(VALUE(FIXED(P_21号様式!J68,0,TRUE))<>P_21号様式!J68,RIGHT(FIXED(P_21号様式!J68,3,FALSE),4),\"\"))","v":""},{"$f":"IF(P_21号様式!K68<> \"\",TEXT(INT(P_21号様式!K68),\"#,##0\"),\"\")","v":""},{"$f":"IF(P_21号様式!K68= \"\",\"\",IF(VALUE(FIXED(P_21号様式!K68,0,TRUE))<>P_21号様式!K68,RIGHT(FIXED(P_21号様式!K68,3,FALSE),4),\"\"))","v":""},{"$f":"IF(P_21号様式!L68<> \"\",TEXT(INT(P_21号様式!L68),\"#,##0\"),\"\")","v":""},{"$f":"IF(P_21号様式!L68= \"\",\"\",IF(VALUE(FIXED(P_21号様式!L68,0,TRUE))<>P_21号様式!L68,RIGHT(FIXED(P_21号様式!L68,3,FALSE),4),\"\"))","v":""},{"$f":"IF(P_21号様式!M68=\"\",\"\",P_21号様式!M68)","v":""},null,{"$f":"IF(P_21号様式!N68=\"\",\"\",P_21号様式!N68)","v":""}]
[{"$f":"IF(P_21号様式!C69=\"\",\"\",P_21号様式!C69)","v":""},null,{"$f":"IF(P_21号様式!D69=\"\",\"\",P_21号様式!D69)","v":""},{"$f":"IF(P_21号様式!E69<> \"\",TEXT(INT(P_21号様式!E69),\"#,##0\"),\"\")","v":""},{"$f":"IF(P_21号様式!E69= \"\",\"\",IF(VALUE(FIXED(P_21号様式!E69,0,TRUE))<>P_21号様式!E69,RIGHT(FIXED(P_21号様式!E69,3,FALSE),4),\"\"))","v":""},{"$f":"IF(P_21号様式!F69<> \"\",TEXT(INT(P_21号様式!F69),\"#,##0\"),\"\")","v":""},{"$f":"IF(P_21号様式!F69= \"\",\"\",IF(VALUE(FIXED(P_21号様式!F69,0,TRUE))<>P_21号様式!F69,RIGHT(FIXED(P_21号様式!F69,3,FALSE),4),\"\"))","v":""},{"$f":"IF(P_21号様式!G69<> \"\",TEXT(INT(P_21号様式!G69),\"#,##0\"),\"\")","v":""},{"$f":"IF(P_21号様式!G69= \"\",\"\",IF(VALUE(FIXED(P_21号様式!G69,0,TRUE))<>P_21号様式!G69,RIGHT(FIXED(P_21号様式!G69,3,FALSE),4),\"\"))","v":""},{"$f":"IF(P_21号様式!H69<> \"\",TEXT(INT(P_21号様式!H69),\"#,##0\"),\"\")","v":""},{"$f":"IF(P_21号様式!H69= \"\",\"\",IF(VALUE(FIXED(P_21号様式!H69,0,TRUE))<>P_21号様式!H69,RIGHT(FIXED(P_21号様式!H69,3,FALSE),4),\"\"))","v":""},{"$f":"IF(P_21号様式!I69<> \"\",TEXT(INT(P_21号様式!I69),\"#,##0\"),\"\")","v":""},{"$f":"IF(P_21号様式!I69= \"\",\"\",IF(VALUE(FIXED(P_21号様式!I69,0,TRUE))<>P_21号様式!I69,RIGHT(FIXED(P_21号様式!I69,3,FALSE),4),\"\"))","v":""},{"$f":"IF(P_21号様式!J69<> \"\",TEXT(INT(P_21号様式!J69),\"#,##0\"),\"\")","v":""},{"$f":"IF(P_21号様式!J69= \"\",\"\",IF(VALUE(FIXED(P_21号様式!J69,0,TRUE))<>P_21号様式!J69,RIGHT(FIXED(P_21号様式!J69,3,FALSE),4),\"\"))","v":""},{"$f":"IF(P_21号様式!K69<> \"\",TEXT(INT(P_21号様式!K69),\"#,##0\"),\"\")","v":""},{"$f":"IF(P_21号様式!K69= \"\",\"\",IF(VALUE(FIXED(P_21号様式!K69,0,TRUE))<>P_21号様式!K69,RIGHT(FIXED(P_21号様式!K69,3,FALSE),4),\"\"))","v":""},{"$f":"IF(P_21号様式!L69<> \"\",TEXT(INT(P_21号様式!L69),\"#,##0\"),\"\")","v":""},{"$f":"IF(P_21号様式!L69= \"\",\"\",IF(VALUE(FIXED(P_21号様式!L69,0,TRUE))<>P_21号様式!L69,RIGHT(FIXED(P_21号様式!L69,3,FALSE),4),\"\"))","v":""},{"$f":"IF(P_21号様式!M69=\"\",\"\",P_21号様式!M69)","v":""},null,{"$f":"IF(P_21号様式!N69=\"\",\"\",P_21号様式!N69)","v":""}]
[{"$f":"IF(P_21号様式!C70=\"\",\"\",P_21号様式!C70)","v":""},null,{"$f":"IF(P_21号様式!D70=\"\",\"\",P_21号様式!D70)","v":""},{"$f":"IF(P_21号様式!E70<> \"\",TEXT(INT(P_21号様式!E70),\"#,##0\"),\"\")","v":""},{"$f":"IF(P_21号様式!E70= \"\",\"\",IF(VALUE(FIXED(P_21号様式!E70,0,TRUE))<>P_21号様式!E70,RIGHT(FIXED(P_21号様式!E70,3,FALSE),4),\"\"))","v":""},{"$f":"IF(P_21号様式!F70<> \"\",TEXT(INT(P_21号様式!F70),\"#,##0\"),\"\")","v":""},{"$f":"IF(P_21号様式!F70= \"\",\"\",IF(VALUE(FIXED(P_21号様式!F70,0,TRUE))<>P_21号様式!F70,RIGHT(FIXED(P_21号様式!F70,3,FALSE),4),\"\"))","v":""},{"$f":"IF(P_21号様式!G70<> \"\",TEXT(INT(P_21号様式!G70),\"#,##0\"),\"\")","v":""},{"$f":"IF(P_21号様式!G70= \"\",\"\",IF(VALUE(FIXED(P_21号様式!G70,0,TRUE))<>P_21号様式!G70,RIGHT(FIXED(P_21号様式!G70,3,FALSE),4),\"\"))","v":""},{"$f":"IF(P_21号様式!H70<> \"\",TEXT(INT(P_21号様式!H70),\"#,##0\"),\"\")","v":""},{"$f":"IF(P_21号様式!H70= \"\",\"\",IF(VALUE(FIXED(P_21号様式!H70,0,TRUE))<>P_21号様式!H70,RIGHT(FIXED(P_21号様式!H70,3,FALSE),4),\"\"))","v":""},{"$f":"IF(P_21号様式!I70<> \"\",TEXT(INT(P_21号様式!I70),\"#,##0\"),\"\")","v":""},{"$f":"IF(P_21号様式!I70= \"\",\"\",IF(VALUE(FIXED(P_21号様式!I70,0,TRUE))<>P_21号様式!I70,RIGHT(FIXED(P_21号様式!I70,3,FALSE),4),\"\"))","v":""},{"$f":"IF(P_21号様式!J70<> \"\",TEXT(INT(P_21号様式!J70),\"#,##0\"),\"\")","v":""},{"$f":"IF(P_21号様式!J70= \"\",\"\",IF(VALUE(FIXED(P_21号様式!J70,0,TRUE))<>P_21号様式!J70,RIGHT(FIXED(P_21号様式!J70,3,FALSE),4),\"\"))","v":""},{"$f":"IF(P_21号様式!K70<> \"\",TEXT(INT(P_21号様式!K70),\"#,##0\"),\"\")","v":""},{"$f":"IF(P_21号様式!K70= \"\",\"\",IF(VALUE(FIXED(P_21号様式!K70,0,TRUE))<>P_21号様式!K70,RIGHT(FIXED(P_21号様式!K70,3,FALSE),4),\"\"))","v":""},{"$f":"IF(P_21号様式!L70<> \"\",TEXT(INT(P_21号様式!L70),\"#,##0\"),\"\")","v":""},{"$f":"IF(P_21号様式!L70= \"\",\"\",IF(VALUE(FIXED(P_21号様式!L70,0,TRUE))<>P_21号様式!L70,RIGHT(FIXED(P_21号様式!L70,3,FALSE),4),\"\"))","v":""},{"$f":"IF(P_21号様式!M70=\"\",\"\",P_21号様式!M70)","v":""},null,{"$f":"IF(P_21号様式!N70=\"\",\"\",P_21号様式!N70)","v":""}]
[{"$f":"IF(P_21号様式!C71=\"\",\"\",P_21号様式!C71)","v":""},null,{"$f":"IF(P_21号様式!D71=\"\",\"\",P_21号様式!D71)","v":""},{"$f":"IF(P_21号様式!E71<> \"\",TEXT(INT(P_21号様式!E71),\"#,##0\"),\"\")","v":""},{"$f":"IF(P_21号様式!E71= \"\",\"\",IF(VALUE(FIXED(P_21号様式!E71,0,TRUE))<>P_21号様式!E71,RIGHT(FIXED(P_21号様式!E71,3,FALSE),4),\"\"))","v":""},{"$f":"IF(P_21号様式!F71<> \"\",TEXT(INT(P_21号様式!F71),\"#,##0\"),\"\")","v":""},{"$f":"IF(P_21号様式!F71= \"\",\"\",IF(VALUE(FIXED(P_21号様式!F71,0,TRUE))<>P_21号様式!F71,RIGHT(FIXED(P_21号様式!F71,3,FALSE),4),\"\"))","v":""},{"$f":"IF(P_21号様式!G71<> \"\",TEXT(INT(P_21号様式!G71),\"#,##0\"),\"\")","v":""},{"$f":"IF(P_21号様式!G71= \"\",\"\",IF(VALUE(FIXED(P_21号様式!G71,0,TRUE))<>P_21号様式!G71,RIGHT(FIXED(P_21号様式!G71,3,FALSE),4),\"\"))","v":""},{"$f":"IF(P_21号様式!H71<> \"\",TEXT(INT(P_21号様式!H71),\"#,##0\"),\"\")","v":""},{"$f":"IF(P_21号様式!H71= \"\",\"\",IF(VALUE(FIXED(P_21号様式!H71,0,TRUE))<>P_21号様式!H71,RIGHT(FIXED(P_21号様式!H71,3,FALSE),4),\"\"))","v":""},{"$f":"IF(P_21号様式!I71<> \"\",TEXT(INT(P_21号様式!I71),\"#,##0\"),\"\")","v":""},{"$f":"IF(P_21号様式!I71= \"\",\"\",IF(VALUE(FIXED(P_21号様式!I71,0,TRUE))<>P_21号様式!I71,RIGHT(FIXED(P_21号様式!I71,3,FALSE),4),\"\"))","v":""},{"$f":"IF(P_21号様式!J71<> \"\",TEXT(INT(P_21号様式!J71),\"#,##0\"),\"\")","v":""},{"$f":"IF(P_21号様式!J71= \"\",\"\",IF(VALUE(FIXED(P_21号様式!J71,0,TRUE))<>P_21号様式!J71,RIGHT(FIXED(P_21号様式!J71,3,FALSE),4),\"\"))","v":""},{"$f":"IF(P_21号様式!K71<> \"\",TEXT(INT(P_21号様式!K71),\"#,##0\"),\"\")","v":""},{"$f":"IF(P_21号様式!K71= \"\",\"\",IF(VALUE(FIXED(P_21号様式!K71,0,TRUE))<>P_21号様式!K71,RIGHT(FIXED(P_21号様式!K71,3,FALSE),4),\"\"))","v":""},{"$f":"IF(P_21号様式!L71<> \"\",TEXT(INT(P_21号様式!L71),\"#,##0\"),\"\")","v":""},{"$f":"IF(P_21号様式!L71= \"\",\"\",IF(VALUE(FIXED(P_21号様式!L71,0,TRUE))<>P_21号様式!L71,RIGHT(FIXED(P_21号様式!L71,3,FALSE),4),\"\"))","v":""},{"$f":"IF(P_21号様式!M71=\"\",\"\",P_21号様式!M71)","v":""},null,{"$f":"IF(P_21号様式!N71=\"\",\"\",P_21号様式!N71)","v":""}]
[{"$f":"IF(P_21号様式!C72=\"\",\"\",P_21号様式!C72)","v":""},null,{"$f":"IF(P_21号様式!D72=\"\",\"\",P_21号様式!D72)","v":""},{"$f":"IF(P_21号様式!E72<> \"\",TEXT(INT(P_21号様式!E72),\"#,##0\"),\"\")","v":""},{"$f":"IF(P_21号様式!E72= \"\",\"\",IF(VALUE(FIXED(P_21号様式!E72,0,TRUE))<>P_21号様式!E72,RIGHT(FIXED(P_21号様式!E72,3,FALSE),4),\"\"))","v":""},{"$f":"IF(P_21号様式!F72<> \"\",TEXT(INT(P_21号様式!F72),\"#,##0\"),\"\")","v":""},{"$f":"IF(P_21号様式!F72= \"\",\"\",IF(VALUE(FIXED(P_21号様式!F72,0,TRUE))<>P_21号様式!F72,RIGHT(FIXED(P_21号様式!F72,3,FALSE),4),\"\"))","v":""},{"$f":"IF(P_21号様式!G72<> \"\",TEXT(INT(P_21号様式!G72),\"#,##0\"),\"\")","v":""},{"$f":"IF(P_21号様式!G72= \"\",\"\",IF(VALUE(FIXED(P_21号様式!G72,0,TRUE))<>P_21号様式!G72,RIGHT(FIXED(P_21号様式!G72,3,FALSE),4),\"\"))","v":""},{"$f":"IF(P_21号様式!H72<> \"\",TEXT(INT(P_21号様式!H72),\"#,##0\"),\"\")","v":""},{"$f":"IF(P_21号様式!H72= \"\",\"\",IF(VALUE(FIXED(P_21号様式!H72,0,TRUE))<>P_21号様式!H72,RIGHT(FIXED(P_21号様式!H72,3,FALSE),4),\"\"))","v":""},{"$f":"IF(P_21号様式!I72<> \"\",TEXT(INT(P_21号様式!I72),\"#,##0\"),\"\")","v":""},{"$f":"IF(P_21号様式!I72= \"\",\"\",IF(VALUE(FIXED(P_21号様式!I72,0,TRUE))<>P_21号様式!I72,RIGHT(FIXED(P_21号様式!I72,3,FALSE),4),\"\"))","v":""},{"$f":"IF(P_21号様式!J72<> \"\",TEXT(INT(P_21号様式!J72),\"#,##0\"),\"\")","v":""},{"$f":"IF(P_21号様式!J72= \"\",\"\",IF(VALUE(FIXED(P_21号様式!J72,0,TRUE))<>P_21号様式!J72,RIGHT(FIXED(P_21号様式!J72,3,FALSE),4),\"\"))","v":""},{"$f":"IF(P_21号様式!K72<> \"\",TEXT(INT(P_21号様式!K72),\"#,##0\"),\"\")","v":""},{"$f":"IF(P_21号様式!K72= \"\",\"\",IF(VALUE(FIXED(P_21号様式!K72,0,TRUE))<>P_21号様式!K72,RIGHT(FIXED(P_21号様式!K72,3,FALSE),4),\"\"))","v":""},{"$f":"IF(P_21号様式!L72<> \"\",TEXT(INT(P_21号様式!L72),\"#,##0\"),\"\")","v":""},{"$f":"IF(P_21号様式!L72= \"\",\"\",IF(VALUE(FIXED(P_21号様式!L72,0,TRUE))<>P_21号様式!L72,RIGHT(FIXED(P_21号様式!L72,3,FALSE),4),\"\"))","v":""},{"$f":"IF(P_21号様式!M72=\"\",\"\",P_21号様式!M72)","v":""},null,{"$f":"IF(P_21号様式!N72=\"\",\"\",P_21号様式!N72)","v":""}]
[{"$f":"IF(P_21号様式!C73=\"\",\"\",P_21号様式!C73)","v":""},null,{"$f":"IF(P_21号様式!D73=\"\",\"\",P_21号様式!D73)","v":""},{"$f":"IF(P_21号様式!E73<> \"\",TEXT(INT(P_21号様式!E73),\"#,##0\"),\"\")","v":""},{"$f":"IF(P_21号様式!E73= \"\",\"\",IF(VALUE(FIXED(P_21号様式!E73,0,TRUE))<>P_21号様式!E73,RIGHT(FIXED(P_21号様式!E73,3,FALSE),4),\"\"))","v":""},{"$f":"IF(P_21号様式!F73<> \"\",TEXT(INT(P_21号様式!F73),\"#,##0\"),\"\")","v":""},{"$f":"IF(P_21号様式!F73= \"\",\"\",IF(VALUE(FIXED(P_21号様式!F73,0,TRUE))<>P_21号様式!F73,RIGHT(FIXED(P_21号様式!F73,3,FALSE),4),\"\"))","v":""},{"$f":"IF(P_21号様式!G73<> \"\",TEXT(INT(P_21号様式!G73),\"#,##0\"),\"\")","v":""},{"$f":"IF(P_21号様式!G73= \"\",\"\",IF(VALUE(FIXED(P_21号様式!G73,0,TRUE))<>P_21号様式!G73,RIGHT(FIXED(P_21号様式!G73,3,FALSE),4),\"\"))","v":""},{"$f":"IF(P_21号様式!H73<> \"\",TEXT(INT(P_21号様式!H73),\"#,##0\"),\"\")","v":""},{"$f":"IF(P_21号様式!H73= \"\",\"\",IF(VALUE(FIXED(P_21号様式!H73,0,TRUE))<>P_21号様式!H73,RIGHT(FIXED(P_21号様式!H73,3,FALSE),4),\"\"))","v":""},{"$f":"IF(P_21号様式!I73<> \"\",TEXT(INT(P_21号様式!I73),\"#,##0\"),\"\")","v":""},{"$f":"IF(P_21号様式!I73= \"\",\"\",IF(VALUE(FIXED(P_21号様式!I73,0,TRUE))<>P_21号様式!I73,RIGHT(FIXED(P_21号様式!I73,3,FALSE),4),\"\"))","v":""},{"$f":"IF(P_21号様式!J73<> \"\",TEXT(INT(P_21号様式!J73),\"#,##0\"),\"\")","v":""},{"$f":"IF(P_21号様式!J73= \"\",\"\",IF(VALUE(FIXED(P_21号様式!J73,0,TRUE))<>P_21号様式!J73,RIGHT(FIXED(P_21号様式!J73,3,FALSE),4),\"\"))","v":""},{"$f":"IF(P_21号様式!K73<> \"\",TEXT(INT(P_21号様式!K73),\"#,##0\"),\"\")","v":""},{"$f":"IF(P_21号様式!K73= \"\",\"\",IF(VALUE(FIXED(P_21号様式!K73,0,TRUE))<>P_21号様式!K73,RIGHT(FIXED(P_21号様式!K73,3,FALSE),4),\"\"))","v":""},{"$f":"IF(P_21号様式!L73<> \"\",TEXT(INT(P_21号様式!L73),\"#,##0\"),\"\")","v":""},{"$f":"IF(P_21号様式!L73= \"\",\"\",IF(VALUE(FIXED(P_21号様式!L73,0,TRUE))<>P_21号様式!L73,RIGHT(FIXED(P_21号様式!L73,3,FALSE),4),\"\"))","v":""},{"$f":"IF(P_21号様式!M73=\"\",\"\",P_21号様式!M73)","v":""},null,{"$f":"IF(P_21号様式!N73=\"\",\"\",P_21号様式!N73)","v":""}]
[{"$f":"IF(P_21号様式!C74=\"\",\"\",P_21号様式!C74)","v":""},null,{"$f":"IF(P_21号様式!D74=\"\",\"\",P_21号様式!D74)","v":""},{"$f":"IF(P_21号様式!E74<> \"\",TEXT(INT(P_21号様式!E74),\"#,##0\"),\"\")","v":""},{"$f":"IF(P_21号様式!E74= \"\",\"\",IF(VALUE(FIXED(P_21号様式!E74,0,TRUE))<>P_21号様式!E74,RIGHT(FIXED(P_21号様式!E74,3,FALSE),4),\"\"))","v":""},{"$f":"IF(P_21号様式!F74<> \"\",TEXT(INT(P_21号様式!F74),\"#,##0\"),\"\")","v":""},{"$f":"IF(P_21号様式!F74= \"\",\"\",IF(VALUE(FIXED(P_21号様式!F74,0,TRUE))<>P_21号様式!F74,RIGHT(FIXED(P_21号様式!F74,3,FALSE),4),\"\"))","v":""},{"$f":"IF(P_21号様式!G74<> \"\",TEXT(INT(P_21号様式!G74),\"#,##0\"),\"\")","v":""},{"$f":"IF(P_21号様式!G74= \"\",\"\",IF(VALUE(FIXED(P_21号様式!G74,0,TRUE))<>P_21号様式!G74,RIGHT(FIXED(P_21号様式!G74,3,FALSE),4),\"\"))","v":""},{"$f":"IF(P_21号様式!H74<> \"\",TEXT(INT(P_21号様式!H74),\"#,##0\"),\"\")","v":""},{"$f":"IF(P_21号様式!H74= \"\",\"\",IF(VALUE(FIXED(P_21号様式!H74,0,TRUE))<>P_21号様式!H74,RIGHT(FIXED(P_21号様式!H74,3,FALSE),4),\"\"))","v":""},{"$f":"IF(P_21号様式!I74<> \"\",TEXT(INT(P_21号様式!I74),\"#,##0\"),\"\")","v":""},{"$f":"IF(P_21号様式!I74= \"\",\"\",IF(VALUE(FIXED(P_21号様式!I74,0,TRUE))<>P_21号様式!I74,RIGHT(FIXED(P_21号様式!I74,3,FALSE),4),\"\"))","v":""},{"$f":"IF(P_21号様式!J74<> \"\",TEXT(INT(P_21号様式!J74),\"#,##0\"),\"\")","v":""},{"$f":"IF(P_21号様式!J74= \"\",\"\",IF(VALUE(FIXED(P_21号様式!J74,0,TRUE))<>P_21号様式!J74,RIGHT(FIXED(P_21号様式!J74,3,FALSE),4),\"\"))","v":""},{"$f":"IF(P_21号様式!K74<> \"\",TEXT(INT(P_21号様式!K74),\"#,##0\"),\"\")","v":""},{"$f":"IF(P_21号様式!K74= \"\",\"\",IF(VALUE(FIXED(P_21号様式!K74,0,TRUE))<>P_21号様式!K74,RIGHT(FIXED(P_21号様式!K74,3,FALSE),4),\"\"))","v":""},{"$f":"IF(P_21号様式!L74<> \"\",TEXT(INT(P_21号様式!L74),\"#,##0\"),\"\")","v":""},{"$f":"IF(P_21号様式!L74= \"\",\"\",IF(VALUE(FIXED(P_21号様式!L74,0,TRUE))<>P_21号様式!L74,RIGHT(FIXED(P_21号様式!L74,3,FALSE),4),\"\"))","v":""},{"$f":"IF(P_21号様式!M74=\"\",\"\",P_21号様式!M74)","v":""},null,{"$f":"IF(P_21号様式!N74=\"\",\"\",P_21号様式!N74)","v":""}]
[{"$f":"IF(P_21号様式!C75=\"\",\"\",P_21号様式!C75)","v":""},null,{"$f":"IF(P_21号様式!D75=\"\",\"\",P_21号様式!D75)","v":""},{"$f":"IF(P_21号様式!E75<> \"\",TEXT(INT(P_21号様式!E75),\"#,##0\"),\"\")","v":""},{"$f":"IF(P_21号様式!E75= \"\",\"\",IF(VALUE(FIXED(P_21号様式!E75,0,TRUE))<>P_21号様式!E75,RIGHT(FIXED(P_21号様式!E75,3,FALSE),4),\"\"))","v":""},{"$f":"IF(P_21号様式!F75<> \"\",TEXT(INT(P_21号様式!F75),\"#,##0\"),\"\")","v":""},{"$f":"IF(P_21号様式!F75= \"\",\"\",IF(VALUE(FIXED(P_21号様式!F75,0,TRUE))<>P_21号様式!F75,RIGHT(FIXED(P_21号様式!F75,3,FALSE),4),\"\"))","v":""},{"$f":"IF(P_21号様式!G75<> \"\",TEXT(INT(P_21号様式!G75),\"#,##0\"),\"\")","v":""},{"$f":"IF(P_21号様式!G75= \"\",\"\",IF(VALUE(FIXED(P_21号様式!G75,0,TRUE))<>P_21号様式!G75,RIGHT(FIXED(P_21号様式!G75,3,FALSE),4),\"\"))","v":""},{"$f":"IF(P_21号様式!H75<> \"\",TEXT(INT(P_21号様式!H75),\"#,##0\"),\"\")","v":""},{"$f":"IF(P_21号様式!H75= \"\",\"\",IF(VALUE(FIXED(P_21号様式!H75,0,TRUE))<>P_21号様式!H75,RIGHT(FIXED(P_21号様式!H75,3,FALSE),4),\"\"))","v":""},{"$f":"IF(P_21号様式!I75<> \"\",TEXT(INT(P_21号様式!I75),\"#,##0\"),\"\")","v":""},{"$f":"IF(P_21号様式!I75= \"\",\"\",IF(VALUE(FIXED(P_21号様式!I75,0,TRUE))<>P_21号様式!I75,RIGHT(FIXED(P_21号様式!I75,3,FALSE),4),\"\"))","v":""},{"$f":"IF(P_21号様式!J75<> \"\",TEXT(INT(P_21号様式!J75),\"#,##0\"),\"\")","v":""},{"$f":"IF(P_21号様式!J75= \"\",\"\",IF(VALUE(FIXED(P_21号様式!J75,0,TRUE))<>P_21号様式!J75,RIGHT(FIXED(P_21号様式!J75,3,FALSE),4),\"\"))","v":""},{"$f":"IF(P_21号様式!K75<> \"\",TEXT(INT(P_21号様式!K75),\"#,##0\"),\"\")","v":""},{"$f":"IF(P_21号様式!K75= \"\",\"\",IF(VALUE(FIXED(P_21号様式!K75,0,TRUE))<>P_21号様式!K75,RIGHT(FIXED(P_21号様式!K75,3,FALSE),4),\"\"))","v":""},{"$f":"IF(P_21号様式!L75<> \"\",TEXT(INT(P_21号様式!L75),\"#,##0\"),\"\")","v":""},{"$f":"IF(P_21号様式!L75= \"\",\"\",IF(VALUE(FIXED(P_21号様式!L75,0,TRUE))<>P_21号様式!L75,RIGHT(FIXED(P_21号様式!L75,3,FALSE),4),\"\"))","v":""},{"$f":"IF(P_21号様式!M75=\"\",\"\",P_21号様式!M75)","v":""},null,{"$f":"IF(P_21号様式!N75=\"\",\"\",P_21号様式!N75)","v":""}]
[{"$f":"IF(P_21号様式!C76=\"\",\"\",P_21号様式!C76)","v":""},null,{"$f":"IF(P_21号様式!D76=\"\",\"\",P_21号様式!D76)","v":""},{"$f":"IF(P_21号様式!E76<> \"\",TEXT(INT(P_21号様式!E76),\"#,##0\"),\"\")","v":""},{"$f":"IF(P_21号様式!E76= \"\",\"\",IF(VALUE(FIXED(P_21号様式!E76,0,TRUE))<>P_21号様式!E76,RIGHT(FIXED(P_21号様式!E76,3,FALSE),4),\"\"))","v":""},{"$f":"IF(P_21号様式!F76<> \"\",TEXT(INT(P_21号様式!F76),\"#,##0\"),\"\")","v":""},{"$f":"IF(P_21号様式!F76= \"\",\"\",IF(VALUE(FIXED(P_21号様式!F76,0,TRUE))<>P_21号様式!F76,RIGHT(FIXED(P_21号様式!F76,3,FALSE),4),\"\"))","v":""},{"$f":"IF(P_21号様式!G76<> \"\",TEXT(INT(P_21号様式!G76),\"#,##0\"),\"\")","v":""},{"$f":"IF(P_21号様式!G76= \"\",\"\",IF(VALUE(FIXED(P_21号様式!G76,0,TRUE))<>P_21号様式!G76,RIGHT(FIXED(P_21号様式!G76,3,FALSE),4),\"\"))","v":""},{"$f":"IF(P_21号様式!H76<> \"\",TEXT(INT(P_21号様式!H76),\"#,##0\"),\"\")","v":""},{"$f":"IF(P_21号様式!H76= \"\",\"\",IF(VALUE(FIXED(P_21号様式!H76,0,TRUE))<>P_21号様式!H76,RIGHT(FIXED(P_21号様式!H76,3,FALSE),4),\"\"))","v":""},{"$f":"IF(P_21号様式!I76<> \"\",TEXT(INT(P_21号様式!I76),\"#,##0\"),\"\")","v":""},{"$f":"IF(P_21号様式!I76= \"\",\"\",IF(VALUE(FIXED(P_21号様式!I76,0,TRUE))<>P_21号様式!I76,RIGHT(FIXED(P_21号様式!I76,3,FALSE),4),\"\"))","v":""},{"$f":"IF(P_21号様式!J76<> \"\",TEXT(INT(P_21号様式!J76),\"#,##0\"),\"\")","v":""},{"$f":"IF(P_21号様式!J76= \"\",\"\",IF(VALUE(FIXED(P_21号様式!J76,0,TRUE))<>P_21号様式!J76,RIGHT(FIXED(P_21号様式!J76,3,FALSE),4),\"\"))","v":""},{"$f":"IF(P_21号様式!K76<> \"\",TEXT(INT(P_21号様式!K76),\"#,##0\"),\"\")","v":""},{"$f":"IF(P_21号様式!K76= \"\",\"\",IF(VALUE(FIXED(P_21号様式!K76,0,TRUE))<>P_21号様式!K76,RIGHT(FIXED(P_21号様式!K76,3,FALSE),4),\"\"))","v":""},{"$f":"IF(P_21号様式!L76<> \"\",TEXT(INT(P_21号様式!L76),\"#,##0\"),\"\")","v":""},{"$f":"IF(P_21号様式!L76= \"\",\"\",IF(VALUE(FIXED(P_21号様式!L76,0,TRUE))<>P_21号様式!L76,RIGHT(FIXED(P_21号様式!L76,3,FALSE),4),\"\"))","v":""},{"$f":"IF(P_21号様式!M76=\"\",\"\",P_21号様式!M76)","v":""},null,{"$f":"IF(P_21号様式!N76=\"\",\"\",P_21号様式!N76)","v":""}]
[{"$f":"IF(P_21号様式!C77=\"\",\"\",P_21号様式!C77)","v":""},null,{"$f":"IF(P_21号様式!D77=\"\",\"\",P_21号様式!D77)","v":""},{"$f":"IF(P_21号様式!E77<> \"\",TEXT(INT(P_21号様式!E77),\"#,##0\"),\"\")","v":""},{"$f":"IF(P_21号様式!E77= \"\",\"\",IF(VALUE(FIXED(P_21号様式!E77,0,TRUE))<>P_21号様式!E77,RIGHT(FIXED(P_21号様式!E77,3,FALSE),4),\"\"))","v":""},{"$f":"IF(P_21号様式!F77<> \"\",TEXT(INT(P_21号様式!F77),\"#,##0\"),\"\")","v":""},{"$f":"IF(P_21号様式!F77= \"\",\"\",IF(VALUE(FIXED(P_21号様式!F77,0,TRUE))<>P_21号様式!F77,RIGHT(FIXED(P_21号様式!F77,3,FALSE),4),\"\"))","v":""},{"$f":"IF(P_21号様式!G77<> \"\",TEXT(INT(P_21号様式!G77),\"#,##0\"),\"\")","v":""},{"$f":"IF(P_21号様式!G77= \"\",\"\",IF(VALUE(FIXED(P_21号様式!G77,0,TRUE))<>P_21号様式!G77,RIGHT(FIXED(P_21号様式!G77,3,FALSE),4),\"\"))","v":""},{"$f":"IF(P_21号様式!H77<> \"\",TEXT(INT(P_21号様式!H77),\"#,##0\"),\"\")","v":""},{"$f":"IF(P_21号様式!H77= \"\",\"\",IF(VALUE(FIXED(P_21号様式!H77,0,TRUE))<>P_21号様式!H77,RIGHT(FIXED(P_21号様式!H77,3,FALSE),4),\"\"))","v":""},{"$f":"IF(P_21号様式!I77<> \"\",TEXT(INT(P_21号様式!I77),\"#,##0\"),\"\")","v":""},{"$f":"IF(P_21号様式!I77= \"\",\"\",IF(VALUE(FIXED(P_21号様式!I77,0,TRUE))<>P_21号様式!I77,RIGHT(FIXED(P_21号様式!I77,3,FALSE),4),\"\"))","v":""},{"$f":"IF(P_21号様式!J77<> \"\",TEXT(INT(P_21号様式!J77),\"#,##0\"),\"\")","v":""},{"$f":"IF(P_21号様式!J77= \"\",\"\",IF(VALUE(FIXED(P_21号様式!J77,0,TRUE))<>P_21号様式!J77,RIGHT(FIXED(P_21号様式!J77,3,FALSE),4),\"\"))","v":""},{"$f":"IF(P_21号様式!K77<> \"\",TEXT(INT(P_21号様式!K77),\"#,##0\"),\"\")","v":""},{"$f":"IF(P_21号様式!K77= \"\",\"\",IF(VALUE(FIXED(P_21号様式!K77,0,TRUE))<>P_21号様式!K77,RIGHT(FIXED(P_21号様式!K77,3,FALSE),4),\"\"))","v":""},{"$f":"IF(P_21号様式!L77<> \"\",TEXT(INT(P_21号様式!L77),\"#,##0\"),\"\")","v":""},{"$f":"IF(P_21号様式!L77= \"\",\"\",IF(VALUE(FIXED(P_21号様式!L77,0,TRUE))<>P_21号様式!L77,RIGHT(FIXED(P_21号様式!L77,3,FALSE),4),\"\"))","v":""},{"$f":"IF(P_21号様式!M77=\"\",\"\",P_21号様式!M77)","v":""},null,{"$f":"IF(P_21号様式!N77=\"\",\"\",P_21号様式!N77)","v":""}]
[{"$f":"IF(P_21号様式!C78=\"\",\"\",P_21号様式!C78)","v":""},null,{"$f":"IF(P_21号様式!D78=\"\",\"\",P_21号様式!D78)","v":""},{"$f":"IF(P_21号様式!E78<> \"\",TEXT(INT(P_21号様式!E78),\"#,##0\"),\"\")","v":""},{"$f":"IF(P_21号様式!E78= \"\",\"\",IF(VALUE(FIXED(P_21号様式!E78,0,TRUE))<>P_21号様式!E78,RIGHT(FIXED(P_21号様式!E78,3,FALSE),4),\"\"))","v":""},{"$f":"IF(P_21号様式!F78<> \"\",TEXT(INT(P_21号様式!F78),\"#,##0\"),\"\")","v":""},{"$f":"IF(P_21号様式!F78= \"\",\"\",IF(VALUE(FIXED(P_21号様式!F78,0,TRUE))<>P_21号様式!F78,RIGHT(FIXED(P_21号様式!F78,3,FALSE),4),\"\"))","v":""},{"$f":"IF(P_21号様式!G78<> \"\",TEXT(INT(P_21号様式!G78),\"#,##0\"),\"\")","v":""},{"$f":"IF(P_21号様式!G78= \"\",\"\",IF(VALUE(FIXED(P_21号様式!G78,0,TRUE))<>P_21号様式!G78,RIGHT(FIXED(P_21号様式!G78,3,FALSE),4),\"\"))","v":""},{"$f":"IF(P_21号様式!H78<> \"\",TEXT(INT(P_21号様式!H78),\"#,##0\"),\"\")","v":""},{"$f":"IF(P_21号様式!H78= \"\",\"\",IF(VALUE(FIXED(P_21号様式!H78,0,TRUE))<>P_21号様式!H78,RIGHT(FIXED(P_21号様式!H78,3,FALSE),4),\"\"))","v":""},{"$f":"IF(P_21号様式!I78<> \"\",TEXT(INT(P_21号様式!I78),\"#,##0\"),\"\")","v":""},{"$f":"IF(P_21号様式!I78= \"\",\"\",IF(VALUE(FIXED(P_21号様式!I78,0,TRUE))<>P_21号様式!I78,RIGHT(FIXED(P_21号様式!I78,3,FALSE),4),\"\"))","v":""},{"$f":"IF(P_21号様式!J78<> \"\",TEXT(INT(P_21号様式!J78),\"#,##0\"),\"\")","v":""},{"$f":"IF(P_21号様式!J78= \"\",\"\",IF(VALUE(FIXED(P_21号様式!J78,0,TRUE))<>P_21号様式!J78,RIGHT(FIXED(P_21号様式!J78,3,FALSE),4),\"\"))","v":""},{"$f":"IF(P_21号様式!K78<> \"\",TEXT(INT(P_21号様式!K78),\"#,##0\"),\"\")","v":""},{"$f":"IF(P_21号様式!K78= \"\",\"\",IF(VALUE(FIXED(P_21号様式!K78,0,TRUE))<>P_21号様式!K78,RIGHT(FIXED(P_21号様式!K78,3,FALSE),4),\"\"))","v":""},{"$f":"IF(P_21号様式!L78<> \"\",TEXT(INT(P_21号様式!L78),\"#,##0\"),\"\")","v":""},{"$f":"IF(P_21号様式!L78= \"\",\"\",IF(VALUE(FIXED(P_21号様式!L78,0,TRUE))<>P_21号様式!L78,RIGHT(FIXED(P_21号様式!L78,3,FALSE),4),\"\"))","v":""},{"$f":"IF(P_21号様式!M78=\"\",\"\",P_21号様式!M78)","v":""},null,{"$f":"IF(P_21号様式!N78=\"\",\"\",P_21号様式!N78)","v":""}]
[{"$f":"IF(P_21号様式!C79=\"\",\"\",P_21号様式!C79)","v":""},null,{"$f":"IF(P_21号様式!D79=\"\",\"\",P_21号様式!D79)","v":""},{"$f":"IF(P_21号様式!E79<> \"\",TEXT(INT(P_21号様式!E79),\"#,##0\"),\"\")","v":""},{"$f":"IF(P_21号様式!E79= \"\",\"\",IF(VALUE(FIXED(P_21号様式!E79,0,TRUE))<>P_21号様式!E79,RIGHT(FIXED(P_21号様式!E79,3,FALSE),4),\"\"))","v":""},{"$f":"IF(P_21号様式!F79<> \"\",TEXT(INT(P_21号様式!F79),\"#,##0\"),\"\")","v":""},{"$f":"IF(P_21号様式!F79= \"\",\"\",IF(VALUE(FIXED(P_21号様式!F79,0,TRUE))<>P_21号様式!F79,RIGHT(FIXED(P_21号様式!F79,3,FALSE),4),\"\"))","v":""},{"$f":"IF(P_21号様式!G79<> \"\",TEXT(INT(P_21号様式!G79),\"#,##0\"),\"\")","v":""},{"$f":"IF(P_21号様式!G79= \"\",\"\",IF(VALUE(FIXED(P_21号様式!G79,0,TRUE))<>P_21号様式!G79,RIGHT(FIXED(P_21号様式!G79,3,FALSE),4),\"\"))","v":""},{"$f":"IF(P_21号様式!H79<> \"\",TEXT(INT(P_21号様式!H79),\"#,##0\"),\"\")","v":""},{"$f":"IF(P_21号様式!H79= \"\",\"\",IF(VALUE(FIXED(P_21号様式!H79,0,TRUE))<>P_21号様式!H79,RIGHT(FIXED(P_21号様式!H79,3,FALSE),4),\"\"))","v":""},{"$f":"IF(P_21号様式!I79<> \"\",TEXT(INT(P_21号様式!I79),\"#,##0\"),\"\")","v":""},{"$f":"IF(P_21号様式!I79= \"\",\"\",IF(VALUE(FIXED(P_21号様式!I79,0,TRUE))<>P_21号様式!I79,RIGHT(FIXED(P_21号様式!I79,3,FALSE),4),\"\"))","v":""},{"$f":"IF(P_21号様式!J79<> \"\",TEXT(INT(P_21号様式!J79),\"#,##0\"),\"\")","v":""},{"$f":"IF(P_21号様式!J79= \"\",\"\",IF(VALUE(FIXED(P_21号様式!J79,0,TRUE))<>P_21号様式!J79,RIGHT(FIXED(P_21号様式!J79,3,FALSE),4),\"\"))","v":""},{"$f":"IF(P_21号様式!K79<> \"\",TEXT(INT(P_21号様式!K79),\"#,##0\"),\"\")","v":""},{"$f":"IF(P_21号様式!K79= \"\",\"\",IF(VALUE(FIXED(P_21号様式!K79,0,TRUE))<>P_21号様式!K79,RIGHT(FIXED(P_21号様式!K79,3,FALSE),4),\"\"))","v":""},{"$f":"IF(P_21号様式!L79<> \"\",TEXT(INT(P_21号様式!L79),\"#,##0\"),\"\")","v":""},{"$f":"IF(P_21号様式!L79= \"\",\"\",IF(VALUE(FIXED(P_21号様式!L79,0,TRUE))<>P_21号様式!L79,RIGHT(FIXED(P_21号様式!L79,3,FALSE),4),\"\"))","v":""},{"$f":"IF(P_21号様式!M79=\"\",\"\",P_21号様式!M79)","v":""},null,{"$f":"IF(P_21号様式!N79=\"\",\"\",P_21号様式!N79)","v":""}]
[{"$f":"IF(P_21号様式!C80=\"\",\"\",P_21号様式!C80)","v":""},null,{"$f":"IF(P_21号様式!D80=\"\",\"\",P_21号様式!D80)","v":""},{"$f":"IF(P_21号様式!E80<> \"\",TEXT(INT(P_21号様式!E80),\"#,##0\"),\"\")","v":""},{"$f":"IF(P_21号様式!E80= \"\",\"\",IF(VALUE(FIXED(P_21号様式!E80,0,TRUE))<>P_21号様式!E80,RIGHT(FIXED(P_21号様式!E80,3,FALSE),4),\"\"))","v":""},{"$f":"IF(P_21号様式!F80<> \"\",TEXT(INT(P_21号様式!F80),\"#,##0\"),\"\")","v":""},{"$f":"IF(P_21号様式!F80= \"\",\"\",IF(VALUE(FIXED(P_21号様式!F80,0,TRUE))<>P_21号様式!F80,RIGHT(FIXED(P_21号様式!F80,3,FALSE),4),\"\"))","v":""},{"$f":"IF(P_21号様式!G80<> \"\",TEXT(INT(P_21号様式!G80),\"#,##0\"),\"\")","v":""},{"$f":"IF(P_21号様式!G80= \"\",\"\",IF(VALUE(FIXED(P_21号様式!G80,0,TRUE))<>P_21号様式!G80,RIGHT(FIXED(P_21号様式!G80,3,FALSE),4),\"\"))","v":""},{"$f":"IF(P_21号様式!H80<> \"\",TEXT(INT(P_21号様式!H80),\"#,##0\"),\"\")","v":""},{"$f":"IF(P_21号様式!H80= \"\",\"\",IF(VALUE(FIXED(P_21号様式!H80,0,TRUE))<>P_21号様式!H80,RIGHT(FIXED(P_21号様式!H80,3,FALSE),4),\"\"))","v":""},{"$f":"IF(P_21号様式!I80<> \"\",TEXT(INT(P_21号様式!I80),\"#,##0\"),\"\")","v":""},{"$f":"IF(P_21号様式!I80= \"\",\"\",IF(VALUE(FIXED(P_21号様式!I80,0,TRUE))<>P_21号様式!I80,RIGHT(FIXED(P_21号様式!I80,3,FALSE),4),\"\"))","v":""},{"$f":"IF(P_21号様式!J80<> \"\",TEXT(INT(P_21号様式!J80),\"#,##0\"),\"\")","v":""},{"$f":"IF(P_21号様式!J80= \"\",\"\",IF(VALUE(FIXED(P_21号様式!J80,0,TRUE))<>P_21号様式!J80,RIGHT(FIXED(P_21号様式!J80,3,FALSE),4),\"\"))","v":""},{"$f":"IF(P_21号様式!K80<> \"\",TEXT(INT(P_21号様式!K80),\"#,##0\"),\"\")","v":""},{"$f":"IF(P_21号様式!K80= \"\",\"\",IF(VALUE(FIXED(P_21号様式!K80,0,TRUE))<>P_21号様式!K80,RIGHT(FIXED(P_21号様式!K80,3,FALSE),4),\"\"))","v":""},{"$f":"IF(P_21号様式!L80<> \"\",TEXT(INT(P_21号様式!L80),\"#,##0\"),\"\")","v":""},{"$f":"IF(P_21号様式!L80= \"\",\"\",IF(VALUE(FIXED(P_21号様式!L80,0,TRUE))<>P_21号様式!L80,RIGHT(FIXED(P_21号様式!L80,3,FALSE),4),\"\"))","v":""},{"$f":"IF(P_21号様式!M80=\"\",\"\",P_21号様式!M80)","v":""},null,{"$f":"IF(P_21号様式!N80=\"\",\"\",P_21号様式!N80)","v":""}]
[{"$f":"IF(P_21号様式!C81=\"\",\"\",P_21号様式!C81)","v":""},null,{"$f":"IF(P_21号様式!D81=\"\",\"\",P_21号様式!D81)","v":""},{"$f":"IF(P_21号様式!E81<> \"\",TEXT(INT(P_21号様式!E81),\"#,##0\"),\"\")","v":""},{"$f":"IF(P_21号様式!E81= \"\",\"\",IF(VALUE(FIXED(P_21号様式!E81,0,TRUE))<>P_21号様式!E81,RIGHT(FIXED(P_21号様式!E81,3,FALSE),4),\"\"))","v":""},{"$f":"IF(P_21号様式!F81<> \"\",TEXT(INT(P_21号様式!F81),\"#,##0\"),\"\")","v":""},{"$f":"IF(P_21号様式!F81= \"\",\"\",IF(VALUE(FIXED(P_21号様式!F81,0,TRUE))<>P_21号様式!F81,RIGHT(FIXED(P_21号様式!F81,3,FALSE),4),\"\"))","v":""},{"$f":"IF(P_21号様式!G81<> \"\",TEXT(INT(P_21号様式!G81),\"#,##0\"),\"\")","v":""},{"$f":"IF(P_21号様式!G81= \"\",\"\",IF(VALUE(FIXED(P_21号様式!G81,0,TRUE))<>P_21号様式!G81,RIGHT(FIXED(P_21号様式!G81,3,FALSE),4),\"\"))","v":""},{"$f":"IF(P_21号様式!H81<> \"\",TEXT(INT(P_21号様式!H81),\"#,##0\"),\"\")","v":""},{"$f":"IF(P_21号様式!H81= \"\",\"\",IF(VALUE(FIXED(P_21号様式!H81,0,TRUE))<>P_21号様式!H81,RIGHT(FIXED(P_21号様式!H81,3,FALSE),4),\"\"))","v":""},{"$f":"IF(P_21号様式!I81<> \"\",TEXT(INT(P_21号様式!I81),\"#,##0\"),\"\")","v":""},{"$f":"IF(P_21号様式!I81= \"\",\"\",IF(VALUE(FIXED(P_21号様式!I81,0,TRUE))<>P_21号様式!I81,RIGHT(FIXED(P_21号様式!I81,3,FALSE),4),\"\"))","v":""},{"$f":"IF(P_21号様式!J81<> \"\",TEXT(INT(P_21号様式!J81),\"#,##0\"),\"\")","v":""},{"$f":"IF(P_21号様式!J81= \"\",\"\",IF(VALUE(FIXED(P_21号様式!J81,0,TRUE))<>P_21号様式!J81,RIGHT(FIXED(P_21号様式!J81,3,FALSE),4),\"\"))","v":""},{"$f":"IF(P_21号様式!K81<> \"\",TEXT(INT(P_21号様式!K81),\"#,##0\"),\"\")","v":""},{"$f":"IF(P_21号様式!K81= \"\",\"\",IF(VALUE(FIXED(P_21号様式!K81,0,TRUE))<>P_21号様式!K81,RIGHT(FIXED(P_21号様式!K81,3,FALSE),4),\"\"))","v":""},{"$f":"IF(P_21号様式!L81<> \"\",TEXT(INT(P_21号様式!L81),\"#,##0\"),\"\")","v":""},{"$f":"IF(P_21号様式!L81= \"\",\"\",IF(VALUE(FIXED(P_21号様式!L81,0,TRUE))<>P_21号様式!L81,RIGHT(FIXED(P_21号様式!L81,3,FALSE),4),\"\"))","v":""},{"$f":"IF(P_21号様式!M81=\"\",\"\",P_21号様式!M81)","v":""},null,{"$f":"IF(P_21号様式!N81=\"\",\"\",P_21号様式!N81)","v":""}]
[{"$f":"IF(P_21号様式!C82=\"\",\"\",P_21号様式!C82)","v":""},null,{"$f":"IF(P_21号様式!D82=\"\",\"\",P_21号様式!D82)","v":""},{"$f":"IF(P_21号様式!E82<> \"\",TEXT(INT(P_21号様式!E82),\"#,##0\"),\"\")","v":""},{"$f":"IF(P_21号様式!E82= \"\",\"\",IF(VALUE(FIXED(P_21号様式!E82,0,TRUE))<>P_21号様式!E82,RIGHT(FIXED(P_21号様式!E82,3,FALSE),4),\"\"))","v":""},{"$f":"IF(P_21号様式!F82<> \"\",TEXT(INT(P_21号様式!F82),\"#,##0\"),\"\")","v":""},{"$f":"IF(P_21号様式!F82= \"\",\"\",IF(VALUE(FIXED(P_21号様式!F82,0,TRUE))<>P_21号様式!F82,RIGHT(FIXED(P_21号様式!F82,3,FALSE),4),\"\"))","v":""},{"$f":"IF(P_21号様式!G82<> \"\",TEXT(INT(P_21号様式!G82),\"#,##0\"),\"\")","v":""},{"$f":"IF(P_21号様式!G82= \"\",\"\",IF(VALUE(FIXED(P_21号様式!G82,0,TRUE))<>P_21号様式!G82,RIGHT(FIXED(P_21号様式!G82,3,FALSE),4),\"\"))","v":""},{"$f":"IF(P_21号様式!H82<> \"\",TEXT(INT(P_21号様式!H82),\"#,##0\"),\"\")","v":""},{"$f":"IF(P_21号様式!H82= \"\",\"\",IF(VALUE(FIXED(P_21号様式!H82,0,TRUE))<>P_21号様式!H82,RIGHT(FIXED(P_21号様式!H82,3,FALSE),4),\"\"))","v":""},{"$f":"IF(P_21号様式!I82<> \"\",TEXT(INT(P_21号様式!I82),\"#,##0\"),\"\")","v":""},{"$f":"IF(P_21号様式!I82= \"\",\"\",IF(VALUE(FIXED(P_21号様式!I82,0,TRUE))<>P_21号様式!I82,RIGHT(FIXED(P_21号様式!I82,3,FALSE),4),\"\"))","v":""},{"$f":"IF(P_21号様式!J82<> \"\",TEXT(INT(P_21号様式!J82),\"#,##0\"),\"\")","v":""},{"$f":"IF(P_21号様式!J82= \"\",\"\",IF(VALUE(FIXED(P_21号様式!J82,0,TRUE))<>P_21号様式!J82,RIGHT(FIXED(P_21号様式!J82,3,FALSE),4),\"\"))","v":""},{"$f":"IF(P_21号様式!K82<> \"\",TEXT(INT(P_21号様式!K82),\"#,##0\"),\"\")","v":""},{"$f":"IF(P_21号様式!K82= \"\",\"\",IF(VALUE(FIXED(P_21号様式!K82,0,TRUE))<>P_21号様式!K82,RIGHT(FIXED(P_21号様式!K82,3,FALSE),4),\"\"))","v":""},{"$f":"IF(P_21号様式!L82<> \"\",TEXT(INT(P_21号様式!L82),\"#,##0\"),\"\")","v":""},{"$f":"IF(P_21号様式!L82= \"\",\"\",IF(VALUE(FIXED(P_21号様式!L82,0,TRUE))<>P_21号様式!L82,RIGHT(FIXED(P_21号様式!L82,3,FALSE),4),\"\"))","v":""},{"$f":"IF(P_21号様式!M82=\"\",\"\",P_21号様式!M82)","v":""},null,{"$f":"IF(P_21号様式!N82=\"\",\"\",P_21号様式!N82)","v":""}]
[{"$f":"IF(P_21号様式!C83=\"\",\"\",P_21号様式!C83)","v":""},null,{"$f":"IF(P_21号様式!D83=\"\",\"\",P_21号様式!D83)","v":""},{"$f":"IF(P_21号様式!E83<> \"\",TEXT(INT(P_21号様式!E83),\"#,##0\"),\"\")","v":""},{"$f":"IF(P_21号様式!E83= \"\",\"\",IF(VALUE(FIXED(P_21号様式!E83,0,TRUE))<>P_21号様式!E83,RIGHT(FIXED(P_21号様式!E83,3,FALSE),4),\"\"))","v":""},{"$f":"IF(P_21号様式!F83<> \"\",TEXT(INT(P_21号様式!F83),\"#,##0\"),\"\")","v":""},{"$f":"IF(P_21号様式!F83= \"\",\"\",IF(VALUE(FIXED(P_21号様式!F83,0,TRUE))<>P_21号様式!F83,RIGHT(FIXED(P_21号様式!F83,3,FALSE),4),\"\"))","v":""},{"$f":"IF(P_21号様式!G83<> \"\",TEXT(INT(P_21号様式!G83),\"#,##0\"),\"\")","v":""},{"$f":"IF(P_21号様式!G83= \"\",\"\",IF(VALUE(FIXED(P_21号様式!G83,0,TRUE))<>P_21号様式!G83,RIGHT(FIXED(P_21号様式!G83,3,FALSE),4),\"\"))","v":""},{"$f":"IF(P_21号様式!H83<> \"\",TEXT(INT(P_21号様式!H83),\"#,##0\"),\"\")","v":""},{"$f":"IF(P_21号様式!H83= \"\",\"\",IF(VALUE(FIXED(P_21号様式!H83,0,TRUE))<>P_21号様式!H83,RIGHT(FIXED(P_21号様式!H83,3,FALSE),4),\"\"))","v":""},{"$f":"IF(P_21号様式!I83<> \"\",TEXT(INT(P_21号様式!I83),\"#,##0\"),\"\")","v":""},{"$f":"IF(P_21号様式!I83= \"\",\"\",IF(VALUE(FIXED(P_21号様式!I83,0,TRUE))<>P_21号様式!I83,RIGHT(FIXED(P_21号様式!I83,3,FALSE),4),\"\"))","v":""},{"$f":"IF(P_21号様式!J83<> \"\",TEXT(INT(P_21号様式!J83),\"#,##0\"),\"\")","v":""},{"$f":"IF(P_21号様式!J83= \"\",\"\",IF(VALUE(FIXED(P_21号様式!J83,0,TRUE))<>P_21号様式!J83,RIGHT(FIXED(P_21号様式!J83,3,FALSE),4),\"\"))","v":""},{"$f":"IF(P_21号様式!K83<> \"\",TEXT(INT(P_21号様式!K83),\"#,##0\"),\"\")","v":""},{"$f":"IF(P_21号様式!K83= \"\",\"\",IF(VALUE(FIXED(P_21号様式!K83,0,TRUE))<>P_21号様式!K83,RIGHT(FIXED(P_21号様式!K83,3,FALSE),4),\"\"))","v":""},{"$f":"IF(P_21号様式!L83<> \"\",TEXT(INT(P_21号様式!L83),\"#,##0\"),\"\")","v":""},{"$f":"IF(P_21号様式!L83= \"\",\"\",IF(VALUE(FIXED(P_21号様式!L83,0,TRUE))<>P_21号様式!L83,RIGHT(FIXED(P_21号様式!L83,3,FALSE),4),\"\"))","v":""},{"$f":"IF(P_21号様式!M83=\"\",\"\",P_21号様式!M83)","v":""},null,{"$f":"IF(P_21号様式!N83=\"\",\"\",P_21号様式!N83)","v":""}]
[{"$f":"IF(P_21号様式!C84=\"\",\"\",P_21号様式!C84)","v":""},null,{"$f":"IF(P_21号様式!D84=\"\",\"\",P_21号様式!D84)","v":""},{"$f":"IF(P_21号様式!E84<> \"\",TEXT(INT(P_21号様式!E84),\"#,##0\"),\"\")","v":""},{"$f":"IF(P_21号様式!E84= \"\",\"\",IF(VALUE(FIXED(P_21号様式!E84,0,TRUE))<>P_21号様式!E84,RIGHT(FIXED(P_21号様式!E84,3,FALSE),4),\"\"))","v":""},{"$f":"IF(P_21号様式!F84<> \"\",TEXT(INT(P_21号様式!F84),\"#,##0\"),\"\")","v":""},{"$f":"IF(P_21号様式!F84= \"\",\"\",IF(VALUE(FIXED(P_21号様式!F84,0,TRUE))<>P_21号様式!F84,RIGHT(FIXED(P_21号様式!F84,3,FALSE),4),\"\"))","v":""},{"$f":"IF(P_21号様式!G84<> \"\",TEXT(INT(P_21号様式!G84),\"#,##0\"),\"\")","v":""},{"$f":"IF(P_21号様式!G84= \"\",\"\",IF(VALUE(FIXED(P_21号様式!G84,0,TRUE))<>P_21号様式!G84,RIGHT(FIXED(P_21号様式!G84,3,FALSE),4),\"\"))","v":""},{"$f":"IF(P_21号様式!H84<> \"\",TEXT(INT(P_21号様式!H84),\"#,##0\"),\"\")","v":""},{"$f":"IF(P_21号様式!H84= \"\",\"\",IF(VALUE(FIXED(P_21号様式!H84,0,TRUE))<>P_21号様式!H84,RIGHT(FIXED(P_21号様式!H84,3,FALSE),4),\"\"))","v":""},{"$f":"IF(P_21号様式!I84<> \"\",TEXT(INT(P_21号様式!I84),\"#,##0\"),\"\")","v":""},{"$f":"IF(P_21号様式!I84= \"\",\"\",IF(VALUE(FIXED(P_21号様式!I84,0,TRUE))<>P_21号様式!I84,RIGHT(FIXED(P_21号様式!I84,3,FALSE),4),\"\"))","v":""},{"$f":"IF(P_21号様式!J84<> \"\",TEXT(INT(P_21号様式!J84),\"#,##0\"),\"\")","v":""},{"$f":"IF(P_21号様式!J84= \"\",\"\",IF(VALUE(FIXED(P_21号様式!J84,0,TRUE))<>P_21号様式!J84,RIGHT(FIXED(P_21号様式!J84,3,FALSE),4),\"\"))","v":""},{"$f":"IF(P_21号様式!K84<> \"\",TEXT(INT(P_21号様式!K84),\"#,##0\"),\"\")","v":""},{"$f":"IF(P_21号様式!K84= \"\",\"\",IF(VALUE(FIXED(P_21号様式!K84,0,TRUE))<>P_21号様式!K84,RIGHT(FIXED(P_21号様式!K84,3,FALSE),4),\"\"))","v":""},{"$f":"IF(P_21号様式!L84<> \"\",TEXT(INT(P_21号様式!L84),\"#,##0\"),\"\")","v":""},{"$f":"IF(P_21号様式!L84= \"\",\"\",IF(VALUE(FIXED(P_21号様式!L84,0,TRUE))<>P_21号様式!L84,RIGHT(FIXED(P_21号様式!L84,3,FALSE),4),\"\"))","v":""},{"$f":"IF(P_21号様式!M84=\"\",\"\",P_21号様式!M84)","v":""},null,{"$f":"IF(P_21号様式!N84=\"\",\"\",P_21号様式!N84)","v":""}]
[{"$f":"IF(P_21号様式!C85=\"\",\"\",P_21号様式!C85)","v":""},null,{"$f":"IF(P_21号様式!D85=\"\",\"\",P_21号様式!D85)","v":""},{"$f":"IF(P_21号様式!E85<> \"\",TEXT(INT(P_21号様式!E85),\"#,##0\"),\"\")","v":""},{"$f":"IF(P_21号様式!E85= \"\",\"\",IF(VALUE(FIXED(P_21号様式!E85,0,TRUE))<>P_21号様式!E85,RIGHT(FIXED(P_21号様式!E85,3,FALSE),4),\"\"))","v":""},{"$f":"IF(P_21号様式!F85<> \"\",TEXT(INT(P_21号様式!F85),\"#,##0\"),\"\")","v":""},{"$f":"IF(P_21号様式!F85= \"\",\"\",IF(VALUE(FIXED(P_21号様式!F85,0,TRUE))<>P_21号様式!F85,RIGHT(FIXED(P_21号様式!F85,3,FALSE),4),\"\"))","v":""},{"$f":"IF(P_21号様式!G85<> \"\",TEXT(INT(P_21号様式!G85),\"#,##0\"),\"\")","v":""},{"$f":"IF(P_21号様式!G85= \"\",\"\",IF(VALUE(FIXED(P_21号様式!G85,0,TRUE))<>P_21号様式!G85,RIGHT(FIXED(P_21号様式!G85,3,FALSE),4),\"\"))","v":""},{"$f":"IF(P_21号様式!H85<> \"\",TEXT(INT(P_21号様式!H85),\"#,##0\"),\"\")","v":""},{"$f":"IF(P_21号様式!H85= \"\",\"\",IF(VALUE(FIXED(P_21号様式!H85,0,TRUE))<>P_21号様式!H85,RIGHT(FIXED(P_21号様式!H85,3,FALSE),4),\"\"))","v":""},{"$f":"IF(P_21号様式!I85<> \"\",TEXT(INT(P_21号様式!I85),\"#,##0\"),\"\")","v":""},{"$f":"IF(P_21号様式!I85= \"\",\"\",IF(VALUE(FIXED(P_21号様式!I85,0,TRUE))<>P_21号様式!I85,RIGHT(FIXED(P_21号様式!I85,3,FALSE),4),\"\"))","v":""},{"$f":"IF(P_21号様式!J85<> \"\",TEXT(INT(P_21号様式!J85),\"#,##0\"),\"\")","v":""},{"$f":"IF(P_21号様式!J85= \"\",\"\",IF(VALUE(FIXED(P_21号様式!J85,0,TRUE))<>P_21号様式!J85,RIGHT(FIXED(P_21号様式!J85,3,FALSE),4),\"\"))","v":""},{"$f":"IF(P_21号様式!K85<> \"\",TEXT(INT(P_21号様式!K85),\"#,##0\"),\"\")","v":""},{"$f":"IF(P_21号様式!K85= \"\",\"\",IF(VALUE(FIXED(P_21号様式!K85,0,TRUE))<>P_21号様式!K85,RIGHT(FIXED(P_21号様式!K85,3,FALSE),4),\"\"))","v":""},{"$f":"IF(P_21号様式!L85<> \"\",TEXT(INT(P_21号様式!L85),\"#,##0\"),\"\")","v":""},{"$f":"IF(P_21号様式!L85= \"\",\"\",IF(VALUE(FIXED(P_21号様式!L85,0,TRUE))<>P_21号様式!L85,RIGHT(FIXED(P_21号様式!L85,3,FALSE),4),\"\"))","v":""},{"$f":"IF(P_21号様式!M85=\"\",\"\",P_21号様式!M85)","v":""},null,{"$f":"IF(P_21号様式!N85=\"\",\"\",P_21号様式!N85)","v":""}]
[{"$f":"IF(P_21号様式!C86=\"\",\"\",P_21号様式!C86)","v":""},null,{"$f":"IF(P_21号様式!D86=\"\",\"\",P_21号様式!D86)","v":""},{"$f":"IF(P_21号様式!E86<> \"\",TEXT(INT(P_21号様式!E86),\"#,##0\"),\"\")","v":""},{"$f":"IF(P_21号様式!E86= \"\",\"\",IF(VALUE(FIXED(P_21号様式!E86,0,TRUE))<>P_21号様式!E86,RIGHT(FIXED(P_21号様式!E86,3,FALSE),4),\"\"))","v":""},{"$f":"IF(P_21号様式!F86<> \"\",TEXT(INT(P_21号様式!F86),\"#,##0\"),\"\")","v":""},{"$f":"IF(P_21号様式!F86= \"\",\"\",IF(VALUE(FIXED(P_21号様式!F86,0,TRUE))<>P_21号様式!F86,RIGHT(FIXED(P_21号様式!F86,3,FALSE),4),\"\"))","v":""},{"$f":"IF(P_21号様式!G86<> \"\",TEXT(INT(P_21号様式!G86),\"#,##0\"),\"\")","v":""},{"$f":"IF(P_21号様式!G86= \"\",\"\",IF(VALUE(FIXED(P_21号様式!G86,0,TRUE))<>P_21号様式!G86,RIGHT(FIXED(P_21号様式!G86,3,FALSE),4),\"\"))","v":""},{"$f":"IF(P_21号様式!H86<> \"\",TEXT(INT(P_21号様式!H86),\"#,##0\"),\"\")","v":""},{"$f":"IF(P_21号様式!H86= \"\",\"\",IF(VALUE(FIXED(P_21号様式!H86,0,TRUE))<>P_21号様式!H86,RIGHT(FIXED(P_21号様式!H86,3,FALSE),4),\"\"))","v":""},{"$f":"IF(P_21号様式!I86<> \"\",TEXT(INT(P_21号様式!I86),\"#,##0\"),\"\")","v":""},{"$f":"IF(P_21号様式!I86= \"\",\"\",IF(VALUE(FIXED(P_21号様式!I86,0,TRUE))<>P_21号様式!I86,RIGHT(FIXED(P_21号様式!I86,3,FALSE),4),\"\"))","v":""},{"$f":"IF(P_21号様式!J86<> \"\",TEXT(INT(P_21号様式!J86),\"#,##0\"),\"\")","v":""},{"$f":"IF(P_21号様式!J86= \"\",\"\",IF(VALUE(FIXED(P_21号様式!J86,0,TRUE))<>P_21号様式!J86,RIGHT(FIXED(P_21号様式!J86,3,FALSE),4),\"\"))","v":""},{"$f":"IF(P_21号様式!K86<> \"\",TEXT(INT(P_21号様式!K86),\"#,##0\"),\"\")","v":""},{"$f":"IF(P_21号様式!K86= \"\",\"\",IF(VALUE(FIXED(P_21号様式!K86,0,TRUE))<>P_21号様式!K86,RIGHT(FIXED(P_21号様式!K86,3,FALSE),4),\"\"))","v":""},{"$f":"IF(P_21号様式!L86<> \"\",TEXT(INT(P_21号様式!L86),\"#,##0\"),\"\")","v":""},{"$f":"IF(P_21号様式!L86= \"\",\"\",IF(VALUE(FIXED(P_21号様式!L86,0,TRUE))<>P_21号様式!L86,RIGHT(FIXED(P_21号様式!L86,3,FALSE),4),\"\"))","v":""},{"$f":"IF(P_21号様式!M86=\"\",\"\",P_21号様式!M86)","v":""},null,{"$f":"IF(P_21号様式!N86=\"\",\"\",P_21号様式!N86)","v":""}]
[{"$f":"IF(P_21号様式!C87=\"\",\"\",P_21号様式!C87)","v":""},null,{"$f":"IF(P_21号様式!D87=\"\",\"\",P_21号様式!D87)","v":""},{"$f":"IF(P_21号様式!E87<> \"\",TEXT(INT(P_21号様式!E87),\"#,##0\"),\"\")","v":""},{"$f":"IF(P_21号様式!E87= \"\",\"\",IF(VALUE(FIXED(P_21号様式!E87,0,TRUE))<>P_21号様式!E87,RIGHT(FIXED(P_21号様式!E87,3,FALSE),4),\"\"))","v":""},{"$f":"IF(P_21号様式!F87<> \"\",TEXT(INT(P_21号様式!F87),\"#,##0\"),\"\")","v":""},{"$f":"IF(P_21号様式!F87= \"\",\"\",IF(VALUE(FIXED(P_21号様式!F87,0,TRUE))<>P_21号様式!F87,RIGHT(FIXED(P_21号様式!F87,3,FALSE),4),\"\"))","v":""},{"$f":"IF(P_21号様式!G87<> \"\",TEXT(INT(P_21号様式!G87),\"#,##0\"),\"\")","v":""},{"$f":"IF(P_21号様式!G87= \"\",\"\",IF(VALUE(FIXED(P_21号様式!G87,0,TRUE))<>P_21号様式!G87,RIGHT(FIXED(P_21号様式!G87,3,FALSE),4),\"\"))","v":""},{"$f":"IF(P_21号様式!H87<> \"\",TEXT(INT(P_21号様式!H87),\"#,##0\"),\"\")","v":""},{"$f":"IF(P_21号様式!H87= \"\",\"\",IF(VALUE(FIXED(P_21号様式!H87,0,TRUE))<>P_21号様式!H87,RIGHT(FIXED(P_21号様式!H87,3,FALSE),4),\"\"))","v":""},{"$f":"IF(P_21号様式!I87<> \"\",TEXT(INT(P_21号様式!I87),\"#,##0\"),\"\")","v":""},{"$f":"IF(P_21号様式!I87= \"\",\"\",IF(VALUE(FIXED(P_21号様式!I87,0,TRUE))<>P_21号様式!I87,RIGHT(FIXED(P_21号様式!I87,3,FALSE),4),\"\"))","v":""},{"$f":"IF(P_21号様式!J87<> \"\",TEXT(INT(P_21号様式!J87),\"#,##0\"),\"\")","v":""},{"$f":"IF(P_21号様式!J87= \"\",\"\",IF(VALUE(FIXED(P_21号様式!J87,0,TRUE))<>P_21号様式!J87,RIGHT(FIXED(P_21号様式!J87,3,FALSE),4),\"\"))","v":""},{"$f":"IF(P_21号様式!K87<> \"\",TEXT(INT(P_21号様式!K87),\"#,##0\"),\"\")","v":""},{"$f":"IF(P_21号様式!K87= \"\",\"\",IF(VALUE(FIXED(P_21号様式!K87,0,TRUE))<>P_21号様式!K87,RIGHT(FIXED(P_21号様式!K87,3,FALSE),4),\"\"))","v":""},{"$f":"IF(P_21号様式!L87<> \"\",TEXT(INT(P_21号様式!L87),\"#,##0\"),\"\")","v":""},{"$f":"IF(P_21号様式!L87= \"\",\"\",IF(VALUE(FIXED(P_21号様式!L87,0,TRUE))<>P_21号様式!L87,RIGHT(FIXED(P_21号様式!L87,3,FALSE),4),\"\"))","v":""},{"$f":"IF(P_21号様式!M87=\"\",\"\",P_21号様式!M87)","v":""},null,{"$f":"IF(P_21号様式!N87=\"\",\"\",P_21号様式!N87)","v":""}]
[]
["政令市計",null,{"$f":"IF(P_21号様式!O45=\"\",\"\",P_21号様式!O45)","v":""},{"$f":"IF(P_21号様式!P45<> \"\",TEXT(INT(P_21号様式!P45),\"#,##0\"),\"\")","v":""},{"$f":"IF(P_21号様式!P45= \"\",\"\",IF(VALUE(FIXED(P_21号様式!P45,0,TRUE))<>P_21号様式!P45,RIGHT(FIXED(P_21号様式!P45,3,FALSE),4),\"\"))","v":""},{"$f":"IF(P_21号様式!Q45<> \"\",TEXT(INT(P_21号様式!Q45),\"#,##0\"),\"\")","v":""},{"$f":"IF(P_21号様式!Q45= \"\",\"\",IF(VALUE(FIXED(P_21号様式!Q45,0,TRUE))<>P_21号様式!Q45,RIGHT(FIXED(P_21号様式!Q45,3,FALSE),4),\"\"))","v":""},{"$f":"IF(P_21号様式!R45<> \"\",TEXT(INT(P_21号様式!R45),\"#,##0\"),\"\")","v":""},{"$f":"IF(P_21号様式!R45= \"\",\"\",IF(VALUE(FIXED(P_21号様式!R45,0,TRUE))<>P_21号様式!R45,RIGHT(FIXED(P_21号様式!R45,3,FALSE),4),\"\"))","v":""},{"$f":"IF(P_21号様式!S45<> \"\",TEXT(INT(P_21号様式!S45),\"#,##0\"),\"\")","v":""},{"$f":"IF(P_21号様式!S45= \"\",\"\",IF(VALUE(FIXED(P_21号様式!S45,0,TRUE))<>P_21号様式!S45,RIGHT(FIXED(P_21号様式!S45,3,FALSE),4),\"\"))","v":""},{"$f":"IF(P_21号様式!T45<> \"\",TEXT(INT(P_21号様式!T45),\"#,##0\"),\"\")","v":""},{"$f":"IF(P_21号様式!T45= \"\",\"\",IF(VALUE(FIXED(P_21号様式!T45,0,TRUE))<>P_21号様式!T45,RIGHT(FIXED(P_21号様式!T45,3,FALSE),4),\"\"))","v":""},{"$f":"IF(P_21号様式!U45<> \"\",TEXT(INT(P_21号様式!U45),\"#,##0\"),\"\")","v":""},{"$f":"IF(P_21号様式!U45= \"\",\"\",IF(VALUE(FIXED(P_21号様式!U45,0,TRUE))<>P_21号様式!U45,RIGHT(FIXED(P_21号様式!U45,3,FALSE),4),\"\"))","v":""},{"$f":"IF(P_21号様式!V45<> \"\",TEXT(INT(P_21号様式!V45),\"#,##0\"),\"\")","v":""},{"$f":"IF(P_21号様式!V45= \"\",\"\",IF(VALUE(FIXED(P_21号様式!V45,0,TRUE))<>P_21号様式!V45,RIGHT(FIXED(P_21号様式!V45,3,FALSE),4),\"\"))","v":""},{"$f":"IF(P_21号様式!W45<> \"\",TEXT(INT(P_21号様式!W45),\"#,##0\"),\"\")","v":""},{"$f":"IF(P_21号様式!W45= \"\",\"\",IF(VALUE(FIXED(P_21号様式!W45,0,TRUE))<>P_21号様式!W45,RIGHT(FIXED(P_21号様式!W45,3,FALSE),4),\"\"))","v":""},{"$f":"IF(P_21号様式!X45=\"\",\"\",P_21号様式!X45)","v":""},null,{"$f":"IF(P_21号様式!Y45=\"\",\"\",P_21号様式!Y45)","v":""}]
["その他市計",null,{"$f":"IF(P_21号様式!Z45=\"\",\"\",P_21号様式!Z45)","v":100},{"$f":"IF(P_21号様式!AA45<> \"\",TEXT(INT(P_21号様式!AA45),\"#,##0\"),\"\")","v":"652,807"},{"$f":"IF(P_21号様式!AA45= \"\",\"\",IF(VALUE(FIXED(P_21号様式!AA45,0,TRUE))<>P_21号様式!AA45,RIGHT(FIXED(P_21号様式!AA45,3,FALSE),4),\"\"))","v":""},{"$f":"IF(P_21号様式!AB45<> \"\",TEXT(INT(P_21号様式!AB45),\"#,##0\"),\"\")","v":"0"},{"$f":"IF(P_21号様式!AB45= \"\",\"\",IF(VALUE(FIXED(P_21号様式!AB45,0,TRUE))<>P_21号様式!AB45,RIGHT(FIXED(P_21号様式!AB45,3,FALSE),4),\"\"))","v":""},{"$f":"IF(P_21号様式!AC45<> \"\",TEXT(INT(P_21号様式!AC45),\"#,##0\"),\"\")","v":"0"},{"$f":"IF(P_21号様式!AC45= \"\",\"\",IF(VALUE(FIXED(P_21号様式!AC45,0,TRUE))<>P_21号様式!AC45,RIGHT(FIXED(P_21号様式!AC45,3,FALSE),4),\"\"))","v":""},{"$f":"IF(P_21号様式!AD45<> \"\",TEXT(INT(P_21号様式!AD45),\"#,##0\"),\"\")","v":"652,807"},{"$f":"IF(P_21号様式!AD45= \"\",\"\",IF(VALUE(FIXED(P_21号様式!AD45,0,TRUE))<>P_21号様式!AD45,RIGHT(FIXED(P_21号様式!AD45,3,FALSE),4),\"\"))","v":""},{"$f":"IF(P_21号様式!AE45<> \"\",TEXT(INT(P_21号様式!AE45),\"#,##0\"),\"\")","v":"13,361"},{"$f":"IF(P_21号様式!AE45= \"\",\"\",IF(VALUE(FIXED(P_21号様式!AE45,0,TRUE))<>P_21号様式!AE45,RIGHT(FIXED(P_21号様式!AE45,3,FALSE),4),\"\"))","v":""},{"$f":"IF(P_21号様式!AF45<> \"\",TEXT(INT(P_21号様式!AF45),\"#,##0\"),\"\")","v":"666,168"},{"$f":"IF(P_21号様式!AF45= \"\",\"\",IF(VALUE(FIXED(P_21号様式!AF45,0,TRUE))<>P_21号様式!AF45,RIGHT(FIXED(P_21号様式!AF45,3,FALSE),4),\"\"))","v":""},{"$f":"IF(P_21号様式!AG45<> \"\",TEXT(INT(P_21号様式!AG45),\"#,##0\"),\"\")","v":"60"},{"$f":"IF(P_21号様式!AG45= \"\",\"\",IF(VALUE(FIXED(P_21号様式!AG45,0,TRUE))<>P_21号様式!AG45,RIGHT(FIXED(P_21号様式!AG45,3,FALSE),4),\"\"))","v":""},{"$f":"IF(P_21号様式!AH45<> \"\",TEXT(INT(P_21号様式!AH45),\"#,##0\"),\"\")","v":"666,228"},{"$f":"IF(P_21号様式!AH45= \"\",\"\",IF(VALUE(FIXED(P_21号様式!AH45,0,TRUE))<>P_21号様式!AH45,RIGHT(FIXED(P_21号様式!AH45,3,FALSE),4),\"\"))","v":""},{"$f":"IF(P_21号様式!AI45=\"\",\"\",P_21号様式!AI45)","v":2.0056502263693199},null,{"$f":"IF(P_21号様式!AJ45=\"\",\"\",P_21号様式!AJ45)","v":"01:19:00"}]
["郡計",null,{"$f":"IF(P_21号様式!AK45=\"\",\"\",P_21号様式!AK45)","v":100},{"$f":"IF(P_21号様式!AL45<> \"\",TEXT(INT(P_21号様式!AL45),\"#,##0\"),\"\")","v":"103,573"},{"$f":"IF(P_21号様式!AL45= \"\",\"\",IF(VALUE(FIXED(P_21号様式!AL45,0,TRUE))<>P_21号様式!AL45,RIGHT(FIXED(P_21号様式!AL45,3,FALSE),4),\"\"))","v":""},{"$f":"IF(P_21号様式!AM45<> \"\",TEXT(INT(P_21号様式!AM45),\"#,##0\"),\"\")","v":"0"},{"$f":"IF(P_21号様式!AM45= \"\",\"\",IF(VALUE(FIXED(P_21号様式!AM45,0,TRUE))<>P_21号様式!AM45,RIGHT(FIXED(P_21号様式!AM45,3,FALSE),4),\"\"))","v":""},{"$f":"IF(P_21号様式!AN45<> \"\",TEXT(INT(P_21号様式!AN45),\"#,##0\"),\"\")","v":"0"},{"$f":"IF(P_21号様式!AN45= \"\",\"\",IF(VALUE(FIXED(P_21号様式!AN45,0,TRUE))<>P_21号様式!AN45,RIGHT(FIXED(P_21号様式!AN45,3,FALSE),4),\"\"))","v":""},{"$f":"IF(P_21号様式!AO45<> \"\",TEXT(INT(P_21号様式!AO45),\"#,##0\"),\"\")","v":"103,573"},{"$f":"IF(P_21号様式!AO45= \"\",\"\",IF(VALUE(FIXED(P_21号様式!AO45,0,TRUE))<>P_21号様式!AO45,RIGHT(FIXED(P_21号様式!AO45,3,FALSE),4),\"\"))","v":""},{"$f":"IF(P_21号様式!AP45<> \"\",TEXT(INT(P_21号様式!AP45),\"#,##0\"),\"\")","v":"3,500"},{"$f":"IF(P_21号様式!AP45= \"\",\"\",IF(VALUE(FIXED(P_21号様式!AP45,0,TRUE))<>P_21号様式!AP45,RIGHT(FIXED(P_21号様式!AP45,3,FALSE),4),\"\"))","v":""},{"$f":"IF(P_21号様式!AQ45<> \"\",TEXT(INT(P_21号様式!AQ45),\"#,##0\"),\"\")","v":"107,073"},{"$f":"IF(P_21号様式!AQ45= \"\",\"\",IF(VALUE(FIXED(P_21号様式!AQ45,0,TRUE))<>P_21号様式!AQ45,RIGHT(FIXED(P_21号様式!AQ45,3,FALSE),4),\"\"))","v":""},{"$f":"IF(P_21号様式!AR45<> \"\",TEXT(INT(P_21号様式!AR45),\"#,##0\"),\"\")","v":"4"},{"$f":"IF(P_21号様式!AR45= \"\",\"\",IF(VALUE(FIXED(P_21号様式!AR45,0,TRUE))<>P_21号様式!AR45,RIGHT(FIXED(P_21号様式!AR45,3,FALSE),4),\"\"))","v":""},{"$f":"IF(P_21号様式!AS45<> \"\",TEXT(INT(P_21号様式!AS45),\"#,##0\"),\"\")","v":"107,077"},{"$f":"IF(P_21号様式!AS45= \"\",\"\",IF(VALUE(FIXED(P_21号様式!AS45,0,TRUE))<>P_21号様式!AS45,RIGHT(FIXED(P_21号様式!AS45,3,FALSE),4),\"\"))","v":""},{"$f":"IF(P_21号様式!AT45=\"\",\"\",P_21号様式!AT45)","v":3.2687979229124098},null,{"$f":"IF(P_21号様式!AU45=\"\",\"\",P_21号様式!AU45)","v":"23:29:00"}]
["県計",null,{"$f":"IF(P_21号様式!AV45=\"\",\"\",P_21号様式!AV45)","v":100},{"$f":"IF(P_21号様式!AW45<> \"\",TEXT(INT(P_21号様式!AW45),\"#,##0\"),\"\")","v":"756,380"},{"$f":"IF(P_21号様式!AW45= \"\",\"\",IF(VALUE(FIXED(P_21号様式!AW45,0,TRUE))<>P_21号様式!AW45,RIGHT(FIXED(P_21号様式!AW45,3,FALSE),4),\"\"))","v":""},{"$f":"IF(P_21号様式!AX45<> \"\",TEXT(INT(P_21号様式!AX45),\"#,##0\"),\"\")","v":"0"},{"$f":"IF(P_21号様式!AX45= \"\",\"\",IF(VALUE(FIXED(P_21号様式!AX45,0,TRUE))<>P_21号様式!AX45,RIGHT(FIXED(P_21号様式!AX45,3,FALSE),4),\"\"))","v":""},{"$f":"IF(P_21号様式!AY45<> \"\",TEXT(INT(P_21号様式!AY45),\"#,##0\"),\"\")","v":"0"},{"$f":"IF(P_21号様式!AY45= \"\",\"\",IF(VALUE(FIXED(P_21号様式!AY45,0,TRUE))<>P_21号様式!AY45,RIGHT(FIXED(P_21号様式!AY45,3,FALSE),4),\"\"))","v":""},{"$f":"IF(P_21号様式!AZ45<> \"\",TEXT(INT(P_21号様式!AZ45),\"#,##0\"),\"\")","v":"756,380"},{"$f":"IF(P_21号様式!AZ45= \"\",\"\",IF(VALUE(FIXED(P_21号様式!AZ45,0,TRUE))<>P_21号様式!AZ45,RIGHT(FIXED(P_21号様式!AZ45,3,FALSE),4),\"\"))","v":""},{"$f":"IF(P_21号様式!BA45<> \"\",TEXT(INT(P_21号様式!BA45),\"#,##0\"),\"\")","v":"16,861"},{"$f":"IF(P_21号様式!BA45= \"\",\"\",IF(VALUE(FIXED(P_21号様式!BA45,0,TRUE))<>P_21号様式!BA45,RIGHT(FIXED(P_21号様式!BA45,3,FALSE),4),\"\"))","v":""},{"$f":"IF(P_21号様式!BB45<> \"\",TEXT(INT(P_21号様式!BB45),\"#,##0\"),\"\")","v":"773,241"},{"$f":"IF(P_21号様式!BB45= \"\",\"\",IF(VALUE(FIXED(P_21号様式!BB45,0,TRUE))<>P_21号様式!BB45,RIGHT(FIXED(P_21号様式!BB45,3,FALSE),4),\"\"))","v":""},{"$f":"IF(P_21号様式!BC45<> \"\",TEXT(INT(P_21号様式!BC45),\"#,##0\"),\"\")","v":"64"},{"$f":"IF(P_21号様式!BC45= \"\",\"\",IF(VALUE(FIXED(P_21号様式!BC45,0,TRUE))<>P_21号様式!BC45,RIGHT(FIXED(P_21号様式!BC45,3,FALSE),4),\"\"))","v":""},{"$f":"IF(P_21号様式!BD45<> \"\",TEXT(INT(P_21号様式!BD45),\"#,##0\"),\"\")","v":"773,305"},{"$f":"IF(P_21号様式!BD45= \"\",\"\",IF(VALUE(FIXED(P_21号様式!BD45,0,TRUE))<>P_21号様式!BD45,RIGHT(FIXED(P_21号様式!BD45,3,FALSE),4),\"\"))","v":""},{"$f":"IF(P_21号様式!BE45=\"\",\"\",P_21号様式!BE45)","v":2.1805620757305899},null,{"$f":"IF(P_21号様式!BF45=\"\",\"\",P_21号様式!BF45)","v":"01:19:00"}]

{"sheet":"パラメタシート","index":1,"n_rows":1,"n_cols":2,"rows_kept":1,"cut":false,"hidden":false,"merged":[]}
["執行日","2017-10-22"]

{"sheet":"P_21号様式","index":2,"n_rows":87,"n_cols":61,"rows_kept":87,"cut":false,"hidden":false,"merged":[]}
["頁番号","行番号","市区町村名","開票率","ア","イ","ウ","エ","オ","カ","キ","ク","無効投票率","開票確定時刻","政令市開票率","政令市ア","政令市イ","政令市ウ","政令市エ","政令市オ","政令市カ","政令市キ","政令市ク","政令市無効投票率","政令市開票確定時刻","その他市開票率","その他市ア","その他市イ","その他市ウ","その他市エ","その他市オ","その他市カ","その他市キ","その他市ク","その他市無効投票率","その他市開票確定時刻","郡計開票率","郡計ア","郡計イ","郡計ウ","郡計エ","郡計オ","郡計カ","郡計キ","郡計ク","郡計無効投票率","郡計開票確定時刻","県計開票率","県計ア","県計イ","県計ウ","県計エ","県計オ","県計カ","県計キ","県計ク","県計無効投票率","県計開票確定時刻","選挙名","翌日開票区分","開票時刻"]
[1,1,"鹿児島市１区",null,182798,0,0,182798,3174,185972,15,185987,1.70670853676898,"01:14:00",null,null,null,null,null,null,null,null,null,null,null,100,652807,0,0,652807,13361,666168,60,666228,2.0056502263693199,"01:19:00",100,103573,0,0,103573,3500,107073,4,107077,3.2687979229124098,"23:29:00",100,756380,0,0,756380,16861,773241,64,773305,2.1805620757305899,"01:19:00","衆議院比例代表選出議員選挙","0"]
[1,2,"鹿児島市２区",null,65500,0,0,65500,1143,66643,5,66648,1.7151088636465901,"00:57:00",null,null,null,null,null,null,null,null,null,null,null,100,652807,0,0,652807,13361,666168,60,666228,2.0056502263693199,"01:19:00",100,103573,0,0,103573,3500,107073,4,107077,3.2687979229124098,"23:29:00",100,756380,0,0,756380,16861,773241,64,773305,2.1805620757305899,"01:19:00","衆議院比例代表選出議員選挙","0"]
[1,3,"＊（鹿児島市）計",100,248298,0,0,248298,4317,252615,20,252635,1.70892464818004,"01:14:00",null,null,null,null,null,null,null,null,null,null,null,100,652807,0,0,652807,13361,666168,60,666228,2.0056502263693199,"01:19:00",100,103573,0,0,103573,3500,107073,4,107077,3.2687979229124098,"23:29:00",100,756380,0,0,756380,16861,773241,64,773305,2.1805620757305899,"01:19:00","衆議院比例代表選出議員選挙","0"]
[1,4,"鹿屋市",null,41938,0,0,41938,1494,43432,2,43434,3.4398600110517599,"01:19:00",null,null,null,null,null,null,null,null,null,null,null,100,652807,0,0,652807,13361,666168,60,666228,2.0056502263693199,"01:19:00",100,103573,0,0,103573,3500,107073,4,107077,3.2687979229124098,"23:29:00",100,756380,0,0,756380,16861,773241,64,773305,2.1805620757305899,"01:19:00","衆議院比例代表選出議員選挙","0"]
[1,5,"枕崎市",null,9684,0,0,9684,248,9932,0,9932,2.49697946033025,"22:34:00",null,null,null,null,null,null,null,null,null,null,null,100,652807,0,0,652807,13361,666168,60,666228,2.0056502263693199,"01:19:00",100,103573,0,0,103573,3500,107073,4,107077,3.2687979229124098,"23:29:00",100,756380,0,0,756380,16861,773241,64,773305,2.1805620757305899,"01:19:00","衆議院比例代表選出議員選挙","0"]
[1,6,"阿久根市",null,11155,0,0,11155,343,11498,0,11498,2.9831275004348599,"22:45:00",null,null,null,null,null,null,null,null,null,null,null,100,652807,0,0,652807,13361,666168,60,666228,2.0056502263693199,"01:19:00",100,103573,0,0,103573,3500,107073,4,107077,3.2687979229124098,"23:29:00",100,756380,0,0,756380,16861,773241,64,773305,2.1805620757305899,"01:19:00","衆議院比例代表選出議員選挙","0"]
[1,7,"出水市",null,25655,0,0,25655,399,26054,0,26054,1.53143471252015,"23:29:00",null,null,null,null,null,null,null,null,null,null,null,100,652807,0,0,652807,13361,666168,60,666228,2.0056502263693199,"01:19:00",100,103573,0,0,103573,3500,107073,4,107077,3.2687979229124098,"23:29:00",100,756380,0,0,756380,16861,773241,64,773305,2.1805620757305899,"01:19:00","衆議院比例代表選出議員選挙","0"]
[1,8,"指宿市",null,18494,0,0,18494,318,18812,0,18812,1.6904103763555201,"23:34:00",null,null,null,null,null,null,null,null,null,null,null,100,652807,0,0,652807,13361,666168,60,666228,2.0056502263693199,"01:19:00",100,103573,0,0,103573,3500,107073,4,107077,3.2687979229124098,"23:29:00",100,756380,0,0,756380,16861,773241,64,773305,2.1805620757305899,"01:19:00","衆議院比例代表選出議員選挙","0"]
[1,9,"西之表市",null,7010,0,0,7010,100,7110,0,7110,1.40646976090014,"22:28:00",null,null,null,null,null,null,null,null,null,null,null,100,652807,0,0,652807,13361,666168,60,666228,2.0056502263693199,"01:19:00",100,103573,0,0,103573,3500,107073,4,107077,3.2687979229124098,"23:29:00",100,756380,0,0,756380,16861,773241,64,773305,2.1805620757305899,"01:19:00","衆議院比例代表選出議員選挙","0"]
[1,10,"垂水市",null,7712,0,0,7712,339,8051,0,8051,4.2106570612346301,"22:54:00",null,null,null,null,null,null,null,null,null,null,null,100,652807,0,0,652807,13361,666168,60,666228,2.0056502263693199,"01:19:00",100,103573,0,0,103573,3500,107073,4,107077,3.2687979229124098,"23:29:00",100,756380,0,0,756380,16861,773241,64,773305,2.1805620757305899,"01:19:00","衆議院比例代表選出議員選挙","0"]
[1,11,"薩摩川内市第１",null,45760,0,0,45760,662,46422,2,46424,1.4260479944853699,"23:49:00",null,null,null,null,null,null,null,null,null,null,null,100,652807,0,0,652807,13361,666168,60,666228,2.0056502263693199,"01:19:00",100,103573,0,0,103573,3500,107073,4,107077,3.2687979229124098,"23:29:00",100,756380,0,0,756380,16861,773241,64,773305,2.1805620757305899,"01:19:00","衆議院比例代表選出議員選挙","0"]
[1,12,"薩摩川内市第２",null,1528,0,0,1528,24,1552,0,1552,1.5463917525773201,"21:32:00",null,null,null,null,null,null,null,null,null,null,null,100,652807,0,0,652807,13361,666168,60,666228,2.0056502263693199,"01:19:00",100,103573,0,0,103573,3500,107073,4,107077,3.2687979229124098,"23:29:00",100,756380,0,0,756380,16861,773241,64,773305,2.1805620757305899,"01:19:00","衆議院比例代表選出議員選挙","0"]
[1,13,"薩摩川内市第３",null,1372,0,0,1372,33,1405,0,1405,2.3487544483985801,"21:22:00",null,null,null,null,null,null,null,null,null,null,null,100,652807,0,0,652807,13361,666168,60,666228,2.0056502263693199,"01:19:00",100,103573,0,0,103573,3500,107073,4,107077,3.2687979229124098,"23:29:00",100,756380,0,0,756380,16861,773241,64,773305,2.1805620757305899,"01:19:00","衆議院比例代表選出議員選挙","0"]
[1,14,"＊（薩摩川内市）計",100,48660,0,0,48660,719,49379,2,49381,1.45608457036392,"23:49:00",null,null,null,null,null,null,null,null,null,null,null,100,652807,0,0,652807,13361,666168,60,666228,2.0056502263693199,"01:19:00",100,103573,0,0,103573,3500,107073,4,107077,3.2687979229124098,"23:29:00",100,756380,0,0,756380,16861,773241,64,773305,2.1805620757305899,"01:19:00","衆議院比例代表選出議員選挙","0"]
[1,15,"日置市",null,25023,0,0,25023,419,25442,0,25442,1.646883106674,"23:56:00",null,null,null,null,null,null,null,null,null,null,null,100,652807,0,0,652807,13361,666168,60,666228,2.0056502263693199,"01:19:00",100,103573,0,0,103573,3500,107073,4,107077,3.2687979229124098,"23:29:00",100,756380,0,0,756380,16861,773241,64,773305,2.1805620757305899,"01:19:00","衆議院比例代表選出議員選挙","0"]
[1,16,"曽於市",null,17552,0,0,17552,387,17939,0,17939,2.1573108868944799,"22:58:00",null,null,null,null,null,null,null,null,null,null,null,100,652807,0,0,652807,13361,666168,60,666228,2.0056502263693199,"01:19:00",100,103573,0,0,103573,3500,107073,4,107077,3.2687979229124098,"23:29:00",100,756380,0,0,756380,16861,773241,64,773305,2.1805620757305899,"01:19:00","衆議院比例代表選出議員選挙","0"]
[1,17,"霧島市",null,52753,0,0,52753,1010,53763,29,53792,1.8786154046463199,"23:47:00",null,null,null,null,null,null,null,null,null,null,null,100,652807,0,0,652807,13361,666168,60,666228,2.0056502263693199,"01:19:00",100,103573,0,0,103573,3500,107073,4,107077,3.2687979229124098,"23:29:00",100,756380,0,0,756380,16861,773241,64,773305,2.1805620757305899,"01:19:00","衆議院比例代表選出議員選挙","0"]
[1,18,"いちき串木野市",null,17655,0,0,17655,652,18307,0,18307,3.5614792156005901,"23:57:00",null,null,null,null,null,null,null,null,null,null,null,100,652807,0,0,652807,13361,666168,60,666228,2.0056502263693199,"01:19:00",100,103573,0,0,103573,3500,107073,4,107077,3.2687979229124098,"23:29:00",100,756380,0,0,756380,16861,773241,64,773305,2.1805620757305899,"01:19:00","衆議院比例代表選出議員選挙","0"]
[1,19,"南さつま市",null,17332,0,0,17332,489,17821,7,17828,2.74395376241513,"01:19:00",null,null,null,null,null,null,null,null,null,null,null,100,652807,0,0,652807,13361,666168,60,666228,2.0056502263693199,"01:19:00",100,103573,0,0,103573,3500,107073,4,107077,3.2687979229124098,"23:29:00",100,756380,0,0,756380,16861,773241,64,773305,2.1805620757305899,"01:19:00","衆議院比例代表選出議員選挙","0"]
[1,20,"志布志市",null,14584,0,0,14584,320,14904,0,14904,2.1470746108427301,"23:42:00",null,null,null,null,null,null,null,null,null,null,null,100,652807,0,0,652807,13361,666168,60,666228,2.0056502263693199,"01:19:00",100,103573,0,0,103573,3500,107073,4,107077,3.2687979229124098,"23:29:00",100,756380,0,0,756380,16861,773241,64,773305,2.1805620757305899,"01:19:00","衆議院比例代表選出議員選挙","0"]
[1,21,"奄美市",null,22143,0,0,22143,433,22576,0,22576,1.9179659815733501,"23:13:00",null,null,null,null,null,null,null,null,null,null,null,100,652807,0,0,652807,13361,666168,60,666228,2.0056502263693199,"01:19:00",100,103573,0,0,103573,3500,107073,4,107077,3.2687979229124098,"23:29:00",100,756380,0,0,756380,16861,773241,64,773305,2.1805620757305899,"01:19:00","衆議院比例代表選出議員選挙","0"]
[1,22,"南九州市",null,16973,0,0,16973,495,17468,0,17468,2.8337531486146101,"22:04:00",null,null,null,null,null,null,null,null,null,null,null,100,652807,0,0,652807,13361,666168,60,666228,2.0056502263693199,"01:19:00",100,103573,0,0,103573,3500,107073,4,107077,3.2687979229124098,"23:29:00",100,756380,0,0,756380,16861,773241,64,773305,2.1805620757305899,"01:19:00","衆議院比例代表選出議員選挙","0"]
[1,23,"伊佐市",null,14008,0,0,14008,428,14436,0,14436,2.9648101967303999,"23:54:00",null,null,null,null,null,null,null,null,null,null,null,100,652807,0,0,652807,13361,666168,60,666228,2.0056502263693199,"01:19:00",100,103573,0,0,103573,3500,107073,4,107077,3.2687979229124098,"23:29:00",100,756380,0,0,756380,16861,773241,64,773305,2.1805620757305899,"01:19:00","衆議院比例代表選出議員選挙","0"]
[1,24,"姶良市",null,36178,0,0,36178,451,36629,0,36629,1.23126484479511,"23:26:00",null,null,null,null,null,null,null,null,null,null,null,100,652807,0,0,652807,13361,666168,60,666228,2.0056502263693199,"01:19:00",100,103573,0,0,103573,3500,107073,4,107077,3.2687979229124098,"23:29:00",100,756380,0,0,756380,16861,773241,64,773305,2.1805620757305899,"01:19:00","衆議院比例代表選出議員選挙","0"]
[1,25,"三島村",null,234,0,0,234,6,240,0,240,2.5,"20:42:00",null,null,null,null,null,null,null,null,null,null,null,100,652807,0,0,652807,13361,666168,60,666228,2.0056502263693199,"01:19:00",100,103573,0,0,103573,3500,107073,4,107077,3.2687979229124098,"23:29:00",100,756380,0,0,756380,16861,773241,64,773305,2.1805620757305899,"01:19:00","衆議院比例代表選出議員選挙","0"]
[1,26,"十島村",null,452,0,0,452,13,465,0,465,2.7956989247311799,"20:55:00",null,null,null,null,null,null,null,null,null,null,null,100,652807,0,0,652807,13361,666168,60,666228,2.0056502263693199,"01:19:00",100,103573,0,0,103573,3500,107073,4,107077,3.2687979229124098,"23:29:00",100,756380,0,0,756380,16861,773241,64,773305,2.1805620757305899,"01:19:00","衆議院比例代表選出議員選挙","0"]
[1,27,"＊（鹿児島郡）計",100,686,0,0,686,19,705,0,705,2.6950354609929099,"20:55:00",null,null,null,null,null,null,null,null,null,null,null,100,652807,0,0,652807,13361,666168,60,666228,2.0056502263693199,"01:19:00",100,103573,0,0,103573,3500,107073,4,107077,3.2687979229124098,"23:29:00",100,756380,0,0,756380,16861,773241,64,773305,2.1805620757305899,"01:19:00","衆議院比例代表選出議員選挙","0"]
[1,28,"さつま町",null,12066,0,0,12066,260,12326,0,12326,2.10936232354373,"23:08:00",null,null,null,null,null,null,null,null,null,null,null,100,652807,0,0,652807,13361,666168,60,666228,2.0056502263693199,"01:19:00",100,103573,0,0,103573,3500,107073,4,107077,3.2687979229124098,"23:29:00",100,756380,0,0,756380,16861,773241,64,773305,2.1805620757305899,"01:19:00","衆議院比例代表選出議員選挙","0"]
[1,29,"＊（薩摩郡）計",100,12066,0,0,12066,260,12326,0,12326,2.10936232354373,"23:08:00",null,null,null,null,null,null,null,null,null,null,null,100,652807,0,0,652807,13361,666168,60,666228,2.0056502263693199,"01:19:00",100,103573,0,0,103573,3500,107073,4,107077,3.2687979229124098,"23:29:00",100,756380,0,0,756380,16861,773241,64,773305,2.1805620757305899,"01:19:00","衆議院比例代表選出議員選挙","0"]
[1,30,"長島町",null,6347,0,0,6347,187,6534,0,6534,2.8619528619528598,"22:37:00",null,null,null,null,null,null,null,null,null,null,null,100,652807,0,0,652807,13361,666168,60,666228,2.0056502263693199,"01:19:00",100,103573,0,0,103573,3500,107073,4,107077,3.2687979229124098,"23:29:00",100,756380,0,0,756380,16861,773241,64,773305,2.1805620757305899,"01:19:00","衆議院比例代表選出議員選挙","0"]
[1,31,"＊（出水郡）計",100,6347,0,0,6347,187,6534,0,6534,2.8619528619528598,"22:37:00",null,null,null,null,null,null,null,null,null,null,null,100,652807,0,0,652807,13361,666168,60,666228,2.0056502263693199,"01:19:00",100,103573,0,0,103573,3500,107073,4,107077,3.2687979229124098,"23:29:00",100,756380,0,0,756380,16861,773241,64,773305,2.1805620757305899,"01:19:00","衆議院比例代表選出議員選挙","0"]
[1,32,"湧水町",null,5279,0,0,5279,108,5387,0,5387,2.0048264340077999,"22:22:00",null,null,null,null,null,null,null,null,null,null,null,100,652807,0,0,652807,13361,666168,60,666228,2.0056502263693199,"01:19:00",100,103573,0,0,103573,3500,107073,4,107077,3.2687979229124098,"23:29:00",100,756380,0,0,756380,16861,773241,64,773305,2.1805620757305899,"01:19:00","衆議院比例代表選出議員選挙","0"]
[1,33,"＊（姶良郡）計",100,5279,0,0,5279,108,5387,0,5387,2.0048264340077999,"22:22:00",null,null,null,null,null,null,null,null,null,null,null,100,652807,0,0,652807,13361,666168,60,666228,2.0056502263693199,"01:19:00",100,103573,0,0,103573,3500,107073,4,107077,3.2687979229124098,"23:29:00",100,756380,0,0,756380,16861,773241,64,773305,2.1805620757305899,"01:19:00","衆議院比例代表選出議員選挙","0"]
[1,34,"大崎町",null,6421,0,0,6421,118,6539,0,6539,1.8045572717540901,"22:48:00",null,null,null,null,null,null,null,null,null,null,null,100,652807,0,0,652807,13361,666168,60,666228,2.0056502263693199,"01:19:00",100,103573,0,0,103573,3500,107073,4,107077,3.2687979229124098,"23:29:00",100,756380,0,0,756380,16861,773241,64,773305,2.1805620757305899,"01:19:00","衆議院比例代表選出議員選挙","0"]
[1,35,"＊（曽於郡）計",100,6421,0,0,6421,118,6539,0,6539,1.8045572717540901,"22:48:00",null,null,null,null,null,null,null,null,null,null,null,100,652807,0,0,652807,13361,666168,60,666228,2.0056502263693199,"01:19:00",100,103573,0,0,103573,3500,107073,4,107077,3.2687979229124098,"23:29:00",100,756380,0,0,756380,16861,773241,64,773305,2.1805620757305899,"01:19:00","衆議院比例代表選出議員選挙","0"]
[1,36,"東串良町",null,3102,0,0,3102,66,3168,0,3168,2.0833333333333299,"21:19:00",null,null,null,null,null,null,null,null,null,null,null,100,652807,0,0,652807,13361,666168,60,666228,2.0056502263693199,"01:19:00",100,103573,0,0,103573,3500,107073,4,107077,3.2687979229124098,"23:29:00",100,756380,0,0,756380,16861,773241,64,773305,2.1805620757305899,"01:19:00","衆議院比例代表選出議員選挙","0"]
[1,37,"錦江町",null,4173,0,0,4173,176,4349,0,4349,4.0469073350195499,"21:54:00",null,null,null,null,null,null,null,null,null,null,null,100,652807,0,0,652807,13361,666168,60,666228,2.0056502263693199,"01:19:00",100,103573,0,0,103573,3500,107073,4,107077,3.2687979229124098,"23:29:00",100,756380,0,0,756380,16861,773241,64,773305,2.1805620757305899,"01:19:00","衆議院比例代表選出議員選挙","0"]
[1,38,"南大隅町",null,4244,0,0,4244,188,4432,0,4432,4.2418772563176903,"22:00:00",null,null,null,null,null,null,null,null,null,null,null,100,652807,0,0,652807,13361,666168,60,666228,2.0056502263693199,"01:19:00",100,103573,0,0,103573,3500,107073,4,107077,3.2687979229124098,"23:29:00",100,756380,0,0,756380,16861,773241,64,773305,2.1805620757305899,"01:19:00","衆議院比例代表選出議員選挙","0"]
[1,39,"肝付町",null,7416,0,0,7416,191,7607,0,7607,2.5108452740896499,"22:35:00",null,null,null,null,null,null,null,null,null,null,null,100,652807,0,0,652807,13361,666168,60,666228,2.0056502263693199,"01:19:00",100,103573,0,0,103573,3500,107073,4,107077,3.2687979229124098,"23:29:00",100,756380,0,0,756380,16861,773241,64,773305,2.1805620757305899,"01:19:00","衆議院比例代表選出議員選挙","0"]
[1,40,"＊（肝属郡）計",100,18935,0,0,18935,621,19556,0,19556,3.1754960114542898,"22:35:00",null,null,null,null,null,null,null,null,null,null,null,100,652807,0,0,652807,13361,666168,60,666228,2.0056502263693199,"01:19:00",100,103573,0,0,103573,3500,107073,4,107077,3.2687979229124098,"23:29:00",100,756380,0,0,756380,16861,773241,64,773305,2.1805620757305899,"01:19:00","衆議院比例代表選出議員選挙","0"]
[1,41,"中種子町",null,4242,0,0,4242,147,4389,0,4389,3.3492822966507201,"21:44:00",null,null,null,null,null,null,null,null,null,null,null,100,652807,0,0,652807,13361,666168,60,666228,2.0056502263693199,"01:19:00",100,103573,0,0,103573,3500,107073,4,107077,3.2687979229124098,"23:29:00",100,756380,0,0,756380,16861,773241,64,773305,2.1805620757305899,"01:19:00","衆議院比例代表選出議員選挙","0"]
[1,42,"南種子町",null,2984,0,0,2984,90,3074,0,3074,2.9277813923227098,"21:33:00",null,null,null,null,null,null,null,null,null,null,null,100,652807,0,0,652807,13361,666168,60,666228,2.0056502263693199,"01:19:00",100,103573,0,0,103573,3500,107073,4,107077,3.2687979229124098,"23:29:00",100,756380,0,0,756380,16861,773241,64,773305,2.1805620757305899,"01:19:00","衆議院比例代表選出議員選挙","0"]
[1,43,"屋久島町",null,6238,0,0,6238,236,6474,0,6474,3.6453506333024399,"22:46:00",null,null,null,null,null,null,null,null,null,null,null,100,652807,0,0,652807,13361,666168,60,666228,2.0056502263693199,"01:19:00",100,103573,0,0,103573,3500,107073,4,107077,3.2687979229124098,"23:29:00",100,756380,0,0,756380,16861,773241,64,773305,2.1805620757305899,"01:19:00","衆議院比例代表選出議員選挙","0"]
[2,1,"＊（熊毛郡）計",100,13464,0,0,13464,473,13937,0,13937,3.3938437253354401,"22:46:00",null,null,null,null,null,null,null,null,null,null,null,100,652807,0,0,652807,13361,666168,60,666228,2.0056502263693199,"01:19:00",100,103573,0,0,103573,3500,107073,4,107077,3.2687979229124098,"23:29:00",100,756380,0,0,756380,16861,773241,64,773305,2.1805620757305899,"01:19:00","衆議院比例代表選出議員選挙","0"]
[2,2,"大和村",null,945,0,0,945,37,982,0,982,3.7678207739307501,"21:59:00",null,null,null,null,null,null,null,null,null,null,null,100,652807,0,0,652807,13361,666168,60,666228,2.0056502263693199,"01:19:00",100,103573,0,0,103573,3500,107073,4,107077,3.2687979229124098,"23:29:00",100,756380,0,0,756380,16861,773241,64,773305,2.1805620757305899,"01:19:00","衆議院比例代表選出議員選挙","0"]
[2,3,"宇検村",null,1305,0,0,1305,46,1351,1,1352,3.4048852701702401,"21:25:00",null,null,null,null,null,null,null,null,null,null,null,100,652807,0,0,652807,13361,666168,60,666228,2.0056502263693199,"01:19:00",100,103573,0,0,103573,3500,107073,4,107077,3.2687979229124098,"23:29:00",100,756380,0,0,756380,16861,773241,64,773305,2.1805620757305899,"01:19:00","衆議院比例代表選出議員選挙","0"]
[2,4,"瀬戸内町",null,5733,0,0,5733,238,5971,0,5971,3.9859320046893298,"22:47:00",null,null,null,null,null,null,null,null,null,null,null,100,652807,0,0,652807,13361,666168,60,666228,2.0056502263693199,"01:19:00",100,103573,0,0,103573,3500,107073,4,107077,3.2687979229124098,"23:29:00",100,756380,0,0,756380,16861,773241,64,773305,2.1805620757305899,"01:19:00","衆議院比例代表選出議員選挙","0"]
[2,5,"龍郷町",null,3940,0,0,3940,294,4234,1,4235,6.9437883797827098,"22:09:00",null,null,null,null,null,null,null,null,null,null,null,100,652807,0,0,652807,13361,666168,60,666228,2.0056502263693199,"01:19:00",100,103573,0,0,103573,3500,107073,4,107077,3.2687979229124098,"23:29:00",100,756380,0,0,756380,16861,773241,64,773305,2.1805620757305899,"01:19:00","衆議院比例代表選出議員選挙","0"]
[2,6,"喜界町",null,4237,0,0,4237,79,4316,1,4317,1.8303985171455099,"21:45:00",null,null,null,null,null,null,null,null,null,null,null,100,652807,0,0,652807,13361,666168,60,666228,2.0056502263693199,"01:19:00",100,103573,0,0,103573,3500,107073,4,107077,3.2687979229124098,"23:29:00",100,756380,0,0,756380,16861,773241,64,773305,2.1805620757305899,"01:19:00","衆議院比例代表選出議員選挙","0"]
[2,7,"徳之島町",null,5870,0,0,5870,168,6038,0,6038,2.7823782709506499,"23:01:00",null,null,null,null,null,null,null,null,null,null,null,100,652807,0,0,652807,13361,666168,60,666228,2.0056502263693199,"01:19:00",100,103573,0,0,103573,3500,107073,4,107077,3.2687979229124098,"23:29:00",100,756380,0,0,756380,16861,773241,64,773305,2.1805620757305899,"01:19:00","衆議院比例代表選出議員選挙","0"]
[2,8,"天城町",null,3327,0,0,3327,133,3460,0,3460,3.84393063583815,"21:40:00",null,null,null,null,null,null,null,null,null,null,null,100,652807,0,0,652807,13361,666168,60,666228,2.0056502263693199,"01:19:00",100,103573,0,0,103573,3500,107073,4,107077,3.2687979229124098,"23:29:00",100,756380,0,0,756380,16861,773241,64,773305,2.1805620757305899,"01:19:00","衆議院比例代表選出議員選挙","0"]
[2,9,"伊仙町",null,4595,0,0,4595,511,5106,0,5106,10.007833920877401,"23:29:00",null,null,null,null,null,null,null,null,null,null,null,100,652807,0,0,652807,13361,666168,60,666228,2.0056502263693199,"01:19:00",100,103573,0,0,103573,3500,107073,4,107077,3.2687979229124098,"23:29:00",100,756380,0,0,756380,16861,773241,64,773305,2.1805620757305899,"01:19:00","衆議院比例代表選出議員選挙","0"]
[2,10,"和泊町",null,3926,0,0,3926,56,3982,0,3982,1.4063284781516801,"21:54:00",null,null,null,null,null,null,null,null,null,null,null,100,652807,0,0,652807,13361,666168,60,666228,2.0056502263693199,"01:19:00",100,103573,0,0,103573,3500,107073,4,107077,3.2687979229124098,"23:29:00",100,756380,0,0,756380,16861,773241,64,773305,2.1805620757305899,"01:19:00","衆議院比例代表選出議員選挙","0"]
[2,11,"知名町",null,3487,0,0,3487,90,3577,0,3577,2.51607492311993,"21:55:00",null,null,null,null,null,null,null,null,null,null,null,100,652807,0,0,652807,13361,666168,60,666228,2.0056502263693199,"01:19:00",100,103573,0,0,103573,3500,107073,4,107077,3.2687979229124098,"23:29:00",100,756380,0,0,756380,16861,773241,64,773305,2.1805620757305899,"01:19:00","衆議院比例代表選出議員選挙","0"]
[2,12,"与論町",null,3010,0,0,3010,62,3072,1,3073,2.0182291666666701,"23:17:00",null,null,null,null,null,null,null,null,null,null,null,100,652807,0,0,652807,13361,666168,60,666228,2.0056502263693199,"01:19:00",100,103573,0,0,103573,3500,107073,4,107077,3.2687979229124098,"23:29:00",100,756380,0,0,756380,16861,773241,64,773305,2.1805620757305899,"01:19:00","衆議院比例代表選出議員選挙","0"]
[2,13,"＊（大島郡）計",100,40375,0,0,40375,1714,42089,4,42093,4.0723229347335401,"23:29:00",null,null,null,null,null,null,null,null,null,null,null,100,652807,0,0,652807,13361,666168,60,666228,2.0056502263693199,"01:19:00",100,103573,0,0,103573,3500,107073,4,107077,3.2687979229124098,"23:29:00",100,756380,0,0,756380,16861,773241,64,773305,2.1805620757305899,"01:19:00","衆議院比例代表選出議員選挙","0"]
[2,14,null,null,null,null,null,null,null,null,null,null,null,null,null,null,null,null,null,null,null,null,null,null,null,100,652807,0,0,652807,13361,666168,60,666228,2.0056502263693199,"01:19:00",100,103573,0,0,103573,3500,107073,4,107077,3.2687979229124098,"23:29:00",100,756380,0,0,756380,16861,773241,64,773305,2.1805620757305899,"01:19:00","衆議院比例代表選出議員選挙","0"]
[2,15,null,null,null,null,null,null,null,null,null,null,null,null,null,null,null,null,null,null,null,null,null,null,null,100,652807,0,0,652807,13361,666168,60,666228,2.0056502263693199,"01:19:00",100,103573,0,0,103573,3500,107073,4,107077,3.2687979229124098,"23:29:00",100,756380,0,0,756380,16861,773241,64,773305,2.1805620757305899,"01:19:00","衆議院比例代表選出議員選挙","0"]
[2,16,null,null,null,null,null,null,null,null,null,null,null,null,null,null,null,null,null,null,null,null,null,null,null,100,652807,0,0,652807,13361,666168,60,666228,2.0056502263693199,"01:19:00",100,103573,0,0,103573,3500,107073,4,107077,3.2687979229124098,"23:29:00",100,756380,0,0,756380,16861,773241,64,773305,2.1805620757305899,"01:19:00","衆議院比例代表選出議員選挙","0"]
[2,17,null,null,null,null,null,null,null,null,null,null,null,null,null,null,null,null,null,null,null,null,null,null,null,100,652807,0,0,652807,13361,666168,60,666228,2.0056502263693199,"01:19:00",100,103573,0,0,103573,3500,107073,4,107077,3.2687979229124098,"23:29:00",100,756380,0,0,756380,16861,773241,64,773305,2.1805620757305899,"01:19:00","衆議院比例代表選出議員選挙","0"]
[2,18,null,null,null,null,null,null,null,null,null,null,null,null,null,null,null,null,null,null,null,null,null,null,null,100,652807,0,0,652807,13361,666168,60,666228,2.0056502263693199,"01:19:00",100,103573,0,0,103573,3500,107073,4,107077,3.2687979229124098,"23:29:00",100,756380,0,0,756380,16861,773241,64,773305,2.1805620757305899,"01:19:00","衆議院比例代表選出議員選挙","0"]
[2,19,null,null,null,null,null,null,null,null,null,null,null,null,null,null,null,null,null,null,null,null,null,null,null,100,652807,0,0,652807,13361,666168,60,666228,2.0056502263693199,"01:19:00",100,103573,0,0,103573,3500,107073,4,107077,3.2687979229124098,"23:29:00",100,756380,0,0,756380,16861,773241,64,773305,2.1805620757305899,"01:19:00","衆議院比例代表選出議員選挙","0"]
[2,20,null,null,null,null,null,null,null,null,null,null,null,null,null,null,null,null,null,null,null,null,null,null,null,100,652807,0,0,652807,13361,666168,60,666228,2.0056502263693199,"01:19:00",100,103573,0,0,103573,3500,107073,4,107077,3.2687979229124098,"23:29:00",100,756380,0,0,756380,16861,773241,64,773305,2.1805620757305899,"01:19:00","衆議院比例代表選出議員選挙","0"]
[2,21,null,null,null,null,null,null,null,null,null,null,null,null,null,null,null,null,null,null,null,null,null,null,null,100,652807,0,0,652807,13361,666168,60,666228,2.0056502263693199,"01:19:00",100,103573,0,0,103573,3500,107073,4,107077,3.2687979229124098,"23:29:00",100,756380,0,0,756380,16861,773241,64,773305,2.1805620757305899,"01:19:00","衆議院比例代表選出議員選挙","0"]
[2,22,null,null,null,null,null,null,null,null,null,null,null,null,null,null,null,null,null,null,null,null,null,null,null,100,652807,0,0,652807,13361,666168,60,666228,2.0056502263693199,"01:19:00",100,103573,0,0,103573,3500,107073,4,107077,3.2687979229124098,"23:29:00",100,756380,0,0,756380,16861,773241,64,773305,2.1805620757305899,"01:19:00","衆議院比例代表選出議員選挙","0"]
[2,23,null,null,null,null,null,null,null,null,null,null,null,null,null,null,null,null,null,null,null,null,null,null,null,100,652807,0,0,652807,13361,666168,60,666228,2.0056502263693199,"01:19:00",100,103573,0,0,103573,3500,107073,4,107077,3.2687979229124098,"23:29:00",100,756380,0,0,756380,16861,773241,64,773305,2.1805620757305899,"01:19:00","衆議院比例代表選出議員選挙","0"]
[2,24,null,null,null,null,null,null,null,null,null,null,null,null,null,null,null,null,null,null,null,null,null,null,null,100,652807,0,0,652807,13361,666168,60,666228,2.0056502263693199,"01:19:00",100,103573,0,0,103573,3500,107073,4,107077,3.2687979229124098,"23:29:00",100,756380,0,0,756380,16861,773241,64,773305,2.1805620757305899,"01:19:00","衆議院比例代表選出議員選挙","0"]
[2,25,null,null,null,null,null,null,null,null,null,null,null,null,null,null,null,null,null,null,null,null,null,null,null,100,652807,0,0,652807,13361,666168,60,666228,2.0056502263693199,"01:19:00",100,103573,0,0,103573,3500,107073,4,107077,3.2687979229124098,"23:29:00",100,756380,0,0,756380,16861,773241,64,773305,2.1805620757305899,"01:19:00","衆議院比例代表選出議員選挙","0"]
[2,26,null,null,null,null,null,null,null,null,null,null,null,null,null,null,null,null,null,null,null,null,null,null,null,100,652807,0,0,652807,13361,666168,60,666228,2.0056502263693199,"01:19:00",100,103573,0,0,103573,3500,107073,4,107077,3.2687979229124098,"23:29:00",100,756380,0,0,756380,16861,773241,64,773305,2.1805620757305899,"01:19:00","衆議院比例代表選出議員選挙","0"]
[2,27,null,null,null,null,null,null,null,null,null,null,null,null,null,null,null,null,null,null,null,null,null,null,null,100,652807,0,0,652807,13361,666168,60,666228,2.0056502263693199,"01:19:00",100,103573,0,0,103573,3500,107073,4,107077,3.2687979229124098,"23:29:00",100,756380,0,0,756380,16861,773241,64,773305,2.1805620757305899,"01:19:00","衆議院比例代表選出議員選挙","0"]
[2,28,null,null,null,null,null,null,null,null,null,null,null,null,null,null,null,null,null,null,null,null,null,null,null,100,652807,0,0,652807,13361,666168,60,666228,2.0056502263693199,"01:19:00",100,103573,0,0,103573,3500,107073,4,107077,3.2687979229124098,"23:29:00",100,756380,0,0,756380,16861,773241,64,773305,2.1805620757305899,"01:19:00","衆議院比例代表選出議員選挙","0"]
[2,29,null,null,null,null,null,null,null,null,null,null,null,null,null,null,null,null,null,null,null,null,null,null,null,100,652807,0,0,652807,13361,666168,60,666228,2.0056502263693199,"01:19:00",100,103573,0,0,103573,3500,107073,4,107077,3.2687979229124098,"23:29:00",100,756380,0,0,756380,16861,773241,64,773305,2.1805620757305899,"01:19:00","衆議院比例代表選出議員選挙","0"]
[2,30,null,null,null,null,null,null,null,null,null,null,null,null,null,null,null,null,null,null,null,null,null,null,null,100,652807,0,0,652807,13361,666168,60,666228,2.0056502263693199,"01:19:00",100,103573,0,0,103573,3500,107073,4,107077,3.2687979229124098,"23:29:00",100,756380,0,0,756380,16861,773241,64,773305,2.1805620757305899,"01:19:00","衆議院比例代表選出議員選挙","0"]
[2,31,null,null,null,null,null,null,null,null,null,null,null,null,null,null,null,null,null,null,null,null,null,null,null,100,652807,0,0,652807,13361,666168,60,666228,2.0056502263693199,"01:19:00",100,103573,0,0,103573,3500,107073,4,107077,3.2687979229124098,"23:29:00",100,756380,0,0,756380,16861,773241,64,773305,2.1805620757305899,"01:19:00","衆議院比例代表選出議員選挙","0"]
[2,32,null,null,null,null,null,null,null,null,null,null,null,null,null,null,null,null,null,null,null,null,null,null,null,100,652807,0,0,652807,13361,666168,60,666228,2.0056502263693199,"01:19:00",100,103573,0,0,103573,3500,107073,4,107077,3.2687979229124098,"23:29:00",100,756380,0,0,756380,16861,773241,64,773305,2.1805620757305899,"01:19:00","衆議院比例代表選出議員選挙","0"]
[2,33,null,null,null,null,null,null,null,null,null,null,null,null,null,null,null,null,null,null,null,null,null,null,null,100,652807,0,0,652807,13361,666168,60,666228,2.0056502263693199,"01:19:00",100,103573,0,0,103573,3500,107073,4,107077,3.2687979229124098,"23:29:00",100,756380,0,0,756380,16861,773241,64,773305,2.1805620757305899,"01:19:00","衆議院比例代表選出議員選挙","0"]
[2,34,null,null,null,null,null,null,null,null,null,null,null,null,null,null,null,null,null,null,null,null,null,null,null,100,652807,0,0,652807,13361,666168,60,666228,2.0056502263693199,"01:19:00",100,103573,0,0,103573,3500,107073,4,107077,3.2687979229124098,"23:29:00",100,756380,0,0,756380,16861,773241,64,773305,2.1805620757305899,"01:19:00","衆議院比例代表選出議員選挙","0"]
[2,35,null,null,null,null,null,null,null,null,null,null,null,null,null,null,null,null,null,null,null,null,null,null,null,100,652807,0,0,652807,13361,666168,60,666228,2.0056502263693199,"01:19:00",100,103573,0,0,103573,3500,107073,4,107077,3.2687979229124098,"23:29:00",100,756380,0,0,756380,16861,773241,64,773305,2.1805620757305899,"01:19:00","衆議院比例代表選出議員選挙","0"]
[2,36,null,null,null,null,null,null,null,null,null,null,null,null,null,null,null,null,null,null,null,null,null,null,null,100,652807,0,0,652807,13361,666168,60,666228,2.0056502263693199,"01:19:00",100,103573,0,0,103573,3500,107073,4,107077,3.2687979229124098,"23:29:00",100,756380,0,0,756380,16861,773241,64,773305,2.1805620757305899,"01:19:00","衆議院比例代表選出議員選挙","0"]
[2,37,null,null,null,null,null,null,null,null,null,null,null,null,null,null,null,null,null,null,null,null,null,null,null,100,652807,0,0,652807,13361,666168,60,666228,2.0056502263693199,"01:19:00",100,103573,0,0,103573,3500,107073,4,107077,3.2687979229124098,"23:29:00",100,756380,0,0,756380,16861,773241,64,773305,2.1805620757305899,"01:19:00","衆議院比例代表選出議員選挙","0"]
[2,38,null,null,null,null,null,null,null,null,null,null,null,null,null,null,null,null,null,null,null,null,null,null,null,100,652807,0,0,652807,13361,666168,60,666228,2.0056502263693199,"01:19:00",100,103573,0,0,103573,3500,107073,4,107077,3.2687979229124098,"23:29:00",100,756380,0,0,756380,16861,773241,64,773305,2.1805620757305899,"01:19:00","衆議院比例代表選出議員選挙","0"]
[2,39,null,null,null,null,null,null,null,null,null,null,null,null,null,null,null,null,null,null,null,null,null,null,null,100,652807,0,0,652807,13361,666168,60,666228,2.0056502263693199,"01:19:00",100,103573,0,0,103573,3500,107073,4,107077,3.2687979229124098,"23:29:00",100,756380,0,0,756380,16861,773241,64,773305,2.1805620757305899,"01:19:00","衆議院比例代表選出議員選挙","0"]
[2,40,null,null,null,null,null,null,null,null,null,null,null,null,null,null,null,null,null,null,null,null,null,null,null,100,652807,0,0,652807,13361,666168,60,666228,2.0056502263693199,"01:19:00",100,103573,0,0,103573,3500,107073,4,107077,3.2687979229124098,"23:29:00",100,756380,0,0,756380,16861,773241,64,773305,2.1805620757305899,"01:19:00","衆議院比例代表選出議員選挙","0"]
[2,41,null,null,null,null,null,null,null,null,null,null,null,null,null,null,null,null,null,null,null,null,null,null,null,100,652807,0,0,652807,13361,666168,60,666228,2.0056502263693199,"01:19:00",100,103573,0,0,103573,3500,107073,4,107077,3.2687979229124098,"23:29:00",100,756380,0,0,756380,16861,773241,64,773305,2.1805620757305899,"01:19:00","衆議院比例代表選出議員選挙","0"]
[2,42,null,null,null,null,null,null,null,null,null,null,null,null,null,null,null,null,null,null,null,null,null,null,null,100,652807,0,0,652807,13361,666168,60,666228,2.0056502263693199,"01:19:00",100,103573,0,0,103573,3500,107073,4,107077,3.2687979229124098,"23:29:00",100,756380,0,0,756380,16861,773241,64,773305,2.1805620757305899,"01:19:00","衆議院比例代表選出議員選挙","0"]
[2,43,null,null,null,null,null,null,null,null,null,null,null,null,null,null,null,null,null,null,null,null,null,null,null,100,652807,0,0,652807,13361,666168,60,666228,2.0056502263693199,"01:19:00",100,103573,0,0,103573,3500,107073,4,107077,3.2687979229124098,"23:29:00",100,756380,0,0,756380,16861,773241,64,773305,2.1805620757305899,"01:19:00","衆議院比例代表選出議員選挙","0"]