{"text_format":"1","workbook":"xlsx","n_sheets":3,"sheets":["衆比開票速報（政党別得票数）_191_","パラメタシート","P_19号様式"],"not_rendered":{"charts":0,"images":0,"macros":1,"external_links":0,"defined_names":7,"comments":0,"pivot_tables":0},"unopened":[],"bounds":{"document_bytes":16777216,"sheet_cells":100000,"rows_first":2000,"rows_last":500,"rows_between":2000,"halvings":0,"cell_chars":16384,"cell_head_chars":4096},"cells_cut":0,"cells_raw":0,"read":"whole","date_system":"1900"}

{"sheet":"衆比開票速報（政党別得票数）_191_","index":0,"n_rows":49,"n_cols":20,"rows_kept":49,"cut":false,"hidden":false,"merged":[[1,17,2,19],[10,14,10,16],[12,14,12,16],[8,17,8,19],[10,17,10,18],[12,17,12,18],[5,15,5,16],[3,17,4,19],[48,3,48,4],[48,9,48,10],[14,14,14,16],[16,14,16,16],[18,14,18,16],[20,14,20,16],[22,14,22,16],[24,14,24,16],[26,14,26,16],[44,3,44,4],[36,3,36,4],[36,9,36,10],[38,3,38,4],[38,9,38,10],[32,3,32,4],[32,9,32,10],[34,3,34,4],[34,9,34,10],[46,3,46,4],[46,9,46,10],[40,3,40,4],[40,9,40,10],[42,3,42,4],[42,9,42,10],[43,5,43,6],[45,5,45,6],[2,0,3,2],[2,8,4,11],[4,15,4,16],[4,1,4,4],[4,12,4,13],[5,1,5,4],[28,3,28,4],[28,9,28,10],[30,3,30,4],[30,9,30,10],[24,3,24,4],[24,9,24,10],[26,3,26,4],[26,9,26,10],[27,5,27,6],[29,5,29,6],[10,3,10,4],[10,9,10,10],[20,3,20,4],[20,9,20,10],[22,3,22,4],[22,9,22,10],[12,3,12,4],[19,11,19,12],[7,11,7,12],[8,11,8,12],[8,14,8,16],[9,11,9,12],[18,17,18,18],[7,2,7,4],[8,2,8,4],[8,8,8,10],[7,5,7,6],[8,5,8,6],[17,11,17,12],[15,11,15,12],[13,11,13,12],[12,9,12,10],[14,3,14,4],[16,3,16,4],[16,9,16,10],[18,3,18,4],[18,9,18,10],[22,17,22,18],[21,11,21,12],[20,17,20,18],[26,17,26,18],[9,5,9,6],[11,5,11,6],[13,5,13,6],[15,5,15,6],[17,5,17,6],[19,5,19,6],[21,5,21,6],[23,5,23,6],[25,5,25,6],[14,9,14,10],[11,11,11,12],[24,17,24,18],[23,11,23,12],[14,17,14,18],[16,17,16,18],[39,11,39,12],[37,11,37,12],[35,11,35,12],[25,11,25,12],[33,11,33,12],[31,11,31,12],[29,11,29,12],[27,11,27,12],[47,5,47,6],[47,11,47,12],[45,11,45,12],[43,11,43,12],[44,9,44,10],[41,11,41,12],[31,5,31,6],[33,5,33,6],[35,5,35,6],[37,5,37,6],[39,5,39,6],[41,5,41,6]]}
[]
[null,null,null,null,null,null,null,null,null,null,null,null,null,null,null,null,null,"鹿 児 島 県"]
["第19号様式",null,null,null,null,null,null,null,"開　票　速　報"]
[null,null,null,null,null,null,null,null,null,null,null,null,null,null,null,null,null,{"$f":"IF(P_19号様式!A2=\"\",\" ページ\", P_19号様式!A2 & \"ページ\")","v":"1ページ"}]
[null,{"$f":"IF(パラメタシート!B1=\"\",\"    年  月  日　執行\",パラメタシート!B1)","v":"2017-10-22"},null,null,null,null,null,null,null,null,null,null,{"$f":"IF(P_19号様式!FQ2=\"0\",\"　即日　開票\",\"　翌日　開票\")","v":"　即日　開票"},null,"中間速報",{"$f":"IF(P_19号様式!FR2=\"\",\"     時     分\",P_19号様式!FR2)","v":"     時     分"}]
[null,{"$f":"IF(P_19号様式!FP2=\"\",\"     年   月   日　執行\",P_19号様式!FP2)","v":"衆議院比例代表選出議員選挙"},null,null,null,null,null,null,null,null,null,null,null,"開票","結了報告",{"$f":"IF(P_19号様式!FS2=\"\",\"     時     分\",P_19号様式!FS2)","v":"01:19:00"}]
[]
[null,null,null,null,null,"（得票率％）",null,null,null,null,null,"（得票率％）"]
[null,"届出番号","政　　党　　等　　名",null,null,"得　票　数",null,"届出番号","政　　党　　等　　名",null,null,"得　票　数",null,null,"開　　票　　内　　訳",null,null,"票　　　　数"]
[null,null,null,null,null,{"$f":"IF(P_19号様式!F$2=\"\",\"\",TEXT(P_19号様式!F2,\"（#,##0.00）\"))","v":"(37.12)"},null,null,null,null,null,{"$f":"IF(P_19号様式!CH$2=\"\",\"\",TEXT(P_19号様式!CH$2,\"（#,##0.00）\"))","v":""}]
[null,{"$f":"IF(P_19号様式!C2=\"\",\"\",P_19号様式!C2)","v":"01"},null,{"$f":"IF(P_19号様式!D2=\"\",\"\",P_19号様式!D2)","v":"自由民主党"},null,{"$f":"IF(P_19号様式!E2<> \"\",TEXT(INT(P_19号様式!E2),\"#,##0\"),\"\")","v":"280,787"},{"$f":"IF(P_19号様式!E2= \"\",\"\",IF(VALUE(FIXED(P_19号様式!E2,0,TRUE))<>P_19号様式!E2,RIGHT(FIXED(P_19号様式!E2,3,FALSE),4),\"\"))","v":""},{"$f":"IF(P_19号様式!CE2=\"\",\"\",P_19号様式!CE2)","v":""},null,{"$f":"IF(P_19号様式!CF2=\"\",\"\",P_19号様式!CF2)","v":""},null,{"$f":"IF(P_19号様式!CG2<> \"\",TEXT(INT(P_19号様式!CG2),\"#,##0\"),\"\")","v":""},{"$f":"IF(P_19号様式!CG2= \"\",\"\",IF(VALUE(FIXED(P_19号様式!CG2,0,TRUE))<>P_19号様式!CG2,RIGHT(FIXED(P_19号様式!CG2,3,FALSE),4),\"\"))","v":""},null,"（ア）得票総数",null,null,{"$f":"IF(P_19号様式!FG2<> \"\",TEXT(INT(P_19号様式!FG2),\"#,##0\"),\"\")","v":"756,380"},null,{"$f":"IF(P_19号様式!FG2= \"\",\"\",IF(VALUE(FIXED(P_19号様式!FG2,0,TRUE))<>P_19号様式!FG2,RIGHT(FIXED(P_19号様式!FG2,3,FALSE),4),\"\"))","v":""}]
[null,null,null,null,null,{"$f":"IF(P_19号様式!J$2=\"\",\"\",TEXT(P_19号様式!J2,\"（#,##0.00）\"))","v":"(0.56)"},null,null,null,null,null,{"$f":"IF(P_19号様式!CL$2=\"\",\"\",TEXT(P_19号様式!CL$2,\"（#,##0.00）\"))","v":""}]
[null,{"$f":"IF(P_19号様式!G2=\"\",\"\",P_19号様式!G2)","v":"02"},null,{"$f":"IF(P_19号様式!H2=\"\",\"\",P_19号様式!H2)","v":"幸福実現党"},null,{"$f":"IF(P_19号様式!I2<> \"\",TEXT(INT(P_19号様式!I2),\"#,##0\"),\"\")","v":"4,205"},{"$f":"IF(P_19号様式!I2= \"\",\"\",IF(VALUE(FIXED(P_19号様式!I2,0,TRUE))<>P_19号様式!I2,RIGHT(FIXED(P_19号様式!I2,3,FALSE),4),\"\"))","v":""},{"$f":"IF(P_19号様式!CI2=\"\",\"\",P_19号様式!CI2)","v":""},null,{"$f":"IF(P_19号様式!CJ2=\"\",\"\",P_19号様式!CJ2)","v":""},null,{"$f":"IF(P_19号様式!CK2<> \"\",TEXT(INT(P_19号様式!CK2),\"#,##0\"),\"\")","v":""},{"$f":"IF(P_19号様式!CK2= \"\",\"\",IF(VALUE(FIXED(P_19号様式!CK2,0,TRUE))<>P_19号様式!CK2,RIGHT(FIXED(P_19号様式!CK2,3,FALSE),4),\"\"))","v":""},null,"（イ）あん分の際切り捨てた票数",null,null,{"$f":"IF(P_19号様式!FH2<> \"\",TEXT(INT(P_19号様式!FH2),\"#,##0\"),\"\")","v":"0"},null,{"$f":"IF(P_19号様式!FH2= \"\",\"\",IF(VALUE(FIXED(P_19号様式!FH2,0,TRUE))<>P_19号様式!FH2,RIGHT(FIXED(P_19号様式!FH2,3,FALSE),4),\"\"))","v":""}]
[null,null,null,null,null,{"$f":"IF(P_19号様式!N$2=\"\",\"\",TEXT(P_19号様式!N$2,\"（#,##0.00）\"))","v":"(14.01)"},null,null,null,null,null,{"$f":"IF(P_19号様式!CP$2=\"\",\"\",TEXT(P_19号様式!CP$2,\"（#,##0.00）\"))","v":""}]
[null,{"$f":"IF(P_19号様式!K2=\"\",\"\",P_19号様式!K2)","v":"03"},null,{"$f":"IF(P_19号様式!L2=\"\",\"\",P_19号様式!L2)","v":"公明党"},null,{"$f":"IF(P_19号様式!M2<> \"\",TEXT(INT(P_19号様式!M2),\"#,##0\"),\"\")","v":"105,960"},{"$f":"IF(P_19号様式!M2= \"\",\"\",IF(VALUE(FIXED(P_19号様式!M2,0,TRUE))<>P_19号様式!M2,RIGHT(FIXED(P_19号様式!M2,3,FALSE),4),\"\"))","v":""},{"$f":"IF(P_19号様式!CM2=\"\",\"\",P_19号様式!CM2)","v":""},null,{"$f":"IF(P_19号様式!CN2=\"\",\"\",P_19号様式!CN2)","v":""},null,{"$f":"IF(P_19号様式!CO2<> \"\",TEXT(INT(P_19号様式!CO2),\"#,##0\"),\"\")","v":""},{"$f":"IF(P_19号様式!CO2= \"\",\"\",IF(VALUE(FIXED(P_19号様式!CO2,0,TRUE))<>P_19号様式!CO2,RIGHT(FIXED(P_19号様式!CO2,3,FALSE),4),\"\"))","v":""},null,"（ウ）いずれの政党等にも属しない票数",null,null,{"$f":"IF(P_19号様式!FI2<> \"\",TEXT(INT(P_19号様式!FI2),\"#,##0\"),\"\")","v":"0"},null,{"$f":"IF(P_19号様式!FI2= \"\",\"\",IF(VALUE(FIXED(P_19号様式!FI2,0,TRUE))<>P_19号様式!FI2,RIGHT(FIXED(P_19号様式!FI2,3,FALSE),4),\"\"))","v":""}]
[null,null,null,null,null,{"$f":"IF(P_19号様式!R$2=\"\",\"\",TEXT(P_19号様式!R$2,\"（#,##0.00）\"))","v":"(3.24)"},null,null,null,null,null,{"$f":"IF(P_19号様式!CT$2=\"\",\"\",TEXT(P_19号様式!CT$2,\"（#,##0.00）\"))","v":""}]
[null,{"$f":"IF(P_19号様式!O2=\"\",\"\",P_19号様式!O2)","v":"04"},null,{"$f":"IF(P_19号様式!P2=\"\",\"\",P_19号様式!P2)","v":"社会民主党"},null,{"$f":"IF(P_19号様式!Q2<> \"\",TEXT(INT(P_19号様式!Q2),\"#,##0\"),\"\")","v":"24,515"},{"$f":"IF(P_19号様式!Q2= \"\",\"\",IF(VALUE(FIXED(P_19号様式!Q2,0,TRUE))<>P_19号様式!Q2,RIGHT(FIXED(P_19号様式!Q2,3,FALSE),4),\"\"))","v":""},{"$f":"IF(P_19号様式!CQ2=\"\",\"\",P_19号様式!CQ2)","v":""},null,{"$f":"IF(P_19号様式!CR2=\"\",\"\",P_19号様式!CR2)","v":""},null,{"$f":"IF(P_19号様式!CS2<> \"\",TEXT(INT(P_19号様式!CS2),\"#,##0\"),\"\")","v":""},{"$f":"IF(P_19号様式!CS2= \"\",\"\",IF(VALUE(FIXED(P_19号様式!CS2,0,TRUE))<>P_19号様式!CS2,RIGHT(FIXED(P_19号様式!CS2,3,FALSE),4),\"\"))","v":""},null,"（エ）有効投票数（ア＋イ＋ウ）",null,null,{"$f":"IF(P_19号様式!FJ2<> \"\",TEXT(INT(P_19号様式!FJ2),\"#,##0\"),\"\")","v":"756,380"},null,{"$f":"IF(P_19号様式!FJ2= \"\",\"\",IF(VALUE(FIXED(P_19号様式!FJ2,0,TRUE))<>P_19号様式!FJ2,RIGHT(FIXED(P_19号様式!FJ2,3,FALSE),4),\"\"))","v":""}]
[null,null,null,null,null,{"$f":"IF(P_19号様式!V$2=\"\",\"\",TEXT(P_19号様式!V$2,\"（#,##0.00）\"))","v":"(4.85)"},null,null,null,null,null,{"$f":"IF(P_19号様式!CX$2=\"\",\"\",TEXT(P_19号様式!CX$2,\"（#,##0.00）\"))","v":""}]
[null,{"$f":"IF(P_19号様式!S2=\"\",\"\",P_19号様式!S2)","v":"05"},null,{"$f":"IF(P_19号様式!T2=\"\",\"\",P_19号様式!T2)","v":"日本共産党"},null,{"$f":"IF(P_19号様式!U2<> \"\",TEXT(INT(P_19号様式!U2),\"#,##0\"),\"\")","v":"36,656"},{"$f":"IF(P_19号様式!U2= \"\",\"\",IF(VALUE(FIXED(P_19号様式!U2,0,TRUE))<>P_19号様式!U2,RIGHT(FIXED(P_19号様式!U2,3,FALSE),4),\"\"))","v":""},{"$f":"IF(P_19号様式!CU2=\"\",\"\",P_19号様式!CU2)","v":""},null,{"$f":"IF(P_19号様式!CV2=\"\",\"\",P_19号様式!CV2)","v":""},null,{"$f":"IF(P_19号様式!CW2<> \"\",TEXT(INT(P_19号様式!CW2),\"#,##0\"),\"\")","v":""},{"$f":"IF(P_19号様式!CW2= \"\",\"\",IF(VALUE(FIXED(P_19号様式!CW2,0,TRUE))<>P_19号様式!CW2,RIGHT(FIXED(P_19号様式!CW2,3,FALSE),4),\"\"))","v":""},null,"（オ）無効投票数",null,null,{"$f":"IF(P_19号様式!FK2<> \"\",TEXT(INT(P_19号様式!FK2),\"#,##0\"),\"\")","v":"16,861"},null,{"$f":"IF(P_19号様式!FK2= \"\",\"\",IF(VALUE(FIXED(P_19号様式!FK2,0,TRUE))<>P_19号様式!FK2,RIGHT(FIXED(P_19号様式!FK2,3,FALSE),4),\"\"))","v":""}]
[null,null,null,null,null,{"$f":"IF(P_19号様式!Z$2=\"\",\"\",TEXT(P_19号様式!Z$2,\"（#,##0.00）\"))","v":"(15.35)"},null,null,null,null,null,{"$f":"IF(P_19号様式!DB$2=\"\",\"\",TEXT(P_19号様式!DB$2,\"（#,##0.00）\"))","v":""}]
[null,{"$f":"IF(P_19号様式!W2=\"\",\"\",P_19号様式!W2)","v":"06"},null,{"$f":"IF(P_19号様式!X2=\"\",\"\",P_19号様式!X2)","v":"立憲民主党"},null,{"$f":"IF(P_19号様式!Y2<> \"\",TEXT(INT(P_19号様式!Y2),\"#,##0\"),\"\")","v":"116,096"},{"$f":"IF(P_19号様式!Y2= \"\",\"\",IF(VALUE(FIXED(P_19号様式!Y2,0,TRUE))<>P_19号様式!Y2,RIGHT(FIXED(P_19号様式!Y2,3,FALSE),4),\"\"))","v":""},{"$f":"IF(P_19号様式!CY2=\"\",\"\",P_19号様式!CY2)","v":""},null,{"$f":"IF(P_19号様式!CZ2=\"\",\"\",P_19号様式!CZ2)","v":""},null,{"$f":"IF(P_19号様式!DA2<> \"\",TEXT(INT(P_19号様式!DA2),\"#,##0\"),\"\")","v":""},{"$f":"IF(P_19号様式!DA2= \"\",\"\",IF(VALUE(FIXED(P_19号様式!DA2,0,TRUE))<>P_19号様式!DA2,RIGHT(FIXED(P_19号様式!DA2,3,FALSE),4),\"\"))","v":""},null,"（カ）投票総数（エ＋オ）",null,null,{"$f":"IF(P_19号様式!FL2<> \"\",TEXT(INT(P_19号様式!FL2),\"#,##0\"),\"\")","v":"773,241"},null,{"$f":"IF(P_19号様式!FL2= \"\",\"\",IF(VALUE(FIXED(P_19号様式!FL2,0,TRUE))<>P_19号様式!FL2,RIGHT(FIXED(P_19号様式!FL2,3,FALSE),4),\"\"))","v":""}]
[null,null,null,null,null,{"$f":"IF(P_19号様式!AD$2=\"\",\"\",TEXT(P_19号様式!AD$2,\"（#,##0.00）\"))","v":"(19.68)"},null,null,null,null,null,{"$f":"IF(P_19号様式!DF$2=\"\",\"\",TEXT(P_19号様式!DF$2,\"（#,##0.00）\"))","v":""}]
[null,{"$f":"IF(P_19号様式!AA2=\"\",\"\",P_19号様式!AA2)","v":"07"},null,{"$f":"IF(P_19号様式!AB2=\"\",\"\",P_19号様式!AB2)","v":"希望の党"},null,{"$f":"IF(P_19号様式!AC2<> \"\",TEXT(INT(P_19号様式!AC2),\"#,##0\"),\"\")","v":"148,842"},{"$f":"IF(P_19号様式!AC2= \"\",\"\",IF(VALUE(FIXED(P_19号様式!AC2,0,TRUE))<>P_19号様式!AC2,RIGHT(FIXED(P_19号様式!AC2,3,FALSE),4),\"\"))","v":""},{"$f":"IF(P_19号様式!DC2=\"\",\"\",P_19号様式!DC2)","v":""},null,{"$f":"IF(P_19号様式!DD2=\"\",\"\",P_19号様式!DD2)","v":""},null,{"$f":"IF(P_19号様式!DE2<> \"\",TEXT(INT(P_19号様式!DE2),\"#,##0\"),\"\")","v":""},{"$f":"IF(P_19号様式!DE2= \"\",\"\",IF(VALUE(FIXED(P_19号様式!DE2,0,TRUE))<>P_19号様式!DE2,RIGHT(FIXED(P_19号様式!DE2,3,FALSE),4),\"\"))","v":""},null,"（キ）持ち帰り・不受理・その他",null,null,{"$f":"IF(P_19号様式!FM2<> \"\",TEXT(INT(P_19号様式!FM2),\"#,##0\"),\"\")","v":"64"},null,{"$f":"IF(P_19号様式!FM2= \"\",\"\",IF(VALUE(FIXED(P_19号様式!FM2,0,TRUE))<>P_19号様式!FM2,RIGHT(FIXED(P_19号様式!FM2,3,FALSE),4),\"\"))","v":""}]
[null,null,null,null,null,{"$f":"IF(P_19号様式!AH$2=\"\",\"\",TEXT(P_19号様式!AH$2,\"（#,##0.00）\"))","v":"(5.20)"},null,null,null,null,null,{"$f":"IF(P_19号様式!DJ$2=\"\",\"\",TEXT(P_19号様式!DJ$2,\"（#,##0.00）\"))","v":""}]
[null,{"$f":"IF(P_19号様式!AE2=\"\",\"\",P_19号様式!AE2)","v":"08"},null,{"$f":"IF(P_19号様式!AF2=\"\",\"\",P_19号様式!AF2)","v":"日本維新の会"},null,{"$f":"IF(P_19号様式!AG2<> \"\",TEXT(INT(P_19号様式!AG2),\"#,##0\"),\"\")","v":"39,319"},{"$f":"IF(P_19号様式!AG2= \"\",\"\",IF(VALUE(FIXED(P_19号様式!AG2,0,TRUE))<>P_19号様式!AG2,RIGHT(FIXED(P_19号様式!AG2,3,FALSE),4),\"\"))","v":""},{"$f":"IF(P_19号様式!DG2=\"\",\"\",P_19号様式!DG2)","v":""},null,{"$f":"IF(P_19号様式!DH2=\"\",\"\",P_19号様式!DH2)","v":""},null,{"$f":"IF(P_19号様式!DI2<> \"\",TEXT(INT(P_19号様式!DI2),\"#,##0\"),\"\")","v":""},{"$f":"IF(P_19号様式!DI2= \"\",\"\",IF(VALUE(FIXED(P_19号様式!DI2,0,TRUE))<>P_19号様式!DI2,RIGHT(FIXED(P_19号様式!DI2,3,FALSE),4),\"\"))","v":""},null,"（ク）投票者総数（カ＋キ）",null,null,{"$f":"IF(P_19号様式!FN2<> \"\",TEXT(INT(P_19号様式!FN2),\"#,##0\"),\"\")","v":"773,305"},null,{"$f":"IF(P_19号様式!FN2= \"\",\"\",IF(VALUE(FIXED(P_19号様式!FN2,0,TRUE))<>P_19号様式!FN2,RIGHT(FIXED(P_19号様式!FN2,3,FALSE),4),\"\"))","v":""}]
[null,null,null,null,null,{"$f":"IF(P_19号様式!AL$2=\"\",\"\",TEXT(P_19号様式!AL$2,\"（#,##0.00）\"))","v":""},null,null,null,null,null,{"$f":"IF(P_19号様式!DN$2=\"\",\"\",TEXT(P_19号様式!DN$2,\"（#,##0.00）\"))","v":""}]
[null,{"$f":"IF(P_19号様式!AI2=\"\",\"\",P_19号様式!AI2)","v":""},null,{"$f":"IF(P_19号様式!AJ2=\"\",\"\",P_19号様式!AJ2)","v":""},null,{"$f":"IF(P_19号様式!AK2<> \"\",TEXT(INT(P_19号様式!AK2),\"#,##0\"),\"\")","v":""},{"$f":"IF(P_19号様式!AK2= \"\",\"\",IF(VALUE(FIXED(P_19号様式!AK2,0,TRUE))<>P_19号様式!AK2,RIGHT(FIXED(P_19号様式!AK2,3,FALSE),4),\"\"))","v":""},{"$f":"IF(P_19号様式!DK2=\"\",\"\",P_19号様式!DK2)","v":""},null,{"$f":"IF(P_19号様式!DL2=\"\",\"\",P_19号様式!DL2)","v":""},null,{"$f":"IF(P_19号様式!DM2<> \"\",TEXT(INT(P_19号様式!DM2),\"#,##0\"),\"\")","v":""},{"$f":"IF(P_19号様式!DM2= \"\",\"\",IF(VALUE(FIXED(P_19号様式!DM2,0,TRUE))<>P_19号様式!DM2,RIGHT(FIXED(P_19号様式!DM2,3,FALSE),4),\"\"))","v":""},null,"（ケ）開票進捗率",null,null,{"$f":"IF(P_19号様式!FO2<> \"\",TEXT(INT(P_19号様式!FO2),\"#,##0\"),\"\")","v":"100"},null,{"$f":"IF(P_19号様式!FO2= \"\",\"\",IF(VALUE(FIXED(P_19号様式!FO2,0,TRUE))<>P_19号様式!FO2,RIGHT(FIXED(P_19号様式!FO2,2,FALSE),3),\".00\"))","v":".00"}]
[null,null,null,null,null,{"$f":"IF(P_19号様式!AP$2=\"\",\"\",TEXT(P_19号様式!AP$2,\"（#,##0.00）\"))","v":""},null,null,null,null,null,{"$f":"IF(P_19号様式!DR$2=\"\",\"\",TEXT(P_19号様式!DR$2,\"（#,##0.00）\"))","v":""}]
[null,{"$f":"IF(P_19号様式!AM2=\"\",\"\",P_19号様式!AM2)","v":""},null,{"$f":"IF(P_19号様式!AN2=\"\",\"\",P_19号様式!AN2)","v":""},null,{"$f":"IF(P_19号様式!AO2<> \"\",TEXT(INT(P_19号様式!AO2),\"#,##0\"),\"\")","v":""},{"$f":"IF(P_19号様式!AO2= \"\",\"\",IF(VALUE(FIXED(P_19号様式!AO2,0,TRUE))<>P_19号様式!AO2,RIGHT(FIXED(P_19号様式!AO2,3,FALSE),4),\"\"))","v":""},{"$f":"IF(P_19号様式!DO2=\"\",\"\",P_19号様式!DO2)","v":""},null,{"$f":"IF(P_19号様式!DP2=\"\",\"\",P_19号様式!DP2)","v":""},null,{"$f":"IF(P_19号様式!DQ2<> \"\",TEXT(INT(P_19号様式!DQ2),\"#,##0\"),\"\")","v":""},{"$f":"IF(P_19号様式!DQ2= \"\",\"\",IF(VALUE(FIXED(P_19号様式!DQ2,0,TRUE))<>P_19号様式!DQ2,RIGHT(FIXED(P_19号様式!DQ2,3,FALSE),4),\"\"))","v":""},null,"《　補　足　説　明　》"]
[null,null,null,null,null,{"$f":"IF(P_19号様式!AT$2=\"\",\"\",TEXT(P_19号様式!AT$2,\"（#,##0.00）\"))","v":""},null,null,null,null,null,{"$f":"IF(P_19号様式!DV$2=\"\",\"\",TEXT(P_19号様式!DV$2,\"（#,##0.00）\"))","v":""}]
[null,{"$f":"IF(P_19号様式!AQ2=\"\",\"\",P_19号様式!AQ2)","v":""},null,{"$f":"IF(P_19号様式!AR2=\"\",\"\",P_19号様式!AR2)","v":""},null,{"$f":"IF(P_19号様式!AS2<> \"\",TEXT(INT(P_19号様式!AS2),\"#,##0\"),\"\")","v":""},{"$f":"IF(P_19号様式!AS2= \"\",\"\",IF(VALUE(FIXED(P_19号様式!AS2,0,TRUE))<>P_19号様式!AS2,RIGHT(FIXED(P_19号様式!AS2,3,FALSE),4),\"\"))","v":""},{"$f":"IF(P_19号様式!DS2=\"\",\"\",P_19号様式!DS2)","v":""},null,{"$f":"IF(P_19号様式!DT2=\"\",\"\",P_19号様式!DT2)","v":""},null,{"$f":"IF(P_19号様式!DU2<> \"\",TEXT(INT(P_19号様式!DU2),\"#,##0\"),\"\")","v":""},{"$f":"IF(P_19号様式!DU2= \"\",\"\",IF(VALUE(FIXED(P_19号様式!DU2,0,TRUE))<>P_19号様式!DU2,RIGHT(FIXED(P_19号様式!DU2,3,FALSE),4),\"\"))","v":""},null,"   （１）　（　　）内は、各政党等の得票率です。"]
[null,null,null,null,null,{"$f":"IF(P_19号様式!AX$2=\"\",\"\",TEXT(P_19号様式!AX$2,\"（#,##0.00）\"))","v":""},null,null,null,null,null,{"$f":"IF(P_19号様式!DZ$2=\"\",\"\",TEXT(P_19号様式!DZ$2,\"（#,##0.00）\"))","v":""}]
[null,{"$f":"IF(P_19号様式!AU2=\"\",\"\",P_19号様式!AU2)","v":""},null,{"$f":"IF(P_19号様式!AV2=\"\",\"\",P_19号様式!AV2)","v":""},null,{"$f":"IF(P_19号様式!AW2<> \"\",TEXT(INT(P_19号様式!AW2),\"#,##0\"),\"\")","v":""},{"$f":"IF(P_19号様式!AW2= \"\",\"\",IF(VALUE(FIXED(P_19号様式!AW2,0,TRUE))<>P_19号様式!AW2,RIGHT(FIXED(P_19号様式!AW2,3,FALSE),4),\"\"))","v":""},{"$f":"IF(P_19号様式!DW2=\"\",\"\",P_19号様式!DW2)","v":""},null,{"$f":"IF(P_19号様式!DX2=\"\",\"\",P_19号様式!DX2)","v":""},null,{"$f":"IF(P_19号様式!DY2<> \"\",TEXT(INT(P_19号様式!DY2),\"#,##0\"),\"\")","v":""},{"$f":"IF(P_19号様式!DY2= \"\",\"\",IF(VALUE(FIXED(P_19号様式!DY2,0,TRUE))<>P_19号様式!DY2,RIGHT(FIXED(P_19号様式!DY2,3,FALSE),4),\"\"))","v":""},null,"   （２）　得票率は、全団体結了時に表示します。"]
[null,null,null,null,null,{"$f":"IF(P_19号様式!BB$2=\"\",\"\",TEXT(P_19号様式!BB$2,\"（#,##0.00）\"))","v":""},null,null,null,null,null,{"$f":"IF(P_19号様式!ED$2=\"\",\"\",TEXT(P_19号様式!ED$2,\"（#,##0.00）\"))","v":""}]
[null,{"$f":"IF(P_19号様式!AY2=\"\",\"\",P_19号様式!AY2)","v":""},null,{"$f":"IF(P_19号様式!AZ2=\"\",\"\",P_19号様式!AZ2)","v":""},null,{"$f":"IF(P_19号様式!BA2<> \"\",TEXT(INT(P_19号様式!BA2),\"#,##0\"),\"\")","v":""},{"$f":"IF(P_19号様式!BA2= \"\",\"\",IF(VALUE(FIXED(P_19号様式!BA2,0,TRUE))<>P_19号様式!BA2,RIGHT(FIXED(P_19号様式!BA2,3,FALSE),4),\"\"))","v":""},{"$f":"IF(P_19号様式!EA2=\"\",\"\",P_19号様式!EA2)","v":""},null,{"$f":"IF(P_19号様式!EB2=\"\",\"\",P_19号様式!EB2)","v":""},null,{"$f":"IF(P_19号様式!EC2<> \"\",TEXT(INT(P_19号様式!EC2),\"#,##0\"),\"\")","v":""},{"$f":"IF(P_19号様式!EC2= \"\",\"\",IF(VALUE(FIXED(P_19号様式!EC2,0,TRUE))<>P_19号様式!EC2,RIGHT(FIXED(P_19号様式!EC2,3,FALSE),4),\"\"))","v":""}]
[null,null,null,null,null,{"$f":"IF(P_19号様式!BF$2=\"\",\"\",TEXT(P_19号様式!BF$2,\"（#,##0.00）\"))","v":""},null,null,null,null,null,{"$f":"IF(P_19号様式!EH$2=\"\",\"\",TEXT(P_19号様式!EH$2,\"（#,##0.00）\"))","v":""}]
[null,{"$f":"IF(P_19号様式!BC2=\"\",\"\",P_19号様式!BC2)","v":""},null,{"$f":"IF(P_19号様式!BD2=\"\",\"\",P_19号様式!BD2)","v":""},null,{"$f":"IF(P_19号様式!BE2<> \"\",TEXT(INT(P_19号様式!BE2),\"#,##0\"),\"\")","v":""},{"$f":"IF(P_19号様式!BE2= \"\",\"\",IF(VALUE(FIXED(P_19号様式!BE2,0,TRUE))<>P_19号様式!BE2,RIGHT(FIXED(P_19号様式!BE2,3,FALSE),4),\"\"))","v":""},{"$f":"IF(P_19号様式!EE2=\"\",\"\",P_19号様式!EE2)","v":""},null,{"$f":"IF(P_19号様式!EF2=\"\",\"\",P_19号様式!EF2)","v":""},null,{"$f":"IF(P_19号様式!EG2<> \"\",TEXT(INT(P_19号様式!EG2),\"#,##0\"),\"\")","v":""},{"$f":"IF(P_19号様式!EG2= \"\",\"\",IF(VALUE(FIXED(P_19号様式!EG2,0,TRUE))<>P_19号様式!EG2,RIGHT(FIXED(P_19号様式!EG2,3,FALSE),4),\"\"))","v":""}]
[null,null,null,null,null,{"$f":"IF(P_19号様式!BJ$2=\"\",\"\",TEXT(P_19号様式!BJ$2,\"（#,##0.00）\"))","v":""},null,null,null,null,null,{"$f":"IF(P_19号様式!EL$2=\"\",\"\",TEXT(P_19号様式!EL$2,\"（#,##0.00）\"))","v":""}]
[null,{"$f":"IF(P_19号様式!BG2=\"\",\"\",P_19号様式!BG2)","v":""},null,{"$f":"IF(P_19号様式!BH2=\"\",\"\",P_19号様式!BH2)","v":""},null,{"$f":"IF(P_19号様式!BI2<> \"\",TEXT(INT(P_19号様式!BI2),\"#,##0\"),\"\")","v":""},{"$f":"IF(P_19号様式!BI2= \"\",\"\",IF(VALUE(FIXED(P_19号様式!BI2,0,TRUE))<>P_19号様式!BI2,RIGHT(FIXED(P_19号様式!BI2,3,FALSE),4),\"\"))","v":""},{"$f":"IF(P_19号様式!EI2=\"\",\"\",P_19号様式!EI2)","v":""},null,{"$f":"IF(P_19号様式!EJ2=\"\",\"\",P_19号様式!EJ2)","v":""},null,{"$f":"IF(P_19号様式!EK2<> \"\",TEXT(INT(P_19号様式!EK2),\"#,##0\"),\"\")","v":""},{"$f":"IF(P_19号様式!EK2= \"\",\"\",IF(VALUE(FIXED(P_19号様式!EK2,0,TRUE))<>P_19号様式!EK2,RIGHT(FIXED(P_19号様式!EK2,3,FALSE),4),\"\"))","v":""}]
[null,null,null,null,null,{"$f":"IF(P_19号様式!BN$2=\"\",\"\",TEXT(P_19号様式!BN$2,\"（#,##0.00）\"))","v":""},null,null,null,null,null,{"$f":"IF(P_19号様式!EP$2=\"\",\"\",TEXT(P_19号様式!EP$2,\"（#,##0.00）\"))","v":""}]
[null,{"$f":"IF(P_19号様式!BK2=\"\",\"\",P_19号様式!BK2)","v":""},null,{"$f":"IF(P_19号様式!BL2=\"\",\"\",P_19号様式!BL2)","v":""},null,{"$f":"IF(P_19号様式!BM2<> \"\",TEXT(INT(P_19号様式!BM2),\"#,##0\"),\"\")","v":""},{"$f":"IF(P_19号様式!BM2= \"\",\"\",IF(VALUE(FIXED(P_19号様式!BM2,0,TRUE))<>P_19号様式!BM2,RIGHT(FIXED(P_19号様式!BM2,3,FALSE),4),\"\"))","v":""},{"$f":"IF(P_19号様式!EM2=\"\",\"\",P_19号様式!EM2)","v":""},null,{"$f":"IF(P_19号様式!EN2=\"\",\"\",P_19号様式!EN2)","v":""},null,{"$f":"IF(P_19号様式!EO2<> \"\",TEXT(INT(P_19号様式!EO2),\"#,##0\"),\"\")","v":""},{"$f":"IF(P_19号様式!EO2= \"\",\"\",IF(VALUE(FIXED(P_19号様式!EO2,0,TRUE))<>P_19号様式!EO2,RIGHT(FIXED(P_19号様式!EO2,3,FALSE),4),\"\"))","v":""}]
[null,null,null,null,null,{"$f":"IF(P_19号様式!BR$2=\"\",\"\",TEXT(P_19号様式!BR$2,\"（#,##0.00）\"))","v":""},null,null,null,null,null,{"$f":"IF(P_19号様式!ET$2=\"\",\"\",TEXT(P_19号様式!ET$2,\"（#,##0.00）\"))","v":""}]
[null,{"$f":"IF(P_19号様式!BO2=\"\",\"\",P_19号様式!BO2)","v":""},null,{"$f":"IF(P_19号様式!BP2=\"\",\"\",P_19号様式!BP2)","v":""},null,{"$f":"IF(P_19号様式!BQ2<> \"\",TEXT(INT(P_19号様式!BQ2),\"#,##0\"),\"\")","v":""},{"$f":"IF(P_19号様式!BQ2= \"\",\"\",IF(VALUE(FIXED(P_19号様式!BQ2,0,TRUE))<>P_19号様式!BQ2,RIGHT(FIXED(P_19号様式!BQ2,3,FALSE),4),\"\"))","v":""},{"$f":"IF(P_19号様式!EQ2=\"\",\"\",P_19号様式!EQ2)","v":""},null,{"$f":"IF(P_19号様式!ER2=\"\",\"\",P_19号様式!ER2)","v":""},null,{"$f":"IF(P_19号様式!ES2<> \"\",TEXT(INT(P_19号様式!ES2),\"#,##0\"),\"\")","v":""},{"$f":"IF(P_19号様式!ES2= \"\",\"\",IF(VALUE(FIXED(P_19号様式!ES2,0,TRUE))<>P_19号様式!ES2,RIGHT(FIXED(P_19号様式!ES2,3,FALSE),4),\"\"))","v":""}]
[null,null,null,null,null,{"$f":"IF(P_19号様式!BV$2=\"\",\"\",TEXT(P_19号様式!BV$2,\"（#,##0.00）\"))","v":""},null,null,null,null,null,{"$f":"IF(P_19号様式!EX$2=\"\",\"\",TEXT(P_19号様式!EX$2,\"（#,##0.00）\"))","v":""}]
[null,{"$f":"IF(P_19号様式!BS2=\"\",\"\",P_19号様式!BS2)","v":""},null,{"$f":"IF(P_19号様式!BT2=\"\",\"\",P_19号様式!BT2)","v":""},null,{"$f":"IF(P_19号様式!BU2<> \"\",TEXT(INT(P_19号様式!BU2),\"#,##0\"),\"\")","v":""},{"$f":"IF(P_19号様式!BU2= \"\",\"\",IF(VALUE(FIXED(P_19号様式!BU2,0,TRUE))<>P_19号様式!BU2,RIGHT(FIXED(P_19号様式!BU2,3,FALSE),4),\"\"))","v":""},{"$f":"IF(P_19号様式!EU2=\"\",\"\",P_19号様式!EU2)","v":""},null,{"$f":"IF(P_19号様式!EV2=\"\",\"\",P_19号様式!EV2)","v":""},null,{"$f":"IF(P_19号様式!EW2<> \"\",TEXT(INT(P_19号様式!EW2),\"#,##0\"),\"\")","v":""},{"$f":"IF(P_19号様式!EW2= \"\",\"\",IF(VALUE(FIXED(P_19号様式!EW2,0,TRUE))<>P_19号様式!EW2,RIGHT(FIXED(P_19号様式!EW2,3,FALSE),4),\"\"))","v":""}]
[null,null,null,null,null,{"$f":"IF(P_19号様式!BZ$2=\"\",\"\",TEXT(P_19号様式!BZ$2,\"（#,##0.00）\"))","v":""},null,null,null,null,null,{"$f":"IF(P_19号様式!FB$2=\"\",\"\",TEXT(P_19号様式!FB$2,\"（#,##0.00）\"))","v":""}]
[null,{"$f":"IF(P_19号様式!BW2=\"\",\"\",P_19号様式!BW2)","v":""},null,{"$f":"IF(P_19号様式!BX2=\"\",\"\",P_19号様式!BX2)","v":""},null,{"$f":"IF(P_19号様式!BY2<> \"\",TEXT(INT(P_19号様式!BY2),\"#,##0\"),\"\")","v":""},{"$f":"IF(P_19号様式!BY2= \"\",\"\",IF(VALUE(FIXED(P_19号様式!BY2,0,TRUE))<>P_19号様式!BY2,RIGHT(FIXED(P_19号様式!BY2,3,FALSE),4),\"\"))","v":""},{"$f":"IF(P_19号様式!EY2=\"\",\"\",P_19号様式!EY2)","v":""},null,{"$f":"IF(P_19号様式!EZ2=\"\",\"\",P_19号様式!EZ2)","v":""},null,{"$f":"IF(P_19号様式!FA2<> \"\",TEXT(INT(P_19号様式!FA2),\"#,##0\"),\"\")","v":""},{"$f":"IF(P_19号様式!FA2= \"\",\"\",IF(VALUE(FIXED(P_19号様式!FA2,0,TRUE))<>P_19号様式!FA2,RIGHT(FIXED(P_19号様式!FA2,3,FALSE),4),\"\"))","v":""}]
[null,null,null,null,null,{"$f":"IF(P_19号様式!CD$2=\"\",\"\",TEXT(P_19号様式!CD$2,\"（#,##0.00）\"))","v":""},null,null,null,null,null,{"$f":"IF(P_19号様式!FF$2=\"\",\"\",TEXT(P_19号様式!FF$2,\"（#,##0.00）\"))","v":""}]
[null,{"$f":"IF(P_19号様式!CA2=\"\",\"\",P_19号様式!CA2)","v":""},null,{"$f":"IF(P_19号様式!CB2=\"\",\"\",P_19号様式!CB2)","v":""},null,{"$f":"IF(P_19号様式!CC2<> \"\",TEXT(INT(P_19号様式!CC2),\"#,##0\"),\"\")","v":""},{"$f":"IF(P_19号様式!CC2= \"\",\"\",IF(VALUE(FIXED(P_19号様式!CC2,0,TRUE))<>P_19号様式!CC2,RIGHT(FIXED(P_19号様式!CC2,3,FALSE),4),\"\"))","v":""},{"$f":"IF(P_19号様式!FC2=\"\",\"\",P_19号様式!FC2)","v":""},null,{"$f":"IF(P_19号様式!FD2=\"\",\"\",P_19号様式!FD2)","v":""},null,{"$f":"IF(P_19号様式!FE2<> \"\",TEXT(INT(P_19号様式!FE2),\"#,##0\"),\"\")","v":""},{"$f":"IF(P_19号様式!FE2= \"\",\"\",IF(VALUE(FIXED(P_19号様式!FE2,0,TRUE))<>P_19号様式!FE2,RIGHT(FIXED(P_19号様式!FE2,3,FALSE),4),\"\"))","v":""}]

{"sheet":"パラメタシート","index":1,"n_rows":1,"n_cols":2,"rows_kept":1,"cut":false,"hidden":false,"merged":[]}
["執行日","2017-10-22"]

{"sheet":"P_19号様式","index":2,"n_rows":2,"n_cols":175,"rows_kept":2,"cut":false,"hidden":false,"merged":[]}
["頁番号","行番号","届出番号1","政党名1","得票数1","得票率1","届出番号2","政党名2","得票数2","得票率2","届出番号3","政党名3","得票数3","得票率3","届出番号4","政党名4","得票数4","得票率4","届出番号5","政党名5","得票数5","得票率5","届出番号6","政党名6","得票数6","得票率6","届出番号7","政党名7","得票数7","得票率7","届出番号8","政党名8","得票数8","得票率8","届出番号9","政党名9","得票数9","得票率9","届出番号10","政党名10","得票数10","得票率10","届出番号11","政党名11","得票数11","得票率11","届出番号12","政党名12","得票数12","得票率12","届出番号13","政党名13","得票数13","得票率13","届出番号14","政党名14","得票数14","得票率14","届出番号15","政党名15","得票数15","得票率15","届出番号16","政党名16","得票数16","得票率16","届出番号17","政党名17","得票数17","得票率17","届出番号18","政党名18","得票数18","得票率18","届出番号19","政党名19","得票数19","得票率19","届出番号20","政党名20","得票数20","得票率20","届出番号21","政党名21","得票数21","得票率21","届出番号22","政党名22","得票数22","得票率22","届出番号23","政党名23","得票数23","得票率23","届出番号24","政党名24","得票数24","得票率24","届出番号25","政党名25","得票数25","得票率25","届出番号26","政党名26","得票数26","得票率26","届出番号27","政党名27","得票数27","得票率27","届出番号28","政党名28","得票数28","得票率28","届出番号29","政党名29","得票数29","得票率29","届出番号30","政党名30","得票数30","得票率30","届出番号31","政党名31","得票数31","得票率31","届出番号32","政党名32","得票数32","得票率32","届出番号33","政党名33","得票数33","得票率33","届出番号34","政党名34","得票数34","得票率34","届出番号35","政党名35","得票数35","得票率35","届出番号36","政党名36","得票数36","得票率36","届出番号37","政党名37","得票数37","得票率37","届出番号38","政党名38","得票数38","得票率38","届出番号39","政党名39","得票数39","得票率39","届出番号40","政党名40","得票数40","得票率40","ア","イ","ウ","エ","オ","カ","キ","ク","開票進捗率","選挙名","翌日開票区分","開票時刻","開票確定時刻"]
[1,1,"01","自由民主党",280787,37.1224781194638,"02","幸福実現党",4205,0.55593749173695794,"03","公明党",105960,14.0088315397023,"04","社会民主党",24515,3.2410957455247398,"05","日本共産党",36656,4.8462413072794099,"06","立憲民主党",116096,15.3488987017108,"07","希望の党",148842,19.678204077315598,"08","日本維新の会",39319,5.1983130172664502,null,null,null,null,null,null,null,null,null,null,null,null,null,null,null,null,null,null,null,null,null,null,null,null,null,null,null,null,null,null,null,null,null,null,null,null,null,null,null,null,null,null,null,null,null,null,null,null,null,null,null,null,null,null,null,null,null,null,null,null,null,null,null,null,null,null,null,null,null,null,null,null,null,null,null,null,null,null,null,null,null,null,null,null,null,null,null,null,null,null,null,null,null,null,null,null,null,null,null,null,null,null,null,null,null,null,null,null,null,null,null,null,null,null,null,null,null,null,null,null,null,null,null,null,null,null,null,null,756380,0,0,756380,16861,773241,64,773305,100,"衆議院比例代表選出議員選挙","0",null,"01:19:00"]