{"text_format":"1","workbook":"xlsx","n_sheets":3,"sheets":["衆比開票速報（政党別候補者得票数）_201_","パラメタシート","P_20号様式"],"not_rendered":{"charts":0,"images":0,"macros":1,"external_links":0,"defined_names":5,"comments":0,"pivot_tables":0},"unopened":[],"bounds":{"document_bytes":16777216,"sheet_cells":100000,"rows_first":2000,"rows_last":500,"rows_between":2000,"halvings":0,"cell_chars":16384,"cell_head_chars":4096},"cells_cut":0,"cells_raw":0,"read":"whole","date_system":"1900"}

{"sheet":"衆比開票速報（政党別候補者得票数）_201_","index":0,"n_rows":110,"n_cols":24,"rows_kept":110,"cut":false,"hidden":false,"merged":[[6,6,6,7],[5,18,5,19],[60,10,60,11],[60,12,60,13],[61,14,61,15],[61,12,61,13],[61,10,61,11],[5,10,5,11],[5,8,5,9],[6,8,6,9],[6,12,6,13],[6,10,6,11],[60,18,60,19],[60,8,60,9],[61,8,61,9],[60,14,60,15],[60,16,60,17],[6,16,6,17],[5,22,6,23],[5,20,5,21],[6,20,6,21],[6,18,6,19],[6,14,6,15],[5,16,5,17],[0,22,0,23],[2,1,2,4],[2,20,2,23],[3,20,3,23],[2,18,2,19],[0,0,0,1],[3,18,3,19],[3,16,3,17],[2,16,2,17],[1,22,1,23],[0,10,2,14],[5,2,5,3],[6,2,6,3],[5,4,5,5],[6,4,6,5],[5,6,5,7],[5,14,5,15],[5,12,5,13],[8,0,8,1],[9,0,9,1],[10,0,10,1],[11,0,11,1],[12,0,12,1],[3,1,3,5],[5,0,6,1],[7,0,7,1],[60,4,60,5],[14,0,14,1],[15,0,15,1],[16,0,16,1],[49,0,49,1],[34,0,34,1],[46,0,46,1],[45,0,45,1],[48,0,48,1],[47,0,47,1],[30,0,30,1],[33,0,33,1],[25,0,25,1],[22,0,22,1],[23,0,23,1],[24,0,24,1],[26,0,26,1],[28,0,28,1],[29,0,29,1],[13,0,13,1],[44,0,44,1],[17,0,17,1],[18,0,18,1],[19,0,19,1],[21,0,21,1],[27,0,27,1],[20,0,20,1],[31,0,31,1],[32,0,32,1],[36,0,36,1],[37,0,37,1],[38,0,38,1],[35,0,35,1],[43,0,43,1],[39,0,39,1],[41,0,41,1],[40,0,40,1],[42,0,42,1],[52,0,52,1],[51,0,51,1],[53,0,53,1],[63,0,63,1],[65,0,65,1],[62,0,62,1],[54,0,54,1],[58,1,58,5],[55,0,55,1],[60,2,60,3],[60,0,61,1],[61,4,61,5],[61,2,61,3],[69,0,69,1],[70,0,70,1],[71,0,71,1],[72,0,72,1],[73,0,73,1],[64,0,64,1],[66,0,66,1],[67,0,67,1],[68,0,68,1],[74,0,74,1],[75,0,75,1],[76,0,76,1],[77,0,77,1],[78,0,78,1],[79,0,79,1],[80,0,80,1],[81,0,81,1],[82,0,82,1],[83,0,83,1],[84,0,84,1],[85,0,85,1],[86,0,86,1],[87,0,87,1],[88,0,88,1],[89,0,89,1],[90,0,90,1],[91,0,91,1],[92,0,92,1],[93,0,93,1],[94,0,94,1],[95,0,95,1],[96,0,96,1],[97,0,97,1],[99,0,99,1],[98,0,98,1],[100,0,100,1],[101,0,101,1],[102,0,102,1],[103,0,103,1],[104,0,104,1],[106,0,106,1],[107,0,107,1],[108,0,108,1],[109,0,109,1],[55,22,55,23],[56,22,56,23],[57,1,57,4],[57,16,57,17],[57,18,57,19],[57,20,57,23],[55,10,57,14],[61,20,61,21],[61,18,61,19],[61,16,61,17],[60,20,60,21],[58,16,58,17],[60,6,60,7],[61,6,61,7],[58,18,58,19],[58,20,58,23],[60,22,61,23]]}
["第20号様式",null,null,null,null,null,null,null,null,null,"開　票　速　報",null,null,null,null,null,null,null,null,null,null,null,{"$f":"P_20号様式!A2 & \" ページ\"","v":"1 ページ"}]
[null,null,null,null,null,null,null,null,null,null,null,null,null,null,null,null,null,null,null,null,null,null,"鹿 児 島 県"]
[null,{"$f":"IF(パラメタシート!B1=\"\",\"    年  月  日　執行\",パラメタシート!B1)","v":"2017-10-22"},null,null,null,null,null,null,null,null,null,null,null,null,null,null,{"$f":"IF(P_20号様式!CB2=\"0\",\"即日　開票\",\"翌日　開票\")","v":"即日　開票"},null,"中間報告",null,{"$f":" IF(P_20号様式!CC2=\"\",\"時　　   分      \",P_20号様式!CC2)","v":"00:00:00"}]
[null,{"$f":"IF(P_20号様式!CA2=\"\",\"\",P_20号様式!CA2)","v":"衆議院比例代表選出議員選挙"},null,null,null,null,null,null,null,null,null,null,null,null,null,null,"開票",null,"結了報告",null,{"$f":" IF(P_20号様式!CD2=\"\",\"時　　   分      \",P_20号様式!CD2)","v":"時　　   分      "}]
[]
["市区町村名",null,{"$f":"IF(P_20号様式!D2=\"\",\"\",P_20号様式!D2)","v":"01"},null,{"$f":"IF(P_20号様式!G2=\"\",\"\",P_20号様式!G2)","v":"02"},null,{"$f":"IF(P_20号様式!J2=\"\",\"\",P_20号様式!J2)","v":"03"},null,{"$f":"IF(P_20号様式!M2=\"\",\"\",P_20号様式!M2)","v":"04"},null,{"$f":"IF(P_20号様式!P2=\"\",\"\",P_20号様式!P2)","v":"05"},null,{"$f":"IF(P_20号様式!S2=\"\",\"\",P_20号様式!S2)","v":"06"},null,{"$f":"IF(P_20号様式!V2=\"\",\"\",P_20号様式!V2)","v":"07"},null,{"$f":"IF(P_20号様式!Y2=\"\",\"\",P_20号様式!Y2)","v":"08"},null,{"$f":"IF(P_20号様式!AB2=\"\",\"\",P_20号様式!AB2)","v":""},null,{"$f":"IF(P_20号様式!AE2=\"\",\"\",P_20号様式!AE2)","v":""},null,"小　　　　計"]
[null,null,{"$f":"IF(P_20号様式!E2=\"\",\"\",P_20号様式!E2)","v":"自由民主党"},null,{"$f":"IF(P_20号様式!H2=\"\",\"\",P_20号様式!H2)","v":"幸福実現党"},null,{"$f":"IF(P_20号様式!K2=\"\",\"\",P_20号様式!K2)","v":"公明党"},null,{"$f":"IF(P_20号様式!N2=\"\",\"\",P_20号様式!N2)","v":"社会民主党"},null,{"$f":"IF(P_20号様式!Q2=\"\",\"\",P_20号様式!Q2)","v":"日本共産党"},null,{"$f":"IF(P_20号様式!T2=\"\",\"\",P_20号様式!T2)","v":"立憲民主党"},null,{"$f":"IF(P_20号様式!W2=\"\",\"\",P_20号様式!W2)","v":"希望の党"},null,{"$f":"IF(P_20号様式!Z2=\"\",\"\",P_20号様式!Z2)","v":"日本維新の会"},null,{"$f":"IF(P_20号様式!AC2=\"\",\"\",P_20号様式!AC2)","v":""},null,{"$f":"IF(P_20号様式!AF2=\"\",\"\",P_20号様式!AF2)","v":""}]
[{"$f":"IF(P_20号様式!C2=\"\",\"\",P_20号様式!C2)","v":"鹿児島市１区"},null,{"$f":"IF(P_20号様式!F2<> \"\",TEXT(INT(P_20号様式!F2),\"#,##0\"),\"\")","v":""},{"$f":"IF(P_20号様式!F2= \"\",\"\",IF(VALUE(FIXED(P_20号様式!F2,0,TRUE))<>P_20号様式!F2,RIGHT(FIXED(P_20号様式!F2,3,FALSE),4),\"\"))","v":""},{"$f":"IF(P_20号様式!I2<> \"\",TEXT(INT(P_20号様式!I2),\"#,##0\"),\"\")","v":""},{"$f":"IF(P_20号様式!I2= \"\",\"\",IF(VALUE(FIXED(P_20号様式!I2,0,TRUE))<>P_20号様式!I2,RIGHT(FIXED(P_20号様式!I2,3,FALSE),4),\"\"))","v":""},{"$f":"IF(P_20号様式!L2<> \"\",TEXT(INT(P_20号様式!L2),\"#,##0\"),\"\")","v":""},{"$f":"IF(P_20号様式!L2= \"\",\"\",IF(VALUE(FIXED(P_20号様式!L2,0,TRUE))<>P_20号様式!L2,RIGHT(FIXED(P_20号様式!L2,3,FALSE),4),\"\"))","v":""},{"$f":"IF(P_20号様式!O2<> \"\",TEXT(INT(P_20号様式!O2),\"#,##0\"),\"\")","v":""},{"$f":"IF(P_20号様式!O2= \"\",\"\",IF(VALUE(FIXED(P_20号様式!O2,0,TRUE))<>P_20号様式!O2,RIGHT(FIXED(P_20号様式!O2,3,FALSE),4),\"\"))","v":""},{"$f":"IF(P_20号様式!R2<> \"\",TEXT(INT(P_20号様式!R2),\"#,##0\"),\"\")","v":""},{"$f":"IF(P_20号様式!R2= \"\",\"\",IF(VALUE(FIXED(P_20号様式!R2,0,TRUE))<>P_20号様式!R2,RIGHT(FIXED(P_20号様式!R2,3,FALSE),4),\"\"))","v":""},{"$f":"IF(P_20号様式!U2<> \"\",TEXT(INT(P_20号様式!U2),\"#,##0\"),\"\")","v":""},{"$f":"IF(P_20号様式!U2= \"\",\"\",IF(VALUE(FIXED(P_20号様式!U2,0,TRUE))<>P_20号様式!U2,RIGHT(FIXED(P_20号様式!U2,3,FALSE),4),\"\"))","v":""},{"$f":"IF(P_20号様式!X2<> \"\",TEXT(INT(P_20号様式!X2),\"#,##0\"),\"\")","v":""},{"$f":"IF(P_20号様式!X2= \"\",\"\",IF(VALUE(FIXED(P_20号様式!X2,0,TRUE))<>P_20号様式!X2,RIGHT(FIXED(P_20号様式!X2,3,FALSE),4),\"\"))","v":""},{"$f":"IF(P_20号様式!AA2<> \"\",TEXT(INT(P_20号様式!AA2),\"#,##0\"),\"\")","v":""},{"$f":"IF(P_20号様式!AA2= \"\",\"\",IF(VALUE(FIXED(P_20号様式!AA2,0,TRUE))<>P_20号様式!AA2,RIGHT(FIXED(P_20号様式!AA2,3,FALSE),4),\"\"))","v":""},{"$f":"IF(P_20号様式!AD2<> \"\",TEXT(INT(P_20号様式!AD2),\"#,##0\"),\"\")","v":""},{"$f":"IF(P_20号様式!AD2= \"\",\"\",IF(VALUE(FIXED(P_20号様式!AD2,0,TRUE))<>P_20号様式!AD2,RIGHT(FIXED(P_20号様式!AD2,3,FALSE),4),\"\"))","v":""},{"$f":"IF(P_20号様式!AG2<> \"\",TEXT(INT(P_20号様式!AG2),\"#,##0\"),\"\")","v":""},{"$f":"IF(P_20号様式!AG2= \"\",\"\",IF(VALUE(FIXED(P_20号様式!AG2,0,TRUE))<>P_20号様式!AG2,RIGHT(FIXED(P_20号様式!AG2,3,FALSE),4),\"\"))","v":""},{"$f":"IF(P_20号様式!AH2<> \"\",TEXT(INT(P_20号様式!AH2),\"#,##0\"),\"\")","v":""},{"$f":"IF(P_20号様式!AH2= \"\",\"\",IF(VALUE(FIXED(P_20号様式!AH2,0,TRUE))<>P_20号様式!AH2,RIGHT(FIXED(P_20号様式!AH2,3,FALSE),4),\"\"))","v":""}]
[{"$f":"IF(P_20号様式!C3=\"\",\"\",P_20号様式!C3)","v":"鹿児島市２区"},null,{"$f":"IF(P_20号様式!F3<> \"\",TEXT(INT(P_20号様式!F3),\"#,##0\"),\"\")","v":""},{"$f":"IF(P_20号様式!F3= \"\",\"\",IF(VALUE(FIXED(P_20号様式!F3,0,TRUE))<>P_20号様式!F3,RIGHT(FIXED(P_20号様式!F3,3,FALSE),4),\"\"))","v":""},{"$f":"IF(P_20号様式!I3<> \"\",TEXT(INT(P_20号様式!I3),\"#,##0\"),\"\")","v":""},{"$f":"IF(P_20号様式!I3= \"\",\"\",IF(VALUE(FIXED(P_20号様式!I3,0,TRUE))<>P_20号様式!I3,RIGHT(FIXED(P_20号様式!I3,3,FALSE),4),\"\"))","v":""},{"$f":"IF(P_20号様式!L3<> \"\",TEXT(INT(P_20号様式!L3),\"#,##0\"),\"\")","v":""},{"$f":"IF(P_20号様式!L3= \"\",\"\",IF(VALUE(FIXED(P_20号様式!L3,0,TRUE))<>P_20号様式!L3,RIGHT(FIXED(P_20号様式!L3,3,FALSE),4),\"\"))","v":""},{"$f":"IF(P_20号様式!O3<> \"\",TEXT(INT(P_20号様式!O3),\"#,##0\"),\"\")","v":""},{"$f":"IF(P_20号様式!O3= \"\",\"\",IF(VALUE(FIXED(P_20号様式!O3,0,TRUE))<>P_20号様式!O3,RIGHT(FIXED(P_20号様式!O3,3,FALSE),4),\"\"))","v":""},{"$f":"IF(P_20号様式!R3<> \"\",TEXT(INT(P_20号様式!R3),\"#,##0\"),\"\")","v":""},{"$f":"IF(P_20号様式!R3= \"\",\"\",IF(VALUE(FIXED(P_20号様式!R3,0,TRUE))<>P_20号様式!R3,RIGHT(FIXED(P_20号様式!R3,3,FALSE),4),\"\"))","v":""},{"$f":"IF(P_20号様式!U3<> \"\",TEXT(INT(P_20号様式!U3),\"#,##0\"),\"\")","v":""},{"$f":"IF(P_20号様式!U3= \"\",\"\",IF(VALUE(FIXED(P_20号様式!U3,0,TRUE))<>P_20号様式!U3,RIGHT(FIXED(P_20号様式!U3,3,FALSE),4),\"\"))","v":""},{"$f":"IF(P_20号様式!X3<> \"\",TEXT(INT(P_20号様式!X3),\"#,##0\"),\"\")","v":""},{"$f":"IF(P_20号様式!X3= \"\",\"\",IF(VALUE(FIXED(P_20号様式!X3,0,TRUE))<>P_20号様式!X3,RIGHT(FIXED(P_20号様式!X3,3,FALSE),4),\"\"))","v":""},{"$f":"IF(P_20号様式!AA3<> \"\",TEXT(INT(P_20号様式!AA3),\"#,##0\"),\"\")","v":""},{"$f":"IF(P_20号様式!AA3= \"\",\"\",IF(VALUE(FIXED(P_20号様式!AA3,0,TRUE))<>P_20号様式!AA3,RIGHT(FIXED(P_20号様式!AA3,3,FALSE),4),\"\"))","v":""},{"$f":"IF(P_20号様式!AD3<> \"\",TEXT(INT(P_20号様式!AD3),\"#,##0\"),\"\")","v":""},{"$f":"IF(P_20号様式!AD3= \"\",\"\",IF(VALUE(FIXED(P_20号様式!AD3,0,TRUE))<>P_20号様式!AD3,RIGHT(FIXED(P_20号様式!AD3,3,FALSE),4),\"\"))","v":""},{"$f":"IF(P_20号様式!AG3<> \"\",TEXT(INT(P_20号様式!AG3),\"#,##0\"),\"\")","v":""},{"$f":"IF(P_20号様式!AG3= \"\",\"\",IF(VALUE(FIXED(P_20号様式!AG3,0,TRUE))<>P_20号様式!AG3,RIGHT(FIXED(P_20号様式!AG3,3,FALSE),4),\"\"))","v":""},{"$f":"IF(P_20号様式!AH3<> \"\",TEXT(INT(P_20号様式!AH3),\"#,##0\"),\"\")","v":""},{"$f":"IF(P_20号様式!AH3= \"\",\"\",IF(VALUE(FIXED(P_20号様式!AH3,0,TRUE))<>P_20号様式!AH3,RIGHT(FIXED(P_20号様式!AH3,3,FALSE),4),\"\"))","v":""}]
[{"$f":"IF(P_20号様式!C4=\"\",\"\",P_20号様式!C4)","v":"＊（鹿児島市）計"},null,{"$f":"IF(P_20号様式!F4<> \"\",TEXT(INT(P_20号様式!F4),\"#,##0\"),\"\")","v":"0"},{"$f":"IF(P_20号様式!F4= \"\",\"\",IF(VALUE(FIXED(P_20号様式!F4,0,TRUE))<>P_20号様式!F4,RIGHT(FIXED(P_20号様式!F4,3,FALSE),4),\"\"))","v":""},{"$f":"IF(P_20号様式!I4<> \"\",TEXT(INT(P_20号様式!I4),\"#,##0\"),\"\")","v":"0"},{"$f":"IF(P_20号様式!I4= \"\",\"\",IF(VALUE(FIXED(P_20号様式!I4,0,TRUE))<>P_20号様式!I4,RIGHT(FIXED(P_20号様式!I4,3,FALSE),4),\"\"))","v":""},{"$f":"IF(P_20号様式!L4<> \"\",TEXT(INT(P_20号様式!L4),\"#,##0\"),\"\")","v":"0"},{"$f":"IF(P_20号様式!L4= \"\",\"\",IF(VALUE(FIXED(P_20号様式!L4,0,TRUE))<>P_20号様式!L4,RIGHT(FIXED(P_20号様式!L4,3,FALSE),4),\"\"))","v":""},{"$f":"IF(P_20号様式!O4<> \"\",TEXT(INT(P_20号様式!O4),\"#,##0\"),\"\")","v":"0"},{"$f":"IF(P_20号様式!O4= \"\",\"\",IF(VALUE(FIXED(P_20号様式!O4,0,TRUE))<>P_20号様式!O4,RIGHT(FIXED(P_20号様式!O4,3,FALSE),4),\"\"))","v":""},{"$f":"IF(P_20号様式!R4<> \"\",TEXT(INT(P_20号様式!R4),\"#,##0\"),\"\")","v":"0"},{"$f":"IF(P_20号様式!R4= \"\",\"\",IF(VALUE(FIXED(P_20号様式!R4,0,TRUE))<>P_20号様式!R4,RIGHT(FIXED(P_20号様式!R4,3,FALSE),4),\"\"))","v":""},{"$f":"IF(P_20号様式!U4<> \"\",TEXT(INT(P_20号様式!U4),\"#,##0\"),\"\")","v":"0"},{"$f":"IF(P_20号様式!U4= \"\",\"\",IF(VALUE(FIXED(P_20号様式!U4,0,TRUE))<>P_20号様式!U4,RIGHT(FIXED(P_20号様式!U4,3,FALSE),4),\"\"))","v":""},{"$f":"IF(P_20号様式!X4<> \"\",TEXT(INT(P_20号様式!X4),\"#,##0\"),\"\")","v":"0"},{"$f":"IF(P_20号様式!X4= \"\",\"\",IF(VALUE(FIXED(P_20号様式!X4,0,TRUE))<>P_20号様式!X4,RIGHT(FIXED(P_20号様式!X4,3,FALSE),4),\"\"))","v":""},{"$f":"IF(P_20号様式!AA4<> \"\",TEXT(INT(P_20号様式!AA4),\"#,##0\"),\"\")","v":"0"},{"$f":"IF(P_20号様式!AA4= \"\",\"\",IF(VALUE(FIXED(P_20号様式!AA4,0,TRUE))<>P_20号様式!AA4,RIGHT(FIXED(P_20号様式!AA4,3,FALSE),4),\"\"))","v":""},{"$f":"IF(P_20号様式!AD4<> \"\",TEXT(INT(P_20号様式!AD4),\"#,##0\"),\"\")","v":""},{"$f":"IF(P_20号様式!AD4= \"\",\"\",IF(VALUE(FIXED(P_20号様式!AD4,0,TRUE))<>P_20号様式!AD4,RIGHT(FIXED(P_20号様式!AD4,3,FALSE),4),\"\"))","v":""},{"$f":"IF(P_20号様式!AG4<> \"\",TEXT(INT(P_20号様式!AG4),\"#,##0\"),\"\")","v":""},{"$f":"IF(P_20号様式!AG4= \"\",\"\",IF(VALUE(FIXED(P_20号様式!AG4,0,TRUE))<>P_20号様式!AG4,RIGHT(FIXED(P_20号様式!AG4,3,FALSE),4),\"\"))","v":""},{"$f":"IF(P_20号様式!AH4<> \"\",TEXT(INT(P_20号様式!AH4),\"#,##0\"),\"\")","v":"0"},{"$f":"IF(P_20号様式!AH4= \"\",\"\",IF(VALUE(FIXED(P_20号様式!AH4,0,TRUE))<>P_20号様式!AH4,RIGHT(FIXED(P_20号様式!AH4,3,FALSE),4),\"\"))","v":""}]
[{"$f":"IF(P_20号様式!C5=\"\",\"\",P_20号様式!C5)","v":"鹿屋市"},null,{"$f":"IF(P_20号様式!F5<> \"\",TEXT(INT(P_20号様式!F5),\"#,##0\"),\"\")","v":""},{"$f":"IF(P_20号様式!F5= \"\",\"\",IF(VALUE(FIXED(P_20号様式!F5,0,TRUE))<>P_20号様式!F5,RIGHT(FIXED(P_20号様式!F5,3,FALSE),4),\"\"))","v":""},{"$f":"IF(P_20号様式!I5<> \"\",TEXT(INT(P_20号様式!I5),\"#,##0\"),\"\")","v":""},{"$f":"IF(P_20号様式!I5= \"\",\"\",IF(VALUE(FIXED(P_20号様式!I5,0,TRUE))<>P_20号様式!I5,RIGHT(FIXED(P_20号様式!I5,3,FALSE),4),\"\"))","v":""},{"$f":"IF(P_20号様式!L5<> \"\",TEXT(INT(P_20号様式!L5),\"#,##0\"),\"\")","v":""},{"$f":"IF(P_20号様式!L5= \"\",\"\",IF(VALUE(FIXED(P_20号様式!L5,0,TRUE))<>P_20号様式!L5,RIGHT(FIXED(P_20号様式!L5,3,FALSE),4),\"\"))","v":""},{"$f":"IF(P_20号様式!O5<> \"\",TEXT(INT(P_20号様式!O5),\"#,##0\"),\"\")","v":""},{"$f":"IF(P_20号様式!O5= \"\",\"\",IF(VALUE(FIXED(P_20号様式!O5,0,TRUE))<>P_20号様式!O5,RIGHT(FIXED(P_20号様式!O5,3,FALSE),4),\"\"))","v":""},{"$f":"IF(P_20号様式!R5<> \"\",TEXT(INT(P_20号様式!R5),\"#,##0\"),\"\")","v":""},{"$f":"IF(P_20号様式!R5= \"\",\"\",IF(VALUE(FIXED(P_20号様式!R5,0,TRUE))<>P_20号様式!R5,RIGHT(FIXED(P_20号様式!R5,3,FALSE),4),\"\"))","v":""},{"$f":"IF(P_20号様式!U5<> \"\",TEXT(INT(P_20号様式!U5),\"#,##0\"),\"\")","v":""},{"$f":"IF(P_20号様式!U5= \"\",\"\",IF(VALUE(FIXED(P_20号様式!U5,0,TRUE))<>P_20号様式!U5,RIGHT(FIXED(P_20号様式!U5,3,FALSE),4),\"\"))","v":""},{"$f":"IF(P_20号様式!X5<> \"\",TEXT(INT(P_20号様式!X5),\"#,##0\"),\"\")","v":""},{"$f":"IF(P_20号様式!X5= \"\",\"\",IF(VALUE(FIXED(P_20号様式!X5,0,TRUE))<>P_20号様式!X5,RIGHT(FIXED(P_20号様式!X5,3,FALSE),4),\"\"))","v":""},{"$f":"IF(P_20号様式!AA5<> \"\",TEXT(INT(P_20号様式!AA5),\"#,##0\"),\"\")","v":""},{"$f":"IF(P_20号様式!AA5= \"\",\"\",IF(VALUE(FIXED(P_20号様式!AA5,0,TRUE))<>P_20号様式!AA5,RIGHT(FIXED(P_20号様式!AA5,3,FALSE),4),\"\"))","v":""},{"$f":"IF(P_20号様式!AD5<> \"\",TEXT(INT(P_20号様式!AD5),\"#,##0\"),\"\")","v":""},{"$f":"IF(P_20号様式!AD5= \"\",\"\",IF(VALUE(FIXED(P_20号様式!AD5,0,TRUE))<>P_20号様式!AD5,RIGHT(FIXED(P_20号様式!AD5,3,FALSE),4),\"\"))","v":""},{"$f":"IF(P_20号様式!AG5<> \"\",TEXT(INT(P_20号様式!AG5),\"#,##0\"),\"\")","v":""},{"$f":"IF(P_20号様式!AG5= \"\",\"\",IF(VALUE(FIXED(P_20号様式!AG5,0,TRUE))<>P_20号様式!AG5,RIGHT(FIXED(P_20号様式!AG5,3,FALSE),4),\"\"))","v":""},{"$f":"IF(P_20号様式!AH5<> \"\",TEXT(INT(P_20号様式!AH5),\"#,##0\"),\"\")","v":""},{"$f":"IF(P_20号様式!AH5= \"\",\"\",IF(VALUE(FIXED(P_20号様式!AH5,0,TRUE))<>P_20号様式!AH5,RIGHT(FIXED(P_20号様式!AH5,3,FALSE),4),\"\"))","v":""}]
[{"$f":"IF(P_20号様式!C6=\"\",\"\",P_20号様式!C6)","v":"枕崎市"},null,{"$f":"IF(P_20号様式!F6<> \"\",TEXT(INT(P_20号様式!F6),\"#,##0\"),\"\")","v":"4,358"},{"$f":"IF(P_20号様式!F6= \"\",\"\",IF(VALUE(FIXED(P_20号様式!F6,0,TRUE))<>P_20号様式!F6,RIGHT(FIXED(P_20号様式!F6,3,FALSE),4),\"\"))","v":""},{"$f":"IF(P_20号様式!I6<> \"\",TEXT(INT(P_20号様式!I6),\"#,##0\"),\"\")","v":"56"},{"$f":"IF(P_20号様式!I6= \"\",\"\",IF(VALUE(FIXED(P_20号様式!I6,0,TRUE))<>P_20号様式!I6,RIGHT(FIXED(P_20号様式!I6,3,FALSE),4),\"\"))","v":""},{"$f":"IF(P_20号様式!L6<> \"\",TEXT(INT(P_20号様式!L6),\"#,##0\"),\"\")","v":"984"},{"$f":"IF(P_20号様式!L6= \"\",\"\",IF(VALUE(FIXED(P_20号様式!L6,0,TRUE))<>P_20号様式!L6,RIGHT(FIXED(P_20号様式!L6,3,FALSE),4),\"\"))","v":""},{"$f":"IF(P_20号様式!O6<> \"\",TEXT(INT(P_20号様式!O6),\"#,##0\"),\"\")","v":"156"},{"$f":"IF(P_20号様式!O6= \"\",\"\",IF(VALUE(FIXED(P_20号様式!O6,0,TRUE))<>P_20号様式!O6,RIGHT(FIXED(P_20号様式!O6,3,FALSE),4),\"\"))","v":""},{"$f":"IF(P_20号様式!R6<> \"\",TEXT(INT(P_20号様式!R6),\"#,##0\"),\"\")","v":"458"},{"$f":"IF(P_20号様式!R6= \"\",\"\",IF(VALUE(FIXED(P_20号様式!R6,0,TRUE))<>P_20号様式!R6,RIGHT(FIXED(P_20号様式!R6,3,FALSE),4),\"\"))","v":""},{"$f":"IF(P_20号様式!U6<> \"\",TEXT(INT(P_20号様式!U6),\"#,##0\"),\"\")","v":"1,179"},{"$f":"IF(P_20号様式!U6= \"\",\"\",IF(VALUE(FIXED(P_20号様式!U6,0,TRUE))<>P_20号様式!U6,RIGHT(FIXED(P_20号様式!U6,3,FALSE),4),\"\"))","v":""},{"$f":"IF(P_20号様式!X6<> \"\",TEXT(INT(P_20号様式!X6),\"#,##0\"),\"\")","v":"2,136"},{"$f":"IF(P_20号様式!X6= \"\",\"\",IF(VALUE(FIXED(P_20号様式!X6,0,TRUE))<>P_20号様式!X6,RIGHT(FIXED(P_20号様式!X6,3,FALSE),4),\"\"))","v":""},{"$f":"IF(P_20号様式!AA6<> \"\",TEXT(INT(P_20号様式!AA6),\"#,##0\"),\"\")","v":"357"},{"$f":"IF(P_20号様式!AA6= \"\",\"\",IF(VALUE(FIXED(P_20号様式!AA6,0,TRUE))<>P_20号様式!AA6,RIGHT(FIXED(P_20号様式!AA6,3,FALSE),4),\"\"))","v":""},{"$f":"IF(P_20号様式!AD6<> \"\",TEXT(INT(P_20号様式!AD6),\"#,##0\"),\"\")","v":""},{"$f":"IF(P_20号様式!AD6= \"\",\"\",IF(VALUE(FIXED(P_20号様式!AD6,0,TRUE))<>P_20号様式!AD6,RIGHT(FIXED(P_20号様式!AD6,3,FALSE),4),\"\"))","v":""},{"$f":"IF(P_20号様式!AG6<> \"\",TEXT(INT(P_20号様式!AG6),\"#,##0\"),\"\")","v":""},{"$f":"IF(P_20号様式!AG6= \"\",\"\",IF(VALUE(FIXED(P_20号様式!AG6,0,TRUE))<>P_20号様式!AG6,RIGHT(FIXED(P_20号様式!AG6,3,FALSE),4),\"\"))","v":""},{"$f":"IF(P_20号様式!AH6<> \"\",TEXT(INT(P_20号様式!AH6),\"#,##0\"),\"\")","v":"9,684"},{"$f":"IF(P_20号様式!AH6= \"\",\"\",IF(VALUE(FIXED(P_20号様式!AH6,0,TRUE))<>P_20号様式!AH6,RIGHT(FIXED(P_20号様式!AH6,3,FALSE),4),\"\"))","v":""}]
[{"$f":"IF(P_20号様式!C7=\"\",\"\",P_20号様式!C7)","v":"阿久根市"},null,{"$f":"IF(P_20号様式!F7<> \"\",TEXT(INT(P_20号様式!F7),\"#,##0\"),\"\")","v":"4,769"},{"$f":"IF(P_20号様式!F7= \"\",\"\",IF(VALUE(FIXED(P_20号様式!F7,0,TRUE))<>P_20号様式!F7,RIGHT(FIXED(P_20号様式!F7,3,FALSE),4),\"\"))","v":""},{"$f":"IF(P_20号様式!I7<> \"\",TEXT(INT(P_20号様式!I7),\"#,##0\"),\"\")","v":"59"},{"$f":"IF(P_20号様式!I7= \"\",\"\",IF(VALUE(FIXED(P_20号様式!I7,0,TRUE))<>P_20号様式!I7,RIGHT(FIXED(P_20号様式!I7,3,FALSE),4),\"\"))","v":""},{"$f":"IF(P_20号様式!L7<> \"\",TEXT(INT(P_20号様式!L7),\"#,##0\"),\"\")","v":"1,326"},{"$f":"IF(P_20号様式!L7= \"\",\"\",IF(VALUE(FIXED(P_20号様式!L7,0,TRUE))<>P_20号様式!L7,RIGHT(FIXED(P_20号様式!L7,3,FALSE),4),\"\"))","v":""},{"$f":"IF(P_20号様式!O7<> \"\",TEXT(INT(P_20号様式!O7),\"#,##0\"),\"\")","v":"278"},{"$f":"IF(P_20号様式!O7= \"\",\"\",IF(VALUE(FIXED(P_20号様式!O7,0,TRUE))<>P_20号様式!O7,RIGHT(FIXED(P_20号様式!O7,3,FALSE),4),\"\"))","v":""},{"$f":"IF(P_20号様式!R7<> \"\",TEXT(INT(P_20号様式!R7),\"#,##0\"),\"\")","v":"509"},{"$f":"IF(P_20号様式!R7= \"\",\"\",IF(VALUE(FIXED(P_20号様式!R7,0,TRUE))<>P_20号様式!R7,RIGHT(FIXED(P_20号様式!R7,3,FALSE),4),\"\"))","v":""},{"$f":"IF(P_20号様式!U7<> \"\",TEXT(INT(P_20号様式!U7),\"#,##0\"),\"\")","v":"1,267"},{"$f":"IF(P_20号様式!U7= \"\",\"\",IF(VALUE(FIXED(P_20号様式!U7,0,TRUE))<>P_20号様式!U7,RIGHT(FIXED(P_20号様式!U7,3,FALSE),4),\"\"))","v":""},{"$f":"IF(P_20号様式!X7<> \"\",TEXT(INT(P_20号様式!X7),\"#,##0\"),\"\")","v":"2,537"},{"$f":"IF(P_20号様式!X7= \"\",\"\",IF(VALUE(FIXED(P_20号様式!X7,0,TRUE))<>P_20号様式!X7,RIGHT(FIXED(P_20号様式!X7,3,FALSE),4),\"\"))","v":""},{"$f":"IF(P_20号様式!AA7<> \"\",TEXT(INT(P_20号様式!AA7),\"#,##0\"),\"\")","v":"410"},{"$f":"IF(P_20号様式!AA7= \"\",\"\",IF(VALUE(FIXED(P_20号様式!AA7,0,TRUE))<>P_20号様式!AA7,RIGHT(FIXED(P_20号様式!AA7,3,FALSE),4),\"\"))","v":""},{"$f":"IF(P_20号様式!AD7<> \"\",TEXT(INT(P_20号様式!AD7),\"#,##0\"),\"\")","v":""},{"$f":"IF(P_20号様式!AD7= \"\",\"\",IF(VALUE(FIXED(P_20号様式!AD7,0,TRUE))<>P_20号様式!AD7,RIGHT(FIXED(P_20号様式!AD7,3,FALSE),4),\"\"))","v":""},{"$f":"IF(P_20号様式!AG7<> \"\",TEXT(INT(P_20号様式!AG7),\"#,##0\"),\"\")","v":""},{"$f":"IF(P_20号様式!AG7= \"\",\"\",IF(VALUE(FIXED(P_20号様式!AG7,0,TRUE))<>P_20号様式!AG7,RIGHT(FIXED(P_20号様式!AG7,3,FALSE),4),\"\"))","v":""},{"$f":"IF(P_20号様式!AH7<> \"\",TEXT(INT(P_20号様式!AH7),\"#,##0\"),\"\")","v":"11,155"},{"$f":"IF(P_20号様式!AH7= \"\",\"\",IF(VALUE(FIXED(P_20号様式!AH7,0,TRUE))<>P_20号様式!AH7,RIGHT(FIXED(P_20号様式!AH7,3,FALSE),4),\"\"))","v":""}]
[{"$f":"IF(P_20号様式!C8=\"\",\"\",P_20号様式!C8)","v":"出水市"},null,{"$f":"IF(P_20号様式!F8<> \"\",TEXT(INT(P_20号様式!F8),\"#,##0\"),\"\")","v":"10,394"},{"$f":"IF(P_20号様式!F8= \"\",\"\",IF(VALUE(FIXED(P_20号様式!F8,0,TRUE))<>P_20号様式!F8,RIGHT(FIXED(P_20号様式!F8,3,FALSE),4),\"\"))","v":""},{"$f":"IF(P_20号様式!I8<> \"\",TEXT(INT(P_20号様式!I8),\"#,##0\"),\"\")","v":"122"},{"$f":"IF(P_20号様式!I8= \"\",\"\",IF(VALUE(FIXED(P_20号様式!I8,0,TRUE))<>P_20号様式!I8,RIGHT(FIXED(P_20号様式!I8,3,FALSE),4),\"\"))","v":""},{"$f":"IF(P_20号様式!L8<> \"\",TEXT(INT(P_20号様式!L8),\"#,##0\"),\"\")","v":"2,695"},{"$f":"IF(P_20号様式!L8= \"\",\"\",IF(VALUE(FIXED(P_20号様式!L8,0,TRUE))<>P_20号様式!L8,RIGHT(FIXED(P_20号様式!L8,3,FALSE),4),\"\"))","v":""},{"$f":"IF(P_20号様式!O8<> \"\",TEXT(INT(P_20号様式!O8),\"#,##0\"),\"\")","v":"751"},{"$f":"IF(P_20号様式!O8= \"\",\"\",IF(VALUE(FIXED(P_20号様式!O8,0,TRUE))<>P_20号様式!O8,RIGHT(FIXED(P_20号様式!O8,3,FALSE),4),\"\"))","v":""},{"$f":"IF(P_20号様式!R8<> \"\",TEXT(INT(P_20号様式!R8),\"#,##0\"),\"\")","v":"1,323"},{"$f":"IF(P_20号様式!R8= \"\",\"\",IF(VALUE(FIXED(P_20号様式!R8,0,TRUE))<>P_20号様式!R8,RIGHT(FIXED(P_20号様式!R8,3,FALSE),4),\"\"))","v":""},{"$f":"IF(P_20号様式!U8<> \"\",TEXT(INT(P_20号様式!U8),\"#,##0\"),\"\")","v":"3,309"},{"$f":"IF(P_20号様式!U8= \"\",\"\",IF(VALUE(FIXED(P_20号様式!U8,0,TRUE))<>P_20号様式!U8,RIGHT(FIXED(P_20号様式!U8,3,FALSE),4),\"\"))","v":""},{"$f":"IF(P_20号様式!X8<> \"\",TEXT(INT(P_20号様式!X8),\"#,##0\"),\"\")","v":"5,988"},{"$f":"IF(P_20号様式!X8= \"\",\"\",IF(VALUE(FIXED(P_20号様式!X8,0,TRUE))<>P_20号様式!X8,RIGHT(FIXED(P_20号様式!X8,3,FALSE),4),\"\"))","v":""},{"$f":"IF(P_20号様式!AA8<> \"\",TEXT(INT(P_20号様式!AA8),\"#,##0\"),\"\")","v":"1,073"},{"$f":"IF(P_20号様式!AA8= \"\",\"\",IF(VALUE(FIXED(P_20号様式!AA8,0,TRUE))<>P_20号様式!AA8,RIGHT(FIXED(P_20号様式!AA8,3,FALSE),4),\"\"))","v":""},{"$f":"IF(P_20号様式!AD8<> \"\",TEXT(INT(P_20号様式!AD8),\"#,##0\"),\"\")","v":""},{"$f":"IF(P_20号様式!AD8= \"\",\"\",IF(VALUE(FIXED(P_20号様式!AD8,0,TRUE))<>P_20号様式!AD8,RIGHT(FIXED(P_20号様式!AD8,3,FALSE),4),\"\"))","v":""},{"$f":"IF(P_20号様式!AG8<> \"\",TEXT(INT(P_20号様式!AG8),\"#,##0\"),\"\")","v":""},{"$f":"IF(P_20号様式!AG8= \"\",\"\",IF(VALUE(FIXED(P_20号様式!AG8,0,TRUE))<>P_20号様式!AG8,RIGHT(FIXED(P_20号様式!AG8,3,FALSE),4),\"\"))","v":""},{"$f":"IF(P_20号様式!AH8<> \"\",TEXT(INT(P_20号様式!AH8),\"#,##0\"),\"\")","v":"25,655"},{"$f":"IF(P_20号様式!AH8= \"\",\"\",IF(VALUE(FIXED(P_20号様式!AH8,0,TRUE))<>P_20号様式!AH8,RIGHT(FIXED(P_20号様式!AH8,3,FALSE),4),\"\"))","v":""}]
[{"$f":"IF(P_20号様式!C9=\"\",\"\",P_20号様式!C9)","v":"指宿市"},null,{"$f":"IF(P_20号様式!F9<> \"\",TEXT(INT(P_20号様式!F9),\"#,##0\"),\"\")","v":"7,187"},{"$f":"IF(P_20号様式!F9= \"\",\"\",IF(VALUE(FIXED(P_20号様式!F9,0,TRUE))<>P_20号様式!F9,RIGHT(FIXED(P_20号様式!F9,3,FALSE),4),\"\"))","v":""},{"$f":"IF(P_20号様式!I9<> \"\",TEXT(INT(P_20号様式!I9),\"#,##0\"),\"\")","v":"177"},{"$f":"IF(P_20号様式!I9= \"\",\"\",IF(VALUE(FIXED(P_20号様式!I9,0,TRUE))<>P_20号様式!I9,RIGHT(FIXED(P_20号様式!I9,3,FALSE),4),\"\"))","v":""},{"$f":"IF(P_20号様式!L9<> \"\",TEXT(INT(P_20号様式!L9),\"#,##0\"),\"\")","v":"2,228"},{"$f":"IF(P_20号様式!L9= \"\",\"\",IF(VALUE(FIXED(P_20号様式!L9,0,TRUE))<>P_20号様式!L9,RIGHT(FIXED(P_20号様式!L9,3,FALSE),4),\"\"))","v":""},{"$f":"IF(P_20号様式!O9<> \"\",TEXT(INT(P_20号様式!O9),\"#,##0\"),\"\")","v":"408"},{"$f":"IF(P_20号様式!O9= \"\",\"\",IF(VALUE(FIXED(P_20号様式!O9,0,TRUE))<>P_20号様式!O9,RIGHT(FIXED(P_20号様式!O9,3,FALSE),4),\"\"))","v":""},{"$f":"IF(P_20号様式!R9<> \"\",TEXT(INT(P_20号様式!R9),\"#,##0\"),\"\")","v":"903"},{"$f":"IF(P_20号様式!R9= \"\",\"\",IF(VALUE(FIXED(P_20号様式!R9,0,TRUE))<>P_20号様式!R9,RIGHT(FIXED(P_20号様式!R9,3,FALSE),4),\"\"))","v":""},{"$f":"IF(P_20号様式!U9<> \"\",TEXT(INT(P_20号様式!U9),\"#,##0\"),\"\")","v":"2,773"},{"$f":"IF(P_20号様式!U9= \"\",\"\",IF(VALUE(FIXED(P_20号様式!U9,0,TRUE))<>P_20号様式!U9,RIGHT(FIXED(P_20号様式!U9,3,FALSE),4),\"\"))","v":""},{"$f":"IF(P_20号様式!X9<> \"\",TEXT(INT(P_20号様式!X9),\"#,##0\"),\"\")","v":"3,986"},{"$f":"IF(P_20号様式!X9= \"\",\"\",IF(VALUE(FIXED(P_20号様式!X9,0,TRUE))<>P_20号様式!X9,RIGHT(FIXED(P_20号様式!X9,3,FALSE),4),\"\"))","v":""},{"$f":"IF(P_20号様式!AA9<> \"\",TEXT(INT(P_20号様式!AA9),\"#,##0\"),\"\")","v":"832"},{"$f":"IF(P_20号様式!AA9= \"\",\"\",IF(VALUE(FIXED(P_20号様式!AA9,0,TRUE))<>P_20号様式!AA9,RIGHT(FIXED(P_20号様式!AA9,3,FALSE),4),\"\"))","v":""},{"$f":"IF(P_20号様式!AD9<> \"\",TEXT(INT(P_20号様式!AD9),\"#,##0\"),\"\")","v":""},{"$f":"IF(P_20号様式!AD9= \"\",\"\",IF(VALUE(FIXED(P_20号様式!AD9,0,TRUE))<>P_20号様式!AD9,RIGHT(FIXED(P_20号様式!AD9,3,FALSE),4),\"\"))","v":""},{"$f":"IF(P_20号様式!AG9<> \"\",TEXT(INT(P_20号様式!AG9),\"#,##0\"),\"\")","v":""},{"$f":"IF(P_20号様式!AG9= \"\",\"\",IF(VALUE(FIXED(P_20号様式!AG9,0,TRUE))<>P_20号様式!AG9,RIGHT(FIXED(P_20号様式!AG9,3,FALSE),4),\"\"))","v":""},{"$f":"IF(P_20号様式!AH9<> \"\",TEXT(INT(P_20号様式!AH9),\"#,##0\"),\"\")","v":"18,494"},{"$f":"IF(P_20号様式!AH9= \"\",\"\",IF(VALUE(FIXED(P_20号様式!AH9,0,TRUE))<>P_20号様式!AH9,RIGHT(FIXED(P_20号様式!AH9,3,FALSE),4),\"\"))","v":""}]
[{"$f":"IF(P_20号様式!C10=\"\",\"\",P_20号様式!C10)","v":"西之表市"},null,{"$f":"IF(P_20号様式!F10<> \"\",TEXT(INT(P_20号様式!F10),\"#,##0\"),\"\")","v":"2,812"},{"$f":"IF(P_20号様式!F10= \"\",\"\",IF(VALUE(FIXED(P_20号様式!F10,0,TRUE))<>P_20号様式!F10,RIGHT(FIXED(P_20号様式!F10,3,FALSE),4),\"\"))","v":""},{"$f":"IF(P_20号様式!I10<> \"\",TEXT(INT(P_20号様式!I10),\"#,##0\"),\"\")","v":"35"},{"$f":"IF(P_20号様式!I10= \"\",\"\",IF(VALUE(FIXED(P_20号様式!I10,0,TRUE))<>P_20号様式!I10,RIGHT(FIXED(P_20号様式!I10,3,FALSE),4),\"\"))","v":""},{"$f":"IF(P_20号様式!L10<> \"\",TEXT(INT(P_20号様式!L10),\"#,##0\"),\"\")","v":"1,050"},{"$f":"IF(P_20号様式!L10= \"\",\"\",IF(VALUE(FIXED(P_20号様式!L10,0,TRUE))<>P_20号様式!L10,RIGHT(FIXED(P_20号様式!L10,3,FALSE),4),\"\"))","v":""},{"$f":"IF(P_20号様式!O10<> \"\",TEXT(INT(P_20号様式!O10),\"#,##0\"),\"\")","v":"396"},{"$f":"IF(P_20号様式!O10= \"\",\"\",IF(VALUE(FIXED(P_20号様式!O10,0,TRUE))<>P_20号様式!O10,RIGHT(FIXED(P_20号様式!O10,3,FALSE),4),\"\"))","v":""},{"$f":"IF(P_20号様式!R10<> \"\",TEXT(INT(P_20号様式!R10),\"#,##0\"),\"\")","v":"529"},{"$f":"IF(P_20号様式!R10= \"\",\"\",IF(VALUE(FIXED(P_20号様式!R10,0,TRUE))<>P_20号様式!R10,RIGHT(FIXED(P_20号様式!R10,3,FALSE),4),\"\"))","v":""},{"$f":"IF(P_20号様式!U10<> \"\",TEXT(INT(P_20号様式!U10),\"#,##0\"),\"\")","v":"828"},{"$f":"IF(P_20号様式!U10= \"\",\"\",IF(VALUE(FIXED(P_20号様式!U10,0,TRUE))<>P_20号様式!U10,RIGHT(FIXED(P_20号様式!U10,3,FALSE),4),\"\"))","v":""},{"$f":"IF(P_20号様式!X10<> \"\",TEXT(INT(P_20号様式!X10),\"#,##0\"),\"\")","v":"1,108"},{"$f":"IF(P_20号様式!X10= \"\",\"\",IF(VALUE(FIXED(P_20号様式!X10,0,TRUE))<>P_20号様式!X10,RIGHT(FIXED(P_20号様式!X10,3,FALSE),4),\"\"))","v":""},{"$f":"IF(P_20号様式!AA10<> \"\",TEXT(INT(P_20号様式!AA10),\"#,##0\"),\"\")","v":"252"},{"$f":"IF(P_20号様式!AA10= \"\",\"\",IF(VALUE(FIXED(P_20号様式!AA10,0,TRUE))<>P_20号様式!AA10,RIGHT(FIXED(P_20号様式!AA10,3,FALSE),4),\"\"))","v":""},{"$f":"IF(P_20号様式!AD10<> \"\",TEXT(INT(P_20号様式!AD10),\"#,##0\"),\"\")","v":""},{"$f":"IF(P_20号様式!AD10= \"\",\"\",IF(VALUE(FIXED(P_20号様式!AD10,0,TRUE))<>P_20号様式!AD10,RIGHT(FIXED(P_20号様式!AD10,3,FALSE),4),\"\"))","v":""},{"$f":"IF(P_20号様式!AG10<> \"\",TEXT(INT(P_20号様式!AG10),\"#,##0\"),\"\")","v":""},{"$f":"IF(P_20号様式!AG10= \"\",\"\",IF(VALUE(FIXED(P_20号様式!AG10,0,TRUE))<>P_20号様式!AG10,RIGHT(FIXED(P_20号様式!AG10,3,FALSE),4),\"\"))","v":""},{"$f":"IF(P_20号様式!AH10<> \"\",TEXT(INT(P_20号様式!AH10),\"#,##0\"),\"\")","v":"7,010"},{"$f":"IF(P_20号様式!AH10= \"\",\"\",IF(VALUE(FIXED(P_20号様式!AH10,0,TRUE))<>P_20号様式!AH10,RIGHT(FIXED(P_20号様式!AH10,3,FALSE),4),\"\"))","v":""}]
[{"$f":"IF(P_20号様式!C11=\"\",\"\",P_20号様式!C11)","v":"垂水市"},null,{"$f":"IF(P_20号様式!F11<> \"\",TEXT(INT(P_20号様式!F11),\"#,##0\"),\"\")","v":"2,642"},{"$f":"IF(P_20号様式!F11= \"\",\"\",IF(VALUE(FIXED(P_20号様式!F11,0,TRUE))<>P_20号様式!F11,RIGHT(FIXED(P_20号様式!F11,3,FALSE),4),\"\"))","v":""},{"$f":"IF(P_20号様式!I11<> \"\",TEXT(INT(P_20号様式!I11),\"#,##0\"),\"\")","v":"30"},{"$f":"IF(P_20号様式!I11= \"\",\"\",IF(VALUE(FIXED(P_20号様式!I11,0,TRUE))<>P_20号様式!I11,RIGHT(FIXED(P_20号様式!I11,3,FALSE),4),\"\"))","v":""},{"$f":"IF(P_20号様式!L11<> \"\",TEXT(INT(P_20号様式!L11),\"#,##0\"),\"\")","v":"1,913"},{"$f":"IF(P_20号様式!L11= \"\",\"\",IF(VALUE(FIXED(P_20号様式!L11,0,TRUE))<>P_20号様式!L11,RIGHT(FIXED(P_20号様式!L11,3,FALSE),4),\"\"))","v":""},{"$f":"IF(P_20号様式!O11<> \"\",TEXT(INT(P_20号様式!O11),\"#,##0\"),\"\")","v":"429"},{"$f":"IF(P_20号様式!O11= \"\",\"\",IF(VALUE(FIXED(P_20号様式!O11,0,TRUE))<>P_20号様式!O11,RIGHT(FIXED(P_20号様式!O11,3,FALSE),4),\"\"))","v":""},{"$f":"IF(P_20号様式!R11<> \"\",TEXT(INT(P_20号様式!R11),\"#,##0\"),\"\")","v":"526"},{"$f":"IF(P_20号様式!R11= \"\",\"\",IF(VALUE(FIXED(P_20号様式!R11,0,TRUE))<>P_20号様式!R11,RIGHT(FIXED(P_20号様式!R11,3,FALSE),4),\"\"))","v":""},{"$f":"IF(P_20号様式!U11<> \"\",TEXT(INT(P_20号様式!U11),\"#,##0\"),\"\")","v":"818"},{"$f":"IF(P_20号様式!U11= \"\",\"\",IF(VALUE(FIXED(P_20号様式!U11,0,TRUE))<>P_20号様式!U11,RIGHT(FIXED(P_20号様式!U11,3,FALSE),4),\"\"))","v":""},{"$f":"IF(P_20号様式!X11<> \"\",TEXT(INT(P_20号様式!X11),\"#,##0\"),\"\")","v":"1,085"},{"$f":"IF(P_20号様式!X11= \"\",\"\",IF(VALUE(FIXED(P_20号様式!X11,0,TRUE))<>P_20号様式!X11,RIGHT(FIXED(P_20号様式!X11,3,FALSE),4),\"\"))","v":""},{"$f":"IF(P_20号様式!AA11<> \"\",TEXT(INT(P_20号様式!AA11),\"#,##0\"),\"\")","v":"269"},{"$f":"IF(P_20号様式!AA11= \"\",\"\",IF(VALUE(FIXED(P_20号様式!AA11,0,TRUE))<>P_20号様式!AA11,RIGHT(FIXED(P_20号様式!AA11,3,FALSE),4),\"\"))","v":""},{"$f":"IF(P_20号様式!AD11<> \"\",TEXT(INT(P_20号様式!AD11),\"#,##0\"),\"\")","v":""},{"$f":"IF(P_20号様式!AD11= \"\",\"\",IF(VALUE(FIXED(P_20号様式!AD11,0,TRUE))<>P_20号様式!AD11,RIGHT(FIXED(P_20号様式!AD11,3,FALSE),4),\"\"))","v":""},{"$f":"IF(P_20号様式!AG11<> \"\",TEXT(INT(P_20号様式!AG11),\"#,##0\"),\"\")","v":""},{"$f":"IF(P_20号様式!AG11= \"\",\"\",IF(VALUE(FIXED(P_20号様式!AG11,0,TRUE))<>P_20号様式!AG11,RIGHT(FIXED(P_20号様式!AG11,3,FALSE),4),\"\"))","v":""},{"$f":"IF(P_20号様式!AH11<> \"\",TEXT(INT(P_20号様式!AH11),\"#,##0\"),\"\")","v":"7,712"},{"$f":"IF(P_20号様式!AH11= \"\",\"\",IF(VALUE(FIXED(P_20号様式!AH11,0,TRUE))<>P_20号様式!AH11,RIGHT(FIXED(P_20号様式!AH11,3,FALSE),4),\"\"))","v":""}]
[{"$f":"IF(P_20号様式!C12=\"\",\"\",P_20号様式!C12)","v":"薩摩川内市第１"},null,{"$f":"IF(P_20号様式!F12<> \"\",TEXT(INT(P_20号様式!F12),\"#,##0\"),\"\")","v":""},{"$f":"IF(P_20号様式!F12= \"\",\"\",IF(VALUE(FIXED(P_20号様式!F12,0,TRUE))<>P_20号様式!F12,RIGHT(FIXED(P_20号様式!F12,3,FALSE),4),\"\"))","v":""},{"$f":"IF(P_20号様式!I12<> \"\",TEXT(INT(P_20号様式!I12),\"#,##0\"),\"\")","v":""},{"$f":"IF(P_20号様式!I12= \"\",\"\",IF(VALUE(FIXED(P_20号様式!I12,0,TRUE))<>P_20号様式!I12,RIGHT(FIXED(P_20号様式!I12,3,FALSE),4),\"\"))","v":""},{"$f":"IF(P_20号様式!L12<> \"\",TEXT(INT(P_20号様式!L12),\"#,##0\"),\"\")","v":""},{"$f":"IF(P_20号様式!L12= \"\",\"\",IF(VALUE(FIXED(P_20号様式!L12,0,TRUE))<>P_20号様式!L12,RIGHT(FIXED(P_20号様式!L12,3,FALSE),4),\"\"))","v":""},{"$f":"IF(P_20号様式!O12<> \"\",TEXT(INT(P_20号様式!O12),\"#,##0\"),\"\")","v":""},{"$f":"IF(P_20号様式!O12= \"\",\"\",IF(VALUE(FIXED(P_20号様式!O12,0,TRUE))<>P_20号様式!O12,RIGHT(FIXED(P_20号様式!O12,3,FALSE),4),\"\"))","v":""},{"$f":"IF(P_20号様式!R12<> \"\",TEXT(INT(P_20号様式!R12),\"#,##0\"),\"\")","v":""},{"$f":"IF(P_20号様式!R12= \"\",\"\",IF(VALUE(FIXED(P_20号様式!R12,0,TRUE))<>P_20号様式!R12,RIGHT(FIXED(P_20号様式!R12,3,FALSE),4),\"\"))","v":""},{"$f":"IF(P_20号様式!U12<> \"\",TEXT(INT(P_20号様式!U12),\"#,##0\"),\"\")","v":""},{"$f":"IF(P_20号様式!U12= \"\",\"\",IF(VALUE(FIXED(P_20号様式!U12,0,TRUE))<>P_20号様式!U12,RIGHT(FIXED(P_20号様式!U12,3,FALSE),4),\"\"))","v":""},{"$f":"IF(P_20号様式!X12<> \"\",TEXT(INT(P_20号様式!X12),\"#,##0\"),\"\")","v":""},{"$f":"IF(P_20号様式!X12= \"\",\"\",IF(VALUE(FIXED(P_20号様式!X12,0,TRUE))<>P_20号様式!X12,RIGHT(FIXED(P_20号様式!X12,3,FALSE),4),\"\"))","v":""},{"$f":"IF(P_20号様式!AA12<> \"\",TEXT(INT(P_20号様式!AA12),\"#,##0\"),\"\")","v":""},{"$f":"IF(P_20号様式!AA12= \"\",\"\",IF(VALUE(FIXED(P_20号様式!AA12,0,TRUE))<>P_20号様式!AA12,RIGHT(FIXED(P_20号様式!AA12,3,FALSE),4),\"\"))","v":""},{"$f":"IF(P_20号様式!AD12<> \"\",TEXT(INT(P_20号様式!AD12),\"#,##0\"),\"\")","v":""},{"$f":"IF(P_20号様式!AD12= \"\",\"\",IF(VALUE(FIXED(P_20号様式!AD12,0,TRUE))<>P_20号様式!AD12,RIGHT(FIXED(P_20号様式!AD12,3,FALSE),4),\"\"))","v":""},{"$f":"IF(P_20号様式!AG12<> \"\",TEXT(INT(P_20号様式!AG12),\"#,##0\"),\"\")","v":""},{"$f":"IF(P_20号様式!AG12= \"\",\"\",IF(VALUE(FIXED(P_20号様式!AG12,0,TRUE))<>P_20号様式!AG12,RIGHT(FIXED(P_20号様式!AG12,3,FALSE),4),\"\"))","v":""},{"$f":"IF(P_20号様式!AH12<> \"\",TEXT(INT(P_20号様式!AH12),\"#,##0\"),\"\")","v":""},{"$f":"IF(P_20号様式!AH12= \"\",\"\",IF(VALUE(FIXED(P_20号様式!AH12,0,TRUE))<>P_20号様式!AH12,RIGHT(FIXED(P_20号様式!AH12,3,FALSE),4),\"\"))","v":""}]
[{"$f":"IF(P_20号様式!C13=\"\",\"\",P_20号様式!C13)","v":"薩摩川内市第２"},null,{"$f":"IF(P_20号様式!F13<> \"\",TEXT(INT(P_20号様式!F13),\"#,##0\"),\"\")","v":"681"},{"$f":"IF(P_20号様式!F13= \"\",\"\",IF(VALUE(FIXED(P_20号様式!F13,0,TRUE))<>P_20号様式!F13,RIGHT(FIXED(P_20号様式!F13,3,FALSE),4),\"\"))","v":""},{"$f":"IF(P_20号様式!I13<> \"\",TEXT(INT(P_20号様式!I13),\"#,##0\"),\"\")","v":"3"},{"$f":"IF(P_20号様式!I13= \"\",\"\",IF(VALUE(FIXED(P_20号様式!I13,0,TRUE))<>P_20号様式!I13,RIGHT(FIXED(P_20号様式!I13,3,FALSE),4),\"\"))","v":""},{"$f":"IF(P_20号様式!L13<> \"\",TEXT(INT(P_20号様式!L13),\"#,##0\"),\"\")","v":"226"},{"$f":"IF(P_20号様式!L13= \"\",\"\",IF(VALUE(FIXED(P_20号様式!L13,0,TRUE))<>P_20号様式!L13,RIGHT(FIXED(P_20号様式!L13,3,FALSE),4),\"\"))","v":""},{"$f":"IF(P_20号様式!O13<> \"\",TEXT(INT(P_20号様式!O13),\"#,##0\"),\"\")","v":"24"},{"$f":"IF(P_20号様式!O13= \"\",\"\",IF(VALUE(FIXED(P_20号様式!O13,0,TRUE))<>P_20号様式!O13,RIGHT(FIXED(P_20号様式!O13,3,FALSE),4),\"\"))","v":""},{"$f":"IF(P_20号様式!R13<> \"\",TEXT(INT(P_20号様式!R13),\"#,##0\"),\"\")","v":"65"},{"$f":"IF(P_20号様式!R13= \"\",\"\",IF(VALUE(FIXED(P_20号様式!R13,0,TRUE))<>P_20号様式!R13,RIGHT(FIXED(P_20号様式!R13,3,FALSE),4),\"\"))","v":""},{"$f":"IF(P_20号様式!U13<> \"\",TEXT(INT(P_20号様式!U13),\"#,##0\"),\"\")","v":"140"},{"$f":"IF(P_20号様式!U13= \"\",\"\",IF(VALUE(FIXED(P_20号様式!U13,0,TRUE))<>P_20号様式!U13,RIGHT(FIXED(P_20号様式!U13,3,FALSE),4),\"\"))","v":""},{"$f":"IF(P_20号様式!X13<> \"\",TEXT(INT(P_20号様式!X13),\"#,##0\"),\"\")","v":"355"},{"$f":"IF(P_20号様式!X13= \"\",\"\",IF(VALUE(FIXED(P_20号様式!X13,0,TRUE))<>P_20号様式!X13,RIGHT(FIXED(P_20号様式!X13,3,FALSE),4),\"\"))","v":""},{"$f":"IF(P_20号様式!AA13<> \"\",TEXT(INT(P_20号様式!AA13),\"#,##0\"),\"\")","v":"34"},{"$f":"IF(P_20号様式!AA13= \"\",\"\",IF(VALUE(FIXED(P_20号様式!AA13,0,TRUE))<>P_20号様式!AA13,RIGHT(FIXED(P_20号様式!AA13,3,FALSE),4),\"\"))","v":""},{"$f":"IF(P_20号様式!AD13<> \"\",TEXT(INT(P_20号様式!AD13),\"#,##0\"),\"\")","v":""},{"$f":"IF(P_20号様式!AD13= \"\",\"\",IF(VALUE(FIXED(P_20号様式!AD13,0,TRUE))<>P_20号様式!AD13,RIGHT(FIXED(P_20号様式!AD13,3,FALSE),4),\"\"))","v":""},{"$f":"IF(P_20号様式!AG13<> \"\",TEXT(INT(P_20号様式!AG13),\"#,##0\"),\"\")","v":""},{"$f":"IF(P_20号様式!AG13= \"\",\"\",IF(VALUE(FIXED(P_20号様式!AG13,0,TRUE))<>P_20号様式!AG13,RIGHT(FIXED(P_20号様式!AG13,3,FALSE),4),\"\"))","v":""},{"$f":"IF(P_20号様式!AH13<> \"\",TEXT(INT(P_20号様式!AH13),\"#,##0\"),\"\")","v":"1,528"},{"$f":"IF(P_20号様式!AH13= \"\",\"\",IF(VALUE(FIXED(P_20号様式!AH13,0,TRUE))<>P_20号様式!AH13,RIGHT(FIXED(P_20号様式!AH13,3,FALSE),4),\"\"))","v":""}]
[{"$f":"IF(P_20号様式!C14=\"\",\"\",P_20号様式!C14)","v":"薩摩川内市第３"},null,{"$f":"IF(P_20号様式!F14<> \"\",TEXT(INT(P_20号様式!F14),\"#,##0\"),\"\")","v":"566"},{"$f":"IF(P_20号様式!F14= \"\",\"\",IF(VALUE(FIXED(P_20号様式!F14,0,TRUE))<>P_20号様式!F14,RIGHT(FIXED(P_20号様式!F14,3,FALSE),4),\"\"))","v":""},{"$f":"IF(P_20号様式!I14<> \"\",TEXT(INT(P_20号様式!I14),\"#,##0\"),\"\")","v":"7"},{"$f":"IF(P_20号様式!I14= \"\",\"\",IF(VALUE(FIXED(P_20号様式!I14,0,TRUE))<>P_20号様式!I14,RIGHT(FIXED(P_20号様式!I14,3,FALSE),4),\"\"))","v":""},{"$f":"IF(P_20号様式!L14<> \"\",TEXT(INT(P_20号様式!L14),\"#,##0\"),\"\")","v":"221"},{"$f":"IF(P_20号様式!L14= \"\",\"\",IF(VALUE(FIXED(P_20号様式!L14,0,TRUE))<>P_20号様式!L14,RIGHT(FIXED(P_20号様式!L14,3,FALSE),4),\"\"))","v":""},{"$f":"IF(P_20号様式!O14<> \"\",TEXT(INT(P_20号様式!O14),\"#,##0\"),\"\")","v":"16"},{"$f":"IF(P_20号様式!O14= \"\",\"\",IF(VALUE(FIXED(P_20号様式!O14,0,TRUE))<>P_20号様式!O14,RIGHT(FIXED(P_20号様式!O14,3,FALSE),4),\"\"))","v":""},{"$f":"IF(P_20号様式!R14<> \"\",TEXT(INT(P_20号様式!R14),\"#,##0\"),\"\")","v":"49"},{"$f":"IF(P_20号様式!R14= \"\",\"\",IF(VALUE(FIXED(P_20号様式!R14,0,TRUE))<>P_20号様式!R14,RIGHT(FIXED(P_20号様式!R14,3,FALSE),4),\"\"))","v":""},{"$f":"IF(P_20号様式!U14<> \"\",TEXT(INT(P_20号様式!U14),\"#,##0\"),\"\")","v":"149"},{"$f":"IF(P_20号様式!U14= \"\",\"\",IF(VALUE(FIXED(P_20号様式!U14,0,TRUE))<>P_20号様式!U14,RIGHT(FIXED(P_20号様式!U14,3,FALSE),4),\"\"))","v":""},{"$f":"IF(P_20号様式!X14<> \"\",TEXT(INT(P_20号様式!X14),\"#,##0\"),\"\")","v":"318"},{"$f":"IF(P_20号様式!X14= \"\",\"\",IF(VALUE(FIXED(P_20号様式!X14,0,TRUE))<>P_20号様式!X14,RIGHT(FIXED(P_20号様式!X14,3,FALSE),4),\"\"))","v":""},{"$f":"IF(P_20号様式!AA14<> \"\",TEXT(INT(P_20号様式!AA14),\"#,##0\"),\"\")","v":"46"},{"$f":"IF(P_20号様式!AA14= \"\",\"\",IF(VALUE(FIXED(P_20号様式!AA14,0,TRUE))<>P_20号様式!AA14,RIGHT(FIXED(P_20号様式!AA14,3,FALSE),4),\"\"))","v":""},{"$f":"IF(P_20号様式!AD14<> \"\",TEXT(INT(P_20号様式!AD14),\"#,##0\"),\"\")","v":""},{"$f":"IF(P_20号様式!AD14= \"\",\"\",IF(VALUE(FIXED(P_20号様式!AD14,0,TRUE))<>P_20号様式!AD14,RIGHT(FIXED(P_20号様式!AD14,3,FALSE),4),\"\"))","v":""},{"$f":"IF(P_20号様式!AG14<> \"\",TEXT(INT(P_20号様式!AG14),\"#,##0\"),\"\")","v":""},{"$f":"IF(P_20号様式!AG14= \"\",\"\",IF(VALUE(FIXED(P_20号様式!AG14,0,TRUE))<>P_20号様式!AG14,RIGHT(FIXED(P_20号様式!AG14,3,FALSE),4),\"\"))","v":""},{"$f":"IF(P_20号様式!AH14<> \"\",TEXT(INT(P_20号様式!AH14),\"#,##0\"),\"\")","v":"1,372"},{"$f":"IF(P_20号様式!AH14= \"\",\"\",IF(VALUE(FIXED(P_20号様式!AH14,0,TRUE))<>P_20号様式!AH14,RIGHT(FIXED(P_20号様式!AH14,3,FALSE),4),\"\"))","v":""}]
[{"$f":"IF(P_20号様式!C15=\"\",\"\",P_20号様式!C15)","v":"＊（薩摩川内市）計"},null,{"$f":"IF(P_20号様式!F15<> \"\",TEXT(INT(P_20号様式!F15),\"#,##0\"),\"\")","v":"1,247"},{"$f":"IF(P_20号様式!F15= \"\",\"\",IF(VALUE(FIXED(P_20号様式!F15,0,TRUE))<>P_20号様式!F15,RIGHT(FIXED(P_20号様式!F15,3,FALSE),4),\"\"))","v":""},{"$f":"IF(P_20号様式!I15<> \"\",TEXT(INT(P_20号様式!I15),\"#,##0\"),\"\")","v":"10"},{"$f":"IF(P_20号様式!I15= \"\",\"\",IF(VALUE(FIXED(P_20号様式!I15,0,TRUE))<>P_20号様式!I15,RIGHT(FIXED(P_20号様式!I15,3,FALSE),4),\"\"))","v":""},{"$f":"IF(P_20号様式!L15<> \"\",TEXT(INT(P_20号様式!L15),\"#,##0\"),\"\")","v":"447"},{"$f":"IF(P_20号様式!L15= \"\",\"\",IF(VALUE(FIXED(P_20号様式!L15,0,TRUE))<>P_20号様式!L15,RIGHT(FIXED(P_20号様式!L15,3,FALSE),4),\"\"))","v":""},{"$f":"IF(P_20号様式!O15<> \"\",TEXT(INT(P_20号様式!O15),\"#,##0\"),\"\")","v":"40"},{"$f":"IF(P_20号様式!O15= \"\",\"\",IF(VALUE(FIXED(P_20号様式!O15,0,TRUE))<>P_20号様式!O15,RIGHT(FIXED(P_20号様式!O15,3,FALSE),4),\"\"))","v":""},{"$f":"IF(P_20号様式!R15<> \"\",TEXT(INT(P_20号様式!R15),\"#,##0\"),\"\")","v":"114"},{"$f":"IF(P_20号様式!R15= \"\",\"\",IF(VALUE(FIXED(P_20号様式!R15,0,TRUE))<>P_20号様式!R15,RIGHT(FIXED(P_20号様式!R15,3,FALSE),4),\"\"))","v":""},{"$f":"IF(P_20号様式!U15<> \"\",TEXT(INT(P_20号様式!U15),\"#,##0\"),\"\")","v":"289"},{"$f":"IF(P_20号様式!U15= \"\",\"\",IF(VALUE(FIXED(P_20号様式!U15,0,TRUE))<>P_20号様式!U15,RIGHT(FIXED(P_20号様式!U15,3,FALSE),4),\"\"))","v":""},{"$f":"IF(P_20号様式!X15<> \"\",TEXT(INT(P_20号様式!X15),\"#,##0\"),\"\")","v":"673"},{"$f":"IF(P_20号様式!X15= \"\",\"\",IF(VALUE(FIXED(P_20号様式!X15,0,TRUE))<>P_20号様式!X15,RIGHT(FIXED(P_20号様式!X15,3,FALSE),4),\"\"))","v":""},{"$f":"IF(P_20号様式!AA15<> \"\",TEXT(INT(P_20号様式!AA15),\"#,##0\"),\"\")","v":"80"},{"$f":"IF(P_20号様式!AA15= \"\",\"\",IF(VALUE(FIXED(P_20号様式!AA15,0,TRUE))<>P_20号様式!AA15,RIGHT(FIXED(P_20号様式!AA15,3,FALSE),4),\"\"))","v":""},{"$f":"IF(P_20号様式!AD15<> \"\",TEXT(INT(P_20号様式!AD15),\"#,##0\"),\"\")","v":""},{"$f":"IF(P_20号様式!AD15= \"\",\"\",IF(VALUE(FIXED(P_20号様式!AD15,0,TRUE))<>P_20号様式!AD15,RIGHT(FIXED(P_20号様式!AD15,3,FALSE),4),\"\"))","v":""},{"$f":"IF(P_20号様式!AG15<> \"\",TEXT(INT(P_20号様式!AG15),\"#,##0\"),\"\")","v":""},{"$f":"IF(P_20号様式!AG15= \"\",\"\",IF(VALUE(FIXED(P_20号様式!AG15,0,TRUE))<>P_20号様式!AG15,RIGHT(FIXED(P_20号様式!AG15,3,FALSE),4),\"\"))","v":""},{"$f":"IF(P_20号様式!AH15<> \"\",TEXT(INT(P_20号様式!AH15),\"#,##0\"),\"\")","v":"2,900"},{"$f":"IF(P_20号様式!AH15= \"\",\"\",IF(VALUE(FIXED(P_20号様式!AH15,0,TRUE))<>P_20号様式!AH15,RIGHT(FIXED(P_20号様式!AH15,3,FALSE),4),\"\"))","v":""}]
[{"$f":"IF(P_20号様式!C16=\"\",\"\",P_20号様式!C16)","v":"日置市"},null,{"$f":"IF(P_20号様式!F16<> \"\",TEXT(INT(P_20号様式!F16),\"#,##0\"),\"\")","v":""},{"$f":"IF(P_20号様式!F16= \"\",\"\",IF(VALUE(FIXED(P_20号様式!F16,0,TRUE))<>P_20号様式!F16,RIGHT(FIXED(P_20号様式!F16,3,FALSE),4),\"\"))","v":""},{"$f":"IF(P_20号様式!I16<> \"\",TEXT(INT(P_20号様式!I16),\"#,##0\"),\"\")","v":""},{"$f":"IF(P_20号様式!I16= \"\",\"\",IF(VALUE(FIXED(P_20号様式!I16,0,TRUE))<>P_20号様式!I16,RIGHT(FIXED(P_20号様式!I16,3,FALSE),4),\"\"))","v":""},{"$f":"IF(P_20号様式!L16<> \"\",TEXT(INT(P_20号様式!L16),\"#,##0\"),\"\")","v":""},{"$f":"IF(P_20号様式!L16= \"\",\"\",IF(VALUE(FIXED(P_20号様式!L16,0,TRUE))<>P_20号様式!L16,RIGHT(FIXED(P_20号様式!L16,3,FALSE),4),\"\"))","v":""},{"$f":"IF(P_20号様式!O16<> \"\",TEXT(INT(P_20号様式!O16),\"#,##0\"),\"\")","v":""},{"$f":"IF(P_20号様式!O16= \"\",\"\",IF(VALUE(FIXED(P_20号様式!O16,0,TRUE))<>P_20号様式!O16,RIGHT(FIXED(P_20号様式!O16,3,FALSE),4),\"\"))","v":""},{"$f":"IF(P_20号様式!R16<> \"\",TEXT(INT(P_20号様式!R16),\"#,##0\"),\"\")","v":""},{"$f":"IF(P_20号様式!R16= \"\",\"\",IF(VALUE(FIXED(P_20号様式!R16,0,TRUE))<>P_20号様式!R16,RIGHT(FIXED(P_20号様式!R16,3,FALSE),4),\"\"))","v":""},{"$f":"IF(P_20号様式!U16<> \"\",TEXT(INT(P_20号様式!U16),\"#,##0\"),\"\")","v":""},{"$f":"IF(P_20号様式!U16= \"\",\"\",IF(VALUE(FIXED(P_20号様式!U16,0,TRUE))<>P_20号様式!U16,RIGHT(FIXED(P_20号様式!U16,3,FALSE),4),\"\"))","v":""},{"$f":"IF(P_20号様式!X16<> \"\",TEXT(INT(P_20号様式!X16),\"#,##0\"),\"\")","v":""},{"$f":"IF(P_20号様式!X16= \"\",\"\",IF(VALUE(FIXED(P_20号様式!X16,0,TRUE))<>P_20号様式!X16,RIGHT(FIXED(P_20号様式!X16,3,FALSE),4),\"\"))","v":""},{"$f":"IF(P_20号様式!AA16<> \"\",TEXT(INT(P_20号様式!AA16),\"#,##0\"),\"\")","v":""},{"$f":"IF(P_20号様式!AA16= \"\",\"\",IF(VALUE(FIXED(P_20号様式!AA16,0,TRUE))<>P_20号様式!AA16,RIGHT(FIXED(P_20号様式!AA16,3,FALSE),4),\"\"))","v":""},{"$f":"IF(P_20号様式!AD16<> \"\",TEXT(INT(P_20号様式!AD16),\"#,##0\"),\"\")","v":""},{"$f":"IF(P_20号様式!AD16= \"\",\"\",IF(VALUE(FIXED(P_20号様式!AD16,0,TRUE))<>P_20号様式!AD16,RIGHT(FIXED(P_20号様式!AD16,3,FALSE),4),\"\"))","v":""},{"$f":"IF(P_20号様式!AG16<> \"\",TEXT(INT(P_20号様式!AG16),\"#,##0\"),\"\")","v":""},{"$f":"IF(P_20号様式!AG16= \"\",\"\",IF(VALUE(FIXED(P_20号様式!AG16,0,TRUE))<>P_20号様式!AG16,RIGHT(FIXED(P_20号様式!AG16,3,FALSE),4),\"\"))","v":""},{"$f":"IF(P_20号様式!AH16<> \"\",TEXT(INT(P_20号様式!AH16),\"#,##0\"),\"\")","v":""},{"$f":"IF(P_20号様式!AH16= \"\",\"\",IF(VALUE(FIXED(P_20号様式!AH16,0,TRUE))<>P_20号様式!AH16,RIGHT(FIXED(P_20号様式!AH16,3,FALSE),4),\"\"))","v":""}]
[{"$f":"IF(P_20号様式!C17=\"\",\"\",P_20号様式!C17)","v":"曽於市"},null,{"$f":"IF(P_20号様式!F17<> \"\",TEXT(INT(P_20号様式!F17),\"#,##0\"),\"\")","v":"8,025"},{"$f":"IF(P_20号様式!F17= \"\",\"\",IF(VALUE(FIXED(P_20号様式!F17,0,TRUE))<>P_20号様式!F17,RIGHT(FIXED(P_20号様式!F17,3,FALSE),4),\"\"))","v":""},{"$f":"IF(P_20号様式!I17<> \"\",TEXT(INT(P_20号様式!I17),\"#,##0\"),\"\")","v":"73"},{"$f":"IF(P_20号様式!I17= \"\",\"\",IF(VALUE(FIXED(P_20号様式!I17,0,TRUE))<>P_20号様式!I17,RIGHT(FIXED(P_20号様式!I17,3,FALSE),4),\"\"))","v":""},{"$f":"IF(P_20号様式!L17<> \"\",TEXT(INT(P_20号様式!L17),\"#,##0\"),\"\")","v":"2,396"},{"$f":"IF(P_20号様式!L17= \"\",\"\",IF(VALUE(FIXED(P_20号様式!L17,0,TRUE))<>P_20号様式!L17,RIGHT(FIXED(P_20号様式!L17,3,FALSE),4),\"\"))","v":""},{"$f":"IF(P_20号様式!O17<> \"\",TEXT(INT(P_20号様式!O17),\"#,##0\"),\"\")","v":"1,183"},{"$f":"IF(P_20号様式!O17= \"\",\"\",IF(VALUE(FIXED(P_20号様式!O17,0,TRUE))<>P_20号様式!O17,RIGHT(FIXED(P_20号様式!O17,3,FALSE),4),\"\"))","v":""},{"$f":"IF(P_20号様式!R17<> \"\",TEXT(INT(P_20号様式!R17),\"#,##0\"),\"\")","v":"933"},{"$f":"IF(P_20号様式!R17= \"\",\"\",IF(VALUE(FIXED(P_20号様式!R17,0,TRUE))<>P_20号様式!R17,RIGHT(FIXED(P_20号様式!R17,3,FALSE),4),\"\"))","v":""},{"$f":"IF(P_20号様式!U17<> \"\",TEXT(INT(P_20号様式!U17),\"#,##0\"),\"\")","v":"1,681"},{"$f":"IF(P_20号様式!U17= \"\",\"\",IF(VALUE(FIXED(P_20号様式!U17,0,TRUE))<>P_20号様式!U17,RIGHT(FIXED(P_20号様式!U17,3,FALSE),4),\"\"))","v":""},{"$f":"IF(P_20号様式!X17<> \"\",TEXT(INT(P_20号様式!X17),\"#,##0\"),\"\")","v":"2,713"},{"$f":"IF(P_20号様式!X17= \"\",\"\",IF(VALUE(FIXED(P_20号様式!X17,0,TRUE))<>P_20号様式!X17,RIGHT(FIXED(P_20号様式!X17,3,FALSE),4),\"\"))","v":""},{"$f":"IF(P_20号様式!AA17<> \"\",TEXT(INT(P_20号様式!AA17),\"#,##0\"),\"\")","v":"548"},{"$f":"IF(P_20号様式!AA17= \"\",\"\",IF(VALUE(FIXED(P_20号様式!AA17,0,TRUE))<>P_20号様式!AA17,RIGHT(FIXED(P_20号様式!AA17,3,FALSE),4),\"\"))","v":""},{"$f":"IF(P_20号様式!AD17<> \"\",TEXT(INT(P_20号様式!AD17),\"#,##0\"),\"\")","v":""},{"$f":"IF(P_20号様式!AD17= \"\",\"\",IF(VALUE(FIXED(P_20号様式!AD17,0,TRUE))<>P_20号様式!AD17,RIGHT(FIXED(P_20号様式!AD17,3,FALSE),4),\"\"))","v":""},{"$f":"IF(P_20号様式!AG17<> \"\",TEXT(INT(P_20号様式!AG17),\"#,##0\"),\"\")","v":""},{"$f":"IF(P_20号様式!AG17= \"\",\"\",IF(VALUE(FIXED(P_20号様式!AG17,0,TRUE))<>P_20号様式!AG17,RIGHT(FIXED(P_20号様式!AG17,3,FALSE),4),\"\"))","v":""},{"$f":"IF(P_20号様式!AH17<> \"\",TEXT(INT(P_20号様式!AH17),\"#,##0\"),\"\")","v":"17,552"},{"$f":"IF(P_20号様式!AH17= \"\",\"\",IF(VALUE(FIXED(P_20号様式!AH17,0,TRUE))<>P_20号様式!AH17,RIGHT(FIXED(P_20号様式!AH17,3,FALSE),4),\"\"))","v":""}]
[{"$f":"IF(P_20号様式!C18=\"\",\"\",P_20号様式!C18)","v":"霧島市"},null,{"$f":"IF(P_20号様式!F18<> \"\",TEXT(INT(P_20号様式!F18),\"#,##0\"),\"\")","v":""},{"$f":"IF(P_20号様式!F18= \"\",\"\",IF(VALUE(FIXED(P_20号様式!F18,0,TRUE))<>P_20号様式!F18,RIGHT(FIXED(P_20号様式!F18,3,FALSE),4),\"\"))","v":""},{"$f":"IF(P_20号様式!I18<> \"\",TEXT(INT(P_20号様式!I18),\"#,##0\"),\"\")","v":""},{"$f":"IF(P_20号様式!I18= \"\",\"\",IF(VALUE(FIXED(P_20号様式!I18,0,TRUE))<>P_20号様式!I18,RIGHT(FIXED(P_20号様式!I18,3,FALSE),4),\"\"))","v":""},{"$f":"IF(P_20号様式!L18<> \"\",TEXT(INT(P_20号様式!L18),\"#,##0\"),\"\")","v":""},{"$f":"IF(P_20号様式!L18= \"\",\"\",IF(VALUE(FIXED(P_20号様式!L18,0,TRUE))<>P_20号様式!L18,RIGHT(FIXED(P_20号様式!L18,3,FALSE),4),\"\"))","v":""},{"$f":"IF(P_20号様式!O18<> \"\",TEXT(INT(P_20号様式!O18),\"#,##0\"),\"\")","v":""},{"$f":"IF(P_20号様式!O18= \"\",\"\",IF(VALUE(FIXED(P_20号様式!O18,0,TRUE))<>P_20号様式!O18,RIGHT(FIXED(P_20号様式!O18,3,FALSE),4),\"\"))","v":""},{"$f":"IF(P_20号様式!R18<> \"\",TEXT(INT(P_20号様式!R18),\"#,##0\"),\"\")","v":""},{"$f":"IF(P_20号様式!R18= \"\",\"\",IF(VALUE(FIXED(P_20号様式!R18,0,TRUE))<>P_20号様式!R18,RIGHT(FIXED(P_20号様式!R18,3,FALSE),4),\"\"))","v":""},{"$f":"IF(P_20号様式!U18<> \"\",TEXT(INT(P_20号様式!U18),\"#,##0\"),\"\")","v":""},{"$f":"IF(P_20号様式!U18= \"\",\"\",IF(VALUE(FIXED(P_20号様式!U18,0,TRUE))<>P_20号様式!U18,RIGHT(FIXED(P_20号様式!U18,3,FALSE),4),\"\"))","v":""},{"$f":"IF(P_20号様式!X18<> \"\",TEXT(INT(P_20号様式!X18),\"#,##0\"),\"\")","v":""},{"$f":"IF(P_20号様式!X18= \"\",\"\",IF(VALUE(FIXED(P_20号様式!X18,0,TRUE))<>P_20号様式!X18,RIGHT(FIXED(P_20号様式!X18,3,FALSE),4),\"\"))","v":""},{"$f":"IF(P_20号様式!AA18<> \"\",TEXT(INT(P_20号様式!AA18),\"#,##0\"),\"\")","v":""},{"$f":"IF(P_20号様式!AA18= \"\",\"\",IF(VALUE(FIXED(P_20号様式!AA18,0,TRUE))<>P_20号様式!AA18,RIGHT(FIXED(P_20号様式!AA18,3,FALSE),4),\"\"))","v":""},{"$f":"IF(P_20号様式!AD18<> \"\",TEXT(INT(P_20号様式!AD18),\"#,##0\"),\"\")","v":""},{"$f":"IF(P_20号様式!AD18= \"\",\"\",IF(VALUE(FIXED(P_20号様式!AD18,0,TRUE))<>P_20号様式!AD18,RIGHT(FIXED(P_20号様式!AD18,3,FALSE),4),\"\"))","v":""},{"$f":"IF(P_20号様式!AG18<> \"\",TEXT(INT(P_20号様式!AG18),\"#,##0\"),\"\")","v":""},{"$f":"IF(P_20号様式!AG18= \"\",\"\",IF(VALUE(FIXED(P_20号様式!AG18,0,TRUE))<>P_20号様式!AG18,RIGHT(FIXED(P_20号様式!AG18,3,FALSE),4),\"\"))","v":""},{"$f":"IF(P_20号様式!AH18<> \"\",TEXT(INT(P_20号様式!AH18),\"#,##0\"),\"\")","v":""},{"$f":"IF(P_20号様式!AH18= \"\",\"\",IF(VALUE(FIXED(P_20号様式!AH18,0,TRUE))<>P_20号様式!AH18,RIGHT(FIXED(P_20号様式!AH18,3,FALSE),4),\"\"))","v":""}]
[{"$f":"IF(P_20号様式!C19=\"\",\"\",P_20号様式!C19)","v":"いちき串木野市"},null,{"$f":"IF(P_20号様式!F19<> \"\",TEXT(INT(P_20号様式!F19),\"#,##0\"),\"\")","v":""},{"$f":"IF(P_20号様式!F19= \"\",\"\",IF(VALUE(FIXED(P_20号様式!F19,0,TRUE))<>P_20号様式!F19,RIGHT(FIXED(P_20号様式!F19,3,FALSE),4),\"\"))","v":""},{"$f":"IF(P_20号様式!I19<> \"\",TEXT(INT(P_20号様式!I19),\"#,##0\"),\"\")","v":""},{"$f":"IF(P_20号様式!I19= \"\",\"\",IF(VALUE(FIXED(P_20号様式!I19,0,TRUE))<>P_20号様式!I19,RIGHT(FIXED(P_20号様式!I19,3,FALSE),4),\"\"))","v":""},{"$f":"IF(P_20号様式!L19<> \"\",TEXT(INT(P_20号様式!L19),\"#,##0\"),\"\")","v":""},{"$f":"IF(P_20号様式!L19= \"\",\"\",IF(VALUE(FIXED(P_20号様式!L19,0,TRUE))<>P_20号様式!L19,RIGHT(FIXED(P_20号様式!L19,3,FALSE),4),\"\"))","v":""},{"$f":"IF(P_20号様式!O19<> \"\",TEXT(INT(P_20号様式!O19),\"#,##0\"),\"\")","v":""},{"$f":"IF(P_20号様式!O19= \"\",\"\",IF(VALUE(FIXED(P_20号様式!O19,0,TRUE))<>P_20号様式!O19,RIGHT(FIXED(P_20号様式!O19,3,FALSE),4),\"\"))","v":""},{"$f":"IF(P_20号様式!R19<> \"\",TEXT(INT(P_20号様式!R19),\"#,##0\"),\"\")","v":""},{"$f":"IF(P_20号様式!R19= \"\",\"\",IF(VALUE(FIXED(P_20号様式!R19,0,TRUE))<>P_20号様式!R19,RIGHT(FIXED(P_20号様式!R19,3,FALSE),4),\"\"))","v":""},{"$f":"IF(P_20号様式!U19<> \"\",TEXT(INT(P_20号様式!U19),\"#,##0\"),\"\")","v":""},{"$f":"IF(P_20号様式!U19= \"\",\"\",IF(VALUE(FIXED(P_20号様式!U19,0,TRUE))<>P_20号様式!U19,RIGHT(FIXED(P_20号様式!U19,3,FALSE),4),\"\"))","v":""},{"$f":"IF(P_20号様式!X19<> \"\",TEXT(INT(P_20号様式!X19),\"#,##0\"),\"\")","v":""},{"$f":"IF(P_20号様式!X19= \"\",\"\",IF(VALUE(FIXED(P_20号様式!X19,0,TRUE))<>P_20号様式!X19,RIGHT(FIXED(P_20号様式!X19,3,FALSE),4),\"\"))","v":""},{"$f":"IF(P_20号様式!AA19<> \"\",TEXT(INT(P_20号様式!AA19),\"#,##0\"),\"\")","v":""},{"$f":"IF(P_20号様式!AA19= \"\",\"\",IF(VALUE(FIXED(P_20号様式!AA19,0,TRUE))<>P_20号様式!AA19,RIGHT(FIXED(P_20号様式!AA19,3,FALSE),4),\"\"))","v":""},{"$f":"IF(P_20号様式!AD19<> \"\",TEXT(INT(P_20号様式!AD19),\"#,##0\"),\"\")","v":""},{"$f":"IF(P_20号様式!AD19= \"\",\"\",IF(VALUE(FIXED(P_20号様式!AD19,0,TRUE))<>P_20号様式!AD19,RIGHT(FIXED(P_20号様式!AD19,3,FALSE),4),\"\"))","v":""},{"$f":"IF(P_20号様式!AG19<> \"\",TEXT(INT(P_20号様式!AG19),\"#,##0\"),\"\")","v":""},{"$f":"IF(P_20号様式!AG19= \"\",\"\",IF(VALUE(FIXED(P_20号様式!AG19,0,TRUE))<>P_20号様式!AG19,RIGHT(FIXED(P_20号様式!AG19,3,FALSE),4),\"\"))","v":""},{"$f":"IF(P_20号様式!AH19<> \"\",TEXT(INT(P_20号様式!AH19),\"#,##0\"),\"\")","v":""},{"$f":"IF(P_20号様式!AH19= \"\",\"\",IF(VALUE(FIXED(P_20号様式!AH19,0,TRUE))<>P_20号様式!AH19,RIGHT(FIXED(P_20号様式!AH19,3,FALSE),4),\"\"))","v":""}]
[{"$f":"IF(P_20号様式!C20=\"\",\"\",P_20号様式!C20)","v":"南さつま市"},null,{"$f":"IF(P_20号様式!F20<> \"\",TEXT(INT(P_20号様式!F20),\"#,##0\"),\"\")","v":""},{"$f":"IF(P_20号様式!F20= \"\",\"\",IF(VALUE(FIXED(P_20号様式!F20,0,TRUE))<>P_20号様式!F20,RIGHT(FIXED(P_20号様式!F20,3,FALSE),4),\"\"))","v":""},{"$f":"IF(P_20号様式!I20<> \"\",TEXT(INT(P_20号様式!I20),\"#,##0\"),\"\")","v":""},{"$f":"IF(P_20号様式!I20= \"\",\"\",IF(VALUE(FIXED(P_20号様式!I20,0,TRUE))<>P_20号様式!I20,RIGHT(FIXED(P_20号様式!I20,3,FALSE),4),\"\"))","v":""},{"$f":"IF(P_20号様式!L20<> \"\",TEXT(INT(P_20号様式!L20),\"#,##0\"),\"\")","v":""},{"$f":"IF(P_20号様式!L20= \"\",\"\",IF(VALUE(FIXED(P_20号様式!L20,0,TRUE))<>P_20号様式!L20,RIGHT(FIXED(P_20号様式!L20,3,FALSE),4),\"\"))","v":""},{"$f":"IF(P_20号様式!O20<> \"\",TEXT(INT(P_20号様式!O20),\"#,##0\"),\"\")","v":""},{"$f":"IF(P_20号様式!O20= \"\",\"\",IF(VALUE(FIXED(P_20号様式!O20,0,TRUE))<>P_20号様式!O20,RIGHT(FIXED(P_20号様式!O20,3,FALSE),4),\"\"))","v":""},{"$f":"IF(P_20号様式!R20<> \"\",TEXT(INT(P_20号様式!R20),\"#,##0\"),\"\")","v":""},{"$f":"IF(P_20号様式!R20= \"\",\"\",IF(VALUE(FIXED(P_20号様式!R20,0,TRUE))<>P_20号様式!R20,RIGHT(FIXED(P_20号様式!R20,3,FALSE),4),\"\"))","v":""},{"$f":"IF(P_20号様式!U20<> \"\",TEXT(INT(P_20号様式!U20),\"#,##0\"),\"\")","v":""},{"$f":"IF(P_20号様式!U20= \"\",\"\",IF(VALUE(FIXED(P_20号様式!U20,0,TRUE))<>P_20号様式!U20,RIGHT(FIXED(P_20号様式!U20,3,FALSE),4),\"\"))","v":""},{"$f":"IF(P_20号様式!X20<> \"\",TEXT(INT(P_20号様式!X20),\"#,##0\"),\"\")","v":""},{"$f":"IF(P_20号様式!X20= \"\",\"\",IF(VALUE(FIXED(P_20号様式!X20,0,TRUE))<>P_20号様式!X20,RIGHT(FIXED(P_20号様式!X20,3,FALSE),4),\"\"))","v":""},{"$f":"IF(P_20号様式!AA20<> \"\",TEXT(INT(P_20号様式!AA20),\"#,##0\"),\"\")","v":""},{"$f":"IF(P_20号様式!AA20= \"\",\"\",IF(VALUE(FIXED(P_20号様式!AA20,0,TRUE))<>P_20号様式!AA20,RIGHT(FIXED(P_20号様式!AA20,3,FALSE),4),\"\"))","v":""},{"$f":"IF(P_20号様式!AD20<> \"\",TEXT(INT(P_20号様式!AD20),\"#,##0\"),\"\")","v":""},{"$f":"IF(P_20号様式!AD20= \"\",\"\",IF(VALUE(FIXED(P_20号様式!AD20,0,TRUE))<>P_20号様式!AD20,RIGHT(FIXED(P_20号様式!AD20,3,FALSE),4),\"\"))","v":""},{"$f":"IF(P_20号様式!AG20<> \"\",TEXT(INT(P_20号様式!AG20),\"#,##0\"),\"\")","v":""},{"$f":"IF(P_20号様式!AG20= \"\",\"\",IF(VALUE(FIXED(P_20号様式!AG20,0,TRUE))<>P_20号様式!AG20,RIGHT(FIXED(P_20号様式!AG20,3,FALSE),4),\"\"))","v":""},{"$f":"IF(P_20号様式!AH20<> \"\",TEXT(INT(P_20号様式!AH20),\"#,##0\"),\"\")","v":""},{"$f":"IF(P_20号様式!AH20= \"\",\"\",IF(VALUE(FIXED(P_20号様式!AH20,0,TRUE))<>P_20号様式!AH20,RIGHT(FIXED(P_20号様式!AH20,3,FALSE),4),\"\"))","v":""}]
[{"$f":"IF(P_20号様式!C21=\"\",\"\",P_20号様式!C21)","v":"志布志市"},null,{"$f":"IF(P_20号様式!F21<> \"\",TEXT(INT(P_20号様式!F21),\"#,##0\"),\"\")","v":""},{"$f":"IF(P_20号様式!F21= \"\",\"\",IF(VALUE(FIXED(P_20号様式!F21,0,TRUE))<>P_20号様式!F21,RIGHT(FIXED(P_20号様式!F21,3,FALSE),4),\"\"))","v":""},{"$f":"IF(P_20号様式!I21<> \"\",TEXT(INT(P_20号様式!I21),\"#,##0\"),\"\")","v":""},{"$f":"IF(P_20号様式!I21= \"\",\"\",IF(VALUE(FIXED(P_20号様式!I21,0,TRUE))<>P_20号様式!I21,RIGHT(FIXED(P_20号様式!I21,3,FALSE),4),\"\"))","v":""},{"$f":"IF(P_20号様式!L21<> \"\",TEXT(INT(P_20号様式!L21),\"#,##0\"),\"\")","v":""},{"$f":"IF(P_20号様式!L21= \"\",\"\",IF(VALUE(FIXED(P_20号様式!L21,0,TRUE))<>P_20号様式!L21,RIGHT(FIXED(P_20号様式!L21,3,FALSE),4),\"\"))","v":""},{"$f":"IF(P_20号様式!O21<> \"\",TEXT(INT(P_20号様式!O21),\"#,##0\"),\"\")","v":""},{"$f":"IF(P_20号様式!O21= \"\",\"\",IF(VALUE(FIXED(P_20号様式!O21,0,TRUE))<>P_20号様式!O21,RIGHT(FIXED(P_20号様式!O21,3,FALSE),4),\"\"))","v":""},{"$f":"IF(P_20号様式!R21<> \"\",TEXT(INT(P_20号様式!R21),\"#,##0\"),\"\")","v":""},{"$f":"IF(P_20号様式!R21= \"\",\"\",IF(VALUE(FIXED(P_20号様式!R21,0,TRUE))<>P_20号様式!R21,RIGHT(FIXED(P_20号様式!R21,3,FALSE),4),\"\"))","v":""},{"$f":"IF(P_20号様式!U21<> \"\",TEXT(INT(P_20号様式!U21),\"#,##0\"),\"\")","v":""},{"$f":"IF(P_20号様式!U21= \"\",\"\",IF(VALUE(FIXED(P_20号様式!U21,0,TRUE))<>P_20号様式!U21,RIGHT(FIXED(P_20号様式!U21,3,FALSE),4),\"\"))","v":""},{"$f":"IF(P_20号様式!X21<> \"\",TEXT(INT(P_20号様式!X21),\"#,##0\"),\"\")","v":""},{"$f":"IF(P_20号様式!X21= \"\",\"\",IF(VALUE(FIXED(P_20号様式!X21,0,TRUE))<>P_20号様式!X21,RIGHT(FIXED(P_20号様式!X21,3,FALSE),4),\"\"))","v":""},{"$f":"IF(P_20号様式!AA21<> \"\",TEXT(INT(P_20号様式!AA21),\"#,##0\"),\"\")","v":""},{"$f":"IF(P_20号様式!AA21= \"\",\"\",IF(VALUE(FIXED(P_20号様式!AA21,0,TRUE))<>P_20号様式!AA21,RIGHT(FIXED(P_20号様式!AA21,3,FALSE),4),\"\"))","v":""},{"$f":"IF(P_20号様式!AD21<> \"\",TEXT(INT(P_20号様式!AD21),\"#,##0\"),\"\")","v":""},{"$f":"IF(P_20号様式!AD21= \"\",\"\",IF(VALUE(FIXED(P_20号様式!AD21,0,TRUE))<>P_20号様式!AD21,RIGHT(FIXED(P_20号様式!AD21,3,FALSE),4),\"\"))","v":""},{"$f":"IF(P_20号様式!AG21<> \"\",TEXT(INT(P_20号様式!AG21),\"#,##0\"),\"\")","v":""},{"$f":"IF(P_20号様式!AG21= \"\",\"\",IF(VALUE(FIXED(P_20号様式!AG21,0,TRUE))<>P_20号様式!AG21,RIGHT(FIXED(P_20号様式!AG21,3,FALSE),4),\"\"))","v":""},{"$f":"IF(P_20号様式!AH21<> \"\",TEXT(INT(P_20号様式!AH21),\"#,##0\"),\"\")","v":""},{"$f":"IF(P_20号様式!AH21= \"\",\"\",IF(VALUE(FIXED(P_20号様式!AH21,0,TRUE))<>P_20号様式!AH21,RIGHT(FIXED(P_20号様式!AH21,3,FALSE),4),\"\"))","v":""}]
[{"$f":"IF(P_20号様式!C22=\"\",\"\",P_20号様式!C22)","v":"奄美市"},null,{"$f":"IF(P_20号様式!F22<> \"\",TEXT(INT(P_20号様式!F22),\"#,##0\"),\"\")","v":"6,233"},{"$f":"IF(P_20号様式!F22= \"\",\"\",IF(VALUE(FIXED(P_20号様式!F22,0,TRUE))<>P_20号様式!F22,RIGHT(FIXED(P_20号様式!F22,3,FALSE),4),\"\"))","v":""},{"$f":"IF(P_20号様式!I22<> \"\",TEXT(INT(P_20号様式!I22),\"#,##0\"),\"\")","v":"100"},{"$f":"IF(P_20号様式!I22= \"\",\"\",IF(VALUE(FIXED(P_20号様式!I22,0,TRUE))<>P_20号様式!I22,RIGHT(FIXED(P_20号様式!I22,3,FALSE),4),\"\"))","v":""},{"$f":"IF(P_20号様式!L22<> \"\",TEXT(INT(P_20号様式!L22),\"#,##0\"),\"\")","v":"6,617"},{"$f":"IF(P_20号様式!L22= \"\",\"\",IF(VALUE(FIXED(P_20号様式!L22,0,TRUE))<>P_20号様式!L22,RIGHT(FIXED(P_20号様式!L22,3,FALSE),4),\"\"))","v":""},{"$f":"IF(P_20号様式!O22<> \"\",TEXT(INT(P_20号様式!O22),\"#,##0\"),\"\")","v":"385"},{"$f":"IF(P_20号様式!O22= \"\",\"\",IF(VALUE(FIXED(P_20号様式!O22,0,TRUE))<>P_20号様式!O22,RIGHT(FIXED(P_20号様式!O22,3,FALSE),4),\"\"))","v":""},{"$f":"IF(P_20号様式!R22<> \"\",TEXT(INT(P_20号様式!R22),\"#,##0\"),\"\")","v":"1,774"},{"$f":"IF(P_20号様式!R22= \"\",\"\",IF(VALUE(FIXED(P_20号様式!R22,0,TRUE))<>P_20号様式!R22,RIGHT(FIXED(P_20号様式!R22,3,FALSE),4),\"\"))","v":""},{"$f":"IF(P_20号様式!U22<> \"\",TEXT(INT(P_20号様式!U22),\"#,##0\"),\"\")","v":"2,445"},{"$f":"IF(P_20号様式!U22= \"\",\"\",IF(VALUE(FIXED(P_20号様式!U22,0,TRUE))<>P_20号様式!U22,RIGHT(FIXED(P_20号様式!U22,3,FALSE),4),\"\"))","v":""},{"$f":"IF(P_20号様式!X22<> \"\",TEXT(INT(P_20号様式!X22),\"#,##0\"),\"\")","v":"3,811"},{"$f":"IF(P_20号様式!X22= \"\",\"\",IF(VALUE(FIXED(P_20号様式!X22,0,TRUE))<>P_20号様式!X22,RIGHT(FIXED(P_20号様式!X22,3,FALSE),4),\"\"))","v":""},{"$f":"IF(P_20号様式!AA22<> \"\",TEXT(INT(P_20号様式!AA22),\"#,##0\"),\"\")","v":"778"},{"$f":"IF(P_20号様式!AA22= \"\",\"\",IF(VALUE(FIXED(P_20号様式!AA22,0,TRUE))<>P_20号様式!AA22,RIGHT(FIXED(P_20号様式!AA22,3,FALSE),4),\"\"))","v":""},{"$f":"IF(P_20号様式!AD22<> \"\",TEXT(INT(P_20号様式!AD22),\"#,##0\"),\"\")","v":""},{"$f":"IF(P_20号様式!AD22= \"\",\"\",IF(VALUE(FIXED(P_20号様式!AD22,0,TRUE))<>P_20号様式!AD22,RIGHT(FIXED(P_20号様式!AD22,3,FALSE),4),\"\"))","v":""},{"$f":"IF(P_20号様式!AG22<> \"\",TEXT(INT(P_20号様式!AG22),\"#,##0\"),\"\")","v":""},{"$f":"IF(P_20号様式!AG22= \"\",\"\",IF(VALUE(FIXED(P_20号様式!AG22,0,TRUE))<>P_20号様式!AG22,RIGHT(FIXED(P_20号様式!AG22,3,FALSE),4),\"\"))","v":""},{"$f":"IF(P_20号様式!AH22<> \"\",TEXT(INT(P_20号様式!AH22),\"#,##0\"),\"\")","v":"22,143"},{"$f":"IF(P_20号様式!AH22= \"\",\"\",IF(VALUE(FIXED(P_20号様式!AH22,0,TRUE))<>P_20号様式!AH22,RIGHT(FIXED(P_20号様式!AH22,3,FALSE),4),\"\"))","v":""}]
[{"$f":"IF(P_20号様式!C23=\"\",\"\",P_20号様式!C23)","v":"南九州市"},null,{"$f":"IF(P_20号様式!F23<> \"\",TEXT(INT(P_20号様式!F23),\"#,##0\"),\"\")","v":"8,003"},{"$f":"IF(P_20号様式!F23= \"\",\"\",IF(VALUE(FIXED(P_20号様式!F23,0,TRUE))<>P_20号様式!F23,RIGHT(FIXED(P_20号様式!F23,3,FALSE),4),\"\"))","v":""},{"$f":"IF(P_20号様式!I23<> \"\",TEXT(INT(P_20号様式!I23),\"#,##0\"),\"\")","v":"104"},{"$f":"IF(P_20号様式!I23= \"\",\"\",IF(VALUE(FIXED(P_20号様式!I23,0,TRUE))<>P_20号様式!I23,RIGHT(FIXED(P_20号様式!I23,3,FALSE),4),\"\"))","v":""},{"$f":"IF(P_20号様式!L23<> \"\",TEXT(INT(P_20号様式!L23),\"#,##0\"),\"\")","v":"1,433"},{"$f":"IF(P_20号様式!L23= \"\",\"\",IF(VALUE(FIXED(P_20号様式!L23,0,TRUE))<>P_20号様式!L23,RIGHT(FIXED(P_20号様式!L23,3,FALSE),4),\"\"))","v":""},{"$f":"IF(P_20号様式!O23<> \"\",TEXT(INT(P_20号様式!O23),\"#,##0\"),\"\")","v":"304"},{"$f":"IF(P_20号様式!O23= \"\",\"\",IF(VALUE(FIXED(P_20号様式!O23,0,TRUE))<>P_20号様式!O23,RIGHT(FIXED(P_20号様式!O23,3,FALSE),4),\"\"))","v":""},{"$f":"IF(P_20号様式!R23<> \"\",TEXT(INT(P_20号様式!R23),\"#,##0\"),\"\")","v":"823"},{"$f":"IF(P_20号様式!R23= \"\",\"\",IF(VALUE(FIXED(P_20号様式!R23,0,TRUE))<>P_20号様式!R23,RIGHT(FIXED(P_20号様式!R23,3,FALSE),4),\"\"))","v":""},{"$f":"IF(P_20号様式!U23<> \"\",TEXT(INT(P_20号様式!U23),\"#,##0\"),\"\")","v":"1,967"},{"$f":"IF(P_20号様式!U23= \"\",\"\",IF(VALUE(FIXED(P_20号様式!U23,0,TRUE))<>P_20号様式!U23,RIGHT(FIXED(P_20号様式!U23,3,FALSE),4),\"\"))","v":""},{"$f":"IF(P_20号様式!X23<> \"\",TEXT(INT(P_20号様式!X23),\"#,##0\"),\"\")","v":"3,646"},{"$f":"IF(P_20号様式!X23= \"\",\"\",IF(VALUE(FIXED(P_20号様式!X23,0,TRUE))<>P_20号様式!X23,RIGHT(FIXED(P_20号様式!X23,3,FALSE),4),\"\"))","v":""},{"$f":"IF(P_20号様式!AA23<> \"\",TEXT(INT(P_20号様式!AA23),\"#,##0\"),\"\")","v":"693"},{"$f":"IF(P_20号様式!AA23= \"\",\"\",IF(VALUE(FIXED(P_20号様式!AA23,0,TRUE))<>P_20号様式!AA23,RIGHT(FIXED(P_20号様式!AA23,3,FALSE),4),\"\"))","v":""},{"$f":"IF(P_20号様式!AD23<> \"\",TEXT(INT(P_20号様式!AD23),\"#,##0\"),\"\")","v":""},{"$f":"IF(P_20号様式!AD23= \"\",\"\",IF(VALUE(FIXED(P_20号様式!AD23,0,TRUE))<>P_20号様式!AD23,RIGHT(FIXED(P_20号様式!AD23,3,FALSE),4),\"\"))","v":""},{"$f":"IF(P_20号様式!AG23<> \"\",TEXT(INT(P_20号様式!AG23),\"#,##0\"),\"\")","v":""},{"$f":"IF(P_20号様式!AG23= \"\",\"\",IF(VALUE(FIXED(P_20号様式!AG23,0,TRUE))<>P_20号様式!AG23,RIGHT(FIXED(P_20号様式!AG23,3,FALSE),4),\"\"))","v":""},{"$f":"IF(P_20号様式!AH23<> \"\",TEXT(INT(P_20号様式!AH23),\"#,##0\"),\"\")","v":"16,973"},{"$f":"IF(P_20号様式!AH23= \"\",\"\",IF(VALUE(FIXED(P_20号様式!AH23,0,TRUE))<>P_20号様式!AH23,RIGHT(FIXED(P_20号様式!AH23,3,FALSE),4),\"\"))","v":""}]
[{"$f":"IF(P_20号様式!C24=\"\",\"\",P_20号様式!C24)","v":"伊佐市"},null,{"$f":"IF(P_20号様式!F24<> \"\",TEXT(INT(P_20号様式!F24),\"#,##0\"),\"\")","v":""},{"$f":"IF(P_20号様式!F24= \"\",\"\",IF(VALUE(FIXED(P_20号様式!F24,0,TRUE))<>P_20号様式!F24,RIGHT(FIXED(P_20号様式!F24,3,FALSE),4),\"\"))","v":""},{"$f":"IF(P_20号様式!I24<> \"\",TEXT(INT(P_20号様式!I24),\"#,##0\"),\"\")","v":""},{"$f":"IF(P_20号様式!I24= \"\",\"\",IF(VALUE(FIXED(P_20号様式!I24,0,TRUE))<>P_20号様式!I24,RIGHT(FIXED(P_20号様式!I24,3,FALSE),4),\"\"))","v":""},{"$f":"IF(P_20号様式!L24<> \"\",TEXT(INT(P_20号様式!L24),\"#,##0\"),\"\")","v":""},{"$f":"IF(P_20号様式!L24= \"\",\"\",IF(VALUE(FIXED(P_20号様式!L24,0,TRUE))<>P_20号様式!L24,RIGHT(FIXED(P_20号様式!L24,3,FALSE),4),\"\"))","v":""},{"$f":"IF(P_20号様式!O24<> \"\",TEXT(INT(P_20号様式!O24),\"#,##0\"),\"\")","v":""},{"$f":"IF(P_20号様式!O24= \"\",\"\",IF(VALUE(FIXED(P_20号様式!O24,0,TRUE))<>P_20号様式!O24,RIGHT(FIXED(P_20号様式!O24,3,FALSE),4),\"\"))","v":""},{"$f":"IF(P_20号様式!R24<> \"\",TEXT(INT(P_20号様式!R24),\"#,##0\"),\"\")","v":""},{"$f":"IF(P_20号様式!R24= \"\",\"\",IF(VALUE(FIXED(P_20号様式!R24,0,TRUE))<>P_20号様式!R24,RIGHT(FIXED(P_20号様式!R24,3,FALSE),4),\"\"))","v":""},{"$f":"IF(P_20号様式!U24<> \"\",TEXT(INT(P_20号様式!U24),\"#,##0\"),\"\")","v":""},{"$f":"IF(P_20号様式!U24= \"\",\"\",IF(VALUE(FIXED(P_20号様式!U24,0,TRUE))<>P_20号様式!U24,RIGHT(FIXED(P_20号様式!U24,3,FALSE),4),\"\"))","v":""},{"$f":"IF(P_20号様式!X24<> \"\",TEXT(INT(P_20号様式!X24),\"#,##0\"),\"\")","v":""},{"$f":"IF(P_20号様式!X24= \"\",\"\",IF(VALUE(FIXED(P_20号様式!X24,0,TRUE))<>P_20号様式!X24,RIGHT(FIXED(P_20号様式!X24,3,FALSE),4),\"\"))","v":""},{"$f":"IF(P_20号様式!AA24<> \"\",TEXT(INT(P_20号様式!AA24),\"#,##0\"),\"\")","v":""},{"$f":"IF(P_20号様式!AA24= \"\",\"\",IF(VALUE(FIXED(P_20号様式!AA24,0,TRUE))<>P_20号様式!AA24,RIGHT(FIXED(P_20号様式!AA24,3,FALSE),4),\"\"))","v":""},{"$f":"IF(P_20号様式!AD24<> \"\",TEXT(INT(P_20号様式!AD24),\"#,##0\"),\"\")","v":""},{"$f":"IF(P_20号様式!AD24= \"\",\"\",IF(VALUE(FIXED(P_20号様式!AD24,0,TRUE))<>P_20号様式!AD24,RIGHT(FIXED(P_20号様式!AD24,3,FALSE),4),\"\"))","v":""},{"$f":"IF(P_20号様式!AG24<> \"\",TEXT(INT(P_20号様式!AG24),\"#,##0\"),\"\")","v":""},{"$f":"IF(P_20号様式!AG24= \"\",\"\",IF(VALUE(FIXED(P_20号様式!AG24,0,TRUE))<>P_20号様式!AG24,RIGHT(FIXED(P_20号様式!AG24,3,FALSE),4),\"\"))","v":""},{"$f":"IF(P_20号様式!AH24<> \"\",TEXT(INT(P_20号様式!AH24),\"#,##0\"),\"\")","v":""},{"$f":"IF(P_20号様式!AH24= \"\",\"\",IF(VALUE(FIXED(P_20号様式!AH24,0,TRUE))<>P_20号様式!AH24,RIGHT(FIXED(P_20号様式!AH24,3,FALSE),4),\"\"))","v":""}]
[{"$f":"IF(P_20号様式!C25=\"\",\"\",P_20号様式!C25)","v":"姶良市"},null,{"$f":"IF(P_20号様式!F25<> \"\",TEXT(INT(P_20号様式!F25),\"#,##0\"),\"\")","v":"12,189"},{"$f":"IF(P_20号様式!F25= \"\",\"\",IF(VALUE(FIXED(P_20号様式!F25,0,TRUE))<>P_20号様式!F25,RIGHT(FIXED(P_20号様式!F25,3,FALSE),4),\"\"))","v":""},{"$f":"IF(P_20号様式!I25<> \"\",TEXT(INT(P_20号様式!I25),\"#,##0\"),\"\")","v":"187"},{"$f":"IF(P_20号様式!I25= \"\",\"\",IF(VALUE(FIXED(P_20号様式!I25,0,TRUE))<>P_20号様式!I25,RIGHT(FIXED(P_20号様式!I25,3,FALSE),4),\"\"))","v":""},{"$f":"IF(P_20号様式!L25<> \"\",TEXT(INT(P_20号様式!L25),\"#,##0\"),\"\")","v":"3,907"},{"$f":"IF(P_20号様式!L25= \"\",\"\",IF(VALUE(FIXED(P_20号様式!L25,0,TRUE))<>P_20号様式!L25,RIGHT(FIXED(P_20号様式!L25,3,FALSE),4),\"\"))","v":""},{"$f":"IF(P_20号様式!O25<> \"\",TEXT(INT(P_20号様式!O25),\"#,##0\"),\"\")","v":"1,407"},{"$f":"IF(P_20号様式!O25= \"\",\"\",IF(VALUE(FIXED(P_20号様式!O25,0,TRUE))<>P_20号様式!O25,RIGHT(FIXED(P_20号様式!O25,3,FALSE),4),\"\"))","v":""},{"$f":"IF(P_20号様式!R25<> \"\",TEXT(INT(P_20号様式!R25),\"#,##0\"),\"\")","v":"1,564"},{"$f":"IF(P_20号様式!R25= \"\",\"\",IF(VALUE(FIXED(P_20号様式!R25,0,TRUE))<>P_20号様式!R25,RIGHT(FIXED(P_20号様式!R25,3,FALSE),4),\"\"))","v":""},{"$f":"IF(P_20号様式!U25<> \"\",TEXT(INT(P_20号様式!U25),\"#,##0\"),\"\")","v":"6,166"},{"$f":"IF(P_20号様式!U25= \"\",\"\",IF(VALUE(FIXED(P_20号様式!U25,0,TRUE))<>P_20号様式!U25,RIGHT(FIXED(P_20号様式!U25,3,FALSE),4),\"\"))","v":""},{"$f":"IF(P_20号様式!X25<> \"\",TEXT(INT(P_20号様式!X25),\"#,##0\"),\"\")","v":"8,833"},{"$f":"IF(P_20号様式!X25= \"\",\"\",IF(VALUE(FIXED(P_20号様式!X25,0,TRUE))<>P_20号様式!X25,RIGHT(FIXED(P_20号様式!X25,3,FALSE),4),\"\"))","v":""},{"$f":"IF(P_20号様式!AA25<> \"\",TEXT(INT(P_20号様式!AA25),\"#,##0\"),\"\")","v":"1,925"},{"$f":"IF(P_20号様式!AA25= \"\",\"\",IF(VALUE(FIXED(P_20号様式!AA25,0,TRUE))<>P_20号様式!AA25,RIGHT(FIXED(P_20号様式!AA25,3,FALSE),4),\"\"))","v":""},{"$f":"IF(P_20号様式!AD25<> \"\",TEXT(INT(P_20号様式!AD25),\"#,##0\"),\"\")","v":""},{"$f":"IF(P_20号様式!AD25= \"\",\"\",IF(VALUE(FIXED(P_20号様式!AD25,0,TRUE))<>P_20号様式!AD25,RIGHT(FIXED(P_20号様式!AD25,3,FALSE),4),\"\"))","v":""},{"$f":"IF(P_20号様式!AG25<> \"\",TEXT(INT(P_20号様式!AG25),\"#,##0\"),\"\")","v":""},{"$f":"IF(P_20号様式!AG25= \"\",\"\",IF(VALUE(FIXED(P_20号様式!AG25,0,TRUE))<>P_20号様式!AG25,RIGHT(FIXED(P_20号様式!AG25,3,FALSE),4),\"\"))","v":""},{"$f":"IF(P_20号様式!AH25<> \"\",TEXT(INT(P_20号様式!AH25),\"#,##0\"),\"\")","v":"36,178"},{"$f":"IF(P_20号様式!AH25= \"\",\"\",IF(VALUE(FIXED(P_20号様式!AH25,0,TRUE))<>P_20号様式!AH25,RIGHT(FIXED(P_20号様式!AH25,3,FALSE),4),\"\"))","v":""}]
[{"$f":"IF(P_20号様式!C26=\"\",\"\",P_20号様式!C26)","v":"三島村"},null,{"$f":"IF(P_20号様式!F26<> \"\",TEXT(INT(P_20号様式!F26),\"#,##0\"),\"\")","v":"78"},{"$f":"IF(P_20号様式!F26= \"\",\"\",IF(VALUE(FIXED(P_20号様式!F26,0,TRUE))<>P_20号様式!F26,RIGHT(FIXED(P_20号様式!F26,3,FALSE),4),\"\"))","v":""},{"$f":"IF(P_20号様式!I26<> \"\",TEXT(INT(P_20号様式!I26),\"#,##0\"),\"\")","v":"1"},{"$f":"IF(P_20号様式!I26= \"\",\"\",IF(VALUE(FIXED(P_20号様式!I26,0,TRUE))<>P_20号様式!I26,RIGHT(FIXED(P_20号様式!I26,3,FALSE),4),\"\"))","v":""},{"$f":"IF(P_20号様式!L26<> \"\",TEXT(INT(P_20号様式!L26),\"#,##0\"),\"\")","v":"58"},{"$f":"IF(P_20号様式!L26= \"\",\"\",IF(VALUE(FIXED(P_20号様式!L26,0,TRUE))<>P_20号様式!L26,RIGHT(FIXED(P_20号様式!L26,3,FALSE),4),\"\"))","v":""},{"$f":"IF(P_20号様式!O26<> \"\",TEXT(INT(P_20号様式!O26),\"#,##0\"),\"\")","v":"4"},{"$f":"IF(P_20号様式!O26= \"\",\"\",IF(VALUE(FIXED(P_20号様式!O26,0,TRUE))<>P_20号様式!O26,RIGHT(FIXED(P_20号様式!O26,3,FALSE),4),\"\"))","v":""},{"$f":"IF(P_20号様式!R26<> \"\",TEXT(INT(P_20号様式!R26),\"#,##0\"),\"\")","v":"9"},{"$f":"IF(P_20号様式!R26= \"\",\"\",IF(VALUE(FIXED(P_20号様式!R26,0,TRUE))<>P_20号様式!R26,RIGHT(FIXED(P_20号様式!R26,3,FALSE),4),\"\"))","v":""},{"$f":"IF(P_20号様式!U26<> \"\",TEXT(INT(P_20号様式!U26),\"#,##0\"),\"\")","v":"36"},{"$f":"IF(P_20号様式!U26= \"\",\"\",IF(VALUE(FIXED(P_20号様式!U26,0,TRUE))<>P_20号様式!U26,RIGHT(FIXED(P_20号様式!U26,3,FALSE),4),\"\"))","v":""},{"$f":"IF(P_20号様式!X26<> \"\",TEXT(INT(P_20号様式!X26),\"#,##0\"),\"\")","v":"37"},{"$f":"IF(P_20号様式!X26= \"\",\"\",IF(VALUE(FIXED(P_20号様式!X26,0,TRUE))<>P_20号様式!X26,RIGHT(FIXED(P_20号様式!X26,3,FALSE),4),\"\"))","v":""},{"$f":"IF(P_20号様式!AA26<> \"\",TEXT(INT(P_20号様式!AA26),\"#,##0\"),\"\")","v":"11"},{"$f":"IF(P_20号様式!AA26= \"\",\"\",IF(VALUE(FIXED(P_20号様式!AA26,0,TRUE))<>P_20号様式!AA26,RIGHT(FIXED(P_20号様式!AA26,3,FALSE),4),\"\"))","v":""},{"$f":"IF(P_20号様式!AD26<> \"\",TEXT(INT(P_20号様式!AD26),\"#,##0\"),\"\")","v":""},{"$f":"IF(P_20号様式!AD26= \"\",\"\",IF(VALUE(FIXED(P_20号様式!AD26,0,TRUE))<>P_20号様式!AD26,RIGHT(FIXED(P_20号様式!AD26,3,FALSE),4),\"\"))","v":""},{"$f":"IF(P_20号様式!AG26<> \"\",TEXT(INT(P_20号様式!AG26),\"#,##0\"),\"\")","v":""},{"$f":"IF(P_20号様式!AG26= \"\",\"\",IF(VALUE(FIXED(P_20号様式!AG26,0,TRUE))<>P_20号様式!AG26,RIGHT(FIXED(P_20号様式!AG26,3,FALSE),4),\"\"))","v":""},{"$f":"IF(P_20号様式!AH26<> \"\",TEXT(INT(P_20号様式!AH26),\"#,##0\"),\"\")","v":"234"},{"$f":"IF(P_20号様式!AH26= \"\",\"\",IF(VALUE(FIXED(P_20号様式!AH26,0,TRUE))<>P_20号様式!AH26,RIGHT(FIXED(P_20号様式!AH26,3,FALSE),4),\"\"))","v":""}]
[{"$f":"IF(P_20号様式!C27=\"\",\"\",P_20号様式!C27)","v":"十島村"},null,{"$f":"IF(P_20号様式!F27<> \"\",TEXT(INT(P_20号様式!F27),\"#,##0\"),\"\")","v":"154"},{"$f":"IF(P_20号様式!F27= \"\",\"\",IF(VALUE(FIXED(P_20号様式!F27,0,TRUE))<>P_20号様式!F27,RIGHT(FIXED(P_20号様式!F27,3,FALSE),4),\"\"))","v":""},{"$f":"IF(P_20号様式!I27<> \"\",TEXT(INT(P_20号様式!I27),\"#,##0\"),\"\")","v":"6"},{"$f":"IF(P_20号様式!I27= \"\",\"\",IF(VALUE(FIXED(P_20号様式!I27,0,TRUE))<>P_20号様式!I27,RIGHT(FIXED(P_20号様式!I27,3,FALSE),4),\"\"))","v":""},{"$f":"IF(P_20号様式!L27<> \"\",TEXT(INT(P_20号様式!L27),\"#,##0\"),\"\")","v":"112"},{"$f":"IF(P_20号様式!L27= \"\",\"\",IF(VALUE(FIXED(P_20号様式!L27,0,TRUE))<>P_20号様式!L27,RIGHT(FIXED(P_20号様式!L27,3,FALSE),4),\"\"))","v":""},{"$f":"IF(P_20号様式!O27<> \"\",TEXT(INT(P_20号様式!O27),\"#,##0\"),\"\")","v":"5"},{"$f":"IF(P_20号様式!O27= \"\",\"\",IF(VALUE(FIXED(P_20号様式!O27,0,TRUE))<>P_20号様式!O27,RIGHT(FIXED(P_20号様式!O27,3,FALSE),4),\"\"))","v":""},{"$f":"IF(P_20号様式!R27<> \"\",TEXT(INT(P_20号様式!R27),\"#,##0\"),\"\")","v":"14"},{"$f":"IF(P_20号様式!R27= \"\",\"\",IF(VALUE(FIXED(P_20号様式!R27,0,TRUE))<>P_20号様式!R27,RIGHT(FIXED(P_20号様式!R27,3,FALSE),4),\"\"))","v":""},{"$f":"IF(P_20号様式!U27<> \"\",TEXT(INT(P_20号様式!U27),\"#,##0\"),\"\")","v":"67"},{"$f":"IF(P_20号様式!U27= \"\",\"\",IF(VALUE(FIXED(P_20号様式!U27,0,TRUE))<>P_20号様式!U27,RIGHT(FIXED(P_20号様式!U27,3,FALSE),4),\"\"))","v":""},{"$f":"IF(P_20号様式!X27<> \"\",TEXT(INT(P_20号様式!X27),\"#,##0\"),\"\")","v":"67"},{"$f":"IF(P_20号様式!X27= \"\",\"\",IF(VALUE(FIXED(P_20号様式!X27,0,TRUE))<>P_20号様式!X27,RIGHT(FIXED(P_20号様式!X27,3,FALSE),4),\"\"))","v":""},{"$f":"IF(P_20号様式!AA27<> \"\",TEXT(INT(P_20号様式!AA27),\"#,##0\"),\"\")","v":"27"},{"$f":"IF(P_20号様式!AA27= \"\",\"\",IF(VALUE(FIXED(P_20号様式!AA27,0,TRUE))<>P_20号様式!AA27,RIGHT(FIXED(P_20号様式!AA27,3,FALSE),4),\"\"))","v":""},{"$f":"IF(P_20号様式!AD27<> \"\",TEXT(INT(P_20号様式!AD27),\"#,##0\"),\"\")","v":""},{"$f":"IF(P_20号様式!AD27= \"\",\"\",IF(VALUE(FIXED(P_20号様式!AD27,0,TRUE))<>P_20号様式!AD27,RIGHT(FIXED(P_20号様式!AD27,3,FALSE),4),\"\"))","v":""},{"$f":"IF(P_20号様式!AG27<> \"\",TEXT(INT(P_20号様式!AG27),\"#,##0\"),\"\")","v":""},{"$f":"IF(P_20号様式!AG27= \"\",\"\",IF(VALUE(FIXED(P_20号様式!AG27,0,TRUE))<>P_20号様式!AG27,RIGHT(FIXED(P_20号様式!AG27,3,FALSE),4),\"\"))","v":""},{"$f":"IF(P_20号様式!AH27<> \"\",TEXT(INT(P_20号様式!AH27),\"#,##0\"),\"\")","v":"452"},{"$f":"IF(P_20号様式!AH27= \"\",\"\",IF(VALUE(FIXED(P_20号様式!AH27,0,TRUE))<>P_20号様式!AH27,RIGHT(FIXED(P_20号様式!AH27,3,FALSE),4),\"\"))","v":""}]
[{"$f":"IF(P_20号様式!C28=\"\",\"\",P_20号様式!C28)","v":"＊（鹿児島郡）計"},null,{"$f":"IF(P_20号様式!F28<> \"\",TEXT(INT(P_20号様式!F28),\"#,##0\"),\"\")","v":"232"},{"$f":"IF(P_20号様式!F28= \"\",\"\",IF(VALUE(FIXED(P_20号様式!F28,0,TRUE))<>P_20号様式!F28,RIGHT(FIXED(P_20号様式!F28,3,FALSE),4),\"\"))","v":""},{"$f":"IF(P_20号様式!I28<> \"\",TEXT(INT(P_20号様式!I28),\"#,##0\"),\"\")","v":"7"},{"$f":"IF(P_20号様式!I28= \"\",\"\",IF(VALUE(FIXED(P_20号様式!I28,0,TRUE))<>P_20号様式!I28,RIGHT(FIXED(P_20号様式!I28,3,FALSE),4),\"\"))","v":""},{"$f":"IF(P_20号様式!L28<> \"\",TEXT(INT(P_20号様式!L28),\"#,##0\"),\"\")","v":"170"},{"$f":"IF(P_20号様式!L28= \"\",\"\",IF(VALUE(FIXED(P_20号様式!L28,0,TRUE))<>P_20号様式!L28,RIGHT(FIXED(P_20号様式!L28,3,FALSE),4),\"\"))","v":""},{"$f":"IF(P_20号様式!O28<> \"\",TEXT(INT(P_20号様式!O28),\"#,##0\"),\"\")","v":"9"},{"$f":"IF(P_20号様式!O28= \"\",\"\",IF(VALUE(FIXED(P_20号様式!O28,0,TRUE))<>P_20号様式!O28,RIGHT(FIXED(P_20号様式!O28,3,FALSE),4),\"\"))","v":""},{"$f":"IF(P_20号様式!R28<> \"\",TEXT(INT(P_20号様式!R28),\"#,##0\"),\"\")","v":"23"},{"$f":"IF(P_20号様式!R28= \"\",\"\",IF(VALUE(FIXED(P_20号様式!R28,0,TRUE))<>P_20号様式!R28,RIGHT(FIXED(P_20号様式!R28,3,FALSE),4),\"\"))","v":""},{"$f":"IF(P_20号様式!U28<> \"\",TEXT(INT(P_20号様式!U28),\"#,##0\"),\"\")","v":"103"},{"$f":"IF(P_20号様式!U28= \"\",\"\",IF(VALUE(FIXED(P_20号様式!U28,0,TRUE))<>P_20号様式!U28,RIGHT(FIXED(P_20号様式!U28,3,FALSE),4),\"\"))","v":""},{"$f":"IF(P_20号様式!X28<> \"\",TEXT(INT(P_20号様式!X28),\"#,##0\"),\"\")","v":"104"},{"$f":"IF(P_20号様式!X28= \"\",\"\",IF(VALUE(FIXED(P_20号様式!X28,0,TRUE))<>P_20号様式!X28,RIGHT(FIXED(P_20号様式!X28,3,FALSE),4),\"\"))","v":""},{"$f":"IF(P_20号様式!AA28<> \"\",TEXT(INT(P_20号様式!AA28),\"#,##0\"),\"\")","v":"38"},{"$f":"IF(P_20号様式!AA28= \"\",\"\",IF(VALUE(FIXED(P_20号様式!AA28,0,TRUE))<>P_20号様式!AA28,RIGHT(FIXED(P_20号様式!AA28,3,FALSE),4),\"\"))","v":""},{"$f":"IF(P_20号様式!AD28<> \"\",TEXT(INT(P_20号様式!AD28),\"#,##0\"),\"\")","v":""},{"$f":"IF(P_20号様式!AD28= \"\",\"\",IF(VALUE(FIXED(P_20号様式!AD28,0,TRUE))<>P_20号様式!AD28,RIGHT(FIXED(P_20号様式!AD28,3,FALSE),4),\"\"))","v":""},{"$f":"IF(P_20号様式!AG28<> \"\",TEXT(INT(P_20号様式!AG28),\"#,##0\"),\"\")","v":""},{"$f":"IF(P_20号様式!AG28= \"\",\"\",IF(VALUE(FIXED(P_20号様式!AG28,0,TRUE))<>P_20号様式!AG28,RIGHT(FIXED(P_20号様式!AG28,3,FALSE),4),\"\"))","v":""},{"$f":"IF(P_20号様式!AH28<> \"\",TEXT(INT(P_20号様式!AH28),\"#,##0\"),\"\")","v":"686"},{"$f":"IF(P_20号様式!AH28= \"\",\"\",IF(VALUE(FIXED(P_20号様式!AH28,0,TRUE))<>P_20号様式!AH28,RIGHT(FIXED(P_20号様式!AH28,3,FALSE),4),\"\"))","v":""}]
[{"$f":"IF(P_20号様式!C29=\"\",\"\",P_20号様式!C29)","v":"さつま町"},null,{"$f":"IF(P_20号様式!F29<> \"\",TEXT(INT(P_20号様式!F29),\"#,##0\"),\"\")","v":"5,148"},{"$f":"IF(P_20号様式!F29= \"\",\"\",IF(VALUE(FIXED(P_20号様式!F29,0,TRUE))<>P_20号様式!F29,RIGHT(FIXED(P_20号様式!F29,3,FALSE),4),\"\"))","v":""},{"$f":"IF(P_20号様式!I29<> \"\",TEXT(INT(P_20号様式!I29),\"#,##0\"),\"\")","v":"87"},{"$f":"IF(P_20号様式!I29= \"\",\"\",IF(VALUE(FIXED(P_20号様式!I29,0,TRUE))<>P_20号様式!I29,RIGHT(FIXED(P_20号様式!I29,3,FALSE),4),\"\"))","v":""},{"$f":"IF(P_20号様式!L29<> \"\",TEXT(INT(P_20号様式!L29),\"#,##0\"),\"\")","v":"1,358"},{"$f":"IF(P_20号様式!L29= \"\",\"\",IF(VALUE(FIXED(P_20号様式!L29,0,TRUE))<>P_20号様式!L29,RIGHT(FIXED(P_20号様式!L29,3,FALSE),4),\"\"))","v":""},{"$f":"IF(P_20号様式!O29<> \"\",TEXT(INT(P_20号様式!O29),\"#,##0\"),\"\")","v":"204"},{"$f":"IF(P_20号様式!O29= \"\",\"\",IF(VALUE(FIXED(P_20号様式!O29,0,TRUE))<>P_20号様式!O29,RIGHT(FIXED(P_20号様式!O29,3,FALSE),4),\"\"))","v":""},{"$f":"IF(P_20号様式!R29<> \"\",TEXT(INT(P_20号様式!R29),\"#,##0\"),\"\")","v":"327"},{"$f":"IF(P_20号様式!R29= \"\",\"\",IF(VALUE(FIXED(P_20号様式!R29,0,TRUE))<>P_20号様式!R29,RIGHT(FIXED(P_20号様式!R29,3,FALSE),4),\"\"))","v":""},{"$f":"IF(P_20号様式!U29<> \"\",TEXT(INT(P_20号様式!U29),\"#,##0\"),\"\")","v":"1,071"},{"$f":"IF(P_20号様式!U29= \"\",\"\",IF(VALUE(FIXED(P_20号様式!U29,0,TRUE))<>P_20号様式!U29,RIGHT(FIXED(P_20号様式!U29,3,FALSE),4),\"\"))","v":""},{"$f":"IF(P_20号様式!X29<> \"\",TEXT(INT(P_20号様式!X29),\"#,##0\"),\"\")","v":"3,498"},{"$f":"IF(P_20号様式!X29= \"\",\"\",IF(VALUE(FIXED(P_20号様式!X29,0,TRUE))<>P_20号様式!X29,RIGHT(FIXED(P_20号様式!X29,3,FALSE),4),\"\"))","v":""},{"$f":"IF(P_20号様式!AA29<> \"\",TEXT(INT(P_20号様式!AA29),\"#,##0\"),\"\")","v":"373"},{"$f":"IF(P_20号様式!AA29= \"\",\"\",IF(VALUE(FIXED(P_20号様式!AA29,0,TRUE))<>P_20号様式!AA29,RIGHT(FIXED(P_20号様式!AA29,3,FALSE),4),\"\"))","v":""},{"$f":"IF(P_20号様式!AD29<> \"\",TEXT(INT(P_20号様式!AD29),\"#,##0\"),\"\")","v":""},{"$f":"IF(P_20号様式!AD29= \"\",\"\",IF(VALUE(FIXED(P_20号様式!AD29,0,TRUE))<>P_20号様式!AD29,RIGHT(FIXED(P_20号様式!AD29,3,FALSE),4),\"\"))","v":""},{"$f":"IF(P_20号様式!AG29<> \"\",TEXT(INT(P_20号様式!AG29),\"#,##0\"),\"\")","v":""},{"$f":"IF(P_20号様式!AG29= \"\",\"\",IF(VALUE(FIXED(P_20号様式!AG29,0,TRUE))<>P_20号様式!AG29,RIGHT(FIXED(P_20号様式!AG29,3,FALSE),4),\"\"))","v":""},{"$f":"IF(P_20号様式!AH29<> \"\",TEXT(INT(P_20号様式!AH29),\"#,##0\"),\"\")","v":"12,066"},{"$f":"IF(P_20号様式!AH29= \"\",\"\",IF(VALUE(FIXED(P_20号様式!AH29,0,TRUE))<>P_20号様式!AH29,RIGHT(FIXED(P_20号様式!AH29,3,FALSE),4),\"\"))","v":""}]
[{"$f":"IF(P_20号様式!C30=\"\",\"\",P_20号様式!C30)","v":"＊（薩摩郡）計"},null,{"$f":"IF(P_20号様式!F30<> \"\",TEXT(INT(P_20号様式!F30),\"#,##0\"),\"\")","v":"5,148"},{"$f":"IF(P_20号様式!F30= \"\",\"\",IF(VALUE(FIXED(P_20号様式!F30,0,TRUE))<>P_20号様式!F30,RIGHT(FIXED(P_20号様式!F30,3,FALSE),4),\"\"))","v":""},{"$f":"IF(P_20号様式!I30<> \"\",TEXT(INT(P_20号様式!I30),\"#,##0\"),\"\")","v":"87"},{"$f":"IF(P_20号様式!I30= \"\",\"\",IF(VALUE(FIXED(P_20号様式!I30,0,TRUE))<>P_20号様式!I30,RIGHT(FIXED(P_20号様式!I30,3,FALSE),4),\"\"))","v":""},{"$f":"IF(P_20号様式!L30<> \"\",TEXT(INT(P_20号様式!L30),\"#,##0\"),\"\")","v":"1,358"},{"$f":"IF(P_20号様式!L30= \"\",\"\",IF(VALUE(FIXED(P_20号様式!L30,0,TRUE))<>P_20号様式!L30,RIGHT(FIXED(P_20号様式!L30,3,FALSE),4),\"\"))","v":""},{"$f":"IF(P_20号様式!O30<> \"\",TEXT(INT(P_20号様式!O30),\"#,##0\"),\"\")","v":"204"},{"$f":"IF(P_20号様式!O30= \"\",\"\",IF(VALUE(FIXED(P_20号様式!O30,0,TRUE))<>P_20号様式!O30,RIGHT(FIXED(P_20号様式!O30,3,FALSE),4),\"\"))","v":""},{"$f":"IF(P_20号様式!R30<> \"\",TEXT(INT(P_20号様式!R30),\"#,##0\"),\"\")","v":"327"},{"$f":"IF(P_20号様式!R30= \"\",\"\",IF(VALUE(FIXED(P_20号様式!R30,0,TRUE))<>P_20号様式!R30,RIGHT(FIXED(P_20号様式!R30,3,FALSE),4),\"\"))","v":""},{"$f":"IF(P_20号様式!U30<> \"\",TEXT(INT(P_20号様式!U30),\"#,##0\"),\"\")","v":"1,071"},{"$f":"IF(P_20号様式!U30= \"\",\"\",IF(VALUE(FIXED(P_20号様式!U30,0,TRUE))<>P_20号様式!U30,RIGHT(FIXED(P_20号様式!U30,3,FALSE),4),\"\"))","v":""},{"$f":"IF(P_20号様式!X30<> \"\",TEXT(INT(P_20号様式!X30),\"#,##0\"),\"\")","v":"3,498"},{"$f":"IF(P_20号様式!X30= \"\",\"\",IF(VALUE(FIXED(P_20号様式!X30,0,TRUE))<>P_20号様式!X30,RIGHT(FIXED(P_20号様式!X30,3,FALSE),4),\"\"))","v":""},{"$f":"IF(P_20号様式!AA30<> \"\",TEXT(INT(P_20号様式!AA30),\"#,##0\"),\"\")","v":"373"},{"$f":"IF(P_20号様式!AA30= \"\",\"\",IF(VALUE(FIXED(P_20号様式!AA30,0,TRUE))<>P_20号様式!AA30,RIGHT(FIXED(P_20号様式!AA30,3,FALSE),4),\"\"))","v":""},{"$f":"IF(P_20号様式!AD30<> \"\",TEXT(INT(P_20号様式!AD30),\"#,##0\"),\"\")","v":""},{"$f":"IF(P_20号様式!AD30= \"\",\"\",IF(VALUE(FIXED(P_20号様式!AD30,0,TRUE))<>P_20号様式!AD30,RIGHT(FIXED(P_20号様式!AD30,3,FALSE),4),\"\"))","v":""},{"$f":"IF(P_20号様式!AG30<> \"\",TEXT(INT(P_20号様式!AG30),\"#,##0\"),\"\")","v":""},{"$f":"IF(P_20号様式!AG30= \"\",\"\",IF(VALUE(FIXED(P_20号様式!AG30,0,TRUE))<>P_20号様式!AG30,RIGHT(FIXED(P_20号様式!AG30,3,FALSE),4),\"\"))","v":""},{"$f":"IF(P_20号様式!AH30<> \"\",TEXT(INT(P_20号様式!AH30),\"#,##0\"),\"\")","v":"12,066"},{"$f":"IF(P_20号様式!AH30= \"\",\"\",IF(VALUE(FIXED(P_20号様式!AH30,0,TRUE))<>P_20号様式!AH30,RIGHT(FIXED(P_20号様式!AH30,3,FALSE),4),\"\"))","v":""}]
[{"$f":"IF(P_20号様式!C31=\"\",\"\",P_20号様式!C31)","v":"長島町"},null,{"$f":"IF(P_20号様式!F31<> \"\",TEXT(INT(P_20号様式!F31),\"#,##0\"),\"\")","v":"2,930"},{"$f":"IF(P_20号様式!F31= \"\",\"\",IF(VALUE(FIXED(P_20号様式!F31,0,TRUE))<>P_20号様式!F31,RIGHT(FIXED(P_20号様式!F31,3,FALSE),4),\"\"))","v":""},{"$f":"IF(P_20号様式!I31<> \"\",TEXT(INT(P_20号様式!I31),\"#,##0\"),\"\")","v":"37"},{"$f":"IF(P_20号様式!I31= \"\",\"\",IF(VALUE(FIXED(P_20号様式!I31,0,TRUE))<>P_20号様式!I31,RIGHT(FIXED(P_20号様式!I31,3,FALSE),4),\"\"))","v":""},{"$f":"IF(P_20号様式!L31<> \"\",TEXT(INT(P_20号様式!L31),\"#,##0\"),\"\")","v":"1,223"},{"$f":"IF(P_20号様式!L31= \"\",\"\",IF(VALUE(FIXED(P_20号様式!L31,0,TRUE))<>P_20号様式!L31,RIGHT(FIXED(P_20号様式!L31,3,FALSE),4),\"\"))","v":""},{"$f":"IF(P_20号様式!O31<> \"\",TEXT(INT(P_20号様式!O31),\"#,##0\"),\"\")","v":"91"},{"$f":"IF(P_20号様式!O31= \"\",\"\",IF(VALUE(FIXED(P_20号様式!O31,0,TRUE))<>P_20号様式!O31,RIGHT(FIXED(P_20号様式!O31,3,FALSE),4),\"\"))","v":""},{"$f":"IF(P_20号様式!R31<> \"\",TEXT(INT(P_20号様式!R31),\"#,##0\"),\"\")","v":"248"},{"$f":"IF(P_20号様式!R31= \"\",\"\",IF(VALUE(FIXED(P_20号様式!R31,0,TRUE))<>P_20号様式!R31,RIGHT(FIXED(P_20号様式!R31,3,FALSE),4),\"\"))","v":""},{"$f":"IF(P_20号様式!U31<> \"\",TEXT(INT(P_20号様式!U31),\"#,##0\"),\"\")","v":"489"},{"$f":"IF(P_20号様式!U31= \"\",\"\",IF(VALUE(FIXED(P_20号様式!U31,0,TRUE))<>P_20号様式!U31,RIGHT(FIXED(P_20号様式!U31,3,FALSE),4),\"\"))","v":""},{"$f":"IF(P_20号様式!X31<> \"\",TEXT(INT(P_20号様式!X31),\"#,##0\"),\"\")","v":"1,176"},{"$f":"IF(P_20号様式!X31= \"\",\"\",IF(VALUE(FIXED(P_20号様式!X31,0,TRUE))<>P_20号様式!X31,RIGHT(FIXED(P_20号様式!X31,3,FALSE),4),\"\"))","v":""},{"$f":"IF(P_20号様式!AA31<> \"\",TEXT(INT(P_20号様式!AA31),\"#,##0\"),\"\")","v":"153"},{"$f":"IF(P_20号様式!AA31= \"\",\"\",IF(VALUE(FIXED(P_20号様式!AA31,0,TRUE))<>P_20号様式!AA31,RIGHT(FIXED(P_20号様式!AA31,3,FALSE),4),\"\"))","v":""},{"$f":"IF(P_20号様式!AD31<> \"\",TEXT(INT(P_20号様式!AD31),\"#,##0\"),\"\")","v":""},{"$f":"IF(P_20号様式!AD31= \"\",\"\",IF(VALUE(FIXED(P_20号様式!AD31,0,TRUE))<>P_20号様式!AD31,RIGHT(FIXED(P_20号様式!AD31,3,FALSE),4),\"\"))","v":""},{"$f":"IF(P_20号様式!AG31<> \"\",TEXT(INT(P_20号様式!AG31),\"#,##0\"),\"\")","v":""},{"$f":"IF(P_20号様式!AG31= \"\",\"\",IF(VALUE(FIXED(P_20号様式!AG31,0,TRUE))<>P_20号様式!AG31,RIGHT(FIXED(P_20号様式!AG31,3,FALSE),4),\"\"))","v":""},{"$f":"IF(P_20号様式!AH31<> \"\",TEXT(INT(P_20号様式!AH31),\"#,##0\"),\"\")","v":"6,347"},{"$f":"IF(P_20号様式!AH31= \"\",\"\",IF(VALUE(FIXED(P_20号様式!AH31,0,TRUE))<>P_20号様式!AH31,RIGHT(FIXED(P_20号様式!AH31,3,FALSE),4),\"\"))","v":""}]
[{"$f":"IF(P_20号様式!C32=\"\",\"\",P_20号様式!C32)","v":"＊（出水郡）計"},null,{"$f":"IF(P_20号様式!F32<> \"\",TEXT(INT(P_20号様式!F32),\"#,##0\"),\"\")","v":"2,930"},{"$f":"IF(P_20号様式!F32= \"\",\"\",IF(VALUE(FIXED(P_20号様式!F32,0,TRUE))<>P_20号様式!F32,RIGHT(FIXED(P_20号様式!F32,3,FALSE),4),\"\"))","v":""},{"$f":"IF(P_20号様式!I32<> \"\",TEXT(INT(P_20号様式!I32),\"#,##0\"),\"\")","v":"37"},{"$f":"IF(P_20号様式!I32= \"\",\"\",IF(VALUE(FIXED(P_20号様式!I32,0,TRUE))<>P_20号様式!I32,RIGHT(FIXED(P_20号様式!I32,3,FALSE),4),\"\"))","v":""},{"$f":"IF(P_20号様式!L32<> \"\",TEXT(INT(P_20号様式!L32),\"#,##0\"),\"\")","v":"1,223"},{"$f":"IF(P_20号様式!L32= \"\",\"\",IF(VALUE(FIXED(P_20号様式!L32,0,TRUE))<>P_20号様式!L32,RIGHT(FIXED(P_20号様式!L32,3,FALSE),4),\"\"))","v":""},{"$f":"IF(P_20号様式!O32<> \"\",TEXT(INT(P_20号様式!O32),\"#,##0\"),\"\")","v":"91"},{"$f":"IF(P_20号様式!O32= \"\",\"\",IF(VALUE(FIXED(P_20号様式!O32,0,TRUE))<>P_20号様式!O32,RIGHT(FIXED(P_20号様式!O32,3,FALSE),4),\"\"))","v":""},{"$f":"IF(P_20号様式!R32<> \"\",TEXT(INT(P_20号様式!R32),\"#,##0\"),\"\")","v":"248"},{"$f":"IF(P_20号様式!R32= \"\",\"\",IF(VALUE(FIXED(P_20号様式!R32,0,TRUE))<>P_20号様式!R32,RIGHT(FIXED(P_20号様式!R32,3,FALSE),4),\"\"))","v":""},{"$f":"IF(P_20号様式!U32<> \"\",TEXT(INT(P_20号様式!U32),\"#,##0\"),\"\")","v":"489"},{"$f":"IF(P_20号様式!U32= \"\",\"\",IF(VALUE(FIXED(P_20号様式!U32,0,TRUE))<>P_20号様式!U32,RIGHT(FIXED(P_20号様式!U32,3,FALSE),4),\"\"))","v":""},{"$f":"IF(P_20号様式!X32<> \"\",TEXT(INT(P_20号様式!X32),\"#,##0\"),\"\")","v":"1,176"},{"$f":"IF(P_20号様式!X32= \"\",\"\",IF(VALUE(FIXED(P_20号様式!X32,0,TRUE))<>P_20号様式!X32,RIGHT(FIXED(P_20号様式!X32,3,FALSE),4),\"\"))","v":""},{"$f":"IF(P_20号様式!AA32<> \"\",TEXT(INT(P_20号様式!AA32),\"#,##0\"),\"\")","v":"153"},{"$f":"IF(P_20号様式!AA32= \"\",\"\",IF(VALUE(FIXED(P_20号様式!AA32,0,TRUE))<>P_20号様式!AA32,RIGHT(FIXED(P_20号様式!AA32,3,FALSE),4),\"\"))","v":""},{"$f":"IF(P_20号様式!AD32<> \"\",TEXT(INT(P_20号様式!AD32),\"#,##0\"),\"\")","v":""},{"$f":"IF(P_20号様式!AD32= \"\",\"\",IF(VALUE(FIXED(P_20号様式!AD32,0,TRUE))<>P_20号様式!AD32,RIGHT(FIXED(P_20号様式!AD32,3,FALSE),4),\"\"))","v":""},{"$f":"IF(P_20号様式!AG32<> \"\",TEXT(INT(P_20号様式!AG32),\"#,##0\"),\"\")","v":""},{"$f":"IF(P_20号様式!AG32= \"\",\"\",IF(VALUE(FIXED(P_20号様式!AG32,0,TRUE))<>P_20号様式!AG32,RIGHT(FIXED(P_20号様式!AG32,3,FALSE),4),\"\"))","v":""},{"$f":"IF(P_20号様式!AH32<> \"\",TEXT(INT(P_20号様式!AH32),\"#,##0\"),\"\")","v":"6,347"},{"$f":"IF(P_20号様式!AH32= \"\",\"\",IF(VALUE(FIXED(P_20号様式!AH32,0,TRUE))<>P_20号様式!AH32,RIGHT(FIXED(P_20号様式!AH32,3,FALSE),4),\"\"))","v":""}]
[{"$f":"IF(P_20号様式!C33=\"\",\"\",P_20号様式!C33)","v":"湧水町"},null,{"$f":"IF(P_20号様式!F33<> \"\",TEXT(INT(P_20号様式!F33),\"#,##0\"),\"\")","v":"2,074"},{"$f":"IF(P_20号様式!F33= \"\",\"\",IF(VALUE(FIXED(P_20号様式!F33,0,TRUE))<>P_20号様式!F33,RIGHT(FIXED(P_20号様式!F33,3,FALSE),4),\"\"))","v":""},{"$f":"IF(P_20号様式!I33<> \"\",TEXT(INT(P_20号様式!I33),\"#,##0\"),\"\")","v":"30"},{"$f":"IF(P_20号様式!I33= \"\",\"\",IF(VALUE(FIXED(P_20号様式!I33,0,TRUE))<>P_20号様式!I33,RIGHT(FIXED(P_20号様式!I33,3,FALSE),4),\"\"))","v":""},{"$f":"IF(P_20号様式!L33<> \"\",TEXT(INT(P_20号様式!L33),\"#,##0\"),\"\")","v":"704"},{"$f":"IF(P_20号様式!L33= \"\",\"\",IF(VALUE(FIXED(P_20号様式!L33,0,TRUE))<>P_20号様式!L33,RIGHT(FIXED(P_20号様式!L33,3,FALSE),4),\"\"))","v":""},{"$f":"IF(P_20号様式!O33<> \"\",TEXT(INT(P_20号様式!O33),\"#,##0\"),\"\")","v":"178"},{"$f":"IF(P_20号様式!O33= \"\",\"\",IF(VALUE(FIXED(P_20号様式!O33,0,TRUE))<>P_20号様式!O33,RIGHT(FIXED(P_20号様式!O33,3,FALSE),4),\"\"))","v":""},{"$f":"IF(P_20号様式!R33<> \"\",TEXT(INT(P_20号様式!R33),\"#,##0\"),\"\")","v":"167"},{"$f":"IF(P_20号様式!R33= \"\",\"\",IF(VALUE(FIXED(P_20号様式!R33,0,TRUE))<>P_20号様式!R33,RIGHT(FIXED(P_20号様式!R33,3,FALSE),4),\"\"))","v":""},{"$f":"IF(P_20号様式!U33<> \"\",TEXT(INT(P_20号様式!U33),\"#,##0\"),\"\")","v":"707"},{"$f":"IF(P_20号様式!U33= \"\",\"\",IF(VALUE(FIXED(P_20号様式!U33,0,TRUE))<>P_20号様式!U33,RIGHT(FIXED(P_20号様式!U33,3,FALSE),4),\"\"))","v":""},{"$f":"IF(P_20号様式!X33<> \"\",TEXT(INT(P_20号様式!X33),\"#,##0\"),\"\")","v":"1,238"},{"$f":"IF(P_20号様式!X33= \"\",\"\",IF(VALUE(FIXED(P_20号様式!X33,0,TRUE))<>P_20号様式!X33,RIGHT(FIXED(P_20号様式!X33,3,FALSE),4),\"\"))","v":""},{"$f":"IF(P_20号様式!AA33<> \"\",TEXT(INT(P_20号様式!AA33),\"#,##0\"),\"\")","v":"181"},{"$f":"IF(P_20号様式!AA33= \"\",\"\",IF(VALUE(FIXED(P_20号様式!AA33,0,TRUE))<>P_20号様式!AA33,RIGHT(FIXED(P_20号様式!AA33,3,FALSE),4),\"\"))","v":""},{"$f":"IF(P_20号様式!AD33<> \"\",TEXT(INT(P_20号様式!AD33),\"#,##0\"),\"\")","v":""},{"$f":"IF(P_20号様式!AD33= \"\",\"\",IF(VALUE(FIXED(P_20号様式!AD33,0,TRUE))<>P_20号様式!AD33,RIGHT(FIXED(P_20号様式!AD33,3,FALSE),4),\"\"))","v":""},{"$f":"IF(P_20号様式!AG33<> \"\",TEXT(INT(P_20号様式!AG33),\"#,##0\"),\"\")","v":""},{"$f":"IF(P_20号様式!AG33= \"\",\"\",IF(VALUE(FIXED(P_20号様式!AG33,0,TRUE))<>P_20号様式!AG33,RIGHT(FIXED(P_20号様式!AG33,3,FALSE),4),\"\"))","v":""},{"$f":"IF(P_20号様式!AH33<> \"\",TEXT(INT(P_20号様式!AH33),\"#,##0\"),\"\")","v":"5,279"},{"$f":"IF(P_20号様式!AH33= \"\",\"\",IF(VALUE(FIXED(P_20号様式!AH33,0,TRUE))<>P_20号様式!AH33,RIGHT(FIXED(P_20号様式!AH33,3,FALSE),4),\"\"))","v":""}]
[{"$f":"IF(P_20号様式!C34=\"\",\"\",P_20号様式!C34)","v":"＊（姶良郡）計"},null,{"$f":"IF(P_20号様式!F34<> \"\",TEXT(INT(P_20号様式!F34),\"#,##0\"),\"\")","v":"2,074"},{"$f":"IF(P_20号様式!F34= \"\",\"\",IF(VALUE(FIXED(P_20号様式!F34,0,TRUE))<>P_20号様式!F34,RIGHT(FIXED(P_20号様式!F34,3,FALSE),4),\"\"))","v":""},{"$f":"IF(P_20号様式!I34<> \"\",TEXT(INT(P_20号様式!I34),\"#,##0\"),\"\")","v":"30"},{"$f":"IF(P_20号様式!I34= \"\",\"\",IF(VALUE(FIXED(P_20号様式!I34,0,TRUE))<>P_20号様式!I34,RIGHT(FIXED(P_20号様式!I34,3,FALSE),4),\"\"))","v":""},{"$f":"IF(P_20号様式!L34<> \"\",TEXT(INT(P_20号様式!L34),\"#,##0\"),\"\")","v":"704"},{"$f":"IF(P_20号様式!L34= \"\",\"\",IF(VALUE(FIXED(P_20号様式!L34,0,TRUE))<>P_20号様式!L34,RIGHT(FIXED(P_20号様式!L34,3,FALSE),4),\"\"))","v":""},{"$f":"IF(P_20号様式!O34<> \"\",TEXT(INT(P_20号様式!O34),\"#,##0\"),\"\")","v":"178"},{"$f":"IF(P_20号様式!O34= \"\",\"\",IF(VALUE(FIXED(P_20号様式!O34,0,TRUE))<>P_20号様式!O34,RIGHT(FIXED(P_20号様式!O34,3,FALSE),4),\"\"))","v":""},{"$f":"IF(P_20号様式!R34<> \"\",TEXT(INT(P_20号様式!R34),\"#,##0\"),\"\")","v":"167"},{"$f":"IF(P_20号様式!R34= \"\",\"\",IF(VALUE(FIXED(P_20号様式!R34,0,TRUE))<>P_20号様式!R34,RIGHT(FIXED(P_20号様式!R34,3,FALSE),4),\"\"))","v":""},{"$f":"IF(P_20号様式!U34<> \"\",TEXT(INT(P_20号様式!U34),\"#,##0\"),\"\")","v":"707"},{"$f":"IF(P_20号様式!U34= \"\",\"\",IF(VALUE(FIXED(P_20号様式!U34,0,TRUE))<>P_20号様式!U34,RIGHT(FIXED(P_20号様式!U34,3,FALSE),4),\"\"))","v":""},{"$f":"IF(P_20号様式!X34<> \"\",TEXT(INT(P_20号様式!X34),\"#,##0\"),\"\")","v":"1,238"},{"$f":"IF(P_20号様式!X34= \"\",\"\",IF(VALUE(FIXED(P_20号様式!X34,0,TRUE))<>P_20号様式!X34,RIGHT(FIXED(P_20号様式!X34,3,FALSE),4),\"\"))","v":""},{"$f":"IF(P_20号様式!AA34<> \"\",TEXT(INT(P_20号様式!AA34),\"#,##0\"),\"\")","v":"181"},{"$f":"IF(P_20号様式!AA34= \"\",\"\",IF(VALUE(FIXED(P_20号様式!AA34,0,TRUE))<>P_20号様式!AA34,RIGHT(FIXED(P_20号様式!AA34,3,FALSE),4),\"\"))","v":""},{"$f":"IF(P_20号様式!AD34<> \"\",TEXT(INT(P_20号様式!AD34),\"#,##0\"),\"\")","v":""},{"$f":"IF(P_20号様式!AD34= \"\",\"\",IF(VALUE(FIXED(P_20号様式!AD34,0,TRUE))<>P_20号様式!AD34,RIGHT(FIXED(P_20号様式!AD34,3,FALSE),4),\"\"))","v":""},{"$f":"IF(P_20号様式!AG34<> \"\",TEXT(INT(P_20号様式!AG34),\"#,##0\"),\"\")","v":""},{"$f":"IF(P_20号様式!AG34= \"\",\"\",IF(VALUE(FIXED(P_20号様式!AG34,0,TRUE))<>P_20号様式!AG34,RIGHT(FIXED(P_20号様式!AG34,3,FALSE),4),\"\"))","v":""},{"$f":"IF(P_20号様式!AH34<> \"\",TEXT(INT(P_20号様式!AH34),\"#,##0\"),\"\")","v":"5,279"},{"$f":"IF(P_20号様式!AH34= \"\",\"\",IF(VALUE(FIXED(P_20号様式!AH34,0,TRUE))<>P_20号様式!AH34,RIGHT(FIXED(P_20号様式!AH34,3,FALSE),4),\"\"))","v":""}]
[{"$f":"IF(P_20号様式!C35=\"\",\"\",P_20号様式!C35)","v":"大崎町"},null,{"$f":"IF(P_20号様式!F35<> \"\",TEXT(INT(P_20号様式!F35),\"#,##0\"),\"\")","v":"2,577"},{"$f":"IF(P_20号様式!F35= \"\",\"\",IF(VALUE(FIXED(P_20号様式!F35,0,TRUE))<>P_20号様式!F35,RIGHT(FIXED(P_20号様式!F35,3,FALSE),4),\"\"))","v":""},{"$f":"IF(P_20号様式!I35<> \"\",TEXT(INT(P_20号様式!I35),\"#,##0\"),\"\")","v":"43"},{"$f":"IF(P_20号様式!I35= \"\",\"\",IF(VALUE(FIXED(P_20号様式!I35,0,TRUE))<>P_20号様式!I35,RIGHT(FIXED(P_20号様式!I35,3,FALSE),4),\"\"))","v":""},{"$f":"IF(P_20号様式!L35<> \"\",TEXT(INT(P_20号様式!L35),\"#,##0\"),\"\")","v":"1,259"},{"$f":"IF(P_20号様式!L35= \"\",\"\",IF(VALUE(FIXED(P_20号様式!L35,0,TRUE))<>P_20号様式!L35,RIGHT(FIXED(P_20号様式!L35,3,FALSE),4),\"\"))","v":""},{"$f":"IF(P_20号様式!O35<> \"\",TEXT(INT(P_20号様式!O35),\"#,##0\"),\"\")","v":"255"},{"$f":"IF(P_20号様式!O35= \"\",\"\",IF(VALUE(FIXED(P_20号様式!O35,0,TRUE))<>P_20号様式!O35,RIGHT(FIXED(P_20号様式!O35,3,FALSE),4),\"\"))","v":""},{"$f":"IF(P_20号様式!R35<> \"\",TEXT(INT(P_20号様式!R35),\"#,##0\"),\"\")","v":"346"},{"$f":"IF(P_20号様式!R35= \"\",\"\",IF(VALUE(FIXED(P_20号様式!R35,0,TRUE))<>P_20号様式!R35,RIGHT(FIXED(P_20号様式!R35,3,FALSE),4),\"\"))","v":""},{"$f":"IF(P_20号様式!U35<> \"\",TEXT(INT(P_20号様式!U35),\"#,##0\"),\"\")","v":"612"},{"$f":"IF(P_20号様式!U35= \"\",\"\",IF(VALUE(FIXED(P_20号様式!U35,0,TRUE))<>P_20号様式!U35,RIGHT(FIXED(P_20号様式!U35,3,FALSE),4),\"\"))","v":""},{"$f":"IF(P_20号様式!X35<> \"\",TEXT(INT(P_20号様式!X35),\"#,##0\"),\"\")","v":"1,088"},{"$f":"IF(P_20号様式!X35= \"\",\"\",IF(VALUE(FIXED(P_20号様式!X35,0,TRUE))<>P_20号様式!X35,RIGHT(FIXED(P_20号様式!X35,3,FALSE),4),\"\"))","v":""},{"$f":"IF(P_20号様式!AA35<> \"\",TEXT(INT(P_20号様式!AA35),\"#,##0\"),\"\")","v":"241"},{"$f":"IF(P_20号様式!AA35= \"\",\"\",IF(VALUE(FIXED(P_20号様式!AA35,0,TRUE))<>P_20号様式!AA35,RIGHT(FIXED(P_20号様式!AA35,3,FALSE),4),\"\"))","v":""},{"$f":"IF(P_20号様式!AD35<> \"\",TEXT(INT(P_20号様式!AD35),\"#,##0\"),\"\")","v":""},{"$f":"IF(P_20号様式!AD35= \"\",\"\",IF(VALUE(FIXED(P_20号様式!AD35,0,TRUE))<>P_20号様式!AD35,RIGHT(FIXED(P_20号様式!AD35,3,FALSE),4),\"\"))","v":""},{"$f":"IF(P_20号様式!AG35<> \"\",TEXT(INT(P_20号様式!AG35),\"#,##0\"),\"\")","v":""},{"$f":"IF(P_20号様式!AG35= \"\",\"\",IF(VALUE(FIXED(P_20号様式!AG35,0,TRUE))<>P_20号様式!AG35,RIGHT(FIXED(P_20号様式!AG35,3,FALSE),4),\"\"))","v":""},{"$f":"IF(P_20号様式!AH35<> \"\",TEXT(INT(P_20号様式!AH35),\"#,##0\"),\"\")","v":"6,421"},{"$f":"IF(P_20号様式!AH35= \"\",\"\",IF(VALUE(FIXED(P_20号様式!AH35,0,TRUE))<>P_20号様式!AH35,RIGHT(FIXED(P_20号様式!AH35,3,FALSE),4),\"\"))","v":""}]
[{"$f":"IF(P_20号様式!C36=\"\",\"\",P_20号様式!C36)","v":"＊（曽於郡）計"},null,{"$f":"IF(P_20号様式!F36<> \"\",TEXT(INT(P_20号様式!F36),\"#,##0\"),\"\")","v":"2,577"},{"$f":"IF(P_20号様式!F36= \"\",\"\",IF(VALUE(FIXED(P_20号様式!F36,0,TRUE))<>P_20号様式!F36,RIGHT(FIXED(P_20号様式!F36,3,FALSE),4),\"\"))","v":""},{"$f":"IF(P_20号様式!I36<> \"\",TEXT(INT(P_20号様式!I36),\"#,##0\"),\"\")","v":"43"},{"$f":"IF(P_20号様式!I36= \"\",\"\",IF(VALUE(FIXED(P_20号様式!I36,0,TRUE))<>P_20号様式!I36,RIGHT(FIXED(P_20号様式!I36,3,FALSE),4),\"\"))","v":""},{"$f":"IF(P_20号様式!L36<> \"\",TEXT(INT(P_20号様式!L36),\"#,##0\"),\"\")","v":"1,259"},{"$f":"IF(P_20号様式!L36= \"\",\"\",IF(VALUE(FIXED(P_20号様式!L36,0,TRUE))<>P_20号様式!L36,RIGHT(FIXED(P_20号様式!L36,3,FALSE),4),\"\"))","v":""},{"$f":"IF(P_20号様式!O36<> \"\",TEXT(INT(P_20号様式!O36),\"#,##0\"),\"\")","v":"255"},{"$f":"IF(P_20号様式!O36= \"\",\"\",IF(VALUE(FIXED(P_20号様式!O36,0,TRUE))<>P_20号様式!O36,RIGHT(FIXED(P_20号様式!O36,3,FALSE),4),\"\"))","v":""},{"$f":"IF(P_20号様式!R36<> \"\",TEXT(INT(P_20号様式!R36),\"#,##0\"),\"\")","v":"346"},{"$f":"IF(P_20号様式!R36= \"\",\"\",IF(VALUE(FIXED(P_20号様式!R36,0,TRUE))<>P_20号様式!R36,RIGHT(FIXED(P_20号様式!R36,3,FALSE),4),\"\"))","v":""},{"$f":"IF(P_20号様式!U36<> \"\",TEXT(INT(P_20号様式!U36),\"#,##0\"),\"\")","v":"612"},{"$f":"IF(P_20号様式!U36= \"\",\"\",IF(VALUE(FIXED(P_20号様式!U36,0,TRUE))<>P_20号様式!U36,RIGHT(FIXED(P_20号様式!U36,3,FALSE),4),\"\"))","v":""},{"$f":"IF(P_20号様式!X36<> \"\",TEXT(INT(P_20号様式!X36),\"#,##0\"),\"\")","v":"1,088"},{"$f":"IF(P_20号様式!X36= \"\",\"\",IF(VALUE(FIXED(P_20号様式!X36,0,TRUE))<>P_20号様式!X36,RIGHT(FIXED(P_20号様式!X36,3,FALSE),4),\"\"))","v":""},{"$f":"IF(P_20号様式!AA36<> \"\",TEXT(INT(P_20号様式!AA36),\"#,##0\"),\"\")","v":"241"},{"$f":"IF(P_20号様式!AA36= \"\",\"\",IF(VALUE(FIXED(P_20号様式!AA36,0,TRUE))<>P_20号様式!AA36,RIGHT(FIXED(P_20号様式!AA36,3,FALSE),4),\"\"))","v":""},{"$f":"IF(P_20号様式!AD36<> \"\",TEXT(INT(P_20号様式!AD36),\"#,##0\"),\"\")","v":""},{"$f":"IF(P_20号様式!AD36= \"\",\"\",IF(VALUE(FIXED(P_20号様式!AD36,0,TRUE))<>P_20号様式!AD36,RIGHT(FIXED(P_20号様式!AD36,3,FALSE),4),\"\"))","v":""},{"$f":"IF(P_20号様式!AG36<> \"\",TEXT(INT(P_20号様式!AG36),\"#,##0\"),\"\")","v":""},{"$f":"IF(P_20号様式!AG36= \"\",\"\",IF(VALUE(FIXED(P_20号様式!AG36,0,TRUE))<>P_20号様式!AG36,RIGHT(FIXED(P_20号様式!AG36,3,FALSE),4),\"\"))","v":""},{"$f":"IF(P_20号様式!AH36<> \"\",TEXT(INT(P_20号様式!AH36),\"#,##0\"),\"\")","v":"6,421"},{"$f":"IF(P_20号様式!AH36= \"\",\"\",IF(VALUE(FIXED(P_20号様式!AH36,0,TRUE))<>P_20号様式!AH36,RIGHT(FIXED(P_20号様式!AH36,3,FALSE),4),\"\"))","v":""}]
[{"$f":"IF(P_20号様式!C37=\"\",\"\",P_20号様式!C37)","v":"東串良町"},null,{"$f":"IF(P_20号様式!F37<> \"\",TEXT(INT(P_20号様式!F37),\"#,##0\"),\"\")","v":"1,293"},{"$f":"IF(P_20号様式!F37= \"\",\"\",IF(VALUE(FIXED(P_20号様式!F37,0,TRUE))<>P_20号様式!F37,RIGHT(FIXED(P_20号様式!F37,3,FALSE),4),\"\"))","v":""},{"$f":"IF(P_20号様式!I37<> \"\",TEXT(INT(P_20号様式!I37),\"#,##0\"),\"\")","v":"16"},{"$f":"IF(P_20号様式!I37= \"\",\"\",IF(VALUE(FIXED(P_20号様式!I37,0,TRUE))<>P_20号様式!I37,RIGHT(FIXED(P_20号様式!I37,3,FALSE),4),\"\"))","v":""},{"$f":"IF(P_20号様式!L37<> \"\",TEXT(INT(P_20号様式!L37),\"#,##0\"),\"\")","v":"598"},{"$f":"IF(P_20号様式!L37= \"\",\"\",IF(VALUE(FIXED(P_20号様式!L37,0,TRUE))<>P_20号様式!L37,RIGHT(FIXED(P_20号様式!L37,3,FALSE),4),\"\"))","v":""},{"$f":"IF(P_20号様式!O37<> \"\",TEXT(INT(P_20号様式!O37),\"#,##0\"),\"\")","v":"118"},{"$f":"IF(P_20号様式!O37= \"\",\"\",IF(VALUE(FIXED(P_20号様式!O37,0,TRUE))<>P_20号様式!O37,RIGHT(FIXED(P_20号様式!O37,3,FALSE),4),\"\"))","v":""},{"$f":"IF(P_20号様式!R37<> \"\",TEXT(INT(P_20号様式!R37),\"#,##0\"),\"\")","v":"206"},{"$f":"IF(P_20号様式!R37= \"\",\"\",IF(VALUE(FIXED(P_20号様式!R37,0,TRUE))<>P_20号様式!R37,RIGHT(FIXED(P_20号様式!R37,3,FALSE),4),\"\"))","v":""},{"$f":"IF(P_20号様式!U37<> \"\",TEXT(INT(P_20号様式!U37),\"#,##0\"),\"\")","v":"271"},{"$f":"IF(P_20号様式!U37= \"\",\"\",IF(VALUE(FIXED(P_20号様式!U37,0,TRUE))<>P_20号様式!U37,RIGHT(FIXED(P_20号様式!U37,3,FALSE),4),\"\"))","v":""},{"$f":"IF(P_20号様式!X37<> \"\",TEXT(INT(P_20号様式!X37),\"#,##0\"),\"\")","v":"497"},{"$f":"IF(P_20号様式!X37= \"\",\"\",IF(VALUE(FIXED(P_20号様式!X37,0,TRUE))<>P_20号様式!X37,RIGHT(FIXED(P_20号様式!X37,3,FALSE),4),\"\"))","v":""},{"$f":"IF(P_20号様式!AA37<> \"\",TEXT(INT(P_20号様式!AA37),\"#,##0\"),\"\")","v":"103"},{"$f":"IF(P_20号様式!AA37= \"\",\"\",IF(VALUE(FIXED(P_20号様式!AA37,0,TRUE))<>P_20号様式!AA37,RIGHT(FIXED(P_20号様式!AA37,3,FALSE),4),\"\"))","v":""},{"$f":"IF(P_20号様式!AD37<> \"\",TEXT(INT(P_20号様式!AD37),\"#,##0\"),\"\")","v":""},{"$f":"IF(P_20号様式!AD37= \"\",\"\",IF(VALUE(FIXED(P_20号様式!AD37,0,TRUE))<>P_20号様式!AD37,RIGHT(FIXED(P_20号様式!AD37,3,FALSE),4),\"\"))","v":""},{"$f":"IF(P_20号様式!AG37<> \"\",TEXT(INT(P_20号様式!AG37),\"#,##0\"),\"\")","v":""},{"$f":"IF(P_20号様式!AG37= \"\",\"\",IF(VALUE(FIXED(P_20号様式!AG37,0,TRUE))<>P_20号様式!AG37,RIGHT(FIXED(P_20号様式!AG37,3,FALSE),4),\"\"))","v":""},{"$f":"IF(P_20号様式!AH37<> \"\",TEXT(INT(P_20号様式!AH37),\"#,##0\"),\"\")","v":"3,102"},{"$f":"IF(P_20号様式!AH37= \"\",\"\",IF(VALUE(FIXED(P_20号様式!AH37,0,TRUE))<>P_20号様式!AH37,RIGHT(FIXED(P_20号様式!AH37,3,FALSE),4),\"\"))","v":""}]
[{"$f":"IF(P_20号様式!C38=\"\",\"\",P_20号様式!C38)","v":"錦江町"},null,{"$f":"IF(P_20号様式!F38<> \"\",TEXT(INT(P_20号様式!F38),\"#,##0\"),\"\")","v":"1,837"},{"$f":"IF(P_20号様式!F38= \"\",\"\",IF(VALUE(FIXED(P_20号様式!F38,0,TRUE))<>P_20号様式!F38,RIGHT(FIXED(P_20号様式!F38,3,FALSE),4),\"\"))","v":""},{"$f":"IF(P_20号様式!I38<> \"\",TEXT(INT(P_20号様式!I38),\"#,##0\"),\"\")","v":"30"},{"$f":"IF(P_20号様式!I38= \"\",\"\",IF(VALUE(FIXED(P_20号様式!I38,0,TRUE))<>P_20号様式!I38,RIGHT(FIXED(P_20号様式!I38,3,FALSE),4),\"\"))","v":""},{"$f":"IF(P_20号様式!L38<> \"\",TEXT(INT(P_20号様式!L38),\"#,##0\"),\"\")","v":"870"},{"$f":"IF(P_20号様式!L38= \"\",\"\",IF(VALUE(FIXED(P_20号様式!L38,0,TRUE))<>P_20号様式!L38,RIGHT(FIXED(P_20号様式!L38,3,FALSE),4),\"\"))","v":""},{"$f":"IF(P_20号様式!O38<> \"\",TEXT(INT(P_20号様式!O38),\"#,##0\"),\"\")","v":"198"},{"$f":"IF(P_20号様式!O38= \"\",\"\",IF(VALUE(FIXED(P_20号様式!O38,0,TRUE))<>P_20号様式!O38,RIGHT(FIXED(P_20号様式!O38,3,FALSE),4),\"\"))","v":""},{"$f":"IF(P_20号様式!R38<> \"\",TEXT(INT(P_20号様式!R38),\"#,##0\"),\"\")","v":"122"},{"$f":"IF(P_20号様式!R38= \"\",\"\",IF(VALUE(FIXED(P_20号様式!R38,0,TRUE))<>P_20号様式!R38,RIGHT(FIXED(P_20号様式!R38,3,FALSE),4),\"\"))","v":""},{"$f":"IF(P_20号様式!U38<> \"\",TEXT(INT(P_20号様式!U38),\"#,##0\"),\"\")","v":"384"},{"$f":"IF(P_20号様式!U38= \"\",\"\",IF(VALUE(FIXED(P_20号様式!U38,0,TRUE))<>P_20号様式!U38,RIGHT(FIXED(P_20号様式!U38,3,FALSE),4),\"\"))","v":""},{"$f":"IF(P_20号様式!X38<> \"\",TEXT(INT(P_20号様式!X38),\"#,##0\"),\"\")","v":"594"},{"$f":"IF(P_20号様式!X38= \"\",\"\",IF(VALUE(FIXED(P_20号様式!X38,0,TRUE))<>P_20号様式!X38,RIGHT(FIXED(P_20号様式!X38,3,FALSE),4),\"\"))","v":""},{"$f":"IF(P_20号様式!AA38<> \"\",TEXT(INT(P_20号様式!AA38),\"#,##0\"),\"\")","v":"138"},{"$f":"IF(P_20号様式!AA38= \"\",\"\",IF(VALUE(FIXED(P_20号様式!AA38,0,TRUE))<>P_20号様式!AA38,RIGHT(FIXED(P_20号様式!AA38,3,FALSE),4),\"\"))","v":""},{"$f":"IF(P_20号様式!AD38<> \"\",TEXT(INT(P_20号様式!AD38),\"#,##0\"),\"\")","v":""},{"$f":"IF(P_20号様式!AD38= \"\",\"\",IF(VALUE(FIXED(P_20号様式!AD38,0,TRUE))<>P_20号様式!AD38,RIGHT(FIXED(P_20号様式!AD38,3,FALSE),4),\"\"))","v":""},{"$f":"IF(P_20号様式!AG38<> \"\",TEXT(INT(P_20号様式!AG38),\"#,##0\"),\"\")","v":""},{"$f":"IF(P_20号様式!AG38= \"\",\"\",IF(VALUE(FIXED(P_20号様式!AG38,0,TRUE))<>P_20号様式!AG38,RIGHT(FIXED(P_20号様式!AG38,3,FALSE),4),\"\"))","v":""},{"$f":"IF(P_20号様式!AH38<> \"\",TEXT(INT(P_20号様式!AH38),\"#,##0\"),\"\")","v":"4,173"},{"$f":"IF(P_20号様式!AH38= \"\",\"\",IF(VALUE(FIXED(P_20号様式!AH38,0,TRUE))<>P_20号様式!AH38,RIGHT(FIXED(P_20号様式!AH38,3,FALSE),4),\"\"))","v":""}]
[{"$f":"IF(P_20号様式!C39=\"\",\"\",P_20号様式!C39)","v":"南大隅町"},null,{"$f":"IF(P_20号様式!F39<> \"\",TEXT(INT(P_20号様式!F39),\"#,##0\"),\"\")","v":"1,825"},{"$f":"IF(P_20号様式!F39= \"\",\"\",IF(VALUE(FIXED(P_20号様式!F39,0,TRUE))<>P_20号様式!F39,RIGHT(FIXED(P_20号様式!F39,3,FALSE),4),\"\"))","v":""},{"$f":"IF(P_20号様式!I39<> \"\",TEXT(INT(P_20号様式!I39),\"#,##0\"),\"\")","v":"25"},{"$f":"IF(P_20号様式!I39= \"\",\"\",IF(VALUE(FIXED(P_20号様式!I39,0,TRUE))<>P_20号様式!I39,RIGHT(FIXED(P_20号様式!I39,3,FALSE),4),\"\"))","v":""},{"$f":"IF(P_20号様式!L39<> \"\",TEXT(INT(P_20号様式!L39),\"#,##0\"),\"\")","v":"855"},{"$f":"IF(P_20号様式!L39= \"\",\"\",IF(VALUE(FIXED(P_20号様式!L39,0,TRUE))<>P_20号様式!L39,RIGHT(FIXED(P_20号様式!L39,3,FALSE),4),\"\"))","v":""},{"$f":"IF(P_20号様式!O39<> \"\",TEXT(INT(P_20号様式!O39),\"#,##0\"),\"\")","v":"249"},{"$f":"IF(P_20号様式!O39= \"\",\"\",IF(VALUE(FIXED(P_20号様式!O39,0,TRUE))<>P_20号様式!O39,RIGHT(FIXED(P_20号様式!O39,3,FALSE),4),\"\"))","v":""},{"$f":"IF(P_20号様式!R39<> \"\",TEXT(INT(P_20号様式!R39),\"#,##0\"),\"\")","v":"114"},{"$f":"IF(P_20号様式!R39= \"\",\"\",IF(VALUE(FIXED(P_20号様式!R39,0,TRUE))<>P_20号様式!R39,RIGHT(FIXED(P_20号様式!R39,3,FALSE),4),\"\"))","v":""},{"$f":"IF(P_20号様式!U39<> \"\",TEXT(INT(P_20号様式!U39),\"#,##0\"),\"\")","v":"449"},{"$f":"IF(P_20号様式!U39= \"\",\"\",IF(VALUE(FIXED(P_20号様式!U39,0,TRUE))<>P_20号様式!U39,RIGHT(FIXED(P_20号様式!U39,3,FALSE),4),\"\"))","v":""},{"$f":"IF(P_20号様式!X39<> \"\",TEXT(INT(P_20号様式!X39),\"#,##0\"),\"\")","v":"607"},{"$f":"IF(P_20号様式!X39= \"\",\"\",IF(VALUE(FIXED(P_20号様式!X39,0,TRUE))<>P_20号様式!X39,RIGHT(FIXED(P_20号様式!X39,3,FALSE),4),\"\"))","v":""},{"$f":"IF(P_20号様式!AA39<> \"\",TEXT(INT(P_20号様式!AA39),\"#,##0\"),\"\")","v":"120"},{"$f":"IF(P_20号様式!AA39= \"\",\"\",IF(VALUE(FIXED(P_20号様式!AA39,0,TRUE))<>P_20号様式!AA39,RIGHT(FIXED(P_20号様式!AA39,3,FALSE),4),\"\"))","v":""},{"$f":"IF(P_20号様式!AD39<> \"\",TEXT(INT(P_20号様式!AD39),\"#,##0\"),\"\")","v":""},{"$f":"IF(P_20号様式!AD39= \"\",\"\",IF(VALUE(FIXED(P_20号様式!AD39,0,TRUE))<>P_20号様式!AD39,RIGHT(FIXED(P_20号様式!AD39,3,FALSE),4),\"\"))","v":""},{"$f":"IF(P_20号様式!AG39<> \"\",TEXT(INT(P_20号様式!AG39),\"#,##0\"),\"\")","v":""},{"$f":"IF(P_20号様式!AG39= \"\",\"\",IF(VALUE(FIXED(P_20号様式!AG39,0,TRUE))<>P_20号様式!AG39,RIGHT(FIXED(P_20号様式!AG39,3,FALSE),4),\"\"))","v":""},{"$f":"IF(P_20号様式!AH39<> \"\",TEXT(INT(P_20号様式!AH39),\"#,##0\"),\"\")","v":"4,244"},{"$f":"IF(P_20号様式!AH39= \"\",\"\",IF(VALUE(FIXED(P_20号様式!AH39,0,TRUE))<>P_20号様式!AH39,RIGHT(FIXED(P_20号様式!AH39,3,FALSE),4),\"\"))","v":""}]
[{"$f":"IF(P_20号様式!C40=\"\",\"\",P_20号様式!C40)","v":"肝付町"},null,{"$f":"IF(P_20号様式!F40<> \"\",TEXT(INT(P_20号様式!F40),\"#,##0\"),\"\")","v":"2,764"},{"$f":"IF(P_20号様式!F40= \"\",\"\",IF(VALUE(FIXED(P_20号様式!F40,0,TRUE))<>P_20号様式!F40,RIGHT(FIXED(P_20号様式!F40,3,FALSE),4),\"\"))","v":""},{"$f":"IF(P_20号様式!I40<> \"\",TEXT(INT(P_20号様式!I40),\"#,##0\"),\"\")","v":"35"},{"$f":"IF(P_20号様式!I40= \"\",\"\",IF(VALUE(FIXED(P_20号様式!I40,0,TRUE))<>P_20号様式!I40,RIGHT(FIXED(P_20号様式!I40,3,FALSE),4),\"\"))","v":""},{"$f":"IF(P_20号様式!L40<> \"\",TEXT(INT(P_20号様式!L40),\"#,##0\"),\"\")","v":"1,530"},{"$f":"IF(P_20号様式!L40= \"\",\"\",IF(VALUE(FIXED(P_20号様式!L40,0,TRUE))<>P_20号様式!L40,RIGHT(FIXED(P_20号様式!L40,3,FALSE),4),\"\"))","v":""},{"$f":"IF(P_20号様式!O40<> \"\",TEXT(INT(P_20号様式!O40),\"#,##0\"),\"\")","v":"515"},{"$f":"IF(P_20号様式!O40= \"\",\"\",IF(VALUE(FIXED(P_20号様式!O40,0,TRUE))<>P_20号様式!O40,RIGHT(FIXED(P_20号様式!O40,3,FALSE),4),\"\"))","v":""},{"$f":"IF(P_20号様式!R40<> \"\",TEXT(INT(P_20号様式!R40),\"#,##0\"),\"\")","v":"249"},{"$f":"IF(P_20号様式!R40= \"\",\"\",IF(VALUE(FIXED(P_20号様式!R40,0,TRUE))<>P_20号様式!R40,RIGHT(FIXED(P_20号様式!R40,3,FALSE),4),\"\"))","v":""},{"$f":"IF(P_20号様式!U40<> \"\",TEXT(INT(P_20号様式!U40),\"#,##0\"),\"\")","v":"838"},{"$f":"IF(P_20号様式!U40= \"\",\"\",IF(VALUE(FIXED(P_20号様式!U40,0,TRUE))<>P_20号様式!U40,RIGHT(FIXED(P_20号様式!U40,3,FALSE),4),\"\"))","v":""},{"$f":"IF(P_20号様式!X40<> \"\",TEXT(INT(P_20号様式!X40),\"#,##0\"),\"\")","v":"1,201"},{"$f":"IF(P_20号様式!X40= \"\",\"\",IF(VALUE(FIXED(P_20号様式!X40,0,TRUE))<>P_20号様式!X40,RIGHT(FIXED(P_20号様式!X40,3,FALSE),4),\"\"))","v":""},{"$f":"IF(P_20号様式!AA40<> \"\",TEXT(INT(P_20号様式!AA40),\"#,##0\"),\"\")","v":"284"},{"$f":"IF(P_20号様式!AA40= \"\",\"\",IF(VALUE(FIXED(P_20号様式!AA40,0,TRUE))<>P_20号様式!AA40,RIGHT(FIXED(P_20号様式!AA40,3,FALSE),4),\"\"))","v":""},{"$f":"IF(P_20号様式!AD40<> \"\",TEXT(INT(P_20号様式!AD40),\"#,##0\"),\"\")","v":""},{"$f":"IF(P_20号様式!AD40= \"\",\"\",IF(VALUE(FIXED(P_20号様式!AD40,0,TRUE))<>P_20号様式!AD40,RIGHT(FIXED(P_20号様式!AD40,3,FALSE),4),\"\"))","v":""},{"$f":"IF(P_20号様式!AG40<> \"\",TEXT(INT(P_20号様式!AG40),\"#,##0\"),\"\")","v":""},{"$f":"IF(P_20号様式!AG40= \"\",\"\",IF(VALUE(FIXED(P_20号様式!AG40,0,TRUE))<>P_20号様式!AG40,RIGHT(FIXED(P_20号様式!AG40,3,FALSE),4),\"\"))","v":""},{"$f":"IF(P_20号様式!AH40<> \"\",TEXT(INT(P_20号様式!AH40),\"#,##0\"),\"\")","v":"7,416"},{"$f":"IF(P_20号様式!AH40= \"\",\"\",IF(VALUE(FIXED(P_20号様式!AH40,0,TRUE))<>P_20号様式!AH40,RIGHT(FIXED(P_20号様式!AH40,3,FALSE),4),\"\"))","v":""}]
[{"$f":"IF(P_20号様式!C41=\"\",\"\",P_20号様式!C41)","v":"＊（肝属郡）計"},null,{"$f":"IF(P_20号様式!F41<> \"\",TEXT(INT(P_20号様式!F41),\"#,##0\"),\"\")","v":"7,719"},{"$f":"IF(P_20号様式!F41= \"\",\"\",IF(VALUE(FIXED(P_20号様式!F41,0,TRUE))<>P_20号様式!F41,RIGHT(FIXED(P_20号様式!F41,3,FALSE),4),\"\"))","v":""},{"$f":"IF(P_20号様式!I41<> \"\",TEXT(INT(P_20号様式!I41),\"#,##0\"),\"\")","v":"106"},{"$f":"IF(P_20号様式!I41= \"\",\"\",IF(VALUE(FIXED(P_20号様式!I41,0,TRUE))<>P_20号様式!I41,RIGHT(FIXED(P_20号様式!I41,3,FALSE),4),\"\"))","v":""},{"$f":"IF(P_20号様式!L41<> \"\",TEXT(INT(P_20号様式!L41),\"#,##0\"),\"\")","v":"3,853"},{"$f":"IF(P_20号様式!L41= \"\",\"\",IF(VALUE(FIXED(P_20号様式!L41,0,TRUE))<>P_20号様式!L41,RIGHT(FIXED(P_20号様式!L41,3,FALSE),4),\"\"))","v":""},{"$f":"IF(P_20号様式!O41<> \"\",TEXT(INT(P_20号様式!O41),\"#,##0\"),\"\")","v":"1,080"},{"$f":"IF(P_20号様式!O41= \"\",\"\",IF(VALUE(FIXED(P_20号様式!O41,0,TRUE))<>P_20号様式!O41,RIGHT(FIXED(P_20号様式!O41,3,FALSE),4),\"\"))","v":""},{"$f":"IF(P_20号様式!R41<> \"\",TEXT(INT(P_20号様式!R41),\"#,##0\"),\"\")","v":"691"},{"$f":"IF(P_20号様式!R41= \"\",\"\",IF(VALUE(FIXED(P_20号様式!R41,0,TRUE))<>P_20号様式!R41,RIGHT(FIXED(P_20号様式!R41,3,FALSE),4),\"\"))","v":""},{"$f":"IF(P_20号様式!U41<> \"\",TEXT(INT(P_20号様式!U41),\"#,##0\"),\"\")","v":"1,942"},{"$f":"IF(P_20号様式!U41= \"\",\"\",IF(VALUE(FIXED(P_20号様式!U41,0,TRUE))<>P_20号様式!U41,RIGHT(FIXED(P_20号様式!U41,3,FALSE),4),\"\"))","v":""},{"$f":"IF(P_20号様式!X41<> \"\",TEXT(INT(P_20号様式!X41),\"#,##0\"),\"\")","v":"2,899"},{"$f":"IF(P_20号様式!X41= \"\",\"\",IF(VALUE(FIXED(P_20号様式!X41,0,TRUE))<>P_20号様式!X41,RIGHT(FIXED(P_20号様式!X41,3,FALSE),4),\"\"))","v":""},{"$f":"IF(P_20号様式!AA41<> \"\",TEXT(INT(P_20号様式!AA41),\"#,##0\"),\"\")","v":"645"},{"$f":"IF(P_20号様式!AA41= \"\",\"\",IF(VALUE(FIXED(P_20号様式!AA41,0,TRUE))<>P_20号様式!AA41,RIGHT(FIXED(P_20号様式!AA41,3,FALSE),4),\"\"))","v":""},{"$f":"IF(P_20号様式!AD41<> \"\",TEXT(INT(P_20号様式!AD41),\"#,##0\"),\"\")","v":""},{"$f":"IF(P_20号様式!AD41= \"\",\"\",IF(VALUE(FIXED(P_20号様式!AD41,0,TRUE))<>P_20号様式!AD41,RIGHT(FIXED(P_20号様式!AD41,3,FALSE),4),\"\"))","v":""},{"$f":"IF(P_20号様式!AG41<> \"\",TEXT(INT(P_20号様式!AG41),\"#,##0\"),\"\")","v":""},{"$f":"IF(P_20号様式!AG41= \"\",\"\",IF(VALUE(FIXED(P_20号様式!AG41,0,TRUE))<>P_20号様式!AG41,RIGHT(FIXED(P_20号様式!AG41,3,FALSE),4),\"\"))","v":""},{"$f":"IF(P_20号様式!AH41<> \"\",TEXT(INT(P_20号様式!AH41),\"#,##0\"),\"\")","v":"18,935"},{"$f":"IF(P_20号様式!AH41= \"\",\"\",IF(VALUE(FIXED(P_20号様式!AH41,0,TRUE))<>P_20号様式!AH41,RIGHT(FIXED(P_20号様式!AH41,3,FALSE),4),\"\"))","v":""}]
[{"$f":"IF(P_20号様式!C42=\"\",\"\",P_20号様式!C42)","v":"中種子町"},null,{"$f":"IF(P_20号様式!F42<> \"\",TEXT(INT(P_20号様式!F42),\"#,##0\"),\"\")","v":"1,946"},{"$f":"IF(P_20号様式!F42= \"\",\"\",IF(VALUE(FIXED(P_20号様式!F42,0,TRUE))<>P_20号様式!F42,RIGHT(FIXED(P_20号様式!F42,3,FALSE),4),\"\"))","v":""},{"$f":"IF(P_20号様式!I42<> \"\",TEXT(INT(P_20号様式!I42),\"#,##0\"),\"\")","v":"16"},{"$f":"IF(P_20号様式!I42= \"\",\"\",IF(VALUE(FIXED(P_20号様式!I42,0,TRUE))<>P_20号様式!I42,RIGHT(FIXED(P_20号様式!I42,3,FALSE),4),\"\"))","v":""},{"$f":"IF(P_20号様式!L42<> \"\",TEXT(INT(P_20号様式!L42),\"#,##0\"),\"\")","v":"607"},{"$f":"IF(P_20号様式!L42= \"\",\"\",IF(VALUE(FIXED(P_20号様式!L42,0,TRUE))<>P_20号様式!L42,RIGHT(FIXED(P_20号様式!L42,3,FALSE),4),\"\"))","v":""},{"$f":"IF(P_20号様式!O42<> \"\",TEXT(INT(P_20号様式!O42),\"#,##0\"),\"\")","v":"180"},{"$f":"IF(P_20号様式!O42= \"\",\"\",IF(VALUE(FIXED(P_20号様式!O42,0,TRUE))<>P_20号様式!O42,RIGHT(FIXED(P_20号様式!O42,3,FALSE),4),\"\"))","v":""},{"$f":"IF(P_20号様式!R42<> \"\",TEXT(INT(P_20号様式!R42),\"#,##0\"),\"\")","v":"200"},{"$f":"IF(P_20号様式!R42= \"\",\"\",IF(VALUE(FIXED(P_20号様式!R42,0,TRUE))<>P_20号様式!R42,RIGHT(FIXED(P_20号様式!R42,3,FALSE),4),\"\"))","v":""},{"$f":"IF(P_20号様式!U42<> \"\",TEXT(INT(P_20号様式!U42),\"#,##0\"),\"\")","v":"481"},{"$f":"IF(P_20号様式!U42= \"\",\"\",IF(VALUE(FIXED(P_20号様式!U42,0,TRUE))<>P_20号様式!U42,RIGHT(FIXED(P_20号様式!U42,3,FALSE),4),\"\"))","v":""},{"$f":"IF(P_20号様式!X42<> \"\",TEXT(INT(P_20号様式!X42),\"#,##0\"),\"\")","v":"645"},{"$f":"IF(P_20号様式!X42= \"\",\"\",IF(VALUE(FIXED(P_20号様式!X42,0,TRUE))<>P_20号様式!X42,RIGHT(FIXED(P_20号様式!X42,3,FALSE),4),\"\"))","v":""},{"$f":"IF(P_20号様式!AA42<> \"\",TEXT(INT(P_20号様式!AA42),\"#,##0\"),\"\")","v":"167"},{"$f":"IF(P_20号様式!AA42= \"\",\"\",IF(VALUE(FIXED(P_20号様式!AA42,0,TRUE))<>P_20号様式!AA42,RIGHT(FIXED(P_20号様式!AA42,3,FALSE),4),\"\"))","v":""},{"$f":"IF(P_20号様式!AD42<> \"\",TEXT(INT(P_20号様式!AD42),\"#,##0\"),\"\")","v":""},{"$f":"IF(P_20号様式!AD42= \"\",\"\",IF(VALUE(FIXED(P_20号様式!AD42,0,TRUE))<>P_20号様式!AD42,RIGHT(FIXED(P_20号様式!AD42,3,FALSE),4),\"\"))","v":""},{"$f":"IF(P_20号様式!AG42<> \"\",TEXT(INT(P_20号様式!AG42),\"#,##0\"),\"\")","v":""},{"$f":"IF(P_20号様式!AG42= \"\",\"\",IF(VALUE(FIXED(P_20号様式!AG42,0,TRUE))<>P_20号様式!AG42,RIGHT(FIXED(P_20号様式!AG42,3,FALSE),4),\"\"))","v":""},{"$f":"IF(P_20号様式!AH42<> \"\",TEXT(INT(P_20号様式!AH42),\"#,##0\"),\"\")","v":"4,242"},{"$f":"IF(P_20号様式!AH42= \"\",\"\",IF(VALUE(FIXED(P_20号様式!AH42,0,TRUE))<>P_20号様式!AH42,RIGHT(FIXED(P_20号様式!AH42,3,FALSE),4),\"\"))","v":""}]
[{"$f":"IF(P_20号様式!C43=\"\",\"\",P_20号様式!C43)","v":"南種子町"},null,{"$f":"IF(P_20号様式!F43<> \"\",TEXT(INT(P_20号様式!F43),\"#,##0\"),\"\")","v":"1,278"},{"$f":"IF(P_20号様式!F43= \"\",\"\",IF(VALUE(FIXED(P_20号様式!F43,0,TRUE))<>P_20号様式!F43,RIGHT(FIXED(P_20号様式!F43,3,FALSE),4),\"\"))","v":""},{"$f":"IF(P_20号様式!I43<> \"\",TEXT(INT(P_20号様式!I43),\"#,##0\"),\"\")","v":"9"},{"$f":"IF(P_20号様式!I43= \"\",\"\",IF(VALUE(FIXED(P_20号様式!I43,0,TRUE))<>P_20号様式!I43,RIGHT(FIXED(P_20号様式!I43,3,FALSE),4),\"\"))","v":""},{"$f":"IF(P_20号様式!L43<> \"\",TEXT(INT(P_20号様式!L43),\"#,##0\"),\"\")","v":"361"},{"$f":"IF(P_20号様式!L43= \"\",\"\",IF(VALUE(FIXED(P_20号様式!L43,0,TRUE))<>P_20号様式!L43,RIGHT(FIXED(P_20号様式!L43,3,FALSE),4),\"\"))","v":""},{"$f":"IF(P_20号様式!O43<> \"\",TEXT(INT(P_20号様式!O43),\"#,##0\"),\"\")","v":"158"},{"$f":"IF(P_20号様式!O43= \"\",\"\",IF(VALUE(FIXED(P_20号様式!O43,0,TRUE))<>P_20号様式!O43,RIGHT(FIXED(P_20号様式!O43,3,FALSE),4),\"\"))","v":""},{"$f":"IF(P_20号様式!R43<> \"\",TEXT(INT(P_20号様式!R43),\"#,##0\"),\"\")","v":"137"},{"$f":"IF(P_20号様式!R43= \"\",\"\",IF(VALUE(FIXED(P_20号様式!R43,0,TRUE))<>P_20号様式!R43,RIGHT(FIXED(P_20号様式!R43,3,FALSE),4),\"\"))","v":""},{"$f":"IF(P_20号様式!U43<> \"\",TEXT(INT(P_20号様式!U43),\"#,##0\"),\"\")","v":"424"},{"$f":"IF(P_20号様式!U43= \"\",\"\",IF(VALUE(FIXED(P_20号様式!U43,0,TRUE))<>P_20号様式!U43,RIGHT(FIXED(P_20号様式!U43,3,FALSE),4),\"\"))","v":""},{"$f":"IF(P_20号様式!X43<> \"\",TEXT(INT(P_20号様式!X43),\"#,##0\"),\"\")","v":"489"},{"$f":"IF(P_20号様式!X43= \"\",\"\",IF(VALUE(FIXED(P_20号様式!X43,0,TRUE))<>P_20号様式!X43,RIGHT(FIXED(P_20号様式!X43,3,FALSE),4),\"\"))","v":""},{"$f":"IF(P_20号様式!AA43<> \"\",TEXT(INT(P_20号様式!AA43),\"#,##0\"),\"\")","v":"128"},{"$f":"IF(P_20号様式!AA43= \"\",\"\",IF(VALUE(FIXED(P_20号様式!AA43,0,TRUE))<>P_20号様式!AA43,RIGHT(FIXED(P_20号様式!AA43,3,FALSE),4),\"\"))","v":""},{"$f":"IF(P_20号様式!AD43<> \"\",TEXT(INT(P_20号様式!AD43),\"#,##0\"),\"\")","v":""},{"$f":"IF(P_20号様式!AD43= \"\",\"\",IF(VALUE(FIXED(P_20号様式!AD43,0,TRUE))<>P_20号様式!AD43,RIGHT(FIXED(P_20号様式!AD43,3,FALSE),4),\"\"))","v":""},{"$f":"IF(P_20号様式!AG43<> \"\",TEXT(INT(P_20号様式!AG43),\"#,##0\"),\"\")","v":""},{"$f":"IF(P_20号様式!AG43= \"\",\"\",IF(VALUE(FIXED(P_20号様式!AG43,0,TRUE))<>P_20号様式!AG43,RIGHT(FIXED(P_20号様式!AG43,3,FALSE),4),\"\"))","v":""},{"$f":"IF(P_20号様式!AH43<> \"\",TEXT(INT(P_20号様式!AH43),\"#,##0\"),\"\")","v":"2,984"},{"$f":"IF(P_20号様式!AH43= \"\",\"\",IF(VALUE(FIXED(P_20号様式!AH43,0,TRUE))<>P_20号様式!AH43,RIGHT(FIXED(P_20号様式!AH43,3,FALSE),4),\"\"))","v":""}]
[{"$f":"IF(P_20号様式!C44=\"\",\"\",P_20号様式!C44)","v":"屋久島町"},null,{"$f":"IF(P_20号様式!F44<> \"\",TEXT(INT(P_20号様式!F44),\"#,##0\"),\"\")","v":"2,198"},{"$f":"IF(P_20号様式!F44= \"\",\"\",IF(VALUE(FIXED(P_20号様式!F44,0,TRUE))<>P_20号様式!F44,RIGHT(FIXED(P_20号様式!F44,3,FALSE),4),\"\"))","v":""},{"$f":"IF(P_20号様式!I44<> \"\",TEXT(INT(P_20号様式!I44),\"#,##0\"),\"\")","v":"17"},{"$f":"IF(P_20号様式!I44= \"\",\"\",IF(VALUE(FIXED(P_20号様式!I44,0,TRUE))<>P_20号様式!I44,RIGHT(FIXED(P_20号様式!I44,3,FALSE),4),\"\"))","v":""},{"$f":"IF(P_20号様式!L44<> \"\",TEXT(INT(P_20号様式!L44),\"#,##0\"),\"\")","v":"1,027"},{"$f":"IF(P_20号様式!L44= \"\",\"\",IF(VALUE(FIXED(P_20号様式!L44,0,TRUE))<>P_20号様式!L44,RIGHT(FIXED(P_20号様式!L44,3,FALSE),4),\"\"))","v":""},{"$f":"IF(P_20号様式!O44<> \"\",TEXT(INT(P_20号様式!O44),\"#,##0\"),\"\")","v":"422"},{"$f":"IF(P_20号様式!O44= \"\",\"\",IF(VALUE(FIXED(P_20号様式!O44,0,TRUE))<>P_20号様式!O44,RIGHT(FIXED(P_20号様式!O44,3,FALSE),4),\"\"))","v":""},{"$f":"IF(P_20号様式!R44<> \"\",TEXT(INT(P_20号様式!R44),\"#,##0\"),\"\")","v":"462"},{"$f":"IF(P_20号様式!R44= \"\",\"\",IF(VALUE(FIXED(P_20号様式!R44,0,TRUE))<>P_20号様式!R44,RIGHT(FIXED(P_20号様式!R44,3,FALSE),4),\"\"))","v":""},{"$f":"IF(P_20号様式!U44<> \"\",TEXT(INT(P_20号様式!U44),\"#,##0\"),\"\")","v":"909"},{"$f":"IF(P_20号様式!U44= \"\",\"\",IF(VALUE(FIXED(P_20号様式!U44,0,TRUE))<>P_20号様式!U44,RIGHT(FIXED(P_20号様式!U44,3,FALSE),4),\"\"))","v":""},{"$f":"IF(P_20号様式!X44<> \"\",TEXT(INT(P_20号様式!X44),\"#,##0\"),\"\")","v":"903"},{"$f":"IF(P_20号様式!X44= \"\",\"\",IF(VALUE(FIXED(P_20号様式!X44,0,TRUE))<>P_20号様式!X44,RIGHT(FIXED(P_20号様式!X44,3,FALSE),4),\"\"))","v":""},{"$f":"IF(P_20号様式!AA44<> \"\",TEXT(INT(P_20号様式!AA44),\"#,##0\"),\"\")","v":"300"},{"$f":"IF(P_20号様式!AA44= \"\",\"\",IF(VALUE(FIXED(P_20号様式!AA44,0,TRUE))<>P_20号様式!AA44,RIGHT(FIXED(P_20号様式!AA44,3,FALSE),4),\"\"))","v":""},{"$f":"IF(P_20号様式!AD44<> \"\",TEXT(INT(P_20号様式!AD44),\"#,##0\"),\"\")","v":""},{"$f":"IF(P_20号様式!AD44= \"\",\"\",IF(VALUE(FIXED(P_20号様式!AD44,0,TRUE))<>P_20号様式!AD44,RIGHT(FIXED(P_20号様式!AD44,3,FALSE),4),\"\"))","v":""},{"$f":"IF(P_20号様式!AG44<> \"\",TEXT(INT(P_20号様式!AG44),\"#,##0\"),\"\")","v":""},{"$f":"IF(P_20号様式!AG44= \"\",\"\",IF(VALUE(FIXED(P_20号様式!AG44,0,TRUE))<>P_20号様式!AG44,RIGHT(FIXED(P_20号様式!AG44,3,FALSE),4),\"\"))","v":""},{"$f":"IF(P_20号様式!AH44<> \"\",TEXT(INT(P_20号様式!AH44),\"#,##0\"),\"\")","v":"6,238"},{"$f":"IF(P_20号様式!AH44= \"\",\"\",IF(VALUE(FIXED(P_20号様式!AH44,0,TRUE))<>P_20号様式!AH44,RIGHT(FIXED(P_20号様式!AH44,3,FALSE),4),\"\"))","v":""}]
[]
["政   令   市   計",null,{"$f":"IF(P_20号様式!AI2<> \"\",TEXT(INT(P_20号様式!AI2),\"#,##0\"),\"\")","v":""},{"$f":"IF(P_20号様式!AI2= \"\",\"\",IF(VALUE(FIXED(P_20号様式!AI2,0,TRUE))<>P_20号様式!AI2,RIGHT(FIXED(P_20号様式!AI2,3,FALSE),4),\"\"))","v":""},{"$f":"IF(P_20号様式!AJ2<> \"\",TEXT(INT(P_20号様式!AJ2),\"#,##0\"),\"\")","v":""},{"$f":"IF(P_20号様式!AJ2= \"\",\"\",IF(VALUE(FIXED(P_20号様式!AJ2,0,TRUE))<>P_20号様式!AJ2,RIGHT(FIXED(P_20号様式!AJ2,3,FALSE),4),\"\"))","v":""},{"$f":"IF(P_20号様式!AK2<> \"\",TEXT(INT(P_20号様式!AK2),\"#,##0\"),\"\")","v":""},{"$f":"IF(P_20号様式!AK2= \"\",\"\",IF(VALUE(FIXED(P_20号様式!AK2,0,TRUE))<>P_20号様式!AK2,RIGHT(FIXED(P_20号様式!AK2,3,FALSE),4),\"\"))","v":""},{"$f":"IF(P_20号様式!AL2<> \"\",TEXT(INT(P_20号様式!AL2),\"#,##0\"),\"\")","v":""},{"$f":"IF(P_20号様式!AL2= \"\",\"\",IF(VALUE(FIXED(P_20号様式!AL2,0,TRUE))<>P_20号様式!AL2,RIGHT(FIXED(P_20号様式!AL2,3,FALSE),4),\"\"))","v":""},{"$f":"IF(P_20号様式!AM2<> \"\",TEXT(INT(P_20号様式!AM2),\"#,##0\"),\"\")","v":""},{"$f":"IF(P_20号様式!AM2= \"\",\"\",IF(VALUE(FIXED(P_20号様式!AM2,0,TRUE))<>P_20号様式!AM2,RIGHT(FIXED(P_20号様式!AM2,3,FALSE),4),\"\"))","v":""},{"$f":"IF(P_20号様式!AN2<> \"\",TEXT(INT(P_20号様式!AN2),\"#,##0\"),\"\")","v":""},{"$f":"IF(P_20号様式!AN2= \"\",\"\",IF(VALUE(FIXED(P_20号様式!AN2,0,TRUE))<>P_20号様式!AN2,RIGHT(FIXED(P_20号様式!AN2,3,FALSE),4),\"\"))","v":""},{"$f":"IF(P_20号様式!AO2<> \"\",TEXT(INT(P_20号様式!AO2),\"#,##0\"),\"\")","v":""},{"$f":"IF(P_20号様式!AO2= \"\",\"\",IF(VALUE(FIXED(P_20号様式!AO2,0,TRUE))<>P_20号様式!AO2,RIGHT(FIXED(P_20号様式!AO2,3,FALSE),4),\"\"))","v":""},{"$f":"IF(P_20号様式!AP2<> \"\",TEXT(INT(P_20号様式!AP2),\"#,##0\"),\"\")","v":""},{"$f":"IF(P_20号様式!AP2= \"\",\"\",IF(VALUE(FIXED(P_20号様式!AP2,0,TRUE))<>P_20号様式!AP2,RIGHT(FIXED(P_20号様式!AP2,3,FALSE),4),\"\"))","v":""},{"$f":"IF(P_20号様式!AQ2<> \"\",TEXT(INT(P_20号様式!AQ2),\"#,##0\"),\"\")","v":""},{"$f":"IF(P_20号様式!AQ2= \"\",\"\",IF(VALUE(FIXED(P_20号様式!AQ2,0,TRUE))<>P_20号様式!AQ2,RIGHT(FIXED(P_20号様式!AQ2,3,FALSE),4),\"\"))","v":""},{"$f":"IF(P_20号様式!AR2<> \"\",TEXT(INT(P_20号様式!AR2),\"#,##0\"),\"\")","v":""},{"$f":"IF(P_20号様式!AR2= \"\",\"\",IF(VALUE(FIXED(P_20号様式!AR2,0,TRUE))<>P_20号様式!AR2,RIGHT(FIXED(P_20号様式!AR2,3,FALSE),4),\"\"))","v":""},{"$f":"IF(P_20号様式!AS2<> \"\",TEXT(INT(P_20号様式!AS2),\"#,##0\"),\"\")","v":"0"},{"$f":"IF(P_20号様式!AS2= \"\",\"\",IF(VALUE(FIXED(P_20号様式!AS2,0,TRUE))<>P_20号様式!AS2,RIGHT(FIXED(P_20号様式!AS2,3,FALSE),4),\"\"))","v":""}]
["そ  の  他  市 計",null,{"$f":"IF(P_20号様式!AT2<> \"\",TEXT(INT(P_20号様式!AT2),\"#,##0\"),\"\")","v":"67,859"},{"$f":"IF(P_20号様式!AT2= \"\",\"\",IF(VALUE(FIXED(P_20号様式!AT2,0,TRUE))<>P_20号様式!AT2,RIGHT(FIXED(P_20号様式!AT2,3,FALSE),4),\"\"))","v":""},{"$f":"IF(P_20号様式!AU2<> \"\",TEXT(INT(P_20号様式!AU2),\"#,##0\"),\"\")","v":"953"},{"$f":"IF(P_20号様式!AU2= \"\",\"\",IF(VALUE(FIXED(P_20号様式!AU2,0,TRUE))<>P_20号様式!AU2,RIGHT(FIXED(P_20号様式!AU2,3,FALSE),4),\"\"))","v":""},{"$f":"IF(P_20号様式!AV2<> \"\",TEXT(INT(P_20号様式!AV2),\"#,##0\"),\"\")","v":"24,996"},{"$f":"IF(P_20号様式!AV2= \"\",\"\",IF(VALUE(FIXED(P_20号様式!AV2,0,TRUE))<>P_20号様式!AV2,RIGHT(FIXED(P_20号様式!AV2,3,FALSE),4),\"\"))","v":""},{"$f":"IF(P_20号様式!AW2<> \"\",TEXT(INT(P_20号様式!AW2),\"#,##0\"),\"\")","v":"5,737"},{"$f":"IF(P_20号様式!AW2= \"\",\"\",IF(VALUE(FIXED(P_20号様式!AW2,0,TRUE))<>P_20号様式!AW2,RIGHT(FIXED(P_20号様式!AW2,3,FALSE),4),\"\"))","v":""},{"$f":"IF(P_20号様式!AX2<> \"\",TEXT(INT(P_20号様式!AX2),\"#,##0\"),\"\")","v":"9,456"},{"$f":"IF(P_20号様式!AX2= \"\",\"\",IF(VALUE(FIXED(P_20号様式!AX2,0,TRUE))<>P_20号様式!AX2,RIGHT(FIXED(P_20号様式!AX2,3,FALSE),4),\"\"))","v":""},{"$f":"IF(P_20号様式!AY2<> \"\",TEXT(INT(P_20号様式!AY2),\"#,##0\"),\"\")","v":"22,722"},{"$f":"IF(P_20号様式!AY2= \"\",\"\",IF(VALUE(FIXED(P_20号様式!AY2,0,TRUE))<>P_20号様式!AY2,RIGHT(FIXED(P_20号様式!AY2,3,FALSE),4),\"\"))","v":""},{"$f":"IF(P_20号様式!AZ2<> \"\",TEXT(INT(P_20号様式!AZ2),\"#,##0\"),\"\")","v":"36,516"},{"$f":"IF(P_20号様式!AZ2= \"\",\"\",IF(VALUE(FIXED(P_20号様式!AZ2,0,TRUE))<>P_20号様式!AZ2,RIGHT(FIXED(P_20号様式!AZ2,3,FALSE),4),\"\"))","v":""},{"$f":"IF(P_20号様式!BA2<> \"\",TEXT(INT(P_20号様式!BA2),\"#,##0\"),\"\")","v":"7,217"},{"$f":"IF(P_20号様式!BA2= \"\",\"\",IF(VALUE(FIXED(P_20号様式!BA2,0,TRUE))<>P_20号様式!BA2,RIGHT(FIXED(P_20号様式!BA2,3,FALSE),4),\"\"))","v":""},{"$f":"IF(P_20号様式!BB2<> \"\",TEXT(INT(P_20号様式!BB2),\"#,##0\"),\"\")","v":""},{"$f":"IF(P_20号様式!BB2= \"\",\"\",IF(VALUE(FIXED(P_20号様式!BB2,0,TRUE))<>P_20号様式!BB2,RIGHT(FIXED(P_20号様式!BB2,3,FALSE),4),\"\"))","v":""},{"$f":"IF(P_20号様式!BC2<> \"\",TEXT(INT(P_20号様式!BC2),\"#,##0\"),\"\")","v":""},{"$f":"IF(P_20号様式!BC2= \"\",\"\",IF(VALUE(FIXED(P_20号様式!BC2,0,TRUE))<>P_20号様式!BC2,RIGHT(FIXED(P_20号様式!BC2,3,FALSE),4),\"\"))","v":""},{"$f":"IF(P_20号様式!BD2<> \"\",TEXT(INT(P_20号様式!BD2),\"#,##0\"),\"\")","v":"175,456"},{"$f":"IF(P_20号様式!BD2= \"\",\"\",IF(VALUE(FIXED(P_20号様式!BD2,0,TRUE))<>P_20号様式!BD2,RIGHT(FIXED(P_20号様式!BD2,3,FALSE),4),\"\"))","v":""}]
["郡             計",null,{"$f":"IF(P_20号様式!BE2<> \"\",TEXT(INT(P_20号様式!BE2),\"#,##0\"),\"\")","v":"40,000"},{"$f":"IF(P_20号様式!BE2= \"\",\"\",IF(VALUE(FIXED(P_20号様式!BE2,0,TRUE))<>P_20号様式!BE2,RIGHT(FIXED(P_20号様式!BE2,3,FALSE),4),\"\"))","v":""},{"$f":"IF(P_20号様式!BF2<> \"\",TEXT(INT(P_20号様式!BF2),\"#,##0\"),\"\")","v":"530"},{"$f":"IF(P_20号様式!BF2= \"\",\"\",IF(VALUE(FIXED(P_20号様式!BF2,0,TRUE))<>P_20号様式!BF2,RIGHT(FIXED(P_20号様式!BF2,3,FALSE),4),\"\"))","v":""},{"$f":"IF(P_20号様式!BG2<> \"\",TEXT(INT(P_20号様式!BG2),\"#,##0\"),\"\")","v":"22,999"},{"$f":"IF(P_20号様式!BG2= \"\",\"\",IF(VALUE(FIXED(P_20号様式!BG2,0,TRUE))<>P_20号様式!BG2,RIGHT(FIXED(P_20号様式!BG2,3,FALSE),4),\"\"))","v":""},{"$f":"IF(P_20号様式!BH2<> \"\",TEXT(INT(P_20号様式!BH2),\"#,##0\"),\"\")","v":"3,083"},{"$f":"IF(P_20号様式!BH2= \"\",\"\",IF(VALUE(FIXED(P_20号様式!BH2,0,TRUE))<>P_20号様式!BH2,RIGHT(FIXED(P_20号様式!BH2,3,FALSE),4),\"\"))","v":""},{"$f":"IF(P_20号様式!BI2<> \"\",TEXT(INT(P_20号様式!BI2),\"#,##0\"),\"\")","v":"4,894"},{"$f":"IF(P_20号様式!BI2= \"\",\"\",IF(VALUE(FIXED(P_20号様式!BI2,0,TRUE))<>P_20号様式!BI2,RIGHT(FIXED(P_20号様式!BI2,3,FALSE),4),\"\"))","v":""},{"$f":"IF(P_20号様式!BJ2<> \"\",TEXT(INT(P_20号様式!BJ2),\"#,##0\"),\"\")","v":"10,186"},{"$f":"IF(P_20号様式!BJ2= \"\",\"\",IF(VALUE(FIXED(P_20号様式!BJ2,0,TRUE))<>P_20号様式!BJ2,RIGHT(FIXED(P_20号様式!BJ2,3,FALSE),4),\"\"))","v":""},{"$f":"IF(P_20号様式!BK2<> \"\",TEXT(INT(P_20号様式!BK2),\"#,##0\"),\"\")","v":"18,333"},{"$f":"IF(P_20号様式!BK2= \"\",\"\",IF(VALUE(FIXED(P_20号様式!BK2,0,TRUE))<>P_20号様式!BK2,RIGHT(FIXED(P_20号様式!BK2,3,FALSE),4),\"\"))","v":""},{"$f":"IF(P_20号様式!BL2<> \"\",TEXT(INT(P_20号様式!BL2),\"#,##0\"),\"\")","v":"3,548"},{"$f":"IF(P_20号様式!BL2= \"\",\"\",IF(VALUE(FIXED(P_20号様式!BL2,0,TRUE))<>P_20号様式!BL2,RIGHT(FIXED(P_20号様式!BL2,3,FALSE),4),\"\"))","v":""},{"$f":"IF(P_20号様式!BM2<> \"\",TEXT(INT(P_20号様式!BM2),\"#,##0\"),\"\")","v":""},{"$f":"IF(P_20号様式!BM2= \"\",\"\",IF(VALUE(FIXED(P_20号様式!BM2,0,TRUE))<>P_20号様式!BM2,RIGHT(FIXED(P_20号様式!BM2,3,FALSE),4),\"\"))","v":""},{"$f":"IF(P_20号様式!BN2<> \"\",TEXT(INT(P_20号様式!BN2),\"#,##0\"),\"\")","v":""},{"$f":"IF(P_20号様式!BN2= \"\",\"\",IF(VALUE(FIXED(P_20号様式!BN2,0,TRUE))<>P_20号様式!BN2,RIGHT(FIXED(P_20号様式!BN2,3,FALSE),4),\"\"))","v":""},{"$f":"IF(P_20号様式!BO2<> \"\",TEXT(INT(P_20号様式!BO2),\"#,##0\"),\"\")","v":"103,573"},{"$f":"IF(P_20号様式!BO2= \"\",\"\",IF(VALUE(FIXED(P_20号様式!BO2,0,TRUE))<>P_20号様式!BO2,RIGHT(FIXED(P_20号様式!BO2,3,FALSE),4),\"\"))","v":""}]
["県             計",null,{"$f":"IF(P_20号様式!BP2<> \"\",TEXT(INT(P_20号様式!BP2),\"#,##0\"),\"\")","v":"107,859"},{"$f":"IF(P_20号様式!BP2= \"\",\"\",IF(VALUE(FIXED(P_20号様式!BP2,0,TRUE))<>P_20号様式!BP2,RIGHT(FIXED(P_20号様式!BP2,3,FALSE),4),\"\"))","v":""},{"$f":"IF(P_20号様式!BQ2<> \"\",TEXT(INT(P_20号様式!BQ2),\"#,##0\"),\"\")","v":"1,483"},{"$f":"IF(P_20号様式!BQ2= \"\",\"\",IF(VALUE(FIXED(P_20号様式!BQ2,0,TRUE))<>P_20号様式!BQ2,RIGHT(FIXED(P_20号様式!BQ2,3,FALSE),4),\"\"))","v":""},{"$f":"IF(P_20号様式!BR2<> \"\",TEXT(INT(P_20号様式!BR2),\"#,##0\"),\"\")","v":"47,995"},{"$f":"IF(P_20号様式!BR2= \"\",\"\",IF(VALUE(FIXED(P_20号様式!BR2,0,TRUE))<>P_20号様式!BR2,RIGHT(FIXED(P_20号様式!BR2,3,FALSE),4),\"\"))","v":""},{"$f":"IF(P_20号様式!BS2<> \"\",TEXT(INT(P_20号様式!BS2),\"#,##0\"),\"\")","v":"8,820"},{"$f":"IF(P_20号様式!BS2= \"\",\"\",IF(VALUE(FIXED(P_20号様式!BS2,0,TRUE))<>P_20号様式!BS2,RIGHT(FIXED(P_20号様式!BS2,3,FALSE),4),\"\"))","v":""},{"$f":"IF(P_20号様式!BT2<> \"\",TEXT(INT(P_20号様式!BT2),\"#,##0\"),\"\")","v":"14,350"},{"$f":"IF(P_20号様式!BT2= \"\",\"\",IF(VALUE(FIXED(P_20号様式!BT2,0,TRUE))<>P_20号様式!BT2,RIGHT(FIXED(P_20号様式!BT2,3,FALSE),4),\"\"))","v":""},{"$f":"IF(P_20号様式!BU2<> \"\",TEXT(INT(P_20号様式!BU2),\"#,##0\"),\"\")","v":"32,908"},{"$f":"IF(P_20号様式!BU2= \"\",\"\",IF(VALUE(FIXED(P_20号様式!BU2,0,TRUE))<>P_20号様式!BU2,RIGHT(FIXED(P_20号様式!BU2,3,FALSE),4),\"\"))","v":""},{"$f":"IF(P_20号様式!BV2<> \"\",TEXT(INT(P_20号様式!BV2),\"#,##0\"),\"\")","v":"54,849"},{"$f":"IF(P_20号様式!BV2= \"\",\"\",IF(VALUE(FIXED(P_20号様式!BV2,0,TRUE))<>P_20号様式!BV2,RIGHT(FIXED(P_20号様式!BV2,3,FALSE),4),\"\"))","v":""},{"$f":"IF(P_20号様式!BW2<> \"\",TEXT(INT(P_20号様式!BW2),\"#,##0\"),\"\")","v":"10,765"},{"$f":"IF(P_20号様式!BW2= \"\",\"\",IF(VALUE(FIXED(P_20号様式!BW2,0,TRUE))<>P_20号様式!BW2,RIGHT(FIXED(P_20号様式!BW2,3,FALSE),4),\"\"))","v":""},{"$f":"IF(P_20号様式!BX2<> \"\",TEXT(INT(P_20号様式!BX2),\"#,##0\"),\"\")","v":""},{"$f":"IF(P_20号様式!BX2= \"\",\"\",IF(VALUE(FIXED(P_20号様式!BX2,0,TRUE))<>P_20号様式!BX2,RIGHT(FIXED(P_20号様式!BX2,3,FALSE),4),\"\"))","v":""},{"$f":"IF(P_20号様式!BY2<> \"\",TEXT(INT(P_20号様式!BY2),\"#,##0\"),\"\")","v":""},{"$f":"IF(P_20号様式!BY2= \"\",\"\",IF(VALUE(FIXED(P_20号様式!BY2,0,TRUE))<>P_20号様式!BY2,RIGHT(FIXED(P_20号様式!BY2,3,FALSE),4),\"\"))","v":""},{"$f":"IF(P_20号様式!BZ2<> \"\",TEXT(INT(P_20号様式!BZ2),\"#,##0\"),\"\")","v":"279,029"},{"$f":"IF(P_20号様式!BZ2= \"\",\"\",IF(VALUE(FIXED(P_20号様式!BZ2,0,TRUE))<>P_20号様式!BZ2,RIGHT(FIXED(P_20号様式!BZ2,3,FALSE),4),\"\"))","v":""}]
["第20号様式",null,null,null,null,null,null,null,null,null,"開　票　速　報",null,null,null,null,null,null,null,null,null,null,null,{"$f":"P_20号様式!A45 & \" ページ\"","v":"2 ページ"}]
[null,null,null,null,null,null,null,null,null,null,null,null,null,null,null,null,null,null,null,null,null,null,"鹿 児 島 県"]
[null,{"$f":"IF(パラメタシート!B1=\"\",\"    年  月  日　執行\",パラメタシート!B1)","v":"2017-10-22"},null,null,null,null,null,null,null,null,null,null,null,null,null,null,{"$f":"IF(P_20号様式!CB45=\"0\",\"即日　開票\",\"翌日　開票\")","v":"即日　開票"},null,"中間報告",null,{"$f":" IF(P_20号様式!CC45=\"\",\"時　　   分      \",P_20号様式!CC45)","v":"00:00:00"}]
[null,{"$f":"IF(P_20号様式!CA45=\"\",\"\",P_20号様式!CA45)","v":"衆議院比例代表選出議員選挙"},null,null,null,null,null,null,null,null,null,null,null,null,null,null,"開票",null,"結了報告",null,{"$f":" IF(P_20号様式!CD45=\"\",\"時　　   分      \",P_20号様式!CD45)","v":"時　　   分      "}]
[]
["市区町村名",null,{"$f":"IF(P_20号様式!D45=\"\",\"\",P_20号様式!D45)","v":"01"},null,{"$f":"IF(P_20号様式!G45=\"\",\"\",P_20号様式!G45)","v":"02"},null,{"$f":"IF(P_20号様式!J45=\"\",\"\",P_20号様式!J45)","v":"03"},null,{"$f":"IF(P_20号様式!M45=\"\",\"\",P_20号様式!M45)","v":"04"},null,{"$f":"IF(P_20号様式!P45=\"\",\"\",P_20号様式!P45)","v":"05"},null,{"$f":"IF(P_20号様式!S45=\"\",\"\",P_20号様式!S45)","v":"06"},null,{"$f":"IF(P_20号様式!V45=\"\",\"\",P_20号様式!V45)","v":"07"},null,{"$f":"IF(P_20号様式!Y45=\"\",\"\",P_20号様式!Y45)","v":"08"},null,{"$f":"IF(P_20号様式!AB45=\"\",\"\",P_20号様式!AB45)","v":""},null,{"$f":"IF(P_20号様式!AE45=\"\",\"\",P_20号様式!AE45)","v":""},null,"小　　　　計"]
[null,null,{"$f":"IF(P_20号様式!E45=\"\",\"\",P_20号様式!E45)","v":"自由民主党"},null,{"$f":"IF(P_20号様式!H45=\"\",\"\",P_20号様式!H45)","v":"幸福実現党"},null,{"$f":"IF(P_20号様式!K45=\"\",\"\",P_20号様式!K45)","v":"公明党"},null,{"$f":"IF(P_20号様式!N45=\"\",\"\",P_20号様式!N45)","v":"社会民主党"},null,{"$f":"IF(P_20号様式!Q45=\"\",\"\",P_20号様式!Q45)","v":"日本共産党"},null,{"$f":"IF(P_20号様式!T45=\"\",\"\",P_20号様式!T45)","v":"立憲民主党"},null,{"$f":"IF(P_20号様式!W45=\"\",\"\",P_20号様式!W45)","v":"希望の党"},null,{"$f":"IF(P_20号様式!Z45=\"\",\"\",P_20号様式!Z45)","v":"日本維新の会"},null,{"$f":"IF(P_20号様式!AC45=\"\",\"\",P_20号様式!AC45)","v":""},null,{"$f":"IF(P_20号様式!AF45=\"\",\"\",P_20号様式!AF45)","v":""}]
[{"$f":"IF(P_20号様式!C45=\"\",\"\",P_20号様式!C45)","v":"＊（熊毛郡）計"},null,{"$f":"IF(P_20号様式!F45<> \"\",TEXT(INT(P_20号様式!F45),\"#,##0\"),\"\")","v":"5,422"},{"$f":"IF(P_20号様式!F45= \"\",\"\",IF(VALUE(FIXED(P_20号様式!F45,0,TRUE))<>P_20号様式!F45,RIGHT(FIXED(P_20号様式!F45,3,FALSE),4),\"\"))","v":""},{"$f":"IF(P_20号様式!I45<> \"\",TEXT(INT(P_20号様式!I45),\"#,##0\"),\"\")","v":"42"},{"$f":"IF(P_20号様式!I45= \"\",\"\",IF(VALUE(FIXED(P_20号様式!I45,0,TRUE))<>P_20号様式!I45,RIGHT(FIXED(P_20号様式!I45,3,FALSE),4),\"\"))","v":""},{"$f":"IF(P_20号様式!L45<> \"\",TEXT(INT(P_20号様式!L45),\"#,##0\"),\"\")","v":"1,995"},{"$f":"IF(P_20号様式!L45= \"\",\"\",IF(VALUE(FIXED(P_20号様式!L45,0,TRUE))<>P_20号様式!L45,RIGHT(FIXED(P_20号様式!L45,3,FALSE),4),\"\"))","v":""},{"$f":"IF(P_20号様式!O45<> \"\",TEXT(INT(P_20号様式!O45),\"#,##0\"),\"\")","v":"760"},{"$f":"IF(P_20号様式!O45= \"\",\"\",IF(VALUE(FIXED(P_20号様式!O45,0,TRUE))<>P_20号様式!O45,RIGHT(FIXED(P_20号様式!O45,3,FALSE),4),\"\"))","v":""},{"$f":"IF(P_20号様式!R45<> \"\",TEXT(INT(P_20号様式!R45),\"#,##0\"),\"\")","v":"799"},{"$f":"IF(P_20号様式!R45= \"\",\"\",IF(VALUE(FIXED(P_20号様式!R45,0,TRUE))<>P_20号様式!R45,RIGHT(FIXED(P_20号様式!R45,3,FALSE),4),\"\"))","v":""},{"$f":"IF(P_20号様式!U45<> \"\",TEXT(INT(P_20号様式!U45),\"#,##0\"),\"\")","v":"1,814"},{"$f":"IF(P_20号様式!U45= \"\",\"\",IF(VALUE(FIXED(P_20号様式!U45,0,TRUE))<>P_20号様式!U45,RIGHT(FIXED(P_20号様式!U45,3,FALSE),4),\"\"))","v":""},{"$f":"IF(P_20号様式!X45<> \"\",TEXT(INT(P_20号様式!X45),\"#,##0\"),\"\")","v":"2,037"},{"$f":"IF(P_20号様式!X45= \"\",\"\",IF(VALUE(FIXED(P_20号様式!X45,0,TRUE))<>P_20号様式!X45,RIGHT(FIXED(P_20号様式!X45,3,FALSE),4),\"\"))","v":""},{"$f":"IF(P_20号様式!AA45<> \"\",TEXT(INT(P_20号様式!AA45),\"#,##0\"),\"\")","v":"595"},{"$f":"IF(P_20号様式!AA45= \"\",\"\",IF(VALUE(FIXED(P_20号様式!AA45,0,TRUE))<>P_20号様式!AA45,RIGHT(FIXED(P_20号様式!AA45,3,FALSE),4),\"\"))","v":""},{"$f":"IF(P_20号様式!AD45<> \"\",TEXT(INT(P_20号様式!AD45),\"#,##0\"),\"\")","v":""},{"$f":"IF(P_20号様式!AD45= \"\",\"\",IF(VALUE(FIXED(P_20号様式!AD45,0,TRUE))<>P_20号様式!AD45,RIGHT(FIXED(P_20号様式!AD45,3,FALSE),4),\"\"))","v":""},{"$f":"IF(P_20号様式!AG45<> \"\",TEXT(INT(P_20号様式!AG45),\"#,##0\"),\"\")","v":""},{"$f":"IF(P_20号様式!AG45= \"\",\"\",IF(VALUE(FIXED(P_20号様式!AG45,0,TRUE))<>P_20号様式!AG45,RIGHT(FIXED(P_20号様式!AG45,3,FALSE),4),\"\"))","v":""},{"$f":"IF(P_20号様式!AH45<> \"\",TEXT(INT(P_20号様式!AH45),\"#,##0\"),\"\")","v":"13,464"},{"$f":"IF(P_20号様式!AH45= \"\",\"\",IF(VALUE(FIXED(P_20号様式!AH45,0,TRUE))<>P_20号様式!AH45,RIGHT(FIXED(P_20号様式!AH45,3,FALSE),4),\"\"))","v":""}]
[{"$f":"IF(P_20号様式!C46=\"\",\"\",P_20号様式!C46)","v":"大和村"},null,{"$f":"IF(P_20号様式!F46<> \"\",TEXT(INT(P_20号様式!F46),\"#,##0\"),\"\")","v":"267"},{"$f":"IF(P_20号様式!F46= \"\",\"\",IF(VALUE(FIXED(P_20号様式!F46,0,TRUE))<>P_20号様式!F46,RIGHT(FIXED(P_20号様式!F46,3,FALSE),4),\"\"))","v":""},{"$f":"IF(P_20号様式!I46<> \"\",TEXT(INT(P_20号様式!I46),\"#,##0\"),\"\")","v":"2"},{"$f":"IF(P_20号様式!I46= \"\",\"\",IF(VALUE(FIXED(P_20号様式!I46,0,TRUE))<>P_20号様式!I46,RIGHT(FIXED(P_20号様式!I46,3,FALSE),4),\"\"))","v":""},{"$f":"IF(P_20号様式!L46<> \"\",TEXT(INT(P_20号様式!L46),\"#,##0\"),\"\")","v":"371"},{"$f":"IF(P_20号様式!L46= \"\",\"\",IF(VALUE(FIXED(P_20号様式!L46,0,TRUE))<>P_20号様式!L46,RIGHT(FIXED(P_20号様式!L46,3,FALSE),4),\"\"))","v":""},{"$f":"IF(P_20号様式!O46<> \"\",TEXT(INT(P_20号様式!O46),\"#,##0\"),\"\")","v":"13"},{"$f":"IF(P_20号様式!O46= \"\",\"\",IF(VALUE(FIXED(P_20号様式!O46,0,TRUE))<>P_20号様式!O46,RIGHT(FIXED(P_20号様式!O46,3,FALSE),4),\"\"))","v":""},{"$f":"IF(P_20号様式!R46<> \"\",TEXT(INT(P_20号様式!R46),\"#,##0\"),\"\")","v":"72"},{"$f":"IF(P_20号様式!R46= \"\",\"\",IF(VALUE(FIXED(P_20号様式!R46,0,TRUE))<>P_20号様式!R46,RIGHT(FIXED(P_20号様式!R46,3,FALSE),4),\"\"))","v":""},{"$f":"IF(P_20号様式!U46<> \"\",TEXT(INT(P_20号様式!U46),\"#,##0\"),\"\")","v":"85"},{"$f":"IF(P_20号様式!U46= \"\",\"\",IF(VALUE(FIXED(P_20号様式!U46,0,TRUE))<>P_20号様式!U46,RIGHT(FIXED(P_20号様式!U46,3,FALSE),4),\"\"))","v":""},{"$f":"IF(P_20号様式!X46<> \"\",TEXT(INT(P_20号様式!X46),\"#,##0\"),\"\")","v":"118"},{"$f":"IF(P_20号様式!X46= \"\",\"\",IF(VALUE(FIXED(P_20号様式!X46,0,TRUE))<>P_20号様式!X46,RIGHT(FIXED(P_20号様式!X46,3,FALSE),4),\"\"))","v":""},{"$f":"IF(P_20号様式!AA46<> \"\",TEXT(INT(P_20号様式!AA46),\"#,##0\"),\"\")","v":"17"},{"$f":"IF(P_20号様式!AA46= \"\",\"\",IF(VALUE(FIXED(P_20号様式!AA46,0,TRUE))<>P_20号様式!AA46,RIGHT(FIXED(P_20号様式!AA46,3,FALSE),4),\"\"))","v":""},{"$f":"IF(P_20号様式!AD46<> \"\",TEXT(INT(P_20号様式!AD46),\"#,##0\"),\"\")","v":""},{"$f":"IF(P_20号様式!AD46= \"\",\"\",IF(VALUE(FIXED(P_20号様式!AD46,0,TRUE))<>P_20号様式!AD46,RIGHT(FIXED(P_20号様式!AD46,3,FALSE),4),\"\"))","v":""},{"$f":"IF(P_20号様式!AG46<> \"\",TEXT(INT(P_20号様式!AG46),\"#,##0\"),\"\")","v":""},{"$f":"IF(P_20号様式!AG46= \"\",\"\",IF(VALUE(FIXED(P_20号様式!AG46,0,TRUE))<>P_20号様式!AG46,RIGHT(FIXED(P_20号様式!AG46,3,FALSE),4),\"\"))","v":""},{"$f":"IF(P_20号様式!AH46<> \"\",TEXT(INT(P_20号様式!AH46),\"#,##0\"),\"\")","v":"945"},{"$f":"IF(P_20号様式!AH46= \"\",\"\",IF(VALUE(FIXED(P_20号様式!AH46,0,TRUE))<>P_20号様式!AH46,RIGHT(FIXED(P_20号様式!AH46,3,FALSE),4),\"\"))","v":""}]
[{"$f":"IF(P_20号様式!C47=\"\",\"\",P_20号様式!C47)","v":"宇検村"},null,{"$f":"IF(P_20号様式!F47<> \"\",TEXT(INT(P_20号様式!F47),\"#,##0\"),\"\")","v":"453"},{"$f":"IF(P_20号様式!F47= \"\",\"\",IF(VALUE(FIXED(P_20号様式!F47,0,TRUE))<>P_20号様式!F47,RIGHT(FIXED(P_20号様式!F47,3,FALSE),4),\"\"))","v":""},{"$f":"IF(P_20号様式!I47<> \"\",TEXT(INT(P_20号様式!I47),\"#,##0\"),\"\")","v":"10"},{"$f":"IF(P_20号様式!I47= \"\",\"\",IF(VALUE(FIXED(P_20号様式!I47,0,TRUE))<>P_20号様式!I47,RIGHT(FIXED(P_20号様式!I47,3,FALSE),4),\"\"))","v":""},{"$f":"IF(P_20号様式!L47<> \"\",TEXT(INT(P_20号様式!L47),\"#,##0\"),\"\")","v":"524"},{"$f":"IF(P_20号様式!L47= \"\",\"\",IF(VALUE(FIXED(P_20号様式!L47,0,TRUE))<>P_20号様式!L47,RIGHT(FIXED(P_20号様式!L47,3,FALSE),4),\"\"))","v":""},{"$f":"IF(P_20号様式!O47<> \"\",TEXT(INT(P_20号様式!O47),\"#,##0\"),\"\")","v":"10"},{"$f":"IF(P_20号様式!O47= \"\",\"\",IF(VALUE(FIXED(P_20号様式!O47,0,TRUE))<>P_20号様式!O47,RIGHT(FIXED(P_20号様式!O47,3,FALSE),4),\"\"))","v":""},{"$f":"IF(P_20号様式!R47<> \"\",TEXT(INT(P_20号様式!R47),\"#,##0\"),\"\")","v":"50"},{"$f":"IF(P_20号様式!R47= \"\",\"\",IF(VALUE(FIXED(P_20号様式!R47,0,TRUE))<>P_20号様式!R47,RIGHT(FIXED(P_20号様式!R47,3,FALSE),4),\"\"))","v":""},{"$f":"IF(P_20号様式!U47<> \"\",TEXT(INT(P_20号様式!U47),\"#,##0\"),\"\")","v":"91"},{"$f":"IF(P_20号様式!U47= \"\",\"\",IF(VALUE(FIXED(P_20号様式!U47,0,TRUE))<>P_20号様式!U47,RIGHT(FIXED(P_20号様式!U47,3,FALSE),4),\"\"))","v":""},{"$f":"IF(P_20号様式!X47<> \"\",TEXT(INT(P_20号様式!X47),\"#,##0\"),\"\")","v":"142"},{"$f":"IF(P_20号様式!X47= \"\",\"\",IF(VALUE(FIXED(P_20号様式!X47,0,TRUE))<>P_20号様式!X47,RIGHT(FIXED(P_20号様式!X47,3,FALSE),4),\"\"))","v":""},{"$f":"IF(P_20号様式!AA47<> \"\",TEXT(INT(P_20号様式!AA47),\"#,##0\"),\"\")","v":"25"},{"$f":"IF(P_20号様式!AA47= \"\",\"\",IF(VALUE(FIXED(P_20号様式!AA47,0,TRUE))<>P_20号様式!AA47,RIGHT(FIXED(P_20号様式!AA47,3,FALSE),4),\"\"))","v":""},{"$f":"IF(P_20号様式!AD47<> \"\",TEXT(INT(P_20号様式!AD47),\"#,##0\"),\"\")","v":""},{"$f":"IF(P_20号様式!AD47= \"\",\"\",IF(VALUE(FIXED(P_20号様式!AD47,0,TRUE))<>P_20号様式!AD47,RIGHT(FIXED(P_20号様式!AD47,3,FALSE),4),\"\"))","v":""},{"$f":"IF(P_20号様式!AG47<> \"\",TEXT(INT(P_20号様式!AG47),\"#,##0\"),\"\")","v":""},{"$f":"IF(P_20号様式!AG47= \"\",\"\",IF(VALUE(FIXED(P_20号様式!AG47,0,TRUE))<>P_20号様式!AG47,RIGHT(FIXED(P_20号様式!AG47,3,FALSE),4),\"\"))","v":""},{"$f":"IF(P_20号様式!AH47<> \"\",TEXT(INT(P_20号様式!AH47),\"#,##0\"),\"\")","v":"1,305"},{"$f":"IF(P_20号様式!AH47= \"\",\"\",IF(VALUE(FIXED(P_20号様式!AH47,0,TRUE))<>P_20号様式!AH47,RIGHT(FIXED(P_20号様式!AH47,3,FALSE),4),\"\"))","v":""}]
[{"$f":"IF(P_20号様式!C48=\"\",\"\",P_20号様式!C48)","v":"瀬戸内町"},null,{"$f":"IF(P_20号様式!F48<> \"\",TEXT(INT(P_20号様式!F48),\"#,##0\"),\"\")","v":"1,704"},{"$f":"IF(P_20号様式!F48= \"\",\"\",IF(VALUE(FIXED(P_20号様式!F48,0,TRUE))<>P_20号様式!F48,RIGHT(FIXED(P_20号様式!F48,3,FALSE),4),\"\"))","v":""},{"$f":"IF(P_20号様式!I48<> \"\",TEXT(INT(P_20号様式!I48),\"#,##0\"),\"\")","v":"29"},{"$f":"IF(P_20号様式!I48= \"\",\"\",IF(VALUE(FIXED(P_20号様式!I48,0,TRUE))<>P_20号様式!I48,RIGHT(FIXED(P_20号様式!I48,3,FALSE),4),\"\"))","v":""},{"$f":"IF(P_20号様式!L48<> \"\",TEXT(INT(P_20号様式!L48),\"#,##0\"),\"\")","v":"2,203"},{"$f":"IF(P_20号様式!L48= \"\",\"\",IF(VALUE(FIXED(P_20号様式!L48,0,TRUE))<>P_20号様式!L48,RIGHT(FIXED(P_20号様式!L48,3,FALSE),4),\"\"))","v":""},{"$f":"IF(P_20号様式!O48<> \"\",TEXT(INT(P_20号様式!O48),\"#,##0\"),\"\")","v":"61"},{"$f":"IF(P_20号様式!O48= \"\",\"\",IF(VALUE(FIXED(P_20号様式!O48,0,TRUE))<>P_20号様式!O48,RIGHT(FIXED(P_20号様式!O48,3,FALSE),4),\"\"))","v":""},{"$f":"IF(P_20号様式!R48<> \"\",TEXT(INT(P_20号様式!R48),\"#,##0\"),\"\")","v":"409"},{"$f":"IF(P_20号様式!R48= \"\",\"\",IF(VALUE(FIXED(P_20号様式!R48,0,TRUE))<>P_20号様式!R48,RIGHT(FIXED(P_20号様式!R48,3,FALSE),4),\"\"))","v":""},{"$f":"IF(P_20号様式!U48<> \"\",TEXT(INT(P_20号様式!U48),\"#,##0\"),\"\")","v":"429"},{"$f":"IF(P_20号様式!U48= \"\",\"\",IF(VALUE(FIXED(P_20号様式!U48,0,TRUE))<>P_20号様式!U48,RIGHT(FIXED(P_20号様式!U48,3,FALSE),4),\"\"))","v":""},{"$f":"IF(P_20号様式!X48<> \"\",TEXT(INT(P_20号様式!X48),\"#,##0\"),\"\")","v":"737"},{"$f":"IF(P_20号様式!X48= \"\",\"\",IF(VALUE(FIXED(P_20号様式!X48,0,TRUE))<>P_20号様式!X48,RIGHT(FIXED(P_20号様式!X48,3,FALSE),4),\"\"))","v":""},{"$f":"IF(P_20号様式!AA48<> \"\",TEXT(INT(P_20号様式!AA48),\"#,##0\"),\"\")","v":"161"},{"$f":"IF(P_20号様式!AA48= \"\",\"\",IF(VALUE(FIXED(P_20号様式!AA48,0,TRUE))<>P_20号様式!AA48,RIGHT(FIXED(P_20号様式!AA48,3,FALSE),4),\"\"))","v":""},{"$f":"IF(P_20号様式!AD48<> \"\",TEXT(INT(P_20号様式!AD48),\"#,##0\"),\"\")","v":""},{"$f":"IF(P_20号様式!AD48= \"\",\"\",IF(VALUE(FIXED(P_20号様式!AD48,0,TRUE))<>P_20号様式!AD48,RIGHT(FIXED(P_20号様式!AD48,3,FALSE),4),\"\"))","v":""},{"$f":"IF(P_20号様式!AG48<> \"\",TEXT(INT(P_20号様式!AG48),\"#,##0\"),\"\")","v":""},{"$f":"IF(P_20号様式!AG48= \"\",\"\",IF(VALUE(FIXED(P_20号様式!AG48,0,TRUE))<>P_20号様式!AG48,RIGHT(FIXED(P_20号様式!AG48,3,FALSE),4),\"\"))","v":""},{"$f":"IF(P_20号様式!AH48<> \"\",TEXT(INT(P_20号様式!AH48),\"#,##0\"),\"\")","v":"5,733"},{"$f":"IF(P_20号様式!AH48= \"\",\"\",IF(VALUE(FIXED(P_20号様式!AH48,0,TRUE))<>P_20号様式!AH48,RIGHT(FIXED(P_20号様式!AH48,3,FALSE),4),\"\"))","v":""}]
[{"$f":"IF(P_20号様式!C49=\"\",\"\",P_20号様式!C49)","v":"龍郷町"},null,{"$f":"IF(P_20号様式!F49<> \"\",TEXT(INT(P_20号様式!F49),\"#,##0\"),\"\")","v":"1,101"},{"$f":"IF(P_20号様式!F49= \"\",\"\",IF(VALUE(FIXED(P_20号様式!F49,0,TRUE))<>P_20号様式!F49,RIGHT(FIXED(P_20号様式!F49,3,FALSE),4),\"\"))","v":""},{"$f":"IF(P_20号様式!I49<> \"\",TEXT(INT(P_20号様式!I49),\"#,##0\"),\"\")","v":"27"},{"$f":"IF(P_20号様式!I49= \"\",\"\",IF(VALUE(FIXED(P_20号様式!I49,0,TRUE))<>P_20号様式!I49,RIGHT(FIXED(P_20号様式!I49,3,FALSE),4),\"\"))","v":""},{"$f":"IF(P_20号様式!L49<> \"\",TEXT(INT(P_20号様式!L49),\"#,##0\"),\"\")","v":"1,260"},{"$f":"IF(P_20号様式!L49= \"\",\"\",IF(VALUE(FIXED(P_20号様式!L49,0,TRUE))<>P_20号様式!L49,RIGHT(FIXED(P_20号様式!L49,3,FALSE),4),\"\"))","v":""},{"$f":"IF(P_20号様式!O49<> \"\",TEXT(INT(P_20号様式!O49),\"#,##0\"),\"\")","v":"66"},{"$f":"IF(P_20号様式!O49= \"\",\"\",IF(VALUE(FIXED(P_20号様式!O49,0,TRUE))<>P_20号様式!O49,RIGHT(FIXED(P_20号様式!O49,3,FALSE),4),\"\"))","v":""},{"$f":"IF(P_20号様式!R49<> \"\",TEXT(INT(P_20号様式!R49),\"#,##0\"),\"\")","v":"245"},{"$f":"IF(P_20号様式!R49= \"\",\"\",IF(VALUE(FIXED(P_20号様式!R49,0,TRUE))<>P_20号様式!R49,RIGHT(FIXED(P_20号様式!R49,3,FALSE),4),\"\"))","v":""},{"$f":"IF(P_20号様式!U49<> \"\",TEXT(INT(P_20号様式!U49),\"#,##0\"),\"\")","v":"393"},{"$f":"IF(P_20号様式!U49= \"\",\"\",IF(VALUE(FIXED(P_20号様式!U49,0,TRUE))<>P_20号様式!U49,RIGHT(FIXED(P_20号様式!U49,3,FALSE),4),\"\"))","v":""},{"$f":"IF(P_20号様式!X49<> \"\",TEXT(INT(P_20号様式!X49),\"#,##0\"),\"\")","v":"686"},{"$f":"IF(P_20号様式!X49= \"\",\"\",IF(VALUE(FIXED(P_20号様式!X49,0,TRUE))<>P_20号様式!X49,RIGHT(FIXED(P_20号様式!X49,3,FALSE),4),\"\"))","v":""},{"$f":"IF(P_20号様式!AA49<> \"\",TEXT(INT(P_20号様式!AA49),\"#,##0\"),\"\")","v":"162"},{"$f":"IF(P_20号様式!AA49= \"\",\"\",IF(VALUE(FIXED(P_20号様式!AA49,0,TRUE))<>P_20号様式!AA49,RIGHT(FIXED(P_20号様式!AA49,3,FALSE),4),\"\"))","v":""},{"$f":"IF(P_20号様式!AD49<> \"\",TEXT(INT(P_20号様式!AD49),\"#,##0\"),\"\")","v":""},{"$f":"IF(P_20号様式!AD49= \"\",\"\",IF(VALUE(FIXED(P_20号様式!AD49,0,TRUE))<>P_20号様式!AD49,RIGHT(FIXED(P_20号様式!AD49,3,FALSE),4),\"\"))","v":""},{"$f":"IF(P_20号様式!AG49<> \"\",TEXT(INT(P_20号様式!AG49),\"#,##0\"),\"\")","v":""},{"$f":"IF(P_20号様式!AG49= \"\",\"\",IF(VALUE(FIXED(P_20号様式!AG49,0,TRUE))<>P_20号様式!AG49,RIGHT(FIXED(P_20号様式!AG49,3,FALSE),4),\"\"))","v":""},{"$f":"IF(P_20号様式!AH49<> \"\",TEXT(INT(P_20号様式!AH49),\"#,##0\"),\"\")","v":"3,940"},{"$f":"IF(P_20号様式!AH49= \"\",\"\",IF(VALUE(FIXED(P_20号様式!AH49,0,TRUE))<>P_20号様式!AH49,RIGHT(FIXED(P_20号様式!AH49,3,FALSE),4),\"\"))","v":""}]
[{"$f":"IF(P_20号様式!C50=\"\",\"\",P_20号様式!C50)","v":"喜界町"},null,{"$f":"IF(P_20号様式!F50<> \"\",TEXT(INT(P_20号様式!F50),\"#,##0\"),\"\")","v":"1,427"},{"$f":"IF(P_20号様式!F50= \"\",\"\",IF(VALUE(FIXED(P_20号様式!F50,0,TRUE))<>P_20号様式!F50,RIGHT(FIXED(P_20号様式!F50,3,FALSE),4),\"\"))","v":""},{"$f":"IF(P_20号様式!I50<> \"\",TEXT(INT(P_20号様式!I50),\"#,##0\"),\"\")","v":"23"},{"$f":"IF(P_20号様式!I50= \"\",\"\",IF(VALUE(FIXED(P_20号様式!I50,0,TRUE))<>P_20号様式!I50,RIGHT(FIXED(P_20号様式!I50,3,FALSE),4),\"\"))","v":""},{"$f":"IF(P_20号様式!L50<> \"\",TEXT(INT(P_20号様式!L50),\"#,##0\"),\"\")","v":"1,372"},{"$f":"IF(P_20号様式!L50= \"\",\"\",IF(VALUE(FIXED(P_20号様式!L50,0,TRUE))<>P_20号様式!L50,RIGHT(FIXED(P_20号様式!L50,3,FALSE),4),\"\"))","v":""},{"$f":"IF(P_20号様式!O50<> \"\",TEXT(INT(P_20号様式!O50),\"#,##0\"),\"\")","v":"44"},{"$f":"IF(P_20号様式!O50= \"\",\"\",IF(VALUE(FIXED(P_20号様式!O50,0,TRUE))<>P_20号様式!O50,RIGHT(FIXED(P_20号様式!O50,3,FALSE),4),\"\"))","v":""},{"$f":"IF(P_20号様式!R50<> \"\",TEXT(INT(P_20号様式!R50),\"#,##0\"),\"\")","v":"212"},{"$f":"IF(P_20号様式!R50= \"\",\"\",IF(VALUE(FIXED(P_20号様式!R50,0,TRUE))<>P_20号様式!R50,RIGHT(FIXED(P_20号様式!R50,3,FALSE),4),\"\"))","v":""},{"$f":"IF(P_20号様式!U50<> \"\",TEXT(INT(P_20号様式!U50),\"#,##0\"),\"\")","v":"351"},{"$f":"IF(P_20号様式!U50= \"\",\"\",IF(VALUE(FIXED(P_20号様式!U50,0,TRUE))<>P_20号様式!U50,RIGHT(FIXED(P_20号様式!U50,3,FALSE),4),\"\"))","v":""},{"$f":"IF(P_20号様式!X50<> \"\",TEXT(INT(P_20号様式!X50),\"#,##0\"),\"\")","v":"663"},{"$f":"IF(P_20号様式!X50= \"\",\"\",IF(VALUE(FIXED(P_20号様式!X50,0,TRUE))<>P_20号様式!X50,RIGHT(FIXED(P_20号様式!X50,3,FALSE),4),\"\"))","v":""},{"$f":"IF(P_20号様式!AA50<> \"\",TEXT(INT(P_20号様式!AA50),\"#,##0\"),\"\")","v":"145"},{"$f":"IF(P_20号様式!AA50= \"\",\"\",IF(VALUE(FIXED(P_20号様式!AA50,0,TRUE))<>P_20号様式!AA50,RIGHT(FIXED(P_20号様式!AA50,3,FALSE),4),\"\"))","v":""},{"$f":"IF(P_20号様式!AD50<> \"\",TEXT(INT(P_20号様式!AD50),\"#,##0\"),\"\")","v":""},{"$f":"IF(P_20号様式!AD50= \"\",\"\",IF(VALUE(FIXED(P_20号様式!AD50,0,TRUE))<>P_20号様式!AD50,RIGHT(FIXED(P_20号様式!AD50,3,FALSE),4),\"\"))","v":""},{"$f":"IF(P_20号様式!AG50<> \"\",TEXT(INT(P_20号様式!AG50),\"#,##0\"),\"\")","v":""},{"$f":"IF(P_20号様式!AG50= \"\",\"\",IF(VALUE(FIXED(P_20号様式!AG50,0,TRUE))<>P_20号様式!AG50,RIGHT(FIXED(P_20号様式!AG50,3,FALSE),4),\"\"))","v":""},{"$f":"IF(P_20号様式!AH50<> \"\",TEXT(INT(P_20号様式!AH50),\"#,##0\"),\"\")","v":"4,237"},{"$f":"IF(P_20号様式!AH50= \"\",\"\",IF(VALUE(FIXED(P_20号様式!AH50,0,TRUE))<>P_20号様式!AH50,RIGHT(FIXED(P_20号様式!AH50,3,FALSE),4),\"\"))","v":""}]
[{"$f":"IF(P_20号様式!C51=\"\",\"\",P_20号様式!C51)","v":"徳之島町"},null,{"$f":"IF(P_20号様式!F51<> \"\",TEXT(INT(P_20号様式!F51),\"#,##0\"),\"\")","v":"2,187"},{"$f":"IF(P_20号様式!F51= \"\",\"\",IF(VALUE(FIXED(P_20号様式!F51,0,TRUE))<>P_20号様式!F51,RIGHT(FIXED(P_20号様式!F51,3,FALSE),4),\"\"))","v":""},{"$f":"IF(P_20号様式!I51<> \"\",TEXT(INT(P_20号様式!I51),\"#,##0\"),\"\")","v":"17"},{"$f":"IF(P_20号様式!I51= \"\",\"\",IF(VALUE(FIXED(P_20号様式!I51,0,TRUE))<>P_20号様式!I51,RIGHT(FIXED(P_20号様式!I51,3,FALSE),4),\"\"))","v":""},{"$f":"IF(P_20号様式!L51<> \"\",TEXT(INT(P_20号様式!L51),\"#,##0\"),\"\")","v":"1,434"},{"$f":"IF(P_20号様式!L51= \"\",\"\",IF(VALUE(FIXED(P_20号様式!L51,0,TRUE))<>P_20号様式!L51,RIGHT(FIXED(P_20号様式!L51,3,FALSE),4),\"\"))","v":""},{"$f":"IF(P_20号様式!O51<> \"\",TEXT(INT(P_20号様式!O51),\"#,##0\"),\"\")","v":"99"},{"$f":"IF(P_20号様式!O51= \"\",\"\",IF(VALUE(FIXED(P_20号様式!O51,0,TRUE))<>P_20号様式!O51,RIGHT(FIXED(P_20号様式!O51,3,FALSE),4),\"\"))","v":""},{"$f":"IF(P_20号様式!R51<> \"\",TEXT(INT(P_20号様式!R51),\"#,##0\"),\"\")","v":"418"},{"$f":"IF(P_20号様式!R51= \"\",\"\",IF(VALUE(FIXED(P_20号様式!R51,0,TRUE))<>P_20号様式!R51,RIGHT(FIXED(P_20号様式!R51,3,FALSE),4),\"\"))","v":""},{"$f":"IF(P_20号様式!U51<> \"\",TEXT(INT(P_20号様式!U51),\"#,##0\"),\"\")","v":"529"},{"$f":"IF(P_20号様式!U51= \"\",\"\",IF(VALUE(FIXED(P_20号様式!U51,0,TRUE))<>P_20号様式!U51,RIGHT(FIXED(P_20号様式!U51,3,FALSE),4),\"\"))","v":""},{"$f":"IF(P_20号様式!X51<> \"\",TEXT(INT(P_20号様式!X51),\"#,##0\"),\"\")","v":"1,015"},{"$f":"IF(P_20号様式!X51= \"\",\"\",IF(VALUE(FIXED(P_20号様式!X51,0,TRUE))<>P_20号様式!X51,RIGHT(FIXED(P_20号様式!X51,3,FALSE),4),\"\"))","v":""},{"$f":"IF(P_20号様式!AA51<> \"\",TEXT(INT(P_20号様式!AA51),\"#,##0\"),\"\")","v":"171"},{"$f":"IF(P_20号様式!AA51= \"\",\"\",IF(VALUE(FIXED(P_20号様式!AA51,0,TRUE))<>P_20号様式!AA51,RIGHT(FIXED(P_20号様式!AA51,3,FALSE),4),\"\"))","v":""},{"$f":"IF(P_20号様式!AD51<> \"\",TEXT(INT(P_20号様式!AD51),\"#,##0\"),\"\")","v":""},{"$f":"IF(P_20号様式!AD51= \"\",\"\",IF(VALUE(FIXED(P_20号様式!AD51,0,TRUE))<>P_20号様式!AD51,RIGHT(FIXED(P_20号様式!AD51,3,FALSE),4),\"\"))","v":""},{"$f":"IF(P_20号様式!AG51<> \"\",TEXT(INT(P_20号様式!AG51),\"#,##0\"),\"\")","v":""},{"$f":"IF(P_20号様式!AG51= \"\",\"\",IF(VALUE(FIXED(P_20号様式!AG51,0,TRUE))<>P_20号様式!AG51,RIGHT(FIXED(P_20号様式!AG51,3,FALSE),4),\"\"))","v":""},{"$f":"IF(P_20号様式!AH51<> \"\",TEXT(INT(P_20号様式!AH51),\"#,##0\"),\"\")","v":"5,870"},{"$f":"IF(P_20号様式!AH51= \"\",\"\",IF(VALUE(FIXED(P_20号様式!AH51,0,TRUE))<>P_20号様式!AH51,RIGHT(FIXED(P_20号様式!AH51,3,FALSE),4),\"\"))","v":""}]
[{"$f":"IF(P_20号様式!C52=\"\",\"\",P_20号様式!C52)","v":"天城町"},null,{"$f":"IF(P_20号様式!F52<> \"\",TEXT(INT(P_20号様式!F52),\"#,##0\"),\"\")","v":"1,282"},{"$f":"IF(P_20号様式!F52= \"\",\"\",IF(VALUE(FIXED(P_20号様式!F52,0,TRUE))<>P_20号様式!F52,RIGHT(FIXED(P_20号様式!F52,3,FALSE),4),\"\"))","v":""},{"$f":"IF(P_20号様式!I52<> \"\",TEXT(INT(P_20号様式!I52),\"#,##0\"),\"\")","v":"12"},{"$f":"IF(P_20号様式!I52= \"\",\"\",IF(VALUE(FIXED(P_20号様式!I52,0,TRUE))<>P_20号様式!I52,RIGHT(FIXED(P_20号様式!I52,3,FALSE),4),\"\"))","v":""},{"$f":"IF(P_20号様式!L52<> \"\",TEXT(INT(P_20号様式!L52),\"#,##0\"),\"\")","v":"927"},{"$f":"IF(P_20号様式!L52= \"\",\"\",IF(VALUE(FIXED(P_20号様式!L52,0,TRUE))<>P_20号様式!L52,RIGHT(FIXED(P_20号様式!L52,3,FALSE),4),\"\"))","v":""},{"$f":"IF(P_20号様式!O52<> \"\",TEXT(INT(P_20号様式!O52),\"#,##0\"),\"\")","v":"37"},{"$f":"IF(P_20号様式!O52= \"\",\"\",IF(VALUE(FIXED(P_20号様式!O52,0,TRUE))<>P_20号様式!O52,RIGHT(FIXED(P_20号様式!O52,3,FALSE),4),\"\"))","v":""},{"$f":"IF(P_20号様式!R52<> \"\",TEXT(INT(P_20号様式!R52),\"#,##0\"),\"\")","v":"199"},{"$f":"IF(P_20号様式!R52= \"\",\"\",IF(VALUE(FIXED(P_20号様式!R52,0,TRUE))<>P_20号様式!R52,RIGHT(FIXED(P_20号様式!R52,3,FALSE),4),\"\"))","v":""},{"$f":"IF(P_20号様式!U52<> \"\",TEXT(INT(P_20号様式!U52),\"#,##0\"),\"\")","v":"218"},{"$f":"IF(P_20号様式!U52= \"\",\"\",IF(VALUE(FIXED(P_20号様式!U52,0,TRUE))<>P_20号様式!U52,RIGHT(FIXED(P_20号様式!U52,3,FALSE),4),\"\"))","v":""},{"$f":"IF(P_20号様式!X52<> \"\",TEXT(INT(P_20号様式!X52),\"#,##0\"),\"\")","v":"548"},{"$f":"IF(P_20号様式!X52= \"\",\"\",IF(VALUE(FIXED(P_20号様式!X52,0,TRUE))<>P_20号様式!X52,RIGHT(FIXED(P_20号様式!X52,3,FALSE),4),\"\"))","v":""},{"$f":"IF(P_20号様式!AA52<> \"\",TEXT(INT(P_20号様式!AA52),\"#,##0\"),\"\")","v":"104"},{"$f":"IF(P_20号様式!AA52= \"\",\"\",IF(VALUE(FIXED(P_20号様式!AA52,0,TRUE))<>P_20号様式!AA52,RIGHT(FIXED(P_20号様式!AA52,3,FALSE),4),\"\"))","v":""},{"$f":"IF(P_20号様式!AD52<> \"\",TEXT(INT(P_20号様式!AD52),\"#,##0\"),\"\")","v":""},{"$f":"IF(P_20号様式!AD52= \"\",\"\",IF(VALUE(FIXED(P_20号様式!AD52,0,TRUE))<>P_20号様式!AD52,RIGHT(FIXED(P_20号様式!AD52,3,FALSE),4),\"\"))","v":""},{"$f":"IF(P_20号様式!AG52<> \"\",TEXT(INT(P_20号様式!AG52),\"#,##0\"),\"\")","v":""},{"$f":"IF(P_20号様式!AG52= \"\",\"\",IF(VALUE(FIXED(P_20号様式!AG52,0,TRUE))<>P_20号様式!AG52,RIGHT(FIXED(P_20号様式!AG52,3,FALSE),4),\"\"))","v":""},{"$f":"IF(P_20号様式!AH52<> \"\",TEXT(INT(P_20号様式!AH52),\"#,##0\"),\"\")","v":"3,327"},{"$f":"IF(P_20号様式!AH52= \"\",\"\",IF(VALUE(FIXED(P_20号様式!AH52,0,TRUE))<>P_20号様式!AH52,RIGHT(FIXED(P_20号様式!AH52,3,FALSE),4),\"\"))","v":""}]
[{"$f":"IF(P_20号様式!C53=\"\",\"\",P_20号様式!C53)","v":"伊仙町"},null,{"$f":"IF(P_20号様式!F53<> \"\",TEXT(INT(P_20号様式!F53),\"#,##0\"),\"\")","v":"1,814"},{"$f":"IF(P_20号様式!F53= \"\",\"\",IF(VALUE(FIXED(P_20号様式!F53,0,TRUE))<>P_20号様式!F53,RIGHT(FIXED(P_20号様式!F53,3,FALSE),4),\"\"))","v":""},{"$f":"IF(P_20号様式!I53<> \"\",TEXT(INT(P_20号様式!I53),\"#,##0\"),\"\")","v":"13"},{"$f":"IF(P_20号様式!I53= \"\",\"\",IF(VALUE(FIXED(P_20号様式!I53,0,TRUE))<>P_20号様式!I53,RIGHT(FIXED(P_20号様式!I53,3,FALSE),4),\"\"))","v":""},{"$f":"IF(P_20号様式!L53<> \"\",TEXT(INT(P_20号様式!L53),\"#,##0\"),\"\")","v":"1,343"},{"$f":"IF(P_20号様式!L53= \"\",\"\",IF(VALUE(FIXED(P_20号様式!L53,0,TRUE))<>P_20号様式!L53,RIGHT(FIXED(P_20号様式!L53,3,FALSE),4),\"\"))","v":""},{"$f":"IF(P_20号様式!O53<> \"\",TEXT(INT(P_20号様式!O53),\"#,##0\"),\"\")","v":"53"},{"$f":"IF(P_20号様式!O53= \"\",\"\",IF(VALUE(FIXED(P_20号様式!O53,0,TRUE))<>P_20号様式!O53,RIGHT(FIXED(P_20号様式!O53,3,FALSE),4),\"\"))","v":""},{"$f":"IF(P_20号様式!R53<> \"\",TEXT(INT(P_20号様式!R53),\"#,##0\"),\"\")","v":"296"},{"$f":"IF(P_20号様式!R53= \"\",\"\",IF(VALUE(FIXED(P_20号様式!R53,0,TRUE))<>P_20号様式!R53,RIGHT(FIXED(P_20号様式!R53,3,FALSE),4),\"\"))","v":""},{"$f":"IF(P_20号様式!U53<> \"\",TEXT(INT(P_20号様式!U53),\"#,##0\"),\"\")","v":"343"},{"$f":"IF(P_20号様式!U53= \"\",\"\",IF(VALUE(FIXED(P_20号様式!U53,0,TRUE))<>P_20号様式!U53,RIGHT(FIXED(P_20号様式!U53,3,FALSE),4),\"\"))","v":""},{"$f":"IF(P_20号様式!X53<> \"\",TEXT(INT(P_20号様式!X53),\"#,##0\"),\"\")","v":"603"},{"$f":"IF(P_20号様式!X53= \"\",\"\",IF(VALUE(FIXED(P_20号様式!X53,0,TRUE))<>P_20号様式!X53,RIGHT(FIXED(P_20号様式!X53,3,FALSE),4),\"\"))","v":""},{"$f":"IF(P_20号様式!AA53<> \"\",TEXT(INT(P_20号様式!AA53),\"#,##0\"),\"\")","v":"130"},{"$f":"IF(P_20号様式!AA53= \"\",\"\",IF(VALUE(FIXED(P_20号様式!AA53,0,TRUE))<>P_20号様式!AA53,RIGHT(FIXED(P_20号様式!AA53,3,FALSE),4),\"\"))","v":""},{"$f":"IF(P_20号様式!AD53<> \"\",TEXT(INT(P_20号様式!AD53),\"#,##0\"),\"\")","v":""},{"$f":"IF(P_20号様式!AD53= \"\",\"\",IF(VALUE(FIXED(P_20号様式!AD53,0,TRUE))<>P_20号様式!AD53,RIGHT(FIXED(P_20号様式!AD53,3,FALSE),4),\"\"))","v":""},{"$f":"IF(P_20号様式!AG53<> \"\",TEXT(INT(P_20号様式!AG53),\"#,##0\"),\"\")","v":""},{"$f":"IF(P_20号様式!AG53= \"\",\"\",IF(VALUE(FIXED(P_20号様式!AG53,0,TRUE))<>P_20号様式!AG53,RIGHT(FIXED(P_20号様式!AG53,3,FALSE),4),\"\"))","v":""},{"$f":"IF(P_20号様式!AH53<> \"\",TEXT(INT(P_20号様式!AH53),\"#,##0\"),\"\")","v":"4,595"},{"$f":"IF(P_20号様式!AH53= \"\",\"\",IF(VALUE(FIXED(P_20号様式!AH53,0,TRUE))<>P_20号様式!AH53,RIGHT(FIXED(P_20号様式!AH53,3,FALSE),4),\"\"))","v":""}]
[{"$f":"IF(P_20号様式!C54=\"\",\"\",P_20号様式!C54)","v":"和泊町"},null,{"$f":"IF(P_20号様式!F54<> \"\",TEXT(INT(P_20号様式!F54),\"#,##0\"),\"\")","v":"1,176"},{"$f":"IF(P_20号様式!F54= \"\",\"\",IF(VALUE(FIXED(P_20号様式!F54,0,TRUE))<>P_20号様式!F54,RIGHT(FIXED(P_20号様式!F54,3,FALSE),4),\"\"))","v":""},{"$f":"IF(P_20号様式!I54<> \"\",TEXT(INT(P_20号様式!I54),\"#,##0\"),\"\")","v":"14"},{"$f":"IF(P_20号様式!I54= \"\",\"\",IF(VALUE(FIXED(P_20号様式!I54,0,TRUE))<>P_20号様式!I54,RIGHT(FIXED(P_20号様式!I54,3,FALSE),4),\"\"))","v":""},{"$f":"IF(P_20号様式!L54<> \"\",TEXT(INT(P_20号様式!L54),\"#,##0\"),\"\")","v":"1,410"},{"$f":"IF(P_20号様式!L54= \"\",\"\",IF(VALUE(FIXED(P_20号様式!L54,0,TRUE))<>P_20号様式!L54,RIGHT(FIXED(P_20号様式!L54,3,FALSE),4),\"\"))","v":""},{"$f":"IF(P_20号様式!O54<> \"\",TEXT(INT(P_20号様式!O54),\"#,##0\"),\"\")","v":"43"},{"$f":"IF(P_20号様式!O54= \"\",\"\",IF(VALUE(FIXED(P_20号様式!O54,0,TRUE))<>P_20号様式!O54,RIGHT(FIXED(P_20号様式!O54,3,FALSE),4),\"\"))","v":""},{"$f":"IF(P_20号様式!R54<> \"\",TEXT(INT(P_20号様式!R54),\"#,##0\"),\"\")","v":"139"},{"$f":"IF(P_20号様式!R54= \"\",\"\",IF(VALUE(FIXED(P_20号様式!R54,0,TRUE))<>P_20号様式!R54,RIGHT(FIXED(P_20号様式!R54,3,FALSE),4),\"\"))","v":""},{"$f":"IF(P_20号様式!U54<> \"\",TEXT(INT(P_20号様式!U54),\"#,##0\"),\"\")","v":"390"},{"$f":"IF(P_20号様式!U54= \"\",\"\",IF(VALUE(FIXED(P_20号様式!U54,0,TRUE))<>P_20号様式!U54,RIGHT(FIXED(P_20号様式!U54,3,FALSE),4),\"\"))","v":""},{"$f":"IF(P_20号様式!X54<> \"\",TEXT(INT(P_20号様式!X54),\"#,##0\"),\"\")","v":"621"},{"$f":"IF(P_20号様式!X54= \"\",\"\",IF(VALUE(FIXED(P_20号様式!X54,0,TRUE))<>P_20号様式!X54,RIGHT(FIXED(P_20号様式!X54,3,FALSE),4),\"\"))","v":""},{"$f":"IF(P_20号様式!AA54<> \"\",TEXT(INT(P_20号様式!AA54),\"#,##0\"),\"\")","v":"133"},{"$f":"IF(P_20号様式!AA54= \"\",\"\",IF(VALUE(FIXED(P_20号様式!AA54,0,TRUE))<>P_20号様式!AA54,RIGHT(FIXED(P_20号様式!AA54,3,FALSE),4),\"\"))","v":""},{"$f":"IF(P_20号様式!AD54<> \"\",TEXT(INT(P_20号様式!AD54),\"#,##0\"),\"\")","v":""},{"$f":"IF(P_20号様式!AD54= \"\",\"\",IF(VALUE(FIXED(P_20号様式!AD54,0,TRUE))<>P_20号様式!AD54,RIGHT(FIXED(P_20号様式!AD54,3,FALSE),4),\"\"))","v":""},{"$f":"IF(P_20号様式!AG54<> \"\",TEXT(INT(P_20号様式!AG54),\"#,##0\"),\"\")","v":""},{"$f":"IF(P_20号様式!AG54= \"\",\"\",IF(VALUE(FIXED(P_20号様式!AG54,0,TRUE))<>P_20号様式!AG54,RIGHT(FIXED(P_20号様式!AG54,3,FALSE),4),\"\"))","v":""},{"$f":"IF(P_20号様式!AH54<> \"\",TEXT(INT(P_20号様式!AH54),\"#,##0\"),\"\")","v":"3,926"},{"$f":"IF(P_20号様式!AH54= \"\",\"\",IF(VALUE(FIXED(P_20号様式!AH54,0,TRUE))<>P_20号様式!AH54,RIGHT(FIXED(P_20号様式!AH54,3,FALSE),4),\"\"))","v":""}]
[{"$f":"IF(P_20号様式!C55=\"\",\"\",P_20号様式!C55)","v":"知名町"},null,{"$f":"IF(P_20号様式!F55<> \"\",TEXT(INT(P_20号様式!F55),\"#,##0\"),\"\")","v":"1,184"},{"$f":"IF(P_20号様式!F55= \"\",\"\",IF(VALUE(FIXED(P_20号様式!F55,0,TRUE))<>P_20号様式!F55,RIGHT(FIXED(P_20号様式!F55,3,FALSE),4),\"\"))","v":""},{"$f":"IF(P_20号様式!I55<> \"\",TEXT(INT(P_20号様式!I55),\"#,##0\"),\"\")","v":"18"},{"$f":"IF(P_20号様式!I55= \"\",\"\",IF(VALUE(FIXED(P_20号様式!I55,0,TRUE))<>P_20号様式!I55,RIGHT(FIXED(P_20号様式!I55,3,FALSE),4),\"\"))","v":""},{"$f":"IF(P_20号様式!L55<> \"\",TEXT(INT(P_20号様式!L55),\"#,##0\"),\"\")","v":"979"},{"$f":"IF(P_20号様式!L55= \"\",\"\",IF(VALUE(FIXED(P_20号様式!L55,0,TRUE))<>P_20号様式!L55,RIGHT(FIXED(P_20号様式!L55,3,FALSE),4),\"\"))","v":""},{"$f":"IF(P_20号様式!O55<> \"\",TEXT(INT(P_20号様式!O55),\"#,##0\"),\"\")","v":"55"},{"$f":"IF(P_20号様式!O55= \"\",\"\",IF(VALUE(FIXED(P_20号様式!O55,0,TRUE))<>P_20号様式!O55,RIGHT(FIXED(P_20号様式!O55,3,FALSE),4),\"\"))","v":""},{"$f":"IF(P_20号様式!R55<> \"\",TEXT(INT(P_20号様式!R55),\"#,##0\"),\"\")","v":"131"},{"$f":"IF(P_20号様式!R55= \"\",\"\",IF(VALUE(FIXED(P_20号様式!R55,0,TRUE))<>P_20号様式!R55,RIGHT(FIXED(P_20号様式!R55,3,FALSE),4),\"\"))","v":""},{"$f":"IF(P_20号様式!U55<> \"\",TEXT(INT(P_20号様式!U55),\"#,##0\"),\"\")","v":"342"},{"$f":"IF(P_20号様式!U55= \"\",\"\",IF(VALUE(FIXED(P_20号様式!U55,0,TRUE))<>P_20号様式!U55,RIGHT(FIXED(P_20号様式!U55,3,FALSE),4),\"\"))","v":""},{"$f":"IF(P_20号様式!X55<> \"\",TEXT(INT(P_20号様式!X55),\"#,##0\"),\"\")","v":"640"},{"$f":"IF(P_20号様式!X55= \"\",\"\",IF(VALUE(FIXED(P_20号様式!X55,0,TRUE))<>P_20号様式!X55,RIGHT(FIXED(P_20号様式!X55,3,FALSE),4),\"\"))","v":""},{"$f":"IF(P_20号様式!AA55<> \"\",TEXT(INT(P_20号様式!AA55),\"#,##0\"),\"\")","v":"138"},{"$f":"IF(P_20号様式!AA55= \"\",\"\",IF(VALUE(FIXED(P_20号様式!AA55,0,TRUE))<>P_20号様式!AA55,RIGHT(FIXED(P_20号様式!AA55,3,FALSE),4),\"\"))","v":""},{"$f":"IF(P_20号様式!AD55<> \"\",TEXT(INT(P_20号様式!AD55),\"#,##0\"),\"\")","v":""},{"$f":"IF(P_20号様式!AD55= \"\",\"\",IF(VALUE(FIXED(P_20号様式!AD55,0,TRUE))<>P_20号様式!AD55,RIGHT(FIXED(P_20号様式!AD55,3,FALSE),4),\"\"))","v":""},{"$f":"IF(P_20号様式!AG55<> \"\",TEXT(INT(P_20号様式!AG55),\"#,##0\"),\"\")","v":""},{"$f":"IF(P_20号様式!AG55= \"\",\"\",IF(VALUE(FIXED(P_20号様式!AG55,0,TRUE))<>P_20号様式!AG55,RIGHT(FIXED(P_20号様式!AG55,3,FALSE),4),\"\"))","v":""},{"$f":"IF(P_20号様式!AH55<> \"\",TEXT(INT(P_20号様式!AH55),\"#,##0\"),\"\")","v":"3,487"},{"$f":"IF(P_20号様式!AH55= \"\",\"\",IF(VALUE(FIXED(P_20号様式!AH55,0,TRUE))<>P_20号様式!AH55,RIGHT(FIXED(P_20号様式!AH55,3,FALSE),4),\"\"))","v":""}]
[{"$f":"IF(P_20号様式!C56=\"\",\"\",P_20号様式!C56)","v":"与論町"},null,{"$f":"IF(P_20号様式!F56<> \"\",TEXT(INT(P_20号様式!F56),\"#,##0\"),\"\")","v":"1,303"},{"$f":"IF(P_20号様式!F56= \"\",\"\",IF(VALUE(FIXED(P_20号様式!F56,0,TRUE))<>P_20号様式!F56,RIGHT(FIXED(P_20号様式!F56,3,FALSE),4),\"\"))","v":""},{"$f":"IF(P_20号様式!I56<> \"\",TEXT(INT(P_20号様式!I56),\"#,##0\"),\"\")","v":"13"},{"$f":"IF(P_20号様式!I56= \"\",\"\",IF(VALUE(FIXED(P_20号様式!I56,0,TRUE))<>P_20号様式!I56,RIGHT(FIXED(P_20号様式!I56,3,FALSE),4),\"\"))","v":""},{"$f":"IF(P_20号様式!L56<> \"\",TEXT(INT(P_20号様式!L56),\"#,##0\"),\"\")","v":"614"},{"$f":"IF(P_20号様式!L56= \"\",\"\",IF(VALUE(FIXED(P_20号様式!L56,0,TRUE))<>P_20号様式!L56,RIGHT(FIXED(P_20号様式!L56,3,FALSE),4),\"\"))","v":""},{"$f":"IF(P_20号様式!O56<> \"\",TEXT(INT(P_20号様式!O56),\"#,##0\"),\"\")","v":"25"},{"$f":"IF(P_20号様式!O56= \"\",\"\",IF(VALUE(FIXED(P_20号様式!O56,0,TRUE))<>P_20号様式!O56,RIGHT(FIXED(P_20号様式!O56,3,FALSE),4),\"\"))","v":""},{"$f":"IF(P_20号様式!R56<> \"\",TEXT(INT(P_20号様式!R56),\"#,##0\"),\"\")","v":"122"},{"$f":"IF(P_20号様式!R56= \"\",\"\",IF(VALUE(FIXED(P_20号様式!R56,0,TRUE))<>P_20号様式!R56,RIGHT(FIXED(P_20号様式!R56,3,FALSE),4),\"\"))","v":""},{"$f":"IF(P_20号様式!U56<> \"\",TEXT(INT(P_20号様式!U56),\"#,##0\"),\"\")","v":"277"},{"$f":"IF(P_20号様式!U56= \"\",\"\",IF(VALUE(FIXED(P_20号様式!U56,0,TRUE))<>P_20号様式!U56,RIGHT(FIXED(P_20号様式!U56,3,FALSE),4),\"\"))","v":""},{"$f":"IF(P_20号様式!X56<> \"\",TEXT(INT(P_20号様式!X56),\"#,##0\"),\"\")","v":"520"},{"$f":"IF(P_20号様式!X56= \"\",\"\",IF(VALUE(FIXED(P_20号様式!X56,0,TRUE))<>P_20号様式!X56,RIGHT(FIXED(P_20号様式!X56,3,FALSE),4),\"\"))","v":""},{"$f":"IF(P_20号様式!AA56<> \"\",TEXT(INT(P_20号様式!AA56),\"#,##0\"),\"\")","v":"136"},{"$f":"IF(P_20号様式!AA56= \"\",\"\",IF(VALUE(FIXED(P_20号様式!AA56,0,TRUE))<>P_20号様式!AA56,RIGHT(FIXED(P_20号様式!AA56,3,FALSE),4),\"\"))","v":""},{"$f":"IF(P_20号様式!AD56<> \"\",TEXT(INT(P_20号様式!AD56),\"#,##0\"),\"\")","v":""},{"$f":"IF(P_20号様式!AD56= \"\",\"\",IF(VALUE(FIXED(P_20号様式!AD56,0,TRUE))<>P_20号様式!AD56,RIGHT(FIXED(P_20号様式!AD56,3,FALSE),4),\"\"))","v":""},{"$f":"IF(P_20号様式!AG56<> \"\",TEXT(INT(P_20号様式!AG56),\"#,##0\"),\"\")","v":""},{"$f":"IF(P_20号様式!AG56= \"\",\"\",IF(VALUE(FIXED(P_20号様式!AG56,0,TRUE))<>P_20号様式!AG56,RIGHT(FIXED(P_20号様式!AG56,3,FALSE),4),\"\"))","v":""},{"$f":"IF(P_20号様式!AH56<> \"\",TEXT(INT(P_20号様式!AH56),\"#,##0\"),\"\")","v":"3,010"},{"$f":"IF(P_20号様式!AH56= \"\",\"\",IF(VALUE(FIXED(P_20号様式!AH56,0,TRUE))<>P_20号様式!AH56,RIGHT(FIXED(P_20号様式!AH56,3,FALSE),4),\"\"))","v":""}]
[{"$f":"IF(P_20号様式!C57=\"\",\"\",P_20号様式!C57)","v":"＊（大島郡）計"},null,{"$f":"IF(P_20号様式!F57<> \"\",TEXT(INT(P_20号様式!F57),\"#,##0\"),\"\")","v":"13,898"},{"$f":"IF(P_20号様式!F57= \"\",\"\",IF(VALUE(FIXED(P_20号様式!F57,0,TRUE))<>P_20号様式!F57,RIGHT(FIXED(P_20号様式!F57,3,FALSE),4),\"\"))","v":""},{"$f":"IF(P_20号様式!I57<> \"\",TEXT(INT(P_20号様式!I57),\"#,##0\"),\"\")","v":"178"},{"$f":"IF(P_20号様式!I57= \"\",\"\",IF(VALUE(FIXED(P_20号様式!I57,0,TRUE))<>P_20号様式!I57,RIGHT(FIXED(P_20号様式!I57,3,FALSE),4),\"\"))","v":""},{"$f":"IF(P_20号様式!L57<> \"\",TEXT(INT(P_20号様式!L57),\"#,##0\"),\"\")","v":"12,437"},{"$f":"IF(P_20号様式!L57= \"\",\"\",IF(VALUE(FIXED(P_20号様式!L57,0,TRUE))<>P_20号様式!L57,RIGHT(FIXED(P_20号様式!L57,3,FALSE),4),\"\"))","v":""},{"$f":"IF(P_20号様式!O57<> \"\",TEXT(INT(P_20号様式!O57),\"#,##0\"),\"\")","v":"506"},{"$f":"IF(P_20号様式!O57= \"\",\"\",IF(VALUE(FIXED(P_20号様式!O57,0,TRUE))<>P_20号様式!O57,RIGHT(FIXED(P_20号様式!O57,3,FALSE),4),\"\"))","v":""},{"$f":"IF(P_20号様式!R57<> \"\",TEXT(INT(P_20号様式!R57),\"#,##0\"),\"\")","v":"2,293"},{"$f":"IF(P_20号様式!R57= \"\",\"\",IF(VALUE(FIXED(P_20号様式!R57,0,TRUE))<>P_20号様式!R57,RIGHT(FIXED(P_20号様式!R57,3,FALSE),4),\"\"))","v":""},{"$f":"IF(P_20号様式!U57<> \"\",TEXT(INT(P_20号様式!U57),\"#,##0\"),\"\")","v":"3,448"},{"$f":"IF(P_20号様式!U57= \"\",\"\",IF(VALUE(FIXED(P_20号様式!U57,0,TRUE))<>P_20号様式!U57,RIGHT(FIXED(P_20号様式!U57,3,FALSE),4),\"\"))","v":""},{"$f":"IF(P_20号様式!X57<> \"\",TEXT(INT(P_20号様式!X57),\"#,##0\"),\"\")","v":"6,293"},{"$f":"IF(P_20号様式!X57= \"\",\"\",IF(VALUE(FIXED(P_20号様式!X57,0,TRUE))<>P_20号様式!X57,RIGHT(FIXED(P_20号様式!X57,3,FALSE),4),\"\"))","v":""},{"$f":"IF(P_20号様式!AA57<> \"\",TEXT(INT(P_20号様式!AA57),\"#,##0\"),\"\")","v":"1,322"},{"$f":"IF(P_20号様式!AA57= \"\",\"\",IF(VALUE(FIXED(P_20号様式!AA57,0,TRUE))<>P_20号様式!AA57,RIGHT(FIXED(P_20号様式!AA57,3,FALSE),4),\"\"))","v":""},{"$f":"IF(P_20号様式!AD57<> \"\",TEXT(INT(P_20号様式!AD57),\"#,##0\"),\"\")","v":""},{"$f":"IF(P_20号様式!AD57= \"\",\"\",IF(VALUE(FIXED(P_20号様式!AD57,0,TRUE))<>P_20号様式!AD57,RIGHT(FIXED(P_20号様式!AD57,3,FALSE),4),\"\"))","v":""},{"$f":"IF(P_20号様式!AG57<> \"\",TEXT(INT(P_20号様式!AG57),\"#,##0\"),\"\")","v":""},{"$f":"IF(P_20号様式!AG57= \"\",\"\",IF(VALUE(FIXED(P_20号様式!AG57,0,TRUE))<>P_20号様式!AG57,RIGHT(FIXED(P_20号様式!AG57,3,FALSE),4),\"\"))","v":""},{"$f":"IF(P_20号様式!AH57<> \"\",TEXT(INT(P_20号様式!AH57),\"#,##0\"),\"\")","v":"40,375"},{"$f":"IF(P_20号様式!AH57= \"\",\"\",IF(VALUE(FIXED(P_20号様式!AH57,0,TRUE))<>P_20号様式!AH57,RIGHT(FIXED(P_20号様式!AH57,3,FALSE),4),\"\"))","v":""}]
[{"$f":"IF(P_20号様式!C58=\"\",\"\",P_20号様式!C58)","v":""},null,{"$f":"IF(P_20号様式!F58<> \"\",TEXT(INT(P_20号様式!F58),\"#,##0\"),\"\")","v":""},{"$f":"IF(P_20号様式!F58= \"\",\"\",IF(VALUE(FIXED(P_20号様式!F58,0,TRUE))<>P_20号様式!F58,RIGHT(FIXED(P_20号様式!F58,3,FALSE),4),\"\"))","v":""},{"$f":"IF(P_20号様式!I58<> \"\",TEXT(INT(P_20号様式!I58),\"#,##0\"),\"\")","v":""},{"$f":"IF(P_20号様式!I58= \"\",\"\",IF(VALUE(FIXED(P_20号様式!I58,0,TRUE))<>P_20号様式!I58,RIGHT(FIXED(P_20号様式!I58,3,FALSE),4),\"\"))","v":""},{"$f":"IF(P_20号様式!L58<> \"\",TEXT(INT(P_20号様式!L58),\"#,##0\"),\"\")","v":""},{"$f":"IF(P_20号様式!L58= \"\",\"\",IF(VALUE(FIXED(P_20号様式!L58,0,TRUE))<>P_20号様式!L58,RIGHT(FIXED(P_20号様式!L58,3,FALSE),4),\"\"))","v":""},{"$f":"IF(P_20号様式!O58<> \"\",TEXT(INT(P_20号様式!O58),\"#,##0\"),\"\")","v":""},{"$f":"IF(P_20号様式!O58= \"\",\"\",IF(VALUE(FIXED(P_20号様式!O58,0,TRUE))<>P_20号様式!O58,RIGHT(FIXED(P_20号様式!O58,3,FALSE),4),\"\"))","v":""},{"$f":"IF(P_20号様式!R58<> \"\",TEXT(INT(P_20号様式!R58),\"#,##0\"),\"\")","v":""},{"$f":"IF(P_20号様式!R58= \"\",\"\",IF(VALUE(FIXED(P_20号様式!R58,0,TRUE))<>P_20号様式!R58,RIGHT(FIXED(P_20号様式!R58,3,FALSE),4),\"\"))","v":""},{"$f":"IF(P_20号様式!U58<> \"\",TEXT(INT(P_20号様式!U58),\"#,##0\"),\"\")","v":""},{"$f":"IF(P_20号様式!U58= \"\",\"\",IF(VALUE(FIXED(P_20号様式!U58,0,TRUE))<>P_20号様式!U58,RIGHT(FIXED(P_20号様式!U58,3,FALSE),4),\"\"))","v":""},{"$f":"IF(P_20号様式!X58<> \"\",TEXT(INT(P_20号様式!X58),\"#,##0\"),\"\")","v":""},{"$f":"IF(P_20号様式!X58= \"\",\"\",IF(VALUE(FIXED(P_20号様式!X58,0,TRUE))<>P_20号様式!X58,RIGHT(FIXED(P_20号様式!X58,3,FALSE),4),\"\"))","v":""},{"$f":"IF(P_20号様式!AA58<> \"\",TEXT(INT(P_20号様式!AA58),\"#,##0\"),\"\")","v":""},{"$f":"IF(P_20号様式!AA58= \"\",\"\",IF(VALUE(FIXED(P_20号様式!AA58,0,TRUE))<>P_20号様式!AA58,RIGHT(FIXED(P_20号様式!AA58,3,FALSE),4),\"\"))","v":""},{"$f":"IF(P_20号様式!AD58<> \"\",TEXT(INT(P_20号様式!AD58),\"#,##0\"),\"\")","v":""},{"$f":"IF(P_20号様式!AD58= \"\",\"\",IF(VALUE(FIXED(P_20号様式!AD58,0,TRUE))<>P_20号様式!AD58,RIGHT(FIXED(P_20号様式!AD58,3,FALSE),4),\"\"))","v":""},{"$f":"IF(P_20号様式!AG58<> \"\",TEXT(INT(P_20号様式!AG58),\"#,##0\"),\"\")","v":""},{"$f":"IF(P_20号様式!AG58= \"\",\"\",IF(VALUE(FIXED(P_20号様式!AG58,0,TRUE))<>P_20号様式!AG58,RIGHT(FIXED(P_20号様式!AG58,3,FALSE),4),\"\"))","v":""},{"$f":"IF(P_20号様式!AH58<> \"\",TEXT(INT(P_20号様式!AH58),\"#,##0\"),\"\")","v":""},{"$f":"IF(P_20号様式!AH58= \"\",\"\",IF(VALUE(FIXED(P_20号様式!AH58,0,TRUE))<>P_20号様式!AH58,RIGHT(FIXED(P_20号様式!AH58,3,FALSE),4),\"\"))","v":""}]
[{"$f":"IF(P_20号様式!C59=\"\",\"\",P_20号様式!C59)","v":""},null,{"$f":"IF(P_20号様式!F59<> \"\",TEXT(INT(P_20号様式!F59),\"#,##0\"),\"\")","v":""},{"$f":"IF(P_20号様式!F59= \"\",\"\",IF(VALUE(FIXED(P_20号様式!F59,0,TRUE))<>P_20号様式!F59,RIGHT(FIXED(P_20号様式!F59,3,FALSE),4),\"\"))","v":""},{"$f":"IF(P_20号様式!I59<> \"\",TEXT(INT(P_20号様式!I59),\"#,##0\"),\"\")","v":""},{"$f":"IF(P_20号様式!I59= \"\",\"\",IF(VALUE(FIXED(P_20号様式!I59,0,TRUE))<>P_20号様式!I59,RIGHT(FIXED(P_20号様式!I59,3,FALSE),4),\"\"))","v":""},{"$f":"IF(P_20号様式!L59<> \"\",TEXT(INT(P_20号様式!L59),\"#,##0\"),\"\")","v":""},{"$f":"IF(P_20号様式!L59= \"\",\"\",IF(VALUE(FIXED(P_20号様式!L59,0,TRUE))<>P_20号様式!L59,RIGHT(FIXED(P_20号様式!L59,3,FALSE),4),\"\"))","v":""},{"$f":"IF(P_20号様式!O59<> \"\",TEXT(INT(P_20号様式!O59),\"#,##0\"),\"\")","v":""},{"$f":"IF(P_20号様式!O59= \"\",\"\",IF(VALUE(FIXED(P_20号様式!O59,0,TRUE))<>P_20号様式!O59,RIGHT(FIXED(P_20号様式!O59,3,FALSE),4),\"\"))","v":""},{"$f":"IF(P_20号様式!R59<> \"\",TEXT(INT(P_20号様式!R59),\"#,##0\"),\"\")","v":""},{"$f":"IF(P_20号様式!R59= \"\",\"\",IF(VALUE(FIXED(P_20号様式!R59,0,TRUE))<>P_20号様式!R59,RIGHT(FIXED(P_20号様式!R59,3,FALSE),4),\"\"))","v":""},{"$f":"IF(P_20号様式!U59<> \"\",TEXT(INT(P_20号様式!U59),\"#,##0\"),\"\")","v":""},{"$f":"IF(P_20号様式!U59= \"\",\"\",IF(VALUE(FIXED(P_20号様式!U59,0,TRUE))<>P_20号様式!U59,RIGHT(FIXED(P_20号様式!U59,3,FALSE),4),\"\"))","v":""},{"$f":"IF(P_20号様式!X59<> \"\",TEXT(INT(P_20号様式!X59),\"#,##0\"),\"\")","v":""},{"$f":"IF(P_20号様式!X59= \"\",\"\",IF(VALUE(FIXED(P_20号様式!X59,0,TRUE))<>P_20号様式!X59,RIGHT(FIXED(P_20号様式!X59,3,FALSE),4),\"\"))","v":""},{"$f":"IF(P_20号様式!AA59<> \"\",TEXT(INT(P_20号様式!AA59),\"#,##0\"),\"\")","v":""},{"$f":"IF(P_20号様式!AA59= \"\",\"\",IF(VALUE(FIXED(P_20号様式!AA59,0,TRUE))<>P_20号様式!AA59,RIGHT(FIXED(P_20号様式!AA59,3,FALSE),4),\"\"))","v":""},{"$f":"IF(P_20号様式!AD59<> \"\",TEXT(INT(P_20号様式!AD59),\"#,##0\"),\"\")","v":""},{"$f":"IF(P_20号様式!AD59= \"\",\"\",IF(VALUE(FIXED(P_20号様式!AD59,0,TRUE))<>P_20号様式!AD59,RIGHT(FIXED(P_20号様式!AD59,3,FALSE),4),\"\"))","v":""},{"$f":"IF(P_20号様式!AG59<> \"\",TEXT(INT(P_20号様式!AG59),\"#,##0\"),\"\")","v":""},{"$f":"IF(P_20号様式!AG59= \"\",\"\",IF(VALUE(FIXED(P_20号様式!AG59,0,TRUE))<>P_20号様式!AG59,RIGHT(FIXED(P_20号様式!AG59,3,FALSE),4),\"\"))","v":""},{"$f":"IF(P_20号様式!AH59<> \"\",TEXT(INT(P_20号様式!AH59),\"#,##0\"),\"\")","v":""},{"$f":"IF(P_20号様式!AH59= \"\",\"\",IF(VALUE(FIXED(P_20号様式!AH59,0,TRUE))<>P_20号様式!AH59,RIGHT(FIXED(P_20号様式!AH59,3,FALSE),4),\"\"))","v":""}]
[{"$f":"IF(P_20号様式!C60=\"\",\"\",P_20号様式!C60)","v":""},null,{"$f":"IF(P_20号様式!F60<> \"\",TEXT(INT(P_20号様式!F60),\"#,##0\"),\"\")","v":""},{"$f":"IF(P_20号様式!F60= \"\",\"\",IF(VALUE(FIXED(P_20号様式!F60,0,TRUE))<>P_20号様式!F60,RIGHT(FIXED(P_20号様式!F60,3,FALSE),4),\"\"))","v":""},{"$f":"IF(P_20号様式!I60<> \"\",TEXT(INT(P_20号様式!I60),\"#,##0\"),\"\")","v":""},{"$f":"IF(P_20号様式!I60= \"\",\"\",IF(VALUE(FIXED(P_20号様式!I60,0,TRUE))<>P_20号様式!I60,RIGHT(FIXED(P_20号様式!I60,3,FALSE),4),\"\"))","v":""},{"$f":"IF(P_20号様式!L60<> \"\",TEXT(INT(P_20号様式!L60),\"#,##0\"),\"\")","v":""},{"$f":"IF(P_20号様式!L60= \"\",\"\",IF(VALUE(FIXED(P_20号様式!L60,0,TRUE))<>P_20号様式!L60,RIGHT(FIXED(P_20号様式!L60,3,FALSE),4),\"\"))","v":""},{"$f":"IF(P_20号様式!O60<> \"\",TEXT(INT(P_20号様式!O60),\"#,##0\"),\"\")","v":""},{"$f":"IF(P_20号様式!O60= \"\",\"\",IF(VALUE(FIXED(P_20号様式!O60,0,TRUE))<>P_20号様式!O60,RIGHT(FIXED(P_20号様式!O60,3,FALSE),4),\"\"))","v":""},{"$f":"IF(P_20号様式!R60<> \"\",TEXT(INT(P_20号様式!R60),\"#,##0\"),\"\")","v":""},{"$f":"IF(P_20号様式!R60= \"\",\"\",IF(VALUE(FIXED(P_20号様式!R60,0,TRUE))<>P_20号様式!R60,RIGHT(FIXED(P_20号様式!R60,3,FALSE),4),\"\"))","v":""},{"$f":"IF(P_20号様式!U60<> \"\",TEXT(INT(P_20号様式!U60),\"#,##0\"),\"\")","v":""},{"$f":"IF(P_20号様式!U60= \"\",\"\",IF(VALUE(FIXED(P_20号様式!U60,0,TRUE))<>P_20号様式!U60,RIGHT(FIXED(P_20号様式!U60,3,FALSE),4),\"\"))","v":""},{"$f":"IF(P_20号様式!X60<> \"\",TEXT(INT(P_20号様式!X60),\"#,##0\"),\"\")","v":""},{"$f":"IF(P_20号様式!X60= \"\",\"\",IF(VALUE(FIXED(P_20号様式!X60,0,TRUE))<>P_20号様式!X60,RIGHT(FIXED(P_20号様式!X60,3,FALSE),4),\"\"))","v":""},{"$f":"IF(P_20号様式!AA60<> \"\",TEXT(INT(P_20号様式!AA60),\"#,##0\"),\"\")","v":""},{"$f":"IF(P_20号様式!AA60= \"\",\"\",IF(VALUE(FIXED(P_20号様式!AA60,0,TRUE))<>P_20号様式!AA60,RIGHT(FIXED(P_20号様式!AA60,3,FALSE),4),\"\"))","v":""},{"$f":"IF(P_20号様式!AD60<> \"\",TEXT(INT(P_20号様式!AD60),\"#,##0\"),\"\")","v":""},{"$f":"IF(P_20号様式!AD60= \"\",\"\",IF(VALUE(FIXED(P_20号様式!AD60,0,TRUE))<>P_20号様式!AD60,RIGHT(FIXED(P_20号様式!AD60,3,FALSE),4),\"\"))","v":""},{"$f":"IF(P_20号様式!AG60<> \"\",TEXT(INT(P_20号様式!AG60),\"#,##0\"),\"\")","v":""},{"$f":"IF(P_20号様式!AG60= \"\",\"\",IF(VALUE(FIXED(P_20号様式!AG60,0,TRUE))<>P_20号様式!AG60,RIGHT(FIXED(P_20号様式!AG60,3,FALSE),4),\"\"))","v":""},{"$f":"IF(P_20号様式!AH60<> \"\",TEXT(INT(P_20号様式!AH60),\"#,##0\"),\"\")","v":""},{"$f":"IF(P_20号様式!AH60= \"\",\"\",IF(VALUE(FIXED(P_20号様式!AH60,0,TRUE))<>P_20号様式!AH60,RIGHT(FIXED(P_20号様式!AH60,3,FALSE),4),\"\"))","v":""}]
[{"$f":"IF(P_20号様式!C61=\"\",\"\",P_20号様式!C61)","v":""},null,{"$f":"IF(P_20号様式!F61<> \"\",TEXT(INT(P_20号様式!F61),\"#,##0\"),\"\")","v":""},{"$f":"IF(P_20号様式!F61= \"\",\"\",IF(VALUE(FIXED(P_20号様式!F61,0,TRUE))<>P_20号様式!F61,RIGHT(FIXED(P_20号様式!F61,3,FALSE),4),\"\"))","v":""},{"$f":"IF(P_20号様式!I61<> \"\",TEXT(INT(P_20号様式!I61),\"#,##0\"),\"\")","v":""},{"$f":"IF(P_20号様式!I61= \"\",\"\",IF(VALUE(FIXED(P_20号様式!I61,0,TRUE))<>P_20号様式!I61,RIGHT(FIXED(P_20号様式!I61,3,FALSE),4),\"\"))","v":""},{"$f":"IF(P_20号様式!L61<> \"\",TEXT(INT(P_20号様式!L61),\"#,##0\"),\"\")","v":""},{"$f":"IF(P_20号様式!L61= \"\",\"\",IF(VALUE(FIXED(P_20号様式!L61,0,TRUE))<>P_20号様式!L61,RIGHT(FIXED(P_20号様式!L61,3,FALSE),4),\"\"))","v":""},{"$f":"IF(P_20号様式!O61<> \"\",TEXT(INT(P_20号様式!O61),\"#,##0\"),\"\")","v":""},{"$f":"IF(P_20号様式!O61= \"\",\"\",IF(VALUE(FIXED(P_20号様式!O61,0,TRUE))<>P_20号様式!O61,RIGHT(FIXED(P_20号様式!O61,3,FALSE),4),\"\"))","v":""},{"$f":"IF(P_20号様式!R61<> \"\",TEXT(INT(P_20号様式!R61),\"#,##0\"),\"\")","v":""},{"$f":"IF(P_20号様式!R61= \"\",\"\",IF(VALUE(FIXED(P_20号様式!R61,0,TRUE))<>P_20号様式!R61,RIGHT(FIXED(P_20号様式!R61,3,FALSE),4),\"\"))","v":""},{"$f":"IF(P_20号様式!U61<> \"\",TEXT(INT(P_20号様式!U61),\"#,##0\"),\"\")","v":""},{"$f":"IF(P_20号様式!U61= \"\",\"\",IF(VALUE(FIXED(P_20号様式!U61,0,TRUE))<>P_20号様式!U61,RIGHT(FIXED(P_20号様式!U61,3,FALSE),4),\"\"))","v":""},{"$f":"IF(P_20号様式!X61<> \"\",TEXT(INT(P_20号様式!X61),\"#,##0\"),\"\")","v":""},{"$f":"IF(P_20号様式!X61= \"\",\"\",IF(VALUE(FIXED(P_20号様式!X61,0,TRUE))<>P_20号様式!X61,RIGHT(FIXED(P_20号様式!X61,3,FALSE),4),\"\"))","v":""},{"$f":"IF(P_20号様式!AA61<> \"\",TEXT(INT(P_20号様式!AA61),\"#,##0\"),\"\")","v":""},{"$f":"IF(P_20号様式!AA61= \"\",\"\",IF(VALUE(FIXED(P_20号様式!AA61,0,TRUE))<>P_20号様式!AA61,RIGHT(FIXED(P_20号様式!AA61,3,FALSE),4),\"\"))","v":""},{"$f":"IF(P_20号様式!AD61<> \"\",TEXT(INT(P_20号様式!AD61),\"#,##0\"),\"\")","v":""},{"$f":"IF(P_20号様式!AD61= \"\",\"\",IF(VALUE(FIXED(P_20号様式!AD61,0,TRUE))<>P_20号様式!AD61,RIGHT(FIXED(P_20号様式!AD61,3,FALSE),4),\"\"))","v":""},{"$f":"IF(P_20号様式!AG61<> \"\",TEXT(INT(P_20号様式!AG61),\"#,##0\"),\"\")","v":""},{"$f":"IF(P_20号様式!AG61= \"\",\"\",IF(VALUE(FIXED(P_20号様式!AG61,0,TRUE))<>P_20号様式!AG61,RIGHT(FIXED(P_20号様式!AG61,3,FALSE),4),\"\"))","v":""},{"$f":"IF(P_20号様式!AH61<> \"\",TEXT(INT(P_20号様式!AH61),\"#,##0\"),\"\")","v":""},{"$f":"IF(P_20号様式!AH61= \"\",\"\",IF(VALUE(FIXED(P_20号様式!AH61,0,TRUE))<>P_20号様式!AH61,RIGHT(FIXED(P_20号様式!AH61,3,FALSE),4),\"\"))","v":""}]
[{"$f":"IF(P_20号様式!C62=\"\",\"\",P_20号様式!C62)","v":""},null,{"$f":"IF(P_20号様式!F62<> \"\",TEXT(INT(P_20号様式!F62),\"#,##0\"),\"\")","v":""},{"$f":"IF(P_20号様式!F62= \"\",\"\",IF(VALUE(FIXED(P_20号様式!F62,0,TRUE))<>P_20号様式!F62,RIGHT(FIXED(P_20号様式!F62,3,FALSE),4),\"\"))","v":""},{"$f":"IF(P_20号様式!I62<> \"\",TEXT(INT(P_20号様式!I62),\"#,##0\"),\"\")","v":""},{"$f":"IF(P_20号様式!I62= \"\",\"\",IF(VALUE(FIXED(P_20号様式!I62,0,TRUE))<>P_20号様式!I62,RIGHT(FIXED(P_20号様式!I62,3,FALSE),4),\"\"))","v":""},{"$f":"IF(P_20号様式!L62<> \"\",TEXT(INT(P_20号様式!L62),\"#,##0\"),\"\")","v":""},{"$f":"IF(P_20号様式!L62= \"\",\"\",IF(VALUE(FIXED(P_20号様式!L62,0,TRUE))<>P_20号様式!L62,RIGHT(FIXED(P_20号様式!L62,3,FALSE),4),\"\"))","v":""},{"$f":"IF(P_20号様式!O62<> \"\",TEXT(INT(P_20号様式!O62),\"#,##0\"),\"\")","v":""},{"$f":"IF(P_20号様式!O62= \"\",\"\",IF(VALUE(FIXED(P_20号様式!O62,0,TRUE))<>P_20号様式!O62,RIGHT(FIXED(P_20号様式!O62,3,FALSE),4),\"\"))","v":""},{"$f":"IF(P_20号様式!R62<> \"\",TEXT(INT(P_20号様式!R62),\"#,##0\"),\"\")","v":""},{"$f":"IF(P_20号様式!R62= \"\",\"\",IF(VALUE(FIXED(P_20号様式!R62,0,TRUE))<>P_20号様式!R62,RIGHT(FIXED(P_20号様式!R62,3,FALSE),4),\"\"))","v":""},{"$f":"IF(P_20号様式!U62<> \"\",TEXT(INT(P_20号様式!U62),\"#,##0\"),\"\")","v":""},{"$f":"IF(P_20号様式!U62= \"\",\"\",IF(VALUE(FIXED(P_20号様式!U62,0,TRUE))<>P_20号様式!U62,RIGHT(FIXED(P_20号様式!U62,3,FALSE),4),\"\"))","v":""},{"$f":"IF(P_20号様式!X62<> \"\",TEXT(INT(P_20号様式!X62),\"#,##0\"),\"\")","v":""},{"$f":"IF(P_20号様式!X62= \"\",\"\",IF(VALUE(FIXED(P_20号様式!X62,0,TRUE))<>P_20号様式!X62,RIGHT(FIXED(P_20号様式!X62,3,FALSE),4),\"\"))","v":""},{"$f":"IF(P_20号様式!AA62<> \"\",TEXT(INT(P_20号様式!AA62),\"#,##0\"),\"\")","v":""},{"$f":"IF(P_20号様式!AA62= \"\",\"\",IF(VALUE(FIXED(P_20号様式!AA62,0,TRUE))<>P_20号様式!AA62,RIGHT(FIXED(P_20号様式!AA62,3,FALSE),4),\"\"))","v":""},{"$f":"IF(P_20号様式!AD62<> \"\",TEXT(INT(P_20号様式!AD62),\"#,##0\"),\"\")","v":""},{"$f":"IF(P_20号様式!AD62= \"\",\"\",IF(VALUE(FIXED(P_20号様式!AD62,0,TRUE))<>P_20号様式!AD62,RIGHT(FIXED(P_20号様式!AD62,3,FALSE),4),\"\"))","v":""},{"$f":"IF(P_20号様式!AG62<> \"\",TEXT(INT(P_20号様式!AG62),\"#,##0\"),\"\")","v":""},{"$f":"IF(P_20号様式!AG62= \"\",\"\",IF(VALUE(FIXED(P_20号様式!AG62,0,TRUE))<>P_20号様式!AG62,RIGHT(FIXED(P_20号様式!AG62,3,FALSE),4),\"\"))","v":""},{"$f":"IF(P_20号様式!AH62<> \"\",TEXT(INT(P_20号様式!AH62),\"#,##0\"),\"\")","v":""},{"$f":"IF(P_20号様式!AH62= \"\",\"\",IF(VALUE(FIXED(P_20号様式!AH62,0,TRUE))<>P_20号様式!AH62,RIGHT(FIXED(P_20号様式!AH62,3,FALSE),4),\"\"))","v":""}]
[{"$f":"IF(P_20号様式!C63=\"\",\"\",P_20号様式!C63)","v":""},null,{"$f":"IF(P_20号様式!F63<> \"\",TEXT(INT(P_20号様式!F63),\"#,##0\"),\"\")","v":""},{"$f":"IF(P_20号様式!F63= \"\",\"\",IF(VALUE(FIXED(P_20号様式!F63,0,TRUE))<>P_20号様式!F63,RIGHT(FIXED(P_20号様式!F63,3,FALSE),4),\"\"))","v":""},{"$f":"IF(P_20号様式!I63<> \"\",TEXT(INT(P_20号様式!I63),\"#,##0\"),\"\")","v":""},{"$f":"IF(P_20号様式!I63= \"\",\"\",IF(VALUE(FIXED(P_20号様式!I63,0,TRUE))<>P_20号様式!I63,RIGHT(FIXED(P_20号様式!I63,3,FALSE),4),\"\"))","v":""},{"$f":"IF(P_20号様式!L63<> \"\",TEXT(INT(P_20号様式!L63),\"#,##0\"),\"\")","v":""},{"$f":"IF(P_20号様式!L63= \"\",\"\",IF(VALUE(FIXED(P_20号様式!L63,0,TRUE))<>P_20号様式!L63,RIGHT(FIXED(P_20号様式!L63,3,FALSE),4),\"\"))","v":""},{"$f":"IF(P_20号様式!O63<> \"\",TEXT(INT(P_20号様式!O63),\"#,##0\"),\"\")","v":""},{"$f":"IF(P_20号様式!O63= \"\",\"\",IF(VALUE(FIXED(P_20号様式!O63,0,TRUE))<>P_20号様式!O63,RIGHT(FIXED(P_20号様式!O63,3,FALSE),4),\"\"))","v":""},{"$f":"IF(P_20号様式!R63<> \"\",TEXT(INT(P_20号様式!R63),\"#,##0\"),\"\")","v":""},{"$f":"IF(P_20号様式!R63= \"\",\"\",IF(VALUE(FIXED(P_20号様式!R63,0,TRUE))<>P_20号様式!R63,RIGHT(FIXED(P_20号様式!R63,3,FALSE),4),\"\"))","v":""},{"$f":"IF(P_20号様式!U63<> \"\",TEXT(INT(P_20号様式!U63),\"#,##0\"),\"\")","v":""},{"$f":"IF(P_20号様式!U63= \"\",\"\",IF(VALUE(FIXED(P_20号様式!U63,0,TRUE))<>P_20号様式!U63,RIGHT(FIXED(P_20号様式!U63,3,FALSE),4),\"\"))","v":""},{"$f":"IF(P_20号様式!X63<> \"\",TEXT(INT(P_20号様式!X63),\"#,##0\"),\"\")","v":""},{"$f":"IF(P_20号様式!X63= \"\",\"\",IF(VALUE(FIXED(P_20号様式!X63,0,TRUE))<>P_20号様式!X63,RIGHT(FIXED(P_20号様式!X63,3,FALSE),4),\"\"))","v":""},{"$f":"IF(P_20号様式!AA63<> \"\",TEXT(INT(P_20号様式!AA63),\"#,##0\"),\"\")","v":""},{"$f":"IF(P_20号様式!AA63= \"\",\"\",IF(VALUE(FIXED(P_20号様式!AA63,0,TRUE))<>P_20号様式!AA63,RIGHT(FIXED(P_20号様式!AA63,3,FALSE),4),\"\"))","v":""},{"$f":"IF(P_20号様式!AD63<> \"\",TEXT(INT(P_20号様式!AD63),\"#,##0\"),\"\")","v":""},{"$f":"IF(P_20号様式!AD63= \"\",\"\",IF(VALUE(FIXED(P_20号様式!AD63,0,TRUE))<>P_20号様式!AD63,RIGHT(FIXED(P_20号様式!AD63,3,FALSE),4),\"\"))","v":""},{"$f":"IF(P_20号様式!AG63<> \"\",TEXT(INT(P_20号様式!AG63),\"#,##0\"),\"\")","v":""},{"$f":"IF(P_20号様式!AG63= \"\",\"\",IF(VALUE(FIXED(P_20号様式!AG63,0,TRUE))<>P_20号様式!AG63,RIGHT(FIXED(P_20号様式!AG63,3,FALSE),4),\"\"))","v":""},{"$f":"IF(P_20号様式!AH63<> \"\",TEXT(INT(P_20号様式!AH63),\"#,##0\"),\"\")","v":""},{"$f":"IF(P_20号様式!AH63= \"\",\"\",IF(VALUE(FIXED(P_20号様式!AH63,0,TRUE))<>P_20号様式!AH63,RIGHT(FIXED(P_20号様式!AH63,3,FALSE),4),\"\"))","v":""}]
[{"$f":"IF(P_20号様式!C64=\"\",\"\",P_20号様式!C64)","v":""},null,{"$f":"IF(P_20号様式!F64<> \"\",TEXT(INT(P_20号様式!F64),\"#,##0\"),\"\")","v":""},{"$f":"IF(P_20号様式!F64= \"\",\"\",IF(VALUE(FIXED(P_20号様式!F64,0,TRUE))<>P_20号様式!F64,RIGHT(FIXED(P_20号様式!F64,3,FALSE),4),\"\"))","v":""},{"$f":"IF(P_20号様式!I64<> \"\",TEXT(INT(P_20号様式!I64),\"#,##0\"),\"\")","v":""},{"$f":"IF(P_20号様式!I64= \"\",\"\",IF(VALUE(FIXED(P_20号様式!I64,0,TRUE))<>P_20号様式!I64,RIGHT(FIXED(P_20号様式!I64,3,FALSE),4),\"\"))","v":""},{"$f":"IF(P_20号様式!L64<> \"\",TEXT(INT(P_20号様式!L64),\"#,##0\"),\"\")","v":""},{"$f":"IF(P_20号様式!L64= \"\",\"\",IF(VALUE(FIXED(P_20号様式!L64,0,TRUE))<>P_20号様式!L64,RIGHT(FIXED(P_20号様式!L64,3,FALSE),4),\"\"))","v":""},{"$f":"IF(P_20号様式!O64<> \"\",TEXT(INT(P_20号様式!O64),\"#,##0\"),\"\")","v":""},{"$f":"IF(P_20号様式!O64= \"\",\"\",IF(VALUE(FIXED(P_20号様式!O64,0,TRUE))<>P_20号様式!O64,RIGHT(FIXED(P_20号様式!O64,3,FALSE),4),\"\"))","v":""},{"$f":"IF(P_20号様式!R64<> \"\",TEXT(INT(P_20号様式!R64),\"#,##0\"),\"\")","v":""},{"$f":"IF(P_20号様式!R64= \"\",\"\",IF(VALUE(FIXED(P_20号様式!R64,0,TRUE))<>P_20号様式!R64,RIGHT(FIXED(P_20号様式!R64,3,FALSE),4),\"\"))","v":""},{"$f":"IF(P_20号様式!U64<> \"\",TEXT(INT(P_20号様式!U64),\"#,##0\"),\"\")","v":""},{"$f":"IF(P_20号様式!U64= \"\",\"\",IF(VALUE(FIXED(P_20号様式!U64,0,TRUE))<>P_20号様式!U64,RIGHT(FIXED(P_20号様式!U64,3,FALSE),4),\"\"))","v":""},{"$f":"IF(P_20号様式!X64<> \"\",TEXT(INT(P_20号様式!X64),\"#,##0\"),\"\")","v":""},{"$f":"IF(P_20号様式!X64= \"\",\"\",IF(VALUE(FIXED(P_20号様式!X64,0,TRUE))<>P_20号様式!X64,RIGHT(FIXED(P_20号様式!X64,3,FALSE),4),\"\"))","v":""},{"$f":"IF(P_20号様式!AA64<> \"\",TEXT(INT(P_20号様式!AA64),\"#,##0\"),\"\")","v":""},{"$f":"IF(P_20号様式!AA64= \"\",\"\",IF(VALUE(FIXED(P_20号様式!AA64,0,TRUE))<>P_20号様式!AA64,RIGHT(FIXED(P_20号様式!AA64,3,FALSE),4),\"\"))","v":""},{"$f":"IF(P_20号様式!AD64<> \"\",TEXT(INT(P_20号様式!AD64),\"#,##0\"),\"\")","v":""},{"$f":"IF(P_20号様式!AD64= \"\",\"\",IF(VALUE(FIXED(P_20号様式!AD64,0,TRUE))<>P_20号様式!AD64,RIGHT(FIXED(P_20号様式!AD64,3,FALSE),4),\"\"))","v":""},{"$f":"IF(P_20号様式!AG64<> \"\",TEXT(INT(P_20号様式!AG64),\"#,##0\"),\"\")","v":""},{"$f":"IF(P_20号様式!AG64= \"\",\"\",IF(VALUE(FIXED(P_20号様式!AG64,0,TRUE))<>P_20号様式!AG64,RIGHT(FIXED(P_20号様式!AG64,3,FALSE),4),\"\"))","v":""},{"$f":"IF(P_20号様式!AH64<> \"\",TEXT(INT(P_20号様式!AH64),\"#,##0\"),\"\")","v":""},{"$f":"IF(P_20号様式!AH64= \"\",\"\",IF(VALUE(FIXED(P_20号様式!AH64,0,TRUE))<>P_20号様式!AH64,RIGHT(FIXED(P_20号様式!AH64,3,FALSE),4),\"\"))","v":""}]
[{"$f":"IF(P_20号様式!C65=\"\",\"\",P_20号様式!C65)","v":""},null,{"$f":"IF(P_20号様式!F65<> \"\",TEXT(INT(P_20号様式!F65),\"#,##0\"),\"\")","v":""},{"$f":"IF(P_20号様式!F65= \"\",\"\",IF(VALUE(FIXED(P_20号様式!F65,0,TRUE))<>P_20号様式!F65,RIGHT(FIXED(P_20号様式!F65,3,FALSE),4),\"\"))","v":""},{"$f":"IF(P_20号様式!I65<> \"\",TEXT(INT(P_20号様式!I65),\"#,##0\"),\"\")","v":""},{"$f":"IF(P_20号様式!I65= \"\",\"\",IF(VALUE(FIXED(P_20号様式!I65,0,TRUE))<>P_20号様式!I65,RIGHT(FIXED(P_20号様式!I65,3,FALSE),4),\"\"))","v":""},{"$f":"IF(P_20号様式!L65<> \"\",TEXT(INT(P_20号様式!L65),\"#,##0\"),\"\")","v":""},{"$f":"IF(P_20号様式!L65= \"\",\"\",IF(VALUE(FIXED(P_20号様式!L65,0,TRUE))<>P_20号様式!L65,RIGHT(FIXED(P_20号様式!L65,3,FALSE),4),\"\"))","v":""},{"$f":"IF(P_20号様式!O65<> \"\",TEXT(INT(P_20号様式!O65),\"#,##0\"),\"\")","v":""},{"$f":"IF(P_20号様式!O65= \"\",\"\",IF(VALUE(FIXED(P_20号様式!O65,0,TRUE))<>P_20号様式!O65,RIGHT(FIXED(P_20号様式!O65,3,FALSE),4),\"\"))","v":""},{"$f":"IF(P_20号様式!R65<> \"\",TEXT(INT(P_20号様式!R65),\"#,##0\"),\"\")","v":""},{"$f":"IF(P_20号様式!R65= \"\",\"\",IF(VALUE(FIXED(P_20号様式!R65,0,TRUE))<>P_20号様式!R65,RIGHT(FIXED(P_20号様式!R65,3,FALSE),4),\"\"))","v":""},{"$f":"IF(P_20号様式!U65<> \"\",TEXT(INT(P_20号様式!U65),\"#,##0\"),\"\")","v":""},{"$f":"IF(P_20号様式!U65= \"\",\"\",IF(VALUE(FIXED(P_20号様式!U65,0,TRUE))<>P_20号様式!U65,RIGHT(FIXED(P_20号様式!U65,3,FALSE),4),\"\"))","v":""},{"$f":"IF(P_20号様式!X65<> \"\",TEXT(INT(P_20号様式!X65),\"#,##0\"),\"\")","v":""},{"$f":"IF(P_20号様式!X65= \"\",\"\",IF(VALUE(FIXED(P_20号様式!X65,0,TRUE))<>P_20号様式!X65,RIGHT(FIXED(P_20号様式!X65,3,FALSE),4),\"\"))","v":""},{"$f":"IF(P_20号様式!AA65<> \"\",TEXT(INT(P_20号様式!AA65),\"#,##0\"),\"\")","v":""},{"$f":"IF(P_20号様式!AA65= \"\",\"\",IF(VALUE(FIXED(P_20号様式!AA65,0,TRUE))<>P_20号様式!AA65,RIGHT(FIXED(P_20号様式!AA65,3,FALSE),4),\"\"))","v":""},{"$f":"IF(P_20号様式!AD65<> \"\",TEXT(INT(P_20号様式!AD65),\"#,##0\"),\"\")","v":""},{"$f":"IF(P_20号様式!AD65= \"\",\"\",IF(VALUE(FIXED(P_20号様式!AD65,0,TRUE))<>P_20号様式!AD65,RIGHT(FIXED(P_20号様式!AD65,3,FALSE),4),\"\"))","v":""},{"$f":"IF(P_20号様式!AG65<> \"\",TEXT(INT(P_20号様式!AG65),\"#,##0\"),\"\")","v":""},{"$f":"IF(P_20号様式!AG65= \"\",\"\",IF(VALUE(FIXED(P_20号様式!AG65,0,TRUE))<>P_20号様式!AG65,RIGHT(FIXED(P_20号様式!AG65,3,FALSE),4),\"\"))","v":""},{"$f":"IF(P_20号様式!AH65<> \"\",TEXT(INT(P_20号様式!AH65),\"#,##0\"),\"\")","v":""},{"$f":"IF(P_20号様式!AH65= \"\",\"\",IF(VALUE(FIXED(P_20号様式!AH65,0,TRUE))<>P_20号様式!AH65,RIGHT(FIXED(P_20号様式!AH65,3,FALSE),4),\"\"))","v":""}]
[{"$f":"IF(P_20号様式!C66=\"\",\"\",P_20号様式!C66)","v":""},null,{"$f":"IF(P_20号様式!F66<> \"\",TEXT(INT(P_20号様式!F66),\"#,##0\"),\"\")","v":""},{"$f":"IF(P_20号様式!F66= \"\",\"\",IF(VALUE(FIXED(P_20号様式!F66,0,TRUE))<>P_20号様式!F66,RIGHT(FIXED(P_20号様式!F66,3,FALSE),4),\"\"))","v":""},{"$f":"IF(P_20号様式!I66<> \"\",TEXT(INT(P_20号様式!I66),\"#,##0\"),\"\")","v":""},{"$f":"IF(P_20号様式!I66= \"\",\"\",IF(VALUE(FIXED(P_20号様式!I66,0,TRUE))<>P_20号様式!I66,RIGHT(FIXED(P_20号様式!I66,3,FALSE),4),\"\"))","v":""},{"$f":"IF(P_20号様式!L66<> \"\",TEXT(INT(P_20号様式!L66),\"#,##0\"),\"\")","v":""},{"$f":"IF(P_20号様式!L66= \"\",\"\",IF(VALUE(FIXED(P_20号様式!L66,0,TRUE))<>P_20号様式!L66,RIGHT(FIXED(P_20号様式!L66,3,FALSE),4),\"\"))","v":""},{"$f":"IF(P_20号様式!O66<> \"\",TEXT(INT(P_20号様式!O66),\"#,##0\"),\"\")","v":""},{"$f":"IF(P_20号様式!O66= \"\",\"\",IF(VALUE(FIXED(P_20号様式!O66,0,TRUE))<>P_20号様式!O66,RIGHT(FIXED(P_20号様式!O66,3,FALSE),4),\"\"))","v":""},{"$f":"IF(P_20号様式!R66<> \"\",TEXT(INT(P_20号様式!R66),\"#,##0\"),\"\")","v":""},{"$f":"IF(P_20号様式!R66= \"\",\"\",IF(VALUE(FIXED(P_20号様式!R66,0,TRUE))<>P_20号様式!R66,RIGHT(FIXED(P_20号様式!R66,3,FALSE),4),\"\"))","v":""},{"$f":"IF(P_20号様式!U66<> \"\",TEXT(INT(P_20号様式!U66),\"#,##0\"),\"\")","v":""},{"$f":"IF(P_20号様式!U66= \"\",\"\",IF(VALUE(FIXED(P_20号様式!U66,0,TRUE))<>P_20号様式!U66,RIGHT(FIXED(P_20号様式!U66,3,FALSE),4),\"\"))","v":""},{"$f":"IF(P_20号様式!X66<> \"\",TEXT(INT(P_20号様式!X66),\"#,##0\"),\"\")","v":""},{"$f":"IF(P_20号様式!X66= \"\",\"\",IF(VALUE(FIXED(P_20号様式!X66,0,TRUE))<>P_20号様式!X66,RIGHT(FIXED(P_20号様式!X66,3,FALSE),4),\"\"))","v":""},{"$f":"IF(P_20号様式!AA66<> \"\",TEXT(INT(P_20号様式!AA66),\"#,##0\"),\"\")","v":""},{"$f":"IF(P_20号様式!AA66= \"\",\"\",IF(VALUE(FIXED(P_20号様式!AA66,0,TRUE))<>P_20号様式!AA66,RIGHT(FIXED(P_20号様式!AA66,3,FALSE),4),\"\"))","v":""},{"$f":"IF(P_20号様式!AD66<> \"\",TEXT(INT(P_20号様式!AD66),\"#,##0\"),\"\")","v":""},{"$f":"IF(P_20号様式!AD66= \"\",\"\",IF(VALUE(FIXED(P_20号様式!AD66,0,TRUE))<>P_20号様式!AD66,RIGHT(FIXED(P_20号様式!AD66,3,FALSE),4),\"\"))","v":""},{"$f":"IF(P_20号様式!AG66<> \"\",TEXT(INT(P_20号様式!AG66),\"#,##0\"),\"\")","v":""},{"$f":"IF(P_20号様式!AG66= \"\",\"\",IF(VALUE(FIXED(P_20号様式!AG66,0,TRUE))<>P_20号様式!AG66,RIGHT(FIXED(P_20号様式!AG66,3,FALSE),4),\"\"))","v":""},{"$f":"IF(P_20号様式!AH66<> \"\",TEXT(INT(P_20号様式!AH66),\"#,##0\"),\"\")","v":""},{"$f":"IF(P_20号様式!AH66= \"\",\"\",IF(VALUE(FIXED(P_20号様式!AH66,0,TRUE))<>P_20号様式!AH66,RIGHT(FIXED(P_20号様式!AH66,3,FALSE),4),\"\"))","v":""}]
[{"$f":"IF(P_20号様式!C67=\"\",\"\",P_20号様式!C67)","v":""},null,{"$f":"IF(P_20号様式!F67<> \"\",TEXT(INT(P_20号様式!F67),\"#,##0\"),\"\")","v":""},{"$f":"IF(P_20号様式!F67= \"\",\"\",IF(VALUE(FIXED(P_20号様式!F67,0,TRUE))<>P_20号様式!F67,RIGHT(FIXED(P_20号様式!F67,3,FALSE),4),\"\"))","v":""},{"$f":"IF(P_20号様式!I67<> \"\",TEXT(INT(P_20号様式!I67),\"#,##0\"),\"\")","v":""},{"$f":"IF(P_20号様式!I67= \"\",\"\",IF(VALUE(FIXED(P_20号様式!I67,0,TRUE))<>P_20号様式!I67,RIGHT(FIXED(P_20号様式!I67,3,FALSE),4),\"\"))","v":""},{"$f":"IF(P_20号様式!L67<> \"\",TEXT(INT(P_20号様式!L67),\"#,##0\"),\"\")","v":""},{"$f":"IF(P_20号様式!L67= \"\",\"\",IF(VALUE(FIXED(P_20号様式!L67,0,TRUE))<>P_20号様式!L67,RIGHT(FIXED(P_20号様式!L67,3,FALSE),4),\"\"))","v":""},{"$f":"IF(P_20号様式!O67<> \"\",TEXT(INT(P_20号様式!O67),\"#,##0\"),\"\")","v":""},{"$f":"IF(P_20号様式!O67= \"\",\"\",IF(VALUE(FIXED(P_20号様式!O67,0,TRUE))<>P_20号様式!O67,RIGHT(FIXED(P_20号様式!O67,3,FALSE),4),\"\"))","v":""},{"$f":"IF(P_20号様式!R67<> \"\",TEXT(INT(P_20号様式!R67),\"#,##0\"),\"\")","v":""},{"$f":"IF(P_20号様式!R67= \"\",\"\",IF(VALUE(FIXED(P_20号様式!R67,0,TRUE))<>P_20号様式!R67,RIGHT(FIXED(P_20号様式!R67,3,FALSE),4),\"\"))","v":""},{"$f":"IF(P_20号様式!U67<> \"\",TEXT(INT(P_20号様式!U67),\"#,##0\"),\"\")","v":""},{"$f":"IF(P_20号様式!U67= \"\",\"\",IF(VALUE(FIXED(P_20号様式!U67,0,TRUE))<>P_20号様式!U67,RIGHT(FIXED(P_20号様式!U67,3,FALSE),4),\"\"))","v":""},{"$f":"IF(P_20号様式!X67<> \"\",TEXT(INT(P_20号様式!X67),\"#,##0\"),\"\")","v":""},{"$f":"IF(P_20号様式!X67= \"\",\"\",IF(VALUE(FIXED(P_20号様式!X67,0,TRUE))<>P_20号様式!X67,RIGHT(FIXED(P_20号様式!X67,3,FALSE),4),\"\"))","v":""},{"$f":"IF(P_20号様式!AA67<> \"\",TEXT(INT(P_20号様式!AA67),\"#,##0\"),\"\")","v":""},{"$f":"IF(P_20号様式!AA67= \"\",\"\",IF(VALUE(FIXED(P_20号様式!AA67,0,TRUE))<>P_20号様式!AA67,RIGHT(FIXED(P_20号様式!AA67,3,FALSE),4),\"\"))","v":""},{"$f":"IF(P_20号様式!AD67<> \"\",TEXT(INT(P_20号様式!AD67),\"#,##0\"),\"\")","v":""},{"$f":"IF(P_20号様式!AD67= \"\",\"\",IF(VALUE(FIXED(P_20号様式!AD67,0,TRUE))<>P_20号様式!AD67,RIGHT(FIXED(P_20号様式!AD67,3,FALSE),4),\"\"))","v":""},{"$f":"IF(P_20号様式!AG67<> \"\",TEXT(INT(P_20号様式!AG67),\"#,##0\"),\"\")","v":""},{"$f":"IF(P_20号様式!AG67= \"\",\"\",IF(VALUE(FIXED(P_20号様式!AG67,0,TRUE))<>P_20号様式!AG67,RIGHT(FIXED(P_20号様式!AG67,3,FALSE),4),\"\"))","v":""},{"$f":"IF(P_20号様式!AH67<> \"\",TEXT(INT(P_20号様式!AH67),\"#,##0\"),\"\")","v":""},{"$f":"IF(P_20号様式!AH67= \"\",\"\",IF(VALUE(FIXED(P_20号様式!AH67,0,TRUE))<>P_20号様式!AH67,RIGHT(FIXED(P_20号様式!AH67,3,FALSE),4),\"\"))","v":""}]
[{"$f":"IF(P_20号様式!C68=\"\",\"\",P_20号様式!C68)","v":""},null,{"$f":"IF(P_20号様式!F68<> \"\",TEXT(INT(P_20号様式!F68),\"#,##0\"),\"\")","v":""},{"$f":"IF(P_20号様式!F68= \"\",\"\",IF(VALUE(FIXED(P_20号様式!F68,0,TRUE))<>P_20号様式!F68,RIGHT(FIXED(P_20号様式!F68,3,FALSE),4),\"\"))","v":""},{"$f":"IF(P_20号様式!I68<> \"\",TEXT(INT(P_20号様式!I68),\"#,##0\"),\"\")","v":""},{"$f":"IF(P_20号様式!I68= \"\",\"\",IF(VALUE(FIXED(P_20号様式!I68,0,TRUE))<>P_20号様式!I68,RIGHT(FIXED(P_20号様式!I68,3,FALSE),4),\"\"))","v":""},{"$f":"IF(P_20号様式!L68<> \"\",TEXT(INT(P_20号様式!L68),\"#,##0\"),\"\")","v":""},{"$f":"IF(P_20号様式!L68= \"\",\"\",IF(VALUE(FIXED(P_20号様式!L68,0,TRUE))<>P_20号様式!L68,RIGHT(FIXED(P_20号様式!L68,3,FALSE),4),\"\"))","v":""},{"$f":"IF(P_20号様式!O68<> \"\",TEXT(INT(P_20号様式!O68),\"#,##0\"),\"\")","v":""},{"$f":"IF(P_20号様式!O68= \"\",\"\",IF(VALUE(FIXED(P_20号様式!O68,0,TRUE))<>P_20号様式!O68,RIGHT(FIXED(P_20号様式!O68,3,FALSE),4),\"\"))","v":""},{"$f":"IF(P_20号様式!R68<> \"\",TEXT(INT(P_20号様式!R68),\"#,##0\"),\"\")","v":""},{"$f":"IF(P_20号様式!R68= \"\",\"\",IF(VALUE(FIXED(P_20号様式!R68,0,TRUE))<>P_20号様式!R68,RIGHT(FIXED(P_20号様式!R68,3,FALSE),4),\"\"))","v":""},{"$f":"IF(P_20号様式!U68<> \"\",TEXT(INT(P_20号様式!U68),\"#,##0\"),\"\")","v":""},{"$f":"IF(P_20号様式!U68= \"\",\"\",IF(VALUE(FIXED(P_20号様式!U68,0,TRUE))<>P_20号様式!U68,RIGHT(FIXED(P_20号様式!U68,3,FALSE),4),\"\"))","v":""},{"$f":"IF(P_20号様式!X68<> \"\",TEXT(INT(P_20号様式!X68),\"#,##0\"),\"\")","v":""},{"$f":"IF(P_20号様式!X68= \"\",\"\",IF(VALUE(FIXED(P_20号様式!X68,0,TRUE))<>P_20号様式!X68,RIGHT(FIXED(P_20号様式!X68,3,FALSE),4),\"\"))","v":""},{"$f":"IF(P_20号様式!AA68<> \"\",TEXT(INT(P_20号様式!AA68),\"#,##0\"),\"\")","v":""},{"$f":"IF(P_20号様式!AA68= \"\",\"\",IF(VALUE(FIXED(P_20号様式!AA68,0,TRUE))<>P_20号様式!AA68,RIGHT(FIXED(P_20号様式!AA68,3,FALSE),4),\"\"))","v":""},{"$f":"IF(P_20号様式!AD68<> \"\",TEXT(INT(P_20号様式!AD68),\"#,##0\"),\"\")","v":""},{"$f":"IF(P_20号様式!AD68= \"\",\"\",IF(VALUE(FIXED(P_20号様式!AD68,0,TRUE))<>P_20号様式!AD68,RIGHT(FIXED(P_20号様式!AD68,3,FALSE),4),\"\"))","v":""},{"$f":"IF(P_20号様式!AG68<> \"\",TEXT(INT(P_20号様式!AG68),\"#,##0\"),\"\")","v":""},{"$f":"IF(P_20号様式!AG68= \"\",\"\",IF(VALUE(FIXED(P_20号様式!AG68,0,TRUE))<>P_20号様式!AG68,RIGHT(FIXED(P_20号様式!AG68,3,FALSE),4),\"\"))","v":""},{"$f":"IF(P_20号様式!AH68<> \"\",TEXT(INT(P_20号様式!AH68),\"#,##0\"),\"\")","v":""},{"$f":"IF(P_20号様式!AH68= \"\",\"\",IF(VALUE(FIXED(P_20号様式!AH68,0,TRUE))<>P_20号様式!AH68,RIGHT(FIXED(P_20号様式!AH68,3,FALSE),4),\"\"))","v":""}]
[{"$f":"IF(P_20号様式!C69=\"\",\"\",P_20号様式!C69)","v":""},null,{"$f":"IF(P_20号様式!F69<> \"\",TEXT(INT(P_20号様式!F69),\"#,##0\"),\"\")","v":""},{"$f":"IF(P_20号様式!F69= \"\",\"\",IF(VALUE(FIXED(P_20号様式!F69,0,TRUE))<>P_20号様式!F69,RIGHT(FIXED(P_20号様式!F69,3,FALSE),4),\"\"))","v":""},{"$f":"IF(P_20号様式!I69<> \"\",TEXT(INT(P_20号様式!I69),\"#,##0\"),\"\")","v":""},{"$f":"IF(P_20号様式!I69= \"\",\"\",IF(VALUE(FIXED(P_20号様式!I69,0,TRUE))<>P_20号様式!I69,RIGHT(FIXED(P_20号様式!I69,3,FALSE),4),\"\"))","v":""},{"$f":"IF(P_20号様式!L69<> \"\",TEXT(INT(P_20号様式!L69),\"#,##0\"),\"\")","v":""},{"$f":"IF(P_20号様式!L69= \"\",\"\",IF(VALUE(FIXED(P_20号様式!L69,0,TRUE))<>P_20号様式!L69,RIGHT(FIXED(P_20号様式!L69,3,FALSE),4),\"\"))","v":""},{"$f":"IF(P_20号様式!O69<> \"\",TEXT(INT(P_20号様式!O69),\"#,##0\"),\"\")","v":""},{"$f":"IF(P_20号様式!O69= \"\",\"\",IF(VALUE(FIXED(P_20号様式!O69,0,TRUE))<>P_20号様式!O69,RIGHT(FIXED(P_20号様式!O69,3,FALSE),4),\"\"))","v":""},{"$f":"IF(P_20号様式!R69<> \"\",TEXT(INT(P_20号様式!R69),\"#,##0\"),\"\")","v":""},{"$f":"IF(P_20号様式!R69= \"\",\"\",IF(VALUE(FIXED(P_20号様式!R69,0,TRUE))<>P_20号様式!R69,RIGHT(FIXED(P_20号様式!R69,3,FALSE),4),\"\"))","v":""},{"$f":"IF(P_20号様式!U69<> \"\",TEXT(INT(P_20号様式!U69),\"#,##0\"),\"\")","v":""},{"$f":"IF(P_20号様式!U69= \"\",\"\",IF(VALUE(FIXED(P_20号様式!U69,0,TRUE))<>P_20号様式!U69,RIGHT(FIXED(P_20号様式!U69,3,FALSE),4),\"\"))","v":""},{"$f":"IF(P_20号様式!X69<> \"\",TEXT(INT(P_20号様式!X69),\"#,##0\"),\"\")","v":""},{"$f":"IF(P_20号様式!X69= \"\",\"\",IF(VALUE(FIXED(P_20号様式!X69,0,TRUE))<>P_20号様式!X69,RIGHT(FIXED(P_20号様式!X69,3,FALSE),4),\"\"))","v":""},{"$f":"IF(P_20号様式!AA69<> \"\",TEXT(INT(P_20号様式!AA69),\"#,##0\"),\"\")","v":""},{"$f":"IF(P_20号様式!AA69= \"\",\"\",IF(VALUE(FIXED(P_20号様式!AA69,0,TRUE))<>P_20号様式!AA69,RIGHT(FIXED(P_20号様式!AA69,3,FALSE),4),\"\"))","v":""},{"$f":"IF(P_20号様式!AD69<> \"\",TEXT(INT(P_20号様式!AD69),\"#,##0\"),\"\")","v":""},{"$f":"IF(P_20号様式!AD69= \"\",\"\",IF(VALUE(FIXED(P_20号様式!AD69,0,TRUE))<>P_20号様式!AD69,RIGHT(FIXED(P_20号様式!AD69,3,FALSE),4),\"\"))","v":""},{"$f":"IF(P_20号様式!AG69<> \"\",TEXT(INT(P_20号様式!AG69),\"#,##0\"),\"\")","v":""},{"$f":"IF(P_20号様式!AG69= \"\",\"\",IF(VALUE(FIXED(P_20号様式!AG69,0,TRUE))<>P_20号様式!AG69,RIGHT(FIXED(P_20号様式!AG69,3,FALSE),4),\"\"))","v":""},{"$f":"IF(P_20号様式!AH69<> \"\",TEXT(INT(P_20号様式!AH69),\"#,##0\"),\"\")","v":""},{"$f":"IF(P_20号様式!AH69= \"\",\"\",IF(VALUE(FIXED(P_20号様式!AH69,0,TRUE))<>P_20号様式!AH69,RIGHT(FIXED(P_20号様式!AH69,3,FALSE),4),\"\"))","v":""}]
[{"$f":"IF(P_20号様式!C70=\"\",\"\",P_20号様式!C70)","v":""},null,{"$f":"IF(P_20号様式!F70<> \"\",TEXT(INT(P_20号様式!F70),\"#,##0\"),\"\")","v":""},{"$f":"IF(P_20号様式!F70= \"\",\"\",IF(VALUE(FIXED(P_20号様式!F70,0,TRUE))<>P_20号様式!F70,RIGHT(FIXED(P_20号様式!F70,3,FALSE),4),\"\"))","v":""},{"$f":"IF(P_20号様式!I70<> \"\",TEXT(INT(P_20号様式!I70),\"#,##0\"),\"\")","v":""},{"$f":"IF(P_20号様式!I70= \"\",\"\",IF(VALUE(FIXED(P_20号様式!I70,0,TRUE))<>P_20号様式!I70,RIGHT(FIXED(P_20号様式!I70,3,FALSE),4),\"\"))","v":""},{"$f":"IF(P_20号様式!L70<> \"\",TEXT(INT(P_20号様式!L70),\"#,##0\"),\"\")","v":""},{"$f":"IF(P_20号様式!L70= \"\",\"\",IF(VALUE(FIXED(P_20号様式!L70,0,TRUE))<>P_20号様式!L70,RIGHT(FIXED(P_20号様式!L70,3,FALSE),4),\"\"))","v":""},{"$f":"IF(P_20号様式!O70<> \"\",TEXT(INT(P_20号様式!O70),\"#,##0\"),\"\")","v":""},{"$f":"IF(P_20号様式!O70= \"\",\"\",IF(VALUE(FIXED(P_20号様式!O70,0,TRUE))<>P_20号様式!O70,RIGHT(FIXED(P_20号様式!O70,3,FALSE),4),\"\"))","v":""},{"$f":"IF(P_20号様式!R70<> \"\",TEXT(INT(P_20号様式!R70),\"#,##0\"),\"\")","v":""},{"$f":"IF(P_20号様式!R70= \"\",\"\",IF(VALUE(FIXED(P_20号様式!R70,0,TRUE))<>P_20号様式!R70,RIGHT(FIXED(P_20号様式!R70,3,FALSE),4),\"\"))","v":""},{"$f":"IF(P_20号様式!U70<> \"\",TEXT(INT(P_20号様式!U70),\"#,##0\"),\"\")","v":""},{"$f":"IF(P_20号様式!U70= \"\",\"\",IF(VALUE(FIXED(P_20号様式!U70,0,TRUE))<>P_20号様式!U70,RIGHT(FIXED(P_20号様式!U70,3,FALSE),4),\"\"))","v":""},{"$f":"IF(P_20号様式!X70<> \"\",TEXT(INT(P_20号様式!X70),\"#,##0\"),\"\")","v":""},{"$f":"IF(P_20号様式!X70= \"\",\"\",IF(VALUE(FIXED(P_20号様式!X70,0,TRUE))<>P_20号様式!X70,RIGHT(FIXED(P_20号様式!X70,3,FALSE),4),\"\"))","v":""},{"$f":"IF(P_20号様式!AA70<> \"\",TEXT(INT(P_20号様式!AA70),\"#,##0\"),\"\")","v":""},{"$f":"IF(P_20号様式!AA70= \"\",\"\",IF(VALUE(FIXED(P_20号様式!AA70,0,TRUE))<>P_20号様式!AA70,RIGHT(FIXED(P_20号様式!AA70,3,FALSE),4),\"\"))","v":""},{"$f":"IF(P_20号様式!AD70<> \"\",TEXT(INT(P_20号様式!AD70),\"#,##0\"),\"\")","v":""},{"$f":"IF(P_20号様式!AD70= \"\",\"\",IF(VALUE(FIXED(P_20号様式!AD70,0,TRUE))<>P_20号様式!AD70,RIGHT(FIXED(P_20号様式!AD70,3,FALSE),4),\"\"))","v":""},{"$f":"IF(P_20号様式!AG70<> \"\",TEXT(INT(P_20号様式!AG70),\"#,##0\"),\"\")","v":""},{"$f":"IF(P_20号様式!AG70= \"\",\"\",IF(VALUE(FIXED(P_20号様式!AG70,0,TRUE))<>P_20号様式!AG70,RIGHT(FIXED(P_20号様式!AG70,3,FALSE),4),\"\"))","v":""},{"$f":"IF(P_20号様式!AH70<> \"\",TEXT(INT(P_20号様式!AH70),\"#,##0\"),\"\")","v":""},{"$f":"IF(P_20号様式!AH70= \"\",\"\",IF(VALUE(FIXED(P_20号様式!AH70,0,TRUE))<>P_20号様式!AH70,RIGHT(FIXED(P_20号様式!AH70,3,FALSE),4),\"\"))","v":""}]
[{"$f":"IF(P_20号様式!C71=\"\",\"\",P_20号様式!C71)","v":""},null,{"$f":"IF(P_20号様式!F71<> \"\",TEXT(INT(P_20号様式!F71),\"#,##0\"),\"\")","v":""},{"$f":"IF(P_20号様式!F71= \"\",\"\",IF(VALUE(FIXED(P_20号様式!F71,0,TRUE))<>P_20号様式!F71,RIGHT(FIXED(P_20号様式!F71,3,FALSE),4),\"\"))","v":""},{"$f":"IF(P_20号様式!I71<> \"\",TEXT(INT(P_20号様式!I71),\"#,##0\"),\"\")","v":""},{"$f":"IF(P_20号様式!I71= \"\",\"\",IF(VALUE(FIXED(P_20号様式!I71,0,TRUE))<>P_20号様式!I71,RIGHT(FIXED(P_20号様式!I71,3,FALSE),4),\"\"))","v":""},{"$f":"IF(P_20号様式!L71<> \"\",TEXT(INT(P_20号様式!L71),\"#,##0\"),\"\")","v":""},{"$f":"IF(P_20号様式!L71= \"\",\"\",IF(VALUE(FIXED(P_20号様式!L71,0,TRUE))<>P_20号様式!L71,RIGHT(FIXED(P_20号様式!L71,3,FALSE),4),\"\"))","v":""},{"$f":"IF(P_20号様式!O71<> \"\",TEXT(INT(P_20号様式!O71),\"#,##0\"),\"\")","v":""},{"$f":"IF(P_20号様式!O71= \"\",\"\",IF(VALUE(FIXED(P_20号様式!O71,0,TRUE))<>P_20号様式!O71,RIGHT(FIXED(P_20号様式!O71,3,FALSE),4),\"\"))","v":""},{"$f":"IF(P_20号様式!R71<> \"\",TEXT(INT(P_20号様式!R71),\"#,##0\"),\"\")","v":""},{"$f":"IF(P_20号様式!R71= \"\",\"\",IF(VALUE(FIXED(P_20号様式!R71,0,TRUE))<>P_20号様式!R71,RIGHT(FIXED(P_20号様式!R71,3,FALSE),4),\"\"))","v":""},{"$f":"IF(P_20号様式!U71<> \"\",TEXT(INT(P_20号様式!U71),\"#,##0\"),\"\")","v":""},{"$f":"IF(P_20号様式!U71= \"\",\"\",IF(VALUE(FIXED(P_20号様式!U71,0,TRUE))<>P_20号様式!U71,RIGHT(FIXED(P_20号様式!U71,3,FALSE),4),\"\"))","v":""},{"$f":"IF(P_20号様式!X71<> \"\",TEXT(INT(P_20号様式!X71),\"#,##0\"),\"\")","v":""},{"$f":"IF(P_20号様式!X71= \"\",\"\",IF(VALUE(FIXED(P_20号様式!X71,0,TRUE))<>P_20号様式!X71,RIGHT(FIXED(P_20号様式!X71,3,FALSE),4),\"\"))","v":""},{"$f":"IF(P_20号様式!AA71<> \"\",TEXT(INT(P_20号様式!AA71),\"#,##0\"),\"\")","v":""},{"$f":"IF(P_20号様式!AA71= \"\",\"\",IF(VALUE(FIXED(P_20号様式!AA71,0,TRUE))<>P_20号様式!AA71,RIGHT(FIXED(P_20号様式!AA71,3,FALSE),4),\"\"))","v":""},{"$f":"IF(P_20号様式!AD71<> \"\",TEXT(INT(P_20号様式!AD71),\"#,##0\"),\"\")","v":""},{"$f":"IF(P_20号様式!AD71= \"\",\"\",IF(VALUE(FIXED(P_20号様式!AD71,0,TRUE))<>P_20号様式!AD71,RIGHT(FIXED(P_20号様式!AD71,3,FALSE),4),\"\"))","v":""},{"$f":"IF(P_20号様式!AG71<> \"\",TEXT(INT(P_20号様式!AG71),\"#,##0\"),\"\")","v":""},{"$f":"IF(P_20号様式!AG71= \"\",\"\",IF(VALUE(FIXED(P_20号様式!AG71,0,TRUE))<>P_20号様式!AG71,RIGHT(FIXED(P_20号様式!AG71,3,FALSE),4),\"\"))","v":""},{"$f":"IF(P_20号様式!AH71<> \"\",TEXT(INT(P_20号様式!AH71),\"#,##0\"),\"\")","v":""},{"$f":"IF(P_20号様式!AH71= \"\",\"\",IF(VALUE(FIXED(P_20号様式!AH71,0,TRUE))<>P_20号様式!AH71,RIGHT(FIXED(P_20号様式!AH71,3,FALSE),4),\"\"))","v":""}]
[{"$f":"IF(P_20号様式!C72=\"\",\"\",P_20号様式!C72)","v":""},null,{"$f":"IF(P_20号様式!F72<> \"\",TEXT(INT(P_20号様式!F72),\"#,##0\"),\"\")","v":""},{"$f":"IF(P_20号様式!F72= \"\",\"\",IF(VALUE(FIXED(P_20号様式!F72,0,TRUE))<>P_20号様式!F72,RIGHT(FIXED(P_20号様式!F72,3,FALSE),4),\"\"))","v":""},{"$f":"IF(P_20号様式!I72<> \"\",TEXT(INT(P_20号様式!I72),\"#,##0\"),\"\")","v":""},{"$f":"IF(P_20号様式!I72= \"\",\"\",IF(VALUE(FIXED(P_20号様式!I72,0,TRUE))<>P_20号様式!I72,RIGHT(FIXED(P_20号様式!I72,3,FALSE),4),\"\"))","v":""},{"$f":"IF(P_20号様式!L72<> \"\",TEXT(INT(P_20号様式!L72),\"#,##0\"),\"\")","v":""},{"$f":"IF(P_20号様式!L72= \"\",\"\",IF(VALUE(FIXED(P_20号様式!L72,0,TRUE))<>P_20号様式!L72,RIGHT(FIXED(P_20号様式!L72,3,FALSE),4),\"\"))","v":""},{"$f":"IF(P_20号様式!O72<> \"\",TEXT(INT(P_20号様式!O72),\"#,##0\"),\"\")","v":""},{"$f":"IF(P_20号様式!O72= \"\",\"\",IF(VALUE(FIXED(P_20号様式!O72,0,TRUE))<>P_20号様式!O72,RIGHT(FIXED(P_20号様式!O72,3,FALSE),4),\"\"))","v":""},{"$f":"IF(P_20号様式!R72<> \"\",TEXT(INT(P_20号様式!R72),\"#,##0\"),\"\")","v":""},{"$f":"IF(P_20号様式!R72= \"\",\"\",IF(VALUE(FIXED(P_20号様式!R72,0,TRUE))<>P_20号様式!R72,RIGHT(FIXED(P_20号様式!R72,3,FALSE),4),\"\"))","v":""},{"$f":"IF(P_20号様式!U72<> \"\",TEXT(INT(P_20号様式!U72),\"#,##0\"),\"\")","v":""},{"$f":"IF(P_20号様式!U72= \"\",\"\",IF(VALUE(FIXED(P_20号様式!U72,0,TRUE))<>P_20号様式!U72,RIGHT(FIXED(P_20号様式!U72,3,FALSE),4),\"\"))","v":""},{"$f":"IF(P_20号様式!X72<> \"\",TEXT(INT(P_20号様式!X72),\"#,##0\"),\"\")","v":""},{"$f":"IF(P_20号様式!X72= \"\",\"\",IF(VALUE(FIXED(P_20号様式!X72,0,TRUE))<>P_20号様式!X72,RIGHT(FIXED(P_20号様式!X72,3,FALSE),4),\"\"))","v":""},{"$f":"IF(P_20号様式!AA72<> \"\",TEXT(INT(P_20号様式!AA72),\"#,##0\"),\"\")","v":""},{"$f":"IF(P_20号様式!AA72= \"\",\"\",IF(VALUE(FIXED(P_20号様式!AA72,0,TRUE))<>P_20号様式!AA72,RIGHT(FIXED(P_20号様式!AA72,3,FALSE),4),\"\"))","v":""},{"$f":"IF(P_20号様式!AD72<> \"\",TEXT(INT(P_20号様式!AD72),\"#,##0\"),\"\")","v":""},{"$f":"IF(P_20号様式!AD72= \"\",\"\",IF(VALUE(FIXED(P_20号様式!AD72,0,TRUE))<>P_20号様式!AD72,RIGHT(FIXED(P_20号様式!AD72,3,FALSE),4),\"\"))","v":""},{"$f":"IF(P_20号様式!AG72<> \"\",TEXT(INT(P_20号様式!AG72),\"#,##0\"),\"\")","v":""},{"$f":"IF(P_20号様式!AG72= \"\",\"\",IF(VALUE(FIXED(P_20号様式!AG72,0,TRUE))<>P_20号様式!AG72,RIGHT(FIXED(P_20号様式!AG72,3,FALSE),4),\"\"))","v":""},{"$f":"IF(P_20号様式!AH72<> \"\",TEXT(INT(P_20号様式!AH72),\"#,##0\"),\"\")","v":""},{"$f":"IF(P_20号様式!AH72= \"\",\"\",IF(VALUE(FIXED(P_20号様式!AH72,0,TRUE))<>P_20号様式!AH72,RIGHT(FIXED(P_20号様式!AH72,3,FALSE),4),\"\"))","v":""}]
[{"$f":"IF(P_20号様式!C73=\"\",\"\",P_20号様式!C73)","v":""},null,{"$f":"IF(P_20号様式!F73<> \"\",TEXT(INT(P_20号様式!F73),\"#,##0\"),\"\")","v":""},{"$f":"IF(P_20号様式!F73= \"\",\"\",IF(VALUE(FIXED(P_20号様式!F73,0,TRUE))<>P_20号様式!F73,RIGHT(FIXED(P_20号様式!F73,3,FALSE),4),\"\"))","v":""},{"$f":"IF(P_20号様式!I73<> \"\",TEXT(INT(P_20号様式!I73),\"#,##0\"),\"\")","v":""},{"$f":"IF(P_20号様式!I73= \"\",\"\",IF(VALUE(FIXED(P_20号様式!I73,0,TRUE))<>P_20号様式!I73,RIGHT(FIXED(P_20号様式!I73,3,FALSE),4),\"\"))","v":""},{"$f":"IF(P_20号様式!L73<> \"\",TEXT(INT(P_20号様式!L73),\"#,##0\"),\"\")","v":""},{"$f":"IF(P_20号様式!L73= \"\",\"\",IF(VALUE(FIXED(P_20号様式!L73,0,TRUE))<>P_20号様式!L73,RIGHT(FIXED(P_20号様式!L73,3,FALSE),4),\"\"))","v":""},{"$f":"IF(P_20号様式!O73<> \"\",TEXT(INT(P_20号様式!O73),\"#,##0\"),\"\")","v":""},{"$f":"IF(P_20号様式!O73= \"\",\"\",IF(VALUE(FIXED(P_20号様式!O73,0,TRUE))<>P_20号様式!O73,RIGHT(FIXED(P_20号様式!O73,3,FALSE),4),\"\"))","v":""},{"$f":"IF(P_20号様式!R73<> \"\",TEXT(INT(P_20号様式!R73),\"#,##0\"),\"\")","v":""},{"$f":"IF(P_20号様式!R73= \"\",\"\",IF(VALUE(FIXED(P_20号様式!R73,0,TRUE))<>P_20号様式!R73,RIGHT(FIXED(P_20号様式!R73,3,FALSE),4),\"\"))","v":""},{"$f":"IF(P_20号様式!U73<> \"\",TEXT(INT(P_20号様式!U73),\"#,##0\"),\"\")","v":""},{"$f":"IF(P_20号様式!U73= \"\",\"\",IF(VALUE(FIXED(P_20号様式!U73,0,TRUE))<>P_20号様式!U73,RIGHT(FIXED(P_20号様式!U73,3,FALSE),4),\"\"))","v":""},{"$f":"IF(P_20号様式!X73<> \"\",TEXT(INT(P_20号様式!X73),\"#,##0\"),\"\")","v":""},{"$f":"IF(P_20号様式!X73= \"\",\"\",IF(VALUE(FIXED(P_20号様式!X73,0,TRUE))<>P_20号様式!X73,RIGHT(FIXED(P_20号様式!X73,3,FALSE),4),\"\"))","v":""},{"$f":"IF(P_20号様式!AA73<> \"\",TEXT(INT(P_20号様式!AA73),\"#,##0\"),\"\")","v":""},{"$f":"IF(P_20号様式!AA73= \"\",\"\",IF(VALUE(FIXED(P_20号様式!AA73,0,TRUE))<>P_20号様式!AA73,RIGHT(FIXED(P_20号様式!AA73,3,FALSE),4),\"\"))","v":""},{"$f":"IF(P_20号様式!AD73<> \"\",TEXT(INT(P_20号様式!AD73),\"#,##0\"),\"\")","v":""},{"$f":"IF(P_20号様式!AD73= \"\",\"\",IF(VALUE(FIXED(P_20号様式!AD73,0,TRUE))<>P_20号様式!AD73,RIGHT(FIXED(P_20号様式!AD73,3,FALSE),4),\"\"))","v":""},{"$f":"IF(P_20号様式!AG73<> \"\",TEXT(INT(P_20号様式!AG73),\"#,##0\"),\"\")","v":""},{"$f":"IF(P_20号様式!AG73= \"\",\"\",IF(VALUE(FIXED(P_20号様式!AG73,0,TRUE))<>P_20号様式!AG73,RIGHT(FIXED(P_20号様式!AG73,3,FALSE),4),\"\"))","v":""},{"$f":"IF(P_20号様式!AH73<> \"\",TEXT(INT(P_20号様式!AH73),\"#,##0\"),\"\")","v":""},{"$f":"IF(P_20号様式!AH73= \"\",\"\",IF(VALUE(FIXED(P_20号様式!AH73,0,TRUE))<>P_20号様式!AH73,RIGHT(FIXED(P_20号様式!AH73,3,FALSE),4),\"\"))","v":""}]
[{"$f":"IF(P_20号様式!C74=\"\",\"\",P_20号様式!C74)","v":""},null,{"$f":"IF(P_20号様式!F74<> \"\",TEXT(INT(P_20号様式!F74),\"#,##0\"),\"\")","v":""},{"$f":"IF(P_20号様式!F74= \"\",\"\",IF(VALUE(FIXED(P_20号様式!F74,0,TRUE))<>P_20号様式!F74,RIGHT(FIXED(P_20号様式!F74,3,FALSE),4),\"\"))","v":""},{"$f":"IF(P_20号様式!I74<> \"\",TEXT(INT(P_20号様式!I74),\"#,##0\"),\"\")","v":""},{"$f":"IF(P_20号様式!I74= \"\",\"\",IF(VALUE(FIXED(P_20号様式!I74,0,TRUE))<>P_20号様式!I74,RIGHT(FIXED(P_20号様式!I74,3,FALSE),4),\"\"))","v":""},{"$f":"IF(P_20号様式!L74<> \"\",TEXT(INT(P_20号様式!L74),\"#,##0\"),\"\")","v":""},{"$f":"IF(P_20号様式!L74= \"\",\"\",IF(VALUE(FIXED(P_20号様式!L74,0,TRUE))<>P_20号様式!L74,RIGHT(FIXED(P_20号様式!L74,3,FALSE),4),\"\"))","v":""},{"$f":"IF(P_20号様式!O74<> \"\",TEXT(INT(P_20号様式!O74),\"#,##0\"),\"\")","v":""},{"$f":"IF(P_20号様式!O74= \"\",\"\",IF(VALUE(FIXED(P_20号様式!O74,0,TRUE))<>P_20号様式!O74,RIGHT(FIXED(P_20号様式!O74,3,FALSE),4),\"\"))","v":""},{"$f":"IF(P_20号様式!R74<> \"\",TEXT(INT(P_20号様式!R74),\"#,##0\"),\"\")","v":""},{"$f":"IF(P_20号様式!R74= \"\",\"\",IF(VALUE(FIXED(P_20号様式!R74,0,TRUE))<>P_20号様式!R74,RIGHT(FIXED(P_20号様式!R74,3,FALSE),4),\"\"))","v":""},{"$f":"IF(P_20号様式!U74<> \"\",TEXT(INT(P_20号様式!U74),\"#,##0\"),\"\")","v":""},{"$f":"IF(P_20号様式!U74= \"\",\"\",IF(VALUE(FIXED(P_20号様式!U74,0,TRUE))<>P_20号様式!U74,RIGHT(FIXED(P_20号様式!U74,3,FALSE),4),\"\"))","v":""},{"$f":"IF(P_20号様式!X74<> \"\",TEXT(INT(P_20号様式!X74),\"#,##0\"),\"\")","v":""},{"$f":"IF(P_20号様式!X74= \"\",\"\",IF(VALUE(FIXED(P_20号様式!X74,0,TRUE))<>P_20号様式!X74,RIGHT(FIXED(P_20号様式!X74,3,FALSE),4),\"\"))","v":""},{"$f":"IF(P_20号様式!AA74<> \"\",TEXT(INT(P_20号様式!AA74),\"#,##0\"),\"\")","v":""},{"$f":"IF(P_20号様式!AA74= \"\",\"\",IF(VALUE(FIXED(P_20号様式!AA74,0,TRUE))<>P_20号様式!AA74,RIGHT(FIXED(P_20号様式!AA74,3,FALSE),4),\"\"))","v":""},{"$f":"IF(P_20号様式!AD74<> \"\",TEXT(INT(P_20号様式!AD74),\"#,##0\"),\"\")","v":""},{"$f":"IF(P_20号様式!AD74= \"\",\"\",IF(VALUE(FIXED(P_20号様式!AD74,0,TRUE))<>P_20号様式!AD74,RIGHT(FIXED(P_20号様式!AD74,3,FALSE),4),\"\"))","v":""},{"$f":"IF(P_20号様式!AG74<> \"\",TEXT(INT(P_20号様式!AG74),\"#,##0\"),\"\")","v":""},{"$f":"IF(P_20号様式!AG74= \"\",\"\",IF(VALUE(FIXED(P_20号様式!AG74,0,TRUE))<>P_20号様式!AG74,RIGHT(FIXED(P_20号様式!AG74,3,FALSE),4),\"\"))","v":""},{"$f":"IF(P_20号様式!AH74<> \"\",TEXT(INT(P_20号様式!AH74),\"#,##0\"),\"\")","v":""},{"$f":"IF(P_20号様式!AH74= \"\",\"\",IF(VALUE(FIXED(P_20号様式!AH74,0,TRUE))<>P_20号様式!AH74,RIGHT(FIXED(P_20号様式!AH74,3,FALSE),4),\"\"))","v":""}]
[{"$f":"IF(P_20号様式!C75=\"\",\"\",P_20号様式!C75)","v":""},null,{"$f":"IF(P_20号様式!F75<> \"\",TEXT(INT(P_20号様式!F75),\"#,##0\"),\"\")","v":""},{"$f":"IF(P_20号様式!F75= \"\",\"\",IF(VALUE(FIXED(P_20号様式!F75,0,TRUE))<>P_20号様式!F75,RIGHT(FIXED(P_20号様式!F75,3,FALSE),4),\"\"))","v":""},{"$f":"IF(P_20号様式!I75<> \"\",TEXT(INT(P_20号様式!I75),\"#,##0\"),\"\")","v":""},{"$f":"IF(P_20号様式!I75= \"\",\"\",IF(VALUE(FIXED(P_20号様式!I75,0,TRUE))<>P_20号様式!I75,RIGHT(FIXED(P_20号様式!I75,3,FALSE),4),\"\"))","v":""},{"$f":"IF(P_20号様式!L75<> \"\",TEXT(INT(P_20号様式!L75),\"#,##0\"),\"\")","v":""},{"$f":"IF(P_20号様式!L75= \"\",\"\",IF(VALUE(FIXED(P_20号様式!L75,0,TRUE))<>P_20号様式!L75,RIGHT(FIXED(P_20号様式!L75,3,FALSE),4),\"\"))","v":""},{"$f":"IF(P_20号様式!O75<> \"\",TEXT(INT(P_20号様式!O75),\"#,##0\"),\"\")","v":""},{"$f":"IF(P_20号様式!O75= \"\",\"\",IF(VALUE(FIXED(P_20号様式!O75,0,TRUE))<>P_20号様式!O75,RIGHT(FIXED(P_20号様式!O75,3,FALSE),4),\"\"))","v":""},{"$f":"IF(P_20号様式!R75<> \"\",TEXT(INT(P_20号様式!R75),\"#,##0\"),\"\")","v":""},{"$f":"IF(P_20号様式!R75= \"\",\"\",IF(VALUE(FIXED(P_20号様式!R75,0,TRUE))<>P_20号様式!R75,RIGHT(FIXED(P_20号様式!R75,3,FALSE),4),\"\"))","v":""},{"$f":"IF(P_20号様式!U75<> \"\",TEXT(INT(P_20号様式!U75),\"#,##0\"),\"\")","v":""},{"$f":"IF(P_20号様式!U75= \"\",\"\",IF(VALUE(FIXED(P_20号様式!U75,0,TRUE))<>P_20号様式!U75,RIGHT(FIXED(P_20号様式!U75,3,FALSE),4),\"\"))","v":""},{"$f":"IF(P_20号様式!X75<> \"\",TEXT(INT(P_20号様式!X75),\"#,##0\"),\"\")","v":""},{"$f":"IF(P_20号様式!X75= \"\",\"\",IF(VALUE(FIXED(P_20号様式!X75,0,TRUE))<>P_20号様式!X75,RIGHT(FIXED(P_20号様式!X75,3,FALSE),4),\"\"))","v":""},{"$f":"IF(P_20号様式!AA75<> \"\",TEXT(INT(P_20号様式!AA75),\"#,##0\"),\"\")","v":""},{"$f":"IF(P_20号様式!AA75= \"\",\"\",IF(VALUE(FIXED(P_20号様式!AA75,0,TRUE))<>P_20号様式!AA75,RIGHT(FIXED(P_20号様式!AA75,3,FALSE),4),\"\"))","v":""},{"$f":"IF(P_20号様式!AD75<> \"\",TEXT(INT(P_20号様式!AD75),\"#,##0\"),\"\")","v":""},{"$f":"IF(P_20号様式!AD75= \"\",\"\",IF(VALUE(FIXED(P_20号様式!AD75,0,TRUE))<>P_20号様式!AD75,RIGHT(FIXED(P_20号様式!AD75,3,FALSE),4),\"\"))","v":""},{"$f":"IF(P_20号様式!AG75<> \"\",TEXT(INT(P_20号様式!AG75),\"#,##0\"),\"\")","v":""},{"$f":"IF(P_20号様式!AG75= \"\",\"\",IF(VALUE(FIXED(P_20号様式!AG75,0,TRUE))<>P_20号様式!AG75,RIGHT(FIXED(P_20号様式!AG75,3,FALSE),4),\"\"))","v":""},{"$f":"IF(P_20号様式!AH75<> \"\",TEXT(INT(P_20号様式!AH75),\"#,##0\"),\"\")","v":""},{"$f":"IF(P_20号様式!AH75= \"\",\"\",IF(VALUE(FIXED(P_20号様式!AH75,0,TRUE))<>P_20号様式!AH75,RIGHT(FIXED(P_20号様式!AH75,3,FALSE),4),\"\"))","v":""}]
[{"$f":"IF(P_20号様式!C76=\"\",\"\",P_20号様式!C76)","v":""},null,{"$f":"IF(P_20号様式!F76<> \"\",TEXT(INT(P_20号様式!F76),\"#,##0\"),\"\")","v":""},{"$f":"IF(P_20号様式!F76= \"\",\"\",IF(VALUE(FIXED(P_20号様式!F76,0,TRUE))<>P_20号様式!F76,RIGHT(FIXED(P_20号様式!F76,3,FALSE),4),\"\"))","v":""},{"$f":"IF(P_20号様式!I76<> \"\",TEXT(INT(P_20号様式!I76),\"#,##0\"),\"\")","v":""},{"$f":"IF(P_20号様式!I76= \"\",\"\",IF(VALUE(FIXED(P_20号様式!I76,0,TRUE))<>P_20号様式!I76,RIGHT(FIXED(P_20号様式!I76,3,FALSE),4),\"\"))","v":""},{"$f":"IF(P_20号様式!L76<> \"\",TEXT(INT(P_20号様式!L76),\"#,##0\"),\"\")","v":""},{"$f":"IF(P_20号様式!L76= \"\",\"\",IF(VALUE(FIXED(P_20号様式!L76,0,TRUE))<>P_20号様式!L76,RIGHT(FIXED(P_20号様式!L76,3,FALSE),4),\"\"))","v":""},{"$f":"IF(P_20号様式!O76<> \"\",TEXT(INT(P_20号様式!O76),\"#,##0\"),\"\")","v":""},{"$f":"IF(P_20号様式!O76= \"\",\"\",IF(VALUE(FIXED(P_20号様式!O76,0,TRUE))<>P_20号様式!O76,RIGHT(FIXED(P_20号様式!O76,3,FALSE),4),\"\"))","v":""},{"$f":"IF(P_20号様式!R76<> \"\",TEXT(INT(P_20号様式!R76),\"#,##0\"),\"\")","v":""},{"$f":"IF(P_20号様式!R76= \"\",\"\",IF(VALUE(FIXED(P_20号様式!R76,0,TRUE))<>P_20号様式!R76,RIGHT(FIXED(P_20号様式!R76,3,FALSE),4),\"\"))","v":""},{"$f":"IF(P_20号様式!U76<> \"\",TEXT(INT(P_20号様式!U76),\"#,##0\"),\"\")","v":""},{"$f":"IF(P_20号様式!U76= \"\",\"\",IF(VALUE(FIXED(P_20号様式!U76,0,TRUE))<>P_20号様式!U76,RIGHT(FIXED(P_20号様式!U76,3,FALSE),4),\"\"))","v":""},{"$f":"IF(P_20号様式!X76<> \"\",TEXT(INT(P_20号様式!X76),\"#,##0\"),\"\")","v":""},{"$f":"IF(P_20号様式!X76= \"\",\"\",IF(VALUE(FIXED(P_20号様式!X76,0,TRUE))<>P_20号様式!X76,RIGHT(FIXED(P_20号様式!X76,3,FALSE),4),\"\"))","v":""},{"$f":"IF(P_20号様式!AA76<> \"\",TEXT(INT(P_20号様式!AA76),\"#,##0\"),\"\")","v":""},{"$f":"IF(P_20号様式!AA76= \"\",\"\",IF(VALUE(FIXED(P_20号様式!AA76,0,TRUE))<>P_20号様式!AA76,RIGHT(FIXED(P_20号様式!AA76,3,FALSE),4),\"\"))","v":""},{"$f":"IF(P_20号様式!AD76<> \"\",TEXT(INT(P_20号様式!AD76),\"#,##0\"),\"\")","v":""},{"$f":"IF(P_20号様式!AD76= \"\",\"\",IF(VALUE(FIXED(P_20号様式!AD76,0,TRUE))<>P_20号様式!AD76,RIGHT(FIXED(P_20号様式!AD76,3,FALSE),4),\"\"))","v":""},{"$f":"IF(P_20号様式!AG76<> \"\",TEXT(INT(P_20号様式!AG76),\"#,##0\"),\"\")","v":""},{"$f":"IF(P_20号様式!AG76= \"\",\"\",IF(VALUE(FIXED(P_20号様式!AG76,0,TRUE))<>P_20号様式!AG76,RIGHT(FIXED(P_20号様式!AG76,3,FALSE),4),\"\"))","v":""},{"$f":"IF(P_20号様式!AH76<> \"\",TEXT(INT(P_20号様式!AH76),\"#,##0\"),\"\")","v":""},{"$f":"IF(P_20号様式!AH76= \"\",\"\",IF(VALUE(FIXED(P_20号様式!AH76,0,TRUE))<>P_20号様式!AH76,RIGHT(FIXED(P_20号様式!AH76,3,FALSE),4),\"\"))","v":""}]
[{"$f":"IF(P_20号様式!C77=\"\",\"\",P_20号様式!C77)","v":""},null,{"$f":"IF(P_20号様式!F77<> \"\",TEXT(INT(P_20号様式!F77),\"#,##0\"),\"\")","v":""},{"$f":"IF(P_20号様式!F77= \"\",\"\",IF(VALUE(FIXED(P_20号様式!F77,0,TRUE))<>P_20号様式!F77,RIGHT(FIXED(P_20号様式!F77,3,FALSE),4),\"\"))","v":""},{"$f":"IF(P_20号様式!I77<> \"\",TEXT(INT(P_20号様式!I77),\"#,##0\"),\"\")","v":""},{"$f":"IF(P_20号様式!I77= \"\",\"\",IF(VALUE(FIXED(P_20号様式!I77,0,TRUE))<>P_20号様式!I77,RIGHT(FIXED(P_20号様式!I77,3,FALSE),4),\"\"))","v":""},{"$f":"IF(P_20号様式!L77<> \"\",TEXT(INT(P_20号様式!L77),\"#,##0\"),\"\")","v":""},{"$f":"IF(P_20号様式!L77= \"\",\"\",IF(VALUE(FIXED(P_20号様式!L77,0,TRUE))<>P_20号様式!L77,RIGHT(FIXED(P_20号様式!L77,3,FALSE),4),\"\"))","v":""},{"$f":"IF(P_20号様式!O77<> \"\",TEXT(INT(P_20号様式!O77),\"#,##0\"),\"\")","v":""},{"$f":"IF(P_20号様式!O77= \"\",\"\",IF(VALUE(FIXED(P_20号様式!O77,0,TRUE))<>P_20号様式!O77,RIGHT(FIXED(P_20号様式!O77,3,FALSE),4),\"\"))","v":""},{"$f":"IF(P_20号様式!R77<> \"\",TEXT(INT(P_20号様式!R77),\"#,##0\"),\"\")","v":""},{"$f":"IF(P_20号様式!R77= \"\",\"\",IF(VALUE(FIXED(P_20号様式!R77,0,TRUE))<>P_20号様式!R77,RIGHT(FIXED(P_20号様式!R77,3,FALSE),4),\"\"))","v":""},{"$f":"IF(P_20号様式!U77<> \"\",TEXT(INT(P_20号様式!U77),\"#,##0\"),\"\")","v":""},{"$f":"IF(P_20号様式!U77= \"\",\"\",IF(VALUE(FIXED(P_20号様式!U77,0,TRUE))<>P_20号様式!U77,RIGHT(FIXED(P_20号様式!U77,3,FALSE),4),\"\"))","v":""},{"$f":"IF(P_20号様式!X77<> \"\",TEXT(INT(P_20号様式!X77),\"#,##0\"),\"\")","v":""},{"$f":"IF(P_20号様式!X77= \"\",\"\",IF(VALUE(FIXED(P_20号様式!X77,0,TRUE))<>P_20号様式!X77,RIGHT(FIXED(P_20号様式!X77,3,FALSE),4),\"\"))","v":""},{"$f":"IF(P_20号様式!AA77<> \"\",TEXT(INT(P_20号様式!AA77),\"#,##0\"),\"\")","v":""},{"$f":"IF(P_20号様式!AA77= \"\",\"\",IF(VALUE(FIXED(P_20号様式!AA77,0,TRUE))<>P_20号様式!AA77,RIGHT(FIXED(P_20号様式!AA77,3,FALSE),4),\"\"))","v":""},{"$f":"IF(P_20号様式!AD77<> \"\",TEXT(INT(P_20号様式!AD77),\"#,##0\"),\"\")","v":""},{"$f":"IF(P_20号様式!AD77= \"\",\"\",IF(VALUE(FIXED(P_20号様式!AD77,0,TRUE))<>P_20号様式!AD77,RIGHT(FIXED(P_20号様式!AD77,3,FALSE),4),\"\"))","v":""},{"$f":"IF(P_20号様式!AG77<> \"\",TEXT(INT(P_20号様式!AG77),\"#,##0\"),\"\")","v":""},{"$f":"IF(P_20号様式!AG77= \"\",\"\",IF(VALUE(FIXED(P_20号様式!AG77,0,TRUE))<>P_20号様式!AG77,RIGHT(FIXED(P_20号様式!AG77,3,FALSE),4),\"\"))","v":""},{"$f":"IF(P_20号様式!AH77<> \"\",TEXT(INT(P_20号様式!AH77),\"#,##0\"),\"\")","v":""},{"$f":"IF(P_20号様式!AH77= \"\",\"\",IF(VALUE(FIXED(P_20号様式!AH77,0,TRUE))<>P_20号様式!AH77,RIGHT(FIXED(P_20号様式!AH77,3,FALSE),4),\"\"))","v":""}]
[{"$f":"IF(P_20号様式!C78=\"\",\"\",P_20号様式!C78)","v":""},null,{"$f":"IF(P_20号様式!F78<> \"\",TEXT(INT(P_20号様式!F78),\"#,##0\"),\"\")","v":""},{"$f":"IF(P_20号様式!F78= \"\",\"\",IF(VALUE(FIXED(P_20号様式!F78,0,TRUE))<>P_20号様式!F78,RIGHT(FIXED(P_20号様式!F78,3,FALSE),4),\"\"))","v":""},{"$f":"IF(P_20号様式!I78<> \"\",TEXT(INT(P_20号様式!I78),\"#,##0\"),\"\")","v":""},{"$f":"IF(P_20号様式!I78= \"\",\"\",IF(VALUE(FIXED(P_20号様式!I78,0,TRUE))<>P_20号様式!I78,RIGHT(FIXED(P_20号様式!I78,3,FALSE),4),\"\"))","v":""},{"$f":"IF(P_20号様式!L78<> \"\",TEXT(INT(P_20号様式!L78),\"#,##0\"),\"\")","v":""},{"$f":"IF(P_20号様式!L78= \"\",\"\",IF(VALUE(FIXED(P_20号様式!L78,0,TRUE))<>P_20号様式!L78,RIGHT(FIXED(P_20号様式!L78,3,FALSE),4),\"\"))","v":""},{"$f":"IF(P_20号様式!O78<> \"\",TEXT(INT(P_20号様式!O78),\"#,##0\"),\"\")","v":""},{"$f":"IF(P_20号様式!O78= \"\",\"\",IF(VALUE(FIXED(P_20号様式!O78,0,TRUE))<>P_20号様式!O78,RIGHT(FIXED(P_20号様式!O78,3,FALSE),4),\"\"))","v":""},{"$f":"IF(P_20号様式!R78<> \"\",TEXT(INT(P_20号様式!R78),\"#,##0\"),\"\")","v":""},{"$f":"IF(P_20号様式!R78= \"\",\"\",IF(VALUE(FIXED(P_20号様式!R78,0,TRUE))<>P_20号様式!R78,RIGHT(FIXED(P_20号様式!R78,3,FALSE),4),\"\"))","v":""},{"$f":"IF(P_20号様式!U78<> \"\",TEXT(INT(P_20号様式!U78),\"#,##0\"),\"\")","v":""},{"$f":"IF(P_20号様式!U78= \"\",\"\",IF(VALUE(FIXED(P_20号様式!U78,0,TRUE))<>P_20号様式!U78,RIGHT(FIXED(P_20号様式!U78,3,FALSE),4),\"\"))","v":""},{"$f":"IF(P_20号様式!X78<> \"\",TEXT(INT(P_20号様式!X78),\"#,##0\"),\"\")","v":""},{"$f":"IF(P_20号様式!X78= \"\",\"\",IF(VALUE(FIXED(P_20号様式!X78,0,TRUE))<>P_20号様式!X78,RIGHT(FIXED(P_20号様式!X78,3,FALSE),4),\"\"))","v":""},{"$f":"IF(P_20号様式!AA78<> \"\",TEXT(INT(P_20号様式!AA78),\"#,##0\"),\"\")","v":""},{"$f":"IF(P_20号様式!AA78= \"\",\"\",IF(VALUE(FIXED(P_20号様式!AA78,0,TRUE))<>P_20号様式!AA78,RIGHT(FIXED(P_20号様式!AA78,3,FALSE),4),\"\"))","v":""},{"$f":"IF(P_20号様式!AD78<> \"\",TEXT(INT(P_20号様式!AD78),\"#,##0\"),\"\")","v":""},{"$f":"IF(P_20号様式!AD78= \"\",\"\",IF(VALUE(FIXED(P_20号様式!AD78,0,TRUE))<>P_20号様式!AD78,RIGHT(FIXED(P_20号様式!AD78,3,FALSE),4),\"\"))","v":""},{"$f":"IF(P_20号様式!AG78<> \"\",TEXT(INT(P_20号様式!AG78),\"#,##0\"),\"\")","v":""},{"$f":"IF(P_20号様式!AG78= \"\",\"\",IF(VALUE(FIXED(P_20号様式!AG78,0,TRUE))<>P_20号様式!AG78,RIGHT(FIXED(P_20号様式!AG78,3,FALSE),4),\"\"))","v":""},{"$f":"IF(P_20号様式!AH78<> \"\",TEXT(INT(P_20号様式!AH78),\"#,##0\"),\"\")","v":""},{"$f":"IF(P_20号様式!AH78= \"\",\"\",IF(VALUE(FIXED(P_20号様式!AH78,0,TRUE))<>P_20号様式!AH78,RIGHT(FIXED(P_20号様式!AH78,3,FALSE),4),\"\"))","v":""}]
[{"$f":"IF(P_20号様式!C79=\"\",\"\",P_20号様式!C79)","v":""},null,{"$f":"IF(P_20号様式!F79<> \"\",TEXT(INT(P_20号様式!F79),\"#,##0\"),\"\")","v":""},{"$f":"IF(P_20号様式!F79= \"\",\"\",IF(VALUE(FIXED(P_20号様式!F79,0,TRUE))<>P_20号様式!F79,RIGHT(FIXED(P_20号様式!F79,3,FALSE),4),\"\"))","v":""},{"$f":"IF(P_20号様式!I79<> \"\",TEXT(INT(P_20号様式!I79),\"#,##0\"),\"\")","v":""},{"$f":"IF(P_20号様式!I79= \"\",\"\",IF(VALUE(FIXED(P_20号様式!I79,0,TRUE))<>P_20号様式!I79,RIGHT(FIXED(P_20号様式!I79,3,FALSE),4),\"\"))","v":""},{"$f":"IF(P_20号様式!L79<> \"\",TEXT(INT(P_20号様式!L79),\"#,##0\"),\"\")","v":""},{"$f":"IF(P_20号様式!L79= \"\",\"\",IF(VALUE(FIXED(P_20号様式!L79,0,TRUE))<>P_20号様式!L79,RIGHT(FIXED(P_20号様式!L79,3,FALSE),4),\"\"))","v":""},{"$f":"IF(P_20号様式!O79<> \"\",TEXT(INT(P_20号様式!O79),\"#,##0\"),\"\")","v":""},{"$f":"IF(P_20号様式!O79= \"\",\"\",IF(VALUE(FIXED(P_20号様式!O79,0,TRUE))<>P_20号様式!O79,RIGHT(FIXED(P_20号様式!O79,3,FALSE),4),\"\"))","v":""},{"$f":"IF(P_20号様式!R79<> \"\",TEXT(INT(P_20号様式!R79),\"#,##0\"),\"\")","v":""},{"$f":"IF(P_20号様式!R79= \"\",\"\",IF(VALUE(FIXED(P_20号様式!R79,0,TRUE))<>P_20号様式!R79,RIGHT(FIXED(P_20号様式!R79,3,FALSE),4),\"\"))","v":""},{"$f":"IF(P_20号様式!U79<> \"\",TEXT(INT(P_20号様式!U79),\"#,##0\"),\"\")","v":""},{"$f":"IF(P_20号様式!U79= \"\",\"\",IF(VALUE(FIXED(P_20号様式!U79,0,TRUE))<>P_20号様式!U79,RIGHT(FIXED(P_20号様式!U79,3,FALSE),4),\"\"))","v":""},{"$f":"IF(P_20号様式!X79<> \"\",TEXT(INT(P_20号様式!X79),\"#,##0\"),\"\")","v":""},{"$f":"IF(P_20号様式!X79= \"\",\"\",IF(VALUE(FIXED(P_20号様式!X79,0,TRUE))<>P_20号様式!X79,RIGHT(FIXED(P_20号様式!X79,3,FALSE),4),\"\"))","v":""},{"$f":"IF(P_20号様式!AA79<> \"\",TEXT(INT(P_20号様式!AA79),\"#,##0\"),\"\")","v":""},{"$f":"IF(P_20号様式!AA79= \"\",\"\",IF(VALUE(FIXED(P_20号様式!AA79,0,TRUE))<>P_20号様式!AA79,RIGHT(FIXED(P_20号様式!AA79,3,FALSE),4),\"\"))","v":""},{"$f":"IF(P_20号様式!AD79<> \"\",TEXT(INT(P_20号様式!AD79),\"#,##0\"),\"\")","v":""},{"$f":"IF(P_20号様式!AD79= \"\",\"\",IF(VALUE(FIXED(P_20号様式!AD79,0,TRUE))<>P_20号様式!AD79,RIGHT(FIXED(P_20号様式!AD79,3,FALSE),4),\"\"))","v":""},{"$f":"IF(P_20号様式!AG79<> \"\",TEXT(INT(P_20号様式!AG79),\"#,##0\"),\"\")","v":""},{"$f":"IF(P_20号様式!AG79= \"\",\"\",IF(VALUE(FIXED(P_20号様式!AG79,0,TRUE))<>P_20号様式!AG79,RIGHT(FIXED(P_20号様式!AG79,3,FALSE),4),\"\"))","v":""},{"$f":"IF(P_20号様式!AH79<> \"\",TEXT(INT(P_20号様式!AH79),\"#,##0\"),\"\")","v":""},{"$f":"IF(P_20号様式!AH79= \"\",\"\",IF(VALUE(FIXED(P_20号様式!AH79,0,TRUE))<>P_20号様式!AH79,RIGHT(FIXED(P_20号様式!AH79,3,FALSE),4),\"\"))","v":""}]
[{"$f":"IF(P_20号様式!C80=\"\",\"\",P_20号様式!C80)","v":""},null,{"$f":"IF(P_20号様式!F80<> \"\",TEXT(INT(P_20号様式!F80),\"#,##0\"),\"\")","v":""},{"$f":"IF(P_20号様式!F80= \"\",\"\",IF(VALUE(FIXED(P_20号様式!F80,0,TRUE))<>P_20号様式!F80,RIGHT(FIXED(P_20号様式!F80,3,FALSE),4),\"\"))","v":""},{"$f":"IF(P_20号様式!I80<> \"\",TEXT(INT(P_20号様式!I80),\"#,##0\"),\"\")","v":""},{"$f":"IF(P_20号様式!I80= \"\",\"\",IF(VALUE(FIXED(P_20号様式!I80,0,TRUE))<>P_20号様式!I80,RIGHT(FIXED(P_20号様式!I80,3,FALSE),4),\"\"))","v":""},{"$f":"IF(P_20号様式!L80<> \"\",TEXT(INT(P_20号様式!L80),\"#,##0\"),\"\")","v":""},{"$f":"IF(P_20号様式!L80= \"\",\"\",IF(VALUE(FIXED(P_20号様式!L80,0,TRUE))<>P_20号様式!L80,RIGHT(FIXED(P_20号様式!L80,3,FALSE),4),\"\"))","v":""},{"$f":"IF(P_20号様式!O80<> \"\",TEXT(INT(P_20号様式!O80),\"#,##0\"),\"\")","v":""},{"$f":"IF(P_20号様式!O80= \"\",\"\",IF(VALUE(FIXED(P_20号様式!O80,0,TRUE))<>P_20号様式!O80,RIGHT(FIXED(P_20号様式!O80,3,FALSE),4),\"\"))","v":""},{"$f":"IF(P_20号様式!R80<> \"\",TEXT(INT(P_20号様式!R80),\"#,##0\"),\"\")","v":""},{"$f":"IF(P_20号様式!R80= \"\",\"\",IF(VALUE(FIXED(P_20号様式!R80,0,TRUE))<>P_20号様式!R80,RIGHT(FIXED(P_20号様式!R80,3,FALSE),4),\"\"))","v":""},{"$f":"IF(P_20号様式!U80<> \"\",TEXT(INT(P_20号様式!U80),\"#,##0\"),\"\")","v":""},{"$f":"IF(P_20号様式!U80= \"\",\"\",IF(VALUE(FIXED(P_20号様式!U80,0,TRUE))<>P_20号様式!U80,RIGHT(FIXED(P_20号様式!U80,3,FALSE),4),\"\"))","v":""},{"$f":"IF(P_20号様式!X80<> \"\",TEXT(INT(P_20号様式!X80),\"#,##0\"),\"\")","v":""},{"$f":"IF(P_20号様式!X80= \"\",\"\",IF(VALUE(FIXED(P_20号様式!X80,0,TRUE))<>P_20号様式!X80,RIGHT(FIXED(P_20号様式!X80,3,FALSE),4),\"\"))","v":""},{"$f":"IF(P_20号様式!AA80<> \"\",TEXT(INT(P_20号様式!AA80),\"#,##0\"),\"\")","v":""},{"$f":"IF(P_20号様式!AA80= \"\",\"\",IF(VALUE(FIXED(P_20号様式!AA80,0,TRUE))<>P_20号様式!AA80,RIGHT(FIXED(P_20号様式!AA80,3,FALSE),4),\"\"))","v":""},{"$f":"IF(P_20号様式!AD80<> \"\",TEXT(INT(P_20号様式!AD80),\"#,##0\"),\"\")","v":""},{"$f":"IF(P_20号様式!AD80= \"\",\"\",IF(VALUE(FIXED(P_20号様式!AD80,0,TRUE))<>P_20号様式!AD80,RIGHT(FIXED(P_20号様式!AD80,3,FALSE),4),\"\"))","v":""},{"$f":"IF(P_20号様式!AG80<> \"\",TEXT(INT(P_20号様式!AG80),\"#,##0\"),\"\")","v":""},{"$f":"IF(P_20号様式!AG80= \"\",\"\",IF(VALUE(FIXED(P_20号様式!AG80,0,TRUE))<>P_20号様式!AG80,RIGHT(FIXED(P_20号様式!AG80,3,FALSE),4),\"\"))","v":""},{"$f":"IF(P_20号様式!AH80<> \"\",TEXT(INT(P_20号様式!AH80),\"#,##0\"),\"\")","v":""},{"$f":"IF(P_20号様式!AH80= \"\",\"\",IF(VALUE(FIXED(P_20号様式!AH80,0,TRUE))<>P_20号様式!AH80,RIGHT(FIXED(P_20号様式!AH80,3,FALSE),4),\"\"))","v":""}]
[{"$f":"IF(P_20号様式!C81=\"\",\"\",P_20号様式!C81)","v":""},null,{"$f":"IF(P_20号様式!F81<> \"\",TEXT(INT(P_20号様式!F81),\"#,##0\"),\"\")","v":""},{"$f":"IF(P_20号様式!F81= \"\",\"\",IF(VALUE(FIXED(P_20号様式!F81,0,TRUE))<>P_20号様式!F81,RIGHT(FIXED(P_20号様式!F81,3,FALSE),4),\"\"))","v":""},{"$f":"IF(P_20号様式!I81<> \"\",TEXT(INT(P_20号様式!I81),\"#,##0\"),\"\")","v":""},{"$f":"IF(P_20号様式!I81= \"\",\"\",IF(VALUE(FIXED(P_20号様式!I81,0,TRUE))<>P_20号様式!I81,RIGHT(FIXED(P_20号様式!I81,3,FALSE),4),\"\"))","v":""},{"$f":"IF(P_20号様式!L81<> \"\",TEXT(INT(P_20号様式!L81),\"#,##0\"),\"\")","v":""},{"$f":"IF(P_20号様式!L81= \"\",\"\",IF(VALUE(FIXED(P_20号様式!L81,0,TRUE))<>P_20号様式!L81,RIGHT(FIXED(P_20号様式!L81,3,FALSE),4),\"\"))","v":""},{"$f":"IF(P_20号様式!O81<> \"\",TEXT(INT(P_20号様式!O81),\"#,##0\"),\"\")","v":""},{"$f":"IF(P_20号様式!O81= \"\",\"\",IF(VALUE(FIXED(P_20号様式!O81,0,TRUE))<>P_20号様式!O81,RIGHT(FIXED(P_20号様式!O81,3,FALSE),4),\"\"))","v":""},{"$f":"IF(P_20号様式!R81<> \"\",TEXT(INT(P_20号様式!R81),\"#,##0\"),\"\")","v":""},{"$f":"IF(P_20号様式!R81= \"\",\"\",IF(VALUE(FIXED(P_20号様式!R81,0,TRUE))<>P_20号様式!R81,RIGHT(FIXED(P_20号様式!R81,3,FALSE),4),\"\"))","v":""},{"$f":"IF(P_20号様式!U81<> \"\",TEXT(INT(P_20号様式!U81),\"#,##0\"),\"\")","v":""},{"$f":"IF(P_20号様式!U81= \"\",\"\",IF(VALUE(FIXED(P_20号様式!U81,0,TRUE))<>P_20号様式!U81,RIGHT(FIXED(P_20号様式!U81,3,FALSE),4),\"\"))","v":""},{"$f":"IF(P_20号様式!X81<> \"\",TEXT(INT(P_20号様式!X81),\"#,##0\"),\"\")","v":""},{"$f":"IF(P_20号様式!X81= \"\",\"\",IF(VALUE(FIXED(P_20号様式!X81,0,TRUE))<>P_20号様式!X81,RIGHT(FIXED(P_20号様式!X81,3,FALSE),4),\"\"))","v":""},{"$f":"IF(P_20号様式!AA81<> \"\",TEXT(INT(P_20号様式!AA81),\"#,##0\"),\"\")","v":""},{"$f":"IF(P_20号様式!AA81= \"\",\"\",IF(VALUE(FIXED(P_20号様式!AA81,0,TRUE))<>P_20号様式!AA81,RIGHT(FIXED(P_20号様式!AA81,3,FALSE),4),\"\"))","v":""},{"$f":"IF(P_20号様式!AD81<> \"\",TEXT(INT(P_20号様式!AD81),\"#,##0\"),\"\")","v":""},{"$f":"IF(P_20号様式!AD81= \"\",\"\",IF(VALUE(FIXED(P_20号様式!AD81,0,TRUE))<>P_20号様式!AD81,RIGHT(FIXED(P_20号様式!AD81,3,FALSE),4),\"\"))","v":""},{"$f":"IF(P_20号様式!AG81<> \"\",TEXT(INT(P_20号様式!AG81),\"#,##0\"),\"\")","v":""},{"$f":"IF(P_20号様式!AG81= \"\",\"\",IF(VALUE(FIXED(P_20号様式!AG81,0,TRUE))<>P_20号様式!AG81,RIGHT(FIXED(P_20号様式!AG81,3,FALSE),4),\"\"))","v":""},{"$f":"IF(P_20号様式!AH81<> \"\",TEXT(INT(P_20号様式!AH81),\"#,##0\"),\"\")","v":""},{"$f":"IF(P_20号様式!AH81= \"\",\"\",IF(VALUE(FIXED(P_20号様式!AH81,0,TRUE))<>P_20号様式!AH81,RIGHT(FIXED(P_20号様式!AH81,3,FALSE),4),\"\"))","v":""}]
[{"$f":"IF(P_20号様式!C82=\"\",\"\",P_20号様式!C82)","v":""},null,{"$f":"IF(P_20号様式!F82<> \"\",TEXT(INT(P_20号様式!F82),\"#,##0\"),\"\")","v":""},{"$f":"IF(P_20号様式!F82= \"\",\"\",IF(VALUE(FIXED(P_20号様式!F82,0,TRUE))<>P_20号様式!F82,RIGHT(FIXED(P_20号様式!F82,3,FALSE),4),\"\"))","v":""},{"$f":"IF(P_20号様式!I82<> \"\",TEXT(INT(P_20号様式!I82),\"#,##0\"),\"\")","v":""},{"$f":"IF(P_20号様式!I82= \"\",\"\",IF(VALUE(FIXED(P_20号様式!I82,0,TRUE))<>P_20号様式!I82,RIGHT(FIXED(P_20号様式!I82,3,FALSE),4),\"\"))","v":""},{"$f":"IF(P_20号様式!L82<> \"\",TEXT(INT(P_20号様式!L82),\"#,##0\"),\"\")","v":""},{"$f":"IF(P_20号様式!L82= \"\",\"\",IF(VALUE(FIXED(P_20号様式!L82,0,TRUE))<>P_20号様式!L82,RIGHT(FIXED(P_20号様式!L82,3,FALSE),4),\"\"))","v":""},{"$f":"IF(P_20号様式!O82<> \"\",TEXT(INT(P_20号様式!O82),\"#,##0\"),\"\")","v":""},{"$f":"IF(P_20号様式!O82= \"\",\"\",IF(VALUE(FIXED(P_20号様式!O82,0,TRUE))<>P_20号様式!O82,RIGHT(FIXED(P_20号様式!O82,3,FALSE),4),\"\"))","v":""},{"$f":"IF(P_20号様式!R82<> \"\",TEXT(INT(P_20号様式!R82),\"#,##0\"),\"\")","v":""},{"$f":"IF(P_20号様式!R82= \"\",\"\",IF(VALUE(FIXED(P_20号様式!R82,0,TRUE))<>P_20号様式!R82,RIGHT(FIXED(P_20号様式!R82,3,FALSE),4),\"\"))","v":""},{"$f":"IF(P_20号様式!U82<> \"\",TEXT(INT(P_20号様式!U82),\"#,##0\"),\"\")","v":""},{"$f":"IF(P_20号様式!U82= \"\",\"\",IF(VALUE(FIXED(P_20号様式!U82,0,TRUE))<>P_20号様式!U82,RIGHT(FIXED(P_20号様式!U82,3,FALSE),4),\"\"))","v":""},{"$f":"IF(P_20号様式!X82<> \"\",TEXT(INT(P_20号様式!X82),\"#,##0\"),\"\")","v":""},{"$f":"IF(P_20号様式!X82= \"\",\"\",IF(VALUE(FIXED(P_20号様式!X82,0,TRUE))<>P_20号様式!X82,RIGHT(FIXED(P_20号様式!X82,3,FALSE),4),\"\"))","v":""},{"$f":"IF(P_20号様式!AA82<> \"\",TEXT(INT(P_20号様式!AA82),\"#,##0\"),\"\")","v":""},{"$f":"IF(P_20号様式!AA82= \"\",\"\",IF(VALUE(FIXED(P_20号様式!AA82,0,TRUE))<>P_20号様式!AA82,RIGHT(FIXED(P_20号様式!AA82,3,FALSE),4),\"\"))","v":""},{"$f":"IF(P_20号様式!AD82<> \"\",TEXT(INT(P_20号様式!AD82),\"#,##0\"),\"\")","v":""},{"$f":"IF(P_20号様式!AD82= \"\",\"\",IF(VALUE(FIXED(P_20号様式!AD82,0,TRUE))<>P_20号様式!AD82,RIGHT(FIXED(P_20号様式!AD82,3,FALSE),4),\"\"))","v":""},{"$f":"IF(P_20号様式!AG82<> \"\",TEXT(INT(P_20号様式!AG82),\"#,##0\"),\"\")","v":""},{"$f":"IF(P_20号様式!AG82= \"\",\"\",IF(VALUE(FIXED(P_20号様式!AG82,0,TRUE))<>P_20号様式!AG82,RIGHT(FIXED(P_20号様式!AG82,3,FALSE),4),\"\"))","v":""},{"$f":"IF(P_20号様式!AH82<> \"\",TEXT(INT(P_20号様式!AH82),\"#,##0\"),\"\")","v":""},{"$f":"IF(P_20号様式!AH82= \"\",\"\",IF(VALUE(FIXED(P_20号様式!AH82,0,TRUE))<>P_20号様式!AH82,RIGHT(FIXED(P_20号様式!AH82,3,FALSE),4),\"\"))","v":""}]
[{"$f":"IF(P_20号様式!C83=\"\",\"\",P_20号様式!C83)","v":""},null,{"$f":"IF(P_20号様式!F83<> \"\",TEXT(INT(P_20号様式!F83),\"#,##0\"),\"\")","v":""},{"$f":"IF(P_20号様式!F83= \"\",\"\",IF(VALUE(FIXED(P_20号様式!F83,0,TRUE))<>P_20号様式!F83,RIGHT(FIXED(P_20号様式!F83,3,FALSE),4),\"\"))","v":""},{"$f":"IF(P_20号様式!I83<> \"\",TEXT(INT(P_20号様式!I83),\"#,##0\"),\"\")","v":""},{"$f":"IF(P_20号様式!I83= \"\",\"\",IF(VALUE(FIXED(P_20号様式!I83,0,TRUE))<>P_20号様式!I83,RIGHT(FIXED(P_20号様式!I83,3,FALSE),4),\"\"))","v":""},{"$f":"IF(P_20号様式!L83<> \"\",TEXT(INT(P_20号様式!L83),\"#,##0\"),\"\")","v":""},{"$f":"IF(P_20号様式!L83= \"\",\"\",IF(VALUE(FIXED(P_20号様式!L83,0,TRUE))<>P_20号様式!L83,RIGHT(FIXED(P_20号様式!L83,3,FALSE),4),\"\"))","v":""},{"$f":"IF(P_20号様式!O83<> \"\",TEXT(INT(P_20号様式!O83),\"#,##0\"),\"\")","v":""},{"$f":"IF(P_20号様式!O83= \"\",\"\",IF(VALUE(FIXED(P_20号様式!O83,0,TRUE))<>P_20号様式!O83,RIGHT(FIXED(P_20号様式!O83,3,FALSE),4),\"\"))","v":""},{"$f":"IF(P_20号様式!R83<> \"\",TEXT(INT(P_20号様式!R83),\"#,##0\"),\"\")","v":""},{"$f":"IF(P_20号様式!R83= \"\",\"\",IF(VALUE(FIXED(P_20号様式!R83,0,TRUE))<>P_20号様式!R83,RIGHT(FIXED(P_20号様式!R83,3,FALSE),4),\"\"))","v":""},{"$f":"IF(P_20号様式!U83<> \"\",TEXT(INT(P_20号様式!U83),\"#,##0\"),\"\")","v":""},{"$f":"IF(P_20号様式!U83= \"\",\"\",IF(VALUE(FIXED(P_20号様式!U83,0,TRUE))<>P_20号様式!U83,RIGHT(FIXED(P_20号様式!U83,3,FALSE),4),\"\"))","v":""},{"$f":"IF(P_20号様式!X83<> \"\",TEXT(INT(P_20号様式!X83),\"#,##0\"),\"\")","v":""},{"$f":"IF(P_20号様式!X83= \"\",\"\",IF(VALUE(FIXED(P_20号様式!X83,0,TRUE))<>P_20号様式!X83,RIGHT(FIXED(P_20号様式!X83,3,FALSE),4),\"\"))","v":""},{"$f":"IF(P_20号様式!AA83<> \"\",TEXT(INT(P_20号様式!AA83),\"#,##0\"),\"\")","v":""},{"$f":"IF(P_20号様式!AA83= \"\",\"\",IF(VALUE(FIXED(P_20号様式!AA83,0,TRUE))<>P_20号様式!AA83,RIGHT(FIXED(P_20号様式!AA83,3,FALSE),4),\"\"))","v":""},{"$f":"IF(P_20号様式!AD83<> \"\",TEXT(INT(P_20号様式!AD83),\"#,##0\"),\"\")","v":""},{"$f":"IF(P_20号様式!AD83= \"\",\"\",IF(VALUE(FIXED(P_20号様式!AD83,0,TRUE))<>P_20号様式!AD83,RIGHT(FIXED(P_20号様式!AD83,3,FALSE),4),\"\"))","v":""},{"$f":"IF(P_20号様式!AG83<> \"\",TEXT(INT(P_20号様式!AG83),\"#,##0\"),\"\")","v":""},{"$f":"IF(P_20号様式!AG83= \"\",\"\",IF(VALUE(FIXED(P_20号様式!AG83,0,TRUE))<>P_20号様式!AG83,RIGHT(FIXED(P_20号様式!AG83,3,FALSE),4),\"\"))","v":""},{"$f":"IF(P_20号様式!AH83<> \"\",TEXT(INT(P_20号様式!AH83),\"#,##0\"),\"\")","v":""},{"$f":"IF(P_20号様式!AH83= \"\",\"\",IF(VALUE(FIXED(P_20号様式!AH83,0,TRUE))<>P_20号様式!AH83,RIGHT(FIXED(P_20号様式!AH83,3,FALSE),4),\"\"))","v":""}]
[{"$f":"IF(P_20号様式!C84=\"\",\"\",P_20号様式!C84)","v":""},null,{"$f":"IF(P_20号様式!F84<> \"\",TEXT(INT(P_20号様式!F84),\"#,##0\"),\"\")","v":""},{"$f":"IF(P_20号様式!F84= \"\",\"\",IF(VALUE(FIXED(P_20号様式!F84,0,TRUE))<>P_20号様式!F84,RIGHT(FIXED(P_20号様式!F84,3,FALSE),4),\"\"))","v":""},{"$f":"IF(P_20号様式!I84<> \"\",TEXT(INT(P_20号様式!I84),\"#,##0\"),\"\")","v":""},{"$f":"IF(P_20号様式!I84= \"\",\"\",IF(VALUE(FIXED(P_20号様式!I84,0,TRUE))<>P_20号様式!I84,RIGHT(FIXED(P_20号様式!I84,3,FALSE),4),\"\"))","v":""},{"$f":"IF(P_20号様式!L84<> \"\",TEXT(INT(P_20号様式!L84),\"#,##0\"),\"\")","v":""},{"$f":"IF(P_20号様式!L84= \"\",\"\",IF(VALUE(FIXED(P_20号様式!L84,0,TRUE))<>P_20号様式!L84,RIGHT(FIXED(P_20号様式!L84,3,FALSE),4),\"\"))","v":""},{"$f":"IF(P_20号様式!O84<> \"\",TEXT(INT(P_20号様式!O84),\"#,##0\"),\"\")","v":""},{"$f":"IF(P_20号様式!O84= \"\",\"\",IF(VALUE(FIXED(P_20号様式!O84,0,TRUE))<>P_20号様式!O84,RIGHT(FIXED(P_20号様式!O84,3,FALSE),4),\"\"))","v":""},{"$f":"IF(P_20号様式!R84<> \"\",TEXT(INT(P_20号様式!R84),\"#,##0\"),\"\")","v":""},{"$f":"IF(P_20号様式!R84= \"\",\"\",IF(VALUE(FIXED(P_20号様式!R84,0,TRUE))<>P_20号様式!R84,RIGHT(FIXED(P_20号様式!R84,3,FALSE),4),\"\"))","v":""},{"$f":"IF(P_20号様式!U84<> \"\",TEXT(INT(P_20号様式!U84),\"#,##0\"),\"\")","v":""},{"$f":"IF(P_20号様式!U84= \"\",\"\",IF(VALUE(FIXED(P_20号様式!U84,0,TRUE))<>P_20号様式!U84,RIGHT(FIXED(P_20号様式!U84,3,FALSE),4),\"\"))","v":""},{"$f":"IF(P_20号様式!X84<> \"\",TEXT(INT(P_20号様式!X84),\"#,##0\"),\"\")","v":""},{"$f":"IF(P_20号様式!X84= \"\",\"\",IF(VALUE(FIXED(P_20号様式!X84,0,TRUE))<>P_20号様式!X84,RIGHT(FIXED(P_20号様式!X84,3,FALSE),4),\"\"))","v":""},{"$f":"IF(P_20号様式!AA84<> \"\",TEXT(INT(P_20号様式!AA84),\"#,##0\"),\"\")","v":""},{"$f":"IF(P_20号様式!AA84= \"\",\"\",IF(VALUE(FIXED(P_20号様式!AA84,0,TRUE))<>P_20号様式!AA84,RIGHT(FIXED(P_20号様式!AA84,3,FALSE),4),\"\"))","v":""},{"$f":"IF(P_20号様式!AD84<> \"\",TEXT(INT(P_20号様式!AD84),\"#,##0\"),\"\")","v":""},{"$f":"IF(P_20号様式!AD84= \"\",\"\",IF(VALUE(FIXED(P_20号様式!AD84,0,TRUE))<>P_20号様式!AD84,RIGHT(FIXED(P_20号様式!AD84,3,FALSE),4),\"\"))","v":""},{"$f":"IF(P_20号様式!AG84<> \"\",TEXT(INT(P_20号様式!AG84),\"#,##0\"),\"\")","v":""},{"$f":"IF(P_20号様式!AG84= \"\",\"\",IF(VALUE(FIXED(P_20号様式!AG84,0,TRUE))<>P_20号様式!AG84,RIGHT(FIXED(P_20号様式!AG84,3,FALSE),4),\"\"))","v":""},{"$f":"IF(P_20号様式!AH84<> \"\",TEXT(INT(P_20号様式!AH84),\"#,##0\"),\"\")","v":""},{"$f":"IF(P_20号様式!AH84= \"\",\"\",IF(VALUE(FIXED(P_20号様式!AH84,0,TRUE))<>P_20号様式!AH84,RIGHT(FIXED(P_20号様式!AH84,3,FALSE),4),\"\"))","v":""}]
[{"$f":"IF(P_20号様式!C85=\"\",\"\",P_20号様式!C85)","v":""},null,{"$f":"IF(P_20号様式!F85<> \"\",TEXT(INT(P_20号様式!F85),\"#,##0\"),\"\")","v":""},{"$f":"IF(P_20号様式!F85= \"\",\"\",IF(VALUE(FIXED(P_20号様式!F85,0,TRUE))<>P_20号様式!F85,RIGHT(FIXED(P_20号様式!F85,3,FALSE),4),\"\"))","v":""},{"$f":"IF(P_20号様式!I85<> \"\",TEXT(INT(P_20号様式!I85),\"#,##0\"),\"\")","v":""},{"$f":"IF(P_20号様式!I85= \"\",\"\",IF(VALUE(FIXED(P_20号様式!I85,0,TRUE))<>P_20号様式!I85,RIGHT(FIXED(P_20号様式!I85,3,FALSE),4),\"\"))","v":""},{"$f":"IF(P_20号様式!L85<> \"\",TEXT(INT(P_20号様式!L85),\"#,##0\"),\"\")","v":""},{"$f":"IF(P_20号様式!L85= \"\",\"\",IF(VALUE(FIXED(P_20号様式!L85,0,TRUE))<>P_20号様式!L85,RIGHT(FIXED(P_20号様式!L85,3,FALSE),4),\"\"))","v":""},{"$f":"IF(P_20号様式!O85<> \"\",TEXT(INT(P_20号様式!O85),\"#,##0\"),\"\")","v":""},{"$f":"IF(P_20号様式!O85= \"\",\"\",IF(VALUE(FIXED(P_20号様式!O85,0,TRUE))<>P_20号様式!O85,RIGHT(FIXED(P_20号様式!O85,3,FALSE),4),\"\"))","v":""},{"$f":"IF(P_20号様式!R85<> \"\",TEXT(INT(P_20号様式!R85),\"#,##0\"),\"\")","v":""},{"$f":"IF(P_20号様式!R85= \"\",\"\",IF(VALUE(FIXED(P_20号様式!R85,0,TRUE))<>P_20号様式!R85,RIGHT(FIXED(P_20号様式!R85,3,FALSE),4),\"\"))","v":""},{"$f":"IF(P_20号様式!U85<> \"\",TEXT(INT(P_20号様式!U85),\"#,##0\"),\"\")","v":""},{"$f":"IF(P_20号様式!U85= \"\",\"\",IF(VALUE(FIXED(P_20号様式!U85,0,TRUE))<>P_20号様式!U85,RIGHT(FIXED(P_20号様式!U85,3,FALSE),4),\"\"))","v":""},{"$f":"IF(P_20号様式!X85<> \"\",TEXT(INT(P_20号様式!X85),\"#,##0\"),\"\")","v":""},{"$f":"IF(P_20号様式!X85= \"\",\"\",IF(VALUE(FIXED(P_20号様式!X85,0,TRUE))<>P_20号様式!X85,RIGHT(FIXED(P_20号様式!X85,3,FALSE),4),\"\"))","v":""},{"$f":"IF(P_20号様式!AA85<> \"\",TEXT(INT(P_20号様式!AA85),\"#,##0\"),\"\")","v":""},{"$f":"IF(P_20号様式!AA85= \"\",\"\",IF(VALUE(FIXED(P_20号様式!AA85,0,TRUE))<>P_20号様式!AA85,RIGHT(FIXED(P_20号様式!AA85,3,FALSE),4),\"\"))","v":""},{"$f":"IF(P_20号様式!AD85<> \"\",TEXT(INT(P_20号様式!AD85),\"#,##0\"),\"\")","v":""},{"$f":"IF(P_20号様式!AD85= \"\",\"\",IF(VALUE(FIXED(P_20号様式!AD85,0,TRUE))<>P_20号様式!AD85,RIGHT(FIXED(P_20号様式!AD85,3,FALSE),4),\"\"))","v":""},{"$f":"IF(P_20号様式!AG85<> \"\",TEXT(INT(P_20号様式!AG85),\"#,##0\"),\"\")","v":""},{"$f":"IF(P_20号様式!AG85= \"\",\"\",IF(VALUE(FIXED(P_20号様式!AG85,0,TRUE))<>P_20号様式!AG85,RIGHT(FIXED(P_20号様式!AG85,3,FALSE),4),\"\"))","v":""},{"$f":"IF(P_20号様式!AH85<> \"\",TEXT(INT(P_20号様式!AH85),\"#,##0\"),\"\")","v":""},{"$f":"IF(P_20号様式!AH85= \"\",\"\",IF(VALUE(FIXED(P_20号様式!AH85,0,TRUE))<>P_20号様式!AH85,RIGHT(FIXED(P_20号様式!AH85,3,FALSE),4),\"\"))","v":""}]
[{"$f":"IF(P_20号様式!C86=\"\",\"\",P_20号様式!C86)","v":""},null,{"$f":"IF(P_20号様式!F86<> \"\",TEXT(INT(P_20号様式!F86),\"#,##0\"),\"\")","v":""},{"$f":"IF(P_20号様式!F86= \"\",\"\",IF(VALUE(FIXED(P_20号様式!F86,0,TRUE))<>P_20号様式!F86,RIGHT(FIXED(P_20号様式!F86,3,FALSE),4),\"\"))","v":""},{"$f":"IF(P_20号様式!I86<> \"\",TEXT(INT(P_20号様式!I86),\"#,##0\"),\"\")","v":""},{"$f":"IF(P_20号様式!I86= \"\",\"\",IF(VALUE(FIXED(P_20号様式!I86,0,TRUE))<>P_20号様式!I86,RIGHT(FIXED(P_20号様式!I86,3,FALSE),4),\"\"))","v":""},{"$f":"IF(P_20号様式!L86<> \"\",TEXT(INT(P_20号様式!L86),\"#,##0\"),\"\")","v":""},{"$f":"IF(P_20号様式!L86= \"\",\"\",IF(VALUE(FIXED(P_20号様式!L86,0,TRUE))<>P_20号様式!L86,RIGHT(FIXED(P_20号様式!L86,3,FALSE),4),\"\"))","v":""},{"$f":"IF(P_20号様式!O86<> \"\",TEXT(INT(P_20号様式!O86),\"#,##0\"),\"\")","v":""},{"$f":"IF(P_20号様式!O86= \"\",\"\",IF(VALUE(FIXED(P_20号様式!O86,0,TRUE))<>P_20号様式!O86,RIGHT(FIXED(P_20号様式!O86,3,FALSE),4),\"\"))","v":""},{"$f":"IF(P_20号様式!R86<> \"\",TEXT(INT(P_20号様式!R86),\"#,##0\"),\"\")","v":""},{"$f":"IF(P_20号様式!R86= \"\",\"\",IF(VALUE(FIXED(P_20号様式!R86,0,TRUE))<>P_20号様式!R86,RIGHT(FIXED(P_20号様式!R86,3,FALSE),4),\"\"))","v":""},{"$f":"IF(P_20号様式!U86<> \"\",TEXT(INT(P_20号様式!U86),\"#,##0\"),\"\")","v":""},{"$f":"IF(P_20号様式!U86= \"\",\"\",IF(VALUE(FIXED(P_20号様式!U86,0,TRUE))<>P_20号様式!U86,RIGHT(FIXED(P_20号様式!U86,3,FALSE),4),\"\"))","v":""},{"$f":"IF(P_20号様式!X86<> \"\",TEXT(INT(P_20号様式!X86),\"#,##0\"),\"\")","v":""},{"$f":"IF(P_20号様式!X86= \"\",\"\",IF(VALUE(FIXED(P_20号様式!X86,0,TRUE))<>P_20号様式!X86,RIGHT(FIXED(P_20号様式!X86,3,FALSE),4),\"\"))","v":""},{"$f":"IF(P_20号様式!AA86<> \"\",TEXT(INT(P_20号様式!AA86),\"#,##0\"),\"\")","v":""},{"$f":"IF(P_20号様式!AA86= \"\",\"\",IF(VALUE(FIXED(P_20号様式!AA86,0,TRUE))<>P_20号様式!AA86,RIGHT(FIXED(P_20号様式!AA86,3,FALSE),4),\"\"))","v":""},{"$f":"IF(P_20号様式!AD86<> \"\",TEXT(INT(P_20号様式!AD86),\"#,##0\"),\"\")","v":""},{"$f":"IF(P_20号様式!AD86= \"\",\"\",IF(VALUE(FIXED(P_20号様式!AD86,0,TRUE))<>P_20号様式!AD86,RIGHT(FIXED(P_20号様式!AD86,3,FALSE),4),\"\"))","v":""},{"$f":"IF(P_20号様式!AG86<> \"\",TEXT(INT(P_20号様式!AG86),\"#,##0\"),\"\")","v":""},{"$f":"IF(P_20号様式!AG86= \"\",\"\",IF(VALUE(FIXED(P_20号様式!AG86,0,TRUE))<>P_20号様式!AG86,RIGHT(FIXED(P_20号様式!AG86,3,FALSE),4),\"\"))","v":""},{"$f":"IF(P_20号様式!AH86<> \"\",TEXT(INT(P_20号様式!AH86),\"#,##0\"),\"\")","v":""},{"$f":"IF(P_20号様式!AH86= \"\",\"\",IF(VALUE(FIXED(P_20号様式!AH86,0,TRUE))<>P_20号様式!AH86,RIGHT(FIXED(P_20号様式!AH86,3,FALSE),4),\"\"))","v":""}]
[{"$f":"IF(P_20号様式!C87=\"\",\"\",P_20号様式!C87)","v":""},null,{"$f":"IF(P_20号様式!F87<> \"\",TEXT(INT(P_20号様式!F87),\"#,##0\"),\"\")","v":""},{"$f":"IF(P_20号様式!F87= \"\",\"\",IF(VALUE(FIXED(P_20号様式!F87,0,TRUE))<>P_20号様式!F87,RIGHT(FIXED(P_20号様式!F87,3,FALSE),4),\"\"))","v":""},{"$f":"IF(P_20号様式!I87<> \"\",TEXT(INT(P_20号様式!I87),\"#,##0\"),\"\")","v":""},{"$f":"IF(P_20号様式!I87= \"\",\"\",IF(VALUE(FIXED(P_20号様式!I87,0,TRUE))<>P_20号様式!I87,RIGHT(FIXED(P_20号様式!I87,3,FALSE),4),\"\"))","v":""},{"$f":"IF(P_20号様式!L87<> \"\",TEXT(INT(P_20号様式!L87),\"#,##0\"),\"\")","v":""},{"$f":"IF(P_20号様式!L87= \"\",\"\",IF(VALUE(FIXED(P_20号様式!L87,0,TRUE))<>P_20号様式!L87,RIGHT(FIXED(P_20号様式!L87,3,FALSE),4),\"\"))","v":""},{"$f":"IF(P_20号様式!O87<> \"\",TEXT(INT(P_20号様式!O87),\"#,##0\"),\"\")","v":""},{"$f":"IF(P_20号様式!O87= \"\",\"\",IF(VALUE(FIXED(P_20号様式!O87,0,TRUE))<>P_20号様式!O87,RIGHT(FIXED(P_20号様式!O87,3,FALSE),4),\"\"))","v":""},{"$f":"IF(P_20号様式!R87<> \"\",TEXT(INT(P_20号様式!R87),\"#,##0\"),\"\")","v":""},{"$f":"IF(P_20号様式!R87= \"\",\"\",IF(VALUE(FIXED(P_20号様式!R87,0,TRUE))<>P_20号様式!R87,RIGHT(FIXED(P_20号様式!R87,3,FALSE),4),\"\"))","v":""},{"$f":"IF(P_20号様式!U87<> \"\",TEXT(INT(P_20号様式!U87),\"#,##0\"),\"\")","v":""},{"$f":"IF(P_20号様式!U87= \"\",\"\",IF(VALUE(FIXED(P_20号様式!U87,0,TRUE))<>P_20号様式!U87,RIGHT(FIXED(P_20号様式!U87,3,FALSE),4),\"\"))","v":""},{"$f":"IF(P_20号様式!X87<> \"\",TEXT(INT(P_20号様式!X87),\"#,##0\"),\"\")","v":""},{"$f":"IF(P_20号様式!X87= \"\",\"\",IF(VALUE(FIXED(P_20号様式!X87,0,TRUE))<>P_20号様式!X87,RIGHT(FIXED(P_20号様式!X87,3,FALSE),4),\"\"))","v":""},{"$f":"IF(P_20号様式!AA87<> \"\",TEXT(INT(P_20号様式!AA87),\"#,##0\"),\"\")","v":""},{"$f":"IF(P_20号様式!AA87= \"\",\"\",IF(VALUE(FIXED(P_20号様式!AA87,0,TRUE))<>P_20号様式!AA87,RIGHT(FIXED(P_20号様式!AA87,3,FALSE),4),\"\"))","v":""},{"$f":"IF(P_20号様式!AD87<> \"\",TEXT(INT(P_20号様式!AD87),\"#,##0\"),\"\")","v":""},{"$f":"IF(P_20号様式!AD87= \"\",\"\",IF(VALUE(FIXED(P_20号様式!AD87,0,TRUE))<>P_20号様式!AD87,RIGHT(FIXED(P_20号様式!AD87,3,FALSE),4),\"\"))","v":""},{"$f":"IF(P_20号様式!AG87<> \"\",TEXT(INT(P_20号様式!AG87),\"#,##0\"),\"\")","v":""},{"$f":"IF(P_20号様式!AG87= \"\",\"\",IF(VALUE(FIXED(P_20号様式!AG87,0,TRUE))<>P_20号様式!AG87,RIGHT(FIXED(P_20号様式!AG87,3,FALSE),4),\"\"))","v":""},{"$f":"IF(P_20号様式!AH87<> \"\",TEXT(INT(P_20号様式!AH87),\"#,##0\"),\"\")","v":""},{"$f":"IF(P_20号様式!AH87= \"\",\"\",IF(VALUE(FIXED(P_20号様式!AH87,0,TRUE))<>P_20号様式!AH87,RIGHT(FIXED(P_20号様式!AH87,3,FALSE),4),\"\"))","v":""}]
[]
["政   令   市   計",null,{"$f":"IF(P_20号様式!AI45<> \"\",TEXT(INT(P_20号様式!AI45),\"#,##0\"),\"\")","v":""},{"$f":"IF(P_20号様式!AI45= \"\",\"\",IF(VALUE(FIXED(P_20号様式!AI45,0,TRUE))<>P_20号様式!AI45,RIGHT(FIXED(P_20号様式!AI45,3,FALSE),4),\"\"))","v":""},{"$f":"IF(P_20号様式!AJ45<> \"\",TEXT(INT(P_20号様式!AJ45),\"#,##0\"),\"\")","v":""},{"$f":"IF(P_20号様式!AJ45= \"\",\"\",IF(VALUE(FIXED(P_20号様式!AJ45,0,TRUE))<>P_20号様式!AJ45,RIGHT(FIXED(P_20号様式!AJ45,3,FALSE),4),\"\"))","v":""},{"$f":"IF(P_20号様式!AK45<> \"\",TEXT(INT(P_20号様式!AK45),\"#,##0\"),\"\")","v":""},{"$f":"IF(P_20号様式!AK45= \"\",\"\",IF(VALUE(FIXED(P_20号様式!AK45,0,TRUE))<>P_20号様式!AK45,RIGHT(FIXED(P_20号様式!AK45,3,FALSE),4),\"\"))","v":""},{"$f":"IF(P_20号様式!AL45<> \"\",TEXT(INT(P_20号様式!AL45),\"#,##0\"),\"\")","v":""},{"$f":"IF(P_20号様式!AL45= \"\",\"\",IF(VALUE(FIXED(P_20号様式!AL45,0,TRUE))<>P_20号様式!AL45,RIGHT(FIXED(P_20号様式!AL45,3,FALSE),4),\"\"))","v":""},{"$f":"IF(P_20号様式!AM45<> \"\",TEXT(INT(P_20号様式!AM45),\"#,##0\"),\"\")","v":""},{"$f":"IF(P_20号様式!AM45= \"\",\"\",IF(VALUE(FIXED(P_20号様式!AM45,0,TRUE))<>P_20号様式!AM45,RIGHT(FIXED(P_20号様式!AM45,3,FALSE),4),\"\"))","v":""},{"$f":"IF(P_20号様式!AN45<> \"\",TEXT(INT(P_20号様式!AN45),\"#,##0\"),\"\")","v":""},{"$f":"IF(P_20号様式!AN45= \"\",\"\",IF(VALUE(FIXED(P_20号様式!AN45,0,TRUE))<>P_20号様式!AN45,RIGHT(FIXED(P_20号様式!AN45,3,FALSE),4),\"\"))","v":""},{"$f":"IF(P_20号様式!AO45<> \"\",TEXT(INT(P_20号様式!AO45),\"#,##0\"),\"\")","v":""},{"$f":"IF(P_20号様式!AO45= \"\",\"\",IF(VALUE(FIXED(P_20号様式!AO45,0,TRUE))<>P_20号様式!AO45,RIGHT(FIXED(P_20号様式!AO45,3,FALSE),4),\"\"))","v":""},{"$f":"IF(P_20号様式!AP45<> \"\",TEXT(INT(P_20号様式!AP45),\"#,##0\"),\"\")","v":""},{"$f":"IF(P_20号様式!AP45= \"\",\"\",IF(VALUE(FIXED(P_20号様式!AP45,0,TRUE))<>P_20号様式!AP45,RIGHT(FIXED(P_20号様式!AP45,3,FALSE),4),\"\"))","v":""},{"$f":"IF(P_20号様式!AQ45<> \"\",TEXT(INT(P_20号様式!AQ45),\"#,##0\"),\"\")","v":""},{"$f":"IF(P_20号様式!AQ45= \"\",\"\",IF(VALUE(FIXED(P_20号様式!AQ45,0,TRUE))<>P_20号様式!AQ45,RIGHT(FIXED(P_20号様式!AQ45,3,FALSE),4),\"\"))","v":""},{"$f":"IF(P_20号様式!AR45<> \"\",TEXT(INT(P_20号様式!AR45),\"#,##0\"),\"\")","v":""},{"$f":"IF(P_20号様式!AR45= \"\",\"\",IF(VALUE(FIXED(P_20号様式!AR45,0,TRUE))<>P_20号様式!AR45,RIGHT(FIXED(P_20号様式!AR45,3,FALSE),4),\"\"))","v":""},{"$f":"IF(P_20号様式!AS45<> \"\",TEXT(INT(P_20号様式!AS45),\"#,##0\"),\"\")","v":"0"},{"$f":"IF(P_20号様式!AS45= \"\",\"\",IF(VALUE(FIXED(P_20号様式!AS45,0,TRUE))<>P_20号様式!AS45,RIGHT(FIXED(P_20号様式!AS45,3,FALSE),4),\"\"))","v":""}]
["そ  の  他  市 計",null,{"$f":"IF(P_20号様式!AT45<> \"\",TEXT(INT(P_20号様式!AT45),\"#,##0\"),\"\")","v":"67,859"},{"$f":"IF(P_20号様式!AT45= \"\",\"\",IF(VALUE(FIXED(P_20号様式!AT45,0,TRUE))<>P_20号様式!AT45,RIGHT(FIXED(P_20号様式!AT45,3,FALSE),4),\"\"))","v":""},{"$f":"IF(P_20号様式!AU45<> \"\",TEXT(INT(P_20号様式!AU45),\"#,##0\"),\"\")","v":"953"},{"$f":"IF(P_20号様式!AU45= \"\",\"\",IF(VALUE(FIXED(P_20号様式!AU45,0,TRUE))<>P_20号様式!AU45,RIGHT(FIXED(P_20号様式!AU45,3,FALSE),4),\"\"))","v":""},{"$f":"IF(P_20号様式!AV45<> \"\",TEXT(INT(P_20号様式!AV45),\"#,##0\"),\"\")","v":"24,996"},{"$f":"IF(P_20号様式!AV45= \"\",\"\",IF(VALUE(FIXED(P_20号様式!AV45,0,TRUE))<>P_20号様式!AV45,RIGHT(FIXED(P_20号様式!AV45,3,FALSE),4),\"\"))","v":""},{"$f":"IF(P_20号様式!AW45<> \"\",TEXT(INT(P_20号様式!AW45),\"#,##0\"),\"\")","v":"5,737"},{"$f":"IF(P_20号様式!AW45= \"\",\"\",IF(VALUE(FIXED(P_20号様式!AW45,0,TRUE))<>P_20号様式!AW45,RIGHT(FIXED(P_20号様式!AW45,3,FALSE),4),\"\"))","v":""},{"$f":"IF(P_20号様式!AX45<> \"\",TEXT(INT(P_20号様式!AX45),\"#,##0\"),\"\")","v":"9,456"},{"$f":"IF(P_20号様式!AX45= \"\",\"\",IF(VALUE(FIXED(P_20号様式!AX45,0,TRUE))<>P_20号様式!AX45,RIGHT(FIXED(P_20号様式!AX45,3,FALSE),4),\"\"))","v":""},{"$f":"IF(P_20号様式!AY45<> \"\",TEXT(INT(P_20号様式!AY45),\"#,##0\"),\"\")","v":"22,722"},{"$f":"IF(P_20号様式!AY45= \"\",\"\",IF(VALUE(FIXED(P_20号様式!AY45,0,TRUE))<>P_20号様式!AY45,RIGHT(FIXED(P_20号様式!AY45,3,FALSE),4),\"\"))","v":""},{"$f":"IF(P_20号様式!AZ45<> \"\",TEXT(INT(P_20号様式!AZ45),\"#,##0\"),\"\")","v":"36,516"},{"$f":"IF(P_20号様式!AZ45= \"\",\"\",IF(VALUE(FIXED(P_20号様式!AZ45,0,TRUE))<>P_20号様式!AZ45,RIGHT(FIXED(P_20号様式!AZ45,3,FALSE),4),\"\"))","v":""},{"$f":"IF(P_20号様式!BA45<> \"\",TEXT(INT(P_20号様式!BA45),\"#,##0\"),\"\")","v":"7,217"},{"$f":"IF(P_20号様式!BA45= \"\",\"\",IF(VALUE(FIXED(P_20号様式!BA45,0,TRUE))<>P_20号様式!BA45,RIGHT(FIXED(P_20号様式!BA45,3,FALSE),4),\"\"))","v":""},{"$f":"IF(P_20号様式!BB45<> \"\",TEXT(INT(P_20号様式!BB45),\"#,##0\"),\"\")","v":""},{"$f":"IF(P_20号様式!BB45= \"\",\"\",IF(VALUE(FIXED(P_20号様式!BB45,0,TRUE))<>P_20号様式!BB45,RIGHT(FIXED(P_20号様式!BB45,3,FALSE),4),\"\"))","v":""},{"$f":"IF(P_20号様式!BC45<> \"\",TEXT(INT(P_20号様式!BC45),\"#,##0\"),\"\")","v":""},{"$f":"IF(P_20号様式!BC45= \"\",\"\",IF(VALUE(FIXED(P_20号様式!BC45,0,TRUE))<>P_20号様式!BC45,RIGHT(FIXED(P_20号様式!BC45,3,FALSE),4),\"\"))","v":""},{"$f":"IF(P_20号様式!BD45<> \"\",TEXT(INT(P_20号様式!BD45),\"#,##0\"),\"\")","v":"175,456"},{"$f":"IF(P_20号様式!BD45= \"\",\"\",IF(VALUE(FIXED(P_20号様式!BD45,0,TRUE))<>P_20号様式!BD45,RIGHT(FIXED(P_20号様式!BD45,3,FALSE),4),\"\"))","v":""}]
["郡             計",null,{"$f":"IF(P_20号様式!BE45<> \"\",TEXT(INT(P_20号様式!BE45),\"#,##0\"),\"\")","v":"40,000"},{"$f":"IF(P_20号様式!BE45= \"\",\"\",IF(VALUE(FIXED(P_20号様式!BE45,0,TRUE))<>P_20号様式!BE45,RIGHT(FIXED(P_20号様式!BE45,3,FALSE),4),\"\"))","v":""},{"$f":"IF(P_20号様式!BF45<> \"\",TEXT(INT(P_20号様式!BF45),\"#,##0\"),\"\")","v":"530"},{"$f":"IF(P_20号様式!BF45= \"\",\"\",IF(VALUE(FIXED(P_20号様式!BF45,0,TRUE))<>P_20号様式!BF45,RIGHT(FIXED(P_20号様式!BF45,3,FALSE),4),\"\"))","v":""},{"$f":"IF(P_20号様式!BG45<> \"\",TEXT(INT(P_20号様式!BG45),\"#,##0\"),\"\")","v":"22,999"},{"$f":"IF(P_20号様式!BG45= \"\",\"\",IF(VALUE(FIXED(P_20号様式!BG45,0,TRUE))<>P_20号様式!BG45,RIGHT(FIXED(P_20号様式!BG45,3,FALSE),4),\"\"))","v":""},{"$f":"IF(P_20号様式!BH45<> \"\",TEXT(INT(P_20号様式!BH45),\"#,##0\"),\"\")","v":"3,083"},{"$f":"IF(P_20号様式!BH45= \"\",\"\",IF(VALUE(FIXED(P_20号様式!BH45,0,TRUE))<>P_20号様式!BH45,RIGHT(FIXED(P_20号様式!BH45,3,FALSE),4),\"\"))","v":""},{"$f":"IF(P_20号様式!BI45<> \"\",TEXT(INT(P_20号様式!BI45),\"#,##0\"),\"\")","v":"4,894"},{"$f":"IF(P_20号様式!BI45= \"\",\"\",IF(VALUE(FIXED(P_20号様式!BI45,0,TRUE))<>P_20号様式!BI45,RIGHT(FIXED(P_20号様式!BI45,3,FALSE),4),\"\"))","v":""},{"$f":"IF(P_20号様式!BJ45<> \"\",TEXT(INT(P_20号様式!BJ45),\"#,##0\"),\"\")","v":"10,186"},{"$f":"IF(P_20号様式!BJ45= \"\",\"\",IF(VALUE(FIXED(P_20号様式!BJ45,0,TRUE))<>P_20号様式!BJ45,RIGHT(FIXED(P_20号様式!BJ45,3,FALSE),4),\"\"))","v":""},{"$f":"IF(P_20号様式!BK45<> \"\",TEXT(INT(P_20号様式!BK45),\"#,##0\"),\"\")","v":"18,333"},{"$f":"IF(P_20号様式!BK45= \"\",\"\",IF(VALUE(FIXED(P_20号様式!BK45,0,TRUE))<>P_20号様式!BK45,RIGHT(FIXED(P_20号様式!BK45,3,FALSE),4),\"\"))","v":""},{"$f":"IF(P_20号様式!BL45<> \"\",TEXT(INT(P_20号様式!BL45),\"#,##0\"),\"\")","v":"3,548"},{"$f":"IF(P_20号様式!BL45= \"\",\"\",IF(VALUE(FIXED(P_20号様式!BL45,0,TRUE))<>P_20号様式!BL45,RIGHT(FIXED(P_20号様式!BL45,3,FALSE),4),\"\"))","v":""},{"$f":"IF(P_20号様式!BM45<> \"\",TEXT(INT(P_20号様式!BM45),\"#,##0\"),\"\")","v":""},{"$f":"IF(P_20号様式!BM45= \"\",\"\",IF(VALUE(FIXED(P_20号様式!BM45,0,TRUE))<>P_20号様式!BM45,RIGHT(FIXED(P_20号様式!BM45,3,FALSE),4),\"\"))","v":""},{"$f":"IF(P_20号様式!BN45<> \"\",TEXT(INT(P_20号様式!BN45),\"#,##0\"),\"\")","v":""},{"$f":"IF(P_20号様式!BN45= \"\",\"\",IF(VALUE(FIXED(P_20号様式!BN45,0,TRUE))<>P_20号様式!BN45,RIGHT(FIXED(P_20号様式!BN45,3,FALSE),4),\"\"))","v":""},{"$f":"IF(P_20号様式!BO45<> \"\",TEXT(INT(P_20号様式!BO45),\"#,##0\"),\"\")","v":"103,573"},{"$f":"IF(P_20号様式!BO45= \"\",\"\",IF(VALUE(FIXED(P_20号様式!BO45,0,TRUE))<>P_20号様式!BO45,RIGHT(FIXED(P_20号様式!BO45,3,FALSE),4),\"\"))","v":""}]
["県             計",null,{"$f":"IF(P_20号様式!BP45<> \"\",TEXT(INT(P_20号様式!BP45),\"#,##0\"),\"\")","v":"107,859"},{"$f":"IF(P_20号様式!BP45= \"\",\"\",IF(VALUE(FIXED(P_20号様式!BP45,0,TRUE))<>P_20号様式!BP45,RIGHT(FIXED(P_20号様式!BP45,3,FALSE),4),\"\"))","v":""},{"$f":"IF(P_20号様式!BQ45<> \"\",TEXT(INT(P_20号様式!BQ45),\"#,##0\"),\"\")","v":"1,483"},{"$f":"IF(P_20号様式!BQ45= \"\",\"\",IF(VALUE(FIXED(P_20号様式!BQ45,0,TRUE))<>P_20号様式!BQ45,RIGHT(FIXED(P_20号様式!BQ45,3,FALSE),4),\"\"))","v":""},{"$f":"IF(P_20号様式!BR45<> \"\",TEXT(INT(P_20号様式!BR45),\"#,##0\"),\"\")","v":"47,995"},{"$f":"IF(P_20号様式!BR45= \"\",\"\",IF(VALUE(FIXED(P_20号様式!BR45,0,TRUE))<>P_20号様式!BR45,RIGHT(FIXED(P_20号様式!BR45,3,FALSE),4),\"\"))","v":""},{"$f":"IF(P_20号様式!BS45<> \"\",TEXT(INT(P_20号様式!BS45),\"#,##0\"),\"\")","v":"8,820"},{"$f":"IF(P_20号様式!BS45= \"\",\"\",IF(VALUE(FIXED(P_20号様式!BS45,0,TRUE))<>P_20号様式!BS45,RIGHT(FIXED(P_20号様式!BS45,3,FALSE),4),\"\"))","v":""},{"$f":"IF(P_20号様式!BT45<> \"\",TEXT(INT(P_20号様式!BT45),\"#,##0\"),\"\")","v":"14,350"},{"$f":"IF(P_20号様式!BT45= \"\",\"\",IF(VALUE(FIXED(P_20号様式!BT45,0,TRUE))<>P_20号様式!BT45,RIGHT(FIXED(P_20号様式!BT45,3,FALSE),4),\"\"))","v":""},{"$f":"IF(P_20号様式!BU45<> \"\",TEXT(INT(P_20号様式!BU45),\"#,##0\"),\"\")","v":"32,908"},{"$f":"IF(P_20号様式!BU45= \"\",\"\",IF(VALUE(FIXED(P_20号様式!BU45,0,TRUE))<>P_20号様式!BU45,RIGHT(FIXED(P_20号様式!BU45,3,FALSE),4),\"\"))","v":""},{"$f":"IF(P_20号様式!BV45<> \"\",TEXT(INT(P_20号様式!BV45),\"#,##0\"),\"\")","v":"54,849"},{"$f":"IF(P_20号様式!BV45= \"\",\"\",IF(VALUE(FIXED(P_20号様式!BV45,0,TRUE))<>P_20号様式!BV45,RIGHT(FIXED(P_20号様式!BV45,3,FALSE),4),\"\"))","v":""},{"$f":"IF(P_20号様式!BW45<> \"\",TEXT(INT(P_20号様式!BW45),\"#,##0\"),\"\")","v":"10,765"},{"$f":"IF(P_20号様式!BW45= \"\",\"\",IF(VALUE(FIXED(P_20号様式!BW45,0,TRUE))<>P_20号様式!BW45,RIGHT(FIXED(P_20号様式!BW45,3,FALSE),4),\"\"))","v":""},{"$f":"IF(P_20号様式!BX45<> \"\",TEXT(INT(P_20号様式!BX45),\"#,##0\"),\"\")","v":""},{"$f":"IF(P_20号様式!BX45= \"\",\"\",IF(VALUE(FIXED(P_20号様式!BX45,0,TRUE))<>P_20号様式!BX45,RIGHT(FIXED(P_20号様式!BX45,3,FALSE),4),\"\"))","v":""},{"$f":"IF(P_20号様式!BY45<> \"\",TEXT(INT(P_20号様式!BY45),\"#,##0\"),\"\")","v":""},{"$f":"IF(P_20号様式!BY45= \"\",\"\",IF(VALUE(FIXED(P_20号様式!BY45,0,TRUE))<>P_20号様式!BY45,RIGHT(FIXED(P_20号様式!BY45,3,FALSE),4),\"\"))","v":""},{"$f":"IF(P_20号様式!BZ45<> \"\",TEXT(INT(P_20号様式!BZ45),\"#,##0\"),\"\")","v":"279,029"},{"$f":"IF(P_20号様式!BZ45= \"\",\"\",IF(VALUE(FIXED(P_20号様式!BZ45,0,TRUE))<>P_20号様式!BZ45,RIGHT(FIXED(P_20号様式!BZ45,3,FALSE),4),\"\"))","v":""}]

{"sheet":"パラメタシート","index":1,"n_rows":1,"n_cols":2,"rows_kept":1,"cut":false,"hidden":false,"merged":[]}
["執行日","2017-10-22"]

{"sheet":"P_20号様式","index":2,"n_rows":87,"n_cols":82,"rows_kept":87,"cut":false,"hidden":false,"merged":[]}
["頁番号","行番号","市区町村名","届出番号1","政党名1","得票数1","届出番号2","政党名2","得票数2","届出番号3","政党名3","得票数3","届出番号4","政党名4","得票数4","届出番号5","政党名5","得票数5","届出番号6","政党名6","得票数6","届出番号7","政党名7","得票数7","届出番号8","政党名8","得票数8","届出番号9","政党名9","得票数9","届出番号10","政党名10","得票数10","小計","政令市得票数1","政令市得票数2","政令市得票数3","政令市得票数4","政令市得票数5","政令市得票数6","政令市得票数7","政令市得票数8","政令市得票数9","政令市得票数10","政令市計","その他市得票数1","その他市得票数2","その他市得票数3","その他市得票数4","その他市得票数5","その他市得票数6","その他市得票数7","その他市得票数8","その他市得票数9","その他市得票数10","その他市計","郡計得票数1","郡計得票数2","郡計得票数3","郡計得票数4","郡計得票数5","郡計得票数6","郡計得票数7","郡計得票数8","郡計得票数9","郡計得票数10","郡計","県計得票数1","県計得票数2","県計得票数3","県計得票数4","県計得票数5","県計得票数6","県計得票数7","県計得票数8","県計得票数9","県計得票数10","県計","選挙名","翌日開票区分","開票時刻","開票確定時刻"]
[1,1,"鹿児島市１区","01","自由民主党",null,"02","幸福実現党",null,"03","公明党",null,"04","社会民主党",null,"05","日本共産党",null,"06","立憲民主党",null,"07","希望の党",null,"08","日本維新の会",null,null,null,null,null,null,null,null,null,null,null,null,null,null,null,null,null,null,0,67859,953,24996,5737,9456,22722,36516,7217,null,null,175456,40000,530,22999,3083,4894,10186,18333,3548,null,null,103573,107859,1483,47995,8820,14350,32908,54849,10765,null,null,279029,"衆議院比例代表選出議員選挙","0","00:00:00"]
[1,2,"鹿児島市２区","01","自由民主党",null,"02","幸福実現党",null,"03","公明党",null,"04","社会民主党",null,"05","日本共産党",null,"06","立憲民主党",null,"07","希望の党",null,"08","日本維新の会",null,null,null,null,null,null,null,null,null,null,null,null,null,null,null,null,null,null,0,67859,953,24996,5737,9456,22722,36516,7217,null,null,175456,40000,530,22999,3083,4894,10186,18333,3548,null,null,103573,107859,1483,47995,8820,14350,32908,54849,10765,null,null,279029,"衆議院比例代表選出議員選挙","0","00:00:00"]
[1,3,"＊（鹿児島市）計","01","自由民主党",0,"02","幸福実現党",0,"03","公明党",0,"04","社会民主党",0,"05","日本共産党",0,"06","立憲民主党",0,"07","希望の党",0,"08","日本維新の会",0,null,null,null,null,null,null,0,null,null,null,null,null,null,null,null,null,null,0,67859,953,24996,5737,9456,22722,36516,7217,null,null,175456,40000,530,22999,3083,4894,10186,18333,3548,null,null,103573,107859,1483,47995,8820,14350,32908,54849,10765,null,null,279029,"衆議院比例代表選出議員選挙","0","00:00:00"]
[1,4,"鹿屋市","01","自由民主党",null,"02","幸福実現党",null,"03","公明党",null,"04","社会民主党",null,"05","日本共産党",null,"06","立憲民主党",null,"07","希望の党",null,"08","日本維新の会",null,null,null,null,null,null,null,null,null,null,null,null,null,null,null,null,null,null,0,67859,953,24996,5737,9456,22722,36516,7217,null,null,175456,40000,530,22999,3083,4894,10186,18333,3548,null,null,103573,107859,1483,47995,8820,14350,32908,54849,10765,null,null,279029,"衆議院比例代表選出議員選挙","0","00:00:00"]
[1,5,"枕崎市","01","自由民主党",4358,"02","幸福実現党",56,"03","公明党",984,"04","社会民主党",156,"05","日本共産党",458,"06","立憲民主党",1179,"07","希望の党",2136,"08","日本維新の会",357,null,null,null,null,null,null,9684,null,null,null,null,null,null,null,null,null,null,0,67859,953,24996,5737,9456,22722,36516,7217,null,null,175456,40000,530,22999,3083,4894,10186,18333,3548,null,null,103573,107859,1483,47995,8820,14350,32908,54849,10765,null,null,279029,"衆議院比例代表選出議員選挙","0","00:00:00"]
[1,6,"阿久根市","01","自由民主党",4769,"02","幸福実現党",59,"03","公明党",1326,"04","社会民主党",278,"05","日本共産党",509,"06","立憲民主党",1267,"07","希望の党",2537,"08","日本維新の会",410,null,null,null,null,null,null,11155,null,null,null,null,null,null,null,null,null,null,0,67859,953,24996,5737,9456,22722,36516,7217,null,null,175456,40000,530,22999,3083,4894,10186,18333,3548,null,null,103573,107859,1483,47995,8820,14350,32908,54849,10765,null,null,279029,"衆議院比例代表選出議員選挙","0","00:00:00"]
[1,7,"出水市","01","自由民主党",10394,"02","幸福実現党",122,"03","公明党",2695,"04","社会民主党",751,"05","日本共産党",1323,"06","立憲民主党",3309,"07","希望の党",5988,"08","日本維新の会",1073,null,null,null,null,null,null,25655,null,null,null,null,null,null,null,null,null,null,0,67859,953,24996,5737,9456,22722,36516,7217,null,null,175456,40000,530,22999,3083,4894,10186,18333,3548,null,null,103573,107859,1483,47995,8820,14350,32908,54849,10765,null,null,279029,"衆議院比例代表選出議員選挙","0","00:00:00"]
[1,8,"指宿市","01","自由民主党",7187,"02","幸福実現党",177,"03","公明党",2228,"04","社会民主党",408,"05","日本共産党",903,"06","立憲民主党",2773,"07","希望の党",3986,"08","日本維新の会",832,null,null,null,null,null,null,18494,null,null,null,null,null,null,null,null,null,null,0,67859,953,24996,5737,9456,22722,36516,7217,null,null,175456,40000,530,22999,3083,4894,10186,18333,3548,null,null,103573,107859,1483,47995,8820,14350,32908,54849,10765,null,null,279029,"衆議院比例代表選出議員選挙","0","00:00:00"]
[1,9,"西之表市","01","自由民主党",2812,"02","幸福実現党",35,"03","公明党",1050,"04","社会民主党",396,"05","日本共産党",529,"06","立憲民主党",828,"07","希望の党",1108,"08","日本維新の会",252,null,null,null,null,null,null,7010,null,null,null,null,null,null,null,null,null,null,0,67859,953,24996,5737,9456,22722,36516,7217,null,null,175456,40000,530,22999,3083,4894,10186,18333,3548,null,null,103573,107859,1483,47995,8820,14350,32908,54849,10765,null,null,279029,"衆議院比例代表選出議員選挙","0","00:00:00"]
[1,10,"垂水市","01","自由民主党",2642,"02","幸福実現党",30,"03","公明党",1913,"04","社会民主党",429,"05","日本共産党",526,"06","立憲民主党",818,"07","希望の党",1085,"08","日本維新の会",269,null,null,null,null,null,null,7712,null,null,null,null,null,null,null,null,null,null,0,67859,953,24996,5737,9456,22722,36516,7217,null,null,175456,40000,530,22999,3083,4894,10186,18333,3548,null,null,103573,107859,1483,47995,8820,14350,32908,54849,10765,null,null,279029,"衆議院比例代表選出議員選挙","0","00:00:00"]
[1,11,"薩摩川内市第１","01","自由民主党",null,"02","幸福実現党",null,"03","公明党",null,"04","社会民主党",null,"05","日本共産党",null,"06","立憲民主党",null,"07","希望の党",null,"08","日本維新の会",null,null,null,null,null,null,null,null,null,null,null,null,null,null,null,null,null,null,0,67859,953,24996,5737,9456,22722,36516,7217,null,null,175456,40000,530,22999,3083,4894,10186,18333,3548,null,null,103573,107859,1483,47995,8820,14350,32908,54849,10765,null,null,279029,"衆議院比例代表選出議員選挙","0","00:00:00"]
[1,12,"薩摩川内市第２","01","自由民主党",681,"02","幸福実現党",3,"03","公明党",226,"04","社会民主党",24,"05","日本共産党",65,"06","立憲民主党",140,"07","希望の党",355,"08","日本維新の会",34,null,null,null,null,null,null,1528,null,null,null,null,null,null,null,null,null,null,0,67859,953,24996,5737,9456,22722,36516,7217,null,null,175456,40000,530,22999,3083,4894,10186,18333,3548,null,null,103573,107859,1483,47995,8820,14350,32908,54849,10765,null,null,279029,"衆議院比例代表選出議員選挙","0","00:00:00"]
[1,13,"薩摩川内市第３","01","自由民主党",566,"02","幸福実現党",7,"03","公明党",221,"04","社会民主党",16,"05","日本共産党",49,"06","立憲民主党",149,"07","希望の党",318,"08","日本維新の会",46,null,null,null,null,null,null,1372,null,null,null,null,null,null,null,null,null,null,0,67859,953,24996,5737,9456,22722,36516,7217,null,null,175456,40000,530,22999,3083,4894,10186,18333,3548,null,null,103573,107859,1483,47995,8820,14350,32908,54849,10765,null,null,279029,"衆議院比例代表選出議員選挙","0","00:00:00"]
[1,14,"＊（薩摩川内市）計","01","自由民主党",1247,"02","幸福実現党",10,"03","公明党",447,"04","社会民主党",40,"05","日本共産党",114,"06","立憲民主党",289,"07","希望の党",673,"08","日本維新の会",80,null,null,null,null,null,null,2900,null,null,null,null,null,null,null,null,null,null,0,67859,953,24996,5737,9456,22722,36516,7217,null,null,175456,40000,530,22999,3083,4894,10186,18333,3548,null,null,103573,107859,1483,47995,8820,14350,32908,54849,10765,null,null,279029,"衆議院比例代表選出議員選挙","0","00:00:00"]
[1,15,"日置市","01","自由民主党",null,"02","幸福実現党",null,"03","公明党",null,"04","社会民主党",null,"05","日本共産党",null,"06","立憲民主党",null,"07","希望の党",null,"08","日本維新の会",null,null,null,null,null,null,null,null,null,null,null,null,null,null,null,null,null,null,0,67859,953,24996,5737,9456,22722,36516,7217,null,null,175456,40000,530,22999,3083,4894,10186,18333,3548,null,null,103573,107859,1483,47995,8820,14350,32908,54849,10765,null,null,279029,"衆議院比例代表選出議員選挙","0","00:00:00"]
[1,16,"曽於市","01","自由民主党",8025,"02","幸福実現党",73,"03","公明党",2396,"04","社会民主党",1183,"05","日本共産党",933,"06","立憲民主党",1681,"07","希望の党",2713,"08","日本維新の会",548,null,null,null,null,null,null,17552,null,null,null,null,null,null,null,null,null,null,0,67859,953,24996,5737,9456,22722,36516,7217,null,null,175456,40000,530,22999,3083,4894,10186,18333,3548,null,null,103573,107859,1483,47995,8820,14350,32908,54849,10765,null,null,279029,"衆議院比例代表選出議員選挙","0","00:00:00"]
[1,17,"霧島市","01","自由民主党",null,"02","幸福実現党",null,"03","公明党",null,"04","社会民主党",null,"05","日本共産党",null,"06","立憲民主党",null,"07","希望の党",null,"08","日本維新の会",null,null,null,null,null,null,null,null,null,null,null,null,null,null,null,null,null,null,0,67859,953,24996,5737,9456,22722,36516,7217,null,null,175456,40000,530,22999,3083,4894,10186,18333,3548,null,null,103573,107859,1483,47995,8820,14350,32908,54849,10765,null,null,279029,"衆議院比例代表選出議員選挙","0","00:00:00"]
[1,18,"いちき串木野市","01","自由民主党",null,"02","幸福実現党",null,"03","公明党",null,"04","社会民主党",null,"05","日本共産党",null,"06","立憲民主党",null,"07","希望の党",null,"08","日本維新の会",null,null,null,null,null,null,null,null,null,null,null,null,null,null,null,null,null,null,0,67859,953,24996,5737,9456,22722,36516,7217,null,null,175456,40000,530,22999,3083,4894,10186,18333,3548,null,null,103573,107859,1483,47995,8820,14350,32908,54849,10765,null,null,279029,"衆議院比例代表選出議員選挙","0","00:00:00"]
[1,19,"南さつま市","01","自由民主党",null,"02","幸福実現党",null,"03","公明党",null,"04","社会民主党",null,"05","日本共産党",null,"06","立憲民主党",null,"07","希望の党",null,"08","日本維新の会",null,null,null,null,null,null,null,null,null,null,null,null,null,null,null,null,null,null,0,67859,953,24996,5737,9456,22722,36516,7217,null,null,175456,40000,530,22999,3083,4894,10186,18333,3548,null,null,103573,107859,1483,47995,8820,14350,32908,54849,10765,null,null,279029,"衆議院比例代表選出議員選挙","0","00:00:00"]
[1,20,"志布志市","01","自由民主党",null,"02","幸福実現党",null,"03","公明党",null,"04","社会民主党",null,"05","日本共産党",null,"06","立憲民主党",null,"07","希望の党",null,"08","日本維新の会",null,null,null,null,null,null,null,null,null,null,null,null,null,null,null,null,null,null,0,67859,953,24996,5737,9456,22722,36516,7217,null,null,175456,40000,530,22999,3083,4894,10186,18333,3548,null,null,103573,107859,1483,47995,8820,14350,32908,54849,10765,null,null,279029,"衆議院比例代表選出議員選挙","0","00:00:00"]
[1,21,"奄美市","01","自由民主党",6233,"02","幸福実現党",100,"03","公明党",6617,"04","社会民主党",385,"05","日本共産党",1774,"06","立憲民主党",2445,"07","希望の党",3811,"08","日本維新の会",778,null,null,null,null,null,null,22143,null,null,null,null,null,null,null,null,null,null,0,67859,953,24996,5737,9456,22722,36516,7217,null,null,175456,40000,530,22999,3083,4894,10186,18333,3548,null,null,103573,107859,1483,47995,8820,14350,32908,54849,10765,null,null,279029,"衆議院比例代表選出議員選挙","0","00:00:00"]
[1,22,"南九州市","01","自由民主党",8003,"02","幸福実現党",104,"03","公明党",1433,"04","社会民主党",304,"05","日本共産党",823,"06","立憲民主党",1967,"07","希望の党",3646,"08","日本維新の会",693,null,null,null,null,null,null,16973,null,null,null,null,null,null,null,null,null,null,0,67859,953,24996,5737,9456,22722,36516,7217,null,null,175456,40000,530,22999,3083,4894,10186,18333,3548,null,null,103573,107859,1483,47995,8820,14350,32908,54849,10765,null,null,279029,"衆議院比例代表選出議員選挙","0","00:00:00"]
[1,23,"伊佐市","01","自由民主党",null,"02","幸福実現党",null,"03","公明党",null,"04","社会民主党",null,"05","日本共産党",null,"06","立憲民主党",null,"07","希望の党",null,"08","日本維新の会",null,null,null,null,null,null,null,null,null,null,null,null,null,null,null,null,null,null,0,67859,953,24996,5737,9456,22722,36516,7217,null,null,175456,40000,530,22999,3083,4894,10186,18333,3548,null,null,103573,107859,1483,47995,8820,14350,32908,54849,10765,null,null,279029,"衆議院比例代表選出議員選挙","0","00:00:00"]
[1,24,"姶良市","01","自由民主党",12189,"02","幸福実現党",187,"03","公明党",3907,"04","社会民主党",1407,"05","日本共産党",1564,"06","立憲民主党",6166,"07","希望の党",8833,"08","日本維新の会",1925,null,null,null,null,null,null,36178,null,null,null,null,null,null,null,null,null,null,0,67859,953,24996,5737,9456,22722,36516,7217,null,null,175456,40000,530,22999,3083,4894,10186,18333,3548,null,null,103573,107859,1483,47995,8820,14350,32908,54849,10765,null,null,279029,"衆議院比例代表選出議員選挙","0","00:00:00"]
[1,25,"三島村","01","自由民主党",78,"02","幸福実現党",1,"03","公明党",58,"04","社会民主党",4,"05","日本共産党",9,"06","立憲民主党",36,"07","希望の党",37,"08","日本維新の会",11,null,null,null,null,null,null,234,null,null,null,null,null,null,null,null,null,null,0,67859,953,24996,5737,9456,22722,36516,7217,null,null,175456,40000,530,22999,3083,4894,10186,18333,3548,null,null,103573,107859,1483,47995,8820,14350,32908,54849,10765,null,null,279029,"衆議院比例代表選出議員選挙","0","00:00:00"]
[1,26,"十島村","01","自由民主党",154,"02","幸福実現党",6,"03","公明党",112,"04","社会民主党",5,"05","日本共産党",14,"06","立憲民主党",67,"07","希望の党",67,"08","日本維新の会",27,null,null,null,null,null,null,452,null,null,null,null,null,null,null,null,null,null,0,67859,953,24996,5737,9456,22722,36516,7217,null,null,175456,40000,530,22999,3083,4894,10186,18333,3548,null,null,103573,107859,1483,47995,8820,14350,32908,54849,10765,null,null,279029,"衆議院比例代表選出議員選挙","0","00:00:00"]
[1,27,"＊（鹿児島郡）計","01","自由民主党",232,"02","幸福実現党",7,"03","公明党",170,"04","社会民主党",9,"05","日本共産党",23,"06","立憲民主党",103,"07","希望の党",104,"08","日本維新の会",38,null,null,null,null,null,null,686,null,null,null,null,null,null,null,null,null,null,0,67859,953,24996,5737,9456,22722,36516,7217,null,null,175456,40000,530,22999,3083,4894,10186,18333,3548,null,null,103573,107859,1483,47995,8820,14350,32908,54849,10765,null,null,279029,"衆議院比例代表選出議員選挙","0","00:00:00"]
[1,28,"さつま町","01","自由民主党",5148,"02","幸福実現党",87,"03","公明党",1358,"04","社会民主党",204,"05","日本共産党",327,"06","立憲民主党",1071,"07","希望の党",3498,"08","日本維新の会",373,null,null,null,null,null,null,12066,null,null,null,null,null,null,null,null,null,null,0,67859,953,24996,5737,9456,22722,36516,7217,null,null,175456,40000,530,22999,3083,4894,10186,18333,3548,null,null,103573,107859,1483,47995,8820,14350,32908,54849,10765,null,null,279029,"衆議院比例代表選出議員選挙","0","00:00:00"]
[1,29,"＊（薩摩郡）計","01","自由民主党",5148,"02","幸福実現党",87,"03","公明党",1358,"04","社会民主党",204,"05","日本共産党",327,"06","立憲民主党",1071,"07","希望の党",3498,"08","日本維新の会",373,null,null,null,null,null,null,12066,null,null,null,null,null,null,null,null,null,null,0,67859,953,24996,5737,9456,22722,36516,7217,null,null,175456,40000,530,22999,3083,4894,10186,18333,3548,null,null,103573,107859,1483,47995,8820,14350,32908,54849,10765,null,null,279029,"衆議院比例代表選出議員選挙","0","00:00:00"]
[1,30,"長島町","01","自由民主党",2930,"02","幸福実現党",37,"03","公明党",1223,"04","社会民主党",91,"05","日本共産党",248,"06","立憲民主党",489,"07","希望の党",1176,"08","日本維新の会",153,null,null,null,null,null,null,6347,null,null,null,null,null,null,null,null,null,null,0,67859,953,24996,5737,9456,22722,36516,7217,null,null,175456,40000,530,22999,3083,4894,10186,18333,3548,null,null,103573,107859,1483,47995,8820,14350,32908,54849,10765,null,null,279029,"衆議院比例代表選出議員選挙","0","00:00:00"]
[1,31,"＊（出水郡）計","01","自由民主党",2930,"02","幸福実現党",37,"03","公明党",1223,"04","社会民主党",91,"05","日本共産党",248,"06","立憲民主党",489,"07","希望の党",1176,"08","日本維新の会",153,null,null,null,null,null,null,6347,null,null,null,null,null,null,null,null,null,null,0,67859,953,24996,5737,9456,22722,36516,7217,null,null,175456,40000,530,22999,3083,4894,10186,18333,3548,null,null,103573,107859,1483,47995,8820,14350,32908,54849,10765,null,null,279029,"衆議院比例代表選出議員選挙","0","00:00:00"]
[1,32,"湧水町","01","自由民主党",2074,"02","幸福実現党",30,"03","公明党",704,"04","社会民主党",178,"05","日本共産党",167,"06","立憲民主党",707,"07","希望の党",1238,"08","日本維新の会",181,null,null,null,null,null,null,5279,null,null,null,null,null,null,null,null,null,null,0,67859,953,24996,5737,9456,22722,36516,7217,null,null,175456,40000,530,22999,3083,4894,10186,18333,3548,null,null,103573,107859,1483,47995,8820,14350,32908,54849,10765,null,null,279029,"衆議院比例代表選出議員選挙","0","00:00:00"]
[1,33,"＊（姶良郡）計","01","自由民主党",2074,"02","幸福実現党",30,"03","公明党",704,"04","社会民主党",178,"05","日本共産党",167,"06","立憲民主党",707,"07","希望の党",1238,"08","日本維新の会",181,null,null,null,null,null,null,5279,null,null,null,null,null,null,null,null,null,null,0,67859,953,24996,5737,9456,22722,36516,7217,null,null,175456,40000,530,22999,3083,4894,10186,18333,3548,null,null,103573,107859,1483,47995,8820,14350,32908,54849,10765,null,null,279029,"衆議院比例代表選出議員選挙","0","00:00:00"]
[1,34,"大崎町","01","自由民主党",2577,"02","幸福実現党",43,"03","公明党",1259,"04","社会民主党",255,"05","日本共産党",346,"06","立憲民主党",612,"07","希望の党",1088,"08","日本維新の会",241,null,null,null,null,null,null,6421,null,null,null,null,null,null,null,null,null,null,0,67859,953,24996,5737,9456,22722,36516,7217,null,null,175456,40000,530,22999,3083,4894,10186,18333,3548,null,null,103573,107859,1483,47995,8820,14350,32908,54849,10765,null,null,279029,"衆議院比例代表選出議員選挙","0","00:00:00"]
[1,35,"＊（曽於郡）計","01","自由民主党",2577,"02","幸福実現党",43,"03","公明党",1259,"04","社会民主党",255,"05","日本共産党",346,"06","立憲民主党",612,"07","希望の党",1088,"08","日本維新の会",241,null,null,null,null,null,null,6421,null,null,null,null,null,null,null,null,null,null,0,67859,953,24996,5737,9456,22722,36516,7217,null,null,175456,40000,530,22999,3083,4894,10186,18333,3548,null,null,103573,107859,1483,47995,8820,14350,32908,54849,10765,null,null,279029,"衆議院比例代表選出議員選挙","0","00:00:00"]
[1,36,"東串良町","01","自由民主党",1293,"02","幸福実現党",16,"03","公明党",598,"04","社会民主党",118,"05","日本共産党",206,"06","立憲民主党",271,"07","希望の党",497,"08","日本維新の会",103,null,null,null,null,null,null,3102,null,null,null,null,null,null,null,null,null,null,0,67859,953,24996,5737,9456,22722,36516,7217,null,null,175456,40000,530,22999,3083,4894,10186,18333,3548,null,null,103573,107859,1483,47995,8820,14350,32908,54849,10765,null,null,279029,"衆議院比例代表選出議員選挙","0","00:00:00"]
[1,37,"錦江町","01","自由民主党",1837,"02","幸福実現党",30,"03","公明党",870,"04","社会民主党",198,"05","日本共産党",122,"06","立憲民主党",384,"07","希望の党",594,"08","日本維新の会",138,null,null,null,null,null,null,4173,null,null,null,null,null,null,null,null,null,null,0,67859,953,24996,5737,9456,22722,36516,7217,null,null,175456,40000,530,22999,3083,4894,10186,18333,3548,null,null,103573,107859,1483,47995,8820,14350,32908,54849,10765,null,null,279029,"衆議院比例代表選出議員選挙","0","00:00:00"]
[1,38,"南大隅町","01","自由民主党",1825,"02","幸福実現党",25,"03","公明党",855,"04","社会民主党",249,"05","日本共産党",114,"06","立憲民主党",449,"07","希望の党",607,"08","日本維新の会",120,null,null,null,null,null,null,4244,null,null,null,null,null,null,null,null,null,null,0,67859,953,24996,5737,9456,22722,36516,7217,null,null,175456,40000,530,22999,3083,4894,10186,18333,3548,null,null,103573,107859,1483,47995,8820,14350,32908,54849,10765,null,null,279029,"衆議院比例代表選出議員選挙","0","00:00:00"]
[1,39,"肝付町","01","自由民主党",2764,"02","幸福実現党",35,"03","公明党",1530,"04","社会民主党",515,"05","日本共産党",249,"06","立憲民主党",838,"07","希望の党",1201,"08","日本維新の会",284,null,null,null,null,null,null,7416,null,null,null,null,null,null,null,null,null,null,0,67859,953,24996,5737,9456,22722,36516,7217,null,null,175456,40000,530,22999,3083,4894,10186,18333,3548,null,null,103573,107859,1483,47995,8820,14350,32908,54849,10765,null,null,279029,"衆議院比例代表選出議員選挙","0","00:00:00"]
[1,40,"＊（肝属郡）計","01","自由民主党",7719,"02","幸福実現党",106,"03","公明党",3853,"04","社会民主党",1080,"05","日本共産党",691,"06","立憲民主党",1942,"07","希望の党",2899,"08","日本維新の会",645,null,null,null,null,null,null,18935,null,null,null,null,null,null,null,null,null,null,0,67859,953,24996,5737,9456,22722,36516,7217,null,null,175456,40000,530,22999,3083,4894,10186,18333,3548,null,null,103573,107859,1483,47995,8820,14350,32908,54849,10765,null,null,279029,"衆議院比例代表選出議員選挙","0","00:00:00"]
[1,41,"中種子町","01","自由民主党",1946,"02","幸福実現党",16,"03","公明党",607,"04","社会民主党",180,"05","日本共産党",200,"06","立憲民主党",481,"07","希望の党",645,"08","日本維新の会",167,null,null,null,null,null,null,4242,null,null,null,null,null,null,null,null,null,null,0,67859,953,24996,5737,9456,22722,36516,7217,null,null,175456,40000,530,22999,3083,4894,10186,18333,3548,null,null,103573,107859,1483,47995,8820,14350,32908,54849,10765,null,null,279029,"衆議院比例代表選出議員選挙","0","00:00:00"]
[1,42,"南種子町","01","自由民主党",1278,"02","幸福実現党",9,"03","公明党",361,"04","社会民主党",158,"05","日本共産党",137,"06","立憲民主党",424,"07","希望の党",489,"08","日本維新の会",128,null,null,null,null,null,null,2984,null,null,null,null,null,null,null,null,null,null,0,67859,953,24996,5737,9456,22722,36516,7217,null,null,175456,40000,530,22999,3083,4894,10186,18333,3548,null,null,103573,107859,1483,47995,8820,14350,32908,54849,10765,null,null,279029,"衆議院比例代表選出議員選挙","0","00:00:00"]
[1,43,"屋久島町","01","自由民主党",2198,"02","幸福実現党",17,"03","公明党",1027,"04","社会民主党",422,"05","日本共産党",462,"06","立憲民主党",909,"07","希望の党",903,"08","日本維新の会",300,null,null,null,null,null,null,6238,null,null,null,null,null,null,null,null,null,null,0,67859,953,24996,5737,9456,22722,36516,7217,null,null,175456,40000,530,22999,3083,4894,10186,18333,3548,null,null,103573,107859,1483,47995,8820,14350,32908,54849,10765,null,null,279029,"衆議院比例代表選出議員選挙","0","00:00:00"]
[2,1,"＊（熊毛郡）計","01","自由民主党",5422,"02","幸福実現党",42,"03","公明党",1995,"04","社会民主党",760,"05","日本共産党",799,"06","立憲民主党",1814,"07","希望の党",2037,"08","日本維新の会",595,null,null,null,null,null,null,13464,null,null,null,null,null,null,null,null,null,null,0,67859,953,24996,5737,9456,22722,36516,7217,null,null,175456,40000,530,22999,3083,4894,10186,18333,3548,null,null,103573,107859,1483,47995,8820,14350,32908,54849,10765,null,null,279029,"衆議院比例代表選出議員選挙","0","00:00:00"]
[2,2,"大和村","01","自由民主党",267,"02","幸福実現党",2,"03","公明党",371,"04","社会民主党",13,"05","日本共産党",72,"06","立憲民主党",85,"07","希望の党",118,"08","日本維新の会",17,null,null,null,null,null,null,945,null,null,null,null,null,null,null,null,null,null,0,67859,953,24996,5737,9456,22722,36516,7217,null,null,175456,40000,530,22999,3083,4894,10186,18333,3548,null,null,103573,107859,1483,47995,8820,14350,32908,54849,10765,null,null,279029,"衆議院比例代表選出議員選挙","0","00:00:00"]
[2,3,"宇検村","01","自由民主党",453,"02","幸福実現党",10,"03","公明党",524,"04","社会民主党",10,"05","日本共産党",50,"06","立憲民主党",91,"07","希望の党",142,"08","日本維新の会",25,null,null,null,null,null,null,1305,null,null,null,null,null,null,null,null,null,null,0,67859,953,24996,5737,9456,22722,36516,7217,null,null,175456,40000,530,22999,3083,4894,10186,18333,3548,null,null,103573,107859,1483,47995,8820,14350,32908,54849,10765,null,null,279029,"衆議院比例代表選出議員選挙","0","00:00:00"]
[2,4,"瀬戸内町","01","自由民主党",1704,"02","幸福実現党",29,"03","公明党",2203,"04","社会民主党",61,"05","日本共産党",409,"06","立憲民主党",429,"07","希望の党",737,"08","日本維新の会",161,null,null,null,null,null,null,5733,null,null,null,null,null,null,null,null,null,null,0,67859,953,24996,5737,9456,22722,36516,7217,null,null,175456,40000,530,22999,3083,4894,10186,18333,3548,null,null,103573,107859,1483,47995,8820,14350,32908,54849,10765,null,null,279029,"衆議院比例代表選出議員選挙","0","00:00:00"]
[2,5,"龍郷町","01","自由民主党",1101,"02","幸福実現党",27,"03","公明党",1260,"04","社会民主党",66,"05","日本共産党",245,"06","立憲民主党",393,"07","希望の党",686,"08","日本維新の会",162,null,null,null,null,null,null,3940,null,null,null,null,null,null,null,null,null,null,0,67859,953,24996,5737,9456,22722,36516,7217,null,null,175456,40000,530,22999,3083,4894,10186,18333,3548,null,null,103573,107859,1483,47995,8820,14350,32908,54849,10765,null,null,279029,"衆議院比例代表選出議員選挙","0","00:00:00"]
[2,6,"喜界町","01","自由民主党",1427,"02","幸福実現党",23,"03","公明党",1372,"04","社会民主党",44,"05","日本共産党",212,"06","立憲民主党",351,"07","希望の党",663,"08","日本維新の会",145,null,null,null,null,null,null,4237,null,null,null,null,null,null,null,null,null,null,0,67859,953,24996,5737,9456,22722,36516,7217,null,null,175456,40000,530,22999,3083,4894,10186,18333,3548,null,null,103573,107859,1483,47995,8820,14350,32908,54849,10765,null,null,279029,"衆議院比例代表選出議員選挙","0","00:00:00"]
[2,7,"徳之島町","01","自由民主党",2187,"02","幸福実現党",17,"03","公明党",1434,"04","社会民主党",99,"05","日本共産党",418,"06","立憲民主党",529,"07","希望の党",1015,"08","日本維新の会",171,null,null,null,null,null,null,5870,null,null,null,null,null,null,null,null,null,null,0,67859,953,24996,5737,9456,22722,36516,7217,null,null,175456,40000,530,22999,3083,4894,10186,18333,3548,null,null,103573,107859,1483,47995,8820,14350,32908,54849,10765,null,null,279029,"衆議院比例代表選出議員選挙","0","00:00:00"]
[2,8,"天城町","01","自由民主党",1282,"02","幸福実現党",12,"03","公明党",927,"04","社会民主党",37,"05","日本共産党",199,"06","立憲民主党",218,"07","希望の党",548,"08","日本維新の会",104,null,null,null,null,null,null,3327,null,null,null,null,null,null,null,null,null,null,0,67859,953,24996,5737,9456,22722,36516,7217,null,null,175456,40000,530,22999,3083,4894,10186,18333,3548,null,null,103573,107859,1483,47995,8820,14350,32908,54849,10765,null,null,279029,"衆議院比例代表選出議員選挙","0","00:00:00"]
[2,9,"伊仙町","01","自由民主党",1814,"02","幸福実現党",13,"03","公明党",1343,"04","社会民主党",53,"05","日本共産党",296,"06","立憲民主党",343,"07","希望の党",603,"08","日本維新の会",130,null,null,null,null,null,null,4595,null,null,null,null,null,null,null,null,null,null,0,67859,953,24996,5737,9456,22722,36516,7217,null,null,175456,40000,530,22999,3083,4894,10186,18333,3548,null,null,103573,107859,1483,47995,8820,14350,32908,54849,10765,null,null,279029,"衆議院比例代表選出議員選挙","0","00:00:00"]
[2,10,"和泊町","01","自由民主党",1176,"02","幸福実現党",14,"03","公明党",1410,"04","社会民主党",43,"05","日本共産党",139,"06","立憲民主党",390,"07","希望の党",621,"08","日本維新の会",133,null,null,null,null,null,null,3926,null,null,null,null,null,null,null,null,null,null,0,67859,953,24996,5737,9456,22722,36516,7217,null,null,175456,40000,530,22999,3083,4894,10186,18333,3548,null,null,103573,107859,1483,47995,8820,14350,32908,54849,10765,null,null,279029,"衆議院比例代表選出議員選挙","0","00:00:00"]
[2,11,"知名町","01","自由民主党",1184,"02","幸福実現党",18,"03","公明党",979,"04","社会民主党",55,"05","日本共産党",131,"06","立憲民主党",342,"07","希望の党",640,"08","日本維新の会",138,null,null,null,null,null,null,3487,null,null,null,null,null,null,null,null,null,null,0,67859,953,24996,5737,9456,22722,36516,7217,null,null,175456,40000,530,22999,3083,4894,10186,18333,3548,null,null,103573,107859,1483,47995,8820,14350,32908,54849,10765,null,null,279029,"衆議院比例代表選出議員選挙","0","00:00:00"]
[2,12,"与論町","01","自由民主党",1303,"02","幸福実現党",13,"03","公明党",614,"04","社会民主党",25,"05","日本共産党",122,"06","立憲民主党",277,"07","希望の党",520,"08","日本維新の会",136,null,null,null,null,null,null,3010,null,null,null,null,null,null,null,null,null,null,0,67859,953,24996,5737,9456,22722,36516,7217,null,null,175456,40000,530,22999,3083,4894,10186,18333,3548,null,null,103573,107859,1483,47995,8820,14350,32908,54849,10765,null,null,279029,"衆議院比例代表選出議員選挙","0","00:00:00"]
[2,13,"＊（大島郡）計","01","自由民主党",13898,"02","幸福実現党",178,"03","公明党",12437,"04","社会民主党",506,"05","日本共産党",2293,"06","立憲民主党",3448,"07","希望の党",6293,"08","日本維新の会",1322,null,null,null,null,null,null,40375,null,null,null,null,null,null,null,null,null,null,0,67859,953,24996,5737,9456,22722,36516,7217,null,null,175456,40000,530,22999,3083,4894,10186,18333,3548,null,null,103573,107859,1483,47995,8820,14350,32908,54849,10765,null,null,279029,"衆議院比例代表選出議員選挙","0","00:00:00"]
[2,14,null,"01","自由民主党",null,"02","幸福実現党",null,"03","公明党",null,"04","社会民主党",null,"05","日本共産党",null,"06","立憲民主党",null,"07","希望の党",null,"08","日本維新の会",null,null,null,null,null,null,null,null,null,null,null,null,null,null,null,null,null,null,0,67859,953,24996,5737,9456,22722,36516,7217,null,null,175456,40000,530,22999,3083,4894,10186,18333,3548,null,null,103573,107859,1483,47995,8820,14350,32908,54849,10765,null,null,279029,"衆議院比例代表選出議員選挙","0","00:00:00"]
[2,15,null,"01","自由民主党",null,"02","幸福実現党",null,"03","公明党",null,"04","社会民主党",null,"05","日本共産党",null,"06","立憲民主党",null,"07","希望の党",null,"08","日本維新の会",null,null,null,null,null,null,null,null,null,null,null,null,null,null,null,null,null,null,0,67859,953,24996,5737,9456,22722,36516,7217,null,null,175456,40000,530,22999,3083,4894,10186,18333,3548,null,null,103573,107859,1483,47995,8820,14350,32908,54849,10765,null,null,279029,"衆議院比例代表選出議員選挙","0","00:00:00"]
[2,16,null,"01","自由民主党",null,"02","幸福実現党",null,"03","公明党",null,"04","社会民主党",null,"05","日本共産党",null,"06","立憲民主党",null,"07","希望の党",null,"08","日本維新の会",null,null,null,null,null,null,null,null,null,null,null,null,null,null,null,null,null,null,0,67859,953,24996,5737,9456,22722,36516,7217,null,null,175456,40000,530,22999,3083,4894,10186,18333,3548,null,null,103573,107859,1483,47995,8820,14350,32908,54849,10765,null,null,279029,"衆議院比例代表選出議員選挙","0","00:00:00"]
[2,17,null,"01","自由民主党",null,"02","幸福実現党",null,"03","公明党",null,"04","社会民主党",null,"05","日本共産党",null,"06","立憲民主党",null,"07","希望の党",null,"08","日本維新の会",null,null,null,null,null,null,null,null,null,null,null,null,null,null,null,null,null,null,0,67859,953,24996,5737,9456,22722,36516,7217,null,null,175456,40000,530,22999,3083,4894,10186,18333,3548,null,null,103573,107859,1483,47995,8820,14350,32908,54849,10765,null,null,279029,"衆議院比例代表選出議員選挙","0","00:00:00"]
[2,18,null,"01","自由民主党",null,"02","幸福実現党",null,"03","公明党",null,"04","社会民主党",null,"05","日本共産党",null,"06","立憲民主党",null,"07","希望の党",null,"08","日本維新の会",null,null,null,null,null,null,null,null,null,null,null,null,null,null,null,null,null,null,0,67859,953,24996,5737,9456,22722,36516,7217,null,null,175456,40000,530,22999,3083,4894,10186,18333,3548,null,null,103573,107859,1483,47995,8820,14350,32908,54849,10765,null,null,279029,"衆議院比例代表選出議員選挙","0","00:00:00"]
[2,19,null,"01","自由民主党",null,"02","幸福実現党",null,"03","公明党",null,"04","社会民主党",null,"05","日本共産党",null,"06","立憲民主党",null,"07","希望の党",null,"08","日本維新の会",null,null,null,null,null,null,null,null,null,null,null,null,null,null,null,null,null,null,0,67859,953,24996,5737,9456,22722,36516,7217,null,null,175456,40000,530,22999,3083,4894,10186,18333,3548,null,null,103573,107859,1483,47995,8820,14350,32908,54849,10765,null,null,279029,"衆議院比例代表選出議員選挙","0","00:00:00"]
[2,20,null,"01","自由民主党",null,"02","幸福実現党",null,"03","公明党",null,"04","社会民主党",null,"05","日本共産党",null,"06","立憲民主党",null,"07","希望の党",null,"08","日本維新の会",null,null,null,null,null,null,null,null,null,null,null,null,null,null,null,null,null,null,0,67859,953,24996,5737,9456,22722,36516,7217,null,null,175456,40000,530,22999,3083,4894,10186,18333,3548,null,null,103573,107859,1483,47995,8820,14350,32908,54849,10765,null,null,279029,"衆議院比例代表選出議員選挙","0","00:00:00"]
[2,21,null,"01","自由民主党",null,"02","幸福実現党",null,"03","公明党",null,"04","社会民主党",null,"05","日本共産党",null,"06","立憲民主党",null,"07","希望の党",null,"08","日本維新の会",null,null,null,null,null,null,null,null,null,null,null,null,null,null,null,null,null,null,0,67859,953,24996,5737,9456,22722,36516,7217,null,null,175456,40000,530,22999,3083,4894,10186,18333,3548,null,null,103573,107859,1483,47995,8820,14350,32908,54849,10765,null,null,279029,"衆議院比例代表選出議員選挙","0","00:00:00"]
[2,22,null,"01","自由民主党",null,"02","幸福実現党",null,"03","公明党",null,"04","社会民主党",null,"05","日本共産党",null,"06","立憲民主党",null,"07","希望の党",null,"08","日本維新の会",null,null,null,null,null,null,null,null,null,null,null,null,null,null,null,null,null,null,0,67859,953,24996,5737,9456,22722,36516,7217,null,null,175456,40000,530,22999,3083,4894,10186,18333,3548,null,null,103573,107859,1483,47995,8820,14350,32908,54849,10765,null,null,279029,"衆議院比例代表選出議員選挙","0","00:00:00"]
[2,23,null,"01","自由民主党",null,"02","幸福実現党",null,"03","公明党",null,"04","社会民主党",null,"05","日本共産党",null,"06","立憲民主党",null,"07","希望の党",null,"08","日本維新の会",null,null,null,null,null,null,null,null,null,null,null,null,null,null,null,null,null,null,0,67859,953,24996,5737,9456,22722,36516,7217,null,null,175456,40000,530,22999,3083,4894,10186,18333,3548,null,null,103573,107859,1483,47995,8820,14350,32908,54849,10765,null,null,279029,"衆議院比例代表選出議員選挙","0","00:00:00"]
[2,24,null,"01","自由民主党",null,"02","幸福実現党",null,"03","公明党",null,"04","社会民主党",null,"05","日本共産党",null,"06","立憲民主党",null,"07","希望の党",null,"08","日本維新の会",null,null,null,null,null,null,null,null,null,null,null,null,null,null,null,null,null,null,0,67859,953,24996,5737,9456,22722,36516,7217,null,null,175456,40000,530,22999,3083,4894,10186,18333,3548,null,null,103573,107859,1483,47995,8820,14350,32908,54849,10765,null,null,279029,"衆議院比例代表選出議員選挙","0","00:00:00"]
[2,25,null,"01","自由民主党",null,"02","幸福実現党",null,"03","公明党",null,"04","社会民主党",null,"05","日本共産党",null,"06","立憲民主党",null,"07","希望の党",null,"08","日本維新の会",null,null,null,null,null,null,null,null,null,null,null,null,null,null,null,null,null,null,0,67859,953,24996,5737,9456,22722,36516,7217,null,null,175456,40000,530,22999,3083,4894,10186,18333,3548,null,null,103573,107859,1483,47995,8820,14350,32908,54849,10765,null,null,279029,"衆議院比例代表選出議員選挙","0","00:00:00"]
[2,26,null,"01","自由民主党",null,"02","幸福実現党",null,"03","公明党",null,"04","社会民主党",null,"05","日本共産党",null,"06","立憲民主党",null,"07","希望の党",null,"08","日本維新の会",null,null,null,null,null,null,null,null,null,null,null,null,null,null,null,null,null,null,0,67859,953,24996,5737,9456,22722,36516,7217,null,null,175456,40000,530,22999,3083,4894,10186,18333,3548,null,null,103573,107859,1483,47995,8820,14350,32908,54849,10765,null,null,279029,"衆議院比例代表選出議員選挙","0","00:00:00"]
[2,27,null,"01","自由民主党",null,"02","幸福実現党",null,"03","公明党",null,"04","社会民主党",null,"05","日本共産党",null,"06","立憲民主党",null,"07","希望の党",null,"08","日本維新の会",null,null,null,null,null,null,null,null,null,null,null,null,null,null,null,null,null,null,0,67859,953,24996,5737,9456,22722,36516,7217,null,null,175456,40000,530,22999,3083,4894,10186,18333,3548,null,null,103573,107859,1483,47995,8820,14350,32908,54849,10765,null,null,279029,"衆議院比例代表選出議員選挙","0","00:00:00"]
[2,28,null,"01","自由民主党",null,"02","幸福実現党",null,"03","公明党",null,"04","社会民主党",null,"05","日本共産党",null,"06","立憲民主党",null,"07","希望の党",null,"08","日本維新の会",null,null,null,null,null,null,null,null,null,null,null,null,null,null,null,null,null,null,0,67859,953,24996,5737,9456,22722,36516,7217,null,null,175456,40000,530,22999,3083,4894,10186,18333,3548,null,null,103573,107859,1483,47995,8820,14350,32908,54849,10765,null,null,279029,"衆議院比例代表選出議員選挙","0","00:00:00"]
[2,29,null,"01","自由民主党",null,"02","幸福実現党",null,"03","公明党",null,"04","社会民主党",null,"05","日本共産党",null,"06","立憲民主党",null,"07","希望の党",null,"08","日本維新の会",null,null,null,null,null,null,null,null,null,null,null,null,null,null,null,null,null,null,0,67859,953,24996,5737,9456,22722,36516,7217,null,null,175456,40000,530,22999,3083,4894,10186,18333,3548,null,null,103573,107859,1483,47995,8820,14350,32908,54849,10765,null,null,279029,"衆議院比例代表選出議員選挙","0","00:00:00"]
[2,30,null,"01","自由民主党",null,"02","幸福実現党",null,"03","公明党",null,"04","社会民主党",null,"05","日本共産党",null,"06","立憲民主党",null,"07","希望の党",null,"08","日本維新の会",null,null,null,null,null,null,null,null,null,null,null,null,null,null,null,null,null,null,0,67859,953,24996,5737,9456,22722,36516,7217,null,null,175456,40000,530,22999,3083,4894,10186,18333,3548,null,null,103573,107859,1483,47995,8820,14350,32908,54849,10765,null,null,279029,"衆議院比例代表選出議員選挙","0","00:00:00"]
[2,31,null,"01","自由民主党",null,"02","幸福実現党",null,"03","公明党",null,"04","社会民主党",null,"05","日本共産党",null,"06","立憲民主党",null,"07","希望の党",null,"08","日本維新の会",null,null,null,null,null,null,null,null,null,null,null,null,null,null,null,null,null,null,0,67859,953,24996,5737,9456,22722,36516,7217,null,null,175456,40000,530,22999,3083,4894,10186,18333,3548,null,null,103573,107859,1483,47995,8820,14350,32908,54849,10765,null,null,279029,"衆議院比例代表選出議員選挙","0","00:00:00"]
[2,32,null,"01","自由民主党",null,"02","幸福実現党",null,"03","公明党",null,"04","社会民主党",null,"05","日本共産党",null,"06","立憲民主党",null,"07","希望の党",null,"08","日本維新の会",null,null,null,null,null,null,null,null,null,null,null,null,null,null,null,null,null,null,0,67859,953,24996,5737,9456,22722,36516,7217,null,null,175456,40000,530,22999,3083,4894,10186,18333,3548,null,null,103573,107859,1483,47995,8820,14350,32908,54849,10765,null,null,279029,"衆議院比例代表選出議員選挙","0","00:00:00"]
[2,33,null,"01","自由民主党",null,"02","幸福実現党",null,"03","公明党",null,"04","社会民主党",null,"05","日本共産党",null,"06","立憲民主党",null,"07","希望の党",null,"08","日本維新の会",null,null,null,null,null,null,null,null,null,null,null,null,null,null,null,null,null,null,0,67859,953,24996,5737,9456,22722,36516,7217,null,null,175456,40000,530,22999,3083,4894,10186,18333,3548,null,null,103573,107859,1483,47995,8820,14350,32908,54849,10765,null,null,279029,"衆議院比例代表選出議員選挙","0","00:00:00"]
[2,34,null,"01","自由民主党",null,"02","幸福実現党",null,"03","公明党",null,"04","社会民主党",null,"05","日本共産党",null,"06","立憲民主党",null,"07","希望の党",null,"08","日本維新の会",null,null,null,null,null,null,null,null,null,null,null,null,null,null,null,null,null,null,0,67859,953,24996,5737,9456,22722,36516,7217,null,null,175456,40000,530,22999,3083,4894,10186,18333,3548,null,null,103573,107859,1483,47995,8820,14350,32908,54849,10765,null,null,279029,"衆議院比例代表選出議員選挙","0","00:00:00"]
[2,35,null,"01","自由民主党",null,"02","幸福実現党",null,"03","公明党",null,"04","社会民主党",null,"05","日本共産党",null,"06","立憲民主党",null,"07","希望の党",null,"08","日本維新の会",null,null,null,null,null,null,null,null,null,null,null,null,null,null,null,null,null,null,0,67859,953,24996,5737,9456,22722,36516,7217,null,null,175456,40000,530,22999,3083,4894,10186,18333,3548,null,null,103573,107859,1483,47995,8820,14350,32908,54849,10765,null,null,279029,"衆議院比例代表選出議員選挙","0","00:00:00"]
[2,36,null,"01","自由民主党",null,"02","幸福実現党",null,"03","公明党",null,"04","社会民主党",null,"05","日本共産党",null,"06","立憲民主党",null,"07","希望の党",null,"08","日本維新の会",null,null,null,null,null,null,null,null,null,null,null,null,null,null,null,null,null,null,0,67859,953,24996,5737,9456,22722,36516,7217,null,null,175456,40000,530,22999,3083,4894,10186,18333,3548,null,null,103573,107859,1483,47995,8820,14350,32908,54849,10765,null,null,279029,"衆議院比例代表選出議員選挙","0","00:00:00"]
[2,37,null,"01","自由民主党",null,"02","幸福実現党",null,"03","公明党",null,"04","社会民主党",null,"05","日本共産党",null,"06","立憲民主党",null,"07","希望の党",null,"08","日本維新の会",null,null,null,null,null,null,null,null,null,null,null,null,null,null,null,null,null,null,0,67859,953,24996,5737,9456,22722,36516,7217,null,null,175456,40000,530,22999,3083,4894,10186,18333,3548,null,null,103573,107859,1483,47995,8820,14350,32908,54849,10765,null,null,279029,"衆議院比例代表選出議員選挙","0","00:00:00"]
[2,38,null,"01","自由民主党",null,"02","幸福実現党",null,"03","公明党",null,"04","社会民主党",null,"05","日本共産党",null,"06","立憲民主党",null,"07","希望の党",null,"08","日本維新の会",null,null,null,null,null,null,null,null,null,null,null,null,null,null,null,null,null,null,0,67859,953,24996,5737,9456,22722,36516,7217,null,null,175456,40000,530,22999,3083,4894,10186,18333,3548,null,null,103573,107859,1483,47995,8820,14350,32908,54849,10765,null,null,279029,"衆議院比例代表選出議員選挙","0","00:00:00"]
[2,39,null,"01","自由民主党",null,"02","幸福実現党",null,"03","公明党",null,"04","社会民主党",null,"05","日本共産党",null,"06","立憲民主党",null,"07","希望の党",null,"08","日本維新の会",null,null,null,null,null,null,null,null,null,null,null,null,null,null,null,null,null,null,0,67859,953,24996,5737,9456,22722,36516,7217,null,null,175456,40000,530,22999,3083,4894,10186,18333,3548,null,null,103573,107859,1483,47995,8820,14350,32908,54849,10765,null,null,279029,"衆議院比例代表選出議員選挙","0","00:00:00"]
[2,40,null,"01","自由民主党",null,"02","幸福実現党",null,"03","公明党",null,"04","社会民主党",null,"05","日本共産党",null,"06","立憲民主党",null,"07","希望の党",null,"08","日本維新の会",null,null,null,null,null,null,null,null,null,null,null,null,null,null,null,null,null,null,0,67859,953,24996,5737,9456,22722,36516,7217,null,null,175456,40000,530,22999,3083,4894,10186,18333,3548,null,null,103573,107859,1483,47995,8820,14350,32908,54849,10765,null,null,279029,"衆議院比例代表選出議員選挙","0","00:00:00"]
[2,41,null,"01","自由民主党",null,"02","幸福実現党",null,"03","公明党",null,"04","社会民主党",null,"05","日本共産党",null,"06","立憲民主党",null,"07","希望の党",null,"08","日本維新の会",null,null,null,null,null,null,null,null,null,null,null,null,null,null,null,null,null,null,0,67859,953,24996,5737,9456,22722,36516,7217,null,null,175456,40000,530,22999,3083,4894,10186,18333,3548,null,null,103573,107859,1483,47995,8820,14350,32908,54849,10765,null,null,279029,"衆議院比例代表選出議員選挙","0","00:00:00"]
[2,42,null,"01","自由民主党",null,"02","幸福実現党",null,"03","公明党",null,"04","社会民主党",null,"05","日本共産党",null,"06","立憲民主党",null,"07","希望の党",null,"08","日本維新の会",null,null,null,null,null,null,null,null,null,null,null,null,null,null,null,null,null,null,0,67859,953,24996,5737,9456,22722,36516,7217,null,null,175456,40000,530,22999,3083,4894,10186,18333,3548,null,null,103573,107859,1483,47995,8820,14350,32908,54849,10765,null,null,279029,"衆議院比例代表選出議員選挙","0","00:00:00"]
[2,43,null,"01","自由民主党",null,"02","幸福実現党",null,"03","公明党",null,"04","社会民主党",null,"05","日本共産党",null,"06","立憲民主党",null,"07","希望の党",null,"08","日本維新の会",null,null,null,null,null,null,null,null,null,null,null,null,null,null,null,null,null,null,0,67859,953,24996,5737,9456,22722,36516,7217,null,null,175456,40000,530,22999,3083,4894,10186,18333,3548,null,null,103573,107859,1483,47995,8820,14350,32908,54849,10765,null,null,279029,"衆議院比例代表選出議員選挙","0","00:00:00"]