{"text_format":"1","workbook":"xlsx","n_sheets":3,"sheets":["投票速報（合計）_146_","パラメタシート","P_14号6様式"],"not_rendered":{"charts":0,"images":0,"macros":1,"external_links":0,"defined_names":8,"comments":0,"pivot_tables":0},"unopened":[],"bounds":{"document_bytes":16777216,"sheet_cells":100000,"rows_first":2000,"rows_last":500,"rows_between":2000,"halvings":0,"cell_chars":16384,"cell_head_chars":4096},"cells_cut":0,"cells_raw":0,"read":"whole","date_system":"1900"}

{"sheet":"投票速報（合計）_146_","index":0,"n_rows":113,"n_cols":23,"rows_kept":113,"cut":false,"hidden":false,"merged":[[0,21,0,22],[57,21,57,22],[108,15,108,17],[113,12,113,14],[113,15,113,17],[103,12,103,14],[103,15,103,17],[104,12,104,14],[104,15,104,17],[105,12,105,14],[105,15,105,17],[100,12,100,14],[100,15,100,17],[101,12,101,14],[101,15,101,17],[102,12,102,14],[102,15,102,17],[97,12,97,14],[97,15,97,17],[98,12,98,14],[98,15,98,17],[99,12,99,14],[99,15,99,17],[94,12,94,14],[94,15,94,17],[95,12,95,14],[95,15,95,17],[96,12,96,14],[96,15,96,17],[91,12,91,14],[91,15,91,17],[92,12,92,14],[92,15,92,17],[93,12,93,14],[93,15,93,17],[88,12,88,14],[88,15,88,17],[89,12,89,14],[89,15,89,17],[90,12,90,14],[90,15,90,17],[85,12,85,14],[85,15,85,17],[86,12,86,14],[86,15,86,17],[87,12,87,14],[87,15,87,17],[82,12,82,14],[82,15,82,17],[83,12,83,14],[83,15,83,17],[84,12,84,14],[84,15,84,17],[79,12,79,14],[79,15,79,17],[80,12,80,14],[80,15,80,17],[81,12,81,14],[81,15,81,17],[76,12,76,14],[76,15,76,17],[77,12,77,14],[77,15,77,17],[78,12,78,14],[78,15,78,17],[56,12,56,14],[56,15,56,17],[68,12,68,14],[68,15,68,17],[69,12,69,14],[69,15,69,17],[53,12,53,14],[53,15,53,17],[54,12,54,14],[54,15,54,17],[55,12,55,14],[55,15,55,17],[47,12,47,14],[47,15,47,17],[48,12,48,14],[48,15,48,17],[51,12,51,14],[51,15,51,17],[49,12,49,14],[49,15,49,17],[50,12,50,14],[50,15,50,17],[44,12,44,14],[44,15,44,17],[45,12,45,14],[45,15,45,17],[46,12,46,14],[46,15,46,17],[41,12,41,14],[41,15,41,17],[42,12,42,14],[42,15,42,17],[43,12,43,14],[43,15,43,17],[38,12,38,14],[38,15,38,17],[39,12,39,14],[39,15,39,17],[40,12,40,14],[40,15,40,17],[35,12,35,14],[35,15,35,17],[36,12,36,14],[36,15,36,17],[37,12,37,14],[37,15,37,17],[32,12,32,14],[32,15,32,17],[33,12,33,14],[33,15,33,17],[34,12,34,14],[34,15,34,17],[29,12,29,14],[29,15,29,17],[30,12,30,14],[30,15,30,17],[31,12,31,14],[31,15,31,17],[26,12,26,14],[26,15,26,17],[27,12,27,14],[27,15,27,17],[28,12,28,14],[28,15,28,17],[23,12,23,14],[23,15,23,17],[24,12,24,14],[24,15,24,17],[25,12,25,14],[25,15,25,17],[9,15,9,17],[10,12,10,14],[10,15,10,17],[11,12,11,14],[11,15,11,17],[9,12,9,14],[1,20,1,22],[2,20,2,22],[58,20,58,22],[5,18,8,18],[8,12,8,14],[8,15,8,17],[6,16,7,16],[5,19,8,19],[5,20,7,22],[20,12,20,14],[20,15,20,17],[21,12,21,14],[21,15,21,17],[22,12,22,14],[22,15,22,17],[12,12,12,14],[12,15,12,17],[13,12,13,14],[59,20,59,22],[3,21,3,22],[1,16,1,19],[58,16,58,19],[5,11,5,17],[6,11,7,12],[6,14,7,14],[1,13,1,15],[2,13,2,15],[58,13,58,15],[59,13,59,15],[13,15,13,17],[14,12,14,14],[14,15,14,17],[15,12,15,14],[15,15,15,17],[16,12,16,14],[16,15,16,17],[17,12,17,14],[17,15,17,17],[18,12,18,14],[18,15,18,17],[19,12,19,14],[19,15,19,17],[60,21,60,22],[65,12,65,14],[65,15,65,17],[67,12,67,14],[67,15,67,17],[62,20,64,22],[66,12,66,14],[66,15,66,17],[63,11,64,12],[63,14,64,14],[63,16,64,16],[73,12,73,14],[73,15,73,17],[74,12,74,14],[74,15,74,17],[75,12,75,14],[75,15,75,17],[70,12,70,14],[70,15,70,17],[60,1,60,4],[62,0,65,1],[82,0,82,1],[83,0,83,1],[84,0,84,1],[85,0,85,1],[60,6,60,10],[66,0,66,1],[62,2,64,4],[62,5,64,7],[62,8,64,10],[86,0,86,1],[87,0,87,1],[88,0,88,1],[89,0,89,1],[99,0,99,1],[100,0,100,1],[107,0,107,1],[94,0,94,1],[95,0,95,1],[96,0,96,1],[57,0,58,2],[58,6,59,10],[59,1,59,4],[49,0,49,1],[50,0,50,1],[56,0,56,1],[54,0,54,1],[53,0,53,1],[55,0,55,1],[0,0,1,2],[3,1,3,4],[33,0,33,1],[3,6,3,10],[31,0,31,1],[32,0,32,1],[26,0,26,1],[27,0,27,1],[28,0,28,1],[5,5,7,7],[5,8,7,10],[21,0,21,1],[22,0,22,1],[23,0,23,1],[15,0,15,1],[2,1,2,4],[5,0,8,1],[5,2,7,4],[1,5,2,11],[34,0,34,1],[35,0,35,1],[36,0,36,1],[41,0,41,1],[30,0,30,1],[9,0,9,1],[29,0,29,1],[25,0,25,1],[14,0,14,1],[16,0,16,1],[17,0,17,1],[10,0,10,1],[11,0,11,1],[12,0,12,1],[13,0,13,1],[24,0,24,1],[18,0,18,1],[19,0,19,1],[20,0,20,1],[47,0,47,1],[51,0,51,1],[37,0,37,1],[38,0,38,1],[39,0,39,1],[40,0,40,1],[48,0,48,1],[43,0,43,1],[44,0,44,1],[45,0,45,1],[46,0,46,1],[42,0,42,1],[62,18,65,18],[62,19,65,19],[62,11,62,17],[74,0,74,1],[75,0,75,1],[76,0,76,1],[77,0,77,1],[78,0,78,1],[79,0,79,1],[80,0,80,1],[81,0,81,1],[90,0,90,1],[91,0,91,1],[92,0,92,1],[93,0,93,1],[71,12,71,14],[71,15,71,17],[72,12,72,14],[72,15,72,17],[97,0,97,1],[67,0,67,1],[68,0,68,1],[69,0,69,1],[70,0,70,1],[108,0,108,1],[101,0,101,1],[102,0,102,1],[103,0,103,1],[104,0,104,1],[98,0,98,1],[71,0,71,1],[72,0,72,1],[73,0,73,1],[110,0,110,1],[111,0,111,1],[112,0,112,1],[113,0,113,1],[105,0,105,1],[106,0,106,1],[110,12,110,14],[110,15,110,17],[111,12,111,14],[111,15,111,17],[112,12,112,14],[112,15,112,17],[106,12,106,14],[106,15,106,17],[107,12,107,14],[107,15,107,17],[108,12,108,14]]}
["第14号の6様式",null,null,null,null,null,null,null,null,null,null,null,null,null,null,null,null,null,null,null,null,{"$f":"IF(P_14号6様式!A2=\"\",\" ページ\", P_14号6様式!A2 & \"ページ\")","v":"1ページ"}]
[null,null,null,null,null,{"$f":"IF(P_14号6様式!BM2=\"\",\"投 票 速 報（国内・在外合計）\",\"投 票 速 報（国内・在外合計） (確定)\")","v":"投 票 速 報（国内・在外合計） (確定)"},null,null,null,null,null,null,null,"中間報告",null,null,{"$f":"IF(P_14号6様式!BR2=\"\",\"第　　　回\",\"第 　\" & P_14号6様式!BR2 & \"　回\")","v":"第　　　回"},null,null,null,{"$f":"IF(P_14号6様式!BS2=\"\",\"時    　分  現在\",P_14号6様式!BS2)","v":"時    　分  現在"}]
[null,{"$f":"IF(パラメタシート!B1=\"\",\"\",パラメタシート!B1)","v":"2017-10-22"},null,null,null,null,null,null,null,null,null,null,null,"結了報告",null,null,null,null,null,null,{"$f":"IF(P_14号6様式!BM2=\"\",\"時     　  分　　結了\",P_14号6様式!BM2)","v":"23:02:00"}]
[null,{"$f":"IF(P_14号6様式!BQ2=\"\",\"\",P_14号6様式!BQ2)","v":"衆議院比例代表選出議員選挙"},null,null,null,null,"（ 建 制 順 ）",null,null,null,null,null,null,null,null,null,null,null,null,null,null,"鹿 児 島 県"]
[]
["市区町村名",null,"当日有権者数合計（X'）\n（当日有権者見込合計（X))",null,null,"（Y)\n投 票 者 数 合 計",null,null,"（Z)\n棄 権 者 数 合 計",null,null,"（W)",null,null,null,null,null,null,"投\n票\n率\n順\n位","投票\n結了\n時刻","前回選挙の投票率"]
[null,null,null,null,null,null,null,null,null,null,null,"投 票 率  =",null,"（ Y ）","(","（ Y ）",")"]
[null,null,null,null,null,null,null,null,null,null,null,null,null,"（X'）",null,"（ X ）"]
[null,null,"男","女","計","男","女","計","男","女","計","男","女",null,null,"計",null,null,null,null,"男","女","計"]
[{"$f":"IF(P_14号6様式!C2=\"\",\"\",P_14号6様式!C2)","v":"　 鹿児島市１区"},null,{"$f":"IF(P_14号6様式!D2=\"\",\"\",P_14号6様式!D2)","v":162385},{"$f":"IF(P_14号6様式!E2=\"\",\"\",P_14号6様式!E2)","v":197359},{"$f":"IF(P_14号6様式!F2=\"\",\"\",P_14号6様式!F2)","v":359744},{"$f":"IF(P_14号6様式!G2=\"\",\"\",P_14号6様式!G2)","v":84738},{"$f":"IF(P_14号6様式!H2=\"\",\"\",P_14号6様式!H2)","v":101249},{"$f":"IF(P_14号6様式!I2=\"\",\"\",P_14号6様式!I2)","v":185987},{"$f":"IF(P_14号6様式!J2=\"\",\"\",P_14号6様式!J2)","v":77647},{"$f":"IF(P_14号6様式!K2=\"\",\"\",P_14号6様式!K2)","v":96110},{"$f":"IF(P_14号6様式!L2=\"\",\"\",P_14号6様式!L2)","v":173757},{"$f":"IF(P_14号6様式!M2=\"\",\"\",P_14号6様式!M2)","v":52.183391323090198},{"$f":"IF(P_14号6様式!N2=\"\",\"\",P_14号6様式!N2)","v":51.3019421460384},null,null,{"$f":"IF(P_14号6様式!O2=\"\",\"\",P_14号6様式!O2)","v":51.6998198719089},null,null,{"$f":"IF(P_14号6様式!P2=\"\",\"\",P_14号6様式!P2)","v":44},{"$f":"IF(P_14号6様式!Q2=\"\",\"\",P_14号6様式!Q2)","v":"21:57:00"},{"$f":"IF(P_14号6様式!R2=\"\",\"\",P_14号6様式!R2)","v":47.657588134540497},{"$f":"IF(P_14号6様式!S2=\"\",\"\",P_14号6様式!S2)","v":45.195106245975502},{"$f":"IF(P_14号6様式!T2=\"\",\"\",P_14号6様式!T2)","v":46.305358799701303}]
[{"$f":"IF(P_14号6様式!C3=\"\",\"\",P_14号6様式!C3)","v":"　 鹿児島市２区"},null,{"$f":"IF(P_14号6様式!D3=\"\",\"\",P_14号6様式!D3)","v":65749},{"$f":"IF(P_14号6様式!E3=\"\",\"\",P_14号6様式!E3)","v":75209},{"$f":"IF(P_14号6様式!F3=\"\",\"\",P_14号6様式!F3)","v":140958},{"$f":"IF(P_14号6様式!G3=\"\",\"\",P_14号6様式!G3)","v":31355},{"$f":"IF(P_14号6様式!H3=\"\",\"\",P_14号6様式!H3)","v":35293},{"$f":"IF(P_14号6様式!I3=\"\",\"\",P_14号6様式!I3)","v":66648},{"$f":"IF(P_14号6様式!J3=\"\",\"\",P_14号6様式!J3)","v":34394},{"$f":"IF(P_14号6様式!K3=\"\",\"\",P_14号6様式!K3)","v":39916},{"$f":"IF(P_14号6様式!L3=\"\",\"\",P_14号6様式!L3)","v":74310},{"$f":"IF(P_14号6様式!M3=\"\",\"\",P_14号6様式!M3)","v":47.688938234802102},{"$f":"IF(P_14号6様式!N3=\"\",\"\",P_14号6様式!N3)","v":46.9265646398702},null,null,{"$f":"IF(P_14号6様式!O3=\"\",\"\",P_14号6様式!O3)","v":47.282169156770102},null,null,{"$f":"IF(P_14号6様式!P3=\"\",\"\",P_14号6様式!P3)","v":46},{"$f":"IF(P_14号6様式!Q3=\"\",\"\",P_14号6様式!Q3)","v":"22:23:00"},{"$f":"IF(P_14号6様式!R3=\"\",\"\",P_14号6様式!R3)","v":38.981692464838503},{"$f":"IF(P_14号6様式!S3=\"\",\"\",P_14号6様式!S3)","v":36.9975859576383},{"$f":"IF(P_14号6様式!T3=\"\",\"\",P_14号6様式!T3)","v":37.919477788486802}]
[{"$f":"IF(P_14号6様式!C4=\"\",\"\",P_14号6様式!C4)","v":"＊（鹿児島市）計"},null,{"$f":"IF(P_14号6様式!D4=\"\",\"\",P_14号6様式!D4)","v":228134},{"$f":"IF(P_14号6様式!E4=\"\",\"\",P_14号6様式!E4)","v":272568},{"$f":"IF(P_14号6様式!F4=\"\",\"\",P_14号6様式!F4)","v":500702},{"$f":"IF(P_14号6様式!G4=\"\",\"\",P_14号6様式!G4)","v":116093},{"$f":"IF(P_14号6様式!H4=\"\",\"\",P_14号6様式!H4)","v":136542},{"$f":"IF(P_14号6様式!I4=\"\",\"\",P_14号6様式!I4)","v":252635},{"$f":"IF(P_14号6様式!J4=\"\",\"\",P_14号6様式!J4)","v":112041},{"$f":"IF(P_14号6様式!K4=\"\",\"\",P_14号6様式!K4)","v":136026},{"$f":"IF(P_14号6様式!L4=\"\",\"\",P_14号6様式!L4)","v":248067},{"$f":"IF(P_14号6様式!M4=\"\",\"\",P_14号6様式!M4)","v":50.888074552675199},{"$f":"IF(P_14号6様式!N4=\"\",\"\",P_14号6様式!N4)","v":50.094655278682801},null,null,{"$f":"IF(P_14号6様式!O4=\"\",\"\",P_14号6様式!O4)","v":50.456159551989003},null,null,{"$f":"IF(P_14号6様式!P4=\"\",\"\",P_14号6様式!P4)","v":""},{"$f":"IF(P_14号6様式!Q4=\"\",\"\",P_14号6様式!Q4)","v":"22:23:00"},{"$f":"IF(P_14号6様式!R4=\"\",\"\",P_14号6様式!R4)","v":45.182089659316098},{"$f":"IF(P_14号6様式!S4=\"\",\"\",P_14号6様式!S4)","v":42.947735243750103},{"$f":"IF(P_14号6様式!T4=\"\",\"\",P_14号6様式!T4)","v":43.963724442777099}]
[{"$f":"IF(P_14号6様式!C5=\"\",\"\",P_14号6様式!C5)","v":"　 鹿屋市"},null,{"$f":"IF(P_14号6様式!D5=\"\",\"\",P_14号6様式!D5)","v":39862},{"$f":"IF(P_14号6様式!E5=\"\",\"\",P_14号6様式!E5)","v":44834},{"$f":"IF(P_14号6様式!F5=\"\",\"\",P_14号6様式!F5)","v":84696},{"$f":"IF(P_14号6様式!G5=\"\",\"\",P_14号6様式!G5)","v":20663},{"$f":"IF(P_14号6様式!H5=\"\",\"\",P_14号6様式!H5)","v":22771},{"$f":"IF(P_14号6様式!I5=\"\",\"\",P_14号6様式!I5)","v":43434},{"$f":"IF(P_14号6様式!J5=\"\",\"\",P_14号6様式!J5)","v":19199},{"$f":"IF(P_14号6様式!K5=\"\",\"\",P_14号6様式!K5)","v":22063},{"$f":"IF(P_14号6様式!L5=\"\",\"\",P_14号6様式!L5)","v":41262},{"$f":"IF(P_14号6様式!M5=\"\",\"\",P_14号6様式!M5)","v":51.8363353569816},{"$f":"IF(P_14号6様式!N5=\"\",\"\",P_14号6様式!N5)","v":50.789579337110197},null,null,{"$f":"IF(P_14号6様式!O5=\"\",\"\",P_14号6様式!O5)","v":51.282232927174803},null,null,{"$f":"IF(P_14号6様式!P5=\"\",\"\",P_14号6様式!P5)","v":45},{"$f":"IF(P_14号6様式!Q5=\"\",\"\",P_14号6様式!Q5)","v":"21:26:00"},{"$f":"IF(P_14号6様式!R5=\"\",\"\",P_14号6様式!R5)","v":47.595027004993398},{"$f":"IF(P_14号6様式!S5=\"\",\"\",P_14号6様式!S5)","v":45.604050905180102},{"$f":"IF(P_14号6様式!T5=\"\",\"\",P_14号6様式!T5)","v":46.535692146297301}]
[{"$f":"IF(P_14号6様式!C6=\"\",\"\",P_14号6様式!C6)","v":"　 枕崎市"},null,{"$f":"IF(P_14号6様式!D6=\"\",\"\",P_14号6様式!D6)","v":8476},{"$f":"IF(P_14号6様式!E6=\"\",\"\",P_14号6様式!E6)","v":10155},{"$f":"IF(P_14号6様式!F6=\"\",\"\",P_14号6様式!F6)","v":18631},{"$f":"IF(P_14号6様式!G6=\"\",\"\",P_14号6様式!G6)","v":4498},{"$f":"IF(P_14号6様式!H6=\"\",\"\",P_14号6様式!H6)","v":5434},{"$f":"IF(P_14号6様式!I6=\"\",\"\",P_14号6様式!I6)","v":9932},{"$f":"IF(P_14号6様式!J6=\"\",\"\",P_14号6様式!J6)","v":3978},{"$f":"IF(P_14号6様式!K6=\"\",\"\",P_14号6様式!K6)","v":4721},{"$f":"IF(P_14号6様式!L6=\"\",\"\",P_14号6様式!L6)","v":8699},{"$f":"IF(P_14号6様式!M6=\"\",\"\",P_14号6様式!M6)","v":53.067484662576703},{"$f":"IF(P_14号6様式!N6=\"\",\"\",P_14号6様式!N6)","v":53.510585918266898},null,null,{"$f":"IF(P_14号6様式!O6=\"\",\"\",P_14号6様式!O6)","v":53.309001127153699},null,null,{"$f":"IF(P_14号6様式!P6=\"\",\"\",P_14号6様式!P6)","v":41},{"$f":"IF(P_14号6様式!Q6=\"\",\"\",P_14号6様式!Q6)","v":"20:12:00"},{"$f":"IF(P_14号6様式!R6=\"\",\"\",P_14号6様式!R6)","v":54.542302357836299},{"$f":"IF(P_14号6様式!S6=\"\",\"\",P_14号6様式!S6)","v":54.905856750875202},{"$f":"IF(P_14号6様式!T6=\"\",\"\",P_14号6様式!T6)","v":54.742209042193402}]
[{"$f":"IF(P_14号6様式!C7=\"\",\"\",P_14号6様式!C7)","v":"　 阿久根市"},null,{"$f":"IF(P_14号6様式!D7=\"\",\"\",P_14号6様式!D7)","v":8478},{"$f":"IF(P_14号6様式!E7=\"\",\"\",P_14号6様式!E7)","v":9799},{"$f":"IF(P_14号6様式!F7=\"\",\"\",P_14号6様式!F7)","v":18277},{"$f":"IF(P_14号6様式!G7=\"\",\"\",P_14号6様式!G7)","v":5459},{"$f":"IF(P_14号6様式!H7=\"\",\"\",P_14号6様式!H7)","v":6039},{"$f":"IF(P_14号6様式!I7=\"\",\"\",P_14号6様式!I7)","v":11498},{"$f":"IF(P_14号6様式!J7=\"\",\"\",P_14号6様式!J7)","v":3019},{"$f":"IF(P_14号6様式!K7=\"\",\"\",P_14号6様式!K7)","v":3760},{"$f":"IF(P_14号6様式!L7=\"\",\"\",P_14号6様式!L7)","v":6779},{"$f":"IF(P_14号6様式!M7=\"\",\"\",P_14号6様式!M7)","v":64.390186364708697},{"$f":"IF(P_14号6様式!N7=\"\",\"\",P_14号6様式!N7)","v":61.628737626288398},null,null,{"$f":"IF(P_14号6様式!O7=\"\",\"\",P_14号6様式!O7)","v":62.909667888603202},null,null,{"$f":"IF(P_14号6様式!P7=\"\",\"\",P_14号6様式!P7)","v":23},{"$f":"IF(P_14号6様式!Q7=\"\",\"\",P_14号6様式!Q7)","v":"20:38:00"},{"$f":"IF(P_14号6様式!R7=\"\",\"\",P_14号6様式!R7)","v":56.041308089500902},{"$f":"IF(P_14号6様式!S7=\"\",\"\",P_14号6様式!S7)","v":52.700715616116099},{"$f":"IF(P_14号6様式!T7=\"\",\"\",P_14号6様式!T7)","v":54.239796997250998}]
[{"$f":"IF(P_14号6様式!C8=\"\",\"\",P_14号6様式!C8)","v":"　 出水市"},null,{"$f":"IF(P_14号6様式!D8=\"\",\"\",P_14号6様式!D8)","v":20623},{"$f":"IF(P_14号6様式!E8=\"\",\"\",P_14号6様式!E8)","v":23899},{"$f":"IF(P_14号6様式!F8=\"\",\"\",P_14号6様式!F8)","v":44522},{"$f":"IF(P_14号6様式!G8=\"\",\"\",P_14号6様式!G8)","v":12164},{"$f":"IF(P_14号6様式!H8=\"\",\"\",P_14号6様式!H8)","v":13890},{"$f":"IF(P_14号6様式!I8=\"\",\"\",P_14号6様式!I8)","v":26054},{"$f":"IF(P_14号6様式!J8=\"\",\"\",P_14号6様式!J8)","v":8459},{"$f":"IF(P_14号6様式!K8=\"\",\"\",P_14号6様式!K8)","v":10009},{"$f":"IF(P_14号6様式!L8=\"\",\"\",P_14号6様式!L8)","v":18468},{"$f":"IF(P_14号6様式!M8=\"\",\"\",P_14号6様式!M8)","v":58.982689230470797},{"$f":"IF(P_14号6様式!N8=\"\",\"\",P_14号6様式!N8)","v":58.119586593581303},null,null,{"$f":"IF(P_14号6様式!O8=\"\",\"\",P_14号6様式!O8)","v":58.519383675486303},null,null,{"$f":"IF(P_14号6様式!P8=\"\",\"\",P_14号6様式!P8)","v":32},{"$f":"IF(P_14号6様式!Q8=\"\",\"\",P_14号6様式!Q8)","v":"21:26:00"},{"$f":"IF(P_14号6様式!R8=\"\",\"\",P_14号6様式!R8)","v":51.952288218111001},{"$f":"IF(P_14号6様式!S8=\"\",\"\",P_14号6様式!S8)","v":49.993740349705803},{"$f":"IF(P_14号6様式!T8=\"\",\"\",P_14号6様式!T8)","v":50.897692290407399}]
[{"$f":"IF(P_14号6様式!C9=\"\",\"\",P_14号6様式!C9)","v":"　 指宿市"},null,{"$f":"IF(P_14号6様式!D9=\"\",\"\",P_14号6様式!D9)","v":16117},{"$f":"IF(P_14号6様式!E9=\"\",\"\",P_14号6様式!E9)","v":19230},{"$f":"IF(P_14号6様式!F9=\"\",\"\",P_14号6様式!F9)","v":35347},{"$f":"IF(P_14号6様式!G9=\"\",\"\",P_14号6様式!G9)","v":8787},{"$f":"IF(P_14号6様式!H9=\"\",\"\",P_14号6様式!H9)","v":10025},{"$f":"IF(P_14号6様式!I9=\"\",\"\",P_14号6様式!I9)","v":18812},{"$f":"IF(P_14号6様式!J9=\"\",\"\",P_14号6様式!J9)","v":7330},{"$f":"IF(P_14号6様式!K9=\"\",\"\",P_14号6様式!K9)","v":9205},{"$f":"IF(P_14号6様式!L9=\"\",\"\",P_14号6様式!L9)","v":16535},{"$f":"IF(P_14号6様式!M9=\"\",\"\",P_14号6様式!M9)","v":54.520071973692403},{"$f":"IF(P_14号6様式!N9=\"\",\"\",P_14号6様式!N9)","v":52.1320852834113},null,null,{"$f":"IF(P_14号6様式!O9=\"\",\"\",P_14号6様式!O9)","v":53.220923982233302},null,null,{"$f":"IF(P_14号6様式!P9=\"\",\"\",P_14号6様式!P9)","v":42},{"$f":"IF(P_14号6様式!Q9=\"\",\"\",P_14号6様式!Q9)","v":"19:24:00"},{"$f":"IF(P_14号6様式!R9=\"\",\"\",P_14号6様式!R9)","v":44.984450271358},{"$f":"IF(P_14号6様式!S9=\"\",\"\",P_14号6様式!S9)","v":42.6600636717368},{"$f":"IF(P_14号6様式!T9=\"\",\"\",P_14号6様式!T9)","v":43.713385652702598}]
[{"$f":"IF(P_14号6様式!C10=\"\",\"\",P_14号6様式!C10)","v":"　 西之表市"},null,{"$f":"IF(P_14号6様式!D10=\"\",\"\",P_14号6様式!D10)","v":6208},{"$f":"IF(P_14号6様式!E10=\"\",\"\",P_14号6様式!E10)","v":7015},{"$f":"IF(P_14号6様式!F10=\"\",\"\",P_14号6様式!F10)","v":13223},{"$f":"IF(P_14号6様式!G10=\"\",\"\",P_14号6様式!G10)","v":3479},{"$f":"IF(P_14号6様式!H10=\"\",\"\",P_14号6様式!H10)","v":3631},{"$f":"IF(P_14号6様式!I10=\"\",\"\",P_14号6様式!I10)","v":7110},{"$f":"IF(P_14号6様式!J10=\"\",\"\",P_14号6様式!J10)","v":2729},{"$f":"IF(P_14号6様式!K10=\"\",\"\",P_14号6様式!K10)","v":3384},{"$f":"IF(P_14号6様式!L10=\"\",\"\",P_14号6様式!L10)","v":6113},{"$f":"IF(P_14号6様式!M10=\"\",\"\",P_14号6様式!M10)","v":56.040592783505097},{"$f":"IF(P_14号6様式!N10=\"\",\"\",P_14号6様式!N10)","v":51.760513186029897},null,null,{"$f":"IF(P_14号6様式!O10=\"\",\"\",P_14号6様式!O10)","v":53.769946305679497},null,null,{"$f":"IF(P_14号6様式!P10=\"\",\"\",P_14号6様式!P10)","v":40},{"$f":"IF(P_14号6様式!Q10=\"\",\"\",P_14号6様式!Q10)","v":"19:55:00"},{"$f":"IF(P_14号6様式!R10=\"\",\"\",P_14号6様式!R10)","v":58.698056565018199},{"$f":"IF(P_14号6様式!S10=\"\",\"\",P_14号6様式!S10)","v":54.334067143643402},{"$f":"IF(P_14号6様式!T10=\"\",\"\",P_14号6様式!T10)","v":56.365374715010702}]
[{"$f":"IF(P_14号6様式!C11=\"\",\"\",P_14号6様式!C11)","v":"　 垂水市"},null,{"$f":"IF(P_14号6様式!D11=\"\",\"\",P_14号6様式!D11)","v":6218},{"$f":"IF(P_14号6様式!E11=\"\",\"\",P_14号6様式!E11)","v":7207},{"$f":"IF(P_14号6様式!F11=\"\",\"\",P_14号6様式!F11)","v":13425},{"$f":"IF(P_14号6様式!G11=\"\",\"\",P_14号6様式!G11)","v":3743},{"$f":"IF(P_14号6様式!H11=\"\",\"\",P_14号6様式!H11)","v":4308},{"$f":"IF(P_14号6様式!I11=\"\",\"\",P_14号6様式!I11)","v":8051},{"$f":"IF(P_14号6様式!J11=\"\",\"\",P_14号6様式!J11)","v":2475},{"$f":"IF(P_14号6様式!K11=\"\",\"\",P_14号6様式!K11)","v":2899},{"$f":"IF(P_14号6様式!L11=\"\",\"\",P_14号6様式!L11)","v":5374},{"$f":"IF(P_14号6様式!M11=\"\",\"\",P_14号6様式!M11)","v":60.196204567385003},{"$f":"IF(P_14号6様式!N11=\"\",\"\",P_14号6様式!N11)","v":59.775218537533},null,null,{"$f":"IF(P_14号6様式!O11=\"\",\"\",P_14号6様式!O11)","v":59.970204841713198},null,null,{"$f":"IF(P_14号6様式!P11=\"\",\"\",P_14号6様式!P11)","v":30},{"$f":"IF(P_14号6様式!Q11=\"\",\"\",P_14号6様式!Q11)","v":"20:34:00"},{"$f":"IF(P_14号6様式!R11=\"\",\"\",P_14号6様式!R11)","v":54.820851914500999},{"$f":"IF(P_14号6様式!S11=\"\",\"\",P_14号6様式!S11)","v":53.804775649435797},{"$f":"IF(P_14号6様式!T11=\"\",\"\",P_14号6様式!T11)","v":54.2725663716814}]
[{"$f":"IF(P_14号6様式!C12=\"\",\"\",P_14号6様式!C12)","v":"　 薩摩川内市第１"},null,{"$f":"IF(P_14号6様式!D12=\"\",\"\",P_14号6様式!D12)","v":35569},{"$f":"IF(P_14号6様式!E12=\"\",\"\",P_14号6様式!E12)","v":39842},{"$f":"IF(P_14号6様式!F12=\"\",\"\",P_14号6様式!F12)","v":75411},{"$f":"IF(P_14号6様式!G12=\"\",\"\",P_14号6様式!G12)","v":21962},{"$f":"IF(P_14号6様式!H12=\"\",\"\",P_14号6様式!H12)","v":24462},{"$f":"IF(P_14号6様式!I12=\"\",\"\",P_14号6様式!I12)","v":46424},{"$f":"IF(P_14号6様式!J12=\"\",\"\",P_14号6様式!J12)","v":13607},{"$f":"IF(P_14号6様式!K12=\"\",\"\",P_14号6様式!K12)","v":15380},{"$f":"IF(P_14号6様式!L12=\"\",\"\",P_14号6様式!L12)","v":28987},{"$f":"IF(P_14号6様式!M12=\"\",\"\",P_14号6様式!M12)","v":61.744777755911102},{"$f":"IF(P_14号6様式!N12=\"\",\"\",P_14号6様式!N12)","v":61.397520204808998},null,null,{"$f":"IF(P_14号6様式!O12=\"\",\"\",P_14号6様式!O12)","v":61.5613106841177},null,null,{"$f":"IF(P_14号6様式!P12=\"\",\"\",P_14号6様式!P12)","v":28},{"$f":"IF(P_14号6様式!Q12=\"\",\"\",P_14号6様式!Q12)","v":"21:33:00"},{"$f":"IF(P_14号6様式!R12=\"\",\"\",P_14号6様式!R12)","v":59.254608755207997},{"$f":"IF(P_14号6様式!S12=\"\",\"\",P_14号6様式!S12)","v":57.047635753126002},{"$f":"IF(P_14号6様式!T12=\"\",\"\",P_14号6様式!T12)","v":58.079494055958101}]
[{"$f":"IF(P_14号6様式!C13=\"\",\"\",P_14号6様式!C13)","v":"　 薩摩川内市第２"},null,{"$f":"IF(P_14号6様式!D13=\"\",\"\",P_14号6様式!D13)","v":1039},{"$f":"IF(P_14号6様式!E13=\"\",\"\",P_14号6様式!E13)","v":1094},{"$f":"IF(P_14号6様式!F13=\"\",\"\",P_14号6様式!F13)","v":2133},{"$f":"IF(P_14号6様式!G13=\"\",\"\",P_14号6様式!G13)","v":768},{"$f":"IF(P_14号6様式!H13=\"\",\"\",P_14号6様式!H13)","v":784},{"$f":"IF(P_14号6様式!I13=\"\",\"\",P_14号6様式!I13)","v":1552},{"$f":"IF(P_14号6様式!J13=\"\",\"\",P_14号6様式!J13)","v":271},{"$f":"IF(P_14号6様式!K13=\"\",\"\",P_14号6様式!K13)","v":310},{"$f":"IF(P_14号6様式!L13=\"\",\"\",P_14号6様式!L13)","v":581},{"$f":"IF(P_14号6様式!M13=\"\",\"\",P_14号6様式!M13)","v":73.917228103946101},{"$f":"IF(P_14号6様式!N13=\"\",\"\",P_14号6様式!N13)","v":71.663619744058494},null,null,{"$f":"IF(P_14号6様式!O13=\"\",\"\",P_14号6様式!O13)","v":72.761368963900594},null,null,{"$f":"IF(P_14号6様式!P13=\"\",\"\",P_14号6様式!P13)","v":11},{"$f":"IF(P_14号6様式!Q13=\"\",\"\",P_14号6様式!Q13)","v":"19:53:00"},{"$f":"IF(P_14号6様式!R13=\"\",\"\",P_14号6様式!R13)","v":73.561151079136707},{"$f":"IF(P_14号6様式!S13=\"\",\"\",P_14号6様式!S13)","v":70.272502064409593},{"$f":"IF(P_14号6様式!T13=\"\",\"\",P_14号6様式!T13)","v":71.846749892380501}]
[{"$f":"IF(P_14号6様式!C14=\"\",\"\",P_14号6様式!C14)","v":"　 薩摩川内市第３"},null,{"$f":"IF(P_14号6様式!D14=\"\",\"\",P_14号6様式!D14)","v":1009},{"$f":"IF(P_14号6様式!E14=\"\",\"\",P_14号6様式!E14)","v":984},{"$f":"IF(P_14号6様式!F14=\"\",\"\",P_14号6様式!F14)","v":1993},{"$f":"IF(P_14号6様式!G14=\"\",\"\",P_14号6様式!G14)","v":742},{"$f":"IF(P_14号6様式!H14=\"\",\"\",P_14号6様式!H14)","v":663},{"$f":"IF(P_14号6様式!I14=\"\",\"\",P_14号6様式!I14)","v":1405},{"$f":"IF(P_14号6様式!J14=\"\",\"\",P_14号6様式!J14)","v":267},{"$f":"IF(P_14号6様式!K14=\"\",\"\",P_14号6様式!K14)","v":321},{"$f":"IF(P_14号6様式!L14=\"\",\"\",P_14号6様式!L14)","v":588},{"$f":"IF(P_14号6様式!M14=\"\",\"\",P_14号6様式!M14)","v":73.538156590683798},{"$f":"IF(P_14号6様式!N14=\"\",\"\",P_14号6様式!N14)","v":67.378048780487802},null,null,{"$f":"IF(P_14号6様式!O14=\"\",\"\",P_14号6様式!O14)","v":70.496738585047694},null,null,{"$f":"IF(P_14号6様式!P14=\"\",\"\",P_14号6様式!P14)","v":15},{"$f":"IF(P_14号6様式!Q14=\"\",\"\",P_14号6様式!Q14)","v":"18:59:00"},{"$f":"IF(P_14号6様式!R14=\"\",\"\",P_14号6様式!R14)","v":71.629213483146103},{"$f":"IF(P_14号6様式!S14=\"\",\"\",P_14号6様式!S14)","v":66.5150136487716},{"$f":"IF(P_14号6様式!T14=\"\",\"\",P_14号6様式!T14)","v":69.035532994923898}]
[{"$f":"IF(P_14号6様式!C15=\"\",\"\",P_14号6様式!C15)","v":"＊（薩摩川内市）計"},null,{"$f":"IF(P_14号6様式!D15=\"\",\"\",P_14号6様式!D15)","v":37617},{"$f":"IF(P_14号6様式!E15=\"\",\"\",P_14号6様式!E15)","v":41920},{"$f":"IF(P_14号6様式!F15=\"\",\"\",P_14号6様式!F15)","v":79537},{"$f":"IF(P_14号6様式!G15=\"\",\"\",P_14号6様式!G15)","v":23472},{"$f":"IF(P_14号6様式!H15=\"\",\"\",P_14号6様式!H15)","v":25909},{"$f":"IF(P_14号6様式!I15=\"\",\"\",P_14号6様式!I15)","v":49381},{"$f":"IF(P_14号6様式!J15=\"\",\"\",P_14号6様式!J15)","v":14145},{"$f":"IF(P_14号6様式!K15=\"\",\"\",P_14号6様式!K15)","v":16011},{"$f":"IF(P_14号6様式!L15=\"\",\"\",P_14号6様式!L15)","v":30156},{"$f":"IF(P_14号6様式!M15=\"\",\"\",P_14号6様式!M15)","v":62.397320360475298},{"$f":"IF(P_14号6様式!N15=\"\",\"\",P_14号6様式!N15)","v":61.805820610687},null,null,{"$f":"IF(P_14号6様式!O15=\"\",\"\",P_14号6様式!O15)","v":62.085570237751},null,null,{"$f":"IF(P_14号6様式!P15=\"\",\"\",P_14号6様式!P15)","v":""},{"$f":"IF(P_14号6様式!Q15=\"\",\"\",P_14号6様式!Q15)","v":"21:33:00"},{"$f":"IF(P_14号6様式!R15=\"\",\"\",P_14号6様式!R15)","v":60.0370748482081},{"$f":"IF(P_14号6様式!S15=\"\",\"\",P_14号6様式!S15)","v":57.673449084491999},{"$f":"IF(P_14号6様式!T15=\"\",\"\",P_14号6様式!T15)","v":58.7809514218457}]
[{"$f":"IF(P_14号6様式!C16=\"\",\"\",P_14号6様式!C16)","v":"　 日置市"},null,{"$f":"IF(P_14号6様式!D16=\"\",\"\",P_14号6様式!D16)","v":19095},{"$f":"IF(P_14号6様式!E16=\"\",\"\",P_14号6様式!E16)","v":22158},{"$f":"IF(P_14号6様式!F16=\"\",\"\",P_14号6様式!F16)","v":41253},{"$f":"IF(P_14号6様式!G16=\"\",\"\",P_14号6様式!G16)","v":11879},{"$f":"IF(P_14号6様式!H16=\"\",\"\",P_14号6様式!H16)","v":13563},{"$f":"IF(P_14号6様式!I16=\"\",\"\",P_14号6様式!I16)","v":25442},{"$f":"IF(P_14号6様式!J16=\"\",\"\",P_14号6様式!J16)","v":7216},{"$f":"IF(P_14号6様式!K16=\"\",\"\",P_14号6様式!K16)","v":8595},{"$f":"IF(P_14号6様式!L16=\"\",\"\",P_14号6様式!L16)","v":15811},{"$f":"IF(P_14号6様式!M16=\"\",\"\",P_14号6様式!M16)","v":62.210002618486499},{"$f":"IF(P_14号6様式!N16=\"\",\"\",P_14号6様式!N16)","v":61.210398050365598},null,null,{"$f":"IF(P_14号6様式!O16=\"\",\"\",P_14号6様式!O16)","v":61.673090441907199},null,null,{"$f":"IF(P_14号6様式!P16=\"\",\"\",P_14号6様式!P16)","v":27},{"$f":"IF(P_14号6様式!Q16=\"\",\"\",P_14号6様式!Q16)","v":"19:49:00"},{"$f":"IF(P_14号6様式!R16=\"\",\"\",P_14号6様式!R16)","v":58.9505847645137},{"$f":"IF(P_14号6様式!S16=\"\",\"\",P_14号6様式!S16)","v":56.688468775199397},{"$f":"IF(P_14号6様式!T16=\"\",\"\",P_14号6様式!T16)","v":57.728065078442803}]
[{"$f":"IF(P_14号6様式!C17=\"\",\"\",P_14号6様式!C17)","v":"　 曽於市"},null,{"$f":"IF(P_14号6様式!D17=\"\",\"\",P_14号6様式!D17)","v":14826},{"$f":"IF(P_14号6様式!E17=\"\",\"\",P_14号6様式!E17)","v":17225},{"$f":"IF(P_14号6様式!F17=\"\",\"\",P_14号6様式!F17)","v":32051},{"$f":"IF(P_14号6様式!G17=\"\",\"\",P_14号6様式!G17)","v":8539},{"$f":"IF(P_14号6様式!H17=\"\",\"\",P_14号6様式!H17)","v":9400},{"$f":"IF(P_14号6様式!I17=\"\",\"\",P_14号6様式!I17)","v":17939},{"$f":"IF(P_14号6様式!J17=\"\",\"\",P_14号6様式!J17)","v":6287},{"$f":"IF(P_14号6様式!K17=\"\",\"\",P_14号6様式!K17)","v":7825},{"$f":"IF(P_14号6様式!L17=\"\",\"\",P_14号6様式!L17)","v":14112},{"$f":"IF(P_14号6様式!M17=\"\",\"\",P_14号6様式!M17)","v":57.594765951706499},{"$f":"IF(P_14号6様式!N17=\"\",\"\",P_14号6様式!N17)","v":54.571843251088502},null,null,{"$f":"IF(P_14号6様式!O17=\"\",\"\",P_14号6様式!O17)","v":55.970172537518302},null,null,{"$f":"IF(P_14号6様式!P17=\"\",\"\",P_14号6様式!P17)","v":39},{"$f":"IF(P_14号6様式!Q17=\"\",\"\",P_14号6様式!Q17)","v":"21:03:00"},{"$f":"IF(P_14号6様式!R17=\"\",\"\",P_14号6様式!R17)","v":53.6459355176247},{"$f":"IF(P_14号6様式!S17=\"\",\"\",P_14号6様式!S17)","v":50.276492495203698},{"$f":"IF(P_14号6様式!T17=\"\",\"\",P_14号6様式!T17)","v":51.837155060127799}]
[{"$f":"IF(P_14号6様式!C18=\"\",\"\",P_14号6様式!C18)","v":"　 霧島市"},null,{"$f":"IF(P_14号6様式!D18=\"\",\"\",P_14号6様式!D18)","v":48818},{"$f":"IF(P_14号6様式!E18=\"\",\"\",P_14号6様式!E18)","v":54518},{"$f":"IF(P_14号6様式!F18=\"\",\"\",P_14号6様式!F18)","v":103336},{"$f":"IF(P_14号6様式!G18=\"\",\"\",P_14号6様式!G18)","v":25690},{"$f":"IF(P_14号6様式!H18=\"\",\"\",P_14号6様式!H18)","v":28102},{"$f":"IF(P_14号6様式!I18=\"\",\"\",P_14号6様式!I18)","v":53792},{"$f":"IF(P_14号6様式!J18=\"\",\"\",P_14号6様式!J18)","v":23128},{"$f":"IF(P_14号6様式!K18=\"\",\"\",P_14号6様式!K18)","v":26416},{"$f":"IF(P_14号6様式!L18=\"\",\"\",P_14号6様式!L18)","v":49544},{"$f":"IF(P_14号6様式!M18=\"\",\"\",P_14号6様式!M18)","v":52.624032119300303},{"$f":"IF(P_14号6様式!N18=\"\",\"\",P_14号6様式!N18)","v":51.546278293407703},null,null,{"$f":"IF(P_14号6様式!O18=\"\",\"\",P_14号6様式!O18)","v":52.055430827591501},null,null,{"$f":"IF(P_14号6様式!P18=\"\",\"\",P_14号6様式!P18)","v":43},{"$f":"IF(P_14号6様式!Q18=\"\",\"\",P_14号6様式!Q18)","v":"20:58:00"},{"$f":"IF(P_14号6様式!R18=\"\",\"\",P_14号6様式!R18)","v":49.983196807393398},{"$f":"IF(P_14号6様式!S18=\"\",\"\",P_14号6様式!S18)","v":48.136709520177099},{"$f":"IF(P_14号6様式!T18=\"\",\"\",P_14号6様式!T18)","v":49.004035162146401}]
[{"$f":"IF(P_14号6様式!C19=\"\",\"\",P_14号6様式!C19)","v":"　 いちき串木野市"},null,{"$f":"IF(P_14号6様式!D19=\"\",\"\",P_14号6様式!D19)","v":11227},{"$f":"IF(P_14号6様式!E19=\"\",\"\",P_14号6様式!E19)","v":13002},{"$f":"IF(P_14号6様式!F19=\"\",\"\",P_14号6様式!F19)","v":24229},{"$f":"IF(P_14号6様式!G19=\"\",\"\",P_14号6様式!G19)","v":8293},{"$f":"IF(P_14号6様式!H19=\"\",\"\",P_14号6様式!H19)","v":10014},{"$f":"IF(P_14号6様式!I19=\"\",\"\",P_14号6様式!I19)","v":18307},{"$f":"IF(P_14号6様式!J19=\"\",\"\",P_14号6様式!J19)","v":2934},{"$f":"IF(P_14号6様式!K19=\"\",\"\",P_14号6様式!K19)","v":2988},{"$f":"IF(P_14号6様式!L19=\"\",\"\",P_14号6様式!L19)","v":5922},{"$f":"IF(P_14号6様式!M19=\"\",\"\",P_14号6様式!M19)","v":73.866571657611104},{"$f":"IF(P_14号6様式!N19=\"\",\"\",P_14号6様式!N19)","v":77.018920166128297},null,null,{"$f":"IF(P_14号6様式!O19=\"\",\"\",P_14号6様式!O19)","v":75.558215361756595},null,null,{"$f":"IF(P_14号6様式!P19=\"\",\"\",P_14号6様式!P19)","v":7},{"$f":"IF(P_14号6様式!Q19=\"\",\"\",P_14号6様式!Q19)","v":"19:46:00"},{"$f":"IF(P_14号6様式!R19=\"\",\"\",P_14号6様式!R19)","v":56.3398692810458},{"$f":"IF(P_14号6様式!S19=\"\",\"\",P_14号6様式!S19)","v":56.7443952912949},{"$f":"IF(P_14号6様式!T19=\"\",\"\",P_14号6様式!T19)","v":56.557310978558803}]
[{"$f":"IF(P_14号6様式!C20=\"\",\"\",P_14号6様式!C20)","v":"　 南さつま市"},null,{"$f":"IF(P_14号6様式!D20=\"\",\"\",P_14号6様式!D20)","v":13624},{"$f":"IF(P_14号6様式!E20=\"\",\"\",P_14号6様式!E20)","v":16363},{"$f":"IF(P_14号6様式!F20=\"\",\"\",P_14号6様式!F20)","v":29987},{"$f":"IF(P_14号6様式!G20=\"\",\"\",P_14号6様式!G20)","v":8254},{"$f":"IF(P_14号6様式!H20=\"\",\"\",P_14号6様式!H20)","v":9574},{"$f":"IF(P_14号6様式!I20=\"\",\"\",P_14号6様式!I20)","v":17828},{"$f":"IF(P_14号6様式!J20=\"\",\"\",P_14号6様式!J20)","v":5370},{"$f":"IF(P_14号6様式!K20=\"\",\"\",P_14号6様式!K20)","v":6789},{"$f":"IF(P_14号6様式!L20=\"\",\"\",P_14号6様式!L20)","v":12159},{"$f":"IF(P_14号6様式!M20=\"\",\"\",P_14号6様式!M20)","v":60.584263065179101},{"$f":"IF(P_14号6様式!N20=\"\",\"\",P_14号6様式!N20)","v":58.510053168734302},null,null,{"$f":"IF(P_14号6様式!O20=\"\",\"\",P_14号6様式!O20)","v":59.452429386067301},null,null,{"$f":"IF(P_14号6様式!P20=\"\",\"\",P_14号6様式!P20)","v":31},{"$f":"IF(P_14号6様式!Q20=\"\",\"\",P_14号6様式!Q20)","v":"20:14:00"},{"$f":"IF(P_14号6様式!R20=\"\",\"\",P_14号6様式!R20)","v":60.857122415396702},{"$f":"IF(P_14号6様式!S20=\"\",\"\",P_14号6様式!S20)","v":58.028871858848703},{"$f":"IF(P_14号6様式!T20=\"\",\"\",P_14号6様式!T20)","v":59.311911716974997}]
[{"$f":"IF(P_14号6様式!C21=\"\",\"\",P_14号6様式!C21)","v":"　 志布志市"},null,{"$f":"IF(P_14号6様式!D21=\"\",\"\",P_14号6様式!D21)","v":12490},{"$f":"IF(P_14号6様式!E21=\"\",\"\",P_14号6様式!E21)","v":14110},{"$f":"IF(P_14号6様式!F21=\"\",\"\",P_14号6様式!F21)","v":26600},{"$f":"IF(P_14号6様式!G21=\"\",\"\",P_14号6様式!G21)","v":6972},{"$f":"IF(P_14号6様式!H21=\"\",\"\",P_14号6様式!H21)","v":7932},{"$f":"IF(P_14号6様式!I21=\"\",\"\",P_14号6様式!I21)","v":14904},{"$f":"IF(P_14号6様式!J21=\"\",\"\",P_14号6様式!J21)","v":5518},{"$f":"IF(P_14号6様式!K21=\"\",\"\",P_14号6様式!K21)","v":6178},{"$f":"IF(P_14号6様式!L21=\"\",\"\",P_14号6様式!L21)","v":11696},{"$f":"IF(P_14号6様式!M21=\"\",\"\",P_14号6様式!M21)","v":55.820656525220201},{"$f":"IF(P_14号6様式!N21=\"\",\"\",P_14号6様式!N21)","v":56.2154500354359},null,null,{"$f":"IF(P_14号6様式!O21=\"\",\"\",P_14号6様式!O21)","v":56.030075187969899},null,null,{"$f":"IF(P_14号6様式!P21=\"\",\"\",P_14号6様式!P21)","v":38},{"$f":"IF(P_14号6様式!Q21=\"\",\"\",P_14号6様式!Q21)","v":"20:49:00"},{"$f":"IF(P_14号6様式!R21=\"\",\"\",P_14号6様式!R21)","v":51.719795356158997},{"$f":"IF(P_14号6様式!S21=\"\",\"\",P_14号6様式!S21)","v":48.972364949312599},{"$f":"IF(P_14号6様式!T21=\"\",\"\",P_14号6様式!T21)","v":50.260080422031201}]
[{"$f":"IF(P_14号6様式!C22=\"\",\"\",P_14号6様式!C22)","v":"　 奄美市"},null,{"$f":"IF(P_14号6様式!D22=\"\",\"\",P_14号6様式!D22)","v":16952},{"$f":"IF(P_14号6様式!E22=\"\",\"\",P_14号6様式!E22)","v":19253},{"$f":"IF(P_14号6様式!F22=\"\",\"\",P_14号6様式!F22)","v":36205},{"$f":"IF(P_14号6様式!G22=\"\",\"\",P_14号6様式!G22)","v":10514},{"$f":"IF(P_14号6様式!H22=\"\",\"\",P_14号6様式!H22)","v":12062},{"$f":"IF(P_14号6様式!I22=\"\",\"\",P_14号6様式!I22)","v":22576},{"$f":"IF(P_14号6様式!J22=\"\",\"\",P_14号6様式!J22)","v":6438},{"$f":"IF(P_14号6様式!K22=\"\",\"\",P_14号6様式!K22)","v":7191},{"$f":"IF(P_14号6様式!L22=\"\",\"\",P_14号6様式!L22)","v":13629},{"$f":"IF(P_14号6様式!M22=\"\",\"\",P_14号6様式!M22)","v":62.022180273714},{"$f":"IF(P_14号6様式!N22=\"\",\"\",P_14号6様式!N22)","v":62.6499766270192},null,null,{"$f":"IF(P_14号6様式!O22=\"\",\"\",P_14号6様式!O22)","v":62.356028172904303},null,null,{"$f":"IF(P_14号6様式!P22=\"\",\"\",P_14号6様式!P22)","v":26},{"$f":"IF(P_14号6様式!Q22=\"\",\"\",P_14号6様式!Q22)","v":"20:05:00"},{"$f":"IF(P_14号6様式!R22=\"\",\"\",P_14号6様式!R22)","v":53.431976983148402},{"$f":"IF(P_14号6様式!S22=\"\",\"\",P_14号6様式!S22)","v":54.113907827959203},{"$f":"IF(P_14号6様式!T22=\"\",\"\",P_14号6様式!T22)","v":53.796047950079398}]
[{"$f":"IF(P_14号6様式!C23=\"\",\"\",P_14号6様式!C23)","v":"　 南九州市"},null,{"$f":"IF(P_14号6様式!D23=\"\",\"\",P_14号6様式!D23)","v":14272},{"$f":"IF(P_14号6様式!E23=\"\",\"\",P_14号6様式!E23)","v":16662},{"$f":"IF(P_14号6様式!F23=\"\",\"\",P_14号6様式!F23)","v":30934},{"$f":"IF(P_14号6様式!G23=\"\",\"\",P_14号6様式!G23)","v":8331},{"$f":"IF(P_14号6様式!H23=\"\",\"\",P_14号6様式!H23)","v":9137},{"$f":"IF(P_14号6様式!I23=\"\",\"\",P_14号6様式!I23)","v":17468},{"$f":"IF(P_14号6様式!J23=\"\",\"\",P_14号6様式!J23)","v":5941},{"$f":"IF(P_14号6様式!K23=\"\",\"\",P_14号6様式!K23)","v":7525},{"$f":"IF(P_14号6様式!L23=\"\",\"\",P_14号6様式!L23)","v":13466},{"$f":"IF(P_14号6様式!M23=\"\",\"\",P_14号6様式!M23)","v":58.3730381165919},{"$f":"IF(P_14号6様式!N23=\"\",\"\",P_14号6様式!N23)","v":54.837354459248601},null,null,{"$f":"IF(P_14号6様式!O23=\"\",\"\",P_14号6様式!O23)","v":56.468610590289003},null,null,{"$f":"IF(P_14号6様式!P23=\"\",\"\",P_14号6様式!P23)","v":36},{"$f":"IF(P_14号6様式!Q23=\"\",\"\",P_14号6様式!Q23)","v":"22:01:00"},{"$f":"IF(P_14号6様式!R23=\"\",\"\",P_14号6様式!R23)","v":55.631352752575197},{"$f":"IF(P_14号6様式!S23=\"\",\"\",P_14号6様式!S23)","v":52.222801831565498},{"$f":"IF(P_14号6様式!T23=\"\",\"\",P_14号6様式!T23)","v":53.788543494610202}]
[{"$f":"IF(P_14号6様式!C24=\"\",\"\",P_14号6様式!C24)","v":"　 伊佐市"},null,{"$f":"IF(P_14号6様式!D24=\"\",\"\",P_14号6様式!D24)","v":10532},{"$f":"IF(P_14号6様式!E24=\"\",\"\",P_14号6様式!E24)","v":12502},{"$f":"IF(P_14号6様式!F24=\"\",\"\",P_14号6様式!F24)","v":23034},{"$f":"IF(P_14号6様式!G24=\"\",\"\",P_14号6様式!G24)","v":6682},{"$f":"IF(P_14号6様式!H24=\"\",\"\",P_14号6様式!H24)","v":7754},{"$f":"IF(P_14号6様式!I24=\"\",\"\",P_14号6様式!I24)","v":14436},{"$f":"IF(P_14号6様式!J24=\"\",\"\",P_14号6様式!J24)","v":3850},{"$f":"IF(P_14号6様式!K24=\"\",\"\",P_14号6様式!K24)","v":4748},{"$f":"IF(P_14号6様式!L24=\"\",\"\",P_14号6様式!L24)","v":8598},{"$f":"IF(P_14号6様式!M24=\"\",\"\",P_14号6様式!M24)","v":63.4447398404861},{"$f":"IF(P_14号6様式!N24=\"\",\"\",P_14号6様式!N24)","v":62.022076467765203},null,null,{"$f":"IF(P_14号6様式!O24=\"\",\"\",P_14号6様式!O24)","v":62.672570982026599},null,null,{"$f":"IF(P_14号6様式!P24=\"\",\"\",P_14号6様式!P24)","v":25},{"$f":"IF(P_14号6様式!Q24=\"\",\"\",P_14号6様式!Q24)","v":"20:43:00"},{"$f":"IF(P_14号6様式!R24=\"\",\"\",P_14号6様式!R24)","v":54.481434058898799},{"$f":"IF(P_14号6様式!S24=\"\",\"\",P_14号6様式!S24)","v":52.296522735957197},{"$f":"IF(P_14号6様式!T24=\"\",\"\",P_14号6様式!T24)","v":53.291144510595799}]
[{"$f":"IF(P_14号6様式!C25=\"\",\"\",P_14号6様式!C25)","v":"　 姶良市"},null,{"$f":"IF(P_14号6様式!D25=\"\",\"\",P_14号6様式!D25)","v":29022},{"$f":"IF(P_14号6様式!E25=\"\",\"\",P_14号6様式!E25)","v":34192},{"$f":"IF(P_14号6様式!F25=\"\",\"\",P_14号6様式!F25)","v":63214},{"$f":"IF(P_14号6様式!G25=\"\",\"\",P_14号6様式!G25)","v":16996},{"$f":"IF(P_14号6様式!H25=\"\",\"\",P_14号6様式!H25)","v":19633},{"$f":"IF(P_14号6様式!I25=\"\",\"\",P_14号6様式!I25)","v":36629},{"$f":"IF(P_14号6様式!J25=\"\",\"\",P_14号6様式!J25)","v":12026},{"$f":"IF(P_14号6様式!K25=\"\",\"\",P_14号6様式!K25)","v":14559},{"$f":"IF(P_14号6様式!L25=\"\",\"\",P_14号6様式!L25)","v":26585},{"$f":"IF(P_14号6様式!M25=\"\",\"\",P_14号6様式!M25)","v":58.562469850458299},{"$f":"IF(P_14号6様式!N25=\"\",\"\",P_14号6様式!N25)","v":57.419864295741696},null,null,{"$f":"IF(P_14号6様式!O25=\"\",\"\",P_14号6様式!O25)","v":57.944442686746598},null,null,{"$f":"IF(P_14号6様式!P25=\"\",\"\",P_14号6様式!P25)","v":33},{"$f":"IF(P_14号6様式!Q25=\"\",\"\",P_14号6様式!Q25)","v":"21:25:00"},{"$f":"IF(P_14号6様式!R25=\"\",\"\",P_14号6様式!R25)","v":51.808900430436502},{"$f":"IF(P_14号6様式!S25=\"\",\"\",P_14号6様式!S25)","v":49.600095857172803},{"$f":"IF(P_14号6様式!T25=\"\",\"\",P_14号6様式!T25)","v":50.609815591764999}]
[{"$f":"IF(P_14号6様式!C26=\"\",\"\",P_14号6様式!C26)","v":"　 三島村"},null,{"$f":"IF(P_14号6様式!D26=\"\",\"\",P_14号6様式!D26)","v":137},{"$f":"IF(P_14号6様式!E26=\"\",\"\",P_14号6様式!E26)","v":155},{"$f":"IF(P_14号6様式!F26=\"\",\"\",P_14号6様式!F26)","v":292},{"$f":"IF(P_14号6様式!G26=\"\",\"\",P_14号6様式!G26)","v":118},{"$f":"IF(P_14号6様式!H26=\"\",\"\",P_14号6様式!H26)","v":122},{"$f":"IF(P_14号6様式!I26=\"\",\"\",P_14号6様式!I26)","v":240},{"$f":"IF(P_14号6様式!J26=\"\",\"\",P_14号6様式!J26)","v":19},{"$f":"IF(P_14号6様式!K26=\"\",\"\",P_14号6様式!K26)","v":33},{"$f":"IF(P_14号6様式!L26=\"\",\"\",P_14号6様式!L26)","v":52},{"$f":"IF(P_14号6様式!M26=\"\",\"\",P_14号6様式!M26)","v":86.131386861313899},{"$f":"IF(P_14号6様式!N26=\"\",\"\",P_14号6様式!N26)","v":78.709677419354804},null,null,{"$f":"IF(P_14号6様式!O26=\"\",\"\",P_14号6様式!O26)","v":82.191780821917803},null,null,{"$f":"IF(P_14号6様式!P26=\"\",\"\",P_14号6様式!P26)","v":5},{"$f":"IF(P_14号6様式!Q26=\"\",\"\",P_14号6様式!Q26)","v":"17:54:00"},{"$f":"IF(P_14号6様式!R26=\"\",\"\",P_14号6様式!R26)","v":86.486486486486498},{"$f":"IF(P_14号6様式!S26=\"\",\"\",P_14号6様式!S26)","v":86.274509803921603},{"$f":"IF(P_14号6様式!T26=\"\",\"\",P_14号6様式!T26)","v":86.378737541528196}]
[{"$f":"IF(P_14号6様式!C27=\"\",\"\",P_14号6様式!C27)","v":"　 十島村"},null,{"$f":"IF(P_14号6様式!D27=\"\",\"\",P_14号6様式!D27)","v":287},{"$f":"IF(P_14号6様式!E27=\"\",\"\",P_14号6様式!E27)","v":274},{"$f":"IF(P_14号6様式!F27=\"\",\"\",P_14号6様式!F27)","v":561},{"$f":"IF(P_14号6様式!G27=\"\",\"\",P_14号6様式!G27)","v":246},{"$f":"IF(P_14号6様式!H27=\"\",\"\",P_14号6様式!H27)","v":219},{"$f":"IF(P_14号6様式!I27=\"\",\"\",P_14号6様式!I27)","v":465},{"$f":"IF(P_14号6様式!J27=\"\",\"\",P_14号6様式!J27)","v":41},{"$f":"IF(P_14号6様式!K27=\"\",\"\",P_14号6様式!K27)","v":55},{"$f":"IF(P_14号6様式!L27=\"\",\"\",P_14号6様式!L27)","v":96},{"$f":"IF(P_14号6様式!M27=\"\",\"\",P_14号6様式!M27)","v":85.714285714285694},{"$f":"IF(P_14号6様式!N27=\"\",\"\",P_14号6様式!N27)","v":79.927007299270102},null,null,{"$f":"IF(P_14号6様式!O27=\"\",\"\",P_14号6様式!O27)","v":82.887700534759404},null,null,{"$f":"IF(P_14号6様式!P27=\"\",\"\",P_14号6様式!P27)","v":4},{"$f":"IF(P_14号6様式!Q27=\"\",\"\",P_14号6様式!Q27)","v":"18:04:00"},{"$f":"IF(P_14号6様式!R27=\"\",\"\",P_14号6様式!R27)","v":89.208633093525194},{"$f":"IF(P_14号6様式!S27=\"\",\"\",P_14号6様式!S27)","v":81.297709923664101},{"$f":"IF(P_14号6様式!T27=\"\",\"\",P_14号6様式!T27)","v":85.370370370370395}]
[{"$f":"IF(P_14号6様式!C28=\"\",\"\",P_14号6様式!C28)","v":"＊（鹿児島郡）計"},null,{"$f":"IF(P_14号6様式!D28=\"\",\"\",P_14号6様式!D28)","v":424},{"$f":"IF(P_14号6様式!E28=\"\",\"\",P_14号6様式!E28)","v":429},{"$f":"IF(P_14号6様式!F28=\"\",\"\",P_14号6様式!F28)","v":853},{"$f":"IF(P_14号6様式!G28=\"\",\"\",P_14号6様式!G28)","v":364},{"$f":"IF(P_14号6様式!H28=\"\",\"\",P_14号6様式!H28)","v":341},{"$f":"IF(P_14号6様式!I28=\"\",\"\",P_14号6様式!I28)","v":705},{"$f":"IF(P_14号6様式!J28=\"\",\"\",P_14号6様式!J28)","v":60},{"$f":"IF(P_14号6様式!K28=\"\",\"\",P_14号6様式!K28)","v":88},{"$f":"IF(P_14号6様式!L28=\"\",\"\",P_14号6様式!L28)","v":148},{"$f":"IF(P_14号6様式!M28=\"\",\"\",P_14号6様式!M28)","v":85.849056603773604},{"$f":"IF(P_14号6様式!N28=\"\",\"\",P_14号6様式!N28)","v":79.487179487179503},null,null,{"$f":"IF(P_14号6様式!O28=\"\",\"\",P_14号6様式!O28)","v":82.649472450175907},null,null,{"$f":"IF(P_14号6様式!P28=\"\",\"\",P_14号6様式!P28)","v":""},{"$f":"IF(P_14号6様式!Q28=\"\",\"\",P_14号6様式!Q28)","v":"18:04:00"},{"$f":"IF(P_14号6様式!R28=\"\",\"\",P_14号6様式!R28)","v":88.262910798122107},{"$f":"IF(P_14号6様式!S28=\"\",\"\",P_14号6様式!S28)","v":83.132530120481903},{"$f":"IF(P_14号6様式!T28=\"\",\"\",P_14号6様式!T28)","v":85.731272294887006}]
[{"$f":"IF(P_14号6様式!C29=\"\",\"\",P_14号6様式!C29)","v":"　 さつま町"},null,{"$f":"IF(P_14号6様式!D29=\"\",\"\",P_14号6様式!D29)","v":8609},{"$f":"IF(P_14号6様式!E29=\"\",\"\",P_14号6様式!E29)","v":10059},{"$f":"IF(P_14号6様式!F29=\"\",\"\",P_14号6様式!F29)","v":18668},{"$f":"IF(P_14号6様式!G29=\"\",\"\",P_14号6様式!G29)","v":5777},{"$f":"IF(P_14号6様式!H29=\"\",\"\",P_14号6様式!H29)","v":6549},{"$f":"IF(P_14号6様式!I29=\"\",\"\",P_14号6様式!I29)","v":12326},{"$f":"IF(P_14号6様式!J29=\"\",\"\",P_14号6様式!J29)","v":2832},{"$f":"IF(P_14号6様式!K29=\"\",\"\",P_14号6様式!K29)","v":3510},{"$f":"IF(P_14号6様式!L29=\"\",\"\",P_14号6様式!L29)","v":6342},{"$f":"IF(P_14号6様式!M29=\"\",\"\",P_14号6様式!M29)","v":67.104193286095907},{"$f":"IF(P_14号6様式!N29=\"\",\"\",P_14号6様式!N29)","v":65.105875335520395},null,null,{"$f":"IF(P_14号6様式!O29=\"\",\"\",P_14号6様式!O29)","v":66.027426612384801},null,null,{"$f":"IF(P_14号6様式!P29=\"\",\"\",P_14号6様式!P29)","v":18},{"$f":"IF(P_14号6様式!Q29=\"\",\"\",P_14号6様式!Q29)","v":"19:56:00"},{"$f":"IF(P_14号6様式!R29=\"\",\"\",P_14号6様式!R29)","v":64.856982613572598},{"$f":"IF(P_14号6様式!S29=\"\",\"\",P_14号6様式!S29)","v":61.754154078549902},{"$f":"IF(P_14号6様式!T29=\"\",\"\",P_14号6様式!T29)","v":63.172194596811401}]
[{"$f":"IF(P_14号6様式!C30=\"\",\"\",P_14号6様式!C30)","v":"＊（薩摩郡）計"},null,{"$f":"IF(P_14号6様式!D30=\"\",\"\",P_14号6様式!D30)","v":8609},{"$f":"IF(P_14号6様式!E30=\"\",\"\",P_14号6様式!E30)","v":10059},{"$f":"IF(P_14号6様式!F30=\"\",\"\",P_14号6様式!F30)","v":18668},{"$f":"IF(P_14号6様式!G30=\"\",\"\",P_14号6様式!G30)","v":5777},{"$f":"IF(P_14号6様式!H30=\"\",\"\",P_14号6様式!H30)","v":6549},{"$f":"IF(P_14号6様式!I30=\"\",\"\",P_14号6様式!I30)","v":12326},{"$f":"IF(P_14号6様式!J30=\"\",\"\",P_14号6様式!J30)","v":2832},{"$f":"IF(P_14号6様式!K30=\"\",\"\",P_14号6様式!K30)","v":3510},{"$f":"IF(P_14号6様式!L30=\"\",\"\",P_14号6様式!L30)","v":6342},{"$f":"IF(P_14号6様式!M30=\"\",\"\",P_14号6様式!M30)","v":67.104193286095907},{"$f":"IF(P_14号6様式!N30=\"\",\"\",P_14号6様式!N30)","v":65.105875335520395},null,null,{"$f":"IF(P_14号6様式!O30=\"\",\"\",P_14号6様式!O30)","v":66.027426612384801},null,null,{"$f":"IF(P_14号6様式!P30=\"\",\"\",P_14号6様式!P30)","v":""},{"$f":"IF(P_14号6様式!Q30=\"\",\"\",P_14号6様式!Q30)","v":"19:56:00"},{"$f":"IF(P_14号6様式!R30=\"\",\"\",P_14号6様式!R30)","v":64.856982613572598},{"$f":"IF(P_14号6様式!S30=\"\",\"\",P_14号6様式!S30)","v":61.754154078549902},{"$f":"IF(P_14号6様式!T30=\"\",\"\",P_14号6様式!T30)","v":63.172194596811401}]
[{"$f":"IF(P_14号6様式!C31=\"\",\"\",P_14号6様式!C31)","v":"　 長島町"},null,{"$f":"IF(P_14号6様式!D31=\"\",\"\",P_14号6様式!D31)","v":4256},{"$f":"IF(P_14号6様式!E31=\"\",\"\",P_14号6様式!E31)","v":4628},{"$f":"IF(P_14号6様式!F31=\"\",\"\",P_14号6様式!F31)","v":8884},{"$f":"IF(P_14号6様式!G31=\"\",\"\",P_14号6様式!G31)","v":3182},{"$f":"IF(P_14号6様式!H31=\"\",\"\",P_14号6様式!H31)","v":3352},{"$f":"IF(P_14号6様式!I31=\"\",\"\",P_14号6様式!I31)","v":6534},{"$f":"IF(P_14号6様式!J31=\"\",\"\",P_14号6様式!J31)","v":1074},{"$f":"IF(P_14号6様式!K31=\"\",\"\",P_14号6様式!K31)","v":1276},{"$f":"IF(P_14号6様式!L31=\"\",\"\",P_14号6様式!L31)","v":2350},{"$f":"IF(P_14号6様式!M31=\"\",\"\",P_14号6様式!M31)","v":74.765037593984999},{"$f":"IF(P_14号6様式!N31=\"\",\"\",P_14号6様式!N31)","v":72.428694900604995},null,null,{"$f":"IF(P_14号6様式!O31=\"\",\"\",P_14号6様式!O31)","v":73.547951373255302},null,null,{"$f":"IF(P_14号6様式!P31=\"\",\"\",P_14号6様式!P31)","v":9},{"$f":"IF(P_14号6様式!Q31=\"\",\"\",P_14号6様式!Q31)","v":"20:33:00"},{"$f":"IF(P_14号6様式!R31=\"\",\"\",P_14号6様式!R31)","v":72.602426184481601},{"$f":"IF(P_14号6様式!S31=\"\",\"\",P_14号6様式!S31)","v":68.597304128053906},{"$f":"IF(P_14号6様式!T31=\"\",\"\",P_14号6様式!T31)","v":70.516617308325095}]
[{"$f":"IF(P_14号6様式!C32=\"\",\"\",P_14号6様式!C32)","v":"＊（出水郡）計"},null,{"$f":"IF(P_14号6様式!D32=\"\",\"\",P_14号6様式!D32)","v":4256},{"$f":"IF(P_14号6様式!E32=\"\",\"\",P_14号6様式!E32)","v":4628},{"$f":"IF(P_14号6様式!F32=\"\",\"\",P_14号6様式!F32)","v":8884},{"$f":"IF(P_14号6様式!G32=\"\",\"\",P_14号6様式!G32)","v":3182},{"$f":"IF(P_14号6様式!H32=\"\",\"\",P_14号6様式!H32)","v":3352},{"$f":"IF(P_14号6様式!I32=\"\",\"\",P_14号6様式!I32)","v":6534},{"$f":"IF(P_14号6様式!J32=\"\",\"\",P_14号6様式!J32)","v":1074},{"$f":"IF(P_14号6様式!K32=\"\",\"\",P_14号6様式!K32)","v":1276},{"$f":"IF(P_14号6様式!L32=\"\",\"\",P_14号6様式!L32)","v":2350},{"$f":"IF(P_14号6様式!M32=\"\",\"\",P_14号6様式!M32)","v":74.765037593984999},{"$f":"IF(P_14号6様式!N32=\"\",\"\",P_14号6様式!N32)","v":72.428694900604995},null,null,{"$f":"IF(P_14号6様式!O32=\"\",\"\",P_14号6様式!O32)","v":73.547951373255302},null,null,{"$f":"IF(P_14号6様式!P32=\"\",\"\",P_14号6様式!P32)","v":""},{"$f":"IF(P_14号6様式!Q32=\"\",\"\",P_14号6様式!Q32)","v":"20:33:00"},{"$f":"IF(P_14号6様式!R32=\"\",\"\",P_14号6様式!R32)","v":72.602426184481601},{"$f":"IF(P_14号6様式!S32=\"\",\"\",P_14号6様式!S32)","v":68.597304128053906},{"$f":"IF(P_14号6様式!T32=\"\",\"\",P_14号6様式!T32)","v":70.516617308325095}]
[{"$f":"IF(P_14号6様式!C33=\"\",\"\",P_14号6様式!C33)","v":"　 湧水町"},null,{"$f":"IF(P_14号6様式!D33=\"\",\"\",P_14号6様式!D33)","v":3850},{"$f":"IF(P_14号6様式!E33=\"\",\"\",P_14号6様式!E33)","v":4511},{"$f":"IF(P_14号6様式!F33=\"\",\"\",P_14号6様式!F33)","v":8361},{"$f":"IF(P_14号6様式!G33=\"\",\"\",P_14号6様式!G33)","v":2557},{"$f":"IF(P_14号6様式!H33=\"\",\"\",P_14号6様式!H33)","v":2830},{"$f":"IF(P_14号6様式!I33=\"\",\"\",P_14号6様式!I33)","v":5387},{"$f":"IF(P_14号6様式!J33=\"\",\"\",P_14号6様式!J33)","v":1293},{"$f":"IF(P_14号6様式!K33=\"\",\"\",P_14号6様式!K33)","v":1681},{"$f":"IF(P_14号6様式!L33=\"\",\"\",P_14号6様式!L33)","v":2974},{"$f":"IF(P_14号6様式!M33=\"\",\"\",P_14号6様式!M33)","v":66.415584415584405},{"$f":"IF(P_14号6様式!N33=\"\",\"\",P_14号6様式!N33)","v":62.735535358013699},null,null,{"$f":"IF(P_14号6様式!O33=\"\",\"\",P_14号6様式!O33)","v":64.430092094247101},null,null,{"$f":"IF(P_14号6様式!P33=\"\",\"\",P_14号6様式!P33)","v":20},{"$f":"IF(P_14号6様式!Q33=\"\",\"\",P_14号6様式!Q33)","v":"19:57:00"},{"$f":"IF(P_14号6様式!R33=\"\",\"\",P_14号6様式!R33)","v":58.066951925497101},{"$f":"IF(P_14号6様式!S33=\"\",\"\",P_14号6様式!S33)","v":53.831578947368399},{"$f":"IF(P_14号6様式!T33=\"\",\"\",P_14号6様式!T33)","v":55.760632809813103}]
[{"$f":"IF(P_14号6様式!C34=\"\",\"\",P_14号6様式!C34)","v":"＊（姶良郡）計"},null,{"$f":"IF(P_14号6様式!D34=\"\",\"\",P_14号6様式!D34)","v":3850},{"$f":"IF(P_14号6様式!E34=\"\",\"\",P_14号6様式!E34)","v":4511},{"$f":"IF(P_14号6様式!F34=\"\",\"\",P_14号6様式!F34)","v":8361},{"$f":"IF(P_14号6様式!G34=\"\",\"\",P_14号6様式!G34)","v":2557},{"$f":"IF(P_14号6様式!H34=\"\",\"\",P_14号6様式!H34)","v":2830},{"$f":"IF(P_14号6様式!I34=\"\",\"\",P_14号6様式!I34)","v":5387},{"$f":"IF(P_14号6様式!J34=\"\",\"\",P_14号6様式!J34)","v":1293},{"$f":"IF(P_14号6様式!K34=\"\",\"\",P_14号6様式!K34)","v":1681},{"$f":"IF(P_14号6様式!L34=\"\",\"\",P_14号6様式!L34)","v":2974},{"$f":"IF(P_14号6様式!M34=\"\",\"\",P_14号6様式!M34)","v":66.415584415584405},{"$f":"IF(P_14号6様式!N34=\"\",\"\",P_14号6様式!N34)","v":62.735535358013699},null,null,{"$f":"IF(P_14号6様式!O34=\"\",\"\",P_14号6様式!O34)","v":64.430092094247101},null,null,{"$f":"IF(P_14号6様式!P34=\"\",\"\",P_14号6様式!P34)","v":""},{"$f":"IF(P_14号6様式!Q34=\"\",\"\",P_14号6様式!Q34)","v":"19:57:00"},{"$f":"IF(P_14号6様式!R34=\"\",\"\",P_14号6様式!R34)","v":58.066951925497101},{"$f":"IF(P_14号6様式!S34=\"\",\"\",P_14号6様式!S34)","v":53.831578947368399},{"$f":"IF(P_14号6様式!T34=\"\",\"\",P_14号6様式!T34)","v":55.760632809813103}]
[{"$f":"IF(P_14号6様式!C35=\"\",\"\",P_14号6様式!C35)","v":"　 大崎町"},null,{"$f":"IF(P_14号6様式!D35=\"\",\"\",P_14号6様式!D35)","v":5452},{"$f":"IF(P_14号6様式!E35=\"\",\"\",P_14号6様式!E35)","v":5999},{"$f":"IF(P_14号6様式!F35=\"\",\"\",P_14号6様式!F35)","v":11451},{"$f":"IF(P_14号6様式!G35=\"\",\"\",P_14号6様式!G35)","v":3120},{"$f":"IF(P_14号6様式!H35=\"\",\"\",P_14号6様式!H35)","v":3419},{"$f":"IF(P_14号6様式!I35=\"\",\"\",P_14号6様式!I35)","v":6539},{"$f":"IF(P_14号6様式!J35=\"\",\"\",P_14号6様式!J35)","v":2332},{"$f":"IF(P_14号6様式!K35=\"\",\"\",P_14号6様式!K35)","v":2580},{"$f":"IF(P_14号6様式!L35=\"\",\"\",P_14号6様式!L35)","v":4912},{"$f":"IF(P_14号6様式!M35=\"\",\"\",P_14号6様式!M35)","v":57.226705796038097},{"$f":"IF(P_14号6様式!N35=\"\",\"\",P_14号6様式!N35)","v":56.992832138689799},null,null,{"$f":"IF(P_14号6様式!O35=\"\",\"\",P_14号6様式!O35)","v":57.104183040782502},null,null,{"$f":"IF(P_14号6様式!P35=\"\",\"\",P_14号6様式!P35)","v":34},{"$f":"IF(P_14号6様式!Q35=\"\",\"\",P_14号6様式!Q35)","v":"20:24:00"},{"$f":"IF(P_14号6様式!R35=\"\",\"\",P_14号6様式!R35)","v":51.663685152057198},{"$f":"IF(P_14号6様式!S35=\"\",\"\",P_14号6様式!S35)","v":50.402706185566998},{"$f":"IF(P_14号6様式!T35=\"\",\"\",P_14号6様式!T35)","v":51.0001695202577}]
[{"$f":"IF(P_14号6様式!C36=\"\",\"\",P_14号6様式!C36)","v":"＊（曽於郡）計"},null,{"$f":"IF(P_14号6様式!D36=\"\",\"\",P_14号6様式!D36)","v":5452},{"$f":"IF(P_14号6様式!E36=\"\",\"\",P_14号6様式!E36)","v":5999},{"$f":"IF(P_14号6様式!F36=\"\",\"\",P_14号6様式!F36)","v":11451},{"$f":"IF(P_14号6様式!G36=\"\",\"\",P_14号6様式!G36)","v":3120},{"$f":"IF(P_14号6様式!H36=\"\",\"\",P_14号6様式!H36)","v":3419},{"$f":"IF(P_14号6様式!I36=\"\",\"\",P_14号6様式!I36)","v":6539},{"$f":"IF(P_14号6様式!J36=\"\",\"\",P_14号6様式!J36)","v":2332},{"$f":"IF(P_14号6様式!K36=\"\",\"\",P_14号6様式!K36)","v":2580},{"$f":"IF(P_14号6様式!L36=\"\",\"\",P_14号6様式!L36)","v":4912},{"$f":"IF(P_14号6様式!M36=\"\",\"\",P_14号6様式!M36)","v":57.226705796038097},{"$f":"IF(P_14号6様式!N36=\"\",\"\",P_14号6様式!N36)","v":56.992832138689799},null,null,{"$f":"IF(P_14号6様式!O36=\"\",\"\",P_14号6様式!O36)","v":57.104183040782502},null,null,{"$f":"IF(P_14号6様式!P36=\"\",\"\",P_14号6様式!P36)","v":""},{"$f":"IF(P_14号6様式!Q36=\"\",\"\",P_14号6様式!Q36)","v":"20:24:00"},{"$f":"IF(P_14号6様式!R36=\"\",\"\",P_14号6様式!R36)","v":51.663685152057198},{"$f":"IF(P_14号6様式!S36=\"\",\"\",P_14号6様式!S36)","v":50.402706185566998},{"$f":"IF(P_14号6様式!T36=\"\",\"\",P_14号6様式!T36)","v":51.0001695202577}]
[{"$f":"IF(P_14号6様式!C37=\"\",\"\",P_14号6様式!C37)","v":"　 東串良町"},null,{"$f":"IF(P_14号6様式!D37=\"\",\"\",P_14号6様式!D37)","v":2595},{"$f":"IF(P_14号6様式!E37=\"\",\"\",P_14号6様式!E37)","v":2985},{"$f":"IF(P_14号6様式!F37=\"\",\"\",P_14号6様式!F37)","v":5580},{"$f":"IF(P_14号6様式!G37=\"\",\"\",P_14号6様式!G37)","v":1477},{"$f":"IF(P_14号6様式!H37=\"\",\"\",P_14号6様式!H37)","v":1691},{"$f":"IF(P_14号6様式!I37=\"\",\"\",P_14号6様式!I37)","v":3168},{"$f":"IF(P_14号6様式!J37=\"\",\"\",P_14号6様式!J37)","v":1118},{"$f":"IF(P_14号6様式!K37=\"\",\"\",P_14号6様式!K37)","v":1294},{"$f":"IF(P_14号6様式!L37=\"\",\"\",P_14号6様式!L37)","v":2412},{"$f":"IF(P_14号6様式!M37=\"\",\"\",P_14号6様式!M37)","v":56.917148362235103},{"$f":"IF(P_14号6様式!N37=\"\",\"\",P_14号6様式!N37)","v":56.649916247906198},null,null,{"$f":"IF(P_14号6様式!O37=\"\",\"\",P_14号6様式!O37)","v":56.774193548387103},null,null,{"$f":"IF(P_14号6様式!P37=\"\",\"\",P_14号6様式!P37)","v":35},{"$f":"IF(P_14号6様式!Q37=\"\",\"\",P_14号6様式!Q37)","v":"19:17:00"},{"$f":"IF(P_14号6様式!R37=\"\",\"\",P_14号6様式!R37)","v":49.9813363195222},{"$f":"IF(P_14号6様式!S37=\"\",\"\",P_14号6様式!S37)","v":50.828729281767998},{"$f":"IF(P_14号6様式!T37=\"\",\"\",P_14号6様式!T37)","v":50.434329395413499}]
[{"$f":"IF(P_14号6様式!C38=\"\",\"\",P_14号6様式!C38)","v":"　 錦江町"},null,{"$f":"IF(P_14号6様式!D38=\"\",\"\",P_14号6様式!D38)","v":3202},{"$f":"IF(P_14号6様式!E38=\"\",\"\",P_14号6様式!E38)","v":3645},{"$f":"IF(P_14号6様式!F38=\"\",\"\",P_14号6様式!F38)","v":6847},{"$f":"IF(P_14号6様式!G38=\"\",\"\",P_14号6様式!G38)","v":2068},{"$f":"IF(P_14号6様式!H38=\"\",\"\",P_14号6様式!H38)","v":2281},{"$f":"IF(P_14号6様式!I38=\"\",\"\",P_14号6様式!I38)","v":4349},{"$f":"IF(P_14号6様式!J38=\"\",\"\",P_14号6様式!J38)","v":1134},{"$f":"IF(P_14号6様式!K38=\"\",\"\",P_14号6様式!K38)","v":1364},{"$f":"IF(P_14号6様式!L38=\"\",\"\",P_14号6様式!L38)","v":2498},{"$f":"IF(P_14号6様式!M38=\"\",\"\",P_14号6様式!M38)","v":64.584634603372905},{"$f":"IF(P_14号6様式!N38=\"\",\"\",P_14号6様式!N38)","v":62.5788751714678},null,null,{"$f":"IF(P_14号6様式!O38=\"\",\"\",P_14号6様式!O38)","v":63.5168687016211},null,null,{"$f":"IF(P_14号6様式!P38=\"\",\"\",P_14号6様式!P38)","v":21},{"$f":"IF(P_14号6様式!Q38=\"\",\"\",P_14号6様式!Q38)","v":"19:59:00"},{"$f":"IF(P_14号6様式!R38=\"\",\"\",P_14号6様式!R38)","v":61.032028469750898},{"$f":"IF(P_14号6様式!S38=\"\",\"\",P_14号6様式!S38)","v":59.772492244053801},{"$f":"IF(P_14号6様式!T38=\"\",\"\",P_14号6様式!T38)","v":60.3591160220994}]
[{"$f":"IF(P_14号6様式!C39=\"\",\"\",P_14号6様式!C39)","v":"　 南大隅町"},null,{"$f":"IF(P_14号6様式!D39=\"\",\"\",P_14号6様式!D39)","v":3183},{"$f":"IF(P_14号6様式!E39=\"\",\"\",P_14号6様式!E39)","v":3589},{"$f":"IF(P_14号6様式!F39=\"\",\"\",P_14号6様式!F39)","v":6772},{"$f":"IF(P_14号6様式!G39=\"\",\"\",P_14号6様式!G39)","v":2088},{"$f":"IF(P_14号6様式!H39=\"\",\"\",P_14号6様式!H39)","v":2344},{"$f":"IF(P_14号6様式!I39=\"\",\"\",P_14号6様式!I39)","v":4432},{"$f":"IF(P_14号6様式!J39=\"\",\"\",P_14号6様式!J39)","v":1095},{"$f":"IF(P_14号6様式!K39=\"\",\"\",P_14号6様式!K39)","v":1245},{"$f":"IF(P_14号6様式!L39=\"\",\"\",P_14号6様式!L39)","v":2340},{"$f":"IF(P_14号6様式!M39=\"\",\"\",P_14号6様式!M39)","v":65.598491988689901},{"$f":"IF(P_14号6様式!N39=\"\",\"\",P_14号6様式!N39)","v":65.310671496238498},null,null,{"$f":"IF(P_14号6様式!O39=\"\",\"\",P_14号6様式!O39)","v":65.445953927938604},null,null,{"$f":"IF(P_14号6様式!P39=\"\",\"\",P_14号6様式!P39)","v":19},{"$f":"IF(P_14号6様式!Q39=\"\",\"\",P_14号6様式!Q39)","v":"19:55:00"},{"$f":"IF(P_14号6様式!R39=\"\",\"\",P_14号6様式!R39)","v":63.053297199638699},{"$f":"IF(P_14号6様式!S39=\"\",\"\",P_14号6様式!S39)","v":60.472279260780297},{"$f":"IF(P_14号6様式!T39=\"\",\"\",P_14号6様式!T39)","v":61.659969516419601}]
[{"$f":"IF(P_14号6様式!C40=\"\",\"\",P_14号6様式!C40)","v":"　 肝付町"},null,{"$f":"IF(P_14号6様式!D40=\"\",\"\",P_14号6様式!D40)","v":6412},{"$f":"IF(P_14号6様式!E40=\"\",\"\",P_14号6様式!E40)","v":7147},{"$f":"IF(P_14号6様式!F40=\"\",\"\",P_14号6様式!F40)","v":13559},{"$f":"IF(P_14号6様式!G40=\"\",\"\",P_14号6様式!G40)","v":3682},{"$f":"IF(P_14号6様式!H40=\"\",\"\",P_14号6様式!H40)","v":3925},{"$f":"IF(P_14号6様式!I40=\"\",\"\",P_14号6様式!I40)","v":7607},{"$f":"IF(P_14号6様式!J40=\"\",\"\",P_14号6様式!J40)","v":2730},{"$f":"IF(P_14号6様式!K40=\"\",\"\",P_14号6様式!K40)","v":3222},{"$f":"IF(P_14号6様式!L40=\"\",\"\",P_14号6様式!L40)","v":5952},{"$f":"IF(P_14号6様式!M40=\"\",\"\",P_14号6様式!M40)","v":57.4235807860262},{"$f":"IF(P_14号6様式!N40=\"\",\"\",P_14号6様式!N40)","v":54.918147474464803},null,null,{"$f":"IF(P_14号6様式!O40=\"\",\"\",P_14号6様式!O40)","v":56.102957445239298},null,null,{"$f":"IF(P_14号6様式!P40=\"\",\"\",P_14号6様式!P40)","v":37},{"$f":"IF(P_14号6様式!Q40=\"\",\"\",P_14号6様式!Q40)","v":"20:11:00"},{"$f":"IF(P_14号6様式!R40=\"\",\"\",P_14号6様式!R40)","v":51.899684637332903},{"$f":"IF(P_14号6様式!S40=\"\",\"\",P_14号6様式!S40)","v":49.932813759741997},{"$f":"IF(P_14号6様式!T40=\"\",\"\",P_14号6様式!T40)","v":50.8616410183675}]
[{"$f":"IF(P_14号6様式!C41=\"\",\"\",P_14号6様式!C41)","v":"＊（肝属郡）計"},null,{"$f":"IF(P_14号6様式!D41=\"\",\"\",P_14号6様式!D41)","v":15392},{"$f":"IF(P_14号6様式!E41=\"\",\"\",P_14号6様式!E41)","v":17366},{"$f":"IF(P_14号6様式!F41=\"\",\"\",P_14号6様式!F41)","v":32758},{"$f":"IF(P_14号6様式!G41=\"\",\"\",P_14号6様式!G41)","v":9315},{"$f":"IF(P_14号6様式!H41=\"\",\"\",P_14号6様式!H41)","v":10241},{"$f":"IF(P_14号6様式!I41=\"\",\"\",P_14号6様式!I41)","v":19556},{"$f":"IF(P_14号6様式!J41=\"\",\"\",P_14号6様式!J41)","v":6077},{"$f":"IF(P_14号6様式!K41=\"\",\"\",P_14号6様式!K41)","v":7125},{"$f":"IF(P_14号6様式!L41=\"\",\"\",P_14号6様式!L41)","v":13202},{"$f":"IF(P_14号6様式!M41=\"\",\"\",P_14号6様式!M41)","v":60.518451143451102},{"$f":"IF(P_14号6様式!N41=\"\",\"\",P_14号6様式!N41)","v":58.9715536105033},null,null,{"$f":"IF(P_14号6様式!O41=\"\",\"\",P_14号6様式!O41)","v":59.698394285365403},null,null,{"$f":"IF(P_14号6様式!P41=\"\",\"\",P_14号6様式!P41)","v":""},{"$f":"IF(P_14号6様式!Q41=\"\",\"\",P_14号6様式!Q41)","v":"20:11:00"},{"$f":"IF(P_14号6様式!R41=\"\",\"\",P_14号6様式!R41)","v":55.810616929698703},{"$f":"IF(P_14号6様式!S41=\"\",\"\",P_14号6様式!S41)","v":54.411201662746798},{"$f":"IF(P_14号6様式!T41=\"\",\"\",P_14号6様式!T41)","v":55.064988051524203}]
[{"$f":"IF(P_14号6様式!C42=\"\",\"\",P_14号6様式!C42)","v":"　 中種子町"},null,{"$f":"IF(P_14号6様式!D42=\"\",\"\",P_14号6様式!D42)","v":3256},{"$f":"IF(P_14号6様式!E42=\"\",\"\",P_14号6様式!E42)","v":3679},{"$f":"IF(P_14号6様式!F42=\"\",\"\",P_14号6様式!F42)","v":6935},{"$f":"IF(P_14号6様式!G42=\"\",\"\",P_14号6様式!G42)","v":2127},{"$f":"IF(P_14号6様式!H42=\"\",\"\",P_14号6様式!H42)","v":2262},{"$f":"IF(P_14号6様式!I42=\"\",\"\",P_14号6様式!I42)","v":4389},{"$f":"IF(P_14号6様式!J42=\"\",\"\",P_14号6様式!J42)","v":1129},{"$f":"IF(P_14号6様式!K42=\"\",\"\",P_14号6様式!K42)","v":1417},{"$f":"IF(P_14号6様式!L42=\"\",\"\",P_14号6様式!L42)","v":2546},{"$f":"IF(P_14号6様式!M42=\"\",\"\",P_14号6様式!M42)","v":65.325552825552805},{"$f":"IF(P_14号6様式!N42=\"\",\"\",P_14号6様式!N42)","v":61.484098939929297},null,null,{"$f":"IF(P_14号6様式!O42=\"\",\"\",P_14号6様式!O42)","v":63.287671232876697},null,null,{"$f":"IF(P_14号6様式!P42=\"\",\"\",P_14号6様式!P42)","v":22},{"$f":"IF(P_14号6様式!Q42=\"\",\"\",P_14号6様式!Q42)","v":"19:47:00"},{"$f":"IF(P_14号6様式!R42=\"\",\"\",P_14号6様式!R42)","v":64.134382566585998},{"$f":"IF(P_14号6様式!S42=\"\",\"\",P_14号6様式!S42)","v":59.607218683651801},{"$f":"IF(P_14号6様式!T42=\"\",\"\",P_14号6様式!T42)","v":61.722285067873301}]
[{"$f":"IF(P_14号6様式!C43=\"\",\"\",P_14号6様式!C43)","v":"　 南種子町"},null,{"$f":"IF(P_14号6様式!D43=\"\",\"\",P_14号6様式!D43)","v":2398},{"$f":"IF(P_14号6様式!E43=\"\",\"\",P_14号6様式!E43)","v":2506},{"$f":"IF(P_14号6様式!F43=\"\",\"\",P_14号6様式!F43)","v":4904},{"$f":"IF(P_14号6様式!G43=\"\",\"\",P_14号6様式!G43)","v":1548},{"$f":"IF(P_14号6様式!H43=\"\",\"\",P_14号6様式!H43)","v":1526},{"$f":"IF(P_14号6様式!I43=\"\",\"\",P_14号6様式!I43)","v":3074},{"$f":"IF(P_14号6様式!J43=\"\",\"\",P_14号6様式!J43)","v":850},{"$f":"IF(P_14号6様式!K43=\"\",\"\",P_14号6様式!K43)","v":980},{"$f":"IF(P_14号6様式!L43=\"\",\"\",P_14号6様式!L43)","v":1830},{"$f":"IF(P_14号6様式!M43=\"\",\"\",P_14号6様式!M43)","v":64.553794829024199},{"$f":"IF(P_14号6様式!N43=\"\",\"\",P_14号6様式!N43)","v":60.893854748603303},null,null,{"$f":"IF(P_14号6様式!O43=\"\",\"\",P_14号6様式!O43)","v":62.683523654159899},null,null,{"$f":"IF(P_14号6様式!P43=\"\",\"\",P_14号6様式!P43)","v":24},{"$f":"IF(P_14号6様式!Q43=\"\",\"\",P_14号6様式!Q43)","v":"19:57:00"},{"$f":"IF(P_14号6様式!R43=\"\",\"\",P_14号6様式!R43)","v":61.554192229038897},{"$f":"IF(P_14号6様式!S43=\"\",\"\",P_14号6様式!S43)","v":58.2077716098335},{"$f":"IF(P_14号6様式!T43=\"\",\"\",P_14号6様式!T43)","v":59.855043285685497}]
[{"$f":"IF(P_14号6様式!C44=\"\",\"\",P_14号6様式!C44)","v":"　 屋久島町"},null,{"$f":"IF(P_14号6様式!D44=\"\",\"\",P_14号6様式!D44)","v":5226},{"$f":"IF(P_14号6様式!E44=\"\",\"\",P_14号6様式!E44)","v":5440},{"$f":"IF(P_14号6様式!F44=\"\",\"\",P_14号6様式!F44)","v":10666},{"$f":"IF(P_14号6様式!G44=\"\",\"\",P_14号6様式!G44)","v":3195},{"$f":"IF(P_14号6様式!H44=\"\",\"\",P_14号6様式!H44)","v":3279},{"$f":"IF(P_14号6様式!I44=\"\",\"\",P_14号6様式!I44)","v":6474},{"$f":"IF(P_14号6様式!J44=\"\",\"\",P_14号6様式!J44)","v":2031},{"$f":"IF(P_14号6様式!K44=\"\",\"\",P_14号6様式!K44)","v":2161},{"$f":"IF(P_14号6様式!L44=\"\",\"\",P_14号6様式!L44)","v":4192},{"$f":"IF(P_14号6様式!M44=\"\",\"\",P_14号6様式!M44)","v":61.136624569460402},{"$f":"IF(P_14号6様式!N44=\"\",\"\",P_14号6様式!N44)","v":60.275735294117702},null,null,{"$f":"IF(P_14号6様式!O44=\"\",\"\",P_14号6様式!O44)","v":60.697543596474802},null,null,{"$f":"IF(P_14号6様式!P44=\"\",\"\",P_14号6様式!P44)","v":29},{"$f":"IF(P_14号6様式!Q44=\"\",\"\",P_14号6様式!Q44)","v":"20:00:00"},{"$f":"IF(P_14号6様式!R44=\"\",\"\",P_14号6様式!R44)","v":63.051296611773601},{"$f":"IF(P_14号6様式!S44=\"\",\"\",P_14号6様式!S44)","v":62.535714285714299},{"$f":"IF(P_14号6様式!T44=\"\",\"\",P_14号6様式!T44)","v":62.785996508315698}]
[]
["市　計",null,{"$f":"IF(P_14号6様式!U2=\"\",\"\",P_14号6様式!U2)","v":562591},{"$f":"IF(P_14号6様式!V2=\"\",\"\",P_14号6様式!V2)","v":656612},{"$f":"IF(P_14号6様式!W2=\"\",\"\",P_14号6様式!W2)","v":1219203},{"$f":"IF(P_14号6様式!X2=\"\",\"\",P_14号6様式!X2)","v":310508},{"$f":"IF(P_14号6様式!Y2=\"\",\"\",P_14号6様式!Y2)","v":355720},{"$f":"IF(P_14号6様式!Z2=\"\",\"\",P_14号6様式!Z2)","v":666228},{"$f":"IF(P_14号6様式!AA2=\"\",\"\",P_14号6様式!AA2)","v":252083},{"$f":"IF(P_14号6様式!AB2=\"\",\"\",P_14号6様式!AB2)","v":300892},{"$f":"IF(P_14号6様式!AC2=\"\",\"\",P_14号6様式!AC2)","v":552975},{"$f":"IF(P_14号6様式!AD2=\"\",\"\",P_14号6様式!AD2)","v":55.192493303305604},{"$f":"IF(P_14号6様式!AE2=\"\",\"\",P_14号6様式!AE2)","v":54.1750683813272},null,null,{"$f":"IF(P_14号6様式!AF2=\"\",\"\",P_14号6様式!AF2)","v":54.644550579353897},null,null,null,{"$f":"IF(P_14号6様式!AG2=\"\",\"\",P_14号6様式!AG2)","v":"22:23:00"},{"$f":"IF(P_14号6様式!AH2=\"\",\"\",P_14号6様式!AH2)","v":50.094993084072897},{"$f":"IF(P_14号6様式!AI2=\"\",\"\",P_14号6様式!AI2)","v":47.918205402105897},{"$f":"IF(P_14号6様式!AJ2=\"\",\"\",P_14号6様式!AJ2)","v":48.918743078512598}]
["町村計",null,{"$f":"IF(P_14号6様式!AK2=\"\",\"\",P_14号6様式!AK2)","v":76392},{"$f":"IF(P_14号6様式!AL2=\"\",\"\",P_14号6様式!AL2)","v":83247},{"$f":"IF(P_14号6様式!AM2=\"\",\"\",P_14号6様式!AM2)","v":159639},{"$f":"IF(P_14号6様式!AN2=\"\",\"\",P_14号6様式!AN2)","v":52014},{"$f":"IF(P_14号6様式!AO2=\"\",\"\",P_14号6様式!AO2)","v":55063},{"$f":"IF(P_14号6様式!AP2=\"\",\"\",P_14号6様式!AP2)","v":107077},{"$f":"IF(P_14号6様式!AQ2=\"\",\"\",P_14号6様式!AQ2)","v":24378},{"$f":"IF(P_14号6様式!AR2=\"\",\"\",P_14号6様式!AR2)","v":28184},{"$f":"IF(P_14号6様式!AS2=\"\",\"\",P_14号6様式!AS2)","v":52562},{"$f":"IF(P_14号6様式!AT2=\"\",\"\",P_14号6様式!AT2)","v":68.088281495444505},{"$f":"IF(P_14号6様式!AU2=\"\",\"\",P_14号6様式!AU2)","v":66.1441253138251},null,null,{"$f":"IF(P_14号6様式!AV2=\"\",\"\",P_14号6様式!AV2)","v":67.0744617543332},null,null,null,{"$f":"IF(P_14号6様式!AW2=\"\",\"\",P_14号6様式!AW2)","v":"23:02:00"},{"$f":"IF(P_14号6様式!AX2=\"\",\"\",P_14号6様式!AX2)","v":62.897873752456803},{"$f":"IF(P_14号6様式!AY2=\"\",\"\",P_14号6様式!AY2)","v":60.991092216983901},{"$f":"IF(P_14号6様式!AZ2=\"\",\"\",P_14号6様式!AZ2)","v":61.8983137300146}]
["県計",null,{"$f":"IF(P_14号6様式!BA2=\"\",\"\",P_14号6様式!BA2)","v":638983},{"$f":"IF(P_14号6様式!BB2=\"\",\"\",P_14号6様式!BB2)","v":739859},{"$f":"IF(P_14号6様式!BC2=\"\",\"\",P_14号6様式!BC2)","v":1378842},{"$f":"IF(P_14号6様式!BD2=\"\",\"\",P_14号6様式!BD2)","v":362522},{"$f":"IF(P_14号6様式!BE2=\"\",\"\",P_14号6様式!BE2)","v":410783},{"$f":"IF(P_14号6様式!BF2=\"\",\"\",P_14号6様式!BF2)","v":773305},{"$f":"IF(P_14号6様式!BG2=\"\",\"\",P_14号6様式!BG2)","v":276461},{"$f":"IF(P_14号6様式!BH2=\"\",\"\",P_14号6様式!BH2)","v":329076},{"$f":"IF(P_14号6様式!BI2=\"\",\"\",P_14号6様式!BI2)","v":605537},{"$f":"IF(P_14号6様式!BJ2=\"\",\"\",P_14号6様式!BJ2)","v":56.7342167162507},{"$f":"IF(P_14号6様式!BK2=\"\",\"\",P_14号6様式!BK2)","v":55.521795369117598},null,null,{"$f":"IF(P_14号6様式!BL2=\"\",\"\",P_14号6様式!BL2)","v":56.083655705294703},null,null,null,{"$f":"IF(P_14号6様式!BM2=\"\",\"\",P_14号6様式!BM2)","v":"23:02:00"},{"$f":"IF(P_14号6様式!BN2=\"\",\"\",P_14号6様式!BN2)","v":51.672871809149001},{"$f":"IF(P_14号6様式!BO2=\"\",\"\",P_14号6様式!BO2)","v":49.4399490850547},{"$f":"IF(P_14号6様式!BP2=\"\",\"\",P_14号6様式!BP2)","v":50.470599509798198}]
[]
["第14号の6様式",null,null,null,null,null,null,null,null,null,null,null,null,null,null,null,null,null,null,null,null,{"$f":"IF(P_14号6様式!A45=\"\",\" ページ\", P_14号6様式!A45 & \"ページ\")","v":"2ページ"}]
[null,null,null,null,null,null,"投 票 速 報（国内・在外合計）",null,null,null,null,null,null,"中間報告",null,null,{"$f":"IF(P_14号6様式!BR45=\"\",\"第　　　回\",\"第 　\" & P_14号6様式!BR45 & \"　回\")","v":"第　　　回"},null,null,null,{"$f":"IF(P_14号6様式!BS45=\"\",\"時    　分  現在\",P_14号6様式!BS45)","v":"時    　分  現在"}]
[null,{"$f":"IF(パラメタシート!B1=\"\",\"\",パラメタシート!B1)","v":"2017-10-22"},null,null,null,null,null,null,null,null,null,null,null,"結了報告",null,null,null,null,null,null,{"$f":"IF(P_14号6様式!BM45=\"\",\"時     　  分　　結了\",P_14号6様式!BM45)","v":"23:02:00"}]
[null,{"$f":"IF(P_14号6様式!BQ45=\"\",\"\",P_14号6様式!BQ45)","v":"衆議院比例代表選出議員選挙"},null,null,null,null,"（ 建 制 順 ）",null,null,null,null,null,null,null,null,null,null,null,null,null,null,"鹿 児 島 県"]
[]
["市区町村名",null,"当日有権者数合計（X'）\n（当日有権者見込合計（X))",null,null,"（Y)\n投 票 者 数 合 計",null,null,"（Z)\n棄 権 者 数 合 計",null,null,"（W)",null,null,null,null,null,null,"投\n票\n率\n順\n位","投票\n結了\n時刻","前回選挙の投票率"]
[null,null,null,null,null,null,null,null,null,null,null,"投 票 率  =",null,"（ Y ）","(","（ Y ）",")"]
[null,null,null,null,null,null,null,null,null,null,null,null,null,"（X'）",null,"（ X ）"]
[null,null,"男","女","計","男","女","計","男","女","計","男","女",null,null,"計",null,null,null,null,"男","女","計"]
[{"$f":"IF(P_14号6様式!C45=\"\",\"\",P_14号6様式!C45)","v":"＊（熊毛郡）計"},null,{"$f":"IF(P_14号6様式!D45=\"\",\"\",P_14号6様式!D45)","v":10880},{"$f":"IF(P_14号6様式!E45=\"\",\"\",P_14号6様式!E45)","v":11625},{"$f":"IF(P_14号6様式!F45=\"\",\"\",P_14号6様式!F45)","v":22505},{"$f":"IF(P_14号6様式!G45=\"\",\"\",P_14号6様式!G45)","v":6870},{"$f":"IF(P_14号6様式!H45=\"\",\"\",P_14号6様式!H45)","v":7067},{"$f":"IF(P_14号6様式!I45=\"\",\"\",P_14号6様式!I45)","v":13937},{"$f":"IF(P_14号6様式!J45=\"\",\"\",P_14号6様式!J45)","v":4010},{"$f":"IF(P_14号6様式!K45=\"\",\"\",P_14号6様式!K45)","v":4558},{"$f":"IF(P_14号6様式!L45=\"\",\"\",P_14号6様式!L45)","v":8568},{"$f":"IF(P_14号6様式!M45=\"\",\"\",P_14号6様式!M45)","v":63.143382352941202},{"$f":"IF(P_14号6様式!N45=\"\",\"\",P_14号6様式!N45)","v":60.791397849462399},null,null,{"$f":"IF(P_14号6様式!O45=\"\",\"\",P_14号6様式!O45)","v":61.928460342146202},null,null,{"$f":"IF(P_14号6様式!P45=\"\",\"\",P_14号6様式!P45)","v":""},{"$f":"IF(P_14号6様式!Q45=\"\",\"\",P_14号6様式!Q45)","v":"20:00:00"},{"$f":"IF(P_14号6様式!R45=\"\",\"\",P_14号6様式!R45)","v":63.043872371283499},{"$f":"IF(P_14号6様式!S45=\"\",\"\",P_14号6様式!S45)","v":60.689655172413801},{"$f":"IF(P_14号6様式!T45=\"\",\"\",P_14号6様式!T45)","v":61.822703080010498}]
[{"$f":"IF(P_14号6様式!C46=\"\",\"\",P_14号6様式!C46)","v":"　 大和村"},null,{"$f":"IF(P_14号6様式!D46=\"\",\"\",P_14号6様式!D46)","v":629},{"$f":"IF(P_14号6様式!E46=\"\",\"\",P_14号6様式!E46)","v":688},{"$f":"IF(P_14号6様式!F46=\"\",\"\",P_14号6様式!F46)","v":1317},{"$f":"IF(P_14号6様式!G46=\"\",\"\",P_14号6様式!G46)","v":479},{"$f":"IF(P_14号6様式!H46=\"\",\"\",P_14号6様式!H46)","v":503},{"$f":"IF(P_14号6様式!I46=\"\",\"\",P_14号6様式!I46)","v":982},{"$f":"IF(P_14号6様式!J46=\"\",\"\",P_14号6様式!J46)","v":150},{"$f":"IF(P_14号6様式!K46=\"\",\"\",P_14号6様式!K46)","v":185},{"$f":"IF(P_14号6様式!L46=\"\",\"\",P_14号6様式!L46)","v":335},{"$f":"IF(P_14号6様式!M46=\"\",\"\",P_14号6様式!M46)","v":76.152623211446794},{"$f":"IF(P_14号6様式!N46=\"\",\"\",P_14号6様式!N46)","v":73.110465116279101},null,null,{"$f":"IF(P_14号6様式!O46=\"\",\"\",P_14号6様式!O46)","v":74.563401670463193},null,null,{"$f":"IF(P_14号6様式!P46=\"\",\"\",P_14号6様式!P46)","v":8},{"$f":"IF(P_14号6様式!Q46=\"\",\"\",P_14号6様式!Q46)","v":"18:39:00"},{"$f":"IF(P_14号6様式!R46=\"\",\"\",P_14号6様式!R46)","v":73.363774733637698},{"$f":"IF(P_14号6様式!S46=\"\",\"\",P_14号6様式!S46)","v":74.145006839945296},{"$f":"IF(P_14号6様式!T46=\"\",\"\",P_14号6様式!T46)","v":73.775216138328503}]
[{"$f":"IF(P_14号6様式!C47=\"\",\"\",P_14号6様式!C47)","v":"　 宇検村"},null,{"$f":"IF(P_14号6様式!D47=\"\",\"\",P_14号6様式!D47)","v":747},{"$f":"IF(P_14号6様式!E47=\"\",\"\",P_14号6様式!E47)","v":810},{"$f":"IF(P_14号6様式!F47=\"\",\"\",P_14号6様式!F47)","v":1557},{"$f":"IF(P_14号6様式!G47=\"\",\"\",P_14号6様式!G47)","v":642},{"$f":"IF(P_14号6様式!H47=\"\",\"\",P_14号6様式!H47)","v":710},{"$f":"IF(P_14号6様式!I47=\"\",\"\",P_14号6様式!I47)","v":1352},{"$f":"IF(P_14号6様式!J47=\"\",\"\",P_14号6様式!J47)","v":105},{"$f":"IF(P_14号6様式!K47=\"\",\"\",P_14号6様式!K47)","v":100},{"$f":"IF(P_14号6様式!L47=\"\",\"\",P_14号6様式!L47)","v":205},{"$f":"IF(P_14号6様式!M47=\"\",\"\",P_14号6様式!M47)","v":85.943775100401595},{"$f":"IF(P_14号6様式!N47=\"\",\"\",P_14号6様式!N47)","v":87.654320987654302},null,null,{"$f":"IF(P_14号6様式!O47=\"\",\"\",P_14号6様式!O47)","v":86.833654463712307},null,null,{"$f":"IF(P_14号6様式!P47=\"\",\"\",P_14号6様式!P47)","v":3},{"$f":"IF(P_14号6様式!Q47=\"\",\"\",P_14号6様式!Q47)","v":"18:13:00"},{"$f":"IF(P_14号6様式!R47=\"\",\"\",P_14号6様式!R47)","v":87.037037037036995},{"$f":"IF(P_14号6様式!S47=\"\",\"\",P_14号6様式!S47)","v":86.839012925969499},{"$f":"IF(P_14号6様式!T47=\"\",\"\",P_14号6様式!T47)","v":86.932171748599899}]
[{"$f":"IF(P_14号6様式!C48=\"\",\"\",P_14号6様式!C48)","v":"　 瀬戸内町"},null,{"$f":"IF(P_14号6様式!D48=\"\",\"\",P_14号6様式!D48)","v":3731},{"$f":"IF(P_14号6様式!E48=\"\",\"\",P_14号6様式!E48)","v":4078},{"$f":"IF(P_14号6様式!F48=\"\",\"\",P_14号6様式!F48)","v":7809},{"$f":"IF(P_14号6様式!G48=\"\",\"\",P_14号6様式!G48)","v":2876},{"$f":"IF(P_14号6様式!H48=\"\",\"\",P_14号6様式!H48)","v":3095},{"$f":"IF(P_14号6様式!I48=\"\",\"\",P_14号6様式!I48)","v":5971},{"$f":"IF(P_14号6様式!J48=\"\",\"\",P_14号6様式!J48)","v":855},{"$f":"IF(P_14号6様式!K48=\"\",\"\",P_14号6様式!K48)","v":983},{"$f":"IF(P_14号6様式!L48=\"\",\"\",P_14号6様式!L48)","v":1838},{"$f":"IF(P_14号6様式!M48=\"\",\"\",P_14号6様式!M48)","v":77.083891718038103},{"$f":"IF(P_14号6様式!N48=\"\",\"\",P_14号6様式!N48)","v":75.895046591466397},null,null,{"$f":"IF(P_14号6様式!O48=\"\",\"\",P_14号6様式!O48)","v":76.463055448841104},null,null,{"$f":"IF(P_14号6様式!P48=\"\",\"\",P_14号6様式!P48)","v":6},{"$f":"IF(P_14号6様式!Q48=\"\",\"\",P_14号6様式!Q48)","v":"20:32:00"},{"$f":"IF(P_14号6様式!R48=\"\",\"\",P_14号6様式!R48)","v":72.499340195302196},{"$f":"IF(P_14号6様式!S48=\"\",\"\",P_14号6様式!S48)","v":71.152469577666395},{"$f":"IF(P_14号6様式!T48=\"\",\"\",P_14号6様式!T48)","v":71.791979949874701}]
[{"$f":"IF(P_14号6様式!C49=\"\",\"\",P_14号6様式!C49)","v":"　 龍郷町"},null,{"$f":"IF(P_14号6様式!D49=\"\",\"\",P_14号6様式!D49)","v":2311},{"$f":"IF(P_14号6様式!E49=\"\",\"\",P_14号6様式!E49)","v":2544},{"$f":"IF(P_14号6様式!F49=\"\",\"\",P_14号6様式!F49)","v":4855},{"$f":"IF(P_14号6様式!G49=\"\",\"\",P_14号6様式!G49)","v":2034},{"$f":"IF(P_14号6様式!H49=\"\",\"\",P_14号6様式!H49)","v":2201},{"$f":"IF(P_14号6様式!I49=\"\",\"\",P_14号6様式!I49)","v":4235},{"$f":"IF(P_14号6様式!J49=\"\",\"\",P_14号6様式!J49)","v":277},{"$f":"IF(P_14号6様式!K49=\"\",\"\",P_14号6様式!K49)","v":343},{"$f":"IF(P_14号6様式!L49=\"\",\"\",P_14号6様式!L49)","v":620},{"$f":"IF(P_14号6様式!M49=\"\",\"\",P_14号6様式!M49)","v":88.013846819558594},{"$f":"IF(P_14号6様式!N49=\"\",\"\",P_14号6様式!N49)","v":86.517295597484306},null,null,{"$f":"IF(P_14号6様式!O49=\"\",\"\",P_14号6様式!O49)","v":87.229660144181295},null,null,{"$f":"IF(P_14号6様式!P49=\"\",\"\",P_14号6様式!P49)","v":2},{"$f":"IF(P_14号6様式!Q49=\"\",\"\",P_14号6様式!Q49)","v":"22:08:00"},{"$f":"IF(P_14号6様式!R49=\"\",\"\",P_14号6様式!R49)","v":65.848406546080994},{"$f":"IF(P_14号6様式!S49=\"\",\"\",P_14号6様式!S49)","v":66.810683424980397},{"$f":"IF(P_14号6様式!T49=\"\",\"\",P_14号6様式!T49)","v":66.351684470008195}]
[{"$f":"IF(P_14号6様式!C50=\"\",\"\",P_14号6様式!C50)","v":"　 喜界町"},null,{"$f":"IF(P_14号6様式!D50=\"\",\"\",P_14号6様式!D50)","v":2982},{"$f":"IF(P_14号6様式!E50=\"\",\"\",P_14号6様式!E50)","v":3129},{"$f":"IF(P_14号6様式!F50=\"\",\"\",P_14号6様式!F50)","v":6111},{"$f":"IF(P_14号6様式!G50=\"\",\"\",P_14号6様式!G50)","v":2131},{"$f":"IF(P_14号6様式!H50=\"\",\"\",P_14号6様式!H50)","v":2186},{"$f":"IF(P_14号6様式!I50=\"\",\"\",P_14号6様式!I50)","v":4317},{"$f":"IF(P_14号6様式!J50=\"\",\"\",P_14号6様式!J50)","v":851},{"$f":"IF(P_14号6様式!K50=\"\",\"\",P_14号6様式!K50)","v":943},{"$f":"IF(P_14号6様式!L50=\"\",\"\",P_14号6様式!L50)","v":1794},{"$f":"IF(P_14号6様式!M50=\"\",\"\",P_14号6様式!M50)","v":71.462105969148197},{"$f":"IF(P_14号6様式!N50=\"\",\"\",P_14号6様式!N50)","v":69.862575902844398},null,null,{"$f":"IF(P_14号6様式!O50=\"\",\"\",P_14号6様式!O50)","v":70.643102601865493},null,null,{"$f":"IF(P_14号6様式!P50=\"\",\"\",P_14号6様式!P50)","v":13},{"$f":"IF(P_14号6様式!Q50=\"\",\"\",P_14号6様式!Q50)","v":"19:07:00"},{"$f":"IF(P_14号6様式!R50=\"\",\"\",P_14号6様式!R50)","v":70.214168039538706},{"$f":"IF(P_14号6様式!S50=\"\",\"\",P_14号6様式!S50)","v":66.747942700396194},{"$f":"IF(P_14号6様式!T50=\"\",\"\",P_14号6様式!T50)","v":68.413552881570595}]
[{"$f":"IF(P_14号6様式!C51=\"\",\"\",P_14号6様式!C51)","v":"　 徳之島町"},null,{"$f":"IF(P_14号6様式!D51=\"\",\"\",P_14号6様式!D51)","v":4361},{"$f":"IF(P_14号6様式!E51=\"\",\"\",P_14号6様式!E51)","v":4579},{"$f":"IF(P_14号6様式!F51=\"\",\"\",P_14号6様式!F51)","v":8940},{"$f":"IF(P_14号6様式!G51=\"\",\"\",P_14号6様式!G51)","v":2934},{"$f":"IF(P_14号6様式!H51=\"\",\"\",P_14号6様式!H51)","v":3104},{"$f":"IF(P_14号6様式!I51=\"\",\"\",P_14号6様式!I51)","v":6038},{"$f":"IF(P_14号6様式!J51=\"\",\"\",P_14号6様式!J51)","v":1427},{"$f":"IF(P_14号6様式!K51=\"\",\"\",P_14号6様式!K51)","v":1475},{"$f":"IF(P_14号6様式!L51=\"\",\"\",P_14号6様式!L51)","v":2902},{"$f":"IF(P_14号6様式!M51=\"\",\"\",P_14号6様式!M51)","v":67.278147213941807},{"$f":"IF(P_14号6様式!N51=\"\",\"\",P_14号6様式!N51)","v":67.787726577855395},null,null,{"$f":"IF(P_14号6様式!O51=\"\",\"\",P_14号6様式!O51)","v":67.5391498881432},null,null,{"$f":"IF(P_14号6様式!P51=\"\",\"\",P_14号6様式!P51)","v":17},{"$f":"IF(P_14号6様式!Q51=\"\",\"\",P_14号6様式!Q51)","v":"19:32:00"},{"$f":"IF(P_14号6様式!R51=\"\",\"\",P_14号6様式!R51)","v":58.748886910062303},{"$f":"IF(P_14号6様式!S51=\"\",\"\",P_14号6様式!S51)","v":60.942475058374001},{"$f":"IF(P_14号6様式!T51=\"\",\"\",P_14号6様式!T51)","v":59.871780940997503}]
[{"$f":"IF(P_14号6様式!C52=\"\",\"\",P_14号6様式!C52)","v":"　 天城町"},null,{"$f":"IF(P_14号6様式!D52=\"\",\"\",P_14号6様式!D52)","v":2593},{"$f":"IF(P_14号6様式!E52=\"\",\"\",P_14号6様式!E52)","v":2490},{"$f":"IF(P_14号6様式!F52=\"\",\"\",P_14号6様式!F52)","v":5083},{"$f":"IF(P_14号6様式!G52=\"\",\"\",P_14号6様式!G52)","v":1758},{"$f":"IF(P_14号6様式!H52=\"\",\"\",P_14号6様式!H52)","v":1702},{"$f":"IF(P_14号6様式!I52=\"\",\"\",P_14号6様式!I52)","v":3460},{"$f":"IF(P_14号6様式!J52=\"\",\"\",P_14号6様式!J52)","v":835},{"$f":"IF(P_14号6様式!K52=\"\",\"\",P_14号6様式!K52)","v":788},{"$f":"IF(P_14号6様式!L52=\"\",\"\",P_14号6様式!L52)","v":1623},{"$f":"IF(P_14号6様式!M52=\"\",\"\",P_14号6様式!M52)","v":67.797917470111798},{"$f":"IF(P_14号6様式!N52=\"\",\"\",P_14号6様式!N52)","v":68.353413654618507},null,null,{"$f":"IF(P_14号6様式!O52=\"\",\"\",P_14号6様式!O52)","v":68.070037379500306},null,null,{"$f":"IF(P_14号6様式!P52=\"\",\"\",P_14号6様式!P52)","v":16},{"$f":"IF(P_14号6様式!Q52=\"\",\"\",P_14号6様式!Q52)","v":"20:14:00"},{"$f":"IF(P_14号6様式!R52=\"\",\"\",P_14号6様式!R52)","v":68.876190476190501},{"$f":"IF(P_14号6様式!S52=\"\",\"\",P_14号6様式!S52)","v":70.130383247728204},{"$f":"IF(P_14号6様式!T52=\"\",\"\",P_14号6様式!T52)","v":69.491854150504295}]
[{"$f":"IF(P_14号6様式!C53=\"\",\"\",P_14号6様式!C53)","v":"　 伊仙町"},null,{"$f":"IF(P_14号6様式!D53=\"\",\"\",P_14号6様式!D53)","v":2855},{"$f":"IF(P_14号6様式!E53=\"\",\"\",P_14号6様式!E53)","v":2784},{"$f":"IF(P_14号6様式!F53=\"\",\"\",P_14号6様式!F53)","v":5639},{"$f":"IF(P_14号6様式!G53=\"\",\"\",P_14号6様式!G53)","v":2629},{"$f":"IF(P_14号6様式!H53=\"\",\"\",P_14号6様式!H53)","v":2477},{"$f":"IF(P_14号6様式!I53=\"\",\"\",P_14号6様式!I53)","v":5106},{"$f":"IF(P_14号6様式!J53=\"\",\"\",P_14号6様式!J53)","v":226},{"$f":"IF(P_14号6様式!K53=\"\",\"\",P_14号6様式!K53)","v":307},{"$f":"IF(P_14号6様式!L53=\"\",\"\",P_14号6様式!L53)","v":533},{"$f":"IF(P_14号6様式!M53=\"\",\"\",P_14号6様式!M53)","v":92.084063047285497},{"$f":"IF(P_14号6様式!N53=\"\",\"\",P_14号6様式!N53)","v":88.972701149425305},null,null,{"$f":"IF(P_14号6様式!O53=\"\",\"\",P_14号6様式!O53)","v":90.547969498138002},null,null,{"$f":"IF(P_14号6様式!P53=\"\",\"\",P_14号6様式!P53)","v":1},{"$f":"IF(P_14号6様式!Q53=\"\",\"\",P_14号6様式!Q53)","v":"20:31:00"},{"$f":"IF(P_14号6様式!R53=\"\",\"\",P_14号6様式!R53)","v":62.3866015352408},{"$f":"IF(P_14号6様式!S53=\"\",\"\",P_14号6様式!S53)","v":60.3812824956672},{"$f":"IF(P_14号6様式!T53=\"\",\"\",P_14号6様式!T53)","v":61.380629455746799}]
[{"$f":"IF(P_14号6様式!C54=\"\",\"\",P_14号6様式!C54)","v":"　 和泊町"},null,{"$f":"IF(P_14号6様式!D54=\"\",\"\",P_14号6様式!D54)","v":2669},{"$f":"IF(P_14号6様式!E54=\"\",\"\",P_14号6様式!E54)","v":2779},{"$f":"IF(P_14号6様式!F54=\"\",\"\",P_14号6様式!F54)","v":5448},{"$f":"IF(P_14号6様式!G54=\"\",\"\",P_14号6様式!G54)","v":1987},{"$f":"IF(P_14号6様式!H54=\"\",\"\",P_14号6様式!H54)","v":1995},{"$f":"IF(P_14号6様式!I54=\"\",\"\",P_14号6様式!I54)","v":3982},{"$f":"IF(P_14号6様式!J54=\"\",\"\",P_14号6様式!J54)","v":682},{"$f":"IF(P_14号6様式!K54=\"\",\"\",P_14号6様式!K54)","v":784},{"$f":"IF(P_14号6様式!L54=\"\",\"\",P_14号6様式!L54)","v":1466},{"$f":"IF(P_14号6様式!M54=\"\",\"\",P_14号6様式!M54)","v":74.447358561258895},{"$f":"IF(P_14号6様式!N54=\"\",\"\",P_14号6様式!N54)","v":71.788413098236802},null,null,{"$f":"IF(P_14号6様式!O54=\"\",\"\",P_14号6様式!O54)","v":73.091042584434604},null,null,{"$f":"IF(P_14号6様式!P54=\"\",\"\",P_14号6様式!P54)","v":10},{"$f":"IF(P_14号6様式!Q54=\"\",\"\",P_14号6様式!Q54)","v":"18:55:00"},{"$f":"IF(P_14号6様式!R54=\"\",\"\",P_14号6様式!R54)","v":69.356597600872405},{"$f":"IF(P_14号6様式!S54=\"\",\"\",P_14号6様式!S54)","v":69.179051663128106},{"$f":"IF(P_14号6様式!T54=\"\",\"\",P_14号6様式!T54)","v":69.266630805092305}]
[{"$f":"IF(P_14号6様式!C55=\"\",\"\",P_14号6様式!C55)","v":"　 知名町"},null,{"$f":"IF(P_14号6様式!D55=\"\",\"\",P_14号6様式!D55)","v":2541},{"$f":"IF(P_14号6様式!E55=\"\",\"\",P_14号6様式!E55)","v":2502},{"$f":"IF(P_14号6様式!F55=\"\",\"\",P_14号6様式!F55)","v":5043},{"$f":"IF(P_14号6様式!G55=\"\",\"\",P_14号6様式!G55)","v":1826},{"$f":"IF(P_14号6様式!H55=\"\",\"\",P_14号6様式!H55)","v":1751},{"$f":"IF(P_14号6様式!I55=\"\",\"\",P_14号6様式!I55)","v":3577},{"$f":"IF(P_14号6様式!J55=\"\",\"\",P_14号6様式!J55)","v":715},{"$f":"IF(P_14号6様式!K55=\"\",\"\",P_14号6様式!K55)","v":751},{"$f":"IF(P_14号6様式!L55=\"\",\"\",P_14号6様式!L55)","v":1466},{"$f":"IF(P_14号6様式!M55=\"\",\"\",P_14号6様式!M55)","v":71.861471861471898},{"$f":"IF(P_14号6様式!N55=\"\",\"\",P_14号6様式!N55)","v":69.984012789768201},null,null,{"$f":"IF(P_14号6様式!O55=\"\",\"\",P_14号6様式!O55)","v":70.930001982946607},null,null,{"$f":"IF(P_14号6様式!P55=\"\",\"\",P_14号6様式!P55)","v":12},{"$f":"IF(P_14号6様式!Q55=\"\",\"\",P_14号6様式!Q55)","v":"19:13:00"},{"$f":"IF(P_14号6様式!R55=\"\",\"\",P_14号6様式!R55)","v":66.499614494988407},{"$f":"IF(P_14号6様式!S55=\"\",\"\",P_14号6様式!S55)","v":64.540914329619696},{"$f":"IF(P_14号6様式!T55=\"\",\"\",P_14号6様式!T55)","v":65.518568404848907}]
[{"$f":"IF(P_14号6様式!C56=\"\",\"\",P_14号6様式!C56)","v":"　 与論町"},null,{"$f":"IF(P_14号6様式!D56=\"\",\"\",P_14号6様式!D56)","v":2110},{"$f":"IF(P_14号6様式!E56=\"\",\"\",P_14号6様式!E56)","v":2247},{"$f":"IF(P_14号6様式!F56=\"\",\"\",P_14号6様式!F56)","v":4357},{"$f":"IF(P_14号6様式!G56=\"\",\"\",P_14号6様式!G56)","v":1533},{"$f":"IF(P_14号6様式!H56=\"\",\"\",P_14号6様式!H56)","v":1540},{"$f":"IF(P_14号6様式!I56=\"\",\"\",P_14号6様式!I56)","v":3073},{"$f":"IF(P_14号6様式!J56=\"\",\"\",P_14号6様式!J56)","v":577},{"$f":"IF(P_14号6様式!K56=\"\",\"\",P_14号6様式!K56)","v":707},{"$f":"IF(P_14号6様式!L56=\"\",\"\",P_14号6様式!L56)","v":1284},{"$f":"IF(P_14号6様式!M56=\"\",\"\",P_14号6様式!M56)","v":72.654028436019004},{"$f":"IF(P_14号6様式!N56=\"\",\"\",P_14号6様式!N56)","v":68.535825545171306},null,null,{"$f":"IF(P_14号6様式!O56=\"\",\"\",P_14号6様式!O56)","v":70.530181317420201},null,null,{"$f":"IF(P_14号6様式!P56=\"\",\"\",P_14号6様式!P56)","v":14},{"$f":"IF(P_14号6様式!Q56=\"\",\"\",P_14号6様式!Q56)","v":"23:02:00"},{"$f":"IF(P_14号6様式!R56=\"\",\"\",P_14号6様式!R56)","v":67.620835288596894},{"$f":"IF(P_14号6様式!S56=\"\",\"\",P_14号6様式!S56)","v":64.844774814166996},{"$f":"IF(P_14号6様式!T56=\"\",\"\",P_14号6様式!T56)","v":66.183793571751906}]
[{"$f":"IF(P_14号6様式!C57=\"\",\"\",P_14号6様式!C57)","v":"＊（大島郡）計"},null,{"$f":"IF(P_14号6様式!D57=\"\",\"\",P_14号6様式!D57)","v":27529},{"$f":"IF(P_14号6様式!E57=\"\",\"\",P_14号6様式!E57)","v":28630},{"$f":"IF(P_14号6様式!F57=\"\",\"\",P_14号6様式!F57)","v":56159},{"$f":"IF(P_14号6様式!G57=\"\",\"\",P_14号6様式!G57)","v":20829},{"$f":"IF(P_14号6様式!H57=\"\",\"\",P_14号6様式!H57)","v":21264},{"$f":"IF(P_14号6様式!I57=\"\",\"\",P_14号6様式!I57)","v":42093},{"$f":"IF(P_14号6様式!J57=\"\",\"\",P_14号6様式!J57)","v":6700},{"$f":"IF(P_14号6様式!K57=\"\",\"\",P_14号6様式!K57)","v":7366},{"$f":"IF(P_14号6様式!L57=\"\",\"\",P_14号6様式!L57)","v":14066},{"$f":"IF(P_14号6様式!M57=\"\",\"\",P_14号6様式!M57)","v":75.662029132914398},{"$f":"IF(P_14号6様式!N57=\"\",\"\",P_14号6様式!N57)","v":74.271742926999707},null,null,{"$f":"IF(P_14号6様式!O57=\"\",\"\",P_14号6様式!O57)","v":74.9532577147029},null,null,{"$f":"IF(P_14号6様式!P57=\"\",\"\",P_14号6様式!P57)","v":""},{"$f":"IF(P_14号6様式!Q57=\"\",\"\",P_14号6様式!Q57)","v":"23:02:00"},{"$f":"IF(P_14号6様式!R57=\"\",\"\",P_14号6様式!R57)","v":67.299593118709396},{"$f":"IF(P_14号6様式!S57=\"\",\"\",P_14号6様式!S57)","v":66.773086981625497},{"$f":"IF(P_14号6様式!T57=\"\",\"\",P_14号6様式!T57)","v":67.0298115243382}]
[{"$f":"IF(P_14号6様式!C58=\"\",\"\",P_14号6様式!C58)","v":""},null,{"$f":"IF(P_14号6様式!D58=\"\",\"\",P_14号6様式!D58)","v":""},{"$f":"IF(P_14号6様式!E58=\"\",\"\",P_14号6様式!E58)","v":""},{"$f":"IF(P_14号6様式!F58=\"\",\"\",P_14号6様式!F58)","v":""},{"$f":"IF(P_14号6様式!G58=\"\",\"\",P_14号6様式!G58)","v":""},{"$f":"IF(P_14号6様式!H58=\"\",\"\",P_14号6様式!H58)","v":""},{"$f":"IF(P_14号6様式!I58=\"\",\"\",P_14号6様式!I58)","v":""},{"$f":"IF(P_14号6様式!J58=\"\",\"\",P_14号6様式!J58)","v":""},{"$f":"IF(P_14号6様式!K58=\"\",\"\",P_14号6様式!K58)","v":""},{"$f":"IF(P_14号6様式!L58=\"\",\"\",P_14号6様式!L58)","v":""},{"$f":"IF(P_14号6様式!M58=\"\",\"\",P_14号6様式!M58)","v":""},{"$f":"IF(P_14号6様式!N58=\"\",\"\",P_14号6様式!N58)","v":""},null,null,{"$f":"IF(P_14号6様式!O58=\"\",\"\",P_14号6様式!O58)","v":""},null,null,{"$f":"IF(P_14号6様式!P58=\"\",\"\",P_14号6様式!P58)","v":""},{"$f":"IF(P_14号6様式!Q58=\"\",\"\",P_14号6様式!Q58)","v":""},{"$f":"IF(P_14号6様式!R58=\"\",\"\",P_14号6様式!R58)","v":""},{"$f":"IF(P_14号6様式!S58=\"\",\"\",P_14号6様式!S58)","v":""},{"$f":"IF(P_14号6様式!T58=\"\",\"\",P_14号6様式!T58)","v":""}]
[{"$f":"IF(P_14号6様式!C59=\"\",\"\",P_14号6様式!C59)","v":""},null,{"$f":"IF(P_14号6様式!D59=\"\",\"\",P_14号6様式!D59)","v":""},{"$f":"IF(P_14号6様式!E59=\"\",\"\",P_14号6様式!E59)","v":""},{"$f":"IF(P_14号6様式!F59=\"\",\"\",P_14号6様式!F59)","v":""},{"$f":"IF(P_14号6様式!G59=\"\",\"\",P_14号6様式!G59)","v":""},{"$f":"IF(P_14号6様式!H59=\"\",\"\",P_14号6様式!H59)","v":""},{"$f":"IF(P_14号6様式!I59=\"\",\"\",P_14号6様式!I59)","v":""},{"$f":"IF(P_14号6様式!J59=\"\",\"\",P_14号6様式!J59)","v":""},{"$f":"IF(P_14号6様式!K59=\"\",\"\",P_14号6様式!K59)","v":""},{"$f":"IF(P_14号6様式!L59=\"\",\"\",P_14号6様式!L59)","v":""},{"$f":"IF(P_14号6様式!M59=\"\",\"\",P_14号6様式!M59)","v":""},{"$f":"IF(P_14号6様式!N59=\"\",\"\",P_14号6様式!N59)","v":""},null,null,{"$f":"IF(P_14号6様式!O59=\"\",\"\",P_14号6様式!O59)","v":""},null,null,{"$f":"IF(P_14号6様式!P59=\"\",\"\",P_14号6様式!P59)","v":""},{"$f":"IF(P_14号6様式!Q59=\"\",\"\",P_14号6様式!Q59)","v":""},{"$f":"IF(P_14号6様式!R59=\"\",\"\",P_14号6様式!R59)","v":""},{"$f":"IF(P_14号6様式!S59=\"\",\"\",P_14号6様式!S59)","v":""},{"$f":"IF(P_14号6様式!T59=\"\",\"\",P_14号6様式!T59)","v":""}]
[{"$f":"IF(P_14号6様式!C60=\"\",\"\",P_14号6様式!C60)","v":""},null,{"$f":"IF(P_14号6様式!D60=\"\",\"\",P_14号6様式!D60)","v":""},{"$f":"IF(P_14号6様式!E60=\"\",\"\",P_14号6様式!E60)","v":""},{"$f":"IF(P_14号6様式!F60=\"\",\"\",P_14号6様式!F60)","v":""},{"$f":"IF(P_14号6様式!G60=\"\",\"\",P_14号6様式!G60)","v":""},{"$f":"IF(P_14号6様式!H60=\"\",\"\",P_14号6様式!H60)","v":""},{"$f":"IF(P_14号6様式!I60=\"\",\"\",P_14号6様式!I60)","v":""},{"$f":"IF(P_14号6様式!J60=\"\",\"\",P_14号6様式!J60)","v":""},{"$f":"IF(P_14号6様式!K60=\"\",\"\",P_14号6様式!K60)","v":""},{"$f":"IF(P_14号6様式!L60=\"\",\"\",P_14号6様式!L60)","v":""},{"$f":"IF(P_14号6様式!M60=\"\",\"\",P_14号6様式!M60)","v":""},{"$f":"IF(P_14号6様式!N60=\"\",\"\",P_14号6様式!N60)","v":""},null,null,{"$f":"IF(P_14号6様式!O60=\"\",\"\",P_14号6様式!O60)","v":""},null,null,{"$f":"IF(P_14号6様式!P60=\"\",\"\",P_14号6様式!P60)","v":""},{"$f":"IF(P_14号6様式!Q60=\"\",\"\",P_14号6様式!Q60)","v":""},{"$f":"IF(P_14号6様式!R60=\"\",\"\",P_14号6様式!R60)","v":""},{"$f":"IF(P_14号6様式!S60=\"\",\"\",P_14号6様式!S60)","v":""},{"$f":"IF(P_14号6様式!T60=\"\",\"\",P_14号6様式!T60)","v":""}]
[{"$f":"IF(P_14号6様式!C61=\"\",\"\",P_14号6様式!C61)","v":""},null,{"$f":"IF(P_14号6様式!D61=\"\",\"\",P_14号6様式!D61)","v":""},{"$f":"IF(P_14号6様式!E61=\"\",\"\",P_14号6様式!E61)","v":""},{"$f":"IF(P_14号6様式!F61=\"\",\"\",P_14号6様式!F61)","v":""},{"$f":"IF(P_14号6様式!G61=\"\",\"\",P_14号6様式!G61)","v":""},{"$f":"IF(P_14号6様式!H61=\"\",\"\",P_14号6様式!H61)","v":""},{"$f":"IF(P_14号6様式!I61=\"\",\"\",P_14号6様式!I61)","v":""},{"$f":"IF(P_14号6様式!J61=\"\",\"\",P_14号6様式!J61)","v":""},{"$f":"IF(P_14号6様式!K61=\"\",\"\",P_14号6様式!K61)","v":""},{"$f":"IF(P_14号6様式!L61=\"\",\"\",P_14号6様式!L61)","v":""},{"$f":"IF(P_14号6様式!M61=\"\",\"\",P_14号6様式!M61)","v":""},{"$f":"IF(P_14号6様式!N61=\"\",\"\",P_14号6様式!N61)","v":""},null,null,{"$f":"IF(P_14号6様式!O61=\"\",\"\",P_14号6様式!O61)","v":""},null,null,{"$f":"IF(P_14号6様式!P61=\"\",\"\",P_14号6様式!P61)","v":""},{"$f":"IF(P_14号6様式!Q61=\"\",\"\",P_14号6様式!Q61)","v":""},{"$f":"IF(P_14号6様式!R61=\"\",\"\",P_14号6様式!R61)","v":""},{"$f":"IF(P_14号6様式!S61=\"\",\"\",P_14号6様式!S61)","v":""},{"$f":"IF(P_14号6様式!T61=\"\",\"\",P_14号6様式!T61)","v":""}]
[{"$f":"IF(P_14号6様式!C62=\"\",\"\",P_14号6様式!C62)","v":""},null,{"$f":"IF(P_14号6様式!D62=\"\",\"\",P_14号6様式!D62)","v":""},{"$f":"IF(P_14号6様式!E62=\"\",\"\",P_14号6様式!E62)","v":""},{"$f":"IF(P_14号6様式!F62=\"\",\"\",P_14号6様式!F62)","v":""},{"$f":"IF(P_14号6様式!G62=\"\",\"\",P_14号6様式!G62)","v":""},{"$f":"IF(P_14号6様式!H62=\"\",\"\",P_14号6様式!H62)","v":""},{"$f":"IF(P_14号6様式!I62=\"\",\"\",P_14号6様式!I62)","v":""},{"$f":"IF(P_14号6様式!J62=\"\",\"\",P_14号6様式!J62)","v":""},{"$f":"IF(P_14号6様式!K62=\"\",\"\",P_14号6様式!K62)","v":""},{"$f":"IF(P_14号6様式!L62=\"\",\"\",P_14号6様式!L62)","v":""},{"$f":"IF(P_14号6様式!M62=\"\",\"\",P_14号6様式!M62)","v":""},{"$f":"IF(P_14号6様式!N62=\"\",\"\",P_14号6様式!N62)","v":""},null,null,{"$f":"IF(P_14号6様式!O62=\"\",\"\",P_14号6様式!O62)","v":""},null,null,{"$f":"IF(P_14号6様式!P62=\"\",\"\",P_14号6様式!P62)","v":""},{"$f":"IF(P_14号6様式!Q62=\"\",\"\",P_14号6様式!Q62)","v":""},{"$f":"IF(P_14号6様式!R62=\"\",\"\",P_14号6様式!R62)","v":""},{"$f":"IF(P_14号6様式!S62=\"\",\"\",P_14号6様式!S62)","v":""},{"$f":"IF(P_14号6様式!T62=\"\",\"\",P_14号6様式!T62)","v":""}]
[{"$f":"IF(P_14号6様式!C63=\"\",\"\",P_14号6様式!C63)","v":""},null,{"$f":"IF(P_14号6様式!D63=\"\",\"\",P_14号6様式!D63)","v":""},{"$f":"IF(P_14号6様式!E63=\"\",\"\",P_14号6様式!E63)","v":""},{"$f":"IF(P_14号6様式!F63=\"\",\"\",P_14号6様式!F63)","v":""},{"$f":"IF(P_14号6様式!G63=\"\",\"\",P_14号6様式!G63)","v":""},{"$f":"IF(P_14号6様式!H63=\"\",\"\",P_14号6様式!H63)","v":""},{"$f":"IF(P_14号6様式!I63=\"\",\"\",P_14号6様式!I63)","v":""},{"$f":"IF(P_14号6様式!J63=\"\",\"\",P_14号6様式!J63)","v":""},{"$f":"IF(P_14号6様式!K63=\"\",\"\",P_14号6様式!K63)","v":""},{"$f":"IF(P_14号6様式!L63=\"\",\"\",P_14号6様式!L63)","v":""},{"$f":"IF(P_14号6様式!M63=\"\",\"\",P_14号6様式!M63)","v":""},{"$f":"IF(P_14号6様式!N63=\"\",\"\",P_14号6様式!N63)","v":""},null,null,{"$f":"IF(P_14号6様式!O63=\"\",\"\",P_14号6様式!O63)","v":""},null,null,{"$f":"IF(P_14号6様式!P63=\"\",\"\",P_14号6様式!P63)","v":""},{"$f":"IF(P_14号6様式!Q63=\"\",\"\",P_14号6様式!Q63)","v":""},{"$f":"IF(P_14号6様式!R63=\"\",\"\",P_14号6様式!R63)","v":""},{"$f":"IF(P_14号6様式!S63=\"\",\"\",P_14号6様式!S63)","v":""},{"$f":"IF(P_14号6様式!T63=\"\",\"\",P_14号6様式!T63)","v":""}]
[{"$f":"IF(P_14号6様式!C64=\"\",\"\",P_14号6様式!C64)","v":""},null,{"$f":"IF(P_14号6様式!D64=\"\",\"\",P_14号6様式!D64)","v":""},{"$f":"IF(P_14号6様式!E64=\"\",\"\",P_14号6様式!E64)","v":""},{"$f":"IF(P_14号6様式!F64=\"\",\"\",P_14号6様式!F64)","v":""},{"$f":"IF(P_14号6様式!G64=\"\",\"\",P_14号6様式!G64)","v":""},{"$f":"IF(P_14号6様式!H64=\"\",\"\",P_14号6様式!H64)","v":""},{"$f":"IF(P_14号6様式!I64=\"\",\"\",P_14号6様式!I64)","v":""},{"$f":"IF(P_14号6様式!J64=\"\",\"\",P_14号6様式!J64)","v":""},{"$f":"IF(P_14号6様式!K64=\"\",\"\",P_14号6様式!K64)","v":""},{"$f":"IF(P_14号6様式!L64=\"\",\"\",P_14号6様式!L64)","v":""},{"$f":"IF(P_14号6様式!M64=\"\",\"\",P_14号6様式!M64)","v":""},{"$f":"IF(P_14号6様式!N64=\"\",\"\",P_14号6様式!N64)","v":""},null,null,{"$f":"IF(P_14号6様式!O64=\"\",\"\",P_14号6様式!O64)","v":""},null,null,{"$f":"IF(P_14号6様式!P64=\"\",\"\",P_14号6様式!P64)","v":""},{"$f":"IF(P_14号6様式!Q64=\"\",\"\",P_14号6様式!Q64)","v":""},{"$f":"IF(P_14号6様式!R64=\"\",\"\",P_14号6様式!R64)","v":""},{"$f":"IF(P_14号6様式!S64=\"\",\"\",P_14号6様式!S64)","v":""},{"$f":"IF(P_14号6様式!T64=\"\",\"\",P_14号6様式!T64)","v":""}]
[{"$f":"IF(P_14号6様式!C65=\"\",\"\",P_14号6様式!C65)","v":""},null,{"$f":"IF(P_14号6様式!D65=\"\",\"\",P_14号6様式!D65)","v":""},{"$f":"IF(P_14号6様式!E65=\"\",\"\",P_14号6様式!E65)","v":""},{"$f":"IF(P_14号6様式!F65=\"\",\"\",P_14号6様式!F65)","v":""},{"$f":"IF(P_14号6様式!G65=\"\",\"\",P_14号6様式!G65)","v":""},{"$f":"IF(P_14号6様式!H65=\"\",\"\",P_14号6様式!H65)","v":""},{"$f":"IF(P_14号6様式!I65=\"\",\"\",P_14号6様式!I65)","v":""},{"$f":"IF(P_14号6様式!J65=\"\",\"\",P_14号6様式!J65)","v":""},{"$f":"IF(P_14号6様式!K65=\"\",\"\",P_14号6様式!K65)","v":""},{"$f":"IF(P_14号6様式!L65=\"\",\"\",P_14号6様式!L65)","v":""},{"$f":"IF(P_14号6様式!M65=\"\",\"\",P_14号6様式!M65)","v":""},{"$f":"IF(P_14号6様式!N65=\"\",\"\",P_14号6様式!N65)","v":""},null,null,{"$f":"IF(P_14号6様式!O65=\"\",\"\",P_14号6様式!O65)","v":""},null,null,{"$f":"IF(P_14号6様式!P65=\"\",\"\",P_14号6様式!P65)","v":""},{"$f":"IF(P_14号6様式!Q65=\"\",\"\",P_14号6様式!Q65)","v":""},{"$f":"IF(P_14号6様式!R65=\"\",\"\",P_14号6様式!R65)","v":""},{"$f":"IF(P_14号6様式!S65=\"\",\"\",P_14号6様式!S65)","v":""},{"$f":"IF(P_14号6様式!T65=\"\",\"\",P_14号6様式!T65)","v":""}]
[{"$f":"IF(P_14号6様式!C66=\"\",\"\",P_14号6様式!C66)","v":""},null,{"$f":"IF(P_14号6様式!D66=\"\",\"\",P_14号6様式!D66)","v":""},{"$f":"IF(P_14号6様式!E66=\"\",\"\",P_14号6様式!E66)","v":""},{"$f":"IF(P_14号6様式!F66=\"\",\"\",P_14号6様式!F66)","v":""},{"$f":"IF(P_14号6様式!G66=\"\",\"\",P_14号6様式!G66)","v":""},{"$f":"IF(P_14号6様式!H66=\"\",\"\",P_14号6様式!H66)","v":""},{"$f":"IF(P_14号6様式!I66=\"\",\"\",P_14号6様式!I66)","v":""},{"$f":"IF(P_14号6様式!J66=\"\",\"\",P_14号6様式!J66)","v":""},{"$f":"IF(P_14号6様式!K66=\"\",\"\",P_14号6様式!K66)","v":""},{"$f":"IF(P_14号6様式!L66=\"\",\"\",P_14号6様式!L66)","v":""},{"$f":"IF(P_14号6様式!M66=\"\",\"\",P_14号6様式!M66)","v":""},{"$f":"IF(P_14号6様式!N66=\"\",\"\",P_14号6様式!N66)","v":""},null,null,{"$f":"IF(P_14号6様式!O66=\"\",\"\",P_14号6様式!O66)","v":""},null,null,{"$f":"IF(P_14号6様式!P66=\"\",\"\",P_14号6様式!P66)","v":""},{"$f":"IF(P_14号6様式!Q66=\"\",\"\",P_14号6様式!Q66)","v":""},{"$f":"IF(P_14号6様式!R66=\"\",\"\",P_14号6様式!R66)","v":""},{"$f":"IF(P_14号6様式!S66=\"\",\"\",P_14号6様式!S66)","v":""},{"$f":"IF(P_14号6様式!T66=\"\",\"\",P_14号6様式!T66)","v":""}]
[{"$f":"IF(P_14号6様式!C67=\"\",\"\",P_14号6様式!C67)","v":""},null,{"$f":"IF(P_14号6様式!D67=\"\",\"\",P_14号6様式!D67)","v":""},{"$f":"IF(P_14号6様式!E67=\"\",\"\",P_14号6様式!E67)","v":""},{"$f":"IF(P_14号6様式!F67=\"\",\"\",P_14号6様式!F67)","v":""},{"$f":"IF(P_14号6様式!G67=\"\",\"\",P_14号6様式!G67)","v":""},{"$f":"IF(P_14号6様式!H67=\"\",\"\",P_14号6様式!H67)","v":""},{"$f":"IF(P_14号6様式!I67=\"\",\"\",P_14号6様式!I67)","v":""},{"$f":"IF(P_14号6様式!J67=\"\",\"\",P_14号6様式!J67)","v":""},{"$f":"IF(P_14号6様式!K67=\"\",\"\",P_14号6様式!K67)","v":""},{"$f":"IF(P_14号6様式!L67=\"\",\"\",P_14号6様式!L67)","v":""},{"$f":"IF(P_14号6様式!M67=\"\",\"\",P_14号6様式!M67)","v":""},{"$f":"IF(P_14号6様式!N67=\"\",\"\",P_14号6様式!N67)","v":""},null,null,{"$f":"IF(P_14号6様式!O67=\"\",\"\",P_14号6様式!O67)","v":""},null,null,{"$f":"IF(P_14号6様式!P67=\"\",\"\",P_14号6様式!P67)","v":""},{"$f":"IF(P_14号6様式!Q67=\"\",\"\",P_14号6様式!Q67)","v":""},{"$f":"IF(P_14号6様式!R67=\"\",\"\",P_14号6様式!R67)","v":""},{"$f":"IF(P_14号6様式!S67=\"\",\"\",P_14号6様式!S67)","v":""},{"$f":"IF(P_14号6様式!T67=\"\",\"\",P_14号6様式!T67)","v":""}]
[{"$f":"IF(P_14号6様式!C68=\"\",\"\",P_14号6様式!C68)","v":""},null,{"$f":"IF(P_14号6様式!D68=\"\",\"\",P_14号6様式!D68)","v":""},{"$f":"IF(P_14号6様式!E68=\"\",\"\",P_14号6様式!E68)","v":""},{"$f":"IF(P_14号6様式!F68=\"\",\"\",P_14号6様式!F68)","v":""},{"$f":"IF(P_14号6様式!G68=\"\",\"\",P_14号6様式!G68)","v":""},{"$f":"IF(P_14号6様式!H68=\"\",\"\",P_14号6様式!H68)","v":""},{"$f":"IF(P_14号6様式!I68=\"\",\"\",P_14号6様式!I68)","v":""},{"$f":"IF(P_14号6様式!J68=\"\",\"\",P_14号6様式!J68)","v":""},{"$f":"IF(P_14号6様式!K68=\"\",\"\",P_14号6様式!K68)","v":""},{"$f":"IF(P_14号6様式!L68=\"\",\"\",P_14号6様式!L68)","v":""},{"$f":"IF(P_14号6様式!M68=\"\",\"\",P_14号6様式!M68)","v":""},{"$f":"IF(P_14号6様式!N68=\"\",\"\",P_14号6様式!N68)","v":""},null,null,{"$f":"IF(P_14号6様式!O68=\"\",\"\",P_14号6様式!O68)","v":""},null,null,{"$f":"IF(P_14号6様式!P68=\"\",\"\",P_14号6様式!P68)","v":""},{"$f":"IF(P_14号6様式!Q68=\"\",\"\",P_14号6様式!Q68)","v":""},{"$f":"IF(P_14号6様式!R68=\"\",\"\",P_14号6様式!R68)","v":""},{"$f":"IF(P_14号6様式!S68=\"\",\"\",P_14号6様式!S68)","v":""},{"$f":"IF(P_14号6様式!T68=\"\",\"\",P_14号6様式!T68)","v":""}]
[{"$f":"IF(P_14号6様式!C69=\"\",\"\",P_14号6様式!C69)","v":""},null,{"$f":"IF(P_14号6様式!D69=\"\",\"\",P_14号6様式!D69)","v":""},{"$f":"IF(P_14号6様式!E69=\"\",\"\",P_14号6様式!E69)","v":""},{"$f":"IF(P_14号6様式!F69=\"\",\"\",P_14号6様式!F69)","v":""},{"$f":"IF(P_14号6様式!G69=\"\",\"\",P_14号6様式!G69)","v":""},{"$f":"IF(P_14号6様式!H69=\"\",\"\",P_14号6様式!H69)","v":""},{"$f":"IF(P_14号6様式!I69=\"\",\"\",P_14号6様式!I69)","v":""},{"$f":"IF(P_14号6様式!J69=\"\",\"\",P_14号6様式!J69)","v":""},{"$f":"IF(P_14号6様式!K69=\"\",\"\",P_14号6様式!K69)","v":""},{"$f":"IF(P_14号6様式!L69=\"\",\"\",P_14号6様式!L69)","v":""},{"$f":"IF(P_14号6様式!M69=\"\",\"\",P_14号6様式!M69)","v":""},{"$f":"IF(P_14号6様式!N69=\"\",\"\",P_14号6様式!N69)","v":""},null,null,{"$f":"IF(P_14号6様式!O69=\"\",\"\",P_14号6様式!O69)","v":""},null,null,{"$f":"IF(P_14号6様式!P69=\"\",\"\",P_14号6様式!P69)","v":""},{"$f":"IF(P_14号6様式!Q69=\"\",\"\",P_14号6様式!Q69)","v":""},{"$f":"IF(P_14号6様式!R69=\"\",\"\",P_14号6様式!R69)","v":""},{"$f":"IF(P_14号6様式!S69=\"\",\"\",P_14号6様式!S69)","v":""},{"$f":"IF(P_14号6様式!T69=\"\",\"\",P_14号6様式!T69)","v":""}]
[{"$f":"IF(P_14号6様式!C70=\"\",\"\",P_14号6様式!C70)","v":""},null,{"$f":"IF(P_14号6様式!D70=\"\",\"\",P_14号6様式!D70)","v":""},{"$f":"IF(P_14号6様式!E70=\"\",\"\",P_14号6様式!E70)","v":""},{"$f":"IF(P_14号6様式!F70=\"\",\"\",P_14号6様式!F70)","v":""},{"$f":"IF(P_14号6様式!G70=\"\",\"\",P_14号6様式!G70)","v":""},{"$f":"IF(P_14号6様式!H70=\"\",\"\",P_14号6様式!H70)","v":""},{"$f":"IF(P_14号6様式!I70=\"\",\"\",P_14号6様式!I70)","v":""},{"$f":"IF(P_14号6様式!J70=\"\",\"\",P_14号6様式!J70)","v":""},{"$f":"IF(P_14号6様式!K70=\"\",\"\",P_14号6様式!K70)","v":""},{"$f":"IF(P_14号6様式!L70=\"\",\"\",P_14号6様式!L70)","v":""},{"$f":"IF(P_14号6様式!M70=\"\",\"\",P_14号6様式!M70)","v":""},{"$f":"IF(P_14号6様式!N70=\"\",\"\",P_14号6様式!N70)","v":""},null,null,{"$f":"IF(P_14号6様式!O70=\"\",\"\",P_14号6様式!O70)","v":""},null,null,{"$f":"IF(P_14号6様式!P70=\"\",\"\",P_14号6様式!P70)","v":""},{"$f":"IF(P_14号6様式!Q70=\"\",\"\",P_14号6様式!Q70)","v":""},{"$f":"IF(P_14号6様式!R70=\"\",\"\",P_14号6様式!R70)","v":""},{"$f":"IF(P_14号6様式!S70=\"\",\"\",P_14号6様式!S70)","v":""},{"$f":"IF(P_14号6様式!T70=\"\",\"\",P_14号6様式!T70)","v":""}]
[{"$f":"IF(P_14号6様式!C71=\"\",\"\",P_14号6様式!C71)","v":""},null,{"$f":"IF(P_14号6様式!D71=\"\",\"\",P_14号6様式!D71)","v":""},{"$f":"IF(P_14号6様式!E71=\"\",\"\",P_14号6様式!E71)","v":""},{"$f":"IF(P_14号6様式!F71=\"\",\"\",P_14号6様式!F71)","v":""},{"$f":"IF(P_14号6様式!G71=\"\",\"\",P_14号6様式!G71)","v":""},{"$f":"IF(P_14号6様式!H71=\"\",\"\",P_14号6様式!H71)","v":""},{"$f":"IF(P_14号6様式!I71=\"\",\"\",P_14号6様式!I71)","v":""},{"$f":"IF(P_14号6様式!J71=\"\",\"\",P_14号6様式!J71)","v":""},{"$f":"IF(P_14号6様式!K71=\"\",\"\",P_14号6様式!K71)","v":""},{"$f":"IF(P_14号6様式!L71=\"\",\"\",P_14号6様式!L71)","v":""},{"$f":"IF(P_14号6様式!M71=\"\",\"\",P_14号6様式!M71)","v":""},{"$f":"IF(P_14号6様式!N71=\"\",\"\",P_14号6様式!N71)","v":""},null,null,{"$f":"IF(P_14号6様式!O71=\"\",\"\",P_14号6様式!O71)","v":""},null,null,{"$f":"IF(P_14号6様式!P71=\"\",\"\",P_14号6様式!P71)","v":""},{"$f":"IF(P_14号6様式!Q71=\"\",\"\",P_14号6様式!Q71)","v":""},{"$f":"IF(P_14号6様式!R71=\"\",\"\",P_14号6様式!R71)","v":""},{"$f":"IF(P_14号6様式!S71=\"\",\"\",P_14号6様式!S71)","v":""},{"$f":"IF(P_14号6様式!T71=\"\",\"\",P_14号6様式!T71)","v":""}]
[{"$f":"IF(P_14号6様式!C72=\"\",\"\",P_14号6様式!C72)","v":""},null,{"$f":"IF(P_14号6様式!D72=\"\",\"\",P_14号6様式!D72)","v":""},{"$f":"IF(P_14号6様式!E72=\"\",\"\",P_14号6様式!E72)","v":""},{"$f":"IF(P_14号6様式!F72=\"\",\"\",P_14号6様式!F72)","v":""},{"$f":"IF(P_14号6様式!G72=\"\",\"\",P_14号6様式!G72)","v":""},{"$f":"IF(P_14号6様式!H72=\"\",\"\",P_14号6様式!H72)","v":""},{"$f":"IF(P_14号6様式!I72=\"\",\"\",P_14号6様式!I72)","v":""},{"$f":"IF(P_14号6様式!J72=\"\",\"\",P_14号6様式!J72)","v":""},{"$f":"IF(P_14号6様式!K72=\"\",\"\",P_14号6様式!K72)","v":""},{"$f":"IF(P_14号6様式!L72=\"\",\"\",P_14号6様式!L72)","v":""},{"$f":"IF(P_14号6様式!M72=\"\",\"\",P_14号6様式!M72)","v":""},{"$f":"IF(P_14号6様式!N72=\"\",\"\",P_14号6様式!N72)","v":""},null,null,{"$f":"IF(P_14号6様式!O72=\"\",\"\",P_14号6様式!O72)","v":""},null,null,{"$f":"IF(P_14号6様式!P72=\"\",\"\",P_14号6様式!P72)","v":""},{"$f":"IF(P_14号6様式!Q72=\"\",\"\",P_14号6様式!Q72)","v":""},{"$f":"IF(P_14号6様式!R72=\"\",\"\",P_14号6様式!R72)","v":""},{"$f":"IF(P_14号6様式!S72=\"\",\"\",P_14号6様式!S72)","v":""},{"$f":"IF(P_14号6様式!T72=\"\",\"\",P_14号6様式!T72)","v":""}]
[{"$f":"IF(P_14号6様式!C73=\"\",\"\",P_14号6様式!C73)","v":""},null,{"$f":"IF(P_14号6様式!D73=\"\",\"\",P_14号6様式!D73)","v":""},{"$f":"IF(P_14号6様式!E73=\"\",\"\",P_14号6様式!E73)","v":""},{"$f":"IF(P_14号6様式!F73=\"\",\"\",P_14号6様式!F73)","v":""},{"$f":"IF(P_14号6様式!G73=\"\",\"\",P_14号6様式!G73)","v":""},{"$f":"IF(P_14号6様式!H73=\"\",\"\",P_14号6様式!H73)","v":""},{"$f":"IF(P_14号6様式!I73=\"\",\"\",P_14号6様式!I73)","v":""},{"$f":"IF(P_14号6様式!J73=\"\",\"\",P_14号6様式!J73)","v":""},{"$f":"IF(P_14号6様式!K73=\"\",\"\",P_14号6様式!K73)","v":""},{"$f":"IF(P_14号6様式!L73=\"\",\"\",P_14号6様式!L73)","v":""},{"$f":"IF(P_14号6様式!M73=\"\",\"\",P_14号6様式!M73)","v":""},{"$f":"IF(P_14号6様式!N73=\"\",\"\",P_14号6様式!N73)","v":""},null,null,{"$f":"IF(P_14号6様式!O73=\"\",\"\",P_14号6様式!O73)","v":""},null,null,{"$f":"IF(P_14号6様式!P73=\"\",\"\",P_14号6様式!P73)","v":""},{"$f":"IF(P_14号6様式!Q73=\"\",\"\",P_14号6様式!Q73)","v":""},{"$f":"IF(P_14号6様式!R73=\"\",\"\",P_14号6様式!R73)","v":""},{"$f":"IF(P_14号6様式!S73=\"\",\"\",P_14号6様式!S73)","v":""},{"$f":"IF(P_14号6様式!T73=\"\",\"\",P_14号6様式!T73)","v":""}]
[{"$f":"IF(P_14号6様式!C74=\"\",\"\",P_14号6様式!C74)","v":""},null,{"$f":"IF(P_14号6様式!D74=\"\",\"\",P_14号6様式!D74)","v":""},{"$f":"IF(P_14号6様式!E74=\"\",\"\",P_14号6様式!E74)","v":""},{"$f":"IF(P_14号6様式!F74=\"\",\"\",P_14号6様式!F74)","v":""},{"$f":"IF(P_14号6様式!G74=\"\",\"\",P_14号6様式!G74)","v":""},{"$f":"IF(P_14号6様式!H74=\"\",\"\",P_14号6様式!H74)","v":""},{"$f":"IF(P_14号6様式!I74=\"\",\"\",P_14号6様式!I74)","v":""},{"$f":"IF(P_14号6様式!J74=\"\",\"\",P_14号6様式!J74)","v":""},{"$f":"IF(P_14号6様式!K74=\"\",\"\",P_14号6様式!K74)","v":""},{"$f":"IF(P_14号6様式!L74=\"\",\"\",P_14号6様式!L74)","v":""},{"$f":"IF(P_14号6様式!M74=\"\",\"\",P_14号6様式!M74)","v":""},{"$f":"IF(P_14号6様式!N74=\"\",\"\",P_14号6様式!N74)","v":""},null,null,{"$f":"IF(P_14号6様式!O74=\"\",\"\",P_14号6様式!O74)","v":""},null,null,{"$f":"IF(P_14号6様式!P74=\"\",\"\",P_14号6様式!P74)","v":""},{"$f":"IF(P_14号6様式!Q74=\"\",\"\",P_14号6様式!Q74)","v":""},{"$f":"IF(P_14号6様式!R74=\"\",\"\",P_14号6様式!R74)","v":""},{"$f":"IF(P_14号6様式!S74=\"\",\"\",P_14号6様式!S74)","v":""},{"$f":"IF(P_14号6様式!T74=\"\",\"\",P_14号6様式!T74)","v":""}]
[{"$f":"IF(P_14号6様式!C75=\"\",\"\",P_14号6様式!C75)","v":""},null,{"$f":"IF(P_14号6様式!D75=\"\",\"\",P_14号6様式!D75)","v":""},{"$f":"IF(P_14号6様式!E75=\"\",\"\",P_14号6様式!E75)","v":""},{"$f":"IF(P_14号6様式!F75=\"\",\"\",P_14号6様式!F75)","v":""},{"$f":"IF(P_14号6様式!G75=\"\",\"\",P_14号6様式!G75)","v":""},{"$f":"IF(P_14号6様式!H75=\"\",\"\",P_14号6様式!H75)","v":""},{"$f":"IF(P_14号6様式!I75=\"\",\"\",P_14号6様式!I75)","v":""},{"$f":"IF(P_14号6様式!J75=\"\",\"\",P_14号6様式!J75)","v":""},{"$f":"IF(P_14号6様式!K75=\"\",\"\",P_14号6様式!K75)","v":""},{"$f":"IF(P_14号6様式!L75=\"\",\"\",P_14号6様式!L75)","v":""},{"$f":"IF(P_14号6様式!M75=\"\",\"\",P_14号6様式!M75)","v":""},{"$f":"IF(P_14号6様式!N75=\"\",\"\",P_14号6様式!N75)","v":""},null,null,{"$f":"IF(P_14号6様式!O75=\"\",\"\",P_14号6様式!O75)","v":""},null,null,{"$f":"IF(P_14号6様式!P75=\"\",\"\",P_14号6様式!P75)","v":""},{"$f":"IF(P_14号6様式!Q75=\"\",\"\",P_14号6様式!Q75)","v":""},{"$f":"IF(P_14号6様式!R75=\"\",\"\",P_14号6様式!R75)","v":""},{"$f":"IF(P_14号6様式!S75=\"\",\"\",P_14号6様式!S75)","v":""},{"$f":"IF(P_14号6様式!T75=\"\",\"\",P_14号6様式!T75)","v":""}]
[{"$f":"IF(P_14号6様式!C76=\"\",\"\",P_14号6様式!C76)","v":""},null,{"$f":"IF(P_14号6様式!D76=\"\",\"\",P_14号6様式!D76)","v":""},{"$f":"IF(P_14号6様式!E76=\"\",\"\",P_14号6様式!E76)","v":""},{"$f":"IF(P_14号6様式!F76=\"\",\"\",P_14号6様式!F76)","v":""},{"$f":"IF(P_14号6様式!G76=\"\",\"\",P_14号6様式!G76)","v":""},{"$f":"IF(P_14号6様式!H76=\"\",\"\",P_14号6様式!H76)","v":""},{"$f":"IF(P_14号6様式!I76=\"\",\"\",P_14号6様式!I76)","v":""},{"$f":"IF(P_14号6様式!J76=\"\",\"\",P_14号6様式!J76)","v":""},{"$f":"IF(P_14号6様式!K76=\"\",\"\",P_14号6様式!K76)","v":""},{"$f":"IF(P_14号6様式!L76=\"\",\"\",P_14号6様式!L76)","v":""},{"$f":"IF(P_14号6様式!M76=\"\",\"\",P_14号6様式!M76)","v":""},{"$f":"IF(P_14号6様式!N76=\"\",\"\",P_14号6様式!N76)","v":""},null,null,{"$f":"IF(P_14号6様式!O76=\"\",\"\",P_14号6様式!O76)","v":""},null,null,{"$f":"IF(P_14号6様式!P76=\"\",\"\",P_14号6様式!P76)","v":""},{"$f":"IF(P_14号6様式!Q76=\"\",\"\",P_14号6様式!Q76)","v":""},{"$f":"IF(P_14号6様式!R76=\"\",\"\",P_14号6様式!R76)","v":""},{"$f":"IF(P_14号6様式!S76=\"\",\"\",P_14号6様式!S76)","v":""},{"$f":"IF(P_14号6様式!T76=\"\",\"\",P_14号6様式!T76)","v":""}]
[{"$f":"IF(P_14号6様式!C77=\"\",\"\",P_14号6様式!C77)","v":""},null,{"$f":"IF(P_14号6様式!D77=\"\",\"\",P_14号6様式!D77)","v":""},{"$f":"IF(P_14号6様式!E77=\"\",\"\",P_14号6様式!E77)","v":""},{"$f":"IF(P_14号6様式!F77=\"\",\"\",P_14号6様式!F77)","v":""},{"$f":"IF(P_14号6様式!G77=\"\",\"\",P_14号6様式!G77)","v":""},{"$f":"IF(P_14号6様式!H77=\"\",\"\",P_14号6様式!H77)","v":""},{"$f":"IF(P_14号6様式!I77=\"\",\"\",P_14号6様式!I77)","v":""},{"$f":"IF(P_14号6様式!J77=\"\",\"\",P_14号6様式!J77)","v":""},{"$f":"IF(P_14号6様式!K77=\"\",\"\",P_14号6様式!K77)","v":""},{"$f":"IF(P_14号6様式!L77=\"\",\"\",P_14号6様式!L77)","v":""},{"$f":"IF(P_14号6様式!M77=\"\",\"\",P_14号6様式!M77)","v":""},{"$f":"IF(P_14号6様式!N77=\"\",\"\",P_14号6様式!N77)","v":""},null,null,{"$f":"IF(P_14号6様式!O77=\"\",\"\",P_14号6様式!O77)","v":""},null,null,{"$f":"IF(P_14号6様式!P77=\"\",\"\",P_14号6様式!P77)","v":""},{"$f":"IF(P_14号6様式!Q77=\"\",\"\",P_14号6様式!Q77)","v":""},{"$f":"IF(P_14号6様式!R77=\"\",\"\",P_14号6様式!R77)","v":""},{"$f":"IF(P_14号6様式!S77=\"\",\"\",P_14号6様式!S77)","v":""},{"$f":"IF(P_14号6様式!T77=\"\",\"\",P_14号6様式!T77)","v":""}]
[{"$f":"IF(P_14号6様式!C78=\"\",\"\",P_14号6様式!C78)","v":""},null,{"$f":"IF(P_14号6様式!D78=\"\",\"\",P_14号6様式!D78)","v":""},{"$f":"IF(P_14号6様式!E78=\"\",\"\",P_14号6様式!E78)","v":""},{"$f":"IF(P_14号6様式!F78=\"\",\"\",P_14号6様式!F78)","v":""},{"$f":"IF(P_14号6様式!G78=\"\",\"\",P_14号6様式!G78)","v":""},{"$f":"IF(P_14号6様式!H78=\"\",\"\",P_14号6様式!H78)","v":""},{"$f":"IF(P_14号6様式!I78=\"\",\"\",P_14号6様式!I78)","v":""},{"$f":"IF(P_14号6様式!J78=\"\",\"\",P_14号6様式!J78)","v":""},{"$f":"IF(P_14号6様式!K78=\"\",\"\",P_14号6様式!K78)","v":""},{"$f":"IF(P_14号6様式!L78=\"\",\"\",P_14号6様式!L78)","v":""},{"$f":"IF(P_14号6様式!M78=\"\",\"\",P_14号6様式!M78)","v":""},{"$f":"IF(P_14号6様式!N78=\"\",\"\",P_14号6様式!N78)","v":""},null,null,{"$f":"IF(P_14号6様式!O78=\"\",\"\",P_14号6様式!O78)","v":""},null,null,{"$f":"IF(P_14号6様式!P78=\"\",\"\",P_14号6様式!P78)","v":""},{"$f":"IF(P_14号6様式!Q78=\"\",\"\",P_14号6様式!Q78)","v":""},{"$f":"IF(P_14号6様式!R78=\"\",\"\",P_14号6様式!R78)","v":""},{"$f":"IF(P_14号6様式!S78=\"\",\"\",P_14号6様式!S78)","v":""},{"$f":"IF(P_14号6様式!T78=\"\",\"\",P_14号6様式!T78)","v":""}]
[{"$f":"IF(P_14号6様式!C79=\"\",\"\",P_14号6様式!C79)","v":""},null,{"$f":"IF(P_14号6様式!D79=\"\",\"\",P_14号6様式!D79)","v":""},{"$f":"IF(P_14号6様式!E79=\"\",\"\",P_14号6様式!E79)","v":""},{"$f":"IF(P_14号6様式!F79=\"\",\"\",P_14号6様式!F79)","v":""},{"$f":"IF(P_14号6様式!G79=\"\",\"\",P_14号6様式!G79)","v":""},{"$f":"IF(P_14号6様式!H79=\"\",\"\",P_14号6様式!H79)","v":""},{"$f":"IF(P_14号6様式!I79=\"\",\"\",P_14号6様式!I79)","v":""},{"$f":"IF(P_14号6様式!J79=\"\",\"\",P_14号6様式!J79)","v":""},{"$f":"IF(P_14号6様式!K79=\"\",\"\",P_14号6様式!K79)","v":""},{"$f":"IF(P_14号6様式!L79=\"\",\"\",P_14号6様式!L79)","v":""},{"$f":"IF(P_14号6様式!M79=\"\",\"\",P_14号6様式!M79)","v":""},{"$f":"IF(P_14号6様式!N79=\"\",\"\",P_14号6様式!N79)","v":""},null,null,{"$f":"IF(P_14号6様式!O79=\"\",\"\",P_14号6様式!O79)","v":""},null,null,{"$f":"IF(P_14号6様式!P79=\"\",\"\",P_14号6様式!P79)","v":""},{"$f":"IF(P_14号6様式!Q79=\"\",\"\",P_14号6様式!Q79)","v":""},{"$f":"IF(P_14号6様式!R79=\"\",\"\",P_14号6様式!R79)","v":""},{"$f":"IF(P_14号6様式!S79=\"\",\"\",P_14号6様式!S79)","v":""},{"$f":"IF(P_14号6様式!T79=\"\",\"\",P_14号6様式!T79)","v":""}]
[{"$f":"IF(P_14号6様式!C80=\"\",\"\",P_14号6様式!C80)","v":""},null,{"$f":"IF(P_14号6様式!D80=\"\",\"\",P_14号6様式!D80)","v":""},{"$f":"IF(P_14号6様式!E80=\"\",\"\",P_14号6様式!E80)","v":""},{"$f":"IF(P_14号6様式!F80=\"\",\"\",P_14号6様式!F80)","v":""},{"$f":"IF(P_14号6様式!G80=\"\",\"\",P_14号6様式!G80)","v":""},{"$f":"IF(P_14号6様式!H80=\"\",\"\",P_14号6様式!H80)","v":""},{"$f":"IF(P_14号6様式!I80=\"\",\"\",P_14号6様式!I80)","v":""},{"$f":"IF(P_14号6様式!J80=\"\",\"\",P_14号6様式!J80)","v":""},{"$f":"IF(P_14号6様式!K80=\"\",\"\",P_14号6様式!K80)","v":""},{"$f":"IF(P_14号6様式!L80=\"\",\"\",P_14号6様式!L80)","v":""},{"$f":"IF(P_14号6様式!M80=\"\",\"\",P_14号6様式!M80)","v":""},{"$f":"IF(P_14号6様式!N80=\"\",\"\",P_14号6様式!N80)","v":""},null,null,{"$f":"IF(P_14号6様式!O80=\"\",\"\",P_14号6様式!O80)","v":""},null,null,{"$f":"IF(P_14号6様式!P80=\"\",\"\",P_14号6様式!P80)","v":""},{"$f":"IF(P_14号6様式!Q80=\"\",\"\",P_14号6様式!Q80)","v":""},{"$f":"IF(P_14号6様式!R80=\"\",\"\",P_14号6様式!R80)","v":""},{"$f":"IF(P_14号6様式!S80=\"\",\"\",P_14号6様式!S80)","v":""},{"$f":"IF(P_14号6様式!T80=\"\",\"\",P_14号6様式!T80)","v":""}]
[{"$f":"IF(P_14号6様式!C81=\"\",\"\",P_14号6様式!C81)","v":""},null,{"$f":"IF(P_14号6様式!D81=\"\",\"\",P_14号6様式!D81)","v":""},{"$f":"IF(P_14号6様式!E81=\"\",\"\",P_14号6様式!E81)","v":""},{"$f":"IF(P_14号6様式!F81=\"\",\"\",P_14号6様式!F81)","v":""},{"$f":"IF(P_14号6様式!G81=\"\",\"\",P_14号6様式!G81)","v":""},{"$f":"IF(P_14号6様式!H81=\"\",\"\",P_14号6様式!H81)","v":""},{"$f":"IF(P_14号6様式!I81=\"\",\"\",P_14号6様式!I81)","v":""},{"$f":"IF(P_14号6様式!J81=\"\",\"\",P_14号6様式!J81)","v":""},{"$f":"IF(P_14号6様式!K81=\"\",\"\",P_14号6様式!K81)","v":""},{"$f":"IF(P_14号6様式!L81=\"\",\"\",P_14号6様式!L81)","v":""},{"$f":"IF(P_14号6様式!M81=\"\",\"\",P_14号6様式!M81)","v":""},{"$f":"IF(P_14号6様式!N81=\"\",\"\",P_14号6様式!N81)","v":""},null,null,{"$f":"IF(P_14号6様式!O81=\"\",\"\",P_14号6様式!O81)","v":""},null,null,{"$f":"IF(P_14号6様式!P81=\"\",\"\",P_14号6様式!P81)","v":""},{"$f":"IF(P_14号6様式!Q81=\"\",\"\",P_14号6様式!Q81)","v":""},{"$f":"IF(P_14号6様式!R81=\"\",\"\",P_14号6様式!R81)","v":""},{"$f":"IF(P_14号6様式!S81=\"\",\"\",P_14号6様式!S81)","v":""},{"$f":"IF(P_14号6様式!T81=\"\",\"\",P_14号6様式!T81)","v":""}]
[{"$f":"IF(P_14号6様式!C82=\"\",\"\",P_14号6様式!C82)","v":""},null,{"$f":"IF(P_14号6様式!D82=\"\",\"\",P_14号6様式!D82)","v":""},{"$f":"IF(P_14号6様式!E82=\"\",\"\",P_14号6様式!E82)","v":""},{"$f":"IF(P_14号6様式!F82=\"\",\"\",P_14号6様式!F82)","v":""},{"$f":"IF(P_14号6様式!G82=\"\",\"\",P_14号6様式!G82)","v":""},{"$f":"IF(P_14号6様式!H82=\"\",\"\",P_14号6様式!H82)","v":""},{"$f":"IF(P_14号6様式!I82=\"\",\"\",P_14号6様式!I82)","v":""},{"$f":"IF(P_14号6様式!J82=\"\",\"\",P_14号6様式!J82)","v":""},{"$f":"IF(P_14号6様式!K82=\"\",\"\",P_14号6様式!K82)","v":""},{"$f":"IF(P_14号6様式!L82=\"\",\"\",P_14号6様式!L82)","v":""},{"$f":"IF(P_14号6様式!M82=\"\",\"\",P_14号6様式!M82)","v":""},{"$f":"IF(P_14号6様式!N82=\"\",\"\",P_14号6様式!N82)","v":""},null,null,{"$f":"IF(P_14号6様式!O82=\"\",\"\",P_14号6様式!O82)","v":""},null,null,{"$f":"IF(P_14号6様式!P82=\"\",\"\",P_14号6様式!P82)","v":""},{"$f":"IF(P_14号6様式!Q82=\"\",\"\",P_14号6様式!Q82)","v":""},{"$f":"IF(P_14号6様式!R82=\"\",\"\",P_14号6様式!R82)","v":""},{"$f":"IF(P_14号6様式!S82=\"\",\"\",P_14号6様式!S82)","v":""},{"$f":"IF(P_14号6様式!T82=\"\",\"\",P_14号6様式!T82)","v":""}]
[{"$f":"IF(P_14号6様式!C83=\"\",\"\",P_14号6様式!C83)","v":""},null,{"$f":"IF(P_14号6様式!D83=\"\",\"\",P_14号6様式!D83)","v":""},{"$f":"IF(P_14号6様式!E83=\"\",\"\",P_14号6様式!E83)","v":""},{"$f":"IF(P_14号6様式!F83=\"\",\"\",P_14号6様式!F83)","v":""},{"$f":"IF(P_14号6様式!G83=\"\",\"\",P_14号6様式!G83)","v":""},{"$f":"IF(P_14号6様式!H83=\"\",\"\",P_14号6様式!H83)","v":""},{"$f":"IF(P_14号6様式!I83=\"\",\"\",P_14号6様式!I83)","v":""},{"$f":"IF(P_14号6様式!J83=\"\",\"\",P_14号6様式!J83)","v":""},{"$f":"IF(P_14号6様式!K83=\"\",\"\",P_14号6様式!K83)","v":""},{"$f":"IF(P_14号6様式!L83=\"\",\"\",P_14号6様式!L83)","v":""},{"$f":"IF(P_14号6様式!M83=\"\",\"\",P_14号6様式!M83)","v":""},{"$f":"IF(P_14号6様式!N83=\"\",\"\",P_14号6様式!N83)","v":""},null,null,{"$f":"IF(P_14号6様式!O83=\"\",\"\",P_14号6様式!O83)","v":""},null,null,{"$f":"IF(P_14号6様式!P83=\"\",\"\",P_14号6様式!P83)","v":""},{"$f":"IF(P_14号6様式!Q83=\"\",\"\",P_14号6様式!Q83)","v":""},{"$f":"IF(P_14号6様式!R83=\"\",\"\",P_14号6様式!R83)","v":""},{"$f":"IF(P_14号6様式!S83=\"\",\"\",P_14号6様式!S83)","v":""},{"$f":"IF(P_14号6様式!T83=\"\",\"\",P_14号6様式!T83)","v":""}]
[{"$f":"IF(P_14号6様式!C84=\"\",\"\",P_14号6様式!C84)","v":""},null,{"$f":"IF(P_14号6様式!D84=\"\",\"\",P_14号6様式!D84)","v":""},{"$f":"IF(P_14号6様式!E84=\"\",\"\",P_14号6様式!E84)","v":""},{"$f":"IF(P_14号6様式!F84=\"\",\"\",P_14号6様式!F84)","v":""},{"$f":"IF(P_14号6様式!G84=\"\",\"\",P_14号6様式!G84)","v":""},{"$f":"IF(P_14号6様式!H84=\"\",\"\",P_14号6様式!H84)","v":""},{"$f":"IF(P_14号6様式!I84=\"\",\"\",P_14号6様式!I84)","v":""},{"$f":"IF(P_14号6様式!J84=\"\",\"\",P_14号6様式!J84)","v":""},{"$f":"IF(P_14号6様式!K84=\"\",\"\",P_14号6様式!K84)","v":""},{"$f":"IF(P_14号6様式!L84=\"\",\"\",P_14号6様式!L84)","v":""},{"$f":"IF(P_14号6様式!M84=\"\",\"\",P_14号6様式!M84)","v":""},{"$f":"IF(P_14号6様式!N84=\"\",\"\",P_14号6様式!N84)","v":""},null,null,{"$f":"IF(P_14号6様式!O84=\"\",\"\",P_14号6様式!O84)","v":""},null,null,{"$f":"IF(P_14号6様式!P84=\"\",\"\",P_14号6様式!P84)","v":""},{"$f":"IF(P_14号6様式!Q84=\"\",\"\",P_14号6様式!Q84)","v":""},{"$f":"IF(P_14号6様式!R84=\"\",\"\",P_14号6様式!R84)","v":""},{"$f":"IF(P_14号6様式!S84=\"\",\"\",P_14号6様式!S84)","v":""},{"$f":"IF(P_14号6様式!T84=\"\",\"\",P_14号6様式!T84)","v":""}]
[{"$f":"IF(P_14号6様式!C85=\"\",\"\",P_14号6様式!C85)","v":""},null,{"$f":"IF(P_14号6様式!D85=\"\",\"\",P_14号6様式!D85)","v":""},{"$f":"IF(P_14号6様式!E85=\"\",\"\",P_14号6様式!E85)","v":""},{"$f":"IF(P_14号6様式!F85=\"\",\"\",P_14号6様式!F85)","v":""},{"$f":"IF(P_14号6様式!G85=\"\",\"\",P_14号6様式!G85)","v":""},{"$f":"IF(P_14号6様式!H85=\"\",\"\",P_14号6様式!H85)","v":""},{"$f":"IF(P_14号6様式!I85=\"\",\"\",P_14号6様式!I85)","v":""},{"$f":"IF(P_14号6様式!J85=\"\",\"\",P_14号6様式!J85)","v":""},{"$f":"IF(P_14号6様式!K85=\"\",\"\",P_14号6様式!K85)","v":""},{"$f":"IF(P_14号6様式!L85=\"\",\"\",P_14号6様式!L85)","v":""},{"$f":"IF(P_14号6様式!M85=\"\",\"\",P_14号6様式!M85)","v":""},{"$f":"IF(P_14号6様式!N85=\"\",\"\",P_14号6様式!N85)","v":""},null,null,{"$f":"IF(P_14号6様式!O85=\"\",\"\",P_14号6様式!O85)","v":""},null,null,{"$f":"IF(P_14号6様式!P85=\"\",\"\",P_14号6様式!P85)","v":""},{"$f":"IF(P_14号6様式!Q85=\"\",\"\",P_14号6様式!Q85)","v":""},{"$f":"IF(P_14号6様式!R85=\"\",\"\",P_14号6様式!R85)","v":""},{"$f":"IF(P_14号6様式!S85=\"\",\"\",P_14号6様式!S85)","v":""},{"$f":"IF(P_14号6様式!T85=\"\",\"\",P_14号6様式!T85)","v":""}]
[{"$f":"IF(P_14号6様式!C86=\"\",\"\",P_14号6様式!C86)","v":""},null,{"$f":"IF(P_14号6様式!D86=\"\",\"\",P_14号6様式!D86)","v":""},{"$f":"IF(P_14号6様式!E86=\"\",\"\",P_14号6様式!E86)","v":""},{"$f":"IF(P_14号6様式!F86=\"\",\"\",P_14号6様式!F86)","v":""},{"$f":"IF(P_14号6様式!G86=\"\",\"\",P_14号6様式!G86)","v":""},{"$f":"IF(P_14号6様式!H86=\"\",\"\",P_14号6様式!H86)","v":""},{"$f":"IF(P_14号6様式!I86=\"\",\"\",P_14号6様式!I86)","v":""},{"$f":"IF(P_14号6様式!J86=\"\",\"\",P_14号6様式!J86)","v":""},{"$f":"IF(P_14号6様式!K86=\"\",\"\",P_14号6様式!K86)","v":""},{"$f":"IF(P_14号6様式!L86=\"\",\"\",P_14号6様式!L86)","v":""},{"$f":"IF(P_14号6様式!M86=\"\",\"\",P_14号6様式!M86)","v":""},{"$f":"IF(P_14号6様式!N86=\"\",\"\",P_14号6様式!N86)","v":""},null,null,{"$f":"IF(P_14号6様式!O86=\"\",\"\",P_14号6様式!O86)","v":""},null,null,{"$f":"IF(P_14号6様式!P86=\"\",\"\",P_14号6様式!P86)","v":""},{"$f":"IF(P_14号6様式!Q86=\"\",\"\",P_14号6様式!Q86)","v":""},{"$f":"IF(P_14号6様式!R86=\"\",\"\",P_14号6様式!R86)","v":""},{"$f":"IF(P_14号6様式!S86=\"\",\"\",P_14号6様式!S86)","v":""},{"$f":"IF(P_14号6様式!T86=\"\",\"\",P_14号6様式!T86)","v":""}]
[{"$f":"IF(P_14号6様式!C87=\"\",\"\",P_14号6様式!C87)","v":""},null,{"$f":"IF(P_14号6様式!D87=\"\",\"\",P_14号6様式!D87)","v":""},{"$f":"IF(P_14号6様式!E87=\"\",\"\",P_14号6様式!E87)","v":""},{"$f":"IF(P_14号6様式!F87=\"\",\"\",P_14号6様式!F87)","v":""},{"$f":"IF(P_14号6様式!G87=\"\",\"\",P_14号6様式!G87)","v":""},{"$f":"IF(P_14号6様式!H87=\"\",\"\",P_14号6様式!H87)","v":""},{"$f":"IF(P_14号6様式!I87=\"\",\"\",P_14号6様式!I87)","v":""},{"$f":"IF(P_14号6様式!J87=\"\",\"\",P_14号6様式!J87)","v":""},{"$f":"IF(P_14号6様式!K87=\"\",\"\",P_14号6様式!K87)","v":""},{"$f":"IF(P_14号6様式!L87=\"\",\"\",P_14号6様式!L87)","v":""},{"$f":"IF(P_14号6様式!M87=\"\",\"\",P_14号6様式!M87)","v":""},{"$f":"IF(P_14号6様式!N87=\"\",\"\",P_14号6様式!N87)","v":""},null,null,{"$f":"IF(P_14号6様式!O87=\"\",\"\",P_14号6様式!O87)","v":""},null,null,{"$f":"IF(P_14号6様式!P87=\"\",\"\",P_14号6様式!P87)","v":""},{"$f":"IF(P_14号6様式!Q87=\"\",\"\",P_14号6様式!Q87)","v":""},{"$f":"IF(P_14号6様式!R87=\"\",\"\",P_14号6様式!R87)","v":""},{"$f":"IF(P_14号6様式!S87=\"\",\"\",P_14号6様式!S87)","v":""},{"$f":"IF(P_14号6様式!T87=\"\",\"\",P_14号6様式!T87)","v":""}]
[]
["市　計",null,{"$f":"IF(P_14号6様式!U45=\"\",\"\",P_14号6様式!U45)","v":562591},{"$f":"IF(P_14号6様式!V45=\"\",\"\",P_14号6様式!V45)","v":656612},{"$f":"IF(P_14号6様式!W45=\"\",\"\",P_14号6様式!W45)","v":1219203},{"$f":"IF(P_14号6様式!X45=\"\",\"\",P_14号6様式!X45)","v":310508},{"$f":"IF(P_14号6様式!Y45=\"\",\"\",P_14号6様式!Y45)","v":355720},{"$f":"IF(P_14号6様式!Z45=\"\",\"\",P_14号6様式!Z45)","v":666228},{"$f":"IF(P_14号6様式!AA45=\"\",\"\",P_14号6様式!AA45)","v":252083},{"$f":"IF(P_14号6様式!AB45=\"\",\"\",P_14号6様式!AB45)","v":300892},{"$f":"IF(P_14号6様式!AC45=\"\",\"\",P_14号6様式!AC45)","v":552975},{"$f":"IF(P_14号6様式!AD45=\"\",\"\",P_14号6様式!AD45)","v":55.192493303305604},{"$f":"IF(P_14号6様式!AE45=\"\",\"\",P_14号6様式!AE45)","v":54.1750683813272},null,null,{"$f":"IF(P_14号6様式!AF45=\"\",\"\",P_14号6様式!AF45)","v":54.644550579353897},null,null,null,{"$f":"IF(P_14号6様式!AG45=\"\",\"\",P_14号6様式!AG45)","v":"22:23:00"},{"$f":"IF(P_14号6様式!AH45=\"\",\"\",P_14号6様式!AH45)","v":50.094993084072897},{"$f":"IF(P_14号6様式!AI45=\"\",\"\",P_14号6様式!AI45)","v":47.918205402105897},{"$f":"IF(P_14号6様式!AJ45=\"\",\"\",P_14号6様式!AJ45)","v":48.918743078512598}]
["町村計",null,{"$f":"IF(P_14号6様式!AK45=\"\",\"\",P_14号6様式!AK45)","v":76392},{"$f":"IF(P_14号6様式!AL45=\"\",\"\",P_14号6様式!AL45)","v":83247},{"$f":"IF(P_14号6様式!AM45=\"\",\"\",P_14号6様式!AM45)","v":159639},{"$f":"IF(P_14号6様式!AN45=\"\",\"\",P_14号6様式!AN45)","v":52014},{"$f":"IF(P_14号6様式!AO45=\"\",\"\",P_14号6様式!AO45)","v":55063},{"$f":"IF(P_14号6様式!AP45=\"\",\"\",P_14号6様式!AP45)","v":107077},{"$f":"IF(P_14号6様式!AQ45=\"\",\"\",P_14号6様式!AQ45)","v":24378},{"$f":"IF(P_14号6様式!AR45=\"\",\"\",P_14号6様式!AR45)","v":28184},{"$f":"IF(P_14号6様式!AS45=\"\",\"\",P_14号6様式!AS45)","v":52562},{"$f":"IF(P_14号6様式!AT45=\"\",\"\",P_14号6様式!AT45)","v":68.088281495444505},{"$f":"IF(P_14号6様式!AU45=\"\",\"\",P_14号6様式!AU45)","v":66.1441253138251},null,null,{"$f":"IF(P_14号6様式!AV45=\"\",\"\",P_14号6様式!AV45)","v":67.0744617543332},null,null,null,{"$f":"IF(P_14号6様式!AW45=\"\",\"\",P_14号6様式!AW45)","v":"23:02:00"},{"$f":"IF(P_14号6様式!AX45=\"\",\"\",P_14号6様式!AX45)","v":62.897873752456803},{"$f":"IF(P_14号6様式!AY45=\"\",\"\",P_14号6様式!AY45)","v":60.991092216983901},{"$f":"IF(P_14号6様式!AZ45=\"\",\"\",P_14号6様式!AZ45)","v":61.8983137300146}]
["県計",null,{"$f":"IF(P_14号6様式!BA45=\"\",\"\",P_14号6様式!BA45)","v":638983},{"$f":"IF(P_14号6様式!BB45=\"\",\"\",P_14号6様式!BB45)","v":739859},{"$f":"IF(P_14号6様式!BC45=\"\",\"\",P_14号6様式!BC45)","v":1378842},{"$f":"IF(P_14号6様式!BD45=\"\",\"\",P_14号6様式!BD45)","v":362522},{"$f":"IF(P_14号6様式!BE45=\"\",\"\",P_14号6様式!BE45)","v":410783},{"$f":"IF(P_14号6様式!BF45=\"\",\"\",P_14号6様式!BF45)","v":773305},{"$f":"IF(P_14号6様式!BG45=\"\",\"\",P_14号6様式!BG45)","v":276461},{"$f":"IF(P_14号6様式!BH45=\"\",\"\",P_14号6様式!BH45)","v":329076},{"$f":"IF(P_14号6様式!BI45=\"\",\"\",P_14号6様式!BI45)","v":605537},{"$f":"IF(P_14号6様式!BJ45=\"\",\"\",P_14号6様式!BJ45)","v":56.7342167162507},{"$f":"IF(P_14号6様式!BK45=\"\",\"\",P_14号6様式!BK45)","v":55.521795369117598},null,null,{"$f":"IF(P_14号6様式!BL45=\"\",\"\",P_14号6様式!BL45)","v":56.083655705294703},null,null,null,{"$f":"IF(P_14号6様式!BM45=\"\",\"\",P_14号6様式!BM45)","v":"23:02:00"},{"$f":"IF(P_14号6様式!BN45=\"\",\"\",P_14号6様式!BN45)","v":51.672871809149001},{"$f":"IF(P_14号6様式!BO45=\"\",\"\",P_14号6様式!BO45)","v":49.4399490850547},{"$f":"IF(P_14号6様式!BP45=\"\",\"\",P_14号6様式!BP45)","v":50.470599509798198}]

{"sheet":"パラメタシート","index":1,"n_rows":1,"n_cols":2,"rows_kept":1,"cut":false,"hidden":false,"merged":[]}
["執行日","2017-10-22"]

{"sheet":"P_14号6様式","index":2,"n_rows":87,"n_cols":71,"rows_kept":87,"cut":false,"hidden":false,"merged":[]}
["頁番号","行番号","市区町村名","当日有権者男","当日有権者女","当日有権者計","投票者男","投票者女","投票者計","棄権者男","棄権者女","棄権者計","投票率男","投票率女","投票率計","投票率順位","投票結了時刻","前回投票率男","前回投票率女","前回投票率計","市部有権者男","市部有権者女","市部有権者計","市部投票者男","市部投票者女","市部投票者計","市部棄権者男","市部棄権者女","市部棄権者計","市部投票率男","市部投票率女","市部投票率計","市部投票結了時刻","市部前回投票率男","市部前回投票率女","市部前回投票率計","郡部有権者男","郡部有権者女","郡部有権者計","郡部投票者男","郡部投票者女","郡部投票者計","郡部棄権者男","郡部棄権者女","郡部棄権者計","郡部投票率男","郡部投票率女","郡部投票率計","郡部投票結了時刻","郡部前回投票率男","郡部前回投票率女","郡部前回投票率計","県計有権者男","県計有権者女","県計有権者計","県計投票者男","県計投票者女","県計投票者計","県計棄権者男","県計棄権者女","県計棄権者計","県計投票率男","県計投票率女","県計投票率計","県計投票結了時刻","県計前回投票率男","県計前回投票率女","県計前回投票率計","選挙名","報告回数","投票時刻"]
[1,1,"　 鹿児島市１区",162385,197359,359744,84738,101249,185987,77647,96110,173757,52.183391323090198,51.3019421460384,51.6998198719089,44,"21:57:00",47.657588134540497,45.195106245975502,46.305358799701303,562591,656612,1219203,310508,355720,666228,252083,300892,552975,55.192493303305604,54.1750683813272,54.644550579353897,"22:23:00",50.094993084072897,47.918205402105897,48.918743078512598,76392,83247,159639,52014,55063,107077,24378,28184,52562,68.088281495444505,66.1441253138251,67.0744617543332,"23:02:00",62.897873752456803,60.991092216983901,61.8983137300146,638983,739859,1378842,362522,410783,773305,276461,329076,605537,56.7342167162507,55.521795369117598,56.083655705294703,"23:02:00",51.672871809149001,49.4399490850547,50.470599509798198,"衆議院比例代表選出議員選挙"]
[1,2,"　 鹿児島市２区",65749,75209,140958,31355,35293,66648,34394,39916,74310,47.688938234802102,46.9265646398702,47.282169156770102,46,"22:23:00",38.981692464838503,36.9975859576383,37.919477788486802,562591,656612,1219203,310508,355720,666228,252083,300892,552975,55.192493303305604,54.1750683813272,54.644550579353897,"22:23:00",50.094993084072897,47.918205402105897,48.918743078512598,76392,83247,159639,52014,55063,107077,24378,28184,52562,68.088281495444505,66.1441253138251,67.0744617543332,"23:02:00",62.897873752456803,60.991092216983901,61.8983137300146,638983,739859,1378842,362522,410783,773305,276461,329076,605537,56.7342167162507,55.521795369117598,56.083655705294703,"23:02:00",51.672871809149001,49.4399490850547,50.470599509798198,"衆議院比例代表選出議員選挙"]
[1,3,"＊（鹿児島市）計",228134,272568,500702,116093,136542,252635,112041,136026,248067,50.888074552675199,50.094655278682801,50.456159551989003,null,"22:23:00",45.182089659316098,42.947735243750103,43.963724442777099,562591,656612,1219203,310508,355720,666228,252083,300892,552975,55.192493303305604,54.1750683813272,54.644550579353897,"22:23:00",50.094993084072897,47.918205402105897,48.918743078512598,76392,83247,159639,52014,55063,107077,24378,28184,52562,68.088281495444505,66.1441253138251,67.0744617543332,"23:02:00",62.897873752456803,60.991092216983901,61.8983137300146,638983,739859,1378842,362522,410783,773305,276461,329076,605537,56.7342167162507,55.521795369117598,56.083655705294703,"23:02:00",51.672871809149001,49.4399490850547,50.470599509798198,"衆議院比例代表選出議員選挙"]
[1,4,"　 鹿屋市",39862,44834,84696,20663,22771,43434,19199,22063,41262,51.8363353569816,50.789579337110197,51.282232927174803,45,"21:26:00",47.595027004993398,45.604050905180102,46.535692146297301,562591,656612,1219203,310508,355720,666228,252083,300892,552975,55.192493303305604,54.1750683813272,54.644550579353897,"22:23:00",50.094993084072897,47.918205402105897,48.918743078512598,76392,83247,159639,52014,55063,107077,24378,28184,52562,68.088281495444505,66.1441253138251,67.0744617543332,"23:02:00",62.897873752456803,60.991092216983901,61.8983137300146,638983,739859,1378842,362522,410783,773305,276461,329076,605537,56.7342167162507,55.521795369117598,56.083655705294703,"23:02:00",51.672871809149001,49.4399490850547,50.470599509798198,"衆議院比例代表選出議員選挙"]
[1,5,"　 枕崎市",8476,10155,18631,4498,5434,9932,3978,4721,8699,53.067484662576703,53.510585918266898,53.309001127153699,41,"20:12:00",54.542302357836299,54.905856750875202,54.742209042193402,562591,656612,1219203,310508,355720,666228,252083,300892,552975,55.192493303305604,54.1750683813272,54.644550579353897,"22:23:00",50.094993084072897,47.918205402105897,48.918743078512598,76392,83247,159639,52014,55063,107077,24378,28184,52562,68.088281495444505,66.1441253138251,67.0744617543332,"23:02:00",62.897873752456803,60.991092216983901,61.8983137300146,638983,739859,1378842,362522,410783,773305,276461,329076,605537,56.7342167162507,55.521795369117598,56.083655705294703,"23:02:00",51.672871809149001,49.4399490850547,50.470599509798198,"衆議院比例代表選出議員選挙"]
[1,6,"　 阿久根市",8478,9799,18277,5459,6039,11498,3019,3760,6779,64.390186364708697,61.628737626288398,62.909667888603202,23,"20:38:00",56.041308089500902,52.700715616116099,54.239796997250998,562591,656612,1219203,310508,355720,666228,252083,300892,552975,55.192493303305604,54.1750683813272,54.644550579353897,"22:23:00",50.094993084072897,47.918205402105897,48.918743078512598,76392,83247,159639,52014,55063,107077,24378,28184,52562,68.088281495444505,66.1441253138251,67.0744617543332,"23:02:00",62.897873752456803,60.991092216983901,61.8983137300146,638983,739859,1378842,362522,410783,773305,276461,329076,605537,56.7342167162507,55.521795369117598,56.083655705294703,"23:02:00",51.672871809149001,49.4399490850547,50.470599509798198,"衆議院比例代表選出議員選挙"]
[1,7,"　 出水市",20623,23899,44522,12164,13890,26054,8459,10009,18468,58.982689230470797,58.119586593581303,58.519383675486303,32,"21:26:00",51.952288218111001,49.993740349705803,50.897692290407399,562591,656612,1219203,310508,355720,666228,252083,300892,552975,55.192493303305604,54.1750683813272,54.644550579353897,"22:23:00",50.094993084072897,47.918205402105897,48.918743078512598,76392,83247,159639,52014,55063,107077,24378,28184,52562,68.088281495444505,66.1441253138251,67.0744617543332,"23:02:00",62.897873752456803,60.991092216983901,61.8983137300146,638983,739859,1378842,362522,410783,773305,276461,329076,605537,56.7342167162507,55.521795369117598,56.083655705294703,"23:02:00",51.672871809149001,49.4399490850547,50.470599509798198,"衆議院比例代表選出議員選挙"]
[1,8,"　 指宿市",16117,19230,35347,8787,10025,18812,7330,9205,16535,54.520071973692403,52.1320852834113,53.220923982233302,42,"19:24:00",44.984450271358,42.6600636717368,43.713385652702598,562591,656612,1219203,310508,355720,666228,252083,300892,552975,55.192493303305604,54.1750683813272,54.644550579353897,"22:23:00",50.094993084072897,47.918205402105897,48.918743078512598,76392,83247,159639,52014,55063,107077,24378,28184,52562,68.088281495444505,66.1441253138251,67.0744617543332,"23:02:00",62.897873752456803,60.991092216983901,61.8983137300146,638983,739859,1378842,362522,410783,773305,276461,329076,605537,56.7342167162507,55.521795369117598,56.083655705294703,"23:02:00",51.672871809149001,49.4399490850547,50.470599509798198,"衆議院比例代表選出議員選挙"]
[1,9,"　 西之表市",6208,7015,13223,3479,3631,7110,2729,3384,6113,56.040592783505097,51.760513186029897,53.769946305679497,40,"19:55:00",58.698056565018199,54.334067143643402,56.365374715010702,562591,656612,1219203,310508,355720,666228,252083,300892,552975,55.192493303305604,54.1750683813272,54.644550579353897,"22:23:00",50.094993084072897,47.918205402105897,48.918743078512598,76392,83247,159639,52014,55063,107077,24378,28184,52562,68.088281495444505,66.1441253138251,67.0744617543332,"23:02:00",62.897873752456803,60.991092216983901,61.8983137300146,638983,739859,1378842,362522,410783,773305,276461,329076,605537,56.7342167162507,55.521795369117598,56.083655705294703,"23:02:00",51.672871809149001,49.4399490850547,50.470599509798198,"衆議院比例代表選出議員選挙"]
[1,10,"　 垂水市",6218,7207,13425,3743,4308,8051,2475,2899,5374,60.196204567385003,59.775218537533,59.970204841713198,30,"20:34:00",54.820851914500999,53.804775649435797,54.2725663716814,562591,656612,1219203,310508,355720,666228,252083,300892,552975,55.192493303305604,54.1750683813272,54.644550579353897,"22:23:00",50.094993084072897,47.918205402105897,48.918743078512598,76392,83247,159639,52014,55063,107077,24378,28184,52562,68.088281495444505,66.1441253138251,67.0744617543332,"23:02:00",62.897873752456803,60.991092216983901,61.8983137300146,638983,739859,1378842,362522,410783,773305,276461,329076,605537,56.7342167162507,55.521795369117598,56.083655705294703,"23:02:00",51.672871809149001,49.4399490850547,50.470599509798198,"衆議院比例代表選出議員選挙"]
[1,11,"　 薩摩川内市第１",35569,39842,75411,21962,24462,46424,13607,15380,28987,61.744777755911102,61.397520204808998,61.5613106841177,28,"21:33:00",59.254608755207997,57.047635753126002,58.079494055958101,562591,656612,1219203,310508,355720,666228,252083,300892,552975,55.192493303305604,54.1750683813272,54.644550579353897,"22:23:00",50.094993084072897,47.918205402105897,48.918743078512598,76392,83247,159639,52014,55063,107077,24378,28184,52562,68.088281495444505,66.1441253138251,67.0744617543332,"23:02:00",62.897873752456803,60.991092216983901,61.8983137300146,638983,739859,1378842,362522,410783,773305,276461,329076,605537,56.7342167162507,55.521795369117598,56.083655705294703,"23:02:00",51.672871809149001,49.4399490850547,50.470599509798198,"衆議院比例代表選出議員選挙"]
[1,12,"　 薩摩川内市第２",1039,1094,2133,768,784,1552,271,310,581,73.917228103946101,71.663619744058494,72.761368963900594,11,"19:53:00",73.561151079136707,70.272502064409593,71.846749892380501,562591,656612,1219203,310508,355720,666228,252083,300892,552975,55.192493303305604,54.1750683813272,54.644550579353897,"22:23:00",50.094993084072897,47.918205402105897,48.918743078512598,76392,83247,159639,52014,55063,107077,24378,28184,52562,68.088281495444505,66.1441253138251,67.0744617543332,"23:02:00",62.897873752456803,60.991092216983901,61.8983137300146,638983,739859,1378842,362522,410783,773305,276461,329076,605537,56.7342167162507,55.521795369117598,56.083655705294703,"23:02:00",51.672871809149001,49.4399490850547,50.470599509798198,"衆議院比例代表選出議員選挙"]
[1,13,"　 薩摩川内市第３",1009,984,1993,742,663,1405,267,321,588,73.538156590683798,67.378048780487802,70.496738585047694,15,"18:59:00",71.629213483146103,66.5150136487716,69.035532994923898,562591,656612,1219203,310508,355720,666228,252083,300892,552975,55.192493303305604,54.1750683813272,54.644550579353897,"22:23:00",50.094993084072897,47.918205402105897,48.918743078512598,76392,83247,159639,52014,55063,107077,24378,28184,52562,68.088281495444505,66.1441253138251,67.0744617543332,"23:02:00",62.897873752456803,60.991092216983901,61.8983137300146,638983,739859,1378842,362522,410783,773305,276461,329076,605537,56.7342167162507,55.521795369117598,56.083655705294703,"23:02:00",51.672871809149001,49.4399490850547,50.470599509798198,"衆議院比例代表選出議員選挙"]
[1,14,"＊（薩摩川内市）計",37617,41920,79537,23472,25909,49381,14145,16011,30156,62.397320360475298,61.805820610687,62.085570237751,null,"21:33:00",60.0370748482081,57.673449084491999,58.7809514218457,562591,656612,1219203,310508,355720,666228,252083,300892,552975,55.192493303305604,54.1750683813272,54.644550579353897,"22:23:00",50.094993084072897,47.918205402105897,48.918743078512598,76392,83247,159639,52014,55063,107077,24378,28184,52562,68.088281495444505,66.1441253138251,67.0744617543332,"23:02:00",62.897873752456803,60.991092216983901,61.8983137300146,638983,739859,1378842,362522,410783,773305,276461,329076,605537,56.7342167162507,55.521795369117598,56.083655705294703,"23:02:00",51.672871809149001,49.4399490850547,50.470599509798198,"衆議院比例代表選出議員選挙"]
[1,15,"　 日置市",19095,22158,41253,11879,13563,25442,7216,8595,15811,62.210002618486499,61.210398050365598,61.673090441907199,27,"19:49:00",58.9505847645137,56.688468775199397,57.728065078442803,562591,656612,1219203,310508,355720,666228,252083,300892,552975,55.192493303305604,54.1750683813272,54.644550579353897,"22:23:00",50.094993084072897,47.918205402105897,48.918743078512598,76392,83247,159639,52014,55063,107077,24378,28184,52562,68.088281495444505,66.1441253138251,67.0744617543332,"23:02:00",62.897873752456803,60.991092216983901,61.8983137300146,638983,739859,1378842,362522,410783,773305,276461,329076,605537,56.7342167162507,55.521795369117598,56.083655705294703,"23:02:00",51.672871809149001,49.4399490850547,50.470599509798198,"衆議院比例代表選出議員選挙"]
[1,16,"　 曽於市",14826,17225,32051,8539,9400,17939,6287,7825,14112,57.594765951706499,54.571843251088502,55.970172537518302,39,"21:03:00",53.6459355176247,50.276492495203698,51.837155060127799,562591,656612,1219203,310508,355720,666228,252083,300892,552975,55.192493303305604,54.1750683813272,54.644550579353897,"22:23:00",50.094993084072897,47.918205402105897,48.918743078512598,76392,83247,159639,52014,55063,107077,24378,28184,52562,68.088281495444505,66.1441253138251,67.0744617543332,"23:02:00",62.897873752456803,60.991092216983901,61.8983137300146,638983,739859,1378842,362522,410783,773305,276461,329076,605537,56.7342167162507,55.521795369117598,56.083655705294703,"23:02:00",51.672871809149001,49.4399490850547,50.470599509798198,"衆議院比例代表選出議員選挙"]
[1,17,"　 霧島市",48818,54518,103336,25690,28102,53792,23128,26416,49544,52.624032119300303,51.546278293407703,52.055430827591501,43,"20:58:00",49.983196807393398,48.136709520177099,49.004035162146401,562591,656612,1219203,310508,355720,666228,252083,300892,552975,55.192493303305604,54.1750683813272,54.644550579353897,"22:23:00",50.094993084072897,47.918205402105897,48.918743078512598,76392,83247,159639,52014,55063,107077,24378,28184,52562,68.088281495444505,66.1441253138251,67.0744617543332,"23:02:00",62.897873752456803,60.991092216983901,61.8983137300146,638983,739859,1378842,362522,410783,773305,276461,329076,605537,56.7342167162507,55.521795369117598,56.083655705294703,"23:02:00",51.672871809149001,49.4399490850547,50.470599509798198,"衆議院比例代表選出議員選挙"]
[1,18,"　 いちき串木野市",11227,13002,24229,8293,10014,18307,2934,2988,5922,73.866571657611104,77.018920166128297,75.558215361756595,7,"19:46:00",56.3398692810458,56.7443952912949,56.557310978558803,562591,656612,1219203,310508,355720,666228,252083,300892,552975,55.192493303305604,54.1750683813272,54.644550579353897,"22:23:00",50.094993084072897,47.918205402105897,48.918743078512598,76392,83247,159639,52014,55063,107077,24378,28184,52562,68.088281495444505,66.1441253138251,67.0744617543332,"23:02:00",62.897873752456803,60.991092216983901,61.8983137300146,638983,739859,1378842,362522,410783,773305,276461,329076,605537,56.7342167162507,55.521795369117598,56.083655705294703,"23:02:00",51.672871809149001,49.4399490850547,50.470599509798198,"衆議院比例代表選出議員選挙"]
[1,19,"　 南さつま市",13624,16363,29987,8254,9574,17828,5370,6789,12159,60.584263065179101,58.510053168734302,59.452429386067301,31,"20:14:00",60.857122415396702,58.028871858848703,59.311911716974997,562591,656612,1219203,310508,355720,666228,252083,300892,552975,55.192493303305604,54.1750683813272,54.644550579353897,"22:23:00",50.094993084072897,47.918205402105897,48.918743078512598,76392,83247,159639,52014,55063,107077,24378,28184,52562,68.088281495444505,66.1441253138251,67.0744617543332,"23:02:00",62.897873752456803,60.991092216983901,61.8983137300146,638983,739859,1378842,362522,410783,773305,276461,329076,605537,56.7342167162507,55.521795369117598,56.083655705294703,"23:02:00",51.672871809149001,49.4399490850547,50.470599509798198,"衆議院比例代表選出議員選挙"]
[1,20,"　 志布志市",12490,14110,26600,6972,7932,14904,5518,6178,11696,55.820656525220201,56.2154500354359,56.030075187969899,38,"20:49:00",51.719795356158997,48.972364949312599,50.260080422031201,562591,656612,1219203,310508,355720,666228,252083,300892,552975,55.192493303305604,54.1750683813272,54.644550579353897,"22:23:00",50.094993084072897,47.918205402105897,48.918743078512598,76392,83247,159639,52014,55063,107077,24378,28184,52562,68.088281495444505,66.1441253138251,67.0744617543332,"23:02:00",62.897873752456803,60.991092216983901,61.8983137300146,638983,739859,1378842,362522,410783,773305,276461,329076,605537,56.7342167162507,55.521795369117598,56.083655705294703,"23:02:00",51.672871809149001,49.4399490850547,50.470599509798198,"衆議院比例代表選出議員選挙"]
[1,21,"　 奄美市",16952,19253,36205,10514,12062,22576,6438,7191,13629,62.022180273714,62.6499766270192,62.356028172904303,26,"20:05:00",53.431976983148402,54.113907827959203,53.796047950079398,562591,656612,1219203,310508,355720,666228,252083,300892,552975,55.192493303305604,54.1750683813272,54.644550579353897,"22:23:00",50.094993084072897,47.918205402105897,48.918743078512598,76392,83247,159639,52014,55063,107077,24378,28184,52562,68.088281495444505,66.1441253138251,67.0744617543332,"23:02:00",62.897873752456803,60.991092216983901,61.8983137300146,638983,739859,1378842,362522,410783,773305,276461,329076,605537,56.7342167162507,55.521795369117598,56.083655705294703,"23:02:00",51.672871809149001,49.4399490850547,50.470599509798198,"衆議院比例代表選出議員選挙"]
[1,22,"　 南九州市",14272,16662,30934,8331,9137,17468,5941,7525,13466,58.3730381165919,54.837354459248601,56.468610590289003,36,"22:01:00",55.631352752575197,52.222801831565498,53.788543494610202,562591,656612,1219203,310508,355720,666228,252083,300892,552975,55.192493303305604,54.1750683813272,54.644550579353897,"22:23:00",50.094993084072897,47.918205402105897,48.918743078512598,76392,83247,159639,52014,55063,107077,24378,28184,52562,68.088281495444505,66.1441253138251,67.0744617543332,"23:02:00",62.897873752456803,60.991092216983901,61.8983137300146,638983,739859,1378842,362522,410783,773305,276461,329076,605537,56.7342167162507,55.521795369117598,56.083655705294703,"23:02:00",51.672871809149001,49.4399490850547,50.470599509798198,"衆議院比例代表選出議員選挙"]
[1,23,"　 伊佐市",10532,12502,23034,6682,7754,14436,3850,4748,8598,63.4447398404861,62.022076467765203,62.672570982026599,25,"20:43:00",54.481434058898799,52.296522735957197,53.291144510595799,562591,656612,1219203,310508,355720,666228,252083,300892,552975,55.192493303305604,54.1750683813272,54.644550579353897,"22:23:00",50.094993084072897,47.918205402105897,48.918743078512598,76392,83247,159639,52014,55063,107077,24378,28184,52562,68.088281495444505,66.1441253138251,67.0744617543332,"23:02:00",62.897873752456803,60.991092216983901,61.8983137300146,638983,739859,1378842,362522,410783,773305,276461,329076,605537,56.7342167162507,55.521795369117598,56.083655705294703,"23:02:00",51.672871809149001,49.4399490850547,50.470599509798198,"衆議院比例代表選出議員選挙"]
[1,24,"　 姶良市",29022,34192,63214,16996,19633,36629,12026,14559,26585,58.562469850458299,57.419864295741696,57.944442686746598,33,"21:25:00",51.808900430436502,49.600095857172803,50.609815591764999,562591,656612,1219203,310508,355720,666228,252083,300892,552975,55.192493303305604,54.1750683813272,54.644550579353897,"22:23:00",50.094993084072897,47.918205402105897,48.918743078512598,76392,83247,159639,52014,55063,107077,24378,28184,52562,68.088281495444505,66.1441253138251,67.0744617543332,"23:02:00",62.897873752456803,60.991092216983901,61.8983137300146,638983,739859,1378842,362522,410783,773305,276461,329076,605537,56.7342167162507,55.521795369117598,56.083655705294703,"23:02:00",51.672871809149001,49.4399490850547,50.470599509798198,"衆議院比例代表選出議員選挙"]
[1,25,"　 三島村",137,155,292,118,122,240,19,33,52,86.131386861313899,78.709677419354804,82.191780821917803,5,"17:54:00",86.486486486486498,86.274509803921603,86.378737541528196,562591,656612,1219203,310508,355720,666228,252083,300892,552975,55.192493303305604,54.1750683813272,54.644550579353897,"22:23:00",50.094993084072897,47.918205402105897,48.918743078512598,76392,83247,159639,52014,55063,107077,24378,28184,52562,68.088281495444505,66.1441253138251,67.0744617543332,"23:02:00",62.897873752456803,60.991092216983901,61.8983137300146,638983,739859,1378842,362522,410783,773305,276461,329076,605537,56.7342167162507,55.521795369117598,56.083655705294703,"23:02:00",51.672871809149001,49.4399490850547,50.470599509798198,"衆議院比例代表選出議員選挙"]
[1,26,"　 十島村",287,274,561,246,219,465,41,55,96,85.714285714285694,79.927007299270102,82.887700534759404,4,"18:04:00",89.208633093525194,81.297709923664101,85.370370370370395,562591,656612,1219203,310508,355720,666228,252083,300892,552975,55.192493303305604,54.1750683813272,54.644550579353897,"22:23:00",50.094993084072897,47.918205402105897,48.918743078512598,76392,83247,159639,52014,55063,107077,24378,28184,52562,68.088281495444505,66.1441253138251,67.0744617543332,"23:02:00",62.897873752456803,60.991092216983901,61.8983137300146,638983,739859,1378842,362522,410783,773305,276461,329076,605537,56.7342167162507,55.521795369117598,56.083655705294703,"23:02:00",51.672871809149001,49.4399490850547,50.470599509798198,"衆議院比例代表選出議員選挙"]
[1,27,"＊（鹿児島郡）計",424,429,853,364,341,705,60,88,148,85.849056603773604,79.487179487179503,82.649472450175907,null,"18:04:00",88.262910798122107,83.132530120481903,85.731272294887006,562591,656612,1219203,310508,355720,666228,252083,300892,552975,55.192493303305604,54.1750683813272,54.644550579353897,"22:23:00",50.094993084072897,47.918205402105897,48.918743078512598,76392,83247,159639,52014,55063,107077,24378,28184,52562,68.088281495444505,66.1441253138251,67.0744617543332,"23:02:00",62.897873752456803,60.991092216983901,61.8983137300146,638983,739859,1378842,362522,410783,773305,276461,329076,605537,56.7342167162507,55.521795369117598,56.083655705294703,"23:02:00",51.672871809149001,49.4399490850547,50.470599509798198,"衆議院比例代表選出議員選挙"]
[1,28,"　 さつま町",8609,10059,18668,5777,6549,12326,2832,3510,6342,67.104193286095907,65.105875335520395,66.027426612384801,18,"19:56:00",64.856982613572598,61.754154078549902,63.172194596811401,562591,656612,1219203,310508,355720,666228,252083,300892,552975,55.192493303305604,54.1750683813272,54.644550579353897,"22:23:00",50.094993084072897,47.918205402105897,48.918743078512598,76392,83247,159639,52014,55063,107077,24378,28184,52562,68.088281495444505,66.1441253138251,67.0744617543332,"23:02:00",62.897873752456803,60.991092216983901,61.8983137300146,638983,739859,1378842,362522,410783,773305,276461,329076,605537,56.7342167162507,55.521795369117598,56.083655705294703,"23:02:00",51.672871809149001,49.4399490850547,50.470599509798198,"衆議院比例代表選出議員選挙"]
[1,29,"＊（薩摩郡）計",8609,10059,18668,5777,6549,12326,2832,3510,6342,67.104193286095907,65.105875335520395,66.027426612384801,null,"19:56:00",64.856982613572598,61.754154078549902,63.172194596811401,562591,656612,1219203,310508,355720,666228,252083,300892,552975,55.192493303305604,54.1750683813272,54.644550579353897,"22:23:00",50.094993084072897,47.918205402105897,48.918743078512598,76392,83247,159639,52014,55063,107077,24378,28184,52562,68.088281495444505,66.1441253138251,67.0744617543332,"23:02:00",62.897873752456803,60.991092216983901,61.8983137300146,638983,739859,1378842,362522,410783,773305,276461,329076,605537,56.7342167162507,55.521795369117598,56.083655705294703,"23:02:00",51.672871809149001,49.4399490850547,50.470599509798198,"衆議院比例代表選出議員選挙"]
[1,30,"　 長島町",4256,4628,8884,3182,3352,6534,1074,1276,2350,74.765037593984999,72.428694900604995,73.547951373255302,9,"20:33:00",72.602426184481601,68.597304128053906,70.516617308325095,562591,656612,1219203,310508,355720,666228,252083,300892,552975,55.192493303305604,54.1750683813272,54.644550579353897,"22:23:00",50.094993084072897,47.918205402105897,48.918743078512598,76392,83247,159639,52014,55063,107077,24378,28184,52562,68.088281495444505,66.1441253138251,67.0744617543332,"23:02:00",62.897873752456803,60.991092216983901,61.8983137300146,638983,739859,1378842,362522,410783,773305,276461,329076,605537,56.7342167162507,55.521795369117598,56.083655705294703,"23:02:00",51.672871809149001,49.4399490850547,50.470599509798198,"衆議院比例代表選出議員選挙"]
[1,31,"＊（出水郡）計",4256,4628,8884,3182,3352,6534,1074,1276,2350,74.765037593984999,72.428694900604995,73.547951373255302,null,"20:33:00",72.602426184481601,68.597304128053906,70.516617308325095,562591,656612,1219203,310508,355720,666228,252083,300892,552975,55.192493303305604,54.1750683813272,54.644550579353897,"22:23:00",50.094993084072897,47.918205402105897,48.918743078512598,76392,83247,159639,52014,55063,107077,24378,28184,52562,68.088281495444505,66.1441253138251,67.0744617543332,"23:02:00",62.897873752456803,60.991092216983901,61.8983137300146,638983,739859,1378842,362522,410783,773305,276461,329076,605537,56.7342167162507,55.521795369117598,56.083655705294703,"23:02:00",51.672871809149001,49.4399490850547,50.470599509798198,"衆議院比例代表選出議員選挙"]
[1,32,"　 湧水町",3850,4511,8361,2557,2830,5387,1293,1681,2974,66.415584415584405,62.735535358013699,64.430092094247101,20,"19:57:00",58.066951925497101,53.831578947368399,55.760632809813103,562591,656612,1219203,310508,355720,666228,252083,300892,552975,55.192493303305604,54.1750683813272,54.644550579353897,"22:23:00",50.094993084072897,47.918205402105897,48.918743078512598,76392,83247,159639,52014,55063,107077,24378,28184,52562,68.088281495444505,66.1441253138251,67.0744617543332,"23:02:00",62.897873752456803,60.991092216983901,61.8983137300146,638983,739859,1378842,362522,410783,773305,276461,329076,605537,56.7342167162507,55.521795369117598,56.083655705294703,"23:02:00",51.672871809149001,49.4399490850547,50.470599509798198,"衆議院比例代表選出議員選挙"]
[1,33,"＊（姶良郡）計",3850,4511,8361,2557,2830,5387,1293,1681,2974,66.415584415584405,62.735535358013699,64.430092094247101,null,"19:57:00",58.066951925497101,53.831578947368399,55.760632809813103,562591,656612,1219203,310508,355720,666228,252083,300892,552975,55.192493303305604,54.1750683813272,54.644550579353897,"22:23:00",50.094993084072897,47.918205402105897,48.918743078512598,76392,83247,159639,52014,55063,107077,24378,28184,52562,68.088281495444505,66.1441253138251,67.0744617543332,"23:02:00",62.897873752456803,60.991092216983901,61.8983137300146,638983,739859,1378842,362522,410783,773305,276461,329076,605537,56.7342167162507,55.521795369117598,56.083655705294703,"23:02:00",51.672871809149001,49.4399490850547,50.470599509798198,"衆議院比例代表選出議員選挙"]
[1,34,"　 大崎町",5452,5999,11451,3120,3419,6539,2332,2580,4912,57.226705796038097,56.992832138689799,57.104183040782502,34,"20:24:00",51.663685152057198,50.402706185566998,51.0001695202577,562591,656612,1219203,310508,355720,666228,252083,300892,552975,55.192493303305604,54.1750683813272,54.644550579353897,"22:23:00",50.094993084072897,47.918205402105897,48.918743078512598,76392,83247,159639,52014,55063,107077,24378,28184,52562,68.088281495444505,66.1441253138251,67.0744617543332,"23:02:00",62.897873752456803,60.991092216983901,61.8983137300146,638983,739859,1378842,362522,410783,773305,276461,329076,605537,56.7342167162507,55.521795369117598,56.083655705294703,"23:02:00",51.672871809149001,49.4399490850547,50.470599509798198,"衆議院比例代表選出議員選挙"]
[1,35,"＊（曽於郡）計",5452,5999,11451,3120,3419,6539,2332,2580,4912,57.226705796038097,56.992832138689799,57.104183040782502,null,"20:24:00",51.663685152057198,50.402706185566998,51.0001695202577,562591,656612,1219203,310508,355720,666228,252083,300892,552975,55.192493303305604,54.1750683813272,54.644550579353897,"22:23:00",50.094993084072897,47.918205402105897,48.918743078512598,76392,83247,159639,52014,55063,107077,24378,28184,52562,68.088281495444505,66.1441253138251,67.0744617543332,"23:02:00",62.897873752456803,60.991092216983901,61.8983137300146,638983,739859,1378842,362522,410783,773305,276461,329076,605537,56.7342167162507,55.521795369117598,56.083655705294703,"23:02:00",51.672871809149001,49.4399490850547,50.470599509798198,"衆議院比例代表選出議員選挙"]
[1,36,"　 東串良町",2595,2985,5580,1477,1691,3168,1118,1294,2412,56.917148362235103,56.649916247906198,56.774193548387103,35,"19:17:00",49.9813363195222,50.828729281767998,50.434329395413499,562591,656612,1219203,310508,355720,666228,252083,300892,552975,55.192493303305604,54.1750683813272,54.644550579353897,"22:23:00",50.094993084072897,47.918205402105897,48.918743078512598,76392,83247,159639,52014,55063,107077,24378,28184,52562,68.088281495444505,66.1441253138251,67.0744617543332,"23:02:00",62.897873752456803,60.991092216983901,61.8983137300146,638983,739859,1378842,362522,410783,773305,276461,329076,605537,56.7342167162507,55.521795369117598,56.083655705294703,"23:02:00",51.672871809149001,49.4399490850547,50.470599509798198,"衆議院比例代表選出議員選挙"]
[1,37,"　 錦江町",3202,3645,6847,2068,2281,4349,1134,1364,2498,64.584634603372905,62.5788751714678,63.5168687016211,21,"19:59:00",61.032028469750898,59.772492244053801,60.3591160220994,562591,656612,1219203,310508,355720,666228,252083,300892,552975,55.192493303305604,54.1750683813272,54.644550579353897,"22:23:00",50.094993084072897,47.918205402105897,48.918743078512598,76392,83247,159639,52014,55063,107077,24378,28184,52562,68.088281495444505,66.1441253138251,67.0744617543332,"23:02:00",62.897873752456803,60.991092216983901,61.8983137300146,638983,739859,1378842,362522,410783,773305,276461,329076,605537,56.7342167162507,55.521795369117598,56.083655705294703,"23:02:00",51.672871809149001,49.4399490850547,50.470599509798198,"衆議院比例代表選出議員選挙"]
[1,38,"　 南大隅町",3183,3589,6772,2088,2344,4432,1095,1245,2340,65.598491988689901,65.310671496238498,65.445953927938604,19,"19:55:00",63.053297199638699,60.472279260780297,61.659969516419601,562591,656612,1219203,310508,355720,666228,252083,300892,552975,55.192493303305604,54.1750683813272,54.644550579353897,"22:23:00",50.094993084072897,47.918205402105897,48.918743078512598,76392,83247,159639,52014,55063,107077,24378,28184,52562,68.088281495444505,66.1441253138251,67.0744617543332,"23:02:00",62.897873752456803,60.991092216983901,61.8983137300146,638983,739859,1378842,362522,410783,773305,276461,329076,605537,56.7342167162507,55.521795369117598,56.083655705294703,"23:02:00",51.672871809149001,49.4399490850547,50.470599509798198,"衆議院比例代表選出議員選挙"]
[1,39,"　 肝付町",6412,7147,13559,3682,3925,7607,2730,3222,5952,57.4235807860262,54.918147474464803,56.102957445239298,37,"20:11:00",51.899684637332903,49.932813759741997,50.8616410183675,562591,656612,1219203,310508,355720,666228,252083,300892,552975,55.192493303305604,54.1750683813272,54.644550579353897,"22:23:00",50.094993084072897,47.918205402105897,48.918743078512598,76392,83247,159639,52014,55063,107077,24378,28184,52562,68.088281495444505,66.1441253138251,67.0744617543332,"23:02:00",62.897873752456803,60.991092216983901,61.8983137300146,638983,739859,1378842,362522,410783,773305,276461,329076,605537,56.7342167162507,55.521795369117598,56.083655705294703,"23:02:00",51.672871809149001,49.4399490850547,50.470599509798198,"衆議院比例代表選出議員選挙"]
[1,40,"＊（肝属郡）計",15392,17366,32758,9315,10241,19556,6077,7125,13202,60.518451143451102,58.9715536105033,59.698394285365403,null,"20:11:00",55.810616929698703,54.411201662746798,55.064988051524203,562591,656612,1219203,310508,355720,666228,252083,300892,552975,55.192493303305604,54.1750683813272,54.644550579353897,"22:23:00",50.094993084072897,47.918205402105897,48.918743078512598,76392,83247,159639,52014,55063,107077,24378,28184,52562,68.088281495444505,66.1441253138251,67.0744617543332,"23:02:00",62.897873752456803,60.991092216983901,61.8983137300146,638983,739859,1378842,362522,410783,773305,276461,329076,605537,56.7342167162507,55.521795369117598,56.083655705294703,"23:02:00",51.672871809149001,49.4399490850547,50.470599509798198,"衆議院比例代表選出議員選挙"]
[1,41,"　 中種子町",3256,3679,6935,2127,2262,4389,1129,1417,2546,65.325552825552805,61.484098939929297,63.287671232876697,22,"19:47:00",64.134382566585998,59.607218683651801,61.722285067873301,562591,656612,1219203,310508,355720,666228,252083,300892,552975,55.192493303305604,54.1750683813272,54.644550579353897,"22:23:00",50.094993084072897,47.918205402105897,48.918743078512598,76392,83247,159639,52014,55063,107077,24378,28184,52562,68.088281495444505,66.1441253138251,67.0744617543332,"23:02:00",62.897873752456803,60.991092216983901,61.8983137300146,638983,739859,1378842,362522,410783,773305,276461,329076,605537,56.7342167162507,55.521795369117598,56.083655705294703,"23:02:00",51.672871809149001,49.4399490850547,50.470599509798198,"衆議院比例代表選出議員選挙"]
[1,42,"　 南種子町",2398,2506,4904,1548,1526,3074,850,980,1830,64.553794829024199,60.893854748603303,62.683523654159899,24,"19:57:00",61.554192229038897,58.2077716098335,59.855043285685497,562591,656612,1219203,310508,355720,666228,252083,300892,552975,55.192493303305604,54.1750683813272,54.644550579353897,"22:23:00",50.094993084072897,47.918205402105897,48.918743078512598,76392,83247,159639,52014,55063,107077,24378,28184,52562,68.088281495444505,66.1441253138251,67.0744617543332,"23:02:00",62.897873752456803,60.991092216983901,61.8983137300146,638983,739859,1378842,362522,410783,773305,276461,329076,605537,56.7342167162507,55.521795369117598,56.083655705294703,"23:02:00",51.672871809149001,49.4399490850547,50.470599509798198,"衆議院比例代表選出議員選挙"]
[1,43,"　 屋久島町",5226,5440,10666,3195,3279,6474,2031,2161,4192,61.136624569460402,60.275735294117702,60.697543596474802,29,"20:00:00",63.051296611773601,62.535714285714299,62.785996508315698,562591,656612,1219203,310508,355720,666228,252083,300892,552975,55.192493303305604,54.1750683813272,54.644550579353897,"22:23:00",50.094993084072897,47.918205402105897,48.918743078512598,76392,83247,159639,52014,55063,107077,24378,28184,52562,68.088281495444505,66.1441253138251,67.0744617543332,"23:02:00",62.897873752456803,60.991092216983901,61.8983137300146,638983,739859,1378842,362522,410783,773305,276461,329076,605537,56.7342167162507,55.521795369117598,56.083655705294703,"23:02:00",51.672871809149001,49.4399490850547,50.470599509798198,"衆議院比例代表選出議員選挙"]
[2,1,"＊（熊毛郡）計",10880,11625,22505,6870,7067,13937,4010,4558,8568,63.143382352941202,60.791397849462399,61.928460342146202,null,"20:00:00",63.043872371283499,60.689655172413801,61.822703080010498,562591,656612,1219203,310508,355720,666228,252083,300892,552975,55.192493303305604,54.1750683813272,54.644550579353897,"22:23:00",50.094993084072897,47.918205402105897,48.918743078512598,76392,83247,159639,52014,55063,107077,24378,28184,52562,68.088281495444505,66.1441253138251,67.0744617543332,"23:02:00",62.897873752456803,60.991092216983901,61.8983137300146,638983,739859,1378842,362522,410783,773305,276461,329076,605537,56.7342167162507,55.521795369117598,56.083655705294703,"23:02:00",51.672871809149001,49.4399490850547,50.470599509798198,"衆議院比例代表選出議員選挙"]
[2,2,"　 大和村",629,688,1317,479,503,982,150,185,335,76.152623211446794,73.110465116279101,74.563401670463193,8,"18:39:00",73.363774733637698,74.145006839945296,73.775216138328503,562591,656612,1219203,310508,355720,666228,252083,300892,552975,55.192493303305604,54.1750683813272,54.644550579353897,"22:23:00",50.094993084072897,47.918205402105897,48.918743078512598,76392,83247,159639,52014,55063,107077,24378,28184,52562,68.088281495444505,66.1441253138251,67.0744617543332,"23:02:00",62.897873752456803,60.991092216983901,61.8983137300146,638983,739859,1378842,362522,410783,773305,276461,329076,605537,56.7342167162507,55.521795369117598,56.083655705294703,"23:02:00",51.672871809149001,49.4399490850547,50.470599509798198,"衆議院比例代表選出議員選挙"]
[2,3,"　 宇検村",747,810,1557,642,710,1352,105,100,205,85.943775100401595,87.654320987654302,86.833654463712307,3,"18:13:00",87.037037037036995,86.839012925969499,86.932171748599899,562591,656612,1219203,310508,355720,666228,252083,300892,552975,55.192493303305604,54.1750683813272,54.644550579353897,"22:23:00",50.094993084072897,47.918205402105897,48.918743078512598,76392,83247,159639,52014,55063,107077,24378,28184,52562,68.088281495444505,66.1441253138251,67.0744617543332,"23:02:00",62.897873752456803,60.991092216983901,61.8983137300146,638983,739859,1378842,362522,410783,773305,276461,329076,605537,56.7342167162507,55.521795369117598,56.083655705294703,"23:02:00",51.672871809149001,49.4399490850547,50.470599509798198,"衆議院比例代表選出議員選挙"]
[2,4,"　 瀬戸内町",3731,4078,7809,2876,3095,5971,855,983,1838,77.083891718038103,75.895046591466397,76.463055448841104,6,"20:32:00",72.499340195302196,71.152469577666395,71.791979949874701,562591,656612,1219203,310508,355720,666228,252083,300892,552975,55.192493303305604,54.1750683813272,54.644550579353897,"22:23:00",50.094993084072897,47.918205402105897,48.918743078512598,76392,83247,159639,52014,55063,107077,24378,28184,52562,68.088281495444505,66.1441253138251,67.0744617543332,"23:02:00",62.897873752456803,60.991092216983901,61.8983137300146,638983,739859,1378842,362522,410783,773305,276461,329076,605537,56.7342167162507,55.521795369117598,56.083655705294703,"23:02:00",51.672871809149001,49.4399490850547,50.470599509798198,"衆議院比例代表選出議員選挙"]
[2,5,"　 龍郷町",2311,2544,4855,2034,2201,4235,277,343,620,88.013846819558594,86.517295597484306,87.229660144181295,2,"22:08:00",65.848406546080994,66.810683424980397,66.351684470008195,562591,656612,1219203,310508,355720,666228,252083,300892,552975,55.192493303305604,54.1750683813272,54.644550579353897,"22:23:00",50.094993084072897,47.918205402105897,48.918743078512598,76392,83247,159639,52014,55063,107077,24378,28184,52562,68.088281495444505,66.1441253138251,67.0744617543332,"23:02:00",62.897873752456803,60.991092216983901,61.8983137300146,638983,739859,1378842,362522,410783,773305,276461,329076,605537,56.7342167162507,55.521795369117598,56.083655705294703,"23:02:00",51.672871809149001,49.4399490850547,50.470599509798198,"衆議院比例代表選出議員選挙"]
[2,6,"　 喜界町",2982,3129,6111,2131,2186,4317,851,943,1794,71.462105969148197,69.862575902844398,70.643102601865493,13,"19:07:00",70.214168039538706,66.747942700396194,68.413552881570595,562591,656612,1219203,310508,355720,666228,252083,300892,552975,55.192493303305604,54.1750683813272,54.644550579353897,"22:23:00",50.094993084072897,47.918205402105897,48.918743078512598,76392,83247,159639,52014,55063,107077,24378,28184,52562,68.088281495444505,66.1441253138251,67.0744617543332,"23:02:00",62.897873752456803,60.991092216983901,61.8983137300146,638983,739859,1378842,362522,410783,773305,276461,329076,605537,56.7342167162507,55.521795369117598,56.083655705294703,"23:02:00",51.672871809149001,49.4399490850547,50.470599509798198,"衆議院比例代表選出議員選挙"]
[2,7,"　 徳之島町",4361,4579,8940,2934,3104,6038,1427,1475,2902,67.278147213941807,67.787726577855395,67.5391498881432,17,"19:32:00",58.748886910062303,60.942475058374001,59.871780940997503,562591,656612,1219203,310508,355720,666228,252083,300892,552975,55.192493303305604,54.1750683813272,54.644550579353897,"22:23:00",50.094993084072897,47.918205402105897,48.918743078512598,76392,83247,159639,52014,55063,107077,24378,28184,52562,68.088281495444505,66.1441253138251,67.0744617543332,"23:02:00",62.897873752456803,60.991092216983901,61.8983137300146,638983,739859,1378842,362522,410783,773305,276461,329076,605537,56.7342167162507,55.521795369117598,56.083655705294703,"23:02:00",51.672871809149001,49.4399490850547,50.470599509798198,"衆議院比例代表選出議員選挙"]
[2,8,"　 天城町",2593,2490,5083,1758,1702,3460,835,788,1623,67.797917470111798,68.353413654618507,68.070037379500306,16,"20:14:00",68.876190476190501,70.130383247728204,69.491854150504295,562591,656612,1219203,310508,355720,666228,252083,300892,552975,55.192493303305604,54.1750683813272,54.644550579353897,"22:23:00",50.094993084072897,47.918205402105897,48.918743078512598,76392,83247,159639,52014,55063,107077,24378,28184,52562,68.088281495444505,66.1441253138251,67.0744617543332,"23:02:00",62.897873752456803,60.991092216983901,61.8983137300146,638983,739859,1378842,362522,410783,773305,276461,329076,605537,56.7342167162507,55.521795369117598,56.083655705294703,"23:02:00",51.672871809149001,49.4399490850547,50.470599509798198,"衆議院比例代表選出議員選挙"]
[2,9,"　 伊仙町",2855,2784,5639,2629,2477,5106,226,307,533,92.084063047285497,88.972701149425305,90.547969498138002,1,"20:31:00",62.3866015352408,60.3812824956672,61.380629455746799,562591,656612,1219203,310508,355720,666228,252083,300892,552975,55.192493303305604,54.1750683813272,54.644550579353897,"22:23:00",50.094993084072897,47.918205402105897,48.918743078512598,76392,83247,159639,52014,55063,107077,24378,28184,52562,68.088281495444505,66.1441253138251,67.0744617543332,"23:02:00",62.897873752456803,60.991092216983901,61.8983137300146,638983,739859,1378842,362522,410783,773305,276461,329076,605537,56.7342167162507,55.521795369117598,56.083655705294703,"23:02:00",51.672871809149001,49.4399490850547,50.470599509798198,"衆議院比例代表選出議員選挙"]
[2,10,"　 和泊町",2669,2779,5448,1987,1995,3982,682,784,1466,74.447358561258895,71.788413098236802,73.091042584434604,10,"18:55:00",69.356597600872405,69.179051663128106,69.266630805092305,562591,656612,1219203,310508,355720,666228,252083,300892,552975,55.192493303305604,54.1750683813272,54.644550579353897,"22:23:00",50.094993084072897,47.918205402105897,48.918743078512598,76392,83247,159639,52014,55063,107077,24378,28184,52562,68.088281495444505,66.1441253138251,67.0744617543332,"23:02:00",62.897873752456803,60.991092216983901,61.8983137300146,638983,739859,1378842,362522,410783,773305,276461,329076,605537,56.7342167162507,55.521795369117598,56.083655705294703,"23:02:00",51.672871809149001,49.4399490850547,50.470599509798198,"衆議院比例代表選出議員選挙"]
[2,11,"　 知名町",2541,2502,5043,1826,1751,3577,715,751,1466,71.861471861471898,69.984012789768201,70.930001982946607,12,"19:13:00",66.499614494988407,64.540914329619696,65.518568404848907,562591,656612,1219203,310508,355720,666228,252083,300892,552975,55.192493303305604,54.1750683813272,54.644550579353897,"22:23:00",50.094993084072897,47.918205402105897,48.918743078512598,76392,83247,159639,52014,55063,107077,24378,28184,52562,68.088281495444505,66.1441253138251,67.0744617543332,"23:02:00",62.897873752456803,60.991092216983901,61.8983137300146,638983,739859,1378842,362522,410783,773305,276461,329076,605537,56.7342167162507,55.521795369117598,56.083655705294703,"23:02:00",51.672871809149001,49.4399490850547,50.470599509798198,"衆議院比例代表選出議員選挙"]
[2,12,"　 与論町",2110,2247,4357,1533,1540,3073,577,707,1284,72.654028436019004,68.535825545171306,70.530181317420201,14,"23:02:00",67.620835288596894,64.844774814166996,66.183793571751906,562591,656612,1219203,310508,355720,666228,252083,300892,552975,55.192493303305604,54.1750683813272,54.644550579353897,"22:23:00",50.094993084072897,47.918205402105897,48.918743078512598,76392,83247,159639,52014,55063,107077,24378,28184,52562,68.088281495444505,66.1441253138251,67.0744617543332,"23:02:00",62.897873752456803,60.991092216983901,61.8983137300146,638983,739859,1378842,362522,410783,773305,276461,329076,605537,56.7342167162507,55.521795369117598,56.083655705294703,"23:02:00",51.672871809149001,49.4399490850547,50.470599509798198,"衆議院比例代表選出議員選挙"]
[2,13,"＊（大島郡）計",27529,28630,56159,20829,21264,42093,6700,7366,14066,75.662029132914398,74.271742926999707,74.9532577147029,null,"23:02:00",67.299593118709396,66.773086981625497,67.0298115243382,562591,656612,1219203,310508,355720,666228,252083,300892,552975,55.192493303305604,54.1750683813272,54.644550579353897,"22:23:00",50.094993084072897,47.918205402105897,48.918743078512598,76392,83247,159639,52014,55063,107077,24378,28184,52562,68.088281495444505,66.1441253138251,67.0744617543332,"23:02:00",62.897873752456803,60.991092216983901,61.8983137300146,638983,739859,1378842,362522,410783,773305,276461,329076,605537,56.7342167162507,55.521795369117598,56.083655705294703,"23:02:00",51.672871809149001,49.4399490850547,50.470599509798198,"衆議院比例代表選出議員選挙"]
[2,14,null,null,null,null,null,null,null,null,null,null,null,null,null,null,null,null,null,null,562591,656612,1219203,310508,355720,666228,252083,300892,552975,55.192493303305604,54.1750683813272,54.644550579353897,"22:23:00",50.094993084072897,47.918205402105897,48.918743078512598,76392,83247,159639,52014,55063,107077,24378,28184,52562,68.088281495444505,66.1441253138251,67.0744617543332,"23:02:00",62.897873752456803,60.991092216983901,61.8983137300146,638983,739859,1378842,362522,410783,773305,276461,329076,605537,56.7342167162507,55.521795369117598,56.083655705294703,"23:02:00",51.672871809149001,49.4399490850547,50.470599509798198,"衆議院比例代表選出議員選挙"]
[2,15,null,null,null,null,null,null,null,null,null,null,null,null,null,null,null,null,null,null,562591,656612,1219203,310508,355720,666228,252083,300892,552975,55.192493303305604,54.1750683813272,54.644550579353897,"22:23:00",50.094993084072897,47.918205402105897,48.918743078512598,76392,83247,159639,52014,55063,107077,24378,28184,52562,68.088281495444505,66.1441253138251,67.0744617543332,"23:02:00",62.897873752456803,60.991092216983901,61.8983137300146,638983,739859,1378842,362522,410783,773305,276461,329076,605537,56.7342167162507,55.521795369117598,56.083655705294703,"23:02:00",51.672871809149001,49.4399490850547,50.470599509798198,"衆議院比例代表選出議員選挙"]
[2,16,null,null,null,null,null,null,null,null,null,null,null,null,null,null,null,null,null,null,562591,656612,1219203,310508,355720,666228,252083,300892,552975,55.192493303305604,54.1750683813272,54.644550579353897,"22:23:00",50.094993084072897,47.918205402105897,48.918743078512598,76392,83247,159639,52014,55063,107077,24378,28184,52562,68.088281495444505,66.1441253138251,67.0744617543332,"23:02:00",62.897873752456803,60.991092216983901,61.8983137300146,638983,739859,1378842,362522,410783,773305,276461,329076,605537,56.7342167162507,55.521795369117598,56.083655705294703,"23:02:00",51.672871809149001,49.4399490850547,50.470599509798198,"衆議院比例代表選出議員選挙"]
[2,17,null,null,null,null,null,null,null,null,null,null,null,null,null,null,null,null,null,null,562591,656612,1219203,310508,355720,666228,252083,300892,552975,55.192493303305604,54.1750683813272,54.644550579353897,"22:23:00",50.094993084072897,47.918205402105897,48.918743078512598,76392,83247,159639,52014,55063,107077,24378,28184,52562,68.088281495444505,66.1441253138251,67.0744617543332,"23:02:00",62.897873752456803,60.991092216983901,61.8983137300146,638983,739859,1378842,362522,410783,773305,276461,329076,605537,56.7342167162507,55.521795369117598,56.083655705294703,"23:02:00",51.672871809149001,49.4399490850547,50.470599509798198,"衆議院比例代表選出議員選挙"]
[2,18,null,null,null,null,null,null,null,null,null,null,null,null,null,null,null,null,null,null,562591,656612,1219203,310508,355720,666228,252083,300892,552975,55.192493303305604,54.1750683813272,54.644550579353897,"22:23:00",50.094993084072897,47.918205402105897,48.918743078512598,76392,83247,159639,52014,55063,107077,24378,28184,52562,68.088281495444505,66.1441253138251,67.0744617543332,"23:02:00",62.897873752456803,60.991092216983901,61.8983137300146,638983,739859,1378842,362522,410783,773305,276461,329076,605537,56.7342167162507,55.521795369117598,56.083655705294703,"23:02:00",51.672871809149001,49.4399490850547,50.470599509798198,"衆議院比例代表選出議員選挙"]
[2,19,null,null,null,null,null,null,null,null,null,null,null,null,null,null,null,null,null,null,562591,656612,1219203,310508,355720,666228,252083,300892,552975,55.192493303305604,54.1750683813272,54.644550579353897,"22:23:00",50.094993084072897,47.918205402105897,48.918743078512598,76392,83247,159639,52014,55063,107077,24378,28184,52562,68.088281495444505,66.1441253138251,67.0744617543332,"23:02:00",62.897873752456803,60.991092216983901,61.8983137300146,638983,739859,1378842,362522,410783,773305,276461,329076,605537,56.7342167162507,55.521795369117598,56.083655705294703,"23:02:00",51.672871809149001,49.4399490850547,50.470599509798198,"衆議院比例代表選出議員選挙"]
[2,20,null,null,null,null,null,null,null,null,null,null,null,null,null,null,null,null,null,null,562591,656612,1219203,310508,355720,666228,252083,300892,552975,55.192493303305604,54.1750683813272,54.644550579353897,"22:23:00",50.094993084072897,47.918205402105897,48.918743078512598,76392,83247,159639,52014,55063,107077,24378,28184,52562,68.088281495444505,66.1441253138251,67.0744617543332,"23:02:00",62.897873752456803,60.991092216983901,61.8983137300146,638983,739859,1378842,362522,410783,773305,276461,329076,605537,56.7342167162507,55.521795369117598,56.083655705294703,"23:02:00",51.672871809149001,49.4399490850547,50.470599509798198,"衆議院比例代表選出議員選挙"]
[2,21,null,null,null,null,null,null,null,null,null,null,null,null,null,null,null,null,null,null,562591,656612,1219203,310508,355720,666228,252083,300892,552975,55.192493303305604,54.1750683813272,54.644550579353897,"22:23:00",50.094993084072897,47.918205402105897,48.918743078512598,76392,83247,159639,52014,55063,107077,24378,28184,52562,68.088281495444505,66.1441253138251,67.0744617543332,"23:02:00",62.897873752456803,60.991092216983901,61.8983137300146,638983,739859,1378842,362522,410783,773305,276461,329076,605537,56.7342167162507,55.521795369117598,56.083655705294703,"23:02:00",51.672871809149001,49.4399490850547,50.470599509798198,"衆議院比例代表選出議員選挙"]
[2,22,null,null,null,null,null,null,null,null,null,null,null,null,null,null,null,null,null,null,562591,656612,1219203,310508,355720,666228,252083,300892,552975,55.192493303305604,54.1750683813272,54.644550579353897,"22:23:00",50.094993084072897,47.918205402105897,48.918743078512598,76392,83247,159639,52014,55063,107077,24378,28184,52562,68.088281495444505,66.1441253138251,67.0744617543332,"23:02:00",62.897873752456803,60.991092216983901,61.8983137300146,638983,739859,1378842,362522,410783,773305,276461,329076,605537,56.7342167162507,55.521795369117598,56.083655705294703,"23:02:00",51.672871809149001,49.4399490850547,50.470599509798198,"衆議院比例代表選出議員選挙"]
[2,23,null,null,null,null,null,null,null,null,null,null,null,null,null,null,null,null,null,null,562591,656612,1219203,310508,355720,666228,252083,300892,552975,55.192493303305604,54.1750683813272,54.644550579353897,"22:23:00",50.094993084072897,47.918205402105897,48.918743078512598,76392,83247,159639,52014,55063,107077,24378,28184,52562,68.088281495444505,66.1441253138251,67.0744617543332,"23:02:00",62.897873752456803,60.991092216983901,61.8983137300146,638983,739859,1378842,362522,410783,773305,276461,329076,605537,56.7342167162507,55.521795369117598,56.083655705294703,"23:02:00",51.672871809149001,49.4399490850547,50.470599509798198,"衆議院比例代表選出議員選挙"]
[2,24,null,null,null,null,null,null,null,null,null,null,null,null,null,null,null,null,null,null,562591,656612,1219203,310508,355720,666228,252083,300892,552975,55.192493303305604,54.1750683813272,54.644550579353897,"22:23:00",50.094993084072897,47.918205402105897,48.918743078512598,76392,83247,159639,52014,55063,107077,24378,28184,52562,68.088281495444505,66.1441253138251,67.0744617543332,"23:02:00",62.897873752456803,60.991092216983901,61.8983137300146,638983,739859,1378842,362522,410783,773305,276461,329076,605537,56.7342167162507,55.521795369117598,56.083655705294703,"23:02:00",51.672871809149001,49.4399490850547,50.470599509798198,"衆議院比例代表選出議員選挙"]
[2,25,null,null,null,null,null,null,null,null,null,null,null,null,null,null,null,null,null,null,562591,656612,1219203,310508,355720,666228,252083,300892,552975,55.192493303305604,54.1750683813272,54.644550579353897,"22:23:00",50.094993084072897,47.918205402105897,48.918743078512598,76392,83247,159639,52014,55063,107077,24378,28184,52562,68.088281495444505,66.1441253138251,67.0744617543332,"23:02:00",62.897873752456803,60.991092216983901,61.8983137300146,638983,739859,1378842,362522,410783,773305,276461,329076,605537,56.7342167162507,55.521795369117598,56.083655705294703,"23:02:00",51.672871809149001,49.4399490850547,50.470599509798198,"衆議院比例代表選出議員選挙"]
[2,26,null,null,null,null,null,null,null,null,null,null,null,null,null,null,null,null,null,null,562591,656612,1219203,310508,355720,666228,252083,300892,552975,55.192493303305604,54.1750683813272,54.644550579353897,"22:23:00",50.094993084072897,47.918205402105897,48.918743078512598,76392,83247,159639,52014,55063,107077,24378,28184,52562,68.088281495444505,66.1441253138251,67.0744617543332,"23:02:00",62.897873752456803,60.991092216983901,61.8983137300146,638983,739859,1378842,362522,410783,773305,276461,329076,605537,56.7342167162507,55.521795369117598,56.083655705294703,"23:02:00",51.672871809149001,49.4399490850547,50.470599509798198,"衆議院比例代表選出議員選挙"]
[2,27,null,null,null,null,null,null,null,null,null,null,null,null,null,null,null,null,null,null,562591,656612,1219203,310508,355720,666228,252083,300892,552975,55.192493303305604,54.1750683813272,54.644550579353897,"22:23:00",50.094993084072897,47.918205402105897,48.918743078512598,76392,83247,159639,52014,55063,107077,24378,28184,52562,68.088281495444505,66.1441253138251,67.0744617543332,"23:02:00",62.897873752456803,60.991092216983901,61.8983137300146,638983,739859,1378842,362522,410783,773305,276461,329076,605537,56.7342167162507,55.521795369117598,56.083655705294703,"23:02:00",51.672871809149001,49.4399490850547,50.470599509798198,"衆議院比例代表選出議員選挙"]
[2,28,null,null,null,null,null,null,null,null,null,null,null,null,null,null,null,null,null,null,562591,656612,1219203,310508,355720,666228,252083,300892,552975,55.192493303305604,54.1750683813272,54.644550579353897,"22:23:00",50.094993084072897,47.918205402105897,48.918743078512598,76392,83247,159639,52014,55063,107077,24378,28184,52562,68.088281495444505,66.1441253138251,67.0744617543332,"23:02:00",62.897873752456803,60.991092216983901,61.8983137300146,638983,739859,1378842,362522,410783,773305,276461,329076,605537,56.7342167162507,55.521795369117598,56.083655705294703,"23:02:00",51.672871809149001,49.4399490850547,50.470599509798198,"衆議院比例代表選出議員選挙"]
[2,29,null,null,null,null,null,null,null,null,null,null,null,null,null,null,null,null,null,null,562591,656612,1219203,310508,355720,666228,252083,300892,552975,55.192493303305604,54.1750683813272,54.644550579353897,"22:23:00",50.094993084072897,47.918205402105897,48.918743078512598,76392,83247,159639,52014,55063,107077,24378,28184,52562,68.088281495444505,66.1441253138251,67.0744617543332,"23:02:00",62.897873752456803,60.991092216983901,61.8983137300146,638983,739859,1378842,362522,410783,773305,276461,329076,605537,56.7342167162507,55.521795369117598,56.083655705294703,"23:02:00",51.672871809149001,49.4399490850547,50.470599509798198,"衆議院比例代表選出議員選挙"]
[2,30,null,null,null,null,null,null,null,null,null,null,null,null,null,null,null,null,null,null,562591,656612,1219203,310508,355720,666228,252083,300892,552975,55.192493303305604,54.1750683813272,54.644550579353897,"22:23:00",50.094993084072897,47.918205402105897,48.918743078512598,76392,83247,159639,52014,55063,107077,24378,28184,52562,68.088281495444505,66.1441253138251,67.0744617543332,"23:02:00",62.897873752456803,60.991092216983901,61.8983137300146,638983,739859,1378842,362522,410783,773305,276461,329076,605537,56.7342167162507,55.521795369117598,56.083655705294703,"23:02:00",51.672871809149001,49.4399490850547,50.470599509798198,"衆議院比例代表選出議員選挙"]
[2,31,null,null,null,null,null,null,null,null,null,null,null,null,null,null,null,null,null,null,562591,656612,1219203,310508,355720,666228,252083,300892,552975,55.192493303305604,54.1750683813272,54.644550579353897,"22:23:00",50.094993084072897,47.918205402105897,48.918743078512598,76392,83247,159639,52014,55063,107077,24378,28184,52562,68.088281495444505,66.1441253138251,67.0744617543332,"23:02:00",62.897873752456803,60.991092216983901,61.8983137300146,638983,739859,1378842,362522,410783,773305,276461,329076,605537,56.7342167162507,55.521795369117598,56.083655705294703,"23:02:00",51.672871809149001,49.4399490850547,50.470599509798198,"衆議院比例代表選出議員選挙"]
[2,32,null,null,null,null,null,null,null,null,null,null,null,null,null,null,null,null,null,null,562591,656612,1219203,310508,355720,666228,252083,300892,552975,55.192493303305604,54.1750683813272,54.644550579353897,"22:23:00",50.094993084072897,47.918205402105897,48.918743078512598,76392,83247,159639,52014,55063,107077,24378,28184,52562,68.088281495444505,66.1441253138251,67.0744617543332,"23:02:00",62.897873752456803,60.991092216983901,61.8983137300146,638983,739859,1378842,362522,410783,773305,276461,329076,605537,56.7342167162507,55.521795369117598,56.083655705294703,"23:02:00",51.672871809149001,49.4399490850547,50.470599509798198,"衆議院比例代表選出議員選挙"]
[2,33,null,null,null,null,null,null,null,null,null,null,null,null,null,null,null,null,null,null,562591,656612,1219203,310508,355720,666228,252083,300892,552975,55.192493303305604,54.1750683813272,54.644550579353897,"22:23:00",50.094993084072897,47.918205402105897,48.918743078512598,76392,83247,159639,52014,55063,107077,24378,28184,52562,68.088281495444505,66.1441253138251,67.0744617543332,"23:02:00",62.897873752456803,60.991092216983901,61.8983137300146,638983,739859,1378842,362522,410783,773305,276461,329076,605537,56.7342167162507,55.521795369117598,56.083655705294703,"23:02:00",51.672871809149001,49.4399490850547,50.470599509798198,"衆議院比例代表選出議員選挙"]
[2,34,null,null,null,null,null,null,null,null,null,null,null,null,null,null,null,null,null,null,562591,656612,1219203,310508,355720,666228,252083,300892,552975,55.192493303305604,54.1750683813272,54.644550579353897,"22:23:00",50.094993084072897,47.918205402105897,48.918743078512598,76392,83247,159639,52014,55063,107077,24378,28184,52562,68.088281495444505,66.1441253138251,67.0744617543332,"23:02:00",62.897873752456803,60.991092216983901,61.8983137300146,638983,739859,1378842,362522,410783,773305,276461,329076,605537,56.7342167162507,55.521795369117598,56.083655705294703,"23:02:00",51.672871809149001,49.4399490850547,50.470599509798198,"衆議院比例代表選出議員選挙"]
[2,35,null,null,null,null,null,null,null,null,null,null,null,null,null,null,null,null,null,null,562591,656612,1219203,310508,355720,666228,252083,300892,552975,55.192493303305604,54.1750683813272,54.644550579353897,"22:23:00",50.094993084072897,47.918205402105897,48.918743078512598,76392,83247,159639,52014,55063,107077,24378,28184,52562,68.088281495444505,66.1441253138251,67.0744617543332,"23:02:00",62.897873752456803,60.991092216983901,61.8983137300146,638983,739859,1378842,362522,410783,773305,276461,329076,605537,56.7342167162507,55.521795369117598,56.083655705294703,"23:02:00",51.672871809149001,49.4399490850547,50.470599509798198,"衆議院比例代表選出議員選挙"]
[2,36,null,null,null,null,null,null,null,null,null,null,null,null,null,null,null,null,null,null,562591,656612,1219203,310508,355720,666228,252083,300892,552975,55.192493303305604,54.1750683813272,54.644550579353897,"22:23:00",50.094993084072897,47.918205402105897,48.918743078512598,76392,83247,159639,52014,55063,107077,24378,28184,52562,68.088281495444505,66.1441253138251,67.0744617543332,"23:02:00",62.897873752456803,60.991092216983901,61.8983137300146,638983,739859,1378842,362522,410783,773305,276461,329076,605537,56.7342167162507,55.521795369117598,56.083655705294703,"23:02:00",51.672871809149001,49.4399490850547,50.470599509798198,"衆議院比例代表選出議員選挙"]
[2,37,null,null,null,null,null,null,null,null,null,null,null,null,null,null,null,null,null,null,562591,656612,1219203,310508,355720,666228,252083,300892,552975,55.192493303305604,54.1750683813272,54.644550579353897,"22:23:00",50.094993084072897,47.918205402105897,48.918743078512598,76392,83247,159639,52014,55063,107077,24378,28184,52562,68.088281495444505,66.1441253138251,67.0744617543332,"23:02:00",62.897873752456803,60.991092216983901,61.8983137300146,638983,739859,1378842,362522,410783,773305,276461,329076,605537,56.7342167162507,55.521795369117598,56.083655705294703,"23:02:00",51.672871809149001,49.4399490850547,50.470599509798198,"衆議院比例代表選出議員選挙"]
[2,38,null,null,null,null,null,null,null,null,null,null,null,null,null,null,null,null,null,null,562591,656612,1219203,310508,355720,666228,252083,300892,552975,55.192493303305604,54.1750683813272,54.644550579353897,"22:23:00",50.094993084072897,47.918205402105897,48.918743078512598,76392,83247,159639,52014,55063,107077,24378,28184,52562,68.088281495444505,66.1441253138251,67.0744617543332,"23:02:00",62.897873752456803,60.991092216983901,61.8983137300146,638983,739859,1378842,362522,410783,773305,276461,329076,605537,56.7342167162507,55.521795369117598,56.083655705294703,"23:02:00",51.672871809149001,49.4399490850547,50.470599509798198,"衆議院比例代表選出議員選挙"]
[2,39,null,null,null,null,null,null,null,null,null,null,null,null,null,null,null,null,null,null,562591,656612,1219203,310508,355720,666228,252083,300892,552975,55.192493303305604,54.1750683813272,54.644550579353897,"22:23:00",50.094993084072897,47.918205402105897,48.918743078512598,76392,83247,159639,52014,55063,107077,24378,28184,52562,68.088281495444505,66.1441253138251,67.0744617543332,"23:02:00",62.897873752456803,60.991092216983901,61.8983137300146,638983,739859,1378842,362522,410783,773305,276461,329076,605537,56.7342167162507,55.521795369117598,56.083655705294703,"23:02:00",51.672871809149001,49.4399490850547,50.470599509798198,"衆議院比例代表選出議員選挙"]
[2,40,null,null,null,null,null,null,null,null,null,null,null,null,null,null,null,null,null,null,562591,656612,1219203,310508,355720,666228,252083,300892,552975,55.192493303305604,54.1750683813272,54.644550579353897,"22:23:00",50.094993084072897,47.918205402105897,48.918743078512598,76392,83247,159639,52014,55063,107077,24378,28184,52562,68.088281495444505,66.1441253138251,67.0744617543332,"23:02:00",62.897873752456803,60.991092216983901,61.8983137300146,638983,739859,1378842,362522,410783,773305,276461,329076,605537,56.7342167162507,55.521795369117598,56.083655705294703,"23:02:00",51.672871809149001,49.4399490850547,50.470599509798198,"衆議院比例代表選出議員選挙"]
[2,41,null,null,null,null,null,null,null,null,null,null,null,null,null,null,null,null,null,null,562591,656612,1219203,310508,355720,666228,252083,300892,552975,55.192493303305604,54.1750683813272,54.644550579353897,"22:23:00",50.094993084072897,47.918205402105897,48.918743078512598,76392,83247,159639,52014,55063,107077,24378,28184,52562,68.088281495444505,66.1441253138251,67.0744617543332,"23:02:00",62.897873752456803,60.991092216983901,61.8983137300146,638983,739859,1378842,362522,410783,773305,276461,329076,605537,56.7342167162507,55.521795369117598,56.083655705294703,"23:02:00",51.672871809149001,49.4399490850547,50.470599509798198,"衆議院比例代表選出議員選挙"]
[2,42,null,null,null,null,null,null,null,null,null,null,null,null,null,null,null,null,null,null,562591,656612,1219203,310508,355720,666228,252083,300892,552975,55.192493303305604,54.1750683813272,54.644550579353897,"22:23:00",50.094993084072897,47.918205402105897,48.918743078512598,76392,83247,159639,52014,55063,107077,24378,28184,52562,68.088281495444505,66.1441253138251,67.0744617543332,"23:02:00",62.897873752456803,60.991092216983901,61.8983137300146,638983,739859,1378842,362522,410783,773305,276461,329076,605537,56.7342167162507,55.521795369117598,56.083655705294703,"23:02:00",51.672871809149001,49.4399490850547,50.470599509798198,"衆議院比例代表選出議員選挙"]
[2,43,null,null,null,null,null,null,null,null,null,null,null,null,null,null,null,null,null,null,562591,656612,1219203,310508,355720,666228,252083,300892,552975,55.192493303305604,54.1750683813272,54.644550579353897,"22:23:00",50.094993084072897,47.918205402105897,48.918743078512598,76392,83247,159639,52014,55063,107077,24378,28184,52562,68.088281495444505,66.1441253138251,67.0744617543332,"23:02:00",62.897873752456803,60.991092216983901,61.8983137300146,638983,739859,1378842,362522,410783,773305,276461,329076,605537,56.7342167162507,55.521795369117598,56.083655705294703,"23:02:00",51.672871809149001,49.4399490850547,50.470599509798198,"衆議院比例代表選出議員選挙"]