{"text_format":"1","workbook":"xlsx","n_sheets":3,"sheets":["開票速報（得票詳細）_162_","パラメタシート","P_16号2様式"],"not_rendered":{"charts":0,"images":0,"macros":1,"external_links":0,"defined_names":7,"comments":0,"pivot_tables":0},"unopened":[],"bounds":{"document_bytes":16777216,"sheet_cells":100000,"rows_first":2000,"rows_last":500,"rows_between":2000,"halvings":0,"cell_chars":16384,"cell_head_chars":4096},"cells_cut":0,"cells_raw":0,"read":"whole","date_system":"1900"}

{"sheet":"開票速報（得票詳細）_162_","index":0,"n_rows":224,"n_cols":24,"rows_kept":224,"cut":false,"hidden":false,"merged":[[38,23,38,24],[39,23,39,24],[40,23,40,24],[41,23,41,24],[43,19,43,20],[62,17,62,18],[62,19,62,20],[62,21,62,22],[62,23,62,24],[63,9,63,10],[63,11,63,12],[60,23,60,24],[61,16,61,18],[62,5,62,6],[62,7,62,8],[63,5,63,6],[63,7,63,8],[65,0,65,1],[65,19,65,20],[65,21,65,22],[65,23,65,24],[59,1,59,5],[59,14,59,15],[59,16,59,17],[59,19,59,22],[60,14,60,15],[60,19,60,22],[56,0,57,2],[56,23,57,24],[57,8,58,14],[58,1,58,5],[58,16,58,18],[66,0,66,1],[66,19,66,20],[66,21,66,22],[66,23,66,24],[63,21,63,22],[63,23,63,24],[64,9,64,10],[64,11,64,12],[64,13,64,14],[64,15,64,16],[64,17,64,18],[64,19,64,20],[64,21,64,22],[64,23,64,24],[62,0,64,1],[62,3,62,4],[63,3,63,4],[64,3,64,4],[63,13,63,14],[63,15,63,16],[63,17,63,18],[63,19,63,20],[64,5,64,6],[64,7,64,8],[62,9,62,10],[62,11,62,12],[62,13,62,14],[62,15,62,16],[71,0,71,1],[71,19,71,20],[71,21,71,22],[71,23,71,24],[72,0,72,1],[72,19,72,20],[72,21,72,22],[72,23,72,24],[69,0,69,1],[69,19,69,20],[69,21,69,22],[69,23,69,24],[70,0,70,1],[70,19,70,20],[70,21,70,22],[70,23,70,24],[67,0,67,1],[67,19,67,20],[67,21,67,22],[67,23,67,24],[68,0,68,1],[68,19,68,20],[68,21,68,22],[68,23,68,24],[77,0,77,1],[77,19,77,20],[77,21,77,22],[77,23,77,24],[78,0,78,1],[78,19,78,20],[78,21,78,22],[78,23,78,24],[75,0,75,1],[75,19,75,20],[75,21,75,22],[75,23,75,24],[76,0,76,1],[76,19,76,20],[76,21,76,22],[76,23,76,24],[73,0,73,1],[73,19,73,20],[73,21,73,22],[73,23,73,24],[74,0,74,1],[74,19,74,20],[74,21,74,22],[74,23,74,24],[83,0,83,1],[83,19,83,20],[83,21,83,22],[83,23,83,24],[84,0,84,1],[84,19,84,20],[84,21,84,22],[84,23,84,24],[81,0,81,1],[81,19,81,20],[81,21,81,22],[81,23,81,24],[82,0,82,1],[82,19,82,20],[82,21,82,22],[82,23,82,24],[79,0,79,1],[79,19,79,20],[79,21,79,22],[79,23,79,24],[80,0,80,1],[80,19,80,20],[80,21,80,22],[80,23,80,24],[89,0,89,1],[89,19,89,20],[89,21,89,22],[89,23,89,24],[90,0,90,1],[90,19,90,20],[90,21,90,22],[90,23,90,24],[87,0,87,1],[87,19,87,20],[87,21,87,22],[87,23,87,24],[88,0,88,1],[88,19,88,20],[88,21,88,22],[88,23,88,24],[85,0,85,1],[85,19,85,20],[85,21,85,22],[85,23,85,24],[86,0,86,1],[86,19,86,20],[86,21,86,22],[86,23,86,24],[95,0,95,1],[95,19,95,20],[95,21,95,22],[95,23,95,24],[96,0,96,1],[96,19,96,20],[96,21,96,22],[96,23,96,24],[93,0,93,1],[93,19,93,20],[93,21,93,22],[93,23,93,24],[94,0,94,1],[94,19,94,20],[94,21,94,22],[94,23,94,24],[91,0,91,1],[91,19,91,20],[91,21,91,22],[91,23,91,24],[92,0,92,1],[92,19,92,20],[92,21,92,22],[92,23,92,24],[101,0,101,1],[101,19,101,20],[101,21,101,22],[101,23,101,24],[102,0,102,1],[102,19,102,20],[102,21,102,22],[102,23,102,24],[99,0,99,1],[99,19,99,20],[99,21,99,22],[99,23,99,24],[100,0,100,1],[100,19,100,20],[100,21,100,22],[100,23,100,24],[97,0,97,1],[97,19,97,20],[97,21,97,22],[97,23,97,24],[98,0,98,1],[98,19,98,20],[98,21,98,22],[98,23,98,24],[107,0,107,1],[107,19,107,20],[107,21,107,22],[107,23,107,24],[108,0,108,1],[108,19,108,20],[108,21,108,22],[108,23,108,24],[105,0,105,1],[105,19,105,20],[105,21,105,22],[105,23,105,24],[106,0,106,1],[106,19,106,20],[106,21,106,22],[106,23,106,24],[103,0,103,1],[103,19,103,20],[103,21,103,22],[103,23,103,24],[104,0,104,1],[104,19,104,20],[104,21,104,22],[104,23,104,24],[111,0,111,1],[111,19,111,20],[111,21,111,22],[111,23,111,24],[112,0,113,2],[112,23,113,24],[113,8,114,14],[114,1,114,5],[114,16,114,18],[109,0,109,1],[109,19,109,20],[109,21,109,22],[109,23,109,24],[110,0,110,1],[110,19,110,20],[110,21,110,22],[110,23,110,24],[120,5,120,6],[120,7,120,8],[118,9,118,10],[118,11,118,12],[118,13,118,14],[118,15,118,16],[116,23,116,24],[117,16,117,18],[118,5,118,6],[118,7,118,8],[119,5,119,6],[119,7,119,8],[115,1,115,5],[115,14,115,15],[115,16,115,17],[115,19,115,22],[116,14,116,15],[116,19,116,22],[121,0,121,1],[121,19,121,20],[121,21,121,22],[121,23,121,24],[122,0,122,1],[122,19,122,20],[122,21,122,22],[122,23,122,24],[119,21,119,22],[119,23,119,24],[120,9,120,10],[120,11,120,12],[120,13,120,14],[120,15,120,16],[120,17,120,18],[120,19,120,20],[120,21,120,22],[120,23,120,24],[118,0,120,1],[118,3,118,4],[119,3,119,4],[120,3,120,4],[118,17,118,18],[118,19,118,20],[118,21,118,22],[118,23,118,24],[119,9,119,10],[119,11,119,12],[119,13,119,14],[119,15,119,16],[119,17,119,18],[119,19,119,20],[127,0,127,1],[127,19,127,20],[127,21,127,22],[127,23,127,24],[128,0,128,1],[128,19,128,20],[128,21,128,22],[128,23,128,24],[125,0,125,1],[125,19,125,20],[125,21,125,22],[125,23,125,24],[126,0,126,1],[126,19,126,20],[126,21,126,22],[126,23,126,24],[123,0,123,1],[123,19,123,20],[123,21,123,22],[123,23,123,24],[124,0,124,1],[124,19,124,20],[124,21,124,22],[124,23,124,24],[133,0,133,1],[133,19,133,20],[133,21,133,22],[133,23,133,24],[134,0,134,1],[134,19,134,20],[134,21,134,22],[134,23,134,24],[131,0,131,1],[131,19,131,20],[131,21,131,22],[131,23,131,24],[132,0,132,1],[132,19,132,20],[132,21,132,22],[132,23,132,24],[129,0,129,1],[129,19,129,20],[129,21,129,22],[129,23,129,24],[130,0,130,1],[130,19,130,20],[130,21,130,22],[130,23,130,24],[139,0,139,1],[139,19,139,20],[139,21,139,22],[139,23,139,24],[140,0,140,1],[140,19,140,20],[140,21,140,22],[140,23,140,24],[137,0,137,1],[137,19,137,20],[137,21,137,22],[137,23,137,24],[138,0,138,1],[138,19,138,20],[138,21,138,22],[138,23,138,24],[135,0,135,1],[135,19,135,20],[135,21,135,22],[135,23,135,24],[136,0,136,1],[136,19,136,20],[136,21,136,22],[136,23,136,24],[145,0,145,1],[145,19,145,20],[145,21,145,22],[145,23,145,24],[146,0,146,1],[146,19,146,20],[146,21,146,22],[146,23,146,24],[143,0,143,1],[143,19,143,20],[143,21,143,22],[143,23,143,24],[144,0,144,1],[144,19,144,20],[144,21,144,22],[144,23,144,24],[141,0,141,1],[141,19,141,20],[141,21,141,22],[141,23,141,24],[142,0,142,1],[142,19,142,20],[142,21,142,22],[142,23,142,24],[151,0,151,1],[151,19,151,20],[151,21,151,22],[151,23,151,24],[152,0,152,1],[152,19,152,20],[152,21,152,22],[152,23,152,24],[149,0,149,1],[149,19,149,20],[149,21,149,22],[149,23,149,24],[150,0,150,1],[150,19,150,20],[150,21,150,22],[150,23,150,24],[147,0,147,1],[147,19,147,20],[147,21,147,22],[147,23,147,24],[148,0,148,1],[148,19,148,20],[148,21,148,22],[148,23,148,24],[157,0,157,1],[157,19,157,20],[157,21,157,22],[157,23,157,24],[158,0,158,1],[158,19,158,20],[158,21,158,22],[158,23,158,24],[155,0,155,1],[155,19,155,20],[155,21,155,22],[155,23,155,24],[156,0,156,1],[156,19,156,20],[156,21,156,22],[156,23,156,24],[153,0,153,1],[153,19,153,20],[153,21,153,22],[153,23,153,24],[154,0,154,1],[154,19,154,20],[154,21,154,22],[154,23,154,24],[163,0,163,1],[163,19,163,20],[163,21,163,22],[163,23,163,24],[164,0,164,1],[164,19,164,20],[164,21,164,22],[164,23,164,24],[161,0,161,1],[161,19,161,20],[161,21,161,22],[161,23,161,24],[162,0,162,1],[162,19,162,20],[162,21,162,22],[162,23,162,24],[159,0,159,1],[159,19,159,20],[159,21,159,22],[159,23,159,24],[160,0,160,1],[160,19,160,20],[160,21,160,22],[160,23,160,24],[167,0,167,1],[167,19,167,20],[167,21,167,22],[167,23,167,24],[168,0,169,2],[168,23,169,24],[169,8,170,14],[170,1,170,5],[170,16,170,18],[165,0,165,1],[165,19,165,20],[165,21,165,22],[165,23,165,24],[166,0,166,1],[166,19,166,20],[166,21,166,22],[166,23,166,24],[176,5,176,6],[176,7,176,8],[174,9,174,10],[174,11,174,12],[174,13,174,14],[174,15,174,16],[172,23,172,24],[173,16,173,18],[174,5,174,6],[174,7,174,8],[175,5,175,6],[175,7,175,8],[171,1,171,5],[171,14,171,15],[171,16,171,17],[171,19,171,22],[172,14,172,15],[172,19,172,22],[177,0,177,1],[177,19,177,20],[177,21,177,22],[177,23,177,24],[178,0,178,1],[178,19,178,20],[178,21,178,22],[178,23,178,24],[175,21,175,22],[175,23,175,24],[176,9,176,10],[176,11,176,12],[176,13,176,14],[176,15,176,16],[176,17,176,18],[176,19,176,20],[176,21,176,22],[176,23,176,24],[174,0,176,1],[174,3,174,4],[175,3,175,4],[176,3,176,4],[174,17,174,18],[174,19,174,20],[174,21,174,22],[174,23,174,24],[175,9,175,10],[175,11,175,12],[175,13,175,14],[175,15,175,16],[175,17,175,18],[175,19,175,20],[183,0,183,1],[183,19,183,20],[183,21,183,22],[183,23,183,24],[184,0,184,1],[184,19,184,20],[184,21,184,22],[184,23,184,24],[181,0,181,1],[181,19,181,20],[181,21,181,22],[181,23,181,24],[182,0,182,1],[182,19,182,20],[182,21,182,22],[182,23,182,24],[179,0,179,1],[179,19,179,20],[179,21,179,22],[179,23,179,24],[180,0,180,1],[180,19,180,20],[180,21,180,22],[180,23,180,24],[189,0,189,1],[189,19,189,20],[189,21,189,22],[189,23,189,24],[190,0,190,1],[190,19,190,20],[190,21,190,22],[190,23,190,24],[187,0,187,1],[187,19,187,20],[187,21,187,22],[187,23,187,24],[188,0,188,1],[188,19,188,20],[188,21,188,22],[188,23,188,24],[185,0,185,1],[185,19,185,20],[185,21,185,22],[185,23,185,24],[186,0,186,1],[186,19,186,20],[186,21,186,22],[186,23,186,24],[195,0,195,1],[195,19,195,20],[195,21,195,22],[195,23,195,24],[196,0,196,1],[196,19,196,20],[196,21,196,22],[196,23,196,24],[193,0,193,1],[193,19,193,20],[193,21,193,22],[193,23,193,24],[194,0,194,1],[194,19,194,20],[194,21,194,22],[194,23,194,24],[191,0,191,1],[191,19,191,20],[191,21,191,22],[191,23,191,24],[192,0,192,1],[192,19,192,20],[192,21,192,22],[192,23,192,24],[201,0,201,1],[201,19,201,20],[201,21,201,22],[201,23,201,24],[202,0,202,1],[202,19,202,20],[202,21,202,22],[202,23,202,24],[199,0,199,1],[199,19,199,20],[199,21,199,22],[199,23,199,24],[200,0,200,1],[200,19,200,20],[200,21,200,22],[200,23,200,24],[197,0,197,1],[197,19,197,20],[197,21,197,22],[197,23,197,24],[198,0,198,1],[198,19,198,20],[198,21,198,22],[198,23,198,24],[207,0,207,1],[207,19,207,20],[207,21,207,22],[207,23,207,24],[208,0,208,1],[208,19,208,20],[208,21,208,22],[208,23,208,24],[205,0,205,1],[205,19,205,20],[205,21,205,22],[205,23,205,24],[206,0,206,1],[206,19,206,20],[206,21,206,22],[206,23,206,24],[203,0,203,1],[203,19,203,20],[203,21,203,22],[203,23,203,24],[204,0,204,1],[204,19,204,20],[204,21,204,22],[204,23,204,24],[213,0,213,1],[213,19,213,20],[213,21,213,22],[213,23,213,24],[214,0,214,1],[214,19,214,20],[214,21,214,22],[214,23,214,24],[211,0,211,1],[211,19,211,20],[211,21,211,22],[211,23,211,24],[212,0,212,1],[212,19,212,20],[212,21,212,22],[212,23,212,24],[209,0,209,1],[209,19,209,20],[209,21,209,22],[209,23,209,24],[210,0,210,1],[210,19,210,20],[210,21,210,22],[210,23,210,24],[219,0,219,1],[219,19,219,20],[219,21,219,22],[219,23,219,24],[220,0,220,1],[220,19,220,20],[220,21,220,22],[220,23,220,24],[217,0,217,1],[217,19,217,20],[217,21,217,22],[217,23,217,24],[218,0,218,1],[218,19,218,20],[218,21,218,22],[218,23,218,24],[215,0,215,1],[215,19,215,20],[215,21,215,22],[215,23,215,24],[216,0,216,1],[216,19,216,20],[216,21,216,22],[216,23,216,24],[223,0,223,1],[223,19,223,20],[223,21,223,22],[223,23,223,24],[221,0,221,1],[221,19,221,20],[221,21,221,22],[221,23,221,24],[222,0,222,1],[222,19,222,20],[222,21,222,22],[222,23,222,24],[17,23,17,24],[18,23,18,24],[26,23,26,24],[37,23,37,24],[33,23,33,24],[0,0,1,2],[3,1,3,5],[1,8,2,14],[31,23,31,24],[32,23,32,24],[2,1,2,5],[2,16,2,18],[5,16,5,18],[33,19,33,20],[34,19,34,20],[35,19,35,20],[36,19,36,20],[44,19,44,20],[45,19,45,20],[46,19,46,20],[47,19,47,20],[48,19,48,20],[42,19,42,20],[27,19,27,20],[40,19,40,20],[41,19,41,20],[19,23,19,24],[20,23,20,24],[21,23,21,24],[22,23,22,24],[30,23,30,24],[24,23,24,24],[25,23,25,24],[28,23,28,24],[29,23,29,24],[27,23,27,24],[42,23,42,24],[45,21,45,22],[46,21,46,22],[39,19,39,20],[28,19,28,20],[29,19,29,20],[30,19,30,20],[31,19,31,20],[32,19,32,20],[41,0,41,1],[42,0,42,1],[25,21,25,22],[26,21,26,22],[27,21,27,22],[28,21,28,22],[21,21,21,22],[22,21,22,22],[23,21,23,22],[24,21,24,22],[33,21,33,22],[34,21,34,22],[35,21,35,22],[36,21,36,22],[29,21,29,22],[30,21,30,22],[31,21,31,22],[32,21,32,22],[41,21,41,22],[42,21,42,22],[37,21,37,22],[38,21,38,22],[39,21,39,22],[40,21,40,22],[23,19,23,20],[24,19,24,20],[25,19,25,20],[26,19,26,20],[21,19,21,20],[22,19,22,20],[37,19,37,20],[38,19,38,20],[33,0,33,1],[34,0,34,1],[35,0,35,1],[36,0,36,1],[29,0,29,1],[30,0,30,1],[31,0,31,1],[32,0,32,1],[43,0,43,1],[44,0,44,1],[37,0,37,1],[38,0,38,1],[39,0,39,1],[40,0,40,1],[51,0,51,1],[10,21,10,22],[11,21,11,22],[12,21,12,22],[13,21,13,22],[14,21,14,22],[15,21,15,22],[16,21,16,22],[45,0,45,1],[46,0,46,1],[17,21,17,22],[18,21,18,22],[19,21,19,22],[20,21,20,22],[49,0,49,1],[50,0,50,1],[47,0,47,1],[48,0,48,1],[17,0,17,1],[18,0,18,1],[19,0,19,1],[6,0,8,1],[11,0,11,1],[12,0,12,1],[9,0,9,1],[20,0,20,1],[13,0,13,1],[14,0,14,1],[15,0,15,1],[16,0,16,1],[25,0,25,1],[26,0,26,1],[27,0,27,1],[28,0,28,1],[21,0,21,1],[22,0,22,1],[23,0,23,1],[24,0,24,1],[7,3,7,4],[8,3,8,4],[7,5,7,6],[7,7,7,8],[7,9,7,10],[7,11,7,12],[7,13,7,14],[7,15,7,16],[6,11,6,12],[6,13,6,14],[10,0,10,1],[10,19,10,20],[10,23,10,24],[9,19,9,20],[9,21,9,22],[6,5,6,6],[6,7,6,8],[6,9,6,10],[6,15,6,16],[6,17,6,18],[6,3,6,4],[8,21,8,22],[6,23,6,24],[7,23,7,24],[8,23,8,24],[7,17,7,18],[9,23,9,24],[11,23,11,24],[12,23,12,24],[13,23,13,24],[7,19,7,20],[7,21,7,22],[8,5,8,6],[8,7,8,8],[8,9,8,10],[8,11,8,12],[8,13,8,14],[8,15,8,16],[8,17,8,18],[8,19,8,20],[6,19,6,20],[6,21,6,22],[15,19,15,20],[16,19,16,20],[15,23,15,24],[16,23,16,24],[17,19,17,20],[18,19,18,20],[11,19,11,20],[12,19,12,20],[13,19,13,20],[14,19,14,20],[19,19,19,20],[20,19,20,20],[51,19,51,20],[50,23,50,24],[51,23,51,24],[51,21,51,22],[49,21,49,22],[50,21,50,22],[49,19,49,20],[50,19,50,20],[44,23,44,24],[45,23,45,24],[46,23,46,24],[47,23,47,24],[48,23,48,24],[49,23,49,24],[14,23,14,24],[23,23,23,24],[34,23,34,24],[35,23,35,24],[36,23,36,24],[43,23,43,24],[47,21,47,22],[48,21,48,22],[43,21,43,22],[44,21,44,22],[52,21,52,22],[52,0,52,1],[53,0,53,1],[54,0,54,1],[55,0,55,1],[55,19,55,20],[52,23,52,24],[53,23,53,24],[54,19,54,20],[55,21,55,22],[55,23,55,24],[54,21,54,22],[54,23,54,24],[53,19,53,20],[53,21,53,22],[52,19,52,20],[4,23,4,24],[0,23,1,24],[3,14,3,15],[4,14,4,15],[3,19,3,22],[4,19,4,22],[3,16,3,17]]}
["第16号の2様式",null,null,null,null,null,null,null,null,null,null,null,null,null,null,null,null,null,null,null,null,null,null,{"$f":"IF(P_16号2様式!A2=\"\",\" ページ\", P_16号2様式!A2 & \"ページ\")","v":"1ページ"}]
[null,null,null,null,null,null,null,null,"開　 票　 速 　報"]
[null,{"$f":"IF(パラメタシート!B1=\"\",\"\",パラメタシート!B1)","v":"2017-10-22"}]
[null,{"$f":"IF(P_16号2様式!P2=\"\",\"\",P_16号2様式!P2)","v":"衆議院小選挙区選出議員選挙"},null,null,null,null,null,null,null,null,null,null,null,null,{"$f":"IF(P_16号2様式!Q2=\"0\",\"即日中間速報\",\"翌日中間速報\")","v":"即日中間速報"},null,{"$f":"IF(P_16号2様式!R2=\"\",\"第　　　回\",\"第 　\" & P_16号2様式!R2 & \"　回\")","v":"第　　　回"},null,null,{"$f":"IF(P_16号2様式!S2=\"\",\"     時    分　現在\",P_16号2様式!S2)","v":"     時    分　現在"}]
[null,null,null,null,null,null,null,null,null,null,null,null,null,null,"結了報告",null,null,null,null,{"$f":"IF(P_16号2様式!T2=\"\",\"     時    分　結了\",P_16号2様式!T2)","v":"01:43:00"},null,null,null,"鹿 児 島 県"]
[]
["市 区 町 村 名",null,null,"(ア)",null,"(イ)",null,"(ウ)",null,"(エ)",null,"(オ)",null,"(カ)",null,"(キ)",null,"(ク)"]
[null,null,"開票率","候 補 者 得 票",null,"あん分の際切り",null,"いずれの候補者",null,"有 効 投 票 数",null,"無 効 投 票 数",null,"投 票 総 数",null,"持ち帰り・不受理",null,"投票者総数",null,"無効投票率",null,"開 票 確 定",null,"確 定 表 示"]
[null,null,"％","数 の 合 計",null,"捨 て た 票 数",null,"にも属しない票数",null,"(ア)＋(イ)＋(ウ)",null,null,null,"(エ)＋(オ)",null,"その他",null,"(カ)＋(キ)",null,"(オ)／(カ)％",null,"時　 刻"]
[{"$f":"IF(P_16号2様式!C2=\"\",\"\",P_16号2様式!C2)","v":"【 第 １ 区 】"},null,{"$f":"IF(P_16号2様式!D2=\"\",\"\",P_16号2様式!D2)","v":""},{"$f":"IF(P_16号2様式!E2<> \"\",TEXT(INT(P_16号2様式!E2),\"#,##0\"),\"\")","v":""},{"$f":"IF(P_16号2様式!E2= \"\",\"\",IF(VALUE(FIXED(P_16号2様式!E2,0,TRUE))<>P_16号2様式!E2,RIGHT(FIXED(P_16号2様式!E2,3,FALSE),4),\"\"))","v":""},{"$f":"IF(P_16号2様式!F2<> \"\",TEXT(INT(P_16号2様式!F2),\"#,##0\"),\"\")","v":""},{"$f":"IF(P_16号2様式!F2= \"\",\"\",IF(VALUE(FIXED(P_16号2様式!F2,0,TRUE))<>P_16号2様式!F2,RIGHT(FIXED(P_16号2様式!F2,3,FALSE),4),\"\"))","v":""},{"$f":"IF(P_16号2様式!G2<> \"\",TEXT(INT(P_16号2様式!G2),\"#,##0\"),\"\")","v":""},{"$f":"IF(P_16号2様式!G2= \"\",\"\",IF(VALUE(FIXED(P_16号2様式!G2,0,TRUE))<>P_16号2様式!G2,RIGHT(FIXED(P_16号2様式!G2,3,FALSE),4),\"\"))","v":""},{"$f":"IF(P_16号2様式!H2<> \"\",TEXT(INT(P_16号2様式!H2),\"#,##0\"),\"\")","v":""},{"$f":"IF(P_16号2様式!H2= \"\",\"\",IF(VALUE(FIXED(P_16号2様式!H2,0,TRUE))<>P_16号2様式!H2,RIGHT(FIXED(P_16号2様式!H2,3,FALSE),4),\"\"))","v":""},{"$f":"IF(P_16号2様式!I2<> \"\",TEXT(INT(P_16号2様式!I2),\"#,##0\"),\"\")","v":""},{"$f":"IF(P_16号2様式!I2= \"\",\"\",IF(VALUE(FIXED(P_16号2様式!I2,0,TRUE))<>P_16号2様式!I2,RIGHT(FIXED(P_16号2様式!I2,3,FALSE),4),\"\"))","v":""},{"$f":"IF(P_16号2様式!J2<> \"\",TEXT(INT(P_16号2様式!J2),\"#,##0\"),\"\")","v":""},{"$f":"IF(P_16号2様式!J2= \"\",\"\",IF(VALUE(FIXED(P_16号2様式!J2,0,TRUE))<>P_16号2様式!J2,RIGHT(FIXED(P_16号2様式!J2,3,FALSE),4),\"\"))","v":""},{"$f":"IF(P_16号2様式!K2<> \"\",TEXT(INT(P_16号2様式!K2),\"#,##0\"),\"\")","v":""},{"$f":"IF(P_16号2様式!K2= \"\",\"\",IF(VALUE(FIXED(P_16号2様式!K2,0,TRUE))<>P_16号2様式!K2,RIGHT(FIXED(P_16号2様式!K2,3,FALSE),4),\"\"))","v":""},{"$f":"IF(P_16号2様式!L2<> \"\",TEXT(INT(P_16号2様式!L2),\"#,##0\"),\"\")","v":""},{"$f":"IF(P_16号2様式!L2= \"\",\"\",IF(VALUE(FIXED(P_16号2様式!L2,0,TRUE))<>P_16号2様式!L2,RIGHT(FIXED(P_16号2様式!L2,3,FALSE),4),\"\"))","v":""},{"$f":"IF(P_16号2様式!M2=\"\",\"\",P_16号2様式!M2)","v":""},null,{"$f":"IF(P_16号2様式!N2=\"\",\"\",P_16号2様式!N2)","v":""},null,{"$f":"IF(P_16号2様式!O2=\"\",\"\",P_16号2様式!O2)","v":""}]
[{"$f":"IF(P_16号2様式!C3=\"\",\"\",P_16号2様式!C3)","v":"　鹿児島市１区"},null,{"$f":"IF(P_16号2様式!D3=\"\",\"\",P_16号2様式!D3)","v":100},{"$f":"IF(P_16号2様式!E3<> \"\",TEXT(INT(P_16号2様式!E3),\"#,##0\"),\"\")","v":"182,808"},{"$f":"IF(P_16号2様式!E3= \"\",\"\",IF(VALUE(FIXED(P_16号2様式!E3,0,TRUE))<>P_16号2様式!E3,RIGHT(FIXED(P_16号2様式!E3,3,FALSE),4),\"\"))","v":""},{"$f":"IF(P_16号2様式!F3<> \"\",TEXT(INT(P_16号2様式!F3),\"#,##0\"),\"\")","v":"0"},{"$f":"IF(P_16号2様式!F3= \"\",\"\",IF(VALUE(FIXED(P_16号2様式!F3,0,TRUE))<>P_16号2様式!F3,RIGHT(FIXED(P_16号2様式!F3,3,FALSE),4),\"\"))","v":""},{"$f":"IF(P_16号2様式!G3<> \"\",TEXT(INT(P_16号2様式!G3),\"#,##0\"),\"\")","v":"0"},{"$f":"IF(P_16号2様式!G3= \"\",\"\",IF(VALUE(FIXED(P_16号2様式!G3,0,TRUE))<>P_16号2様式!G3,RIGHT(FIXED(P_16号2様式!G3,3,FALSE),4),\"\"))","v":""},{"$f":"IF(P_16号2様式!H3<> \"\",TEXT(INT(P_16号2様式!H3),\"#,##0\"),\"\")","v":"182,808"},{"$f":"IF(P_16号2様式!H3= \"\",\"\",IF(VALUE(FIXED(P_16号2様式!H3,0,TRUE))<>P_16号2様式!H3,RIGHT(FIXED(P_16号2様式!H3,3,FALSE),4),\"\"))","v":""},{"$f":"IF(P_16号2様式!I3<> \"\",TEXT(INT(P_16号2様式!I3),\"#,##0\"),\"\")","v":"3,161"},{"$f":"IF(P_16号2様式!I3= \"\",\"\",IF(VALUE(FIXED(P_16号2様式!I3,0,TRUE))<>P_16号2様式!I3,RIGHT(FIXED(P_16号2様式!I3,3,FALSE),4),\"\"))","v":""},{"$f":"IF(P_16号2様式!J3<> \"\",TEXT(INT(P_16号2様式!J3),\"#,##0\"),\"\")","v":"185,969"},{"$f":"IF(P_16号2様式!J3= \"\",\"\",IF(VALUE(FIXED(P_16号2様式!J3,0,TRUE))<>P_16号2様式!J3,RIGHT(FIXED(P_16号2様式!J3,3,FALSE),4),\"\"))","v":""},{"$f":"IF(P_16号2様式!K3<> \"\",TEXT(INT(P_16号2様式!K3),\"#,##0\"),\"\")","v":"14"},{"$f":"IF(P_16号2様式!K3= \"\",\"\",IF(VALUE(FIXED(P_16号2様式!K3,0,TRUE))<>P_16号2様式!K3,RIGHT(FIXED(P_16号2様式!K3,3,FALSE),4),\"\"))","v":""},{"$f":"IF(P_16号2様式!L3<> \"\",TEXT(INT(P_16号2様式!L3),\"#,##0\"),\"\")","v":"185,983"},{"$f":"IF(P_16号2様式!L3= \"\",\"\",IF(VALUE(FIXED(P_16号2様式!L3,0,TRUE))<>P_16号2様式!L3,RIGHT(FIXED(P_16号2様式!L3,3,FALSE),4),\"\"))","v":""},{"$f":"IF(P_16号2様式!M3=\"\",\"\",P_16号2様式!M3)","v":1.69974565653415},null,{"$f":"IF(P_16号2様式!N3=\"\",\"\",P_16号2様式!N3)","v":"01:43:00"},null,{"$f":"IF(P_16号2様式!O3=\"\",\"\",P_16号2様式!O3)","v":"確定"}]
[{"$f":"IF(P_16号2様式!C4=\"\",\"\",P_16号2様式!C4)","v":"＊市　部    計"},null,{"$f":"IF(P_16号2様式!D4=\"\",\"\",P_16号2様式!D4)","v":100},{"$f":"IF(P_16号2様式!E4<> \"\",TEXT(INT(P_16号2様式!E4),\"#,##0\"),\"\")","v":"182,808"},{"$f":"IF(P_16号2様式!E4= \"\",\"\",IF(VALUE(FIXED(P_16号2様式!E4,0,TRUE))<>P_16号2様式!E4,RIGHT(FIXED(P_16号2様式!E4,3,FALSE),4),\"\"))","v":""},{"$f":"IF(P_16号2様式!F4<> \"\",TEXT(INT(P_16号2様式!F4),\"#,##0\"),\"\")","v":"0"},{"$f":"IF(P_16号2様式!F4= \"\",\"\",IF(VALUE(FIXED(P_16号2様式!F4,0,TRUE))<>P_16号2様式!F4,RIGHT(FIXED(P_16号2様式!F4,3,FALSE),4),\"\"))","v":""},{"$f":"IF(P_16号2様式!G4<> \"\",TEXT(INT(P_16号2様式!G4),\"#,##0\"),\"\")","v":"0"},{"$f":"IF(P_16号2様式!G4= \"\",\"\",IF(VALUE(FIXED(P_16号2様式!G4,0,TRUE))<>P_16号2様式!G4,RIGHT(FIXED(P_16号2様式!G4,3,FALSE),4),\"\"))","v":""},{"$f":"IF(P_16号2様式!H4<> \"\",TEXT(INT(P_16号2様式!H4),\"#,##0\"),\"\")","v":"182,808"},{"$f":"IF(P_16号2様式!H4= \"\",\"\",IF(VALUE(FIXED(P_16号2様式!H4,0,TRUE))<>P_16号2様式!H4,RIGHT(FIXED(P_16号2様式!H4,3,FALSE),4),\"\"))","v":""},{"$f":"IF(P_16号2様式!I4<> \"\",TEXT(INT(P_16号2様式!I4),\"#,##0\"),\"\")","v":"3,161"},{"$f":"IF(P_16号2様式!I4= \"\",\"\",IF(VALUE(FIXED(P_16号2様式!I4,0,TRUE))<>P_16号2様式!I4,RIGHT(FIXED(P_16号2様式!I4,3,FALSE),4),\"\"))","v":""},{"$f":"IF(P_16号2様式!J4<> \"\",TEXT(INT(P_16号2様式!J4),\"#,##0\"),\"\")","v":"185,969"},{"$f":"IF(P_16号2様式!J4= \"\",\"\",IF(VALUE(FIXED(P_16号2様式!J4,0,TRUE))<>P_16号2様式!J4,RIGHT(FIXED(P_16号2様式!J4,3,FALSE),4),\"\"))","v":""},{"$f":"IF(P_16号2様式!K4<> \"\",TEXT(INT(P_16号2様式!K4),\"#,##0\"),\"\")","v":"14"},{"$f":"IF(P_16号2様式!K4= \"\",\"\",IF(VALUE(FIXED(P_16号2様式!K4,0,TRUE))<>P_16号2様式!K4,RIGHT(FIXED(P_16号2様式!K4,3,FALSE),4),\"\"))","v":""},{"$f":"IF(P_16号2様式!L4<> \"\",TEXT(INT(P_16号2様式!L4),\"#,##0\"),\"\")","v":"185,983"},{"$f":"IF(P_16号2様式!L4= \"\",\"\",IF(VALUE(FIXED(P_16号2様式!L4,0,TRUE))<>P_16号2様式!L4,RIGHT(FIXED(P_16号2様式!L4,3,FALSE),4),\"\"))","v":""},{"$f":"IF(P_16号2様式!M4=\"\",\"\",P_16号2様式!M4)","v":1.69974565653415},null,{"$f":"IF(P_16号2様式!N4=\"\",\"\",P_16号2様式!N4)","v":"01:43:00"},null,{"$f":"IF(P_16号2様式!O4=\"\",\"\",P_16号2様式!O4)","v":"確定"}]
[{"$f":"IF(P_16号2様式!C5=\"\",\"\",P_16号2様式!C5)","v":"　三島村"},null,{"$f":"IF(P_16号2様式!D5=\"\",\"\",P_16号2様式!D5)","v":100},{"$f":"IF(P_16号2様式!E5<> \"\",TEXT(INT(P_16号2様式!E5),\"#,##0\"),\"\")","v":"230"},{"$f":"IF(P_16号2様式!E5= \"\",\"\",IF(VALUE(FIXED(P_16号2様式!E5,0,TRUE))<>P_16号2様式!E5,RIGHT(FIXED(P_16号2様式!E5,3,FALSE),4),\"\"))","v":""},{"$f":"IF(P_16号2様式!F5<> \"\",TEXT(INT(P_16号2様式!F5),\"#,##0\"),\"\")","v":"0"},{"$f":"IF(P_16号2様式!F5= \"\",\"\",IF(VALUE(FIXED(P_16号2様式!F5,0,TRUE))<>P_16号2様式!F5,RIGHT(FIXED(P_16号2様式!F5,3,FALSE),4),\"\"))","v":""},{"$f":"IF(P_16号2様式!G5<> \"\",TEXT(INT(P_16号2様式!G5),\"#,##0\"),\"\")","v":"0"},{"$f":"IF(P_16号2様式!G5= \"\",\"\",IF(VALUE(FIXED(P_16号2様式!G5,0,TRUE))<>P_16号2様式!G5,RIGHT(FIXED(P_16号2様式!G5,3,FALSE),4),\"\"))","v":""},{"$f":"IF(P_16号2様式!H5<> \"\",TEXT(INT(P_16号2様式!H5),\"#,##0\"),\"\")","v":"230"},{"$f":"IF(P_16号2様式!H5= \"\",\"\",IF(VALUE(FIXED(P_16号2様式!H5,0,TRUE))<>P_16号2様式!H5,RIGHT(FIXED(P_16号2様式!H5,3,FALSE),4),\"\"))","v":""},{"$f":"IF(P_16号2様式!I5<> \"\",TEXT(INT(P_16号2様式!I5),\"#,##0\"),\"\")","v":"10"},{"$f":"IF(P_16号2様式!I5= \"\",\"\",IF(VALUE(FIXED(P_16号2様式!I5,0,TRUE))<>P_16号2様式!I5,RIGHT(FIXED(P_16号2様式!I5,3,FALSE),4),\"\"))","v":""},{"$f":"IF(P_16号2様式!J5<> \"\",TEXT(INT(P_16号2様式!J5),\"#,##0\"),\"\")","v":"240"},{"$f":"IF(P_16号2様式!J5= \"\",\"\",IF(VALUE(FIXED(P_16号2様式!J5,0,TRUE))<>P_16号2様式!J5,RIGHT(FIXED(P_16号2様式!J5,3,FALSE),4),\"\"))","v":""},{"$f":"IF(P_16号2様式!K5<> \"\",TEXT(INT(P_16号2様式!K5),\"#,##0\"),\"\")","v":"0"},{"$f":"IF(P_16号2様式!K5= \"\",\"\",IF(VALUE(FIXED(P_16号2様式!K5,0,TRUE))<>P_16号2様式!K5,RIGHT(FIXED(P_16号2様式!K5,3,FALSE),4),\"\"))","v":""},{"$f":"IF(P_16号2様式!L5<> \"\",TEXT(INT(P_16号2様式!L5),\"#,##0\"),\"\")","v":"240"},{"$f":"IF(P_16号2様式!L5= \"\",\"\",IF(VALUE(FIXED(P_16号2様式!L5,0,TRUE))<>P_16号2様式!L5,RIGHT(FIXED(P_16号2様式!L5,3,FALSE),4),\"\"))","v":""},{"$f":"IF(P_16号2様式!M5=\"\",\"\",P_16号2様式!M5)","v":4.1666666666666696},null,{"$f":"IF(P_16号2様式!N5=\"\",\"\",P_16号2様式!N5)","v":"20:23:00"},null,{"$f":"IF(P_16号2様式!O5=\"\",\"\",P_16号2様式!O5)","v":"確定"}]
[{"$f":"IF(P_16号2様式!C6=\"\",\"\",P_16号2様式!C6)","v":"　十島村"},null,{"$f":"IF(P_16号2様式!D6=\"\",\"\",P_16号2様式!D6)","v":100},{"$f":"IF(P_16号2様式!E6<> \"\",TEXT(INT(P_16号2様式!E6),\"#,##0\"),\"\")","v":"453"},{"$f":"IF(P_16号2様式!E6= \"\",\"\",IF(VALUE(FIXED(P_16号2様式!E6,0,TRUE))<>P_16号2様式!E6,RIGHT(FIXED(P_16号2様式!E6,3,FALSE),4),\"\"))","v":""},{"$f":"IF(P_16号2様式!F6<> \"\",TEXT(INT(P_16号2様式!F6),\"#,##0\"),\"\")","v":"0"},{"$f":"IF(P_16号2様式!F6= \"\",\"\",IF(VALUE(FIXED(P_16号2様式!F6,0,TRUE))<>P_16号2様式!F6,RIGHT(FIXED(P_16号2様式!F6,3,FALSE),4),\"\"))","v":""},{"$f":"IF(P_16号2様式!G6<> \"\",TEXT(INT(P_16号2様式!G6),\"#,##0\"),\"\")","v":"0"},{"$f":"IF(P_16号2様式!G6= \"\",\"\",IF(VALUE(FIXED(P_16号2様式!G6,0,TRUE))<>P_16号2様式!G6,RIGHT(FIXED(P_16号2様式!G6,3,FALSE),4),\"\"))","v":""},{"$f":"IF(P_16号2様式!H6<> \"\",TEXT(INT(P_16号2様式!H6),\"#,##0\"),\"\")","v":"453"},{"$f":"IF(P_16号2様式!H6= \"\",\"\",IF(VALUE(FIXED(P_16号2様式!H6,0,TRUE))<>P_16号2様式!H6,RIGHT(FIXED(P_16号2様式!H6,3,FALSE),4),\"\"))","v":""},{"$f":"IF(P_16号2様式!I6<> \"\",TEXT(INT(P_16号2様式!I6),\"#,##0\"),\"\")","v":"12"},{"$f":"IF(P_16号2様式!I6= \"\",\"\",IF(VALUE(FIXED(P_16号2様式!I6,0,TRUE))<>P_16号2様式!I6,RIGHT(FIXED(P_16号2様式!I6,3,FALSE),4),\"\"))","v":""},{"$f":"IF(P_16号2様式!J6<> \"\",TEXT(INT(P_16号2様式!J6),\"#,##0\"),\"\")","v":"465"},{"$f":"IF(P_16号2様式!J6= \"\",\"\",IF(VALUE(FIXED(P_16号2様式!J6,0,TRUE))<>P_16号2様式!J6,RIGHT(FIXED(P_16号2様式!J6,3,FALSE),4),\"\"))","v":""},{"$f":"IF(P_16号2様式!K6<> \"\",TEXT(INT(P_16号2様式!K6),\"#,##0\"),\"\")","v":"0"},{"$f":"IF(P_16号2様式!K6= \"\",\"\",IF(VALUE(FIXED(P_16号2様式!K6,0,TRUE))<>P_16号2様式!K6,RIGHT(FIXED(P_16号2様式!K6,3,FALSE),4),\"\"))","v":""},{"$f":"IF(P_16号2様式!L6<> \"\",TEXT(INT(P_16号2様式!L6),\"#,##0\"),\"\")","v":"465"},{"$f":"IF(P_16号2様式!L6= \"\",\"\",IF(VALUE(FIXED(P_16号2様式!L6,0,TRUE))<>P_16号2様式!L6,RIGHT(FIXED(P_16号2様式!L6,3,FALSE),4),\"\"))","v":""},{"$f":"IF(P_16号2様式!M6=\"\",\"\",P_16号2様式!M6)","v":2.5806451612903198},null,{"$f":"IF(P_16号2様式!N6=\"\",\"\",P_16号2様式!N6)","v":"20:32:00"},null,{"$f":"IF(P_16号2様式!O6=\"\",\"\",P_16号2様式!O6)","v":"確定"}]
[{"$f":"IF(P_16号2様式!C7=\"\",\"\",P_16号2様式!C7)","v":"＊（鹿児島郡）計"},null,{"$f":"IF(P_16号2様式!D7=\"\",\"\",P_16号2様式!D7)","v":100},{"$f":"IF(P_16号2様式!E7<> \"\",TEXT(INT(P_16号2様式!E7),\"#,##0\"),\"\")","v":"683"},{"$f":"IF(P_16号2様式!E7= \"\",\"\",IF(VALUE(FIXED(P_16号2様式!E7,0,TRUE))<>P_16号2様式!E7,RIGHT(FIXED(P_16号2様式!E7,3,FALSE),4),\"\"))","v":""},{"$f":"IF(P_16号2様式!F7<> \"\",TEXT(INT(P_16号2様式!F7),\"#,##0\"),\"\")","v":"0"},{"$f":"IF(P_16号2様式!F7= \"\",\"\",IF(VALUE(FIXED(P_16号2様式!F7,0,TRUE))<>P_16号2様式!F7,RIGHT(FIXED(P_16号2様式!F7,3,FALSE),4),\"\"))","v":""},{"$f":"IF(P_16号2様式!G7<> \"\",TEXT(INT(P_16号2様式!G7),\"#,##0\"),\"\")","v":"0"},{"$f":"IF(P_16号2様式!G7= \"\",\"\",IF(VALUE(FIXED(P_16号2様式!G7,0,TRUE))<>P_16号2様式!G7,RIGHT(FIXED(P_16号2様式!G7,3,FALSE),4),\"\"))","v":""},{"$f":"IF(P_16号2様式!H7<> \"\",TEXT(INT(P_16号2様式!H7),\"#,##0\"),\"\")","v":"683"},{"$f":"IF(P_16号2様式!H7= \"\",\"\",IF(VALUE(FIXED(P_16号2様式!H7,0,TRUE))<>P_16号2様式!H7,RIGHT(FIXED(P_16号2様式!H7,3,FALSE),4),\"\"))","v":""},{"$f":"IF(P_16号2様式!I7<> \"\",TEXT(INT(P_16号2様式!I7),\"#,##0\"),\"\")","v":"22"},{"$f":"IF(P_16号2様式!I7= \"\",\"\",IF(VALUE(FIXED(P_16号2様式!I7,0,TRUE))<>P_16号2様式!I7,RIGHT(FIXED(P_16号2様式!I7,3,FALSE),4),\"\"))","v":""},{"$f":"IF(P_16号2様式!J7<> \"\",TEXT(INT(P_16号2様式!J7),\"#,##0\"),\"\")","v":"705"},{"$f":"IF(P_16号2様式!J7= \"\",\"\",IF(VALUE(FIXED(P_16号2様式!J7,0,TRUE))<>P_16号2様式!J7,RIGHT(FIXED(P_16号2様式!J7,3,FALSE),4),\"\"))","v":""},{"$f":"IF(P_16号2様式!K7<> \"\",TEXT(INT(P_16号2様式!K7),\"#,##0\"),\"\")","v":"0"},{"$f":"IF(P_16号2様式!K7= \"\",\"\",IF(VALUE(FIXED(P_16号2様式!K7,0,TRUE))<>P_16号2様式!K7,RIGHT(FIXED(P_16号2様式!K7,3,FALSE),4),\"\"))","v":""},{"$f":"IF(P_16号2様式!L7<> \"\",TEXT(INT(P_16号2様式!L7),\"#,##0\"),\"\")","v":"705"},{"$f":"IF(P_16号2様式!L7= \"\",\"\",IF(VALUE(FIXED(P_16号2様式!L7,0,TRUE))<>P_16号2様式!L7,RIGHT(FIXED(P_16号2様式!L7,3,FALSE),4),\"\"))","v":""},{"$f":"IF(P_16号2様式!M7=\"\",\"\",P_16号2様式!M7)","v":3.12056737588652},null,{"$f":"IF(P_16号2様式!N7=\"\",\"\",P_16号2様式!N7)","v":"20:32:00"},null,{"$f":"IF(P_16号2様式!O7=\"\",\"\",P_16号2様式!O7)","v":"確定"}]
[{"$f":"IF(P_16号2様式!C8=\"\",\"\",P_16号2様式!C8)","v":"＊郡　部    計"},null,{"$f":"IF(P_16号2様式!D8=\"\",\"\",P_16号2様式!D8)","v":100},{"$f":"IF(P_16号2様式!E8<> \"\",TEXT(INT(P_16号2様式!E8),\"#,##0\"),\"\")","v":"683"},{"$f":"IF(P_16号2様式!E8= \"\",\"\",IF(VALUE(FIXED(P_16号2様式!E8,0,TRUE))<>P_16号2様式!E8,RIGHT(FIXED(P_16号2様式!E8,3,FALSE),4),\"\"))","v":""},{"$f":"IF(P_16号2様式!F8<> \"\",TEXT(INT(P_16号2様式!F8),\"#,##0\"),\"\")","v":"0"},{"$f":"IF(P_16号2様式!F8= \"\",\"\",IF(VALUE(FIXED(P_16号2様式!F8,0,TRUE))<>P_16号2様式!F8,RIGHT(FIXED(P_16号2様式!F8,3,FALSE),4),\"\"))","v":""},{"$f":"IF(P_16号2様式!G8<> \"\",TEXT(INT(P_16号2様式!G8),\"#,##0\"),\"\")","v":"0"},{"$f":"IF(P_16号2様式!G8= \"\",\"\",IF(VALUE(FIXED(P_16号2様式!G8,0,TRUE))<>P_16号2様式!G8,RIGHT(FIXED(P_16号2様式!G8,3,FALSE),4),\"\"))","v":""},{"$f":"IF(P_16号2様式!H8<> \"\",TEXT(INT(P_16号2様式!H8),\"#,##0\"),\"\")","v":"683"},{"$f":"IF(P_16号2様式!H8= \"\",\"\",IF(VALUE(FIXED(P_16号2様式!H8,0,TRUE))<>P_16号2様式!H8,RIGHT(FIXED(P_16号2様式!H8,3,FALSE),4),\"\"))","v":""},{"$f":"IF(P_16号2様式!I8<> \"\",TEXT(INT(P_16号2様式!I8),\"#,##0\"),\"\")","v":"22"},{"$f":"IF(P_16号2様式!I8= \"\",\"\",IF(VALUE(FIXED(P_16号2様式!I8,0,TRUE))<>P_16号2様式!I8,RIGHT(FIXED(P_16号2様式!I8,3,FALSE),4),\"\"))","v":""},{"$f":"IF(P_16号2様式!J8<> \"\",TEXT(INT(P_16号2様式!J8),\"#,##0\"),\"\")","v":"705"},{"$f":"IF(P_16号2様式!J8= \"\",\"\",IF(VALUE(FIXED(P_16号2様式!J8,0,TRUE))<>P_16号2様式!J8,RIGHT(FIXED(P_16号2様式!J8,3,FALSE),4),\"\"))","v":""},{"$f":"IF(P_16号2様式!K8<> \"\",TEXT(INT(P_16号2様式!K8),\"#,##0\"),\"\")","v":"0"},{"$f":"IF(P_16号2様式!K8= \"\",\"\",IF(VALUE(FIXED(P_16号2様式!K8,0,TRUE))<>P_16号2様式!K8,RIGHT(FIXED(P_16号2様式!K8,3,FALSE),4),\"\"))","v":""},{"$f":"IF(P_16号2様式!L8<> \"\",TEXT(INT(P_16号2様式!L8),\"#,##0\"),\"\")","v":"705"},{"$f":"IF(P_16号2様式!L8= \"\",\"\",IF(VALUE(FIXED(P_16号2様式!L8,0,TRUE))<>P_16号2様式!L8,RIGHT(FIXED(P_16号2様式!L8,3,FALSE),4),\"\"))","v":""},{"$f":"IF(P_16号2様式!M8=\"\",\"\",P_16号2様式!M8)","v":3.12056737588652},null,{"$f":"IF(P_16号2様式!N8=\"\",\"\",P_16号2様式!N8)","v":"20:32:00"},null,{"$f":"IF(P_16号2様式!O8=\"\",\"\",P_16号2様式!O8)","v":"確定"}]
[{"$f":"IF(P_16号2様式!C9=\"\",\"\",P_16号2様式!C9)","v":"＊第 １ 区  計"},null,{"$f":"IF(P_16号2様式!D9=\"\",\"\",P_16号2様式!D9)","v":100},{"$f":"IF(P_16号2様式!E9<> \"\",TEXT(INT(P_16号2様式!E9),\"#,##0\"),\"\")","v":"183,491"},{"$f":"IF(P_16号2様式!E9= \"\",\"\",IF(VALUE(FIXED(P_16号2様式!E9,0,TRUE))<>P_16号2様式!E9,RIGHT(FIXED(P_16号2様式!E9,3,FALSE),4),\"\"))","v":""},{"$f":"IF(P_16号2様式!F9<> \"\",TEXT(INT(P_16号2様式!F9),\"#,##0\"),\"\")","v":"0"},{"$f":"IF(P_16号2様式!F9= \"\",\"\",IF(VALUE(FIXED(P_16号2様式!F9,0,TRUE))<>P_16号2様式!F9,RIGHT(FIXED(P_16号2様式!F9,3,FALSE),4),\"\"))","v":""},{"$f":"IF(P_16号2様式!G9<> \"\",TEXT(INT(P_16号2様式!G9),\"#,##0\"),\"\")","v":"0"},{"$f":"IF(P_16号2様式!G9= \"\",\"\",IF(VALUE(FIXED(P_16号2様式!G9,0,TRUE))<>P_16号2様式!G9,RIGHT(FIXED(P_16号2様式!G9,3,FALSE),4),\"\"))","v":""},{"$f":"IF(P_16号2様式!H9<> \"\",TEXT(INT(P_16号2様式!H9),\"#,##0\"),\"\")","v":"183,491"},{"$f":"IF(P_16号2様式!H9= \"\",\"\",IF(VALUE(FIXED(P_16号2様式!H9,0,TRUE))<>P_16号2様式!H9,RIGHT(FIXED(P_16号2様式!H9,3,FALSE),4),\"\"))","v":""},{"$f":"IF(P_16号2様式!I9<> \"\",TEXT(INT(P_16号2様式!I9),\"#,##0\"),\"\")","v":"3,183"},{"$f":"IF(P_16号2様式!I9= \"\",\"\",IF(VALUE(FIXED(P_16号2様式!I9,0,TRUE))<>P_16号2様式!I9,RIGHT(FIXED(P_16号2様式!I9,3,FALSE),4),\"\"))","v":""},{"$f":"IF(P_16号2様式!J9<> \"\",TEXT(INT(P_16号2様式!J9),\"#,##0\"),\"\")","v":"186,674"},{"$f":"IF(P_16号2様式!J9= \"\",\"\",IF(VALUE(FIXED(P_16号2様式!J9,0,TRUE))<>P_16号2様式!J9,RIGHT(FIXED(P_16号2様式!J9,3,FALSE),4),\"\"))","v":""},{"$f":"IF(P_16号2様式!K9<> \"\",TEXT(INT(P_16号2様式!K9),\"#,##0\"),\"\")","v":"14"},{"$f":"IF(P_16号2様式!K9= \"\",\"\",IF(VALUE(FIXED(P_16号2様式!K9,0,TRUE))<>P_16号2様式!K9,RIGHT(FIXED(P_16号2様式!K9,3,FALSE),4),\"\"))","v":""},{"$f":"IF(P_16号2様式!L9<> \"\",TEXT(INT(P_16号2様式!L9),\"#,##0\"),\"\")","v":"186,688"},{"$f":"IF(P_16号2様式!L9= \"\",\"\",IF(VALUE(FIXED(P_16号2様式!L9,0,TRUE))<>P_16号2様式!L9,RIGHT(FIXED(P_16号2様式!L9,3,FALSE),4),\"\"))","v":""},{"$f":"IF(P_16号2様式!M9=\"\",\"\",P_16号2様式!M9)","v":1.70511158490202},null,{"$f":"IF(P_16号2様式!N9=\"\",\"\",P_16号2様式!N9)","v":"01:43:00"},null,{"$f":"IF(P_16号2様式!O9=\"\",\"\",P_16号2様式!O9)","v":"確定"}]
[{"$f":"IF(P_16号2様式!C10=\"\",\"\",P_16号2様式!C10)","v":""},null,{"$f":"IF(P_16号2様式!D10=\"\",\"\",P_16号2様式!D10)","v":""},{"$f":"IF(P_16号2様式!E10<> \"\",TEXT(INT(P_16号2様式!E10),\"#,##0\"),\"\")","v":""},{"$f":"IF(P_16号2様式!E10= \"\",\"\",IF(VALUE(FIXED(P_16号2様式!E10,0,TRUE))<>P_16号2様式!E10,RIGHT(FIXED(P_16号2様式!E10,3,FALSE),4),\"\"))","v":""},{"$f":"IF(P_16号2様式!F10<> \"\",TEXT(INT(P_16号2様式!F10),\"#,##0\"),\"\")","v":""},{"$f":"IF(P_16号2様式!F10= \"\",\"\",IF(VALUE(FIXED(P_16号2様式!F10,0,TRUE))<>P_16号2様式!F10,RIGHT(FIXED(P_16号2様式!F10,3,FALSE),4),\"\"))","v":""},{"$f":"IF(P_16号2様式!G10<> \"\",TEXT(INT(P_16号2様式!G10),\"#,##0\"),\"\")","v":""},{"$f":"IF(P_16号2様式!G10= \"\",\"\",IF(VALUE(FIXED(P_16号2様式!G10,0,TRUE))<>P_16号2様式!G10,RIGHT(FIXED(P_16号2様式!G10,3,FALSE),4),\"\"))","v":""},{"$f":"IF(P_16号2様式!H10<> \"\",TEXT(INT(P_16号2様式!H10),\"#,##0\"),\"\")","v":""},{"$f":"IF(P_16号2様式!H10= \"\",\"\",IF(VALUE(FIXED(P_16号2様式!H10,0,TRUE))<>P_16号2様式!H10,RIGHT(FIXED(P_16号2様式!H10,3,FALSE),4),\"\"))","v":""},{"$f":"IF(P_16号2様式!I10<> \"\",TEXT(INT(P_16号2様式!I10),\"#,##0\"),\"\")","v":""},{"$f":"IF(P_16号2様式!I10= \"\",\"\",IF(VALUE(FIXED(P_16号2様式!I10,0,TRUE))<>P_16号2様式!I10,RIGHT(FIXED(P_16号2様式!I10,3,FALSE),4),\"\"))","v":""},{"$f":"IF(P_16号2様式!J10<> \"\",TEXT(INT(P_16号2様式!J10),\"#,##0\"),\"\")","v":""},{"$f":"IF(P_16号2様式!J10= \"\",\"\",IF(VALUE(FIXED(P_16号2様式!J10,0,TRUE))<>P_16号2様式!J10,RIGHT(FIXED(P_16号2様式!J10,3,FALSE),4),\"\"))","v":""},{"$f":"IF(P_16号2様式!K10<> \"\",TEXT(INT(P_16号2様式!K10),\"#,##0\"),\"\")","v":""},{"$f":"IF(P_16号2様式!K10= \"\",\"\",IF(VALUE(FIXED(P_16号2様式!K10,0,TRUE))<>P_16号2様式!K10,RIGHT(FIXED(P_16号2様式!K10,3,FALSE),4),\"\"))","v":""},{"$f":"IF(P_16号2様式!L10<> \"\",TEXT(INT(P_16号2様式!L10),\"#,##0\"),\"\")","v":""},{"$f":"IF(P_16号2様式!L10= \"\",\"\",IF(VALUE(FIXED(P_16号2様式!L10,0,TRUE))<>P_16号2様式!L10,RIGHT(FIXED(P_16号2様式!L10,3,FALSE),4),\"\"))","v":""},{"$f":"IF(P_16号2様式!M10=\"\",\"\",P_16号2様式!M10)","v":""},null,{"$f":"IF(P_16号2様式!N10=\"\",\"\",P_16号2様式!N10)","v":""},null,{"$f":"IF(P_16号2様式!O10=\"\",\"\",P_16号2様式!O10)","v":""}]
[{"$f":"IF(P_16号2様式!C11=\"\",\"\",P_16号2様式!C11)","v":""},null,{"$f":"IF(P_16号2様式!D11=\"\",\"\",P_16号2様式!D11)","v":""},{"$f":"IF(P_16号2様式!E11<> \"\",TEXT(INT(P_16号2様式!E11),\"#,##0\"),\"\")","v":""},{"$f":"IF(P_16号2様式!E11= \"\",\"\",IF(VALUE(FIXED(P_16号2様式!E11,0,TRUE))<>P_16号2様式!E11,RIGHT(FIXED(P_16号2様式!E11,3,FALSE),4),\"\"))","v":""},{"$f":"IF(P_16号2様式!F11<> \"\",TEXT(INT(P_16号2様式!F11),\"#,##0\"),\"\")","v":""},{"$f":"IF(P_16号2様式!F11= \"\",\"\",IF(VALUE(FIXED(P_16号2様式!F11,0,TRUE))<>P_16号2様式!F11,RIGHT(FIXED(P_16号2様式!F11,3,FALSE),4),\"\"))","v":""},{"$f":"IF(P_16号2様式!G11<> \"\",TEXT(INT(P_16号2様式!G11),\"#,##0\"),\"\")","v":""},{"$f":"IF(P_16号2様式!G11= \"\",\"\",IF(VALUE(FIXED(P_16号2様式!G11,0,TRUE))<>P_16号2様式!G11,RIGHT(FIXED(P_16号2様式!G11,3,FALSE),4),\"\"))","v":""},{"$f":"IF(P_16号2様式!H11<> \"\",TEXT(INT(P_16号2様式!H11),\"#,##0\"),\"\")","v":""},{"$f":"IF(P_16号2様式!H11= \"\",\"\",IF(VALUE(FIXED(P_16号2様式!H11,0,TRUE))<>P_16号2様式!H11,RIGHT(FIXED(P_16号2様式!H11,3,FALSE),4),\"\"))","v":""},{"$f":"IF(P_16号2様式!I11<> \"\",TEXT(INT(P_16号2様式!I11),\"#,##0\"),\"\")","v":""},{"$f":"IF(P_16号2様式!I11= \"\",\"\",IF(VALUE(FIXED(P_16号2様式!I11,0,TRUE))<>P_16号2様式!I11,RIGHT(FIXED(P_16号2様式!I11,3,FALSE),4),\"\"))","v":""},{"$f":"IF(P_16号2様式!J11<> \"\",TEXT(INT(P_16号2様式!J11),\"#,##0\"),\"\")","v":""},{"$f":"IF(P_16号2様式!J11= \"\",\"\",IF(VALUE(FIXED(P_16号2様式!J11,0,TRUE))<>P_16号2様式!J11,RIGHT(FIXED(P_16号2様式!J11,3,FALSE),4),\"\"))","v":""},{"$f":"IF(P_16号2様式!K11<> \"\",TEXT(INT(P_16号2様式!K11),\"#,##0\"),\"\")","v":""},{"$f":"IF(P_16号2様式!K11= \"\",\"\",IF(VALUE(FIXED(P_16号2様式!K11,0,TRUE))<>P_16号2様式!K11,RIGHT(FIXED(P_16号2様式!K11,3,FALSE),4),\"\"))","v":""},{"$f":"IF(P_16号2様式!L11<> \"\",TEXT(INT(P_16号2様式!L11),\"#,##0\"),\"\")","v":""},{"$f":"IF(P_16号2様式!L11= \"\",\"\",IF(VALUE(FIXED(P_16号2様式!L11,0,TRUE))<>P_16号2様式!L11,RIGHT(FIXED(P_16号2様式!L11,3,FALSE),4),\"\"))","v":""},{"$f":"IF(P_16号2様式!M11=\"\",\"\",P_16号2様式!M11)","v":""},null,{"$f":"IF(P_16号2様式!N11=\"\",\"\",P_16号2様式!N11)","v":""},null,{"$f":"IF(P_16号2様式!O11=\"\",\"\",P_16号2様式!O11)","v":""}]
[{"$f":"IF(P_16号2様式!C12=\"\",\"\",P_16号2様式!C12)","v":""},null,{"$f":"IF(P_16号2様式!D12=\"\",\"\",P_16号2様式!D12)","v":""},{"$f":"IF(P_16号2様式!E12<> \"\",TEXT(INT(P_16号2様式!E12),\"#,##0\"),\"\")","v":""},{"$f":"IF(P_16号2様式!E12= \"\",\"\",IF(VALUE(FIXED(P_16号2様式!E12,0,TRUE))<>P_16号2様式!E12,RIGHT(FIXED(P_16号2様式!E12,3,FALSE),4),\"\"))","v":""},{"$f":"IF(P_16号2様式!F12<> \"\",TEXT(INT(P_16号2様式!F12),\"#,##0\"),\"\")","v":""},{"$f":"IF(P_16号2様式!F12= \"\",\"\",IF(VALUE(FIXED(P_16号2様式!F12,0,TRUE))<>P_16号2様式!F12,RIGHT(FIXED(P_16号2様式!F12,3,FALSE),4),\"\"))","v":""},{"$f":"IF(P_16号2様式!G12<> \"\",TEXT(INT(P_16号2様式!G12),\"#,##0\"),\"\")","v":""},{"$f":"IF(P_16号2様式!G12= \"\",\"\",IF(VALUE(FIXED(P_16号2様式!G12,0,TRUE))<>P_16号2様式!G12,RIGHT(FIXED(P_16号2様式!G12,3,FALSE),4),\"\"))","v":""},{"$f":"IF(P_16号2様式!H12<> \"\",TEXT(INT(P_16号2様式!H12),\"#,##0\"),\"\")","v":""},{"$f":"IF(P_16号2様式!H12= \"\",\"\",IF(VALUE(FIXED(P_16号2様式!H12,0,TRUE))<>P_16号2様式!H12,RIGHT(FIXED(P_16号2様式!H12,3,FALSE),4),\"\"))","v":""},{"$f":"IF(P_16号2様式!I12<> \"\",TEXT(INT(P_16号2様式!I12),\"#,##0\"),\"\")","v":""},{"$f":"IF(P_16号2様式!I12= \"\",\"\",IF(VALUE(FIXED(P_16号2様式!I12,0,TRUE))<>P_16号2様式!I12,RIGHT(FIXED(P_16号2様式!I12,3,FALSE),4),\"\"))","v":""},{"$f":"IF(P_16号2様式!J12<> \"\",TEXT(INT(P_16号2様式!J12),\"#,##0\"),\"\")","v":""},{"$f":"IF(P_16号2様式!J12= \"\",\"\",IF(VALUE(FIXED(P_16号2様式!J12,0,TRUE))<>P_16号2様式!J12,RIGHT(FIXED(P_16号2様式!J12,3,FALSE),4),\"\"))","v":""},{"$f":"IF(P_16号2様式!K12<> \"\",TEXT(INT(P_16号2様式!K12),\"#,##0\"),\"\")","v":""},{"$f":"IF(P_16号2様式!K12= \"\",\"\",IF(VALUE(FIXED(P_16号2様式!K12,0,TRUE))<>P_16号2様式!K12,RIGHT(FIXED(P_16号2様式!K12,3,FALSE),4),\"\"))","v":""},{"$f":"IF(P_16号2様式!L12<> \"\",TEXT(INT(P_16号2様式!L12),\"#,##0\"),\"\")","v":""},{"$f":"IF(P_16号2様式!L12= \"\",\"\",IF(VALUE(FIXED(P_16号2様式!L12,0,TRUE))<>P_16号2様式!L12,RIGHT(FIXED(P_16号2様式!L12,3,FALSE),4),\"\"))","v":""},{"$f":"IF(P_16号2様式!M12=\"\",\"\",P_16号2様式!M12)","v":""},null,{"$f":"IF(P_16号2様式!N12=\"\",\"\",P_16号2様式!N12)","v":""},null,{"$f":"IF(P_16号2様式!O12=\"\",\"\",P_16号2様式!O12)","v":""}]
[{"$f":"IF(P_16号2様式!C13=\"\",\"\",P_16号2様式!C13)","v":""},null,{"$f":"IF(P_16号2様式!D13=\"\",\"\",P_16号2様式!D13)","v":""},{"$f":"IF(P_16号2様式!E13<> \"\",TEXT(INT(P_16号2様式!E13),\"#,##0\"),\"\")","v":""},{"$f":"IF(P_16号2様式!E13= \"\",\"\",IF(VALUE(FIXED(P_16号2様式!E13,0,TRUE))<>P_16号2様式!E13,RIGHT(FIXED(P_16号2様式!E13,3,FALSE),4),\"\"))","v":""},{"$f":"IF(P_16号2様式!F13<> \"\",TEXT(INT(P_16号2様式!F13),\"#,##0\"),\"\")","v":""},{"$f":"IF(P_16号2様式!F13= \"\",\"\",IF(VALUE(FIXED(P_16号2様式!F13,0,TRUE))<>P_16号2様式!F13,RIGHT(FIXED(P_16号2様式!F13,3,FALSE),4),\"\"))","v":""},{"$f":"IF(P_16号2様式!G13<> \"\",TEXT(INT(P_16号2様式!G13),\"#,##0\"),\"\")","v":""},{"$f":"IF(P_16号2様式!G13= \"\",\"\",IF(VALUE(FIXED(P_16号2様式!G13,0,TRUE))<>P_16号2様式!G13,RIGHT(FIXED(P_16号2様式!G13,3,FALSE),4),\"\"))","v":""},{"$f":"IF(P_16号2様式!H13<> \"\",TEXT(INT(P_16号2様式!H13),\"#,##0\"),\"\")","v":""},{"$f":"IF(P_16号2様式!H13= \"\",\"\",IF(VALUE(FIXED(P_16号2様式!H13,0,TRUE))<>P_16号2様式!H13,RIGHT(FIXED(P_16号2様式!H13,3,FALSE),4),\"\"))","v":""},{"$f":"IF(P_16号2様式!I13<> \"\",TEXT(INT(P_16号2様式!I13),\"#,##0\"),\"\")","v":""},{"$f":"IF(P_16号2様式!I13= \"\",\"\",IF(VALUE(FIXED(P_16号2様式!I13,0,TRUE))<>P_16号2様式!I13,RIGHT(FIXED(P_16号2様式!I13,3,FALSE),4),\"\"))","v":""},{"$f":"IF(P_16号2様式!J13<> \"\",TEXT(INT(P_16号2様式!J13),\"#,##0\"),\"\")","v":""},{"$f":"IF(P_16号2様式!J13= \"\",\"\",IF(VALUE(FIXED(P_16号2様式!J13,0,TRUE))<>P_16号2様式!J13,RIGHT(FIXED(P_16号2様式!J13,3,FALSE),4),\"\"))","v":""},{"$f":"IF(P_16号2様式!K13<> \"\",TEXT(INT(P_16号2様式!K13),\"#,##0\"),\"\")","v":""},{"$f":"IF(P_16号2様式!K13= \"\",\"\",IF(VALUE(FIXED(P_16号2様式!K13,0,TRUE))<>P_16号2様式!K13,RIGHT(FIXED(P_16号2様式!K13,3,FALSE),4),\"\"))","v":""},{"$f":"IF(P_16号2様式!L13<> \"\",TEXT(INT(P_16号2様式!L13),\"#,##0\"),\"\")","v":""},{"$f":"IF(P_16号2様式!L13= \"\",\"\",IF(VALUE(FIXED(P_16号2様式!L13,0,TRUE))<>P_16号2様式!L13,RIGHT(FIXED(P_16号2様式!L13,3,FALSE),4),\"\"))","v":""},{"$f":"IF(P_16号2様式!M13=\"\",\"\",P_16号2様式!M13)","v":""},null,{"$f":"IF(P_16号2様式!N13=\"\",\"\",P_16号2様式!N13)","v":""},null,{"$f":"IF(P_16号2様式!O13=\"\",\"\",P_16号2様式!O13)","v":""}]
[{"$f":"IF(P_16号2様式!C14=\"\",\"\",P_16号2様式!C14)","v":""},null,{"$f":"IF(P_16号2様式!D14=\"\",\"\",P_16号2様式!D14)","v":""},{"$f":"IF(P_16号2様式!E14<> \"\",TEXT(INT(P_16号2様式!E14),\"#,##0\"),\"\")","v":""},{"$f":"IF(P_16号2様式!E14= \"\",\"\",IF(VALUE(FIXED(P_16号2様式!E14,0,TRUE))<>P_16号2様式!E14,RIGHT(FIXED(P_16号2様式!E14,3,FALSE),4),\"\"))","v":""},{"$f":"IF(P_16号2様式!F14<> \"\",TEXT(INT(P_16号2様式!F14),\"#,##0\"),\"\")","v":""},{"$f":"IF(P_16号2様式!F14= \"\",\"\",IF(VALUE(FIXED(P_16号2様式!F14,0,TRUE))<>P_16号2様式!F14,RIGHT(FIXED(P_16号2様式!F14,3,FALSE),4),\"\"))","v":""},{"$f":"IF(P_16号2様式!G14<> \"\",TEXT(INT(P_16号2様式!G14),\"#,##0\"),\"\")","v":""},{"$f":"IF(P_16号2様式!G14= \"\",\"\",IF(VALUE(FIXED(P_16号2様式!G14,0,TRUE))<>P_16号2様式!G14,RIGHT(FIXED(P_16号2様式!G14,3,FALSE),4),\"\"))","v":""},{"$f":"IF(P_16号2様式!H14<> \"\",TEXT(INT(P_16号2様式!H14),\"#,##0\"),\"\")","v":""},{"$f":"IF(P_16号2様式!H14= \"\",\"\",IF(VALUE(FIXED(P_16号2様式!H14,0,TRUE))<>P_16号2様式!H14,RIGHT(FIXED(P_16号2様式!H14,3,FALSE),4),\"\"))","v":""},{"$f":"IF(P_16号2様式!I14<> \"\",TEXT(INT(P_16号2様式!I14),\"#,##0\"),\"\")","v":""},{"$f":"IF(P_16号2様式!I14= \"\",\"\",IF(VALUE(FIXED(P_16号2様式!I14,0,TRUE))<>P_16号2様式!I14,RIGHT(FIXED(P_16号2様式!I14,3,FALSE),4),\"\"))","v":""},{"$f":"IF(P_16号2様式!J14<> \"\",TEXT(INT(P_16号2様式!J14),\"#,##0\"),\"\")","v":""},{"$f":"IF(P_16号2様式!J14= \"\",\"\",IF(VALUE(FIXED(P_16号2様式!J14,0,TRUE))<>P_16号2様式!J14,RIGHT(FIXED(P_16号2様式!J14,3,FALSE),4),\"\"))","v":""},{"$f":"IF(P_16号2様式!K14<> \"\",TEXT(INT(P_16号2様式!K14),\"#,##0\"),\"\")","v":""},{"$f":"IF(P_16号2様式!K14= \"\",\"\",IF(VALUE(FIXED(P_16号2様式!K14,0,TRUE))<>P_16号2様式!K14,RIGHT(FIXED(P_16号2様式!K14,3,FALSE),4),\"\"))","v":""},{"$f":"IF(P_16号2様式!L14<> \"\",TEXT(INT(P_16号2様式!L14),\"#,##0\"),\"\")","v":""},{"$f":"IF(P_16号2様式!L14= \"\",\"\",IF(VALUE(FIXED(P_16号2様式!L14,0,TRUE))<>P_16号2様式!L14,RIGHT(FIXED(P_16号2様式!L14,3,FALSE),4),\"\"))","v":""},{"$f":"IF(P_16号2様式!M14=\"\",\"\",P_16号2様式!M14)","v":""},null,{"$f":"IF(P_16号2様式!N14=\"\",\"\",P_16号2様式!N14)","v":""},null,{"$f":"IF(P_16号2様式!O14=\"\",\"\",P_16号2様式!O14)","v":""}]
[{"$f":"IF(P_16号2様式!C15=\"\",\"\",P_16号2様式!C15)","v":""},null,{"$f":"IF(P_16号2様式!D15=\"\",\"\",P_16号2様式!D15)","v":""},{"$f":"IF(P_16号2様式!E15<> \"\",TEXT(INT(P_16号2様式!E15),\"#,##0\"),\"\")","v":""},{"$f":"IF(P_16号2様式!E15= \"\",\"\",IF(VALUE(FIXED(P_16号2様式!E15,0,TRUE))<>P_16号2様式!E15,RIGHT(FIXED(P_16号2様式!E15,3,FALSE),4),\"\"))","v":""},{"$f":"IF(P_16号2様式!F15<> \"\",TEXT(INT(P_16号2様式!F15),\"#,##0\"),\"\")","v":""},{"$f":"IF(P_16号2様式!F15= \"\",\"\",IF(VALUE(FIXED(P_16号2様式!F15,0,TRUE))<>P_16号2様式!F15,RIGHT(FIXED(P_16号2様式!F15,3,FALSE),4),\"\"))","v":""},{"$f":"IF(P_16号2様式!G15<> \"\",TEXT(INT(P_16号2様式!G15),\"#,##0\"),\"\")","v":""},{"$f":"IF(P_16号2様式!G15= \"\",\"\",IF(VALUE(FIXED(P_16号2様式!G15,0,TRUE))<>P_16号2様式!G15,RIGHT(FIXED(P_16号2様式!G15,3,FALSE),4),\"\"))","v":""},{"$f":"IF(P_16号2様式!H15<> \"\",TEXT(INT(P_16号2様式!H15),\"#,##0\"),\"\")","v":""},{"$f":"IF(P_16号2様式!H15= \"\",\"\",IF(VALUE(FIXED(P_16号2様式!H15,0,TRUE))<>P_16号2様式!H15,RIGHT(FIXED(P_16号2様式!H15,3,FALSE),4),\"\"))","v":""},{"$f":"IF(P_16号2様式!I15<> \"\",TEXT(INT(P_16号2様式!I15),\"#,##0\"),\"\")","v":""},{"$f":"IF(P_16号2様式!I15= \"\",\"\",IF(VALUE(FIXED(P_16号2様式!I15,0,TRUE))<>P_16号2様式!I15,RIGHT(FIXED(P_16号2様式!I15,3,FALSE),4),\"\"))","v":""},{"$f":"IF(P_16号2様式!J15<> \"\",TEXT(INT(P_16号2様式!J15),\"#,##0\"),\"\")","v":""},{"$f":"IF(P_16号2様式!J15= \"\",\"\",IF(VALUE(FIXED(P_16号2様式!J15,0,TRUE))<>P_16号2様式!J15,RIGHT(FIXED(P_16号2様式!J15,3,FALSE),4),\"\"))","v":""},{"$f":"IF(P_16号2様式!K15<> \"\",TEXT(INT(P_16号2様式!K15),\"#,##0\"),\"\")","v":""},{"$f":"IF(P_16号2様式!K15= \"\",\"\",IF(VALUE(FIXED(P_16号2様式!K15,0,TRUE))<>P_16号2様式!K15,RIGHT(FIXED(P_16号2様式!K15,3,FALSE),4),\"\"))","v":""},{"$f":"IF(P_16号2様式!L15<> \"\",TEXT(INT(P_16号2様式!L15),\"#,##0\"),\"\")","v":""},{"$f":"IF(P_16号2様式!L15= \"\",\"\",IF(VALUE(FIXED(P_16号2様式!L15,0,TRUE))<>P_16号2様式!L15,RIGHT(FIXED(P_16号2様式!L15,3,FALSE),4),\"\"))","v":""},{"$f":"IF(P_16号2様式!M15=\"\",\"\",P_16号2様式!M15)","v":""},null,{"$f":"IF(P_16号2様式!N15=\"\",\"\",P_16号2様式!N15)","v":""},null,{"$f":"IF(P_16号2様式!O15=\"\",\"\",P_16号2様式!O15)","v":""}]
[{"$f":"IF(P_16号2様式!C16=\"\",\"\",P_16号2様式!C16)","v":""},null,{"$f":"IF(P_16号2様式!D16=\"\",\"\",P_16号2様式!D16)","v":""},{"$f":"IF(P_16号2様式!E16<> \"\",TEXT(INT(P_16号2様式!E16),\"#,##0\"),\"\")","v":""},{"$f":"IF(P_16号2様式!E16= \"\",\"\",IF(VALUE(FIXED(P_16号2様式!E16,0,TRUE))<>P_16号2様式!E16,RIGHT(FIXED(P_16号2様式!E16,3,FALSE),4),\"\"))","v":""},{"$f":"IF(P_16号2様式!F16<> \"\",TEXT(INT(P_16号2様式!F16),\"#,##0\"),\"\")","v":""},{"$f":"IF(P_16号2様式!F16= \"\",\"\",IF(VALUE(FIXED(P_16号2様式!F16,0,TRUE))<>P_16号2様式!F16,RIGHT(FIXED(P_16号2様式!F16,3,FALSE),4),\"\"))","v":""},{"$f":"IF(P_16号2様式!G16<> \"\",TEXT(INT(P_16号2様式!G16),\"#,##0\"),\"\")","v":""},{"$f":"IF(P_16号2様式!G16= \"\",\"\",IF(VALUE(FIXED(P_16号2様式!G16,0,TRUE))<>P_16号2様式!G16,RIGHT(FIXED(P_16号2様式!G16,3,FALSE),4),\"\"))","v":""},{"$f":"IF(P_16号2様式!H16<> \"\",TEXT(INT(P_16号2様式!H16),\"#,##0\"),\"\")","v":""},{"$f":"IF(P_16号2様式!H16= \"\",\"\",IF(VALUE(FIXED(P_16号2様式!H16,0,TRUE))<>P_16号2様式!H16,RIGHT(FIXED(P_16号2様式!H16,3,FALSE),4),\"\"))","v":""},{"$f":"IF(P_16号2様式!I16<> \"\",TEXT(INT(P_16号2様式!I16),\"#,##0\"),\"\")","v":""},{"$f":"IF(P_16号2様式!I16= \"\",\"\",IF(VALUE(FIXED(P_16号2様式!I16,0,TRUE))<>P_16号2様式!I16,RIGHT(FIXED(P_16号2様式!I16,3,FALSE),4),\"\"))","v":""},{"$f":"IF(P_16号2様式!J16<> \"\",TEXT(INT(P_16号2様式!J16),\"#,##0\"),\"\")","v":""},{"$f":"IF(P_16号2様式!J16= \"\",\"\",IF(VALUE(FIXED(P_16号2様式!J16,0,TRUE))<>P_16号2様式!J16,RIGHT(FIXED(P_16号2様式!J16,3,FALSE),4),\"\"))","v":""},{"$f":"IF(P_16号2様式!K16<> \"\",TEXT(INT(P_16号2様式!K16),\"#,##0\"),\"\")","v":""},{"$f":"IF(P_16号2様式!K16= \"\",\"\",IF(VALUE(FIXED(P_16号2様式!K16,0,TRUE))<>P_16号2様式!K16,RIGHT(FIXED(P_16号2様式!K16,3,FALSE),4),\"\"))","v":""},{"$f":"IF(P_16号2様式!L16<> \"\",TEXT(INT(P_16号2様式!L16),\"#,##0\"),\"\")","v":""},{"$f":"IF(P_16号2様式!L16= \"\",\"\",IF(VALUE(FIXED(P_16号2様式!L16,0,TRUE))<>P_16号2様式!L16,RIGHT(FIXED(P_16号2様式!L16,3,FALSE),4),\"\"))","v":""},{"$f":"IF(P_16号2様式!M16=\"\",\"\",P_16号2様式!M16)","v":""},null,{"$f":"IF(P_16号2様式!N16=\"\",\"\",P_16号2様式!N16)","v":""},null,{"$f":"IF(P_16号2様式!O16=\"\",\"\",P_16号2様式!O16)","v":""}]
[{"$f":"IF(P_16号2様式!C17=\"\",\"\",P_16号2様式!C17)","v":""},null,{"$f":"IF(P_16号2様式!D17=\"\",\"\",P_16号2様式!D17)","v":""},{"$f":"IF(P_16号2様式!E17<> \"\",TEXT(INT(P_16号2様式!E17),\"#,##0\"),\"\")","v":""},{"$f":"IF(P_16号2様式!E17= \"\",\"\",IF(VALUE(FIXED(P_16号2様式!E17,0,TRUE))<>P_16号2様式!E17,RIGHT(FIXED(P_16号2様式!E17,3,FALSE),4),\"\"))","v":""},{"$f":"IF(P_16号2様式!F17<> \"\",TEXT(INT(P_16号2様式!F17),\"#,##0\"),\"\")","v":""},{"$f":"IF(P_16号2様式!F17= \"\",\"\",IF(VALUE(FIXED(P_16号2様式!F17,0,TRUE))<>P_16号2様式!F17,RIGHT(FIXED(P_16号2様式!F17,3,FALSE),4),\"\"))","v":""},{"$f":"IF(P_16号2様式!G17<> \"\",TEXT(INT(P_16号2様式!G17),\"#,##0\"),\"\")","v":""},{"$f":"IF(P_16号2様式!G17= \"\",\"\",IF(VALUE(FIXED(P_16号2様式!G17,0,TRUE))<>P_16号2様式!G17,RIGHT(FIXED(P_16号2様式!G17,3,FALSE),4),\"\"))","v":""},{"$f":"IF(P_16号2様式!H17<> \"\",TEXT(INT(P_16号2様式!H17),\"#,##0\"),\"\")","v":""},{"$f":"IF(P_16号2様式!H17= \"\",\"\",IF(VALUE(FIXED(P_16号2様式!H17,0,TRUE))<>P_16号2様式!H17,RIGHT(FIXED(P_16号2様式!H17,3,FALSE),4),\"\"))","v":""},{"$f":"IF(P_16号2様式!I17<> \"\",TEXT(INT(P_16号2様式!I17),\"#,##0\"),\"\")","v":""},{"$f":"IF(P_16号2様式!I17= \"\",\"\",IF(VALUE(FIXED(P_16号2様式!I17,0,TRUE))<>P_16号2様式!I17,RIGHT(FIXED(P_16号2様式!I17,3,FALSE),4),\"\"))","v":""},{"$f":"IF(P_16号2様式!J17<> \"\",TEXT(INT(P_16号2様式!J17),\"#,##0\"),\"\")","v":""},{"$f":"IF(P_16号2様式!J17= \"\",\"\",IF(VALUE(FIXED(P_16号2様式!J17,0,TRUE))<>P_16号2様式!J17,RIGHT(FIXED(P_16号2様式!J17,3,FALSE),4),\"\"))","v":""},{"$f":"IF(P_16号2様式!K17<> \"\",TEXT(INT(P_16号2様式!K17),\"#,##0\"),\"\")","v":""},{"$f":"IF(P_16号2様式!K17= \"\",\"\",IF(VALUE(FIXED(P_16号2様式!K17,0,TRUE))<>P_16号2様式!K17,RIGHT(FIXED(P_16号2様式!K17,3,FALSE),4),\"\"))","v":""},{"$f":"IF(P_16号2様式!L17<> \"\",TEXT(INT(P_16号2様式!L17),\"#,##0\"),\"\")","v":""},{"$f":"IF(P_16号2様式!L17= \"\",\"\",IF(VALUE(FIXED(P_16号2様式!L17,0,TRUE))<>P_16号2様式!L17,RIGHT(FIXED(P_16号2様式!L17,3,FALSE),4),\"\"))","v":""},{"$f":"IF(P_16号2様式!M17=\"\",\"\",P_16号2様式!M17)","v":""},null,{"$f":"IF(P_16号2様式!N17=\"\",\"\",P_16号2様式!N17)","v":""},null,{"$f":"IF(P_16号2様式!O17=\"\",\"\",P_16号2様式!O17)","v":""}]
[{"$f":"IF(P_16号2様式!C18=\"\",\"\",P_16号2様式!C18)","v":""},null,{"$f":"IF(P_16号2様式!D18=\"\",\"\",P_16号2様式!D18)","v":""},{"$f":"IF(P_16号2様式!E18<> \"\",TEXT(INT(P_16号2様式!E18),\"#,##0\"),\"\")","v":""},{"$f":"IF(P_16号2様式!E18= \"\",\"\",IF(VALUE(FIXED(P_16号2様式!E18,0,TRUE))<>P_16号2様式!E18,RIGHT(FIXED(P_16号2様式!E18,3,FALSE),4),\"\"))","v":""},{"$f":"IF(P_16号2様式!F18<> \"\",TEXT(INT(P_16号2様式!F18),\"#,##0\"),\"\")","v":""},{"$f":"IF(P_16号2様式!F18= \"\",\"\",IF(VALUE(FIXED(P_16号2様式!F18,0,TRUE))<>P_16号2様式!F18,RIGHT(FIXED(P_16号2様式!F18,3,FALSE),4),\"\"))","v":""},{"$f":"IF(P_16号2様式!G18<> \"\",TEXT(INT(P_16号2様式!G18),\"#,##0\"),\"\")","v":""},{"$f":"IF(P_16号2様式!G18= \"\",\"\",IF(VALUE(FIXED(P_16号2様式!G18,0,TRUE))<>P_16号2様式!G18,RIGHT(FIXED(P_16号2様式!G18,3,FALSE),4),\"\"))","v":""},{"$f":"IF(P_16号2様式!H18<> \"\",TEXT(INT(P_16号2様式!H18),\"#,##0\"),\"\")","v":""},{"$f":"IF(P_16号2様式!H18= \"\",\"\",IF(VALUE(FIXED(P_16号2様式!H18,0,TRUE))<>P_16号2様式!H18,RIGHT(FIXED(P_16号2様式!H18,3,FALSE),4),\"\"))","v":""},{"$f":"IF(P_16号2様式!I18<> \"\",TEXT(INT(P_16号2様式!I18),\"#,##0\"),\"\")","v":""},{"$f":"IF(P_16号2様式!I18= \"\",\"\",IF(VALUE(FIXED(P_16号2様式!I18,0,TRUE))<>P_16号2様式!I18,RIGHT(FIXED(P_16号2様式!I18,3,FALSE),4),\"\"))","v":""},{"$f":"IF(P_16号2様式!J18<> \"\",TEXT(INT(P_16号2様式!J18),\"#,##0\"),\"\")","v":""},{"$f":"IF(P_16号2様式!J18= \"\",\"\",IF(VALUE(FIXED(P_16号2様式!J18,0,TRUE))<>P_16号2様式!J18,RIGHT(FIXED(P_16号2様式!J18,3,FALSE),4),\"\"))","v":""},{"$f":"IF(P_16号2様式!K18<> \"\",TEXT(INT(P_16号2様式!K18),\"#,##0\"),\"\")","v":""},{"$f":"IF(P_16号2様式!K18= \"\",\"\",IF(VALUE(FIXED(P_16号2様式!K18,0,TRUE))<>P_16号2様式!K18,RIGHT(FIXED(P_16号2様式!K18,3,FALSE),4),\"\"))","v":""},{"$f":"IF(P_16号2様式!L18<> \"\",TEXT(INT(P_16号2様式!L18),\"#,##0\"),\"\")","v":""},{"$f":"IF(P_16号2様式!L18= \"\",\"\",IF(VALUE(FIXED(P_16号2様式!L18,0,TRUE))<>P_16号2様式!L18,RIGHT(FIXED(P_16号2様式!L18,3,FALSE),4),\"\"))","v":""},{"$f":"IF(P_16号2様式!M18=\"\",\"\",P_16号2様式!M18)","v":""},null,{"$f":"IF(P_16号2様式!N18=\"\",\"\",P_16号2様式!N18)","v":""},null,{"$f":"IF(P_16号2様式!O18=\"\",\"\",P_16号2様式!O18)","v":""}]
[{"$f":"IF(P_16号2様式!C19=\"\",\"\",P_16号2様式!C19)","v":""},null,{"$f":"IF(P_16号2様式!D19=\"\",\"\",P_16号2様式!D19)","v":""},{"$f":"IF(P_16号2様式!E19<> \"\",TEXT(INT(P_16号2様式!E19),\"#,##0\"),\"\")","v":""},{"$f":"IF(P_16号2様式!E19= \"\",\"\",IF(VALUE(FIXED(P_16号2様式!E19,0,TRUE))<>P_16号2様式!E19,RIGHT(FIXED(P_16号2様式!E19,3,FALSE),4),\"\"))","v":""},{"$f":"IF(P_16号2様式!F19<> \"\",TEXT(INT(P_16号2様式!F19),\"#,##0\"),\"\")","v":""},{"$f":"IF(P_16号2様式!F19= \"\",\"\",IF(VALUE(FIXED(P_16号2様式!F19,0,TRUE))<>P_16号2様式!F19,RIGHT(FIXED(P_16号2様式!F19,3,FALSE),4),\"\"))","v":""},{"$f":"IF(P_16号2様式!G19<> \"\",TEXT(INT(P_16号2様式!G19),\"#,##0\"),\"\")","v":""},{"$f":"IF(P_16号2様式!G19= \"\",\"\",IF(VALUE(FIXED(P_16号2様式!G19,0,TRUE))<>P_16号2様式!G19,RIGHT(FIXED(P_16号2様式!G19,3,FALSE),4),\"\"))","v":""},{"$f":"IF(P_16号2様式!H19<> \"\",TEXT(INT(P_16号2様式!H19),\"#,##0\"),\"\")","v":""},{"$f":"IF(P_16号2様式!H19= \"\",\"\",IF(VALUE(FIXED(P_16号2様式!H19,0,TRUE))<>P_16号2様式!H19,RIGHT(FIXED(P_16号2様式!H19,3,FALSE),4),\"\"))","v":""},{"$f":"IF(P_16号2様式!I19<> \"\",TEXT(INT(P_16号2様式!I19),\"#,##0\"),\"\")","v":""},{"$f":"IF(P_16号2様式!I19= \"\",\"\",IF(VALUE(FIXED(P_16号2様式!I19,0,TRUE))<>P_16号2様式!I19,RIGHT(FIXED(P_16号2様式!I19,3,FALSE),4),\"\"))","v":""},{"$f":"IF(P_16号2様式!J19<> \"\",TEXT(INT(P_16号2様式!J19),\"#,##0\"),\"\")","v":""},{"$f":"IF(P_16号2様式!J19= \"\",\"\",IF(VALUE(FIXED(P_16号2様式!J19,0,TRUE))<>P_16号2様式!J19,RIGHT(FIXED(P_16号2様式!J19,3,FALSE),4),\"\"))","v":""},{"$f":"IF(P_16号2様式!K19<> \"\",TEXT(INT(P_16号2様式!K19),\"#,##0\"),\"\")","v":""},{"$f":"IF(P_16号2様式!K19= \"\",\"\",IF(VALUE(FIXED(P_16号2様式!K19,0,TRUE))<>P_16号2様式!K19,RIGHT(FIXED(P_16号2様式!K19,3,FALSE),4),\"\"))","v":""},{"$f":"IF(P_16号2様式!L19<> \"\",TEXT(INT(P_16号2様式!L19),\"#,##0\"),\"\")","v":""},{"$f":"IF(P_16号2様式!L19= \"\",\"\",IF(VALUE(FIXED(P_16号2様式!L19,0,TRUE))<>P_16号2様式!L19,RIGHT(FIXED(P_16号2様式!L19,3,FALSE),4),\"\"))","v":""},{"$f":"IF(P_16号2様式!M19=\"\",\"\",P_16号2様式!M19)","v":""},null,{"$f":"IF(P_16号2様式!N19=\"\",\"\",P_16号2様式!N19)","v":""},null,{"$f":"IF(P_16号2様式!O19=\"\",\"\",P_16号2様式!O19)","v":""}]
[{"$f":"IF(P_16号2様式!C20=\"\",\"\",P_16号2様式!C20)","v":""},null,{"$f":"IF(P_16号2様式!D20=\"\",\"\",P_16号2様式!D20)","v":""},{"$f":"IF(P_16号2様式!E20<> \"\",TEXT(INT(P_16号2様式!E20),\"#,##0\"),\"\")","v":""},{"$f":"IF(P_16号2様式!E20= \"\",\"\",IF(VALUE(FIXED(P_16号2様式!E20,0,TRUE))<>P_16号2様式!E20,RIGHT(FIXED(P_16号2様式!E20,3,FALSE),4),\"\"))","v":""},{"$f":"IF(P_16号2様式!F20<> \"\",TEXT(INT(P_16号2様式!F20),\"#,##0\"),\"\")","v":""},{"$f":"IF(P_16号2様式!F20= \"\",\"\",IF(VALUE(FIXED(P_16号2様式!F20,0,TRUE))<>P_16号2様式!F20,RIGHT(FIXED(P_16号2様式!F20,3,FALSE),4),\"\"))","v":""},{"$f":"IF(P_16号2様式!G20<> \"\",TEXT(INT(P_16号2様式!G20),\"#,##0\"),\"\")","v":""},{"$f":"IF(P_16号2様式!G20= \"\",\"\",IF(VALUE(FIXED(P_16号2様式!G20,0,TRUE))<>P_16号2様式!G20,RIGHT(FIXED(P_16号2様式!G20,3,FALSE),4),\"\"))","v":""},{"$f":"IF(P_16号2様式!H20<> \"\",TEXT(INT(P_16号2様式!H20),\"#,##0\"),\"\")","v":""},{"$f":"IF(P_16号2様式!H20= \"\",\"\",IF(VALUE(FIXED(P_16号2様式!H20,0,TRUE))<>P_16号2様式!H20,RIGHT(FIXED(P_16号2様式!H20,3,FALSE),4),\"\"))","v":""},{"$f":"IF(P_16号2様式!I20<> \"\",TEXT(INT(P_16号2様式!I20),\"#,##0\"),\"\")","v":""},{"$f":"IF(P_16号2様式!I20= \"\",\"\",IF(VALUE(FIXED(P_16号2様式!I20,0,TRUE))<>P_16号2様式!I20,RIGHT(FIXED(P_16号2様式!I20,3,FALSE),4),\"\"))","v":""},{"$f":"IF(P_16号2様式!J20<> \"\",TEXT(INT(P_16号2様式!J20),\"#,##0\"),\"\")","v":""},{"$f":"IF(P_16号2様式!J20= \"\",\"\",IF(VALUE(FIXED(P_16号2様式!J20,0,TRUE))<>P_16号2様式!J20,RIGHT(FIXED(P_16号2様式!J20,3,FALSE),4),\"\"))","v":""},{"$f":"IF(P_16号2様式!K20<> \"\",TEXT(INT(P_16号2様式!K20),\"#,##0\"),\"\")","v":""},{"$f":"IF(P_16号2様式!K20= \"\",\"\",IF(VALUE(FIXED(P_16号2様式!K20,0,TRUE))<>P_16号2様式!K20,RIGHT(FIXED(P_16号2様式!K20,3,FALSE),4),\"\"))","v":""},{"$f":"IF(P_16号2様式!L20<> \"\",TEXT(INT(P_16号2様式!L20),\"#,##0\"),\"\")","v":""},{"$f":"IF(P_16号2様式!L20= \"\",\"\",IF(VALUE(FIXED(P_16号2様式!L20,0,TRUE))<>P_16号2様式!L20,RIGHT(FIXED(P_16号2様式!L20,3,FALSE),4),\"\"))","v":""},{"$f":"IF(P_16号2様式!M20=\"\",\"\",P_16号2様式!M20)","v":""},null,{"$f":"IF(P_16号2様式!N20=\"\",\"\",P_16号2様式!N20)","v":""},null,{"$f":"IF(P_16号2様式!O20=\"\",\"\",P_16号2様式!O20)","v":""}]
[{"$f":"IF(P_16号2様式!C21=\"\",\"\",P_16号2様式!C21)","v":""},null,{"$f":"IF(P_16号2様式!D21=\"\",\"\",P_16号2様式!D21)","v":""},{"$f":"IF(P_16号2様式!E21<> \"\",TEXT(INT(P_16号2様式!E21),\"#,##0\"),\"\")","v":""},{"$f":"IF(P_16号2様式!E21= \"\",\"\",IF(VALUE(FIXED(P_16号2様式!E21,0,TRUE))<>P_16号2様式!E21,RIGHT(FIXED(P_16号2様式!E21,3,FALSE),4),\"\"))","v":""},{"$f":"IF(P_16号2様式!F21<> \"\",TEXT(INT(P_16号2様式!F21),\"#,##0\"),\"\")","v":""},{"$f":"IF(P_16号2様式!F21= \"\",\"\",IF(VALUE(FIXED(P_16号2様式!F21,0,TRUE))<>P_16号2様式!F21,RIGHT(FIXED(P_16号2様式!F21,3,FALSE),4),\"\"))","v":""},{"$f":"IF(P_16号2様式!G21<> \"\",TEXT(INT(P_16号2様式!G21),\"#,##0\"),\"\")","v":""},{"$f":"IF(P_16号2様式!G21= \"\",\"\",IF(VALUE(FIXED(P_16号2様式!G21,0,TRUE))<>P_16号2様式!G21,RIGHT(FIXED(P_16号2様式!G21,3,FALSE),4),\"\"))","v":""},{"$f":"IF(P_16号2様式!H21<> \"\",TEXT(INT(P_16号2様式!H21),\"#,##0\"),\"\")","v":""},{"$f":"IF(P_16号2様式!H21= \"\",\"\",IF(VALUE(FIXED(P_16号2様式!H21,0,TRUE))<>P_16号2様式!H21,RIGHT(FIXED(P_16号2様式!H21,3,FALSE),4),\"\"))","v":""},{"$f":"IF(P_16号2様式!I21<> \"\",TEXT(INT(P_16号2様式!I21),\"#,##0\"),\"\")","v":""},{"$f":"IF(P_16号2様式!I21= \"\",\"\",IF(VALUE(FIXED(P_16号2様式!I21,0,TRUE))<>P_16号2様式!I21,RIGHT(FIXED(P_16号2様式!I21,3,FALSE),4),\"\"))","v":""},{"$f":"IF(P_16号2様式!J21<> \"\",TEXT(INT(P_16号2様式!J21),\"#,##0\"),\"\")","v":""},{"$f":"IF(P_16号2様式!J21= \"\",\"\",IF(VALUE(FIXED(P_16号2様式!J21,0,TRUE))<>P_16号2様式!J21,RIGHT(FIXED(P_16号2様式!J21,3,FALSE),4),\"\"))","v":""},{"$f":"IF(P_16号2様式!K21<> \"\",TEXT(INT(P_16号2様式!K21),\"#,##0\"),\"\")","v":""},{"$f":"IF(P_16号2様式!K21= \"\",\"\",IF(VALUE(FIXED(P_16号2様式!K21,0,TRUE))<>P_16号2様式!K21,RIGHT(FIXED(P_16号2様式!K21,3,FALSE),4),\"\"))","v":""},{"$f":"IF(P_16号2様式!L21<> \"\",TEXT(INT(P_16号2様式!L21),\"#,##0\"),\"\")","v":""},{"$f":"IF(P_16号2様式!L21= \"\",\"\",IF(VALUE(FIXED(P_16号2様式!L21,0,TRUE))<>P_16号2様式!L21,RIGHT(FIXED(P_16号2様式!L21,3,FALSE),4),\"\"))","v":""},{"$f":"IF(P_16号2様式!M21=\"\",\"\",P_16号2様式!M21)","v":""},null,{"$f":"IF(P_16号2様式!N21=\"\",\"\",P_16号2様式!N21)","v":""},null,{"$f":"IF(P_16号2様式!O21=\"\",\"\",P_16号2様式!O21)","v":""}]
[{"$f":"IF(P_16号2様式!C22=\"\",\"\",P_16号2様式!C22)","v":""},null,{"$f":"IF(P_16号2様式!D22=\"\",\"\",P_16号2様式!D22)","v":""},{"$f":"IF(P_16号2様式!E22<> \"\",TEXT(INT(P_16号2様式!E22),\"#,##0\"),\"\")","v":""},{"$f":"IF(P_16号2様式!E22= \"\",\"\",IF(VALUE(FIXED(P_16号2様式!E22,0,TRUE))<>P_16号2様式!E22,RIGHT(FIXED(P_16号2様式!E22,3,FALSE),4),\"\"))","v":""},{"$f":"IF(P_16号2様式!F22<> \"\",TEXT(INT(P_16号2様式!F22),\"#,##0\"),\"\")","v":""},{"$f":"IF(P_16号2様式!F22= \"\",\"\",IF(VALUE(FIXED(P_16号2様式!F22,0,TRUE))<>P_16号2様式!F22,RIGHT(FIXED(P_16号2様式!F22,3,FALSE),4),\"\"))","v":""},{"$f":"IF(P_16号2様式!G22<> \"\",TEXT(INT(P_16号2様式!G22),\"#,##0\"),\"\")","v":""},{"$f":"IF(P_16号2様式!G22= \"\",\"\",IF(VALUE(FIXED(P_16号2様式!G22,0,TRUE))<>P_16号2様式!G22,RIGHT(FIXED(P_16号2様式!G22,3,FALSE),4),\"\"))","v":""},{"$f":"IF(P_16号2様式!H22<> \"\",TEXT(INT(P_16号2様式!H22),\"#,##0\"),\"\")","v":""},{"$f":"IF(P_16号2様式!H22= \"\",\"\",IF(VALUE(FIXED(P_16号2様式!H22,0,TRUE))<>P_16号2様式!H22,RIGHT(FIXED(P_16号2様式!H22,3,FALSE),4),\"\"))","v":""},{"$f":"IF(P_16号2様式!I22<> \"\",TEXT(INT(P_16号2様式!I22),\"#,##0\"),\"\")","v":""},{"$f":"IF(P_16号2様式!I22= \"\",\"\",IF(VALUE(FIXED(P_16号2様式!I22,0,TRUE))<>P_16号2様式!I22,RIGHT(FIXED(P_16号2様式!I22,3,FALSE),4),\"\"))","v":""},{"$f":"IF(P_16号2様式!J22<> \"\",TEXT(INT(P_16号2様式!J22),\"#,##0\"),\"\")","v":""},{"$f":"IF(P_16号2様式!J22= \"\",\"\",IF(VALUE(FIXED(P_16号2様式!J22,0,TRUE))<>P_16号2様式!J22,RIGHT(FIXED(P_16号2様式!J22,3,FALSE),4),\"\"))","v":""},{"$f":"IF(P_16号2様式!K22<> \"\",TEXT(INT(P_16号2様式!K22),\"#,##0\"),\"\")","v":""},{"$f":"IF(P_16号2様式!K22= \"\",\"\",IF(VALUE(FIXED(P_16号2様式!K22,0,TRUE))<>P_16号2様式!K22,RIGHT(FIXED(P_16号2様式!K22,3,FALSE),4),\"\"))","v":""},{"$f":"IF(P_16号2様式!L22<> \"\",TEXT(INT(P_16号2様式!L22),\"#,##0\"),\"\")","v":""},{"$f":"IF(P_16号2様式!L22= \"\",\"\",IF(VALUE(FIXED(P_16号2様式!L22,0,TRUE))<>P_16号2様式!L22,RIGHT(FIXED(P_16号2様式!L22,3,FALSE),4),\"\"))","v":""},{"$f":"IF(P_16号2様式!M22=\"\",\"\",P_16号2様式!M22)","v":""},null,{"$f":"IF(P_16号2様式!N22=\"\",\"\",P_16号2様式!N22)","v":""},null,{"$f":"IF(P_16号2様式!O22=\"\",\"\",P_16号2様式!O22)","v":""}]
[{"$f":"IF(P_16号2様式!C23=\"\",\"\",P_16号2様式!C23)","v":""},null,{"$f":"IF(P_16号2様式!D23=\"\",\"\",P_16号2様式!D23)","v":""},{"$f":"IF(P_16号2様式!E23<> \"\",TEXT(INT(P_16号2様式!E23),\"#,##0\"),\"\")","v":""},{"$f":"IF(P_16号2様式!E23= \"\",\"\",IF(VALUE(FIXED(P_16号2様式!E23,0,TRUE))<>P_16号2様式!E23,RIGHT(FIXED(P_16号2様式!E23,3,FALSE),4),\"\"))","v":""},{"$f":"IF(P_16号2様式!F23<> \"\",TEXT(INT(P_16号2様式!F23),\"#,##0\"),\"\")","v":""},{"$f":"IF(P_16号2様式!F23= \"\",\"\",IF(VALUE(FIXED(P_16号2様式!F23,0,TRUE))<>P_16号2様式!F23,RIGHT(FIXED(P_16号2様式!F23,3,FALSE),4),\"\"))","v":""},{"$f":"IF(P_16号2様式!G23<> \"\",TEXT(INT(P_16号2様式!G23),\"#,##0\"),\"\")","v":""},{"$f":"IF(P_16号2様式!G23= \"\",\"\",IF(VALUE(FIXED(P_16号2様式!G23,0,TRUE))<>P_16号2様式!G23,RIGHT(FIXED(P_16号2様式!G23,3,FALSE),4),\"\"))","v":""},{"$f":"IF(P_16号2様式!H23<> \"\",TEXT(INT(P_16号2様式!H23),\"#,##0\"),\"\")","v":""},{"$f":"IF(P_16号2様式!H23= \"\",\"\",IF(VALUE(FIXED(P_16号2様式!H23,0,TRUE))<>P_16号2様式!H23,RIGHT(FIXED(P_16号2様式!H23,3,FALSE),4),\"\"))","v":""},{"$f":"IF(P_16号2様式!I23<> \"\",TEXT(INT(P_16号2様式!I23),\"#,##0\"),\"\")","v":""},{"$f":"IF(P_16号2様式!I23= \"\",\"\",IF(VALUE(FIXED(P_16号2様式!I23,0,TRUE))<>P_16号2様式!I23,RIGHT(FIXED(P_16号2様式!I23,3,FALSE),4),\"\"))","v":""},{"$f":"IF(P_16号2様式!J23<> \"\",TEXT(INT(P_16号2様式!J23),\"#,##0\"),\"\")","v":""},{"$f":"IF(P_16号2様式!J23= \"\",\"\",IF(VALUE(FIXED(P_16号2様式!J23,0,TRUE))<>P_16号2様式!J23,RIGHT(FIXED(P_16号2様式!J23,3,FALSE),4),\"\"))","v":""},{"$f":"IF(P_16号2様式!K23<> \"\",TEXT(INT(P_16号2様式!K23),\"#,##0\"),\"\")","v":""},{"$f":"IF(P_16号2様式!K23= \"\",\"\",IF(VALUE(FIXED(P_16号2様式!K23,0,TRUE))<>P_16号2様式!K23,RIGHT(FIXED(P_16号2様式!K23,3,FALSE),4),\"\"))","v":""},{"$f":"IF(P_16号2様式!L23<> \"\",TEXT(INT(P_16号2様式!L23),\"#,##0\"),\"\")","v":""},{"$f":"IF(P_16号2様式!L23= \"\",\"\",IF(VALUE(FIXED(P_16号2様式!L23,0,TRUE))<>P_16号2様式!L23,RIGHT(FIXED(P_16号2様式!L23,3,FALSE),4),\"\"))","v":""},{"$f":"IF(P_16号2様式!M23=\"\",\"\",P_16号2様式!M23)","v":""},null,{"$f":"IF(P_16号2様式!N23=\"\",\"\",P_16号2様式!N23)","v":""},null,{"$f":"IF(P_16号2様式!O23=\"\",\"\",P_16号2様式!O23)","v":""}]
[{"$f":"IF(P_16号2様式!C24=\"\",\"\",P_16号2様式!C24)","v":""},null,{"$f":"IF(P_16号2様式!D24=\"\",\"\",P_16号2様式!D24)","v":""},{"$f":"IF(P_16号2様式!E24<> \"\",TEXT(INT(P_16号2様式!E24),\"#,##0\"),\"\")","v":""},{"$f":"IF(P_16号2様式!E24= \"\",\"\",IF(VALUE(FIXED(P_16号2様式!E24,0,TRUE))<>P_16号2様式!E24,RIGHT(FIXED(P_16号2様式!E24,3,FALSE),4),\"\"))","v":""},{"$f":"IF(P_16号2様式!F24<> \"\",TEXT(INT(P_16号2様式!F24),\"#,##0\"),\"\")","v":""},{"$f":"IF(P_16号2様式!F24= \"\",\"\",IF(VALUE(FIXED(P_16号2様式!F24,0,TRUE))<>P_16号2様式!F24,RIGHT(FIXED(P_16号2様式!F24,3,FALSE),4),\"\"))","v":""},{"$f":"IF(P_16号2様式!G24<> \"\",TEXT(INT(P_16号2様式!G24),\"#,##0\"),\"\")","v":""},{"$f":"IF(P_16号2様式!G24= \"\",\"\",IF(VALUE(FIXED(P_16号2様式!G24,0,TRUE))<>P_16号2様式!G24,RIGHT(FIXED(P_16号2様式!G24,3,FALSE),4),\"\"))","v":""},{"$f":"IF(P_16号2様式!H24<> \"\",TEXT(INT(P_16号2様式!H24),\"#,##0\"),\"\")","v":""},{"$f":"IF(P_16号2様式!H24= \"\",\"\",IF(VALUE(FIXED(P_16号2様式!H24,0,TRUE))<>P_16号2様式!H24,RIGHT(FIXED(P_16号2様式!H24,3,FALSE),4),\"\"))","v":""},{"$f":"IF(P_16号2様式!I24<> \"\",TEXT(INT(P_16号2様式!I24),\"#,##0\"),\"\")","v":""},{"$f":"IF(P_16号2様式!I24= \"\",\"\",IF(VALUE(FIXED(P_16号2様式!I24,0,TRUE))<>P_16号2様式!I24,RIGHT(FIXED(P_16号2様式!I24,3,FALSE),4),\"\"))","v":""},{"$f":"IF(P_16号2様式!J24<> \"\",TEXT(INT(P_16号2様式!J24),\"#,##0\"),\"\")","v":""},{"$f":"IF(P_16号2様式!J24= \"\",\"\",IF(VALUE(FIXED(P_16号2様式!J24,0,TRUE))<>P_16号2様式!J24,RIGHT(FIXED(P_16号2様式!J24,3,FALSE),4),\"\"))","v":""},{"$f":"IF(P_16号2様式!K24<> \"\",TEXT(INT(P_16号2様式!K24),\"#,##0\"),\"\")","v":""},{"$f":"IF(P_16号2様式!K24= \"\",\"\",IF(VALUE(FIXED(P_16号2様式!K24,0,TRUE))<>P_16号2様式!K24,RIGHT(FIXED(P_16号2様式!K24,3,FALSE),4),\"\"))","v":""},{"$f":"IF(P_16号2様式!L24<> \"\",TEXT(INT(P_16号2様式!L24),\"#,##0\"),\"\")","v":""},{"$f":"IF(P_16号2様式!L24= \"\",\"\",IF(VALUE(FIXED(P_16号2様式!L24,0,TRUE))<>P_16号2様式!L24,RIGHT(FIXED(P_16号2様式!L24,3,FALSE),4),\"\"))","v":""},{"$f":"IF(P_16号2様式!M24=\"\",\"\",P_16号2様式!M24)","v":""},null,{"$f":"IF(P_16号2様式!N24=\"\",\"\",P_16号2様式!N24)","v":""},null,{"$f":"IF(P_16号2様式!O24=\"\",\"\",P_16号2様式!O24)","v":""}]
[{"$f":"IF(P_16号2様式!C25=\"\",\"\",P_16号2様式!C25)","v":""},null,{"$f":"IF(P_16号2様式!D25=\"\",\"\",P_16号2様式!D25)","v":""},{"$f":"IF(P_16号2様式!E25<> \"\",TEXT(INT(P_16号2様式!E25),\"#,##0\"),\"\")","v":""},{"$f":"IF(P_16号2様式!E25= \"\",\"\",IF(VALUE(FIXED(P_16号2様式!E25,0,TRUE))<>P_16号2様式!E25,RIGHT(FIXED(P_16号2様式!E25,3,FALSE),4),\"\"))","v":""},{"$f":"IF(P_16号2様式!F25<> \"\",TEXT(INT(P_16号2様式!F25),\"#,##0\"),\"\")","v":""},{"$f":"IF(P_16号2様式!F25= \"\",\"\",IF(VALUE(FIXED(P_16号2様式!F25,0,TRUE))<>P_16号2様式!F25,RIGHT(FIXED(P_16号2様式!F25,3,FALSE),4),\"\"))","v":""},{"$f":"IF(P_16号2様式!G25<> \"\",TEXT(INT(P_16号2様式!G25),\"#,##0\"),\"\")","v":""},{"$f":"IF(P_16号2様式!G25= \"\",\"\",IF(VALUE(FIXED(P_16号2様式!G25,0,TRUE))<>P_16号2様式!G25,RIGHT(FIXED(P_16号2様式!G25,3,FALSE),4),\"\"))","v":""},{"$f":"IF(P_16号2様式!H25<> \"\",TEXT(INT(P_16号2様式!H25),\"#,##0\"),\"\")","v":""},{"$f":"IF(P_16号2様式!H25= \"\",\"\",IF(VALUE(FIXED(P_16号2様式!H25,0,TRUE))<>P_16号2様式!H25,RIGHT(FIXED(P_16号2様式!H25,3,FALSE),4),\"\"))","v":""},{"$f":"IF(P_16号2様式!I25<> \"\",TEXT(INT(P_16号2様式!I25),\"#,##0\"),\"\")","v":""},{"$f":"IF(P_16号2様式!I25= \"\",\"\",IF(VALUE(FIXED(P_16号2様式!I25,0,TRUE))<>P_16号2様式!I25,RIGHT(FIXED(P_16号2様式!I25,3,FALSE),4),\"\"))","v":""},{"$f":"IF(P_16号2様式!J25<> \"\",TEXT(INT(P_16号2様式!J25),\"#,##0\"),\"\")","v":""},{"$f":"IF(P_16号2様式!J25= \"\",\"\",IF(VALUE(FIXED(P_16号2様式!J25,0,TRUE))<>P_16号2様式!J25,RIGHT(FIXED(P_16号2様式!J25,3,FALSE),4),\"\"))","v":""},{"$f":"IF(P_16号2様式!K25<> \"\",TEXT(INT(P_16号2様式!K25),\"#,##0\"),\"\")","v":""},{"$f":"IF(P_16号2様式!K25= \"\",\"\",IF(VALUE(FIXED(P_16号2様式!K25,0,TRUE))<>P_16号2様式!K25,RIGHT(FIXED(P_16号2様式!K25,3,FALSE),4),\"\"))","v":""},{"$f":"IF(P_16号2様式!L25<> \"\",TEXT(INT(P_16号2様式!L25),\"#,##0\"),\"\")","v":""},{"$f":"IF(P_16号2様式!L25= \"\",\"\",IF(VALUE(FIXED(P_16号2様式!L25,0,TRUE))<>P_16号2様式!L25,RIGHT(FIXED(P_16号2様式!L25,3,FALSE),4),\"\"))","v":""},{"$f":"IF(P_16号2様式!M25=\"\",\"\",P_16号2様式!M25)","v":""},null,{"$f":"IF(P_16号2様式!N25=\"\",\"\",P_16号2様式!N25)","v":""},null,{"$f":"IF(P_16号2様式!O25=\"\",\"\",P_16号2様式!O25)","v":""}]
[{"$f":"IF(P_16号2様式!C26=\"\",\"\",P_16号2様式!C26)","v":""},null,{"$f":"IF(P_16号2様式!D26=\"\",\"\",P_16号2様式!D26)","v":""},{"$f":"IF(P_16号2様式!E26<> \"\",TEXT(INT(P_16号2様式!E26),\"#,##0\"),\"\")","v":""},{"$f":"IF(P_16号2様式!E26= \"\",\"\",IF(VALUE(FIXED(P_16号2様式!E26,0,TRUE))<>P_16号2様式!E26,RIGHT(FIXED(P_16号2様式!E26,3,FALSE),4),\"\"))","v":""},{"$f":"IF(P_16号2様式!F26<> \"\",TEXT(INT(P_16号2様式!F26),\"#,##0\"),\"\")","v":""},{"$f":"IF(P_16号2様式!F26= \"\",\"\",IF(VALUE(FIXED(P_16号2様式!F26,0,TRUE))<>P_16号2様式!F26,RIGHT(FIXED(P_16号2様式!F26,3,FALSE),4),\"\"))","v":""},{"$f":"IF(P_16号2様式!G26<> \"\",TEXT(INT(P_16号2様式!G26),\"#,##0\"),\"\")","v":""},{"$f":"IF(P_16号2様式!G26= \"\",\"\",IF(VALUE(FIXED(P_16号2様式!G26,0,TRUE))<>P_16号2様式!G26,RIGHT(FIXED(P_16号2様式!G26,3,FALSE),4),\"\"))","v":""},{"$f":"IF(P_16号2様式!H26<> \"\",TEXT(INT(P_16号2様式!H26),\"#,##0\"),\"\")","v":""},{"$f":"IF(P_16号2様式!H26= \"\",\"\",IF(VALUE(FIXED(P_16号2様式!H26,0,TRUE))<>P_16号2様式!H26,RIGHT(FIXED(P_16号2様式!H26,3,FALSE),4),\"\"))","v":""},{"$f":"IF(P_16号2様式!I26<> \"\",TEXT(INT(P_16号2様式!I26),\"#,##0\"),\"\")","v":""},{"$f":"IF(P_16号2様式!I26= \"\",\"\",IF(VALUE(FIXED(P_16号2様式!I26,0,TRUE))<>P_16号2様式!I26,RIGHT(FIXED(P_16号2様式!I26,3,FALSE),4),\"\"))","v":""},{"$f":"IF(P_16号2様式!J26<> \"\",TEXT(INT(P_16号2様式!J26),\"#,##0\"),\"\")","v":""},{"$f":"IF(P_16号2様式!J26= \"\",\"\",IF(VALUE(FIXED(P_16号2様式!J26,0,TRUE))<>P_16号2様式!J26,RIGHT(FIXED(P_16号2様式!J26,3,FALSE),4),\"\"))","v":""},{"$f":"IF(P_16号2様式!K26<> \"\",TEXT(INT(P_16号2様式!K26),\"#,##0\"),\"\")","v":""},{"$f":"IF(P_16号2様式!K26= \"\",\"\",IF(VALUE(FIXED(P_16号2様式!K26,0,TRUE))<>P_16号2様式!K26,RIGHT(FIXED(P_16号2様式!K26,3,FALSE),4),\"\"))","v":""},{"$f":"IF(P_16号2様式!L26<> \"\",TEXT(INT(P_16号2様式!L26),\"#,##0\"),\"\")","v":""},{"$f":"IF(P_16号2様式!L26= \"\",\"\",IF(VALUE(FIXED(P_16号2様式!L26,0,TRUE))<>P_16号2様式!L26,RIGHT(FIXED(P_16号2様式!L26,3,FALSE),4),\"\"))","v":""},{"$f":"IF(P_16号2様式!M26=\"\",\"\",P_16号2様式!M26)","v":""},null,{"$f":"IF(P_16号2様式!N26=\"\",\"\",P_16号2様式!N26)","v":""},null,{"$f":"IF(P_16号2様式!O26=\"\",\"\",P_16号2様式!O26)","v":""}]
[{"$f":"IF(P_16号2様式!C27=\"\",\"\",P_16号2様式!C27)","v":""},null,{"$f":"IF(P_16号2様式!D27=\"\",\"\",P_16号2様式!D27)","v":""},{"$f":"IF(P_16号2様式!E27<> \"\",TEXT(INT(P_16号2様式!E27),\"#,##0\"),\"\")","v":""},{"$f":"IF(P_16号2様式!E27= \"\",\"\",IF(VALUE(FIXED(P_16号2様式!E27,0,TRUE))<>P_16号2様式!E27,RIGHT(FIXED(P_16号2様式!E27,3,FALSE),4),\"\"))","v":""},{"$f":"IF(P_16号2様式!F27<> \"\",TEXT(INT(P_16号2様式!F27),\"#,##0\"),\"\")","v":""},{"$f":"IF(P_16号2様式!F27= \"\",\"\",IF(VALUE(FIXED(P_16号2様式!F27,0,TRUE))<>P_16号2様式!F27,RIGHT(FIXED(P_16号2様式!F27,3,FALSE),4),\"\"))","v":""},{"$f":"IF(P_16号2様式!G27<> \"\",TEXT(INT(P_16号2様式!G27),\"#,##0\"),\"\")","v":""},{"$f":"IF(P_16号2様式!G27= \"\",\"\",IF(VALUE(FIXED(P_16号2様式!G27,0,TRUE))<>P_16号2様式!G27,RIGHT(FIXED(P_16号2様式!G27,3,FALSE),4),\"\"))","v":""},{"$f":"IF(P_16号2様式!H27<> \"\",TEXT(INT(P_16号2様式!H27),\"#,##0\"),\"\")","v":""},{"$f":"IF(P_16号2様式!H27= \"\",\"\",IF(VALUE(FIXED(P_16号2様式!H27,0,TRUE))<>P_16号2様式!H27,RIGHT(FIXED(P_16号2様式!H27,3,FALSE),4),\"\"))","v":""},{"$f":"IF(P_16号2様式!I27<> \"\",TEXT(INT(P_16号2様式!I27),\"#,##0\"),\"\")","v":""},{"$f":"IF(P_16号2様式!I27= \"\",\"\",IF(VALUE(FIXED(P_16号2様式!I27,0,TRUE))<>P_16号2様式!I27,RIGHT(FIXED(P_16号2様式!I27,3,FALSE),4),\"\"))","v":""},{"$f":"IF(P_16号2様式!J27<> \"\",TEXT(INT(P_16号2様式!J27),\"#,##0\"),\"\")","v":""},{"$f":"IF(P_16号2様式!J27= \"\",\"\",IF(VALUE(FIXED(P_16号2様式!J27,0,TRUE))<>P_16号2様式!J27,RIGHT(FIXED(P_16号2様式!J27,3,FALSE),4),\"\"))","v":""},{"$f":"IF(P_16号2様式!K27<> \"\",TEXT(INT(P_16号2様式!K27),\"#,##0\"),\"\")","v":""},{"$f":"IF(P_16号2様式!K27= \"\",\"\",IF(VALUE(FIXED(P_16号2様式!K27,0,TRUE))<>P_16号2様式!K27,RIGHT(FIXED(P_16号2様式!K27,3,FALSE),4),\"\"))","v":""},{"$f":"IF(P_16号2様式!L27<> \"\",TEXT(INT(P_16号2様式!L27),\"#,##0\"),\"\")","v":""},{"$f":"IF(P_16号2様式!L27= \"\",\"\",IF(VALUE(FIXED(P_16号2様式!L27,0,TRUE))<>P_16号2様式!L27,RIGHT(FIXED(P_16号2様式!L27,3,FALSE),4),\"\"))","v":""},{"$f":"IF(P_16号2様式!M27=\"\",\"\",P_16号2様式!M27)","v":""},null,{"$f":"IF(P_16号2様式!N27=\"\",\"\",P_16号2様式!N27)","v":""},null,{"$f":"IF(P_16号2様式!O27=\"\",\"\",P_16号2様式!O27)","v":""}]
[{"$f":"IF(P_16号2様式!C28=\"\",\"\",P_16号2様式!C28)","v":""},null,{"$f":"IF(P_16号2様式!D28=\"\",\"\",P_16号2様式!D28)","v":""},{"$f":"IF(P_16号2様式!E28<> \"\",TEXT(INT(P_16号2様式!E28),\"#,##0\"),\"\")","v":""},{"$f":"IF(P_16号2様式!E28= \"\",\"\",IF(VALUE(FIXED(P_16号2様式!E28,0,TRUE))<>P_16号2様式!E28,RIGHT(FIXED(P_16号2様式!E28,3,FALSE),4),\"\"))","v":""},{"$f":"IF(P_16号2様式!F28<> \"\",TEXT(INT(P_16号2様式!F28),\"#,##0\"),\"\")","v":""},{"$f":"IF(P_16号2様式!F28= \"\",\"\",IF(VALUE(FIXED(P_16号2様式!F28,0,TRUE))<>P_16号2様式!F28,RIGHT(FIXED(P_16号2様式!F28,3,FALSE),4),\"\"))","v":""},{"$f":"IF(P_16号2様式!G28<> \"\",TEXT(INT(P_16号2様式!G28),\"#,##0\"),\"\")","v":""},{"$f":"IF(P_16号2様式!G28= \"\",\"\",IF(VALUE(FIXED(P_16号2様式!G28,0,TRUE))<>P_16号2様式!G28,RIGHT(FIXED(P_16号2様式!G28,3,FALSE),4),\"\"))","v":""},{"$f":"IF(P_16号2様式!H28<> \"\",TEXT(INT(P_16号2様式!H28),\"#,##0\"),\"\")","v":""},{"$f":"IF(P_16号2様式!H28= \"\",\"\",IF(VALUE(FIXED(P_16号2様式!H28,0,TRUE))<>P_16号2様式!H28,RIGHT(FIXED(P_16号2様式!H28,3,FALSE),4),\"\"))","v":""},{"$f":"IF(P_16号2様式!I28<> \"\",TEXT(INT(P_16号2様式!I28),\"#,##0\"),\"\")","v":""},{"$f":"IF(P_16号2様式!I28= \"\",\"\",IF(VALUE(FIXED(P_16号2様式!I28,0,TRUE))<>P_16号2様式!I28,RIGHT(FIXED(P_16号2様式!I28,3,FALSE),4),\"\"))","v":""},{"$f":"IF(P_16号2様式!J28<> \"\",TEXT(INT(P_16号2様式!J28),\"#,##0\"),\"\")","v":""},{"$f":"IF(P_16号2様式!J28= \"\",\"\",IF(VALUE(FIXED(P_16号2様式!J28,0,TRUE))<>P_16号2様式!J28,RIGHT(FIXED(P_16号2様式!J28,3,FALSE),4),\"\"))","v":""},{"$f":"IF(P_16号2様式!K28<> \"\",TEXT(INT(P_16号2様式!K28),\"#,##0\"),\"\")","v":""},{"$f":"IF(P_16号2様式!K28= \"\",\"\",IF(VALUE(FIXED(P_16号2様式!K28,0,TRUE))<>P_16号2様式!K28,RIGHT(FIXED(P_16号2様式!K28,3,FALSE),4),\"\"))","v":""},{"$f":"IF(P_16号2様式!L28<> \"\",TEXT(INT(P_16号2様式!L28),\"#,##0\"),\"\")","v":""},{"$f":"IF(P_16号2様式!L28= \"\",\"\",IF(VALUE(FIXED(P_16号2様式!L28,0,TRUE))<>P_16号2様式!L28,RIGHT(FIXED(P_16号2様式!L28,3,FALSE),4),\"\"))","v":""},{"$f":"IF(P_16号2様式!M28=\"\",\"\",P_16号2様式!M28)","v":""},null,{"$f":"IF(P_16号2様式!N28=\"\",\"\",P_16号2様式!N28)","v":""},null,{"$f":"IF(P_16号2様式!O28=\"\",\"\",P_16号2様式!O28)","v":""}]
[{"$f":"IF(P_16号2様式!C29=\"\",\"\",P_16号2様式!C29)","v":""},null,{"$f":"IF(P_16号2様式!D29=\"\",\"\",P_16号2様式!D29)","v":""},{"$f":"IF(P_16号2様式!E29<> \"\",TEXT(INT(P_16号2様式!E29),\"#,##0\"),\"\")","v":""},{"$f":"IF(P_16号2様式!E29= \"\",\"\",IF(VALUE(FIXED(P_16号2様式!E29,0,TRUE))<>P_16号2様式!E29,RIGHT(FIXED(P_16号2様式!E29,3,FALSE),4),\"\"))","v":""},{"$f":"IF(P_16号2様式!F29<> \"\",TEXT(INT(P_16号2様式!F29),\"#,##0\"),\"\")","v":""},{"$f":"IF(P_16号2様式!F29= \"\",\"\",IF(VALUE(FIXED(P_16号2様式!F29,0,TRUE))<>P_16号2様式!F29,RIGHT(FIXED(P_16号2様式!F29,3,FALSE),4),\"\"))","v":""},{"$f":"IF(P_16号2様式!G29<> \"\",TEXT(INT(P_16号2様式!G29),\"#,##0\"),\"\")","v":""},{"$f":"IF(P_16号2様式!G29= \"\",\"\",IF(VALUE(FIXED(P_16号2様式!G29,0,TRUE))<>P_16号2様式!G29,RIGHT(FIXED(P_16号2様式!G29,3,FALSE),4),\"\"))","v":""},{"$f":"IF(P_16号2様式!H29<> \"\",TEXT(INT(P_16号2様式!H29),\"#,##0\"),\"\")","v":""},{"$f":"IF(P_16号2様式!H29= \"\",\"\",IF(VALUE(FIXED(P_16号2様式!H29,0,TRUE))<>P_16号2様式!H29,RIGHT(FIXED(P_16号2様式!H29,3,FALSE),4),\"\"))","v":""},{"$f":"IF(P_16号2様式!I29<> \"\",TEXT(INT(P_16号2様式!I29),\"#,##0\"),\"\")","v":""},{"$f":"IF(P_16号2様式!I29= \"\",\"\",IF(VALUE(FIXED(P_16号2様式!I29,0,TRUE))<>P_16号2様式!I29,RIGHT(FIXED(P_16号2様式!I29,3,FALSE),4),\"\"))","v":""},{"$f":"IF(P_16号2様式!J29<> \"\",TEXT(INT(P_16号2様式!J29),\"#,##0\"),\"\")","v":""},{"$f":"IF(P_16号2様式!J29= \"\",\"\",IF(VALUE(FIXED(P_16号2様式!J29,0,TRUE))<>P_16号2様式!J29,RIGHT(FIXED(P_16号2様式!J29,3,FALSE),4),\"\"))","v":""},{"$f":"IF(P_16号2様式!K29<> \"\",TEXT(INT(P_16号2様式!K29),\"#,##0\"),\"\")","v":""},{"$f":"IF(P_16号2様式!K29= \"\",\"\",IF(VALUE(FIXED(P_16号2様式!K29,0,TRUE))<>P_16号2様式!K29,RIGHT(FIXED(P_16号2様式!K29,3,FALSE),4),\"\"))","v":""},{"$f":"IF(P_16号2様式!L29<> \"\",TEXT(INT(P_16号2様式!L29),\"#,##0\"),\"\")","v":""},{"$f":"IF(P_16号2様式!L29= \"\",\"\",IF(VALUE(FIXED(P_16号2様式!L29,0,TRUE))<>P_16号2様式!L29,RIGHT(FIXED(P_16号2様式!L29,3,FALSE),4),\"\"))","v":""},{"$f":"IF(P_16号2様式!M29=\"\",\"\",P_16号2様式!M29)","v":""},null,{"$f":"IF(P_16号2様式!N29=\"\",\"\",P_16号2様式!N29)","v":""},null,{"$f":"IF(P_16号2様式!O29=\"\",\"\",P_16号2様式!O29)","v":""}]
[{"$f":"IF(P_16号2様式!C30=\"\",\"\",P_16号2様式!C30)","v":""},null,{"$f":"IF(P_16号2様式!D30=\"\",\"\",P_16号2様式!D30)","v":""},{"$f":"IF(P_16号2様式!E30<> \"\",TEXT(INT(P_16号2様式!E30),\"#,##0\"),\"\")","v":""},{"$f":"IF(P_16号2様式!E30= \"\",\"\",IF(VALUE(FIXED(P_16号2様式!E30,0,TRUE))<>P_16号2様式!E30,RIGHT(FIXED(P_16号2様式!E30,3,FALSE),4),\"\"))","v":""},{"$f":"IF(P_16号2様式!F30<> \"\",TEXT(INT(P_16号2様式!F30),\"#,##0\"),\"\")","v":""},{"$f":"IF(P_16号2様式!F30= \"\",\"\",IF(VALUE(FIXED(P_16号2様式!F30,0,TRUE))<>P_16号2様式!F30,RIGHT(FIXED(P_16号2様式!F30,3,FALSE),4),\"\"))","v":""},{"$f":"IF(P_16号2様式!G30<> \"\",TEXT(INT(P_16号2様式!G30),\"#,##0\"),\"\")","v":""},{"$f":"IF(P_16号2様式!G30= \"\",\"\",IF(VALUE(FIXED(P_16号2様式!G30,0,TRUE))<>P_16号2様式!G30,RIGHT(FIXED(P_16号2様式!G30,3,FALSE),4),\"\"))","v":""},{"$f":"IF(P_16号2様式!H30<> \"\",TEXT(INT(P_16号2様式!H30),\"#,##0\"),\"\")","v":""},{"$f":"IF(P_16号2様式!H30= \"\",\"\",IF(VALUE(FIXED(P_16号2様式!H30,0,TRUE))<>P_16号2様式!H30,RIGHT(FIXED(P_16号2様式!H30,3,FALSE),4),\"\"))","v":""},{"$f":"IF(P_16号2様式!I30<> \"\",TEXT(INT(P_16号2様式!I30),\"#,##0\"),\"\")","v":""},{"$f":"IF(P_16号2様式!I30= \"\",\"\",IF(VALUE(FIXED(P_16号2様式!I30,0,TRUE))<>P_16号2様式!I30,RIGHT(FIXED(P_16号2様式!I30,3,FALSE),4),\"\"))","v":""},{"$f":"IF(P_16号2様式!J30<> \"\",TEXT(INT(P_16号2様式!J30),\"#,##0\"),\"\")","v":""},{"$f":"IF(P_16号2様式!J30= \"\",\"\",IF(VALUE(FIXED(P_16号2様式!J30,0,TRUE))<>P_16号2様式!J30,RIGHT(FIXED(P_16号2様式!J30,3,FALSE),4),\"\"))","v":""},{"$f":"IF(P_16号2様式!K30<> \"\",TEXT(INT(P_16号2様式!K30),\"#,##0\"),\"\")","v":""},{"$f":"IF(P_16号2様式!K30= \"\",\"\",IF(VALUE(FIXED(P_16号2様式!K30,0,TRUE))<>P_16号2様式!K30,RIGHT(FIXED(P_16号2様式!K30,3,FALSE),4),\"\"))","v":""},{"$f":"IF(P_16号2様式!L30<> \"\",TEXT(INT(P_16号2様式!L30),\"#,##0\"),\"\")","v":""},{"$f":"IF(P_16号2様式!L30= \"\",\"\",IF(VALUE(FIXED(P_16号2様式!L30,0,TRUE))<>P_16号2様式!L30,RIGHT(FIXED(P_16号2様式!L30,3,FALSE),4),\"\"))","v":""},{"$f":"IF(P_16号2様式!M30=\"\",\"\",P_16号2様式!M30)","v":""},null,{"$f":"IF(P_16号2様式!N30=\"\",\"\",P_16号2様式!N30)","v":""},null,{"$f":"IF(P_16号2様式!O30=\"\",\"\",P_16号2様式!O30)","v":""}]
[{"$f":"IF(P_16号2様式!C31=\"\",\"\",P_16号2様式!C31)","v":""},null,{"$f":"IF(P_16号2様式!D31=\"\",\"\",P_16号2様式!D31)","v":""},{"$f":"IF(P_16号2様式!E31<> \"\",TEXT(INT(P_16号2様式!E31),\"#,##0\"),\"\")","v":""},{"$f":"IF(P_16号2様式!E31= \"\",\"\",IF(VALUE(FIXED(P_16号2様式!E31,0,TRUE))<>P_16号2様式!E31,RIGHT(FIXED(P_16号2様式!E31,3,FALSE),4),\"\"))","v":""},{"$f":"IF(P_16号2様式!F31<> \"\",TEXT(INT(P_16号2様式!F31),\"#,##0\"),\"\")","v":""},{"$f":"IF(P_16号2様式!F31= \"\",\"\",IF(VALUE(FIXED(P_16号2様式!F31,0,TRUE))<>P_16号2様式!F31,RIGHT(FIXED(P_16号2様式!F31,3,FALSE),4),\"\"))","v":""},{"$f":"IF(P_16号2様式!G31<> \"\",TEXT(INT(P_16号2様式!G31),\"#,##0\"),\"\")","v":""},{"$f":"IF(P_16号2様式!G31= \"\",\"\",IF(VALUE(FIXED(P_16号2様式!G31,0,TRUE))<>P_16号2様式!G31,RIGHT(FIXED(P_16号2様式!G31,3,FALSE),4),\"\"))","v":""},{"$f":"IF(P_16号2様式!H31<> \"\",TEXT(INT(P_16号2様式!H31),\"#,##0\"),\"\")","v":""},{"$f":"IF(P_16号2様式!H31= \"\",\"\",IF(VALUE(FIXED(P_16号2様式!H31,0,TRUE))<>P_16号2様式!H31,RIGHT(FIXED(P_16号2様式!H31,3,FALSE),4),\"\"))","v":""},{"$f":"IF(P_16号2様式!I31<> \"\",TEXT(INT(P_16号2様式!I31),\"#,##0\"),\"\")","v":""},{"$f":"IF(P_16号2様式!I31= \"\",\"\",IF(VALUE(FIXED(P_16号2様式!I31,0,TRUE))<>P_16号2様式!I31,RIGHT(FIXED(P_16号2様式!I31,3,FALSE),4),\"\"))","v":""},{"$f":"IF(P_16号2様式!J31<> \"\",TEXT(INT(P_16号2様式!J31),\"#,##0\"),\"\")","v":""},{"$f":"IF(P_16号2様式!J31= \"\",\"\",IF(VALUE(FIXED(P_16号2様式!J31,0,TRUE))<>P_16号2様式!J31,RIGHT(FIXED(P_16号2様式!J31,3,FALSE),4),\"\"))","v":""},{"$f":"IF(P_16号2様式!K31<> \"\",TEXT(INT(P_16号2様式!K31),\"#,##0\"),\"\")","v":""},{"$f":"IF(P_16号2様式!K31= \"\",\"\",IF(VALUE(FIXED(P_16号2様式!K31,0,TRUE))<>P_16号2様式!K31,RIGHT(FIXED(P_16号2様式!K31,3,FALSE),4),\"\"))","v":""},{"$f":"IF(P_16号2様式!L31<> \"\",TEXT(INT(P_16号2様式!L31),\"#,##0\"),\"\")","v":""},{"$f":"IF(P_16号2様式!L31= \"\",\"\",IF(VALUE(FIXED(P_16号2様式!L31,0,TRUE))<>P_16号2様式!L31,RIGHT(FIXED(P_16号2様式!L31,3,FALSE),4),\"\"))","v":""},{"$f":"IF(P_16号2様式!M31=\"\",\"\",P_16号2様式!M31)","v":""},null,{"$f":"IF(P_16号2様式!N31=\"\",\"\",P_16号2様式!N31)","v":""},null,{"$f":"IF(P_16号2様式!O31=\"\",\"\",P_16号2様式!O31)","v":""}]
[{"$f":"IF(P_16号2様式!C32=\"\",\"\",P_16号2様式!C32)","v":""},null,{"$f":"IF(P_16号2様式!D32=\"\",\"\",P_16号2様式!D32)","v":""},{"$f":"IF(P_16号2様式!E32<> \"\",TEXT(INT(P_16号2様式!E32),\"#,##0\"),\"\")","v":""},{"$f":"IF(P_16号2様式!E32= \"\",\"\",IF(VALUE(FIXED(P_16号2様式!E32,0,TRUE))<>P_16号2様式!E32,RIGHT(FIXED(P_16号2様式!E32,3,FALSE),4),\"\"))","v":""},{"$f":"IF(P_16号2様式!F32<> \"\",TEXT(INT(P_16号2様式!F32),\"#,##0\"),\"\")","v":""},{"$f":"IF(P_16号2様式!F32= \"\",\"\",IF(VALUE(FIXED(P_16号2様式!F32,0,TRUE))<>P_16号2様式!F32,RIGHT(FIXED(P_16号2様式!F32,3,FALSE),4),\"\"))","v":""},{"$f":"IF(P_16号2様式!G32<> \"\",TEXT(INT(P_16号2様式!G32),\"#,##0\"),\"\")","v":""},{"$f":"IF(P_16号2様式!G32= \"\",\"\",IF(VALUE(FIXED(P_16号2様式!G32,0,TRUE))<>P_16号2様式!G32,RIGHT(FIXED(P_16号2様式!G32,3,FALSE),4),\"\"))","v":""},{"$f":"IF(P_16号2様式!H32<> \"\",TEXT(INT(P_16号2様式!H32),\"#,##0\"),\"\")","v":""},{"$f":"IF(P_16号2様式!H32= \"\",\"\",IF(VALUE(FIXED(P_16号2様式!H32,0,TRUE))<>P_16号2様式!H32,RIGHT(FIXED(P_16号2様式!H32,3,FALSE),4),\"\"))","v":""},{"$f":"IF(P_16号2様式!I32<> \"\",TEXT(INT(P_16号2様式!I32),\"#,##0\"),\"\")","v":""},{"$f":"IF(P_16号2様式!I32= \"\",\"\",IF(VALUE(FIXED(P_16号2様式!I32,0,TRUE))<>P_16号2様式!I32,RIGHT(FIXED(P_16号2様式!I32,3,FALSE),4),\"\"))","v":""},{"$f":"IF(P_16号2様式!J32<> \"\",TEXT(INT(P_16号2様式!J32),\"#,##0\"),\"\")","v":""},{"$f":"IF(P_16号2様式!J32= \"\",\"\",IF(VALUE(FIXED(P_16号2様式!J32,0,TRUE))<>P_16号2様式!J32,RIGHT(FIXED(P_16号2様式!J32,3,FALSE),4),\"\"))","v":""},{"$f":"IF(P_16号2様式!K32<> \"\",TEXT(INT(P_16号2様式!K32),\"#,##0\"),\"\")","v":""},{"$f":"IF(P_16号2様式!K32= \"\",\"\",IF(VALUE(FIXED(P_16号2様式!K32,0,TRUE))<>P_16号2様式!K32,RIGHT(FIXED(P_16号2様式!K32,3,FALSE),4),\"\"))","v":""},{"$f":"IF(P_16号2様式!L32<> \"\",TEXT(INT(P_16号2様式!L32),\"#,##0\"),\"\")","v":""},{"$f":"IF(P_16号2様式!L32= \"\",\"\",IF(VALUE(FIXED(P_16号2様式!L32,0,TRUE))<>P_16号2様式!L32,RIGHT(FIXED(P_16号2様式!L32,3,FALSE),4),\"\"))","v":""},{"$f":"IF(P_16号2様式!M32=\"\",\"\",P_16号2様式!M32)","v":""},null,{"$f":"IF(P_16号2様式!N32=\"\",\"\",P_16号2様式!N32)","v":""},null,{"$f":"IF(P_16号2様式!O32=\"\",\"\",P_16号2様式!O32)","v":""}]
[{"$f":"IF(P_16号2様式!C33=\"\",\"\",P_16号2様式!C33)","v":""},null,{"$f":"IF(P_16号2様式!D33=\"\",\"\",P_16号2様式!D33)","v":""},{"$f":"IF(P_16号2様式!E33<> \"\",TEXT(INT(P_16号2様式!E33),\"#,##0\"),\"\")","v":""},{"$f":"IF(P_16号2様式!E33= \"\",\"\",IF(VALUE(FIXED(P_16号2様式!E33,0,TRUE))<>P_16号2様式!E33,RIGHT(FIXED(P_16号2様式!E33,3,FALSE),4),\"\"))","v":""},{"$f":"IF(P_16号2様式!F33<> \"\",TEXT(INT(P_16号2様式!F33),\"#,##0\"),\"\")","v":""},{"$f":"IF(P_16号2様式!F33= \"\",\"\",IF(VALUE(FIXED(P_16号2様式!F33,0,TRUE))<>P_16号2様式!F33,RIGHT(FIXED(P_16号2様式!F33,3,FALSE),4),\"\"))","v":""},{"$f":"IF(P_16号2様式!G33<> \"\",TEXT(INT(P_16号2様式!G33),\"#,##0\"),\"\")","v":""},{"$f":"IF(P_16号2様式!G33= \"\",\"\",IF(VALUE(FIXED(P_16号2様式!G33,0,TRUE))<>P_16号2様式!G33,RIGHT(FIXED(P_16号2様式!G33,3,FALSE),4),\"\"))","v":""},{"$f":"IF(P_16号2様式!H33<> \"\",TEXT(INT(P_16号2様式!H33),\"#,##0\"),\"\")","v":""},{"$f":"IF(P_16号2様式!H33= \"\",\"\",IF(VALUE(FIXED(P_16号2様式!H33,0,TRUE))<>P_16号2様式!H33,RIGHT(FIXED(P_16号2様式!H33,3,FALSE),4),\"\"))","v":""},{"$f":"IF(P_16号2様式!I33<> \"\",TEXT(INT(P_16号2様式!I33),\"#,##0\"),\"\")","v":""},{"$f":"IF(P_16号2様式!I33= \"\",\"\",IF(VALUE(FIXED(P_16号2様式!I33,0,TRUE))<>P_16号2様式!I33,RIGHT(FIXED(P_16号2様式!I33,3,FALSE),4),\"\"))","v":""},{"$f":"IF(P_16号2様式!J33<> \"\",TEXT(INT(P_16号2様式!J33),\"#,##0\"),\"\")","v":""},{"$f":"IF(P_16号2様式!J33= \"\",\"\",IF(VALUE(FIXED(P_16号2様式!J33,0,TRUE))<>P_16号2様式!J33,RIGHT(FIXED(P_16号2様式!J33,3,FALSE),4),\"\"))","v":""},{"$f":"IF(P_16号2様式!K33<> \"\",TEXT(INT(P_16号2様式!K33),\"#,##0\"),\"\")","v":""},{"$f":"IF(P_16号2様式!K33= \"\",\"\",IF(VALUE(FIXED(P_16号2様式!K33,0,TRUE))<>P_16号2様式!K33,RIGHT(FIXED(P_16号2様式!K33,3,FALSE),4),\"\"))","v":""},{"$f":"IF(P_16号2様式!L33<> \"\",TEXT(INT(P_16号2様式!L33),\"#,##0\"),\"\")","v":""},{"$f":"IF(P_16号2様式!L33= \"\",\"\",IF(VALUE(FIXED(P_16号2様式!L33,0,TRUE))<>P_16号2様式!L33,RIGHT(FIXED(P_16号2様式!L33,3,FALSE),4),\"\"))","v":""},{"$f":"IF(P_16号2様式!M33=\"\",\"\",P_16号2様式!M33)","v":""},null,{"$f":"IF(P_16号2様式!N33=\"\",\"\",P_16号2様式!N33)","v":""},null,{"$f":"IF(P_16号2様式!O33=\"\",\"\",P_16号2様式!O33)","v":""}]
[{"$f":"IF(P_16号2様式!C34=\"\",\"\",P_16号2様式!C34)","v":""},null,{"$f":"IF(P_16号2様式!D34=\"\",\"\",P_16号2様式!D34)","v":""},{"$f":"IF(P_16号2様式!E34<> \"\",TEXT(INT(P_16号2様式!E34),\"#,##0\"),\"\")","v":""},{"$f":"IF(P_16号2様式!E34= \"\",\"\",IF(VALUE(FIXED(P_16号2様式!E34,0,TRUE))<>P_16号2様式!E34,RIGHT(FIXED(P_16号2様式!E34,3,FALSE),4),\"\"))","v":""},{"$f":"IF(P_16号2様式!F34<> \"\",TEXT(INT(P_16号2様式!F34),\"#,##0\"),\"\")","v":""},{"$f":"IF(P_16号2様式!F34= \"\",\"\",IF(VALUE(FIXED(P_16号2様式!F34,0,TRUE))<>P_16号2様式!F34,RIGHT(FIXED(P_16号2様式!F34,3,FALSE),4),\"\"))","v":""},{"$f":"IF(P_16号2様式!G34<> \"\",TEXT(INT(P_16号2様式!G34),\"#,##0\"),\"\")","v":""},{"$f":"IF(P_16号2様式!G34= \"\",\"\",IF(VALUE(FIXED(P_16号2様式!G34,0,TRUE))<>P_16号2様式!G34,RIGHT(FIXED(P_16号2様式!G34,3,FALSE),4),\"\"))","v":""},{"$f":"IF(P_16号2様式!H34<> \"\",TEXT(INT(P_16号2様式!H34),\"#,##0\"),\"\")","v":""},{"$f":"IF(P_16号2様式!H34= \"\",\"\",IF(VALUE(FIXED(P_16号2様式!H34,0,TRUE))<>P_16号2様式!H34,RIGHT(FIXED(P_16号2様式!H34,3,FALSE),4),\"\"))","v":""},{"$f":"IF(P_16号2様式!I34<> \"\",TEXT(INT(P_16号2様式!I34),\"#,##0\"),\"\")","v":""},{"$f":"IF(P_16号2様式!I34= \"\",\"\",IF(VALUE(FIXED(P_16号2様式!I34,0,TRUE))<>P_16号2様式!I34,RIGHT(FIXED(P_16号2様式!I34,3,FALSE),4),\"\"))","v":""},{"$f":"IF(P_16号2様式!J34<> \"\",TEXT(INT(P_16号2様式!J34),\"#,##0\"),\"\")","v":""},{"$f":"IF(P_16号2様式!J34= \"\",\"\",IF(VALUE(FIXED(P_16号2様式!J34,0,TRUE))<>P_16号2様式!J34,RIGHT(FIXED(P_16号2様式!J34,3,FALSE),4),\"\"))","v":""},{"$f":"IF(P_16号2様式!K34<> \"\",TEXT(INT(P_16号2様式!K34),\"#,##0\"),\"\")","v":""},{"$f":"IF(P_16号2様式!K34= \"\",\"\",IF(VALUE(FIXED(P_16号2様式!K34,0,TRUE))<>P_16号2様式!K34,RIGHT(FIXED(P_16号2様式!K34,3,FALSE),4),\"\"))","v":""},{"$f":"IF(P_16号2様式!L34<> \"\",TEXT(INT(P_16号2様式!L34),\"#,##0\"),\"\")","v":""},{"$f":"IF(P_16号2様式!L34= \"\",\"\",IF(VALUE(FIXED(P_16号2様式!L34,0,TRUE))<>P_16号2様式!L34,RIGHT(FIXED(P_16号2様式!L34,3,FALSE),4),\"\"))","v":""},{"$f":"IF(P_16号2様式!M34=\"\",\"\",P_16号2様式!M34)","v":""},null,{"$f":"IF(P_16号2様式!N34=\"\",\"\",P_16号2様式!N34)","v":""},null,{"$f":"IF(P_16号2様式!O34=\"\",\"\",P_16号2様式!O34)","v":""}]
[{"$f":"IF(P_16号2様式!C35=\"\",\"\",P_16号2様式!C35)","v":""},null,{"$f":"IF(P_16号2様式!D35=\"\",\"\",P_16号2様式!D35)","v":""},{"$f":"IF(P_16号2様式!E35<> \"\",TEXT(INT(P_16号2様式!E35),\"#,##0\"),\"\")","v":""},{"$f":"IF(P_16号2様式!E35= \"\",\"\",IF(VALUE(FIXED(P_16号2様式!E35,0,TRUE))<>P_16号2様式!E35,RIGHT(FIXED(P_16号2様式!E35,3,FALSE),4),\"\"))","v":""},{"$f":"IF(P_16号2様式!F35<> \"\",TEXT(INT(P_16号2様式!F35),\"#,##0\"),\"\")","v":""},{"$f":"IF(P_16号2様式!F35= \"\",\"\",IF(VALUE(FIXED(P_16号2様式!F35,0,TRUE))<>P_16号2様式!F35,RIGHT(FIXED(P_16号2様式!F35,3,FALSE),4),\"\"))","v":""},{"$f":"IF(P_16号2様式!G35<> \"\",TEXT(INT(P_16号2様式!G35),\"#,##0\"),\"\")","v":""},{"$f":"IF(P_16号2様式!G35= \"\",\"\",IF(VALUE(FIXED(P_16号2様式!G35,0,TRUE))<>P_16号2様式!G35,RIGHT(FIXED(P_16号2様式!G35,3,FALSE),4),\"\"))","v":""},{"$f":"IF(P_16号2様式!H35<> \"\",TEXT(INT(P_16号2様式!H35),\"#,##0\"),\"\")","v":""},{"$f":"IF(P_16号2様式!H35= \"\",\"\",IF(VALUE(FIXED(P_16号2様式!H35,0,TRUE))<>P_16号2様式!H35,RIGHT(FIXED(P_16号2様式!H35,3,FALSE),4),\"\"))","v":""},{"$f":"IF(P_16号2様式!I35<> \"\",TEXT(INT(P_16号2様式!I35),\"#,##0\"),\"\")","v":""},{"$f":"IF(P_16号2様式!I35= \"\",\"\",IF(VALUE(FIXED(P_16号2様式!I35,0,TRUE))<>P_16号2様式!I35,RIGHT(FIXED(P_16号2様式!I35,3,FALSE),4),\"\"))","v":""},{"$f":"IF(P_16号2様式!J35<> \"\",TEXT(INT(P_16号2様式!J35),\"#,##0\"),\"\")","v":""},{"$f":"IF(P_16号2様式!J35= \"\",\"\",IF(VALUE(FIXED(P_16号2様式!J35,0,TRUE))<>P_16号2様式!J35,RIGHT(FIXED(P_16号2様式!J35,3,FALSE),4),\"\"))","v":""},{"$f":"IF(P_16号2様式!K35<> \"\",TEXT(INT(P_16号2様式!K35),\"#,##0\"),\"\")","v":""},{"$f":"IF(P_16号2様式!K35= \"\",\"\",IF(VALUE(FIXED(P_16号2様式!K35,0,TRUE))<>P_16号2様式!K35,RIGHT(FIXED(P_16号2様式!K35,3,FALSE),4),\"\"))","v":""},{"$f":"IF(P_16号2様式!L35<> \"\",TEXT(INT(P_16号2様式!L35),\"#,##0\"),\"\")","v":""},{"$f":"IF(P_16号2様式!L35= \"\",\"\",IF(VALUE(FIXED(P_16号2様式!L35,0,TRUE))<>P_16号2様式!L35,RIGHT(FIXED(P_16号2様式!L35,3,FALSE),4),\"\"))","v":""},{"$f":"IF(P_16号2様式!M35=\"\",\"\",P_16号2様式!M35)","v":""},null,{"$f":"IF(P_16号2様式!N35=\"\",\"\",P_16号2様式!N35)","v":""},null,{"$f":"IF(P_16号2様式!O35=\"\",\"\",P_16号2様式!O35)","v":""}]
[{"$f":"IF(P_16号2様式!C36=\"\",\"\",P_16号2様式!C36)","v":""},null,{"$f":"IF(P_16号2様式!D36=\"\",\"\",P_16号2様式!D36)","v":""},{"$f":"IF(P_16号2様式!E36<> \"\",TEXT(INT(P_16号2様式!E36),\"#,##0\"),\"\")","v":""},{"$f":"IF(P_16号2様式!E36= \"\",\"\",IF(VALUE(FIXED(P_16号2様式!E36,0,TRUE))<>P_16号2様式!E36,RIGHT(FIXED(P_16号2様式!E36,3,FALSE),4),\"\"))","v":""},{"$f":"IF(P_16号2様式!F36<> \"\",TEXT(INT(P_16号2様式!F36),\"#,##0\"),\"\")","v":""},{"$f":"IF(P_16号2様式!F36= \"\",\"\",IF(VALUE(FIXED(P_16号2様式!F36,0,TRUE))<>P_16号2様式!F36,RIGHT(FIXED(P_16号2様式!F36,3,FALSE),4),\"\"))","v":""},{"$f":"IF(P_16号2様式!G36<> \"\",TEXT(INT(P_16号2様式!G36),\"#,##0\"),\"\")","v":""},{"$f":"IF(P_16号2様式!G36= \"\",\"\",IF(VALUE(FIXED(P_16号2様式!G36,0,TRUE))<>P_16号2様式!G36,RIGHT(FIXED(P_16号2様式!G36,3,FALSE),4),\"\"))","v":""},{"$f":"IF(P_16号2様式!H36<> \"\",TEXT(INT(P_16号2様式!H36),\"#,##0\"),\"\")","v":""},{"$f":"IF(P_16号2様式!H36= \"\",\"\",IF(VALUE(FIXED(P_16号2様式!H36,0,TRUE))<>P_16号2様式!H36,RIGHT(FIXED(P_16号2様式!H36,3,FALSE),4),\"\"))","v":""},{"$f":"IF(P_16号2様式!I36<> \"\",TEXT(INT(P_16号2様式!I36),\"#,##0\"),\"\")","v":""},{"$f":"IF(P_16号2様式!I36= \"\",\"\",IF(VALUE(FIXED(P_16号2様式!I36,0,TRUE))<>P_16号2様式!I36,RIGHT(FIXED(P_16号2様式!I36,3,FALSE),4),\"\"))","v":""},{"$f":"IF(P_16号2様式!J36<> \"\",TEXT(INT(P_16号2様式!J36),\"#,##0\"),\"\")","v":""},{"$f":"IF(P_16号2様式!J36= \"\",\"\",IF(VALUE(FIXED(P_16号2様式!J36,0,TRUE))<>P_16号2様式!J36,RIGHT(FIXED(P_16号2様式!J36,3,FALSE),4),\"\"))","v":""},{"$f":"IF(P_16号2様式!K36<> \"\",TEXT(INT(P_16号2様式!K36),\"#,##0\"),\"\")","v":""},{"$f":"IF(P_16号2様式!K36= \"\",\"\",IF(VALUE(FIXED(P_16号2様式!K36,0,TRUE))<>P_16号2様式!K36,RIGHT(FIXED(P_16号2様式!K36,3,FALSE),4),\"\"))","v":""},{"$f":"IF(P_16号2様式!L36<> \"\",TEXT(INT(P_16号2様式!L36),\"#,##0\"),\"\")","v":""},{"$f":"IF(P_16号2様式!L36= \"\",\"\",IF(VALUE(FIXED(P_16号2様式!L36,0,TRUE))<>P_16号2様式!L36,RIGHT(FIXED(P_16号2様式!L36,3,FALSE),4),\"\"))","v":""},{"$f":"IF(P_16号2様式!M36=\"\",\"\",P_16号2様式!M36)","v":""},null,{"$f":"IF(P_16号2様式!N36=\"\",\"\",P_16号2様式!N36)","v":""},null,{"$f":"IF(P_16号2様式!O36=\"\",\"\",P_16号2様式!O36)","v":""}]
[{"$f":"IF(P_16号2様式!C37=\"\",\"\",P_16号2様式!C37)","v":""},null,{"$f":"IF(P_16号2様式!D37=\"\",\"\",P_16号2様式!D37)","v":""},{"$f":"IF(P_16号2様式!E37<> \"\",TEXT(INT(P_16号2様式!E37),\"#,##0\"),\"\")","v":""},{"$f":"IF(P_16号2様式!E37= \"\",\"\",IF(VALUE(FIXED(P_16号2様式!E37,0,TRUE))<>P_16号2様式!E37,RIGHT(FIXED(P_16号2様式!E37,3,FALSE),4),\"\"))","v":""},{"$f":"IF(P_16号2様式!F37<> \"\",TEXT(INT(P_16号2様式!F37),\"#,##0\"),\"\")","v":""},{"$f":"IF(P_16号2様式!F37= \"\",\"\",IF(VALUE(FIXED(P_16号2様式!F37,0,TRUE))<>P_16号2様式!F37,RIGHT(FIXED(P_16号2様式!F37,3,FALSE),4),\"\"))","v":""},{"$f":"IF(P_16号2様式!G37<> \"\",TEXT(INT(P_16号2様式!G37),\"#,##0\"),\"\")","v":""},{"$f":"IF(P_16号2様式!G37= \"\",\"\",IF(VALUE(FIXED(P_16号2様式!G37,0,TRUE))<>P_16号2様式!G37,RIGHT(FIXED(P_16号2様式!G37,3,FALSE),4),\"\"))","v":""},{"$f":"IF(P_16号2様式!H37<> \"\",TEXT(INT(P_16号2様式!H37),\"#,##0\"),\"\")","v":""},{"$f":"IF(P_16号2様式!H37= \"\",\"\",IF(VALUE(FIXED(P_16号2様式!H37,0,TRUE))<>P_16号2様式!H37,RIGHT(FIXED(P_16号2様式!H37,3,FALSE),4),\"\"))","v":""},{"$f":"IF(P_16号2様式!I37<> \"\",TEXT(INT(P_16号2様式!I37),\"#,##0\"),\"\")","v":""},{"$f":"IF(P_16号2様式!I37= \"\",\"\",IF(VALUE(FIXED(P_16号2様式!I37,0,TRUE))<>P_16号2様式!I37,RIGHT(FIXED(P_16号2様式!I37,3,FALSE),4),\"\"))","v":""},{"$f":"IF(P_16号2様式!J37<> \"\",TEXT(INT(P_16号2様式!J37),\"#,##0\"),\"\")","v":""},{"$f":"IF(P_16号2様式!J37= \"\",\"\",IF(VALUE(FIXED(P_16号2様式!J37,0,TRUE))<>P_16号2様式!J37,RIGHT(FIXED(P_16号2様式!J37,3,FALSE),4),\"\"))","v":""},{"$f":"IF(P_16号2様式!K37<> \"\",TEXT(INT(P_16号2様式!K37),\"#,##0\"),\"\")","v":""},{"$f":"IF(P_16号2様式!K37= \"\",\"\",IF(VALUE(FIXED(P_16号2様式!K37,0,TRUE))<>P_16号2様式!K37,RIGHT(FIXED(P_16号2様式!K37,3,FALSE),4),\"\"))","v":""},{"$f":"IF(P_16号2様式!L37<> \"\",TEXT(INT(P_16号2様式!L37),\"#,##0\"),\"\")","v":""},{"$f":"IF(P_16号2様式!L37= \"\",\"\",IF(VALUE(FIXED(P_16号2様式!L37,0,TRUE))<>P_16号2様式!L37,RIGHT(FIXED(P_16号2様式!L37,3,FALSE),4),\"\"))","v":""},{"$f":"IF(P_16号2様式!M37=\"\",\"\",P_16号2様式!M37)","v":""},null,{"$f":"IF(P_16号2様式!N37=\"\",\"\",P_16号2様式!N37)","v":""},null,{"$f":"IF(P_16号2様式!O37=\"\",\"\",P_16号2様式!O37)","v":""}]
[{"$f":"IF(P_16号2様式!C38=\"\",\"\",P_16号2様式!C38)","v":""},null,{"$f":"IF(P_16号2様式!D38=\"\",\"\",P_16号2様式!D38)","v":""},{"$f":"IF(P_16号2様式!E38<> \"\",TEXT(INT(P_16号2様式!E38),\"#,##0\"),\"\")","v":""},{"$f":"IF(P_16号2様式!E38= \"\",\"\",IF(VALUE(FIXED(P_16号2様式!E38,0,TRUE))<>P_16号2様式!E38,RIGHT(FIXED(P_16号2様式!E38,3,FALSE),4),\"\"))","v":""},{"$f":"IF(P_16号2様式!F38<> \"\",TEXT(INT(P_16号2様式!F38),\"#,##0\"),\"\")","v":""},{"$f":"IF(P_16号2様式!F38= \"\",\"\",IF(VALUE(FIXED(P_16号2様式!F38,0,TRUE))<>P_16号2様式!F38,RIGHT(FIXED(P_16号2様式!F38,3,FALSE),4),\"\"))","v":""},{"$f":"IF(P_16号2様式!G38<> \"\",TEXT(INT(P_16号2様式!G38),\"#,##0\"),\"\")","v":""},{"$f":"IF(P_16号2様式!G38= \"\",\"\",IF(VALUE(FIXED(P_16号2様式!G38,0,TRUE))<>P_16号2様式!G38,RIGHT(FIXED(P_16号2様式!G38,3,FALSE),4),\"\"))","v":""},{"$f":"IF(P_16号2様式!H38<> \"\",TEXT(INT(P_16号2様式!H38),\"#,##0\"),\"\")","v":""},{"$f":"IF(P_16号2様式!H38= \"\",\"\",IF(VALUE(FIXED(P_16号2様式!H38,0,TRUE))<>P_16号2様式!H38,RIGHT(FIXED(P_16号2様式!H38,3,FALSE),4),\"\"))","v":""},{"$f":"IF(P_16号2様式!I38<> \"\",TEXT(INT(P_16号2様式!I38),\"#,##0\"),\"\")","v":""},{"$f":"IF(P_16号2様式!I38= \"\",\"\",IF(VALUE(FIXED(P_16号2様式!I38,0,TRUE))<>P_16号2様式!I38,RIGHT(FIXED(P_16号2様式!I38,3,FALSE),4),\"\"))","v":""},{"$f":"IF(P_16号2様式!J38<> \"\",TEXT(INT(P_16号2様式!J38),\"#,##0\"),\"\")","v":""},{"$f":"IF(P_16号2様式!J38= \"\",\"\",IF(VALUE(FIXED(P_16号2様式!J38,0,TRUE))<>P_16号2様式!J38,RIGHT(FIXED(P_16号2様式!J38,3,FALSE),4),\"\"))","v":""},{"$f":"IF(P_16号2様式!K38<> \"\",TEXT(INT(P_16号2様式!K38),\"#,##0\"),\"\")","v":""},{"$f":"IF(P_16号2様式!K38= \"\",\"\",IF(VALUE(FIXED(P_16号2様式!K38,0,TRUE))<>P_16号2様式!K38,RIGHT(FIXED(P_16号2様式!K38,3,FALSE),4),\"\"))","v":""},{"$f":"IF(P_16号2様式!L38<> \"\",TEXT(INT(P_16号2様式!L38),\"#,##0\"),\"\")","v":""},{"$f":"IF(P_16号2様式!L38= \"\",\"\",IF(VALUE(FIXED(P_16号2様式!L38,0,TRUE))<>P_16号2様式!L38,RIGHT(FIXED(P_16号2様式!L38,3,FALSE),4),\"\"))","v":""},{"$f":"IF(P_16号2様式!M38=\"\",\"\",P_16号2様式!M38)","v":""},null,{"$f":"IF(P_16号2様式!N38=\"\",\"\",P_16号2様式!N38)","v":""},null,{"$f":"IF(P_16号2様式!O38=\"\",\"\",P_16号2様式!O38)","v":""}]
[{"$f":"IF(P_16号2様式!C39=\"\",\"\",P_16号2様式!C39)","v":""},null,{"$f":"IF(P_16号2様式!D39=\"\",\"\",P_16号2様式!D39)","v":""},{"$f":"IF(P_16号2様式!E39<> \"\",TEXT(INT(P_16号2様式!E39),\"#,##0\"),\"\")","v":""},{"$f":"IF(P_16号2様式!E39= \"\",\"\",IF(VALUE(FIXED(P_16号2様式!E39,0,TRUE))<>P_16号2様式!E39,RIGHT(FIXED(P_16号2様式!E39,3,FALSE),4),\"\"))","v":""},{"$f":"IF(P_16号2様式!F39<> \"\",TEXT(INT(P_16号2様式!F39),\"#,##0\"),\"\")","v":""},{"$f":"IF(P_16号2様式!F39= \"\",\"\",IF(VALUE(FIXED(P_16号2様式!F39,0,TRUE))<>P_16号2様式!F39,RIGHT(FIXED(P_16号2様式!F39,3,FALSE),4),\"\"))","v":""},{"$f":"IF(P_16号2様式!G39<> \"\",TEXT(INT(P_16号2様式!G39),\"#,##0\"),\"\")","v":""},{"$f":"IF(P_16号2様式!G39= \"\",\"\",IF(VALUE(FIXED(P_16号2様式!G39,0,TRUE))<>P_16号2様式!G39,RIGHT(FIXED(P_16号2様式!G39,3,FALSE),4),\"\"))","v":""},{"$f":"IF(P_16号2様式!H39<> \"\",TEXT(INT(P_16号2様式!H39),\"#,##0\"),\"\")","v":""},{"$f":"IF(P_16号2様式!H39= \"\",\"\",IF(VALUE(FIXED(P_16号2様式!H39,0,TRUE))<>P_16号2様式!H39,RIGHT(FIXED(P_16号2様式!H39,3,FALSE),4),\"\"))","v":""},{"$f":"IF(P_16号2様式!I39<> \"\",TEXT(INT(P_16号2様式!I39),\"#,##0\"),\"\")","v":""},{"$f":"IF(P_16号2様式!I39= \"\",\"\",IF(VALUE(FIXED(P_16号2様式!I39,0,TRUE))<>P_16号2様式!I39,RIGHT(FIXED(P_16号2様式!I39,3,FALSE),4),\"\"))","v":""},{"$f":"IF(P_16号2様式!J39<> \"\",TEXT(INT(P_16号2様式!J39),\"#,##0\"),\"\")","v":""},{"$f":"IF(P_16号2様式!J39= \"\",\"\",IF(VALUE(FIXED(P_16号2様式!J39,0,TRUE))<>P_16号2様式!J39,RIGHT(FIXED(P_16号2様式!J39,3,FALSE),4),\"\"))","v":""},{"$f":"IF(P_16号2様式!K39<> \"\",TEXT(INT(P_16号2様式!K39),\"#,##0\"),\"\")","v":""},{"$f":"IF(P_16号2様式!K39= \"\",\"\",IF(VALUE(FIXED(P_16号2様式!K39,0,TRUE))<>P_16号2様式!K39,RIGHT(FIXED(P_16号2様式!K39,3,FALSE),4),\"\"))","v":""},{"$f":"IF(P_16号2様式!L39<> \"\",TEXT(INT(P_16号2様式!L39),\"#,##0\"),\"\")","v":""},{"$f":"IF(P_16号2様式!L39= \"\",\"\",IF(VALUE(FIXED(P_16号2様式!L39,0,TRUE))<>P_16号2様式!L39,RIGHT(FIXED(P_16号2様式!L39,3,FALSE),4),\"\"))","v":""},{"$f":"IF(P_16号2様式!M39=\"\",\"\",P_16号2様式!M39)","v":""},null,{"$f":"IF(P_16号2様式!N39=\"\",\"\",P_16号2様式!N39)","v":""},null,{"$f":"IF(P_16号2様式!O39=\"\",\"\",P_16号2様式!O39)","v":""}]
[{"$f":"IF(P_16号2様式!C40=\"\",\"\",P_16号2様式!C40)","v":""},null,{"$f":"IF(P_16号2様式!D40=\"\",\"\",P_16号2様式!D40)","v":""},{"$f":"IF(P_16号2様式!E40<> \"\",TEXT(INT(P_16号2様式!E40),\"#,##0\"),\"\")","v":""},{"$f":"IF(P_16号2様式!E40= \"\",\"\",IF(VALUE(FIXED(P_16号2様式!E40,0,TRUE))<>P_16号2様式!E40,RIGHT(FIXED(P_16号2様式!E40,3,FALSE),4),\"\"))","v":""},{"$f":"IF(P_16号2様式!F40<> \"\",TEXT(INT(P_16号2様式!F40),\"#,##0\"),\"\")","v":""},{"$f":"IF(P_16号2様式!F40= \"\",\"\",IF(VALUE(FIXED(P_16号2様式!F40,0,TRUE))<>P_16号2様式!F40,RIGHT(FIXED(P_16号2様式!F40,3,FALSE),4),\"\"))","v":""},{"$f":"IF(P_16号2様式!G40<> \"\",TEXT(INT(P_16号2様式!G40),\"#,##0\"),\"\")","v":""},{"$f":"IF(P_16号2様式!G40= \"\",\"\",IF(VALUE(FIXED(P_16号2様式!G40,0,TRUE))<>P_16号2様式!G40,RIGHT(FIXED(P_16号2様式!G40,3,FALSE),4),\"\"))","v":""},{"$f":"IF(P_16号2様式!H40<> \"\",TEXT(INT(P_16号2様式!H40),\"#,##0\"),\"\")","v":""},{"$f":"IF(P_16号2様式!H40= \"\",\"\",IF(VALUE(FIXED(P_16号2様式!H40,0,TRUE))<>P_16号2様式!H40,RIGHT(FIXED(P_16号2様式!H40,3,FALSE),4),\"\"))","v":""},{"$f":"IF(P_16号2様式!I40<> \"\",TEXT(INT(P_16号2様式!I40),\"#,##0\"),\"\")","v":""},{"$f":"IF(P_16号2様式!I40= \"\",\"\",IF(VALUE(FIXED(P_16号2様式!I40,0,TRUE))<>P_16号2様式!I40,RIGHT(FIXED(P_16号2様式!I40,3,FALSE),4),\"\"))","v":""},{"$f":"IF(P_16号2様式!J40<> \"\",TEXT(INT(P_16号2様式!J40),\"#,##0\"),\"\")","v":""},{"$f":"IF(P_16号2様式!J40= \"\",\"\",IF(VALUE(FIXED(P_16号2様式!J40,0,TRUE))<>P_16号2様式!J40,RIGHT(FIXED(P_16号2様式!J40,3,FALSE),4),\"\"))","v":""},{"$f":"IF(P_16号2様式!K40<> \"\",TEXT(INT(P_16号2様式!K40),\"#,##0\"),\"\")","v":""},{"$f":"IF(P_16号2様式!K40= \"\",\"\",IF(VALUE(FIXED(P_16号2様式!K40,0,TRUE))<>P_16号2様式!K40,RIGHT(FIXED(P_16号2様式!K40,3,FALSE),4),\"\"))","v":""},{"$f":"IF(P_16号2様式!L40<> \"\",TEXT(INT(P_16号2様式!L40),\"#,##0\"),\"\")","v":""},{"$f":"IF(P_16号2様式!L40= \"\",\"\",IF(VALUE(FIXED(P_16号2様式!L40,0,TRUE))<>P_16号2様式!L40,RIGHT(FIXED(P_16号2様式!L40,3,FALSE),4),\"\"))","v":""},{"$f":"IF(P_16号2様式!M40=\"\",\"\",P_16号2様式!M40)","v":""},null,{"$f":"IF(P_16号2様式!N40=\"\",\"\",P_16号2様式!N40)","v":""},null,{"$f":"IF(P_16号2様式!O40=\"\",\"\",P_16号2様式!O40)","v":""}]
[{"$f":"IF(P_16号2様式!C41=\"\",\"\",P_16号2様式!C41)","v":""},null,{"$f":"IF(P_16号2様式!D41=\"\",\"\",P_16号2様式!D41)","v":""},{"$f":"IF(P_16号2様式!E41<> \"\",TEXT(INT(P_16号2様式!E41),\"#,##0\"),\"\")","v":""},{"$f":"IF(P_16号2様式!E41= \"\",\"\",IF(VALUE(FIXED(P_16号2様式!E41,0,TRUE))<>P_16号2様式!E41,RIGHT(FIXED(P_16号2様式!E41,3,FALSE),4),\"\"))","v":""},{"$f":"IF(P_16号2様式!F41<> \"\",TEXT(INT(P_16号2様式!F41),\"#,##0\"),\"\")","v":""},{"$f":"IF(P_16号2様式!F41= \"\",\"\",IF(VALUE(FIXED(P_16号2様式!F41,0,TRUE))<>P_16号2様式!F41,RIGHT(FIXED(P_16号2様式!F41,3,FALSE),4),\"\"))","v":""},{"$f":"IF(P_16号2様式!G41<> \"\",TEXT(INT(P_16号2様式!G41),\"#,##0\"),\"\")","v":""},{"$f":"IF(P_16号2様式!G41= \"\",\"\",IF(VALUE(FIXED(P_16号2様式!G41,0,TRUE))<>P_16号2様式!G41,RIGHT(FIXED(P_16号2様式!G41,3,FALSE),4),\"\"))","v":""},{"$f":"IF(P_16号2様式!H41<> \"\",TEXT(INT(P_16号2様式!H41),\"#,##0\"),\"\")","v":""},{"$f":"IF(P_16号2様式!H41= \"\",\"\",IF(VALUE(FIXED(P_16号2様式!H41,0,TRUE))<>P_16号2様式!H41,RIGHT(FIXED(P_16号2様式!H41,3,FALSE),4),\"\"))","v":""},{"$f":"IF(P_16号2様式!I41<> \"\",TEXT(INT(P_16号2様式!I41),\"#,##0\"),\"\")","v":""},{"$f":"IF(P_16号2様式!I41= \"\",\"\",IF(VALUE(FIXED(P_16号2様式!I41,0,TRUE))<>P_16号2様式!I41,RIGHT(FIXED(P_16号2様式!I41,3,FALSE),4),\"\"))","v":""},{"$f":"IF(P_16号2様式!J41<> \"\",TEXT(INT(P_16号2様式!J41),\"#,##0\"),\"\")","v":""},{"$f":"IF(P_16号2様式!J41= \"\",\"\",IF(VALUE(FIXED(P_16号2様式!J41,0,TRUE))<>P_16号2様式!J41,RIGHT(FIXED(P_16号2様式!J41,3,FALSE),4),\"\"))","v":""},{"$f":"IF(P_16号2様式!K41<> \"\",TEXT(INT(P_16号2様式!K41),\"#,##0\"),\"\")","v":""},{"$f":"IF(P_16号2様式!K41= \"\",\"\",IF(VALUE(FIXED(P_16号2様式!K41,0,TRUE))<>P_16号2様式!K41,RIGHT(FIXED(P_16号2様式!K41,3,FALSE),4),\"\"))","v":""},{"$f":"IF(P_16号2様式!L41<> \"\",TEXT(INT(P_16号2様式!L41),\"#,##0\"),\"\")","v":""},{"$f":"IF(P_16号2様式!L41= \"\",\"\",IF(VALUE(FIXED(P_16号2様式!L41,0,TRUE))<>P_16号2様式!L41,RIGHT(FIXED(P_16号2様式!L41,3,FALSE),4),\"\"))","v":""},{"$f":"IF(P_16号2様式!M41=\"\",\"\",P_16号2様式!M41)","v":""},null,{"$f":"IF(P_16号2様式!N41=\"\",\"\",P_16号2様式!N41)","v":""},null,{"$f":"IF(P_16号2様式!O41=\"\",\"\",P_16号2様式!O41)","v":""}]
[{"$f":"IF(P_16号2様式!C42=\"\",\"\",P_16号2様式!C42)","v":""},null,{"$f":"IF(P_16号2様式!D42=\"\",\"\",P_16号2様式!D42)","v":""},{"$f":"IF(P_16号2様式!E42<> \"\",TEXT(INT(P_16号2様式!E42),\"#,##0\"),\"\")","v":""},{"$f":"IF(P_16号2様式!E42= \"\",\"\",IF(VALUE(FIXED(P_16号2様式!E42,0,TRUE))<>P_16号2様式!E42,RIGHT(FIXED(P_16号2様式!E42,3,FALSE),4),\"\"))","v":""},{"$f":"IF(P_16号2様式!F42<> \"\",TEXT(INT(P_16号2様式!F42),\"#,##0\"),\"\")","v":""},{"$f":"IF(P_16号2様式!F42= \"\",\"\",IF(VALUE(FIXED(P_16号2様式!F42,0,TRUE))<>P_16号2様式!F42,RIGHT(FIXED(P_16号2様式!F42,3,FALSE),4),\"\"))","v":""},{"$f":"IF(P_16号2様式!G42<> \"\",TEXT(INT(P_16号2様式!G42),\"#,##0\"),\"\")","v":""},{"$f":"IF(P_16号2様式!G42= \"\",\"\",IF(VALUE(FIXED(P_16号2様式!G42,0,TRUE))<>P_16号2様式!G42,RIGHT(FIXED(P_16号2様式!G42,3,FALSE),4),\"\"))","v":""},{"$f":"IF(P_16号2様式!H42<> \"\",TEXT(INT(P_16号2様式!H42),\"#,##0\"),\"\")","v":""},{"$f":"IF(P_16号2様式!H42= \"\",\"\",IF(VALUE(FIXED(P_16号2様式!H42,0,TRUE))<>P_16号2様式!H42,RIGHT(FIXED(P_16号2様式!H42,3,FALSE),4),\"\"))","v":""},{"$f":"IF(P_16号2様式!I42<> \"\",TEXT(INT(P_16号2様式!I42),\"#,##0\"),\"\")","v":""},{"$f":"IF(P_16号2様式!I42= \"\",\"\",IF(VALUE(FIXED(P_16号2様式!I42,0,TRUE))<>P_16号2様式!I42,RIGHT(FIXED(P_16号2様式!I42,3,FALSE),4),\"\"))","v":""},{"$f":"IF(P_16号2様式!J42<> \"\",TEXT(INT(P_16号2様式!J42),\"#,##0\"),\"\")","v":""},{"$f":"IF(P_16号2様式!J42= \"\",\"\",IF(VALUE(FIXED(P_16号2様式!J42,0,TRUE))<>P_16号2様式!J42,RIGHT(FIXED(P_16号2様式!J42,3,FALSE),4),\"\"))","v":""},{"$f":"IF(P_16号2様式!K42<> \"\",TEXT(INT(P_16号2様式!K42),\"#,##0\"),\"\")","v":""},{"$f":"IF(P_16号2様式!K42= \"\",\"\",IF(VALUE(FIXED(P_16号2様式!K42,0,TRUE))<>P_16号2様式!K42,RIGHT(FIXED(P_16号2様式!K42,3,FALSE),4),\"\"))","v":""},{"$f":"IF(P_16号2様式!L42<> \"\",TEXT(INT(P_16号2様式!L42),\"#,##0\"),\"\")","v":""},{"$f":"IF(P_16号2様式!L42= \"\",\"\",IF(VALUE(FIXED(P_16号2様式!L42,0,TRUE))<>P_16号2様式!L42,RIGHT(FIXED(P_16号2様式!L42,3,FALSE),4),\"\"))","v":""},{"$f":"IF(P_16号2様式!M42=\"\",\"\",P_16号2様式!M42)","v":""},null,{"$f":"IF(P_16号2様式!N42=\"\",\"\",P_16号2様式!N42)","v":""},null,{"$f":"IF(P_16号2様式!O42=\"\",\"\",P_16号2様式!O42)","v":""}]
[{"$f":"IF(P_16号2様式!C43=\"\",\"\",P_16号2様式!C43)","v":""},null,{"$f":"IF(P_16号2様式!D43=\"\",\"\",P_16号2様式!D43)","v":""},{"$f":"IF(P_16号2様式!E43<> \"\",TEXT(INT(P_16号2様式!E43),\"#,##0\"),\"\")","v":""},{"$f":"IF(P_16号2様式!E43= \"\",\"\",IF(VALUE(FIXED(P_16号2様式!E43,0,TRUE))<>P_16号2様式!E43,RIGHT(FIXED(P_16号2様式!E43,3,FALSE),4),\"\"))","v":""},{"$f":"IF(P_16号2様式!F43<> \"\",TEXT(INT(P_16号2様式!F43),\"#,##0\"),\"\")","v":""},{"$f":"IF(P_16号2様式!F43= \"\",\"\",IF(VALUE(FIXED(P_16号2様式!F43,0,TRUE))<>P_16号2様式!F43,RIGHT(FIXED(P_16号2様式!F43,3,FALSE),4),\"\"))","v":""},{"$f":"IF(P_16号2様式!G43<> \"\",TEXT(INT(P_16号2様式!G43),\"#,##0\"),\"\")","v":""},{"$f":"IF(P_16号2様式!G43= \"\",\"\",IF(VALUE(FIXED(P_16号2様式!G43,0,TRUE))<>P_16号2様式!G43,RIGHT(FIXED(P_16号2様式!G43,3,FALSE),4),\"\"))","v":""},{"$f":"IF(P_16号2様式!H43<> \"\",TEXT(INT(P_16号2様式!H43),\"#,##0\"),\"\")","v":""},{"$f":"IF(P_16号2様式!H43= \"\",\"\",IF(VALUE(FIXED(P_16号2様式!H43,0,TRUE))<>P_16号2様式!H43,RIGHT(FIXED(P_16号2様式!H43,3,FALSE),4),\"\"))","v":""},{"$f":"IF(P_16号2様式!I43<> \"\",TEXT(INT(P_16号2様式!I43),\"#,##0\"),\"\")","v":""},{"$f":"IF(P_16号2様式!I43= \"\",\"\",IF(VALUE(FIXED(P_16号2様式!I43,0,TRUE))<>P_16号2様式!I43,RIGHT(FIXED(P_16号2様式!I43,3,FALSE),4),\"\"))","v":""},{"$f":"IF(P_16号2様式!J43<> \"\",TEXT(INT(P_16号2様式!J43),\"#,##0\"),\"\")","v":""},{"$f":"IF(P_16号2様式!J43= \"\",\"\",IF(VALUE(FIXED(P_16号2様式!J43,0,TRUE))<>P_16号2様式!J43,RIGHT(FIXED(P_16号2様式!J43,3,FALSE),4),\"\"))","v":""},{"$f":"IF(P_16号2様式!K43<> \"\",TEXT(INT(P_16号2様式!K43),\"#,##0\"),\"\")","v":""},{"$f":"IF(P_16号2様式!K43= \"\",\"\",IF(VALUE(FIXED(P_16号2様式!K43,0,TRUE))<>P_16号2様式!K43,RIGHT(FIXED(P_16号2様式!K43,3,FALSE),4),\"\"))","v":""},{"$f":"IF(P_16号2様式!L43<> \"\",TEXT(INT(P_16号2様式!L43),\"#,##0\"),\"\")","v":""},{"$f":"IF(P_16号2様式!L43= \"\",\"\",IF(VALUE(FIXED(P_16号2様式!L43,0,TRUE))<>P_16号2様式!L43,RIGHT(FIXED(P_16号2様式!L43,3,FALSE),4),\"\"))","v":""},{"$f":"IF(P_16号2様式!M43=\"\",\"\",P_16号2様式!M43)","v":""},null,{"$f":"IF(P_16号2様式!N43=\"\",\"\",P_16号2様式!N43)","v":""},null,{"$f":"IF(P_16号2様式!O43=\"\",\"\",P_16号2様式!O43)","v":""}]
[{"$f":"IF(P_16号2様式!C44=\"\",\"\",P_16号2様式!C44)","v":""},null,{"$f":"IF(P_16号2様式!D44=\"\",\"\",P_16号2様式!D44)","v":""},{"$f":"IF(P_16号2様式!E44<> \"\",TEXT(INT(P_16号2様式!E44),\"#,##0\"),\"\")","v":""},{"$f":"IF(P_16号2様式!E44= \"\",\"\",IF(VALUE(FIXED(P_16号2様式!E44,0,TRUE))<>P_16号2様式!E44,RIGHT(FIXED(P_16号2様式!E44,3,FALSE),4),\"\"))","v":""},{"$f":"IF(P_16号2様式!F44<> \"\",TEXT(INT(P_16号2様式!F44),\"#,##0\"),\"\")","v":""},{"$f":"IF(P_16号2様式!F44= \"\",\"\",IF(VALUE(FIXED(P_16号2様式!F44,0,TRUE))<>P_16号2様式!F44,RIGHT(FIXED(P_16号2様式!F44,3,FALSE),4),\"\"))","v":""},{"$f":"IF(P_16号2様式!G44<> \"\",TEXT(INT(P_16号2様式!G44),\"#,##0\"),\"\")","v":""},{"$f":"IF(P_16号2様式!G44= \"\",\"\",IF(VALUE(FIXED(P_16号2様式!G44,0,TRUE))<>P_16号2様式!G44,RIGHT(FIXED(P_16号2様式!G44,3,FALSE),4),\"\"))","v":""},{"$f":"IF(P_16号2様式!H44<> \"\",TEXT(INT(P_16号2様式!H44),\"#,##0\"),\"\")","v":""},{"$f":"IF(P_16号2様式!H44= \"\",\"\",IF(VALUE(FIXED(P_16号2様式!H44,0,TRUE))<>P_16号2様式!H44,RIGHT(FIXED(P_16号2様式!H44,3,FALSE),4),\"\"))","v":""},{"$f":"IF(P_16号2様式!I44<> \"\",TEXT(INT(P_16号2様式!I44),\"#,##0\"),\"\")","v":""},{"$f":"IF(P_16号2様式!I44= \"\",\"\",IF(VALUE(FIXED(P_16号2様式!I44,0,TRUE))<>P_16号2様式!I44,RIGHT(FIXED(P_16号2様式!I44,3,FALSE),4),\"\"))","v":""},{"$f":"IF(P_16号2様式!J44<> \"\",TEXT(INT(P_16号2様式!J44),\"#,##0\"),\"\")","v":""},{"$f":"IF(P_16号2様式!J44= \"\",\"\",IF(VALUE(FIXED(P_16号2様式!J44,0,TRUE))<>P_16号2様式!J44,RIGHT(FIXED(P_16号2様式!J44,3,FALSE),4),\"\"))","v":""},{"$f":"IF(P_16号2様式!K44<> \"\",TEXT(INT(P_16号2様式!K44),\"#,##0\"),\"\")","v":""},{"$f":"IF(P_16号2様式!K44= \"\",\"\",IF(VALUE(FIXED(P_16号2様式!K44,0,TRUE))<>P_16号2様式!K44,RIGHT(FIXED(P_16号2様式!K44,3,FALSE),4),\"\"))","v":""},{"$f":"IF(P_16号2様式!L44<> \"\",TEXT(INT(P_16号2様式!L44),\"#,##0\"),\"\")","v":""},{"$f":"IF(P_16号2様式!L44= \"\",\"\",IF(VALUE(FIXED(P_16号2様式!L44,0,TRUE))<>P_16号2様式!L44,RIGHT(FIXED(P_16号2様式!L44,3,FALSE),4),\"\"))","v":""},{"$f":"IF(P_16号2様式!M44=\"\",\"\",P_16号2様式!M44)","v":""},null,{"$f":"IF(P_16号2様式!N44=\"\",\"\",P_16号2様式!N44)","v":""},null,{"$f":"IF(P_16号2様式!O44=\"\",\"\",P_16号2様式!O44)","v":""}]
[{"$f":"IF(P_16号2様式!C45=\"\",\"\",P_16号2様式!C45)","v":""},null,{"$f":"IF(P_16号2様式!D45=\"\",\"\",P_16号2様式!D45)","v":""},{"$f":"IF(P_16号2様式!E45<> \"\",TEXT(INT(P_16号2様式!E45),\"#,##0\"),\"\")","v":""},{"$f":"IF(P_16号2様式!E45= \"\",\"\",IF(VALUE(FIXED(P_16号2様式!E45,0,TRUE))<>P_16号2様式!E45,RIGHT(FIXED(P_16号2様式!E45,3,FALSE),4),\"\"))","v":""},{"$f":"IF(P_16号2様式!F45<> \"\",TEXT(INT(P_16号2様式!F45),\"#,##0\"),\"\")","v":""},{"$f":"IF(P_16号2様式!F45= \"\",\"\",IF(VALUE(FIXED(P_16号2様式!F45,0,TRUE))<>P_16号2様式!F45,RIGHT(FIXED(P_16号2様式!F45,3,FALSE),4),\"\"))","v":""},{"$f":"IF(P_16号2様式!G45<> \"\",TEXT(INT(P_16号2様式!G45),\"#,##0\"),\"\")","v":""},{"$f":"IF(P_16号2様式!G45= \"\",\"\",IF(VALUE(FIXED(P_16号2様式!G45,0,TRUE))<>P_16号2様式!G45,RIGHT(FIXED(P_16号2様式!G45,3,FALSE),4),\"\"))","v":""},{"$f":"IF(P_16号2様式!H45<> \"\",TEXT(INT(P_16号2様式!H45),\"#,##0\"),\"\")","v":""},{"$f":"IF(P_16号2様式!H45= \"\",\"\",IF(VALUE(FIXED(P_16号2様式!H45,0,TRUE))<>P_16号2様式!H45,RIGHT(FIXED(P_16号2様式!H45,3,FALSE),4),\"\"))","v":""},{"$f":"IF(P_16号2様式!I45<> \"\",TEXT(INT(P_16号2様式!I45),\"#,##0\"),\"\")","v":""},{"$f":"IF(P_16号2様式!I45= \"\",\"\",IF(VALUE(FIXED(P_16号2様式!I45,0,TRUE))<>P_16号2様式!I45,RIGHT(FIXED(P_16号2様式!I45,3,FALSE),4),\"\"))","v":""},{"$f":"IF(P_16号2様式!J45<> \"\",TEXT(INT(P_16号2様式!J45),\"#,##0\"),\"\")","v":""},{"$f":"IF(P_16号2様式!J45= \"\",\"\",IF(VALUE(FIXED(P_16号2様式!J45,0,TRUE))<>P_16号2様式!J45,RIGHT(FIXED(P_16号2様式!J45,3,FALSE),4),\"\"))","v":""},{"$f":"IF(P_16号2様式!K45<> \"\",TEXT(INT(P_16号2様式!K45),\"#,##0\"),\"\")","v":""},{"$f":"IF(P_16号2様式!K45= \"\",\"\",IF(VALUE(FIXED(P_16号2様式!K45,0,TRUE))<>P_16号2様式!K45,RIGHT(FIXED(P_16号2様式!K45,3,FALSE),4),\"\"))","v":""},{"$f":"IF(P_16号2様式!L45<> \"\",TEXT(INT(P_16号2様式!L45),\"#,##0\"),\"\")","v":""},{"$f":"IF(P_16号2様式!L45= \"\",\"\",IF(VALUE(FIXED(P_16号2様式!L45,0,TRUE))<>P_16号2様式!L45,RIGHT(FIXED(P_16号2様式!L45,3,FALSE),4),\"\"))","v":""},{"$f":"IF(P_16号2様式!M45=\"\",\"\",P_16号2様式!M45)","v":""},null,{"$f":"IF(P_16号2様式!N45=\"\",\"\",P_16号2様式!N45)","v":""},null,{"$f":"IF(P_16号2様式!O45=\"\",\"\",P_16号2様式!O45)","v":""}]
[{"$f":"IF(P_16号2様式!C46=\"\",\"\",P_16号2様式!C46)","v":""},null,{"$f":"IF(P_16号2様式!D46=\"\",\"\",P_16号2様式!D46)","v":""},{"$f":"IF(P_16号2様式!E46<> \"\",TEXT(INT(P_16号2様式!E46),\"#,##0\"),\"\")","v":""},{"$f":"IF(P_16号2様式!E46= \"\",\"\",IF(VALUE(FIXED(P_16号2様式!E46,0,TRUE))<>P_16号2様式!E46,RIGHT(FIXED(P_16号2様式!E46,3,FALSE),4),\"\"))","v":""},{"$f":"IF(P_16号2様式!F46<> \"\",TEXT(INT(P_16号2様式!F46),\"#,##0\"),\"\")","v":""},{"$f":"IF(P_16号2様式!F46= \"\",\"\",IF(VALUE(FIXED(P_16号2様式!F46,0,TRUE))<>P_16号2様式!F46,RIGHT(FIXED(P_16号2様式!F46,3,FALSE),4),\"\"))","v":""},{"$f":"IF(P_16号2様式!G46<> \"\",TEXT(INT(P_16号2様式!G46),\"#,##0\"),\"\")","v":""},{"$f":"IF(P_16号2様式!G46= \"\",\"\",IF(VALUE(FIXED(P_16号2様式!G46,0,TRUE))<>P_16号2様式!G46,RIGHT(FIXED(P_16号2様式!G46,3,FALSE),4),\"\"))","v":""},{"$f":"IF(P_16号2様式!H46<> \"\",TEXT(INT(P_16号2様式!H46),\"#,##0\"),\"\")","v":""},{"$f":"IF(P_16号2様式!H46= \"\",\"\",IF(VALUE(FIXED(P_16号2様式!H46,0,TRUE))<>P_16号2様式!H46,RIGHT(FIXED(P_16号2様式!H46,3,FALSE),4),\"\"))","v":""},{"$f":"IF(P_16号2様式!I46<> \"\",TEXT(INT(P_16号2様式!I46),\"#,##0\"),\"\")","v":""},{"$f":"IF(P_16号2様式!I46= \"\",\"\",IF(VALUE(FIXED(P_16号2様式!I46,0,TRUE))<>P_16号2様式!I46,RIGHT(FIXED(P_16号2様式!I46,3,FALSE),4),\"\"))","v":""},{"$f":"IF(P_16号2様式!J46<> \"\",TEXT(INT(P_16号2様式!J46),\"#,##0\"),\"\")","v":""},{"$f":"IF(P_16号2様式!J46= \"\",\"\",IF(VALUE(FIXED(P_16号2様式!J46,0,TRUE))<>P_16号2様式!J46,RIGHT(FIXED(P_16号2様式!J46,3,FALSE),4),\"\"))","v":""},{"$f":"IF(P_16号2様式!K46<> \"\",TEXT(INT(P_16号2様式!K46),\"#,##0\"),\"\")","v":""},{"$f":"IF(P_16号2様式!K46= \"\",\"\",IF(VALUE(FIXED(P_16号2様式!K46,0,TRUE))<>P_16号2様式!K46,RIGHT(FIXED(P_16号2様式!K46,3,FALSE),4),\"\"))","v":""},{"$f":"IF(P_16号2様式!L46<> \"\",TEXT(INT(P_16号2様式!L46),\"#,##0\"),\"\")","v":""},{"$f":"IF(P_16号2様式!L46= \"\",\"\",IF(VALUE(FIXED(P_16号2様式!L46,0,TRUE))<>P_16号2様式!L46,RIGHT(FIXED(P_16号2様式!L46,3,FALSE),4),\"\"))","v":""},{"$f":"IF(P_16号2様式!M46=\"\",\"\",P_16号2様式!M46)","v":""},null,{"$f":"IF(P_16号2様式!N46=\"\",\"\",P_16号2様式!N46)","v":""},null,{"$f":"IF(P_16号2様式!O46=\"\",\"\",P_16号2様式!O46)","v":""}]
[{"$f":"IF(P_16号2様式!C47=\"\",\"\",P_16号2様式!C47)","v":""},null,{"$f":"IF(P_16号2様式!D47=\"\",\"\",P_16号2様式!D47)","v":""},{"$f":"IF(P_16号2様式!E47<> \"\",TEXT(INT(P_16号2様式!E47),\"#,##0\"),\"\")","v":""},{"$f":"IF(P_16号2様式!E47= \"\",\"\",IF(VALUE(FIXED(P_16号2様式!E47,0,TRUE))<>P_16号2様式!E47,RIGHT(FIXED(P_16号2様式!E47,3,FALSE),4),\"\"))","v":""},{"$f":"IF(P_16号2様式!F47<> \"\",TEXT(INT(P_16号2様式!F47),\"#,##0\"),\"\")","v":""},{"$f":"IF(P_16号2様式!F47= \"\",\"\",IF(VALUE(FIXED(P_16号2様式!F47,0,TRUE))<>P_16号2様式!F47,RIGHT(FIXED(P_16号2様式!F47,3,FALSE),4),\"\"))","v":""},{"$f":"IF(P_16号2様式!G47<> \"\",TEXT(INT(P_16号2様式!G47),\"#,##0\"),\"\")","v":""},{"$f":"IF(P_16号2様式!G47= \"\",\"\",IF(VALUE(FIXED(P_16号2様式!G47,0,TRUE))<>P_16号2様式!G47,RIGHT(FIXED(P_16号2様式!G47,3,FALSE),4),\"\"))","v":""},{"$f":"IF(P_16号2様式!H47<> \"\",TEXT(INT(P_16号2様式!H47),\"#,##0\"),\"\")","v":""},{"$f":"IF(P_16号2様式!H47= \"\",\"\",IF(VALUE(FIXED(P_16号2様式!H47,0,TRUE))<>P_16号2様式!H47,RIGHT(FIXED(P_16号2様式!H47,3,FALSE),4),\"\"))","v":""},{"$f":"IF(P_16号2様式!I47<> \"\",TEXT(INT(P_16号2様式!I47),\"#,##0\"),\"\")","v":""},{"$f":"IF(P_16号2様式!I47= \"\",\"\",IF(VALUE(FIXED(P_16号2様式!I47,0,TRUE))<>P_16号2様式!I47,RIGHT(FIXED(P_16号2様式!I47,3,FALSE),4),\"\"))","v":""},{"$f":"IF(P_16号2様式!J47<> \"\",TEXT(INT(P_16号2様式!J47),\"#,##0\"),\"\")","v":""},{"$f":"IF(P_16号2様式!J47= \"\",\"\",IF(VALUE(FIXED(P_16号2様式!J47,0,TRUE))<>P_16号2様式!J47,RIGHT(FIXED(P_16号2様式!J47,3,FALSE),4),\"\"))","v":""},{"$f":"IF(P_16号2様式!K47<> \"\",TEXT(INT(P_16号2様式!K47),\"#,##0\"),\"\")","v":""},{"$f":"IF(P_16号2様式!K47= \"\",\"\",IF(VALUE(FIXED(P_16号2様式!K47,0,TRUE))<>P_16号2様式!K47,RIGHT(FIXED(P_16号2様式!K47,3,FALSE),4),\"\"))","v":""},{"$f":"IF(P_16号2様式!L47<> \"\",TEXT(INT(P_16号2様式!L47),\"#,##0\"),\"\")","v":""},{"$f":"IF(P_16号2様式!L47= \"\",\"\",IF(VALUE(FIXED(P_16号2様式!L47,0,TRUE))<>P_16号2様式!L47,RIGHT(FIXED(P_16号2様式!L47,3,FALSE),4),\"\"))","v":""},{"$f":"IF(P_16号2様式!M47=\"\",\"\",P_16号2様式!M47)","v":""},null,{"$f":"IF(P_16号2様式!N47=\"\",\"\",P_16号2様式!N47)","v":""},null,{"$f":"IF(P_16号2様式!O47=\"\",\"\",P_16号2様式!O47)","v":""}]
[{"$f":"IF(P_16号2様式!C48=\"\",\"\",P_16号2様式!C48)","v":""},null,{"$f":"IF(P_16号2様式!D48=\"\",\"\",P_16号2様式!D48)","v":""},{"$f":"IF(P_16号2様式!E48<> \"\",TEXT(INT(P_16号2様式!E48),\"#,##0\"),\"\")","v":""},{"$f":"IF(P_16号2様式!E48= \"\",\"\",IF(VALUE(FIXED(P_16号2様式!E48,0,TRUE))<>P_16号2様式!E48,RIGHT(FIXED(P_16号2様式!E48,3,FALSE),4),\"\"))","v":""},{"$f":"IF(P_16号2様式!F48<> \"\",TEXT(INT(P_16号2様式!F48),\"#,##0\"),\"\")","v":""},{"$f":"IF(P_16号2様式!F48= \"\",\"\",IF(VALUE(FIXED(P_16号2様式!F48,0,TRUE))<>P_16号2様式!F48,RIGHT(FIXED(P_16号2様式!F48,3,FALSE),4),\"\"))","v":""},{"$f":"IF(P_16号2様式!G48<> \"\",TEXT(INT(P_16号2様式!G48),\"#,##0\"),\"\")","v":""},{"$f":"IF(P_16号2様式!G48= \"\",\"\",IF(VALUE(FIXED(P_16号2様式!G48,0,TRUE))<>P_16号2様式!G48,RIGHT(FIXED(P_16号2様式!G48,3,FALSE),4),\"\"))","v":""},{"$f":"IF(P_16号2様式!H48<> \"\",TEXT(INT(P_16号2様式!H48),\"#,##0\"),\"\")","v":""},{"$f":"IF(P_16号2様式!H48= \"\",\"\",IF(VALUE(FIXED(P_16号2様式!H48,0,TRUE))<>P_16号2様式!H48,RIGHT(FIXED(P_16号2様式!H48,3,FALSE),4),\"\"))","v":""},{"$f":"IF(P_16号2様式!I48<> \"\",TEXT(INT(P_16号2様式!I48),\"#,##0\"),\"\")","v":""},{"$f":"IF(P_16号2様式!I48= \"\",\"\",IF(VALUE(FIXED(P_16号2様式!I48,0,TRUE))<>P_16号2様式!I48,RIGHT(FIXED(P_16号2様式!I48,3,FALSE),4),\"\"))","v":""},{"$f":"IF(P_16号2様式!J48<> \"\",TEXT(INT(P_16号2様式!J48),\"#,##0\"),\"\")","v":""},{"$f":"IF(P_16号2様式!J48= \"\",\"\",IF(VALUE(FIXED(P_16号2様式!J48,0,TRUE))<>P_16号2様式!J48,RIGHT(FIXED(P_16号2様式!J48,3,FALSE),4),\"\"))","v":""},{"$f":"IF(P_16号2様式!K48<> \"\",TEXT(INT(P_16号2様式!K48),\"#,##0\"),\"\")","v":""},{"$f":"IF(P_16号2様式!K48= \"\",\"\",IF(VALUE(FIXED(P_16号2様式!K48,0,TRUE))<>P_16号2様式!K48,RIGHT(FIXED(P_16号2様式!K48,3,FALSE),4),\"\"))","v":""},{"$f":"IF(P_16号2様式!L48<> \"\",TEXT(INT(P_16号2様式!L48),\"#,##0\"),\"\")","v":""},{"$f":"IF(P_16号2様式!L48= \"\",\"\",IF(VALUE(FIXED(P_16号2様式!L48,0,TRUE))<>P_16号2様式!L48,RIGHT(FIXED(P_16号2様式!L48,3,FALSE),4),\"\"))","v":""},{"$f":"IF(P_16号2様式!M48=\"\",\"\",P_16号2様式!M48)","v":""},null,{"$f":"IF(P_16号2様式!N48=\"\",\"\",P_16号2様式!N48)","v":""},null,{"$f":"IF(P_16号2様式!O48=\"\",\"\",P_16号2様式!O48)","v":""}]
["第16号の2様式",null,null,null,null,null,null,null,null,null,null,null,null,null,null,null,null,null,null,null,null,null,null,{"$f":"IF(P_16号2様式!A58=\"\",\" ページ\", P_16号2様式!A58 & \"ページ\")","v":"2ページ"}]
[null,null,null,null,null,null,null,null,"開　 票　 速 　報"]
[null,{"$f":"IF(パラメタシート!B1=\"\",\"\",パラメタシート!B1)","v":"2017-10-22"}]
[null,{"$f":"IF(P_16号2様式!P50=\"\",\"\",P_16号2様式!P50)","v":"衆議院小選挙区選出議員選挙"},null,null,null,null,null,null,null,null,null,null,null,null,{"$f":"IF(P_16号2様式!Q50=\"0\",\"即日中間速報\",\"翌日中間速報\")","v":"即日中間速報"},null,{"$f":"IF(P_16号2様式!R50=\"\",\"第　　　回\",\"第 　\" & P_16号2様式!R50 & \"　回\")","v":"第　　　回"},null,null,{"$f":"IF(P_16号2様式!S50=\"\",\"     時    分　現在\",P_16号2様式!S50)","v":"     時    分　現在"}]
[null,null,null,null,null,null,null,null,null,null,null,null,null,null,"結了報告",null,null,null,null,{"$f":"IF(P_16号2様式!T50=\"\",\"     時    分　結了\",P_16号2様式!T50)","v":"01:43:00"},null,null,null,"鹿 児 島 県"]
[]
["市 区 町 村 名",null,null,"(ア)",null,"(イ)",null,"(ウ)",null,"(エ)",null,"(オ)",null,"(カ)",null,"(キ)",null,"(ク)"]
[null,null,"開票率","候 補 者 得 票",null,"あん分の際切り",null,"いずれの候補者",null,"有 効 投 票 数",null,"無 効 投 票 数",null,"投 票 総 数",null,"持ち帰り・不受理",null,"投票者総数",null,"無効投票率",null,"開 票 確 定",null,"確 定 表 示"]
[null,null,"％","数 の 合 計",null,"捨 て た 票 数",null,"にも属しない票数",null,"(ア)＋(イ)＋(ウ)",null,null,null,"(エ)＋(オ)",null,"その他",null,"(カ)＋(キ)",null,"(オ)／(カ)％",null,"時　 刻"]
[{"$f":"IF(P_16号2様式!C50=\"\",\"\",P_16号2様式!C50)","v":"【 第 ２ 区 】"},null,{"$f":"IF(P_16号2様式!D50=\"\",\"\",P_16号2様式!D50)","v":""},{"$f":"IF(P_16号2様式!E50<> \"\",TEXT(INT(P_16号2様式!E50),\"#,##0\"),\"\")","v":""},{"$f":"IF(P_16号2様式!E50= \"\",\"\",IF(VALUE(FIXED(P_16号2様式!E50,0,TRUE))<>P_16号2様式!E50,RIGHT(FIXED(P_16号2様式!E50,3,FALSE),4),\"\"))","v":""},{"$f":"IF(P_16号2様式!F50<> \"\",TEXT(INT(P_16号2様式!F50),\"#,##0\"),\"\")","v":""},{"$f":"IF(P_16号2様式!F50= \"\",\"\",IF(VALUE(FIXED(P_16号2様式!F50,0,TRUE))<>P_16号2様式!F50,RIGHT(FIXED(P_16号2様式!F50,3,FALSE),4),\"\"))","v":""},{"$f":"IF(P_16号2様式!G50<> \"\",TEXT(INT(P_16号2様式!G50),\"#,##0\"),\"\")","v":""},{"$f":"IF(P_16号2様式!G50= \"\",\"\",IF(VALUE(FIXED(P_16号2様式!G50,0,TRUE))<>P_16号2様式!G50,RIGHT(FIXED(P_16号2様式!G50,3,FALSE),4),\"\"))","v":""},{"$f":"IF(P_16号2様式!H50<> \"\",TEXT(INT(P_16号2様式!H50),\"#,##0\"),\"\")","v":""},{"$f":"IF(P_16号2様式!H50= \"\",\"\",IF(VALUE(FIXED(P_16号2様式!H50,0,TRUE))<>P_16号2様式!H50,RIGHT(FIXED(P_16号2様式!H50,3,FALSE),4),\"\"))","v":""},{"$f":"IF(P_16号2様式!I50<> \"\",TEXT(INT(P_16号2様式!I50),\"#,##0\"),\"\")","v":""},{"$f":"IF(P_16号2様式!I50= \"\",\"\",IF(VALUE(FIXED(P_16号2様式!I50,0,TRUE))<>P_16号2様式!I50,RIGHT(FIXED(P_16号2様式!I50,3,FALSE),4),\"\"))","v":""},{"$f":"IF(P_16号2様式!J50<> \"\",TEXT(INT(P_16号2様式!J50),\"#,##0\"),\"\")","v":""},{"$f":"IF(P_16号2様式!J50= \"\",\"\",IF(VALUE(FIXED(P_16号2様式!J50,0,TRUE))<>P_16号2様式!J50,RIGHT(FIXED(P_16号2様式!J50,3,FALSE),4),\"\"))","v":""},{"$f":"IF(P_16号2様式!K50<> \"\",TEXT(INT(P_16号2様式!K50),\"#,##0\"),\"\")","v":""},{"$f":"IF(P_16号2様式!K50= \"\",\"\",IF(VALUE(FIXED(P_16号2様式!K50,0,TRUE))<>P_16号2様式!K50,RIGHT(FIXED(P_16号2様式!K50,3,FALSE),4),\"\"))","v":""},{"$f":"IF(P_16号2様式!L50<> \"\",TEXT(INT(P_16号2様式!L50),\"#,##0\"),\"\")","v":""},{"$f":"IF(P_16号2様式!L50= \"\",\"\",IF(VALUE(FIXED(P_16号2様式!L50,0,TRUE))<>P_16号2様式!L50,RIGHT(FIXED(P_16号2様式!L50,3,FALSE),4),\"\"))","v":""},{"$f":"IF(P_16号2様式!M50=\"\",\"\",P_16号2様式!M50)","v":""},null,{"$f":"IF(P_16号2様式!N50=\"\",\"\",P_16号2様式!N50)","v":""},null,{"$f":"IF(P_16号2様式!O50=\"\",\"\",P_16号2様式!O50)","v":""}]
[{"$f":"IF(P_16号2様式!C51=\"\",\"\",P_16号2様式!C51)","v":"　鹿児島市２区"},null,{"$f":"IF(P_16号2様式!D51=\"\",\"\",P_16号2様式!D51)","v":100},{"$f":"IF(P_16号2様式!E51<> \"\",TEXT(INT(P_16号2様式!E51),\"#,##0\"),\"\")","v":"64,924"},{"$f":"IF(P_16号2様式!E51= \"\",\"\",IF(VALUE(FIXED(P_16号2様式!E51,0,TRUE))<>P_16号2様式!E51,RIGHT(FIXED(P_16号2様式!E51,3,FALSE),4),\"\"))","v":""},{"$f":"IF(P_16号2様式!F51<> \"\",TEXT(INT(P_16号2様式!F51),\"#,##0\"),\"\")","v":"0"},{"$f":"IF(P_16号2様式!F51= \"\",\"\",IF(VALUE(FIXED(P_16号2様式!F51,0,TRUE))<>P_16号2様式!F51,RIGHT(FIXED(P_16号2様式!F51,3,FALSE),4),\"\"))","v":""},{"$f":"IF(P_16号2様式!G51<> \"\",TEXT(INT(P_16号2様式!G51),\"#,##0\"),\"\")","v":"0"},{"$f":"IF(P_16号2様式!G51= \"\",\"\",IF(VALUE(FIXED(P_16号2様式!G51,0,TRUE))<>P_16号2様式!G51,RIGHT(FIXED(P_16号2様式!G51,3,FALSE),4),\"\"))","v":""},{"$f":"IF(P_16号2様式!H51<> \"\",TEXT(INT(P_16号2様式!H51),\"#,##0\"),\"\")","v":"64,924"},{"$f":"IF(P_16号2様式!H51= \"\",\"\",IF(VALUE(FIXED(P_16号2様式!H51,0,TRUE))<>P_16号2様式!H51,RIGHT(FIXED(P_16号2様式!H51,3,FALSE),4),\"\"))","v":""},{"$f":"IF(P_16号2様式!I51<> \"\",TEXT(INT(P_16号2様式!I51),\"#,##0\"),\"\")","v":"1,724"},{"$f":"IF(P_16号2様式!I51= \"\",\"\",IF(VALUE(FIXED(P_16号2様式!I51,0,TRUE))<>P_16号2様式!I51,RIGHT(FIXED(P_16号2様式!I51,3,FALSE),4),\"\"))","v":""},{"$f":"IF(P_16号2様式!J51<> \"\",TEXT(INT(P_16号2様式!J51),\"#,##0\"),\"\")","v":"66,648"},{"$f":"IF(P_16号2様式!J51= \"\",\"\",IF(VALUE(FIXED(P_16号2様式!J51,0,TRUE))<>P_16号2様式!J51,RIGHT(FIXED(P_16号2様式!J51,3,FALSE),4),\"\"))","v":""},{"$f":"IF(P_16号2様式!K51<> \"\",TEXT(INT(P_16号2様式!K51),\"#,##0\"),\"\")","v":"3"},{"$f":"IF(P_16号2様式!K51= \"\",\"\",IF(VALUE(FIXED(P_16号2様式!K51,0,TRUE))<>P_16号2様式!K51,RIGHT(FIXED(P_16号2様式!K51,3,FALSE),4),\"\"))","v":""},{"$f":"IF(P_16号2様式!L51<> \"\",TEXT(INT(P_16号2様式!L51),\"#,##0\"),\"\")","v":"66,651"},{"$f":"IF(P_16号2様式!L51= \"\",\"\",IF(VALUE(FIXED(P_16号2様式!L51,0,TRUE))<>P_16号2様式!L51,RIGHT(FIXED(P_16号2様式!L51,3,FALSE),4),\"\"))","v":""},{"$f":"IF(P_16号2様式!M51=\"\",\"\",P_16号2様式!M51)","v":2.5867242827991799},null,{"$f":"IF(P_16号2様式!N51=\"\",\"\",P_16号2様式!N51)","v":"01:38:00"},null,{"$f":"IF(P_16号2様式!O51=\"\",\"\",P_16号2様式!O51)","v":"確定"}]
[{"$f":"IF(P_16号2様式!C52=\"\",\"\",P_16号2様式!C52)","v":"　枕崎市"},null,{"$f":"IF(P_16号2様式!D52=\"\",\"\",P_16号2様式!D52)","v":100},{"$f":"IF(P_16号2様式!E52<> \"\",TEXT(INT(P_16号2様式!E52),\"#,##0\"),\"\")","v":"9,718"},{"$f":"IF(P_16号2様式!E52= \"\",\"\",IF(VALUE(FIXED(P_16号2様式!E52,0,TRUE))<>P_16号2様式!E52,RIGHT(FIXED(P_16号2様式!E52,3,FALSE),4),\"\"))","v":""},{"$f":"IF(P_16号2様式!F52<> \"\",TEXT(INT(P_16号2様式!F52),\"#,##0\"),\"\")","v":"0"},{"$f":"IF(P_16号2様式!F52= \"\",\"\",IF(VALUE(FIXED(P_16号2様式!F52,0,TRUE))<>P_16号2様式!F52,RIGHT(FIXED(P_16号2様式!F52,3,FALSE),4),\"\"))","v":""},{"$f":"IF(P_16号2様式!G52<> \"\",TEXT(INT(P_16号2様式!G52),\"#,##0\"),\"\")","v":"0"},{"$f":"IF(P_16号2様式!G52= \"\",\"\",IF(VALUE(FIXED(P_16号2様式!G52,0,TRUE))<>P_16号2様式!G52,RIGHT(FIXED(P_16号2様式!G52,3,FALSE),4),\"\"))","v":""},{"$f":"IF(P_16号2様式!H52<> \"\",TEXT(INT(P_16号2様式!H52),\"#,##0\"),\"\")","v":"9,718"},{"$f":"IF(P_16号2様式!H52= \"\",\"\",IF(VALUE(FIXED(P_16号2様式!H52,0,TRUE))<>P_16号2様式!H52,RIGHT(FIXED(P_16号2様式!H52,3,FALSE),4),\"\"))","v":""},{"$f":"IF(P_16号2様式!I52<> \"\",TEXT(INT(P_16号2様式!I52),\"#,##0\"),\"\")","v":"213"},{"$f":"IF(P_16号2様式!I52= \"\",\"\",IF(VALUE(FIXED(P_16号2様式!I52,0,TRUE))<>P_16号2様式!I52,RIGHT(FIXED(P_16号2様式!I52,3,FALSE),4),\"\"))","v":""},{"$f":"IF(P_16号2様式!J52<> \"\",TEXT(INT(P_16号2様式!J52),\"#,##0\"),\"\")","v":"9,931"},{"$f":"IF(P_16号2様式!J52= \"\",\"\",IF(VALUE(FIXED(P_16号2様式!J52,0,TRUE))<>P_16号2様式!J52,RIGHT(FIXED(P_16号2様式!J52,3,FALSE),4),\"\"))","v":""},{"$f":"IF(P_16号2様式!K52<> \"\",TEXT(INT(P_16号2様式!K52),\"#,##0\"),\"\")","v":"1"},{"$f":"IF(P_16号2様式!K52= \"\",\"\",IF(VALUE(FIXED(P_16号2様式!K52,0,TRUE))<>P_16号2様式!K52,RIGHT(FIXED(P_16号2様式!K52,3,FALSE),4),\"\"))","v":""},{"$f":"IF(P_16号2様式!L52<> \"\",TEXT(INT(P_16号2様式!L52),\"#,##0\"),\"\")","v":"9,932"},{"$f":"IF(P_16号2様式!L52= \"\",\"\",IF(VALUE(FIXED(P_16号2様式!L52,0,TRUE))<>P_16号2様式!L52,RIGHT(FIXED(P_16号2様式!L52,3,FALSE),4),\"\"))","v":""},{"$f":"IF(P_16号2様式!M52=\"\",\"\",P_16号2様式!M52)","v":2.14479911388581},null,{"$f":"IF(P_16号2様式!N52=\"\",\"\",P_16号2様式!N52)","v":"21:24:00"},null,{"$f":"IF(P_16号2様式!O52=\"\",\"\",P_16号2様式!O52)","v":"確定"}]
[{"$f":"IF(P_16号2様式!C53=\"\",\"\",P_16号2様式!C53)","v":"　指宿市"},null,{"$f":"IF(P_16号2様式!D53=\"\",\"\",P_16号2様式!D53)","v":100},{"$f":"IF(P_16号2様式!E53<> \"\",TEXT(INT(P_16号2様式!E53),\"#,##0\"),\"\")","v":"18,349"},{"$f":"IF(P_16号2様式!E53= \"\",\"\",IF(VALUE(FIXED(P_16号2様式!E53,0,TRUE))<>P_16号2様式!E53,RIGHT(FIXED(P_16号2様式!E53,3,FALSE),4),\"\"))","v":""},{"$f":"IF(P_16号2様式!F53<> \"\",TEXT(INT(P_16号2様式!F53),\"#,##0\"),\"\")","v":"0"},{"$f":"IF(P_16号2様式!F53= \"\",\"\",IF(VALUE(FIXED(P_16号2様式!F53,0,TRUE))<>P_16号2様式!F53,RIGHT(FIXED(P_16号2様式!F53,3,FALSE),4),\"\"))","v":""},{"$f":"IF(P_16号2様式!G53<> \"\",TEXT(INT(P_16号2様式!G53),\"#,##0\"),\"\")","v":"0"},{"$f":"IF(P_16号2様式!G53= \"\",\"\",IF(VALUE(FIXED(P_16号2様式!G53,0,TRUE))<>P_16号2様式!G53,RIGHT(FIXED(P_16号2様式!G53,3,FALSE),4),\"\"))","v":""},{"$f":"IF(P_16号2様式!H53<> \"\",TEXT(INT(P_16号2様式!H53),\"#,##0\"),\"\")","v":"18,349"},{"$f":"IF(P_16号2様式!H53= \"\",\"\",IF(VALUE(FIXED(P_16号2様式!H53,0,TRUE))<>P_16号2様式!H53,RIGHT(FIXED(P_16号2様式!H53,3,FALSE),4),\"\"))","v":""},{"$f":"IF(P_16号2様式!I53<> \"\",TEXT(INT(P_16号2様式!I53),\"#,##0\"),\"\")","v":"463"},{"$f":"IF(P_16号2様式!I53= \"\",\"\",IF(VALUE(FIXED(P_16号2様式!I53,0,TRUE))<>P_16号2様式!I53,RIGHT(FIXED(P_16号2様式!I53,3,FALSE),4),\"\"))","v":""},{"$f":"IF(P_16号2様式!J53<> \"\",TEXT(INT(P_16号2様式!J53),\"#,##0\"),\"\")","v":"18,812"},{"$f":"IF(P_16号2様式!J53= \"\",\"\",IF(VALUE(FIXED(P_16号2様式!J53,0,TRUE))<>P_16号2様式!J53,RIGHT(FIXED(P_16号2様式!J53,3,FALSE),4),\"\"))","v":""},{"$f":"IF(P_16号2様式!K53<> \"\",TEXT(INT(P_16号2様式!K53),\"#,##0\"),\"\")","v":"0"},{"$f":"IF(P_16号2様式!K53= \"\",\"\",IF(VALUE(FIXED(P_16号2様式!K53,0,TRUE))<>P_16号2様式!K53,RIGHT(FIXED(P_16号2様式!K53,3,FALSE),4),\"\"))","v":""},{"$f":"IF(P_16号2様式!L53<> \"\",TEXT(INT(P_16号2様式!L53),\"#,##0\"),\"\")","v":"18,812"},{"$f":"IF(P_16号2様式!L53= \"\",\"\",IF(VALUE(FIXED(P_16号2様式!L53,0,TRUE))<>P_16号2様式!L53,RIGHT(FIXED(P_16号2様式!L53,3,FALSE),4),\"\"))","v":""},{"$f":"IF(P_16号2様式!M53=\"\",\"\",P_16号2様式!M53)","v":2.4611949819264298},null,{"$f":"IF(P_16号2様式!N53=\"\",\"\",P_16号2様式!N53)","v":"23:15:00"},null,{"$f":"IF(P_16号2様式!O53=\"\",\"\",P_16号2様式!O53)","v":"確定"}]
[{"$f":"IF(P_16号2様式!C54=\"\",\"\",P_16号2様式!C54)","v":"　南さつま市"},null,{"$f":"IF(P_16号2様式!D54=\"\",\"\",P_16号2様式!D54)","v":100},{"$f":"IF(P_16号2様式!E54<> \"\",TEXT(INT(P_16号2様式!E54),\"#,##0\"),\"\")","v":"17,419"},{"$f":"IF(P_16号2様式!E54= \"\",\"\",IF(VALUE(FIXED(P_16号2様式!E54,0,TRUE))<>P_16号2様式!E54,RIGHT(FIXED(P_16号2様式!E54,3,FALSE),4),\"\"))","v":""},{"$f":"IF(P_16号2様式!F54<> \"\",TEXT(INT(P_16号2様式!F54),\"#,##0\"),\"\")","v":"0"},{"$f":"IF(P_16号2様式!F54= \"\",\"\",IF(VALUE(FIXED(P_16号2様式!F54,0,TRUE))<>P_16号2様式!F54,RIGHT(FIXED(P_16号2様式!F54,3,FALSE),4),\"\"))","v":""},{"$f":"IF(P_16号2様式!G54<> \"\",TEXT(INT(P_16号2様式!G54),\"#,##0\"),\"\")","v":"0"},{"$f":"IF(P_16号2様式!G54= \"\",\"\",IF(VALUE(FIXED(P_16号2様式!G54,0,TRUE))<>P_16号2様式!G54,RIGHT(FIXED(P_16号2様式!G54,3,FALSE),4),\"\"))","v":""},{"$f":"IF(P_16号2様式!H54<> \"\",TEXT(INT(P_16号2様式!H54),\"#,##0\"),\"\")","v":"17,419"},{"$f":"IF(P_16号2様式!H54= \"\",\"\",IF(VALUE(FIXED(P_16号2様式!H54,0,TRUE))<>P_16号2様式!H54,RIGHT(FIXED(P_16号2様式!H54,3,FALSE),4),\"\"))","v":""},{"$f":"IF(P_16号2様式!I54<> \"\",TEXT(INT(P_16号2様式!I54),\"#,##0\"),\"\")","v":"408"},{"$f":"IF(P_16号2様式!I54= \"\",\"\",IF(VALUE(FIXED(P_16号2様式!I54,0,TRUE))<>P_16号2様式!I54,RIGHT(FIXED(P_16号2様式!I54,3,FALSE),4),\"\"))","v":""},{"$f":"IF(P_16号2様式!J54<> \"\",TEXT(INT(P_16号2様式!J54),\"#,##0\"),\"\")","v":"17,827"},{"$f":"IF(P_16号2様式!J54= \"\",\"\",IF(VALUE(FIXED(P_16号2様式!J54,0,TRUE))<>P_16号2様式!J54,RIGHT(FIXED(P_16号2様式!J54,3,FALSE),4),\"\"))","v":""},{"$f":"IF(P_16号2様式!K54<> \"\",TEXT(INT(P_16号2様式!K54),\"#,##0\"),\"\")","v":"2"},{"$f":"IF(P_16号2様式!K54= \"\",\"\",IF(VALUE(FIXED(P_16号2様式!K54,0,TRUE))<>P_16号2様式!K54,RIGHT(FIXED(P_16号2様式!K54,3,FALSE),4),\"\"))","v":""},{"$f":"IF(P_16号2様式!L54<> \"\",TEXT(INT(P_16号2様式!L54),\"#,##0\"),\"\")","v":"17,829"},{"$f":"IF(P_16号2様式!L54= \"\",\"\",IF(VALUE(FIXED(P_16号2様式!L54,0,TRUE))<>P_16号2様式!L54,RIGHT(FIXED(P_16号2様式!L54,3,FALSE),4),\"\"))","v":""},{"$f":"IF(P_16号2様式!M54=\"\",\"\",P_16号2様式!M54)","v":2.2886632635889401},null,{"$f":"IF(P_16号2様式!N54=\"\",\"\",P_16号2様式!N54)","v":"21:53:00"},null,{"$f":"IF(P_16号2様式!O54=\"\",\"\",P_16号2様式!O54)","v":"確定"}]
[{"$f":"IF(P_16号2様式!C55=\"\",\"\",P_16号2様式!C55)","v":"　奄美市"},null,{"$f":"IF(P_16号2様式!D55=\"\",\"\",P_16号2様式!D55)","v":100},{"$f":"IF(P_16号2様式!E55<> \"\",TEXT(INT(P_16号2様式!E55),\"#,##0\"),\"\")","v":"22,185"},{"$f":"IF(P_16号2様式!E55= \"\",\"\",IF(VALUE(FIXED(P_16号2様式!E55,0,TRUE))<>P_16号2様式!E55,RIGHT(FIXED(P_16号2様式!E55,3,FALSE),4),\"\"))","v":""},{"$f":"IF(P_16号2様式!F55<> \"\",TEXT(INT(P_16号2様式!F55),\"#,##0\"),\"\")","v":"0"},{"$f":"IF(P_16号2様式!F55= \"\",\"\",IF(VALUE(FIXED(P_16号2様式!F55,0,TRUE))<>P_16号2様式!F55,RIGHT(FIXED(P_16号2様式!F55,3,FALSE),4),\"\"))","v":""},{"$f":"IF(P_16号2様式!G55<> \"\",TEXT(INT(P_16号2様式!G55),\"#,##0\"),\"\")","v":"0"},{"$f":"IF(P_16号2様式!G55= \"\",\"\",IF(VALUE(FIXED(P_16号2様式!G55,0,TRUE))<>P_16号2様式!G55,RIGHT(FIXED(P_16号2様式!G55,3,FALSE),4),\"\"))","v":""},{"$f":"IF(P_16号2様式!H55<> \"\",TEXT(INT(P_16号2様式!H55),\"#,##0\"),\"\")","v":"22,185"},{"$f":"IF(P_16号2様式!H55= \"\",\"\",IF(VALUE(FIXED(P_16号2様式!H55,0,TRUE))<>P_16号2様式!H55,RIGHT(FIXED(P_16号2様式!H55,3,FALSE),4),\"\"))","v":""},{"$f":"IF(P_16号2様式!I55<> \"\",TEXT(INT(P_16号2様式!I55),\"#,##0\"),\"\")","v":"392"},{"$f":"IF(P_16号2様式!I55= \"\",\"\",IF(VALUE(FIXED(P_16号2様式!I55,0,TRUE))<>P_16号2様式!I55,RIGHT(FIXED(P_16号2様式!I55,3,FALSE),4),\"\"))","v":""},{"$f":"IF(P_16号2様式!J55<> \"\",TEXT(INT(P_16号2様式!J55),\"#,##0\"),\"\")","v":"22,577"},{"$f":"IF(P_16号2様式!J55= \"\",\"\",IF(VALUE(FIXED(P_16号2様式!J55,0,TRUE))<>P_16号2様式!J55,RIGHT(FIXED(P_16号2様式!J55,3,FALSE),4),\"\"))","v":""},{"$f":"IF(P_16号2様式!K55<> \"\",TEXT(INT(P_16号2様式!K55),\"#,##0\"),\"\")","v":"0"},{"$f":"IF(P_16号2様式!K55= \"\",\"\",IF(VALUE(FIXED(P_16号2様式!K55,0,TRUE))<>P_16号2様式!K55,RIGHT(FIXED(P_16号2様式!K55,3,FALSE),4),\"\"))","v":""},{"$f":"IF(P_16号2様式!L55<> \"\",TEXT(INT(P_16号2様式!L55),\"#,##0\"),\"\")","v":"22,577"},{"$f":"IF(P_16号2様式!L55= \"\",\"\",IF(VALUE(FIXED(P_16号2様式!L55,0,TRUE))<>P_16号2様式!L55,RIGHT(FIXED(P_16号2様式!L55,3,FALSE),4),\"\"))","v":""},{"$f":"IF(P_16号2様式!M55=\"\",\"\",P_16号2様式!M55)","v":1.7362802852460499},null,{"$f":"IF(P_16号2様式!N55=\"\",\"\",P_16号2様式!N55)","v":"22:00:00"},null,{"$f":"IF(P_16号2様式!O55=\"\",\"\",P_16号2様式!O55)","v":"確定"}]
[{"$f":"IF(P_16号2様式!C56=\"\",\"\",P_16号2様式!C56)","v":"　南九州市"},null,{"$f":"IF(P_16号2様式!D56=\"\",\"\",P_16号2様式!D56)","v":100},{"$f":"IF(P_16号2様式!E56<> \"\",TEXT(INT(P_16号2様式!E56),\"#,##0\"),\"\")","v":"17,138"},{"$f":"IF(P_16号2様式!E56= \"\",\"\",IF(VALUE(FIXED(P_16号2様式!E56,0,TRUE))<>P_16号2様式!E56,RIGHT(FIXED(P_16号2様式!E56,3,FALSE),4),\"\"))","v":""},{"$f":"IF(P_16号2様式!F56<> \"\",TEXT(INT(P_16号2様式!F56),\"#,##0\"),\"\")","v":"0"},{"$f":"IF(P_16号2様式!F56= \"\",\"\",IF(VALUE(FIXED(P_16号2様式!F56,0,TRUE))<>P_16号2様式!F56,RIGHT(FIXED(P_16号2様式!F56,3,FALSE),4),\"\"))","v":""},{"$f":"IF(P_16号2様式!G56<> \"\",TEXT(INT(P_16号2様式!G56),\"#,##0\"),\"\")","v":"0"},{"$f":"IF(P_16号2様式!G56= \"\",\"\",IF(VALUE(FIXED(P_16号2様式!G56,0,TRUE))<>P_16号2様式!G56,RIGHT(FIXED(P_16号2様式!G56,3,FALSE),4),\"\"))","v":""},{"$f":"IF(P_16号2様式!H56<> \"\",TEXT(INT(P_16号2様式!H56),\"#,##0\"),\"\")","v":"17,138"},{"$f":"IF(P_16号2様式!H56= \"\",\"\",IF(VALUE(FIXED(P_16号2様式!H56,0,TRUE))<>P_16号2様式!H56,RIGHT(FIXED(P_16号2様式!H56,3,FALSE),4),\"\"))","v":""},{"$f":"IF(P_16号2様式!I56<> \"\",TEXT(INT(P_16号2様式!I56),\"#,##0\"),\"\")","v":"328"},{"$f":"IF(P_16号2様式!I56= \"\",\"\",IF(VALUE(FIXED(P_16号2様式!I56,0,TRUE))<>P_16号2様式!I56,RIGHT(FIXED(P_16号2様式!I56,3,FALSE),4),\"\"))","v":""},{"$f":"IF(P_16号2様式!J56<> \"\",TEXT(INT(P_16号2様式!J56),\"#,##0\"),\"\")","v":"17,466"},{"$f":"IF(P_16号2様式!J56= \"\",\"\",IF(VALUE(FIXED(P_16号2様式!J56,0,TRUE))<>P_16号2様式!J56,RIGHT(FIXED(P_16号2様式!J56,3,FALSE),4),\"\"))","v":""},{"$f":"IF(P_16号2様式!K56<> \"\",TEXT(INT(P_16号2様式!K56),\"#,##0\"),\"\")","v":"0"},{"$f":"IF(P_16号2様式!K56= \"\",\"\",IF(VALUE(FIXED(P_16号2様式!K56,0,TRUE))<>P_16号2様式!K56,RIGHT(FIXED(P_16号2様式!K56,3,FALSE),4),\"\"))","v":""},{"$f":"IF(P_16号2様式!L56<> \"\",TEXT(INT(P_16号2様式!L56),\"#,##0\"),\"\")","v":"17,466"},{"$f":"IF(P_16号2様式!L56= \"\",\"\",IF(VALUE(FIXED(P_16号2様式!L56,0,TRUE))<>P_16号2様式!L56,RIGHT(FIXED(P_16号2様式!L56,3,FALSE),4),\"\"))","v":""},{"$f":"IF(P_16号2様式!M56=\"\",\"\",P_16号2様式!M56)","v":1.8779342723004699},null,{"$f":"IF(P_16号2様式!N56=\"\",\"\",P_16号2様式!N56)","v":"21:14:00"},null,{"$f":"IF(P_16号2様式!O56=\"\",\"\",P_16号2様式!O56)","v":"確定"}]
[{"$f":"IF(P_16号2様式!C57=\"\",\"\",P_16号2様式!C57)","v":"＊市　部    計"},null,{"$f":"IF(P_16号2様式!D57=\"\",\"\",P_16号2様式!D57)","v":100},{"$f":"IF(P_16号2様式!E57<> \"\",TEXT(INT(P_16号2様式!E57),\"#,##0\"),\"\")","v":"149,733"},{"$f":"IF(P_16号2様式!E57= \"\",\"\",IF(VALUE(FIXED(P_16号2様式!E57,0,TRUE))<>P_16号2様式!E57,RIGHT(FIXED(P_16号2様式!E57,3,FALSE),4),\"\"))","v":""},{"$f":"IF(P_16号2様式!F57<> \"\",TEXT(INT(P_16号2様式!F57),\"#,##0\"),\"\")","v":"0"},{"$f":"IF(P_16号2様式!F57= \"\",\"\",IF(VALUE(FIXED(P_16号2様式!F57,0,TRUE))<>P_16号2様式!F57,RIGHT(FIXED(P_16号2様式!F57,3,FALSE),4),\"\"))","v":""},{"$f":"IF(P_16号2様式!G57<> \"\",TEXT(INT(P_16号2様式!G57),\"#,##0\"),\"\")","v":"0"},{"$f":"IF(P_16号2様式!G57= \"\",\"\",IF(VALUE(FIXED(P_16号2様式!G57,0,TRUE))<>P_16号2様式!G57,RIGHT(FIXED(P_16号2様式!G57,3,FALSE),4),\"\"))","v":""},{"$f":"IF(P_16号2様式!H57<> \"\",TEXT(INT(P_16号2様式!H57),\"#,##0\"),\"\")","v":"149,733"},{"$f":"IF(P_16号2様式!H57= \"\",\"\",IF(VALUE(FIXED(P_16号2様式!H57,0,TRUE))<>P_16号2様式!H57,RIGHT(FIXED(P_16号2様式!H57,3,FALSE),4),\"\"))","v":""},{"$f":"IF(P_16号2様式!I57<> \"\",TEXT(INT(P_16号2様式!I57),\"#,##0\"),\"\")","v":"3,528"},{"$f":"IF(P_16号2様式!I57= \"\",\"\",IF(VALUE(FIXED(P_16号2様式!I57,0,TRUE))<>P_16号2様式!I57,RIGHT(FIXED(P_16号2様式!I57,3,FALSE),4),\"\"))","v":""},{"$f":"IF(P_16号2様式!J57<> \"\",TEXT(INT(P_16号2様式!J57),\"#,##0\"),\"\")","v":"153,261"},{"$f":"IF(P_16号2様式!J57= \"\",\"\",IF(VALUE(FIXED(P_16号2様式!J57,0,TRUE))<>P_16号2様式!J57,RIGHT(FIXED(P_16号2様式!J57,3,FALSE),4),\"\"))","v":""},{"$f":"IF(P_16号2様式!K57<> \"\",TEXT(INT(P_16号2様式!K57),\"#,##0\"),\"\")","v":"6"},{"$f":"IF(P_16号2様式!K57= \"\",\"\",IF(VALUE(FIXED(P_16号2様式!K57,0,TRUE))<>P_16号2様式!K57,RIGHT(FIXED(P_16号2様式!K57,3,FALSE),4),\"\"))","v":""},{"$f":"IF(P_16号2様式!L57<> \"\",TEXT(INT(P_16号2様式!L57),\"#,##0\"),\"\")","v":"153,267"},{"$f":"IF(P_16号2様式!L57= \"\",\"\",IF(VALUE(FIXED(P_16号2様式!L57,0,TRUE))<>P_16号2様式!L57,RIGHT(FIXED(P_16号2様式!L57,3,FALSE),4),\"\"))","v":""},{"$f":"IF(P_16号2様式!M57=\"\",\"\",P_16号2様式!M57)","v":2.3019554876974602},null,{"$f":"IF(P_16号2様式!N57=\"\",\"\",P_16号2様式!N57)","v":"01:38:00"},null,{"$f":"IF(P_16号2様式!O57=\"\",\"\",P_16号2様式!O57)","v":"確定"}]
[{"$f":"IF(P_16号2様式!C58=\"\",\"\",P_16号2様式!C58)","v":"　大和村"},null,{"$f":"IF(P_16号2様式!D58=\"\",\"\",P_16号2様式!D58)","v":100},{"$f":"IF(P_16号2様式!E58<> \"\",TEXT(INT(P_16号2様式!E58),\"#,##0\"),\"\")","v":"962"},{"$f":"IF(P_16号2様式!E58= \"\",\"\",IF(VALUE(FIXED(P_16号2様式!E58,0,TRUE))<>P_16号2様式!E58,RIGHT(FIXED(P_16号2様式!E58,3,FALSE),4),\"\"))","v":""},{"$f":"IF(P_16号2様式!F58<> \"\",TEXT(INT(P_16号2様式!F58),\"#,##0\"),\"\")","v":"0"},{"$f":"IF(P_16号2様式!F58= \"\",\"\",IF(VALUE(FIXED(P_16号2様式!F58,0,TRUE))<>P_16号2様式!F58,RIGHT(FIXED(P_16号2様式!F58,3,FALSE),4),\"\"))","v":""},{"$f":"IF(P_16号2様式!G58<> \"\",TEXT(INT(P_16号2様式!G58),\"#,##0\"),\"\")","v":"0"},{"$f":"IF(P_16号2様式!G58= \"\",\"\",IF(VALUE(FIXED(P_16号2様式!G58,0,TRUE))<>P_16号2様式!G58,RIGHT(FIXED(P_16号2様式!G58,3,FALSE),4),\"\"))","v":""},{"$f":"IF(P_16号2様式!H58<> \"\",TEXT(INT(P_16号2様式!H58),\"#,##0\"),\"\")","v":"962"},{"$f":"IF(P_16号2様式!H58= \"\",\"\",IF(VALUE(FIXED(P_16号2様式!H58,0,TRUE))<>P_16号2様式!H58,RIGHT(FIXED(P_16号2様式!H58,3,FALSE),4),\"\"))","v":""},{"$f":"IF(P_16号2様式!I58<> \"\",TEXT(INT(P_16号2様式!I58),\"#,##0\"),\"\")","v":"20"},{"$f":"IF(P_16号2様式!I58= \"\",\"\",IF(VALUE(FIXED(P_16号2様式!I58,0,TRUE))<>P_16号2様式!I58,RIGHT(FIXED(P_16号2様式!I58,3,FALSE),4),\"\"))","v":""},{"$f":"IF(P_16号2様式!J58<> \"\",TEXT(INT(P_16号2様式!J58),\"#,##0\"),\"\")","v":"982"},{"$f":"IF(P_16号2様式!J58= \"\",\"\",IF(VALUE(FIXED(P_16号2様式!J58,0,TRUE))<>P_16号2様式!J58,RIGHT(FIXED(P_16号2様式!J58,3,FALSE),4),\"\"))","v":""},{"$f":"IF(P_16号2様式!K58<> \"\",TEXT(INT(P_16号2様式!K58),\"#,##0\"),\"\")","v":"0"},{"$f":"IF(P_16号2様式!K58= \"\",\"\",IF(VALUE(FIXED(P_16号2様式!K58,0,TRUE))<>P_16号2様式!K58,RIGHT(FIXED(P_16号2様式!K58,3,FALSE),4),\"\"))","v":""},{"$f":"IF(P_16号2様式!L58<> \"\",TEXT(INT(P_16号2様式!L58),\"#,##0\"),\"\")","v":"982"},{"$f":"IF(P_16号2様式!L58= \"\",\"\",IF(VALUE(FIXED(P_16号2様式!L58,0,TRUE))<>P_16号2様式!L58,RIGHT(FIXED(P_16号2様式!L58,3,FALSE),4),\"\"))","v":""},{"$f":"IF(P_16号2様式!M58=\"\",\"\",P_16号2様式!M58)","v":2.0366598778004099},null,{"$f":"IF(P_16号2様式!N58=\"\",\"\",P_16号2様式!N58)","v":"21:56:00"},null,{"$f":"IF(P_16号2様式!O58=\"\",\"\",P_16号2様式!O58)","v":"確定"}]
[{"$f":"IF(P_16号2様式!C59=\"\",\"\",P_16号2様式!C59)","v":"　宇検村"},null,{"$f":"IF(P_16号2様式!D59=\"\",\"\",P_16号2様式!D59)","v":100},{"$f":"IF(P_16号2様式!E59<> \"\",TEXT(INT(P_16号2様式!E59),\"#,##0\"),\"\")","v":"1,324"},{"$f":"IF(P_16号2様式!E59= \"\",\"\",IF(VALUE(FIXED(P_16号2様式!E59,0,TRUE))<>P_16号2様式!E59,RIGHT(FIXED(P_16号2様式!E59,3,FALSE),4),\"\"))","v":""},{"$f":"IF(P_16号2様式!F59<> \"\",TEXT(INT(P_16号2様式!F59),\"#,##0\"),\"\")","v":"0"},{"$f":"IF(P_16号2様式!F59= \"\",\"\",IF(VALUE(FIXED(P_16号2様式!F59,0,TRUE))<>P_16号2様式!F59,RIGHT(FIXED(P_16号2様式!F59,3,FALSE),4),\"\"))","v":""},{"$f":"IF(P_16号2様式!G59<> \"\",TEXT(INT(P_16号2様式!G59),\"#,##0\"),\"\")","v":"0"},{"$f":"IF(P_16号2様式!G59= \"\",\"\",IF(VALUE(FIXED(P_16号2様式!G59,0,TRUE))<>P_16号2様式!G59,RIGHT(FIXED(P_16号2様式!G59,3,FALSE),4),\"\"))","v":""},{"$f":"IF(P_16号2様式!H59<> \"\",TEXT(INT(P_16号2様式!H59),\"#,##0\"),\"\")","v":"1,324"},{"$f":"IF(P_16号2様式!H59= \"\",\"\",IF(VALUE(FIXED(P_16号2様式!H59,0,TRUE))<>P_16号2様式!H59,RIGHT(FIXED(P_16号2様式!H59,3,FALSE),4),\"\"))","v":""},{"$f":"IF(P_16号2様式!I59<> \"\",TEXT(INT(P_16号2様式!I59),\"#,##0\"),\"\")","v":"28"},{"$f":"IF(P_16号2様式!I59= \"\",\"\",IF(VALUE(FIXED(P_16号2様式!I59,0,TRUE))<>P_16号2様式!I59,RIGHT(FIXED(P_16号2様式!I59,3,FALSE),4),\"\"))","v":""},{"$f":"IF(P_16号2様式!J59<> \"\",TEXT(INT(P_16号2様式!J59),\"#,##0\"),\"\")","v":"1,352"},{"$f":"IF(P_16号2様式!J59= \"\",\"\",IF(VALUE(FIXED(P_16号2様式!J59,0,TRUE))<>P_16号2様式!J59,RIGHT(FIXED(P_16号2様式!J59,3,FALSE),4),\"\"))","v":""},{"$f":"IF(P_16号2様式!K59<> \"\",TEXT(INT(P_16号2様式!K59),\"#,##0\"),\"\")","v":"0"},{"$f":"IF(P_16号2様式!K59= \"\",\"\",IF(VALUE(FIXED(P_16号2様式!K59,0,TRUE))<>P_16号2様式!K59,RIGHT(FIXED(P_16号2様式!K59,3,FALSE),4),\"\"))","v":""},{"$f":"IF(P_16号2様式!L59<> \"\",TEXT(INT(P_16号2様式!L59),\"#,##0\"),\"\")","v":"1,352"},{"$f":"IF(P_16号2様式!L59= \"\",\"\",IF(VALUE(FIXED(P_16号2様式!L59,0,TRUE))<>P_16号2様式!L59,RIGHT(FIXED(P_16号2様式!L59,3,FALSE),4),\"\"))","v":""},{"$f":"IF(P_16号2様式!M59=\"\",\"\",P_16号2様式!M59)","v":2.0710059171597601},null,{"$f":"IF(P_16号2様式!N59=\"\",\"\",P_16号2様式!N59)","v":"20:49:00"},null,{"$f":"IF(P_16号2様式!O59=\"\",\"\",P_16号2様式!O59)","v":"確定"}]
[{"$f":"IF(P_16号2様式!C60=\"\",\"\",P_16号2様式!C60)","v":"　瀬戸内町"},null,{"$f":"IF(P_16号2様式!D60=\"\",\"\",P_16号2様式!D60)","v":100},{"$f":"IF(P_16号2様式!E60<> \"\",TEXT(INT(P_16号2様式!E60),\"#,##0\"),\"\")","v":"5,844"},{"$f":"IF(P_16号2様式!E60= \"\",\"\",IF(VALUE(FIXED(P_16号2様式!E60,0,TRUE))<>P_16号2様式!E60,RIGHT(FIXED(P_16号2様式!E60,3,FALSE),4),\"\"))","v":""},{"$f":"IF(P_16号2様式!F60<> \"\",TEXT(INT(P_16号2様式!F60),\"#,##0\"),\"\")","v":"0"},{"$f":"IF(P_16号2様式!F60= \"\",\"\",IF(VALUE(FIXED(P_16号2様式!F60,0,TRUE))<>P_16号2様式!F60,RIGHT(FIXED(P_16号2様式!F60,3,FALSE),4),\"\"))","v":""},{"$f":"IF(P_16号2様式!G60<> \"\",TEXT(INT(P_16号2様式!G60),\"#,##0\"),\"\")","v":"0"},{"$f":"IF(P_16号2様式!G60= \"\",\"\",IF(VALUE(FIXED(P_16号2様式!G60,0,TRUE))<>P_16号2様式!G60,RIGHT(FIXED(P_16号2様式!G60,3,FALSE),4),\"\"))","v":""},{"$f":"IF(P_16号2様式!H60<> \"\",TEXT(INT(P_16号2様式!H60),\"#,##0\"),\"\")","v":"5,844"},{"$f":"IF(P_16号2様式!H60= \"\",\"\",IF(VALUE(FIXED(P_16号2様式!H60,0,TRUE))<>P_16号2様式!H60,RIGHT(FIXED(P_16号2様式!H60,3,FALSE),4),\"\"))","v":""},{"$f":"IF(P_16号2様式!I60<> \"\",TEXT(INT(P_16号2様式!I60),\"#,##0\"),\"\")","v":"129"},{"$f":"IF(P_16号2様式!I60= \"\",\"\",IF(VALUE(FIXED(P_16号2様式!I60,0,TRUE))<>P_16号2様式!I60,RIGHT(FIXED(P_16号2様式!I60,3,FALSE),4),\"\"))","v":""},{"$f":"IF(P_16号2様式!J60<> \"\",TEXT(INT(P_16号2様式!J60),\"#,##0\"),\"\")","v":"5,973"},{"$f":"IF(P_16号2様式!J60= \"\",\"\",IF(VALUE(FIXED(P_16号2様式!J60,0,TRUE))<>P_16号2様式!J60,RIGHT(FIXED(P_16号2様式!J60,3,FALSE),4),\"\"))","v":""},{"$f":"IF(P_16号2様式!K60<> \"\",TEXT(INT(P_16号2様式!K60),\"#,##0\"),\"\")","v":"0"},{"$f":"IF(P_16号2様式!K60= \"\",\"\",IF(VALUE(FIXED(P_16号2様式!K60,0,TRUE))<>P_16号2様式!K60,RIGHT(FIXED(P_16号2様式!K60,3,FALSE),4),\"\"))","v":""},{"$f":"IF(P_16号2様式!L60<> \"\",TEXT(INT(P_16号2様式!L60),\"#,##0\"),\"\")","v":"5,973"},{"$f":"IF(P_16号2様式!L60= \"\",\"\",IF(VALUE(FIXED(P_16号2様式!L60,0,TRUE))<>P_16号2様式!L60,RIGHT(FIXED(P_16号2様式!L60,3,FALSE),4),\"\"))","v":""},{"$f":"IF(P_16号2様式!M60=\"\",\"\",P_16号2様式!M60)","v":2.15971873430437},null,{"$f":"IF(P_16号2様式!N60=\"\",\"\",P_16号2様式!N60)","v":"21:32:00"},null,{"$f":"IF(P_16号2様式!O60=\"\",\"\",P_16号2様式!O60)","v":"確定"}]
[{"$f":"IF(P_16号2様式!C61=\"\",\"\",P_16号2様式!C61)","v":"　龍郷町"},null,{"$f":"IF(P_16号2様式!D61=\"\",\"\",P_16号2様式!D61)","v":100},{"$f":"IF(P_16号2様式!E61<> \"\",TEXT(INT(P_16号2様式!E61),\"#,##0\"),\"\")","v":"4,093"},{"$f":"IF(P_16号2様式!E61= \"\",\"\",IF(VALUE(FIXED(P_16号2様式!E61,0,TRUE))<>P_16号2様式!E61,RIGHT(FIXED(P_16号2様式!E61,3,FALSE),4),\"\"))","v":""},{"$f":"IF(P_16号2様式!F61<> \"\",TEXT(INT(P_16号2様式!F61),\"#,##0\"),\"\")","v":"0"},{"$f":"IF(P_16号2様式!F61= \"\",\"\",IF(VALUE(FIXED(P_16号2様式!F61,0,TRUE))<>P_16号2様式!F61,RIGHT(FIXED(P_16号2様式!F61,3,FALSE),4),\"\"))","v":""},{"$f":"IF(P_16号2様式!G61<> \"\",TEXT(INT(P_16号2様式!G61),\"#,##0\"),\"\")","v":"0"},{"$f":"IF(P_16号2様式!G61= \"\",\"\",IF(VALUE(FIXED(P_16号2様式!G61,0,TRUE))<>P_16号2様式!G61,RIGHT(FIXED(P_16号2様式!G61,3,FALSE),4),\"\"))","v":""},{"$f":"IF(P_16号2様式!H61<> \"\",TEXT(INT(P_16号2様式!H61),\"#,##0\"),\"\")","v":"4,093"},{"$f":"IF(P_16号2様式!H61= \"\",\"\",IF(VALUE(FIXED(P_16号2様式!H61,0,TRUE))<>P_16号2様式!H61,RIGHT(FIXED(P_16号2様式!H61,3,FALSE),4),\"\"))","v":""},{"$f":"IF(P_16号2様式!I61<> \"\",TEXT(INT(P_16号2様式!I61),\"#,##0\"),\"\")","v":"143"},{"$f":"IF(P_16号2様式!I61= \"\",\"\",IF(VALUE(FIXED(P_16号2様式!I61,0,TRUE))<>P_16号2様式!I61,RIGHT(FIXED(P_16号2様式!I61,3,FALSE),4),\"\"))","v":""},{"$f":"IF(P_16号2様式!J61<> \"\",TEXT(INT(P_16号2様式!J61),\"#,##0\"),\"\")","v":"4,236"},{"$f":"IF(P_16号2様式!J61= \"\",\"\",IF(VALUE(FIXED(P_16号2様式!J61,0,TRUE))<>P_16号2様式!J61,RIGHT(FIXED(P_16号2様式!J61,3,FALSE),4),\"\"))","v":""},{"$f":"IF(P_16号2様式!K61<> \"\",TEXT(INT(P_16号2様式!K61),\"#,##0\"),\"\")","v":"0"},{"$f":"IF(P_16号2様式!K61= \"\",\"\",IF(VALUE(FIXED(P_16号2様式!K61,0,TRUE))<>P_16号2様式!K61,RIGHT(FIXED(P_16号2様式!K61,3,FALSE),4),\"\"))","v":""},{"$f":"IF(P_16号2様式!L61<> \"\",TEXT(INT(P_16号2様式!L61),\"#,##0\"),\"\")","v":"4,236"},{"$f":"IF(P_16号2様式!L61= \"\",\"\",IF(VALUE(FIXED(P_16号2様式!L61,0,TRUE))<>P_16号2様式!L61,RIGHT(FIXED(P_16号2様式!L61,3,FALSE),4),\"\"))","v":""},{"$f":"IF(P_16号2様式!M61=\"\",\"\",P_16号2様式!M61)","v":3.3758262511803601},null,{"$f":"IF(P_16号2様式!N61=\"\",\"\",P_16号2様式!N61)","v":"22:05:00"},null,{"$f":"IF(P_16号2様式!O61=\"\",\"\",P_16号2様式!O61)","v":"確定"}]
[{"$f":"IF(P_16号2様式!C62=\"\",\"\",P_16号2様式!C62)","v":"　喜界町"},null,{"$f":"IF(P_16号2様式!D62=\"\",\"\",P_16号2様式!D62)","v":100},{"$f":"IF(P_16号2様式!E62<> \"\",TEXT(INT(P_16号2様式!E62),\"#,##0\"),\"\")","v":"4,184"},{"$f":"IF(P_16号2様式!E62= \"\",\"\",IF(VALUE(FIXED(P_16号2様式!E62,0,TRUE))<>P_16号2様式!E62,RIGHT(FIXED(P_16号2様式!E62,3,FALSE),4),\"\"))","v":""},{"$f":"IF(P_16号2様式!F62<> \"\",TEXT(INT(P_16号2様式!F62),\"#,##0\"),\"\")","v":"0"},{"$f":"IF(P_16号2様式!F62= \"\",\"\",IF(VALUE(FIXED(P_16号2様式!F62,0,TRUE))<>P_16号2様式!F62,RIGHT(FIXED(P_16号2様式!F62,3,FALSE),4),\"\"))","v":""},{"$f":"IF(P_16号2様式!G62<> \"\",TEXT(INT(P_16号2様式!G62),\"#,##0\"),\"\")","v":"0"},{"$f":"IF(P_16号2様式!G62= \"\",\"\",IF(VALUE(FIXED(P_16号2様式!G62,0,TRUE))<>P_16号2様式!G62,RIGHT(FIXED(P_16号2様式!G62,3,FALSE),4),\"\"))","v":""},{"$f":"IF(P_16号2様式!H62<> \"\",TEXT(INT(P_16号2様式!H62),\"#,##0\"),\"\")","v":"4,184"},{"$f":"IF(P_16号2様式!H62= \"\",\"\",IF(VALUE(FIXED(P_16号2様式!H62,0,TRUE))<>P_16号2様式!H62,RIGHT(FIXED(P_16号2様式!H62,3,FALSE),4),\"\"))","v":""},{"$f":"IF(P_16号2様式!I62<> \"\",TEXT(INT(P_16号2様式!I62),\"#,##0\"),\"\")","v":"133"},{"$f":"IF(P_16号2様式!I62= \"\",\"\",IF(VALUE(FIXED(P_16号2様式!I62,0,TRUE))<>P_16号2様式!I62,RIGHT(FIXED(P_16号2様式!I62,3,FALSE),4),\"\"))","v":""},{"$f":"IF(P_16号2様式!J62<> \"\",TEXT(INT(P_16号2様式!J62),\"#,##0\"),\"\")","v":"4,317"},{"$f":"IF(P_16号2様式!J62= \"\",\"\",IF(VALUE(FIXED(P_16号2様式!J62,0,TRUE))<>P_16号2様式!J62,RIGHT(FIXED(P_16号2様式!J62,3,FALSE),4),\"\"))","v":""},{"$f":"IF(P_16号2様式!K62<> \"\",TEXT(INT(P_16号2様式!K62),\"#,##0\"),\"\")","v":"0"},{"$f":"IF(P_16号2様式!K62= \"\",\"\",IF(VALUE(FIXED(P_16号2様式!K62,0,TRUE))<>P_16号2様式!K62,RIGHT(FIXED(P_16号2様式!K62,3,FALSE),4),\"\"))","v":""},{"$f":"IF(P_16号2様式!L62<> \"\",TEXT(INT(P_16号2様式!L62),\"#,##0\"),\"\")","v":"4,317"},{"$f":"IF(P_16号2様式!L62= \"\",\"\",IF(VALUE(FIXED(P_16号2様式!L62,0,TRUE))<>P_16号2様式!L62,RIGHT(FIXED(P_16号2様式!L62,3,FALSE),4),\"\"))","v":""},{"$f":"IF(P_16号2様式!M62=\"\",\"\",P_16号2様式!M62)","v":3.0808431781329602},null,{"$f":"IF(P_16号2様式!N62=\"\",\"\",P_16号2様式!N62)","v":"21:35:00"},null,{"$f":"IF(P_16号2様式!O62=\"\",\"\",P_16号2様式!O62)","v":"確定"}]
[{"$f":"IF(P_16号2様式!C63=\"\",\"\",P_16号2様式!C63)","v":"　徳之島町"},null,{"$f":"IF(P_16号2様式!D63=\"\",\"\",P_16号2様式!D63)","v":100},{"$f":"IF(P_16号2様式!E63<> \"\",TEXT(INT(P_16号2様式!E63),\"#,##0\"),\"\")","v":"5,940"},{"$f":"IF(P_16号2様式!E63= \"\",\"\",IF(VALUE(FIXED(P_16号2様式!E63,0,TRUE))<>P_16号2様式!E63,RIGHT(FIXED(P_16号2様式!E63,3,FALSE),4),\"\"))","v":""},{"$f":"IF(P_16号2様式!F63<> \"\",TEXT(INT(P_16号2様式!F63),\"#,##0\"),\"\")","v":"0"},{"$f":"IF(P_16号2様式!F63= \"\",\"\",IF(VALUE(FIXED(P_16号2様式!F63,0,TRUE))<>P_16号2様式!F63,RIGHT(FIXED(P_16号2様式!F63,3,FALSE),4),\"\"))","v":""},{"$f":"IF(P_16号2様式!G63<> \"\",TEXT(INT(P_16号2様式!G63),\"#,##0\"),\"\")","v":"0"},{"$f":"IF(P_16号2様式!G63= \"\",\"\",IF(VALUE(FIXED(P_16号2様式!G63,0,TRUE))<>P_16号2様式!G63,RIGHT(FIXED(P_16号2様式!G63,3,FALSE),4),\"\"))","v":""},{"$f":"IF(P_16号2様式!H63<> \"\",TEXT(INT(P_16号2様式!H63),\"#,##0\"),\"\")","v":"5,940"},{"$f":"IF(P_16号2様式!H63= \"\",\"\",IF(VALUE(FIXED(P_16号2様式!H63,0,TRUE))<>P_16号2様式!H63,RIGHT(FIXED(P_16号2様式!H63,3,FALSE),4),\"\"))","v":""},{"$f":"IF(P_16号2様式!I63<> \"\",TEXT(INT(P_16号2様式!I63),\"#,##0\"),\"\")","v":"98"},{"$f":"IF(P_16号2様式!I63= \"\",\"\",IF(VALUE(FIXED(P_16号2様式!I63,0,TRUE))<>P_16号2様式!I63,RIGHT(FIXED(P_16号2様式!I63,3,FALSE),4),\"\"))","v":""},{"$f":"IF(P_16号2様式!J63<> \"\",TEXT(INT(P_16号2様式!J63),\"#,##0\"),\"\")","v":"6,038"},{"$f":"IF(P_16号2様式!J63= \"\",\"\",IF(VALUE(FIXED(P_16号2様式!J63,0,TRUE))<>P_16号2様式!J63,RIGHT(FIXED(P_16号2様式!J63,3,FALSE),4),\"\"))","v":""},{"$f":"IF(P_16号2様式!K63<> \"\",TEXT(INT(P_16号2様式!K63),\"#,##0\"),\"\")","v":"0"},{"$f":"IF(P_16号2様式!K63= \"\",\"\",IF(VALUE(FIXED(P_16号2様式!K63,0,TRUE))<>P_16号2様式!K63,RIGHT(FIXED(P_16号2様式!K63,3,FALSE),4),\"\"))","v":""},{"$f":"IF(P_16号2様式!L63<> \"\",TEXT(INT(P_16号2様式!L63),\"#,##0\"),\"\")","v":"6,038"},{"$f":"IF(P_16号2様式!L63= \"\",\"\",IF(VALUE(FIXED(P_16号2様式!L63,0,TRUE))<>P_16号2様式!L63,RIGHT(FIXED(P_16号2様式!L63,3,FALSE),4),\"\"))","v":""},{"$f":"IF(P_16号2様式!M63=\"\",\"\",P_16号2様式!M63)","v":1.6230539913878801},null,{"$f":"IF(P_16号2様式!N63=\"\",\"\",P_16号2様式!N63)","v":"23:05:00"},null,{"$f":"IF(P_16号2様式!O63=\"\",\"\",P_16号2様式!O63)","v":"確定"}]
[{"$f":"IF(P_16号2様式!C64=\"\",\"\",P_16号2様式!C64)","v":"　天城町"},null,{"$f":"IF(P_16号2様式!D64=\"\",\"\",P_16号2様式!D64)","v":100},{"$f":"IF(P_16号2様式!E64<> \"\",TEXT(INT(P_16号2様式!E64),\"#,##0\"),\"\")","v":"3,383"},{"$f":"IF(P_16号2様式!E64= \"\",\"\",IF(VALUE(FIXED(P_16号2様式!E64,0,TRUE))<>P_16号2様式!E64,RIGHT(FIXED(P_16号2様式!E64,3,FALSE),4),\"\"))","v":""},{"$f":"IF(P_16号2様式!F64<> \"\",TEXT(INT(P_16号2様式!F64),\"#,##0\"),\"\")","v":"0"},{"$f":"IF(P_16号2様式!F64= \"\",\"\",IF(VALUE(FIXED(P_16号2様式!F64,0,TRUE))<>P_16号2様式!F64,RIGHT(FIXED(P_16号2様式!F64,3,FALSE),4),\"\"))","v":""},{"$f":"IF(P_16号2様式!G64<> \"\",TEXT(INT(P_16号2様式!G64),\"#,##0\"),\"\")","v":"0"},{"$f":"IF(P_16号2様式!G64= \"\",\"\",IF(VALUE(FIXED(P_16号2様式!G64,0,TRUE))<>P_16号2様式!G64,RIGHT(FIXED(P_16号2様式!G64,3,FALSE),4),\"\"))","v":""},{"$f":"IF(P_16号2様式!H64<> \"\",TEXT(INT(P_16号2様式!H64),\"#,##0\"),\"\")","v":"3,383"},{"$f":"IF(P_16号2様式!H64= \"\",\"\",IF(VALUE(FIXED(P_16号2様式!H64,0,TRUE))<>P_16号2様式!H64,RIGHT(FIXED(P_16号2様式!H64,3,FALSE),4),\"\"))","v":""},{"$f":"IF(P_16号2様式!I64<> \"\",TEXT(INT(P_16号2様式!I64),\"#,##0\"),\"\")","v":"77"},{"$f":"IF(P_16号2様式!I64= \"\",\"\",IF(VALUE(FIXED(P_16号2様式!I64,0,TRUE))<>P_16号2様式!I64,RIGHT(FIXED(P_16号2様式!I64,3,FALSE),4),\"\"))","v":""},{"$f":"IF(P_16号2様式!J64<> \"\",TEXT(INT(P_16号2様式!J64),\"#,##0\"),\"\")","v":"3,460"},{"$f":"IF(P_16号2様式!J64= \"\",\"\",IF(VALUE(FIXED(P_16号2様式!J64,0,TRUE))<>P_16号2様式!J64,RIGHT(FIXED(P_16号2様式!J64,3,FALSE),4),\"\"))","v":""},{"$f":"IF(P_16号2様式!K64<> \"\",TEXT(INT(P_16号2様式!K64),\"#,##0\"),\"\")","v":"0"},{"$f":"IF(P_16号2様式!K64= \"\",\"\",IF(VALUE(FIXED(P_16号2様式!K64,0,TRUE))<>P_16号2様式!K64,RIGHT(FIXED(P_16号2様式!K64,3,FALSE),4),\"\"))","v":""},{"$f":"IF(P_16号2様式!L64<> \"\",TEXT(INT(P_16号2様式!L64),\"#,##0\"),\"\")","v":"3,460"},{"$f":"IF(P_16号2様式!L64= \"\",\"\",IF(VALUE(FIXED(P_16号2様式!L64,0,TRUE))<>P_16号2様式!L64,RIGHT(FIXED(P_16号2様式!L64,3,FALSE),4),\"\"))","v":""},{"$f":"IF(P_16号2様式!M64=\"\",\"\",P_16号2様式!M64)","v":2.2254335260115599},null,{"$f":"IF(P_16号2様式!N64=\"\",\"\",P_16号2様式!N64)","v":"21:30:00"},null,{"$f":"IF(P_16号2様式!O64=\"\",\"\",P_16号2様式!O64)","v":"確定"}]
[{"$f":"IF(P_16号2様式!C65=\"\",\"\",P_16号2様式!C65)","v":"　伊仙町"},null,{"$f":"IF(P_16号2様式!D65=\"\",\"\",P_16号2様式!D65)","v":100},{"$f":"IF(P_16号2様式!E65<> \"\",TEXT(INT(P_16号2様式!E65),\"#,##0\"),\"\")","v":"4,772"},{"$f":"IF(P_16号2様式!E65= \"\",\"\",IF(VALUE(FIXED(P_16号2様式!E65,0,TRUE))<>P_16号2様式!E65,RIGHT(FIXED(P_16号2様式!E65,3,FALSE),4),\"\"))","v":""},{"$f":"IF(P_16号2様式!F65<> \"\",TEXT(INT(P_16号2様式!F65),\"#,##0\"),\"\")","v":"0"},{"$f":"IF(P_16号2様式!F65= \"\",\"\",IF(VALUE(FIXED(P_16号2様式!F65,0,TRUE))<>P_16号2様式!F65,RIGHT(FIXED(P_16号2様式!F65,3,FALSE),4),\"\"))","v":""},{"$f":"IF(P_16号2様式!G65<> \"\",TEXT(INT(P_16号2様式!G65),\"#,##0\"),\"\")","v":"0"},{"$f":"IF(P_16号2様式!G65= \"\",\"\",IF(VALUE(FIXED(P_16号2様式!G65,0,TRUE))<>P_16号2様式!G65,RIGHT(FIXED(P_16号2様式!G65,3,FALSE),4),\"\"))","v":""},{"$f":"IF(P_16号2様式!H65<> \"\",TEXT(INT(P_16号2様式!H65),\"#,##0\"),\"\")","v":"4,772"},{"$f":"IF(P_16号2様式!H65= \"\",\"\",IF(VALUE(FIXED(P_16号2様式!H65,0,TRUE))<>P_16号2様式!H65,RIGHT(FIXED(P_16号2様式!H65,3,FALSE),4),\"\"))","v":""},{"$f":"IF(P_16号2様式!I65<> \"\",TEXT(INT(P_16号2様式!I65),\"#,##0\"),\"\")","v":"335"},{"$f":"IF(P_16号2様式!I65= \"\",\"\",IF(VALUE(FIXED(P_16号2様式!I65,0,TRUE))<>P_16号2様式!I65,RIGHT(FIXED(P_16号2様式!I65,3,FALSE),4),\"\"))","v":""},{"$f":"IF(P_16号2様式!J65<> \"\",TEXT(INT(P_16号2様式!J65),\"#,##0\"),\"\")","v":"5,107"},{"$f":"IF(P_16号2様式!J65= \"\",\"\",IF(VALUE(FIXED(P_16号2様式!J65,0,TRUE))<>P_16号2様式!J65,RIGHT(FIXED(P_16号2様式!J65,3,FALSE),4),\"\"))","v":""},{"$f":"IF(P_16号2様式!K65<> \"\",TEXT(INT(P_16号2様式!K65),\"#,##0\"),\"\")","v":"0"},{"$f":"IF(P_16号2様式!K65= \"\",\"\",IF(VALUE(FIXED(P_16号2様式!K65,0,TRUE))<>P_16号2様式!K65,RIGHT(FIXED(P_16号2様式!K65,3,FALSE),4),\"\"))","v":""},{"$f":"IF(P_16号2様式!L65<> \"\",TEXT(INT(P_16号2様式!L65),\"#,##0\"),\"\")","v":"5,107"},{"$f":"IF(P_16号2様式!L65= \"\",\"\",IF(VALUE(FIXED(P_16号2様式!L65,0,TRUE))<>P_16号2様式!L65,RIGHT(FIXED(P_16号2様式!L65,3,FALSE),4),\"\"))","v":""},{"$f":"IF(P_16号2様式!M65=\"\",\"\",P_16号2様式!M65)","v":6.5596240454278396},null,{"$f":"IF(P_16号2様式!N65=\"\",\"\",P_16号2様式!N65)","v":"22:08:00"},null,{"$f":"IF(P_16号2様式!O65=\"\",\"\",P_16号2様式!O65)","v":"確定"}]
[{"$f":"IF(P_16号2様式!C66=\"\",\"\",P_16号2様式!C66)","v":"　和泊町"},null,{"$f":"IF(P_16号2様式!D66=\"\",\"\",P_16号2様式!D66)","v":100},{"$f":"IF(P_16号2様式!E66<> \"\",TEXT(INT(P_16号2様式!E66),\"#,##0\"),\"\")","v":"3,926"},{"$f":"IF(P_16号2様式!E66= \"\",\"\",IF(VALUE(FIXED(P_16号2様式!E66,0,TRUE))<>P_16号2様式!E66,RIGHT(FIXED(P_16号2様式!E66,3,FALSE),4),\"\"))","v":""},{"$f":"IF(P_16号2様式!F66<> \"\",TEXT(INT(P_16号2様式!F66),\"#,##0\"),\"\")","v":"0"},{"$f":"IF(P_16号2様式!F66= \"\",\"\",IF(VALUE(FIXED(P_16号2様式!F66,0,TRUE))<>P_16号2様式!F66,RIGHT(FIXED(P_16号2様式!F66,3,FALSE),4),\"\"))","v":""},{"$f":"IF(P_16号2様式!G66<> \"\",TEXT(INT(P_16号2様式!G66),\"#,##0\"),\"\")","v":"0"},{"$f":"IF(P_16号2様式!G66= \"\",\"\",IF(VALUE(FIXED(P_16号2様式!G66,0,TRUE))<>P_16号2様式!G66,RIGHT(FIXED(P_16号2様式!G66,3,FALSE),4),\"\"))","v":""},{"$f":"IF(P_16号2様式!H66<> \"\",TEXT(INT(P_16号2様式!H66),\"#,##0\"),\"\")","v":"3,926"},{"$f":"IF(P_16号2様式!H66= \"\",\"\",IF(VALUE(FIXED(P_16号2様式!H66,0,TRUE))<>P_16号2様式!H66,RIGHT(FIXED(P_16号2様式!H66,3,FALSE),4),\"\"))","v":""},{"$f":"IF(P_16号2様式!I66<> \"\",TEXT(INT(P_16号2様式!I66),\"#,##0\"),\"\")","v":"56"},{"$f":"IF(P_16号2様式!I66= \"\",\"\",IF(VALUE(FIXED(P_16号2様式!I66,0,TRUE))<>P_16号2様式!I66,RIGHT(FIXED(P_16号2様式!I66,3,FALSE),4),\"\"))","v":""},{"$f":"IF(P_16号2様式!J66<> \"\",TEXT(INT(P_16号2様式!J66),\"#,##0\"),\"\")","v":"3,982"},{"$f":"IF(P_16号2様式!J66= \"\",\"\",IF(VALUE(FIXED(P_16号2様式!J66,0,TRUE))<>P_16号2様式!J66,RIGHT(FIXED(P_16号2様式!J66,3,FALSE),4),\"\"))","v":""},{"$f":"IF(P_16号2様式!K66<> \"\",TEXT(INT(P_16号2様式!K66),\"#,##0\"),\"\")","v":"0"},{"$f":"IF(P_16号2様式!K66= \"\",\"\",IF(VALUE(FIXED(P_16号2様式!K66,0,TRUE))<>P_16号2様式!K66,RIGHT(FIXED(P_16号2様式!K66,3,FALSE),4),\"\"))","v":""},{"$f":"IF(P_16号2様式!L66<> \"\",TEXT(INT(P_16号2様式!L66),\"#,##0\"),\"\")","v":"3,982"},{"$f":"IF(P_16号2様式!L66= \"\",\"\",IF(VALUE(FIXED(P_16号2様式!L66,0,TRUE))<>P_16号2様式!L66,RIGHT(FIXED(P_16号2様式!L66,3,FALSE),4),\"\"))","v":""},{"$f":"IF(P_16号2様式!M66=\"\",\"\",P_16号2様式!M66)","v":1.4063284781516801},null,{"$f":"IF(P_16号2様式!N66=\"\",\"\",P_16号2様式!N66)","v":"21:52:00"},null,{"$f":"IF(P_16号2様式!O66=\"\",\"\",P_16号2様式!O66)","v":"確定"}]
[{"$f":"IF(P_16号2様式!C67=\"\",\"\",P_16号2様式!C67)","v":"　知名町"},null,{"$f":"IF(P_16号2様式!D67=\"\",\"\",P_16号2様式!D67)","v":100},{"$f":"IF(P_16号2様式!E67<> \"\",TEXT(INT(P_16号2様式!E67),\"#,##0\"),\"\")","v":"3,500"},{"$f":"IF(P_16号2様式!E67= \"\",\"\",IF(VALUE(FIXED(P_16号2様式!E67,0,TRUE))<>P_16号2様式!E67,RIGHT(FIXED(P_16号2様式!E67,3,FALSE),4),\"\"))","v":""},{"$f":"IF(P_16号2様式!F67<> \"\",TEXT(INT(P_16号2様式!F67),\"#,##0\"),\"\")","v":"0"},{"$f":"IF(P_16号2様式!F67= \"\",\"\",IF(VALUE(FIXED(P_16号2様式!F67,0,TRUE))<>P_16号2様式!F67,RIGHT(FIXED(P_16号2様式!F67,3,FALSE),4),\"\"))","v":""},{"$f":"IF(P_16号2様式!G67<> \"\",TEXT(INT(P_16号2様式!G67),\"#,##0\"),\"\")","v":"0"},{"$f":"IF(P_16号2様式!G67= \"\",\"\",IF(VALUE(FIXED(P_16号2様式!G67,0,TRUE))<>P_16号2様式!G67,RIGHT(FIXED(P_16号2様式!G67,3,FALSE),4),\"\"))","v":""},{"$f":"IF(P_16号2様式!H67<> \"\",TEXT(INT(P_16号2様式!H67),\"#,##0\"),\"\")","v":"3,500"},{"$f":"IF(P_16号2様式!H67= \"\",\"\",IF(VALUE(FIXED(P_16号2様式!H67,0,TRUE))<>P_16号2様式!H67,RIGHT(FIXED(P_16号2様式!H67,3,FALSE),4),\"\"))","v":""},{"$f":"IF(P_16号2様式!I67<> \"\",TEXT(INT(P_16号2様式!I67),\"#,##0\"),\"\")","v":"79"},{"$f":"IF(P_16号2様式!I67= \"\",\"\",IF(VALUE(FIXED(P_16号2様式!I67,0,TRUE))<>P_16号2様式!I67,RIGHT(FIXED(P_16号2様式!I67,3,FALSE),4),\"\"))","v":""},{"$f":"IF(P_16号2様式!J67<> \"\",TEXT(INT(P_16号2様式!J67),\"#,##0\"),\"\")","v":"3,579"},{"$f":"IF(P_16号2様式!J67= \"\",\"\",IF(VALUE(FIXED(P_16号2様式!J67,0,TRUE))<>P_16号2様式!J67,RIGHT(FIXED(P_16号2様式!J67,3,FALSE),4),\"\"))","v":""},{"$f":"IF(P_16号2様式!K67<> \"\",TEXT(INT(P_16号2様式!K67),\"#,##0\"),\"\")","v":"0"},{"$f":"IF(P_16号2様式!K67= \"\",\"\",IF(VALUE(FIXED(P_16号2様式!K67,0,TRUE))<>P_16号2様式!K67,RIGHT(FIXED(P_16号2様式!K67,3,FALSE),4),\"\"))","v":""},{"$f":"IF(P_16号2様式!L67<> \"\",TEXT(INT(P_16号2様式!L67),\"#,##0\"),\"\")","v":"3,579"},{"$f":"IF(P_16号2様式!L67= \"\",\"\",IF(VALUE(FIXED(P_16号2様式!L67,0,TRUE))<>P_16号2様式!L67,RIGHT(FIXED(P_16号2様式!L67,3,FALSE),4),\"\"))","v":""},{"$f":"IF(P_16号2様式!M67=\"\",\"\",P_16号2様式!M67)","v":2.2073204805811701},null,{"$f":"IF(P_16号2様式!N67=\"\",\"\",P_16号2様式!N67)","v":"21:53:00"},null,{"$f":"IF(P_16号2様式!O67=\"\",\"\",P_16号2様式!O67)","v":"確定"}]
[{"$f":"IF(P_16号2様式!C68=\"\",\"\",P_16号2様式!C68)","v":"　与論町"},null,{"$f":"IF(P_16号2様式!D68=\"\",\"\",P_16号2様式!D68)","v":100},{"$f":"IF(P_16号2様式!E68<> \"\",TEXT(INT(P_16号2様式!E68),\"#,##0\"),\"\")","v":"3,010"},{"$f":"IF(P_16号2様式!E68= \"\",\"\",IF(VALUE(FIXED(P_16号2様式!E68,0,TRUE))<>P_16号2様式!E68,RIGHT(FIXED(P_16号2様式!E68,3,FALSE),4),\"\"))","v":""},{"$f":"IF(P_16号2様式!F68<> \"\",TEXT(INT(P_16号2様式!F68),\"#,##0\"),\"\")","v":"0"},{"$f":"IF(P_16号2様式!F68= \"\",\"\",IF(VALUE(FIXED(P_16号2様式!F68,0,TRUE))<>P_16号2様式!F68,RIGHT(FIXED(P_16号2様式!F68,3,FALSE),4),\"\"))","v":""},{"$f":"IF(P_16号2様式!G68<> \"\",TEXT(INT(P_16号2様式!G68),\"#,##0\"),\"\")","v":"0"},{"$f":"IF(P_16号2様式!G68= \"\",\"\",IF(VALUE(FIXED(P_16号2様式!G68,0,TRUE))<>P_16号2様式!G68,RIGHT(FIXED(P_16号2様式!G68,3,FALSE),4),\"\"))","v":""},{"$f":"IF(P_16号2様式!H68<> \"\",TEXT(INT(P_16号2様式!H68),\"#,##0\"),\"\")","v":"3,010"},{"$f":"IF(P_16号2様式!H68= \"\",\"\",IF(VALUE(FIXED(P_16号2様式!H68,0,TRUE))<>P_16号2様式!H68,RIGHT(FIXED(P_16号2様式!H68,3,FALSE),4),\"\"))","v":""},{"$f":"IF(P_16号2様式!I68<> \"\",TEXT(INT(P_16号2様式!I68),\"#,##0\"),\"\")","v":"64"},{"$f":"IF(P_16号2様式!I68= \"\",\"\",IF(VALUE(FIXED(P_16号2様式!I68,0,TRUE))<>P_16号2様式!I68,RIGHT(FIXED(P_16号2様式!I68,3,FALSE),4),\"\"))","v":""},{"$f":"IF(P_16号2様式!J68<> \"\",TEXT(INT(P_16号2様式!J68),\"#,##0\"),\"\")","v":"3,074"},{"$f":"IF(P_16号2様式!J68= \"\",\"\",IF(VALUE(FIXED(P_16号2様式!J68,0,TRUE))<>P_16号2様式!J68,RIGHT(FIXED(P_16号2様式!J68,3,FALSE),4),\"\"))","v":""},{"$f":"IF(P_16号2様式!K68<> \"\",TEXT(INT(P_16号2様式!K68),\"#,##0\"),\"\")","v":"-1"},{"$f":"IF(P_16号2様式!K68= \"\",\"\",IF(VALUE(FIXED(P_16号2様式!K68,0,TRUE))<>P_16号2様式!K68,RIGHT(FIXED(P_16号2様式!K68,3,FALSE),4),\"\"))","v":""},{"$f":"IF(P_16号2様式!L68<> \"\",TEXT(INT(P_16号2様式!L68),\"#,##0\"),\"\")","v":"3,073"},{"$f":"IF(P_16号2様式!L68= \"\",\"\",IF(VALUE(FIXED(P_16号2様式!L68,0,TRUE))<>P_16号2様式!L68,RIGHT(FIXED(P_16号2様式!L68,3,FALSE),4),\"\"))","v":""},{"$f":"IF(P_16号2様式!M68=\"\",\"\",P_16号2様式!M68)","v":2.0819778789850401},null,{"$f":"IF(P_16号2様式!N68=\"\",\"\",P_16号2様式!N68)","v":"23:13:00"},null,{"$f":"IF(P_16号2様式!O68=\"\",\"\",P_16号2様式!O68)","v":"確定"}]
[{"$f":"IF(P_16号2様式!C69=\"\",\"\",P_16号2様式!C69)","v":"＊（大島郡）計"},null,{"$f":"IF(P_16号2様式!D69=\"\",\"\",P_16号2様式!D69)","v":100},{"$f":"IF(P_16号2様式!E69<> \"\",TEXT(INT(P_16号2様式!E69),\"#,##0\"),\"\")","v":"40,938"},{"$f":"IF(P_16号2様式!E69= \"\",\"\",IF(VALUE(FIXED(P_16号2様式!E69,0,TRUE))<>P_16号2様式!E69,RIGHT(FIXED(P_16号2様式!E69,3,FALSE),4),\"\"))","v":""},{"$f":"IF(P_16号2様式!F69<> \"\",TEXT(INT(P_16号2様式!F69),\"#,##0\"),\"\")","v":"0"},{"$f":"IF(P_16号2様式!F69= \"\",\"\",IF(VALUE(FIXED(P_16号2様式!F69,0,TRUE))<>P_16号2様式!F69,RIGHT(FIXED(P_16号2様式!F69,3,FALSE),4),\"\"))","v":""},{"$f":"IF(P_16号2様式!G69<> \"\",TEXT(INT(P_16号2様式!G69),\"#,##0\"),\"\")","v":"0"},{"$f":"IF(P_16号2様式!G69= \"\",\"\",IF(VALUE(FIXED(P_16号2様式!G69,0,TRUE))<>P_16号2様式!G69,RIGHT(FIXED(P_16号2様式!G69,3,FALSE),4),\"\"))","v":""},{"$f":"IF(P_16号2様式!H69<> \"\",TEXT(INT(P_16号2様式!H69),\"#,##0\"),\"\")","v":"40,938"},{"$f":"IF(P_16号2様式!H69= \"\",\"\",IF(VALUE(FIXED(P_16号2様式!H69,0,TRUE))<>P_16号2様式!H69,RIGHT(FIXED(P_16号2様式!H69,3,FALSE),4),\"\"))","v":""},{"$f":"IF(P_16号2様式!I69<> \"\",TEXT(INT(P_16号2様式!I69),\"#,##0\"),\"\")","v":"1,162"},{"$f":"IF(P_16号2様式!I69= \"\",\"\",IF(VALUE(FIXED(P_16号2様式!I69,0,TRUE))<>P_16号2様式!I69,RIGHT(FIXED(P_16号2様式!I69,3,FALSE),4),\"\"))","v":""},{"$f":"IF(P_16号2様式!J69<> \"\",TEXT(INT(P_16号2様式!J69),\"#,##0\"),\"\")","v":"42,100"},{"$f":"IF(P_16号2様式!J69= \"\",\"\",IF(VALUE(FIXED(P_16号2様式!J69,0,TRUE))<>P_16号2様式!J69,RIGHT(FIXED(P_16号2様式!J69,3,FALSE),4),\"\"))","v":""},{"$f":"IF(P_16号2様式!K69<> \"\",TEXT(INT(P_16号2様式!K69),\"#,##0\"),\"\")","v":"-1"},{"$f":"IF(P_16号2様式!K69= \"\",\"\",IF(VALUE(FIXED(P_16号2様式!K69,0,TRUE))<>P_16号2様式!K69,RIGHT(FIXED(P_16号2様式!K69,3,FALSE),4),\"\"))","v":""},{"$f":"IF(P_16号2様式!L69<> \"\",TEXT(INT(P_16号2様式!L69),\"#,##0\"),\"\")","v":"42,099"},{"$f":"IF(P_16号2様式!L69= \"\",\"\",IF(VALUE(FIXED(P_16号2様式!L69,0,TRUE))<>P_16号2様式!L69,RIGHT(FIXED(P_16号2様式!L69,3,FALSE),4),\"\"))","v":""},{"$f":"IF(P_16号2様式!M69=\"\",\"\",P_16号2様式!M69)","v":2.76009501187648},null,{"$f":"IF(P_16号2様式!N69=\"\",\"\",P_16号2様式!N69)","v":"23:13:00"},null,{"$f":"IF(P_16号2様式!O69=\"\",\"\",P_16号2様式!O69)","v":"確定"}]
[{"$f":"IF(P_16号2様式!C70=\"\",\"\",P_16号2様式!C70)","v":"＊郡　部    計"},null,{"$f":"IF(P_16号2様式!D70=\"\",\"\",P_16号2様式!D70)","v":100},{"$f":"IF(P_16号2様式!E70<> \"\",TEXT(INT(P_16号2様式!E70),\"#,##0\"),\"\")","v":"40,938"},{"$f":"IF(P_16号2様式!E70= \"\",\"\",IF(VALUE(FIXED(P_16号2様式!E70,0,TRUE))<>P_16号2様式!E70,RIGHT(FIXED(P_16号2様式!E70,3,FALSE),4),\"\"))","v":""},{"$f":"IF(P_16号2様式!F70<> \"\",TEXT(INT(P_16号2様式!F70),\"#,##0\"),\"\")","v":"0"},{"$f":"IF(P_16号2様式!F70= \"\",\"\",IF(VALUE(FIXED(P_16号2様式!F70,0,TRUE))<>P_16号2様式!F70,RIGHT(FIXED(P_16号2様式!F70,3,FALSE),4),\"\"))","v":""},{"$f":"IF(P_16号2様式!G70<> \"\",TEXT(INT(P_16号2様式!G70),\"#,##0\"),\"\")","v":"0"},{"$f":"IF(P_16号2様式!G70= \"\",\"\",IF(VALUE(FIXED(P_16号2様式!G70,0,TRUE))<>P_16号2様式!G70,RIGHT(FIXED(P_16号2様式!G70,3,FALSE),4),\"\"))","v":""},{"$f":"IF(P_16号2様式!H70<> \"\",TEXT(INT(P_16号2様式!H70),\"#,##0\"),\"\")","v":"40,938"},{"$f":"IF(P_16号2様式!H70= \"\",\"\",IF(VALUE(FIXED(P_16号2様式!H70,0,TRUE))<>P_16号2様式!H70,RIGHT(FIXED(P_16号2様式!H70,3,FALSE),4),\"\"))","v":""},{"$f":"IF(P_16号2様式!I70<> \"\",TEXT(INT(P_16号2様式!I70),\"#,##0\"),\"\")","v":"1,162"},{"$f":"IF(P_16号2様式!I70= \"\",\"\",IF(VALUE(FIXED(P_16号2様式!I70,0,TRUE))<>P_16号2様式!I70,RIGHT(FIXED(P_16号2様式!I70,3,FALSE),4),\"\"))","v":""},{"$f":"IF(P_16号2様式!J70<> \"\",TEXT(INT(P_16号2様式!J70),\"#,##0\"),\"\")","v":"42,100"},{"$f":"IF(P_16号2様式!J70= \"\",\"\",IF(VALUE(FIXED(P_16号2様式!J70,0,TRUE))<>P_16号2様式!J70,RIGHT(FIXED(P_16号2様式!J70,3,FALSE),4),\"\"))","v":""},{"$f":"IF(P_16号2様式!K70<> \"\",TEXT(INT(P_16号2様式!K70),\"#,##0\"),\"\")","v":"-1"},{"$f":"IF(P_16号2様式!K70= \"\",\"\",IF(VALUE(FIXED(P_16号2様式!K70,0,TRUE))<>P_16号2様式!K70,RIGHT(FIXED(P_16号2様式!K70,3,FALSE),4),\"\"))","v":""},{"$f":"IF(P_16号2様式!L70<> \"\",TEXT(INT(P_16号2様式!L70),\"#,##0\"),\"\")","v":"42,099"},{"$f":"IF(P_16号2様式!L70= \"\",\"\",IF(VALUE(FIXED(P_16号2様式!L70,0,TRUE))<>P_16号2様式!L70,RIGHT(FIXED(P_16号2様式!L70,3,FALSE),4),\"\"))","v":""},{"$f":"IF(P_16号2様式!M70=\"\",\"\",P_16号2様式!M70)","v":2.76009501187648},null,{"$f":"IF(P_16号2様式!N70=\"\",\"\",P_16号2様式!N70)","v":"23:13:00"},null,{"$f":"IF(P_16号2様式!O70=\"\",\"\",P_16号2様式!O70)","v":"確定"}]
[{"$f":"IF(P_16号2様式!C71=\"\",\"\",P_16号2様式!C71)","v":"＊第 ２ 区  計"},null,{"$f":"IF(P_16号2様式!D71=\"\",\"\",P_16号2様式!D71)","v":100},{"$f":"IF(P_16号2様式!E71<> \"\",TEXT(INT(P_16号2様式!E71),\"#,##0\"),\"\")","v":"190,671"},{"$f":"IF(P_16号2様式!E71= \"\",\"\",IF(VALUE(FIXED(P_16号2様式!E71,0,TRUE))<>P_16号2様式!E71,RIGHT(FIXED(P_16号2様式!E71,3,FALSE),4),\"\"))","v":""},{"$f":"IF(P_16号2様式!F71<> \"\",TEXT(INT(P_16号2様式!F71),\"#,##0\"),\"\")","v":"0"},{"$f":"IF(P_16号2様式!F71= \"\",\"\",IF(VALUE(FIXED(P_16号2様式!F71,0,TRUE))<>P_16号2様式!F71,RIGHT(FIXED(P_16号2様式!F71,3,FALSE),4),\"\"))","v":""},{"$f":"IF(P_16号2様式!G71<> \"\",TEXT(INT(P_16号2様式!G71),\"#,##0\"),\"\")","v":"0"},{"$f":"IF(P_16号2様式!G71= \"\",\"\",IF(VALUE(FIXED(P_16号2様式!G71,0,TRUE))<>P_16号2様式!G71,RIGHT(FIXED(P_16号2様式!G71,3,FALSE),4),\"\"))","v":""},{"$f":"IF(P_16号2様式!H71<> \"\",TEXT(INT(P_16号2様式!H71),\"#,##0\"),\"\")","v":"190,671"},{"$f":"IF(P_16号2様式!H71= \"\",\"\",IF(VALUE(FIXED(P_16号2様式!H71,0,TRUE))<>P_16号2様式!H71,RIGHT(FIXED(P_16号2様式!H71,3,FALSE),4),\"\"))","v":""},{"$f":"IF(P_16号2様式!I71<> \"\",TEXT(INT(P_16号2様式!I71),\"#,##0\"),\"\")","v":"4,690"},{"$f":"IF(P_16号2様式!I71= \"\",\"\",IF(VALUE(FIXED(P_16号2様式!I71,0,TRUE))<>P_16号2様式!I71,RIGHT(FIXED(P_16号2様式!I71,3,FALSE),4),\"\"))","v":""},{"$f":"IF(P_16号2様式!J71<> \"\",TEXT(INT(P_16号2様式!J71),\"#,##0\"),\"\")","v":"195,361"},{"$f":"IF(P_16号2様式!J71= \"\",\"\",IF(VALUE(FIXED(P_16号2様式!J71,0,TRUE))<>P_16号2様式!J71,RIGHT(FIXED(P_16号2様式!J71,3,FALSE),4),\"\"))","v":""},{"$f":"IF(P_16号2様式!K71<> \"\",TEXT(INT(P_16号2様式!K71),\"#,##0\"),\"\")","v":"5"},{"$f":"IF(P_16号2様式!K71= \"\",\"\",IF(VALUE(FIXED(P_16号2様式!K71,0,TRUE))<>P_16号2様式!K71,RIGHT(FIXED(P_16号2様式!K71,3,FALSE),4),\"\"))","v":""},{"$f":"IF(P_16号2様式!L71<> \"\",TEXT(INT(P_16号2様式!L71),\"#,##0\"),\"\")","v":"195,366"},{"$f":"IF(P_16号2様式!L71= \"\",\"\",IF(VALUE(FIXED(P_16号2様式!L71,0,TRUE))<>P_16号2様式!L71,RIGHT(FIXED(P_16号2様式!L71,3,FALSE),4),\"\"))","v":""},{"$f":"IF(P_16号2様式!M71=\"\",\"\",P_16号2様式!M71)","v":2.4006838621833402},null,{"$f":"IF(P_16号2様式!N71=\"\",\"\",P_16号2様式!N71)","v":"01:38:00"},null,{"$f":"IF(P_16号2様式!O71=\"\",\"\",P_16号2様式!O71)","v":"確定"}]
[{"$f":"IF(P_16号2様式!C72=\"\",\"\",P_16号2様式!C72)","v":""},null,{"$f":"IF(P_16号2様式!D72=\"\",\"\",P_16号2様式!D72)","v":""},{"$f":"IF(P_16号2様式!E72<> \"\",TEXT(INT(P_16号2様式!E72),\"#,##0\"),\"\")","v":""},{"$f":"IF(P_16号2様式!E72= \"\",\"\",IF(VALUE(FIXED(P_16号2様式!E72,0,TRUE))<>P_16号2様式!E72,RIGHT(FIXED(P_16号2様式!E72,3,FALSE),4),\"\"))","v":""},{"$f":"IF(P_16号2様式!F72<> \"\",TEXT(INT(P_16号2様式!F72),\"#,##0\"),\"\")","v":""},{"$f":"IF(P_16号2様式!F72= \"\",\"\",IF(VALUE(FIXED(P_16号2様式!F72,0,TRUE))<>P_16号2様式!F72,RIGHT(FIXED(P_16号2様式!F72,3,FALSE),4),\"\"))","v":""},{"$f":"IF(P_16号2様式!G72<> \"\",TEXT(INT(P_16号2様式!G72),\"#,##0\"),\"\")","v":""},{"$f":"IF(P_16号2様式!G72= \"\",\"\",IF(VALUE(FIXED(P_16号2様式!G72,0,TRUE))<>P_16号2様式!G72,RIGHT(FIXED(P_16号2様式!G72,3,FALSE),4),\"\"))","v":""},{"$f":"IF(P_16号2様式!H72<> \"\",TEXT(INT(P_16号2様式!H72),\"#,##0\"),\"\")","v":""},{"$f":"IF(P_16号2様式!H72= \"\",\"\",IF(VALUE(FIXED(P_16号2様式!H72,0,TRUE))<>P_16号2様式!H72,RIGHT(FIXED(P_16号2様式!H72,3,FALSE),4),\"\"))","v":""},{"$f":"IF(P_16号2様式!I72<> \"\",TEXT(INT(P_16号2様式!I72),\"#,##0\"),\"\")","v":""},{"$f":"IF(P_16号2様式!I72= \"\",\"\",IF(VALUE(FIXED(P_16号2様式!I72,0,TRUE))<>P_16号2様式!I72,RIGHT(FIXED(P_16号2様式!I72,3,FALSE),4),\"\"))","v":""},{"$f":"IF(P_16号2様式!J72<> \"\",TEXT(INT(P_16号2様式!J72),\"#,##0\"),\"\")","v":""},{"$f":"IF(P_16号2様式!J72= \"\",\"\",IF(VALUE(FIXED(P_16号2様式!J72,0,TRUE))<>P_16号2様式!J72,RIGHT(FIXED(P_16号2様式!J72,3,FALSE),4),\"\"))","v":""},{"$f":"IF(P_16号2様式!K72<> \"\",TEXT(INT(P_16号2様式!K72),\"#,##0\"),\"\")","v":""},{"$f":"IF(P_16号2様式!K72= \"\",\"\",IF(VALUE(FIXED(P_16号2様式!K72,0,TRUE))<>P_16号2様式!K72,RIGHT(FIXED(P_16号2様式!K72,3,FALSE),4),\"\"))","v":""},{"$f":"IF(P_16号2様式!L72<> \"\",TEXT(INT(P_16号2様式!L72),\"#,##0\"),\"\")","v":""},{"$f":"IF(P_16号2様式!L72= \"\",\"\",IF(VALUE(FIXED(P_16号2様式!L72,0,TRUE))<>P_16号2様式!L72,RIGHT(FIXED(P_16号2様式!L72,3,FALSE),4),\"\"))","v":""},{"$f":"IF(P_16号2様式!M72=\"\",\"\",P_16号2様式!M72)","v":""},null,{"$f":"IF(P_16号2様式!N72=\"\",\"\",P_16号2様式!N72)","v":""},null,{"$f":"IF(P_16号2様式!O72=\"\",\"\",P_16号2様式!O72)","v":""}]
[{"$f":"IF(P_16号2様式!C73=\"\",\"\",P_16号2様式!C73)","v":""},null,{"$f":"IF(P_16号2様式!D73=\"\",\"\",P_16号2様式!D73)","v":""},{"$f":"IF(P_16号2様式!E73<> \"\",TEXT(INT(P_16号2様式!E73),\"#,##0\"),\"\")","v":""},{"$f":"IF(P_16号2様式!E73= \"\",\"\",IF(VALUE(FIXED(P_16号2様式!E73,0,TRUE))<>P_16号2様式!E73,RIGHT(FIXED(P_16号2様式!E73,3,FALSE),4),\"\"))","v":""},{"$f":"IF(P_16号2様式!F73<> \"\",TEXT(INT(P_16号2様式!F73),\"#,##0\"),\"\")","v":""},{"$f":"IF(P_16号2様式!F73= \"\",\"\",IF(VALUE(FIXED(P_16号2様式!F73,0,TRUE))<>P_16号2様式!F73,RIGHT(FIXED(P_16号2様式!F73,3,FALSE),4),\"\"))","v":""},{"$f":"IF(P_16号2様式!G73<> \"\",TEXT(INT(P_16号2様式!G73),\"#,##0\"),\"\")","v":""},{"$f":"IF(P_16号2様式!G73= \"\",\"\",IF(VALUE(FIXED(P_16号2様式!G73,0,TRUE))<>P_16号2様式!G73,RIGHT(FIXED(P_16号2様式!G73,3,FALSE),4),\"\"))","v":""},{"$f":"IF(P_16号2様式!H73<> \"\",TEXT(INT(P_16号2様式!H73),\"#,##0\"),\"\")","v":""},{"$f":"IF(P_16号2様式!H73= \"\",\"\",IF(VALUE(FIXED(P_16号2様式!H73,0,TRUE))<>P_16号2様式!H73,RIGHT(FIXED(P_16号2様式!H73,3,FALSE),4),\"\"))","v":""},{"$f":"IF(P_16号2様式!I73<> \"\",TEXT(INT(P_16号2様式!I73),\"#,##0\"),\"\")","v":""},{"$f":"IF(P_16号2様式!I73= \"\",\"\",IF(VALUE(FIXED(P_16号2様式!I73,0,TRUE))<>P_16号2様式!I73,RIGHT(FIXED(P_16号2様式!I73,3,FALSE),4),\"\"))","v":""},{"$f":"IF(P_16号2様式!J73<> \"\",TEXT(INT(P_16号2様式!J73),\"#,##0\"),\"\")","v":""},{"$f":"IF(P_16号2様式!J73= \"\",\"\",IF(VALUE(FIXED(P_16号2様式!J73,0,TRUE))<>P_16号2様式!J73,RIGHT(FIXED(P_16号2様式!J73,3,FALSE),4),\"\"))","v":""},{"$f":"IF(P_16号2様式!K73<> \"\",TEXT(INT(P_16号2様式!K73),\"#,##0\"),\"\")","v":""},{"$f":"IF(P_16号2様式!K73= \"\",\"\",IF(VALUE(FIXED(P_16号2様式!K73,0,TRUE))<>P_16号2様式!K73,RIGHT(FIXED(P_16号2様式!K73,3,FALSE),4),\"\"))","v":""},{"$f":"IF(P_16号2様式!L73<> \"\",TEXT(INT(P_16号2様式!L73),\"#,##0\"),\"\")","v":""},{"$f":"IF(P_16号2様式!L73= \"\",\"\",IF(VALUE(FIXED(P_16号2様式!L73,0,TRUE))<>P_16号2様式!L73,RIGHT(FIXED(P_16号2様式!L73,3,FALSE),4),\"\"))","v":""},{"$f":"IF(P_16号2様式!M73=\"\",\"\",P_16号2様式!M73)","v":""},null,{"$f":"IF(P_16号2様式!N73=\"\",\"\",P_16号2様式!N73)","v":""},null,{"$f":"IF(P_16号2様式!O73=\"\",\"\",P_16号2様式!O73)","v":""}]
[{"$f":"IF(P_16号2様式!C74=\"\",\"\",P_16号2様式!C74)","v":""},null,{"$f":"IF(P_16号2様式!D74=\"\",\"\",P_16号2様式!D74)","v":""},{"$f":"IF(P_16号2様式!E74<> \"\",TEXT(INT(P_16号2様式!E74),\"#,##0\"),\"\")","v":""},{"$f":"IF(P_16号2様式!E74= \"\",\"\",IF(VALUE(FIXED(P_16号2様式!E74,0,TRUE))<>P_16号2様式!E74,RIGHT(FIXED(P_16号2様式!E74,3,FALSE),4),\"\"))","v":""},{"$f":"IF(P_16号2様式!F74<> \"\",TEXT(INT(P_16号2様式!F74),\"#,##0\"),\"\")","v":""},{"$f":"IF(P_16号2様式!F74= \"\",\"\",IF(VALUE(FIXED(P_16号2様式!F74,0,TRUE))<>P_16号2様式!F74,RIGHT(FIXED(P_16号2様式!F74,3,FALSE),4),\"\"))","v":""},{"$f":"IF(P_16号2様式!G74<> \"\",TEXT(INT(P_16号2様式!G74),\"#,##0\"),\"\")","v":""},{"$f":"IF(P_16号2様式!G74= \"\",\"\",IF(VALUE(FIXED(P_16号2様式!G74,0,TRUE))<>P_16号2様式!G74,RIGHT(FIXED(P_16号2様式!G74,3,FALSE),4),\"\"))","v":""},{"$f":"IF(P_16号2様式!H74<> \"\",TEXT(INT(P_16号2様式!H74),\"#,##0\"),\"\")","v":""},{"$f":"IF(P_16号2様式!H74= \"\",\"\",IF(VALUE(FIXED(P_16号2様式!H74,0,TRUE))<>P_16号2様式!H74,RIGHT(FIXED(P_16号2様式!H74,3,FALSE),4),\"\"))","v":""},{"$f":"IF(P_16号2様式!I74<> \"\",TEXT(INT(P_16号2様式!I74),\"#,##0\"),\"\")","v":""},{"$f":"IF(P_16号2様式!I74= \"\",\"\",IF(VALUE(FIXED(P_16号2様式!I74,0,TRUE))<>P_16号2様式!I74,RIGHT(FIXED(P_16号2様式!I74,3,FALSE),4),\"\"))","v":""},{"$f":"IF(P_16号2様式!J74<> \"\",TEXT(INT(P_16号2様式!J74),\"#,##0\"),\"\")","v":""},{"$f":"IF(P_16号2様式!J74= \"\",\"\",IF(VALUE(FIXED(P_16号2様式!J74,0,TRUE))<>P_16号2様式!J74,RIGHT(FIXED(P_16号2様式!J74,3,FALSE),4),\"\"))","v":""},{"$f":"IF(P_16号2様式!K74<> \"\",TEXT(INT(P_16号2様式!K74),\"#,##0\"),\"\")","v":""},{"$f":"IF(P_16号2様式!K74= \"\",\"\",IF(VALUE(FIXED(P_16号2様式!K74,0,TRUE))<>P_16号2様式!K74,RIGHT(FIXED(P_16号2様式!K74,3,FALSE),4),\"\"))","v":""},{"$f":"IF(P_16号2様式!L74<> \"\",TEXT(INT(P_16号2様式!L74),\"#,##0\"),\"\")","v":""},{"$f":"IF(P_16号2様式!L74= \"\",\"\",IF(VALUE(FIXED(P_16号2様式!L74,0,TRUE))<>P_16号2様式!L74,RIGHT(FIXED(P_16号2様式!L74,3,FALSE),4),\"\"))","v":""},{"$f":"IF(P_16号2様式!M74=\"\",\"\",P_16号2様式!M74)","v":""},null,{"$f":"IF(P_16号2様式!N74=\"\",\"\",P_16号2様式!N74)","v":""},null,{"$f":"IF(P_16号2様式!O74=\"\",\"\",P_16号2様式!O74)","v":""}]
[{"$f":"IF(P_16号2様式!C75=\"\",\"\",P_16号2様式!C75)","v":""},null,{"$f":"IF(P_16号2様式!D75=\"\",\"\",P_16号2様式!D75)","v":""},{"$f":"IF(P_16号2様式!E75<> \"\",TEXT(INT(P_16号2様式!E75),\"#,##0\"),\"\")","v":""},{"$f":"IF(P_16号2様式!E75= \"\",\"\",IF(VALUE(FIXED(P_16号2様式!E75,0,TRUE))<>P_16号2様式!E75,RIGHT(FIXED(P_16号2様式!E75,3,FALSE),4),\"\"))","v":""},{"$f":"IF(P_16号2様式!F75<> \"\",TEXT(INT(P_16号2様式!F75),\"#,##0\"),\"\")","v":""},{"$f":"IF(P_16号2様式!F75= \"\",\"\",IF(VALUE(FIXED(P_16号2様式!F75,0,TRUE))<>P_16号2様式!F75,RIGHT(FIXED(P_16号2様式!F75,3,FALSE),4),\"\"))","v":""},{"$f":"IF(P_16号2様式!G75<> \"\",TEXT(INT(P_16号2様式!G75),\"#,##0\"),\"\")","v":""},{"$f":"IF(P_16号2様式!G75= \"\",\"\",IF(VALUE(FIXED(P_16号2様式!G75,0,TRUE))<>P_16号2様式!G75,RIGHT(FIXED(P_16号2様式!G75,3,FALSE),4),\"\"))","v":""},{"$f":"IF(P_16号2様式!H75<> \"\",TEXT(INT(P_16号2様式!H75),\"#,##0\"),\"\")","v":""},{"$f":"IF(P_16号2様式!H75= \"\",\"\",IF(VALUE(FIXED(P_16号2様式!H75,0,TRUE))<>P_16号2様式!H75,RIGHT(FIXED(P_16号2様式!H75,3,FALSE),4),\"\"))","v":""},{"$f":"IF(P_16号2様式!I75<> \"\",TEXT(INT(P_16号2様式!I75),\"#,##0\"),\"\")","v":""},{"$f":"IF(P_16号2様式!I75= \"\",\"\",IF(VALUE(FIXED(P_16号2様式!I75,0,TRUE))<>P_16号2様式!I75,RIGHT(FIXED(P_16号2様式!I75,3,FALSE),4),\"\"))","v":""},{"$f":"IF(P_16号2様式!J75<> \"\",TEXT(INT(P_16号2様式!J75),\"#,##0\"),\"\")","v":""},{"$f":"IF(P_16号2様式!J75= \"\",\"\",IF(VALUE(FIXED(P_16号2様式!J75,0,TRUE))<>P_16号2様式!J75,RIGHT(FIXED(P_16号2様式!J75,3,FALSE),4),\"\"))","v":""},{"$f":"IF(P_16号2様式!K75<> \"\",TEXT(INT(P_16号2様式!K75),\"#,##0\"),\"\")","v":""},{"$f":"IF(P_16号2様式!K75= \"\",\"\",IF(VALUE(FIXED(P_16号2様式!K75,0,TRUE))<>P_16号2様式!K75,RIGHT(FIXED(P_16号2様式!K75,3,FALSE),4),\"\"))","v":""},{"$f":"IF(P_16号2様式!L75<> \"\",TEXT(INT(P_16号2様式!L75),\"#,##0\"),\"\")","v":""},{"$f":"IF(P_16号2様式!L75= \"\",\"\",IF(VALUE(FIXED(P_16号2様式!L75,0,TRUE))<>P_16号2様式!L75,RIGHT(FIXED(P_16号2様式!L75,3,FALSE),4),\"\"))","v":""},{"$f":"IF(P_16号2様式!M75=\"\",\"\",P_16号2様式!M75)","v":""},null,{"$f":"IF(P_16号2様式!N75=\"\",\"\",P_16号2様式!N75)","v":""},null,{"$f":"IF(P_16号2様式!O75=\"\",\"\",P_16号2様式!O75)","v":""}]
[{"$f":"IF(P_16号2様式!C76=\"\",\"\",P_16号2様式!C76)","v":""},null,{"$f":"IF(P_16号2様式!D76=\"\",\"\",P_16号2様式!D76)","v":""},{"$f":"IF(P_16号2様式!E76<> \"\",TEXT(INT(P_16号2様式!E76),\"#,##0\"),\"\")","v":""},{"$f":"IF(P_16号2様式!E76= \"\",\"\",IF(VALUE(FIXED(P_16号2様式!E76,0,TRUE))<>P_16号2様式!E76,RIGHT(FIXED(P_16号2様式!E76,3,FALSE),4),\"\"))","v":""},{"$f":"IF(P_16号2様式!F76<> \"\",TEXT(INT(P_16号2様式!F76),\"#,##0\"),\"\")","v":""},{"$f":"IF(P_16号2様式!F76= \"\",\"\",IF(VALUE(FIXED(P_16号2様式!F76,0,TRUE))<>P_16号2様式!F76,RIGHT(FIXED(P_16号2様式!F76,3,FALSE),4),\"\"))","v":""},{"$f":"IF(P_16号2様式!G76<> \"\",TEXT(INT(P_16号2様式!G76),\"#,##0\"),\"\")","v":""},{"$f":"IF(P_16号2様式!G76= \"\",\"\",IF(VALUE(FIXED(P_16号2様式!G76,0,TRUE))<>P_16号2様式!G76,RIGHT(FIXED(P_16号2様式!G76,3,FALSE),4),\"\"))","v":""},{"$f":"IF(P_16号2様式!H76<> \"\",TEXT(INT(P_16号2様式!H76),\"#,##0\"),\"\")","v":""},{"$f":"IF(P_16号2様式!H76= \"\",\"\",IF(VALUE(FIXED(P_16号2様式!H76,0,TRUE))<>P_16号2様式!H76,RIGHT(FIXED(P_16号2様式!H76,3,FALSE),4),\"\"))","v":""},{"$f":"IF(P_16号2様式!I76<> \"\",TEXT(INT(P_16号2様式!I76),\"#,##0\"),\"\")","v":""},{"$f":"IF(P_16号2様式!I76= \"\",\"\",IF(VALUE(FIXED(P_16号2様式!I76,0,TRUE))<>P_16号2様式!I76,RIGHT(FIXED(P_16号2様式!I76,3,FALSE),4),\"\"))","v":""},{"$f":"IF(P_16号2様式!J76<> \"\",TEXT(INT(P_16号2様式!J76),\"#,##0\"),\"\")","v":""},{"$f":"IF(P_16号2様式!J76= \"\",\"\",IF(VALUE(FIXED(P_16号2様式!J76,0,TRUE))<>P_16号2様式!J76,RIGHT(FIXED(P_16号2様式!J76,3,FALSE),4),\"\"))","v":""},{"$f":"IF(P_16号2様式!K76<> \"\",TEXT(INT(P_16号2様式!K76),\"#,##0\"),\"\")","v":""},{"$f":"IF(P_16号2様式!K76= \"\",\"\",IF(VALUE(FIXED(P_16号2様式!K76,0,TRUE))<>P_16号2様式!K76,RIGHT(FIXED(P_16号2様式!K76,3,FALSE),4),\"\"))","v":""},{"$f":"IF(P_16号2様式!L76<> \"\",TEXT(INT(P_16号2様式!L76),\"#,##0\"),\"\")","v":""},{"$f":"IF(P_16号2様式!L76= \"\",\"\",IF(VALUE(FIXED(P_16号2様式!L76,0,TRUE))<>P_16号2様式!L76,RIGHT(FIXED(P_16号2様式!L76,3,FALSE),4),\"\"))","v":""},{"$f":"IF(P_16号2様式!M76=\"\",\"\",P_16号2様式!M76)","v":""},null,{"$f":"IF(P_16号2様式!N76=\"\",\"\",P_16号2様式!N76)","v":""},null,{"$f":"IF(P_16号2様式!O76=\"\",\"\",P_16号2様式!O76)","v":""}]
[{"$f":"IF(P_16号2様式!C77=\"\",\"\",P_16号2様式!C77)","v":""},null,{"$f":"IF(P_16号2様式!D77=\"\",\"\",P_16号2様式!D77)","v":""},{"$f":"IF(P_16号2様式!E77<> \"\",TEXT(INT(P_16号2様式!E77),\"#,##0\"),\"\")","v":""},{"$f":"IF(P_16号2様式!E77= \"\",\"\",IF(VALUE(FIXED(P_16号2様式!E77,0,TRUE))<>P_16号2様式!E77,RIGHT(FIXED(P_16号2様式!E77,3,FALSE),4),\"\"))","v":""},{"$f":"IF(P_16号2様式!F77<> \"\",TEXT(INT(P_16号2様式!F77),\"#,##0\"),\"\")","v":""},{"$f":"IF(P_16号2様式!F77= \"\",\"\",IF(VALUE(FIXED(P_16号2様式!F77,0,TRUE))<>P_16号2様式!F77,RIGHT(FIXED(P_16号2様式!F77,3,FALSE),4),\"\"))","v":""},{"$f":"IF(P_16号2様式!G77<> \"\",TEXT(INT(P_16号2様式!G77),\"#,##0\"),\"\")","v":""},{"$f":"IF(P_16号2様式!G77= \"\",\"\",IF(VALUE(FIXED(P_16号2様式!G77,0,TRUE))<>P_16号2様式!G77,RIGHT(FIXED(P_16号2様式!G77,3,FALSE),4),\"\"))","v":""},{"$f":"IF(P_16号2様式!H77<> \"\",TEXT(INT(P_16号2様式!H77),\"#,##0\"),\"\")","v":""},{"$f":"IF(P_16号2様式!H77= \"\",\"\",IF(VALUE(FIXED(P_16号2様式!H77,0,TRUE))<>P_16号2様式!H77,RIGHT(FIXED(P_16号2様式!H77,3,FALSE),4),\"\"))","v":""},{"$f":"IF(P_16号2様式!I77<> \"\",TEXT(INT(P_16号2様式!I77),\"#,##0\"),\"\")","v":""},{"$f":"IF(P_16号2様式!I77= \"\",\"\",IF(VALUE(FIXED(P_16号2様式!I77,0,TRUE))<>P_16号2様式!I77,RIGHT(FIXED(P_16号2様式!I77,3,FALSE),4),\"\"))","v":""},{"$f":"IF(P_16号2様式!J77<> \"\",TEXT(INT(P_16号2様式!J77),\"#,##0\"),\"\")","v":""},{"$f":"IF(P_16号2様式!J77= \"\",\"\",IF(VALUE(FIXED(P_16号2様式!J77,0,TRUE))<>P_16号2様式!J77,RIGHT(FIXED(P_16号2様式!J77,3,FALSE),4),\"\"))","v":""},{"$f":"IF(P_16号2様式!K77<> \"\",TEXT(INT(P_16号2様式!K77),\"#,##0\"),\"\")","v":""},{"$f":"IF(P_16号2様式!K77= \"\",\"\",IF(VALUE(FIXED(P_16号2様式!K77,0,TRUE))<>P_16号2様式!K77,RIGHT(FIXED(P_16号2様式!K77,3,FALSE),4),\"\"))","v":""},{"$f":"IF(P_16号2様式!L77<> \"\",TEXT(INT(P_16号2様式!L77),\"#,##0\"),\"\")","v":""},{"$f":"IF(P_16号2様式!L77= \"\",\"\",IF(VALUE(FIXED(P_16号2様式!L77,0,TRUE))<>P_16号2様式!L77,RIGHT(FIXED(P_16号2様式!L77,3,FALSE),4),\"\"))","v":""},{"$f":"IF(P_16号2様式!M77=\"\",\"\",P_16号2様式!M77)","v":""},null,{"$f":"IF(P_16号2様式!N77=\"\",\"\",P_16号2様式!N77)","v":""},null,{"$f":"IF(P_16号2様式!O77=\"\",\"\",P_16号2様式!O77)","v":""}]
[{"$f":"IF(P_16号2様式!C78=\"\",\"\",P_16号2様式!C78)","v":""},null,{"$f":"IF(P_16号2様式!D78=\"\",\"\",P_16号2様式!D78)","v":""},{"$f":"IF(P_16号2様式!E78<> \"\",TEXT(INT(P_16号2様式!E78),\"#,##0\"),\"\")","v":""},{"$f":"IF(P_16号2様式!E78= \"\",\"\",IF(VALUE(FIXED(P_16号2様式!E78,0,TRUE))<>P_16号2様式!E78,RIGHT(FIXED(P_16号2様式!E78,3,FALSE),4),\"\"))","v":""},{"$f":"IF(P_16号2様式!F78<> \"\",TEXT(INT(P_16号2様式!F78),\"#,##0\"),\"\")","v":""},{"$f":"IF(P_16号2様式!F78= \"\",\"\",IF(VALUE(FIXED(P_16号2様式!F78,0,TRUE))<>P_16号2様式!F78,RIGHT(FIXED(P_16号2様式!F78,3,FALSE),4),\"\"))","v":""},{"$f":"IF(P_16号2様式!G78<> \"\",TEXT(INT(P_16号2様式!G78),\"#,##0\"),\"\")","v":""},{"$f":"IF(P_16号2様式!G78= \"\",\"\",IF(VALUE(FIXED(P_16号2様式!G78,0,TRUE))<>P_16号2様式!G78,RIGHT(FIXED(P_16号2様式!G78,3,FALSE),4),\"\"))","v":""},{"$f":"IF(P_16号2様式!H78<> \"\",TEXT(INT(P_16号2様式!H78),\"#,##0\"),\"\")","v":""},{"$f":"IF(P_16号2様式!H78= \"\",\"\",IF(VALUE(FIXED(P_16号2様式!H78,0,TRUE))<>P_16号2様式!H78,RIGHT(FIXED(P_16号2様式!H78,3,FALSE),4),\"\"))","v":""},{"$f":"IF(P_16号2様式!I78<> \"\",TEXT(INT(P_16号2様式!I78),\"#,##0\"),\"\")","v":""},{"$f":"IF(P_16号2様式!I78= \"\",\"\",IF(VALUE(FIXED(P_16号2様式!I78,0,TRUE))<>P_16号2様式!I78,RIGHT(FIXED(P_16号2様式!I78,3,FALSE),4),\"\"))","v":""},{"$f":"IF(P_16号2様式!J78<> \"\",TEXT(INT(P_16号2様式!J78),\"#,##0\"),\"\")","v":""},{"$f":"IF(P_16号2様式!J78= \"\",\"\",IF(VALUE(FIXED(P_16号2様式!J78,0,TRUE))<>P_16号2様式!J78,RIGHT(FIXED(P_16号2様式!J78,3,FALSE),4),\"\"))","v":""},{"$f":"IF(P_16号2様式!K78<> \"\",TEXT(INT(P_16号2様式!K78),\"#,##0\"),\"\")","v":""},{"$f":"IF(P_16号2様式!K78= \"\",\"\",IF(VALUE(FIXED(P_16号2様式!K78,0,TRUE))<>P_16号2様式!K78,RIGHT(FIXED(P_16号2様式!K78,3,FALSE),4),\"\"))","v":""},{"$f":"IF(P_16号2様式!L78<> \"\",TEXT(INT(P_16号2様式!L78),\"#,##0\"),\"\")","v":""},{"$f":"IF(P_16号2様式!L78= \"\",\"\",IF(VALUE(FIXED(P_16号2様式!L78,0,TRUE))<>P_16号2様式!L78,RIGHT(FIXED(P_16号2様式!L78,3,FALSE),4),\"\"))","v":""},{"$f":"IF(P_16号2様式!M78=\"\",\"\",P_16号2様式!M78)","v":""},null,{"$f":"IF(P_16号2様式!N78=\"\",\"\",P_16号2様式!N78)","v":""},null,{"$f":"IF(P_16号2様式!O78=\"\",\"\",P_16号2様式!O78)","v":""}]
[{"$f":"IF(P_16号2様式!C79=\"\",\"\",P_16号2様式!C79)","v":""},null,{"$f":"IF(P_16号2様式!D79=\"\",\"\",P_16号2様式!D79)","v":""},{"$f":"IF(P_16号2様式!E79<> \"\",TEXT(INT(P_16号2様式!E79),\"#,##0\"),\"\")","v":""},{"$f":"IF(P_16号2様式!E79= \"\",\"\",IF(VALUE(FIXED(P_16号2様式!E79,0,TRUE))<>P_16号2様式!E79,RIGHT(FIXED(P_16号2様式!E79,3,FALSE),4),\"\"))","v":""},{"$f":"IF(P_16号2様式!F79<> \"\",TEXT(INT(P_16号2様式!F79),\"#,##0\"),\"\")","v":""},{"$f":"IF(P_16号2様式!F79= \"\",\"\",IF(VALUE(FIXED(P_16号2様式!F79,0,TRUE))<>P_16号2様式!F79,RIGHT(FIXED(P_16号2様式!F79,3,FALSE),4),\"\"))","v":""},{"$f":"IF(P_16号2様式!G79<> \"\",TEXT(INT(P_16号2様式!G79),\"#,##0\"),\"\")","v":""},{"$f":"IF(P_16号2様式!G79= \"\",\"\",IF(VALUE(FIXED(P_16号2様式!G79,0,TRUE))<>P_16号2様式!G79,RIGHT(FIXED(P_16号2様式!G79,3,FALSE),4),\"\"))","v":""},{"$f":"IF(P_16号2様式!H79<> \"\",TEXT(INT(P_16号2様式!H79),\"#,##0\"),\"\")","v":""},{"$f":"IF(P_16号2様式!H79= \"\",\"\",IF(VALUE(FIXED(P_16号2様式!H79,0,TRUE))<>P_16号2様式!H79,RIGHT(FIXED(P_16号2様式!H79,3,FALSE),4),\"\"))","v":""},{"$f":"IF(P_16号2様式!I79<> \"\",TEXT(INT(P_16号2様式!I79),\"#,##0\"),\"\")","v":""},{"$f":"IF(P_16号2様式!I79= \"\",\"\",IF(VALUE(FIXED(P_16号2様式!I79,0,TRUE))<>P_16号2様式!I79,RIGHT(FIXED(P_16号2様式!I79,3,FALSE),4),\"\"))","v":""},{"$f":"IF(P_16号2様式!J79<> \"\",TEXT(INT(P_16号2様式!J79),\"#,##0\"),\"\")","v":""},{"$f":"IF(P_16号2様式!J79= \"\",\"\",IF(VALUE(FIXED(P_16号2様式!J79,0,TRUE))<>P_16号2様式!J79,RIGHT(FIXED(P_16号2様式!J79,3,FALSE),4),\"\"))","v":""},{"$f":"IF(P_16号2様式!K79<> \"\",TEXT(INT(P_16号2様式!K79),\"#,##0\"),\"\")","v":""},{"$f":"IF(P_16号2様式!K79= \"\",\"\",IF(VALUE(FIXED(P_16号2様式!K79,0,TRUE))<>P_16号2様式!K79,RIGHT(FIXED(P_16号2様式!K79,3,FALSE),4),\"\"))","v":""},{"$f":"IF(P_16号2様式!L79<> \"\",TEXT(INT(P_16号2様式!L79),\"#,##0\"),\"\")","v":""},{"$f":"IF(P_16号2様式!L79= \"\",\"\",IF(VALUE(FIXED(P_16号2様式!L79,0,TRUE))<>P_16号2様式!L79,RIGHT(FIXED(P_16号2様式!L79,3,FALSE),4),\"\"))","v":""},{"$f":"IF(P_16号2様式!M79=\"\",\"\",P_16号2様式!M79)","v":""},null,{"$f":"IF(P_16号2様式!N79=\"\",\"\",P_16号2様式!N79)","v":""},null,{"$f":"IF(P_16号2様式!O79=\"\",\"\",P_16号2様式!O79)","v":""}]
[{"$f":"IF(P_16号2様式!C80=\"\",\"\",P_16号2様式!C80)","v":""},null,{"$f":"IF(P_16号2様式!D80=\"\",\"\",P_16号2様式!D80)","v":""},{"$f":"IF(P_16号2様式!E80<> \"\",TEXT(INT(P_16号2様式!E80),\"#,##0\"),\"\")","v":""},{"$f":"IF(P_16号2様式!E80= \"\",\"\",IF(VALUE(FIXED(P_16号2様式!E80,0,TRUE))<>P_16号2様式!E80,RIGHT(FIXED(P_16号2様式!E80,3,FALSE),4),\"\"))","v":""},{"$f":"IF(P_16号2様式!F80<> \"\",TEXT(INT(P_16号2様式!F80),\"#,##0\"),\"\")","v":""},{"$f":"IF(P_16号2様式!F80= \"\",\"\",IF(VALUE(FIXED(P_16号2様式!F80,0,TRUE))<>P_16号2様式!F80,RIGHT(FIXED(P_16号2様式!F80,3,FALSE),4),\"\"))","v":""},{"$f":"IF(P_16号2様式!G80<> \"\",TEXT(INT(P_16号2様式!G80),\"#,##0\"),\"\")","v":""},{"$f":"IF(P_16号2様式!G80= \"\",\"\",IF(VALUE(FIXED(P_16号2様式!G80,0,TRUE))<>P_16号2様式!G80,RIGHT(FIXED(P_16号2様式!G80,3,FALSE),4),\"\"))","v":""},{"$f":"IF(P_16号2様式!H80<> \"\",TEXT(INT(P_16号2様式!H80),\"#,##0\"),\"\")","v":""},{"$f":"IF(P_16号2様式!H80= \"\",\"\",IF(VALUE(FIXED(P_16号2様式!H80,0,TRUE))<>P_16号2様式!H80,RIGHT(FIXED(P_16号2様式!H80,3,FALSE),4),\"\"))","v":""},{"$f":"IF(P_16号2様式!I80<> \"\",TEXT(INT(P_16号2様式!I80),\"#,##0\"),\"\")","v":""},{"$f":"IF(P_16号2様式!I80= \"\",\"\",IF(VALUE(FIXED(P_16号2様式!I80,0,TRUE))<>P_16号2様式!I80,RIGHT(FIXED(P_16号2様式!I80,3,FALSE),4),\"\"))","v":""},{"$f":"IF(P_16号2様式!J80<> \"\",TEXT(INT(P_16号2様式!J80),\"#,##0\"),\"\")","v":""},{"$f":"IF(P_16号2様式!J80= \"\",\"\",IF(VALUE(FIXED(P_16号2様式!J80,0,TRUE))<>P_16号2様式!J80,RIGHT(FIXED(P_16号2様式!J80,3,FALSE),4),\"\"))","v":""},{"$f":"IF(P_16号2様式!K80<> \"\",TEXT(INT(P_16号2様式!K80),\"#,##0\"),\"\")","v":""},{"$f":"IF(P_16号2様式!K80= \"\",\"\",IF(VALUE(FIXED(P_16号2様式!K80,0,TRUE))<>P_16号2様式!K80,RIGHT(FIXED(P_16号2様式!K80,3,FALSE),4),\"\"))","v":""},{"$f":"IF(P_16号2様式!L80<> \"\",TEXT(INT(P_16号2様式!L80),\"#,##0\"),\"\")","v":""},{"$f":"IF(P_16号2様式!L80= \"\",\"\",IF(VALUE(FIXED(P_16号2様式!L80,0,TRUE))<>P_16号2様式!L80,RIGHT(FIXED(P_16号2様式!L80,3,FALSE),4),\"\"))","v":""},{"$f":"IF(P_16号2様式!M80=\"\",\"\",P_16号2様式!M80)","v":""},null,{"$f":"IF(P_16号2様式!N80=\"\",\"\",P_16号2様式!N80)","v":""},null,{"$f":"IF(P_16号2様式!O80=\"\",\"\",P_16号2様式!O80)","v":""}]
[{"$f":"IF(P_16号2様式!C81=\"\",\"\",P_16号2様式!C81)","v":""},null,{"$f":"IF(P_16号2様式!D81=\"\",\"\",P_16号2様式!D81)","v":""},{"$f":"IF(P_16号2様式!E81<> \"\",TEXT(INT(P_16号2様式!E81),\"#,##0\"),\"\")","v":""},{"$f":"IF(P_16号2様式!E81= \"\",\"\",IF(VALUE(FIXED(P_16号2様式!E81,0,TRUE))<>P_16号2様式!E81,RIGHT(FIXED(P_16号2様式!E81,3,FALSE),4),\"\"))","v":""},{"$f":"IF(P_16号2様式!F81<> \"\",TEXT(INT(P_16号2様式!F81),\"#,##0\"),\"\")","v":""},{"$f":"IF(P_16号2様式!F81= \"\",\"\",IF(VALUE(FIXED(P_16号2様式!F81,0,TRUE))<>P_16号2様式!F81,RIGHT(FIXED(P_16号2様式!F81,3,FALSE),4),\"\"))","v":""},{"$f":"IF(P_16号2様式!G81<> \"\",TEXT(INT(P_16号2様式!G81),\"#,##0\"),\"\")","v":""},{"$f":"IF(P_16号2様式!G81= \"\",\"\",IF(VALUE(FIXED(P_16号2様式!G81,0,TRUE))<>P_16号2様式!G81,RIGHT(FIXED(P_16号2様式!G81,3,FALSE),4),\"\"))","v":""},{"$f":"IF(P_16号2様式!H81<> \"\",TEXT(INT(P_16号2様式!H81),\"#,##0\"),\"\")","v":""},{"$f":"IF(P_16号2様式!H81= \"\",\"\",IF(VALUE(FIXED(P_16号2様式!H81,0,TRUE))<>P_16号2様式!H81,RIGHT(FIXED(P_16号2様式!H81,3,FALSE),4),\"\"))","v":""},{"$f":"IF(P_16号2様式!I81<> \"\",TEXT(INT(P_16号2様式!I81),\"#,##0\"),\"\")","v":""},{"$f":"IF(P_16号2様式!I81= \"\",\"\",IF(VALUE(FIXED(P_16号2様式!I81,0,TRUE))<>P_16号2様式!I81,RIGHT(FIXED(P_16号2様式!I81,3,FALSE),4),\"\"))","v":""},{"$f":"IF(P_16号2様式!J81<> \"\",TEXT(INT(P_16号2様式!J81),\"#,##0\"),\"\")","v":""},{"$f":"IF(P_16号2様式!J81= \"\",\"\",IF(VALUE(FIXED(P_16号2様式!J81,0,TRUE))<>P_16号2様式!J81,RIGHT(FIXED(P_16号2様式!J81,3,FALSE),4),\"\"))","v":""},{"$f":"IF(P_16号2様式!K81<> \"\",TEXT(INT(P_16号2様式!K81),\"#,##0\"),\"\")","v":""},{"$f":"IF(P_16号2様式!K81= \"\",\"\",IF(VALUE(FIXED(P_16号2様式!K81,0,TRUE))<>P_16号2様式!K81,RIGHT(FIXED(P_16号2様式!K81,3,FALSE),4),\"\"))","v":""},{"$f":"IF(P_16号2様式!L81<> \"\",TEXT(INT(P_16号2様式!L81),\"#,##0\"),\"\")","v":""},{"$f":"IF(P_16号2様式!L81= \"\",\"\",IF(VALUE(FIXED(P_16号2様式!L81,0,TRUE))<>P_16号2様式!L81,RIGHT(FIXED(P_16号2様式!L81,3,FALSE),4),\"\"))","v":""},{"$f":"IF(P_16号2様式!M81=\"\",\"\",P_16号2様式!M81)","v":""},null,{"$f":"IF(P_16号2様式!N81=\"\",\"\",P_16号2様式!N81)","v":""},null,{"$f":"IF(P_16号2様式!O81=\"\",\"\",P_16号2様式!O81)","v":""}]
[{"$f":"IF(P_16号2様式!C82=\"\",\"\",P_16号2様式!C82)","v":""},null,{"$f":"IF(P_16号2様式!D82=\"\",\"\",P_16号2様式!D82)","v":""},{"$f":"IF(P_16号2様式!E82<> \"\",TEXT(INT(P_16号2様式!E82),\"#,##0\"),\"\")","v":""},{"$f":"IF(P_16号2様式!E82= \"\",\"\",IF(VALUE(FIXED(P_16号2様式!E82,0,TRUE))<>P_16号2様式!E82,RIGHT(FIXED(P_16号2様式!E82,3,FALSE),4),\"\"))","v":""},{"$f":"IF(P_16号2様式!F82<> \"\",TEXT(INT(P_16号2様式!F82),\"#,##0\"),\"\")","v":""},{"$f":"IF(P_16号2様式!F82= \"\",\"\",IF(VALUE(FIXED(P_16号2様式!F82,0,TRUE))<>P_16号2様式!F82,RIGHT(FIXED(P_16号2様式!F82,3,FALSE),4),\"\"))","v":""},{"$f":"IF(P_16号2様式!G82<> \"\",TEXT(INT(P_16号2様式!G82),\"#,##0\"),\"\")","v":""},{"$f":"IF(P_16号2様式!G82= \"\",\"\",IF(VALUE(FIXED(P_16号2様式!G82,0,TRUE))<>P_16号2様式!G82,RIGHT(FIXED(P_16号2様式!G82,3,FALSE),4),\"\"))","v":""},{"$f":"IF(P_16号2様式!H82<> \"\",TEXT(INT(P_16号2様式!H82),\"#,##0\"),\"\")","v":""},{"$f":"IF(P_16号2様式!H82= \"\",\"\",IF(VALUE(FIXED(P_16号2様式!H82,0,TRUE))<>P_16号2様式!H82,RIGHT(FIXED(P_16号2様式!H82,3,FALSE),4),\"\"))","v":""},{"$f":"IF(P_16号2様式!I82<> \"\",TEXT(INT(P_16号2様式!I82),\"#,##0\"),\"\")","v":""},{"$f":"IF(P_16号2様式!I82= \"\",\"\",IF(VALUE(FIXED(P_16号2様式!I82,0,TRUE))<>P_16号2様式!I82,RIGHT(FIXED(P_16号2様式!I82,3,FALSE),4),\"\"))","v":""},{"$f":"IF(P_16号2様式!J82<> \"\",TEXT(INT(P_16号2様式!J82),\"#,##0\"),\"\")","v":""},{"$f":"IF(P_16号2様式!J82= \"\",\"\",IF(VALUE(FIXED(P_16号2様式!J82,0,TRUE))<>P_16号2様式!J82,RIGHT(FIXED(P_16号2様式!J82,3,FALSE),4),\"\"))","v":""},{"$f":"IF(P_16号2様式!K82<> \"\",TEXT(INT(P_16号2様式!K82),\"#,##0\"),\"\")","v":""},{"$f":"IF(P_16号2様式!K82= \"\",\"\",IF(VALUE(FIXED(P_16号2様式!K82,0,TRUE))<>P_16号2様式!K82,RIGHT(FIXED(P_16号2様式!K82,3,FALSE),4),\"\"))","v":""},{"$f":"IF(P_16号2様式!L82<> \"\",TEXT(INT(P_16号2様式!L82),\"#,##0\"),\"\")","v":""},{"$f":"IF(P_16号2様式!L82= \"\",\"\",IF(VALUE(FIXED(P_16号2様式!L82,0,TRUE))<>P_16号2様式!L82,RIGHT(FIXED(P_16号2様式!L82,3,FALSE),4),\"\"))","v":""},{"$f":"IF(P_16号2様式!M82=\"\",\"\",P_16号2様式!M82)","v":""},null,{"$f":"IF(P_16号2様式!N82=\"\",\"\",P_16号2様式!N82)","v":""},null,{"$f":"IF(P_16号2様式!O82=\"\",\"\",P_16号2様式!O82)","v":""}]
[{"$f":"IF(P_16号2様式!C83=\"\",\"\",P_16号2様式!C83)","v":""},null,{"$f":"IF(P_16号2様式!D83=\"\",\"\",P_16号2様式!D83)","v":""},{"$f":"IF(P_16号2様式!E83<> \"\",TEXT(INT(P_16号2様式!E83),\"#,##0\"),\"\")","v":""},{"$f":"IF(P_16号2様式!E83= \"\",\"\",IF(VALUE(FIXED(P_16号2様式!E83,0,TRUE))<>P_16号2様式!E83,RIGHT(FIXED(P_16号2様式!E83,3,FALSE),4),\"\"))","v":""},{"$f":"IF(P_16号2様式!F83<> \"\",TEXT(INT(P_16号2様式!F83),\"#,##0\"),\"\")","v":""},{"$f":"IF(P_16号2様式!F83= \"\",\"\",IF(VALUE(FIXED(P_16号2様式!F83,0,TRUE))<>P_16号2様式!F83,RIGHT(FIXED(P_16号2様式!F83,3,FALSE),4),\"\"))","v":""},{"$f":"IF(P_16号2様式!G83<> \"\",TEXT(INT(P_16号2様式!G83),\"#,##0\"),\"\")","v":""},{"$f":"IF(P_16号2様式!G83= \"\",\"\",IF(VALUE(FIXED(P_16号2様式!G83,0,TRUE))<>P_16号2様式!G83,RIGHT(FIXED(P_16号2様式!G83,3,FALSE),4),\"\"))","v":""},{"$f":"IF(P_16号2様式!H83<> \"\",TEXT(INT(P_16号2様式!H83),\"#,##0\"),\"\")","v":""},{"$f":"IF(P_16号2様式!H83= \"\",\"\",IF(VALUE(FIXED(P_16号2様式!H83,0,TRUE))<>P_16号2様式!H83,RIGHT(FIXED(P_16号2様式!H83,3,FALSE),4),\"\"))","v":""},{"$f":"IF(P_16号2様式!I83<> \"\",TEXT(INT(P_16号2様式!I83),\"#,##0\"),\"\")","v":""},{"$f":"IF(P_16号2様式!I83= \"\",\"\",IF(VALUE(FIXED(P_16号2様式!I83,0,TRUE))<>P_16号2様式!I83,RIGHT(FIXED(P_16号2様式!I83,3,FALSE),4),\"\"))","v":""},{"$f":"IF(P_16号2様式!J83<> \"\",TEXT(INT(P_16号2様式!J83),\"#,##0\"),\"\")","v":""},{"$f":"IF(P_16号2様式!J83= \"\",\"\",IF(VALUE(FIXED(P_16号2様式!J83,0,TRUE))<>P_16号2様式!J83,RIGHT(FIXED(P_16号2様式!J83,3,FALSE),4),\"\"))","v":""},{"$f":"IF(P_16号2様式!K83<> \"\",TEXT(INT(P_16号2様式!K83),\"#,##0\"),\"\")","v":""},{"$f":"IF(P_16号2様式!K83= \"\",\"\",IF(VALUE(FIXED(P_16号2様式!K83,0,TRUE))<>P_16号2様式!K83,RIGHT(FIXED(P_16号2様式!K83,3,FALSE),4),\"\"))","v":""},{"$f":"IF(P_16号2様式!L83<> \"\",TEXT(INT(P_16号2様式!L83),\"#,##0\"),\"\")","v":""},{"$f":"IF(P_16号2様式!L83= \"\",\"\",IF(VALUE(FIXED(P_16号2様式!L83,0,TRUE))<>P_16号2様式!L83,RIGHT(FIXED(P_16号2様式!L83,3,FALSE),4),\"\"))","v":""},{"$f":"IF(P_16号2様式!M83=\"\",\"\",P_16号2様式!M83)","v":""},null,{"$f":"IF(P_16号2様式!N83=\"\",\"\",P_16号2様式!N83)","v":""},null,{"$f":"IF(P_16号2様式!O83=\"\",\"\",P_16号2様式!O83)","v":""}]
[{"$f":"IF(P_16号2様式!C84=\"\",\"\",P_16号2様式!C84)","v":""},null,{"$f":"IF(P_16号2様式!D84=\"\",\"\",P_16号2様式!D84)","v":""},{"$f":"IF(P_16号2様式!E84<> \"\",TEXT(INT(P_16号2様式!E84),\"#,##0\"),\"\")","v":""},{"$f":"IF(P_16号2様式!E84= \"\",\"\",IF(VALUE(FIXED(P_16号2様式!E84,0,TRUE))<>P_16号2様式!E84,RIGHT(FIXED(P_16号2様式!E84,3,FALSE),4),\"\"))","v":""},{"$f":"IF(P_16号2様式!F84<> \"\",TEXT(INT(P_16号2様式!F84),\"#,##0\"),\"\")","v":""},{"$f":"IF(P_16号2様式!F84= \"\",\"\",IF(VALUE(FIXED(P_16号2様式!F84,0,TRUE))<>P_16号2様式!F84,RIGHT(FIXED(P_16号2様式!F84,3,FALSE),4),\"\"))","v":""},{"$f":"IF(P_16号2様式!G84<> \"\",TEXT(INT(P_16号2様式!G84),\"#,##0\"),\"\")","v":""},{"$f":"IF(P_16号2様式!G84= \"\",\"\",IF(VALUE(FIXED(P_16号2様式!G84,0,TRUE))<>P_16号2様式!G84,RIGHT(FIXED(P_16号2様式!G84,3,FALSE),4),\"\"))","v":""},{"$f":"IF(P_16号2様式!H84<> \"\",TEXT(INT(P_16号2様式!H84),\"#,##0\"),\"\")","v":""},{"$f":"IF(P_16号2様式!H84= \"\",\"\",IF(VALUE(FIXED(P_16号2様式!H84,0,TRUE))<>P_16号2様式!H84,RIGHT(FIXED(P_16号2様式!H84,3,FALSE),4),\"\"))","v":""},{"$f":"IF(P_16号2様式!I84<> \"\",TEXT(INT(P_16号2様式!I84),\"#,##0\"),\"\")","v":""},{"$f":"IF(P_16号2様式!I84= \"\",\"\",IF(VALUE(FIXED(P_16号2様式!I84,0,TRUE))<>P_16号2様式!I84,RIGHT(FIXED(P_16号2様式!I84,3,FALSE),4),\"\"))","v":""},{"$f":"IF(P_16号2様式!J84<> \"\",TEXT(INT(P_16号2様式!J84),\"#,##0\"),\"\")","v":""},{"$f":"IF(P_16号2様式!J84= \"\",\"\",IF(VALUE(FIXED(P_16号2様式!J84,0,TRUE))<>P_16号2様式!J84,RIGHT(FIXED(P_16号2様式!J84,3,FALSE),4),\"\"))","v":""},{"$f":"IF(P_16号2様式!K84<> \"\",TEXT(INT(P_16号2様式!K84),\"#,##0\"),\"\")","v":""},{"$f":"IF(P_16号2様式!K84= \"\",\"\",IF(VALUE(FIXED(P_16号2様式!K84,0,TRUE))<>P_16号2様式!K84,RIGHT(FIXED(P_16号2様式!K84,3,FALSE),4),\"\"))","v":""},{"$f":"IF(P_16号2様式!L84<> \"\",TEXT(INT(P_16号2様式!L84),\"#,##0\"),\"\")","v":""},{"$f":"IF(P_16号2様式!L84= \"\",\"\",IF(VALUE(FIXED(P_16号2様式!L84,0,TRUE))<>P_16号2様式!L84,RIGHT(FIXED(P_16号2様式!L84,3,FALSE),4),\"\"))","v":""},{"$f":"IF(P_16号2様式!M84=\"\",\"\",P_16号2様式!M84)","v":""},null,{"$f":"IF(P_16号2様式!N84=\"\",\"\",P_16号2様式!N84)","v":""},null,{"$f":"IF(P_16号2様式!O84=\"\",\"\",P_16号2様式!O84)","v":""}]
[{"$f":"IF(P_16号2様式!C85=\"\",\"\",P_16号2様式!C85)","v":""},null,{"$f":"IF(P_16号2様式!D85=\"\",\"\",P_16号2様式!D85)","v":""},{"$f":"IF(P_16号2様式!E85<> \"\",TEXT(INT(P_16号2様式!E85),\"#,##0\"),\"\")","v":""},{"$f":"IF(P_16号2様式!E85= \"\",\"\",IF(VALUE(FIXED(P_16号2様式!E85,0,TRUE))<>P_16号2様式!E85,RIGHT(FIXED(P_16号2様式!E85,3,FALSE),4),\"\"))","v":""},{"$f":"IF(P_16号2様式!F85<> \"\",TEXT(INT(P_16号2様式!F85),\"#,##0\"),\"\")","v":""},{"$f":"IF(P_16号2様式!F85= \"\",\"\",IF(VALUE(FIXED(P_16号2様式!F85,0,TRUE))<>P_16号2様式!F85,RIGHT(FIXED(P_16号2様式!F85,3,FALSE),4),\"\"))","v":""},{"$f":"IF(P_16号2様式!G85<> \"\",TEXT(INT(P_16号2様式!G85),\"#,##0\"),\"\")","v":""},{"$f":"IF(P_16号2様式!G85= \"\",\"\",IF(VALUE(FIXED(P_16号2様式!G85,0,TRUE))<>P_16号2様式!G85,RIGHT(FIXED(P_16号2様式!G85,3,FALSE),4),\"\"))","v":""},{"$f":"IF(P_16号2様式!H85<> \"\",TEXT(INT(P_16号2様式!H85),\"#,##0\"),\"\")","v":""},{"$f":"IF(P_16号2様式!H85= \"\",\"\",IF(VALUE(FIXED(P_16号2様式!H85,0,TRUE))<>P_16号2様式!H85,RIGHT(FIXED(P_16号2様式!H85,3,FALSE),4),\"\"))","v":""},{"$f":"IF(P_16号2様式!I85<> \"\",TEXT(INT(P_16号2様式!I85),\"#,##0\"),\"\")","v":""},{"$f":"IF(P_16号2様式!I85= \"\",\"\",IF(VALUE(FIXED(P_16号2様式!I85,0,TRUE))<>P_16号2様式!I85,RIGHT(FIXED(P_16号2様式!I85,3,FALSE),4),\"\"))","v":""},{"$f":"IF(P_16号2様式!J85<> \"\",TEXT(INT(P_16号2様式!J85),\"#,##0\"),\"\")","v":""},{"$f":"IF(P_16号2様式!J85= \"\",\"\",IF(VALUE(FIXED(P_16号2様式!J85,0,TRUE))<>P_16号2様式!J85,RIGHT(FIXED(P_16号2様式!J85,3,FALSE),4),\"\"))","v":""},{"$f":"IF(P_16号2様式!K85<> \"\",TEXT(INT(P_16号2様式!K85),\"#,##0\"),\"\")","v":""},{"$f":"IF(P_16号2様式!K85= \"\",\"\",IF(VALUE(FIXED(P_16号2様式!K85,0,TRUE))<>P_16号2様式!K85,RIGHT(FIXED(P_16号2様式!K85,3,FALSE),4),\"\"))","v":""},{"$f":"IF(P_16号2様式!L85<> \"\",TEXT(INT(P_16号2様式!L85),\"#,##0\"),\"\")","v":""},{"$f":"IF(P_16号2様式!L85= \"\",\"\",IF(VALUE(FIXED(P_16号2様式!L85,0,TRUE))<>P_16号2様式!L85,RIGHT(FIXED(P_16号2様式!L85,3,FALSE),4),\"\"))","v":""},{"$f":"IF(P_16号2様式!M85=\"\",\"\",P_16号2様式!M85)","v":""},null,{"$f":"IF(P_16号2様式!N85=\"\",\"\",P_16号2様式!N85)","v":""},null,{"$f":"IF(P_16号2様式!O85=\"\",\"\",P_16号2様式!O85)","v":""}]
[{"$f":"IF(P_16号2様式!C86=\"\",\"\",P_16号2様式!C86)","v":""},null,{"$f":"IF(P_16号2様式!D86=\"\",\"\",P_16号2様式!D86)","v":""},{"$f":"IF(P_16号2様式!E86<> \"\",TEXT(INT(P_16号2様式!E86),\"#,##0\"),\"\")","v":""},{"$f":"IF(P_16号2様式!E86= \"\",\"\",IF(VALUE(FIXED(P_16号2様式!E86,0,TRUE))<>P_16号2様式!E86,RIGHT(FIXED(P_16号2様式!E86,3,FALSE),4),\"\"))","v":""},{"$f":"IF(P_16号2様式!F86<> \"\",TEXT(INT(P_16号2様式!F86),\"#,##0\"),\"\")","v":""},{"$f":"IF(P_16号2様式!F86= \"\",\"\",IF(VALUE(FIXED(P_16号2様式!F86,0,TRUE))<>P_16号2様式!F86,RIGHT(FIXED(P_16号2様式!F86,3,FALSE),4),\"\"))","v":""},{"$f":"IF(P_16号2様式!G86<> \"\",TEXT(INT(P_16号2様式!G86),\"#,##0\"),\"\")","v":""},{"$f":"IF(P_16号2様式!G86= \"\",\"\",IF(VALUE(FIXED(P_16号2様式!G86,0,TRUE))<>P_16号2様式!G86,RIGHT(FIXED(P_16号2様式!G86,3,FALSE),4),\"\"))","v":""},{"$f":"IF(P_16号2様式!H86<> \"\",TEXT(INT(P_16号2様式!H86),\"#,##0\"),\"\")","v":""},{"$f":"IF(P_16号2様式!H86= \"\",\"\",IF(VALUE(FIXED(P_16号2様式!H86,0,TRUE))<>P_16号2様式!H86,RIGHT(FIXED(P_16号2様式!H86,3,FALSE),4),\"\"))","v":""},{"$f":"IF(P_16号2様式!I86<> \"\",TEXT(INT(P_16号2様式!I86),\"#,##0\"),\"\")","v":""},{"$f":"IF(P_16号2様式!I86= \"\",\"\",IF(VALUE(FIXED(P_16号2様式!I86,0,TRUE))<>P_16号2様式!I86,RIGHT(FIXED(P_16号2様式!I86,3,FALSE),4),\"\"))","v":""},{"$f":"IF(P_16号2様式!J86<> \"\",TEXT(INT(P_16号2様式!J86),\"#,##0\"),\"\")","v":""},{"$f":"IF(P_16号2様式!J86= \"\",\"\",IF(VALUE(FIXED(P_16号2様式!J86,0,TRUE))<>P_16号2様式!J86,RIGHT(FIXED(P_16号2様式!J86,3,FALSE),4),\"\"))","v":""},{"$f":"IF(P_16号2様式!K86<> \"\",TEXT(INT(P_16号2様式!K86),\"#,##0\"),\"\")","v":""},{"$f":"IF(P_16号2様式!K86= \"\",\"\",IF(VALUE(FIXED(P_16号2様式!K86,0,TRUE))<>P_16号2様式!K86,RIGHT(FIXED(P_16号2様式!K86,3,FALSE),4),\"\"))","v":""},{"$f":"IF(P_16号2様式!L86<> \"\",TEXT(INT(P_16号2様式!L86),\"#,##0\"),\"\")","v":""},{"$f":"IF(P_16号2様式!L86= \"\",\"\",IF(VALUE(FIXED(P_16号2様式!L86,0,TRUE))<>P_16号2様式!L86,RIGHT(FIXED(P_16号2様式!L86,3,FALSE),4),\"\"))","v":""},{"$f":"IF(P_16号2様式!M86=\"\",\"\",P_16号2様式!M86)","v":""},null,{"$f":"IF(P_16号2様式!N86=\"\",\"\",P_16号2様式!N86)","v":""},null,{"$f":"IF(P_16号2様式!O86=\"\",\"\",P_16号2様式!O86)","v":""}]
[{"$f":"IF(P_16号2様式!C87=\"\",\"\",P_16号2様式!C87)","v":""},null,{"$f":"IF(P_16号2様式!D87=\"\",\"\",P_16号2様式!D87)","v":""},{"$f":"IF(P_16号2様式!E87<> \"\",TEXT(INT(P_16号2様式!E87),\"#,##0\"),\"\")","v":""},{"$f":"IF(P_16号2様式!E87= \"\",\"\",IF(VALUE(FIXED(P_16号2様式!E87,0,TRUE))<>P_16号2様式!E87,RIGHT(FIXED(P_16号2様式!E87,3,FALSE),4),\"\"))","v":""},{"$f":"IF(P_16号2様式!F87<> \"\",TEXT(INT(P_16号2様式!F87),\"#,##0\"),\"\")","v":""},{"$f":"IF(P_16号2様式!F87= \"\",\"\",IF(VALUE(FIXED(P_16号2様式!F87,0,TRUE))<>P_16号2様式!F87,RIGHT(FIXED(P_16号2様式!F87,3,FALSE),4),\"\"))","v":""},{"$f":"IF(P_16号2様式!G87<> \"\",TEXT(INT(P_16号2様式!G87),\"#,##0\"),\"\")","v":""},{"$f":"IF(P_16号2様式!G87= \"\",\"\",IF(VALUE(FIXED(P_16号2様式!G87,0,TRUE))<>P_16号2様式!G87,RIGHT(FIXED(P_16号2様式!G87,3,FALSE),4),\"\"))","v":""},{"$f":"IF(P_16号2様式!H87<> \"\",TEXT(INT(P_16号2様式!H87),\"#,##0\"),\"\")","v":""},{"$f":"IF(P_16号2様式!H87= \"\",\"\",IF(VALUE(FIXED(P_16号2様式!H87,0,TRUE))<>P_16号2様式!H87,RIGHT(FIXED(P_16号2様式!H87,3,FALSE),4),\"\"))","v":""},{"$f":"IF(P_16号2様式!I87<> \"\",TEXT(INT(P_16号2様式!I87),\"#,##0\"),\"\")","v":""},{"$f":"IF(P_16号2様式!I87= \"\",\"\",IF(VALUE(FIXED(P_16号2様式!I87,0,TRUE))<>P_16号2様式!I87,RIGHT(FIXED(P_16号2様式!I87,3,FALSE),4),\"\"))","v":""},{"$f":"IF(P_16号2様式!J87<> \"\",TEXT(INT(P_16号2様式!J87),\"#,##0\"),\"\")","v":""},{"$f":"IF(P_16号2様式!J87= \"\",\"\",IF(VALUE(FIXED(P_16号2様式!J87,0,TRUE))<>P_16号2様式!J87,RIGHT(FIXED(P_16号2様式!J87,3,FALSE),4),\"\"))","v":""},{"$f":"IF(P_16号2様式!K87<> \"\",TEXT(INT(P_16号2様式!K87),\"#,##0\"),\"\")","v":""},{"$f":"IF(P_16号2様式!K87= \"\",\"\",IF(VALUE(FIXED(P_16号2様式!K87,0,TRUE))<>P_16号2様式!K87,RIGHT(FIXED(P_16号2様式!K87,3,FALSE),4),\"\"))","v":""},{"$f":"IF(P_16号2様式!L87<> \"\",TEXT(INT(P_16号2様式!L87),\"#,##0\"),\"\")","v":""},{"$f":"IF(P_16号2様式!L87= \"\",\"\",IF(VALUE(FIXED(P_16号2様式!L87,0,TRUE))<>P_16号2様式!L87,RIGHT(FIXED(P_16号2様式!L87,3,FALSE),4),\"\"))","v":""},{"$f":"IF(P_16号2様式!M87=\"\",\"\",P_16号2様式!M87)","v":""},null,{"$f":"IF(P_16号2様式!N87=\"\",\"\",P_16号2様式!N87)","v":""},null,{"$f":"IF(P_16号2様式!O87=\"\",\"\",P_16号2様式!O87)","v":""}]
[{"$f":"IF(P_16号2様式!C88=\"\",\"\",P_16号2様式!C88)","v":""},null,{"$f":"IF(P_16号2様式!D88=\"\",\"\",P_16号2様式!D88)","v":""},{"$f":"IF(P_16号2様式!E88<> \"\",TEXT(INT(P_16号2様式!E88),\"#,##0\"),\"\")","v":""},{"$f":"IF(P_16号2様式!E88= \"\",\"\",IF(VALUE(FIXED(P_16号2様式!E88,0,TRUE))<>P_16号2様式!E88,RIGHT(FIXED(P_16号2様式!E88,3,FALSE),4),\"\"))","v":""},{"$f":"IF(P_16号2様式!F88<> \"\",TEXT(INT(P_16号2様式!F88),\"#,##0\"),\"\")","v":""},{"$f":"IF(P_16号2様式!F88= \"\",\"\",IF(VALUE(FIXED(P_16号2様式!F88,0,TRUE))<>P_16号2様式!F88,RIGHT(FIXED(P_16号2様式!F88,3,FALSE),4),\"\"))","v":""},{"$f":"IF(P_16号2様式!G88<> \"\",TEXT(INT(P_16号2様式!G88),\"#,##0\"),\"\")","v":""},{"$f":"IF(P_16号2様式!G88= \"\",\"\",IF(VALUE(FIXED(P_16号2様式!G88,0,TRUE))<>P_16号2様式!G88,RIGHT(FIXED(P_16号2様式!G88,3,FALSE),4),\"\"))","v":""},{"$f":"IF(P_16号2様式!H88<> \"\",TEXT(INT(P_16号2様式!H88),\"#,##0\"),\"\")","v":""},{"$f":"IF(P_16号2様式!H88= \"\",\"\",IF(VALUE(FIXED(P_16号2様式!H88,0,TRUE))<>P_16号2様式!H88,RIGHT(FIXED(P_16号2様式!H88,3,FALSE),4),\"\"))","v":""},{"$f":"IF(P_16号2様式!I88<> \"\",TEXT(INT(P_16号2様式!I88),\"#,##0\"),\"\")","v":""},{"$f":"IF(P_16号2様式!I88= \"\",\"\",IF(VALUE(FIXED(P_16号2様式!I88,0,TRUE))<>P_16号2様式!I88,RIGHT(FIXED(P_16号2様式!I88,3,FALSE),4),\"\"))","v":""},{"$f":"IF(P_16号2様式!J88<> \"\",TEXT(INT(P_16号2様式!J88),\"#,##0\"),\"\")","v":""},{"$f":"IF(P_16号2様式!J88= \"\",\"\",IF(VALUE(FIXED(P_16号2様式!J88,0,TRUE))<>P_16号2様式!J88,RIGHT(FIXED(P_16号2様式!J88,3,FALSE),4),\"\"))","v":""},{"$f":"IF(P_16号2様式!K88<> \"\",TEXT(INT(P_16号2様式!K88),\"#,##0\"),\"\")","v":""},{"$f":"IF(P_16号2様式!K88= \"\",\"\",IF(VALUE(FIXED(P_16号2様式!K88,0,TRUE))<>P_16号2様式!K88,RIGHT(FIXED(P_16号2様式!K88,3,FALSE),4),\"\"))","v":""},{"$f":"IF(P_16号2様式!L88<> \"\",TEXT(INT(P_16号2様式!L88),\"#,##0\"),\"\")","v":""},{"$f":"IF(P_16号2様式!L88= \"\",\"\",IF(VALUE(FIXED(P_16号2様式!L88,0,TRUE))<>P_16号2様式!L88,RIGHT(FIXED(P_16号2様式!L88,3,FALSE),4),\"\"))","v":""},{"$f":"IF(P_16号2様式!M88=\"\",\"\",P_16号2様式!M88)","v":""},null,{"$f":"IF(P_16号2様式!N88=\"\",\"\",P_16号2様式!N88)","v":""},null,{"$f":"IF(P_16号2様式!O88=\"\",\"\",P_16号2様式!O88)","v":""}]
[{"$f":"IF(P_16号2様式!C89=\"\",\"\",P_16号2様式!C89)","v":""},null,{"$f":"IF(P_16号2様式!D89=\"\",\"\",P_16号2様式!D89)","v":""},{"$f":"IF(P_16号2様式!E89<> \"\",TEXT(INT(P_16号2様式!E89),\"#,##0\"),\"\")","v":""},{"$f":"IF(P_16号2様式!E89= \"\",\"\",IF(VALUE(FIXED(P_16号2様式!E89,0,TRUE))<>P_16号2様式!E89,RIGHT(FIXED(P_16号2様式!E89,3,FALSE),4),\"\"))","v":""},{"$f":"IF(P_16号2様式!F89<> \"\",TEXT(INT(P_16号2様式!F89),\"#,##0\"),\"\")","v":""},{"$f":"IF(P_16号2様式!F89= \"\",\"\",IF(VALUE(FIXED(P_16号2様式!F89,0,TRUE))<>P_16号2様式!F89,RIGHT(FIXED(P_16号2様式!F89,3,FALSE),4),\"\"))","v":""},{"$f":"IF(P_16号2様式!G89<> \"\",TEXT(INT(P_16号2様式!G89),\"#,##0\"),\"\")","v":""},{"$f":"IF(P_16号2様式!G89= \"\",\"\",IF(VALUE(FIXED(P_16号2様式!G89,0,TRUE))<>P_16号2様式!G89,RIGHT(FIXED(P_16号2様式!G89,3,FALSE),4),\"\"))","v":""},{"$f":"IF(P_16号2様式!H89<> \"\",TEXT(INT(P_16号2様式!H89),\"#,##0\"),\"\")","v":""},{"$f":"IF(P_16号2様式!H89= \"\",\"\",IF(VALUE(FIXED(P_16号2様式!H89,0,TRUE))<>P_16号2様式!H89,RIGHT(FIXED(P_16号2様式!H89,3,FALSE),4),\"\"))","v":""},{"$f":"IF(P_16号2様式!I89<> \"\",TEXT(INT(P_16号2様式!I89),\"#,##0\"),\"\")","v":""},{"$f":"IF(P_16号2様式!I89= \"\",\"\",IF(VALUE(FIXED(P_16号2様式!I89,0,TRUE))<>P_16号2様式!I89,RIGHT(FIXED(P_16号2様式!I89,3,FALSE),4),\"\"))","v":""},{"$f":"IF(P_16号2様式!J89<> \"\",TEXT(INT(P_16号2様式!J89),\"#,##0\"),\"\")","v":""},{"$f":"IF(P_16号2様式!J89= \"\",\"\",IF(VALUE(FIXED(P_16号2様式!J89,0,TRUE))<>P_16号2様式!J89,RIGHT(FIXED(P_16号2様式!J89,3,FALSE),4),\"\"))","v":""},{"$f":"IF(P_16号2様式!K89<> \"\",TEXT(INT(P_16号2様式!K89),\"#,##0\"),\"\")","v":""},{"$f":"IF(P_16号2様式!K89= \"\",\"\",IF(VALUE(FIXED(P_16号2様式!K89,0,TRUE))<>P_16号2様式!K89,RIGHT(FIXED(P_16号2様式!K89,3,FALSE),4),\"\"))","v":""},{"$f":"IF(P_16号2様式!L89<> \"\",TEXT(INT(P_16号2様式!L89),\"#,##0\"),\"\")","v":""},{"$f":"IF(P_16号2様式!L89= \"\",\"\",IF(VALUE(FIXED(P_16号2様式!L89,0,TRUE))<>P_16号2様式!L89,RIGHT(FIXED(P_16号2様式!L89,3,FALSE),4),\"\"))","v":""},{"$f":"IF(P_16号2様式!M89=\"\",\"\",P_16号2様式!M89)","v":""},null,{"$f":"IF(P_16号2様式!N89=\"\",\"\",P_16号2様式!N89)","v":""},null,{"$f":"IF(P_16号2様式!O89=\"\",\"\",P_16号2様式!O89)","v":""}]
[{"$f":"IF(P_16号2様式!C90=\"\",\"\",P_16号2様式!C90)","v":""},null,{"$f":"IF(P_16号2様式!D90=\"\",\"\",P_16号2様式!D90)","v":""},{"$f":"IF(P_16号2様式!E90<> \"\",TEXT(INT(P_16号2様式!E90),\"#,##0\"),\"\")","v":""},{"$f":"IF(P_16号2様式!E90= \"\",\"\",IF(VALUE(FIXED(P_16号2様式!E90,0,TRUE))<>P_16号2様式!E90,RIGHT(FIXED(P_16号2様式!E90,3,FALSE),4),\"\"))","v":""},{"$f":"IF(P_16号2様式!F90<> \"\",TEXT(INT(P_16号2様式!F90),\"#,##0\"),\"\")","v":""},{"$f":"IF(P_16号2様式!F90= \"\",\"\",IF(VALUE(FIXED(P_16号2様式!F90,0,TRUE))<>P_16号2様式!F90,RIGHT(FIXED(P_16号2様式!F90,3,FALSE),4),\"\"))","v":""},{"$f":"IF(P_16号2様式!G90<> \"\",TEXT(INT(P_16号2様式!G90),\"#,##0\"),\"\")","v":""},{"$f":"IF(P_16号2様式!G90= \"\",\"\",IF(VALUE(FIXED(P_16号2様式!G90,0,TRUE))<>P_16号2様式!G90,RIGHT(FIXED(P_16号2様式!G90,3,FALSE),4),\"\"))","v":""},{"$f":"IF(P_16号2様式!H90<> \"\",TEXT(INT(P_16号2様式!H90),\"#,##0\"),\"\")","v":""},{"$f":"IF(P_16号2様式!H90= \"\",\"\",IF(VALUE(FIXED(P_16号2様式!H90,0,TRUE))<>P_16号2様式!H90,RIGHT(FIXED(P_16号2様式!H90,3,FALSE),4),\"\"))","v":""},{"$f":"IF(P_16号2様式!I90<> \"\",TEXT(INT(P_16号2様式!I90),\"#,##0\"),\"\")","v":""},{"$f":"IF(P_16号2様式!I90= \"\",\"\",IF(VALUE(FIXED(P_16号2様式!I90,0,TRUE))<>P_16号2様式!I90,RIGHT(FIXED(P_16号2様式!I90,3,FALSE),4),\"\"))","v":""},{"$f":"IF(P_16号2様式!J90<> \"\",TEXT(INT(P_16号2様式!J90),\"#,##0\"),\"\")","v":""},{"$f":"IF(P_16号2様式!J90= \"\",\"\",IF(VALUE(FIXED(P_16号2様式!J90,0,TRUE))<>P_16号2様式!J90,RIGHT(FIXED(P_16号2様式!J90,3,FALSE),4),\"\"))","v":""},{"$f":"IF(P_16号2様式!K90<> \"\",TEXT(INT(P_16号2様式!K90),\"#,##0\"),\"\")","v":""},{"$f":"IF(P_16号2様式!K90= \"\",\"\",IF(VALUE(FIXED(P_16号2様式!K90,0,TRUE))<>P_16号2様式!K90,RIGHT(FIXED(P_16号2様式!K90,3,FALSE),4),\"\"))","v":""},{"$f":"IF(P_16号2様式!L90<> \"\",TEXT(INT(P_16号2様式!L90),\"#,##0\"),\"\")","v":""},{"$f":"IF(P_16号2様式!L90= \"\",\"\",IF(VALUE(FIXED(P_16号2様式!L90,0,TRUE))<>P_16号2様式!L90,RIGHT(FIXED(P_16号2様式!L90,3,FALSE),4),\"\"))","v":""},{"$f":"IF(P_16号2様式!M90=\"\",\"\",P_16号2様式!M90)","v":""},null,{"$f":"IF(P_16号2様式!N90=\"\",\"\",P_16号2様式!N90)","v":""},null,{"$f":"IF(P_16号2様式!O90=\"\",\"\",P_16号2様式!O90)","v":""}]
[{"$f":"IF(P_16号2様式!C91=\"\",\"\",P_16号2様式!C91)","v":""},null,{"$f":"IF(P_16号2様式!D91=\"\",\"\",P_16号2様式!D91)","v":""},{"$f":"IF(P_16号2様式!E91<> \"\",TEXT(INT(P_16号2様式!E91),\"#,##0\"),\"\")","v":""},{"$f":"IF(P_16号2様式!E91= \"\",\"\",IF(VALUE(FIXED(P_16号2様式!E91,0,TRUE))<>P_16号2様式!E91,RIGHT(FIXED(P_16号2様式!E91,3,FALSE),4),\"\"))","v":""},{"$f":"IF(P_16号2様式!F91<> \"\",TEXT(INT(P_16号2様式!F91),\"#,##0\"),\"\")","v":""},{"$f":"IF(P_16号2様式!F91= \"\",\"\",IF(VALUE(FIXED(P_16号2様式!F91,0,TRUE))<>P_16号2様式!F91,RIGHT(FIXED(P_16号2様式!F91,3,FALSE),4),\"\"))","v":""},{"$f":"IF(P_16号2様式!G91<> \"\",TEXT(INT(P_16号2様式!G91),\"#,##0\"),\"\")","v":""},{"$f":"IF(P_16号2様式!G91= \"\",\"\",IF(VALUE(FIXED(P_16号2様式!G91,0,TRUE))<>P_16号2様式!G91,RIGHT(FIXED(P_16号2様式!G91,3,FALSE),4),\"\"))","v":""},{"$f":"IF(P_16号2様式!H91<> \"\",TEXT(INT(P_16号2様式!H91),\"#,##0\"),\"\")","v":""},{"$f":"IF(P_16号2様式!H91= \"\",\"\",IF(VALUE(FIXED(P_16号2様式!H91,0,TRUE))<>P_16号2様式!H91,RIGHT(FIXED(P_16号2様式!H91,3,FALSE),4),\"\"))","v":""},{"$f":"IF(P_16号2様式!I91<> \"\",TEXT(INT(P_16号2様式!I91),\"#,##0\"),\"\")","v":""},{"$f":"IF(P_16号2様式!I91= \"\",\"\",IF(VALUE(FIXED(P_16号2様式!I91,0,TRUE))<>P_16号2様式!I91,RIGHT(FIXED(P_16号2様式!I91,3,FALSE),4),\"\"))","v":""},{"$f":"IF(P_16号2様式!J91<> \"\",TEXT(INT(P_16号2様式!J91),\"#,##0\"),\"\")","v":""},{"$f":"IF(P_16号2様式!J91= \"\",\"\",IF(VALUE(FIXED(P_16号2様式!J91,0,TRUE))<>P_16号2様式!J91,RIGHT(FIXED(P_16号2様式!J91,3,FALSE),4),\"\"))","v":""},{"$f":"IF(P_16号2様式!K91<> \"\",TEXT(INT(P_16号2様式!K91),\"#,##0\"),\"\")","v":""},{"$f":"IF(P_16号2様式!K91= \"\",\"\",IF(VALUE(FIXED(P_16号2様式!K91,0,TRUE))<>P_16号2様式!K91,RIGHT(FIXED(P_16号2様式!K91,3,FALSE),4),\"\"))","v":""},{"$f":"IF(P_16号2様式!L91<> \"\",TEXT(INT(P_16号2様式!L91),\"#,##0\"),\"\")","v":""},{"$f":"IF(P_16号2様式!L91= \"\",\"\",IF(VALUE(FIXED(P_16号2様式!L91,0,TRUE))<>P_16号2様式!L91,RIGHT(FIXED(P_16号2様式!L91,3,FALSE),4),\"\"))","v":""},{"$f":"IF(P_16号2様式!M91=\"\",\"\",P_16号2様式!M91)","v":""},null,{"$f":"IF(P_16号2様式!N91=\"\",\"\",P_16号2様式!N91)","v":""},null,{"$f":"IF(P_16号2様式!O91=\"\",\"\",P_16号2様式!O91)","v":""}]
[{"$f":"IF(P_16号2様式!C92=\"\",\"\",P_16号2様式!C92)","v":""},null,{"$f":"IF(P_16号2様式!D92=\"\",\"\",P_16号2様式!D92)","v":""},{"$f":"IF(P_16号2様式!E92<> \"\",TEXT(INT(P_16号2様式!E92),\"#,##0\"),\"\")","v":""},{"$f":"IF(P_16号2様式!E92= \"\",\"\",IF(VALUE(FIXED(P_16号2様式!E92,0,TRUE))<>P_16号2様式!E92,RIGHT(FIXED(P_16号2様式!E92,3,FALSE),4),\"\"))","v":""},{"$f":"IF(P_16号2様式!F92<> \"\",TEXT(INT(P_16号2様式!F92),\"#,##0\"),\"\")","v":""},{"$f":"IF(P_16号2様式!F92= \"\",\"\",IF(VALUE(FIXED(P_16号2様式!F92,0,TRUE))<>P_16号2様式!F92,RIGHT(FIXED(P_16号2様式!F92,3,FALSE),4),\"\"))","v":""},{"$f":"IF(P_16号2様式!G92<> \"\",TEXT(INT(P_16号2様式!G92),\"#,##0\"),\"\")","v":""},{"$f":"IF(P_16号2様式!G92= \"\",\"\",IF(VALUE(FIXED(P_16号2様式!G92,0,TRUE))<>P_16号2様式!G92,RIGHT(FIXED(P_16号2様式!G92,3,FALSE),4),\"\"))","v":""},{"$f":"IF(P_16号2様式!H92<> \"\",TEXT(INT(P_16号2様式!H92),\"#,##0\"),\"\")","v":""},{"$f":"IF(P_16号2様式!H92= \"\",\"\",IF(VALUE(FIXED(P_16号2様式!H92,0,TRUE))<>P_16号2様式!H92,RIGHT(FIXED(P_16号2様式!H92,3,FALSE),4),\"\"))","v":""},{"$f":"IF(P_16号2様式!I92<> \"\",TEXT(INT(P_16号2様式!I92),\"#,##0\"),\"\")","v":""},{"$f":"IF(P_16号2様式!I92= \"\",\"\",IF(VALUE(FIXED(P_16号2様式!I92,0,TRUE))<>P_16号2様式!I92,RIGHT(FIXED(P_16号2様式!I92,3,FALSE),4),\"\"))","v":""},{"$f":"IF(P_16号2様式!J92<> \"\",TEXT(INT(P_16号2様式!J92),\"#,##0\"),\"\")","v":""},{"$f":"IF(P_16号2様式!J92= \"\",\"\",IF(VALUE(FIXED(P_16号2様式!J92,0,TRUE))<>P_16号2様式!J92,RIGHT(FIXED(P_16号2様式!J92,3,FALSE),4),\"\"))","v":""},{"$f":"IF(P_16号2様式!K92<> \"\",TEXT(INT(P_16号2様式!K92),\"#,##0\"),\"\")","v":""},{"$f":"IF(P_16号2様式!K92= \"\",\"\",IF(VALUE(FIXED(P_16号2様式!K92,0,TRUE))<>P_16号2様式!K92,RIGHT(FIXED(P_16号2様式!K92,3,FALSE),4),\"\"))","v":""},{"$f":"IF(P_16号2様式!L92<> \"\",TEXT(INT(P_16号2様式!L92),\"#,##0\"),\"\")","v":""},{"$f":"IF(P_16号2様式!L92= \"\",\"\",IF(VALUE(FIXED(P_16号2様式!L92,0,TRUE))<>P_16号2様式!L92,RIGHT(FIXED(P_16号2様式!L92,3,FALSE),4),\"\"))","v":""},{"$f":"IF(P_16号2様式!M92=\"\",\"\",P_16号2様式!M92)","v":""},null,{"$f":"IF(P_16号2様式!N92=\"\",\"\",P_16号2様式!N92)","v":""},null,{"$f":"IF(P_16号2様式!O92=\"\",\"\",P_16号2様式!O92)","v":""}]
[{"$f":"IF(P_16号2様式!C93=\"\",\"\",P_16号2様式!C93)","v":""},null,{"$f":"IF(P_16号2様式!D93=\"\",\"\",P_16号2様式!D93)","v":""},{"$f":"IF(P_16号2様式!E93<> \"\",TEXT(INT(P_16号2様式!E93),\"#,##0\"),\"\")","v":""},{"$f":"IF(P_16号2様式!E93= \"\",\"\",IF(VALUE(FIXED(P_16号2様式!E93,0,TRUE))<>P_16号2様式!E93,RIGHT(FIXED(P_16号2様式!E93,3,FALSE),4),\"\"))","v":""},{"$f":"IF(P_16号2様式!F93<> \"\",TEXT(INT(P_16号2様式!F93),\"#,##0\"),\"\")","v":""},{"$f":"IF(P_16号2様式!F93= \"\",\"\",IF(VALUE(FIXED(P_16号2様式!F93,0,TRUE))<>P_16号2様式!F93,RIGHT(FIXED(P_16号2様式!F93,3,FALSE),4),\"\"))","v":""},{"$f":"IF(P_16号2様式!G93<> \"\",TEXT(INT(P_16号2様式!G93),\"#,##0\"),\"\")","v":""},{"$f":"IF(P_16号2様式!G93= \"\",\"\",IF(VALUE(FIXED(P_16号2様式!G93,0,TRUE))<>P_16号2様式!G93,RIGHT(FIXED(P_16号2様式!G93,3,FALSE),4),\"\"))","v":""},{"$f":"IF(P_16号2様式!H93<> \"\",TEXT(INT(P_16号2様式!H93),\"#,##0\"),\"\")","v":""},{"$f":"IF(P_16号2様式!H93= \"\",\"\",IF(VALUE(FIXED(P_16号2様式!H93,0,TRUE))<>P_16号2様式!H93,RIGHT(FIXED(P_16号2様式!H93,3,FALSE),4),\"\"))","v":""},{"$f":"IF(P_16号2様式!I93<> \"\",TEXT(INT(P_16号2様式!I93),\"#,##0\"),\"\")","v":""},{"$f":"IF(P_16号2様式!I93= \"\",\"\",IF(VALUE(FIXED(P_16号2様式!I93,0,TRUE))<>P_16号2様式!I93,RIGHT(FIXED(P_16号2様式!I93,3,FALSE),4),\"\"))","v":""},{"$f":"IF(P_16号2様式!J93<> \"\",TEXT(INT(P_16号2様式!J93),\"#,##0\"),\"\")","v":""},{"$f":"IF(P_16号2様式!J93= \"\",\"\",IF(VALUE(FIXED(P_16号2様式!J93,0,TRUE))<>P_16号2様式!J93,RIGHT(FIXED(P_16号2様式!J93,3,FALSE),4),\"\"))","v":""},{"$f":"IF(P_16号2様式!K93<> \"\",TEXT(INT(P_16号2様式!K93),\"#,##0\"),\"\")","v":""},{"$f":"IF(P_16号2様式!K93= \"\",\"\",IF(VALUE(FIXED(P_16号2様式!K93,0,TRUE))<>P_16号2様式!K93,RIGHT(FIXED(P_16号2様式!K93,3,FALSE),4),\"\"))","v":""},{"$f":"IF(P_16号2様式!L93<> \"\",TEXT(INT(P_16号2様式!L93),\"#,##0\"),\"\")","v":""},{"$f":"IF(P_16号2様式!L93= \"\",\"\",IF(VALUE(FIXED(P_16号2様式!L93,0,TRUE))<>P_16号2様式!L93,RIGHT(FIXED(P_16号2様式!L93,3,FALSE),4),\"\"))","v":""},{"$f":"IF(P_16号2様式!M93=\"\",\"\",P_16号2様式!M93)","v":""},null,{"$f":"IF(P_16号2様式!N93=\"\",\"\",P_16号2様式!N93)","v":""},null,{"$f":"IF(P_16号2様式!O93=\"\",\"\",P_16号2様式!O93)","v":""}]
[{"$f":"IF(P_16号2様式!C94=\"\",\"\",P_16号2様式!C94)","v":""},null,{"$f":"IF(P_16号2様式!D94=\"\",\"\",P_16号2様式!D94)","v":""},{"$f":"IF(P_16号2様式!E94<> \"\",TEXT(INT(P_16号2様式!E94),\"#,##0\"),\"\")","v":""},{"$f":"IF(P_16号2様式!E94= \"\",\"\",IF(VALUE(FIXED(P_16号2様式!E94,0,TRUE))<>P_16号2様式!E94,RIGHT(FIXED(P_16号2様式!E94,3,FALSE),4),\"\"))","v":""},{"$f":"IF(P_16号2様式!F94<> \"\",TEXT(INT(P_16号2様式!F94),\"#,##0\"),\"\")","v":""},{"$f":"IF(P_16号2様式!F94= \"\",\"\",IF(VALUE(FIXED(P_16号2様式!F94,0,TRUE))<>P_16号2様式!F94,RIGHT(FIXED(P_16号2様式!F94,3,FALSE),4),\"\"))","v":""},{"$f":"IF(P_16号2様式!G94<> \"\",TEXT(INT(P_16号2様式!G94),\"#,##0\"),\"\")","v":""},{"$f":"IF(P_16号2様式!G94= \"\",\"\",IF(VALUE(FIXED(P_16号2様式!G94,0,TRUE))<>P_16号2様式!G94,RIGHT(FIXED(P_16号2様式!G94,3,FALSE),4),\"\"))","v":""},{"$f":"IF(P_16号2様式!H94<> \"\",TEXT(INT(P_16号2様式!H94),\"#,##0\"),\"\")","v":""},{"$f":"IF(P_16号2様式!H94= \"\",\"\",IF(VALUE(FIXED(P_16号2様式!H94,0,TRUE))<>P_16号2様式!H94,RIGHT(FIXED(P_16号2様式!H94,3,FALSE),4),\"\"))","v":""},{"$f":"IF(P_16号2様式!I94<> \"\",TEXT(INT(P_16号2様式!I94),\"#,##0\"),\"\")","v":""},{"$f":"IF(P_16号2様式!I94= \"\",\"\",IF(VALUE(FIXED(P_16号2様式!I94,0,TRUE))<>P_16号2様式!I94,RIGHT(FIXED(P_16号2様式!I94,3,FALSE),4),\"\"))","v":""},{"$f":"IF(P_16号2様式!J94<> \"\",TEXT(INT(P_16号2様式!J94),\"#,##0\"),\"\")","v":""},{"$f":"IF(P_16号2様式!J94= \"\",\"\",IF(VALUE(FIXED(P_16号2様式!J94,0,TRUE))<>P_16号2様式!J94,RIGHT(FIXED(P_16号2様式!J94,3,FALSE),4),\"\"))","v":""},{"$f":"IF(P_16号2様式!K94<> \"\",TEXT(INT(P_16号2様式!K94),\"#,##0\"),\"\")","v":""},{"$f":"IF(P_16号2様式!K94= \"\",\"\",IF(VALUE(FIXED(P_16号2様式!K94,0,TRUE))<>P_16号2様式!K94,RIGHT(FIXED(P_16号2様式!K94,3,FALSE),4),\"\"))","v":""},{"$f":"IF(P_16号2様式!L94<> \"\",TEXT(INT(P_16号2様式!L94),\"#,##0\"),\"\")","v":""},{"$f":"IF(P_16号2様式!L94= \"\",\"\",IF(VALUE(FIXED(P_16号2様式!L94,0,TRUE))<>P_16号2様式!L94,RIGHT(FIXED(P_16号2様式!L94,3,FALSE),4),\"\"))","v":""},{"$f":"IF(P_16号2様式!M94=\"\",\"\",P_16号2様式!M94)","v":""},null,{"$f":"IF(P_16号2様式!N94=\"\",\"\",P_16号2様式!N94)","v":""},null,{"$f":"IF(P_16号2様式!O94=\"\",\"\",P_16号2様式!O94)","v":""}]
[{"$f":"IF(P_16号2様式!C95=\"\",\"\",P_16号2様式!C95)","v":""},null,{"$f":"IF(P_16号2様式!D95=\"\",\"\",P_16号2様式!D95)","v":""},{"$f":"IF(P_16号2様式!E95<> \"\",TEXT(INT(P_16号2様式!E95),\"#,##0\"),\"\")","v":""},{"$f":"IF(P_16号2様式!E95= \"\",\"\",IF(VALUE(FIXED(P_16号2様式!E95,0,TRUE))<>P_16号2様式!E95,RIGHT(FIXED(P_16号2様式!E95,3,FALSE),4),\"\"))","v":""},{"$f":"IF(P_16号2様式!F95<> \"\",TEXT(INT(P_16号2様式!F95),\"#,##0\"),\"\")","v":""},{"$f":"IF(P_16号2様式!F95= \"\",\"\",IF(VALUE(FIXED(P_16号2様式!F95,0,TRUE))<>P_16号2様式!F95,RIGHT(FIXED(P_16号2様式!F95,3,FALSE),4),\"\"))","v":""},{"$f":"IF(P_16号2様式!G95<> \"\",TEXT(INT(P_16号2様式!G95),\"#,##0\"),\"\")","v":""},{"$f":"IF(P_16号2様式!G95= \"\",\"\",IF(VALUE(FIXED(P_16号2様式!G95,0,TRUE))<>P_16号2様式!G95,RIGHT(FIXED(P_16号2様式!G95,3,FALSE),4),\"\"))","v":""},{"$f":"IF(P_16号2様式!H95<> \"\",TEXT(INT(P_16号2様式!H95),\"#,##0\"),\"\")","v":""},{"$f":"IF(P_16号2様式!H95= \"\",\"\",IF(VALUE(FIXED(P_16号2様式!H95,0,TRUE))<>P_16号2様式!H95,RIGHT(FIXED(P_16号2様式!H95,3,FALSE),4),\"\"))","v":""},{"$f":"IF(P_16号2様式!I95<> \"\",TEXT(INT(P_16号2様式!I95),\"#,##0\"),\"\")","v":""},{"$f":"IF(P_16号2様式!I95= \"\",\"\",IF(VALUE(FIXED(P_16号2様式!I95,0,TRUE))<>P_16号2様式!I95,RIGHT(FIXED(P_16号2様式!I95,3,FALSE),4),\"\"))","v":""},{"$f":"IF(P_16号2様式!J95<> \"\",TEXT(INT(P_16号2様式!J95),\"#,##0\"),\"\")","v":""},{"$f":"IF(P_16号2様式!J95= \"\",\"\",IF(VALUE(FIXED(P_16号2様式!J95,0,TRUE))<>P_16号2様式!J95,RIGHT(FIXED(P_16号2様式!J95,3,FALSE),4),\"\"))","v":""},{"$f":"IF(P_16号2様式!K95<> \"\",TEXT(INT(P_16号2様式!K95),\"#,##0\"),\"\")","v":""},{"$f":"IF(P_16号2様式!K95= \"\",\"\",IF(VALUE(FIXED(P_16号2様式!K95,0,TRUE))<>P_16号2様式!K95,RIGHT(FIXED(P_16号2様式!K95,3,FALSE),4),\"\"))","v":""},{"$f":"IF(P_16号2様式!L95<> \"\",TEXT(INT(P_16号2様式!L95),\"#,##0\"),\"\")","v":""},{"$f":"IF(P_16号2様式!L95= \"\",\"\",IF(VALUE(FIXED(P_16号2様式!L95,0,TRUE))<>P_16号2様式!L95,RIGHT(FIXED(P_16号2様式!L95,3,FALSE),4),\"\"))","v":""},{"$f":"IF(P_16号2様式!M95=\"\",\"\",P_16号2様式!M95)","v":""},null,{"$f":"IF(P_16号2様式!N95=\"\",\"\",P_16号2様式!N95)","v":""},null,{"$f":"IF(P_16号2様式!O95=\"\",\"\",P_16号2様式!O95)","v":""}]
[{"$f":"IF(P_16号2様式!C96=\"\",\"\",P_16号2様式!C96)","v":""},null,{"$f":"IF(P_16号2様式!D96=\"\",\"\",P_16号2様式!D96)","v":""},{"$f":"IF(P_16号2様式!E96<> \"\",TEXT(INT(P_16号2様式!E96),\"#,##0\"),\"\")","v":""},{"$f":"IF(P_16号2様式!E96= \"\",\"\",IF(VALUE(FIXED(P_16号2様式!E96,0,TRUE))<>P_16号2様式!E96,RIGHT(FIXED(P_16号2様式!E96,3,FALSE),4),\"\"))","v":""},{"$f":"IF(P_16号2様式!F96<> \"\",TEXT(INT(P_16号2様式!F96),\"#,##0\"),\"\")","v":""},{"$f":"IF(P_16号2様式!F96= \"\",\"\",IF(VALUE(FIXED(P_16号2様式!F96,0,TRUE))<>P_16号2様式!F96,RIGHT(FIXED(P_16号2様式!F96,3,FALSE),4),\"\"))","v":""},{"$f":"IF(P_16号2様式!G96<> \"\",TEXT(INT(P_16号2様式!G96),\"#,##0\"),\"\")","v":""},{"$f":"IF(P_16号2様式!G96= \"\",\"\",IF(VALUE(FIXED(P_16号2様式!G96,0,TRUE))<>P_16号2様式!G96,RIGHT(FIXED(P_16号2様式!G96,3,FALSE),4),\"\"))","v":""},{"$f":"IF(P_16号2様式!H96<> \"\",TEXT(INT(P_16号2様式!H96),\"#,##0\"),\"\")","v":""},{"$f":"IF(P_16号2様式!H96= \"\",\"\",IF(VALUE(FIXED(P_16号2様式!H96,0,TRUE))<>P_16号2様式!H96,RIGHT(FIXED(P_16号2様式!H96,3,FALSE),4),\"\"))","v":""},{"$f":"IF(P_16号2様式!I96<> \"\",TEXT(INT(P_16号2様式!I96),\"#,##0\"),\"\")","v":""},{"$f":"IF(P_16号2様式!I96= \"\",\"\",IF(VALUE(FIXED(P_16号2様式!I96,0,TRUE))<>P_16号2様式!I96,RIGHT(FIXED(P_16号2様式!I96,3,FALSE),4),\"\"))","v":""},{"$f":"IF(P_16号2様式!J96<> \"\",TEXT(INT(P_16号2様式!J96),\"#,##0\"),\"\")","v":""},{"$f":"IF(P_16号2様式!J96= \"\",\"\",IF(VALUE(FIXED(P_16号2様式!J96,0,TRUE))<>P_16号2様式!J96,RIGHT(FIXED(P_16号2様式!J96,3,FALSE),4),\"\"))","v":""},{"$f":"IF(P_16号2様式!K96<> \"\",TEXT(INT(P_16号2様式!K96),\"#,##0\"),\"\")","v":""},{"$f":"IF(P_16号2様式!K96= \"\",\"\",IF(VALUE(FIXED(P_16号2様式!K96,0,TRUE))<>P_16号2様式!K96,RIGHT(FIXED(P_16号2様式!K96,3,FALSE),4),\"\"))","v":""},{"$f":"IF(P_16号2様式!L96<> \"\",TEXT(INT(P_16号2様式!L96),\"#,##0\"),\"\")","v":""},{"$f":"IF(P_16号2様式!L96= \"\",\"\",IF(VALUE(FIXED(P_16号2様式!L96,0,TRUE))<>P_16号2様式!L96,RIGHT(FIXED(P_16号2様式!L96,3,FALSE),4),\"\"))","v":""},{"$f":"IF(P_16号2様式!M96=\"\",\"\",P_16号2様式!M96)","v":""},null,{"$f":"IF(P_16号2様式!N96=\"\",\"\",P_16号2様式!N96)","v":""},null,{"$f":"IF(P_16号2様式!O96=\"\",\"\",P_16号2様式!O96)","v":""}]
["第16号の2様式",null,null,null,null,null,null,null,null,null,null,null,null,null,null,null,null,null,null,null,null,null,null,{"$f":"IF(P_16号2様式!A98=\"\",\" ページ\", P_16号2様式!A98 & \"ページ\")","v":"3ページ"}]
[null,null,null,null,null,null,null,null,"開　 票　 速 　報"]
[null,{"$f":"IF(パラメタシート!B1=\"\",\"\",パラメタシート!B1)","v":"2017-10-22"}]
[null,{"$f":"IF(P_16号2様式!P98=\"\",\"\",P_16号2様式!P98)","v":"衆議院小選挙区選出議員選挙"},null,null,null,null,null,null,null,null,null,null,null,null,{"$f":"IF(P_16号2様式!Q98=\"0\",\"即日中間速報\",\"翌日中間速報\")","v":"即日中間速報"},null,{"$f":"IF(P_16号2様式!R98=\"\",\"第　　　回\",\"第 　\" & P_16号2様式!R98 & \"　回\")","v":"第　　　回"},null,null,{"$f":"IF(P_16号2様式!S98=\"\",\"     時    分　現在\",P_16号2様式!S98)","v":"     時    分　現在"}]
[null,null,null,null,null,null,null,null,null,null,null,null,null,null,"結了報告",null,null,null,null,{"$f":"IF(P_16号2様式!T98=\"\",\"     時    分　結了\",P_16号2様式!T98)","v":"01:43:00"},null,null,null,"鹿 児 島 県"]
[]
["市 区 町 村 名",null,null,"(ア)",null,"(イ)",null,"(ウ)",null,"(エ)",null,"(オ)",null,"(カ)",null,"(キ)",null,"(ク)"]
[null,null,"開票率","候 補 者 得 票",null,"あん分の際切り",null,"いずれの候補者",null,"有 効 投 票 数",null,"無 効 投 票 数",null,"投 票 総 数",null,"持ち帰り・不受理",null,"投票者総数",null,"無効投票率",null,"開 票 確 定",null,"確 定 表 示"]
[null,null,"％","数 の 合 計",null,"捨 て た 票 数",null,"にも属しない票数",null,"(ア)＋(イ)＋(ウ)",null,null,null,"(エ)＋(オ)",null,"その他",null,"(カ)＋(キ)",null,"(オ)／(カ)％",null,"時　 刻"]
[{"$f":"IF(P_16号2様式!C98=\"\",\"\",P_16号2様式!C98)","v":"【 第 ３ 区 】"},null,{"$f":"IF(P_16号2様式!D98=\"\",\"\",P_16号2様式!D98)","v":""},{"$f":"IF(P_16号2様式!E98<> \"\",TEXT(INT(P_16号2様式!E98),\"#,##0\"),\"\")","v":""},{"$f":"IF(P_16号2様式!E98= \"\",\"\",IF(VALUE(FIXED(P_16号2様式!E98,0,TRUE))<>P_16号2様式!E98,RIGHT(FIXED(P_16号2様式!E98,3,FALSE),4),\"\"))","v":""},{"$f":"IF(P_16号2様式!F98<> \"\",TEXT(INT(P_16号2様式!F98),\"#,##0\"),\"\")","v":""},{"$f":"IF(P_16号2様式!F98= \"\",\"\",IF(VALUE(FIXED(P_16号2様式!F98,0,TRUE))<>P_16号2様式!F98,RIGHT(FIXED(P_16号2様式!F98,3,FALSE),4),\"\"))","v":""},{"$f":"IF(P_16号2様式!G98<> \"\",TEXT(INT(P_16号2様式!G98),\"#,##0\"),\"\")","v":""},{"$f":"IF(P_16号2様式!G98= \"\",\"\",IF(VALUE(FIXED(P_16号2様式!G98,0,TRUE))<>P_16号2様式!G98,RIGHT(FIXED(P_16号2様式!G98,3,FALSE),4),\"\"))","v":""},{"$f":"IF(P_16号2様式!H98<> \"\",TEXT(INT(P_16号2様式!H98),\"#,##0\"),\"\")","v":""},{"$f":"IF(P_16号2様式!H98= \"\",\"\",IF(VALUE(FIXED(P_16号2様式!H98,0,TRUE))<>P_16号2様式!H98,RIGHT(FIXED(P_16号2様式!H98,3,FALSE),4),\"\"))","v":""},{"$f":"IF(P_16号2様式!I98<> \"\",TEXT(INT(P_16号2様式!I98),\"#,##0\"),\"\")","v":""},{"$f":"IF(P_16号2様式!I98= \"\",\"\",IF(VALUE(FIXED(P_16号2様式!I98,0,TRUE))<>P_16号2様式!I98,RIGHT(FIXED(P_16号2様式!I98,3,FALSE),4),\"\"))","v":""},{"$f":"IF(P_16号2様式!J98<> \"\",TEXT(INT(P_16号2様式!J98),\"#,##0\"),\"\")","v":""},{"$f":"IF(P_16号2様式!J98= \"\",\"\",IF(VALUE(FIXED(P_16号2様式!J98,0,TRUE))<>P_16号2様式!J98,RIGHT(FIXED(P_16号2様式!J98,3,FALSE),4),\"\"))","v":""},{"$f":"IF(P_16号2様式!K98<> \"\",TEXT(INT(P_16号2様式!K98),\"#,##0\"),\"\")","v":""},{"$f":"IF(P_16号2様式!K98= \"\",\"\",IF(VALUE(FIXED(P_16号2様式!K98,0,TRUE))<>P_16号2様式!K98,RIGHT(FIXED(P_16号2様式!K98,3,FALSE),4),\"\"))","v":""},{"$f":"IF(P_16号2様式!L98<> \"\",TEXT(INT(P_16号2様式!L98),\"#,##0\"),\"\")","v":""},{"$f":"IF(P_16号2様式!L98= \"\",\"\",IF(VALUE(FIXED(P_16号2様式!L98,0,TRUE))<>P_16号2様式!L98,RIGHT(FIXED(P_16号2様式!L98,3,FALSE),4),\"\"))","v":""},{"$f":"IF(P_16号2様式!M98=\"\",\"\",P_16号2様式!M98)","v":""},null,{"$f":"IF(P_16号2様式!N98=\"\",\"\",P_16号2様式!N98)","v":""},null,{"$f":"IF(P_16号2様式!O98=\"\",\"\",P_16号2様式!O98)","v":""}]
[{"$f":"IF(P_16号2様式!C99=\"\",\"\",P_16号2様式!C99)","v":"　阿久根市"},null,{"$f":"IF(P_16号2様式!D99=\"\",\"\",P_16号2様式!D99)","v":100},{"$f":"IF(P_16号2様式!E99<> \"\",TEXT(INT(P_16号2様式!E99),\"#,##0\"),\"\")","v":"11,361"},{"$f":"IF(P_16号2様式!E99= \"\",\"\",IF(VALUE(FIXED(P_16号2様式!E99,0,TRUE))<>P_16号2様式!E99,RIGHT(FIXED(P_16号2様式!E99,3,FALSE),4),\"\"))","v":""},{"$f":"IF(P_16号2様式!F99<> \"\",TEXT(INT(P_16号2様式!F99),\"#,##0\"),\"\")","v":"0"},{"$f":"IF(P_16号2様式!F99= \"\",\"\",IF(VALUE(FIXED(P_16号2様式!F99,0,TRUE))<>P_16号2様式!F99,RIGHT(FIXED(P_16号2様式!F99,3,FALSE),4),\"\"))","v":""},{"$f":"IF(P_16号2様式!G99<> \"\",TEXT(INT(P_16号2様式!G99),\"#,##0\"),\"\")","v":"0"},{"$f":"IF(P_16号2様式!G99= \"\",\"\",IF(VALUE(FIXED(P_16号2様式!G99,0,TRUE))<>P_16号2様式!G99,RIGHT(FIXED(P_16号2様式!G99,3,FALSE),4),\"\"))","v":""},{"$f":"IF(P_16号2様式!H99<> \"\",TEXT(INT(P_16号2様式!H99),\"#,##0\"),\"\")","v":"11,361"},{"$f":"IF(P_16号2様式!H99= \"\",\"\",IF(VALUE(FIXED(P_16号2様式!H99,0,TRUE))<>P_16号2様式!H99,RIGHT(FIXED(P_16号2様式!H99,3,FALSE),4),\"\"))","v":""},{"$f":"IF(P_16号2様式!I99<> \"\",TEXT(INT(P_16号2様式!I99),\"#,##0\"),\"\")","v":"137"},{"$f":"IF(P_16号2様式!I99= \"\",\"\",IF(VALUE(FIXED(P_16号2様式!I99,0,TRUE))<>P_16号2様式!I99,RIGHT(FIXED(P_16号2様式!I99,3,FALSE),4),\"\"))","v":""},{"$f":"IF(P_16号2様式!J99<> \"\",TEXT(INT(P_16号2様式!J99),\"#,##0\"),\"\")","v":"11,498"},{"$f":"IF(P_16号2様式!J99= \"\",\"\",IF(VALUE(FIXED(P_16号2様式!J99,0,TRUE))<>P_16号2様式!J99,RIGHT(FIXED(P_16号2様式!J99,3,FALSE),4),\"\"))","v":""},{"$f":"IF(P_16号2様式!K99<> \"\",TEXT(INT(P_16号2様式!K99),\"#,##0\"),\"\")","v":"0"},{"$f":"IF(P_16号2様式!K99= \"\",\"\",IF(VALUE(FIXED(P_16号2様式!K99,0,TRUE))<>P_16号2様式!K99,RIGHT(FIXED(P_16号2様式!K99,3,FALSE),4),\"\"))","v":""},{"$f":"IF(P_16号2様式!L99<> \"\",TEXT(INT(P_16号2様式!L99),\"#,##0\"),\"\")","v":"11,498"},{"$f":"IF(P_16号2様式!L99= \"\",\"\",IF(VALUE(FIXED(P_16号2様式!L99,0,TRUE))<>P_16号2様式!L99,RIGHT(FIXED(P_16号2様式!L99,3,FALSE),4),\"\"))","v":""},{"$f":"IF(P_16号2様式!M99=\"\",\"\",P_16号2様式!M99)","v":1.1915115672290799},null,{"$f":"IF(P_16号2様式!N99=\"\",\"\",P_16号2様式!N99)","v":"21:54:00"},null,{"$f":"IF(P_16号2様式!O99=\"\",\"\",P_16号2様式!O99)","v":"確定"}]
[{"$f":"IF(P_16号2様式!C100=\"\",\"\",P_16号2様式!C100)","v":"　出水市"},null,{"$f":"IF(P_16号2様式!D100=\"\",\"\",P_16号2様式!D100)","v":100},{"$f":"IF(P_16号2様式!E100<> \"\",TEXT(INT(P_16号2様式!E100),\"#,##0\"),\"\")","v":"25,708"},{"$f":"IF(P_16号2様式!E100= \"\",\"\",IF(VALUE(FIXED(P_16号2様式!E100,0,TRUE))<>P_16号2様式!E100,RIGHT(FIXED(P_16号2様式!E100,3,FALSE),4),\"\"))","v":""},{"$f":"IF(P_16号2様式!F100<> \"\",TEXT(INT(P_16号2様式!F100),\"#,##0\"),\"\")","v":"0"},{"$f":"IF(P_16号2様式!F100= \"\",\"\",IF(VALUE(FIXED(P_16号2様式!F100,0,TRUE))<>P_16号2様式!F100,RIGHT(FIXED(P_16号2様式!F100,3,FALSE),4),\"\"))","v":""},{"$f":"IF(P_16号2様式!G100<> \"\",TEXT(INT(P_16号2様式!G100),\"#,##0\"),\"\")","v":"0"},{"$f":"IF(P_16号2様式!G100= \"\",\"\",IF(VALUE(FIXED(P_16号2様式!G100,0,TRUE))<>P_16号2様式!G100,RIGHT(FIXED(P_16号2様式!G100,3,FALSE),4),\"\"))","v":""},{"$f":"IF(P_16号2様式!H100<> \"\",TEXT(INT(P_16号2様式!H100),\"#,##0\"),\"\")","v":"25,708"},{"$f":"IF(P_16号2様式!H100= \"\",\"\",IF(VALUE(FIXED(P_16号2様式!H100,0,TRUE))<>P_16号2様式!H100,RIGHT(FIXED(P_16号2様式!H100,3,FALSE),4),\"\"))","v":""},{"$f":"IF(P_16号2様式!I100<> \"\",TEXT(INT(P_16号2様式!I100),\"#,##0\"),\"\")","v":"348"},{"$f":"IF(P_16号2様式!I100= \"\",\"\",IF(VALUE(FIXED(P_16号2様式!I100,0,TRUE))<>P_16号2様式!I100,RIGHT(FIXED(P_16号2様式!I100,3,FALSE),4),\"\"))","v":""},{"$f":"IF(P_16号2様式!J100<> \"\",TEXT(INT(P_16号2様式!J100),\"#,##0\"),\"\")","v":"26,056"},{"$f":"IF(P_16号2様式!J100= \"\",\"\",IF(VALUE(FIXED(P_16号2様式!J100,0,TRUE))<>P_16号2様式!J100,RIGHT(FIXED(P_16号2様式!J100,3,FALSE),4),\"\"))","v":""},{"$f":"IF(P_16号2様式!K100<> \"\",TEXT(INT(P_16号2様式!K100),\"#,##0\"),\"\")","v":"0"},{"$f":"IF(P_16号2様式!K100= \"\",\"\",IF(VALUE(FIXED(P_16号2様式!K100,0,TRUE))<>P_16号2様式!K100,RIGHT(FIXED(P_16号2様式!K100,3,FALSE),4),\"\"))","v":""},{"$f":"IF(P_16号2様式!L100<> \"\",TEXT(INT(P_16号2様式!L100),\"#,##0\"),\"\")","v":"26,056"},{"$f":"IF(P_16号2様式!L100= \"\",\"\",IF(VALUE(FIXED(P_16号2様式!L100,0,TRUE))<>P_16号2様式!L100,RIGHT(FIXED(P_16号2様式!L100,3,FALSE),4),\"\"))","v":""},{"$f":"IF(P_16号2様式!M100=\"\",\"\",P_16号2様式!M100)","v":1.3355848940743},null,{"$f":"IF(P_16号2様式!N100=\"\",\"\",P_16号2様式!N100)","v":"22:39:00"},null,{"$f":"IF(P_16号2様式!O100=\"\",\"\",P_16号2様式!O100)","v":"確定"}]
[{"$f":"IF(P_16号2様式!C101=\"\",\"\",P_16号2様式!C101)","v":"　薩摩川内市第１"},null,{"$f":"IF(P_16号2様式!D101=\"\",\"\",P_16号2様式!D101)","v":100},{"$f":"IF(P_16号2様式!E101<> \"\",TEXT(INT(P_16号2様式!E101),\"#,##0\"),\"\")","v":"45,963"},{"$f":"IF(P_16号2様式!E101= \"\",\"\",IF(VALUE(FIXED(P_16号2様式!E101,0,TRUE))<>P_16号2様式!E101,RIGHT(FIXED(P_16号2様式!E101,3,FALSE),4),\"\"))","v":""},{"$f":"IF(P_16号2様式!F101<> \"\",TEXT(INT(P_16号2様式!F101),\"#,##0\"),\"\")","v":"0"},{"$f":"IF(P_16号2様式!F101= \"\",\"\",IF(VALUE(FIXED(P_16号2様式!F101,0,TRUE))<>P_16号2様式!F101,RIGHT(FIXED(P_16号2様式!F101,3,FALSE),4),\"\"))","v":""},{"$f":"IF(P_16号2様式!G101<> \"\",TEXT(INT(P_16号2様式!G101),\"#,##0\"),\"\")","v":"0"},{"$f":"IF(P_16号2様式!G101= \"\",\"\",IF(VALUE(FIXED(P_16号2様式!G101,0,TRUE))<>P_16号2様式!G101,RIGHT(FIXED(P_16号2様式!G101,3,FALSE),4),\"\"))","v":""},{"$f":"IF(P_16号2様式!H101<> \"\",TEXT(INT(P_16号2様式!H101),\"#,##0\"),\"\")","v":"45,963"},{"$f":"IF(P_16号2様式!H101= \"\",\"\",IF(VALUE(FIXED(P_16号2様式!H101,0,TRUE))<>P_16号2様式!H101,RIGHT(FIXED(P_16号2様式!H101,3,FALSE),4),\"\"))","v":""},{"$f":"IF(P_16号2様式!I101<> \"\",TEXT(INT(P_16号2様式!I101),\"#,##0\"),\"\")","v":"467"},{"$f":"IF(P_16号2様式!I101= \"\",\"\",IF(VALUE(FIXED(P_16号2様式!I101,0,TRUE))<>P_16号2様式!I101,RIGHT(FIXED(P_16号2様式!I101,3,FALSE),4),\"\"))","v":""},{"$f":"IF(P_16号2様式!J101<> \"\",TEXT(INT(P_16号2様式!J101),\"#,##0\"),\"\")","v":"46,430"},{"$f":"IF(P_16号2様式!J101= \"\",\"\",IF(VALUE(FIXED(P_16号2様式!J101,0,TRUE))<>P_16号2様式!J101,RIGHT(FIXED(P_16号2様式!J101,3,FALSE),4),\"\"))","v":""},{"$f":"IF(P_16号2様式!K101<> \"\",TEXT(INT(P_16号2様式!K101),\"#,##0\"),\"\")","v":"2"},{"$f":"IF(P_16号2様式!K101= \"\",\"\",IF(VALUE(FIXED(P_16号2様式!K101,0,TRUE))<>P_16号2様式!K101,RIGHT(FIXED(P_16号2様式!K101,3,FALSE),4),\"\"))","v":""},{"$f":"IF(P_16号2様式!L101<> \"\",TEXT(INT(P_16号2様式!L101),\"#,##0\"),\"\")","v":"46,432"},{"$f":"IF(P_16号2様式!L101= \"\",\"\",IF(VALUE(FIXED(P_16号2様式!L101,0,TRUE))<>P_16号2様式!L101,RIGHT(FIXED(P_16号2様式!L101,3,FALSE),4),\"\"))","v":""},{"$f":"IF(P_16号2様式!M101=\"\",\"\",P_16号2様式!M101)","v":1.0058152056859799},null,{"$f":"IF(P_16号2様式!N101=\"\",\"\",P_16号2様式!N101)","v":"22:34:00"},null,{"$f":"IF(P_16号2様式!O101=\"\",\"\",P_16号2様式!O101)","v":"確定"}]
[{"$f":"IF(P_16号2様式!C102=\"\",\"\",P_16号2様式!C102)","v":"　薩摩川内市第２"},null,{"$f":"IF(P_16号2様式!D102=\"\",\"\",P_16号2様式!D102)","v":100},{"$f":"IF(P_16号2様式!E102<> \"\",TEXT(INT(P_16号2様式!E102),\"#,##0\"),\"\")","v":"1,523"},{"$f":"IF(P_16号2様式!E102= \"\",\"\",IF(VALUE(FIXED(P_16号2様式!E102,0,TRUE))<>P_16号2様式!E102,RIGHT(FIXED(P_16号2様式!E102,3,FALSE),4),\"\"))","v":""},{"$f":"IF(P_16号2様式!F102<> \"\",TEXT(INT(P_16号2様式!F102),\"#,##0\"),\"\")","v":"0"},{"$f":"IF(P_16号2様式!F102= \"\",\"\",IF(VALUE(FIXED(P_16号2様式!F102,0,TRUE))<>P_16号2様式!F102,RIGHT(FIXED(P_16号2様式!F102,3,FALSE),4),\"\"))","v":""},{"$f":"IF(P_16号2様式!G102<> \"\",TEXT(INT(P_16号2様式!G102),\"#,##0\"),\"\")","v":"0"},{"$f":"IF(P_16号2様式!G102= \"\",\"\",IF(VALUE(FIXED(P_16号2様式!G102,0,TRUE))<>P_16号2様式!G102,RIGHT(FIXED(P_16号2様式!G102,3,FALSE),4),\"\"))","v":""},{"$f":"IF(P_16号2様式!H102<> \"\",TEXT(INT(P_16号2様式!H102),\"#,##0\"),\"\")","v":"1,523"},{"$f":"IF(P_16号2様式!H102= \"\",\"\",IF(VALUE(FIXED(P_16号2様式!H102,0,TRUE))<>P_16号2様式!H102,RIGHT(FIXED(P_16号2様式!H102,3,FALSE),4),\"\"))","v":""},{"$f":"IF(P_16号2様式!I102<> \"\",TEXT(INT(P_16号2様式!I102),\"#,##0\"),\"\")","v":"29"},{"$f":"IF(P_16号2様式!I102= \"\",\"\",IF(VALUE(FIXED(P_16号2様式!I102,0,TRUE))<>P_16号2様式!I102,RIGHT(FIXED(P_16号2様式!I102,3,FALSE),4),\"\"))","v":""},{"$f":"IF(P_16号2様式!J102<> \"\",TEXT(INT(P_16号2様式!J102),\"#,##0\"),\"\")","v":"1,552"},{"$f":"IF(P_16号2様式!J102= \"\",\"\",IF(VALUE(FIXED(P_16号2様式!J102,0,TRUE))<>P_16号2様式!J102,RIGHT(FIXED(P_16号2様式!J102,3,FALSE),4),\"\"))","v":""},{"$f":"IF(P_16号2様式!K102<> \"\",TEXT(INT(P_16号2様式!K102),\"#,##0\"),\"\")","v":"0"},{"$f":"IF(P_16号2様式!K102= \"\",\"\",IF(VALUE(FIXED(P_16号2様式!K102,0,TRUE))<>P_16号2様式!K102,RIGHT(FIXED(P_16号2様式!K102,3,FALSE),4),\"\"))","v":""},{"$f":"IF(P_16号2様式!L102<> \"\",TEXT(INT(P_16号2様式!L102),\"#,##0\"),\"\")","v":"1,552"},{"$f":"IF(P_16号2様式!L102= \"\",\"\",IF(VALUE(FIXED(P_16号2様式!L102,0,TRUE))<>P_16号2様式!L102,RIGHT(FIXED(P_16号2様式!L102,3,FALSE),4),\"\"))","v":""},{"$f":"IF(P_16号2様式!M102=\"\",\"\",P_16号2様式!M102)","v":1.8685567010309301},null,{"$f":"IF(P_16号2様式!N102=\"\",\"\",P_16号2様式!N102)","v":"21:01:00"},null,{"$f":"IF(P_16号2様式!O102=\"\",\"\",P_16号2様式!O102)","v":"確定"}]
[{"$f":"IF(P_16号2様式!C103=\"\",\"\",P_16号2様式!C103)","v":"　薩摩川内市第３"},null,{"$f":"IF(P_16号2様式!D103=\"\",\"\",P_16号2様式!D103)","v":100},{"$f":"IF(P_16号2様式!E103<> \"\",TEXT(INT(P_16号2様式!E103),\"#,##0\"),\"\")","v":"1,386"},{"$f":"IF(P_16号2様式!E103= \"\",\"\",IF(VALUE(FIXED(P_16号2様式!E103,0,TRUE))<>P_16号2様式!E103,RIGHT(FIXED(P_16号2様式!E103,3,FALSE),4),\"\"))","v":""},{"$f":"IF(P_16号2様式!F103<> \"\",TEXT(INT(P_16号2様式!F103),\"#,##0\"),\"\")","v":"0"},{"$f":"IF(P_16号2様式!F103= \"\",\"\",IF(VALUE(FIXED(P_16号2様式!F103,0,TRUE))<>P_16号2様式!F103,RIGHT(FIXED(P_16号2様式!F103,3,FALSE),4),\"\"))","v":""},{"$f":"IF(P_16号2様式!G103<> \"\",TEXT(INT(P_16号2様式!G103),\"#,##0\"),\"\")","v":"0"},{"$f":"IF(P_16号2様式!G103= \"\",\"\",IF(VALUE(FIXED(P_16号2様式!G103,0,TRUE))<>P_16号2様式!G103,RIGHT(FIXED(P_16号2様式!G103,3,FALSE),4),\"\"))","v":""},{"$f":"IF(P_16号2様式!H103<> \"\",TEXT(INT(P_16号2様式!H103),\"#,##0\"),\"\")","v":"1,386"},{"$f":"IF(P_16号2様式!H103= \"\",\"\",IF(VALUE(FIXED(P_16号2様式!H103,0,TRUE))<>P_16号2様式!H103,RIGHT(FIXED(P_16号2様式!H103,3,FALSE),4),\"\"))","v":""},{"$f":"IF(P_16号2様式!I103<> \"\",TEXT(INT(P_16号2様式!I103),\"#,##0\"),\"\")","v":"19"},{"$f":"IF(P_16号2様式!I103= \"\",\"\",IF(VALUE(FIXED(P_16号2様式!I103,0,TRUE))<>P_16号2様式!I103,RIGHT(FIXED(P_16号2様式!I103,3,FALSE),4),\"\"))","v":""},{"$f":"IF(P_16号2様式!J103<> \"\",TEXT(INT(P_16号2様式!J103),\"#,##0\"),\"\")","v":"1,405"},{"$f":"IF(P_16号2様式!J103= \"\",\"\",IF(VALUE(FIXED(P_16号2様式!J103,0,TRUE))<>P_16号2様式!J103,RIGHT(FIXED(P_16号2様式!J103,3,FALSE),4),\"\"))","v":""},{"$f":"IF(P_16号2様式!K103<> \"\",TEXT(INT(P_16号2様式!K103),\"#,##0\"),\"\")","v":"0"},{"$f":"IF(P_16号2様式!K103= \"\",\"\",IF(VALUE(FIXED(P_16号2様式!K103,0,TRUE))<>P_16号2様式!K103,RIGHT(FIXED(P_16号2様式!K103,3,FALSE),4),\"\"))","v":""},{"$f":"IF(P_16号2様式!L103<> \"\",TEXT(INT(P_16号2様式!L103),\"#,##0\"),\"\")","v":"1,405"},{"$f":"IF(P_16号2様式!L103= \"\",\"\",IF(VALUE(FIXED(P_16号2様式!L103,0,TRUE))<>P_16号2様式!L103,RIGHT(FIXED(P_16号2様式!L103,3,FALSE),4),\"\"))","v":""},{"$f":"IF(P_16号2様式!M103=\"\",\"\",P_16号2様式!M103)","v":1.3523131672597899},null,{"$f":"IF(P_16号2様式!N103=\"\",\"\",P_16号2様式!N103)","v":"20:45:00"},null,{"$f":"IF(P_16号2様式!O103=\"\",\"\",P_16号2様式!O103)","v":"確定"}]
[{"$f":"IF(P_16号2様式!C104=\"\",\"\",P_16号2様式!C104)","v":"＊（薩摩川内市）計"},null,{"$f":"IF(P_16号2様式!D104=\"\",\"\",P_16号2様式!D104)","v":100},{"$f":"IF(P_16号2様式!E104<> \"\",TEXT(INT(P_16号2様式!E104),\"#,##0\"),\"\")","v":"48,872"},{"$f":"IF(P_16号2様式!E104= \"\",\"\",IF(VALUE(FIXED(P_16号2様式!E104,0,TRUE))<>P_16号2様式!E104,RIGHT(FIXED(P_16号2様式!E104,3,FALSE),4),\"\"))","v":""},{"$f":"IF(P_16号2様式!F104<> \"\",TEXT(INT(P_16号2様式!F104),\"#,##0\"),\"\")","v":"0"},{"$f":"IF(P_16号2様式!F104= \"\",\"\",IF(VALUE(FIXED(P_16号2様式!F104,0,TRUE))<>P_16号2様式!F104,RIGHT(FIXED(P_16号2様式!F104,3,FALSE),4),\"\"))","v":""},{"$f":"IF(P_16号2様式!G104<> \"\",TEXT(INT(P_16号2様式!G104),\"#,##0\"),\"\")","v":"0"},{"$f":"IF(P_16号2様式!G104= \"\",\"\",IF(VALUE(FIXED(P_16号2様式!G104,0,TRUE))<>P_16号2様式!G104,RIGHT(FIXED(P_16号2様式!G104,3,FALSE),4),\"\"))","v":""},{"$f":"IF(P_16号2様式!H104<> \"\",TEXT(INT(P_16号2様式!H104),\"#,##0\"),\"\")","v":"48,872"},{"$f":"IF(P_16号2様式!H104= \"\",\"\",IF(VALUE(FIXED(P_16号2様式!H104,0,TRUE))<>P_16号2様式!H104,RIGHT(FIXED(P_16号2様式!H104,3,FALSE),4),\"\"))","v":""},{"$f":"IF(P_16号2様式!I104<> \"\",TEXT(INT(P_16号2様式!I104),\"#,##0\"),\"\")","v":"515"},{"$f":"IF(P_16号2様式!I104= \"\",\"\",IF(VALUE(FIXED(P_16号2様式!I104,0,TRUE))<>P_16号2様式!I104,RIGHT(FIXED(P_16号2様式!I104,3,FALSE),4),\"\"))","v":""},{"$f":"IF(P_16号2様式!J104<> \"\",TEXT(INT(P_16号2様式!J104),\"#,##0\"),\"\")","v":"49,387"},{"$f":"IF(P_16号2様式!J104= \"\",\"\",IF(VALUE(FIXED(P_16号2様式!J104,0,TRUE))<>P_16号2様式!J104,RIGHT(FIXED(P_16号2様式!J104,3,FALSE),4),\"\"))","v":""},{"$f":"IF(P_16号2様式!K104<> \"\",TEXT(INT(P_16号2様式!K104),\"#,##0\"),\"\")","v":"2"},{"$f":"IF(P_16号2様式!K104= \"\",\"\",IF(VALUE(FIXED(P_16号2様式!K104,0,TRUE))<>P_16号2様式!K104,RIGHT(FIXED(P_16号2様式!K104,3,FALSE),4),\"\"))","v":""},{"$f":"IF(P_16号2様式!L104<> \"\",TEXT(INT(P_16号2様式!L104),\"#,##0\"),\"\")","v":"49,389"},{"$f":"IF(P_16号2様式!L104= \"\",\"\",IF(VALUE(FIXED(P_16号2様式!L104,0,TRUE))<>P_16号2様式!L104,RIGHT(FIXED(P_16号2様式!L104,3,FALSE),4),\"\"))","v":""},{"$f":"IF(P_16号2様式!M104=\"\",\"\",P_16号2様式!M104)","v":1.0427845384412899},null,{"$f":"IF(P_16号2様式!N104=\"\",\"\",P_16号2様式!N104)","v":"22:34:00"},null,{"$f":"IF(P_16号2様式!O104=\"\",\"\",P_16号2様式!O104)","v":"確定"}]
[{"$f":"IF(P_16号2様式!C105=\"\",\"\",P_16号2様式!C105)","v":"　日置市"},null,{"$f":"IF(P_16号2様式!D105=\"\",\"\",P_16号2様式!D105)","v":100},{"$f":"IF(P_16号2様式!E105<> \"\",TEXT(INT(P_16号2様式!E105),\"#,##0\"),\"\")","v":"25,131"},{"$f":"IF(P_16号2様式!E105= \"\",\"\",IF(VALUE(FIXED(P_16号2様式!E105,0,TRUE))<>P_16号2様式!E105,RIGHT(FIXED(P_16号2様式!E105,3,FALSE),4),\"\"))","v":""},{"$f":"IF(P_16号2様式!F105<> \"\",TEXT(INT(P_16号2様式!F105),\"#,##0\"),\"\")","v":"0"},{"$f":"IF(P_16号2様式!F105= \"\",\"\",IF(VALUE(FIXED(P_16号2様式!F105,0,TRUE))<>P_16号2様式!F105,RIGHT(FIXED(P_16号2様式!F105,3,FALSE),4),\"\"))","v":""},{"$f":"IF(P_16号2様式!G105<> \"\",TEXT(INT(P_16号2様式!G105),\"#,##0\"),\"\")","v":"0"},{"$f":"IF(P_16号2様式!G105= \"\",\"\",IF(VALUE(FIXED(P_16号2様式!G105,0,TRUE))<>P_16号2様式!G105,RIGHT(FIXED(P_16号2様式!G105,3,FALSE),4),\"\"))","v":""},{"$f":"IF(P_16号2様式!H105<> \"\",TEXT(INT(P_16号2様式!H105),\"#,##0\"),\"\")","v":"25,131"},{"$f":"IF(P_16号2様式!H105= \"\",\"\",IF(VALUE(FIXED(P_16号2様式!H105,0,TRUE))<>P_16号2様式!H105,RIGHT(FIXED(P_16号2様式!H105,3,FALSE),4),\"\"))","v":""},{"$f":"IF(P_16号2様式!I105<> \"\",TEXT(INT(P_16号2様式!I105),\"#,##0\"),\"\")","v":"313"},{"$f":"IF(P_16号2様式!I105= \"\",\"\",IF(VALUE(FIXED(P_16号2様式!I105,0,TRUE))<>P_16号2様式!I105,RIGHT(FIXED(P_16号2様式!I105,3,FALSE),4),\"\"))","v":""},{"$f":"IF(P_16号2様式!J105<> \"\",TEXT(INT(P_16号2様式!J105),\"#,##0\"),\"\")","v":"25,444"},{"$f":"IF(P_16号2様式!J105= \"\",\"\",IF(VALUE(FIXED(P_16号2様式!J105,0,TRUE))<>P_16号2様式!J105,RIGHT(FIXED(P_16号2様式!J105,3,FALSE),4),\"\"))","v":""},{"$f":"IF(P_16号2様式!K105<> \"\",TEXT(INT(P_16号2様式!K105),\"#,##0\"),\"\")","v":"0"},{"$f":"IF(P_16号2様式!K105= \"\",\"\",IF(VALUE(FIXED(P_16号2様式!K105,0,TRUE))<>P_16号2様式!K105,RIGHT(FIXED(P_16号2様式!K105,3,FALSE),4),\"\"))","v":""},{"$f":"IF(P_16号2様式!L105<> \"\",TEXT(INT(P_16号2様式!L105),\"#,##0\"),\"\")","v":"25,444"},{"$f":"IF(P_16号2様式!L105= \"\",\"\",IF(VALUE(FIXED(P_16号2様式!L105,0,TRUE))<>P_16号2様式!L105,RIGHT(FIXED(P_16号2様式!L105,3,FALSE),4),\"\"))","v":""},{"$f":"IF(P_16号2様式!M105=\"\",\"\",P_16号2様式!M105)","v":1.23015249174658},null,{"$f":"IF(P_16号2様式!N105=\"\",\"\",P_16号2様式!N105)","v":"22:55:00"},null,{"$f":"IF(P_16号2様式!O105=\"\",\"\",P_16号2様式!O105)","v":"確定"}]
[{"$f":"IF(P_16号2様式!C106=\"\",\"\",P_16号2様式!C106)","v":"　いちき串木野市"},null,{"$f":"IF(P_16号2様式!D106=\"\",\"\",P_16号2様式!D106)","v":100},{"$f":"IF(P_16号2様式!E106<> \"\",TEXT(INT(P_16号2様式!E106),\"#,##0\"),\"\")","v":"17,996"},{"$f":"IF(P_16号2様式!E106= \"\",\"\",IF(VALUE(FIXED(P_16号2様式!E106,0,TRUE))<>P_16号2様式!E106,RIGHT(FIXED(P_16号2様式!E106,3,FALSE),4),\"\"))","v":""},{"$f":"IF(P_16号2様式!F106<> \"\",TEXT(INT(P_16号2様式!F106),\"#,##0\"),\"\")","v":"0"},{"$f":"IF(P_16号2様式!F106= \"\",\"\",IF(VALUE(FIXED(P_16号2様式!F106,0,TRUE))<>P_16号2様式!F106,RIGHT(FIXED(P_16号2様式!F106,3,FALSE),4),\"\"))","v":""},{"$f":"IF(P_16号2様式!G106<> \"\",TEXT(INT(P_16号2様式!G106),\"#,##0\"),\"\")","v":"0"},{"$f":"IF(P_16号2様式!G106= \"\",\"\",IF(VALUE(FIXED(P_16号2様式!G106,0,TRUE))<>P_16号2様式!G106,RIGHT(FIXED(P_16号2様式!G106,3,FALSE),4),\"\"))","v":""},{"$f":"IF(P_16号2様式!H106<> \"\",TEXT(INT(P_16号2様式!H106),\"#,##0\"),\"\")","v":"17,996"},{"$f":"IF(P_16号2様式!H106= \"\",\"\",IF(VALUE(FIXED(P_16号2様式!H106,0,TRUE))<>P_16号2様式!H106,RIGHT(FIXED(P_16号2様式!H106,3,FALSE),4),\"\"))","v":""},{"$f":"IF(P_16号2様式!I106<> \"\",TEXT(INT(P_16号2様式!I106),\"#,##0\"),\"\")","v":"312"},{"$f":"IF(P_16号2様式!I106= \"\",\"\",IF(VALUE(FIXED(P_16号2様式!I106,0,TRUE))<>P_16号2様式!I106,RIGHT(FIXED(P_16号2様式!I106,3,FALSE),4),\"\"))","v":""},{"$f":"IF(P_16号2様式!J106<> \"\",TEXT(INT(P_16号2様式!J106),\"#,##0\"),\"\")","v":"18,308"},{"$f":"IF(P_16号2様式!J106= \"\",\"\",IF(VALUE(FIXED(P_16号2様式!J106,0,TRUE))<>P_16号2様式!J106,RIGHT(FIXED(P_16号2様式!J106,3,FALSE),4),\"\"))","v":""},{"$f":"IF(P_16号2様式!K106<> \"\",TEXT(INT(P_16号2様式!K106),\"#,##0\"),\"\")","v":"0"},{"$f":"IF(P_16号2様式!K106= \"\",\"\",IF(VALUE(FIXED(P_16号2様式!K106,0,TRUE))<>P_16号2様式!K106,RIGHT(FIXED(P_16号2様式!K106,3,FALSE),4),\"\"))","v":""},{"$f":"IF(P_16号2様式!L106<> \"\",TEXT(INT(P_16号2様式!L106),\"#,##0\"),\"\")","v":"18,308"},{"$f":"IF(P_16号2様式!L106= \"\",\"\",IF(VALUE(FIXED(P_16号2様式!L106,0,TRUE))<>P_16号2様式!L106,RIGHT(FIXED(P_16号2様式!L106,3,FALSE),4),\"\"))","v":""},{"$f":"IF(P_16号2様式!M106=\"\",\"\",P_16号2様式!M106)","v":1.7041730391085901},null,{"$f":"IF(P_16号2様式!N106=\"\",\"\",P_16号2様式!N106)","v":"22:48:00"},null,{"$f":"IF(P_16号2様式!O106=\"\",\"\",P_16号2様式!O106)","v":"確定"}]
[{"$f":"IF(P_16号2様式!C107=\"\",\"\",P_16号2様式!C107)","v":"　伊佐市"},null,{"$f":"IF(P_16号2様式!D107=\"\",\"\",P_16号2様式!D107)","v":100},{"$f":"IF(P_16号2様式!E107<> \"\",TEXT(INT(P_16号2様式!E107),\"#,##0\"),\"\")","v":"14,252"},{"$f":"IF(P_16号2様式!E107= \"\",\"\",IF(VALUE(FIXED(P_16号2様式!E107,0,TRUE))<>P_16号2様式!E107,RIGHT(FIXED(P_16号2様式!E107,3,FALSE),4),\"\"))","v":""},{"$f":"IF(P_16号2様式!F107<> \"\",TEXT(INT(P_16号2様式!F107),\"#,##0\"),\"\")","v":"0"},{"$f":"IF(P_16号2様式!F107= \"\",\"\",IF(VALUE(FIXED(P_16号2様式!F107,0,TRUE))<>P_16号2様式!F107,RIGHT(FIXED(P_16号2様式!F107,3,FALSE),4),\"\"))","v":""},{"$f":"IF(P_16号2様式!G107<> \"\",TEXT(INT(P_16号2様式!G107),\"#,##0\"),\"\")","v":"0"},{"$f":"IF(P_16号2様式!G107= \"\",\"\",IF(VALUE(FIXED(P_16号2様式!G107,0,TRUE))<>P_16号2様式!G107,RIGHT(FIXED(P_16号2様式!G107,3,FALSE),4),\"\"))","v":""},{"$f":"IF(P_16号2様式!H107<> \"\",TEXT(INT(P_16号2様式!H107),\"#,##0\"),\"\")","v":"14,252"},{"$f":"IF(P_16号2様式!H107= \"\",\"\",IF(VALUE(FIXED(P_16号2様式!H107,0,TRUE))<>P_16号2様式!H107,RIGHT(FIXED(P_16号2様式!H107,3,FALSE),4),\"\"))","v":""},{"$f":"IF(P_16号2様式!I107<> \"\",TEXT(INT(P_16号2様式!I107),\"#,##0\"),\"\")","v":"184"},{"$f":"IF(P_16号2様式!I107= \"\",\"\",IF(VALUE(FIXED(P_16号2様式!I107,0,TRUE))<>P_16号2様式!I107,RIGHT(FIXED(P_16号2様式!I107,3,FALSE),4),\"\"))","v":""},{"$f":"IF(P_16号2様式!J107<> \"\",TEXT(INT(P_16号2様式!J107),\"#,##0\"),\"\")","v":"14,436"},{"$f":"IF(P_16号2様式!J107= \"\",\"\",IF(VALUE(FIXED(P_16号2様式!J107,0,TRUE))<>P_16号2様式!J107,RIGHT(FIXED(P_16号2様式!J107,3,FALSE),4),\"\"))","v":""},{"$f":"IF(P_16号2様式!K107<> \"\",TEXT(INT(P_16号2様式!K107),\"#,##0\"),\"\")","v":"1"},{"$f":"IF(P_16号2様式!K107= \"\",\"\",IF(VALUE(FIXED(P_16号2様式!K107,0,TRUE))<>P_16号2様式!K107,RIGHT(FIXED(P_16号2様式!K107,3,FALSE),4),\"\"))","v":""},{"$f":"IF(P_16号2様式!L107<> \"\",TEXT(INT(P_16号2様式!L107),\"#,##0\"),\"\")","v":"14,437"},{"$f":"IF(P_16号2様式!L107= \"\",\"\",IF(VALUE(FIXED(P_16号2様式!L107,0,TRUE))<>P_16号2様式!L107,RIGHT(FIXED(P_16号2様式!L107,3,FALSE),4),\"\"))","v":""},{"$f":"IF(P_16号2様式!M107=\"\",\"\",P_16号2様式!M107)","v":1.2745912995289601},null,{"$f":"IF(P_16号2様式!N107=\"\",\"\",P_16号2様式!N107)","v":"22:29:00"},null,{"$f":"IF(P_16号2様式!O107=\"\",\"\",P_16号2様式!O107)","v":"確定"}]
[{"$f":"IF(P_16号2様式!C108=\"\",\"\",P_16号2様式!C108)","v":"　姶良市"},null,{"$f":"IF(P_16号2様式!D108=\"\",\"\",P_16号2様式!D108)","v":100},{"$f":"IF(P_16号2様式!E108<> \"\",TEXT(INT(P_16号2様式!E108),\"#,##0\"),\"\")","v":"36,056"},{"$f":"IF(P_16号2様式!E108= \"\",\"\",IF(VALUE(FIXED(P_16号2様式!E108,0,TRUE))<>P_16号2様式!E108,RIGHT(FIXED(P_16号2様式!E108,3,FALSE),4),\"\"))","v":""},{"$f":"IF(P_16号2様式!F108<> \"\",TEXT(INT(P_16号2様式!F108),\"#,##0\"),\"\")","v":"0"},{"$f":"IF(P_16号2様式!F108= \"\",\"\",IF(VALUE(FIXED(P_16号2様式!F108,0,TRUE))<>P_16号2様式!F108,RIGHT(FIXED(P_16号2様式!F108,3,FALSE),4),\"\"))","v":""},{"$f":"IF(P_16号2様式!G108<> \"\",TEXT(INT(P_16号2様式!G108),\"#,##0\"),\"\")","v":"0"},{"$f":"IF(P_16号2様式!G108= \"\",\"\",IF(VALUE(FIXED(P_16号2様式!G108,0,TRUE))<>P_16号2様式!G108,RIGHT(FIXED(P_16号2様式!G108,3,FALSE),4),\"\"))","v":""},{"$f":"IF(P_16号2様式!H108<> \"\",TEXT(INT(P_16号2様式!H108),\"#,##0\"),\"\")","v":"36,056"},{"$f":"IF(P_16号2様式!H108= \"\",\"\",IF(VALUE(FIXED(P_16号2様式!H108,0,TRUE))<>P_16号2様式!H108,RIGHT(FIXED(P_16号2様式!H108,3,FALSE),4),\"\"))","v":""},{"$f":"IF(P_16号2様式!I108<> \"\",TEXT(INT(P_16号2様式!I108),\"#,##0\"),\"\")","v":"571"},{"$f":"IF(P_16号2様式!I108= \"\",\"\",IF(VALUE(FIXED(P_16号2様式!I108,0,TRUE))<>P_16号2様式!I108,RIGHT(FIXED(P_16号2様式!I108,3,FALSE),4),\"\"))","v":""},{"$f":"IF(P_16号2様式!J108<> \"\",TEXT(INT(P_16号2様式!J108),\"#,##0\"),\"\")","v":"36,627"},{"$f":"IF(P_16号2様式!J108= \"\",\"\",IF(VALUE(FIXED(P_16号2様式!J108,0,TRUE))<>P_16号2様式!J108,RIGHT(FIXED(P_16号2様式!J108,3,FALSE),4),\"\"))","v":""},{"$f":"IF(P_16号2様式!K108<> \"\",TEXT(INT(P_16号2様式!K108),\"#,##0\"),\"\")","v":"1"},{"$f":"IF(P_16号2様式!K108= \"\",\"\",IF(VALUE(FIXED(P_16号2様式!K108,0,TRUE))<>P_16号2様式!K108,RIGHT(FIXED(P_16号2様式!K108,3,FALSE),4),\"\"))","v":""},{"$f":"IF(P_16号2様式!L108<> \"\",TEXT(INT(P_16号2様式!L108),\"#,##0\"),\"\")","v":"36,628"},{"$f":"IF(P_16号2様式!L108= \"\",\"\",IF(VALUE(FIXED(P_16号2様式!L108,0,TRUE))<>P_16号2様式!L108,RIGHT(FIXED(P_16号2様式!L108,3,FALSE),4),\"\"))","v":""},{"$f":"IF(P_16号2様式!M108=\"\",\"\",P_16号2様式!M108)","v":1.5589592377208099},null,{"$f":"IF(P_16号2様式!N108=\"\",\"\",P_16号2様式!N108)","v":"23:07:00"},null,{"$f":"IF(P_16号2様式!O108=\"\",\"\",P_16号2様式!O108)","v":"確定"}]
[{"$f":"IF(P_16号2様式!C109=\"\",\"\",P_16号2様式!C109)","v":"＊市　部    計"},null,{"$f":"IF(P_16号2様式!D109=\"\",\"\",P_16号2様式!D109)","v":100},{"$f":"IF(P_16号2様式!E109<> \"\",TEXT(INT(P_16号2様式!E109),\"#,##0\"),\"\")","v":"179,376"},{"$f":"IF(P_16号2様式!E109= \"\",\"\",IF(VALUE(FIXED(P_16号2様式!E109,0,TRUE))<>P_16号2様式!E109,RIGHT(FIXED(P_16号2様式!E109,3,FALSE),4),\"\"))","v":""},{"$f":"IF(P_16号2様式!F109<> \"\",TEXT(INT(P_16号2様式!F109),\"#,##0\"),\"\")","v":"0"},{"$f":"IF(P_16号2様式!F109= \"\",\"\",IF(VALUE(FIXED(P_16号2様式!F109,0,TRUE))<>P_16号2様式!F109,RIGHT(FIXED(P_16号2様式!F109,3,FALSE),4),\"\"))","v":""},{"$f":"IF(P_16号2様式!G109<> \"\",TEXT(INT(P_16号2様式!G109),\"#,##0\"),\"\")","v":"0"},{"$f":"IF(P_16号2様式!G109= \"\",\"\",IF(VALUE(FIXED(P_16号2様式!G109,0,TRUE))<>P_16号2様式!G109,RIGHT(FIXED(P_16号2様式!G109,3,FALSE),4),\"\"))","v":""},{"$f":"IF(P_16号2様式!H109<> \"\",TEXT(INT(P_16号2様式!H109),\"#,##0\"),\"\")","v":"179,376"},{"$f":"IF(P_16号2様式!H109= \"\",\"\",IF(VALUE(FIXED(P_16号2様式!H109,0,TRUE))<>P_16号2様式!H109,RIGHT(FIXED(P_16号2様式!H109,3,FALSE),4),\"\"))","v":""},{"$f":"IF(P_16号2様式!I109<> \"\",TEXT(INT(P_16号2様式!I109),\"#,##0\"),\"\")","v":"2,380"},{"$f":"IF(P_16号2様式!I109= \"\",\"\",IF(VALUE(FIXED(P_16号2様式!I109,0,TRUE))<>P_16号2様式!I109,RIGHT(FIXED(P_16号2様式!I109,3,FALSE),4),\"\"))","v":""},{"$f":"IF(P_16号2様式!J109<> \"\",TEXT(INT(P_16号2様式!J109),\"#,##0\"),\"\")","v":"181,756"},{"$f":"IF(P_16号2様式!J109= \"\",\"\",IF(VALUE(FIXED(P_16号2様式!J109,0,TRUE))<>P_16号2様式!J109,RIGHT(FIXED(P_16号2様式!J109,3,FALSE),4),\"\"))","v":""},{"$f":"IF(P_16号2様式!K109<> \"\",TEXT(INT(P_16号2様式!K109),\"#,##0\"),\"\")","v":"4"},{"$f":"IF(P_16号2様式!K109= \"\",\"\",IF(VALUE(FIXED(P_16号2様式!K109,0,TRUE))<>P_16号2様式!K109,RIGHT(FIXED(P_16号2様式!K109,3,FALSE),4),\"\"))","v":""},{"$f":"IF(P_16号2様式!L109<> \"\",TEXT(INT(P_16号2様式!L109),\"#,##0\"),\"\")","v":"181,760"},{"$f":"IF(P_16号2様式!L109= \"\",\"\",IF(VALUE(FIXED(P_16号2様式!L109,0,TRUE))<>P_16号2様式!L109,RIGHT(FIXED(P_16号2様式!L109,3,FALSE),4),\"\"))","v":""},{"$f":"IF(P_16号2様式!M109=\"\",\"\",P_16号2様式!M109)","v":1.30944783115826},null,{"$f":"IF(P_16号2様式!N109=\"\",\"\",P_16号2様式!N109)","v":"23:07:00"},null,{"$f":"IF(P_16号2様式!O109=\"\",\"\",P_16号2様式!O109)","v":"確定"}]
[{"$f":"IF(P_16号2様式!C110=\"\",\"\",P_16号2様式!C110)","v":"　さつま町"},null,{"$f":"IF(P_16号2様式!D110=\"\",\"\",P_16号2様式!D110)","v":100},{"$f":"IF(P_16号2様式!E110<> \"\",TEXT(INT(P_16号2様式!E110),\"#,##0\"),\"\")","v":"12,190"},{"$f":"IF(P_16号2様式!E110= \"\",\"\",IF(VALUE(FIXED(P_16号2様式!E110,0,TRUE))<>P_16号2様式!E110,RIGHT(FIXED(P_16号2様式!E110,3,FALSE),4),\"\"))","v":""},{"$f":"IF(P_16号2様式!F110<> \"\",TEXT(INT(P_16号2様式!F110),\"#,##0\"),\"\")","v":"0"},{"$f":"IF(P_16号2様式!F110= \"\",\"\",IF(VALUE(FIXED(P_16号2様式!F110,0,TRUE))<>P_16号2様式!F110,RIGHT(FIXED(P_16号2様式!F110,3,FALSE),4),\"\"))","v":""},{"$f":"IF(P_16号2様式!G110<> \"\",TEXT(INT(P_16号2様式!G110),\"#,##0\"),\"\")","v":"0"},{"$f":"IF(P_16号2様式!G110= \"\",\"\",IF(VALUE(FIXED(P_16号2様式!G110,0,TRUE))<>P_16号2様式!G110,RIGHT(FIXED(P_16号2様式!G110,3,FALSE),4),\"\"))","v":""},{"$f":"IF(P_16号2様式!H110<> \"\",TEXT(INT(P_16号2様式!H110),\"#,##0\"),\"\")","v":"12,190"},{"$f":"IF(P_16号2様式!H110= \"\",\"\",IF(VALUE(FIXED(P_16号2様式!H110,0,TRUE))<>P_16号2様式!H110,RIGHT(FIXED(P_16号2様式!H110,3,FALSE),4),\"\"))","v":""},{"$f":"IF(P_16号2様式!I110<> \"\",TEXT(INT(P_16号2様式!I110),\"#,##0\"),\"\")","v":"136"},{"$f":"IF(P_16号2様式!I110= \"\",\"\",IF(VALUE(FIXED(P_16号2様式!I110,0,TRUE))<>P_16号2様式!I110,RIGHT(FIXED(P_16号2様式!I110,3,FALSE),4),\"\"))","v":""},{"$f":"IF(P_16号2様式!J110<> \"\",TEXT(INT(P_16号2様式!J110),\"#,##0\"),\"\")","v":"12,326"},{"$f":"IF(P_16号2様式!J110= \"\",\"\",IF(VALUE(FIXED(P_16号2様式!J110,0,TRUE))<>P_16号2様式!J110,RIGHT(FIXED(P_16号2様式!J110,3,FALSE),4),\"\"))","v":""},{"$f":"IF(P_16号2様式!K110<> \"\",TEXT(INT(P_16号2様式!K110),\"#,##0\"),\"\")","v":"0"},{"$f":"IF(P_16号2様式!K110= \"\",\"\",IF(VALUE(FIXED(P_16号2様式!K110,0,TRUE))<>P_16号2様式!K110,RIGHT(FIXED(P_16号2様式!K110,3,FALSE),4),\"\"))","v":""},{"$f":"IF(P_16号2様式!L110<> \"\",TEXT(INT(P_16号2様式!L110),\"#,##0\"),\"\")","v":"12,326"},{"$f":"IF(P_16号2様式!L110= \"\",\"\",IF(VALUE(FIXED(P_16号2様式!L110,0,TRUE))<>P_16号2様式!L110,RIGHT(FIXED(P_16号2様式!L110,3,FALSE),4),\"\"))","v":""},{"$f":"IF(P_16号2様式!M110=\"\",\"\",P_16号2様式!M110)","v":1.10335875385364},null,{"$f":"IF(P_16号2様式!N110=\"\",\"\",P_16号2様式!N110)","v":"22:10:00"},null,{"$f":"IF(P_16号2様式!O110=\"\",\"\",P_16号2様式!O110)","v":"確定"}]
[{"$f":"IF(P_16号2様式!C111=\"\",\"\",P_16号2様式!C111)","v":"＊（薩摩郡）計"},null,{"$f":"IF(P_16号2様式!D111=\"\",\"\",P_16号2様式!D111)","v":100},{"$f":"IF(P_16号2様式!E111<> \"\",TEXT(INT(P_16号2様式!E111),\"#,##0\"),\"\")","v":"12,190"},{"$f":"IF(P_16号2様式!E111= \"\",\"\",IF(VALUE(FIXED(P_16号2様式!E111,0,TRUE))<>P_16号2様式!E111,RIGHT(FIXED(P_16号2様式!E111,3,FALSE),4),\"\"))","v":""},{"$f":"IF(P_16号2様式!F111<> \"\",TEXT(INT(P_16号2様式!F111),\"#,##0\"),\"\")","v":"0"},{"$f":"IF(P_16号2様式!F111= \"\",\"\",IF(VALUE(FIXED(P_16号2様式!F111,0,TRUE))<>P_16号2様式!F111,RIGHT(FIXED(P_16号2様式!F111,3,FALSE),4),\"\"))","v":""},{"$f":"IF(P_16号2様式!G111<> \"\",TEXT(INT(P_16号2様式!G111),\"#,##0\"),\"\")","v":"0"},{"$f":"IF(P_16号2様式!G111= \"\",\"\",IF(VALUE(FIXED(P_16号2様式!G111,0,TRUE))<>P_16号2様式!G111,RIGHT(FIXED(P_16号2様式!G111,3,FALSE),4),\"\"))","v":""},{"$f":"IF(P_16号2様式!H111<> \"\",TEXT(INT(P_16号2様式!H111),\"#,##0\"),\"\")","v":"12,190"},{"$f":"IF(P_16号2様式!H111= \"\",\"\",IF(VALUE(FIXED(P_16号2様式!H111,0,TRUE))<>P_16号2様式!H111,RIGHT(FIXED(P_16号2様式!H111,3,FALSE),4),\"\"))","v":""},{"$f":"IF(P_16号2様式!I111<> \"\",TEXT(INT(P_16号2様式!I111),\"#,##0\"),\"\")","v":"136"},{"$f":"IF(P_16号2様式!I111= \"\",\"\",IF(VALUE(FIXED(P_16号2様式!I111,0,TRUE))<>P_16号2様式!I111,RIGHT(FIXED(P_16号2様式!I111,3,FALSE),4),\"\"))","v":""},{"$f":"IF(P_16号2様式!J111<> \"\",TEXT(INT(P_16号2様式!J111),\"#,##0\"),\"\")","v":"12,326"},{"$f":"IF(P_16号2様式!J111= \"\",\"\",IF(VALUE(FIXED(P_16号2様式!J111,0,TRUE))<>P_16号2様式!J111,RIGHT(FIXED(P_16号2様式!J111,3,FALSE),4),\"\"))","v":""},{"$f":"IF(P_16号2様式!K111<> \"\",TEXT(INT(P_16号2様式!K111),\"#,##0\"),\"\")","v":"0"},{"$f":"IF(P_16号2様式!K111= \"\",\"\",IF(VALUE(FIXED(P_16号2様式!K111,0,TRUE))<>P_16号2様式!K111,RIGHT(FIXED(P_16号2様式!K111,3,FALSE),4),\"\"))","v":""},{"$f":"IF(P_16号2様式!L111<> \"\",TEXT(INT(P_16号2様式!L111),\"#,##0\"),\"\")","v":"12,326"},{"$f":"IF(P_16号2様式!L111= \"\",\"\",IF(VALUE(FIXED(P_16号2様式!L111,0,TRUE))<>P_16号2様式!L111,RIGHT(FIXED(P_16号2様式!L111,3,FALSE),4),\"\"))","v":""},{"$f":"IF(P_16号2様式!M111=\"\",\"\",P_16号2様式!M111)","v":1.10335875385364},null,{"$f":"IF(P_16号2様式!N111=\"\",\"\",P_16号2様式!N111)","v":"22:10:00"},null,{"$f":"IF(P_16号2様式!O111=\"\",\"\",P_16号2様式!O111)","v":"確定"}]
[{"$f":"IF(P_16号2様式!C112=\"\",\"\",P_16号2様式!C112)","v":"　長島町"},null,{"$f":"IF(P_16号2様式!D112=\"\",\"\",P_16号2様式!D112)","v":100},{"$f":"IF(P_16号2様式!E112<> \"\",TEXT(INT(P_16号2様式!E112),\"#,##0\"),\"\")","v":"6,446"},{"$f":"IF(P_16号2様式!E112= \"\",\"\",IF(VALUE(FIXED(P_16号2様式!E112,0,TRUE))<>P_16号2様式!E112,RIGHT(FIXED(P_16号2様式!E112,3,FALSE),4),\"\"))","v":""},{"$f":"IF(P_16号2様式!F112<> \"\",TEXT(INT(P_16号2様式!F112),\"#,##0\"),\"\")","v":"0"},{"$f":"IF(P_16号2様式!F112= \"\",\"\",IF(VALUE(FIXED(P_16号2様式!F112,0,TRUE))<>P_16号2様式!F112,RIGHT(FIXED(P_16号2様式!F112,3,FALSE),4),\"\"))","v":""},{"$f":"IF(P_16号2様式!G112<> \"\",TEXT(INT(P_16号2様式!G112),\"#,##0\"),\"\")","v":"0"},{"$f":"IF(P_16号2様式!G112= \"\",\"\",IF(VALUE(FIXED(P_16号2様式!G112,0,TRUE))<>P_16号2様式!G112,RIGHT(FIXED(P_16号2様式!G112,3,FALSE),4),\"\"))","v":""},{"$f":"IF(P_16号2様式!H112<> \"\",TEXT(INT(P_16号2様式!H112),\"#,##0\"),\"\")","v":"6,446"},{"$f":"IF(P_16号2様式!H112= \"\",\"\",IF(VALUE(FIXED(P_16号2様式!H112,0,TRUE))<>P_16号2様式!H112,RIGHT(FIXED(P_16号2様式!H112,3,FALSE),4),\"\"))","v":""},{"$f":"IF(P_16号2様式!I112<> \"\",TEXT(INT(P_16号2様式!I112),\"#,##0\"),\"\")","v":"89"},{"$f":"IF(P_16号2様式!I112= \"\",\"\",IF(VALUE(FIXED(P_16号2様式!I112,0,TRUE))<>P_16号2様式!I112,RIGHT(FIXED(P_16号2様式!I112,3,FALSE),4),\"\"))","v":""},{"$f":"IF(P_16号2様式!J112<> \"\",TEXT(INT(P_16号2様式!J112),\"#,##0\"),\"\")","v":"6,535"},{"$f":"IF(P_16号2様式!J112= \"\",\"\",IF(VALUE(FIXED(P_16号2様式!J112,0,TRUE))<>P_16号2様式!J112,RIGHT(FIXED(P_16号2様式!J112,3,FALSE),4),\"\"))","v":""},{"$f":"IF(P_16号2様式!K112<> \"\",TEXT(INT(P_16号2様式!K112),\"#,##0\"),\"\")","v":"0"},{"$f":"IF(P_16号2様式!K112= \"\",\"\",IF(VALUE(FIXED(P_16号2様式!K112,0,TRUE))<>P_16号2様式!K112,RIGHT(FIXED(P_16号2様式!K112,3,FALSE),4),\"\"))","v":""},{"$f":"IF(P_16号2様式!L112<> \"\",TEXT(INT(P_16号2様式!L112),\"#,##0\"),\"\")","v":"6,535"},{"$f":"IF(P_16号2様式!L112= \"\",\"\",IF(VALUE(FIXED(P_16号2様式!L112,0,TRUE))<>P_16号2様式!L112,RIGHT(FIXED(P_16号2様式!L112,3,FALSE),4),\"\"))","v":""},{"$f":"IF(P_16号2様式!M112=\"\",\"\",P_16号2様式!M112)","v":1.3618974751338899},null,{"$f":"IF(P_16号2様式!N112=\"\",\"\",P_16号2様式!N112)","v":"22:00:00"},null,{"$f":"IF(P_16号2様式!O112=\"\",\"\",P_16号2様式!O112)","v":"確定"}]
[{"$f":"IF(P_16号2様式!C113=\"\",\"\",P_16号2様式!C113)","v":"＊（出水郡）計"},null,{"$f":"IF(P_16号2様式!D113=\"\",\"\",P_16号2様式!D113)","v":100},{"$f":"IF(P_16号2様式!E113<> \"\",TEXT(INT(P_16号2様式!E113),\"#,##0\"),\"\")","v":"6,446"},{"$f":"IF(P_16号2様式!E113= \"\",\"\",IF(VALUE(FIXED(P_16号2様式!E113,0,TRUE))<>P_16号2様式!E113,RIGHT(FIXED(P_16号2様式!E113,3,FALSE),4),\"\"))","v":""},{"$f":"IF(P_16号2様式!F113<> \"\",TEXT(INT(P_16号2様式!F113),\"#,##0\"),\"\")","v":"0"},{"$f":"IF(P_16号2様式!F113= \"\",\"\",IF(VALUE(FIXED(P_16号2様式!F113,0,TRUE))<>P_16号2様式!F113,RIGHT(FIXED(P_16号2様式!F113,3,FALSE),4),\"\"))","v":""},{"$f":"IF(P_16号2様式!G113<> \"\",TEXT(INT(P_16号2様式!G113),\"#,##0\"),\"\")","v":"0"},{"$f":"IF(P_16号2様式!G113= \"\",\"\",IF(VALUE(FIXED(P_16号2様式!G113,0,TRUE))<>P_16号2様式!G113,RIGHT(FIXED(P_16号2様式!G113,3,FALSE),4),\"\"))","v":""},{"$f":"IF(P_16号2様式!H113<> \"\",TEXT(INT(P_16号2様式!H113),\"#,##0\"),\"\")","v":"6,446"},{"$f":"IF(P_16号2様式!H113= \"\",\"\",IF(VALUE(FIXED(P_16号2様式!H113,0,TRUE))<>P_16号2様式!H113,RIGHT(FIXED(P_16号2様式!H113,3,FALSE),4),\"\"))","v":""},{"$f":"IF(P_16号2様式!I113<> \"\",TEXT(INT(P_16号2様式!I113),\"#,##0\"),\"\")","v":"89"},{"$f":"IF(P_16号2様式!I113= \"\",\"\",IF(VALUE(FIXED(P_16号2様式!I113,0,TRUE))<>P_16号2様式!I113,RIGHT(FIXED(P_16号2様式!I113,3,FALSE),4),\"\"))","v":""},{"$f":"IF(P_16号2様式!J113<> \"\",TEXT(INT(P_16号2様式!J113),\"#,##0\"),\"\")","v":"6,535"},{"$f":"IF(P_16号2様式!J113= \"\",\"\",IF(VALUE(FIXED(P_16号2様式!J113,0,TRUE))<>P_16号2様式!J113,RIGHT(FIXED(P_16号2様式!J113,3,FALSE),4),\"\"))","v":""},{"$f":"IF(P_16号2様式!K113<> \"\",TEXT(INT(P_16号2様式!K113),\"#,##0\"),\"\")","v":"0"},{"$f":"IF(P_16号2様式!K113= \"\",\"\",IF(VALUE(FIXED(P_16号2様式!K113,0,TRUE))<>P_16号2様式!K113,RIGHT(FIXED(P_16号2様式!K113,3,FALSE),4),\"\"))","v":""},{"$f":"IF(P_16号2様式!L113<> \"\",TEXT(INT(P_16号2様式!L113),\"#,##0\"),\"\")","v":"6,535"},{"$f":"IF(P_16号2様式!L113= \"\",\"\",IF(VALUE(FIXED(P_16号2様式!L113,0,TRUE))<>P_16号2様式!L113,RIGHT(FIXED(P_16号2様式!L113,3,FALSE),4),\"\"))","v":""},{"$f":"IF(P_16号2様式!M113=\"\",\"\",P_16号2様式!M113)","v":1.3618974751338899},null,{"$f":"IF(P_16号2様式!N113=\"\",\"\",P_16号2様式!N113)","v":"22:00:00"},null,{"$f":"IF(P_16号2様式!O113=\"\",\"\",P_16号2様式!O113)","v":"確定"}]
[{"$f":"IF(P_16号2様式!C114=\"\",\"\",P_16号2様式!C114)","v":"　湧水町"},null,{"$f":"IF(P_16号2様式!D114=\"\",\"\",P_16号2様式!D114)","v":100},{"$f":"IF(P_16号2様式!E114<> \"\",TEXT(INT(P_16号2様式!E114),\"#,##0\"),\"\")","v":"5,334"},{"$f":"IF(P_16号2様式!E114= \"\",\"\",IF(VALUE(FIXED(P_16号2様式!E114,0,TRUE))<>P_16号2様式!E114,RIGHT(FIXED(P_16号2様式!E114,3,FALSE),4),\"\"))","v":""},{"$f":"IF(P_16号2様式!F114<> \"\",TEXT(INT(P_16号2様式!F114),\"#,##0\"),\"\")","v":"0"},{"$f":"IF(P_16号2様式!F114= \"\",\"\",IF(VALUE(FIXED(P_16号2様式!F114,0,TRUE))<>P_16号2様式!F114,RIGHT(FIXED(P_16号2様式!F114,3,FALSE),4),\"\"))","v":""},{"$f":"IF(P_16号2様式!G114<> \"\",TEXT(INT(P_16号2様式!G114),\"#,##0\"),\"\")","v":"0"},{"$f":"IF(P_16号2様式!G114= \"\",\"\",IF(VALUE(FIXED(P_16号2様式!G114,0,TRUE))<>P_16号2様式!G114,RIGHT(FIXED(P_16号2様式!G114,3,FALSE),4),\"\"))","v":""},{"$f":"IF(P_16号2様式!H114<> \"\",TEXT(INT(P_16号2様式!H114),\"#,##0\"),\"\")","v":"5,334"},{"$f":"IF(P_16号2様式!H114= \"\",\"\",IF(VALUE(FIXED(P_16号2様式!H114,0,TRUE))<>P_16号2様式!H114,RIGHT(FIXED(P_16号2様式!H114,3,FALSE),4),\"\"))","v":""},{"$f":"IF(P_16号2様式!I114<> \"\",TEXT(INT(P_16号2様式!I114),\"#,##0\"),\"\")","v":"53"},{"$f":"IF(P_16号2様式!I114= \"\",\"\",IF(VALUE(FIXED(P_16号2様式!I114,0,TRUE))<>P_16号2様式!I114,RIGHT(FIXED(P_16号2様式!I114,3,FALSE),4),\"\"))","v":""},{"$f":"IF(P_16号2様式!J114<> \"\",TEXT(INT(P_16号2様式!J114),\"#,##0\"),\"\")","v":"5,387"},{"$f":"IF(P_16号2様式!J114= \"\",\"\",IF(VALUE(FIXED(P_16号2様式!J114,0,TRUE))<>P_16号2様式!J114,RIGHT(FIXED(P_16号2様式!J114,3,FALSE),4),\"\"))","v":""},{"$f":"IF(P_16号2様式!K114<> \"\",TEXT(INT(P_16号2様式!K114),\"#,##0\"),\"\")","v":"0"},{"$f":"IF(P_16号2様式!K114= \"\",\"\",IF(VALUE(FIXED(P_16号2様式!K114,0,TRUE))<>P_16号2様式!K114,RIGHT(FIXED(P_16号2様式!K114,3,FALSE),4),\"\"))","v":""},{"$f":"IF(P_16号2様式!L114<> \"\",TEXT(INT(P_16号2様式!L114),\"#,##0\"),\"\")","v":"5,387"},{"$f":"IF(P_16号2様式!L114= \"\",\"\",IF(VALUE(FIXED(P_16号2様式!L114,0,TRUE))<>P_16号2様式!L114,RIGHT(FIXED(P_16号2様式!L114,3,FALSE),4),\"\"))","v":""},{"$f":"IF(P_16号2様式!M114=\"\",\"\",P_16号2様式!M114)","v":0.98385000928160404},null,{"$f":"IF(P_16号2様式!N114=\"\",\"\",P_16号2様式!N114)","v":"21:34:00"},null,{"$f":"IF(P_16号2様式!O114=\"\",\"\",P_16号2様式!O114)","v":"確定"}]
[{"$f":"IF(P_16号2様式!C115=\"\",\"\",P_16号2様式!C115)","v":"＊（姶良郡）計"},null,{"$f":"IF(P_16号2様式!D115=\"\",\"\",P_16号2様式!D115)","v":100},{"$f":"IF(P_16号2様式!E115<> \"\",TEXT(INT(P_16号2様式!E115),\"#,##0\"),\"\")","v":"5,334"},{"$f":"IF(P_16号2様式!E115= \"\",\"\",IF(VALUE(FIXED(P_16号2様式!E115,0,TRUE))<>P_16号2様式!E115,RIGHT(FIXED(P_16号2様式!E115,3,FALSE),4),\"\"))","v":""},{"$f":"IF(P_16号2様式!F115<> \"\",TEXT(INT(P_16号2様式!F115),\"#,##0\"),\"\")","v":"0"},{"$f":"IF(P_16号2様式!F115= \"\",\"\",IF(VALUE(FIXED(P_16号2様式!F115,0,TRUE))<>P_16号2様式!F115,RIGHT(FIXED(P_16号2様式!F115,3,FALSE),4),\"\"))","v":""},{"$f":"IF(P_16号2様式!G115<> \"\",TEXT(INT(P_16号2様式!G115),\"#,##0\"),\"\")","v":"0"},{"$f":"IF(P_16号2様式!G115= \"\",\"\",IF(VALUE(FIXED(P_16号2様式!G115,0,TRUE))<>P_16号2様式!G115,RIGHT(FIXED(P_16号2様式!G115,3,FALSE),4),\"\"))","v":""},{"$f":"IF(P_16号2様式!H115<> \"\",TEXT(INT(P_16号2様式!H115),\"#,##0\"),\"\")","v":"5,334"},{"$f":"IF(P_16号2様式!H115= \"\",\"\",IF(VALUE(FIXED(P_16号2様式!H115,0,TRUE))<>P_16号2様式!H115,RIGHT(FIXED(P_16号2様式!H115,3,FALSE),4),\"\"))","v":""},{"$f":"IF(P_16号2様式!I115<> \"\",TEXT(INT(P_16号2様式!I115),\"#,##0\"),\"\")","v":"53"},{"$f":"IF(P_16号2様式!I115= \"\",\"\",IF(VALUE(FIXED(P_16号2様式!I115,0,TRUE))<>P_16号2様式!I115,RIGHT(FIXED(P_16号2様式!I115,3,FALSE),4),\"\"))","v":""},{"$f":"IF(P_16号2様式!J115<> \"\",TEXT(INT(P_16号2様式!J115),\"#,##0\"),\"\")","v":"5,387"},{"$f":"IF(P_16号2様式!J115= \"\",\"\",IF(VALUE(FIXED(P_16号2様式!J115,0,TRUE))<>P_16号2様式!J115,RIGHT(FIXED(P_16号2様式!J115,3,FALSE),4),\"\"))","v":""},{"$f":"IF(P_16号2様式!K115<> \"\",TEXT(INT(P_16号2様式!K115),\"#,##0\"),\"\")","v":"0"},{"$f":"IF(P_16号2様式!K115= \"\",\"\",IF(VALUE(FIXED(P_16号2様式!K115,0,TRUE))<>P_16号2様式!K115,RIGHT(FIXED(P_16号2様式!K115,3,FALSE),4),\"\"))","v":""},{"$f":"IF(P_16号2様式!L115<> \"\",TEXT(INT(P_16号2様式!L115),\"#,##0\"),\"\")","v":"5,387"},{"$f":"IF(P_16号2様式!L115= \"\",\"\",IF(VALUE(FIXED(P_16号2様式!L115,0,TRUE))<>P_16号2様式!L115,RIGHT(FIXED(P_16号2様式!L115,3,FALSE),4),\"\"))","v":""},{"$f":"IF(P_16号2様式!M115=\"\",\"\",P_16号2様式!M115)","v":0.98385000928160404},null,{"$f":"IF(P_16号2様式!N115=\"\",\"\",P_16号2様式!N115)","v":"21:34:00"},null,{"$f":"IF(P_16号2様式!O115=\"\",\"\",P_16号2様式!O115)","v":"確定"}]
[{"$f":"IF(P_16号2様式!C116=\"\",\"\",P_16号2様式!C116)","v":"＊郡　部    計"},null,{"$f":"IF(P_16号2様式!D116=\"\",\"\",P_16号2様式!D116)","v":100},{"$f":"IF(P_16号2様式!E116<> \"\",TEXT(INT(P_16号2様式!E116),\"#,##0\"),\"\")","v":"23,970"},{"$f":"IF(P_16号2様式!E116= \"\",\"\",IF(VALUE(FIXED(P_16号2様式!E116,0,TRUE))<>P_16号2様式!E116,RIGHT(FIXED(P_16号2様式!E116,3,FALSE),4),\"\"))","v":""},{"$f":"IF(P_16号2様式!F116<> \"\",TEXT(INT(P_16号2様式!F116),\"#,##0\"),\"\")","v":"0"},{"$f":"IF(P_16号2様式!F116= \"\",\"\",IF(VALUE(FIXED(P_16号2様式!F116,0,TRUE))<>P_16号2様式!F116,RIGHT(FIXED(P_16号2様式!F116,3,FALSE),4),\"\"))","v":""},{"$f":"IF(P_16号2様式!G116<> \"\",TEXT(INT(P_16号2様式!G116),\"#,##0\"),\"\")","v":"0"},{"$f":"IF(P_16号2様式!G116= \"\",\"\",IF(VALUE(FIXED(P_16号2様式!G116,0,TRUE))<>P_16号2様式!G116,RIGHT(FIXED(P_16号2様式!G116,3,FALSE),4),\"\"))","v":""},{"$f":"IF(P_16号2様式!H116<> \"\",TEXT(INT(P_16号2様式!H116),\"#,##0\"),\"\")","v":"23,970"},{"$f":"IF(P_16号2様式!H116= \"\",\"\",IF(VALUE(FIXED(P_16号2様式!H116,0,TRUE))<>P_16号2様式!H116,RIGHT(FIXED(P_16号2様式!H116,3,FALSE),4),\"\"))","v":""},{"$f":"IF(P_16号2様式!I116<> \"\",TEXT(INT(P_16号2様式!I116),\"#,##0\"),\"\")","v":"278"},{"$f":"IF(P_16号2様式!I116= \"\",\"\",IF(VALUE(FIXED(P_16号2様式!I116,0,TRUE))<>P_16号2様式!I116,RIGHT(FIXED(P_16号2様式!I116,3,FALSE),4),\"\"))","v":""},{"$f":"IF(P_16号2様式!J116<> \"\",TEXT(INT(P_16号2様式!J116),\"#,##0\"),\"\")","v":"24,248"},{"$f":"IF(P_16号2様式!J116= \"\",\"\",IF(VALUE(FIXED(P_16号2様式!J116,0,TRUE))<>P_16号2様式!J116,RIGHT(FIXED(P_16号2様式!J116,3,FALSE),4),\"\"))","v":""},{"$f":"IF(P_16号2様式!K116<> \"\",TEXT(INT(P_16号2様式!K116),\"#,##0\"),\"\")","v":"0"},{"$f":"IF(P_16号2様式!K116= \"\",\"\",IF(VALUE(FIXED(P_16号2様式!K116,0,TRUE))<>P_16号2様式!K116,RIGHT(FIXED(P_16号2様式!K116,3,FALSE),4),\"\"))","v":""},{"$f":"IF(P_16号2様式!L116<> \"\",TEXT(INT(P_16号2様式!L116),\"#,##0\"),\"\")","v":"24,248"},{"$f":"IF(P_16号2様式!L116= \"\",\"\",IF(VALUE(FIXED(P_16号2様式!L116,0,TRUE))<>P_16号2様式!L116,RIGHT(FIXED(P_16号2様式!L116,3,FALSE),4),\"\"))","v":""},{"$f":"IF(P_16号2様式!M116=\"\",\"\",P_16号2様式!M116)","v":1.1464863081491301},null,{"$f":"IF(P_16号2様式!N116=\"\",\"\",P_16号2様式!N116)","v":"22:10:00"},null,{"$f":"IF(P_16号2様式!O116=\"\",\"\",P_16号2様式!O116)","v":"確定"}]
[{"$f":"IF(P_16号2様式!C117=\"\",\"\",P_16号2様式!C117)","v":"＊第 ３ 区  計"},null,{"$f":"IF(P_16号2様式!D117=\"\",\"\",P_16号2様式!D117)","v":100},{"$f":"IF(P_16号2様式!E117<> \"\",TEXT(INT(P_16号2様式!E117),\"#,##0\"),\"\")","v":"203,346"},{"$f":"IF(P_16号2様式!E117= \"\",\"\",IF(VALUE(FIXED(P_16号2様式!E117,0,TRUE))<>P_16号2様式!E117,RIGHT(FIXED(P_16号2様式!E117,3,FALSE),4),\"\"))","v":""},{"$f":"IF(P_16号2様式!F117<> \"\",TEXT(INT(P_16号2様式!F117),\"#,##0\"),\"\")","v":"0"},{"$f":"IF(P_16号2様式!F117= \"\",\"\",IF(VALUE(FIXED(P_16号2様式!F117,0,TRUE))<>P_16号2様式!F117,RIGHT(FIXED(P_16号2様式!F117,3,FALSE),4),\"\"))","v":""},{"$f":"IF(P_16号2様式!G117<> \"\",TEXT(INT(P_16号2様式!G117),\"#,##0\"),\"\")","v":"0"},{"$f":"IF(P_16号2様式!G117= \"\",\"\",IF(VALUE(FIXED(P_16号2様式!G117,0,TRUE))<>P_16号2様式!G117,RIGHT(FIXED(P_16号2様式!G117,3,FALSE),4),\"\"))","v":""},{"$f":"IF(P_16号2様式!H117<> \"\",TEXT(INT(P_16号2様式!H117),\"#,##0\"),\"\")","v":"203,346"},{"$f":"IF(P_16号2様式!H117= \"\",\"\",IF(VALUE(FIXED(P_16号2様式!H117,0,TRUE))<>P_16号2様式!H117,RIGHT(FIXED(P_16号2様式!H117,3,FALSE),4),\"\"))","v":""},{"$f":"IF(P_16号2様式!I117<> \"\",TEXT(INT(P_16号2様式!I117),\"#,##0\"),\"\")","v":"2,658"},{"$f":"IF(P_16号2様式!I117= \"\",\"\",IF(VALUE(FIXED(P_16号2様式!I117,0,TRUE))<>P_16号2様式!I117,RIGHT(FIXED(P_16号2様式!I117,3,FALSE),4),\"\"))","v":""},{"$f":"IF(P_16号2様式!J117<> \"\",TEXT(INT(P_16号2様式!J117),\"#,##0\"),\"\")","v":"206,004"},{"$f":"IF(P_16号2様式!J117= \"\",\"\",IF(VALUE(FIXED(P_16号2様式!J117,0,TRUE))<>P_16号2様式!J117,RIGHT(FIXED(P_16号2様式!J117,3,FALSE),4),\"\"))","v":""},{"$f":"IF(P_16号2様式!K117<> \"\",TEXT(INT(P_16号2様式!K117),\"#,##0\"),\"\")","v":"4"},{"$f":"IF(P_16号2様式!K117= \"\",\"\",IF(VALUE(FIXED(P_16号2様式!K117,0,TRUE))<>P_16号2様式!K117,RIGHT(FIXED(P_16号2様式!K117,3,FALSE),4),\"\"))","v":""},{"$f":"IF(P_16号2様式!L117<> \"\",TEXT(INT(P_16号2様式!L117),\"#,##0\"),\"\")","v":"206,008"},{"$f":"IF(P_16号2様式!L117= \"\",\"\",IF(VALUE(FIXED(P_16号2様式!L117,0,TRUE))<>P_16号2様式!L117,RIGHT(FIXED(P_16号2様式!L117,3,FALSE),4),\"\"))","v":""},{"$f":"IF(P_16号2様式!M117=\"\",\"\",P_16号2様式!M117)","v":1.29026620842314},null,{"$f":"IF(P_16号2様式!N117=\"\",\"\",P_16号2様式!N117)","v":"23:07:00"},null,{"$f":"IF(P_16号2様式!O117=\"\",\"\",P_16号2様式!O117)","v":"確定"}]
[{"$f":"IF(P_16号2様式!C118=\"\",\"\",P_16号2様式!C118)","v":""},null,{"$f":"IF(P_16号2様式!D118=\"\",\"\",P_16号2様式!D118)","v":""},{"$f":"IF(P_16号2様式!E118<> \"\",TEXT(INT(P_16号2様式!E118),\"#,##0\"),\"\")","v":""},{"$f":"IF(P_16号2様式!E118= \"\",\"\",IF(VALUE(FIXED(P_16号2様式!E118,0,TRUE))<>P_16号2様式!E118,RIGHT(FIXED(P_16号2様式!E118,3,FALSE),4),\"\"))","v":""},{"$f":"IF(P_16号2様式!F118<> \"\",TEXT(INT(P_16号2様式!F118),\"#,##0\"),\"\")","v":""},{"$f":"IF(P_16号2様式!F118= \"\",\"\",IF(VALUE(FIXED(P_16号2様式!F118,0,TRUE))<>P_16号2様式!F118,RIGHT(FIXED(P_16号2様式!F118,3,FALSE),4),\"\"))","v":""},{"$f":"IF(P_16号2様式!G118<> \"\",TEXT(INT(P_16号2様式!G118),\"#,##0\"),\"\")","v":""},{"$f":"IF(P_16号2様式!G118= \"\",\"\",IF(VALUE(FIXED(P_16号2様式!G118,0,TRUE))<>P_16号2様式!G118,RIGHT(FIXED(P_16号2様式!G118,3,FALSE),4),\"\"))","v":""},{"$f":"IF(P_16号2様式!H118<> \"\",TEXT(INT(P_16号2様式!H118),\"#,##0\"),\"\")","v":""},{"$f":"IF(P_16号2様式!H118= \"\",\"\",IF(VALUE(FIXED(P_16号2様式!H118,0,TRUE))<>P_16号2様式!H118,RIGHT(FIXED(P_16号2様式!H118,3,FALSE),4),\"\"))","v":""},{"$f":"IF(P_16号2様式!I118<> \"\",TEXT(INT(P_16号2様式!I118),\"#,##0\"),\"\")","v":""},{"$f":"IF(P_16号2様式!I118= \"\",\"\",IF(VALUE(FIXED(P_16号2様式!I118,0,TRUE))<>P_16号2様式!I118,RIGHT(FIXED(P_16号2様式!I118,3,FALSE),4),\"\"))","v":""},{"$f":"IF(P_16号2様式!J118<> \"\",TEXT(INT(P_16号2様式!J118),\"#,##0\"),\"\")","v":""},{"$f":"IF(P_16号2様式!J118= \"\",\"\",IF(VALUE(FIXED(P_16号2様式!J118,0,TRUE))<>P_16号2様式!J118,RIGHT(FIXED(P_16号2様式!J118,3,FALSE),4),\"\"))","v":""},{"$f":"IF(P_16号2様式!K118<> \"\",TEXT(INT(P_16号2様式!K118),\"#,##0\"),\"\")","v":""},{"$f":"IF(P_16号2様式!K118= \"\",\"\",IF(VALUE(FIXED(P_16号2様式!K118,0,TRUE))<>P_16号2様式!K118,RIGHT(FIXED(P_16号2様式!K118,3,FALSE),4),\"\"))","v":""},{"$f":"IF(P_16号2様式!L118<> \"\",TEXT(INT(P_16号2様式!L118),\"#,##0\"),\"\")","v":""},{"$f":"IF(P_16号2様式!L118= \"\",\"\",IF(VALUE(FIXED(P_16号2様式!L118,0,TRUE))<>P_16号2様式!L118,RIGHT(FIXED(P_16号2様式!L118,3,FALSE),4),\"\"))","v":""},{"$f":"IF(P_16号2様式!M118=\"\",\"\",P_16号2様式!M118)","v":""},null,{"$f":"IF(P_16号2様式!N118=\"\",\"\",P_16号2様式!N118)","v":""},null,{"$f":"IF(P_16号2様式!O118=\"\",\"\",P_16号2様式!O118)","v":""}]
[{"$f":"IF(P_16号2様式!C119=\"\",\"\",P_16号2様式!C119)","v":""},null,{"$f":"IF(P_16号2様式!D119=\"\",\"\",P_16号2様式!D119)","v":""},{"$f":"IF(P_16号2様式!E119<> \"\",TEXT(INT(P_16号2様式!E119),\"#,##0\"),\"\")","v":""},{"$f":"IF(P_16号2様式!E119= \"\",\"\",IF(VALUE(FIXED(P_16号2様式!E119,0,TRUE))<>P_16号2様式!E119,RIGHT(FIXED(P_16号2様式!E119,3,FALSE),4),\"\"))","v":""},{"$f":"IF(P_16号2様式!F119<> \"\",TEXT(INT(P_16号2様式!F119),\"#,##0\"),\"\")","v":""},{"$f":"IF(P_16号2様式!F119= \"\",\"\",IF(VALUE(FIXED(P_16号2様式!F119,0,TRUE))<>P_16号2様式!F119,RIGHT(FIXED(P_16号2様式!F119,3,FALSE),4),\"\"))","v":""},{"$f":"IF(P_16号2様式!G119<> \"\",TEXT(INT(P_16号2様式!G119),\"#,##0\"),\"\")","v":""},{"$f":"IF(P_16号2様式!G119= \"\",\"\",IF(VALUE(FIXED(P_16号2様式!G119,0,TRUE))<>P_16号2様式!G119,RIGHT(FIXED(P_16号2様式!G119,3,FALSE),4),\"\"))","v":""},{"$f":"IF(P_16号2様式!H119<> \"\",TEXT(INT(P_16号2様式!H119),\"#,##0\"),\"\")","v":""},{"$f":"IF(P_16号2様式!H119= \"\",\"\",IF(VALUE(FIXED(P_16号2様式!H119,0,TRUE))<>P_16号2様式!H119,RIGHT(FIXED(P_16号2様式!H119,3,FALSE),4),\"\"))","v":""},{"$f":"IF(P_16号2様式!I119<> \"\",TEXT(INT(P_16号2様式!I119),\"#,##0\"),\"\")","v":""},{"$f":"IF(P_16号2様式!I119= \"\",\"\",IF(VALUE(FIXED(P_16号2様式!I119,0,TRUE))<>P_16号2様式!I119,RIGHT(FIXED(P_16号2様式!I119,3,FALSE),4),\"\"))","v":""},{"$f":"IF(P_16号2様式!J119<> \"\",TEXT(INT(P_16号2様式!J119),\"#,##0\"),\"\")","v":""},{"$f":"IF(P_16号2様式!J119= \"\",\"\",IF(VALUE(FIXED(P_16号2様式!J119,0,TRUE))<>P_16号2様式!J119,RIGHT(FIXED(P_16号2様式!J119,3,FALSE),4),\"\"))","v":""},{"$f":"IF(P_16号2様式!K119<> \"\",TEXT(INT(P_16号2様式!K119),\"#,##0\"),\"\")","v":""},{"$f":"IF(P_16号2様式!K119= \"\",\"\",IF(VALUE(FIXED(P_16号2様式!K119,0,TRUE))<>P_16号2様式!K119,RIGHT(FIXED(P_16号2様式!K119,3,FALSE),4),\"\"))","v":""},{"$f":"IF(P_16号2様式!L119<> \"\",TEXT(INT(P_16号2様式!L119),\"#,##0\"),\"\")","v":""},{"$f":"IF(P_16号2様式!L119= \"\",\"\",IF(VALUE(FIXED(P_16号2様式!L119,0,TRUE))<>P_16号2様式!L119,RIGHT(FIXED(P_16号2様式!L119,3,FALSE),4),\"\"))","v":""},{"$f":"IF(P_16号2様式!M119=\"\",\"\",P_16号2様式!M119)","v":""},null,{"$f":"IF(P_16号2様式!N119=\"\",\"\",P_16号2様式!N119)","v":""},null,{"$f":"IF(P_16号2様式!O119=\"\",\"\",P_16号2様式!O119)","v":""}]
[{"$f":"IF(P_16号2様式!C120=\"\",\"\",P_16号2様式!C120)","v":""},null,{"$f":"IF(P_16号2様式!D120=\"\",\"\",P_16号2様式!D120)","v":""},{"$f":"IF(P_16号2様式!E120<> \"\",TEXT(INT(P_16号2様式!E120),\"#,##0\"),\"\")","v":""},{"$f":"IF(P_16号2様式!E120= \"\",\"\",IF(VALUE(FIXED(P_16号2様式!E120,0,TRUE))<>P_16号2様式!E120,RIGHT(FIXED(P_16号2様式!E120,3,FALSE),4),\"\"))","v":""},{"$f":"IF(P_16号2様式!F120<> \"\",TEXT(INT(P_16号2様式!F120),\"#,##0\"),\"\")","v":""},{"$f":"IF(P_16号2様式!F120= \"\",\"\",IF(VALUE(FIXED(P_16号2様式!F120,0,TRUE))<>P_16号2様式!F120,RIGHT(FIXED(P_16号2様式!F120,3,FALSE),4),\"\"))","v":""},{"$f":"IF(P_16号2様式!G120<> \"\",TEXT(INT(P_16号2様式!G120),\"#,##0\"),\"\")","v":""},{"$f":"IF(P_16号2様式!G120= \"\",\"\",IF(VALUE(FIXED(P_16号2様式!G120,0,TRUE))<>P_16号2様式!G120,RIGHT(FIXED(P_16号2様式!G120,3,FALSE),4),\"\"))","v":""},{"$f":"IF(P_16号2様式!H120<> \"\",TEXT(INT(P_16号2様式!H120),\"#,##0\"),\"\")","v":""},{"$f":"IF(P_16号2様式!H120= \"\",\"\",IF(VALUE(FIXED(P_16号2様式!H120,0,TRUE))<>P_16号2様式!H120,RIGHT(FIXED(P_16号2様式!H120,3,FALSE),4),\"\"))","v":""},{"$f":"IF(P_16号2様式!I120<> \"\",TEXT(INT(P_16号2様式!I120),\"#,##0\"),\"\")","v":""},{"$f":"IF(P_16号2様式!I120= \"\",\"\",IF(VALUE(FIXED(P_16号2様式!I120,0,TRUE))<>P_16号2様式!I120,RIGHT(FIXED(P_16号2様式!I120,3,FALSE),4),\"\"))","v":""},{"$f":"IF(P_16号2様式!J120<> \"\",TEXT(INT(P_16号2様式!J120),\"#,##0\"),\"\")","v":""},{"$f":"IF(P_16号2様式!J120= \"\",\"\",IF(VALUE(FIXED(P_16号2様式!J120,0,TRUE))<>P_16号2様式!J120,RIGHT(FIXED(P_16号2様式!J120,3,FALSE),4),\"\"))","v":""},{"$f":"IF(P_16号2様式!K120<> \"\",TEXT(INT(P_16号2様式!K120),\"#,##0\"),\"\")","v":""},{"$f":"IF(P_16号2様式!K120= \"\",\"\",IF(VALUE(FIXED(P_16号2様式!K120,0,TRUE))<>P_16号2様式!K120,RIGHT(FIXED(P_16号2様式!K120,3,FALSE),4),\"\"))","v":""},{"$f":"IF(P_16号2様式!L120<> \"\",TEXT(INT(P_16号2様式!L120),\"#,##0\"),\"\")","v":""},{"$f":"IF(P_16号2様式!L120= \"\",\"\",IF(VALUE(FIXED(P_16号2様式!L120,0,TRUE))<>P_16号2様式!L120,RIGHT(FIXED(P_16号2様式!L120,3,FALSE),4),\"\"))","v":""},{"$f":"IF(P_16号2様式!M120=\"\",\"\",P_16号2様式!M120)","v":""},null,{"$f":"IF(P_16号2様式!N120=\"\",\"\",P_16号2様式!N120)","v":""},null,{"$f":"IF(P_16号2様式!O120=\"\",\"\",P_16号2様式!O120)","v":""}]
[{"$f":"IF(P_16号2様式!C121=\"\",\"\",P_16号2様式!C121)","v":""},null,{"$f":"IF(P_16号2様式!D121=\"\",\"\",P_16号2様式!D121)","v":""},{"$f":"IF(P_16号2様式!E121<> \"\",TEXT(INT(P_16号2様式!E121),\"#,##0\"),\"\")","v":""},{"$f":"IF(P_16号2様式!E121= \"\",\"\",IF(VALUE(FIXED(P_16号2様式!E121,0,TRUE))<>P_16号2様式!E121,RIGHT(FIXED(P_16号2様式!E121,3,FALSE),4),\"\"))","v":""},{"$f":"IF(P_16号2様式!F121<> \"\",TEXT(INT(P_16号2様式!F121),\"#,##0\"),\"\")","v":""},{"$f":"IF(P_16号2様式!F121= \"\",\"\",IF(VALUE(FIXED(P_16号2様式!F121,0,TRUE))<>P_16号2様式!F121,RIGHT(FIXED(P_16号2様式!F121,3,FALSE),4),\"\"))","v":""},{"$f":"IF(P_16号2様式!G121<> \"\",TEXT(INT(P_16号2様式!G121),\"#,##0\"),\"\")","v":""},{"$f":"IF(P_16号2様式!G121= \"\",\"\",IF(VALUE(FIXED(P_16号2様式!G121,0,TRUE))<>P_16号2様式!G121,RIGHT(FIXED(P_16号2様式!G121,3,FALSE),4),\"\"))","v":""},{"$f":"IF(P_16号2様式!H121<> \"\",TEXT(INT(P_16号2様式!H121),\"#,##0\"),\"\")","v":""},{"$f":"IF(P_16号2様式!H121= \"\",\"\",IF(VALUE(FIXED(P_16号2様式!H121,0,TRUE))<>P_16号2様式!H121,RIGHT(FIXED(P_16号2様式!H121,3,FALSE),4),\"\"))","v":""},{"$f":"IF(P_16号2様式!I121<> \"\",TEXT(INT(P_16号2様式!I121),\"#,##0\"),\"\")","v":""},{"$f":"IF(P_16号2様式!I121= \"\",\"\",IF(VALUE(FIXED(P_16号2様式!I121,0,TRUE))<>P_16号2様式!I121,RIGHT(FIXED(P_16号2様式!I121,3,FALSE),4),\"\"))","v":""},{"$f":"IF(P_16号2様式!J121<> \"\",TEXT(INT(P_16号2様式!J121),\"#,##0\"),\"\")","v":""},{"$f":"IF(P_16号2様式!J121= \"\",\"\",IF(VALUE(FIXED(P_16号2様式!J121,0,TRUE))<>P_16号2様式!J121,RIGHT(FIXED(P_16号2様式!J121,3,FALSE),4),\"\"))","v":""},{"$f":"IF(P_16号2様式!K121<> \"\",TEXT(INT(P_16号2様式!K121),\"#,##0\"),\"\")","v":""},{"$f":"IF(P_16号2様式!K121= \"\",\"\",IF(VALUE(FIXED(P_16号2様式!K121,0,TRUE))<>P_16号2様式!K121,RIGHT(FIXED(P_16号2様式!K121,3,FALSE),4),\"\"))","v":""},{"$f":"IF(P_16号2様式!L121<> \"\",TEXT(INT(P_16号2様式!L121),\"#,##0\"),\"\")","v":""},{"$f":"IF(P_16号2様式!L121= \"\",\"\",IF(VALUE(FIXED(P_16号2様式!L121,0,TRUE))<>P_16号2様式!L121,RIGHT(FIXED(P_16号2様式!L121,3,FALSE),4),\"\"))","v":""},{"$f":"IF(P_16号2様式!M121=\"\",\"\",P_16号2様式!M121)","v":""},null,{"$f":"IF(P_16号2様式!N121=\"\",\"\",P_16号2様式!N121)","v":""},null,{"$f":"IF(P_16号2様式!O121=\"\",\"\",P_16号2様式!O121)","v":""}]
[{"$f":"IF(P_16号2様式!C122=\"\",\"\",P_16号2様式!C122)","v":""},null,{"$f":"IF(P_16号2様式!D122=\"\",\"\",P_16号2様式!D122)","v":""},{"$f":"IF(P_16号2様式!E122<> \"\",TEXT(INT(P_16号2様式!E122),\"#,##0\"),\"\")","v":""},{"$f":"IF(P_16号2様式!E122= \"\",\"\",IF(VALUE(FIXED(P_16号2様式!E122,0,TRUE))<>P_16号2様式!E122,RIGHT(FIXED(P_16号2様式!E122,3,FALSE),4),\"\"))","v":""},{"$f":"IF(P_16号2様式!F122<> \"\",TEXT(INT(P_16号2様式!F122),\"#,##0\"),\"\")","v":""},{"$f":"IF(P_16号2様式!F122= \"\",\"\",IF(VALUE(FIXED(P_16号2様式!F122,0,TRUE))<>P_16号2様式!F122,RIGHT(FIXED(P_16号2様式!F122,3,FALSE),4),\"\"))","v":""},{"$f":"IF(P_16号2様式!G122<> \"\",TEXT(INT(P_16号2様式!G122),\"#,##0\"),\"\")","v":""},{"$f":"IF(P_16号2様式!G122= \"\",\"\",IF(VALUE(FIXED(P_16号2様式!G122,0,TRUE))<>P_16号2様式!G122,RIGHT(FIXED(P_16号2様式!G122,3,FALSE),4),\"\"))","v":""},{"$f":"IF(P_16号2様式!H122<> \"\",TEXT(INT(P_16号2様式!H122),\"#,##0\"),\"\")","v":""},{"$f":"IF(P_16号2様式!H122= \"\",\"\",IF(VALUE(FIXED(P_16号2様式!H122,0,TRUE))<>P_16号2様式!H122,RIGHT(FIXED(P_16号2様式!H122,3,FALSE),4),\"\"))","v":""},{"$f":"IF(P_16号2様式!I122<> \"\",TEXT(INT(P_16号2様式!I122),\"#,##0\"),\"\")","v":""},{"$f":"IF(P_16号2様式!I122= \"\",\"\",IF(VALUE(FIXED(P_16号2様式!I122,0,TRUE))<>P_16号2様式!I122,RIGHT(FIXED(P_16号2様式!I122,3,FALSE),4),\"\"))","v":""},{"$f":"IF(P_16号2様式!J122<> \"\",TEXT(INT(P_16号2様式!J122),\"#,##0\"),\"\")","v":""},{"$f":"IF(P_16号2様式!J122= \"\",\"\",IF(VALUE(FIXED(P_16号2様式!J122,0,TRUE))<>P_16号2様式!J122,RIGHT(FIXED(P_16号2様式!J122,3,FALSE),4),\"\"))","v":""},{"$f":"IF(P_16号2様式!K122<> \"\",TEXT(INT(P_16号2様式!K122),\"#,##0\"),\"\")","v":""},{"$f":"IF(P_16号2様式!K122= \"\",\"\",IF(VALUE(FIXED(P_16号2様式!K122,0,TRUE))<>P_16号2様式!K122,RIGHT(FIXED(P_16号2様式!K122,3,FALSE),4),\"\"))","v":""},{"$f":"IF(P_16号2様式!L122<> \"\",TEXT(INT(P_16号2様式!L122),\"#,##0\"),\"\")","v":""},{"$f":"IF(P_16号2様式!L122= \"\",\"\",IF(VALUE(FIXED(P_16号2様式!L122,0,TRUE))<>P_16号2様式!L122,RIGHT(FIXED(P_16号2様式!L122,3,FALSE),4),\"\"))","v":""},{"$f":"IF(P_16号2様式!M122=\"\",\"\",P_16号2様式!M122)","v":""},null,{"$f":"IF(P_16号2様式!N122=\"\",\"\",P_16号2様式!N122)","v":""},null,{"$f":"IF(P_16号2様式!O122=\"\",\"\",P_16号2様式!O122)","v":""}]
[{"$f":"IF(P_16号2様式!C123=\"\",\"\",P_16号2様式!C123)","v":""},null,{"$f":"IF(P_16号2様式!D123=\"\",\"\",P_16号2様式!D123)","v":""},{"$f":"IF(P_16号2様式!E123<> \"\",TEXT(INT(P_16号2様式!E123),\"#,##0\"),\"\")","v":""},{"$f":"IF(P_16号2様式!E123= \"\",\"\",IF(VALUE(FIXED(P_16号2様式!E123,0,TRUE))<>P_16号2様式!E123,RIGHT(FIXED(P_16号2様式!E123,3,FALSE),4),\"\"))","v":""},{"$f":"IF(P_16号2様式!F123<> \"\",TEXT(INT(P_16号2様式!F123),\"#,##0\"),\"\")","v":""},{"$f":"IF(P_16号2様式!F123= \"\",\"\",IF(VALUE(FIXED(P_16号2様式!F123,0,TRUE))<>P_16号2様式!F123,RIGHT(FIXED(P_16号2様式!F123,3,FALSE),4),\"\"))","v":""},{"$f":"IF(P_16号2様式!G123<> \"\",TEXT(INT(P_16号2様式!G123),\"#,##0\"),\"\")","v":""},{"$f":"IF(P_16号2様式!G123= \"\",\"\",IF(VALUE(FIXED(P_16号2様式!G123,0,TRUE))<>P_16号2様式!G123,RIGHT(FIXED(P_16号2様式!G123,3,FALSE),4),\"\"))","v":""},{"$f":"IF(P_16号2様式!H123<> \"\",TEXT(INT(P_16号2様式!H123),\"#,##0\"),\"\")","v":""},{"$f":"IF(P_16号2様式!H123= \"\",\"\",IF(VALUE(FIXED(P_16号2様式!H123,0,TRUE))<>P_16号2様式!H123,RIGHT(FIXED(P_16号2様式!H123,3,FALSE),4),\"\"))","v":""},{"$f":"IF(P_16号2様式!I123<> \"\",TEXT(INT(P_16号2様式!I123),\"#,##0\"),\"\")","v":""},{"$f":"IF(P_16号2様式!I123= \"\",\"\",IF(VALUE(FIXED(P_16号2様式!I123,0,TRUE))<>P_16号2様式!I123,RIGHT(FIXED(P_16号2様式!I123,3,FALSE),4),\"\"))","v":""},{"$f":"IF(P_16号2様式!J123<> \"\",TEXT(INT(P_16号2様式!J123),\"#,##0\"),\"\")","v":""},{"$f":"IF(P_16号2様式!J123= \"\",\"\",IF(VALUE(FIXED(P_16号2様式!J123,0,TRUE))<>P_16号2様式!J123,RIGHT(FIXED(P_16号2様式!J123,3,FALSE),4),\"\"))","v":""},{"$f":"IF(P_16号2様式!K123<> \"\",TEXT(INT(P_16号2様式!K123),\"#,##0\"),\"\")","v":""},{"$f":"IF(P_16号2様式!K123= \"\",\"\",IF(VALUE(FIXED(P_16号2様式!K123,0,TRUE))<>P_16号2様式!K123,RIGHT(FIXED(P_16号2様式!K123,3,FALSE),4),\"\"))","v":""},{"$f":"IF(P_16号2様式!L123<> \"\",TEXT(INT(P_16号2様式!L123),\"#,##0\"),\"\")","v":""},{"$f":"IF(P_16号2様式!L123= \"\",\"\",IF(VALUE(FIXED(P_16号2様式!L123,0,TRUE))<>P_16号2様式!L123,RIGHT(FIXED(P_16号2様式!L123,3,FALSE),4),\"\"))","v":""},{"$f":"IF(P_16号2様式!M123=\"\",\"\",P_16号2様式!M123)","v":""},null,{"$f":"IF(P_16号2様式!N123=\"\",\"\",P_16号2様式!N123)","v":""},null,{"$f":"IF(P_16号2様式!O123=\"\",\"\",P_16号2様式!O123)","v":""}]
[{"$f":"IF(P_16号2様式!C124=\"\",\"\",P_16号2様式!C124)","v":""},null,{"$f":"IF(P_16号2様式!D124=\"\",\"\",P_16号2様式!D124)","v":""},{"$f":"IF(P_16号2様式!E124<> \"\",TEXT(INT(P_16号2様式!E124),\"#,##0\"),\"\")","v":""},{"$f":"IF(P_16号2様式!E124= \"\",\"\",IF(VALUE(FIXED(P_16号2様式!E124,0,TRUE))<>P_16号2様式!E124,RIGHT(FIXED(P_16号2様式!E124,3,FALSE),4),\"\"))","v":""},{"$f":"IF(P_16号2様式!F124<> \"\",TEXT(INT(P_16号2様式!F124),\"#,##0\"),\"\")","v":""},{"$f":"IF(P_16号2様式!F124= \"\",\"\",IF(VALUE(FIXED(P_16号2様式!F124,0,TRUE))<>P_16号2様式!F124,RIGHT(FIXED(P_16号2様式!F124,3,FALSE),4),\"\"))","v":""},{"$f":"IF(P_16号2様式!G124<> \"\",TEXT(INT(P_16号2様式!G124),\"#,##0\"),\"\")","v":""},{"$f":"IF(P_16号2様式!G124= \"\",\"\",IF(VALUE(FIXED(P_16号2様式!G124,0,TRUE))<>P_16号2様式!G124,RIGHT(FIXED(P_16号2様式!G124,3,FALSE),4),\"\"))","v":""},{"$f":"IF(P_16号2様式!H124<> \"\",TEXT(INT(P_16号2様式!H124),\"#,##0\"),\"\")","v":""},{"$f":"IF(P_16号2様式!H124= \"\",\"\",IF(VALUE(FIXED(P_16号2様式!H124,0,TRUE))<>P_16号2様式!H124,RIGHT(FIXED(P_16号2様式!H124,3,FALSE),4),\"\"))","v":""},{"$f":"IF(P_16号2様式!I124<> \"\",TEXT(INT(P_16号2様式!I124),\"#,##0\"),\"\")","v":""},{"$f":"IF(P_16号2様式!I124= \"\",\"\",IF(VALUE(FIXED(P_16号2様式!I124,0,TRUE))<>P_16号2様式!I124,RIGHT(FIXED(P_16号2様式!I124,3,FALSE),4),\"\"))","v":""},{"$f":"IF(P_16号2様式!J124<> \"\",TEXT(INT(P_16号2様式!J124),\"#,##0\"),\"\")","v":""},{"$f":"IF(P_16号2様式!J124= \"\",\"\",IF(VALUE(FIXED(P_16号2様式!J124,0,TRUE))<>P_16号2様式!J124,RIGHT(FIXED(P_16号2様式!J124,3,FALSE),4),\"\"))","v":""},{"$f":"IF(P_16号2様式!K124<> \"\",TEXT(INT(P_16号2様式!K124),\"#,##0\"),\"\")","v":""},{"$f":"IF(P_16号2様式!K124= \"\",\"\",IF(VALUE(FIXED(P_16号2様式!K124,0,TRUE))<>P_16号2様式!K124,RIGHT(FIXED(P_16号2様式!K124,3,FALSE),4),\"\"))","v":""},{"$f":"IF(P_16号2様式!L124<> \"\",TEXT(INT(P_16号2様式!L124),\"#,##0\"),\"\")","v":""},{"$f":"IF(P_16号2様式!L124= \"\",\"\",IF(VALUE(FIXED(P_16号2様式!L124,0,TRUE))<>P_16号2様式!L124,RIGHT(FIXED(P_16号2様式!L124,3,FALSE),4),\"\"))","v":""},{"$f":"IF(P_16号2様式!M124=\"\",\"\",P_16号2様式!M124)","v":""},null,{"$f":"IF(P_16号2様式!N124=\"\",\"\",P_16号2様式!N124)","v":""},null,{"$f":"IF(P_16号2様式!O124=\"\",\"\",P_16号2様式!O124)","v":""}]
[{"$f":"IF(P_16号2様式!C125=\"\",\"\",P_16号2様式!C125)","v":""},null,{"$f":"IF(P_16号2様式!D125=\"\",\"\",P_16号2様式!D125)","v":""},{"$f":"IF(P_16号2様式!E125<> \"\",TEXT(INT(P_16号2様式!E125),\"#,##0\"),\"\")","v":""},{"$f":"IF(P_16号2様式!E125= \"\",\"\",IF(VALUE(FIXED(P_16号2様式!E125,0,TRUE))<>P_16号2様式!E125,RIGHT(FIXED(P_16号2様式!E125,3,FALSE),4),\"\"))","v":""},{"$f":"IF(P_16号2様式!F125<> \"\",TEXT(INT(P_16号2様式!F125),\"#,##0\"),\"\")","v":""},{"$f":"IF(P_16号2様式!F125= \"\",\"\",IF(VALUE(FIXED(P_16号2様式!F125,0,TRUE))<>P_16号2様式!F125,RIGHT(FIXED(P_16号2様式!F125,3,FALSE),4),\"\"))","v":""},{"$f":"IF(P_16号2様式!G125<> \"\",TEXT(INT(P_16号2様式!G125),\"#,##0\"),\"\")","v":""},{"$f":"IF(P_16号2様式!G125= \"\",\"\",IF(VALUE(FIXED(P_16号2様式!G125,0,TRUE))<>P_16号2様式!G125,RIGHT(FIXED(P_16号2様式!G125,3,FALSE),4),\"\"))","v":""},{"$f":"IF(P_16号2様式!H125<> \"\",TEXT(INT(P_16号2様式!H125),\"#,##0\"),\"\")","v":""},{"$f":"IF(P_16号2様式!H125= \"\",\"\",IF(VALUE(FIXED(P_16号2様式!H125,0,TRUE))<>P_16号2様式!H125,RIGHT(FIXED(P_16号2様式!H125,3,FALSE),4),\"\"))","v":""},{"$f":"IF(P_16号2様式!I125<> \"\",TEXT(INT(P_16号2様式!I125),\"#,##0\"),\"\")","v":""},{"$f":"IF(P_16号2様式!I125= \"\",\"\",IF(VALUE(FIXED(P_16号2様式!I125,0,TRUE))<>P_16号2様式!I125,RIGHT(FIXED(P_16号2様式!I125,3,FALSE),4),\"\"))","v":""},{"$f":"IF(P_16号2様式!J125<> \"\",TEXT(INT(P_16号2様式!J125),\"#,##0\"),\"\")","v":""},{"$f":"IF(P_16号2様式!J125= \"\",\"\",IF(VALUE(FIXED(P_16号2様式!J125,0,TRUE))<>P_16号2様式!J125,RIGHT(FIXED(P_16号2様式!J125,3,FALSE),4),\"\"))","v":""},{"$f":"IF(P_16号2様式!K125<> \"\",TEXT(INT(P_16号2様式!K125),\"#,##0\"),\"\")","v":""},{"$f":"IF(P_16号2様式!K125= \"\",\"\",IF(VALUE(FIXED(P_16号2様式!K125,0,TRUE))<>P_16号2様式!K125,RIGHT(FIXED(P_16号2様式!K125,3,FALSE),4),\"\"))","v":""},{"$f":"IF(P_16号2様式!L125<> \"\",TEXT(INT(P_16号2様式!L125),\"#,##0\"),\"\")","v":""},{"$f":"IF(P_16号2様式!L125= \"\",\"\",IF(VALUE(FIXED(P_16号2様式!L125,0,TRUE))<>P_16号2様式!L125,RIGHT(FIXED(P_16号2様式!L125,3,FALSE),4),\"\"))","v":""},{"$f":"IF(P_16号2様式!M125=\"\",\"\",P_16号2様式!M125)","v":""},null,{"$f":"IF(P_16号2様式!N125=\"\",\"\",P_16号2様式!N125)","v":""},null,{"$f":"IF(P_16号2様式!O125=\"\",\"\",P_16号2様式!O125)","v":""}]
[{"$f":"IF(P_16号2様式!C126=\"\",\"\",P_16号2様式!C126)","v":""},null,{"$f":"IF(P_16号2様式!D126=\"\",\"\",P_16号2様式!D126)","v":""},{"$f":"IF(P_16号2様式!E126<> \"\",TEXT(INT(P_16号2様式!E126),\"#,##0\"),\"\")","v":""},{"$f":"IF(P_16号2様式!E126= \"\",\"\",IF(VALUE(FIXED(P_16号2様式!E126,0,TRUE))<>P_16号2様式!E126,RIGHT(FIXED(P_16号2様式!E126,3,FALSE),4),\"\"))","v":""},{"$f":"IF(P_16号2様式!F126<> \"\",TEXT(INT(P_16号2様式!F126),\"#,##0\"),\"\")","v":""},{"$f":"IF(P_16号2様式!F126= \"\",\"\",IF(VALUE(FIXED(P_16号2様式!F126,0,TRUE))<>P_16号2様式!F126,RIGHT(FIXED(P_16号2様式!F126,3,FALSE),4),\"\"))","v":""},{"$f":"IF(P_16号2様式!G126<> \"\",TEXT(INT(P_16号2様式!G126),\"#,##0\"),\"\")","v":""},{"$f":"IF(P_16号2様式!G126= \"\",\"\",IF(VALUE(FIXED(P_16号2様式!G126,0,TRUE))<>P_16号2様式!G126,RIGHT(FIXED(P_16号2様式!G126,3,FALSE),4),\"\"))","v":""},{"$f":"IF(P_16号2様式!H126<> \"\",TEXT(INT(P_16号2様式!H126),\"#,##0\"),\"\")","v":""},{"$f":"IF(P_16号2様式!H126= \"\",\"\",IF(VALUE(FIXED(P_16号2様式!H126,0,TRUE))<>P_16号2様式!H126,RIGHT(FIXED(P_16号2様式!H126,3,FALSE),4),\"\"))","v":""},{"$f":"IF(P_16号2様式!I126<> \"\",TEXT(INT(P_16号2様式!I126),\"#,##0\"),\"\")","v":""},{"$f":"IF(P_16号2様式!I126= \"\",\"\",IF(VALUE(FIXED(P_16号2様式!I126,0,TRUE))<>P_16号2様式!I126,RIGHT(FIXED(P_16号2様式!I126,3,FALSE),4),\"\"))","v":""},{"$f":"IF(P_16号2様式!J126<> \"\",TEXT(INT(P_16号2様式!J126),\"#,##0\"),\"\")","v":""},{"$f":"IF(P_16号2様式!J126= \"\",\"\",IF(VALUE(FIXED(P_16号2様式!J126,0,TRUE))<>P_16号2様式!J126,RIGHT(FIXED(P_16号2様式!J126,3,FALSE),4),\"\"))","v":""},{"$f":"IF(P_16号2様式!K126<> \"\",TEXT(INT(P_16号2様式!K126),\"#,##0\"),\"\")","v":""},{"$f":"IF(P_16号2様式!K126= \"\",\"\",IF(VALUE(FIXED(P_16号2様式!K126,0,TRUE))<>P_16号2様式!K126,RIGHT(FIXED(P_16号2様式!K126,3,FALSE),4),\"\"))","v":""},{"$f":"IF(P_16号2様式!L126<> \"\",TEXT(INT(P_16号2様式!L126),\"#,##0\"),\"\")","v":""},{"$f":"IF(P_16号2様式!L126= \"\",\"\",IF(VALUE(FIXED(P_16号2様式!L126,0,TRUE))<>P_16号2様式!L126,RIGHT(FIXED(P_16号2様式!L126,3,FALSE),4),\"\"))","v":""},{"$f":"IF(P_16号2様式!M126=\"\",\"\",P_16号2様式!M126)","v":""},null,{"$f":"IF(P_16号2様式!N126=\"\",\"\",P_16号2様式!N126)","v":""},null,{"$f":"IF(P_16号2様式!O126=\"\",\"\",P_16号2様式!O126)","v":""}]
[{"$f":"IF(P_16号2様式!C127=\"\",\"\",P_16号2様式!C127)","v":""},null,{"$f":"IF(P_16号2様式!D127=\"\",\"\",P_16号2様式!D127)","v":""},{"$f":"IF(P_16号2様式!E127<> \"\",TEXT(INT(P_16号2様式!E127),\"#,##0\"),\"\")","v":""},{"$f":"IF(P_16号2様式!E127= \"\",\"\",IF(VALUE(FIXED(P_16号2様式!E127,0,TRUE))<>P_16号2様式!E127,RIGHT(FIXED(P_16号2様式!E127,3,FALSE),4),\"\"))","v":""},{"$f":"IF(P_16号2様式!F127<> \"\",TEXT(INT(P_16号2様式!F127),\"#,##0\"),\"\")","v":""},{"$f":"IF(P_16号2様式!F127= \"\",\"\",IF(VALUE(FIXED(P_16号2様式!F127,0,TRUE))<>P_16号2様式!F127,RIGHT(FIXED(P_16号2様式!F127,3,FALSE),4),\"\"))","v":""},{"$f":"IF(P_16号2様式!G127<> \"\",TEXT(INT(P_16号2様式!G127),\"#,##0\"),\"\")","v":""},{"$f":"IF(P_16号2様式!G127= \"\",\"\",IF(VALUE(FIXED(P_16号2様式!G127,0,TRUE))<>P_16号2様式!G127,RIGHT(FIXED(P_16号2様式!G127,3,FALSE),4),\"\"))","v":""},{"$f":"IF(P_16号2様式!H127<> \"\",TEXT(INT(P_16号2様式!H127),\"#,##0\"),\"\")","v":""},{"$f":"IF(P_16号2様式!H127= \"\",\"\",IF(VALUE(FIXED(P_16号2様式!H127,0,TRUE))<>P_16号2様式!H127,RIGHT(FIXED(P_16号2様式!H127,3,FALSE),4),\"\"))","v":""},{"$f":"IF(P_16号2様式!I127<> \"\",TEXT(INT(P_16号2様式!I127),\"#,##0\"),\"\")","v":""},{"$f":"IF(P_16号2様式!I127= \"\",\"\",IF(VALUE(FIXED(P_16号2様式!I127,0,TRUE))<>P_16号2様式!I127,RIGHT(FIXED(P_16号2様式!I127,3,FALSE),4),\"\"))","v":""},{"$f":"IF(P_16号2様式!J127<> \"\",TEXT(INT(P_16号2様式!J127),\"#,##0\"),\"\")","v":""},{"$f":"IF(P_16号2様式!J127= \"\",\"\",IF(VALUE(FIXED(P_16号2様式!J127,0,TRUE))<>P_16号2様式!J127,RIGHT(FIXED(P_16号2様式!J127,3,FALSE),4),\"\"))","v":""},{"$f":"IF(P_16号2様式!K127<> \"\",TEXT(INT(P_16号2様式!K127),\"#,##0\"),\"\")","v":""},{"$f":"IF(P_16号2様式!K127= \"\",\"\",IF(VALUE(FIXED(P_16号2様式!K127,0,TRUE))<>P_16号2様式!K127,RIGHT(FIXED(P_16号2様式!K127,3,FALSE),4),\"\"))","v":""},{"$f":"IF(P_16号2様式!L127<> \"\",TEXT(INT(P_16号2様式!L127),\"#,##0\"),\"\")","v":""},{"$f":"IF(P_16号2様式!L127= \"\",\"\",IF(VALUE(FIXED(P_16号2様式!L127,0,TRUE))<>P_16号2様式!L127,RIGHT(FIXED(P_16号2様式!L127,3,FALSE),4),\"\"))","v":""},{"$f":"IF(P_16号2様式!M127=\"\",\"\",P_16号2様式!M127)","v":""},null,{"$f":"IF(P_16号2様式!N127=\"\",\"\",P_16号2様式!N127)","v":""},null,{"$f":"IF(P_16号2様式!O127=\"\",\"\",P_16号2様式!O127)","v":""}]
[{"$f":"IF(P_16号2様式!C128=\"\",\"\",P_16号2様式!C128)","v":""},null,{"$f":"IF(P_16号2様式!D128=\"\",\"\",P_16号2様式!D128)","v":""},{"$f":"IF(P_16号2様式!E128<> \"\",TEXT(INT(P_16号2様式!E128),\"#,##0\"),\"\")","v":""},{"$f":"IF(P_16号2様式!E128= \"\",\"\",IF(VALUE(FIXED(P_16号2様式!E128,0,TRUE))<>P_16号2様式!E128,RIGHT(FIXED(P_16号2様式!E128,3,FALSE),4),\"\"))","v":""},{"$f":"IF(P_16号2様式!F128<> \"\",TEXT(INT(P_16号2様式!F128),\"#,##0\"),\"\")","v":""},{"$f":"IF(P_16号2様式!F128= \"\",\"\",IF(VALUE(FIXED(P_16号2様式!F128,0,TRUE))<>P_16号2様式!F128,RIGHT(FIXED(P_16号2様式!F128,3,FALSE),4),\"\"))","v":""},{"$f":"IF(P_16号2様式!G128<> \"\",TEXT(INT(P_16号2様式!G128),\"#,##0\"),\"\")","v":""},{"$f":"IF(P_16号2様式!G128= \"\",\"\",IF(VALUE(FIXED(P_16号2様式!G128,0,TRUE))<>P_16号2様式!G128,RIGHT(FIXED(P_16号2様式!G128,3,FALSE),4),\"\"))","v":""},{"$f":"IF(P_16号2様式!H128<> \"\",TEXT(INT(P_16号2様式!H128),\"#,##0\"),\"\")","v":""},{"$f":"IF(P_16号2様式!H128= \"\",\"\",IF(VALUE(FIXED(P_16号2様式!H128,0,TRUE))<>P_16号2様式!H128,RIGHT(FIXED(P_16号2様式!H128,3,FALSE),4),\"\"))","v":""},{"$f":"IF(P_16号2様式!I128<> \"\",TEXT(INT(P_16号2様式!I128),\"#,##0\"),\"\")","v":""},{"$f":"IF(P_16号2様式!I128= \"\",\"\",IF(VALUE(FIXED(P_16号2様式!I128,0,TRUE))<>P_16号2様式!I128,RIGHT(FIXED(P_16号2様式!I128,3,FALSE),4),\"\"))","v":""},{"$f":"IF(P_16号2様式!J128<> \"\",TEXT(INT(P_16号2様式!J128),\"#,##0\"),\"\")","v":""},{"$f":"IF(P_16号2様式!J128= \"\",\"\",IF(VALUE(FIXED(P_16号2様式!J128,0,TRUE))<>P_16号2様式!J128,RIGHT(FIXED(P_16号2様式!J128,3,FALSE),4),\"\"))","v":""},{"$f":"IF(P_16号2様式!K128<> \"\",TEXT(INT(P_16号2様式!K128),\"#,##0\"),\"\")","v":""},{"$f":"IF(P_16号2様式!K128= \"\",\"\",IF(VALUE(FIXED(P_16号2様式!K128,0,TRUE))<>P_16号2様式!K128,RIGHT(FIXED(P_16号2様式!K128,3,FALSE),4),\"\"))","v":""},{"$f":"IF(P_16号2様式!L128<> \"\",TEXT(INT(P_16号2様式!L128),\"#,##0\"),\"\")","v":""},{"$f":"IF(P_16号2様式!L128= \"\",\"\",IF(VALUE(FIXED(P_16号2様式!L128,0,TRUE))<>P_16号2様式!L128,RIGHT(FIXED(P_16号2様式!L128,3,FALSE),4),\"\"))","v":""},{"$f":"IF(P_16号2様式!M128=\"\",\"\",P_16号2様式!M128)","v":""},null,{"$f":"IF(P_16号2様式!N128=\"\",\"\",P_16号2様式!N128)","v":""},null,{"$f":"IF(P_16号2様式!O128=\"\",\"\",P_16号2様式!O128)","v":""}]
[{"$f":"IF(P_16号2様式!C129=\"\",\"\",P_16号2様式!C129)","v":""},null,{"$f":"IF(P_16号2様式!D129=\"\",\"\",P_16号2様式!D129)","v":""},{"$f":"IF(P_16号2様式!E129<> \"\",TEXT(INT(P_16号2様式!E129),\"#,##0\"),\"\")","v":""},{"$f":"IF(P_16号2様式!E129= \"\",\"\",IF(VALUE(FIXED(P_16号2様式!E129,0,TRUE))<>P_16号2様式!E129,RIGHT(FIXED(P_16号2様式!E129,3,FALSE),4),\"\"))","v":""},{"$f":"IF(P_16号2様式!F129<> \"\",TEXT(INT(P_16号2様式!F129),\"#,##0\"),\"\")","v":""},{"$f":"IF(P_16号2様式!F129= \"\",\"\",IF(VALUE(FIXED(P_16号2様式!F129,0,TRUE))<>P_16号2様式!F129,RIGHT(FIXED(P_16号2様式!F129,3,FALSE),4),\"\"))","v":""},{"$f":"IF(P_16号2様式!G129<> \"\",TEXT(INT(P_16号2様式!G129),\"#,##0\"),\"\")","v":""},{"$f":"IF(P_16号2様式!G129= \"\",\"\",IF(VALUE(FIXED(P_16号2様式!G129,0,TRUE))<>P_16号2様式!G129,RIGHT(FIXED(P_16号2様式!G129,3,FALSE),4),\"\"))","v":""},{"$f":"IF(P_16号2様式!H129<> \"\",TEXT(INT(P_16号2様式!H129),\"#,##0\"),\"\")","v":""},{"$f":"IF(P_16号2様式!H129= \"\",\"\",IF(VALUE(FIXED(P_16号2様式!H129,0,TRUE))<>P_16号2様式!H129,RIGHT(FIXED(P_16号2様式!H129,3,FALSE),4),\"\"))","v":""},{"$f":"IF(P_16号2様式!I129<> \"\",TEXT(INT(P_16号2様式!I129),\"#,##0\"),\"\")","v":""},{"$f":"IF(P_16号2様式!I129= \"\",\"\",IF(VALUE(FIXED(P_16号2様式!I129,0,TRUE))<>P_16号2様式!I129,RIGHT(FIXED(P_16号2様式!I129,3,FALSE),4),\"\"))","v":""},{"$f":"IF(P_16号2様式!J129<> \"\",TEXT(INT(P_16号2様式!J129),\"#,##0\"),\"\")","v":""},{"$f":"IF(P_16号2様式!J129= \"\",\"\",IF(VALUE(FIXED(P_16号2様式!J129,0,TRUE))<>P_16号2様式!J129,RIGHT(FIXED(P_16号2様式!J129,3,FALSE),4),\"\"))","v":""},{"$f":"IF(P_16号2様式!K129<> \"\",TEXT(INT(P_16号2様式!K129),\"#,##0\"),\"\")","v":""},{"$f":"IF(P_16号2様式!K129= \"\",\"\",IF(VALUE(FIXED(P_16号2様式!K129,0,TRUE))<>P_16号2様式!K129,RIGHT(FIXED(P_16号2様式!K129,3,FALSE),4),\"\"))","v":""},{"$f":"IF(P_16号2様式!L129<> \"\",TEXT(INT(P_16号2様式!L129),\"#,##0\"),\"\")","v":""},{"$f":"IF(P_16号2様式!L129= \"\",\"\",IF(VALUE(FIXED(P_16号2様式!L129,0,TRUE))<>P_16号2様式!L129,RIGHT(FIXED(P_16号2様式!L129,3,FALSE),4),\"\"))","v":""},{"$f":"IF(P_16号2様式!M129=\"\",\"\",P_16号2様式!M129)","v":""},null,{"$f":"IF(P_16号2様式!N129=\"\",\"\",P_16号2様式!N129)","v":""},null,{"$f":"IF(P_16号2様式!O129=\"\",\"\",P_16号2様式!O129)","v":""}]
[{"$f":"IF(P_16号2様式!C130=\"\",\"\",P_16号2様式!C130)","v":""},null,{"$f":"IF(P_16号2様式!D130=\"\",\"\",P_16号2様式!D130)","v":""},{"$f":"IF(P_16号2様式!E130<> \"\",TEXT(INT(P_16号2様式!E130),\"#,##0\"),\"\")","v":""},{"$f":"IF(P_16号2様式!E130= \"\",\"\",IF(VALUE(FIXED(P_16号2様式!E130,0,TRUE))<>P_16号2様式!E130,RIGHT(FIXED(P_16号2様式!E130,3,FALSE),4),\"\"))","v":""},{"$f":"IF(P_16号2様式!F130<> \"\",TEXT(INT(P_16号2様式!F130),\"#,##0\"),\"\")","v":""},{"$f":"IF(P_16号2様式!F130= \"\",\"\",IF(VALUE(FIXED(P_16号2様式!F130,0,TRUE))<>P_16号2様式!F130,RIGHT(FIXED(P_16号2様式!F130,3,FALSE),4),\"\"))","v":""},{"$f":"IF(P_16号2様式!G130<> \"\",TEXT(INT(P_16号2様式!G130),\"#,##0\"),\"\")","v":""},{"$f":"IF(P_16号2様式!G130= \"\",\"\",IF(VALUE(FIXED(P_16号2様式!G130,0,TRUE))<>P_16号2様式!G130,RIGHT(FIXED(P_16号2様式!G130,3,FALSE),4),\"\"))","v":""},{"$f":"IF(P_16号2様式!H130<> \"\",TEXT(INT(P_16号2様式!H130),\"#,##0\"),\"\")","v":""},{"$f":"IF(P_16号2様式!H130= \"\",\"\",IF(VALUE(FIXED(P_16号2様式!H130,0,TRUE))<>P_16号2様式!H130,RIGHT(FIXED(P_16号2様式!H130,3,FALSE),4),\"\"))","v":""},{"$f":"IF(P_16号2様式!I130<> \"\",TEXT(INT(P_16号2様式!I130),\"#,##0\"),\"\")","v":""},{"$f":"IF(P_16号2様式!I130= \"\",\"\",IF(VALUE(FIXED(P_16号2様式!I130,0,TRUE))<>P_16号2様式!I130,RIGHT(FIXED(P_16号2様式!I130,3,FALSE),4),\"\"))","v":""},{"$f":"IF(P_16号2様式!J130<> \"\",TEXT(INT(P_16号2様式!J130),\"#,##0\"),\"\")","v":""},{"$f":"IF(P_16号2様式!J130= \"\",\"\",IF(VALUE(FIXED(P_16号2様式!J130,0,TRUE))<>P_16号2様式!J130,RIGHT(FIXED(P_16号2様式!J130,3,FALSE),4),\"\"))","v":""},{"$f":"IF(P_16号2様式!K130<> \"\",TEXT(INT(P_16号2様式!K130),\"#,##0\"),\"\")","v":""},{"$f":"IF(P_16号2様式!K130= \"\",\"\",IF(VALUE(FIXED(P_16号2様式!K130,0,TRUE))<>P_16号2様式!K130,RIGHT(FIXED(P_16号2様式!K130,3,FALSE),4),\"\"))","v":""},{"$f":"IF(P_16号2様式!L130<> \"\",TEXT(INT(P_16号2様式!L130),\"#,##0\"),\"\")","v":""},{"$f":"IF(P_16号2様式!L130= \"\",\"\",IF(VALUE(FIXED(P_16号2様式!L130,0,TRUE))<>P_16号2様式!L130,RIGHT(FIXED(P_16号2様式!L130,3,FALSE),4),\"\"))","v":""},{"$f":"IF(P_16号2様式!M130=\"\",\"\",P_16号2様式!M130)","v":""},null,{"$f":"IF(P_16号2様式!N130=\"\",\"\",P_16号2様式!N130)","v":""},null,{"$f":"IF(P_16号2様式!O130=\"\",\"\",P_16号2様式!O130)","v":""}]
[{"$f":"IF(P_16号2様式!C131=\"\",\"\",P_16号2様式!C131)","v":""},null,{"$f":"IF(P_16号2様式!D131=\"\",\"\",P_16号2様式!D131)","v":""},{"$f":"IF(P_16号2様式!E131<> \"\",TEXT(INT(P_16号2様式!E131),\"#,##0\"),\"\")","v":""},{"$f":"IF(P_16号2様式!E131= \"\",\"\",IF(VALUE(FIXED(P_16号2様式!E131,0,TRUE))<>P_16号2様式!E131,RIGHT(FIXED(P_16号2様式!E131,3,FALSE),4),\"\"))","v":""},{"$f":"IF(P_16号2様式!F131<> \"\",TEXT(INT(P_16号2様式!F131),\"#,##0\"),\"\")","v":""},{"$f":"IF(P_16号2様式!F131= \"\",\"\",IF(VALUE(FIXED(P_16号2様式!F131,0,TRUE))<>P_16号2様式!F131,RIGHT(FIXED(P_16号2様式!F131,3,FALSE),4),\"\"))","v":""},{"$f":"IF(P_16号2様式!G131<> \"\",TEXT(INT(P_16号2様式!G131),\"#,##0\"),\"\")","v":""},{"$f":"IF(P_16号2様式!G131= \"\",\"\",IF(VALUE(FIXED(P_16号2様式!G131,0,TRUE))<>P_16号2様式!G131,RIGHT(FIXED(P_16号2様式!G131,3,FALSE),4),\"\"))","v":""},{"$f":"IF(P_16号2様式!H131<> \"\",TEXT(INT(P_16号2様式!H131),\"#,##0\"),\"\")","v":""},{"$f":"IF(P_16号2様式!H131= \"\",\"\",IF(VALUE(FIXED(P_16号2様式!H131,0,TRUE))<>P_16号2様式!H131,RIGHT(FIXED(P_16号2様式!H131,3,FALSE),4),\"\"))","v":""},{"$f":"IF(P_16号2様式!I131<> \"\",TEXT(INT(P_16号2様式!I131),\"#,##0\"),\"\")","v":""},{"$f":"IF(P_16号2様式!I131= \"\",\"\",IF(VALUE(FIXED(P_16号2様式!I131,0,TRUE))<>P_16号2様式!I131,RIGHT(FIXED(P_16号2様式!I131,3,FALSE),4),\"\"))","v":""},{"$f":"IF(P_16号2様式!J131<> \"\",TEXT(INT(P_16号2様式!J131),\"#,##0\"),\"\")","v":""},{"$f":"IF(P_16号2様式!J131= \"\",\"\",IF(VALUE(FIXED(P_16号2様式!J131,0,TRUE))<>P_16号2様式!J131,RIGHT(FIXED(P_16号2様式!J131,3,FALSE),4),\"\"))","v":""},{"$f":"IF(P_16号2様式!K131<> \"\",TEXT(INT(P_16号2様式!K131),\"#,##0\"),\"\")","v":""},{"$f":"IF(P_16号2様式!K131= \"\",\"\",IF(VALUE(FIXED(P_16号2様式!K131,0,TRUE))<>P_16号2様式!K131,RIGHT(FIXED(P_16号2様式!K131,3,FALSE),4),\"\"))","v":""},{"$f":"IF(P_16号2様式!L131<> \"\",TEXT(INT(P_16号2様式!L131),\"#,##0\"),\"\")","v":""},{"$f":"IF(P_16号2様式!L131= \"\",\"\",IF(VALUE(FIXED(P_16号2様式!L131,0,TRUE))<>P_16号2様式!L131,RIGHT(FIXED(P_16号2様式!L131,3,FALSE),4),\"\"))","v":""},{"$f":"IF(P_16号2様式!M131=\"\",\"\",P_16号2様式!M131)","v":""},null,{"$f":"IF(P_16号2様式!N131=\"\",\"\",P_16号2様式!N131)","v":""},null,{"$f":"IF(P_16号2様式!O131=\"\",\"\",P_16号2様式!O131)","v":""}]
[{"$f":"IF(P_16号2様式!C132=\"\",\"\",P_16号2様式!C132)","v":""},null,{"$f":"IF(P_16号2様式!D132=\"\",\"\",P_16号2様式!D132)","v":""},{"$f":"IF(P_16号2様式!E132<> \"\",TEXT(INT(P_16号2様式!E132),\"#,##0\"),\"\")","v":""},{"$f":"IF(P_16号2様式!E132= \"\",\"\",IF(VALUE(FIXED(P_16号2様式!E132,0,TRUE))<>P_16号2様式!E132,RIGHT(FIXED(P_16号2様式!E132,3,FALSE),4),\"\"))","v":""},{"$f":"IF(P_16号2様式!F132<> \"\",TEXT(INT(P_16号2様式!F132),\"#,##0\"),\"\")","v":""},{"$f":"IF(P_16号2様式!F132= \"\",\"\",IF(VALUE(FIXED(P_16号2様式!F132,0,TRUE))<>P_16号2様式!F132,RIGHT(FIXED(P_16号2様式!F132,3,FALSE),4),\"\"))","v":""},{"$f":"IF(P_16号2様式!G132<> \"\",TEXT(INT(P_16号2様式!G132),\"#,##0\"),\"\")","v":""},{"$f":"IF(P_16号2様式!G132= \"\",\"\",IF(VALUE(FIXED(P_16号2様式!G132,0,TRUE))<>P_16号2様式!G132,RIGHT(FIXED(P_16号2様式!G132,3,FALSE),4),\"\"))","v":""},{"$f":"IF(P_16号2様式!H132<> \"\",TEXT(INT(P_16号2様式!H132),\"#,##0\"),\"\")","v":""},{"$f":"IF(P_16号2様式!H132= \"\",\"\",IF(VALUE(FIXED(P_16号2様式!H132,0,TRUE))<>P_16号2様式!H132,RIGHT(FIXED(P_16号2様式!H132,3,FALSE),4),\"\"))","v":""},{"$f":"IF(P_16号2様式!I132<> \"\",TEXT(INT(P_16号2様式!I132),\"#,##0\"),\"\")","v":""},{"$f":"IF(P_16号2様式!I132= \"\",\"\",IF(VALUE(FIXED(P_16号2様式!I132,0,TRUE))<>P_16号2様式!I132,RIGHT(FIXED(P_16号2様式!I132,3,FALSE),4),\"\"))","v":""},{"$f":"IF(P_16号2様式!J132<> \"\",TEXT(INT(P_16号2様式!J132),\"#,##0\"),\"\")","v":""},{"$f":"IF(P_16号2様式!J132= \"\",\"\",IF(VALUE(FIXED(P_16号2様式!J132,0,TRUE))<>P_16号2様式!J132,RIGHT(FIXED(P_16号2様式!J132,3,FALSE),4),\"\"))","v":""},{"$f":"IF(P_16号2様式!K132<> \"\",TEXT(INT(P_16号2様式!K132),\"#,##0\"),\"\")","v":""},{"$f":"IF(P_16号2様式!K132= \"\",\"\",IF(VALUE(FIXED(P_16号2様式!K132,0,TRUE))<>P_16号2様式!K132,RIGHT(FIXED(P_16号2様式!K132,3,FALSE),4),\"\"))","v":""},{"$f":"IF(P_16号2様式!L132<> \"\",TEXT(INT(P_16号2様式!L132),\"#,##0\"),\"\")","v":""},{"$f":"IF(P_16号2様式!L132= \"\",\"\",IF(VALUE(FIXED(P_16号2様式!L132,0,TRUE))<>P_16号2様式!L132,RIGHT(FIXED(P_16号2様式!L132,3,FALSE),4),\"\"))","v":""},{"$f":"IF(P_16号2様式!M132=\"\",\"\",P_16号2様式!M132)","v":""},null,{"$f":"IF(P_16号2様式!N132=\"\",\"\",P_16号2様式!N132)","v":""},null,{"$f":"IF(P_16号2様式!O132=\"\",\"\",P_16号2様式!O132)","v":""}]
[{"$f":"IF(P_16号2様式!C133=\"\",\"\",P_16号2様式!C133)","v":""},null,{"$f":"IF(P_16号2様式!D133=\"\",\"\",P_16号2様式!D133)","v":""},{"$f":"IF(P_16号2様式!E133<> \"\",TEXT(INT(P_16号2様式!E133),\"#,##0\"),\"\")","v":""},{"$f":"IF(P_16号2様式!E133= \"\",\"\",IF(VALUE(FIXED(P_16号2様式!E133,0,TRUE))<>P_16号2様式!E133,RIGHT(FIXED(P_16号2様式!E133,3,FALSE),4),\"\"))","v":""},{"$f":"IF(P_16号2様式!F133<> \"\",TEXT(INT(P_16号2様式!F133),\"#,##0\"),\"\")","v":""},{"$f":"IF(P_16号2様式!F133= \"\",\"\",IF(VALUE(FIXED(P_16号2様式!F133,0,TRUE))<>P_16号2様式!F133,RIGHT(FIXED(P_16号2様式!F133,3,FALSE),4),\"\"))","v":""},{"$f":"IF(P_16号2様式!G133<> \"\",TEXT(INT(P_16号2様式!G133),\"#,##0\"),\"\")","v":""},{"$f":"IF(P_16号2様式!G133= \"\",\"\",IF(VALUE(FIXED(P_16号2様式!G133,0,TRUE))<>P_16号2様式!G133,RIGHT(FIXED(P_16号2様式!G133,3,FALSE),4),\"\"))","v":""},{"$f":"IF(P_16号2様式!H133<> \"\",TEXT(INT(P_16号2様式!H133),\"#,##0\"),\"\")","v":""},{"$f":"IF(P_16号2様式!H133= \"\",\"\",IF(VALUE(FIXED(P_16号2様式!H133,0,TRUE))<>P_16号2様式!H133,RIGHT(FIXED(P_16号2様式!H133,3,FALSE),4),\"\"))","v":""},{"$f":"IF(P_16号2様式!I133<> \"\",TEXT(INT(P_16号2様式!I133),\"#,##0\"),\"\")","v":""},{"$f":"IF(P_16号2様式!I133= \"\",\"\",IF(VALUE(FIXED(P_16号2様式!I133,0,TRUE))<>P_16号2様式!I133,RIGHT(FIXED(P_16号2様式!I133,3,FALSE),4),\"\"))","v":""},{"$f":"IF(P_16号2様式!J133<> \"\",TEXT(INT(P_16号2様式!J133),\"#,##0\"),\"\")","v":""},{"$f":"IF(P_16号2様式!J133= \"\",\"\",IF(VALUE(FIXED(P_16号2様式!J133,0,TRUE))<>P_16号2様式!J133,RIGHT(FIXED(P_16号2様式!J133,3,FALSE),4),\"\"))","v":""},{"$f":"IF(P_16号2様式!K133<> \"\",TEXT(INT(P_16号2様式!K133),\"#,##0\"),\"\")","v":""},{"$f":"IF(P_16号2様式!K133= \"\",\"\",IF(VALUE(FIXED(P_16号2様式!K133,0,TRUE))<>P_16号2様式!K133,RIGHT(FIXED(P_16号2様式!K133,3,FALSE),4),\"\"))","v":""},{"$f":"IF(P_16号2様式!L133<> \"\",TEXT(INT(P_16号2様式!L133),\"#,##0\"),\"\")","v":""},{"$f":"IF(P_16号2様式!L133= \"\",\"\",IF(VALUE(FIXED(P_16号2様式!L133,0,TRUE))<>P_16号2様式!L133,RIGHT(FIXED(P_16号2様式!L133,3,FALSE),4),\"\"))","v":""},{"$f":"IF(P_16号2様式!M133=\"\",\"\",P_16号2様式!M133)","v":""},null,{"$f":"IF(P_16号2様式!N133=\"\",\"\",P_16号2様式!N133)","v":""},null,{"$f":"IF(P_16号2様式!O133=\"\",\"\",P_16号2様式!O133)","v":""}]
[{"$f":"IF(P_16号2様式!C134=\"\",\"\",P_16号2様式!C134)","v":""},null,{"$f":"IF(P_16号2様式!D134=\"\",\"\",P_16号2様式!D134)","v":""},{"$f":"IF(P_16号2様式!E134<> \"\",TEXT(INT(P_16号2様式!E134),\"#,##0\"),\"\")","v":""},{"$f":"IF(P_16号2様式!E134= \"\",\"\",IF(VALUE(FIXED(P_16号2様式!E134,0,TRUE))<>P_16号2様式!E134,RIGHT(FIXED(P_16号2様式!E134,3,FALSE),4),\"\"))","v":""},{"$f":"IF(P_16号2様式!F134<> \"\",TEXT(INT(P_16号2様式!F134),\"#,##0\"),\"\")","v":""},{"$f":"IF(P_16号2様式!F134= \"\",\"\",IF(VALUE(FIXED(P_16号2様式!F134,0,TRUE))<>P_16号2様式!F134,RIGHT(FIXED(P_16号2様式!F134,3,FALSE),4),\"\"))","v":""},{"$f":"IF(P_16号2様式!G134<> \"\",TEXT(INT(P_16号2様式!G134),\"#,##0\"),\"\")","v":""},{"$f":"IF(P_16号2様式!G134= \"\",\"\",IF(VALUE(FIXED(P_16号2様式!G134,0,TRUE))<>P_16号2様式!G134,RIGHT(FIXED(P_16号2様式!G134,3,FALSE),4),\"\"))","v":""},{"$f":"IF(P_16号2様式!H134<> \"\",TEXT(INT(P_16号2様式!H134),\"#,##0\"),\"\")","v":""},{"$f":"IF(P_16号2様式!H134= \"\",\"\",IF(VALUE(FIXED(P_16号2様式!H134,0,TRUE))<>P_16号2様式!H134,RIGHT(FIXED(P_16号2様式!H134,3,FALSE),4),\"\"))","v":""},{"$f":"IF(P_16号2様式!I134<> \"\",TEXT(INT(P_16号2様式!I134),\"#,##0\"),\"\")","v":""},{"$f":"IF(P_16号2様式!I134= \"\",\"\",IF(VALUE(FIXED(P_16号2様式!I134,0,TRUE))<>P_16号2様式!I134,RIGHT(FIXED(P_16号2様式!I134,3,FALSE),4),\"\"))","v":""},{"$f":"IF(P_16号2様式!J134<> \"\",TEXT(INT(P_16号2様式!J134),\"#,##0\"),\"\")","v":""},{"$f":"IF(P_16号2様式!J134= \"\",\"\",IF(VALUE(FIXED(P_16号2様式!J134,0,TRUE))<>P_16号2様式!J134,RIGHT(FIXED(P_16号2様式!J134,3,FALSE),4),\"\"))","v":""},{"$f":"IF(P_16号2様式!K134<> \"\",TEXT(INT(P_16号2様式!K134),\"#,##0\"),\"\")","v":""},{"$f":"IF(P_16号2様式!K134= \"\",\"\",IF(VALUE(FIXED(P_16号2様式!K134,0,TRUE))<>P_16号2様式!K134,RIGHT(FIXED(P_16号2様式!K134,3,FALSE),4),\"\"))","v":""},{"$f":"IF(P_16号2様式!L134<> \"\",TEXT(INT(P_16号2様式!L134),\"#,##0\"),\"\")","v":""},{"$f":"IF(P_16号2様式!L134= \"\",\"\",IF(VALUE(FIXED(P_16号2様式!L134,0,TRUE))<>P_16号2様式!L134,RIGHT(FIXED(P_16号2様式!L134,3,FALSE),4),\"\"))","v":""},{"$f":"IF(P_16号2様式!M134=\"\",\"\",P_16号2様式!M134)","v":""},null,{"$f":"IF(P_16号2様式!N134=\"\",\"\",P_16号2様式!N134)","v":""},null,{"$f":"IF(P_16号2様式!O134=\"\",\"\",P_16号2様式!O134)","v":""}]
[{"$f":"IF(P_16号2様式!C135=\"\",\"\",P_16号2様式!C135)","v":""},null,{"$f":"IF(P_16号2様式!D135=\"\",\"\",P_16号2様式!D135)","v":""},{"$f":"IF(P_16号2様式!E135<> \"\",TEXT(INT(P_16号2様式!E135),\"#,##0\"),\"\")","v":""},{"$f":"IF(P_16号2様式!E135= \"\",\"\",IF(VALUE(FIXED(P_16号2様式!E135,0,TRUE))<>P_16号2様式!E135,RIGHT(FIXED(P_16号2様式!E135,3,FALSE),4),\"\"))","v":""},{"$f":"IF(P_16号2様式!F135<> \"\",TEXT(INT(P_16号2様式!F135),\"#,##0\"),\"\")","v":""},{"$f":"IF(P_16号2様式!F135= \"\",\"\",IF(VALUE(FIXED(P_16号2様式!F135,0,TRUE))<>P_16号2様式!F135,RIGHT(FIXED(P_16号2様式!F135,3,FALSE),4),\"\"))","v":""},{"$f":"IF(P_16号2様式!G135<> \"\",TEXT(INT(P_16号2様式!G135),\"#,##0\"),\"\")","v":""},{"$f":"IF(P_16号2様式!G135= \"\",\"\",IF(VALUE(FIXED(P_16号2様式!G135,0,TRUE))<>P_16号2様式!G135,RIGHT(FIXED(P_16号2様式!G135,3,FALSE),4),\"\"))","v":""},{"$f":"IF(P_16号2様式!H135<> \"\",TEXT(INT(P_16号2様式!H135),\"#,##0\"),\"\")","v":""},{"$f":"IF(P_16号2様式!H135= \"\",\"\",IF(VALUE(FIXED(P_16号2様式!H135,0,TRUE))<>P_16号2様式!H135,RIGHT(FIXED(P_16号2様式!H135,3,FALSE),4),\"\"))","v":""},{"$f":"IF(P_16号2様式!I135<> \"\",TEXT(INT(P_16号2様式!I135),\"#,##0\"),\"\")","v":""},{"$f":"IF(P_16号2様式!I135= \"\",\"\",IF(VALUE(FIXED(P_16号2様式!I135,0,TRUE))<>P_16号2様式!I135,RIGHT(FIXED(P_16号2様式!I135,3,FALSE),4),\"\"))","v":""},{"$f":"IF(P_16号2様式!J135<> \"\",TEXT(INT(P_16号2様式!J135),\"#,##0\"),\"\")","v":""},{"$f":"IF(P_16号2様式!J135= \"\",\"\",IF(VALUE(FIXED(P_16号2様式!J135,0,TRUE))<>P_16号2様式!J135,RIGHT(FIXED(P_16号2様式!J135,3,FALSE),4),\"\"))","v":""},{"$f":"IF(P_16号2様式!K135<> \"\",TEXT(INT(P_16号2様式!K135),\"#,##0\"),\"\")","v":""},{"$f":"IF(P_16号2様式!K135= \"\",\"\",IF(VALUE(FIXED(P_16号2様式!K135,0,TRUE))<>P_16号2様式!K135,RIGHT(FIXED(P_16号2様式!K135,3,FALSE),4),\"\"))","v":""},{"$f":"IF(P_16号2様式!L135<> \"\",TEXT(INT(P_16号2様式!L135),\"#,##0\"),\"\")","v":""},{"$f":"IF(P_16号2様式!L135= \"\",\"\",IF(VALUE(FIXED(P_16号2様式!L135,0,TRUE))<>P_16号2様式!L135,RIGHT(FIXED(P_16号2様式!L135,3,FALSE),4),\"\"))","v":""},{"$f":"IF(P_16号2様式!M135=\"\",\"\",P_16号2様式!M135)","v":""},null,{"$f":"IF(P_16号2様式!N135=\"\",\"\",P_16号2様式!N135)","v":""},null,{"$f":"IF(P_16号2様式!O135=\"\",\"\",P_16号2様式!O135)","v":""}]
[{"$f":"IF(P_16号2様式!C136=\"\",\"\",P_16号2様式!C136)","v":""},null,{"$f":"IF(P_16号2様式!D136=\"\",\"\",P_16号2様式!D136)","v":""},{"$f":"IF(P_16号2様式!E136<> \"\",TEXT(INT(P_16号2様式!E136),\"#,##0\"),\"\")","v":""},{"$f":"IF(P_16号2様式!E136= \"\",\"\",IF(VALUE(FIXED(P_16号2様式!E136,0,TRUE))<>P_16号2様式!E136,RIGHT(FIXED(P_16号2様式!E136,3,FALSE),4),\"\"))","v":""},{"$f":"IF(P_16号2様式!F136<> \"\",TEXT(INT(P_16号2様式!F136),\"#,##0\"),\"\")","v":""},{"$f":"IF(P_16号2様式!F136= \"\",\"\",IF(VALUE(FIXED(P_16号2様式!F136,0,TRUE))<>P_16号2様式!F136,RIGHT(FIXED(P_16号2様式!F136,3,FALSE),4),\"\"))","v":""},{"$f":"IF(P_16号2様式!G136<> \"\",TEXT(INT(P_16号2様式!G136),\"#,##0\"),\"\")","v":""},{"$f":"IF(P_16号2様式!G136= \"\",\"\",IF(VALUE(FIXED(P_16号2様式!G136,0,TRUE))<>P_16号2様式!G136,RIGHT(FIXED(P_16号2様式!G136,3,FALSE),4),\"\"))","v":""},{"$f":"IF(P_16号2様式!H136<> \"\",TEXT(INT(P_16号2様式!H136),\"#,##0\"),\"\")","v":""},{"$f":"IF(P_16号2様式!H136= \"\",\"\",IF(VALUE(FIXED(P_16号2様式!H136,0,TRUE))<>P_16号2様式!H136,RIGHT(FIXED(P_16号2様式!H136,3,FALSE),4),\"\"))","v":""},{"$f":"IF(P_16号2様式!I136<> \"\",TEXT(INT(P_16号2様式!I136),\"#,##0\"),\"\")","v":""},{"$f":"IF(P_16号2様式!I136= \"\",\"\",IF(VALUE(FIXED(P_16号2様式!I136,0,TRUE))<>P_16号2様式!I136,RIGHT(FIXED(P_16号2様式!I136,3,FALSE),4),\"\"))","v":""},{"$f":"IF(P_16号2様式!J136<> \"\",TEXT(INT(P_16号2様式!J136),\"#,##0\"),\"\")","v":""},{"$f":"IF(P_16号2様式!J136= \"\",\"\",IF(VALUE(FIXED(P_16号2様式!J136,0,TRUE))<>P_16号2様式!J136,RIGHT(FIXED(P_16号2様式!J136,3,FALSE),4),\"\"))","v":""},{"$f":"IF(P_16号2様式!K136<> \"\",TEXT(INT(P_16号2様式!K136),\"#,##0\"),\"\")","v":""},{"$f":"IF(P_16号2様式!K136= \"\",\"\",IF(VALUE(FIXED(P_16号2様式!K136,0,TRUE))<>P_16号2様式!K136,RIGHT(FIXED(P_16号2様式!K136,3,FALSE),4),\"\"))","v":""},{"$f":"IF(P_16号2様式!L136<> \"\",TEXT(INT(P_16号2様式!L136),\"#,##0\"),\"\")","v":""},{"$f":"IF(P_16号2様式!L136= \"\",\"\",IF(VALUE(FIXED(P_16号2様式!L136,0,TRUE))<>P_16号2様式!L136,RIGHT(FIXED(P_16号2様式!L136,3,FALSE),4),\"\"))","v":""},{"$f":"IF(P_16号2様式!M136=\"\",\"\",P_16号2様式!M136)","v":""},null,{"$f":"IF(P_16号2様式!N136=\"\",\"\",P_16号2様式!N136)","v":""},null,{"$f":"IF(P_16号2様式!O136=\"\",\"\",P_16号2様式!O136)","v":""}]
[{"$f":"IF(P_16号2様式!C137=\"\",\"\",P_16号2様式!C137)","v":""},null,{"$f":"IF(P_16号2様式!D137=\"\",\"\",P_16号2様式!D137)","v":""},{"$f":"IF(P_16号2様式!E137<> \"\",TEXT(INT(P_16号2様式!E137),\"#,##0\"),\"\")","v":""},{"$f":"IF(P_16号2様式!E137= \"\",\"\",IF(VALUE(FIXED(P_16号2様式!E137,0,TRUE))<>P_16号2様式!E137,RIGHT(FIXED(P_16号2様式!E137,3,FALSE),4),\"\"))","v":""},{"$f":"IF(P_16号2様式!F137<> \"\",TEXT(INT(P_16号2様式!F137),\"#,##0\"),\"\")","v":""},{"$f":"IF(P_16号2様式!F137= \"\",\"\",IF(VALUE(FIXED(P_16号2様式!F137,0,TRUE))<>P_16号2様式!F137,RIGHT(FIXED(P_16号2様式!F137,3,FALSE),4),\"\"))","v":""},{"$f":"IF(P_16号2様式!G137<> \"\",TEXT(INT(P_16号2様式!G137),\"#,##0\"),\"\")","v":""},{"$f":"IF(P_16号2様式!G137= \"\",\"\",IF(VALUE(FIXED(P_16号2様式!G137,0,TRUE))<>P_16号2様式!G137,RIGHT(FIXED(P_16号2様式!G137,3,FALSE),4),\"\"))","v":""},{"$f":"IF(P_16号2様式!H137<> \"\",TEXT(INT(P_16号2様式!H137),\"#,##0\"),\"\")","v":""},{"$f":"IF(P_16号2様式!H137= \"\",\"\",IF(VALUE(FIXED(P_16号2様式!H137,0,TRUE))<>P_16号2様式!H137,RIGHT(FIXED(P_16号2様式!H137,3,FALSE),4),\"\"))","v":""},{"$f":"IF(P_16号2様式!I137<> \"\",TEXT(INT(P_16号2様式!I137),\"#,##0\"),\"\")","v":""},{"$f":"IF(P_16号2様式!I137= \"\",\"\",IF(VALUE(FIXED(P_16号2様式!I137,0,TRUE))<>P_16号2様式!I137,RIGHT(FIXED(P_16号2様式!I137,3,FALSE),4),\"\"))","v":""},{"$f":"IF(P_16号2様式!J137<> \"\",TEXT(INT(P_16号2様式!J137),\"#,##0\"),\"\")","v":""},{"$f":"IF(P_16号2様式!J137= \"\",\"\",IF(VALUE(FIXED(P_16号2様式!J137,0,TRUE))<>P_16号2様式!J137,RIGHT(FIXED(P_16号2様式!J137,3,FALSE),4),\"\"))","v":""},{"$f":"IF(P_16号2様式!K137<> \"\",TEXT(INT(P_16号2様式!K137),\"#,##0\"),\"\")","v":""},{"$f":"IF(P_16号2様式!K137= \"\",\"\",IF(VALUE(FIXED(P_16号2様式!K137,0,TRUE))<>P_16号2様式!K137,RIGHT(FIXED(P_16号2様式!K137,3,FALSE),4),\"\"))","v":""},{"$f":"IF(P_16号2様式!L137<> \"\",TEXT(INT(P_16号2様式!L137),\"#,##0\"),\"\")","v":""},{"$f":"IF(P_16号2様式!L137= \"\",\"\",IF(VALUE(FIXED(P_16号2様式!L137,0,TRUE))<>P_16号2様式!L137,RIGHT(FIXED(P_16号2様式!L137,3,FALSE),4),\"\"))","v":""},{"$f":"IF(P_16号2様式!M137=\"\",\"\",P_16号2様式!M137)","v":""},null,{"$f":"IF(P_16号2様式!N137=\"\",\"\",P_16号2様式!N137)","v":""},null,{"$f":"IF(P_16号2様式!O137=\"\",\"\",P_16号2様式!O137)","v":""}]
[{"$f":"IF(P_16号2様式!C138=\"\",\"\",P_16号2様式!C138)","v":""},null,{"$f":"IF(P_16号2様式!D138=\"\",\"\",P_16号2様式!D138)","v":""},{"$f":"IF(P_16号2様式!E138<> \"\",TEXT(INT(P_16号2様式!E138),\"#,##0\"),\"\")","v":""},{"$f":"IF(P_16号2様式!E138= \"\",\"\",IF(VALUE(FIXED(P_16号2様式!E138,0,TRUE))<>P_16号2様式!E138,RIGHT(FIXED(P_16号2様式!E138,3,FALSE),4),\"\"))","v":""},{"$f":"IF(P_16号2様式!F138<> \"\",TEXT(INT(P_16号2様式!F138),\"#,##0\"),\"\")","v":""},{"$f":"IF(P_16号2様式!F138= \"\",\"\",IF(VALUE(FIXED(P_16号2様式!F138,0,TRUE))<>P_16号2様式!F138,RIGHT(FIXED(P_16号2様式!F138,3,FALSE),4),\"\"))","v":""},{"$f":"IF(P_16号2様式!G138<> \"\",TEXT(INT(P_16号2様式!G138),\"#,##0\"),\"\")","v":""},{"$f":"IF(P_16号2様式!G138= \"\",\"\",IF(VALUE(FIXED(P_16号2様式!G138,0,TRUE))<>P_16号2様式!G138,RIGHT(FIXED(P_16号2様式!G138,3,FALSE),4),\"\"))","v":""},{"$f":"IF(P_16号2様式!H138<> \"\",TEXT(INT(P_16号2様式!H138),\"#,##0\"),\"\")","v":""},{"$f":"IF(P_16号2様式!H138= \"\",\"\",IF(VALUE(FIXED(P_16号2様式!H138,0,TRUE))<>P_16号2様式!H138,RIGHT(FIXED(P_16号2様式!H138,3,FALSE),4),\"\"))","v":""},{"$f":"IF(P_16号2様式!I138<> \"\",TEXT(INT(P_16号2様式!I138),\"#,##0\"),\"\")","v":""},{"$f":"IF(P_16号2様式!I138= \"\",\"\",IF(VALUE(FIXED(P_16号2様式!I138,0,TRUE))<>P_16号2様式!I138,RIGHT(FIXED(P_16号2様式!I138,3,FALSE),4),\"\"))","v":""},{"$f":"IF(P_16号2様式!J138<> \"\",TEXT(INT(P_16号2様式!J138),\"#,##0\"),\"\")","v":""},{"$f":"IF(P_16号2様式!J138= \"\",\"\",IF(VALUE(FIXED(P_16号2様式!J138,0,TRUE))<>P_16号2様式!J138,RIGHT(FIXED(P_16号2様式!J138,3,FALSE),4),\"\"))","v":""},{"$f":"IF(P_16号2様式!K138<> \"\",TEXT(INT(P_16号2様式!K138),\"#,##0\"),\"\")","v":""},{"$f":"IF(P_16号2様式!K138= \"\",\"\",IF(VALUE(FIXED(P_16号2様式!K138,0,TRUE))<>P_16号2様式!K138,RIGHT(FIXED(P_16号2様式!K138,3,FALSE),4),\"\"))","v":""},{"$f":"IF(P_16号2様式!L138<> \"\",TEXT(INT(P_16号2様式!L138),\"#,##0\"),\"\")","v":""},{"$f":"IF(P_16号2様式!L138= \"\",\"\",IF(VALUE(FIXED(P_16号2様式!L138,0,TRUE))<>P_16号2様式!L138,RIGHT(FIXED(P_16号2様式!L138,3,FALSE),4),\"\"))","v":""},{"$f":"IF(P_16号2様式!M138=\"\",\"\",P_16号2様式!M138)","v":""},null,{"$f":"IF(P_16号2様式!N138=\"\",\"\",P_16号2様式!N138)","v":""},null,{"$f":"IF(P_16号2様式!O138=\"\",\"\",P_16号2様式!O138)","v":""}]
[{"$f":"IF(P_16号2様式!C139=\"\",\"\",P_16号2様式!C139)","v":""},null,{"$f":"IF(P_16号2様式!D139=\"\",\"\",P_16号2様式!D139)","v":""},{"$f":"IF(P_16号2様式!E139<> \"\",TEXT(INT(P_16号2様式!E139),\"#,##0\"),\"\")","v":""},{"$f":"IF(P_16号2様式!E139= \"\",\"\",IF(VALUE(FIXED(P_16号2様式!E139,0,TRUE))<>P_16号2様式!E139,RIGHT(FIXED(P_16号2様式!E139,3,FALSE),4),\"\"))","v":""},{"$f":"IF(P_16号2様式!F139<> \"\",TEXT(INT(P_16号2様式!F139),\"#,##0\"),\"\")","v":""},{"$f":"IF(P_16号2様式!F139= \"\",\"\",IF(VALUE(FIXED(P_16号2様式!F139,0,TRUE))<>P_16号2様式!F139,RIGHT(FIXED(P_16号2様式!F139,3,FALSE),4),\"\"))","v":""},{"$f":"IF(P_16号2様式!G139<> \"\",TEXT(INT(P_16号2様式!G139),\"#,##0\"),\"\")","v":""},{"$f":"IF(P_16号2様式!G139= \"\",\"\",IF(VALUE(FIXED(P_16号2様式!G139,0,TRUE))<>P_16号2様式!G139,RIGHT(FIXED(P_16号2様式!G139,3,FALSE),4),\"\"))","v":""},{"$f":"IF(P_16号2様式!H139<> \"\",TEXT(INT(P_16号2様式!H139),\"#,##0\"),\"\")","v":""},{"$f":"IF(P_16号2様式!H139= \"\",\"\",IF(VALUE(FIXED(P_16号2様式!H139,0,TRUE))<>P_16号2様式!H139,RIGHT(FIXED(P_16号2様式!H139,3,FALSE),4),\"\"))","v":""},{"$f":"IF(P_16号2様式!I139<> \"\",TEXT(INT(P_16号2様式!I139),\"#,##0\"),\"\")","v":""},{"$f":"IF(P_16号2様式!I139= \"\",\"\",IF(VALUE(FIXED(P_16号2様式!I139,0,TRUE))<>P_16号2様式!I139,RIGHT(FIXED(P_16号2様式!I139,3,FALSE),4),\"\"))","v":""},{"$f":"IF(P_16号2様式!J139<> \"\",TEXT(INT(P_16号2様式!J139),\"#,##0\"),\"\")","v":""},{"$f":"IF(P_16号2様式!J139= \"\",\"\",IF(VALUE(FIXED(P_16号2様式!J139,0,TRUE))<>P_16号2様式!J139,RIGHT(FIXED(P_16号2様式!J139,3,FALSE),4),\"\"))","v":""},{"$f":"IF(P_16号2様式!K139<> \"\",TEXT(INT(P_16号2様式!K139),\"#,##0\"),\"\")","v":""},{"$f":"IF(P_16号2様式!K139= \"\",\"\",IF(VALUE(FIXED(P_16号2様式!K139,0,TRUE))<>P_16号2様式!K139,RIGHT(FIXED(P_16号2様式!K139,3,FALSE),4),\"\"))","v":""},{"$f":"IF(P_16号2様式!L139<> \"\",TEXT(INT(P_16号2様式!L139),\"#,##0\"),\"\")","v":""},{"$f":"IF(P_16号2様式!L139= \"\",\"\",IF(VALUE(FIXED(P_16号2様式!L139,0,TRUE))<>P_16号2様式!L139,RIGHT(FIXED(P_16号2様式!L139,3,FALSE),4),\"\"))","v":""},{"$f":"IF(P_16号2様式!M139=\"\",\"\",P_16号2様式!M139)","v":""},null,{"$f":"IF(P_16号2様式!N139=\"\",\"\",P_16号2様式!N139)","v":""},null,{"$f":"IF(P_16号2様式!O139=\"\",\"\",P_16号2様式!O139)","v":""}]
[{"$f":"IF(P_16号2様式!C140=\"\",\"\",P_16号2様式!C140)","v":""},null,{"$f":"IF(P_16号2様式!D140=\"\",\"\",P_16号2様式!D140)","v":""},{"$f":"IF(P_16号2様式!E140<> \"\",TEXT(INT(P_16号2様式!E140),\"#,##0\"),\"\")","v":""},{"$f":"IF(P_16号2様式!E140= \"\",\"\",IF(VALUE(FIXED(P_16号2様式!E140,0,TRUE))<>P_16号2様式!E140,RIGHT(FIXED(P_16号2様式!E140,3,FALSE),4),\"\"))","v":""},{"$f":"IF(P_16号2様式!F140<> \"\",TEXT(INT(P_16号2様式!F140),\"#,##0\"),\"\")","v":""},{"$f":"IF(P_16号2様式!F140= \"\",\"\",IF(VALUE(FIXED(P_16号2様式!F140,0,TRUE))<>P_16号2様式!F140,RIGHT(FIXED(P_16号2様式!F140,3,FALSE),4),\"\"))","v":""},{"$f":"IF(P_16号2様式!G140<> \"\",TEXT(INT(P_16号2様式!G140),\"#,##0\"),\"\")","v":""},{"$f":"IF(P_16号2様式!G140= \"\",\"\",IF(VALUE(FIXED(P_16号2様式!G140,0,TRUE))<>P_16号2様式!G140,RIGHT(FIXED(P_16号2様式!G140,3,FALSE),4),\"\"))","v":""},{"$f":"IF(P_16号2様式!H140<> \"\",TEXT(INT(P_16号2様式!H140),\"#,##0\"),\"\")","v":""},{"$f":"IF(P_16号2様式!H140= \"\",\"\",IF(VALUE(FIXED(P_16号2様式!H140,0,TRUE))<>P_16号2様式!H140,RIGHT(FIXED(P_16号2様式!H140,3,FALSE),4),\"\"))","v":""},{"$f":"IF(P_16号2様式!I140<> \"\",TEXT(INT(P_16号2様式!I140),\"#,##0\"),\"\")","v":""},{"$f":"IF(P_16号2様式!I140= \"\",\"\",IF(VALUE(FIXED(P_16号2様式!I140,0,TRUE))<>P_16号2様式!I140,RIGHT(FIXED(P_16号2様式!I140,3,FALSE),4),\"\"))","v":""},{"$f":"IF(P_16号2様式!J140<> \"\",TEXT(INT(P_16号2様式!J140),\"#,##0\"),\"\")","v":""},{"$f":"IF(P_16号2様式!J140= \"\",\"\",IF(VALUE(FIXED(P_16号2様式!J140,0,TRUE))<>P_16号2様式!J140,RIGHT(FIXED(P_16号2様式!J140,3,FALSE),4),\"\"))","v":""},{"$f":"IF(P_16号2様式!K140<> \"\",TEXT(INT(P_16号2様式!K140),\"#,##0\"),\"\")","v":""},{"$f":"IF(P_16号2様式!K140= \"\",\"\",IF(VALUE(FIXED(P_16号2様式!K140,0,TRUE))<>P_16号2様式!K140,RIGHT(FIXED(P_16号2様式!K140,3,FALSE),4),\"\"))","v":""},{"$f":"IF(P_16号2様式!L140<> \"\",TEXT(INT(P_16号2様式!L140),\"#,##0\"),\"\")","v":""},{"$f":"IF(P_16号2様式!L140= \"\",\"\",IF(VALUE(FIXED(P_16号2様式!L140,0,TRUE))<>P_16号2様式!L140,RIGHT(FIXED(P_16号2様式!L140,3,FALSE),4),\"\"))","v":""},{"$f":"IF(P_16号2様式!M140=\"\",\"\",P_16号2様式!M140)","v":""},null,{"$f":"IF(P_16号2様式!N140=\"\",\"\",P_16号2様式!N140)","v":""},null,{"$f":"IF(P_16号2様式!O140=\"\",\"\",P_16号2様式!O140)","v":""}]
[{"$f":"IF(P_16号2様式!C141=\"\",\"\",P_16号2様式!C141)","v":""},null,{"$f":"IF(P_16号2様式!D141=\"\",\"\",P_16号2様式!D141)","v":""},{"$f":"IF(P_16号2様式!E141<> \"\",TEXT(INT(P_16号2様式!E141),\"#,##0\"),\"\")","v":""},{"$f":"IF(P_16号2様式!E141= \"\",\"\",IF(VALUE(FIXED(P_16号2様式!E141,0,TRUE))<>P_16号2様式!E141,RIGHT(FIXED(P_16号2様式!E141,3,FALSE),4),\"\"))","v":""},{"$f":"IF(P_16号2様式!F141<> \"\",TEXT(INT(P_16号2様式!F141),\"#,##0\"),\"\")","v":""},{"$f":"IF(P_16号2様式!F141= \"\",\"\",IF(VALUE(FIXED(P_16号2様式!F141,0,TRUE))<>P_16号2様式!F141,RIGHT(FIXED(P_16号2様式!F141,3,FALSE),4),\"\"))","v":""},{"$f":"IF(P_16号2様式!G141<> \"\",TEXT(INT(P_16号2様式!G141),\"#,##0\"),\"\")","v":""},{"$f":"IF(P_16号2様式!G141= \"\",\"\",IF(VALUE(FIXED(P_16号2様式!G141,0,TRUE))<>P_16号2様式!G141,RIGHT(FIXED(P_16号2様式!G141,3,FALSE),4),\"\"))","v":""},{"$f":"IF(P_16号2様式!H141<> \"\",TEXT(INT(P_16号2様式!H141),\"#,##0\"),\"\")","v":""},{"$f":"IF(P_16号2様式!H141= \"\",\"\",IF(VALUE(FIXED(P_16号2様式!H141,0,TRUE))<>P_16号2様式!H141,RIGHT(FIXED(P_16号2様式!H141,3,FALSE),4),\"\"))","v":""},{"$f":"IF(P_16号2様式!I141<> \"\",TEXT(INT(P_16号2様式!I141),\"#,##0\"),\"\")","v":""},{"$f":"IF(P_16号2様式!I141= \"\",\"\",IF(VALUE(FIXED(P_16号2様式!I141,0,TRUE))<>P_16号2様式!I141,RIGHT(FIXED(P_16号2様式!I141,3,FALSE),4),\"\"))","v":""},{"$f":"IF(P_16号2様式!J141<> \"\",TEXT(INT(P_16号2様式!J141),\"#,##0\"),\"\")","v":""},{"$f":"IF(P_16号2様式!J141= \"\",\"\",IF(VALUE(FIXED(P_16号2様式!J141,0,TRUE))<>P_16号2様式!J141,RIGHT(FIXED(P_16号2様式!J141,3,FALSE),4),\"\"))","v":""},{"$f":"IF(P_16号2様式!K141<> \"\",TEXT(INT(P_16号2様式!K141),\"#,##0\"),\"\")","v":""},{"$f":"IF(P_16号2様式!K141= \"\",\"\",IF(VALUE(FIXED(P_16号2様式!K141,0,TRUE))<>P_16号2様式!K141,RIGHT(FIXED(P_16号2様式!K141,3,FALSE),4),\"\"))","v":""},{"$f":"IF(P_16号2様式!L141<> \"\",TEXT(INT(P_16号2様式!L141),\"#,##0\"),\"\")","v":""},{"$f":"IF(P_16号2様式!L141= \"\",\"\",IF(VALUE(FIXED(P_16号2様式!L141,0,TRUE))<>P_16号2様式!L141,RIGHT(FIXED(P_16号2様式!L141,3,FALSE),4),\"\"))","v":""},{"$f":"IF(P_16号2様式!M141=\"\",\"\",P_16号2様式!M141)","v":""},null,{"$f":"IF(P_16号2様式!N141=\"\",\"\",P_16号2様式!N141)","v":""},null,{"$f":"IF(P_16号2様式!O141=\"\",\"\",P_16号2様式!O141)","v":""}]
[{"$f":"IF(P_16号2様式!C142=\"\",\"\",P_16号2様式!C142)","v":""},null,{"$f":"IF(P_16号2様式!D142=\"\",\"\",P_16号2様式!D142)","v":""},{"$f":"IF(P_16号2様式!E142<> \"\",TEXT(INT(P_16号2様式!E142),\"#,##0\"),\"\")","v":""},{"$f":"IF(P_16号2様式!E142= \"\",\"\",IF(VALUE(FIXED(P_16号2様式!E142,0,TRUE))<>P_16号2様式!E142,RIGHT(FIXED(P_16号2様式!E142,3,FALSE),4),\"\"))","v":""},{"$f":"IF(P_16号2様式!F142<> \"\",TEXT(INT(P_16号2様式!F142),\"#,##0\"),\"\")","v":""},{"$f":"IF(P_16号2様式!F142= \"\",\"\",IF(VALUE(FIXED(P_16号2様式!F142,0,TRUE))<>P_16号2様式!F142,RIGHT(FIXED(P_16号2様式!F142,3,FALSE),4),\"\"))","v":""},{"$f":"IF(P_16号2様式!G142<> \"\",TEXT(INT(P_16号2様式!G142),\"#,##0\"),\"\")","v":""},{"$f":"IF(P_16号2様式!G142= \"\",\"\",IF(VALUE(FIXED(P_16号2様式!G142,0,TRUE))<>P_16号2様式!G142,RIGHT(FIXED(P_16号2様式!G142,3,FALSE),4),\"\"))","v":""},{"$f":"IF(P_16号2様式!H142<> \"\",TEXT(INT(P_16号2様式!H142),\"#,##0\"),\"\")","v":""},{"$f":"IF(P_16号2様式!H142= \"\",\"\",IF(VALUE(FIXED(P_16号2様式!H142,0,TRUE))<>P_16号2様式!H142,RIGHT(FIXED(P_16号2様式!H142,3,FALSE),4),\"\"))","v":""},{"$f":"IF(P_16号2様式!I142<> \"\",TEXT(INT(P_16号2様式!I142),\"#,##0\"),\"\")","v":""},{"$f":"IF(P_16号2様式!I142= \"\",\"\",IF(VALUE(FIXED(P_16号2様式!I142,0,TRUE))<>P_16号2様式!I142,RIGHT(FIXED(P_16号2様式!I142,3,FALSE),4),\"\"))","v":""},{"$f":"IF(P_16号2様式!J142<> \"\",TEXT(INT(P_16号2様式!J142),\"#,##0\"),\"\")","v":""},{"$f":"IF(P_16号2様式!J142= \"\",\"\",IF(VALUE(FIXED(P_16号2様式!J142,0,TRUE))<>P_16号2様式!J142,RIGHT(FIXED(P_16号2様式!J142,3,FALSE),4),\"\"))","v":""},{"$f":"IF(P_16号2様式!K142<> \"\",TEXT(INT(P_16号2様式!K142),\"#,##0\"),\"\")","v":""},{"$f":"IF(P_16号2様式!K142= \"\",\"\",IF(VALUE(FIXED(P_16号2様式!K142,0,TRUE))<>P_16号2様式!K142,RIGHT(FIXED(P_16号2様式!K142,3,FALSE),4),\"\"))","v":""},{"$f":"IF(P_16号2様式!L142<> \"\",TEXT(INT(P_16号2様式!L142),\"#,##0\"),\"\")","v":""},{"$f":"IF(P_16号2様式!L142= \"\",\"\",IF(VALUE(FIXED(P_16号2様式!L142,0,TRUE))<>P_16号2様式!L142,RIGHT(FIXED(P_16号2様式!L142,3,FALSE),4),\"\"))","v":""},{"$f":"IF(P_16号2様式!M142=\"\",\"\",P_16号2様式!M142)","v":""},null,{"$f":"IF(P_16号2様式!N142=\"\",\"\",P_16号2様式!N142)","v":""},null,{"$f":"IF(P_16号2様式!O142=\"\",\"\",P_16号2様式!O142)","v":""}]
[{"$f":"IF(P_16号2様式!C143=\"\",\"\",P_16号2様式!C143)","v":""},null,{"$f":"IF(P_16号2様式!D143=\"\",\"\",P_16号2様式!D143)","v":""},{"$f":"IF(P_16号2様式!E143<> \"\",TEXT(INT(P_16号2様式!E143),\"#,##0\"),\"\")","v":""},{"$f":"IF(P_16号2様式!E143= \"\",\"\",IF(VALUE(FIXED(P_16号2様式!E143,0,TRUE))<>P_16号2様式!E143,RIGHT(FIXED(P_16号2様式!E143,3,FALSE),4),\"\"))","v":""},{"$f":"IF(P_16号2様式!F143<> \"\",TEXT(INT(P_16号2様式!F143),\"#,##0\"),\"\")","v":""},{"$f":"IF(P_16号2様式!F143= \"\",\"\",IF(VALUE(FIXED(P_16号2様式!F143,0,TRUE))<>P_16号2様式!F143,RIGHT(FIXED(P_16号2様式!F143,3,FALSE),4),\"\"))","v":""},{"$f":"IF(P_16号2様式!G143<> \"\",TEXT(INT(P_16号2様式!G143),\"#,##0\"),\"\")","v":""},{"$f":"IF(P_16号2様式!G143= \"\",\"\",IF(VALUE(FIXED(P_16号2様式!G143,0,TRUE))<>P_16号2様式!G143,RIGHT(FIXED(P_16号2様式!G143,3,FALSE),4),\"\"))","v":""},{"$f":"IF(P_16号2様式!H143<> \"\",TEXT(INT(P_16号2様式!H143),\"#,##0\"),\"\")","v":""},{"$f":"IF(P_16号2様式!H143= \"\",\"\",IF(VALUE(FIXED(P_16号2様式!H143,0,TRUE))<>P_16号2様式!H143,RIGHT(FIXED(P_16号2様式!H143,3,FALSE),4),\"\"))","v":""},{"$f":"IF(P_16号2様式!I143<> \"\",TEXT(INT(P_16号2様式!I143),\"#,##0\"),\"\")","v":""},{"$f":"IF(P_16号2様式!I143= \"\",\"\",IF(VALUE(FIXED(P_16号2様式!I143,0,TRUE))<>P_16号2様式!I143,RIGHT(FIXED(P_16号2様式!I143,3,FALSE),4),\"\"))","v":""},{"$f":"IF(P_16号2様式!J143<> \"\",TEXT(INT(P_16号2様式!J143),\"#,##0\"),\"\")","v":""},{"$f":"IF(P_16号2様式!J143= \"\",\"\",IF(VALUE(FIXED(P_16号2様式!J143,0,TRUE))<>P_16号2様式!J143,RIGHT(FIXED(P_16号2様式!J143,3,FALSE),4),\"\"))","v":""},{"$f":"IF(P_16号2様式!K143<> \"\",TEXT(INT(P_16号2様式!K143),\"#,##0\"),\"\")","v":""},{"$f":"IF(P_16号2様式!K143= \"\",\"\",IF(VALUE(FIXED(P_16号2様式!K143,0,TRUE))<>P_16号2様式!K143,RIGHT(FIXED(P_16号2様式!K143,3,FALSE),4),\"\"))","v":""},{"$f":"IF(P_16号2様式!L143<> \"\",TEXT(INT(P_16号2様式!L143),\"#,##0\"),\"\")","v":""},{"$f":"IF(P_16号2様式!L143= \"\",\"\",IF(VALUE(FIXED(P_16号2様式!L143,0,TRUE))<>P_16号2様式!L143,RIGHT(FIXED(P_16号2様式!L143,3,FALSE),4),\"\"))","v":""},{"$f":"IF(P_16号2様式!M143=\"\",\"\",P_16号2様式!M143)","v":""},null,{"$f":"IF(P_16号2様式!N143=\"\",\"\",P_16号2様式!N143)","v":""},null,{"$f":"IF(P_16号2様式!O143=\"\",\"\",P_16号2様式!O143)","v":""}]
[{"$f":"IF(P_16号2様式!C144=\"\",\"\",P_16号2様式!C144)","v":""},null,{"$f":"IF(P_16号2様式!D144=\"\",\"\",P_16号2様式!D144)","v":""},{"$f":"IF(P_16号2様式!E144<> \"\",TEXT(INT(P_16号2様式!E144),\"#,##0\"),\"\")","v":""},{"$f":"IF(P_16号2様式!E144= \"\",\"\",IF(VALUE(FIXED(P_16号2様式!E144,0,TRUE))<>P_16号2様式!E144,RIGHT(FIXED(P_16号2様式!E144,3,FALSE),4),\"\"))","v":""},{"$f":"IF(P_16号2様式!F144<> \"\",TEXT(INT(P_16号2様式!F144),\"#,##0\"),\"\")","v":""},{"$f":"IF(P_16号2様式!F144= \"\",\"\",IF(VALUE(FIXED(P_16号2様式!F144,0,TRUE))<>P_16号2様式!F144,RIGHT(FIXED(P_16号2様式!F144,3,FALSE),4),\"\"))","v":""},{"$f":"IF(P_16号2様式!G144<> \"\",TEXT(INT(P_16号2様式!G144),\"#,##0\"),\"\")","v":""},{"$f":"IF(P_16号2様式!G144= \"\",\"\",IF(VALUE(FIXED(P_16号2様式!G144,0,TRUE))<>P_16号2様式!G144,RIGHT(FIXED(P_16号2様式!G144,3,FALSE),4),\"\"))","v":""},{"$f":"IF(P_16号2様式!H144<> \"\",TEXT(INT(P_16号2様式!H144),\"#,##0\"),\"\")","v":""},{"$f":"IF(P_16号2様式!H144= \"\",\"\",IF(VALUE(FIXED(P_16号2様式!H144,0,TRUE))<>P_16号2様式!H144,RIGHT(FIXED(P_16号2様式!H144,3,FALSE),4),\"\"))","v":""},{"$f":"IF(P_16号2様式!I144<> \"\",TEXT(INT(P_16号2様式!I144),\"#,##0\"),\"\")","v":""},{"$f":"IF(P_16号2様式!I144= \"\",\"\",IF(VALUE(FIXED(P_16号2様式!I144,0,TRUE))<>P_16号2様式!I144,RIGHT(FIXED(P_16号2様式!I144,3,FALSE),4),\"\"))","v":""},{"$f":"IF(P_16号2様式!J144<> \"\",TEXT(INT(P_16号2様式!J144),\"#,##0\"),\"\")","v":""},{"$f":"IF(P_16号2様式!J144= \"\",\"\",IF(VALUE(FIXED(P_16号2様式!J144,0,TRUE))<>P_16号2様式!J144,RIGHT(FIXED(P_16号2様式!J144,3,FALSE),4),\"\"))","v":""},{"$f":"IF(P_16号2様式!K144<> \"\",TEXT(INT(P_16号2様式!K144),\"#,##0\"),\"\")","v":""},{"$f":"IF(P_16号2様式!K144= \"\",\"\",IF(VALUE(FIXED(P_16号2様式!K144,0,TRUE))<>P_16号2様式!K144,RIGHT(FIXED(P_16号2様式!K144,3,FALSE),4),\"\"))","v":""},{"$f":"IF(P_16号2様式!L144<> \"\",TEXT(INT(P_16号2様式!L144),\"#,##0\"),\"\")","v":""},{"$f":"IF(P_16号2様式!L144= \"\",\"\",IF(VALUE(FIXED(P_16号2様式!L144,0,TRUE))<>P_16号2様式!L144,RIGHT(FIXED(P_16号2様式!L144,3,FALSE),4),\"\"))","v":""},{"$f":"IF(P_16号2様式!M144=\"\",\"\",P_16号2様式!M144)","v":""},null,{"$f":"IF(P_16号2様式!N144=\"\",\"\",P_16号2様式!N144)","v":""},null,{"$f":"IF(P_16号2様式!O144=\"\",\"\",P_16号2様式!O144)","v":""}]
["第16号の2様式",null,null,null,null,null,null,null,null,null,null,null,null,null,null,null,null,null,null,null,null,null,null,{"$f":"IF(P_16号2様式!A146=\"\",\" ページ\", P_16号2様式!A146 & \"ページ\")","v":"4ページ"}]
[null,null,null,null,null,null,null,null,"開　 票　 速 　報"]
[null,{"$f":"IF(パラメタシート!B1=\"\",\"\",パラメタシート!B1)","v":"2017-10-22"}]
[null,{"$f":"IF(P_16号2様式!P146=\"\",\"\",P_16号2様式!P146)","v":"衆議院小選挙区選出議員選挙"},null,null,null,null,null,null,null,null,null,null,null,null,{"$f":"IF(P_16号2様式!Q146=\"0\",\"即日中間速報\",\"翌日中間速報\")","v":"即日中間速報"},null,{"$f":"IF(P_16号2様式!R146=\"\",\"第　　　回\",\"第 　\" & P_16号2様式!R146 & \"　回\")","v":"第　　　回"},null,null,{"$f":"IF(P_16号2様式!S146=\"\",\"     時    分　現在\",P_16号2様式!S146)","v":"     時    分　現在"}]
[null,null,null,null,null,null,null,null,null,null,null,null,null,null,"結了報告",null,null,null,null,{"$f":"IF(P_16号2様式!T146=\"\",\"     時    分　結了\",P_16号2様式!T146)","v":"01:43:00"},null,null,null,"鹿 児 島 県"]
[]
["市 区 町 村 名",null,null,"(ア)",null,"(イ)",null,"(ウ)",null,"(エ)",null,"(オ)",null,"(カ)",null,"(キ)",null,"(ク)"]
[null,null,"開票率","候 補 者 得 票",null,"あん分の際切り",null,"いずれの候補者",null,"有 効 投 票 数",null,"無 効 投 票 数",null,"投 票 総 数",null,"持ち帰り・不受理",null,"投票者総数",null,"無効投票率",null,"開 票 確 定",null,"確 定 表 示"]
[null,null,"％","数 の 合 計",null,"捨 て た 票 数",null,"にも属しない票数",null,"(ア)＋(イ)＋(ウ)",null,null,null,"(エ)＋(オ)",null,"その他",null,"(カ)＋(キ)",null,"(オ)／(カ)％",null,"時　 刻"]
[{"$f":"IF(P_16号2様式!C146=\"\",\"\",P_16号2様式!C146)","v":"【 第 ４ 区 】"},null,{"$f":"IF(P_16号2様式!D146=\"\",\"\",P_16号2様式!D146)","v":""},{"$f":"IF(P_16号2様式!E146<> \"\",TEXT(INT(P_16号2様式!E146),\"#,##0\"),\"\")","v":""},{"$f":"IF(P_16号2様式!E146= \"\",\"\",IF(VALUE(FIXED(P_16号2様式!E146,0,TRUE))<>P_16号2様式!E146,RIGHT(FIXED(P_16号2様式!E146,3,FALSE),4),\"\"))","v":""},{"$f":"IF(P_16号2様式!F146<> \"\",TEXT(INT(P_16号2様式!F146),\"#,##0\"),\"\")","v":""},{"$f":"IF(P_16号2様式!F146= \"\",\"\",IF(VALUE(FIXED(P_16号2様式!F146,0,TRUE))<>P_16号2様式!F146,RIGHT(FIXED(P_16号2様式!F146,3,FALSE),4),\"\"))","v":""},{"$f":"IF(P_16号2様式!G146<> \"\",TEXT(INT(P_16号2様式!G146),\"#,##0\"),\"\")","v":""},{"$f":"IF(P_16号2様式!G146= \"\",\"\",IF(VALUE(FIXED(P_16号2様式!G146,0,TRUE))<>P_16号2様式!G146,RIGHT(FIXED(P_16号2様式!G146,3,FALSE),4),\"\"))","v":""},{"$f":"IF(P_16号2様式!H146<> \"\",TEXT(INT(P_16号2様式!H146),\"#,##0\"),\"\")","v":""},{"$f":"IF(P_16号2様式!H146= \"\",\"\",IF(VALUE(FIXED(P_16号2様式!H146,0,TRUE))<>P_16号2様式!H146,RIGHT(FIXED(P_16号2様式!H146,3,FALSE),4),\"\"))","v":""},{"$f":"IF(P_16号2様式!I146<> \"\",TEXT(INT(P_16号2様式!I146),\"#,##0\"),\"\")","v":""},{"$f":"IF(P_16号2様式!I146= \"\",\"\",IF(VALUE(FIXED(P_16号2様式!I146,0,TRUE))<>P_16号2様式!I146,RIGHT(FIXED(P_16号2様式!I146,3,FALSE),4),\"\"))","v":""},{"$f":"IF(P_16号2様式!J146<> \"\",TEXT(INT(P_16号2様式!J146),\"#,##0\"),\"\")","v":""},{"$f":"IF(P_16号2様式!J146= \"\",\"\",IF(VALUE(FIXED(P_16号2様式!J146,0,TRUE))<>P_16号2様式!J146,RIGHT(FIXED(P_16号2様式!J146,3,FALSE),4),\"\"))","v":""},{"$f":"IF(P_16号2様式!K146<> \"\",TEXT(INT(P_16号2様式!K146),\"#,##0\"),\"\")","v":""},{"$f":"IF(P_16号2様式!K146= \"\",\"\",IF(VALUE(FIXED(P_16号2様式!K146,0,TRUE))<>P_16号2様式!K146,RIGHT(FIXED(P_16号2様式!K146,3,FALSE),4),\"\"))","v":""},{"$f":"IF(P_16号2様式!L146<> \"\",TEXT(INT(P_16号2様式!L146),\"#,##0\"),\"\")","v":""},{"$f":"IF(P_16号2様式!L146= \"\",\"\",IF(VALUE(FIXED(P_16号2様式!L146,0,TRUE))<>P_16号2様式!L146,RIGHT(FIXED(P_16号2様式!L146,3,FALSE),4),\"\"))","v":""},{"$f":"IF(P_16号2様式!M146=\"\",\"\",P_16号2様式!M146)","v":""},null,{"$f":"IF(P_16号2様式!N146=\"\",\"\",P_16号2様式!N146)","v":""},null,{"$f":"IF(P_16号2様式!O146=\"\",\"\",P_16号2様式!O146)","v":""}]
[{"$f":"IF(P_16号2様式!C147=\"\",\"\",P_16号2様式!C147)","v":"　鹿屋市"},null,{"$f":"IF(P_16号2様式!D147=\"\",\"\",P_16号2様式!D147)","v":100},{"$f":"IF(P_16号2様式!E147<> \"\",TEXT(INT(P_16号2様式!E147),\"#,##0\"),\"\")","v":"42,377"},{"$f":"IF(P_16号2様式!E147= \"\",\"\",IF(VALUE(FIXED(P_16号2様式!E147,0,TRUE))<>P_16号2様式!E147,RIGHT(FIXED(P_16号2様式!E147,3,FALSE),4),\"\"))","v":""},{"$f":"IF(P_16号2様式!F147<> \"\",TEXT(INT(P_16号2様式!F147),\"#,##0\"),\"\")","v":"0"},{"$f":"IF(P_16号2様式!F147= \"\",\"\",IF(VALUE(FIXED(P_16号2様式!F147,0,TRUE))<>P_16号2様式!F147,RIGHT(FIXED(P_16号2様式!F147,3,FALSE),4),\"\"))","v":""},{"$f":"IF(P_16号2様式!G147<> \"\",TEXT(INT(P_16号2様式!G147),\"#,##0\"),\"\")","v":"0"},{"$f":"IF(P_16号2様式!G147= \"\",\"\",IF(VALUE(FIXED(P_16号2様式!G147,0,TRUE))<>P_16号2様式!G147,RIGHT(FIXED(P_16号2様式!G147,3,FALSE),4),\"\"))","v":""},{"$f":"IF(P_16号2様式!H147<> \"\",TEXT(INT(P_16号2様式!H147),\"#,##0\"),\"\")","v":"42,377"},{"$f":"IF(P_16号2様式!H147= \"\",\"\",IF(VALUE(FIXED(P_16号2様式!H147,0,TRUE))<>P_16号2様式!H147,RIGHT(FIXED(P_16号2様式!H147,3,FALSE),4),\"\"))","v":""},{"$f":"IF(P_16号2様式!I147<> \"\",TEXT(INT(P_16号2様式!I147),\"#,##0\"),\"\")","v":"1,056"},{"$f":"IF(P_16号2様式!I147= \"\",\"\",IF(VALUE(FIXED(P_16号2様式!I147,0,TRUE))<>P_16号2様式!I147,RIGHT(FIXED(P_16号2様式!I147,3,FALSE),4),\"\"))","v":""},{"$f":"IF(P_16号2様式!J147<> \"\",TEXT(INT(P_16号2様式!J147),\"#,##0\"),\"\")","v":"43,433"},{"$f":"IF(P_16号2様式!J147= \"\",\"\",IF(VALUE(FIXED(P_16号2様式!J147,0,TRUE))<>P_16号2様式!J147,RIGHT(FIXED(P_16号2様式!J147,3,FALSE),4),\"\"))","v":""},{"$f":"IF(P_16号2様式!K147<> \"\",TEXT(INT(P_16号2様式!K147),\"#,##0\"),\"\")","v":"2"},{"$f":"IF(P_16号2様式!K147= \"\",\"\",IF(VALUE(FIXED(P_16号2様式!K147,0,TRUE))<>P_16号2様式!K147,RIGHT(FIXED(P_16号2様式!K147,3,FALSE),4),\"\"))","v":""},{"$f":"IF(P_16号2様式!L147<> \"\",TEXT(INT(P_16号2様式!L147),\"#,##0\"),\"\")","v":"43,435"},{"$f":"IF(P_16号2様式!L147= \"\",\"\",IF(VALUE(FIXED(P_16号2様式!L147,0,TRUE))<>P_16号2様式!L147,RIGHT(FIXED(P_16号2様式!L147,3,FALSE),4),\"\"))","v":""},{"$f":"IF(P_16号2様式!M147=\"\",\"\",P_16号2様式!M147)","v":2.4313310155872299},null,{"$f":"IF(P_16号2様式!N147=\"\",\"\",P_16号2様式!N147)","v":"00:33:00"},null,{"$f":"IF(P_16号2様式!O147=\"\",\"\",P_16号2様式!O147)","v":"確定"}]
[{"$f":"IF(P_16号2様式!C148=\"\",\"\",P_16号2様式!C148)","v":"　西之表市"},null,{"$f":"IF(P_16号2様式!D148=\"\",\"\",P_16号2様式!D148)","v":100},{"$f":"IF(P_16号2様式!E148<> \"\",TEXT(INT(P_16号2様式!E148),\"#,##0\"),\"\")","v":"6,943"},{"$f":"IF(P_16号2様式!E148= \"\",\"\",IF(VALUE(FIXED(P_16号2様式!E148,0,TRUE))<>P_16号2様式!E148,RIGHT(FIXED(P_16号2様式!E148,3,FALSE),4),\"\"))","v":""},{"$f":"IF(P_16号2様式!F148<> \"\",TEXT(INT(P_16号2様式!F148),\"#,##0\"),\"\")","v":"0"},{"$f":"IF(P_16号2様式!F148= \"\",\"\",IF(VALUE(FIXED(P_16号2様式!F148,0,TRUE))<>P_16号2様式!F148,RIGHT(FIXED(P_16号2様式!F148,3,FALSE),4),\"\"))","v":""},{"$f":"IF(P_16号2様式!G148<> \"\",TEXT(INT(P_16号2様式!G148),\"#,##0\"),\"\")","v":"0"},{"$f":"IF(P_16号2様式!G148= \"\",\"\",IF(VALUE(FIXED(P_16号2様式!G148,0,TRUE))<>P_16号2様式!G148,RIGHT(FIXED(P_16号2様式!G148,3,FALSE),4),\"\"))","v":""},{"$f":"IF(P_16号2様式!H148<> \"\",TEXT(INT(P_16号2様式!H148),\"#,##0\"),\"\")","v":"6,943"},{"$f":"IF(P_16号2様式!H148= \"\",\"\",IF(VALUE(FIXED(P_16号2様式!H148,0,TRUE))<>P_16号2様式!H148,RIGHT(FIXED(P_16号2様式!H148,3,FALSE),4),\"\"))","v":""},{"$f":"IF(P_16号2様式!I148<> \"\",TEXT(INT(P_16号2様式!I148),\"#,##0\"),\"\")","v":"168"},{"$f":"IF(P_16号2様式!I148= \"\",\"\",IF(VALUE(FIXED(P_16号2様式!I148,0,TRUE))<>P_16号2様式!I148,RIGHT(FIXED(P_16号2様式!I148,3,FALSE),4),\"\"))","v":""},{"$f":"IF(P_16号2様式!J148<> \"\",TEXT(INT(P_16号2様式!J148),\"#,##0\"),\"\")","v":"7,111"},{"$f":"IF(P_16号2様式!J148= \"\",\"\",IF(VALUE(FIXED(P_16号2様式!J148,0,TRUE))<>P_16号2様式!J148,RIGHT(FIXED(P_16号2様式!J148,3,FALSE),4),\"\"))","v":""},{"$f":"IF(P_16号2様式!K148<> \"\",TEXT(INT(P_16号2様式!K148),\"#,##0\"),\"\")","v":"0"},{"$f":"IF(P_16号2様式!K148= \"\",\"\",IF(VALUE(FIXED(P_16号2様式!K148,0,TRUE))<>P_16号2様式!K148,RIGHT(FIXED(P_16号2様式!K148,3,FALSE),4),\"\"))","v":""},{"$f":"IF(P_16号2様式!L148<> \"\",TEXT(INT(P_16号2様式!L148),\"#,##0\"),\"\")","v":"7,111"},{"$f":"IF(P_16号2様式!L148= \"\",\"\",IF(VALUE(FIXED(P_16号2様式!L148,0,TRUE))<>P_16号2様式!L148,RIGHT(FIXED(P_16号2様式!L148,3,FALSE),4),\"\"))","v":""},{"$f":"IF(P_16号2様式!M148=\"\",\"\",P_16号2様式!M148)","v":2.3625369146392901},null,{"$f":"IF(P_16号2様式!N148=\"\",\"\",P_16号2様式!N148)","v":"21:38:00"},null,{"$f":"IF(P_16号2様式!O148=\"\",\"\",P_16号2様式!O148)","v":"確定"}]
[{"$f":"IF(P_16号2様式!C149=\"\",\"\",P_16号2様式!C149)","v":"　垂水市"},null,{"$f":"IF(P_16号2様式!D149=\"\",\"\",P_16号2様式!D149)","v":100},{"$f":"IF(P_16号2様式!E149<> \"\",TEXT(INT(P_16号2様式!E149),\"#,##0\"),\"\")","v":"7,916"},{"$f":"IF(P_16号2様式!E149= \"\",\"\",IF(VALUE(FIXED(P_16号2様式!E149,0,TRUE))<>P_16号2様式!E149,RIGHT(FIXED(P_16号2様式!E149,3,FALSE),4),\"\"))","v":""},{"$f":"IF(P_16号2様式!F149<> \"\",TEXT(INT(P_16号2様式!F149),\"#,##0\"),\"\")","v":"0"},{"$f":"IF(P_16号2様式!F149= \"\",\"\",IF(VALUE(FIXED(P_16号2様式!F149,0,TRUE))<>P_16号2様式!F149,RIGHT(FIXED(P_16号2様式!F149,3,FALSE),4),\"\"))","v":""},{"$f":"IF(P_16号2様式!G149<> \"\",TEXT(INT(P_16号2様式!G149),\"#,##0\"),\"\")","v":"0"},{"$f":"IF(P_16号2様式!G149= \"\",\"\",IF(VALUE(FIXED(P_16号2様式!G149,0,TRUE))<>P_16号2様式!G149,RIGHT(FIXED(P_16号2様式!G149,3,FALSE),4),\"\"))","v":""},{"$f":"IF(P_16号2様式!H149<> \"\",TEXT(INT(P_16号2様式!H149),\"#,##0\"),\"\")","v":"7,916"},{"$f":"IF(P_16号2様式!H149= \"\",\"\",IF(VALUE(FIXED(P_16号2様式!H149,0,TRUE))<>P_16号2様式!H149,RIGHT(FIXED(P_16号2様式!H149,3,FALSE),4),\"\"))","v":""},{"$f":"IF(P_16号2様式!I149<> \"\",TEXT(INT(P_16号2様式!I149),\"#,##0\"),\"\")","v":"134"},{"$f":"IF(P_16号2様式!I149= \"\",\"\",IF(VALUE(FIXED(P_16号2様式!I149,0,TRUE))<>P_16号2様式!I149,RIGHT(FIXED(P_16号2様式!I149,3,FALSE),4),\"\"))","v":""},{"$f":"IF(P_16号2様式!J149<> \"\",TEXT(INT(P_16号2様式!J149),\"#,##0\"),\"\")","v":"8,050"},{"$f":"IF(P_16号2様式!J149= \"\",\"\",IF(VALUE(FIXED(P_16号2様式!J149,0,TRUE))<>P_16号2様式!J149,RIGHT(FIXED(P_16号2様式!J149,3,FALSE),4),\"\"))","v":""},{"$f":"IF(P_16号2様式!K149<> \"\",TEXT(INT(P_16号2様式!K149),\"#,##0\"),\"\")","v":"0"},{"$f":"IF(P_16号2様式!K149= \"\",\"\",IF(VALUE(FIXED(P_16号2様式!K149,0,TRUE))<>P_16号2様式!K149,RIGHT(FIXED(P_16号2様式!K149,3,FALSE),4),\"\"))","v":""},{"$f":"IF(P_16号2様式!L149<> \"\",TEXT(INT(P_16号2様式!L149),\"#,##0\"),\"\")","v":"8,050"},{"$f":"IF(P_16号2様式!L149= \"\",\"\",IF(VALUE(FIXED(P_16号2様式!L149,0,TRUE))<>P_16号2様式!L149,RIGHT(FIXED(P_16号2様式!L149,3,FALSE),4),\"\"))","v":""},{"$f":"IF(P_16号2様式!M149=\"\",\"\",P_16号2様式!M149)","v":1.6645962732919299},null,{"$f":"IF(P_16号2様式!N149=\"\",\"\",P_16号2様式!N149)","v":"21:33:00"},null,{"$f":"IF(P_16号2様式!O149=\"\",\"\",P_16号2様式!O149)","v":"確定"}]
[{"$f":"IF(P_16号2様式!C150=\"\",\"\",P_16号2様式!C150)","v":"　曽於市"},null,{"$f":"IF(P_16号2様式!D150=\"\",\"\",P_16号2様式!D150)","v":100},{"$f":"IF(P_16号2様式!E150<> \"\",TEXT(INT(P_16号2様式!E150),\"#,##0\"),\"\")","v":"17,722"},{"$f":"IF(P_16号2様式!E150= \"\",\"\",IF(VALUE(FIXED(P_16号2様式!E150,0,TRUE))<>P_16号2様式!E150,RIGHT(FIXED(P_16号2様式!E150,3,FALSE),4),\"\"))","v":""},{"$f":"IF(P_16号2様式!F150<> \"\",TEXT(INT(P_16号2様式!F150),\"#,##0\"),\"\")","v":"0"},{"$f":"IF(P_16号2様式!F150= \"\",\"\",IF(VALUE(FIXED(P_16号2様式!F150,0,TRUE))<>P_16号2様式!F150,RIGHT(FIXED(P_16号2様式!F150,3,FALSE),4),\"\"))","v":""},{"$f":"IF(P_16号2様式!G150<> \"\",TEXT(INT(P_16号2様式!G150),\"#,##0\"),\"\")","v":"0"},{"$f":"IF(P_16号2様式!G150= \"\",\"\",IF(VALUE(FIXED(P_16号2様式!G150,0,TRUE))<>P_16号2様式!G150,RIGHT(FIXED(P_16号2様式!G150,3,FALSE),4),\"\"))","v":""},{"$f":"IF(P_16号2様式!H150<> \"\",TEXT(INT(P_16号2様式!H150),\"#,##0\"),\"\")","v":"17,722"},{"$f":"IF(P_16号2様式!H150= \"\",\"\",IF(VALUE(FIXED(P_16号2様式!H150,0,TRUE))<>P_16号2様式!H150,RIGHT(FIXED(P_16号2様式!H150,3,FALSE),4),\"\"))","v":""},{"$f":"IF(P_16号2様式!I150<> \"\",TEXT(INT(P_16号2様式!I150),\"#,##0\"),\"\")","v":"217"},{"$f":"IF(P_16号2様式!I150= \"\",\"\",IF(VALUE(FIXED(P_16号2様式!I150,0,TRUE))<>P_16号2様式!I150,RIGHT(FIXED(P_16号2様式!I150,3,FALSE),4),\"\"))","v":""},{"$f":"IF(P_16号2様式!J150<> \"\",TEXT(INT(P_16号2様式!J150),\"#,##0\"),\"\")","v":"17,939"},{"$f":"IF(P_16号2様式!J150= \"\",\"\",IF(VALUE(FIXED(P_16号2様式!J150,0,TRUE))<>P_16号2様式!J150,RIGHT(FIXED(P_16号2様式!J150,3,FALSE),4),\"\"))","v":""},{"$f":"IF(P_16号2様式!K150<> \"\",TEXT(INT(P_16号2様式!K150),\"#,##0\"),\"\")","v":"0"},{"$f":"IF(P_16号2様式!K150= \"\",\"\",IF(VALUE(FIXED(P_16号2様式!K150,0,TRUE))<>P_16号2様式!K150,RIGHT(FIXED(P_16号2様式!K150,3,FALSE),4),\"\"))","v":""},{"$f":"IF(P_16号2様式!L150<> \"\",TEXT(INT(P_16号2様式!L150),\"#,##0\"),\"\")","v":"17,939"},{"$f":"IF(P_16号2様式!L150= \"\",\"\",IF(VALUE(FIXED(P_16号2様式!L150,0,TRUE))<>P_16号2様式!L150,RIGHT(FIXED(P_16号2様式!L150,3,FALSE),4),\"\"))","v":""},{"$f":"IF(P_16号2様式!M150=\"\",\"\",P_16号2様式!M150)","v":1.2096549417470299},null,{"$f":"IF(P_16号2様式!N150=\"\",\"\",P_16号2様式!N150)","v":"22:27:00"},null,{"$f":"IF(P_16号2様式!O150=\"\",\"\",P_16号2様式!O150)","v":"確定"}]
[{"$f":"IF(P_16号2様式!C151=\"\",\"\",P_16号2様式!C151)","v":"　霧島市"},null,{"$f":"IF(P_16号2様式!D151=\"\",\"\",P_16号2様式!D151)","v":100},{"$f":"IF(P_16号2様式!E151<> \"\",TEXT(INT(P_16号2様式!E151),\"#,##0\"),\"\")","v":"52,261"},{"$f":"IF(P_16号2様式!E151= \"\",\"\",IF(VALUE(FIXED(P_16号2様式!E151,0,TRUE))<>P_16号2様式!E151,RIGHT(FIXED(P_16号2様式!E151,3,FALSE),4),\"\"))","v":""},{"$f":"IF(P_16号2様式!F151<> \"\",TEXT(INT(P_16号2様式!F151),\"#,##0\"),\"\")","v":"0"},{"$f":"IF(P_16号2様式!F151= \"\",\"\",IF(VALUE(FIXED(P_16号2様式!F151,0,TRUE))<>P_16号2様式!F151,RIGHT(FIXED(P_16号2様式!F151,3,FALSE),4),\"\"))","v":""},{"$f":"IF(P_16号2様式!G151<> \"\",TEXT(INT(P_16号2様式!G151),\"#,##0\"),\"\")","v":"0"},{"$f":"IF(P_16号2様式!G151= \"\",\"\",IF(VALUE(FIXED(P_16号2様式!G151,0,TRUE))<>P_16号2様式!G151,RIGHT(FIXED(P_16号2様式!G151,3,FALSE),4),\"\"))","v":""},{"$f":"IF(P_16号2様式!H151<> \"\",TEXT(INT(P_16号2様式!H151),\"#,##0\"),\"\")","v":"52,261"},{"$f":"IF(P_16号2様式!H151= \"\",\"\",IF(VALUE(FIXED(P_16号2様式!H151,0,TRUE))<>P_16号2様式!H151,RIGHT(FIXED(P_16号2様式!H151,3,FALSE),4),\"\"))","v":""},{"$f":"IF(P_16号2様式!I151<> \"\",TEXT(INT(P_16号2様式!I151),\"#,##0\"),\"\")","v":"1,517"},{"$f":"IF(P_16号2様式!I151= \"\",\"\",IF(VALUE(FIXED(P_16号2様式!I151,0,TRUE))<>P_16号2様式!I151,RIGHT(FIXED(P_16号2様式!I151,3,FALSE),4),\"\"))","v":""},{"$f":"IF(P_16号2様式!J151<> \"\",TEXT(INT(P_16号2様式!J151),\"#,##0\"),\"\")","v":"53,778"},{"$f":"IF(P_16号2様式!J151= \"\",\"\",IF(VALUE(FIXED(P_16号2様式!J151,0,TRUE))<>P_16号2様式!J151,RIGHT(FIXED(P_16号2様式!J151,3,FALSE),4),\"\"))","v":""},{"$f":"IF(P_16号2様式!K151<> \"\",TEXT(INT(P_16号2様式!K151),\"#,##0\"),\"\")","v":"19"},{"$f":"IF(P_16号2様式!K151= \"\",\"\",IF(VALUE(FIXED(P_16号2様式!K151,0,TRUE))<>P_16号2様式!K151,RIGHT(FIXED(P_16号2様式!K151,3,FALSE),4),\"\"))","v":""},{"$f":"IF(P_16号2様式!L151<> \"\",TEXT(INT(P_16号2様式!L151),\"#,##0\"),\"\")","v":"53,797"},{"$f":"IF(P_16号2様式!L151= \"\",\"\",IF(VALUE(FIXED(P_16号2様式!L151,0,TRUE))<>P_16号2様式!L151,RIGHT(FIXED(P_16号2様式!L151,3,FALSE),4),\"\"))","v":""},{"$f":"IF(P_16号2様式!M151=\"\",\"\",P_16号2様式!M151)","v":2.8208561121648299},null,{"$f":"IF(P_16号2様式!N151=\"\",\"\",P_16号2様式!N151)","v":"23:32:00"},null,{"$f":"IF(P_16号2様式!O151=\"\",\"\",P_16号2様式!O151)","v":"確定"}]
[{"$f":"IF(P_16号2様式!C152=\"\",\"\",P_16号2様式!C152)","v":"　志布志市"},null,{"$f":"IF(P_16号2様式!D152=\"\",\"\",P_16号2様式!D152)","v":100},{"$f":"IF(P_16号2様式!E152<> \"\",TEXT(INT(P_16号2様式!E152),\"#,##0\"),\"\")","v":"14,568"},{"$f":"IF(P_16号2様式!E152= \"\",\"\",IF(VALUE(FIXED(P_16号2様式!E152,0,TRUE))<>P_16号2様式!E152,RIGHT(FIXED(P_16号2様式!E152,3,FALSE),4),\"\"))","v":""},{"$f":"IF(P_16号2様式!F152<> \"\",TEXT(INT(P_16号2様式!F152),\"#,##0\"),\"\")","v":"0"},{"$f":"IF(P_16号2様式!F152= \"\",\"\",IF(VALUE(FIXED(P_16号2様式!F152,0,TRUE))<>P_16号2様式!F152,RIGHT(FIXED(P_16号2様式!F152,3,FALSE),4),\"\"))","v":""},{"$f":"IF(P_16号2様式!G152<> \"\",TEXT(INT(P_16号2様式!G152),\"#,##0\"),\"\")","v":"0"},{"$f":"IF(P_16号2様式!G152= \"\",\"\",IF(VALUE(FIXED(P_16号2様式!G152,0,TRUE))<>P_16号2様式!G152,RIGHT(FIXED(P_16号2様式!G152,3,FALSE),4),\"\"))","v":""},{"$f":"IF(P_16号2様式!H152<> \"\",TEXT(INT(P_16号2様式!H152),\"#,##0\"),\"\")","v":"14,568"},{"$f":"IF(P_16号2様式!H152= \"\",\"\",IF(VALUE(FIXED(P_16号2様式!H152,0,TRUE))<>P_16号2様式!H152,RIGHT(FIXED(P_16号2様式!H152,3,FALSE),4),\"\"))","v":""},{"$f":"IF(P_16号2様式!I152<> \"\",TEXT(INT(P_16号2様式!I152),\"#,##0\"),\"\")","v":"336"},{"$f":"IF(P_16号2様式!I152= \"\",\"\",IF(VALUE(FIXED(P_16号2様式!I152,0,TRUE))<>P_16号2様式!I152,RIGHT(FIXED(P_16号2様式!I152,3,FALSE),4),\"\"))","v":""},{"$f":"IF(P_16号2様式!J152<> \"\",TEXT(INT(P_16号2様式!J152),\"#,##0\"),\"\")","v":"14,904"},{"$f":"IF(P_16号2様式!J152= \"\",\"\",IF(VALUE(FIXED(P_16号2様式!J152,0,TRUE))<>P_16号2様式!J152,RIGHT(FIXED(P_16号2様式!J152,3,FALSE),4),\"\"))","v":""},{"$f":"IF(P_16号2様式!K152<> \"\",TEXT(INT(P_16号2様式!K152),\"#,##0\"),\"\")","v":"0"},{"$f":"IF(P_16号2様式!K152= \"\",\"\",IF(VALUE(FIXED(P_16号2様式!K152,0,TRUE))<>P_16号2様式!K152,RIGHT(FIXED(P_16号2様式!K152,3,FALSE),4),\"\"))","v":""},{"$f":"IF(P_16号2様式!L152<> \"\",TEXT(INT(P_16号2様式!L152),\"#,##0\"),\"\")","v":"14,904"},{"$f":"IF(P_16号2様式!L152= \"\",\"\",IF(VALUE(FIXED(P_16号2様式!L152,0,TRUE))<>P_16号2様式!L152,RIGHT(FIXED(P_16号2様式!L152,3,FALSE),4),\"\"))","v":""},{"$f":"IF(P_16号2様式!M152=\"\",\"\",P_16号2様式!M152)","v":2.2544283413848598},null,{"$f":"IF(P_16号2様式!N152=\"\",\"\",P_16号2様式!N152)","v":"22:40:00"},null,{"$f":"IF(P_16号2様式!O152=\"\",\"\",P_16号2様式!O152)","v":"確定"}]
[{"$f":"IF(P_16号2様式!C153=\"\",\"\",P_16号2様式!C153)","v":"＊市　部    計"},null,{"$f":"IF(P_16号2様式!D153=\"\",\"\",P_16号2様式!D153)","v":100},{"$f":"IF(P_16号2様式!E153<> \"\",TEXT(INT(P_16号2様式!E153),\"#,##0\"),\"\")","v":"141,787"},{"$f":"IF(P_16号2様式!E153= \"\",\"\",IF(VALUE(FIXED(P_16号2様式!E153,0,TRUE))<>P_16号2様式!E153,RIGHT(FIXED(P_16号2様式!E153,3,FALSE),4),\"\"))","v":""},{"$f":"IF(P_16号2様式!F153<> \"\",TEXT(INT(P_16号2様式!F153),\"#,##0\"),\"\")","v":"0"},{"$f":"IF(P_16号2様式!F153= \"\",\"\",IF(VALUE(FIXED(P_16号2様式!F153,0,TRUE))<>P_16号2様式!F153,RIGHT(FIXED(P_16号2様式!F153,3,FALSE),4),\"\"))","v":""},{"$f":"IF(P_16号2様式!G153<> \"\",TEXT(INT(P_16号2様式!G153),\"#,##0\"),\"\")","v":"0"},{"$f":"IF(P_16号2様式!G153= \"\",\"\",IF(VALUE(FIXED(P_16号2様式!G153,0,TRUE))<>P_16号2様式!G153,RIGHT(FIXED(P_16号2様式!G153,3,FALSE),4),\"\"))","v":""},{"$f":"IF(P_16号2様式!H153<> \"\",TEXT(INT(P_16号2様式!H153),\"#,##0\"),\"\")","v":"141,787"},{"$f":"IF(P_16号2様式!H153= \"\",\"\",IF(VALUE(FIXED(P_16号2様式!H153,0,TRUE))<>P_16号2様式!H153,RIGHT(FIXED(P_16号2様式!H153,3,FALSE),4),\"\"))","v":""},{"$f":"IF(P_16号2様式!I153<> \"\",TEXT(INT(P_16号2様式!I153),\"#,##0\"),\"\")","v":"3,428"},{"$f":"IF(P_16号2様式!I153= \"\",\"\",IF(VALUE(FIXED(P_16号2様式!I153,0,TRUE))<>P_16号2様式!I153,RIGHT(FIXED(P_16号2様式!I153,3,FALSE),4),\"\"))","v":""},{"$f":"IF(P_16号2様式!J153<> \"\",TEXT(INT(P_16号2様式!J153),\"#,##0\"),\"\")","v":"145,215"},{"$f":"IF(P_16号2様式!J153= \"\",\"\",IF(VALUE(FIXED(P_16号2様式!J153,0,TRUE))<>P_16号2様式!J153,RIGHT(FIXED(P_16号2様式!J153,3,FALSE),4),\"\"))","v":""},{"$f":"IF(P_16号2様式!K153<> \"\",TEXT(INT(P_16号2様式!K153),\"#,##0\"),\"\")","v":"21"},{"$f":"IF(P_16号2様式!K153= \"\",\"\",IF(VALUE(FIXED(P_16号2様式!K153,0,TRUE))<>P_16号2様式!K153,RIGHT(FIXED(P_16号2様式!K153,3,FALSE),4),\"\"))","v":""},{"$f":"IF(P_16号2様式!L153<> \"\",TEXT(INT(P_16号2様式!L153),\"#,##0\"),\"\")","v":"145,236"},{"$f":"IF(P_16号2様式!L153= \"\",\"\",IF(VALUE(FIXED(P_16号2様式!L153,0,TRUE))<>P_16号2様式!L153,RIGHT(FIXED(P_16号2様式!L153,3,FALSE),4),\"\"))","v":""},{"$f":"IF(P_16号2様式!M153=\"\",\"\",P_16号2様式!M153)","v":2.3606376751712999},null,{"$f":"IF(P_16号2様式!N153=\"\",\"\",P_16号2様式!N153)","v":"00:33:00"},null,{"$f":"IF(P_16号2様式!O153=\"\",\"\",P_16号2様式!O153)","v":"確定"}]
[{"$f":"IF(P_16号2様式!C154=\"\",\"\",P_16号2様式!C154)","v":"　大崎町"},null,{"$f":"IF(P_16号2様式!D154=\"\",\"\",P_16号2様式!D154)","v":100},{"$f":"IF(P_16号2様式!E154<> \"\",TEXT(INT(P_16号2様式!E154),\"#,##0\"),\"\")","v":"6,433"},{"$f":"IF(P_16号2様式!E154= \"\",\"\",IF(VALUE(FIXED(P_16号2様式!E154,0,TRUE))<>P_16号2様式!E154,RIGHT(FIXED(P_16号2様式!E154,3,FALSE),4),\"\"))","v":""},{"$f":"IF(P_16号2様式!F154<> \"\",TEXT(INT(P_16号2様式!F154),\"#,##0\"),\"\")","v":"0"},{"$f":"IF(P_16号2様式!F154= \"\",\"\",IF(VALUE(FIXED(P_16号2様式!F154,0,TRUE))<>P_16号2様式!F154,RIGHT(FIXED(P_16号2様式!F154,3,FALSE),4),\"\"))","v":""},{"$f":"IF(P_16号2様式!G154<> \"\",TEXT(INT(P_16号2様式!G154),\"#,##0\"),\"\")","v":"0"},{"$f":"IF(P_16号2様式!G154= \"\",\"\",IF(VALUE(FIXED(P_16号2様式!G154,0,TRUE))<>P_16号2様式!G154,RIGHT(FIXED(P_16号2様式!G154,3,FALSE),4),\"\"))","v":""},{"$f":"IF(P_16号2様式!H154<> \"\",TEXT(INT(P_16号2様式!H154),\"#,##0\"),\"\")","v":"6,433"},{"$f":"IF(P_16号2様式!H154= \"\",\"\",IF(VALUE(FIXED(P_16号2様式!H154,0,TRUE))<>P_16号2様式!H154,RIGHT(FIXED(P_16号2様式!H154,3,FALSE),4),\"\"))","v":""},{"$f":"IF(P_16号2様式!I154<> \"\",TEXT(INT(P_16号2様式!I154),\"#,##0\"),\"\")","v":"106"},{"$f":"IF(P_16号2様式!I154= \"\",\"\",IF(VALUE(FIXED(P_16号2様式!I154,0,TRUE))<>P_16号2様式!I154,RIGHT(FIXED(P_16号2様式!I154,3,FALSE),4),\"\"))","v":""},{"$f":"IF(P_16号2様式!J154<> \"\",TEXT(INT(P_16号2様式!J154),\"#,##0\"),\"\")","v":"6,539"},{"$f":"IF(P_16号2様式!J154= \"\",\"\",IF(VALUE(FIXED(P_16号2様式!J154,0,TRUE))<>P_16号2様式!J154,RIGHT(FIXED(P_16号2様式!J154,3,FALSE),4),\"\"))","v":""},{"$f":"IF(P_16号2様式!K154<> \"\",TEXT(INT(P_16号2様式!K154),\"#,##0\"),\"\")","v":"0"},{"$f":"IF(P_16号2様式!K154= \"\",\"\",IF(VALUE(FIXED(P_16号2様式!K154,0,TRUE))<>P_16号2様式!K154,RIGHT(FIXED(P_16号2様式!K154,3,FALSE),4),\"\"))","v":""},{"$f":"IF(P_16号2様式!L154<> \"\",TEXT(INT(P_16号2様式!L154),\"#,##0\"),\"\")","v":"6,539"},{"$f":"IF(P_16号2様式!L154= \"\",\"\",IF(VALUE(FIXED(P_16号2様式!L154,0,TRUE))<>P_16号2様式!L154,RIGHT(FIXED(P_16号2様式!L154,3,FALSE),4),\"\"))","v":""},{"$f":"IF(P_16号2様式!M154=\"\",\"\",P_16号2様式!M154)","v":1.62104297293164},null,{"$f":"IF(P_16号2様式!N154=\"\",\"\",P_16号2様式!N154)","v":"22:02:00"},null,{"$f":"IF(P_16号2様式!O154=\"\",\"\",P_16号2様式!O154)","v":"確定"}]
[{"$f":"IF(P_16号2様式!C155=\"\",\"\",P_16号2様式!C155)","v":"＊（曽於郡）計"},null,{"$f":"IF(P_16号2様式!D155=\"\",\"\",P_16号2様式!D155)","v":100},{"$f":"IF(P_16号2様式!E155<> \"\",TEXT(INT(P_16号2様式!E155),\"#,##0\"),\"\")","v":"6,433"},{"$f":"IF(P_16号2様式!E155= \"\",\"\",IF(VALUE(FIXED(P_16号2様式!E155,0,TRUE))<>P_16号2様式!E155,RIGHT(FIXED(P_16号2様式!E155,3,FALSE),4),\"\"))","v":""},{"$f":"IF(P_16号2様式!F155<> \"\",TEXT(INT(P_16号2様式!F155),\"#,##0\"),\"\")","v":"0"},{"$f":"IF(P_16号2様式!F155= \"\",\"\",IF(VALUE(FIXED(P_16号2様式!F155,0,TRUE))<>P_16号2様式!F155,RIGHT(FIXED(P_16号2様式!F155,3,FALSE),4),\"\"))","v":""},{"$f":"IF(P_16号2様式!G155<> \"\",TEXT(INT(P_16号2様式!G155),\"#,##0\"),\"\")","v":"0"},{"$f":"IF(P_16号2様式!G155= \"\",\"\",IF(VALUE(FIXED(P_16号2様式!G155,0,TRUE))<>P_16号2様式!G155,RIGHT(FIXED(P_16号2様式!G155,3,FALSE),4),\"\"))","v":""},{"$f":"IF(P_16号2様式!H155<> \"\",TEXT(INT(P_16号2様式!H155),\"#,##0\"),\"\")","v":"6,433"},{"$f":"IF(P_16号2様式!H155= \"\",\"\",IF(VALUE(FIXED(P_16号2様式!H155,0,TRUE))<>P_16号2様式!H155,RIGHT(FIXED(P_16号2様式!H155,3,FALSE),4),\"\"))","v":""},{"$f":"IF(P_16号2様式!I155<> \"\",TEXT(INT(P_16号2様式!I155),\"#,##0\"),\"\")","v":"106"},{"$f":"IF(P_16号2様式!I155= \"\",\"\",IF(VALUE(FIXED(P_16号2様式!I155,0,TRUE))<>P_16号2様式!I155,RIGHT(FIXED(P_16号2様式!I155,3,FALSE),4),\"\"))","v":""},{"$f":"IF(P_16号2様式!J155<> \"\",TEXT(INT(P_16号2様式!J155),\"#,##0\"),\"\")","v":"6,539"},{"$f":"IF(P_16号2様式!J155= \"\",\"\",IF(VALUE(FIXED(P_16号2様式!J155,0,TRUE))<>P_16号2様式!J155,RIGHT(FIXED(P_16号2様式!J155,3,FALSE),4),\"\"))","v":""},{"$f":"IF(P_16号2様式!K155<> \"\",TEXT(INT(P_16号2様式!K155),\"#,##0\"),\"\")","v":"0"},{"$f":"IF(P_16号2様式!K155= \"\",\"\",IF(VALUE(FIXED(P_16号2様式!K155,0,TRUE))<>P_16号2様式!K155,RIGHT(FIXED(P_16号2様式!K155,3,FALSE),4),\"\"))","v":""},{"$f":"IF(P_16号2様式!L155<> \"\",TEXT(INT(P_16号2様式!L155),\"#,##0\"),\"\")","v":"6,539"},{"$f":"IF(P_16号2様式!L155= \"\",\"\",IF(VALUE(FIXED(P_16号2様式!L155,0,TRUE))<>P_16号2様式!L155,RIGHT(FIXED(P_16号2様式!L155,3,FALSE),4),\"\"))","v":""},{"$f":"IF(P_16号2様式!M155=\"\",\"\",P_16号2様式!M155)","v":1.62104297293164},null,{"$f":"IF(P_16号2様式!N155=\"\",\"\",P_16号2様式!N155)","v":"22:02:00"},null,{"$f":"IF(P_16号2様式!O155=\"\",\"\",P_16号2様式!O155)","v":"確定"}]
[{"$f":"IF(P_16号2様式!C156=\"\",\"\",P_16号2様式!C156)","v":"　東串良町"},null,{"$f":"IF(P_16号2様式!D156=\"\",\"\",P_16号2様式!D156)","v":100},{"$f":"IF(P_16号2様式!E156<> \"\",TEXT(INT(P_16号2様式!E156),\"#,##0\"),\"\")","v":"3,114"},{"$f":"IF(P_16号2様式!E156= \"\",\"\",IF(VALUE(FIXED(P_16号2様式!E156,0,TRUE))<>P_16号2様式!E156,RIGHT(FIXED(P_16号2様式!E156,3,FALSE),4),\"\"))","v":""},{"$f":"IF(P_16号2様式!F156<> \"\",TEXT(INT(P_16号2様式!F156),\"#,##0\"),\"\")","v":"0"},{"$f":"IF(P_16号2様式!F156= \"\",\"\",IF(VALUE(FIXED(P_16号2様式!F156,0,TRUE))<>P_16号2様式!F156,RIGHT(FIXED(P_16号2様式!F156,3,FALSE),4),\"\"))","v":""},{"$f":"IF(P_16号2様式!G156<> \"\",TEXT(INT(P_16号2様式!G156),\"#,##0\"),\"\")","v":"0"},{"$f":"IF(P_16号2様式!G156= \"\",\"\",IF(VALUE(FIXED(P_16号2様式!G156,0,TRUE))<>P_16号2様式!G156,RIGHT(FIXED(P_16号2様式!G156,3,FALSE),4),\"\"))","v":""},{"$f":"IF(P_16号2様式!H156<> \"\",TEXT(INT(P_16号2様式!H156),\"#,##0\"),\"\")","v":"3,114"},{"$f":"IF(P_16号2様式!H156= \"\",\"\",IF(VALUE(FIXED(P_16号2様式!H156,0,TRUE))<>P_16号2様式!H156,RIGHT(FIXED(P_16号2様式!H156,3,FALSE),4),\"\"))","v":""},{"$f":"IF(P_16号2様式!I156<> \"\",TEXT(INT(P_16号2様式!I156),\"#,##0\"),\"\")","v":"54"},{"$f":"IF(P_16号2様式!I156= \"\",\"\",IF(VALUE(FIXED(P_16号2様式!I156,0,TRUE))<>P_16号2様式!I156,RIGHT(FIXED(P_16号2様式!I156,3,FALSE),4),\"\"))","v":""},{"$f":"IF(P_16号2様式!J156<> \"\",TEXT(INT(P_16号2様式!J156),\"#,##0\"),\"\")","v":"3,168"},{"$f":"IF(P_16号2様式!J156= \"\",\"\",IF(VALUE(FIXED(P_16号2様式!J156,0,TRUE))<>P_16号2様式!J156,RIGHT(FIXED(P_16号2様式!J156,3,FALSE),4),\"\"))","v":""},{"$f":"IF(P_16号2様式!K156<> \"\",TEXT(INT(P_16号2様式!K156),\"#,##0\"),\"\")","v":"0"},{"$f":"IF(P_16号2様式!K156= \"\",\"\",IF(VALUE(FIXED(P_16号2様式!K156,0,TRUE))<>P_16号2様式!K156,RIGHT(FIXED(P_16号2様式!K156,3,FALSE),4),\"\"))","v":""},{"$f":"IF(P_16号2様式!L156<> \"\",TEXT(INT(P_16号2様式!L156),\"#,##0\"),\"\")","v":"3,168"},{"$f":"IF(P_16号2様式!L156= \"\",\"\",IF(VALUE(FIXED(P_16号2様式!L156,0,TRUE))<>P_16号2様式!L156,RIGHT(FIXED(P_16号2様式!L156,3,FALSE),4),\"\"))","v":""},{"$f":"IF(P_16号2様式!M156=\"\",\"\",P_16号2様式!M156)","v":1.7045454545454499},null,{"$f":"IF(P_16号2様式!N156=\"\",\"\",P_16号2様式!N156)","v":"21:10:00"},null,{"$f":"IF(P_16号2様式!O156=\"\",\"\",P_16号2様式!O156)","v":"確定"}]
[{"$f":"IF(P_16号2様式!C157=\"\",\"\",P_16号2様式!C157)","v":"　錦江町"},null,{"$f":"IF(P_16号2様式!D157=\"\",\"\",P_16号2様式!D157)","v":100},{"$f":"IF(P_16号2様式!E157<> \"\",TEXT(INT(P_16号2様式!E157),\"#,##0\"),\"\")","v":"4,266"},{"$f":"IF(P_16号2様式!E157= \"\",\"\",IF(VALUE(FIXED(P_16号2様式!E157,0,TRUE))<>P_16号2様式!E157,RIGHT(FIXED(P_16号2様式!E157,3,FALSE),4),\"\"))","v":""},{"$f":"IF(P_16号2様式!F157<> \"\",TEXT(INT(P_16号2様式!F157),\"#,##0\"),\"\")","v":"0"},{"$f":"IF(P_16号2様式!F157= \"\",\"\",IF(VALUE(FIXED(P_16号2様式!F157,0,TRUE))<>P_16号2様式!F157,RIGHT(FIXED(P_16号2様式!F157,3,FALSE),4),\"\"))","v":""},{"$f":"IF(P_16号2様式!G157<> \"\",TEXT(INT(P_16号2様式!G157),\"#,##0\"),\"\")","v":"0"},{"$f":"IF(P_16号2様式!G157= \"\",\"\",IF(VALUE(FIXED(P_16号2様式!G157,0,TRUE))<>P_16号2様式!G157,RIGHT(FIXED(P_16号2様式!G157,3,FALSE),4),\"\"))","v":""},{"$f":"IF(P_16号2様式!H157<> \"\",TEXT(INT(P_16号2様式!H157),\"#,##0\"),\"\")","v":"4,266"},{"$f":"IF(P_16号2様式!H157= \"\",\"\",IF(VALUE(FIXED(P_16号2様式!H157,0,TRUE))<>P_16号2様式!H157,RIGHT(FIXED(P_16号2様式!H157,3,FALSE),4),\"\"))","v":""},{"$f":"IF(P_16号2様式!I157<> \"\",TEXT(INT(P_16号2様式!I157),\"#,##0\"),\"\")","v":"83"},{"$f":"IF(P_16号2様式!I157= \"\",\"\",IF(VALUE(FIXED(P_16号2様式!I157,0,TRUE))<>P_16号2様式!I157,RIGHT(FIXED(P_16号2様式!I157,3,FALSE),4),\"\"))","v":""},{"$f":"IF(P_16号2様式!J157<> \"\",TEXT(INT(P_16号2様式!J157),\"#,##0\"),\"\")","v":"4,349"},{"$f":"IF(P_16号2様式!J157= \"\",\"\",IF(VALUE(FIXED(P_16号2様式!J157,0,TRUE))<>P_16号2様式!J157,RIGHT(FIXED(P_16号2様式!J157,3,FALSE),4),\"\"))","v":""},{"$f":"IF(P_16号2様式!K157<> \"\",TEXT(INT(P_16号2様式!K157),\"#,##0\"),\"\")","v":"0"},{"$f":"IF(P_16号2様式!K157= \"\",\"\",IF(VALUE(FIXED(P_16号2様式!K157,0,TRUE))<>P_16号2様式!K157,RIGHT(FIXED(P_16号2様式!K157,3,FALSE),4),\"\"))","v":""},{"$f":"IF(P_16号2様式!L157<> \"\",TEXT(INT(P_16号2様式!L157),\"#,##0\"),\"\")","v":"4,349"},{"$f":"IF(P_16号2様式!L157= \"\",\"\",IF(VALUE(FIXED(P_16号2様式!L157,0,TRUE))<>P_16号2様式!L157,RIGHT(FIXED(P_16号2様式!L157,3,FALSE),4),\"\"))","v":""},{"$f":"IF(P_16号2様式!M157=\"\",\"\",P_16号2様式!M157)","v":1.90848470912854},null,{"$f":"IF(P_16号2様式!N157=\"\",\"\",P_16号2様式!N157)","v":"21:05:00"},null,{"$f":"IF(P_16号2様式!O157=\"\",\"\",P_16号2様式!O157)","v":"確定"}]
[{"$f":"IF(P_16号2様式!C158=\"\",\"\",P_16号2様式!C158)","v":"　南大隅町"},null,{"$f":"IF(P_16号2様式!D158=\"\",\"\",P_16号2様式!D158)","v":100},{"$f":"IF(P_16号2様式!E158<> \"\",TEXT(INT(P_16号2様式!E158),\"#,##0\"),\"\")","v":"4,332"},{"$f":"IF(P_16号2様式!E158= \"\",\"\",IF(VALUE(FIXED(P_16号2様式!E158,0,TRUE))<>P_16号2様式!E158,RIGHT(FIXED(P_16号2様式!E158,3,FALSE),4),\"\"))","v":""},{"$f":"IF(P_16号2様式!F158<> \"\",TEXT(INT(P_16号2様式!F158),\"#,##0\"),\"\")","v":"0"},{"$f":"IF(P_16号2様式!F158= \"\",\"\",IF(VALUE(FIXED(P_16号2様式!F158,0,TRUE))<>P_16号2様式!F158,RIGHT(FIXED(P_16号2様式!F158,3,FALSE),4),\"\"))","v":""},{"$f":"IF(P_16号2様式!G158<> \"\",TEXT(INT(P_16号2様式!G158),\"#,##0\"),\"\")","v":"0"},{"$f":"IF(P_16号2様式!G158= \"\",\"\",IF(VALUE(FIXED(P_16号2様式!G158,0,TRUE))<>P_16号2様式!G158,RIGHT(FIXED(P_16号2様式!G158,3,FALSE),4),\"\"))","v":""},{"$f":"IF(P_16号2様式!H158<> \"\",TEXT(INT(P_16号2様式!H158),\"#,##0\"),\"\")","v":"4,332"},{"$f":"IF(P_16号2様式!H158= \"\",\"\",IF(VALUE(FIXED(P_16号2様式!H158,0,TRUE))<>P_16号2様式!H158,RIGHT(FIXED(P_16号2様式!H158,3,FALSE),4),\"\"))","v":""},{"$f":"IF(P_16号2様式!I158<> \"\",TEXT(INT(P_16号2様式!I158),\"#,##0\"),\"\")","v":"101"},{"$f":"IF(P_16号2様式!I158= \"\",\"\",IF(VALUE(FIXED(P_16号2様式!I158,0,TRUE))<>P_16号2様式!I158,RIGHT(FIXED(P_16号2様式!I158,3,FALSE),4),\"\"))","v":""},{"$f":"IF(P_16号2様式!J158<> \"\",TEXT(INT(P_16号2様式!J158),\"#,##0\"),\"\")","v":"4,433"},{"$f":"IF(P_16号2様式!J158= \"\",\"\",IF(VALUE(FIXED(P_16号2様式!J158,0,TRUE))<>P_16号2様式!J158,RIGHT(FIXED(P_16号2様式!J158,3,FALSE),4),\"\"))","v":""},{"$f":"IF(P_16号2様式!K158<> \"\",TEXT(INT(P_16号2様式!K158),\"#,##0\"),\"\")","v":"0"},{"$f":"IF(P_16号2様式!K158= \"\",\"\",IF(VALUE(FIXED(P_16号2様式!K158,0,TRUE))<>P_16号2様式!K158,RIGHT(FIXED(P_16号2様式!K158,3,FALSE),4),\"\"))","v":""},{"$f":"IF(P_16号2様式!L158<> \"\",TEXT(INT(P_16号2様式!L158),\"#,##0\"),\"\")","v":"4,433"},{"$f":"IF(P_16号2様式!L158= \"\",\"\",IF(VALUE(FIXED(P_16号2様式!L158,0,TRUE))<>P_16号2様式!L158,RIGHT(FIXED(P_16号2様式!L158,3,FALSE),4),\"\"))","v":""},{"$f":"IF(P_16号2様式!M158=\"\",\"\",P_16号2様式!M158)","v":2.2783667944958301},null,{"$f":"IF(P_16号2様式!N158=\"\",\"\",P_16号2様式!N158)","v":"21:35:00"},null,{"$f":"IF(P_16号2様式!O158=\"\",\"\",P_16号2様式!O158)","v":"確定"}]
[{"$f":"IF(P_16号2様式!C159=\"\",\"\",P_16号2様式!C159)","v":"　肝付町"},null,{"$f":"IF(P_16号2様式!D159=\"\",\"\",P_16号2様式!D159)","v":100},{"$f":"IF(P_16号2様式!E159<> \"\",TEXT(INT(P_16号2様式!E159),\"#,##0\"),\"\")","v":"7,446"},{"$f":"IF(P_16号2様式!E159= \"\",\"\",IF(VALUE(FIXED(P_16号2様式!E159,0,TRUE))<>P_16号2様式!E159,RIGHT(FIXED(P_16号2様式!E159,3,FALSE),4),\"\"))","v":""},{"$f":"IF(P_16号2様式!F159<> \"\",TEXT(INT(P_16号2様式!F159),\"#,##0\"),\"\")","v":"0"},{"$f":"IF(P_16号2様式!F159= \"\",\"\",IF(VALUE(FIXED(P_16号2様式!F159,0,TRUE))<>P_16号2様式!F159,RIGHT(FIXED(P_16号2様式!F159,3,FALSE),4),\"\"))","v":""},{"$f":"IF(P_16号2様式!G159<> \"\",TEXT(INT(P_16号2様式!G159),\"#,##0\"),\"\")","v":"0"},{"$f":"IF(P_16号2様式!G159= \"\",\"\",IF(VALUE(FIXED(P_16号2様式!G159,0,TRUE))<>P_16号2様式!G159,RIGHT(FIXED(P_16号2様式!G159,3,FALSE),4),\"\"))","v":""},{"$f":"IF(P_16号2様式!H159<> \"\",TEXT(INT(P_16号2様式!H159),\"#,##0\"),\"\")","v":"7,446"},{"$f":"IF(P_16号2様式!H159= \"\",\"\",IF(VALUE(FIXED(P_16号2様式!H159,0,TRUE))<>P_16号2様式!H159,RIGHT(FIXED(P_16号2様式!H159,3,FALSE),4),\"\"))","v":""},{"$f":"IF(P_16号2様式!I159<> \"\",TEXT(INT(P_16号2様式!I159),\"#,##0\"),\"\")","v":"161"},{"$f":"IF(P_16号2様式!I159= \"\",\"\",IF(VALUE(FIXED(P_16号2様式!I159,0,TRUE))<>P_16号2様式!I159,RIGHT(FIXED(P_16号2様式!I159,3,FALSE),4),\"\"))","v":""},{"$f":"IF(P_16号2様式!J159<> \"\",TEXT(INT(P_16号2様式!J159),\"#,##0\"),\"\")","v":"7,607"},{"$f":"IF(P_16号2様式!J159= \"\",\"\",IF(VALUE(FIXED(P_16号2様式!J159,0,TRUE))<>P_16号2様式!J159,RIGHT(FIXED(P_16号2様式!J159,3,FALSE),4),\"\"))","v":""},{"$f":"IF(P_16号2様式!K159<> \"\",TEXT(INT(P_16号2様式!K159),\"#,##0\"),\"\")","v":"0"},{"$f":"IF(P_16号2様式!K159= \"\",\"\",IF(VALUE(FIXED(P_16号2様式!K159,0,TRUE))<>P_16号2様式!K159,RIGHT(FIXED(P_16号2様式!K159,3,FALSE),4),\"\"))","v":""},{"$f":"IF(P_16号2様式!L159<> \"\",TEXT(INT(P_16号2様式!L159),\"#,##0\"),\"\")","v":"7,607"},{"$f":"IF(P_16号2様式!L159= \"\",\"\",IF(VALUE(FIXED(P_16号2様式!L159,0,TRUE))<>P_16号2様式!L159,RIGHT(FIXED(P_16号2様式!L159,3,FALSE),4),\"\"))","v":""},{"$f":"IF(P_16号2様式!M159=\"\",\"\",P_16号2様式!M159)","v":2.1164716708295002},null,{"$f":"IF(P_16号2様式!N159=\"\",\"\",P_16号2様式!N159)","v":"21:21:00"},null,{"$f":"IF(P_16号2様式!O159=\"\",\"\",P_16号2様式!O159)","v":"確定"}]
[{"$f":"IF(P_16号2様式!C160=\"\",\"\",P_16号2様式!C160)","v":"＊（肝属郡）計"},null,{"$f":"IF(P_16号2様式!D160=\"\",\"\",P_16号2様式!D160)","v":100},{"$f":"IF(P_16号2様式!E160<> \"\",TEXT(INT(P_16号2様式!E160),\"#,##0\"),\"\")","v":"19,158"},{"$f":"IF(P_16号2様式!E160= \"\",\"\",IF(VALUE(FIXED(P_16号2様式!E160,0,TRUE))<>P_16号2様式!E160,RIGHT(FIXED(P_16号2様式!E160,3,FALSE),4),\"\"))","v":""},{"$f":"IF(P_16号2様式!F160<> \"\",TEXT(INT(P_16号2様式!F160),\"#,##0\"),\"\")","v":"0"},{"$f":"IF(P_16号2様式!F160= \"\",\"\",IF(VALUE(FIXED(P_16号2様式!F160,0,TRUE))<>P_16号2様式!F160,RIGHT(FIXED(P_16号2様式!F160,3,FALSE),4),\"\"))","v":""},{"$f":"IF(P_16号2様式!G160<> \"\",TEXT(INT(P_16号2様式!G160),\"#,##0\"),\"\")","v":"0"},{"$f":"IF(P_16号2様式!G160= \"\",\"\",IF(VALUE(FIXED(P_16号2様式!G160,0,TRUE))<>P_16号2様式!G160,RIGHT(FIXED(P_16号2様式!G160,3,FALSE),4),\"\"))","v":""},{"$f":"IF(P_16号2様式!H160<> \"\",TEXT(INT(P_16号2様式!H160),\"#,##0\"),\"\")","v":"19,158"},{"$f":"IF(P_16号2様式!H160= \"\",\"\",IF(VALUE(FIXED(P_16号2様式!H160,0,TRUE))<>P_16号2様式!H160,RIGHT(FIXED(P_16号2様式!H160,3,FALSE),4),\"\"))","v":""},{"$f":"IF(P_16号2様式!I160<> \"\",TEXT(INT(P_16号2様式!I160),\"#,##0\"),\"\")","v":"399"},{"$f":"IF(P_16号2様式!I160= \"\",\"\",IF(VALUE(FIXED(P_16号2様式!I160,0,TRUE))<>P_16号2様式!I160,RIGHT(FIXED(P_16号2様式!I160,3,FALSE),4),\"\"))","v":""},{"$f":"IF(P_16号2様式!J160<> \"\",TEXT(INT(P_16号2様式!J160),\"#,##0\"),\"\")","v":"19,557"},{"$f":"IF(P_16号2様式!J160= \"\",\"\",IF(VALUE(FIXED(P_16号2様式!J160,0,TRUE))<>P_16号2様式!J160,RIGHT(FIXED(P_16号2様式!J160,3,FALSE),4),\"\"))","v":""},{"$f":"IF(P_16号2様式!K160<> \"\",TEXT(INT(P_16号2様式!K160),\"#,##0\"),\"\")","v":"0"},{"$f":"IF(P_16号2様式!K160= \"\",\"\",IF(VALUE(FIXED(P_16号2様式!K160,0,TRUE))<>P_16号2様式!K160,RIGHT(FIXED(P_16号2様式!K160,3,FALSE),4),\"\"))","v":""},{"$f":"IF(P_16号2様式!L160<> \"\",TEXT(INT(P_16号2様式!L160),\"#,##0\"),\"\")","v":"19,557"},{"$f":"IF(P_16号2様式!L160= \"\",\"\",IF(VALUE(FIXED(P_16号2様式!L160,0,TRUE))<>P_16号2様式!L160,RIGHT(FIXED(P_16号2様式!L160,3,FALSE),4),\"\"))","v":""},{"$f":"IF(P_16号2様式!M160=\"\",\"\",P_16号2様式!M160)","v":2.04019021322289},null,{"$f":"IF(P_16号2様式!N160=\"\",\"\",P_16号2様式!N160)","v":"21:35:00"},null,{"$f":"IF(P_16号2様式!O160=\"\",\"\",P_16号2様式!O160)","v":"確定"}]
[{"$f":"IF(P_16号2様式!C161=\"\",\"\",P_16号2様式!C161)","v":"　中種子町"},null,{"$f":"IF(P_16号2様式!D161=\"\",\"\",P_16号2様式!D161)","v":100},{"$f":"IF(P_16号2様式!E161<> \"\",TEXT(INT(P_16号2様式!E161),\"#,##0\"),\"\")","v":"4,305"},{"$f":"IF(P_16号2様式!E161= \"\",\"\",IF(VALUE(FIXED(P_16号2様式!E161,0,TRUE))<>P_16号2様式!E161,RIGHT(FIXED(P_16号2様式!E161,3,FALSE),4),\"\"))","v":""},{"$f":"IF(P_16号2様式!F161<> \"\",TEXT(INT(P_16号2様式!F161),\"#,##0\"),\"\")","v":"0"},{"$f":"IF(P_16号2様式!F161= \"\",\"\",IF(VALUE(FIXED(P_16号2様式!F161,0,TRUE))<>P_16号2様式!F161,RIGHT(FIXED(P_16号2様式!F161,3,FALSE),4),\"\"))","v":""},{"$f":"IF(P_16号2様式!G161<> \"\",TEXT(INT(P_16号2様式!G161),\"#,##0\"),\"\")","v":"0"},{"$f":"IF(P_16号2様式!G161= \"\",\"\",IF(VALUE(FIXED(P_16号2様式!G161,0,TRUE))<>P_16号2様式!G161,RIGHT(FIXED(P_16号2様式!G161,3,FALSE),4),\"\"))","v":""},{"$f":"IF(P_16号2様式!H161<> \"\",TEXT(INT(P_16号2様式!H161),\"#,##0\"),\"\")","v":"4,305"},{"$f":"IF(P_16号2様式!H161= \"\",\"\",IF(VALUE(FIXED(P_16号2様式!H161,0,TRUE))<>P_16号2様式!H161,RIGHT(FIXED(P_16号2様式!H161,3,FALSE),4),\"\"))","v":""},{"$f":"IF(P_16号2様式!I161<> \"\",TEXT(INT(P_16号2様式!I161),\"#,##0\"),\"\")","v":"84"},{"$f":"IF(P_16号2様式!I161= \"\",\"\",IF(VALUE(FIXED(P_16号2様式!I161,0,TRUE))<>P_16号2様式!I161,RIGHT(FIXED(P_16号2様式!I161,3,FALSE),4),\"\"))","v":""},{"$f":"IF(P_16号2様式!J161<> \"\",TEXT(INT(P_16号2様式!J161),\"#,##0\"),\"\")","v":"4,389"},{"$f":"IF(P_16号2様式!J161= \"\",\"\",IF(VALUE(FIXED(P_16号2様式!J161,0,TRUE))<>P_16号2様式!J161,RIGHT(FIXED(P_16号2様式!J161,3,FALSE),4),\"\"))","v":""},{"$f":"IF(P_16号2様式!K161<> \"\",TEXT(INT(P_16号2様式!K161),\"#,##0\"),\"\")","v":"0"},{"$f":"IF(P_16号2様式!K161= \"\",\"\",IF(VALUE(FIXED(P_16号2様式!K161,0,TRUE))<>P_16号2様式!K161,RIGHT(FIXED(P_16号2様式!K161,3,FALSE),4),\"\"))","v":""},{"$f":"IF(P_16号2様式!L161<> \"\",TEXT(INT(P_16号2様式!L161),\"#,##0\"),\"\")","v":"4,389"},{"$f":"IF(P_16号2様式!L161= \"\",\"\",IF(VALUE(FIXED(P_16号2様式!L161,0,TRUE))<>P_16号2様式!L161,RIGHT(FIXED(P_16号2様式!L161,3,FALSE),4),\"\"))","v":""},{"$f":"IF(P_16号2様式!M161=\"\",\"\",P_16号2様式!M161)","v":1.91387559808612},null,{"$f":"IF(P_16号2様式!N161=\"\",\"\",P_16号2様式!N161)","v":"21:00:00"},null,{"$f":"IF(P_16号2様式!O161=\"\",\"\",P_16号2様式!O161)","v":"確定"}]
[{"$f":"IF(P_16号2様式!C162=\"\",\"\",P_16号2様式!C162)","v":"　南種子町"},null,{"$f":"IF(P_16号2様式!D162=\"\",\"\",P_16号2様式!D162)","v":100},{"$f":"IF(P_16号2様式!E162<> \"\",TEXT(INT(P_16号2様式!E162),\"#,##0\"),\"\")","v":"3,019"},{"$f":"IF(P_16号2様式!E162= \"\",\"\",IF(VALUE(FIXED(P_16号2様式!E162,0,TRUE))<>P_16号2様式!E162,RIGHT(FIXED(P_16号2様式!E162,3,FALSE),4),\"\"))","v":""},{"$f":"IF(P_16号2様式!F162<> \"\",TEXT(INT(P_16号2様式!F162),\"#,##0\"),\"\")","v":"0"},{"$f":"IF(P_16号2様式!F162= \"\",\"\",IF(VALUE(FIXED(P_16号2様式!F162,0,TRUE))<>P_16号2様式!F162,RIGHT(FIXED(P_16号2様式!F162,3,FALSE),4),\"\"))","v":""},{"$f":"IF(P_16号2様式!G162<> \"\",TEXT(INT(P_16号2様式!G162),\"#,##0\"),\"\")","v":"0"},{"$f":"IF(P_16号2様式!G162= \"\",\"\",IF(VALUE(FIXED(P_16号2様式!G162,0,TRUE))<>P_16号2様式!G162,RIGHT(FIXED(P_16号2様式!G162,3,FALSE),4),\"\"))","v":""},{"$f":"IF(P_16号2様式!H162<> \"\",TEXT(INT(P_16号2様式!H162),\"#,##0\"),\"\")","v":"3,019"},{"$f":"IF(P_16号2様式!H162= \"\",\"\",IF(VALUE(FIXED(P_16号2様式!H162,0,TRUE))<>P_16号2様式!H162,RIGHT(FIXED(P_16号2様式!H162,3,FALSE),4),\"\"))","v":""},{"$f":"IF(P_16号2様式!I162<> \"\",TEXT(INT(P_16号2様式!I162),\"#,##0\"),\"\")","v":"55"},{"$f":"IF(P_16号2様式!I162= \"\",\"\",IF(VALUE(FIXED(P_16号2様式!I162,0,TRUE))<>P_16号2様式!I162,RIGHT(FIXED(P_16号2様式!I162,3,FALSE),4),\"\"))","v":""},{"$f":"IF(P_16号2様式!J162<> \"\",TEXT(INT(P_16号2様式!J162),\"#,##0\"),\"\")","v":"3,074"},{"$f":"IF(P_16号2様式!J162= \"\",\"\",IF(VALUE(FIXED(P_16号2様式!J162,0,TRUE))<>P_16号2様式!J162,RIGHT(FIXED(P_16号2様式!J162,3,FALSE),4),\"\"))","v":""},{"$f":"IF(P_16号2様式!K162<> \"\",TEXT(INT(P_16号2様式!K162),\"#,##0\"),\"\")","v":"0"},{"$f":"IF(P_16号2様式!K162= \"\",\"\",IF(VALUE(FIXED(P_16号2様式!K162,0,TRUE))<>P_16号2様式!K162,RIGHT(FIXED(P_16号2様式!K162,3,FALSE),4),\"\"))","v":""},{"$f":"IF(P_16号2様式!L162<> \"\",TEXT(INT(P_16号2様式!L162),\"#,##0\"),\"\")","v":"3,074"},{"$f":"IF(P_16号2様式!L162= \"\",\"\",IF(VALUE(FIXED(P_16号2様式!L162,0,TRUE))<>P_16号2様式!L162,RIGHT(FIXED(P_16号2様式!L162,3,FALSE),4),\"\"))","v":""},{"$f":"IF(P_16号2様式!M162=\"\",\"\",P_16号2様式!M162)","v":1.7891997397527699},null,{"$f":"IF(P_16号2様式!N162=\"\",\"\",P_16号2様式!N162)","v":"21:12:00"},null,{"$f":"IF(P_16号2様式!O162=\"\",\"\",P_16号2様式!O162)","v":"確定"}]
[{"$f":"IF(P_16号2様式!C163=\"\",\"\",P_16号2様式!C163)","v":"　屋久島町"},null,{"$f":"IF(P_16号2様式!D163=\"\",\"\",P_16号2様式!D163)","v":100},{"$f":"IF(P_16号2様式!E163<> \"\",TEXT(INT(P_16号2様式!E163),\"#,##0\"),\"\")","v":"6,301"},{"$f":"IF(P_16号2様式!E163= \"\",\"\",IF(VALUE(FIXED(P_16号2様式!E163,0,TRUE))<>P_16号2様式!E163,RIGHT(FIXED(P_16号2様式!E163,3,FALSE),4),\"\"))","v":""},{"$f":"IF(P_16号2様式!F163<> \"\",TEXT(INT(P_16号2様式!F163),\"#,##0\"),\"\")","v":"0"},{"$f":"IF(P_16号2様式!F163= \"\",\"\",IF(VALUE(FIXED(P_16号2様式!F163,0,TRUE))<>P_16号2様式!F163,RIGHT(FIXED(P_16号2様式!F163,3,FALSE),4),\"\"))","v":""},{"$f":"IF(P_16号2様式!G163<> \"\",TEXT(INT(P_16号2様式!G163),\"#,##0\"),\"\")","v":"0"},{"$f":"IF(P_16号2様式!G163= \"\",\"\",IF(VALUE(FIXED(P_16号2様式!G163,0,TRUE))<>P_16号2様式!G163,RIGHT(FIXED(P_16号2様式!G163,3,FALSE),4),\"\"))","v":""},{"$f":"IF(P_16号2様式!H163<> \"\",TEXT(INT(P_16号2様式!H163),\"#,##0\"),\"\")","v":"6,301"},{"$f":"IF(P_16号2様式!H163= \"\",\"\",IF(VALUE(FIXED(P_16号2様式!H163,0,TRUE))<>P_16号2様式!H163,RIGHT(FIXED(P_16号2様式!H163,3,FALSE),4),\"\"))","v":""},{"$f":"IF(P_16号2様式!I163<> \"\",TEXT(INT(P_16号2様式!I163),\"#,##0\"),\"\")","v":"173"},{"$f":"IF(P_16号2様式!I163= \"\",\"\",IF(VALUE(FIXED(P_16号2様式!I163,0,TRUE))<>P_16号2様式!I163,RIGHT(FIXED(P_16号2様式!I163,3,FALSE),4),\"\"))","v":""},{"$f":"IF(P_16号2様式!J163<> \"\",TEXT(INT(P_16号2様式!J163),\"#,##0\"),\"\")","v":"6,474"},{"$f":"IF(P_16号2様式!J163= \"\",\"\",IF(VALUE(FIXED(P_16号2様式!J163,0,TRUE))<>P_16号2様式!J163,RIGHT(FIXED(P_16号2様式!J163,3,FALSE),4),\"\"))","v":""},{"$f":"IF(P_16号2様式!K163<> \"\",TEXT(INT(P_16号2様式!K163),\"#,##0\"),\"\")","v":"0"},{"$f":"IF(P_16号2様式!K163= \"\",\"\",IF(VALUE(FIXED(P_16号2様式!K163,0,TRUE))<>P_16号2様式!K163,RIGHT(FIXED(P_16号2様式!K163,3,FALSE),4),\"\"))","v":""},{"$f":"IF(P_16号2様式!L163<> \"\",TEXT(INT(P_16号2様式!L163),\"#,##0\"),\"\")","v":"6,474"},{"$f":"IF(P_16号2様式!L163= \"\",\"\",IF(VALUE(FIXED(P_16号2様式!L163,0,TRUE))<>P_16号2様式!L163,RIGHT(FIXED(P_16号2様式!L163,3,FALSE),4),\"\"))","v":""},{"$f":"IF(P_16号2様式!M163=\"\",\"\",P_16号2様式!M163)","v":2.6722273710225499},null,{"$f":"IF(P_16号2様式!N163=\"\",\"\",P_16号2様式!N163)","v":"21:13:00"},null,{"$f":"IF(P_16号2様式!O163=\"\",\"\",P_16号2様式!O163)","v":"確定"}]
[{"$f":"IF(P_16号2様式!C164=\"\",\"\",P_16号2様式!C164)","v":"＊（熊毛郡）計"},null,{"$f":"IF(P_16号2様式!D164=\"\",\"\",P_16号2様式!D164)","v":100},{"$f":"IF(P_16号2様式!E164<> \"\",TEXT(INT(P_16号2様式!E164),\"#,##0\"),\"\")","v":"13,625"},{"$f":"IF(P_16号2様式!E164= \"\",\"\",IF(VALUE(FIXED(P_16号2様式!E164,0,TRUE))<>P_16号2様式!E164,RIGHT(FIXED(P_16号2様式!E164,3,FALSE),4),\"\"))","v":""},{"$f":"IF(P_16号2様式!F164<> \"\",TEXT(INT(P_16号2様式!F164),\"#,##0\"),\"\")","v":"0"},{"$f":"IF(P_16号2様式!F164= \"\",\"\",IF(VALUE(FIXED(P_16号2様式!F164,0,TRUE))<>P_16号2様式!F164,RIGHT(FIXED(P_16号2様式!F164,3,FALSE),4),\"\"))","v":""},{"$f":"IF(P_16号2様式!G164<> \"\",TEXT(INT(P_16号2様式!G164),\"#,##0\"),\"\")","v":"0"},{"$f":"IF(P_16号2様式!G164= \"\",\"\",IF(VALUE(FIXED(P_16号2様式!G164,0,TRUE))<>P_16号2様式!G164,RIGHT(FIXED(P_16号2様式!G164,3,FALSE),4),\"\"))","v":""},{"$f":"IF(P_16号2様式!H164<> \"\",TEXT(INT(P_16号2様式!H164),\"#,##0\"),\"\")","v":"13,625"},{"$f":"IF(P_16号2様式!H164= \"\",\"\",IF(VALUE(FIXED(P_16号2様式!H164,0,TRUE))<>P_16号2様式!H164,RIGHT(FIXED(P_16号2様式!H164,3,FALSE),4),\"\"))","v":""},{"$f":"IF(P_16号2様式!I164<> \"\",TEXT(INT(P_16号2様式!I164),\"#,##0\"),\"\")","v":"312"},{"$f":"IF(P_16号2様式!I164= \"\",\"\",IF(VALUE(FIXED(P_16号2様式!I164,0,TRUE))<>P_16号2様式!I164,RIGHT(FIXED(P_16号2様式!I164,3,FALSE),4),\"\"))","v":""},{"$f":"IF(P_16号2様式!J164<> \"\",TEXT(INT(P_16号2様式!J164),\"#,##0\"),\"\")","v":"13,937"},{"$f":"IF(P_16号2様式!J164= \"\",\"\",IF(VALUE(FIXED(P_16号2様式!J164,0,TRUE))<>P_16号2様式!J164,RIGHT(FIXED(P_16号2様式!J164,3,FALSE),4),\"\"))","v":""},{"$f":"IF(P_16号2様式!K164<> \"\",TEXT(INT(P_16号2様式!K164),\"#,##0\"),\"\")","v":"0"},{"$f":"IF(P_16号2様式!K164= \"\",\"\",IF(VALUE(FIXED(P_16号2様式!K164,0,TRUE))<>P_16号2様式!K164,RIGHT(FIXED(P_16号2様式!K164,3,FALSE),4),\"\"))","v":""},{"$f":"IF(P_16号2様式!L164<> \"\",TEXT(INT(P_16号2様式!L164),\"#,##0\"),\"\")","v":"13,937"},{"$f":"IF(P_16号2様式!L164= \"\",\"\",IF(VALUE(FIXED(P_16号2様式!L164,0,TRUE))<>P_16号2様式!L164,RIGHT(FIXED(P_16号2様式!L164,3,FALSE),4),\"\"))","v":""},{"$f":"IF(P_16号2様式!M164=\"\",\"\",P_16号2様式!M164)","v":2.2386453325679798},null,{"$f":"IF(P_16号2様式!N164=\"\",\"\",P_16号2様式!N164)","v":"21:13:00"},null,{"$f":"IF(P_16号2様式!O164=\"\",\"\",P_16号2様式!O164)","v":"確定"}]
[{"$f":"IF(P_16号2様式!C165=\"\",\"\",P_16号2様式!C165)","v":"＊郡　部    計"},null,{"$f":"IF(P_16号2様式!D165=\"\",\"\",P_16号2様式!D165)","v":100},{"$f":"IF(P_16号2様式!E165<> \"\",TEXT(INT(P_16号2様式!E165),\"#,##0\"),\"\")","v":"39,216"},{"$f":"IF(P_16号2様式!E165= \"\",\"\",IF(VALUE(FIXED(P_16号2様式!E165,0,TRUE))<>P_16号2様式!E165,RIGHT(FIXED(P_16号2様式!E165,3,FALSE),4),\"\"))","v":""},{"$f":"IF(P_16号2様式!F165<> \"\",TEXT(INT(P_16号2様式!F165),\"#,##0\"),\"\")","v":"0"},{"$f":"IF(P_16号2様式!F165= \"\",\"\",IF(VALUE(FIXED(P_16号2様式!F165,0,TRUE))<>P_16号2様式!F165,RIGHT(FIXED(P_16号2様式!F165,3,FALSE),4),\"\"))","v":""},{"$f":"IF(P_16号2様式!G165<> \"\",TEXT(INT(P_16号2様式!G165),\"#,##0\"),\"\")","v":"0"},{"$f":"IF(P_16号2様式!G165= \"\",\"\",IF(VALUE(FIXED(P_16号2様式!G165,0,TRUE))<>P_16号2様式!G165,RIGHT(FIXED(P_16号2様式!G165,3,FALSE),4),\"\"))","v":""},{"$f":"IF(P_16号2様式!H165<> \"\",TEXT(INT(P_16号2様式!H165),\"#,##0\"),\"\")","v":"39,216"},{"$f":"IF(P_16号2様式!H165= \"\",\"\",IF(VALUE(FIXED(P_16号2様式!H165,0,TRUE))<>P_16号2様式!H165,RIGHT(FIXED(P_16号2様式!H165,3,FALSE),4),\"\"))","v":""},{"$f":"IF(P_16号2様式!I165<> \"\",TEXT(INT(P_16号2様式!I165),\"#,##0\"),\"\")","v":"817"},{"$f":"IF(P_16号2様式!I165= \"\",\"\",IF(VALUE(FIXED(P_16号2様式!I165,0,TRUE))<>P_16号2様式!I165,RIGHT(FIXED(P_16号2様式!I165,3,FALSE),4),\"\"))","v":""},{"$f":"IF(P_16号2様式!J165<> \"\",TEXT(INT(P_16号2様式!J165),\"#,##0\"),\"\")","v":"40,033"},{"$f":"IF(P_16号2様式!J165= \"\",\"\",IF(VALUE(FIXED(P_16号2様式!J165,0,TRUE))<>P_16号2様式!J165,RIGHT(FIXED(P_16号2様式!J165,3,FALSE),4),\"\"))","v":""},{"$f":"IF(P_16号2様式!K165<> \"\",TEXT(INT(P_16号2様式!K165),\"#,##0\"),\"\")","v":"0"},{"$f":"IF(P_16号2様式!K165= \"\",\"\",IF(VALUE(FIXED(P_16号2様式!K165,0,TRUE))<>P_16号2様式!K165,RIGHT(FIXED(P_16号2様式!K165,3,FALSE),4),\"\"))","v":""},{"$f":"IF(P_16号2様式!L165<> \"\",TEXT(INT(P_16号2様式!L165),\"#,##0\"),\"\")","v":"40,033"},{"$f":"IF(P_16号2様式!L165= \"\",\"\",IF(VALUE(FIXED(P_16号2様式!L165,0,TRUE))<>P_16号2様式!L165,RIGHT(FIXED(P_16号2様式!L165,3,FALSE),4),\"\"))","v":""},{"$f":"IF(P_16号2様式!M165=\"\",\"\",P_16号2様式!M165)","v":2.0408163265306101},null,{"$f":"IF(P_16号2様式!N165=\"\",\"\",P_16号2様式!N165)","v":"22:02:00"},null,{"$f":"IF(P_16号2様式!O165=\"\",\"\",P_16号2様式!O165)","v":"確定"}]
[{"$f":"IF(P_16号2様式!C166=\"\",\"\",P_16号2様式!C166)","v":"＊第 ４ 区  計"},null,{"$f":"IF(P_16号2様式!D166=\"\",\"\",P_16号2様式!D166)","v":100},{"$f":"IF(P_16号2様式!E166<> \"\",TEXT(INT(P_16号2様式!E166),\"#,##0\"),\"\")","v":"181,003"},{"$f":"IF(P_16号2様式!E166= \"\",\"\",IF(VALUE(FIXED(P_16号2様式!E166,0,TRUE))<>P_16号2様式!E166,RIGHT(FIXED(P_16号2様式!E166,3,FALSE),4),\"\"))","v":""},{"$f":"IF(P_16号2様式!F166<> \"\",TEXT(INT(P_16号2様式!F166),\"#,##0\"),\"\")","v":"0"},{"$f":"IF(P_16号2様式!F166= \"\",\"\",IF(VALUE(FIXED(P_16号2様式!F166,0,TRUE))<>P_16号2様式!F166,RIGHT(FIXED(P_16号2様式!F166,3,FALSE),4),\"\"))","v":""},{"$f":"IF(P_16号2様式!G166<> \"\",TEXT(INT(P_16号2様式!G166),\"#,##0\"),\"\")","v":"0"},{"$f":"IF(P_16号2様式!G166= \"\",\"\",IF(VALUE(FIXED(P_16号2様式!G166,0,TRUE))<>P_16号2様式!G166,RIGHT(FIXED(P_16号2様式!G166,3,FALSE),4),\"\"))","v":""},{"$f":"IF(P_16号2様式!H166<> \"\",TEXT(INT(P_16号2様式!H166),\"#,##0\"),\"\")","v":"181,003"},{"$f":"IF(P_16号2様式!H166= \"\",\"\",IF(VALUE(FIXED(P_16号2様式!H166,0,TRUE))<>P_16号2様式!H166,RIGHT(FIXED(P_16号2様式!H166,3,FALSE),4),\"\"))","v":""},{"$f":"IF(P_16号2様式!I166<> \"\",TEXT(INT(P_16号2様式!I166),\"#,##0\"),\"\")","v":"4,245"},{"$f":"IF(P_16号2様式!I166= \"\",\"\",IF(VALUE(FIXED(P_16号2様式!I166,0,TRUE))<>P_16号2様式!I166,RIGHT(FIXED(P_16号2様式!I166,3,FALSE),4),\"\"))","v":""},{"$f":"IF(P_16号2様式!J166<> \"\",TEXT(INT(P_16号2様式!J166),\"#,##0\"),\"\")","v":"185,248"},{"$f":"IF(P_16号2様式!J166= \"\",\"\",IF(VALUE(FIXED(P_16号2様式!J166,0,TRUE))<>P_16号2様式!J166,RIGHT(FIXED(P_16号2様式!J166,3,FALSE),4),\"\"))","v":""},{"$f":"IF(P_16号2様式!K166<> \"\",TEXT(INT(P_16号2様式!K166),\"#,##0\"),\"\")","v":"21"},{"$f":"IF(P_16号2様式!K166= \"\",\"\",IF(VALUE(FIXED(P_16号2様式!K166,0,TRUE))<>P_16号2様式!K166,RIGHT(FIXED(P_16号2様式!K166,3,FALSE),4),\"\"))","v":""},{"$f":"IF(P_16号2様式!L166<> \"\",TEXT(INT(P_16号2様式!L166),\"#,##0\"),\"\")","v":"185,269"},{"$f":"IF(P_16号2様式!L166= \"\",\"\",IF(VALUE(FIXED(P_16号2様式!L166,0,TRUE))<>P_16号2様式!L166,RIGHT(FIXED(P_16号2様式!L166,3,FALSE),4),\"\"))","v":""},{"$f":"IF(P_16号2様式!M166=\"\",\"\",P_16号2様式!M166)","v":2.2915227154948998},null,{"$f":"IF(P_16号2様式!N166=\"\",\"\",P_16号2様式!N166)","v":"00:33:00"},null,{"$f":"IF(P_16号2様式!O166=\"\",\"\",P_16号2様式!O166)","v":"確定"}]
[{"$f":"IF(P_16号2様式!C167=\"\",\"\",P_16号2様式!C167)","v":""},null,{"$f":"IF(P_16号2様式!D167=\"\",\"\",P_16号2様式!D167)","v":""},{"$f":"IF(P_16号2様式!E167<> \"\",TEXT(INT(P_16号2様式!E167),\"#,##0\"),\"\")","v":""},{"$f":"IF(P_16号2様式!E167= \"\",\"\",IF(VALUE(FIXED(P_16号2様式!E167,0,TRUE))<>P_16号2様式!E167,RIGHT(FIXED(P_16号2様式!E167,3,FALSE),4),\"\"))","v":""},{"$f":"IF(P_16号2様式!F167<> \"\",TEXT(INT(P_16号2様式!F167),\"#,##0\"),\"\")","v":""},{"$f":"IF(P_16号2様式!F167= \"\",\"\",IF(VALUE(FIXED(P_16号2様式!F167,0,TRUE))<>P_16号2様式!F167,RIGHT(FIXED(P_16号2様式!F167,3,FALSE),4),\"\"))","v":""},{"$f":"IF(P_16号2様式!G167<> \"\",TEXT(INT(P_16号2様式!G167),\"#,##0\"),\"\")","v":""},{"$f":"IF(P_16号2様式!G167= \"\",\"\",IF(VALUE(FIXED(P_16号2様式!G167,0,TRUE))<>P_16号2様式!G167,RIGHT(FIXED(P_16号2様式!G167,3,FALSE),4),\"\"))","v":""},{"$f":"IF(P_16号2様式!H167<> \"\",TEXT(INT(P_16号2様式!H167),\"#,##0\"),\"\")","v":""},{"$f":"IF(P_16号2様式!H167= \"\",\"\",IF(VALUE(FIXED(P_16号2様式!H167,0,TRUE))<>P_16号2様式!H167,RIGHT(FIXED(P_16号2様式!H167,3,FALSE),4),\"\"))","v":""},{"$f":"IF(P_16号2様式!I167<> \"\",TEXT(INT(P_16号2様式!I167),\"#,##0\"),\"\")","v":""},{"$f":"IF(P_16号2様式!I167= \"\",\"\",IF(VALUE(FIXED(P_16号2様式!I167,0,TRUE))<>P_16号2様式!I167,RIGHT(FIXED(P_16号2様式!I167,3,FALSE),4),\"\"))","v":""},{"$f":"IF(P_16号2様式!J167<> \"\",TEXT(INT(P_16号2様式!J167),\"#,##0\"),\"\")","v":""},{"$f":"IF(P_16号2様式!J167= \"\",\"\",IF(VALUE(FIXED(P_16号2様式!J167,0,TRUE))<>P_16号2様式!J167,RIGHT(FIXED(P_16号2様式!J167,3,FALSE),4),\"\"))","v":""},{"$f":"IF(P_16号2様式!K167<> \"\",TEXT(INT(P_16号2様式!K167),\"#,##0\"),\"\")","v":""},{"$f":"IF(P_16号2様式!K167= \"\",\"\",IF(VALUE(FIXED(P_16号2様式!K167,0,TRUE))<>P_16号2様式!K167,RIGHT(FIXED(P_16号2様式!K167,3,FALSE),4),\"\"))","v":""},{"$f":"IF(P_16号2様式!L167<> \"\",TEXT(INT(P_16号2様式!L167),\"#,##0\"),\"\")","v":""},{"$f":"IF(P_16号2様式!L167= \"\",\"\",IF(VALUE(FIXED(P_16号2様式!L167,0,TRUE))<>P_16号2様式!L167,RIGHT(FIXED(P_16号2様式!L167,3,FALSE),4),\"\"))","v":""},{"$f":"IF(P_16号2様式!M167=\"\",\"\",P_16号2様式!M167)","v":""},null,{"$f":"IF(P_16号2様式!N167=\"\",\"\",P_16号2様式!N167)","v":""},null,{"$f":"IF(P_16号2様式!O167=\"\",\"\",P_16号2様式!O167)","v":""}]
[{"$f":"IF(P_16号2様式!C168=\"\",\"\",P_16号2様式!C168)","v":""},null,{"$f":"IF(P_16号2様式!D168=\"\",\"\",P_16号2様式!D168)","v":""},{"$f":"IF(P_16号2様式!E168<> \"\",TEXT(INT(P_16号2様式!E168),\"#,##0\"),\"\")","v":""},{"$f":"IF(P_16号2様式!E168= \"\",\"\",IF(VALUE(FIXED(P_16号2様式!E168,0,TRUE))<>P_16号2様式!E168,RIGHT(FIXED(P_16号2様式!E168,3,FALSE),4),\"\"))","v":""},{"$f":"IF(P_16号2様式!F168<> \"\",TEXT(INT(P_16号2様式!F168),\"#,##0\"),\"\")","v":""},{"$f":"IF(P_16号2様式!F168= \"\",\"\",IF(VALUE(FIXED(P_16号2様式!F168,0,TRUE))<>P_16号2様式!F168,RIGHT(FIXED(P_16号2様式!F168,3,FALSE),4),\"\"))","v":""},{"$f":"IF(P_16号2様式!G168<> \"\",TEXT(INT(P_16号2様式!G168),\"#,##0\"),\"\")","v":""},{"$f":"IF(P_16号2様式!G168= \"\",\"\",IF(VALUE(FIXED(P_16号2様式!G168,0,TRUE))<>P_16号2様式!G168,RIGHT(FIXED(P_16号2様式!G168,3,FALSE),4),\"\"))","v":""},{"$f":"IF(P_16号2様式!H168<> \"\",TEXT(INT(P_16号2様式!H168),\"#,##0\"),\"\")","v":""},{"$f":"IF(P_16号2様式!H168= \"\",\"\",IF(VALUE(FIXED(P_16号2様式!H168,0,TRUE))<>P_16号2様式!H168,RIGHT(FIXED(P_16号2様式!H168,3,FALSE),4),\"\"))","v":""},{"$f":"IF(P_16号2様式!I168<> \"\",TEXT(INT(P_16号2様式!I168),\"#,##0\"),\"\")","v":""},{"$f":"IF(P_16号2様式!I168= \"\",\"\",IF(VALUE(FIXED(P_16号2様式!I168,0,TRUE))<>P_16号2様式!I168,RIGHT(FIXED(P_16号2様式!I168,3,FALSE),4),\"\"))","v":""},{"$f":"IF(P_16号2様式!J168<> \"\",TEXT(INT(P_16号2様式!J168),\"#,##0\"),\"\")","v":""},{"$f":"IF(P_16号2様式!J168= \"\",\"\",IF(VALUE(FIXED(P_16号2様式!J168,0,TRUE))<>P_16号2様式!J168,RIGHT(FIXED(P_16号2様式!J168,3,FALSE),4),\"\"))","v":""},{"$f":"IF(P_16号2様式!K168<> \"\",TEXT(INT(P_16号2様式!K168),\"#,##0\"),\"\")","v":""},{"$f":"IF(P_16号2様式!K168= \"\",\"\",IF(VALUE(FIXED(P_16号2様式!K168,0,TRUE))<>P_16号2様式!K168,RIGHT(FIXED(P_16号2様式!K168,3,FALSE),4),\"\"))","v":""},{"$f":"IF(P_16号2様式!L168<> \"\",TEXT(INT(P_16号2様式!L168),\"#,##0\"),\"\")","v":""},{"$f":"IF(P_16号2様式!L168= \"\",\"\",IF(VALUE(FIXED(P_16号2様式!L168,0,TRUE))<>P_16号2様式!L168,RIGHT(FIXED(P_16号2様式!L168,3,FALSE),4),\"\"))","v":""},{"$f":"IF(P_16号2様式!M168=\"\",\"\",P_16号2様式!M168)","v":""},null,{"$f":"IF(P_16号2様式!N168=\"\",\"\",P_16号2様式!N168)","v":""},null,{"$f":"IF(P_16号2様式!O168=\"\",\"\",P_16号2様式!O168)","v":""}]
[{"$f":"IF(P_16号2様式!C169=\"\",\"\",P_16号2様式!C169)","v":""},null,{"$f":"IF(P_16号2様式!D169=\"\",\"\",P_16号2様式!D169)","v":""},{"$f":"IF(P_16号2様式!E169<> \"\",TEXT(INT(P_16号2様式!E169),\"#,##0\"),\"\")","v":""},{"$f":"IF(P_16号2様式!E169= \"\",\"\",IF(VALUE(FIXED(P_16号2様式!E169,0,TRUE))<>P_16号2様式!E169,RIGHT(FIXED(P_16号2様式!E169,3,FALSE),4),\"\"))","v":""},{"$f":"IF(P_16号2様式!F169<> \"\",TEXT(INT(P_16号2様式!F169),\"#,##0\"),\"\")","v":""},{"$f":"IF(P_16号2様式!F169= \"\",\"\",IF(VALUE(FIXED(P_16号2様式!F169,0,TRUE))<>P_16号2様式!F169,RIGHT(FIXED(P_16号2様式!F169,3,FALSE),4),\"\"))","v":""},{"$f":"IF(P_16号2様式!G169<> \"\",TEXT(INT(P_16号2様式!G169),\"#,##0\"),\"\")","v":""},{"$f":"IF(P_16号2様式!G169= \"\",\"\",IF(VALUE(FIXED(P_16号2様式!G169,0,TRUE))<>P_16号2様式!G169,RIGHT(FIXED(P_16号2様式!G169,3,FALSE),4),\"\"))","v":""},{"$f":"IF(P_16号2様式!H169<> \"\",TEXT(INT(P_16号2様式!H169),\"#,##0\"),\"\")","v":""},{"$f":"IF(P_16号2様式!H169= \"\",\"\",IF(VALUE(FIXED(P_16号2様式!H169,0,TRUE))<>P_16号2様式!H169,RIGHT(FIXED(P_16号2様式!H169,3,FALSE),4),\"\"))","v":""},{"$f":"IF(P_16号2様式!I169<> \"\",TEXT(INT(P_16号2様式!I169),\"#,##0\"),\"\")","v":""},{"$f":"IF(P_16号2様式!I169= \"\",\"\",IF(VALUE(FIXED(P_16号2様式!I169,0,TRUE))<>P_16号2様式!I169,RIGHT(FIXED(P_16号2様式!I169,3,FALSE),4),\"\"))","v":""},{"$f":"IF(P_16号2様式!J169<> \"\",TEXT(INT(P_16号2様式!J169),\"#,##0\"),\"\")","v":""},{"$f":"IF(P_16号2様式!J169= \"\",\"\",IF(VALUE(FIXED(P_16号2様式!J169,0,TRUE))<>P_16号2様式!J169,RIGHT(FIXED(P_16号2様式!J169,3,FALSE),4),\"\"))","v":""},{"$f":"IF(P_16号2様式!K169<> \"\",TEXT(INT(P_16号2様式!K169),\"#,##0\"),\"\")","v":""},{"$f":"IF(P_16号2様式!K169= \"\",\"\",IF(VALUE(FIXED(P_16号2様式!K169,0,TRUE))<>P_16号2様式!K169,RIGHT(FIXED(P_16号2様式!K169,3,FALSE),4),\"\"))","v":""},{"$f":"IF(P_16号2様式!L169<> \"\",TEXT(INT(P_16号2様式!L169),\"#,##0\"),\"\")","v":""},{"$f":"IF(P_16号2様式!L169= \"\",\"\",IF(VALUE(FIXED(P_16号2様式!L169,0,TRUE))<>P_16号2様式!L169,RIGHT(FIXED(P_16号2様式!L169,3,FALSE),4),\"\"))","v":""},{"$f":"IF(P_16号2様式!M169=\"\",\"\",P_16号2様式!M169)","v":""},null,{"$f":"IF(P_16号2様式!N169=\"\",\"\",P_16号2様式!N169)","v":""},null,{"$f":"IF(P_16号2様式!O169=\"\",\"\",P_16号2様式!O169)","v":""}]
[{"$f":"IF(P_16号2様式!C170=\"\",\"\",P_16号2様式!C170)","v":""},null,{"$f":"IF(P_16号2様式!D170=\"\",\"\",P_16号2様式!D170)","v":""},{"$f":"IF(P_16号2様式!E170<> \"\",TEXT(INT(P_16号2様式!E170),\"#,##0\"),\"\")","v":""},{"$f":"IF(P_16号2様式!E170= \"\",\"\",IF(VALUE(FIXED(P_16号2様式!E170,0,TRUE))<>P_16号2様式!E170,RIGHT(FIXED(P_16号2様式!E170,3,FALSE),4),\"\"))","v":""},{"$f":"IF(P_16号2様式!F170<> \"\",TEXT(INT(P_16号2様式!F170),\"#,##0\"),\"\")","v":""},{"$f":"IF(P_16号2様式!F170= \"\",\"\",IF(VALUE(FIXED(P_16号2様式!F170,0,TRUE))<>P_16号2様式!F170,RIGHT(FIXED(P_16号2様式!F170,3,FALSE),4),\"\"))","v":""},{"$f":"IF(P_16号2様式!G170<> \"\",TEXT(INT(P_16号2様式!G170),\"#,##0\"),\"\")","v":""},{"$f":"IF(P_16号2様式!G170= \"\",\"\",IF(VALUE(FIXED(P_16号2様式!G170,0,TRUE))<>P_16号2様式!G170,RIGHT(FIXED(P_16号2様式!G170,3,FALSE),4),\"\"))","v":""},{"$f":"IF(P_16号2様式!H170<> \"\",TEXT(INT(P_16号2様式!H170),\"#,##0\"),\"\")","v":""},{"$f":"IF(P_16号2様式!H170= \"\",\"\",IF(VALUE(FIXED(P_16号2様式!H170,0,TRUE))<>P_16号2様式!H170,RIGHT(FIXED(P_16号2様式!H170,3,FALSE),4),\"\"))","v":""},{"$f":"IF(P_16号2様式!I170<> \"\",TEXT(INT(P_16号2様式!I170),\"#,##0\"),\"\")","v":""},{"$f":"IF(P_16号2様式!I170= \"\",\"\",IF(VALUE(FIXED(P_16号2様式!I170,0,TRUE))<>P_16号2様式!I170,RIGHT(FIXED(P_16号2様式!I170,3,FALSE),4),\"\"))","v":""},{"$f":"IF(P_16号2様式!J170<> \"\",TEXT(INT(P_16号2様式!J170),\"#,##0\"),\"\")","v":""},{"$f":"IF(P_16号2様式!J170= \"\",\"\",IF(VALUE(FIXED(P_16号2様式!J170,0,TRUE))<>P_16号2様式!J170,RIGHT(FIXED(P_16号2様式!J170,3,FALSE),4),\"\"))","v":""},{"$f":"IF(P_16号2様式!K170<> \"\",TEXT(INT(P_16号2様式!K170),\"#,##0\"),\"\")","v":""},{"$f":"IF(P_16号2様式!K170= \"\",\"\",IF(VALUE(FIXED(P_16号2様式!K170,0,TRUE))<>P_16号2様式!K170,RIGHT(FIXED(P_16号2様式!K170,3,FALSE),4),\"\"))","v":""},{"$f":"IF(P_16号2様式!L170<> \"\",TEXT(INT(P_16号2様式!L170),\"#,##0\"),\"\")","v":""},{"$f":"IF(P_16号2様式!L170= \"\",\"\",IF(VALUE(FIXED(P_16号2様式!L170,0,TRUE))<>P_16号2様式!L170,RIGHT(FIXED(P_16号2様式!L170,3,FALSE),4),\"\"))","v":""},{"$f":"IF(P_16号2様式!M170=\"\",\"\",P_16号2様式!M170)","v":""},null,{"$f":"IF(P_16号2様式!N170=\"\",\"\",P_16号2様式!N170)","v":""},null,{"$f":"IF(P_16号2様式!O170=\"\",\"\",P_16号2様式!O170)","v":""}]
[{"$f":"IF(P_16号2様式!C171=\"\",\"\",P_16号2様式!C171)","v":""},null,{"$f":"IF(P_16号2様式!D171=\"\",\"\",P_16号2様式!D171)","v":""},{"$f":"IF(P_16号2様式!E171<> \"\",TEXT(INT(P_16号2様式!E171),\"#,##0\"),\"\")","v":""},{"$f":"IF(P_16号2様式!E171= \"\",\"\",IF(VALUE(FIXED(P_16号2様式!E171,0,TRUE))<>P_16号2様式!E171,RIGHT(FIXED(P_16号2様式!E171,3,FALSE),4),\"\"))","v":""},{"$f":"IF(P_16号2様式!F171<> \"\",TEXT(INT(P_16号2様式!F171),\"#,##0\"),\"\")","v":""},{"$f":"IF(P_16号2様式!F171= \"\",\"\",IF(VALUE(FIXED(P_16号2様式!F171,0,TRUE))<>P_16号2様式!F171,RIGHT(FIXED(P_16号2様式!F171,3,FALSE),4),\"\"))","v":""},{"$f":"IF(P_16号2様式!G171<> \"\",TEXT(INT(P_16号2様式!G171),\"#,##0\"),\"\")","v":""},{"$f":"IF(P_16号2様式!G171= \"\",\"\",IF(VALUE(FIXED(P_16号2様式!G171,0,TRUE))<>P_16号2様式!G171,RIGHT(FIXED(P_16号2様式!G171,3,FALSE),4),\"\"))","v":""},{"$f":"IF(P_16号2様式!H171<> \"\",TEXT(INT(P_16号2様式!H171),\"#,##0\"),\"\")","v":""},{"$f":"IF(P_16号2様式!H171= \"\",\"\",IF(VALUE(FIXED(P_16号2様式!H171,0,TRUE))<>P_16号2様式!H171,RIGHT(FIXED(P_16号2様式!H171,3,FALSE),4),\"\"))","v":""},{"$f":"IF(P_16号2様式!I171<> \"\",TEXT(INT(P_16号2様式!I171),\"#,##0\"),\"\")","v":""},{"$f":"IF(P_16号2様式!I171= \"\",\"\",IF(VALUE(FIXED(P_16号2様式!I171,0,TRUE))<>P_16号2様式!I171,RIGHT(FIXED(P_16号2様式!I171,3,FALSE),4),\"\"))","v":""},{"$f":"IF(P_16号2様式!J171<> \"\",TEXT(INT(P_16号2様式!J171),\"#,##0\"),\"\")","v":""},{"$f":"IF(P_16号2様式!J171= \"\",\"\",IF(VALUE(FIXED(P_16号2様式!J171,0,TRUE))<>P_16号2様式!J171,RIGHT(FIXED(P_16号2様式!J171,3,FALSE),4),\"\"))","v":""},{"$f":"IF(P_16号2様式!K171<> \"\",TEXT(INT(P_16号2様式!K171),\"#,##0\"),\"\")","v":""},{"$f":"IF(P_16号2様式!K171= \"\",\"\",IF(VALUE(FIXED(P_16号2様式!K171,0,TRUE))<>P_16号2様式!K171,RIGHT(FIXED(P_16号2様式!K171,3,FALSE),4),\"\"))","v":""},{"$f":"IF(P_16号2様式!L171<> \"\",TEXT(INT(P_16号2様式!L171),\"#,##0\"),\"\")","v":""},{"$f":"IF(P_16号2様式!L171= \"\",\"\",IF(VALUE(FIXED(P_16号2様式!L171,0,TRUE))<>P_16号2様式!L171,RIGHT(FIXED(P_16号2様式!L171,3,FALSE),4),\"\"))","v":""},{"$f":"IF(P_16号2様式!M171=\"\",\"\",P_16号2様式!M171)","v":""},null,{"$f":"IF(P_16号2様式!N171=\"\",\"\",P_16号2様式!N171)","v":""},null,{"$f":"IF(P_16号2様式!O171=\"\",\"\",P_16号2様式!O171)","v":""}]
[{"$f":"IF(P_16号2様式!C172=\"\",\"\",P_16号2様式!C172)","v":""},null,{"$f":"IF(P_16号2様式!D172=\"\",\"\",P_16号2様式!D172)","v":""},{"$f":"IF(P_16号2様式!E172<> \"\",TEXT(INT(P_16号2様式!E172),\"#,##0\"),\"\")","v":""},{"$f":"IF(P_16号2様式!E172= \"\",\"\",IF(VALUE(FIXED(P_16号2様式!E172,0,TRUE))<>P_16号2様式!E172,RIGHT(FIXED(P_16号2様式!E172,3,FALSE),4),\"\"))","v":""},{"$f":"IF(P_16号2様式!F172<> \"\",TEXT(INT(P_16号2様式!F172),\"#,##0\"),\"\")","v":""},{"$f":"IF(P_16号2様式!F172= \"\",\"\",IF(VALUE(FIXED(P_16号2様式!F172,0,TRUE))<>P_16号2様式!F172,RIGHT(FIXED(P_16号2様式!F172,3,FALSE),4),\"\"))","v":""},{"$f":"IF(P_16号2様式!G172<> \"\",TEXT(INT(P_16号2様式!G172),\"#,##0\"),\"\")","v":""},{"$f":"IF(P_16号2様式!G172= \"\",\"\",IF(VALUE(FIXED(P_16号2様式!G172,0,TRUE))<>P_16号2様式!G172,RIGHT(FIXED(P_16号2様式!G172,3,FALSE),4),\"\"))","v":""},{"$f":"IF(P_16号2様式!H172<> \"\",TEXT(INT(P_16号2様式!H172),\"#,##0\"),\"\")","v":""},{"$f":"IF(P_16号2様式!H172= \"\",\"\",IF(VALUE(FIXED(P_16号2様式!H172,0,TRUE))<>P_16号2様式!H172,RIGHT(FIXED(P_16号2様式!H172,3,FALSE),4),\"\"))","v":""},{"$f":"IF(P_16号2様式!I172<> \"\",TEXT(INT(P_16号2様式!I172),\"#,##0\"),\"\")","v":""},{"$f":"IF(P_16号2様式!I172= \"\",\"\",IF(VALUE(FIXED(P_16号2様式!I172,0,TRUE))<>P_16号2様式!I172,RIGHT(FIXED(P_16号2様式!I172,3,FALSE),4),\"\"))","v":""},{"$f":"IF(P_16号2様式!J172<> \"\",TEXT(INT(P_16号2様式!J172),\"#,##0\"),\"\")","v":""},{"$f":"IF(P_16号2様式!J172= \"\",\"\",IF(VALUE(FIXED(P_16号2様式!J172,0,TRUE))<>P_16号2様式!J172,RIGHT(FIXED(P_16号2様式!J172,3,FALSE),4),\"\"))","v":""},{"$f":"IF(P_16号2様式!K172<> \"\",TEXT(INT(P_16号2様式!K172),\"#,##0\"),\"\")","v":""},{"$f":"IF(P_16号2様式!K172= \"\",\"\",IF(VALUE(FIXED(P_16号2様式!K172,0,TRUE))<>P_16号2様式!K172,RIGHT(FIXED(P_16号2様式!K172,3,FALSE),4),\"\"))","v":""},{"$f":"IF(P_16号2様式!L172<> \"\",TEXT(INT(P_16号2様式!L172),\"#,##0\"),\"\")","v":""},{"$f":"IF(P_16号2様式!L172= \"\",\"\",IF(VALUE(FIXED(P_16号2様式!L172,0,TRUE))<>P_16号2様式!L172,RIGHT(FIXED(P_16号2様式!L172,3,FALSE),4),\"\"))","v":""},{"$f":"IF(P_16号2様式!M172=\"\",\"\",P_16号2様式!M172)","v":""},null,{"$f":"IF(P_16号2様式!N172=\"\",\"\",P_16号2様式!N172)","v":""},null,{"$f":"IF(P_16号2様式!O172=\"\",\"\",P_16号2様式!O172)","v":""}]
[{"$f":"IF(P_16号2様式!C173=\"\",\"\",P_16号2様式!C173)","v":""},null,{"$f":"IF(P_16号2様式!D173=\"\",\"\",P_16号2様式!D173)","v":""},{"$f":"IF(P_16号2様式!E173<> \"\",TEXT(INT(P_16号2様式!E173),\"#,##0\"),\"\")","v":""},{"$f":"IF(P_16号2様式!E173= \"\",\"\",IF(VALUE(FIXED(P_16号2様式!E173,0,TRUE))<>P_16号2様式!E173,RIGHT(FIXED(P_16号2様式!E173,3,FALSE),4),\"\"))","v":""},{"$f":"IF(P_16号2様式!F173<> \"\",TEXT(INT(P_16号2様式!F173),\"#,##0\"),\"\")","v":""},{"$f":"IF(P_16号2様式!F173= \"\",\"\",IF(VALUE(FIXED(P_16号2様式!F173,0,TRUE))<>P_16号2様式!F173,RIGHT(FIXED(P_16号2様式!F173,3,FALSE),4),\"\"))","v":""},{"$f":"IF(P_16号2様式!G173<> \"\",TEXT(INT(P_16号2様式!G173),\"#,##0\"),\"\")","v":""},{"$f":"IF(P_16号2様式!G173= \"\",\"\",IF(VALUE(FIXED(P_16号2様式!G173,0,TRUE))<>P_16号2様式!G173,RIGHT(FIXED(P_16号2様式!G173,3,FALSE),4),\"\"))","v":""},{"$f":"IF(P_16号2様式!H173<> \"\",TEXT(INT(P_16号2様式!H173),\"#,##0\"),\"\")","v":""},{"$f":"IF(P_16号2様式!H173= \"\",\"\",IF(VALUE(FIXED(P_16号2様式!H173,0,TRUE))<>P_16号2様式!H173,RIGHT(FIXED(P_16号2様式!H173,3,FALSE),4),\"\"))","v":""},{"$f":"IF(P_16号2様式!I173<> \"\",TEXT(INT(P_16号2様式!I173),\"#,##0\"),\"\")","v":""},{"$f":"IF(P_16号2様式!I173= \"\",\"\",IF(VALUE(FIXED(P_16号2様式!I173,0,TRUE))<>P_16号2様式!I173,RIGHT(FIXED(P_16号2様式!I173,3,FALSE),4),\"\"))","v":""},{"$f":"IF(P_16号2様式!J173<> \"\",TEXT(INT(P_16号2様式!J173),\"#,##0\"),\"\")","v":""},{"$f":"IF(P_16号2様式!J173= \"\",\"\",IF(VALUE(FIXED(P_16号2様式!J173,0,TRUE))<>P_16号2様式!J173,RIGHT(FIXED(P_16号2様式!J173,3,FALSE),4),\"\"))","v":""},{"$f":"IF(P_16号2様式!K173<> \"\",TEXT(INT(P_16号2様式!K173),\"#,##0\"),\"\")","v":""},{"$f":"IF(P_16号2様式!K173= \"\",\"\",IF(VALUE(FIXED(P_16号2様式!K173,0,TRUE))<>P_16号2様式!K173,RIGHT(FIXED(P_16号2様式!K173,3,FALSE),4),\"\"))","v":""},{"$f":"IF(P_16号2様式!L173<> \"\",TEXT(INT(P_16号2様式!L173),\"#,##0\"),\"\")","v":""},{"$f":"IF(P_16号2様式!L173= \"\",\"\",IF(VALUE(FIXED(P_16号2様式!L173,0,TRUE))<>P_16号2様式!L173,RIGHT(FIXED(P_16号2様式!L173,3,FALSE),4),\"\"))","v":""},{"$f":"IF(P_16号2様式!M173=\"\",\"\",P_16号2様式!M173)","v":""},null,{"$f":"IF(P_16号2様式!N173=\"\",\"\",P_16号2様式!N173)","v":""},null,{"$f":"IF(P_16号2様式!O173=\"\",\"\",P_16号2様式!O173)","v":""}]
[{"$f":"IF(P_16号2様式!C174=\"\",\"\",P_16号2様式!C174)","v":""},null,{"$f":"IF(P_16号2様式!D174=\"\",\"\",P_16号2様式!D174)","v":""},{"$f":"IF(P_16号2様式!E174<> \"\",TEXT(INT(P_16号2様式!E174),\"#,##0\"),\"\")","v":""},{"$f":"IF(P_16号2様式!E174= \"\",\"\",IF(VALUE(FIXED(P_16号2様式!E174,0,TRUE))<>P_16号2様式!E174,RIGHT(FIXED(P_16号2様式!E174,3,FALSE),4),\"\"))","v":""},{"$f":"IF(P_16号2様式!F174<> \"\",TEXT(INT(P_16号2様式!F174),\"#,##0\"),\"\")","v":""},{"$f":"IF(P_16号2様式!F174= \"\",\"\",IF(VALUE(FIXED(P_16号2様式!F174,0,TRUE))<>P_16号2様式!F174,RIGHT(FIXED(P_16号2様式!F174,3,FALSE),4),\"\"))","v":""},{"$f":"IF(P_16号2様式!G174<> \"\",TEXT(INT(P_16号2様式!G174),\"#,##0\"),\"\")","v":""},{"$f":"IF(P_16号2様式!G174= \"\",\"\",IF(VALUE(FIXED(P_16号2様式!G174,0,TRUE))<>P_16号2様式!G174,RIGHT(FIXED(P_16号2様式!G174,3,FALSE),4),\"\"))","v":""},{"$f":"IF(P_16号2様式!H174<> \"\",TEXT(INT(P_16号2様式!H174),\"#,##0\"),\"\")","v":""},{"$f":"IF(P_16号2様式!H174= \"\",\"\",IF(VALUE(FIXED(P_16号2様式!H174,0,TRUE))<>P_16号2様式!H174,RIGHT(FIXED(P_16号2様式!H174,3,FALSE),4),\"\"))","v":""},{"$f":"IF(P_16号2様式!I174<> \"\",TEXT(INT(P_16号2様式!I174),\"#,##0\"),\"\")","v":""},{"$f":"IF(P_16号2様式!I174= \"\",\"\",IF(VALUE(FIXED(P_16号2様式!I174,0,TRUE))<>P_16号2様式!I174,RIGHT(FIXED(P_16号2様式!I174,3,FALSE),4),\"\"))","v":""},{"$f":"IF(P_16号2様式!J174<> \"\",TEXT(INT(P_16号2様式!J174),\"#,##0\"),\"\")","v":""},{"$f":"IF(P_16号2様式!J174= \"\",\"\",IF(VALUE(FIXED(P_16号2様式!J174,0,TRUE))<>P_16号2様式!J174,RIGHT(FIXED(P_16号2様式!J174,3,FALSE),4),\"\"))","v":""},{"$f":"IF(P_16号2様式!K174<> \"\",TEXT(INT(P_16号2様式!K174),\"#,##0\"),\"\")","v":""},{"$f":"IF(P_16号2様式!K174= \"\",\"\",IF(VALUE(FIXED(P_16号2様式!K174,0,TRUE))<>P_16号2様式!K174,RIGHT(FIXED(P_16号2様式!K174,3,FALSE),4),\"\"))","v":""},{"$f":"IF(P_16号2様式!L174<> \"\",TEXT(INT(P_16号2様式!L174),\"#,##0\"),\"\")","v":""},{"$f":"IF(P_16号2様式!L174= \"\",\"\",IF(VALUE(FIXED(P_16号2様式!L174,0,TRUE))<>P_16号2様式!L174,RIGHT(FIXED(P_16号2様式!L174,3,FALSE),4),\"\"))","v":""},{"$f":"IF(P_16号2様式!M174=\"\",\"\",P_16号2様式!M174)","v":""},null,{"$f":"IF(P_16号2様式!N174=\"\",\"\",P_16号2様式!N174)","v":""},null,{"$f":"IF(P_16号2様式!O174=\"\",\"\",P_16号2様式!O174)","v":""}]
[{"$f":"IF(P_16号2様式!C175=\"\",\"\",P_16号2様式!C175)","v":""},null,{"$f":"IF(P_16号2様式!D175=\"\",\"\",P_16号2様式!D175)","v":""},{"$f":"IF(P_16号2様式!E175<> \"\",TEXT(INT(P_16号2様式!E175),\"#,##0\"),\"\")","v":""},{"$f":"IF(P_16号2様式!E175= \"\",\"\",IF(VALUE(FIXED(P_16号2様式!E175,0,TRUE))<>P_16号2様式!E175,RIGHT(FIXED(P_16号2様式!E175,3,FALSE),4),\"\"))","v":""},{"$f":"IF(P_16号2様式!F175<> \"\",TEXT(INT(P_16号2様式!F175),\"#,##0\"),\"\")","v":""},{"$f":"IF(P_16号2様式!F175= \"\",\"\",IF(VALUE(FIXED(P_16号2様式!F175,0,TRUE))<>P_16号2様式!F175,RIGHT(FIXED(P_16号2様式!F175,3,FALSE),4),\"\"))","v":""},{"$f":"IF(P_16号2様式!G175<> \"\",TEXT(INT(P_16号2様式!G175),\"#,##0\"),\"\")","v":""},{"$f":"IF(P_16号2様式!G175= \"\",\"\",IF(VALUE(FIXED(P_16号2様式!G175,0,TRUE))<>P_16号2様式!G175,RIGHT(FIXED(P_16号2様式!G175,3,FALSE),4),\"\"))","v":""},{"$f":"IF(P_16号2様式!H175<> \"\",TEXT(INT(P_16号2様式!H175),\"#,##0\"),\"\")","v":""},{"$f":"IF(P_16号2様式!H175= \"\",\"\",IF(VALUE(FIXED(P_16号2様式!H175,0,TRUE))<>P_16号2様式!H175,RIGHT(FIXED(P_16号2様式!H175,3,FALSE),4),\"\"))","v":""},{"$f":"IF(P_16号2様式!I175<> \"\",TEXT(INT(P_16号2様式!I175),\"#,##0\"),\"\")","v":""},{"$f":"IF(P_16号2様式!I175= \"\",\"\",IF(VALUE(FIXED(P_16号2様式!I175,0,TRUE))<>P_16号2様式!I175,RIGHT(FIXED(P_16号2様式!I175,3,FALSE),4),\"\"))","v":""},{"$f":"IF(P_16号2様式!J175<> \"\",TEXT(INT(P_16号2様式!J175),\"#,##0\"),\"\")","v":""},{"$f":"IF(P_16号2様式!J175= \"\",\"\",IF(VALUE(FIXED(P_16号2様式!J175,0,TRUE))<>P_16号2様式!J175,RIGHT(FIXED(P_16号2様式!J175,3,FALSE),4),\"\"))","v":""},{"$f":"IF(P_16号2様式!K175<> \"\",TEXT(INT(P_16号2様式!K175),\"#,##0\"),\"\")","v":""},{"$f":"IF(P_16号2様式!K175= \"\",\"\",IF(VALUE(FIXED(P_16号2様式!K175,0,TRUE))<>P_16号2様式!K175,RIGHT(FIXED(P_16号2様式!K175,3,FALSE),4),\"\"))","v":""},{"$f":"IF(P_16号2様式!L175<> \"\",TEXT(INT(P_16号2様式!L175),\"#,##0\"),\"\")","v":""},{"$f":"IF(P_16号2様式!L175= \"\",\"\",IF(VALUE(FIXED(P_16号2様式!L175,0,TRUE))<>P_16号2様式!L175,RIGHT(FIXED(P_16号2様式!L175,3,FALSE),4),\"\"))","v":""},{"$f":"IF(P_16号2様式!M175=\"\",\"\",P_16号2様式!M175)","v":""},null,{"$f":"IF(P_16号2様式!N175=\"\",\"\",P_16号2様式!N175)","v":""},null,{"$f":"IF(P_16号2様式!O175=\"\",\"\",P_16号2様式!O175)","v":""}]
[{"$f":"IF(P_16号2様式!C176=\"\",\"\",P_16号2様式!C176)","v":""},null,{"$f":"IF(P_16号2様式!D176=\"\",\"\",P_16号2様式!D176)","v":""},{"$f":"IF(P_16号2様式!E176<> \"\",TEXT(INT(P_16号2様式!E176),\"#,##0\"),\"\")","v":""},{"$f":"IF(P_16号2様式!E176= \"\",\"\",IF(VALUE(FIXED(P_16号2様式!E176,0,TRUE))<>P_16号2様式!E176,RIGHT(FIXED(P_16号2様式!E176,3,FALSE),4),\"\"))","v":""},{"$f":"IF(P_16号2様式!F176<> \"\",TEXT(INT(P_16号2様式!F176),\"#,##0\"),\"\")","v":""},{"$f":"IF(P_16号2様式!F176= \"\",\"\",IF(VALUE(FIXED(P_16号2様式!F176,0,TRUE))<>P_16号2様式!F176,RIGHT(FIXED(P_16号2様式!F176,3,FALSE),4),\"\"))","v":""},{"$f":"IF(P_16号2様式!G176<> \"\",TEXT(INT(P_16号2様式!G176),\"#,##0\"),\"\")","v":""},{"$f":"IF(P_16号2様式!G176= \"\",\"\",IF(VALUE(FIXED(P_16号2様式!G176,0,TRUE))<>P_16号2様式!G176,RIGHT(FIXED(P_16号2様式!G176,3,FALSE),4),\"\"))","v":""},{"$f":"IF(P_16号2様式!H176<> \"\",TEXT(INT(P_16号2様式!H176),\"#,##0\"),\"\")","v":""},{"$f":"IF(P_16号2様式!H176= \"\",\"\",IF(VALUE(FIXED(P_16号2様式!H176,0,TRUE))<>P_16号2様式!H176,RIGHT(FIXED(P_16号2様式!H176,3,FALSE),4),\"\"))","v":""},{"$f":"IF(P_16号2様式!I176<> \"\",TEXT(INT(P_16号2様式!I176),\"#,##0\"),\"\")","v":""},{"$f":"IF(P_16号2様式!I176= \"\",\"\",IF(VALUE(FIXED(P_16号2様式!I176,0,TRUE))<>P_16号2様式!I176,RIGHT(FIXED(P_16号2様式!I176,3,FALSE),4),\"\"))","v":""},{"$f":"IF(P_16号2様式!J176<> \"\",TEXT(INT(P_16号2様式!J176),\"#,##0\"),\"\")","v":""},{"$f":"IF(P_16号2様式!J176= \"\",\"\",IF(VALUE(FIXED(P_16号2様式!J176,0,TRUE))<>P_16号2様式!J176,RIGHT(FIXED(P_16号2様式!J176,3,FALSE),4),\"\"))","v":""},{"$f":"IF(P_16号2様式!K176<> \"\",TEXT(INT(P_16号2様式!K176),\"#,##0\"),\"\")","v":""},{"$f":"IF(P_16号2様式!K176= \"\",\"\",IF(VALUE(FIXED(P_16号2様式!K176,0,TRUE))<>P_16号2様式!K176,RIGHT(FIXED(P_16号2様式!K176,3,FALSE),4),\"\"))","v":""},{"$f":"IF(P_16号2様式!L176<> \"\",TEXT(INT(P_16号2様式!L176),\"#,##0\"),\"\")","v":""},{"$f":"IF(P_16号2様式!L176= \"\",\"\",IF(VALUE(FIXED(P_16号2様式!L176,0,TRUE))<>P_16号2様式!L176,RIGHT(FIXED(P_16号2様式!L176,3,FALSE),4),\"\"))","v":""},{"$f":"IF(P_16号2様式!M176=\"\",\"\",P_16号2様式!M176)","v":""},null,{"$f":"IF(P_16号2様式!N176=\"\",\"\",P_16号2様式!N176)","v":""},null,{"$f":"IF(P_16号2様式!O176=\"\",\"\",P_16号2様式!O176)","v":""}]
[{"$f":"IF(P_16号2様式!C177=\"\",\"\",P_16号2様式!C177)","v":""},null,{"$f":"IF(P_16号2様式!D177=\"\",\"\",P_16号2様式!D177)","v":""},{"$f":"IF(P_16号2様式!E177<> \"\",TEXT(INT(P_16号2様式!E177),\"#,##0\"),\"\")","v":""},{"$f":"IF(P_16号2様式!E177= \"\",\"\",IF(VALUE(FIXED(P_16号2様式!E177,0,TRUE))<>P_16号2様式!E177,RIGHT(FIXED(P_16号2様式!E177,3,FALSE),4),\"\"))","v":""},{"$f":"IF(P_16号2様式!F177<> \"\",TEXT(INT(P_16号2様式!F177),\"#,##0\"),\"\")","v":""},{"$f":"IF(P_16号2様式!F177= \"\",\"\",IF(VALUE(FIXED(P_16号2様式!F177,0,TRUE))<>P_16号2様式!F177,RIGHT(FIXED(P_16号2様式!F177,3,FALSE),4),\"\"))","v":""},{"$f":"IF(P_16号2様式!G177<> \"\",TEXT(INT(P_16号2様式!G177),\"#,##0\"),\"\")","v":""},{"$f":"IF(P_16号2様式!G177= \"\",\"\",IF(VALUE(FIXED(P_16号2様式!G177,0,TRUE))<>P_16号2様式!G177,RIGHT(FIXED(P_16号2様式!G177,3,FALSE),4),\"\"))","v":""},{"$f":"IF(P_16号2様式!H177<> \"\",TEXT(INT(P_16号2様式!H177),\"#,##0\"),\"\")","v":""},{"$f":"IF(P_16号2様式!H177= \"\",\"\",IF(VALUE(FIXED(P_16号2様式!H177,0,TRUE))<>P_16号2様式!H177,RIGHT(FIXED(P_16号2様式!H177,3,FALSE),4),\"\"))","v":""},{"$f":"IF(P_16号2様式!I177<> \"\",TEXT(INT(P_16号2様式!I177),\"#,##0\"),\"\")","v":""},{"$f":"IF(P_16号2様式!I177= \"\",\"\",IF(VALUE(FIXED(P_16号2様式!I177,0,TRUE))<>P_16号2様式!I177,RIGHT(FIXED(P_16号2様式!I177,3,FALSE),4),\"\"))","v":""},{"$f":"IF(P_16号2様式!J177<> \"\",TEXT(INT(P_16号2様式!J177),\"#,##0\"),\"\")","v":""},{"$f":"IF(P_16号2様式!J177= \"\",\"\",IF(VALUE(FIXED(P_16号2様式!J177,0,TRUE))<>P_16号2様式!J177,RIGHT(FIXED(P_16号2様式!J177,3,FALSE),4),\"\"))","v":""},{"$f":"IF(P_16号2様式!K177<> \"\",TEXT(INT(P_16号2様式!K177),\"#,##0\"),\"\")","v":""},{"$f":"IF(P_16号2様式!K177= \"\",\"\",IF(VALUE(FIXED(P_16号2様式!K177,0,TRUE))<>P_16号2様式!K177,RIGHT(FIXED(P_16号2様式!K177,3,FALSE),4),\"\"))","v":""},{"$f":"IF(P_16号2様式!L177<> \"\",TEXT(INT(P_16号2様式!L177),\"#,##0\"),\"\")","v":""},{"$f":"IF(P_16号2様式!L177= \"\",\"\",IF(VALUE(FIXED(P_16号2様式!L177,0,TRUE))<>P_16号2様式!L177,RIGHT(FIXED(P_16号2様式!L177,3,FALSE),4),\"\"))","v":""},{"$f":"IF(P_16号2様式!M177=\"\",\"\",P_16号2様式!M177)","v":""},null,{"$f":"IF(P_16号2様式!N177=\"\",\"\",P_16号2様式!N177)","v":""},null,{"$f":"IF(P_16号2様式!O177=\"\",\"\",P_16号2様式!O177)","v":""}]
[{"$f":"IF(P_16号2様式!C178=\"\",\"\",P_16号2様式!C178)","v":""},null,{"$f":"IF(P_16号2様式!D178=\"\",\"\",P_16号2様式!D178)","v":""},{"$f":"IF(P_16号2様式!E178<> \"\",TEXT(INT(P_16号2様式!E178),\"#,##0\"),\"\")","v":""},{"$f":"IF(P_16号2様式!E178= \"\",\"\",IF(VALUE(FIXED(P_16号2様式!E178,0,TRUE))<>P_16号2様式!E178,RIGHT(FIXED(P_16号2様式!E178,3,FALSE),4),\"\"))","v":""},{"$f":"IF(P_16号2様式!F178<> \"\",TEXT(INT(P_16号2様式!F178),\"#,##0\"),\"\")","v":""},{"$f":"IF(P_16号2様式!F178= \"\",\"\",IF(VALUE(FIXED(P_16号2様式!F178,0,TRUE))<>P_16号2様式!F178,RIGHT(FIXED(P_16号2様式!F178,3,FALSE),4),\"\"))","v":""},{"$f":"IF(P_16号2様式!G178<> \"\",TEXT(INT(P_16号2様式!G178),\"#,##0\"),\"\")","v":""},{"$f":"IF(P_16号2様式!G178= \"\",\"\",IF(VALUE(FIXED(P_16号2様式!G178,0,TRUE))<>P_16号2様式!G178,RIGHT(FIXED(P_16号2様式!G178,3,FALSE),4),\"\"))","v":""},{"$f":"IF(P_16号2様式!H178<> \"\",TEXT(INT(P_16号2様式!H178),\"#,##0\"),\"\")","v":""},{"$f":"IF(P_16号2様式!H178= \"\",\"\",IF(VALUE(FIXED(P_16号2様式!H178,0,TRUE))<>P_16号2様式!H178,RIGHT(FIXED(P_16号2様式!H178,3,FALSE),4),\"\"))","v":""},{"$f":"IF(P_16号2様式!I178<> \"\",TEXT(INT(P_16号2様式!I178),\"#,##0\"),\"\")","v":""},{"$f":"IF(P_16号2様式!I178= \"\",\"\",IF(VALUE(FIXED(P_16号2様式!I178,0,TRUE))<>P_16号2様式!I178,RIGHT(FIXED(P_16号2様式!I178,3,FALSE),4),\"\"))","v":""},{"$f":"IF(P_16号2様式!J178<> \"\",TEXT(INT(P_16号2様式!J178),\"#,##0\"),\"\")","v":""},{"$f":"IF(P_16号2様式!J178= \"\",\"\",IF(VALUE(FIXED(P_16号2様式!J178,0,TRUE))<>P_16号2様式!J178,RIGHT(FIXED(P_16号2様式!J178,3,FALSE),4),\"\"))","v":""},{"$f":"IF(P_16号2様式!K178<> \"\",TEXT(INT(P_16号2様式!K178),\"#,##0\"),\"\")","v":""},{"$f":"IF(P_16号2様式!K178= \"\",\"\",IF(VALUE(FIXED(P_16号2様式!K178,0,TRUE))<>P_16号2様式!K178,RIGHT(FIXED(P_16号2様式!K178,3,FALSE),4),\"\"))","v":""},{"$f":"IF(P_16号2様式!L178<> \"\",TEXT(INT(P_16号2様式!L178),\"#,##0\"),\"\")","v":""},{"$f":"IF(P_16号2様式!L178= \"\",\"\",IF(VALUE(FIXED(P_16号2様式!L178,0,TRUE))<>P_16号2様式!L178,RIGHT(FIXED(P_16号2様式!L178,3,FALSE),4),\"\"))","v":""},{"$f":"IF(P_16号2様式!M178=\"\",\"\",P_16号2様式!M178)","v":""},null,{"$f":"IF(P_16号2様式!N178=\"\",\"\",P_16号2様式!N178)","v":""},null,{"$f":"IF(P_16号2様式!O178=\"\",\"\",P_16号2様式!O178)","v":""}]
[{"$f":"IF(P_16号2様式!C179=\"\",\"\",P_16号2様式!C179)","v":""},null,{"$f":"IF(P_16号2様式!D179=\"\",\"\",P_16号2様式!D179)","v":""},{"$f":"IF(P_16号2様式!E179<> \"\",TEXT(INT(P_16号2様式!E179),\"#,##0\"),\"\")","v":""},{"$f":"IF(P_16号2様式!E179= \"\",\"\",IF(VALUE(FIXED(P_16号2様式!E179,0,TRUE))<>P_16号2様式!E179,RIGHT(FIXED(P_16号2様式!E179,3,FALSE),4),\"\"))","v":""},{"$f":"IF(P_16号2様式!F179<> \"\",TEXT(INT(P_16号2様式!F179),\"#,##0\"),\"\")","v":""},{"$f":"IF(P_16号2様式!F179= \"\",\"\",IF(VALUE(FIXED(P_16号2様式!F179,0,TRUE))<>P_16号2様式!F179,RIGHT(FIXED(P_16号2様式!F179,3,FALSE),4),\"\"))","v":""},{"$f":"IF(P_16号2様式!G179<> \"\",TEXT(INT(P_16号2様式!G179),\"#,##0\"),\"\")","v":""},{"$f":"IF(P_16号2様式!G179= \"\",\"\",IF(VALUE(FIXED(P_16号2様式!G179,0,TRUE))<>P_16号2様式!G179,RIGHT(FIXED(P_16号2様式!G179,3,FALSE),4),\"\"))","v":""},{"$f":"IF(P_16号2様式!H179<> \"\",TEXT(INT(P_16号2様式!H179),\"#,##0\"),\"\")","v":""},{"$f":"IF(P_16号2様式!H179= \"\",\"\",IF(VALUE(FIXED(P_16号2様式!H179,0,TRUE))<>P_16号2様式!H179,RIGHT(FIXED(P_16号2様式!H179,3,FALSE),4),\"\"))","v":""},{"$f":"IF(P_16号2様式!I179<> \"\",TEXT(INT(P_16号2様式!I179),\"#,##0\"),\"\")","v":""},{"$f":"IF(P_16号2様式!I179= \"\",\"\",IF(VALUE(FIXED(P_16号2様式!I179,0,TRUE))<>P_16号2様式!I179,RIGHT(FIXED(P_16号2様式!I179,3,FALSE),4),\"\"))","v":""},{"$f":"IF(P_16号2様式!J179<> \"\",TEXT(INT(P_16号2様式!J179),\"#,##0\"),\"\")","v":""},{"$f":"IF(P_16号2様式!J179= \"\",\"\",IF(VALUE(FIXED(P_16号2様式!J179,0,TRUE))<>P_16号2様式!J179,RIGHT(FIXED(P_16号2様式!J179,3,FALSE),4),\"\"))","v":""},{"$f":"IF(P_16号2様式!K179<> \"\",TEXT(INT(P_16号2様式!K179),\"#,##0\"),\"\")","v":""},{"$f":"IF(P_16号2様式!K179= \"\",\"\",IF(VALUE(FIXED(P_16号2様式!K179,0,TRUE))<>P_16号2様式!K179,RIGHT(FIXED(P_16号2様式!K179,3,FALSE),4),\"\"))","v":""},{"$f":"IF(P_16号2様式!L179<> \"\",TEXT(INT(P_16号2様式!L179),\"#,##0\"),\"\")","v":""},{"$f":"IF(P_16号2様式!L179= \"\",\"\",IF(VALUE(FIXED(P_16号2様式!L179,0,TRUE))<>P_16号2様式!L179,RIGHT(FIXED(P_16号2様式!L179,3,FALSE),4),\"\"))","v":""},{"$f":"IF(P_16号2様式!M179=\"\",\"\",P_16号2様式!M179)","v":""},null,{"$f":"IF(P_16号2様式!N179=\"\",\"\",P_16号2様式!N179)","v":""},null,{"$f":"IF(P_16号2様式!O179=\"\",\"\",P_16号2様式!O179)","v":""}]
[{"$f":"IF(P_16号2様式!C180=\"\",\"\",P_16号2様式!C180)","v":""},null,{"$f":"IF(P_16号2様式!D180=\"\",\"\",P_16号2様式!D180)","v":""},{"$f":"IF(P_16号2様式!E180<> \"\",TEXT(INT(P_16号2様式!E180),\"#,##0\"),\"\")","v":""},{"$f":"IF(P_16号2様式!E180= \"\",\"\",IF(VALUE(FIXED(P_16号2様式!E180,0,TRUE))<>P_16号2様式!E180,RIGHT(FIXED(P_16号2様式!E180,3,FALSE),4),\"\"))","v":""},{"$f":"IF(P_16号2様式!F180<> \"\",TEXT(INT(P_16号2様式!F180),\"#,##0\"),\"\")","v":""},{"$f":"IF(P_16号2様式!F180= \"\",\"\",IF(VALUE(FIXED(P_16号2様式!F180,0,TRUE))<>P_16号2様式!F180,RIGHT(FIXED(P_16号2様式!F180,3,FALSE),4),\"\"))","v":""},{"$f":"IF(P_16号2様式!G180<> \"\",TEXT(INT(P_16号2様式!G180),\"#,##0\"),\"\")","v":""},{"$f":"IF(P_16号2様式!G180= \"\",\"\",IF(VALUE(FIXED(P_16号2様式!G180,0,TRUE))<>P_16号2様式!G180,RIGHT(FIXED(P_16号2様式!G180,3,FALSE),4),\"\"))","v":""},{"$f":"IF(P_16号2様式!H180<> \"\",TEXT(INT(P_16号2様式!H180),\"#,##0\"),\"\")","v":""},{"$f":"IF(P_16号2様式!H180= \"\",\"\",IF(VALUE(FIXED(P_16号2様式!H180,0,TRUE))<>P_16号2様式!H180,RIGHT(FIXED(P_16号2様式!H180,3,FALSE),4),\"\"))","v":""},{"$f":"IF(P_16号2様式!I180<> \"\",TEXT(INT(P_16号2様式!I180),\"#,##0\"),\"\")","v":""},{"$f":"IF(P_16号2様式!I180= \"\",\"\",IF(VALUE(FIXED(P_16号2様式!I180,0,TRUE))<>P_16号2様式!I180,RIGHT(FIXED(P_16号2様式!I180,3,FALSE),4),\"\"))","v":""},{"$f":"IF(P_16号2様式!J180<> \"\",TEXT(INT(P_16号2様式!J180),\"#,##0\"),\"\")","v":""},{"$f":"IF(P_16号2様式!J180= \"\",\"\",IF(VALUE(FIXED(P_16号2様式!J180,0,TRUE))<>P_16号2様式!J180,RIGHT(FIXED(P_16号2様式!J180,3,FALSE),4),\"\"))","v":""},{"$f":"IF(P_16号2様式!K180<> \"\",TEXT(INT(P_16号2様式!K180),\"#,##0\"),\"\")","v":""},{"$f":"IF(P_16号2様式!K180= \"\",\"\",IF(VALUE(FIXED(P_16号2様式!K180,0,TRUE))<>P_16号2様式!K180,RIGHT(FIXED(P_16号2様式!K180,3,FALSE),4),\"\"))","v":""},{"$f":"IF(P_16号2様式!L180<> \"\",TEXT(INT(P_16号2様式!L180),\"#,##0\"),\"\")","v":""},{"$f":"IF(P_16号2様式!L180= \"\",\"\",IF(VALUE(FIXED(P_16号2様式!L180,0,TRUE))<>P_16号2様式!L180,RIGHT(FIXED(P_16号2様式!L180,3,FALSE),4),\"\"))","v":""},{"$f":"IF(P_16号2様式!M180=\"\",\"\",P_16号2様式!M180)","v":""},null,{"$f":"IF(P_16号2様式!N180=\"\",\"\",P_16号2様式!N180)","v":""},null,{"$f":"IF(P_16号2様式!O180=\"\",\"\",P_16号2様式!O180)","v":""}]
[{"$f":"IF(P_16号2様式!C181=\"\",\"\",P_16号2様式!C181)","v":""},null,{"$f":"IF(P_16号2様式!D181=\"\",\"\",P_16号2様式!D181)","v":""},{"$f":"IF(P_16号2様式!E181<> \"\",TEXT(INT(P_16号2様式!E181),\"#,##0\"),\"\")","v":""},{"$f":"IF(P_16号2様式!E181= \"\",\"\",IF(VALUE(FIXED(P_16号2様式!E181,0,TRUE))<>P_16号2様式!E181,RIGHT(FIXED(P_16号2様式!E181,3,FALSE),4),\"\"))","v":""},{"$f":"IF(P_16号2様式!F181<> \"\",TEXT(INT(P_16号2様式!F181),\"#,##0\"),\"\")","v":""},{"$f":"IF(P_16号2様式!F181= \"\",\"\",IF(VALUE(FIXED(P_16号2様式!F181,0,TRUE))<>P_16号2様式!F181,RIGHT(FIXED(P_16号2様式!F181,3,FALSE),4),\"\"))","v":""},{"$f":"IF(P_16号2様式!G181<> \"\",TEXT(INT(P_16号2様式!G181),\"#,##0\"),\"\")","v":""},{"$f":"IF(P_16号2様式!G181= \"\",\"\",IF(VALUE(FIXED(P_16号2様式!G181,0,TRUE))<>P_16号2様式!G181,RIGHT(FIXED(P_16号2様式!G181,3,FALSE),4),\"\"))","v":""},{"$f":"IF(P_16号2様式!H181<> \"\",TEXT(INT(P_16号2様式!H181),\"#,##0\"),\"\")","v":""},{"$f":"IF(P_16号2様式!H181= \"\",\"\",IF(VALUE(FIXED(P_16号2様式!H181,0,TRUE))<>P_16号2様式!H181,RIGHT(FIXED(P_16号2様式!H181,3,FALSE),4),\"\"))","v":""},{"$f":"IF(P_16号2様式!I181<> \"\",TEXT(INT(P_16号2様式!I181),\"#,##0\"),\"\")","v":""},{"$f":"IF(P_16号2様式!I181= \"\",\"\",IF(VALUE(FIXED(P_16号2様式!I181,0,TRUE))<>P_16号2様式!I181,RIGHT(FIXED(P_16号2様式!I181,3,FALSE),4),\"\"))","v":""},{"$f":"IF(P_16号2様式!J181<> \"\",TEXT(INT(P_16号2様式!J181),\"#,##0\"),\"\")","v":""},{"$f":"IF(P_16号2様式!J181= \"\",\"\",IF(VALUE(FIXED(P_16号2様式!J181,0,TRUE))<>P_16号2様式!J181,RIGHT(FIXED(P_16号2様式!J181,3,FALSE),4),\"\"))","v":""},{"$f":"IF(P_16号2様式!K181<> \"\",TEXT(INT(P_16号2様式!K181),\"#,##0\"),\"\")","v":""},{"$f":"IF(P_16号2様式!K181= \"\",\"\",IF(VALUE(FIXED(P_16号2様式!K181,0,TRUE))<>P_16号2様式!K181,RIGHT(FIXED(P_16号2様式!K181,3,FALSE),4),\"\"))","v":""},{"$f":"IF(P_16号2様式!L181<> \"\",TEXT(INT(P_16号2様式!L181),\"#,##0\"),\"\")","v":""},{"$f":"IF(P_16号2様式!L181= \"\",\"\",IF(VALUE(FIXED(P_16号2様式!L181,0,TRUE))<>P_16号2様式!L181,RIGHT(FIXED(P_16号2様式!L181,3,FALSE),4),\"\"))","v":""},{"$f":"IF(P_16号2様式!M181=\"\",\"\",P_16号2様式!M181)","v":""},null,{"$f":"IF(P_16号2様式!N181=\"\",\"\",P_16号2様式!N181)","v":""},null,{"$f":"IF(P_16号2様式!O181=\"\",\"\",P_16号2様式!O181)","v":""}]
[{"$f":"IF(P_16号2様式!C182=\"\",\"\",P_16号2様式!C182)","v":""},null,{"$f":"IF(P_16号2様式!D182=\"\",\"\",P_16号2様式!D182)","v":""},{"$f":"IF(P_16号2様式!E182<> \"\",TEXT(INT(P_16号2様式!E182),\"#,##0\"),\"\")","v":""},{"$f":"IF(P_16号2様式!E182= \"\",\"\",IF(VALUE(FIXED(P_16号2様式!E182,0,TRUE))<>P_16号2様式!E182,RIGHT(FIXED(P_16号2様式!E182,3,FALSE),4),\"\"))","v":""},{"$f":"IF(P_16号2様式!F182<> \"\",TEXT(INT(P_16号2様式!F182),\"#,##0\"),\"\")","v":""},{"$f":"IF(P_16号2様式!F182= \"\",\"\",IF(VALUE(FIXED(P_16号2様式!F182,0,TRUE))<>P_16号2様式!F182,RIGHT(FIXED(P_16号2様式!F182,3,FALSE),4),\"\"))","v":""},{"$f":"IF(P_16号2様式!G182<> \"\",TEXT(INT(P_16号2様式!G182),\"#,##0\"),\"\")","v":""},{"$f":"IF(P_16号2様式!G182= \"\",\"\",IF(VALUE(FIXED(P_16号2様式!G182,0,TRUE))<>P_16号2様式!G182,RIGHT(FIXED(P_16号2様式!G182,3,FALSE),4),\"\"))","v":""},{"$f":"IF(P_16号2様式!H182<> \"\",TEXT(INT(P_16号2様式!H182),\"#,##0\"),\"\")","v":""},{"$f":"IF(P_16号2様式!H182= \"\",\"\",IF(VALUE(FIXED(P_16号2様式!H182,0,TRUE))<>P_16号2様式!H182,RIGHT(FIXED(P_16号2様式!H182,3,FALSE),4),\"\"))","v":""},{"$f":"IF(P_16号2様式!I182<> \"\",TEXT(INT(P_16号2様式!I182),\"#,##0\"),\"\")","v":""},{"$f":"IF(P_16号2様式!I182= \"\",\"\",IF(VALUE(FIXED(P_16号2様式!I182,0,TRUE))<>P_16号2様式!I182,RIGHT(FIXED(P_16号2様式!I182,3,FALSE),4),\"\"))","v":""},{"$f":"IF(P_16号2様式!J182<> \"\",TEXT(INT(P_16号2様式!J182),\"#,##0\"),\"\")","v":""},{"$f":"IF(P_16号2様式!J182= \"\",\"\",IF(VALUE(FIXED(P_16号2様式!J182,0,TRUE))<>P_16号2様式!J182,RIGHT(FIXED(P_16号2様式!J182,3,FALSE),4),\"\"))","v":""},{"$f":"IF(P_16号2様式!K182<> \"\",TEXT(INT(P_16号2様式!K182),\"#,##0\"),\"\")","v":""},{"$f":"IF(P_16号2様式!K182= \"\",\"\",IF(VALUE(FIXED(P_16号2様式!K182,0,TRUE))<>P_16号2様式!K182,RIGHT(FIXED(P_16号2様式!K182,3,FALSE),4),\"\"))","v":""},{"$f":"IF(P_16号2様式!L182<> \"\",TEXT(INT(P_16号2様式!L182),\"#,##0\"),\"\")","v":""},{"$f":"IF(P_16号2様式!L182= \"\",\"\",IF(VALUE(FIXED(P_16号2様式!L182,0,TRUE))<>P_16号2様式!L182,RIGHT(FIXED(P_16号2様式!L182,3,FALSE),4),\"\"))","v":""},{"$f":"IF(P_16号2様式!M182=\"\",\"\",P_16号2様式!M182)","v":""},null,{"$f":"IF(P_16号2様式!N182=\"\",\"\",P_16号2様式!N182)","v":""},null,{"$f":"IF(P_16号2様式!O182=\"\",\"\",P_16号2様式!O182)","v":""}]
[{"$f":"IF(P_16号2様式!C183=\"\",\"\",P_16号2様式!C183)","v":""},null,{"$f":"IF(P_16号2様式!D183=\"\",\"\",P_16号2様式!D183)","v":""},{"$f":"IF(P_16号2様式!E183<> \"\",TEXT(INT(P_16号2様式!E183),\"#,##0\"),\"\")","v":""},{"$f":"IF(P_16号2様式!E183= \"\",\"\",IF(VALUE(FIXED(P_16号2様式!E183,0,TRUE))<>P_16号2様式!E183,RIGHT(FIXED(P_16号2様式!E183,3,FALSE),4),\"\"))","v":""},{"$f":"IF(P_16号2様式!F183<> \"\",TEXT(INT(P_16号2様式!F183),\"#,##0\"),\"\")","v":""},{"$f":"IF(P_16号2様式!F183= \"\",\"\",IF(VALUE(FIXED(P_16号2様式!F183,0,TRUE))<>P_16号2様式!F183,RIGHT(FIXED(P_16号2様式!F183,3,FALSE),4),\"\"))","v":""},{"$f":"IF(P_16号2様式!G183<> \"\",TEXT(INT(P_16号2様式!G183),\"#,##0\"),\"\")","v":""},{"$f":"IF(P_16号2様式!G183= \"\",\"\",IF(VALUE(FIXED(P_16号2様式!G183,0,TRUE))<>P_16号2様式!G183,RIGHT(FIXED(P_16号2様式!G183,3,FALSE),4),\"\"))","v":""},{"$f":"IF(P_16号2様式!H183<> \"\",TEXT(INT(P_16号2様式!H183),\"#,##0\"),\"\")","v":""},{"$f":"IF(P_16号2様式!H183= \"\",\"\",IF(VALUE(FIXED(P_16号2様式!H183,0,TRUE))<>P_16号2様式!H183,RIGHT(FIXED(P_16号2様式!H183,3,FALSE),4),\"\"))","v":""},{"$f":"IF(P_16号2様式!I183<> \"\",TEXT(INT(P_16号2様式!I183),\"#,##0\"),\"\")","v":""},{"$f":"IF(P_16号2様式!I183= \"\",\"\",IF(VALUE(FIXED(P_16号2様式!I183,0,TRUE))<>P_16号2様式!I183,RIGHT(FIXED(P_16号2様式!I183,3,FALSE),4),\"\"))","v":""},{"$f":"IF(P_16号2様式!J183<> \"\",TEXT(INT(P_16号2様式!J183),\"#,##0\"),\"\")","v":""},{"$f":"IF(P_16号2様式!J183= \"\",\"\",IF(VALUE(FIXED(P_16号2様式!J183,0,TRUE))<>P_16号2様式!J183,RIGHT(FIXED(P_16号2様式!J183,3,FALSE),4),\"\"))","v":""},{"$f":"IF(P_16号2様式!K183<> \"\",TEXT(INT(P_16号2様式!K183),\"#,##0\"),\"\")","v":""},{"$f":"IF(P_16号2様式!K183= \"\",\"\",IF(VALUE(FIXED(P_16号2様式!K183,0,TRUE))<>P_16号2様式!K183,RIGHT(FIXED(P_16号2様式!K183,3,FALSE),4),\"\"))","v":""},{"$f":"IF(P_16号2様式!L183<> \"\",TEXT(INT(P_16号2様式!L183),\"#,##0\"),\"\")","v":""},{"$f":"IF(P_16号2様式!L183= \"\",\"\",IF(VALUE(FIXED(P_16号2様式!L183,0,TRUE))<>P_16号2様式!L183,RIGHT(FIXED(P_16号2様式!L183,3,FALSE),4),\"\"))","v":""},{"$f":"IF(P_16号2様式!M183=\"\",\"\",P_16号2様式!M183)","v":""},null,{"$f":"IF(P_16号2様式!N183=\"\",\"\",P_16号2様式!N183)","v":""},null,{"$f":"IF(P_16号2様式!O183=\"\",\"\",P_16号2様式!O183)","v":""}]
[{"$f":"IF(P_16号2様式!C184=\"\",\"\",P_16号2様式!C184)","v":""},null,{"$f":"IF(P_16号2様式!D184=\"\",\"\",P_16号2様式!D184)","v":""},{"$f":"IF(P_16号2様式!E184<> \"\",TEXT(INT(P_16号2様式!E184),\"#,##0\"),\"\")","v":""},{"$f":"IF(P_16号2様式!E184= \"\",\"\",IF(VALUE(FIXED(P_16号2様式!E184,0,TRUE))<>P_16号2様式!E184,RIGHT(FIXED(P_16号2様式!E184,3,FALSE),4),\"\"))","v":""},{"$f":"IF(P_16号2様式!F184<> \"\",TEXT(INT(P_16号2様式!F184),\"#,##0\"),\"\")","v":""},{"$f":"IF(P_16号2様式!F184= \"\",\"\",IF(VALUE(FIXED(P_16号2様式!F184,0,TRUE))<>P_16号2様式!F184,RIGHT(FIXED(P_16号2様式!F184,3,FALSE),4),\"\"))","v":""},{"$f":"IF(P_16号2様式!G184<> \"\",TEXT(INT(P_16号2様式!G184),\"#,##0\"),\"\")","v":""},{"$f":"IF(P_16号2様式!G184= \"\",\"\",IF(VALUE(FIXED(P_16号2様式!G184,0,TRUE))<>P_16号2様式!G184,RIGHT(FIXED(P_16号2様式!G184,3,FALSE),4),\"\"))","v":""},{"$f":"IF(P_16号2様式!H184<> \"\",TEXT(INT(P_16号2様式!H184),\"#,##0\"),\"\")","v":""},{"$f":"IF(P_16号2様式!H184= \"\",\"\",IF(VALUE(FIXED(P_16号2様式!H184,0,TRUE))<>P_16号2様式!H184,RIGHT(FIXED(P_16号2様式!H184,3,FALSE),4),\"\"))","v":""},{"$f":"IF(P_16号2様式!I184<> \"\",TEXT(INT(P_16号2様式!I184),\"#,##0\"),\"\")","v":""},{"$f":"IF(P_16号2様式!I184= \"\",\"\",IF(VALUE(FIXED(P_16号2様式!I184,0,TRUE))<>P_16号2様式!I184,RIGHT(FIXED(P_16号2様式!I184,3,FALSE),4),\"\"))","v":""},{"$f":"IF(P_16号2様式!J184<> \"\",TEXT(INT(P_16号2様式!J184),\"#,##0\"),\"\")","v":""},{"$f":"IF(P_16号2様式!J184= \"\",\"\",IF(VALUE(FIXED(P_16号2様式!J184,0,TRUE))<>P_16号2様式!J184,RIGHT(FIXED(P_16号2様式!J184,3,FALSE),4),\"\"))","v":""},{"$f":"IF(P_16号2様式!K184<> \"\",TEXT(INT(P_16号2様式!K184),\"#,##0\"),\"\")","v":""},{"$f":"IF(P_16号2様式!K184= \"\",\"\",IF(VALUE(FIXED(P_16号2様式!K184,0,TRUE))<>P_16号2様式!K184,RIGHT(FIXED(P_16号2様式!K184,3,FALSE),4),\"\"))","v":""},{"$f":"IF(P_16号2様式!L184<> \"\",TEXT(INT(P_16号2様式!L184),\"#,##0\"),\"\")","v":""},{"$f":"IF(P_16号2様式!L184= \"\",\"\",IF(VALUE(FIXED(P_16号2様式!L184,0,TRUE))<>P_16号2様式!L184,RIGHT(FIXED(P_16号2様式!L184,3,FALSE),4),\"\"))","v":""},{"$f":"IF(P_16号2様式!M184=\"\",\"\",P_16号2様式!M184)","v":""},null,{"$f":"IF(P_16号2様式!N184=\"\",\"\",P_16号2様式!N184)","v":""},null,{"$f":"IF(P_16号2様式!O184=\"\",\"\",P_16号2様式!O184)","v":""}]
[{"$f":"IF(P_16号2様式!C185=\"\",\"\",P_16号2様式!C185)","v":""},null,{"$f":"IF(P_16号2様式!D185=\"\",\"\",P_16号2様式!D185)","v":""},{"$f":"IF(P_16号2様式!E185<> \"\",TEXT(INT(P_16号2様式!E185),\"#,##0\"),\"\")","v":""},{"$f":"IF(P_16号2様式!E185= \"\",\"\",IF(VALUE(FIXED(P_16号2様式!E185,0,TRUE))<>P_16号2様式!E185,RIGHT(FIXED(P_16号2様式!E185,3,FALSE),4),\"\"))","v":""},{"$f":"IF(P_16号2様式!F185<> \"\",TEXT(INT(P_16号2様式!F185),\"#,##0\"),\"\")","v":""},{"$f":"IF(P_16号2様式!F185= \"\",\"\",IF(VALUE(FIXED(P_16号2様式!F185,0,TRUE))<>P_16号2様式!F185,RIGHT(FIXED(P_16号2様式!F185,3,FALSE),4),\"\"))","v":""},{"$f":"IF(P_16号2様式!G185<> \"\",TEXT(INT(P_16号2様式!G185),\"#,##0\"),\"\")","v":""},{"$f":"IF(P_16号2様式!G185= \"\",\"\",IF(VALUE(FIXED(P_16号2様式!G185,0,TRUE))<>P_16号2様式!G185,RIGHT(FIXED(P_16号2様式!G185,3,FALSE),4),\"\"))","v":""},{"$f":"IF(P_16号2様式!H185<> \"\",TEXT(INT(P_16号2様式!H185),\"#,##0\"),\"\")","v":""},{"$f":"IF(P_16号2様式!H185= \"\",\"\",IF(VALUE(FIXED(P_16号2様式!H185,0,TRUE))<>P_16号2様式!H185,RIGHT(FIXED(P_16号2様式!H185,3,FALSE),4),\"\"))","v":""},{"$f":"IF(P_16号2様式!I185<> \"\",TEXT(INT(P_16号2様式!I185),\"#,##0\"),\"\")","v":""},{"$f":"IF(P_16号2様式!I185= \"\",\"\",IF(VALUE(FIXED(P_16号2様式!I185,0,TRUE))<>P_16号2様式!I185,RIGHT(FIXED(P_16号2様式!I185,3,FALSE),4),\"\"))","v":""},{"$f":"IF(P_16号2様式!J185<> \"\",TEXT(INT(P_16号2様式!J185),\"#,##0\"),\"\")","v":""},{"$f":"IF(P_16号2様式!J185= \"\",\"\",IF(VALUE(FIXED(P_16号2様式!J185,0,TRUE))<>P_16号2様式!J185,RIGHT(FIXED(P_16号2様式!J185,3,FALSE),4),\"\"))","v":""},{"$f":"IF(P_16号2様式!K185<> \"\",TEXT(INT(P_16号2様式!K185),\"#,##0\"),\"\")","v":""},{"$f":"IF(P_16号2様式!K185= \"\",\"\",IF(VALUE(FIXED(P_16号2様式!K185,0,TRUE))<>P_16号2様式!K185,RIGHT(FIXED(P_16号2様式!K185,3,FALSE),4),\"\"))","v":""},{"$f":"IF(P_16号2様式!L185<> \"\",TEXT(INT(P_16号2様式!L185),\"#,##0\"),\"\")","v":""},{"$f":"IF(P_16号2様式!L185= \"\",\"\",IF(VALUE(FIXED(P_16号2様式!L185,0,TRUE))<>P_16号2様式!L185,RIGHT(FIXED(P_16号2様式!L185,3,FALSE),4),\"\"))","v":""},{"$f":"IF(P_16号2様式!M185=\"\",\"\",P_16号2様式!M185)","v":""},null,{"$f":"IF(P_16号2様式!N185=\"\",\"\",P_16号2様式!N185)","v":""},null,{"$f":"IF(P_16号2様式!O185=\"\",\"\",P_16号2様式!O185)","v":""}]
[{"$f":"IF(P_16号2様式!C186=\"\",\"\",P_16号2様式!C186)","v":""},null,{"$f":"IF(P_16号2様式!D186=\"\",\"\",P_16号2様式!D186)","v":""},{"$f":"IF(P_16号2様式!E186<> \"\",TEXT(INT(P_16号2様式!E186),\"#,##0\"),\"\")","v":""},{"$f":"IF(P_16号2様式!E186= \"\",\"\",IF(VALUE(FIXED(P_16号2様式!E186,0,TRUE))<>P_16号2様式!E186,RIGHT(FIXED(P_16号2様式!E186,3,FALSE),4),\"\"))","v":""},{"$f":"IF(P_16号2様式!F186<> \"\",TEXT(INT(P_16号2様式!F186),\"#,##0\"),\"\")","v":""},{"$f":"IF(P_16号2様式!F186= \"\",\"\",IF(VALUE(FIXED(P_16号2様式!F186,0,TRUE))<>P_16号2様式!F186,RIGHT(FIXED(P_16号2様式!F186,3,FALSE),4),\"\"))","v":""},{"$f":"IF(P_16号2様式!G186<> \"\",TEXT(INT(P_16号2様式!G186),\"#,##0\"),\"\")","v":""},{"$f":"IF(P_16号2様式!G186= \"\",\"\",IF(VALUE(FIXED(P_16号2様式!G186,0,TRUE))<>P_16号2様式!G186,RIGHT(FIXED(P_16号2様式!G186,3,FALSE),4),\"\"))","v":""},{"$f":"IF(P_16号2様式!H186<> \"\",TEXT(INT(P_16号2様式!H186),\"#,##0\"),\"\")","v":""},{"$f":"IF(P_16号2様式!H186= \"\",\"\",IF(VALUE(FIXED(P_16号2様式!H186,0,TRUE))<>P_16号2様式!H186,RIGHT(FIXED(P_16号2様式!H186,3,FALSE),4),\"\"))","v":""},{"$f":"IF(P_16号2様式!I186<> \"\",TEXT(INT(P_16号2様式!I186),\"#,##0\"),\"\")","v":""},{"$f":"IF(P_16号2様式!I186= \"\",\"\",IF(VALUE(FIXED(P_16号2様式!I186,0,TRUE))<>P_16号2様式!I186,RIGHT(FIXED(P_16号2様式!I186,3,FALSE),4),\"\"))","v":""},{"$f":"IF(P_16号2様式!J186<> \"\",TEXT(INT(P_16号2様式!J186),\"#,##0\"),\"\")","v":""},{"$f":"IF(P_16号2様式!J186= \"\",\"\",IF(VALUE(FIXED(P_16号2様式!J186,0,TRUE))<>P_16号2様式!J186,RIGHT(FIXED(P_16号2様式!J186,3,FALSE),4),\"\"))","v":""},{"$f":"IF(P_16号2様式!K186<> \"\",TEXT(INT(P_16号2様式!K186),\"#,##0\"),\"\")","v":""},{"$f":"IF(P_16号2様式!K186= \"\",\"\",IF(VALUE(FIXED(P_16号2様式!K186,0,TRUE))<>P_16号2様式!K186,RIGHT(FIXED(P_16号2様式!K186,3,FALSE),4),\"\"))","v":""},{"$f":"IF(P_16号2様式!L186<> \"\",TEXT(INT(P_16号2様式!L186),\"#,##0\"),\"\")","v":""},{"$f":"IF(P_16号2様式!L186= \"\",\"\",IF(VALUE(FIXED(P_16号2様式!L186,0,TRUE))<>P_16号2様式!L186,RIGHT(FIXED(P_16号2様式!L186,3,FALSE),4),\"\"))","v":""},{"$f":"IF(P_16号2様式!M186=\"\",\"\",P_16号2様式!M186)","v":""},null,{"$f":"IF(P_16号2様式!N186=\"\",\"\",P_16号2様式!N186)","v":""},null,{"$f":"IF(P_16号2様式!O186=\"\",\"\",P_16号2様式!O186)","v":""}]
[{"$f":"IF(P_16号2様式!C187=\"\",\"\",P_16号2様式!C187)","v":""},null,{"$f":"IF(P_16号2様式!D187=\"\",\"\",P_16号2様式!D187)","v":""},{"$f":"IF(P_16号2様式!E187<> \"\",TEXT(INT(P_16号2様式!E187),\"#,##0\"),\"\")","v":""},{"$f":"IF(P_16号2様式!E187= \"\",\"\",IF(VALUE(FIXED(P_16号2様式!E187,0,TRUE))<>P_16号2様式!E187,RIGHT(FIXED(P_16号2様式!E187,3,FALSE),4),\"\"))","v":""},{"$f":"IF(P_16号2様式!F187<> \"\",TEXT(INT(P_16号2様式!F187),\"#,##0\"),\"\")","v":""},{"$f":"IF(P_16号2様式!F187= \"\",\"\",IF(VALUE(FIXED(P_16号2様式!F187,0,TRUE))<>P_16号2様式!F187,RIGHT(FIXED(P_16号2様式!F187,3,FALSE),4),\"\"))","v":""},{"$f":"IF(P_16号2様式!G187<> \"\",TEXT(INT(P_16号2様式!G187),\"#,##0\"),\"\")","v":""},{"$f":"IF(P_16号2様式!G187= \"\",\"\",IF(VALUE(FIXED(P_16号2様式!G187,0,TRUE))<>P_16号2様式!G187,RIGHT(FIXED(P_16号2様式!G187,3,FALSE),4),\"\"))","v":""},{"$f":"IF(P_16号2様式!H187<> \"\",TEXT(INT(P_16号2様式!H187),\"#,##0\"),\"\")","v":""},{"$f":"IF(P_16号2様式!H187= \"\",\"\",IF(VALUE(FIXED(P_16号2様式!H187,0,TRUE))<>P_16号2様式!H187,RIGHT(FIXED(P_16号2様式!H187,3,FALSE),4),\"\"))","v":""},{"$f":"IF(P_16号2様式!I187<> \"\",TEXT(INT(P_16号2様式!I187),\"#,##0\"),\"\")","v":""},{"$f":"IF(P_16号2様式!I187= \"\",\"\",IF(VALUE(FIXED(P_16号2様式!I187,0,TRUE))<>P_16号2様式!I187,RIGHT(FIXED(P_16号2様式!I187,3,FALSE),4),\"\"))","v":""},{"$f":"IF(P_16号2様式!J187<> \"\",TEXT(INT(P_16号2様式!J187),\"#,##0\"),\"\")","v":""},{"$f":"IF(P_16号2様式!J187= \"\",\"\",IF(VALUE(FIXED(P_16号2様式!J187,0,TRUE))<>P_16号2様式!J187,RIGHT(FIXED(P_16号2様式!J187,3,FALSE),4),\"\"))","v":""},{"$f":"IF(P_16号2様式!K187<> \"\",TEXT(INT(P_16号2様式!K187),\"#,##0\"),\"\")","v":""},{"$f":"IF(P_16号2様式!K187= \"\",\"\",IF(VALUE(FIXED(P_16号2様式!K187,0,TRUE))<>P_16号2様式!K187,RIGHT(FIXED(P_16号2様式!K187,3,FALSE),4),\"\"))","v":""},{"$f":"IF(P_16号2様式!L187<> \"\",TEXT(INT(P_16号2様式!L187),\"#,##0\"),\"\")","v":""},{"$f":"IF(P_16号2様式!L187= \"\",\"\",IF(VALUE(FIXED(P_16号2様式!L187,0,TRUE))<>P_16号2様式!L187,RIGHT(FIXED(P_16号2様式!L187,3,FALSE),4),\"\"))","v":""},{"$f":"IF(P_16号2様式!M187=\"\",\"\",P_16号2様式!M187)","v":""},null,{"$f":"IF(P_16号2様式!N187=\"\",\"\",P_16号2様式!N187)","v":""},null,{"$f":"IF(P_16号2様式!O187=\"\",\"\",P_16号2様式!O187)","v":""}]
[{"$f":"IF(P_16号2様式!C188=\"\",\"\",P_16号2様式!C188)","v":""},null,{"$f":"IF(P_16号2様式!D188=\"\",\"\",P_16号2様式!D188)","v":""},{"$f":"IF(P_16号2様式!E188<> \"\",TEXT(INT(P_16号2様式!E188),\"#,##0\"),\"\")","v":""},{"$f":"IF(P_16号2様式!E188= \"\",\"\",IF(VALUE(FIXED(P_16号2様式!E188,0,TRUE))<>P_16号2様式!E188,RIGHT(FIXED(P_16号2様式!E188,3,FALSE),4),\"\"))","v":""},{"$f":"IF(P_16号2様式!F188<> \"\",TEXT(INT(P_16号2様式!F188),\"#,##0\"),\"\")","v":""},{"$f":"IF(P_16号2様式!F188= \"\",\"\",IF(VALUE(FIXED(P_16号2様式!F188,0,TRUE))<>P_16号2様式!F188,RIGHT(FIXED(P_16号2様式!F188,3,FALSE),4),\"\"))","v":""},{"$f":"IF(P_16号2様式!G188<> \"\",TEXT(INT(P_16号2様式!G188),\"#,##0\"),\"\")","v":""},{"$f":"IF(P_16号2様式!G188= \"\",\"\",IF(VALUE(FIXED(P_16号2様式!G188,0,TRUE))<>P_16号2様式!G188,RIGHT(FIXED(P_16号2様式!G188,3,FALSE),4),\"\"))","v":""},{"$f":"IF(P_16号2様式!H188<> \"\",TEXT(INT(P_16号2様式!H188),\"#,##0\"),\"\")","v":""},{"$f":"IF(P_16号2様式!H188= \"\",\"\",IF(VALUE(FIXED(P_16号2様式!H188,0,TRUE))<>P_16号2様式!H188,RIGHT(FIXED(P_16号2様式!H188,3,FALSE),4),\"\"))","v":""},{"$f":"IF(P_16号2様式!I188<> \"\",TEXT(INT(P_16号2様式!I188),\"#,##0\"),\"\")","v":""},{"$f":"IF(P_16号2様式!I188= \"\",\"\",IF(VALUE(FIXED(P_16号2様式!I188,0,TRUE))<>P_16号2様式!I188,RIGHT(FIXED(P_16号2様式!I188,3,FALSE),4),\"\"))","v":""},{"$f":"IF(P_16号2様式!J188<> \"\",TEXT(INT(P_16号2様式!J188),\"#,##0\"),\"\")","v":""},{"$f":"IF(P_16号2様式!J188= \"\",\"\",IF(VALUE(FIXED(P_16号2様式!J188,0,TRUE))<>P_16号2様式!J188,RIGHT(FIXED(P_16号2様式!J188,3,FALSE),4),\"\"))","v":""},{"$f":"IF(P_16号2様式!K188<> \"\",TEXT(INT(P_16号2様式!K188),\"#,##0\"),\"\")","v":""},{"$f":"IF(P_16号2様式!K188= \"\",\"\",IF(VALUE(FIXED(P_16号2様式!K188,0,TRUE))<>P_16号2様式!K188,RIGHT(FIXED(P_16号2様式!K188,3,FALSE),4),\"\"))","v":""},{"$f":"IF(P_16号2様式!L188<> \"\",TEXT(INT(P_16号2様式!L188),\"#,##0\"),\"\")","v":""},{"$f":"IF(P_16号2様式!L188= \"\",\"\",IF(VALUE(FIXED(P_16号2様式!L188,0,TRUE))<>P_16号2様式!L188,RIGHT(FIXED(P_16号2様式!L188,3,FALSE),4),\"\"))","v":""},{"$f":"IF(P_16号2様式!M188=\"\",\"\",P_16号2様式!M188)","v":""},null,{"$f":"IF(P_16号2様式!N188=\"\",\"\",P_16号2様式!N188)","v":""},null,{"$f":"IF(P_16号2様式!O188=\"\",\"\",P_16号2様式!O188)","v":""}]
[{"$f":"IF(P_16号2様式!C189=\"\",\"\",P_16号2様式!C189)","v":""},null,{"$f":"IF(P_16号2様式!D189=\"\",\"\",P_16号2様式!D189)","v":""},{"$f":"IF(P_16号2様式!E189<> \"\",TEXT(INT(P_16号2様式!E189),\"#,##0\"),\"\")","v":""},{"$f":"IF(P_16号2様式!E189= \"\",\"\",IF(VALUE(FIXED(P_16号2様式!E189,0,TRUE))<>P_16号2様式!E189,RIGHT(FIXED(P_16号2様式!E189,3,FALSE),4),\"\"))","v":""},{"$f":"IF(P_16号2様式!F189<> \"\",TEXT(INT(P_16号2様式!F189),\"#,##0\"),\"\")","v":""},{"$f":"IF(P_16号2様式!F189= \"\",\"\",IF(VALUE(FIXED(P_16号2様式!F189,0,TRUE))<>P_16号2様式!F189,RIGHT(FIXED(P_16号2様式!F189,3,FALSE),4),\"\"))","v":""},{"$f":"IF(P_16号2様式!G189<> \"\",TEXT(INT(P_16号2様式!G189),\"#,##0\"),\"\")","v":""},{"$f":"IF(P_16号2様式!G189= \"\",\"\",IF(VALUE(FIXED(P_16号2様式!G189,0,TRUE))<>P_16号2様式!G189,RIGHT(FIXED(P_16号2様式!G189,3,FALSE),4),\"\"))","v":""},{"$f":"IF(P_16号2様式!H189<> \"\",TEXT(INT(P_16号2様式!H189),\"#,##0\"),\"\")","v":""},{"$f":"IF(P_16号2様式!H189= \"\",\"\",IF(VALUE(FIXED(P_16号2様式!H189,0,TRUE))<>P_16号2様式!H189,RIGHT(FIXED(P_16号2様式!H189,3,FALSE),4),\"\"))","v":""},{"$f":"IF(P_16号2様式!I189<> \"\",TEXT(INT(P_16号2様式!I189),\"#,##0\"),\"\")","v":""},{"$f":"IF(P_16号2様式!I189= \"\",\"\",IF(VALUE(FIXED(P_16号2様式!I189,0,TRUE))<>P_16号2様式!I189,RIGHT(FIXED(P_16号2様式!I189,3,FALSE),4),\"\"))","v":""},{"$f":"IF(P_16号2様式!J189<> \"\",TEXT(INT(P_16号2様式!J189),\"#,##0\"),\"\")","v":""},{"$f":"IF(P_16号2様式!J189= \"\",\"\",IF(VALUE(FIXED(P_16号2様式!J189,0,TRUE))<>P_16号2様式!J189,RIGHT(FIXED(P_16号2様式!J189,3,FALSE),4),\"\"))","v":""},{"$f":"IF(P_16号2様式!K189<> \"\",TEXT(INT(P_16号2様式!K189),\"#,##0\"),\"\")","v":""},{"$f":"IF(P_16号2様式!K189= \"\",\"\",IF(VALUE(FIXED(P_16号2様式!K189,0,TRUE))<>P_16号2様式!K189,RIGHT(FIXED(P_16号2様式!K189,3,FALSE),4),\"\"))","v":""},{"$f":"IF(P_16号2様式!L189<> \"\",TEXT(INT(P_16号2様式!L189),\"#,##0\"),\"\")","v":""},{"$f":"IF(P_16号2様式!L189= \"\",\"\",IF(VALUE(FIXED(P_16号2様式!L189,0,TRUE))<>P_16号2様式!L189,RIGHT(FIXED(P_16号2様式!L189,3,FALSE),4),\"\"))","v":""},{"$f":"IF(P_16号2様式!M189=\"\",\"\",P_16号2様式!M189)","v":""},null,{"$f":"IF(P_16号2様式!N189=\"\",\"\",P_16号2様式!N189)","v":""},null,{"$f":"IF(P_16号2様式!O189=\"\",\"\",P_16号2様式!O189)","v":""}]
[{"$f":"IF(P_16号2様式!C190=\"\",\"\",P_16号2様式!C190)","v":""},null,{"$f":"IF(P_16号2様式!D190=\"\",\"\",P_16号2様式!D190)","v":""},{"$f":"IF(P_16号2様式!E190<> \"\",TEXT(INT(P_16号2様式!E190),\"#,##0\"),\"\")","v":""},{"$f":"IF(P_16号2様式!E190= \"\",\"\",IF(VALUE(FIXED(P_16号2様式!E190,0,TRUE))<>P_16号2様式!E190,RIGHT(FIXED(P_16号2様式!E190,3,FALSE),4),\"\"))","v":""},{"$f":"IF(P_16号2様式!F190<> \"\",TEXT(INT(P_16号2様式!F190),\"#,##0\"),\"\")","v":""},{"$f":"IF(P_16号2様式!F190= \"\",\"\",IF(VALUE(FIXED(P_16号2様式!F190,0,TRUE))<>P_16号2様式!F190,RIGHT(FIXED(P_16号2様式!F190,3,FALSE),4),\"\"))","v":""},{"$f":"IF(P_16号2様式!G190<> \"\",TEXT(INT(P_16号2様式!G190),\"#,##0\"),\"\")","v":""},{"$f":"IF(P_16号2様式!G190= \"\",\"\",IF(VALUE(FIXED(P_16号2様式!G190,0,TRUE))<>P_16号2様式!G190,RIGHT(FIXED(P_16号2様式!G190,3,FALSE),4),\"\"))","v":""},{"$f":"IF(P_16号2様式!H190<> \"\",TEXT(INT(P_16号2様式!H190),\"#,##0\"),\"\")","v":""},{"$f":"IF(P_16号2様式!H190= \"\",\"\",IF(VALUE(FIXED(P_16号2様式!H190,0,TRUE))<>P_16号2様式!H190,RIGHT(FIXED(P_16号2様式!H190,3,FALSE),4),\"\"))","v":""},{"$f":"IF(P_16号2様式!I190<> \"\",TEXT(INT(P_16号2様式!I190),\"#,##0\"),\"\")","v":""},{"$f":"IF(P_16号2様式!I190= \"\",\"\",IF(VALUE(FIXED(P_16号2様式!I190,0,TRUE))<>P_16号2様式!I190,RIGHT(FIXED(P_16号2様式!I190,3,FALSE),4),\"\"))","v":""},{"$f":"IF(P_16号2様式!J190<> \"\",TEXT(INT(P_16号2様式!J190),\"#,##0\"),\"\")","v":""},{"$f":"IF(P_16号2様式!J190= \"\",\"\",IF(VALUE(FIXED(P_16号2様式!J190,0,TRUE))<>P_16号2様式!J190,RIGHT(FIXED(P_16号2様式!J190,3,FALSE),4),\"\"))","v":""},{"$f":"IF(P_16号2様式!K190<> \"\",TEXT(INT(P_16号2様式!K190),\"#,##0\"),\"\")","v":""},{"$f":"IF(P_16号2様式!K190= \"\",\"\",IF(VALUE(FIXED(P_16号2様式!K190,0,TRUE))<>P_16号2様式!K190,RIGHT(FIXED(P_16号2様式!K190,3,FALSE),4),\"\"))","v":""},{"$f":"IF(P_16号2様式!L190<> \"\",TEXT(INT(P_16号2様式!L190),\"#,##0\"),\"\")","v":""},{"$f":"IF(P_16号2様式!L190= \"\",\"\",IF(VALUE(FIXED(P_16号2様式!L190,0,TRUE))<>P_16号2様式!L190,RIGHT(FIXED(P_16号2様式!L190,3,FALSE),4),\"\"))","v":""},{"$f":"IF(P_16号2様式!M190=\"\",\"\",P_16号2様式!M190)","v":""},null,{"$f":"IF(P_16号2様式!N190=\"\",\"\",P_16号2様式!N190)","v":""},null,{"$f":"IF(P_16号2様式!O190=\"\",\"\",P_16号2様式!O190)","v":""}]
[{"$f":"IF(P_16号2様式!C191=\"\",\"\",P_16号2様式!C191)","v":""},null,{"$f":"IF(P_16号2様式!D191=\"\",\"\",P_16号2様式!D191)","v":""},{"$f":"IF(P_16号2様式!E191<> \"\",TEXT(INT(P_16号2様式!E191),\"#,##0\"),\"\")","v":""},{"$f":"IF(P_16号2様式!E191= \"\",\"\",IF(VALUE(FIXED(P_16号2様式!E191,0,TRUE))<>P_16号2様式!E191,RIGHT(FIXED(P_16号2様式!E191,3,FALSE),4),\"\"))","v":""},{"$f":"IF(P_16号2様式!F191<> \"\",TEXT(INT(P_16号2様式!F191),\"#,##0\"),\"\")","v":""},{"$f":"IF(P_16号2様式!F191= \"\",\"\",IF(VALUE(FIXED(P_16号2様式!F191,0,TRUE))<>P_16号2様式!F191,RIGHT(FIXED(P_16号2様式!F191,3,FALSE),4),\"\"))","v":""},{"$f":"IF(P_16号2様式!G191<> \"\",TEXT(INT(P_16号2様式!G191),\"#,##0\"),\"\")","v":""},{"$f":"IF(P_16号2様式!G191= \"\",\"\",IF(VALUE(FIXED(P_16号2様式!G191,0,TRUE))<>P_16号2様式!G191,RIGHT(FIXED(P_16号2様式!G191,3,FALSE),4),\"\"))","v":""},{"$f":"IF(P_16号2様式!H191<> \"\",TEXT(INT(P_16号2様式!H191),\"#,##0\"),\"\")","v":""},{"$f":"IF(P_16号2様式!H191= \"\",\"\",IF(VALUE(FIXED(P_16号2様式!H191,0,TRUE))<>P_16号2様式!H191,RIGHT(FIXED(P_16号2様式!H191,3,FALSE),4),\"\"))","v":""},{"$f":"IF(P_16号2様式!I191<> \"\",TEXT(INT(P_16号2様式!I191),\"#,##0\"),\"\")","v":""},{"$f":"IF(P_16号2様式!I191= \"\",\"\",IF(VALUE(FIXED(P_16号2様式!I191,0,TRUE))<>P_16号2様式!I191,RIGHT(FIXED(P_16号2様式!I191,3,FALSE),4),\"\"))","v":""},{"$f":"IF(P_16号2様式!J191<> \"\",TEXT(INT(P_16号2様式!J191),\"#,##0\"),\"\")","v":""},{"$f":"IF(P_16号2様式!J191= \"\",\"\",IF(VALUE(FIXED(P_16号2様式!J191,0,TRUE))<>P_16号2様式!J191,RIGHT(FIXED(P_16号2様式!J191,3,FALSE),4),\"\"))","v":""},{"$f":"IF(P_16号2様式!K191<> \"\",TEXT(INT(P_16号2様式!K191),\"#,##0\"),\"\")","v":""},{"$f":"IF(P_16号2様式!K191= \"\",\"\",IF(VALUE(FIXED(P_16号2様式!K191,0,TRUE))<>P_16号2様式!K191,RIGHT(FIXED(P_16号2様式!K191,3,FALSE),4),\"\"))","v":""},{"$f":"IF(P_16号2様式!L191<> \"\",TEXT(INT(P_16号2様式!L191),\"#,##0\"),\"\")","v":""},{"$f":"IF(P_16号2様式!L191= \"\",\"\",IF(VALUE(FIXED(P_16号2様式!L191,0,TRUE))<>P_16号2様式!L191,RIGHT(FIXED(P_16号2様式!L191,3,FALSE),4),\"\"))","v":""},{"$f":"IF(P_16号2様式!M191=\"\",\"\",P_16号2様式!M191)","v":""},null,{"$f":"IF(P_16号2様式!N191=\"\",\"\",P_16号2様式!N191)","v":""},null,{"$f":"IF(P_16号2様式!O191=\"\",\"\",P_16号2様式!O191)","v":""}]
[{"$f":"IF(P_16号2様式!C192=\"\",\"\",P_16号2様式!C192)","v":""},null,{"$f":"IF(P_16号2様式!D192=\"\",\"\",P_16号2様式!D192)","v":""},{"$f":"IF(P_16号2様式!E192<> \"\",TEXT(INT(P_16号2様式!E192),\"#,##0\"),\"\")","v":""},{"$f":"IF(P_16号2様式!E192= \"\",\"\",IF(VALUE(FIXED(P_16号2様式!E192,0,TRUE))<>P_16号2様式!E192,RIGHT(FIXED(P_16号2様式!E192,3,FALSE),4),\"\"))","v":""},{"$f":"IF(P_16号2様式!F192<> \"\",TEXT(INT(P_16号2様式!F192),\"#,##0\"),\"\")","v":""},{"$f":"IF(P_16号2様式!F192= \"\",\"\",IF(VALUE(FIXED(P_16号2様式!F192,0,TRUE))<>P_16号2様式!F192,RIGHT(FIXED(P_16号2様式!F192,3,FALSE),4),\"\"))","v":""},{"$f":"IF(P_16号2様式!G192<> \"\",TEXT(INT(P_16号2様式!G192),\"#,##0\"),\"\")","v":""},{"$f":"IF(P_16号2様式!G192= \"\",\"\",IF(VALUE(FIXED(P_16号2様式!G192,0,TRUE))<>P_16号2様式!G192,RIGHT(FIXED(P_16号2様式!G192,3,FALSE),4),\"\"))","v":""},{"$f":"IF(P_16号2様式!H192<> \"\",TEXT(INT(P_16号2様式!H192),\"#,##0\"),\"\")","v":""},{"$f":"IF(P_16号2様式!H192= \"\",\"\",IF(VALUE(FIXED(P_16号2様式!H192,0,TRUE))<>P_16号2様式!H192,RIGHT(FIXED(P_16号2様式!H192,3,FALSE),4),\"\"))","v":""},{"$f":"IF(P_16号2様式!I192<> \"\",TEXT(INT(P_16号2様式!I192),\"#,##0\"),\"\")","v":""},{"$f":"IF(P_16号2様式!I192= \"\",\"\",IF(VALUE(FIXED(P_16号2様式!I192,0,TRUE))<>P_16号2様式!I192,RIGHT(FIXED(P_16号2様式!I192,3,FALSE),4),\"\"))","v":""},{"$f":"IF(P_16号2様式!J192<> \"\",TEXT(INT(P_16号2様式!J192),\"#,##0\"),\"\")","v":""},{"$f":"IF(P_16号2様式!J192= \"\",\"\",IF(VALUE(FIXED(P_16号2様式!J192,0,TRUE))<>P_16号2様式!J192,RIGHT(FIXED(P_16号2様式!J192,3,FALSE),4),\"\"))","v":""},{"$f":"IF(P_16号2様式!K192<> \"\",TEXT(INT(P_16号2様式!K192),\"#,##0\"),\"\")","v":""},{"$f":"IF(P_16号2様式!K192= \"\",\"\",IF(VALUE(FIXED(P_16号2様式!K192,0,TRUE))<>P_16号2様式!K192,RIGHT(FIXED(P_16号2様式!K192,3,FALSE),4),\"\"))","v":""},{"$f":"IF(P_16号2様式!L192<> \"\",TEXT(INT(P_16号2様式!L192),\"#,##0\"),\"\")","v":""},{"$f":"IF(P_16号2様式!L192= \"\",\"\",IF(VALUE(FIXED(P_16号2様式!L192,0,TRUE))<>P_16号2様式!L192,RIGHT(FIXED(P_16号2様式!L192,3,FALSE),4),\"\"))","v":""},{"$f":"IF(P_16号2様式!M192=\"\",\"\",P_16号2様式!M192)","v":""},null,{"$f":"IF(P_16号2様式!N192=\"\",\"\",P_16号2様式!N192)","v":""},null,{"$f":"IF(P_16号2様式!O192=\"\",\"\",P_16号2様式!O192)","v":""}]

{"sheet":"パラメタシート","index":1,"n_rows":1,"n_cols":2,"rows_kept":1,"cut":false,"hidden":false,"merged":[]}
["執行日","2017-10-22"]

{"sheet":"P_16号2様式","index":2,"n_rows":193,"n_cols":20,"rows_kept":193,"cut":false,"hidden":false,"merged":[]}
["頁番号","行番号","市区町村名","開票率","ア","イ","ウ","エ","オ","カ","キ","ク","無効投票率","開票確定時刻","確定表示","選挙名","翌日開票区分","報告回数","開票時刻","県計開票確定時刻"]
[1,1,"【 第 １ 区 】",null,null,null,null,null,null,null,null,null,null,null,null,"衆議院小選挙区選出議員選挙","0",null,null,"01:43:00"]
[1,2,"　鹿児島市１区",100,182808,0,0,182808,3161,185969,14,185983,1.69974565653415,"01:43:00","確定","衆議院小選挙区選出議員選挙","0",null,null,"01:43:00"]
[1,3,"＊市　部    計",100,182808,0,0,182808,3161,185969,14,185983,1.69974565653415,"01:43:00","確定","衆議院小選挙区選出議員選挙","0",null,null,"01:43:00"]
[1,4,"　三島村",100,230,0,0,230,10,240,0,240,4.1666666666666696,"20:23:00","確定","衆議院小選挙区選出議員選挙","0",null,null,"01:43:00"]
[1,5,"　十島村",100,453,0,0,453,12,465,0,465,2.5806451612903198,"20:32:00","確定","衆議院小選挙区選出議員選挙","0",null,null,"01:43:00"]
[1,6,"＊（鹿児島郡）計",100,683,0,0,683,22,705,0,705,3.12056737588652,"20:32:00","確定","衆議院小選挙区選出議員選挙","0",null,null,"01:43:00"]
[1,7,"＊郡　部    計",100,683,0,0,683,22,705,0,705,3.12056737588652,"20:32:00","確定","衆議院小選挙区選出議員選挙","0",null,null,"01:43:00"]
[1,8,"＊第 １ 区  計",100,183491,0,0,183491,3183,186674,14,186688,1.70511158490202,"01:43:00","確定","衆議院小選挙区選出議員選挙","0",null,null,"01:43:00"]
[1,9,null,null,null,null,null,null,null,null,null,null,null,null,null,"衆議院小選挙区選出議員選挙","0",null,null,"01:43:00"]
[1,10,null,null,null,null,null,null,null,null,null,null,null,null,null,"衆議院小選挙区選出議員選挙","0",null,null,"01:43:00"]
[1,11,null,null,null,null,null,null,null,null,null,null,null,null,null,"衆議院小選挙区選出議員選挙","0",null,null,"01:43:00"]
[1,12,null,null,null,null,null,null,null,null,null,null,null,null,null,"衆議院小選挙区選出議員選挙","0",null,null,"01:43:00"]
[1,13,null,null,null,null,null,null,null,null,null,null,null,null,null,"衆議院小選挙区選出議員選挙","0",null,null,"01:43:00"]
[1,14,null,null,null,null,null,null,null,null,null,null,null,null,null,"衆議院小選挙区選出議員選挙","0",null,null,"01:43:00"]
[1,15,null,null,null,null,null,null,null,null,null,null,null,null,null,"衆議院小選挙区選出議員選挙","0",null,null,"01:43:00"]
[1,16,null,null,null,null,null,null,null,null,null,null,null,null,null,"衆議院小選挙区選出議員選挙","0",null,null,"01:43:00"]
[1,17,null,null,null,null,null,null,null,null,null,null,null,null,null,"衆議院小選挙区選出議員選挙","0",null,null,"01:43:00"]
[1,18,null,null,null,null,null,null,null,null,null,null,null,null,null,"衆議院小選挙区選出議員選挙","0",null,null,"01:43:00"]
[1,19,null,null,null,null,null,null,null,null,null,null,null,null,null,"衆議院小選挙区選出議員選挙","0",null,null,"01:43:00"]
[1,20,null,null,null,null,null,null,null,null,null,null,null,null,null,"衆議院小選挙区選出議員選挙","0",null,null,"01:43:00"]
[1,21,null,null,null,null,null,null,null,null,null,null,null,null,null,"衆議院小選挙区選出議員選挙","0",null,null,"01:43:00"]
[1,22,null,null,null,null,null,null,null,null,null,null,null,null,null,"衆議院小選挙区選出議員選挙","0",null,null,"01:43:00"]
[1,23,null,null,null,null,null,null,null,null,null,null,null,null,null,"衆議院小選挙区選出議員選挙","0",null,null,"01:43:00"]
[1,24,null,null,null,null,null,null,null,null,null,null,null,null,null,"衆議院小選挙区選出議員選挙","0",null,null,"01:43:00"]
[1,25,null,null,null,null,null,null,null,null,null,null,null,null,null,"衆議院小選挙区選出議員選挙","0",null,null,"01:43:00"]
[1,26,null,null,null,null,null,null,null,null,null,null,null,null,null,"衆議院小選挙区選出議員選挙","0",null,null,"01:43:00"]
[1,27,null,null,null,null,null,null,null,null,null,null,null,null,null,"衆議院小選挙区選出議員選挙","0",null,null,"01:43:00"]
[1,28,null,null,null,null,null,null,null,null,null,null,null,null,null,"衆議院小選挙区選出議員選挙","0",null,null,"01:43:00"]
[1,29,null,null,null,null,null,null,null,null,null,null,null,null,null,"衆議院小選挙区選出議員選挙","0",null,null,"01:43:00"]
[1,30,null,null,null,null,null,null,null,null,null,null,null,null,null,"衆議院小選挙区選出議員選挙","0",null,null,"01:43:00"]
[1,31,null,null,null,null,null,null,null,null,null,null,null,null,null,"衆議院小選挙区選出議員選挙","0",null,null,"01:43:00"]
[1,32,null,null,null,null,null,null,null,null,null,null,null,null,null,"衆議院小選挙区選出議員選挙","0",null,null,"01:43:00"]
[1,33,null,null,null,null,null,null,null,null,null,null,null,null,null,"衆議院小選挙区選出議員選挙","0",null,null,"01:43:00"]
[1,34,null,null,null,null,null,null,null,null,null,null,null,null,null,"衆議院小選挙区選出議員選挙","0",null,null,"01:43:00"]
[1,35,null,null,null,null,null,null,null,null,null,null,null,null,null,"衆議院小選挙区選出議員選挙","0",null,null,"01:43:00"]
[1,36,null,null,null,null,null,null,null,null,null,null,null,null,null,"衆議院小選挙区選出議員選挙","0",null,null,"01:43:00"]
[1,37,null,null,null,null,null,null,null,null,null,null,null,null,null,"衆議院小選挙区選出議員選挙","0",null,null,"01:43:00"]
[1,38,null,null,null,null,null,null,null,null,null,null,null,null,null,"衆議院小選挙区選出議員選挙","0",null,null,"01:43:00"]
[1,39,null,null,null,null,null,null,null,null,null,null,null,null,null,"衆議院小選挙区選出議員選挙","0",null,null,"01:43:00"]
[1,40,null,null,null,null,null,null,null,null,null,null,null,null,null,"衆議院小選挙区選出議員選挙","0",null,null,"01:43:00"]
[1,41,null,null,null,null,null,null,null,null,null,null,null,null,null,"衆議院小選挙区選出議員選挙","0",null,null,"01:43:00"]
[1,42,null,null,null,null,null,null,null,null,null,null,null,null,null,"衆議院小選挙区選出議員選挙","0",null,null,"01:43:00"]
[1,43,null,null,null,null,null,null,null,null,null,null,null,null,null,"衆議院小選挙区選出議員選挙","0",null,null,"01:43:00"]
[1,44,null,null,null,null,null,null,null,null,null,null,null,null,null,"衆議院小選挙区選出議員選挙","0",null,null,"01:43:00"]
[1,45,null,null,null,null,null,null,null,null,null,null,null,null,null,"衆議院小選挙区選出議員選挙","0",null,null,"01:43:00"]
[1,46,null,null,null,null,null,null,null,null,null,null,null,null,null,"衆議院小選挙区選出議員選挙","0",null,null,"01:43:00"]
[1,47,null,null,null,null,null,null,null,null,null,null,null,null,null,"衆議院小選挙区選出議員選挙","0",null,null,"01:43:00"]
[1,48,null,null,null,null,null,null,null,null,null,null,null,null,null,"衆議院小選挙区選出議員選挙","0",null,null,"01:43:00"]
[2,1,"【 第 ２ 区 】",null,null,null,null,null,null,null,null,null,null,null,null,"衆議院小選挙区選出議員選挙","0",null,null,"01:43:00"]
[2,2,"　鹿児島市２区",100,64924,0,0,64924,1724,66648,3,66651,2.5867242827991799,"01:38:00","確定","衆議院小選挙区選出議員選挙","0",null,null,"01:43:00"]
[2,3,"　枕崎市",100,9718,0,0,9718,213,9931,1,9932,2.14479911388581,"21:24:00","確定","衆議院小選挙区選出議員選挙","0",null,null,"01:43:00"]
[2,4,"　指宿市",100,18349,0,0,18349,463,18812,0,18812,2.4611949819264298,"23:15:00","確定","衆議院小選挙区選出議員選挙","0",null,null,"01:43:00"]
[2,5,"　南さつま市",100,17419,0,0,17419,408,17827,2,17829,2.2886632635889401,"21:53:00","確定","衆議院小選挙区選出議員選挙","0",null,null,"01:43:00"]
[2,6,"　奄美市",100,22185,0,0,22185,392,22577,0,22577,1.7362802852460499,"22:00:00","確定","衆議院小選挙区選出議員選挙","0",null,null,"01:43:00"]
[2,7,"　南九州市",100,17138,0,0,17138,328,17466,0,17466,1.8779342723004699,"21:14:00","確定","衆議院小選挙区選出議員選挙","0",null,null,"01:43:00"]
[2,8,"＊市　部    計",100,149733,0,0,149733,3528,153261,6,153267,2.3019554876974602,"01:38:00","確定","衆議院小選挙区選出議員選挙","0",null,null,"01:43:00"]
[2,9,"　大和村",100,962,0,0,962,20,982,0,982,2.0366598778004099,"21:56:00","確定","衆議院小選挙区選出議員選挙","0",null,null,"01:43:00"]
[2,10,"　宇検村",100,1324,0,0,1324,28,1352,0,1352,2.0710059171597601,"20:49:00","確定","衆議院小選挙区選出議員選挙","0",null,null,"01:43:00"]
[2,11,"　瀬戸内町",100,5844,0,0,5844,129,5973,0,5973,2.15971873430437,"21:32:00","確定","衆議院小選挙区選出議員選挙","0",null,null,"01:43:00"]
[2,12,"　龍郷町",100,4093,0,0,4093,143,4236,0,4236,3.3758262511803601,"22:05:00","確定","衆議院小選挙区選出議員選挙","0",null,null,"01:43:00"]
[2,13,"　喜界町",100,4184,0,0,4184,133,4317,0,4317,3.0808431781329602,"21:35:00","確定","衆議院小選挙区選出議員選挙","0",null,null,"01:43:00"]
[2,14,"　徳之島町",100,5940,0,0,5940,98,6038,0,6038,1.6230539913878801,"23:05:00","確定","衆議院小選挙区選出議員選挙","0",null,null,"01:43:00"]
[2,15,"　天城町",100,3383,0,0,3383,77,3460,0,3460,2.2254335260115599,"21:30:00","確定","衆議院小選挙区選出議員選挙","0",null,null,"01:43:00"]
[2,16,"　伊仙町",100,4772,0,0,4772,335,5107,0,5107,6.5596240454278396,"22:08:00","確定","衆議院小選挙区選出議員選挙","0",null,null,"01:43:00"]
[2,17,"　和泊町",100,3926,0,0,3926,56,3982,0,3982,1.4063284781516801,"21:52:00","確定","衆議院小選挙区選出議員選挙","0",null,null,"01:43:00"]
[2,18,"　知名町",100,3500,0,0,3500,79,3579,0,3579,2.2073204805811701,"21:53:00","確定","衆議院小選挙区選出議員選挙","0",null,null,"01:43:00"]
[2,19,"　与論町",100,3010,0,0,3010,64,3074,-1,3073,2.0819778789850401,"23:13:00","確定","衆議院小選挙区選出議員選挙","0",null,null,"01:43:00"]
[2,20,"＊（大島郡）計",100,40938,0,0,40938,1162,42100,-1,42099,2.76009501187648,"23:13:00","確定","衆議院小選挙区選出議員選挙","0",null,null,"01:43:00"]
[2,21,"＊郡　部    計",100,40938,0,0,40938,1162,42100,-1,42099,2.76009501187648,"23:13:00","確定","衆議院小選挙区選出議員選挙","0",null,null,"01:43:00"]
[2,22,"＊第 ２ 区  計",100,190671,0,0,190671,4690,195361,5,195366,2.4006838621833402,"01:38:00","確定","衆議院小選挙区選出議員選挙","0",null,null,"01:43:00"]
[2,23,null,null,null,null,null,null,null,null,null,null,null,null,null,"衆議院小選挙区選出議員選挙","0",null,null,"01:43:00"]
[2,24,null,null,null,null,null,null,null,null,null,null,null,null,null,"衆議院小選挙区選出議員選挙","0",null,null,"01:43:00"]
[2,25,null,null,null,null,null,null,null,null,null,null,null,null,null,"衆議院小選挙区選出議員選挙","0",null,null,"01:43:00"]
[2,26,null,null,null,null,null,null,null,null,null,null,null,null,null,"衆議院小選挙区選出議員選挙","0",null,null,"01:43:00"]
[2,27,null,null,null,null,null,null,null,null,null,null,null,null,null,"衆議院小選挙区選出議員選挙","0",null,null,"01:43:00"]
[2,28,null,null,null,null,null,null,null,null,null,null,null,null,null,"衆議院小選挙区選出議員選挙","0",null,null,"01:43:00"]
[2,29,null,null,null,null,null,null,null,null,null,null,null,null,null,"衆議院小選挙区選出議員選挙","0",null,null,"01:43:00"]
[2,30,null,null,null,null,null,null,null,null,null,null,null,null,null,"衆議院小選挙区選出議員選挙","0",null,null,"01:43:00"]
[2,31,null,null,null,null,null,null,null,null,null,null,null,null,null,"衆議院小選挙区選出議員選挙","0",null,null,"01:43:00"]
[2,32,null,null,null,null,null,null,null,null,null,null,null,null,null,"衆議院小選挙区選出議員選挙","0",null,null,"01:43:00"]
[2,33,null,null,null,null,null,null,null,null,null,null,null,null,null,"衆議院小選挙区選出議員選挙","0",null,null,"01:43:00"]
[2,34,null,null,null,null,null,null,null,null,null,null,null,null,null,"衆議院小選挙区選出議員選挙","0",null,null,"01:43:00"]
[2,35,null,null,null,null,null,null,null,null,null,null,null,null,null,"衆議院小選挙区選出議員選挙","0",null,null,"01:43:00"]
[2,36,null,null,null,null,null,null,null,null,null,null,null,null,null,"衆議院小選挙区選出議員選挙","0",null,null,"01:43:00"]
[2,37,null,null,null,null,null,null,null,null,null,null,null,null,null,"衆議院小選挙区選出議員選挙","0",null,null,"01:43:00"]
[2,38,null,null,null,null,null,null,null,null,null,null,null,null,null,"衆議院小選挙区選出議員選挙","0",null,null,"01:43:00"]
[2,39,null,null,null,null,null,null,null,null,null,null,null,null,null,"衆議院小選挙区選出議員選挙","0",null,null,"01:43:00"]
[2,40,null,null,null,null,null,null,null,null,null,null,null,null,null,"衆議院小選挙区選出議員選挙","0",null,null,"01:43:00"]
[2,41,null,null,null,null,null,null,null,null,null,null,null,null,null,"衆議院小選挙区選出議員選挙","0",null,null,"01:43:00"]
[2,42,null,null,null,null,null,null,null,null,null,null,null,null,null,"衆議院小選挙区選出議員選挙","0",null,null,"01:43:00"]
[2,43,null,null,null,null,null,null,null,null,null,null,null,null,null,"衆議院小選挙区選出議員選挙","0",null,null,"01:43:00"]
[2,44,null,null,null,null,null,null,null,null,null,null,null,null,null,"衆議院小選挙区選出議員選挙","0",null,null,"01:43:00"]
[2,45,null,null,null,null,null,null,null,null,null,null,null,null,null,"衆議院小選挙区選出議員選挙","0",null,null,"01:43:00"]
[2,46,null,null,null,null,null,null,null,null,null,null,null,null,null,"衆議院小選挙区選出議員選挙","0",null,null,"01:43:00"]
[2,47,null,null,null,null,null,null,null,null,null,null,null,null,null,"衆議院小選挙区選出議員選挙","0",null,null,"01:43:00"]
[2,48,null,null,null,null,null,null,null,null,null,null,null,null,null,"衆議院小選挙区選出議員選挙","0",null,null,"01:43:00"]
[3,1,"【 第 ３ 区 】",null,null,null,null,null,null,null,null,null,null,null,null,"衆議院小選挙区選出議員選挙","0",null,null,"01:43:00"]
[3,2,"　阿久根市",100,11361,0,0,11361,137,11498,0,11498,1.1915115672290799,"21:54:00","確定","衆議院小選挙区選出議員選挙","0",null,null,"01:43:00"]
[3,3,"　出水市",100,25708,0,0,25708,348,26056,0,26056,1.3355848940743,"22:39:00","確定","衆議院小選挙区選出議員選挙","0",null,null,"01:43:00"]
[3,4,"　薩摩川内市第１",100,45963,0,0,45963,467,46430,2,46432,1.0058152056859799,"22:34:00","確定","衆議院小選挙区選出議員選挙","0",null,null,"01:43:00"]
[3,5,"　薩摩川内市第２",100,1523,0,0,1523,29,1552,0,1552,1.8685567010309301,"21:01:00","確定","衆議院小選挙区選出議員選挙","0",null,null,"01:43:00"]
[3,6,"　薩摩川内市第３",100,1386,0,0,1386,19,1405,0,1405,1.3523131672597899,"20:45:00","確定","衆議院小選挙区選出議員選挙","0",null,null,"01:43:00"]
[3,7,"＊（薩摩川内市）計",100,48872,0,0,48872,515,49387,2,49389,1.0427845384412899,"22:34:00","確定","衆議院小選挙区選出議員選挙","0",null,null,"01:43:00"]
[3,8,"　日置市",100,25131,0,0,25131,313,25444,0,25444,1.23015249174658,"22:55:00","確定","衆議院小選挙区選出議員選挙","0",null,null,"01:43:00"]
[3,9,"　いちき串木野市",100,17996,0,0,17996,312,18308,0,18308,1.7041730391085901,"22:48:00","確定","衆議院小選挙区選出議員選挙","0",null,null,"01:43:00"]
[3,10,"　伊佐市",100,14252,0,0,14252,184,14436,1,14437,1.2745912995289601,"22:29:00","確定","衆議院小選挙区選出議員選挙","0",null,null,"01:43:00"]
[3,11,"　姶良市",100,36056,0,0,36056,571,36627,1,36628,1.5589592377208099,"23:07:00","確定","衆議院小選挙区選出議員選挙","0",null,null,"01:43:00"]
[3,12,"＊市　部    計",100,179376,0,0,179376,2380,181756,4,181760,1.30944783115826,"23:07:00","確定","衆議院小選挙区選出議員選挙","0",null,null,"01:43:00"]
[3,13,"　さつま町",100,12190,0,0,12190,136,12326,0,12326,1.10335875385364,"22:10:00","確定","衆議院小選挙区選出議員選挙","0",null,null,"01:43:00"]
[3,14,"＊（薩摩郡）計",100,12190,0,0,12190,136,12326,0,12326,1.10335875385364,"22:10:00","確定","衆議院小選挙区選出議員選挙","0",null,null,"01:43:00"]
[3,15,"　長島町",100,6446,0,0,6446,89,6535,0,6535,1.3618974751338899,"22:00:00","確定","衆議院小選挙区選出議員選挙","0",null,null,"01:43:00"]
[3,16,"＊（出水郡）計",100,6446,0,0,6446,89,6535,0,6535,1.3618974751338899,"22:00:00","確定","衆議院小選挙区選出議員選挙","0",null,null,"01:43:00"]
[3,17,"　湧水町",100,5334,0,0,5334,53,5387,0,5387,0.98385000928160404,"21:34:00","確定","衆議院小選挙区選出議員選挙","0",null,null,"01:43:00"]
[3,18,"＊（姶良郡）計",100,5334,0,0,5334,53,5387,0,5387,0.98385000928160404,"21:34:00","確定","衆議院小選挙区選出議員選挙","0",null,null,"01:43:00"]
[3,19,"＊郡　部    計",100,23970,0,0,23970,278,24248,0,24248,1.1464863081491301,"22:10:00","確定","衆議院小選挙区選出議員選挙","0",null,null,"01:43:00"]
[3,20,"＊第 ３ 区  計",100,203346,0,0,203346,2658,206004,4,206008,1.29026620842314,"23:07:00","確定","衆議院小選挙区選出議員選挙","0",null,null,"01:43:00"]
[3,21,null,null,null,null,null,null,null,null,null,null,null,null,null,"衆議院小選挙区選出議員選挙","0",null,null,"01:43:00"]
[3,22,null,null,null,null,null,null,null,null,null,null,null,null,null,"衆議院小選挙区選出議員選挙","0",null,null,"01:43:00"]
[3,23,null,null,null,null,null,null,null,null,null,null,null,null,null,"衆議院小選挙区選出議員選挙","0",null,null,"01:43:00"]
[3,24,null,null,null,null,null,null,null,null,null,null,null,null,null,"衆議院小選挙区選出議員選挙","0",null,null,"01:43:00"]
[3,25,null,null,null,null,null,null,null,null,null,null,null,null,null,"衆議院小選挙区選出議員選挙","0",null,null,"01:43:00"]
[3,26,null,null,null,null,null,null,null,null,null,null,null,null,null,"衆議院小選挙区選出議員選挙","0",null,null,"01:43:00"]
[3,27,null,null,null,null,null,null,null,null,null,null,null,null,null,"衆議院小選挙区選出議員選挙","0",null,null,"01:43:00"]
[3,28,null,null,null,null,null,null,null,null,null,null,null,null,null,"衆議院小選挙区選出議員選挙","0",null,null,"01:43:00"]
[3,29,null,null,null,null,null,null,null,null,null,null,null,null,null,"衆議院小選挙区選出議員選挙","0",null,null,"01:43:00"]
[3,30,null,null,null,null,null,null,null,null,null,null,null,null,null,"衆議院小選挙区選出議員選挙","0",null,null,"01:43:00"]
[3,31,null,null,null,null,null,null,null,null,null,null,null,null,null,"衆議院小選挙区選出議員選挙","0",null,null,"01:43:00"]
[3,32,null,null,null,null,null,null,null,null,null,null,null,null,null,"衆議院小選挙区選出議員選挙","0",null,null,"01:43:00"]
[3,33,null,null,null,null,null,null,null,null,null,null,null,null,null,"衆議院小選挙区選出議員選挙","0",null,null,"01:43:00"]
[3,34,null,null,null,null,null,null,null,null,null,null,null,null,null,"衆議院小選挙区選出議員選挙","0",null,null,"01:43:00"]
[3,35,null,null,null,null,null,null,null,null,null,null,null,null,null,"衆議院小選挙区選出議員選挙","0",null,null,"01:43:00"]
[3,36,null,null,null,null,null,null,null,null,null,null,null,null,null,"衆議院小選挙区選出議員選挙","0",null,null,"01:43:00"]
[3,37,null,null,null,null,null,null,null,null,null,null,null,null,null,"衆議院小選挙区選出議員選挙","0",null,null,"01:43:00"]
[3,38,null,null,null,null,null,null,null,null,null,null,null,null,null,"衆議院小選挙区選出議員選挙","0",null,null,"01:43:00"]
[3,39,null,null,null,null,null,null,null,null,null,null,null,null,null,"衆議院小選挙区選出議員選挙","0",null,null,"01:43:00"]
[3,40,null,null,null,null,null,null,null,null,null,null,null,null,null,"衆議院小選挙区選出議員選挙","0",null,null,"01:43:00"]
[3,41,null,null,null,null,null,null,null,null,null,null,null,null,null,"衆議院小選挙区選出議員選挙","0",null,null,"01:43:00"]
[3,42,null,null,null,null,null,null,null,null,null,null,null,null,null,"衆議院小選挙区選出議員選挙","0",null,null,"01:43:00"]
[3,43,null,null,null,null,null,null,null,null,null,null,null,null,null,"衆議院小選挙区選出議員選挙","0",null,null,"01:43:00"]
[3,44,null,null,null,null,null,null,null,null,null,null,null,null,null,"衆議院小選挙区選出議員選挙","0",null,null,"01:43:00"]
[3,45,null,null,null,null,null,null,null,null,null,null,null,null,null,"衆議院小選挙区選出議員選挙","0",null,null,"01:43:00"]
[3,46,null,null,null,null,null,null,null,null,null,null,null,null,null,"衆議院小選挙区選出議員選挙","0",null,null,"01:43:00"]
[3,47,null,null,null,null,null,null,null,null,null,null,null,null,null,"衆議院小選挙区選出議員選挙","0",null,null,"01:43:00"]
[3,48,null,null,null,null,null,null,null,null,null,null,null,null,null,"衆議院小選挙区選出議員選挙","0",null,null,"01:43:00"]
[4,1,"【 第 ４ 区 】",null,null,null,null,null,null,null,null,null,null,null,null,"衆議院小選挙区選出議員選挙","0",null,null,"01:43:00"]
[4,2,"　鹿屋市",100,42377,0,0,42377,1056,43433,2,43435,2.4313310155872299,"00:33:00","確定","衆議院小選挙区選出議員選挙","0",null,null,"01:43:00"]
[4,3,"　西之表市",100,6943,0,0,6943,168,7111,0,7111,2.3625369146392901,"21:38:00","確定","衆議院小選挙区選出議員選挙","0",null,null,"01:43:00"]
[4,4,"　垂水市",100,7916,0,0,7916,134,8050,0,8050,1.6645962732919299,"21:33:00","確定","衆議院小選挙区選出議員選挙","0",null,null,"01:43:00"]
[4,5,"　曽於市",100,17722,0,0,17722,217,17939,0,17939,1.2096549417470299,"22:27:00","確定","衆議院小選挙区選出議員選挙","0",null,null,"01:43:00"]
[4,6,"　霧島市",100,52261,0,0,52261,1517,53778,19,53797,2.8208561121648299,"23:32:00","確定","衆議院小選挙区選出議員選挙","0",null,null,"01:43:00"]
[4,7,"　志布志市",100,14568,0,0,14568,336,14904,0,14904,2.2544283413848598,"22:40:00","確定","衆議院小選挙区選出議員選挙","0",null,null,"01:43:00"]
[4,8,"＊市　部    計",100,141787,0,0,141787,3428,145215,21,145236,2.3606376751712999,"00:33:00","確定","衆議院小選挙区選出議員選挙","0",null,null,"01:43:00"]
[4,9,"　大崎町",100,6433,0,0,6433,106,6539,0,6539,1.62104297293164,"22:02:00","確定","衆議院小選挙区選出議員選挙","0",null,null,"01:43:00"]
[4,10,"＊（曽於郡）計",100,6433,0,0,6433,106,6539,0,6539,1.62104297293164,"22:02:00","確定","衆議院小選挙区選出議員選挙","0",null,null,"01:43:00"]
[4,11,"　東串良町",100,3114,0,0,3114,54,3168,0,3168,1.7045454545454499,"21:10:00","確定","衆議院小選挙区選出議員選挙","0",null,null,"01:43:00"]
[4,12,"　錦江町",100,4266,0,0,4266,83,4349,0,4349,1.90848470912854,"21:05:00","確定","衆議院小選挙区選出議員選挙","0",null,null,"01:43:00"]
[4,13,"　南大隅町",100,4332,0,0,4332,101,4433,0,4433,2.2783667944958301,"21:35:00","確定","衆議院小選挙区選出議員選挙","0",null,null,"01:43:00"]
[4,14,"　肝付町",100,7446,0,0,7446,161,7607,0,7607,2.1164716708295002,"21:21:00","確定","衆議院小選挙区選出議員選挙","0",null,null,"01:43:00"]
[4,15,"＊（肝属郡）計",100,19158,0,0,19158,399,19557,0,19557,2.04019021322289,"21:35:00","確定","衆議院小選挙区選出議員選挙","0",null,null,"01:43:00"]
[4,16,"　中種子町",100,4305,0,0,4305,84,4389,0,4389,1.91387559808612,"21:00:00","確定","衆議院小選挙区選出議員選挙","0",null,null,"01:43:00"]
[4,17,"　南種子町",100,3019,0,0,3019,55,3074,0,3074,1.7891997397527699,"21:12:00","確定","衆議院小選挙区選出議員選挙","0",null,null,"01:43:00"]
[4,18,"　屋久島町",100,6301,0,0,6301,173,6474,0,6474,2.6722273710225499,"21:13:00","確定","衆議院小選挙区選出議員選挙","0",null,null,"01:43:00"]
[4,19,"＊（熊毛郡）計",100,13625,0,0,13625,312,13937,0,13937,2.2386453325679798,"21:13:00","確定","衆議院小選挙区選出議員選挙","0",null,null,"01:43:00"]
[4,20,"＊郡　部    計",100,39216,0,0,39216,817,40033,0,40033,2.0408163265306101,"22:02:00","確定","衆議院小選挙区選出議員選挙","0",null,null,"01:43:00"]
[4,21,"＊第 ４ 区  計",100,181003,0,0,181003,4245,185248,21,185269,2.2915227154948998,"00:33:00","確定","衆議院小選挙区選出議員選挙","0",null,null,"01:43:00"]
[4,22,null,null,null,null,null,null,null,null,null,null,null,null,null,"衆議院小選挙区選出議員選挙","0",null,null,"01:43:00"]
[4,23,null,null,null,null,null,null,null,null,null,null,null,null,null,"衆議院小選挙区選出議員選挙","0",null,null,"01:43:00"]
[4,24,null,null,null,null,null,null,null,null,null,null,null,null,null,"衆議院小選挙区選出議員選挙","0",null,null,"01:43:00"]
[4,25,null,null,null,null,null,null,null,null,null,null,null,null,null,"衆議院小選挙区選出議員選挙","0",null,null,"01:43:00"]
[4,26,null,null,null,null,null,null,null,null,null,null,null,null,null,"衆議院小選挙区選出議員選挙","0",null,null,"01:43:00"]
[4,27,null,null,null,null,null,null,null,null,null,null,null,null,null,"衆議院小選挙区選出議員選挙","0",null,null,"01:43:00"]
[4,28,null,null,null,null,null,null,null,null,null,null,null,null,null,"衆議院小選挙区選出議員選挙","0",null,null,"01:43:00"]
[4,29,null,null,null,null,null,null,null,null,null,null,null,null,null,"衆議院小選挙区選出議員選挙","0",null,null,"01:43:00"]
[4,30,null,null,null,null,null,null,null,null,null,null,null,null,null,"衆議院小選挙区選出議員選挙","0",null,null,"01:43:00"]
[4,31,null,null,null,null,null,null,null,null,null,null,null,null,null,"衆議院小選挙区選出議員選挙","0",null,null,"01:43:00"]
[4,32,null,null,null,null,null,null,null,null,null,null,null,null,null,"衆議院小選挙区選出議員選挙","0",null,null,"01:43:00"]
[4,33,null,null,null,null,null,null,null,null,null,null,null,null,null,"衆議院小選挙区選出議員選挙","0",null,null,"01:43:00"]
[4,34,null,null,null,null,null,null,null,null,null,null,null,null,null,"衆議院小選挙区選出議員選挙","0",null,null,"01:43:00"]
[4,35,null,null,null,null,null,null,null,null,null,null,null,null,null,"衆議院小選挙区選出議員選挙","0",null,null,"01:43:00"]
[4,36,null,null,null,null,null,null,null,null,null,null,null,null,null,"衆議院小選挙区選出議員選挙","0",null,null,"01:43:00"]
[4,37,null,null,null,null,null,null,null,null,null,null,null,null,null,"衆議院小選挙区選出議員選挙","0",null,null,"01:43:00"]
[4,38,null,null,null,null,null,null,null,null,null,null,null,null,null,"衆議院小選挙区選出議員選挙","0",null,null,"01:43:00"]
[4,39,null,null,null,null,null,null,null,null,null,null,null,null,null,"衆議院小選挙区選出議員選挙","0",null,null,"01:43:00"]
[4,40,null,null,null,null,null,null,null,null,null,null,null,null,null,"衆議院小選挙区選出議員選挙","0",null,null,"01:43:00"]
[4,41,null,null,null,null,null,null,null,null,null,null,null,null,null,"衆議院小選挙区選出議員選挙","0",null,null,"01:43:00"]
[4,42,null,null,null,null,null,null,null,null,null,null,null,null,null,"衆議院小選挙区選出議員選挙","0",null,null,"01:43:00"]
[4,43,null,null,null,null,null,null,null,null,null,null,null,null,null,"衆議院小選挙区選出議員選挙","0",null,null,"01:43:00"]
[4,44,null,null,null,null,null,null,null,null,null,null,null,null,null,"衆議院小選挙区選出議員選挙","0",null,null,"01:43:00"]
[4,45,null,null,null,null,null,null,null,null,null,null,null,null,null,"衆議院小選挙区選出議員選挙","0",null,null,"01:43:00"]
[4,46,null,null,null,null,null,null,null,null,null,null,null,null,null,"衆議院小選挙区選出議員選挙","0",null,null,"01:43:00"]
[4,47,null,null,null,null,null,null,null,null,null,null,null,null,null,"衆議院小選挙区選出議員選挙","0",null,null,"01:43:00"]
[4,48,null,null,null,null,null,null,null,null,null,null,null,null,null,"衆議院小選挙区選出議員選挙","0",null,null,"01:43:00"]