{"text_format":"1","workbook":"xlsx","n_sheets":3,"sheets":["開票速報_152_","パラメタシート","P_15号2様式1"],"not_rendered":{"charts":0,"images":0,"macros":1,"external_links":1,"defined_names":9,"comments":0,"pivot_tables":0},"unopened":[],"bounds":{"document_bytes":16777216,"sheet_cells":100000,"rows_first":2000,"rows_last":500,"rows_between":2000,"halvings":0,"cell_chars":16384,"cell_head_chars":4096},"cells_cut":0,"cells_raw":0,"read":"whole","date_system":"1900"}

{"sheet":"開票速報_152_","index":0,"n_rows":199,"n_cols":26,"rows_kept":199,"cut":false,"hidden":false,"merged":[[0,23,1,25],[3,18,3,19],[11,17,11,18],[11,19,11,20],[11,21,11,22],[3,16,3,17],[3,20,3,24],[33,23,33,24],[12,21,13,22],[14,21,15,22],[12,15,13,16],[11,15,11,16],[14,15,15,16],[11,23,15,25],[29,23,29,24],[25,23,25,24],[54,20,54,24],[54,16,54,17],[12,17,13,18],[14,17,15,18],[12,19,13,20],[28,23,28,24],[31,23,31,24],[32,23,32,24],[4,20,4,24],[14,19,15,20],[22,23,22,24],[24,23,24,24],[30,23,30,24],[34,23,34,24],[23,23,23,24],[36,23,36,24],[0,0,1,3],[11,2,15,2],[0,9,1,14],[11,5,11,6],[14,5,15,6],[14,9,15,10],[11,13,11,14],[14,11,15,12],[12,9,13,10],[12,11,13,12],[14,13,15,14],[16,0,16,1],[31,0,31,1],[32,0,32,1],[19,0,19,1],[20,0,20,1],[21,0,21,1],[23,0,23,1],[24,0,24,1],[18,0,18,1],[2,1,2,5],[12,5,13,6],[10,0,10,2],[26,0,26,1],[27,0,27,1],[28,0,28,1],[11,3,11,4],[22,0,22,1],[17,0,17,1],[40,23,40,24],[41,23,41,24],[42,23,42,24],[16,23,16,24],[26,23,26,24],[27,23,27,24],[3,1,3,5],[11,7,11,8],[11,9,11,10],[11,11,11,12],[10,3,10,5],[11,0,15,1],[12,7,13,8],[14,7,15,8],[12,3,13,4],[14,3,15,4],[34,0,34,1],[35,0,35,1],[36,0,36,1],[40,0,40,1],[38,0,38,1],[39,0,39,1],[33,0,33,1],[25,0,25,1],[29,0,29,1],[12,13,13,14],[30,0,30,1],[191,0,191,1],[191,23,191,24],[192,0,192,1],[192,23,192,24],[193,0,193,1],[193,23,193,24],[194,0,194,1],[194,23,194,24],[195,0,195,1],[195,23,195,24],[196,0,196,1],[196,23,196,24],[197,0,197,1],[197,23,197,24],[198,0,198,1],[198,23,198,24],[182,0,182,1],[182,23,182,24],[183,0,183,1],[183,23,183,24],[184,0,184,1],[184,23,184,24],[185,0,185,1],[185,23,185,24],[186,0,186,1],[186,23,186,24],[187,0,187,1],[187,23,187,24],[188,0,188,1],[188,23,188,24],[189,0,189,1],[189,23,189,24],[190,0,190,1],[190,23,190,24],[173,0,173,1],[173,23,173,24],[174,0,174,1],[174,23,174,24],[175,0,175,1],[175,23,175,24],[176,0,176,1],[176,23,176,24],[177,0,177,1],[177,23,177,24],[178,0,178,1],[178,23,178,24],[179,0,179,1],[179,23,179,24],[180,0,180,1],[180,23,180,24],[181,0,181,1],[181,23,181,24],[165,5,166,6],[165,7,166,8],[167,7,168,8],[169,23,169,24],[170,0,170,1],[170,23,170,24],[167,21,168,22],[167,15,168,16],[164,0,168,1],[164,2,168,2],[164,11,164,12],[167,13,168,14],[171,0,171,1],[171,23,171,24],[169,0,169,1],[172,0,172,1],[172,23,172,24],[156,16,156,17],[156,20,156,24],[156,18,156,19],[165,17,166,18],[165,19,166,20],[165,21,166,22],[165,15,166,16],[167,17,168,18],[167,19,168,20],[163,0,163,2],[163,3,163,5],[155,1,155,5],[156,1,156,5],[164,3,164,4],[164,5,164,6],[164,7,164,8],[164,9,164,10],[157,20,157,24],[164,15,164,16],[164,17,164,18],[164,19,164,20],[164,21,164,22],[164,13,164,14],[164,23,168,25],[167,11,168,12],[165,13,166,14],[165,11,166,12],[167,3,168,4],[167,5,168,6],[165,3,166,4],[165,9,166,10],[167,9,168,10],[140,0,140,1],[140,23,140,24],[141,0,141,1],[141,23,141,24],[142,0,142,1],[142,23,142,24],[143,0,143,1],[143,23,143,24],[144,0,144,1],[144,23,144,24],[145,0,145,1],[145,23,145,24],[146,0,146,1],[146,23,146,24],[147,0,147,1],[147,23,147,24],[153,0,154,3],[153,9,154,14],[153,23,154,25],[131,0,131,1],[131,23,131,24],[132,0,132,1],[132,23,132,24],[133,0,133,1],[133,23,133,24],[134,0,134,1],[134,23,134,24],[135,0,135,1],[135,23,135,24],[136,0,136,1],[136,23,136,24],[137,0,137,1],[137,23,137,24],[138,0,138,1],[138,23,138,24],[139,0,139,1],[139,23,139,24],[122,0,122,1],[122,23,122,24],[123,0,123,1],[123,23,123,24],[124,0,124,1],[124,23,124,24],[125,0,125,1],[125,23,125,24],[126,0,126,1],[126,23,126,24],[127,0,127,1],[127,23,127,24],[128,0,128,1],[128,23,128,24],[129,0,129,1],[129,23,129,24],[130,0,130,1],[130,23,130,24],[113,15,113,16],[113,17,113,18],[114,3,115,4],[114,9,115,10],[114,11,115,12],[116,7,117,8],[118,23,118,24],[119,0,119,1],[119,23,119,24],[116,17,117,18],[116,19,117,20],[116,21,117,22],[120,0,120,1],[120,23,120,24],[118,0,118,1],[121,0,121,1],[121,23,121,24],[105,18,105,19],[105,16,105,17],[105,20,105,24],[113,23,117,25],[112,0,112,2],[112,3,112,5],[114,13,115,14],[114,15,115,16],[114,5,115,6],[106,20,106,24],[104,1,104,5],[105,1,105,5],[113,3,113,4],[113,5,113,6],[113,7,113,8],[113,9,113,10],[113,0,117,1],[113,2,117,2],[116,3,117,4],[116,5,117,6],[113,19,113,20],[113,21,113,22],[114,7,115,8],[114,17,115,18],[114,19,115,20],[114,21,115,22],[113,11,113,12],[113,13,113,14],[116,15,117,16],[116,9,117,10],[116,11,117,12],[116,13,117,14],[89,0,89,1],[89,23,89,24],[90,0,90,1],[90,23,90,24],[91,0,91,1],[91,23,91,24],[92,0,92,1],[92,23,92,24],[93,0,93,1],[93,23,93,24],[94,0,94,1],[94,23,94,24],[95,0,95,1],[95,23,95,24],[96,0,96,1],[96,23,96,24],[102,0,103,3],[102,9,103,14],[102,23,103,25],[80,0,80,1],[80,23,80,24],[81,0,81,1],[81,23,81,24],[82,0,82,1],[82,23,82,24],[83,0,83,1],[83,23,83,24],[84,0,84,1],[84,23,84,24],[85,0,85,1],[85,23,85,24],[86,0,86,1],[86,23,86,24],[87,0,87,1],[87,23,87,24],[88,0,88,1],[88,23,88,24],[71,0,71,1],[71,23,71,24],[72,0,72,1],[72,23,72,24],[73,0,73,1],[73,23,73,24],[74,0,74,1],[74,23,74,24],[75,0,75,1],[75,23,75,24],[76,0,76,1],[76,23,76,24],[77,0,77,1],[77,23,77,24],[78,0,78,1],[78,23,78,24],[79,0,79,1],[79,23,79,24],[69,23,69,24],[65,15,66,16],[65,19,66,20],[65,11,66,12],[65,13,66,14],[62,0,66,1],[65,17,66,18],[65,3,66,4],[65,5,66,6],[62,2,66,2],[65,7,66,8],[63,5,64,6],[63,11,64,12],[70,0,70,1],[70,23,70,24],[62,23,66,25],[68,0,68,1],[68,23,68,24],[69,0,69,1],[65,21,66,22],[62,21,62,22],[67,0,67,1],[65,9,66,10],[63,3,64,4],[67,23,67,24],[63,21,64,22],[61,0,61,2],[61,3,61,5],[53,1,53,5],[54,1,54,5],[44,0,44,1],[45,0,45,1],[42,0,42,1],[55,20,55,24],[62,3,62,4],[62,5,62,6],[62,7,62,8],[62,9,62,10],[62,15,62,16],[62,17,62,18],[62,19,62,20],[63,13,64,14],[63,15,64,16],[63,17,64,18],[43,0,43,1],[111,23,111,25],[60,23,60,25],[9,23,9,25],[162,23,162,25],[35,23,35,24],[51,0,52,3],[51,9,52,14],[51,23,52,25],[37,23,37,24],[38,23,38,24],[39,23,39,24],[44,23,44,24],[41,0,41,1],[37,0,37,1],[63,7,64,8],[63,9,64,10],[63,19,64,20],[54,18,54,19],[45,23,45,24],[62,11,62,12],[62,13,62,14],[43,23,43,24],[17,23,17,24],[18,23,18,24],[19,23,19,24],[20,23,20,24],[21,23,21,24]]}
["第15号の2様式",null,null,null,null,null,null,null,null,"開　票　速　報　",null,null,null,null,null,null,null,null,null,null,null,null,null,{"$f":"IF(P_15号2様式1!A2=\"\",\" ページ\", P_15号2様式1!A2 & \"ページ\")","v":"1ページ"}]
[]
[null,{"$f":"IF(パラメタシート!B1=\"\",\"\",パラメタシート!B1)","v":"2017-10-22"}]
[null,{"$f":"IF(P_15号2様式1!AW2=\"\",\"\",P_15号2様式1!AW2)","v":"衆議院小選挙区選出議員選挙"},null,null,null,null,null,null,null,null,null,null,null,null,null,null,{"$f":"IF(P_15号2様式1!AX2=\"0\",\"即日中間速報\",\"翌日中間速報\")","v":"即日中間速報"},null,{"$f":"IF(P_15号2様式1!AY2=\"\",\"第　　　回\",\"第 　\" & P_15号2様式1!AY2 & \"　回\")","v":"第 　6　回"},null,{"$f":"IF(P_15号2様式1!AZ2=\"\",\"     時 　  分　現在\",P_15号2様式1!AZ2)","v":"00:00:00"}]
[null,null,null,null,null,null,null,null,null,null,null,null,null,null,null,null,"　　結了報告",null,null,null,{"$f":"IF(P_15号2様式1!BA2=\"\",\"     時 　  分　結了\",P_15号2様式1!BA2)","v":"     時 　  分　結了"}]
[]
[]
[]
[]
[null,null,null,null,null,null,null,null,null,null,null,null,null,null,null,null,null,null,null,null,null,null,null,"鹿 児 島 県"]
[{"$f":"IF(P_15号2様式1!D2=\"\",\"\",P_15号2様式1!D2)","v":"衆議院鹿児島第１区"},null,null,{"$f":"IF(P_15号2様式1!E2=\"\",\"定　数　　　　　人\",P_15号2様式1!E2)","v":1}]
["市区町村名",null,"開票率",{"$f":"IF(TRIM(P_15号2様式1!H2)=\"\",\"\",VALUE(P_15号2様式1!H2))","v":1},null,{"$f":"IF(TRIM(P_15号2様式1!L2)=\"\",\"\",VALUE(P_15号2様式1!L2))","v":2},null,{"$f":"IF(TRIM(P_15号2様式1!P2)=\"\",\"\",VALUE(P_15号2様式1!P2))","v":3},null,{"$f":"IF(TRIM(P_15号2様式1!T2)=\"\",\"\",VALUE(P_15号2様式1!T2))","v":4},null,{"$f":"IF(TRIM(P_15号2様式1!X2)=\"\",\"\",VALUE(P_15号2様式1!X2))","v":""},null,{"$f":"IF(TRIM(P_15号2様式1!AB2)=\"\",\"\",VALUE(P_15号2様式1!AB2))","v":""},null,{"$f":"IF(TRIM(P_15号2様式1!AF2)=\"\",\"\",VALUE(P_15号2様式1!AF2))","v":""},null,{"$f":"IF(TRIM(P_15号2様式1!AJ2)=\"\",\"\",VALUE(P_15号2様式1!AJ2))","v":""},null,{"$f":"IF(TRIM(P_15号2様式1!AN2)=\"\",\"\",VALUE(P_15号2様式1!AN2))","v":""},null,{"$f":"IF(TRIM(P_15号2様式1!AR2)=\"\",\"\",VALUE(P_15号2様式1!AR2))","v":""},null,"小 計"]
[null,null,null,{"$f":"IF(P_15号2様式1!I2=\"\",\"\",P_15号2様式1!I2)","v":"立憲民主党"},null,{"$f":"IF(P_15号2様式1!M2=\"\",\"\",P_15号2様式1!M2)","v":"無所属"},null,{"$f":"IF(P_15号2様式1!Q2=\"\",\"\",P_15号2様式1!Q2)","v":"日本維新の会"},null,{"$f":"IF(P_15号2様式1!U2=\"\",\"\",P_15号2様式1!U2)","v":"自由民主党"},null,{"$f":"IF(P_15号2様式1!Y2=\"\",\"\",P_15号2様式1!Y2)","v":""},null,{"$f":"IF(P_15号2様式1!AC2=\"\",\"\",P_15号2様式1!AC2)","v":""},null,{"$f":"IF(P_15号2様式1!AG2=\"\",\"\",P_15号2様式1!AG2)","v":""},null,{"$f":"IF(P_15号2様式1!AK2=\"\",\"\",P_15号2様式1!AK2)","v":""},null,{"$f":"IF(P_15号2様式1!AO2=\"\",\"\",P_15号2様式1!AO2)","v":""},null,{"$f":"IF(P_15号2様式1!AS2=\"\",\"\",P_15号2様式1!AS2)","v":""}]
[]
[null,null,null,{"$f":"IF(P_15号2様式1!J2=\"\",\"\",P_15号2様式1!J2)","v":"川内　ひろし"},null,{"$f":"IF(P_15号2様式1!N2=\"\",\"\",P_15号2様式1!N2)","v":"みやざき　一博"},null,{"$f":"IF(P_15号2様式1!R2=\"\",\"\",P_15号2様式1!R2)","v":"山之内　つよし"},null,{"$f":"IF(P_15号2様式1!V2=\"\",\"\",P_15号2様式1!V2)","v":"やすおか　宏武"},null,{"$f":"IF(P_15号2様式1!Z2=\"\",\"\",P_15号2様式1!Z2)","v":""},null,{"$f":"IF(P_15号2様式1!AD2=\"\",\"\",P_15号2様式1!AD2)","v":""},null,{"$f":"IF(P_15号2様式1!AH2=\"\",\"\",P_15号2様式1!AH2)","v":""},null,{"$f":"IF(P_15号2様式1!AL2=\"\",\"\",P_15号2様式1!AL2)","v":""},null,{"$f":"IF(P_15号2様式1!AP2=\"\",\"\",P_15号2様式1!AP2)","v":""},null,{"$f":"IF(P_15号2様式1!AT2=\"\",\"\",P_15号2様式1!AT2)","v":""}]
[]
[{"$f":"IF(P_15号2様式1!F2=\"\",\"\",P_15号2様式1!F2)","v":"　鹿児島市１区"},null,{"$f":"IF(P_15号2様式1!G2=\"\",\"\",P_15号2様式1!G2)","v":32.261013103348198},{"$f":"IF(P_15号2様式1!K2<> \"\",TEXT(INT(P_15号2様式1!K2),\"#,##0\"),\"\")","v":"27,000"},{"$f":"IF(P_15号2様式1!K2= \"\",\"\",IF(VALUE(FIXED(P_15号2様式1!K2,0,TRUE))<>P_15号2様式1!K2,RIGHT(FIXED(P_15号2様式1!K2,3,FALSE),4),\"\"))","v":""},{"$f":"IF(P_15号2様式1!O2<> \"\",TEXT(INT(P_15号2様式1!O2),\"#,##0\"),\"\")","v":"500"},{"$f":"IF(P_15号2様式1!O2= \"\",\"\",IF(VALUE(FIXED(P_15号2様式1!O2,0,TRUE))<>P_15号2様式1!O2,RIGHT(FIXED(P_15号2様式1!O2,3,FALSE),4),\"\"))","v":""},{"$f":"IF(P_15号2様式1!S2<> \"\",TEXT(INT(P_15号2様式1!S2),\"#,##0\"),\"\")","v":"8,000"},{"$f":"IF(P_15号2様式1!S2= \"\",\"\",IF(VALUE(FIXED(P_15号2様式1!S2,0,TRUE))<>P_15号2様式1!S2,RIGHT(FIXED(P_15号2様式1!S2,3,FALSE),4),\"\"))","v":""},{"$f":"IF(P_15号2様式1!W2<> \"\",TEXT(INT(P_15号2様式1!W2),\"#,##0\"),\"\")","v":"24,500"},{"$f":"IF(P_15号2様式1!W2= \"\",\"\",IF(VALUE(FIXED(P_15号2様式1!W2,0,TRUE))<>P_15号2様式1!W2,RIGHT(FIXED(P_15号2様式1!W2,3,FALSE),4),\"\"))","v":""},{"$f":"IF(P_15号2様式1!AA2<> \"\",TEXT(INT(P_15号2様式1!AA2),\"#,##0\"),\"\")","v":""},{"$f":"IF(P_15号2様式1!AA2= \"\",\"\",IF(VALUE(FIXED(P_15号2様式1!AA2,0,TRUE))<>P_15号2様式1!AA2,RIGHT(FIXED(P_15号2様式1!AA2,3,FALSE),4),\"\"))","v":""},{"$f":"IF(P_15号2様式1!AE2<> \"\",TEXT(INT(P_15号2様式1!AE2),\"#,##0\"),\"\")","v":""},{"$f":"IF(P_15号2様式1!AE2= \"\",\"\",IF(VALUE(FIXED(P_15号2様式1!AE2,0,TRUE))<>P_15号2様式1!AE2,RIGHT(FIXED(P_15号2様式1!AE2,3,FALSE),4),\"\"))","v":""},{"$f":"IF(P_15号2様式1!AI2<> \"\",TEXT(INT(P_15号2様式1!AI2),\"#,##0\"),\"\")","v":""},{"$f":"IF(P_15号2様式1!AI2= \"\",\"\",IF(VALUE(FIXED(P_15号2様式1!AI2,0,TRUE))<>P_15号2様式1!AI2,RIGHT(FIXED(P_15号2様式1!AI2,3,FALSE),4),\"\"))","v":""},{"$f":"IF(P_15号2様式1!AM2<> \"\",TEXT(INT(P_15号2様式1!AM2),\"#,##0\"),\"\")","v":""},{"$f":"IF(P_15号2様式1!AM2= \"\",\"\",IF(VALUE(FIXED(P_15号2様式1!AM2,0,TRUE))<>P_15号2様式1!AM2,RIGHT(FIXED(P_15号2様式1!AM2,3,FALSE),4),\"\"))","v":""},{"$f":"IF(P_15号2様式1!AQ2<> \"\",TEXT(INT(P_15号2様式1!AQ2),\"#,##0\"),\"\")","v":""},{"$f":"IF(P_15号2様式1!AQ2= \"\",\"\",IF(VALUE(FIXED(P_15号2様式1!AQ2,0,TRUE))<>P_15号2様式1!AQ2,RIGHT(FIXED(P_15号2様式1!AQ2,3,FALSE),4),\"\"))","v":""},{"$f":"IF(P_15号2様式1!AU2<> \"\",TEXT(INT(P_15号2様式1!AU2),\"#,##0\"),\"\")","v":""},{"$f":"IF(P_15号2様式1!AU2= \"\",\"\",IF(VALUE(FIXED(P_15号2様式1!AU2,0,TRUE))<>P_15号2様式1!AU2,RIGHT(FIXED(P_15号2様式1!AU2,3,FALSE),4),\"\"))","v":""},{"$f":"IF(P_15号2様式1!AV2<> \"\",TEXT(INT(P_15号2様式1!AV2),\"#,##0\"),\"\")","v":"60,000"},null,{"$f":"IF(P_15号2様式1!AV2= \"\",\"\",IF(VALUE(FIXED(P_15号2様式1!AV2,0,TRUE))<>P_15号2様式1!AV2,RIGHT(FIXED(P_15号2様式1!AV2,3,FALSE),4),\"\"))","v":""}]
[{"$f":"IF(P_15号2様式1!F3=\"\",\"\",P_15号2様式1!F3)","v":"＊市　部   計"},null,{"$f":"IF(P_15号2様式1!G3=\"\",\"\",P_15号2様式1!G3)","v":32.261013103348198},{"$f":"IF(P_15号2様式1!K3<> \"\",TEXT(INT(P_15号2様式1!K3),\"#,##0\"),\"\")","v":"27,000"},{"$f":"IF(P_15号2様式1!K3= \"\",\"\",IF(VALUE(FIXED(P_15号2様式1!K3,0,TRUE))<>P_15号2様式1!K3,RIGHT(FIXED(P_15号2様式1!K3,3,FALSE),4),\"\"))","v":""},{"$f":"IF(P_15号2様式1!O3<> \"\",TEXT(INT(P_15号2様式1!O3),\"#,##0\"),\"\")","v":"500"},{"$f":"IF(P_15号2様式1!O3= \"\",\"\",IF(VALUE(FIXED(P_15号2様式1!O3,0,TRUE))<>P_15号2様式1!O3,RIGHT(FIXED(P_15号2様式1!O3,3,FALSE),4),\"\"))","v":""},{"$f":"IF(P_15号2様式1!S3<> \"\",TEXT(INT(P_15号2様式1!S3),\"#,##0\"),\"\")","v":"8,000"},{"$f":"IF(P_15号2様式1!S3= \"\",\"\",IF(VALUE(FIXED(P_15号2様式1!S3,0,TRUE))<>P_15号2様式1!S3,RIGHT(FIXED(P_15号2様式1!S3,3,FALSE),4),\"\"))","v":""},{"$f":"IF(P_15号2様式1!W3<> \"\",TEXT(INT(P_15号2様式1!W3),\"#,##0\"),\"\")","v":"24,500"},{"$f":"IF(P_15号2様式1!W3= \"\",\"\",IF(VALUE(FIXED(P_15号2様式1!W3,0,TRUE))<>P_15号2様式1!W3,RIGHT(FIXED(P_15号2様式1!W3,3,FALSE),4),\"\"))","v":""},{"$f":"IF(P_15号2様式1!AA3<> \"\",TEXT(INT(P_15号2様式1!AA3),\"#,##0\"),\"\")","v":""},{"$f":"IF(P_15号2様式1!AA3= \"\",\"\",IF(VALUE(FIXED(P_15号2様式1!AA3,0,TRUE))<>P_15号2様式1!AA3,RIGHT(FIXED(P_15号2様式1!AA3,3,FALSE),4),\"\"))","v":""},{"$f":"IF(P_15号2様式1!AE3<> \"\",TEXT(INT(P_15号2様式1!AE3),\"#,##0\"),\"\")","v":""},{"$f":"IF(P_15号2様式1!AE3= \"\",\"\",IF(VALUE(FIXED(P_15号2様式1!AE3,0,TRUE))<>P_15号2様式1!AE3,RIGHT(FIXED(P_15号2様式1!AE3,3,FALSE),4),\"\"))","v":""},{"$f":"IF(P_15号2様式1!AI3<> \"\",TEXT(INT(P_15号2様式1!AI3),\"#,##0\"),\"\")","v":""},{"$f":"IF(P_15号2様式1!AI3= \"\",\"\",IF(VALUE(FIXED(P_15号2様式1!AI3,0,TRUE))<>P_15号2様式1!AI3,RIGHT(FIXED(P_15号2様式1!AI3,3,FALSE),4),\"\"))","v":""},{"$f":"IF(P_15号2様式1!AM3<> \"\",TEXT(INT(P_15号2様式1!AM3),\"#,##0\"),\"\")","v":""},{"$f":"IF(P_15号2様式1!AM3= \"\",\"\",IF(VALUE(FIXED(P_15号2様式1!AM3,0,TRUE))<>P_15号2様式1!AM3,RIGHT(FIXED(P_15号2様式1!AM3,3,FALSE),4),\"\"))","v":""},{"$f":"IF(P_15号2様式1!AQ3<> \"\",TEXT(INT(P_15号2様式1!AQ3),\"#,##0\"),\"\")","v":""},{"$f":"IF(P_15号2様式1!AQ3= \"\",\"\",IF(VALUE(FIXED(P_15号2様式1!AQ3,0,TRUE))<>P_15号2様式1!AQ3,RIGHT(FIXED(P_15号2様式1!AQ3,3,FALSE),4),\"\"))","v":""},{"$f":"IF(P_15号2様式1!AU3<> \"\",TEXT(INT(P_15号2様式1!AU3),\"#,##0\"),\"\")","v":""},{"$f":"IF(P_15号2様式1!AU3= \"\",\"\",IF(VALUE(FIXED(P_15号2様式1!AU3,0,TRUE))<>P_15号2様式1!AU3,RIGHT(FIXED(P_15号2様式1!AU3,3,FALSE),4),\"\"))","v":""},{"$f":"IF(P_15号2様式1!AV3<> \"\",TEXT(INT(P_15号2様式1!AV3),\"#,##0\"),\"\")","v":"60,000"},null,{"$f":"IF(P_15号2様式1!AV3= \"\",\"\",IF(VALUE(FIXED(P_15号2様式1!AV3,0,TRUE))<>P_15号2様式1!AV3,RIGHT(FIXED(P_15号2様式1!AV3,3,FALSE),4),\"\"))","v":""}]
[{"$f":"IF(P_15号2様式1!F4=\"\",\"\",P_15号2様式1!F4)","v":"　三島村"},null,{"$f":"IF(P_15号2様式1!G4=\"\",\"\",P_15号2様式1!G4)","v":100},{"$f":"IF(P_15号2様式1!K4<> \"\",TEXT(INT(P_15号2様式1!K4),\"#,##0\"),\"\")","v":"79"},{"$f":"IF(P_15号2様式1!K4= \"\",\"\",IF(VALUE(FIXED(P_15号2様式1!K4,0,TRUE))<>P_15号2様式1!K4,RIGHT(FIXED(P_15号2様式1!K4,3,FALSE),4),\"\"))","v":""},{"$f":"IF(P_15号2様式1!O4<> \"\",TEXT(INT(P_15号2様式1!O4),\"#,##0\"),\"\")","v":"19"},{"$f":"IF(P_15号2様式1!O4= \"\",\"\",IF(VALUE(FIXED(P_15号2様式1!O4,0,TRUE))<>P_15号2様式1!O4,RIGHT(FIXED(P_15号2様式1!O4,3,FALSE),4),\"\"))","v":""},{"$f":"IF(P_15号2様式1!S4<> \"\",TEXT(INT(P_15号2様式1!S4),\"#,##0\"),\"\")","v":"30"},{"$f":"IF(P_15号2様式1!S4= \"\",\"\",IF(VALUE(FIXED(P_15号2様式1!S4,0,TRUE))<>P_15号2様式1!S4,RIGHT(FIXED(P_15号2様式1!S4,3,FALSE),4),\"\"))","v":""},{"$f":"IF(P_15号2様式1!W4<> \"\",TEXT(INT(P_15号2様式1!W4),\"#,##0\"),\"\")","v":"102"},{"$f":"IF(P_15号2様式1!W4= \"\",\"\",IF(VALUE(FIXED(P_15号2様式1!W4,0,TRUE))<>P_15号2様式1!W4,RIGHT(FIXED(P_15号2様式1!W4,3,FALSE),4),\"\"))","v":""},{"$f":"IF(P_15号2様式1!AA4<> \"\",TEXT(INT(P_15号2様式1!AA4),\"#,##0\"),\"\")","v":""},{"$f":"IF(P_15号2様式1!AA4= \"\",\"\",IF(VALUE(FIXED(P_15号2様式1!AA4,0,TRUE))<>P_15号2様式1!AA4,RIGHT(FIXED(P_15号2様式1!AA4,3,FALSE),4),\"\"))","v":""},{"$f":"IF(P_15号2様式1!AE4<> \"\",TEXT(INT(P_15号2様式1!AE4),\"#,##0\"),\"\")","v":""},{"$f":"IF(P_15号2様式1!AE4= \"\",\"\",IF(VALUE(FIXED(P_15号2様式1!AE4,0,TRUE))<>P_15号2様式1!AE4,RIGHT(FIXED(P_15号2様式1!AE4,3,FALSE),4),\"\"))","v":""},{"$f":"IF(P_15号2様式1!AI4<> \"\",TEXT(INT(P_15号2様式1!AI4),\"#,##0\"),\"\")","v":""},{"$f":"IF(P_15号2様式1!AI4= \"\",\"\",IF(VALUE(FIXED(P_15号2様式1!AI4,0,TRUE))<>P_15号2様式1!AI4,RIGHT(FIXED(P_15号2様式1!AI4,3,FALSE),4),\"\"))","v":""},{"$f":"IF(P_15号2様式1!AM4<> \"\",TEXT(INT(P_15号2様式1!AM4),\"#,##0\"),\"\")","v":""},{"$f":"IF(P_15号2様式1!AM4= \"\",\"\",IF(VALUE(FIXED(P_15号2様式1!AM4,0,TRUE))<>P_15号2様式1!AM4,RIGHT(FIXED(P_15号2様式1!AM4,3,FALSE),4),\"\"))","v":""},{"$f":"IF(P_15号2様式1!AQ4<> \"\",TEXT(INT(P_15号2様式1!AQ4),\"#,##0\"),\"\")","v":""},{"$f":"IF(P_15号2様式1!AQ4= \"\",\"\",IF(VALUE(FIXED(P_15号2様式1!AQ4,0,TRUE))<>P_15号2様式1!AQ4,RIGHT(FIXED(P_15号2様式1!AQ4,3,FALSE),4),\"\"))","v":""},{"$f":"IF(P_15号2様式1!AU4<> \"\",TEXT(INT(P_15号2様式1!AU4),\"#,##0\"),\"\")","v":""},{"$f":"IF(P_15号2様式1!AU4= \"\",\"\",IF(VALUE(FIXED(P_15号2様式1!AU4,0,TRUE))<>P_15号2様式1!AU4,RIGHT(FIXED(P_15号2様式1!AU4,3,FALSE),4),\"\"))","v":""},{"$f":"IF(P_15号2様式1!AV4<> \"\",TEXT(INT(P_15号2様式1!AV4),\"#,##0\"),\"\")","v":"230"},null,{"$f":"IF(P_15号2様式1!AV4= \"\",\"\",IF(VALUE(FIXED(P_15号2様式1!AV4,0,TRUE))<>P_15号2様式1!AV4,RIGHT(FIXED(P_15号2様式1!AV4,3,FALSE),4),\"\"))","v":""}]
[{"$f":"IF(P_15号2様式1!F5=\"\",\"\",P_15号2様式1!F5)","v":"　十島村"},null,{"$f":"IF(P_15号2様式1!G5=\"\",\"\",P_15号2様式1!G5)","v":100},{"$f":"IF(P_15号2様式1!K5<> \"\",TEXT(INT(P_15号2様式1!K5),\"#,##0\"),\"\")","v":"102"},{"$f":"IF(P_15号2様式1!K5= \"\",\"\",IF(VALUE(FIXED(P_15号2様式1!K5,0,TRUE))<>P_15号2様式1!K5,RIGHT(FIXED(P_15号2様式1!K5,3,FALSE),4),\"\"))","v":""},{"$f":"IF(P_15号2様式1!O5<> \"\",TEXT(INT(P_15号2様式1!O5),\"#,##0\"),\"\")","v":"21"},{"$f":"IF(P_15号2様式1!O5= \"\",\"\",IF(VALUE(FIXED(P_15号2様式1!O5,0,TRUE))<>P_15号2様式1!O5,RIGHT(FIXED(P_15号2様式1!O5,3,FALSE),4),\"\"))","v":""},{"$f":"IF(P_15号2様式1!S5<> \"\",TEXT(INT(P_15号2様式1!S5),\"#,##0\"),\"\")","v":"74"},{"$f":"IF(P_15号2様式1!S5= \"\",\"\",IF(VALUE(FIXED(P_15号2様式1!S5,0,TRUE))<>P_15号2様式1!S5,RIGHT(FIXED(P_15号2様式1!S5,3,FALSE),4),\"\"))","v":""},{"$f":"IF(P_15号2様式1!W5<> \"\",TEXT(INT(P_15号2様式1!W5),\"#,##0\"),\"\")","v":"256"},{"$f":"IF(P_15号2様式1!W5= \"\",\"\",IF(VALUE(FIXED(P_15号2様式1!W5,0,TRUE))<>P_15号2様式1!W5,RIGHT(FIXED(P_15号2様式1!W5,3,FALSE),4),\"\"))","v":""},{"$f":"IF(P_15号2様式1!AA5<> \"\",TEXT(INT(P_15号2様式1!AA5),\"#,##0\"),\"\")","v":""},{"$f":"IF(P_15号2様式1!AA5= \"\",\"\",IF(VALUE(FIXED(P_15号2様式1!AA5,0,TRUE))<>P_15号2様式1!AA5,RIGHT(FIXED(P_15号2様式1!AA5,3,FALSE),4),\"\"))","v":""},{"$f":"IF(P_15号2様式1!AE5<> \"\",TEXT(INT(P_15号2様式1!AE5),\"#,##0\"),\"\")","v":""},{"$f":"IF(P_15号2様式1!AE5= \"\",\"\",IF(VALUE(FIXED(P_15号2様式1!AE5,0,TRUE))<>P_15号2様式1!AE5,RIGHT(FIXED(P_15号2様式1!AE5,3,FALSE),4),\"\"))","v":""},{"$f":"IF(P_15号2様式1!AI5<> \"\",TEXT(INT(P_15号2様式1!AI5),\"#,##0\"),\"\")","v":""},{"$f":"IF(P_15号2様式1!AI5= \"\",\"\",IF(VALUE(FIXED(P_15号2様式1!AI5,0,TRUE))<>P_15号2様式1!AI5,RIGHT(FIXED(P_15号2様式1!AI5,3,FALSE),4),\"\"))","v":""},{"$f":"IF(P_15号2様式1!AM5<> \"\",TEXT(INT(P_15号2様式1!AM5),\"#,##0\"),\"\")","v":""},{"$f":"IF(P_15号2様式1!AM5= \"\",\"\",IF(VALUE(FIXED(P_15号2様式1!AM5,0,TRUE))<>P_15号2様式1!AM5,RIGHT(FIXED(P_15号2様式1!AM5,3,FALSE),4),\"\"))","v":""},{"$f":"IF(P_15号2様式1!AQ5<> \"\",TEXT(INT(P_15号2様式1!AQ5),\"#,##0\"),\"\")","v":""},{"$f":"IF(P_15号2様式1!AQ5= \"\",\"\",IF(VALUE(FIXED(P_15号2様式1!AQ5,0,TRUE))<>P_15号2様式1!AQ5,RIGHT(FIXED(P_15号2様式1!AQ5,3,FALSE),4),\"\"))","v":""},{"$f":"IF(P_15号2様式1!AU5<> \"\",TEXT(INT(P_15号2様式1!AU5),\"#,##0\"),\"\")","v":""},{"$f":"IF(P_15号2様式1!AU5= \"\",\"\",IF(VALUE(FIXED(P_15号2様式1!AU5,0,TRUE))<>P_15号2様式1!AU5,RIGHT(FIXED(P_15号2様式1!AU5,3,FALSE),4),\"\"))","v":""},{"$f":"IF(P_15号2様式1!AV5<> \"\",TEXT(INT(P_15号2様式1!AV5),\"#,##0\"),\"\")","v":"453"},null,{"$f":"IF(P_15号2様式1!AV5= \"\",\"\",IF(VALUE(FIXED(P_15号2様式1!AV5,0,TRUE))<>P_15号2様式1!AV5,RIGHT(FIXED(P_15号2様式1!AV5,3,FALSE),4),\"\"))","v":""}]
[{"$f":"IF(P_15号2様式1!F6=\"\",\"\",P_15号2様式1!F6)","v":"＊（鹿児島郡）計"},null,{"$f":"IF(P_15号2様式1!G6=\"\",\"\",P_15号2様式1!G6)","v":100},{"$f":"IF(P_15号2様式1!K6<> \"\",TEXT(INT(P_15号2様式1!K6),\"#,##0\"),\"\")","v":"181"},{"$f":"IF(P_15号2様式1!K6= \"\",\"\",IF(VALUE(FIXED(P_15号2様式1!K6,0,TRUE))<>P_15号2様式1!K6,RIGHT(FIXED(P_15号2様式1!K6,3,FALSE),4),\"\"))","v":""},{"$f":"IF(P_15号2様式1!O6<> \"\",TEXT(INT(P_15号2様式1!O6),\"#,##0\"),\"\")","v":"40"},{"$f":"IF(P_15号2様式1!O6= \"\",\"\",IF(VALUE(FIXED(P_15号2様式1!O6,0,TRUE))<>P_15号2様式1!O6,RIGHT(FIXED(P_15号2様式1!O6,3,FALSE),4),\"\"))","v":""},{"$f":"IF(P_15号2様式1!S6<> \"\",TEXT(INT(P_15号2様式1!S6),\"#,##0\"),\"\")","v":"104"},{"$f":"IF(P_15号2様式1!S6= \"\",\"\",IF(VALUE(FIXED(P_15号2様式1!S6,0,TRUE))<>P_15号2様式1!S6,RIGHT(FIXED(P_15号2様式1!S6,3,FALSE),4),\"\"))","v":""},{"$f":"IF(P_15号2様式1!W6<> \"\",TEXT(INT(P_15号2様式1!W6),\"#,##0\"),\"\")","v":"358"},{"$f":"IF(P_15号2様式1!W6= \"\",\"\",IF(VALUE(FIXED(P_15号2様式1!W6,0,TRUE))<>P_15号2様式1!W6,RIGHT(FIXED(P_15号2様式1!W6,3,FALSE),4),\"\"))","v":""},{"$f":"IF(P_15号2様式1!AA6<> \"\",TEXT(INT(P_15号2様式1!AA6),\"#,##0\"),\"\")","v":""},{"$f":"IF(P_15号2様式1!AA6= \"\",\"\",IF(VALUE(FIXED(P_15号2様式1!AA6,0,TRUE))<>P_15号2様式1!AA6,RIGHT(FIXED(P_15号2様式1!AA6,3,FALSE),4),\"\"))","v":""},{"$f":"IF(P_15号2様式1!AE6<> \"\",TEXT(INT(P_15号2様式1!AE6),\"#,##0\"),\"\")","v":""},{"$f":"IF(P_15号2様式1!AE6= \"\",\"\",IF(VALUE(FIXED(P_15号2様式1!AE6,0,TRUE))<>P_15号2様式1!AE6,RIGHT(FIXED(P_15号2様式1!AE6,3,FALSE),4),\"\"))","v":""},{"$f":"IF(P_15号2様式1!AI6<> \"\",TEXT(INT(P_15号2様式1!AI6),\"#,##0\"),\"\")","v":""},{"$f":"IF(P_15号2様式1!AI6= \"\",\"\",IF(VALUE(FIXED(P_15号2様式1!AI6,0,TRUE))<>P_15号2様式1!AI6,RIGHT(FIXED(P_15号2様式1!AI6,3,FALSE),4),\"\"))","v":""},{"$f":"IF(P_15号2様式1!AM6<> \"\",TEXT(INT(P_15号2様式1!AM6),\"#,##0\"),\"\")","v":""},{"$f":"IF(P_15号2様式1!AM6= \"\",\"\",IF(VALUE(FIXED(P_15号2様式1!AM6,0,TRUE))<>P_15号2様式1!AM6,RIGHT(FIXED(P_15号2様式1!AM6,3,FALSE),4),\"\"))","v":""},{"$f":"IF(P_15号2様式1!AQ6<> \"\",TEXT(INT(P_15号2様式1!AQ6),\"#,##0\"),\"\")","v":""},{"$f":"IF(P_15号2様式1!AQ6= \"\",\"\",IF(VALUE(FIXED(P_15号2様式1!AQ6,0,TRUE))<>P_15号2様式1!AQ6,RIGHT(FIXED(P_15号2様式1!AQ6,3,FALSE),4),\"\"))","v":""},{"$f":"IF(P_15号2様式1!AU6<> \"\",TEXT(INT(P_15号2様式1!AU6),\"#,##0\"),\"\")","v":""},{"$f":"IF(P_15号2様式1!AU6= \"\",\"\",IF(VALUE(FIXED(P_15号2様式1!AU6,0,TRUE))<>P_15号2様式1!AU6,RIGHT(FIXED(P_15号2様式1!AU6,3,FALSE),4),\"\"))","v":""},{"$f":"IF(P_15号2様式1!AV6<> \"\",TEXT(INT(P_15号2様式1!AV6),\"#,##0\"),\"\")","v":"683"},null,{"$f":"IF(P_15号2様式1!AV6= \"\",\"\",IF(VALUE(FIXED(P_15号2様式1!AV6,0,TRUE))<>P_15号2様式1!AV6,RIGHT(FIXED(P_15号2様式1!AV6,3,FALSE),4),\"\"))","v":""}]
[{"$f":"IF(P_15号2様式1!F7=\"\",\"\",P_15号2様式1!F7)","v":"＊郡　部   計"},null,{"$f":"IF(P_15号2様式1!G7=\"\",\"\",P_15号2様式1!G7)","v":100},{"$f":"IF(P_15号2様式1!K7<> \"\",TEXT(INT(P_15号2様式1!K7),\"#,##0\"),\"\")","v":"181"},{"$f":"IF(P_15号2様式1!K7= \"\",\"\",IF(VALUE(FIXED(P_15号2様式1!K7,0,TRUE))<>P_15号2様式1!K7,RIGHT(FIXED(P_15号2様式1!K7,3,FALSE),4),\"\"))","v":""},{"$f":"IF(P_15号2様式1!O7<> \"\",TEXT(INT(P_15号2様式1!O7),\"#,##0\"),\"\")","v":"40"},{"$f":"IF(P_15号2様式1!O7= \"\",\"\",IF(VALUE(FIXED(P_15号2様式1!O7,0,TRUE))<>P_15号2様式1!O7,RIGHT(FIXED(P_15号2様式1!O7,3,FALSE),4),\"\"))","v":""},{"$f":"IF(P_15号2様式1!S7<> \"\",TEXT(INT(P_15号2様式1!S7),\"#,##0\"),\"\")","v":"104"},{"$f":"IF(P_15号2様式1!S7= \"\",\"\",IF(VALUE(FIXED(P_15号2様式1!S7,0,TRUE))<>P_15号2様式1!S7,RIGHT(FIXED(P_15号2様式1!S7,3,FALSE),4),\"\"))","v":""},{"$f":"IF(P_15号2様式1!W7<> \"\",TEXT(INT(P_15号2様式1!W7),\"#,##0\"),\"\")","v":"358"},{"$f":"IF(P_15号2様式1!W7= \"\",\"\",IF(VALUE(FIXED(P_15号2様式1!W7,0,TRUE))<>P_15号2様式1!W7,RIGHT(FIXED(P_15号2様式1!W7,3,FALSE),4),\"\"))","v":""},{"$f":"IF(P_15号2様式1!AA7<> \"\",TEXT(INT(P_15号2様式1!AA7),\"#,##0\"),\"\")","v":""},{"$f":"IF(P_15号2様式1!AA7= \"\",\"\",IF(VALUE(FIXED(P_15号2様式1!AA7,0,TRUE))<>P_15号2様式1!AA7,RIGHT(FIXED(P_15号2様式1!AA7,3,FALSE),4),\"\"))","v":""},{"$f":"IF(P_15号2様式1!AE7<> \"\",TEXT(INT(P_15号2様式1!AE7),\"#,##0\"),\"\")","v":""},{"$f":"IF(P_15号2様式1!AE7= \"\",\"\",IF(VALUE(FIXED(P_15号2様式1!AE7,0,TRUE))<>P_15号2様式1!AE7,RIGHT(FIXED(P_15号2様式1!AE7,3,FALSE),4),\"\"))","v":""},{"$f":"IF(P_15号2様式1!AI7<> \"\",TEXT(INT(P_15号2様式1!AI7),\"#,##0\"),\"\")","v":""},{"$f":"IF(P_15号2様式1!AI7= \"\",\"\",IF(VALUE(FIXED(P_15号2様式1!AI7,0,TRUE))<>P_15号2様式1!AI7,RIGHT(FIXED(P_15号2様式1!AI7,3,FALSE),4),\"\"))","v":""},{"$f":"IF(P_15号2様式1!AM7<> \"\",TEXT(INT(P_15号2様式1!AM7),\"#,##0\"),\"\")","v":""},{"$f":"IF(P_15号2様式1!AM7= \"\",\"\",IF(VALUE(FIXED(P_15号2様式1!AM7,0,TRUE))<>P_15号2様式1!AM7,RIGHT(FIXED(P_15号2様式1!AM7,3,FALSE),4),\"\"))","v":""},{"$f":"IF(P_15号2様式1!AQ7<> \"\",TEXT(INT(P_15号2様式1!AQ7),\"#,##0\"),\"\")","v":""},{"$f":"IF(P_15号2様式1!AQ7= \"\",\"\",IF(VALUE(FIXED(P_15号2様式1!AQ7,0,TRUE))<>P_15号2様式1!AQ7,RIGHT(FIXED(P_15号2様式1!AQ7,3,FALSE),4),\"\"))","v":""},{"$f":"IF(P_15号2様式1!AU7<> \"\",TEXT(INT(P_15号2様式1!AU7),\"#,##0\"),\"\")","v":""},{"$f":"IF(P_15号2様式1!AU7= \"\",\"\",IF(VALUE(FIXED(P_15号2様式1!AU7,0,TRUE))<>P_15号2様式1!AU7,RIGHT(FIXED(P_15号2様式1!AU7,3,FALSE),4),\"\"))","v":""},{"$f":"IF(P_15号2様式1!AV7<> \"\",TEXT(INT(P_15号2様式1!AV7),\"#,##0\"),\"\")","v":"683"},null,{"$f":"IF(P_15号2様式1!AV7= \"\",\"\",IF(VALUE(FIXED(P_15号2様式1!AV7,0,TRUE))<>P_15号2様式1!AV7,RIGHT(FIXED(P_15号2様式1!AV7,3,FALSE),4),\"\"))","v":""}]
[{"$f":"IF(P_15号2様式1!F8=\"\",\"\",P_15号2様式1!F8)","v":"＊第 １ 区 計"},null,{"$f":"IF(P_15号2様式1!G8=\"\",\"\",P_15号2様式1!G8)","v":32.516819506342102},{"$f":"IF(P_15号2様式1!K8<> \"\",TEXT(INT(P_15号2様式1!K8),\"#,##0\"),\"\")","v":"27,181"},{"$f":"IF(P_15号2様式1!K8= \"\",\"\",IF(VALUE(FIXED(P_15号2様式1!K8,0,TRUE))<>P_15号2様式1!K8,RIGHT(FIXED(P_15号2様式1!K8,3,FALSE),4),\"\"))","v":""},{"$f":"IF(P_15号2様式1!O8<> \"\",TEXT(INT(P_15号2様式1!O8),\"#,##0\"),\"\")","v":"540"},{"$f":"IF(P_15号2様式1!O8= \"\",\"\",IF(VALUE(FIXED(P_15号2様式1!O8,0,TRUE))<>P_15号2様式1!O8,RIGHT(FIXED(P_15号2様式1!O8,3,FALSE),4),\"\"))","v":""},{"$f":"IF(P_15号2様式1!S8<> \"\",TEXT(INT(P_15号2様式1!S8),\"#,##0\"),\"\")","v":"8,104"},{"$f":"IF(P_15号2様式1!S8= \"\",\"\",IF(VALUE(FIXED(P_15号2様式1!S8,0,TRUE))<>P_15号2様式1!S8,RIGHT(FIXED(P_15号2様式1!S8,3,FALSE),4),\"\"))","v":""},{"$f":"IF(P_15号2様式1!W8<> \"\",TEXT(INT(P_15号2様式1!W8),\"#,##0\"),\"\")","v":"24,858"},{"$f":"IF(P_15号2様式1!W8= \"\",\"\",IF(VALUE(FIXED(P_15号2様式1!W8,0,TRUE))<>P_15号2様式1!W8,RIGHT(FIXED(P_15号2様式1!W8,3,FALSE),4),\"\"))","v":""},{"$f":"IF(P_15号2様式1!AA8<> \"\",TEXT(INT(P_15号2様式1!AA8),\"#,##0\"),\"\")","v":""},{"$f":"IF(P_15号2様式1!AA8= \"\",\"\",IF(VALUE(FIXED(P_15号2様式1!AA8,0,TRUE))<>P_15号2様式1!AA8,RIGHT(FIXED(P_15号2様式1!AA8,3,FALSE),4),\"\"))","v":""},{"$f":"IF(P_15号2様式1!AE8<> \"\",TEXT(INT(P_15号2様式1!AE8),\"#,##0\"),\"\")","v":""},{"$f":"IF(P_15号2様式1!AE8= \"\",\"\",IF(VALUE(FIXED(P_15号2様式1!AE8,0,TRUE))<>P_15号2様式1!AE8,RIGHT(FIXED(P_15号2様式1!AE8,3,FALSE),4),\"\"))","v":""},{"$f":"IF(P_15号2様式1!AI8<> \"\",TEXT(INT(P_15号2様式1!AI8),\"#,##0\"),\"\")","v":""},{"$f":"IF(P_15号2様式1!AI8= \"\",\"\",IF(VALUE(FIXED(P_15号2様式1!AI8,0,TRUE))<>P_15号2様式1!AI8,RIGHT(FIXED(P_15号2様式1!AI8,3,FALSE),4),\"\"))","v":""},{"$f":"IF(P_15号2様式1!AM8<> \"\",TEXT(INT(P_15号2様式1!AM8),\"#,##0\"),\"\")","v":""},{"$f":"IF(P_15号2様式1!AM8= \"\",\"\",IF(VALUE(FIXED(P_15号2様式1!AM8,0,TRUE))<>P_15号2様式1!AM8,RIGHT(FIXED(P_15号2様式1!AM8,3,FALSE),4),\"\"))","v":""},{"$f":"IF(P_15号2様式1!AQ8<> \"\",TEXT(INT(P_15号2様式1!AQ8),\"#,##0\"),\"\")","v":""},{"$f":"IF(P_15号2様式1!AQ8= \"\",\"\",IF(VALUE(FIXED(P_15号2様式1!AQ8,0,TRUE))<>P_15号2様式1!AQ8,RIGHT(FIXED(P_15号2様式1!AQ8,3,FALSE),4),\"\"))","v":""},{"$f":"IF(P_15号2様式1!AU8<> \"\",TEXT(INT(P_15号2様式1!AU8),\"#,##0\"),\"\")","v":""},{"$f":"IF(P_15号2様式1!AU8= \"\",\"\",IF(VALUE(FIXED(P_15号2様式1!AU8,0,TRUE))<>P_15号2様式1!AU8,RIGHT(FIXED(P_15号2様式1!AU8,3,FALSE),4),\"\"))","v":""},{"$f":"IF(P_15号2様式1!AV8<> \"\",TEXT(INT(P_15号2様式1!AV8),\"#,##0\"),\"\")","v":"60,683"},null,{"$f":"IF(P_15号2様式1!AV8= \"\",\"\",IF(VALUE(FIXED(P_15号2様式1!AV8,0,TRUE))<>P_15号2様式1!AV8,RIGHT(FIXED(P_15号2様式1!AV8,3,FALSE),4),\"\"))","v":""}]
[{"$f":"IF(P_15号2様式1!F9=\"\",\"\",P_15号2様式1!F9)","v":""},null,{"$f":"IF(P_15号2様式1!G9=\"\",\"\",P_15号2様式1!G9)","v":""},{"$f":"IF(P_15号2様式1!K9<> \"\",TEXT(INT(P_15号2様式1!K9),\"#,##0\"),\"\")","v":""},{"$f":"IF(P_15号2様式1!K9= \"\",\"\",IF(VALUE(FIXED(P_15号2様式1!K9,0,TRUE))<>P_15号2様式1!K9,RIGHT(FIXED(P_15号2様式1!K9,3,FALSE),4),\"\"))","v":""},{"$f":"IF(P_15号2様式1!O9<> \"\",TEXT(INT(P_15号2様式1!O9),\"#,##0\"),\"\")","v":""},{"$f":"IF(P_15号2様式1!O9= \"\",\"\",IF(VALUE(FIXED(P_15号2様式1!O9,0,TRUE))<>P_15号2様式1!O9,RIGHT(FIXED(P_15号2様式1!O9,3,FALSE),4),\"\"))","v":""},{"$f":"IF(P_15号2様式1!S9<> \"\",TEXT(INT(P_15号2様式1!S9),\"#,##0\"),\"\")","v":""},{"$f":"IF(P_15号2様式1!S9= \"\",\"\",IF(VALUE(FIXED(P_15号2様式1!S9,0,TRUE))<>P_15号2様式1!S9,RIGHT(FIXED(P_15号2様式1!S9,3,FALSE),4),\"\"))","v":""},{"$f":"IF(P_15号2様式1!W9<> \"\",TEXT(INT(P_15号2様式1!W9),\"#,##0\"),\"\")","v":""},{"$f":"IF(P_15号2様式1!W9= \"\",\"\",IF(VALUE(FIXED(P_15号2様式1!W9,0,TRUE))<>P_15号2様式1!W9,RIGHT(FIXED(P_15号2様式1!W9,3,FALSE),4),\"\"))","v":""},{"$f":"IF(P_15号2様式1!AA9<> \"\",TEXT(INT(P_15号2様式1!AA9),\"#,##0\"),\"\")","v":""},{"$f":"IF(P_15号2様式1!AA9= \"\",\"\",IF(VALUE(FIXED(P_15号2様式1!AA9,0,TRUE))<>P_15号2様式1!AA9,RIGHT(FIXED(P_15号2様式1!AA9,3,FALSE),4),\"\"))","v":""},{"$f":"IF(P_15号2様式1!AE9<> \"\",TEXT(INT(P_15号2様式1!AE9),\"#,##0\"),\"\")","v":""},{"$f":"IF(P_15号2様式1!AE9= \"\",\"\",IF(VALUE(FIXED(P_15号2様式1!AE9,0,TRUE))<>P_15号2様式1!AE9,RIGHT(FIXED(P_15号2様式1!AE9,3,FALSE),4),\"\"))","v":""},{"$f":"IF(P_15号2様式1!AI9<> \"\",TEXT(INT(P_15号2様式1!AI9),\"#,##0\"),\"\")","v":""},{"$f":"IF(P_15号2様式1!AI9= \"\",\"\",IF(VALUE(FIXED(P_15号2様式1!AI9,0,TRUE))<>P_15号2様式1!AI9,RIGHT(FIXED(P_15号2様式1!AI9,3,FALSE),4),\"\"))","v":""},{"$f":"IF(P_15号2様式1!AM9<> \"\",TEXT(INT(P_15号2様式1!AM9),\"#,##0\"),\"\")","v":""},{"$f":"IF(P_15号2様式1!AM9= \"\",\"\",IF(VALUE(FIXED(P_15号2様式1!AM9,0,TRUE))<>P_15号2様式1!AM9,RIGHT(FIXED(P_15号2様式1!AM9,3,FALSE),4),\"\"))","v":""},{"$f":"IF(P_15号2様式1!AQ9<> \"\",TEXT(INT(P_15号2様式1!AQ9),\"#,##0\"),\"\")","v":""},{"$f":"IF(P_15号2様式1!AQ9= \"\",\"\",IF(VALUE(FIXED(P_15号2様式1!AQ9,0,TRUE))<>P_15号2様式1!AQ9,RIGHT(FIXED(P_15号2様式1!AQ9,3,FALSE),4),\"\"))","v":""},{"$f":"IF(P_15号2様式1!AU9<> \"\",TEXT(INT(P_15号2様式1!AU9),\"#,##0\"),\"\")","v":""},{"$f":"IF(P_15号2様式1!AU9= \"\",\"\",IF(VALUE(FIXED(P_15号2様式1!AU9,0,TRUE))<>P_15号2様式1!AU9,RIGHT(FIXED(P_15号2様式1!AU9,3,FALSE),4),\"\"))","v":""},{"$f":"IF(P_15号2様式1!AV9<> \"\",TEXT(INT(P_15号2様式1!AV9),\"#,##0\"),\"\")","v":""},null,{"$f":"IF(P_15号2様式1!AV9= \"\",\"\",IF(VALUE(FIXED(P_15号2様式1!AV9,0,TRUE))<>P_15号2様式1!AV9,RIGHT(FIXED(P_15号2様式1!AV9,3,FALSE),4),\"\"))","v":""}]
[{"$f":"IF(P_15号2様式1!F10=\"\",\"\",P_15号2様式1!F10)","v":""},null,{"$f":"IF(P_15号2様式1!G10=\"\",\"\",P_15号2様式1!G10)","v":""},{"$f":"IF(P_15号2様式1!K10<> \"\",TEXT(INT(P_15号2様式1!K10),\"#,##0\"),\"\")","v":""},{"$f":"IF(P_15号2様式1!K10= \"\",\"\",IF(VALUE(FIXED(P_15号2様式1!K10,0,TRUE))<>P_15号2様式1!K10,RIGHT(FIXED(P_15号2様式1!K10,3,FALSE),4),\"\"))","v":""},{"$f":"IF(P_15号2様式1!O10<> \"\",TEXT(INT(P_15号2様式1!O10),\"#,##0\"),\"\")","v":""},{"$f":"IF(P_15号2様式1!O10= \"\",\"\",IF(VALUE(FIXED(P_15号2様式1!O10,0,TRUE))<>P_15号2様式1!O10,RIGHT(FIXED(P_15号2様式1!O10,3,FALSE),4),\"\"))","v":""},{"$f":"IF(P_15号2様式1!S10<> \"\",TEXT(INT(P_15号2様式1!S10),\"#,##0\"),\"\")","v":""},{"$f":"IF(P_15号2様式1!S10= \"\",\"\",IF(VALUE(FIXED(P_15号2様式1!S10,0,TRUE))<>P_15号2様式1!S10,RIGHT(FIXED(P_15号2様式1!S10,3,FALSE),4),\"\"))","v":""},{"$f":"IF(P_15号2様式1!W10<> \"\",TEXT(INT(P_15号2様式1!W10),\"#,##0\"),\"\")","v":""},{"$f":"IF(P_15号2様式1!W10= \"\",\"\",IF(VALUE(FIXED(P_15号2様式1!W10,0,TRUE))<>P_15号2様式1!W10,RIGHT(FIXED(P_15号2様式1!W10,3,FALSE),4),\"\"))","v":""},{"$f":"IF(P_15号2様式1!AA10<> \"\",TEXT(INT(P_15号2様式1!AA10),\"#,##0\"),\"\")","v":""},{"$f":"IF(P_15号2様式1!AA10= \"\",\"\",IF(VALUE(FIXED(P_15号2様式1!AA10,0,TRUE))<>P_15号2様式1!AA10,RIGHT(FIXED(P_15号2様式1!AA10,3,FALSE),4),\"\"))","v":""},{"$f":"IF(P_15号2様式1!AE10<> \"\",TEXT(INT(P_15号2様式1!AE10),\"#,##0\"),\"\")","v":""},{"$f":"IF(P_15号2様式1!AE10= \"\",\"\",IF(VALUE(FIXED(P_15号2様式1!AE10,0,TRUE))<>P_15号2様式1!AE10,RIGHT(FIXED(P_15号2様式1!AE10,3,FALSE),4),\"\"))","v":""},{"$f":"IF(P_15号2様式1!AI10<> \"\",TEXT(INT(P_15号2様式1!AI10),\"#,##0\"),\"\")","v":""},{"$f":"IF(P_15号2様式1!AI10= \"\",\"\",IF(VALUE(FIXED(P_15号2様式1!AI10,0,TRUE))<>P_15号2様式1!AI10,RIGHT(FIXED(P_15号2様式1!AI10,3,FALSE),4),\"\"))","v":""},{"$f":"IF(P_15号2様式1!AM10<> \"\",TEXT(INT(P_15号2様式1!AM10),\"#,##0\"),\"\")","v":""},{"$f":"IF(P_15号2様式1!AM10= \"\",\"\",IF(VALUE(FIXED(P_15号2様式1!AM10,0,TRUE))<>P_15号2様式1!AM10,RIGHT(FIXED(P_15号2様式1!AM10,3,FALSE),4),\"\"))","v":""},{"$f":"IF(P_15号2様式1!AQ10<> \"\",TEXT(INT(P_15号2様式1!AQ10),\"#,##0\"),\"\")","v":""},{"$f":"IF(P_15号2様式1!AQ10= \"\",\"\",IF(VALUE(FIXED(P_15号2様式1!AQ10,0,TRUE))<>P_15号2様式1!AQ10,RIGHT(FIXED(P_15号2様式1!AQ10,3,FALSE),4),\"\"))","v":""},{"$f":"IF(P_15号2様式1!AU10<> \"\",TEXT(INT(P_15号2様式1!AU10),\"#,##0\"),\"\")","v":""},{"$f":"IF(P_15号2様式1!AU10= \"\",\"\",IF(VALUE(FIXED(P_15号2様式1!AU10,0,TRUE))<>P_15号2様式1!AU10,RIGHT(FIXED(P_15号2様式1!AU10,3,FALSE),4),\"\"))","v":""},{"$f":"IF(P_15号2様式1!AV10<> \"\",TEXT(INT(P_15号2様式1!AV10),\"#,##0\"),\"\")","v":""},null,{"$f":"IF(P_15号2様式1!AV10= \"\",\"\",IF(VALUE(FIXED(P_15号2様式1!AV10,0,TRUE))<>P_15号2様式1!AV10,RIGHT(FIXED(P_15号2様式1!AV10,3,FALSE),4),\"\"))","v":""}]
[{"$f":"IF(P_15号2様式1!F11=\"\",\"\",P_15号2様式1!F11)","v":""},null,{"$f":"IF(P_15号2様式1!G11=\"\",\"\",P_15号2様式1!G11)","v":""},{"$f":"IF(P_15号2様式1!K11<> \"\",TEXT(INT(P_15号2様式1!K11),\"#,##0\"),\"\")","v":""},{"$f":"IF(P_15号2様式1!K11= \"\",\"\",IF(VALUE(FIXED(P_15号2様式1!K11,0,TRUE))<>P_15号2様式1!K11,RIGHT(FIXED(P_15号2様式1!K11,3,FALSE),4),\"\"))","v":""},{"$f":"IF(P_15号2様式1!O11<> \"\",TEXT(INT(P_15号2様式1!O11),\"#,##0\"),\"\")","v":""},{"$f":"IF(P_15号2様式1!O11= \"\",\"\",IF(VALUE(FIXED(P_15号2様式1!O11,0,TRUE))<>P_15号2様式1!O11,RIGHT(FIXED(P_15号2様式1!O11,3,FALSE),4),\"\"))","v":""},{"$f":"IF(P_15号2様式1!S11<> \"\",TEXT(INT(P_15号2様式1!S11),\"#,##0\"),\"\")","v":""},{"$f":"IF(P_15号2様式1!S11= \"\",\"\",IF(VALUE(FIXED(P_15号2様式1!S11,0,TRUE))<>P_15号2様式1!S11,RIGHT(FIXED(P_15号2様式1!S11,3,FALSE),4),\"\"))","v":""},{"$f":"IF(P_15号2様式1!W11<> \"\",TEXT(INT(P_15号2様式1!W11),\"#,##0\"),\"\")","v":""},{"$f":"IF(P_15号2様式1!W11= \"\",\"\",IF(VALUE(FIXED(P_15号2様式1!W11,0,TRUE))<>P_15号2様式1!W11,RIGHT(FIXED(P_15号2様式1!W11,3,FALSE),4),\"\"))","v":""},{"$f":"IF(P_15号2様式1!AA11<> \"\",TEXT(INT(P_15号2様式1!AA11),\"#,##0\"),\"\")","v":""},{"$f":"IF(P_15号2様式1!AA11= \"\",\"\",IF(VALUE(FIXED(P_15号2様式1!AA11,0,TRUE))<>P_15号2様式1!AA11,RIGHT(FIXED(P_15号2様式1!AA11,3,FALSE),4),\"\"))","v":""},{"$f":"IF(P_15号2様式1!AE11<> \"\",TEXT(INT(P_15号2様式1!AE11),\"#,##0\"),\"\")","v":""},{"$f":"IF(P_15号2様式1!AE11= \"\",\"\",IF(VALUE(FIXED(P_15号2様式1!AE11,0,TRUE))<>P_15号2様式1!AE11,RIGHT(FIXED(P_15号2様式1!AE11,3,FALSE),4),\"\"))","v":""},{"$f":"IF(P_15号2様式1!AI11<> \"\",TEXT(INT(P_15号2様式1!AI11),\"#,##0\"),\"\")","v":""},{"$f":"IF(P_15号2様式1!AI11= \"\",\"\",IF(VALUE(FIXED(P_15号2様式1!AI11,0,TRUE))<>P_15号2様式1!AI11,RIGHT(FIXED(P_15号2様式1!AI11,3,FALSE),4),\"\"))","v":""},{"$f":"IF(P_15号2様式1!AM11<> \"\",TEXT(INT(P_15号2様式1!AM11),\"#,##0\"),\"\")","v":""},{"$f":"IF(P_15号2様式1!AM11= \"\",\"\",IF(VALUE(FIXED(P_15号2様式1!AM11,0,TRUE))<>P_15号2様式1!AM11,RIGHT(FIXED(P_15号2様式1!AM11,3,FALSE),4),\"\"))","v":""},{"$f":"IF(P_15号2様式1!AQ11<> \"\",TEXT(INT(P_15号2様式1!AQ11),\"#,##0\"),\"\")","v":""},{"$f":"IF(P_15号2様式1!AQ11= \"\",\"\",IF(VALUE(FIXED(P_15号2様式1!AQ11,0,TRUE))<>P_15号2様式1!AQ11,RIGHT(FIXED(P_15号2様式1!AQ11,3,FALSE),4),\"\"))","v":""},{"$f":"IF(P_15号2様式1!AU11<> \"\",TEXT(INT(P_15号2様式1!AU11),\"#,##0\"),\"\")","v":""},{"$f":"IF(P_15号2様式1!AU11= \"\",\"\",IF(VALUE(FIXED(P_15号2様式1!AU11,0,TRUE))<>P_15号2様式1!AU11,RIGHT(FIXED(P_15号2様式1!AU11,3,FALSE),4),\"\"))","v":""},{"$f":"IF(P_15号2様式1!AV11<> \"\",TEXT(INT(P_15号2様式1!AV11),\"#,##0\"),\"\")","v":""},null,{"$f":"IF(P_15号2様式1!AV11= \"\",\"\",IF(VALUE(FIXED(P_15号2様式1!AV11,0,TRUE))<>P_15号2様式1!AV11,RIGHT(FIXED(P_15号2様式1!AV11,3,FALSE),4),\"\"))","v":""}]
[{"$f":"IF(P_15号2様式1!F12=\"\",\"\",P_15号2様式1!F12)","v":""},null,{"$f":"IF(P_15号2様式1!G12=\"\",\"\",P_15号2様式1!G12)","v":""},{"$f":"IF(P_15号2様式1!K12<> \"\",TEXT(INT(P_15号2様式1!K12),\"#,##0\"),\"\")","v":""},{"$f":"IF(P_15号2様式1!K12= \"\",\"\",IF(VALUE(FIXED(P_15号2様式1!K12,0,TRUE))<>P_15号2様式1!K12,RIGHT(FIXED(P_15号2様式1!K12,3,FALSE),4),\"\"))","v":""},{"$f":"IF(P_15号2様式1!O12<> \"\",TEXT(INT(P_15号2様式1!O12),\"#,##0\"),\"\")","v":""},{"$f":"IF(P_15号2様式1!O12= \"\",\"\",IF(VALUE(FIXED(P_15号2様式1!O12,0,TRUE))<>P_15号2様式1!O12,RIGHT(FIXED(P_15号2様式1!O12,3,FALSE),4),\"\"))","v":""},{"$f":"IF(P_15号2様式1!S12<> \"\",TEXT(INT(P_15号2様式1!S12),\"#,##0\"),\"\")","v":""},{"$f":"IF(P_15号2様式1!S12= \"\",\"\",IF(VALUE(FIXED(P_15号2様式1!S12,0,TRUE))<>P_15号2様式1!S12,RIGHT(FIXED(P_15号2様式1!S12,3,FALSE),4),\"\"))","v":""},{"$f":"IF(P_15号2様式1!W12<> \"\",TEXT(INT(P_15号2様式1!W12),\"#,##0\"),\"\")","v":""},{"$f":"IF(P_15号2様式1!W12= \"\",\"\",IF(VALUE(FIXED(P_15号2様式1!W12,0,TRUE))<>P_15号2様式1!W12,RIGHT(FIXED(P_15号2様式1!W12,3,FALSE),4),\"\"))","v":""},{"$f":"IF(P_15号2様式1!AA12<> \"\",TEXT(INT(P_15号2様式1!AA12),\"#,##0\"),\"\")","v":""},{"$f":"IF(P_15号2様式1!AA12= \"\",\"\",IF(VALUE(FIXED(P_15号2様式1!AA12,0,TRUE))<>P_15号2様式1!AA12,RIGHT(FIXED(P_15号2様式1!AA12,3,FALSE),4),\"\"))","v":""},{"$f":"IF(P_15号2様式1!AE12<> \"\",TEXT(INT(P_15号2様式1!AE12),\"#,##0\"),\"\")","v":""},{"$f":"IF(P_15号2様式1!AE12= \"\",\"\",IF(VALUE(FIXED(P_15号2様式1!AE12,0,TRUE))<>P_15号2様式1!AE12,RIGHT(FIXED(P_15号2様式1!AE12,3,FALSE),4),\"\"))","v":""},{"$f":"IF(P_15号2様式1!AI12<> \"\",TEXT(INT(P_15号2様式1!AI12),\"#,##0\"),\"\")","v":""},{"$f":"IF(P_15号2様式1!AI12= \"\",\"\",IF(VALUE(FIXED(P_15号2様式1!AI12,0,TRUE))<>P_15号2様式1!AI12,RIGHT(FIXED(P_15号2様式1!AI12,3,FALSE),4),\"\"))","v":""},{"$f":"IF(P_15号2様式1!AM12<> \"\",TEXT(INT(P_15号2様式1!AM12),\"#,##0\"),\"\")","v":""},{"$f":"IF(P_15号2様式1!AM12= \"\",\"\",IF(VALUE(FIXED(P_15号2様式1!AM12,0,TRUE))<>P_15号2様式1!AM12,RIGHT(FIXED(P_15号2様式1!AM12,3,FALSE),4),\"\"))","v":""},{"$f":"IF(P_15号2様式1!AQ12<> \"\",TEXT(INT(P_15号2様式1!AQ12),\"#,##0\"),\"\")","v":""},{"$f":"IF(P_15号2様式1!AQ12= \"\",\"\",IF(VALUE(FIXED(P_15号2様式1!AQ12,0,TRUE))<>P_15号2様式1!AQ12,RIGHT(FIXED(P_15号2様式1!AQ12,3,FALSE),4),\"\"))","v":""},{"$f":"IF(P_15号2様式1!AU12<> \"\",TEXT(INT(P_15号2様式1!AU12),\"#,##0\"),\"\")","v":""},{"$f":"IF(P_15号2様式1!AU12= \"\",\"\",IF(VALUE(FIXED(P_15号2様式1!AU12,0,TRUE))<>P_15号2様式1!AU12,RIGHT(FIXED(P_15号2様式1!AU12,3,FALSE),4),\"\"))","v":""},{"$f":"IF(P_15号2様式1!AV12<> \"\",TEXT(INT(P_15号2様式1!AV12),\"#,##0\"),\"\")","v":""},null,{"$f":"IF(P_15号2様式1!AV12= \"\",\"\",IF(VALUE(FIXED(P_15号2様式1!AV12,0,TRUE))<>P_15号2様式1!AV12,RIGHT(FIXED(P_15号2様式1!AV12,3,FALSE),4),\"\"))","v":""}]
[{"$f":"IF(P_15号2様式1!F13=\"\",\"\",P_15号2様式1!F13)","v":""},null,{"$f":"IF(P_15号2様式1!G13=\"\",\"\",P_15号2様式1!G13)","v":""},{"$f":"IF(P_15号2様式1!K13<> \"\",TEXT(INT(P_15号2様式1!K13),\"#,##0\"),\"\")","v":""},{"$f":"IF(P_15号2様式1!K13= \"\",\"\",IF(VALUE(FIXED(P_15号2様式1!K13,0,TRUE))<>P_15号2様式1!K13,RIGHT(FIXED(P_15号2様式1!K13,3,FALSE),4),\"\"))","v":""},{"$f":"IF(P_15号2様式1!O13<> \"\",TEXT(INT(P_15号2様式1!O13),\"#,##0\"),\"\")","v":""},{"$f":"IF(P_15号2様式1!O13= \"\",\"\",IF(VALUE(FIXED(P_15号2様式1!O13,0,TRUE))<>P_15号2様式1!O13,RIGHT(FIXED(P_15号2様式1!O13,3,FALSE),4),\"\"))","v":""},{"$f":"IF(P_15号2様式1!S13<> \"\",TEXT(INT(P_15号2様式1!S13),\"#,##0\"),\"\")","v":""},{"$f":"IF(P_15号2様式1!S13= \"\",\"\",IF(VALUE(FIXED(P_15号2様式1!S13,0,TRUE))<>P_15号2様式1!S13,RIGHT(FIXED(P_15号2様式1!S13,3,FALSE),4),\"\"))","v":""},{"$f":"IF(P_15号2様式1!W13<> \"\",TEXT(INT(P_15号2様式1!W13),\"#,##0\"),\"\")","v":""},{"$f":"IF(P_15号2様式1!W13= \"\",\"\",IF(VALUE(FIXED(P_15号2様式1!W13,0,TRUE))<>P_15号2様式1!W13,RIGHT(FIXED(P_15号2様式1!W13,3,FALSE),4),\"\"))","v":""},{"$f":"IF(P_15号2様式1!AA13<> \"\",TEXT(INT(P_15号2様式1!AA13),\"#,##0\"),\"\")","v":""},{"$f":"IF(P_15号2様式1!AA13= \"\",\"\",IF(VALUE(FIXED(P_15号2様式1!AA13,0,TRUE))<>P_15号2様式1!AA13,RIGHT(FIXED(P_15号2様式1!AA13,3,FALSE),4),\"\"))","v":""},{"$f":"IF(P_15号2様式1!AE13<> \"\",TEXT(INT(P_15号2様式1!AE13),\"#,##0\"),\"\")","v":""},{"$f":"IF(P_15号2様式1!AE13= \"\",\"\",IF(VALUE(FIXED(P_15号2様式1!AE13,0,TRUE))<>P_15号2様式1!AE13,RIGHT(FIXED(P_15号2様式1!AE13,3,FALSE),4),\"\"))","v":""},{"$f":"IF(P_15号2様式1!AI13<> \"\",TEXT(INT(P_15号2様式1!AI13),\"#,##0\"),\"\")","v":""},{"$f":"IF(P_15号2様式1!AI13= \"\",\"\",IF(VALUE(FIXED(P_15号2様式1!AI13,0,TRUE))<>P_15号2様式1!AI13,RIGHT(FIXED(P_15号2様式1!AI13,3,FALSE),4),\"\"))","v":""},{"$f":"IF(P_15号2様式1!AM13<> \"\",TEXT(INT(P_15号2様式1!AM13),\"#,##0\"),\"\")","v":""},{"$f":"IF(P_15号2様式1!AM13= \"\",\"\",IF(VALUE(FIXED(P_15号2様式1!AM13,0,TRUE))<>P_15号2様式1!AM13,RIGHT(FIXED(P_15号2様式1!AM13,3,FALSE),4),\"\"))","v":""},{"$f":"IF(P_15号2様式1!AQ13<> \"\",TEXT(INT(P_15号2様式1!AQ13),\"#,##0\"),\"\")","v":""},{"$f":"IF(P_15号2様式1!AQ13= \"\",\"\",IF(VALUE(FIXED(P_15号2様式1!AQ13,0,TRUE))<>P_15号2様式1!AQ13,RIGHT(FIXED(P_15号2様式1!AQ13,3,FALSE),4),\"\"))","v":""},{"$f":"IF(P_15号2様式1!AU13<> \"\",TEXT(INT(P_15号2様式1!AU13),\"#,##0\"),\"\")","v":""},{"$f":"IF(P_15号2様式1!AU13= \"\",\"\",IF(VALUE(FIXED(P_15号2様式1!AU13,0,TRUE))<>P_15号2様式1!AU13,RIGHT(FIXED(P_15号2様式1!AU13,3,FALSE),4),\"\"))","v":""},{"$f":"IF(P_15号2様式1!AV13<> \"\",TEXT(INT(P_15号2様式1!AV13),\"#,##0\"),\"\")","v":""},null,{"$f":"IF(P_15号2様式1!AV13= \"\",\"\",IF(VALUE(FIXED(P_15号2様式1!AV13,0,TRUE))<>P_15号2様式1!AV13,RIGHT(FIXED(P_15号2様式1!AV13,3,FALSE),4),\"\"))","v":""}]
[{"$f":"IF(P_15号2様式1!F14=\"\",\"\",P_15号2様式1!F14)","v":""},null,{"$f":"IF(P_15号2様式1!G14=\"\",\"\",P_15号2様式1!G14)","v":""},{"$f":"IF(P_15号2様式1!K14<> \"\",TEXT(INT(P_15号2様式1!K14),\"#,##0\"),\"\")","v":""},{"$f":"IF(P_15号2様式1!K14= \"\",\"\",IF(VALUE(FIXED(P_15号2様式1!K14,0,TRUE))<>P_15号2様式1!K14,RIGHT(FIXED(P_15号2様式1!K14,3,FALSE),4),\"\"))","v":""},{"$f":"IF(P_15号2様式1!O14<> \"\",TEXT(INT(P_15号2様式1!O14),\"#,##0\"),\"\")","v":""},{"$f":"IF(P_15号2様式1!O14= \"\",\"\",IF(VALUE(FIXED(P_15号2様式1!O14,0,TRUE))<>P_15号2様式1!O14,RIGHT(FIXED(P_15号2様式1!O14,3,FALSE),4),\"\"))","v":""},{"$f":"IF(P_15号2様式1!S14<> \"\",TEXT(INT(P_15号2様式1!S14),\"#,##0\"),\"\")","v":""},{"$f":"IF(P_15号2様式1!S14= \"\",\"\",IF(VALUE(FIXED(P_15号2様式1!S14,0,TRUE))<>P_15号2様式1!S14,RIGHT(FIXED(P_15号2様式1!S14,3,FALSE),4),\"\"))","v":""},{"$f":"IF(P_15号2様式1!W14<> \"\",TEXT(INT(P_15号2様式1!W14),\"#,##0\"),\"\")","v":""},{"$f":"IF(P_15号2様式1!W14= \"\",\"\",IF(VALUE(FIXED(P_15号2様式1!W14,0,TRUE))<>P_15号2様式1!W14,RIGHT(FIXED(P_15号2様式1!W14,3,FALSE),4),\"\"))","v":""},{"$f":"IF(P_15号2様式1!AA14<> \"\",TEXT(INT(P_15号2様式1!AA14),\"#,##0\"),\"\")","v":""},{"$f":"IF(P_15号2様式1!AA14= \"\",\"\",IF(VALUE(FIXED(P_15号2様式1!AA14,0,TRUE))<>P_15号2様式1!AA14,RIGHT(FIXED(P_15号2様式1!AA14,3,FALSE),4),\"\"))","v":""},{"$f":"IF(P_15号2様式1!AE14<> \"\",TEXT(INT(P_15号2様式1!AE14),\"#,##0\"),\"\")","v":""},{"$f":"IF(P_15号2様式1!AE14= \"\",\"\",IF(VALUE(FIXED(P_15号2様式1!AE14,0,TRUE))<>P_15号2様式1!AE14,RIGHT(FIXED(P_15号2様式1!AE14,3,FALSE),4),\"\"))","v":""},{"$f":"IF(P_15号2様式1!AI14<> \"\",TEXT(INT(P_15号2様式1!AI14),\"#,##0\"),\"\")","v":""},{"$f":"IF(P_15号2様式1!AI14= \"\",\"\",IF(VALUE(FIXED(P_15号2様式1!AI14,0,TRUE))<>P_15号2様式1!AI14,RIGHT(FIXED(P_15号2様式1!AI14,3,FALSE),4),\"\"))","v":""},{"$f":"IF(P_15号2様式1!AM14<> \"\",TEXT(INT(P_15号2様式1!AM14),\"#,##0\"),\"\")","v":""},{"$f":"IF(P_15号2様式1!AM14= \"\",\"\",IF(VALUE(FIXED(P_15号2様式1!AM14,0,TRUE))<>P_15号2様式1!AM14,RIGHT(FIXED(P_15号2様式1!AM14,3,FALSE),4),\"\"))","v":""},{"$f":"IF(P_15号2様式1!AQ14<> \"\",TEXT(INT(P_15号2様式1!AQ14),\"#,##0\"),\"\")","v":""},{"$f":"IF(P_15号2様式1!AQ14= \"\",\"\",IF(VALUE(FIXED(P_15号2様式1!AQ14,0,TRUE))<>P_15号2様式1!AQ14,RIGHT(FIXED(P_15号2様式1!AQ14,3,FALSE),4),\"\"))","v":""},{"$f":"IF(P_15号2様式1!AU14<> \"\",TEXT(INT(P_15号2様式1!AU14),\"#,##0\"),\"\")","v":""},{"$f":"IF(P_15号2様式1!AU14= \"\",\"\",IF(VALUE(FIXED(P_15号2様式1!AU14,0,TRUE))<>P_15号2様式1!AU14,RIGHT(FIXED(P_15号2様式1!AU14,3,FALSE),4),\"\"))","v":""},{"$f":"IF(P_15号2様式1!AV14<> \"\",TEXT(INT(P_15号2様式1!AV14),\"#,##0\"),\"\")","v":""},null,{"$f":"IF(P_15号2様式1!AV14= \"\",\"\",IF(VALUE(FIXED(P_15号2様式1!AV14,0,TRUE))<>P_15号2様式1!AV14,RIGHT(FIXED(P_15号2様式1!AV14,3,FALSE),4),\"\"))","v":""}]
[{"$f":"IF(P_15号2様式1!F15=\"\",\"\",P_15号2様式1!F15)","v":""},null,{"$f":"IF(P_15号2様式1!G15=\"\",\"\",P_15号2様式1!G15)","v":""},{"$f":"IF(P_15号2様式1!K15<> \"\",TEXT(INT(P_15号2様式1!K15),\"#,##0\"),\"\")","v":""},{"$f":"IF(P_15号2様式1!K15= \"\",\"\",IF(VALUE(FIXED(P_15号2様式1!K15,0,TRUE))<>P_15号2様式1!K15,RIGHT(FIXED(P_15号2様式1!K15,3,FALSE),4),\"\"))","v":""},{"$f":"IF(P_15号2様式1!O15<> \"\",TEXT(INT(P_15号2様式1!O15),\"#,##0\"),\"\")","v":""},{"$f":"IF(P_15号2様式1!O15= \"\",\"\",IF(VALUE(FIXED(P_15号2様式1!O15,0,TRUE))<>P_15号2様式1!O15,RIGHT(FIXED(P_15号2様式1!O15,3,FALSE),4),\"\"))","v":""},{"$f":"IF(P_15号2様式1!S15<> \"\",TEXT(INT(P_15号2様式1!S15),\"#,##0\"),\"\")","v":""},{"$f":"IF(P_15号2様式1!S15= \"\",\"\",IF(VALUE(FIXED(P_15号2様式1!S15,0,TRUE))<>P_15号2様式1!S15,RIGHT(FIXED(P_15号2様式1!S15,3,FALSE),4),\"\"))","v":""},{"$f":"IF(P_15号2様式1!W15<> \"\",TEXT(INT(P_15号2様式1!W15),\"#,##0\"),\"\")","v":""},{"$f":"IF(P_15号2様式1!W15= \"\",\"\",IF(VALUE(FIXED(P_15号2様式1!W15,0,TRUE))<>P_15号2様式1!W15,RIGHT(FIXED(P_15号2様式1!W15,3,FALSE),4),\"\"))","v":""},{"$f":"IF(P_15号2様式1!AA15<> \"\",TEXT(INT(P_15号2様式1!AA15),\"#,##0\"),\"\")","v":""},{"$f":"IF(P_15号2様式1!AA15= \"\",\"\",IF(VALUE(FIXED(P_15号2様式1!AA15,0,TRUE))<>P_15号2様式1!AA15,RIGHT(FIXED(P_15号2様式1!AA15,3,FALSE),4),\"\"))","v":""},{"$f":"IF(P_15号2様式1!AE15<> \"\",TEXT(INT(P_15号2様式1!AE15),\"#,##0\"),\"\")","v":""},{"$f":"IF(P_15号2様式1!AE15= \"\",\"\",IF(VALUE(FIXED(P_15号2様式1!AE15,0,TRUE))<>P_15号2様式1!AE15,RIGHT(FIXED(P_15号2様式1!AE15,3,FALSE),4),\"\"))","v":""},{"$f":"IF(P_15号2様式1!AI15<> \"\",TEXT(INT(P_15号2様式1!AI15),\"#,##0\"),\"\")","v":""},{"$f":"IF(P_15号2様式1!AI15= \"\",\"\",IF(VALUE(FIXED(P_15号2様式1!AI15,0,TRUE))<>P_15号2様式1!AI15,RIGHT(FIXED(P_15号2様式1!AI15,3,FALSE),4),\"\"))","v":""},{"$f":"IF(P_15号2様式1!AM15<> \"\",TEXT(INT(P_15号2様式1!AM15),\"#,##0\"),\"\")","v":""},{"$f":"IF(P_15号2様式1!AM15= \"\",\"\",IF(VALUE(FIXED(P_15号2様式1!AM15,0,TRUE))<>P_15号2様式1!AM15,RIGHT(FIXED(P_15号2様式1!AM15,3,FALSE),4),\"\"))","v":""},{"$f":"IF(P_15号2様式1!AQ15<> \"\",TEXT(INT(P_15号2様式1!AQ15),\"#,##0\"),\"\")","v":""},{"$f":"IF(P_15号2様式1!AQ15= \"\",\"\",IF(VALUE(FIXED(P_15号2様式1!AQ15,0,TRUE))<>P_15号2様式1!AQ15,RIGHT(FIXED(P_15号2様式1!AQ15,3,FALSE),4),\"\"))","v":""},{"$f":"IF(P_15号2様式1!AU15<> \"\",TEXT(INT(P_15号2様式1!AU15),\"#,##0\"),\"\")","v":""},{"$f":"IF(P_15号2様式1!AU15= \"\",\"\",IF(VALUE(FIXED(P_15号2様式1!AU15,0,TRUE))<>P_15号2様式1!AU15,RIGHT(FIXED(P_15号2様式1!AU15,3,FALSE),4),\"\"))","v":""},{"$f":"IF(P_15号2様式1!AV15<> \"\",TEXT(INT(P_15号2様式1!AV15),\"#,##0\"),\"\")","v":""},null,{"$f":"IF(P_15号2様式1!AV15= \"\",\"\",IF(VALUE(FIXED(P_15号2様式1!AV15,0,TRUE))<>P_15号2様式1!AV15,RIGHT(FIXED(P_15号2様式1!AV15,3,FALSE),4),\"\"))","v":""}]
[{"$f":"IF(P_15号2様式1!F16=\"\",\"\",P_15号2様式1!F16)","v":""},null,{"$f":"IF(P_15号2様式1!G16=\"\",\"\",P_15号2様式1!G16)","v":""},{"$f":"IF(P_15号2様式1!K16<> \"\",TEXT(INT(P_15号2様式1!K16),\"#,##0\"),\"\")","v":""},{"$f":"IF(P_15号2様式1!K16= \"\",\"\",IF(VALUE(FIXED(P_15号2様式1!K16,0,TRUE))<>P_15号2様式1!K16,RIGHT(FIXED(P_15号2様式1!K16,3,FALSE),4),\"\"))","v":""},{"$f":"IF(P_15号2様式1!O16<> \"\",TEXT(INT(P_15号2様式1!O16),\"#,##0\"),\"\")","v":""},{"$f":"IF(P_15号2様式1!O16= \"\",\"\",IF(VALUE(FIXED(P_15号2様式1!O16,0,TRUE))<>P_15号2様式1!O16,RIGHT(FIXED(P_15号2様式1!O16,3,FALSE),4),\"\"))","v":""},{"$f":"IF(P_15号2様式1!S16<> \"\",TEXT(INT(P_15号2様式1!S16),\"#,##0\"),\"\")","v":""},{"$f":"IF(P_15号2様式1!S16= \"\",\"\",IF(VALUE(FIXED(P_15号2様式1!S16,0,TRUE))<>P_15号2様式1!S16,RIGHT(FIXED(P_15号2様式1!S16,3,FALSE),4),\"\"))","v":""},{"$f":"IF(P_15号2様式1!W16<> \"\",TEXT(INT(P_15号2様式1!W16),\"#,##0\"),\"\")","v":""},{"$f":"IF(P_15号2様式1!W16= \"\",\"\",IF(VALUE(FIXED(P_15号2様式1!W16,0,TRUE))<>P_15号2様式1!W16,RIGHT(FIXED(P_15号2様式1!W16,3,FALSE),4),\"\"))","v":""},{"$f":"IF(P_15号2様式1!AA16<> \"\",TEXT(INT(P_15号2様式1!AA16),\"#,##0\"),\"\")","v":""},{"$f":"IF(P_15号2様式1!AA16= \"\",\"\",IF(VALUE(FIXED(P_15号2様式1!AA16,0,TRUE))<>P_15号2様式1!AA16,RIGHT(FIXED(P_15号2様式1!AA16,3,FALSE),4),\"\"))","v":""},{"$f":"IF(P_15号2様式1!AE16<> \"\",TEXT(INT(P_15号2様式1!AE16),\"#,##0\"),\"\")","v":""},{"$f":"IF(P_15号2様式1!AE16= \"\",\"\",IF(VALUE(FIXED(P_15号2様式1!AE16,0,TRUE))<>P_15号2様式1!AE16,RIGHT(FIXED(P_15号2様式1!AE16,3,FALSE),4),\"\"))","v":""},{"$f":"IF(P_15号2様式1!AI16<> \"\",TEXT(INT(P_15号2様式1!AI16),\"#,##0\"),\"\")","v":""},{"$f":"IF(P_15号2様式1!AI16= \"\",\"\",IF(VALUE(FIXED(P_15号2様式1!AI16,0,TRUE))<>P_15号2様式1!AI16,RIGHT(FIXED(P_15号2様式1!AI16,3,FALSE),4),\"\"))","v":""},{"$f":"IF(P_15号2様式1!AM16<> \"\",TEXT(INT(P_15号2様式1!AM16),\"#,##0\"),\"\")","v":""},{"$f":"IF(P_15号2様式1!AM16= \"\",\"\",IF(VALUE(FIXED(P_15号2様式1!AM16,0,TRUE))<>P_15号2様式1!AM16,RIGHT(FIXED(P_15号2様式1!AM16,3,FALSE),4),\"\"))","v":""},{"$f":"IF(P_15号2様式1!AQ16<> \"\",TEXT(INT(P_15号2様式1!AQ16),\"#,##0\"),\"\")","v":""},{"$f":"IF(P_15号2様式1!AQ16= \"\",\"\",IF(VALUE(FIXED(P_15号2様式1!AQ16,0,TRUE))<>P_15号2様式1!AQ16,RIGHT(FIXED(P_15号2様式1!AQ16,3,FALSE),4),\"\"))","v":""},{"$f":"IF(P_15号2様式1!AU16<> \"\",TEXT(INT(P_15号2様式1!AU16),\"#,##0\"),\"\")","v":""},{"$f":"IF(P_15号2様式1!AU16= \"\",\"\",IF(VALUE(FIXED(P_15号2様式1!AU16,0,TRUE))<>P_15号2様式1!AU16,RIGHT(FIXED(P_15号2様式1!AU16,3,FALSE),4),\"\"))","v":""},{"$f":"IF(P_15号2様式1!AV16<> \"\",TEXT(INT(P_15号2様式1!AV16),\"#,##0\"),\"\")","v":""},null,{"$f":"IF(P_15号2様式1!AV16= \"\",\"\",IF(VALUE(FIXED(P_15号2様式1!AV16,0,TRUE))<>P_15号2様式1!AV16,RIGHT(FIXED(P_15号2様式1!AV16,3,FALSE),4),\"\"))","v":""}]
[{"$f":"IF(P_15号2様式1!F17=\"\",\"\",P_15号2様式1!F17)","v":""},null,{"$f":"IF(P_15号2様式1!G17=\"\",\"\",P_15号2様式1!G17)","v":""},{"$f":"IF(P_15号2様式1!K17<> \"\",TEXT(INT(P_15号2様式1!K17),\"#,##0\"),\"\")","v":""},{"$f":"IF(P_15号2様式1!K17= \"\",\"\",IF(VALUE(FIXED(P_15号2様式1!K17,0,TRUE))<>P_15号2様式1!K17,RIGHT(FIXED(P_15号2様式1!K17,3,FALSE),4),\"\"))","v":""},{"$f":"IF(P_15号2様式1!O17<> \"\",TEXT(INT(P_15号2様式1!O17),\"#,##0\"),\"\")","v":""},{"$f":"IF(P_15号2様式1!O17= \"\",\"\",IF(VALUE(FIXED(P_15号2様式1!O17,0,TRUE))<>P_15号2様式1!O17,RIGHT(FIXED(P_15号2様式1!O17,3,FALSE),4),\"\"))","v":""},{"$f":"IF(P_15号2様式1!S17<> \"\",TEXT(INT(P_15号2様式1!S17),\"#,##0\"),\"\")","v":""},{"$f":"IF(P_15号2様式1!S17= \"\",\"\",IF(VALUE(FIXED(P_15号2様式1!S17,0,TRUE))<>P_15号2様式1!S17,RIGHT(FIXED(P_15号2様式1!S17,3,FALSE),4),\"\"))","v":""},{"$f":"IF(P_15号2様式1!W17<> \"\",TEXT(INT(P_15号2様式1!W17),\"#,##0\"),\"\")","v":""},{"$f":"IF(P_15号2様式1!W17= \"\",\"\",IF(VALUE(FIXED(P_15号2様式1!W17,0,TRUE))<>P_15号2様式1!W17,RIGHT(FIXED(P_15号2様式1!W17,3,FALSE),4),\"\"))","v":""},{"$f":"IF(P_15号2様式1!AA17<> \"\",TEXT(INT(P_15号2様式1!AA17),\"#,##0\"),\"\")","v":""},{"$f":"IF(P_15号2様式1!AA17= \"\",\"\",IF(VALUE(FIXED(P_15号2様式1!AA17,0,TRUE))<>P_15号2様式1!AA17,RIGHT(FIXED(P_15号2様式1!AA17,3,FALSE),4),\"\"))","v":""},{"$f":"IF(P_15号2様式1!AE17<> \"\",TEXT(INT(P_15号2様式1!AE17),\"#,##0\"),\"\")","v":""},{"$f":"IF(P_15号2様式1!AE17= \"\",\"\",IF(VALUE(FIXED(P_15号2様式1!AE17,0,TRUE))<>P_15号2様式1!AE17,RIGHT(FIXED(P_15号2様式1!AE17,3,FALSE),4),\"\"))","v":""},{"$f":"IF(P_15号2様式1!AI17<> \"\",TEXT(INT(P_15号2様式1!AI17),\"#,##0\"),\"\")","v":""},{"$f":"IF(P_15号2様式1!AI17= \"\",\"\",IF(VALUE(FIXED(P_15号2様式1!AI17,0,TRUE))<>P_15号2様式1!AI17,RIGHT(FIXED(P_15号2様式1!AI17,3,FALSE),4),\"\"))","v":""},{"$f":"IF(P_15号2様式1!AM17<> \"\",TEXT(INT(P_15号2様式1!AM17),\"#,##0\"),\"\")","v":""},{"$f":"IF(P_15号2様式1!AM17= \"\",\"\",IF(VALUE(FIXED(P_15号2様式1!AM17,0,TRUE))<>P_15号2様式1!AM17,RIGHT(FIXED(P_15号2様式1!AM17,3,FALSE),4),\"\"))","v":""},{"$f":"IF(P_15号2様式1!AQ17<> \"\",TEXT(INT(P_15号2様式1!AQ17),\"#,##0\"),\"\")","v":""},{"$f":"IF(P_15号2様式1!AQ17= \"\",\"\",IF(VALUE(FIXED(P_15号2様式1!AQ17,0,TRUE))<>P_15号2様式1!AQ17,RIGHT(FIXED(P_15号2様式1!AQ17,3,FALSE),4),\"\"))","v":""},{"$f":"IF(P_15号2様式1!AU17<> \"\",TEXT(INT(P_15号2様式1!AU17),\"#,##0\"),\"\")","v":""},{"$f":"IF(P_15号2様式1!AU17= \"\",\"\",IF(VALUE(FIXED(P_15号2様式1!AU17,0,TRUE))<>P_15号2様式1!AU17,RIGHT(FIXED(P_15号2様式1!AU17,3,FALSE),4),\"\"))","v":""},{"$f":"IF(P_15号2様式1!AV17<> \"\",TEXT(INT(P_15号2様式1!AV17),\"#,##0\"),\"\")","v":""},null,{"$f":"IF(P_15号2様式1!AV17= \"\",\"\",IF(VALUE(FIXED(P_15号2様式1!AV17,0,TRUE))<>P_15号2様式1!AV17,RIGHT(FIXED(P_15号2様式1!AV17,3,FALSE),4),\"\"))","v":""}]
[{"$f":"IF(P_15号2様式1!F18=\"\",\"\",P_15号2様式1!F18)","v":""},null,{"$f":"IF(P_15号2様式1!G18=\"\",\"\",P_15号2様式1!G18)","v":""},{"$f":"IF(P_15号2様式1!K18<> \"\",TEXT(INT(P_15号2様式1!K18),\"#,##0\"),\"\")","v":""},{"$f":"IF(P_15号2様式1!K18= \"\",\"\",IF(VALUE(FIXED(P_15号2様式1!K18,0,TRUE))<>P_15号2様式1!K18,RIGHT(FIXED(P_15号2様式1!K18,3,FALSE),4),\"\"))","v":""},{"$f":"IF(P_15号2様式1!O18<> \"\",TEXT(INT(P_15号2様式1!O18),\"#,##0\"),\"\")","v":""},{"$f":"IF(P_15号2様式1!O18= \"\",\"\",IF(VALUE(FIXED(P_15号2様式1!O18,0,TRUE))<>P_15号2様式1!O18,RIGHT(FIXED(P_15号2様式1!O18,3,FALSE),4),\"\"))","v":""},{"$f":"IF(P_15号2様式1!S18<> \"\",TEXT(INT(P_15号2様式1!S18),\"#,##0\"),\"\")","v":""},{"$f":"IF(P_15号2様式1!S18= \"\",\"\",IF(VALUE(FIXED(P_15号2様式1!S18,0,TRUE))<>P_15号2様式1!S18,RIGHT(FIXED(P_15号2様式1!S18,3,FALSE),4),\"\"))","v":""},{"$f":"IF(P_15号2様式1!W18<> \"\",TEXT(INT(P_15号2様式1!W18),\"#,##0\"),\"\")","v":""},{"$f":"IF(P_15号2様式1!W18= \"\",\"\",IF(VALUE(FIXED(P_15号2様式1!W18,0,TRUE))<>P_15号2様式1!W18,RIGHT(FIXED(P_15号2様式1!W18,3,FALSE),4),\"\"))","v":""},{"$f":"IF(P_15号2様式1!AA18<> \"\",TEXT(INT(P_15号2様式1!AA18),\"#,##0\"),\"\")","v":""},{"$f":"IF(P_15号2様式1!AA18= \"\",\"\",IF(VALUE(FIXED(P_15号2様式1!AA18,0,TRUE))<>P_15号2様式1!AA18,RIGHT(FIXED(P_15号2様式1!AA18,3,FALSE),4),\"\"))","v":""},{"$f":"IF(P_15号2様式1!AE18<> \"\",TEXT(INT(P_15号2様式1!AE18),\"#,##0\"),\"\")","v":""},{"$f":"IF(P_15号2様式1!AE18= \"\",\"\",IF(VALUE(FIXED(P_15号2様式1!AE18,0,TRUE))<>P_15号2様式1!AE18,RIGHT(FIXED(P_15号2様式1!AE18,3,FALSE),4),\"\"))","v":""},{"$f":"IF(P_15号2様式1!AI18<> \"\",TEXT(INT(P_15号2様式1!AI18),\"#,##0\"),\"\")","v":""},{"$f":"IF(P_15号2様式1!AI18= \"\",\"\",IF(VALUE(FIXED(P_15号2様式1!AI18,0,TRUE))<>P_15号2様式1!AI18,RIGHT(FIXED(P_15号2様式1!AI18,3,FALSE),4),\"\"))","v":""},{"$f":"IF(P_15号2様式1!AM18<> \"\",TEXT(INT(P_15号2様式1!AM18),\"#,##0\"),\"\")","v":""},{"$f":"IF(P_15号2様式1!AM18= \"\",\"\",IF(VALUE(FIXED(P_15号2様式1!AM18,0,TRUE))<>P_15号2様式1!AM18,RIGHT(FIXED(P_15号2様式1!AM18,3,FALSE),4),\"\"))","v":""},{"$f":"IF(P_15号2様式1!AQ18<> \"\",TEXT(INT(P_15号2様式1!AQ18),\"#,##0\"),\"\")","v":""},{"$f":"IF(P_15号2様式1!AQ18= \"\",\"\",IF(VALUE(FIXED(P_15号2様式1!AQ18,0,TRUE))<>P_15号2様式1!AQ18,RIGHT(FIXED(P_15号2様式1!AQ18,3,FALSE),4),\"\"))","v":""},{"$f":"IF(P_15号2様式1!AU18<> \"\",TEXT(INT(P_15号2様式1!AU18),\"#,##0\"),\"\")","v":""},{"$f":"IF(P_15号2様式1!AU18= \"\",\"\",IF(VALUE(FIXED(P_15号2様式1!AU18,0,TRUE))<>P_15号2様式1!AU18,RIGHT(FIXED(P_15号2様式1!AU18,3,FALSE),4),\"\"))","v":""},{"$f":"IF(P_15号2様式1!AV18<> \"\",TEXT(INT(P_15号2様式1!AV18),\"#,##0\"),\"\")","v":""},null,{"$f":"IF(P_15号2様式1!AV18= \"\",\"\",IF(VALUE(FIXED(P_15号2様式1!AV18,0,TRUE))<>P_15号2様式1!AV18,RIGHT(FIXED(P_15号2様式1!AV18,3,FALSE),4),\"\"))","v":""}]
[{"$f":"IF(P_15号2様式1!F19=\"\",\"\",P_15号2様式1!F19)","v":""},null,{"$f":"IF(P_15号2様式1!G19=\"\",\"\",P_15号2様式1!G19)","v":""},{"$f":"IF(P_15号2様式1!K19<> \"\",TEXT(INT(P_15号2様式1!K19),\"#,##0\"),\"\")","v":""},{"$f":"IF(P_15号2様式1!K19= \"\",\"\",IF(VALUE(FIXED(P_15号2様式1!K19,0,TRUE))<>P_15号2様式1!K19,RIGHT(FIXED(P_15号2様式1!K19,3,FALSE),4),\"\"))","v":""},{"$f":"IF(P_15号2様式1!O19<> \"\",TEXT(INT(P_15号2様式1!O19),\"#,##0\"),\"\")","v":""},{"$f":"IF(P_15号2様式1!O19= \"\",\"\",IF(VALUE(FIXED(P_15号2様式1!O19,0,TRUE))<>P_15号2様式1!O19,RIGHT(FIXED(P_15号2様式1!O19,3,FALSE),4),\"\"))","v":""},{"$f":"IF(P_15号2様式1!S19<> \"\",TEXT(INT(P_15号2様式1!S19),\"#,##0\"),\"\")","v":""},{"$f":"IF(P_15号2様式1!S19= \"\",\"\",IF(VALUE(FIXED(P_15号2様式1!S19,0,TRUE))<>P_15号2様式1!S19,RIGHT(FIXED(P_15号2様式1!S19,3,FALSE),4),\"\"))","v":""},{"$f":"IF(P_15号2様式1!W19<> \"\",TEXT(INT(P_15号2様式1!W19),\"#,##0\"),\"\")","v":""},{"$f":"IF(P_15号2様式1!W19= \"\",\"\",IF(VALUE(FIXED(P_15号2様式1!W19,0,TRUE))<>P_15号2様式1!W19,RIGHT(FIXED(P_15号2様式1!W19,3,FALSE),4),\"\"))","v":""},{"$f":"IF(P_15号2様式1!AA19<> \"\",TEXT(INT(P_15号2様式1!AA19),\"#,##0\"),\"\")","v":""},{"$f":"IF(P_15号2様式1!AA19= \"\",\"\",IF(VALUE(FIXED(P_15号2様式1!AA19,0,TRUE))<>P_15号2様式1!AA19,RIGHT(FIXED(P_15号2様式1!AA19,3,FALSE),4),\"\"))","v":""},{"$f":"IF(P_15号2様式1!AE19<> \"\",TEXT(INT(P_15号2様式1!AE19),\"#,##0\"),\"\")","v":""},{"$f":"IF(P_15号2様式1!AE19= \"\",\"\",IF(VALUE(FIXED(P_15号2様式1!AE19,0,TRUE))<>P_15号2様式1!AE19,RIGHT(FIXED(P_15号2様式1!AE19,3,FALSE),4),\"\"))","v":""},{"$f":"IF(P_15号2様式1!AI19<> \"\",TEXT(INT(P_15号2様式1!AI19),\"#,##0\"),\"\")","v":""},{"$f":"IF(P_15号2様式1!AI19= \"\",\"\",IF(VALUE(FIXED(P_15号2様式1!AI19,0,TRUE))<>P_15号2様式1!AI19,RIGHT(FIXED(P_15号2様式1!AI19,3,FALSE),4),\"\"))","v":""},{"$f":"IF(P_15号2様式1!AM19<> \"\",TEXT(INT(P_15号2様式1!AM19),\"#,##0\"),\"\")","v":""},{"$f":"IF(P_15号2様式1!AM19= \"\",\"\",IF(VALUE(FIXED(P_15号2様式1!AM19,0,TRUE))<>P_15号2様式1!AM19,RIGHT(FIXED(P_15号2様式1!AM19,3,FALSE),4),\"\"))","v":""},{"$f":"IF(P_15号2様式1!AQ19<> \"\",TEXT(INT(P_15号2様式1!AQ19),\"#,##0\"),\"\")","v":""},{"$f":"IF(P_15号2様式1!AQ19= \"\",\"\",IF(VALUE(FIXED(P_15号2様式1!AQ19,0,TRUE))<>P_15号2様式1!AQ19,RIGHT(FIXED(P_15号2様式1!AQ19,3,FALSE),4),\"\"))","v":""},{"$f":"IF(P_15号2様式1!AU19<> \"\",TEXT(INT(P_15号2様式1!AU19),\"#,##0\"),\"\")","v":""},{"$f":"IF(P_15号2様式1!AU19= \"\",\"\",IF(VALUE(FIXED(P_15号2様式1!AU19,0,TRUE))<>P_15号2様式1!AU19,RIGHT(FIXED(P_15号2様式1!AU19,3,FALSE),4),\"\"))","v":""},{"$f":"IF(P_15号2様式1!AV19<> \"\",TEXT(INT(P_15号2様式1!AV19),\"#,##0\"),\"\")","v":""},null,{"$f":"IF(P_15号2様式1!AV19= \"\",\"\",IF(VALUE(FIXED(P_15号2様式1!AV19,0,TRUE))<>P_15号2様式1!AV19,RIGHT(FIXED(P_15号2様式1!AV19,3,FALSE),4),\"\"))","v":""}]
[{"$f":"IF(P_15号2様式1!F20=\"\",\"\",P_15号2様式1!F20)","v":""},null,{"$f":"IF(P_15号2様式1!G20=\"\",\"\",P_15号2様式1!G20)","v":""},{"$f":"IF(P_15号2様式1!K20<> \"\",TEXT(INT(P_15号2様式1!K20),\"#,##0\"),\"\")","v":""},{"$f":"IF(P_15号2様式1!K20= \"\",\"\",IF(VALUE(FIXED(P_15号2様式1!K20,0,TRUE))<>P_15号2様式1!K20,RIGHT(FIXED(P_15号2様式1!K20,3,FALSE),4),\"\"))","v":""},{"$f":"IF(P_15号2様式1!O20<> \"\",TEXT(INT(P_15号2様式1!O20),\"#,##0\"),\"\")","v":""},{"$f":"IF(P_15号2様式1!O20= \"\",\"\",IF(VALUE(FIXED(P_15号2様式1!O20,0,TRUE))<>P_15号2様式1!O20,RIGHT(FIXED(P_15号2様式1!O20,3,FALSE),4),\"\"))","v":""},{"$f":"IF(P_15号2様式1!S20<> \"\",TEXT(INT(P_15号2様式1!S20),\"#,##0\"),\"\")","v":""},{"$f":"IF(P_15号2様式1!S20= \"\",\"\",IF(VALUE(FIXED(P_15号2様式1!S20,0,TRUE))<>P_15号2様式1!S20,RIGHT(FIXED(P_15号2様式1!S20,3,FALSE),4),\"\"))","v":""},{"$f":"IF(P_15号2様式1!W20<> \"\",TEXT(INT(P_15号2様式1!W20),\"#,##0\"),\"\")","v":""},{"$f":"IF(P_15号2様式1!W20= \"\",\"\",IF(VALUE(FIXED(P_15号2様式1!W20,0,TRUE))<>P_15号2様式1!W20,RIGHT(FIXED(P_15号2様式1!W20,3,FALSE),4),\"\"))","v":""},{"$f":"IF(P_15号2様式1!AA20<> \"\",TEXT(INT(P_15号2様式1!AA20),\"#,##0\"),\"\")","v":""},{"$f":"IF(P_15号2様式1!AA20= \"\",\"\",IF(VALUE(FIXED(P_15号2様式1!AA20,0,TRUE))<>P_15号2様式1!AA20,RIGHT(FIXED(P_15号2様式1!AA20,3,FALSE),4),\"\"))","v":""},{"$f":"IF(P_15号2様式1!AE20<> \"\",TEXT(INT(P_15号2様式1!AE20),\"#,##0\"),\"\")","v":""},{"$f":"IF(P_15号2様式1!AE20= \"\",\"\",IF(VALUE(FIXED(P_15号2様式1!AE20,0,TRUE))<>P_15号2様式1!AE20,RIGHT(FIXED(P_15号2様式1!AE20,3,FALSE),4),\"\"))","v":""},{"$f":"IF(P_15号2様式1!AI20<> \"\",TEXT(INT(P_15号2様式1!AI20),\"#,##0\"),\"\")","v":""},{"$f":"IF(P_15号2様式1!AI20= \"\",\"\",IF(VALUE(FIXED(P_15号2様式1!AI20,0,TRUE))<>P_15号2様式1!AI20,RIGHT(FIXED(P_15号2様式1!AI20,3,FALSE),4),\"\"))","v":""},{"$f":"IF(P_15号2様式1!AM20<> \"\",TEXT(INT(P_15号2様式1!AM20),\"#,##0\"),\"\")","v":""},{"$f":"IF(P_15号2様式1!AM20= \"\",\"\",IF(VALUE(FIXED(P_15号2様式1!AM20,0,TRUE))<>P_15号2様式1!AM20,RIGHT(FIXED(P_15号2様式1!AM20,3,FALSE),4),\"\"))","v":""},{"$f":"IF(P_15号2様式1!AQ20<> \"\",TEXT(INT(P_15号2様式1!AQ20),\"#,##0\"),\"\")","v":""},{"$f":"IF(P_15号2様式1!AQ20= \"\",\"\",IF(VALUE(FIXED(P_15号2様式1!AQ20,0,TRUE))<>P_15号2様式1!AQ20,RIGHT(FIXED(P_15号2様式1!AQ20,3,FALSE),4),\"\"))","v":""},{"$f":"IF(P_15号2様式1!AU20<> \"\",TEXT(INT(P_15号2様式1!AU20),\"#,##0\"),\"\")","v":""},{"$f":"IF(P_15号2様式1!AU20= \"\",\"\",IF(VALUE(FIXED(P_15号2様式1!AU20,0,TRUE))<>P_15号2様式1!AU20,RIGHT(FIXED(P_15号2様式1!AU20,3,FALSE),4),\"\"))","v":""},{"$f":"IF(P_15号2様式1!AV20<> \"\",TEXT(INT(P_15号2様式1!AV20),\"#,##0\"),\"\")","v":""},null,{"$f":"IF(P_15号2様式1!AV20= \"\",\"\",IF(VALUE(FIXED(P_15号2様式1!AV20,0,TRUE))<>P_15号2様式1!AV20,RIGHT(FIXED(P_15号2様式1!AV20,3,FALSE),4),\"\"))","v":""}]
[{"$f":"IF(P_15号2様式1!F21=\"\",\"\",P_15号2様式1!F21)","v":""},null,{"$f":"IF(P_15号2様式1!G21=\"\",\"\",P_15号2様式1!G21)","v":""},{"$f":"IF(P_15号2様式1!K21<> \"\",TEXT(INT(P_15号2様式1!K21),\"#,##0\"),\"\")","v":""},{"$f":"IF(P_15号2様式1!K21= \"\",\"\",IF(VALUE(FIXED(P_15号2様式1!K21,0,TRUE))<>P_15号2様式1!K21,RIGHT(FIXED(P_15号2様式1!K21,3,FALSE),4),\"\"))","v":""},{"$f":"IF(P_15号2様式1!O21<> \"\",TEXT(INT(P_15号2様式1!O21),\"#,##0\"),\"\")","v":""},{"$f":"IF(P_15号2様式1!O21= \"\",\"\",IF(VALUE(FIXED(P_15号2様式1!O21,0,TRUE))<>P_15号2様式1!O21,RIGHT(FIXED(P_15号2様式1!O21,3,FALSE),4),\"\"))","v":""},{"$f":"IF(P_15号2様式1!S21<> \"\",TEXT(INT(P_15号2様式1!S21),\"#,##0\"),\"\")","v":""},{"$f":"IF(P_15号2様式1!S21= \"\",\"\",IF(VALUE(FIXED(P_15号2様式1!S21,0,TRUE))<>P_15号2様式1!S21,RIGHT(FIXED(P_15号2様式1!S21,3,FALSE),4),\"\"))","v":""},{"$f":"IF(P_15号2様式1!W21<> \"\",TEXT(INT(P_15号2様式1!W21),\"#,##0\"),\"\")","v":""},{"$f":"IF(P_15号2様式1!W21= \"\",\"\",IF(VALUE(FIXED(P_15号2様式1!W21,0,TRUE))<>P_15号2様式1!W21,RIGHT(FIXED(P_15号2様式1!W21,3,FALSE),4),\"\"))","v":""},{"$f":"IF(P_15号2様式1!AA21<> \"\",TEXT(INT(P_15号2様式1!AA21),\"#,##0\"),\"\")","v":""},{"$f":"IF(P_15号2様式1!AA21= \"\",\"\",IF(VALUE(FIXED(P_15号2様式1!AA21,0,TRUE))<>P_15号2様式1!AA21,RIGHT(FIXED(P_15号2様式1!AA21,3,FALSE),4),\"\"))","v":""},{"$f":"IF(P_15号2様式1!AE21<> \"\",TEXT(INT(P_15号2様式1!AE21),\"#,##0\"),\"\")","v":""},{"$f":"IF(P_15号2様式1!AE21= \"\",\"\",IF(VALUE(FIXED(P_15号2様式1!AE21,0,TRUE))<>P_15号2様式1!AE21,RIGHT(FIXED(P_15号2様式1!AE21,3,FALSE),4),\"\"))","v":""},{"$f":"IF(P_15号2様式1!AI21<> \"\",TEXT(INT(P_15号2様式1!AI21),\"#,##0\"),\"\")","v":""},{"$f":"IF(P_15号2様式1!AI21= \"\",\"\",IF(VALUE(FIXED(P_15号2様式1!AI21,0,TRUE))<>P_15号2様式1!AI21,RIGHT(FIXED(P_15号2様式1!AI21,3,FALSE),4),\"\"))","v":""},{"$f":"IF(P_15号2様式1!AM21<> \"\",TEXT(INT(P_15号2様式1!AM21),\"#,##0\"),\"\")","v":""},{"$f":"IF(P_15号2様式1!AM21= \"\",\"\",IF(VALUE(FIXED(P_15号2様式1!AM21,0,TRUE))<>P_15号2様式1!AM21,RIGHT(FIXED(P_15号2様式1!AM21,3,FALSE),4),\"\"))","v":""},{"$f":"IF(P_15号2様式1!AQ21<> \"\",TEXT(INT(P_15号2様式1!AQ21),\"#,##0\"),\"\")","v":""},{"$f":"IF(P_15号2様式1!AQ21= \"\",\"\",IF(VALUE(FIXED(P_15号2様式1!AQ21,0,TRUE))<>P_15号2様式1!AQ21,RIGHT(FIXED(P_15号2様式1!AQ21,3,FALSE),4),\"\"))","v":""},{"$f":"IF(P_15号2様式1!AU21<> \"\",TEXT(INT(P_15号2様式1!AU21),\"#,##0\"),\"\")","v":""},{"$f":"IF(P_15号2様式1!AU21= \"\",\"\",IF(VALUE(FIXED(P_15号2様式1!AU21,0,TRUE))<>P_15号2様式1!AU21,RIGHT(FIXED(P_15号2様式1!AU21,3,FALSE),4),\"\"))","v":""},{"$f":"IF(P_15号2様式1!AV21<> \"\",TEXT(INT(P_15号2様式1!AV21),\"#,##0\"),\"\")","v":""},null,{"$f":"IF(P_15号2様式1!AV21= \"\",\"\",IF(VALUE(FIXED(P_15号2様式1!AV21,0,TRUE))<>P_15号2様式1!AV21,RIGHT(FIXED(P_15号2様式1!AV21,3,FALSE),4),\"\"))","v":""}]
[{"$f":"IF(P_15号2様式1!F22=\"\",\"\",P_15号2様式1!F22)","v":""},null,{"$f":"IF(P_15号2様式1!G22=\"\",\"\",P_15号2様式1!G22)","v":""},{"$f":"IF(P_15号2様式1!K22<> \"\",TEXT(INT(P_15号2様式1!K22),\"#,##0\"),\"\")","v":""},{"$f":"IF(P_15号2様式1!K22= \"\",\"\",IF(VALUE(FIXED(P_15号2様式1!K22,0,TRUE))<>P_15号2様式1!K22,RIGHT(FIXED(P_15号2様式1!K22,3,FALSE),4),\"\"))","v":""},{"$f":"IF(P_15号2様式1!O22<> \"\",TEXT(INT(P_15号2様式1!O22),\"#,##0\"),\"\")","v":""},{"$f":"IF(P_15号2様式1!O22= \"\",\"\",IF(VALUE(FIXED(P_15号2様式1!O22,0,TRUE))<>P_15号2様式1!O22,RIGHT(FIXED(P_15号2様式1!O22,3,FALSE),4),\"\"))","v":""},{"$f":"IF(P_15号2様式1!S22<> \"\",TEXT(INT(P_15号2様式1!S22),\"#,##0\"),\"\")","v":""},{"$f":"IF(P_15号2様式1!S22= \"\",\"\",IF(VALUE(FIXED(P_15号2様式1!S22,0,TRUE))<>P_15号2様式1!S22,RIGHT(FIXED(P_15号2様式1!S22,3,FALSE),4),\"\"))","v":""},{"$f":"IF(P_15号2様式1!W22<> \"\",TEXT(INT(P_15号2様式1!W22),\"#,##0\"),\"\")","v":""},{"$f":"IF(P_15号2様式1!W22= \"\",\"\",IF(VALUE(FIXED(P_15号2様式1!W22,0,TRUE))<>P_15号2様式1!W22,RIGHT(FIXED(P_15号2様式1!W22,3,FALSE),4),\"\"))","v":""},{"$f":"IF(P_15号2様式1!AA22<> \"\",TEXT(INT(P_15号2様式1!AA22),\"#,##0\"),\"\")","v":""},{"$f":"IF(P_15号2様式1!AA22= \"\",\"\",IF(VALUE(FIXED(P_15号2様式1!AA22,0,TRUE))<>P_15号2様式1!AA22,RIGHT(FIXED(P_15号2様式1!AA22,3,FALSE),4),\"\"))","v":""},{"$f":"IF(P_15号2様式1!AE22<> \"\",TEXT(INT(P_15号2様式1!AE22),\"#,##0\"),\"\")","v":""},{"$f":"IF(P_15号2様式1!AE22= \"\",\"\",IF(VALUE(FIXED(P_15号2様式1!AE22,0,TRUE))<>P_15号2様式1!AE22,RIGHT(FIXED(P_15号2様式1!AE22,3,FALSE),4),\"\"))","v":""},{"$f":"IF(P_15号2様式1!AI22<> \"\",TEXT(INT(P_15号2様式1!AI22),\"#,##0\"),\"\")","v":""},{"$f":"IF(P_15号2様式1!AI22= \"\",\"\",IF(VALUE(FIXED(P_15号2様式1!AI22,0,TRUE))<>P_15号2様式1!AI22,RIGHT(FIXED(P_15号2様式1!AI22,3,FALSE),4),\"\"))","v":""},{"$f":"IF(P_15号2様式1!AM22<> \"\",TEXT(INT(P_15号2様式1!AM22),\"#,##0\"),\"\")","v":""},{"$f":"IF(P_15号2様式1!AM22= \"\",\"\",IF(VALUE(FIXED(P_15号2様式1!AM22,0,TRUE))<>P_15号2様式1!AM22,RIGHT(FIXED(P_15号2様式1!AM22,3,FALSE),4),\"\"))","v":""},{"$f":"IF(P_15号2様式1!AQ22<> \"\",TEXT(INT(P_15号2様式1!AQ22),\"#,##0\"),\"\")","v":""},{"$f":"IF(P_15号2様式1!AQ22= \"\",\"\",IF(VALUE(FIXED(P_15号2様式1!AQ22,0,TRUE))<>P_15号2様式1!AQ22,RIGHT(FIXED(P_15号2様式1!AQ22,3,FALSE),4),\"\"))","v":""},{"$f":"IF(P_15号2様式1!AU22<> \"\",TEXT(INT(P_15号2様式1!AU22),\"#,##0\"),\"\")","v":""},{"$f":"IF(P_15号2様式1!AU22= \"\",\"\",IF(VALUE(FIXED(P_15号2様式1!AU22,0,TRUE))<>P_15号2様式1!AU22,RIGHT(FIXED(P_15号2様式1!AU22,3,FALSE),4),\"\"))","v":""},{"$f":"IF(P_15号2様式1!AV22<> \"\",TEXT(INT(P_15号2様式1!AV22),\"#,##0\"),\"\")","v":""},null,{"$f":"IF(P_15号2様式1!AV22= \"\",\"\",IF(VALUE(FIXED(P_15号2様式1!AV22,0,TRUE))<>P_15号2様式1!AV22,RIGHT(FIXED(P_15号2様式1!AV22,3,FALSE),4),\"\"))","v":""}]
[{"$f":"IF(P_15号2様式1!F23=\"\",\"\",P_15号2様式1!F23)","v":""},null,{"$f":"IF(P_15号2様式1!G23=\"\",\"\",P_15号2様式1!G23)","v":""},{"$f":"IF(P_15号2様式1!K23<> \"\",TEXT(INT(P_15号2様式1!K23),\"#,##0\"),\"\")","v":""},{"$f":"IF(P_15号2様式1!K23= \"\",\"\",IF(VALUE(FIXED(P_15号2様式1!K23,0,TRUE))<>P_15号2様式1!K23,RIGHT(FIXED(P_15号2様式1!K23,3,FALSE),4),\"\"))","v":""},{"$f":"IF(P_15号2様式1!O23<> \"\",TEXT(INT(P_15号2様式1!O23),\"#,##0\"),\"\")","v":""},{"$f":"IF(P_15号2様式1!O23= \"\",\"\",IF(VALUE(FIXED(P_15号2様式1!O23,0,TRUE))<>P_15号2様式1!O23,RIGHT(FIXED(P_15号2様式1!O23,3,FALSE),4),\"\"))","v":""},{"$f":"IF(P_15号2様式1!S23<> \"\",TEXT(INT(P_15号2様式1!S23),\"#,##0\"),\"\")","v":""},{"$f":"IF(P_15号2様式1!S23= \"\",\"\",IF(VALUE(FIXED(P_15号2様式1!S23,0,TRUE))<>P_15号2様式1!S23,RIGHT(FIXED(P_15号2様式1!S23,3,FALSE),4),\"\"))","v":""},{"$f":"IF(P_15号2様式1!W23<> \"\",TEXT(INT(P_15号2様式1!W23),\"#,##0\"),\"\")","v":""},{"$f":"IF(P_15号2様式1!W23= \"\",\"\",IF(VALUE(FIXED(P_15号2様式1!W23,0,TRUE))<>P_15号2様式1!W23,RIGHT(FIXED(P_15号2様式1!W23,3,FALSE),4),\"\"))","v":""},{"$f":"IF(P_15号2様式1!AA23<> \"\",TEXT(INT(P_15号2様式1!AA23),\"#,##0\"),\"\")","v":""},{"$f":"IF(P_15号2様式1!AA23= \"\",\"\",IF(VALUE(FIXED(P_15号2様式1!AA23,0,TRUE))<>P_15号2様式1!AA23,RIGHT(FIXED(P_15号2様式1!AA23,3,FALSE),4),\"\"))","v":""},{"$f":"IF(P_15号2様式1!AE23<> \"\",TEXT(INT(P_15号2様式1!AE23),\"#,##0\"),\"\")","v":""},{"$f":"IF(P_15号2様式1!AE23= \"\",\"\",IF(VALUE(FIXED(P_15号2様式1!AE23,0,TRUE))<>P_15号2様式1!AE23,RIGHT(FIXED(P_15号2様式1!AE23,3,FALSE),4),\"\"))","v":""},{"$f":"IF(P_15号2様式1!AI23<> \"\",TEXT(INT(P_15号2様式1!AI23),\"#,##0\"),\"\")","v":""},{"$f":"IF(P_15号2様式1!AI23= \"\",\"\",IF(VALUE(FIXED(P_15号2様式1!AI23,0,TRUE))<>P_15号2様式1!AI23,RIGHT(FIXED(P_15号2様式1!AI23,3,FALSE),4),\"\"))","v":""},{"$f":"IF(P_15号2様式1!AM23<> \"\",TEXT(INT(P_15号2様式1!AM23),\"#,##0\"),\"\")","v":""},{"$f":"IF(P_15号2様式1!AM23= \"\",\"\",IF(VALUE(FIXED(P_15号2様式1!AM23,0,TRUE))<>P_15号2様式1!AM23,RIGHT(FIXED(P_15号2様式1!AM23,3,FALSE),4),\"\"))","v":""},{"$f":"IF(P_15号2様式1!AQ23<> \"\",TEXT(INT(P_15号2様式1!AQ23),\"#,##0\"),\"\")","v":""},{"$f":"IF(P_15号2様式1!AQ23= \"\",\"\",IF(VALUE(FIXED(P_15号2様式1!AQ23,0,TRUE))<>P_15号2様式1!AQ23,RIGHT(FIXED(P_15号2様式1!AQ23,3,FALSE),4),\"\"))","v":""},{"$f":"IF(P_15号2様式1!AU23<> \"\",TEXT(INT(P_15号2様式1!AU23),\"#,##0\"),\"\")","v":""},{"$f":"IF(P_15号2様式1!AU23= \"\",\"\",IF(VALUE(FIXED(P_15号2様式1!AU23,0,TRUE))<>P_15号2様式1!AU23,RIGHT(FIXED(P_15号2様式1!AU23,3,FALSE),4),\"\"))","v":""},{"$f":"IF(P_15号2様式1!AV23<> \"\",TEXT(INT(P_15号2様式1!AV23),\"#,##0\"),\"\")","v":""},null,{"$f":"IF(P_15号2様式1!AV23= \"\",\"\",IF(VALUE(FIXED(P_15号2様式1!AV23,0,TRUE))<>P_15号2様式1!AV23,RIGHT(FIXED(P_15号2様式1!AV23,3,FALSE),4),\"\"))","v":""}]
[{"$f":"IF(P_15号2様式1!F24=\"\",\"\",P_15号2様式1!F24)","v":""},null,{"$f":"IF(P_15号2様式1!G24=\"\",\"\",P_15号2様式1!G24)","v":""},{"$f":"IF(P_15号2様式1!K24<> \"\",TEXT(INT(P_15号2様式1!K24),\"#,##0\"),\"\")","v":""},{"$f":"IF(P_15号2様式1!K24= \"\",\"\",IF(VALUE(FIXED(P_15号2様式1!K24,0,TRUE))<>P_15号2様式1!K24,RIGHT(FIXED(P_15号2様式1!K24,3,FALSE),4),\"\"))","v":""},{"$f":"IF(P_15号2様式1!O24<> \"\",TEXT(INT(P_15号2様式1!O24),\"#,##0\"),\"\")","v":""},{"$f":"IF(P_15号2様式1!O24= \"\",\"\",IF(VALUE(FIXED(P_15号2様式1!O24,0,TRUE))<>P_15号2様式1!O24,RIGHT(FIXED(P_15号2様式1!O24,3,FALSE),4),\"\"))","v":""},{"$f":"IF(P_15号2様式1!S24<> \"\",TEXT(INT(P_15号2様式1!S24),\"#,##0\"),\"\")","v":""},{"$f":"IF(P_15号2様式1!S24= \"\",\"\",IF(VALUE(FIXED(P_15号2様式1!S24,0,TRUE))<>P_15号2様式1!S24,RIGHT(FIXED(P_15号2様式1!S24,3,FALSE),4),\"\"))","v":""},{"$f":"IF(P_15号2様式1!W24<> \"\",TEXT(INT(P_15号2様式1!W24),\"#,##0\"),\"\")","v":""},{"$f":"IF(P_15号2様式1!W24= \"\",\"\",IF(VALUE(FIXED(P_15号2様式1!W24,0,TRUE))<>P_15号2様式1!W24,RIGHT(FIXED(P_15号2様式1!W24,3,FALSE),4),\"\"))","v":""},{"$f":"IF(P_15号2様式1!AA24<> \"\",TEXT(INT(P_15号2様式1!AA24),\"#,##0\"),\"\")","v":""},{"$f":"IF(P_15号2様式1!AA24= \"\",\"\",IF(VALUE(FIXED(P_15号2様式1!AA24,0,TRUE))<>P_15号2様式1!AA24,RIGHT(FIXED(P_15号2様式1!AA24,3,FALSE),4),\"\"))","v":""},{"$f":"IF(P_15号2様式1!AE24<> \"\",TEXT(INT(P_15号2様式1!AE24),\"#,##0\"),\"\")","v":""},{"$f":"IF(P_15号2様式1!AE24= \"\",\"\",IF(VALUE(FIXED(P_15号2様式1!AE24,0,TRUE))<>P_15号2様式1!AE24,RIGHT(FIXED(P_15号2様式1!AE24,3,FALSE),4),\"\"))","v":""},{"$f":"IF(P_15号2様式1!AI24<> \"\",TEXT(INT(P_15号2様式1!AI24),\"#,##0\"),\"\")","v":""},{"$f":"IF(P_15号2様式1!AI24= \"\",\"\",IF(VALUE(FIXED(P_15号2様式1!AI24,0,TRUE))<>P_15号2様式1!AI24,RIGHT(FIXED(P_15号2様式1!AI24,3,FALSE),4),\"\"))","v":""},{"$f":"IF(P_15号2様式1!AM24<> \"\",TEXT(INT(P_15号2様式1!AM24),\"#,##0\"),\"\")","v":""},{"$f":"IF(P_15号2様式1!AM24= \"\",\"\",IF(VALUE(FIXED(P_15号2様式1!AM24,0,TRUE))<>P_15号2様式1!AM24,RIGHT(FIXED(P_15号2様式1!AM24,3,FALSE),4),\"\"))","v":""},{"$f":"IF(P_15号2様式1!AQ24<> \"\",TEXT(INT(P_15号2様式1!AQ24),\"#,##0\"),\"\")","v":""},{"$f":"IF(P_15号2様式1!AQ24= \"\",\"\",IF(VALUE(FIXED(P_15号2様式1!AQ24,0,TRUE))<>P_15号2様式1!AQ24,RIGHT(FIXED(P_15号2様式1!AQ24,3,FALSE),4),\"\"))","v":""},{"$f":"IF(P_15号2様式1!AU24<> \"\",TEXT(INT(P_15号2様式1!AU24),\"#,##0\"),\"\")","v":""},{"$f":"IF(P_15号2様式1!AU24= \"\",\"\",IF(VALUE(FIXED(P_15号2様式1!AU24,0,TRUE))<>P_15号2様式1!AU24,RIGHT(FIXED(P_15号2様式1!AU24,3,FALSE),4),\"\"))","v":""},{"$f":"IF(P_15号2様式1!AV24<> \"\",TEXT(INT(P_15号2様式1!AV24),\"#,##0\"),\"\")","v":""},null,{"$f":"IF(P_15号2様式1!AV24= \"\",\"\",IF(VALUE(FIXED(P_15号2様式1!AV24,0,TRUE))<>P_15号2様式1!AV24,RIGHT(FIXED(P_15号2様式1!AV24,3,FALSE),4),\"\"))","v":""}]
[{"$f":"IF(P_15号2様式1!F25=\"\",\"\",P_15号2様式1!F25)","v":""},null,{"$f":"IF(P_15号2様式1!G25=\"\",\"\",P_15号2様式1!G25)","v":""},{"$f":"IF(P_15号2様式1!K25<> \"\",TEXT(INT(P_15号2様式1!K25),\"#,##0\"),\"\")","v":""},{"$f":"IF(P_15号2様式1!K25= \"\",\"\",IF(VALUE(FIXED(P_15号2様式1!K25,0,TRUE))<>P_15号2様式1!K25,RIGHT(FIXED(P_15号2様式1!K25,3,FALSE),4),\"\"))","v":""},{"$f":"IF(P_15号2様式1!O25<> \"\",TEXT(INT(P_15号2様式1!O25),\"#,##0\"),\"\")","v":""},{"$f":"IF(P_15号2様式1!O25= \"\",\"\",IF(VALUE(FIXED(P_15号2様式1!O25,0,TRUE))<>P_15号2様式1!O25,RIGHT(FIXED(P_15号2様式1!O25,3,FALSE),4),\"\"))","v":""},{"$f":"IF(P_15号2様式1!S25<> \"\",TEXT(INT(P_15号2様式1!S25),\"#,##0\"),\"\")","v":""},{"$f":"IF(P_15号2様式1!S25= \"\",\"\",IF(VALUE(FIXED(P_15号2様式1!S25,0,TRUE))<>P_15号2様式1!S25,RIGHT(FIXED(P_15号2様式1!S25,3,FALSE),4),\"\"))","v":""},{"$f":"IF(P_15号2様式1!W25<> \"\",TEXT(INT(P_15号2様式1!W25),\"#,##0\"),\"\")","v":""},{"$f":"IF(P_15号2様式1!W25= \"\",\"\",IF(VALUE(FIXED(P_15号2様式1!W25,0,TRUE))<>P_15号2様式1!W25,RIGHT(FIXED(P_15号2様式1!W25,3,FALSE),4),\"\"))","v":""},{"$f":"IF(P_15号2様式1!AA25<> \"\",TEXT(INT(P_15号2様式1!AA25),\"#,##0\"),\"\")","v":""},{"$f":"IF(P_15号2様式1!AA25= \"\",\"\",IF(VALUE(FIXED(P_15号2様式1!AA25,0,TRUE))<>P_15号2様式1!AA25,RIGHT(FIXED(P_15号2様式1!AA25,3,FALSE),4),\"\"))","v":""},{"$f":"IF(P_15号2様式1!AE25<> \"\",TEXT(INT(P_15号2様式1!AE25),\"#,##0\"),\"\")","v":""},{"$f":"IF(P_15号2様式1!AE25= \"\",\"\",IF(VALUE(FIXED(P_15号2様式1!AE25,0,TRUE))<>P_15号2様式1!AE25,RIGHT(FIXED(P_15号2様式1!AE25,3,FALSE),4),\"\"))","v":""},{"$f":"IF(P_15号2様式1!AI25<> \"\",TEXT(INT(P_15号2様式1!AI25),\"#,##0\"),\"\")","v":""},{"$f":"IF(P_15号2様式1!AI25= \"\",\"\",IF(VALUE(FIXED(P_15号2様式1!AI25,0,TRUE))<>P_15号2様式1!AI25,RIGHT(FIXED(P_15号2様式1!AI25,3,FALSE),4),\"\"))","v":""},{"$f":"IF(P_15号2様式1!AM25<> \"\",TEXT(INT(P_15号2様式1!AM25),\"#,##0\"),\"\")","v":""},{"$f":"IF(P_15号2様式1!AM25= \"\",\"\",IF(VALUE(FIXED(P_15号2様式1!AM25,0,TRUE))<>P_15号2様式1!AM25,RIGHT(FIXED(P_15号2様式1!AM25,3,FALSE),4),\"\"))","v":""},{"$f":"IF(P_15号2様式1!AQ25<> \"\",TEXT(INT(P_15号2様式1!AQ25),\"#,##0\"),\"\")","v":""},{"$f":"IF(P_15号2様式1!AQ25= \"\",\"\",IF(VALUE(FIXED(P_15号2様式1!AQ25,0,TRUE))<>P_15号2様式1!AQ25,RIGHT(FIXED(P_15号2様式1!AQ25,3,FALSE),4),\"\"))","v":""},{"$f":"IF(P_15号2様式1!AU25<> \"\",TEXT(INT(P_15号2様式1!AU25),\"#,##0\"),\"\")","v":""},{"$f":"IF(P_15号2様式1!AU25= \"\",\"\",IF(VALUE(FIXED(P_15号2様式1!AU25,0,TRUE))<>P_15号2様式1!AU25,RIGHT(FIXED(P_15号2様式1!AU25,3,FALSE),4),\"\"))","v":""},{"$f":"IF(P_15号2様式1!AV25<> \"\",TEXT(INT(P_15号2様式1!AV25),\"#,##0\"),\"\")","v":""},null,{"$f":"IF(P_15号2様式1!AV25= \"\",\"\",IF(VALUE(FIXED(P_15号2様式1!AV25,0,TRUE))<>P_15号2様式1!AV25,RIGHT(FIXED(P_15号2様式1!AV25,3,FALSE),4),\"\"))","v":""}]
[{"$f":"IF(P_15号2様式1!F26=\"\",\"\",P_15号2様式1!F26)","v":""},null,{"$f":"IF(P_15号2様式1!G26=\"\",\"\",P_15号2様式1!G26)","v":""},{"$f":"IF(P_15号2様式1!K26<> \"\",TEXT(INT(P_15号2様式1!K26),\"#,##0\"),\"\")","v":""},{"$f":"IF(P_15号2様式1!K26= \"\",\"\",IF(VALUE(FIXED(P_15号2様式1!K26,0,TRUE))<>P_15号2様式1!K26,RIGHT(FIXED(P_15号2様式1!K26,3,FALSE),4),\"\"))","v":""},{"$f":"IF(P_15号2様式1!O26<> \"\",TEXT(INT(P_15号2様式1!O26),\"#,##0\"),\"\")","v":""},{"$f":"IF(P_15号2様式1!O26= \"\",\"\",IF(VALUE(FIXED(P_15号2様式1!O26,0,TRUE))<>P_15号2様式1!O26,RIGHT(FIXED(P_15号2様式1!O26,3,FALSE),4),\"\"))","v":""},{"$f":"IF(P_15号2様式1!S26<> \"\",TEXT(INT(P_15号2様式1!S26),\"#,##0\"),\"\")","v":""},{"$f":"IF(P_15号2様式1!S26= \"\",\"\",IF(VALUE(FIXED(P_15号2様式1!S26,0,TRUE))<>P_15号2様式1!S26,RIGHT(FIXED(P_15号2様式1!S26,3,FALSE),4),\"\"))","v":""},{"$f":"IF(P_15号2様式1!W26<> \"\",TEXT(INT(P_15号2様式1!W26),\"#,##0\"),\"\")","v":""},{"$f":"IF(P_15号2様式1!W26= \"\",\"\",IF(VALUE(FIXED(P_15号2様式1!W26,0,TRUE))<>P_15号2様式1!W26,RIGHT(FIXED(P_15号2様式1!W26,3,FALSE),4),\"\"))","v":""},{"$f":"IF(P_15号2様式1!AA26<> \"\",TEXT(INT(P_15号2様式1!AA26),\"#,##0\"),\"\")","v":""},{"$f":"IF(P_15号2様式1!AA26= \"\",\"\",IF(VALUE(FIXED(P_15号2様式1!AA26,0,TRUE))<>P_15号2様式1!AA26,RIGHT(FIXED(P_15号2様式1!AA26,3,FALSE),4),\"\"))","v":""},{"$f":"IF(P_15号2様式1!AE26<> \"\",TEXT(INT(P_15号2様式1!AE26),\"#,##0\"),\"\")","v":""},{"$f":"IF(P_15号2様式1!AE26= \"\",\"\",IF(VALUE(FIXED(P_15号2様式1!AE26,0,TRUE))<>P_15号2様式1!AE26,RIGHT(FIXED(P_15号2様式1!AE26,3,FALSE),4),\"\"))","v":""},{"$f":"IF(P_15号2様式1!AI26<> \"\",TEXT(INT(P_15号2様式1!AI26),\"#,##0\"),\"\")","v":""},{"$f":"IF(P_15号2様式1!AI26= \"\",\"\",IF(VALUE(FIXED(P_15号2様式1!AI26,0,TRUE))<>P_15号2様式1!AI26,RIGHT(FIXED(P_15号2様式1!AI26,3,FALSE),4),\"\"))","v":""},{"$f":"IF(P_15号2様式1!AM26<> \"\",TEXT(INT(P_15号2様式1!AM26),\"#,##0\"),\"\")","v":""},{"$f":"IF(P_15号2様式1!AM26= \"\",\"\",IF(VALUE(FIXED(P_15号2様式1!AM26,0,TRUE))<>P_15号2様式1!AM26,RIGHT(FIXED(P_15号2様式1!AM26,3,FALSE),4),\"\"))","v":""},{"$f":"IF(P_15号2様式1!AQ26<> \"\",TEXT(INT(P_15号2様式1!AQ26),\"#,##0\"),\"\")","v":""},{"$f":"IF(P_15号2様式1!AQ26= \"\",\"\",IF(VALUE(FIXED(P_15号2様式1!AQ26,0,TRUE))<>P_15号2様式1!AQ26,RIGHT(FIXED(P_15号2様式1!AQ26,3,FALSE),4),\"\"))","v":""},{"$f":"IF(P_15号2様式1!AU26<> \"\",TEXT(INT(P_15号2様式1!AU26),\"#,##0\"),\"\")","v":""},{"$f":"IF(P_15号2様式1!AU26= \"\",\"\",IF(VALUE(FIXED(P_15号2様式1!AU26,0,TRUE))<>P_15号2様式1!AU26,RIGHT(FIXED(P_15号2様式1!AU26,3,FALSE),4),\"\"))","v":""},{"$f":"IF(P_15号2様式1!AV26<> \"\",TEXT(INT(P_15号2様式1!AV26),\"#,##0\"),\"\")","v":""},null,{"$f":"IF(P_15号2様式1!AV26= \"\",\"\",IF(VALUE(FIXED(P_15号2様式1!AV26,0,TRUE))<>P_15号2様式1!AV26,RIGHT(FIXED(P_15号2様式1!AV26,3,FALSE),4),\"\"))","v":""}]
[{"$f":"IF(P_15号2様式1!F27=\"\",\"\",P_15号2様式1!F27)","v":""},null,{"$f":"IF(P_15号2様式1!G27=\"\",\"\",P_15号2様式1!G27)","v":""},{"$f":"IF(P_15号2様式1!K27<> \"\",TEXT(INT(P_15号2様式1!K27),\"#,##0\"),\"\")","v":""},{"$f":"IF(P_15号2様式1!K27= \"\",\"\",IF(VALUE(FIXED(P_15号2様式1!K27,0,TRUE))<>P_15号2様式1!K27,RIGHT(FIXED(P_15号2様式1!K27,3,FALSE),4),\"\"))","v":""},{"$f":"IF(P_15号2様式1!O27<> \"\",TEXT(INT(P_15号2様式1!O27),\"#,##0\"),\"\")","v":""},{"$f":"IF(P_15号2様式1!O27= \"\",\"\",IF(VALUE(FIXED(P_15号2様式1!O27,0,TRUE))<>P_15号2様式1!O27,RIGHT(FIXED(P_15号2様式1!O27,3,FALSE),4),\"\"))","v":""},{"$f":"IF(P_15号2様式1!S27<> \"\",TEXT(INT(P_15号2様式1!S27),\"#,##0\"),\"\")","v":""},{"$f":"IF(P_15号2様式1!S27= \"\",\"\",IF(VALUE(FIXED(P_15号2様式1!S27,0,TRUE))<>P_15号2様式1!S27,RIGHT(FIXED(P_15号2様式1!S27,3,FALSE),4),\"\"))","v":""},{"$f":"IF(P_15号2様式1!W27<> \"\",TEXT(INT(P_15号2様式1!W27),\"#,##0\"),\"\")","v":""},{"$f":"IF(P_15号2様式1!W27= \"\",\"\",IF(VALUE(FIXED(P_15号2様式1!W27,0,TRUE))<>P_15号2様式1!W27,RIGHT(FIXED(P_15号2様式1!W27,3,FALSE),4),\"\"))","v":""},{"$f":"IF(P_15号2様式1!AA27<> \"\",TEXT(INT(P_15号2様式1!AA27),\"#,##0\"),\"\")","v":""},{"$f":"IF(P_15号2様式1!AA27= \"\",\"\",IF(VALUE(FIXED(P_15号2様式1!AA27,0,TRUE))<>P_15号2様式1!AA27,RIGHT(FIXED(P_15号2様式1!AA27,3,FALSE),4),\"\"))","v":""},{"$f":"IF(P_15号2様式1!AE27<> \"\",TEXT(INT(P_15号2様式1!AE27),\"#,##0\"),\"\")","v":""},{"$f":"IF(P_15号2様式1!AE27= \"\",\"\",IF(VALUE(FIXED(P_15号2様式1!AE27,0,TRUE))<>P_15号2様式1!AE27,RIGHT(FIXED(P_15号2様式1!AE27,3,FALSE),4),\"\"))","v":""},{"$f":"IF(P_15号2様式1!AI27<> \"\",TEXT(INT(P_15号2様式1!AI27),\"#,##0\"),\"\")","v":""},{"$f":"IF(P_15号2様式1!AI27= \"\",\"\",IF(VALUE(FIXED(P_15号2様式1!AI27,0,TRUE))<>P_15号2様式1!AI27,RIGHT(FIXED(P_15号2様式1!AI27,3,FALSE),4),\"\"))","v":""},{"$f":"IF(P_15号2様式1!AM27<> \"\",TEXT(INT(P_15号2様式1!AM27),\"#,##0\"),\"\")","v":""},{"$f":"IF(P_15号2様式1!AM27= \"\",\"\",IF(VALUE(FIXED(P_15号2様式1!AM27,0,TRUE))<>P_15号2様式1!AM27,RIGHT(FIXED(P_15号2様式1!AM27,3,FALSE),4),\"\"))","v":""},{"$f":"IF(P_15号2様式1!AQ27<> \"\",TEXT(INT(P_15号2様式1!AQ27),\"#,##0\"),\"\")","v":""},{"$f":"IF(P_15号2様式1!AQ27= \"\",\"\",IF(VALUE(FIXED(P_15号2様式1!AQ27,0,TRUE))<>P_15号2様式1!AQ27,RIGHT(FIXED(P_15号2様式1!AQ27,3,FALSE),4),\"\"))","v":""},{"$f":"IF(P_15号2様式1!AU27<> \"\",TEXT(INT(P_15号2様式1!AU27),\"#,##0\"),\"\")","v":""},{"$f":"IF(P_15号2様式1!AU27= \"\",\"\",IF(VALUE(FIXED(P_15号2様式1!AU27,0,TRUE))<>P_15号2様式1!AU27,RIGHT(FIXED(P_15号2様式1!AU27,3,FALSE),4),\"\"))","v":""},{"$f":"IF(P_15号2様式1!AV27<> \"\",TEXT(INT(P_15号2様式1!AV27),\"#,##0\"),\"\")","v":""},null,{"$f":"IF(P_15号2様式1!AV27= \"\",\"\",IF(VALUE(FIXED(P_15号2様式1!AV27,0,TRUE))<>P_15号2様式1!AV27,RIGHT(FIXED(P_15号2様式1!AV27,3,FALSE),4),\"\"))","v":""}]
[{"$f":"IF(P_15号2様式1!F28=\"\",\"\",P_15号2様式1!F28)","v":""},null,{"$f":"IF(P_15号2様式1!G28=\"\",\"\",P_15号2様式1!G28)","v":""},{"$f":"IF(P_15号2様式1!K28<> \"\",TEXT(INT(P_15号2様式1!K28),\"#,##0\"),\"\")","v":""},{"$f":"IF(P_15号2様式1!K28= \"\",\"\",IF(VALUE(FIXED(P_15号2様式1!K28,0,TRUE))<>P_15号2様式1!K28,RIGHT(FIXED(P_15号2様式1!K28,3,FALSE),4),\"\"))","v":""},{"$f":"IF(P_15号2様式1!O28<> \"\",TEXT(INT(P_15号2様式1!O28),\"#,##0\"),\"\")","v":""},{"$f":"IF(P_15号2様式1!O28= \"\",\"\",IF(VALUE(FIXED(P_15号2様式1!O28,0,TRUE))<>P_15号2様式1!O28,RIGHT(FIXED(P_15号2様式1!O28,3,FALSE),4),\"\"))","v":""},{"$f":"IF(P_15号2様式1!S28<> \"\",TEXT(INT(P_15号2様式1!S28),\"#,##0\"),\"\")","v":""},{"$f":"IF(P_15号2様式1!S28= \"\",\"\",IF(VALUE(FIXED(P_15号2様式1!S28,0,TRUE))<>P_15号2様式1!S28,RIGHT(FIXED(P_15号2様式1!S28,3,FALSE),4),\"\"))","v":""},{"$f":"IF(P_15号2様式1!W28<> \"\",TEXT(INT(P_15号2様式1!W28),\"#,##0\"),\"\")","v":""},{"$f":"IF(P_15号2様式1!W28= \"\",\"\",IF(VALUE(FIXED(P_15号2様式1!W28,0,TRUE))<>P_15号2様式1!W28,RIGHT(FIXED(P_15号2様式1!W28,3,FALSE),4),\"\"))","v":""},{"$f":"IF(P_15号2様式1!AA28<> \"\",TEXT(INT(P_15号2様式1!AA28),\"#,##0\"),\"\")","v":""},{"$f":"IF(P_15号2様式1!AA28= \"\",\"\",IF(VALUE(FIXED(P_15号2様式1!AA28,0,TRUE))<>P_15号2様式1!AA28,RIGHT(FIXED(P_15号2様式1!AA28,3,FALSE),4),\"\"))","v":""},{"$f":"IF(P_15号2様式1!AE28<> \"\",TEXT(INT(P_15号2様式1!AE28),\"#,##0\"),\"\")","v":""},{"$f":"IF(P_15号2様式1!AE28= \"\",\"\",IF(VALUE(FIXED(P_15号2様式1!AE28,0,TRUE))<>P_15号2様式1!AE28,RIGHT(FIXED(P_15号2様式1!AE28,3,FALSE),4),\"\"))","v":""},{"$f":"IF(P_15号2様式1!AI28<> \"\",TEXT(INT(P_15号2様式1!AI28),\"#,##0\"),\"\")","v":""},{"$f":"IF(P_15号2様式1!AI28= \"\",\"\",IF(VALUE(FIXED(P_15号2様式1!AI28,0,TRUE))<>P_15号2様式1!AI28,RIGHT(FIXED(P_15号2様式1!AI28,3,FALSE),4),\"\"))","v":""},{"$f":"IF(P_15号2様式1!AM28<> \"\",TEXT(INT(P_15号2様式1!AM28),\"#,##0\"),\"\")","v":""},{"$f":"IF(P_15号2様式1!AM28= \"\",\"\",IF(VALUE(FIXED(P_15号2様式1!AM28,0,TRUE))<>P_15号2様式1!AM28,RIGHT(FIXED(P_15号2様式1!AM28,3,FALSE),4),\"\"))","v":""},{"$f":"IF(P_15号2様式1!AQ28<> \"\",TEXT(INT(P_15号2様式1!AQ28),\"#,##0\"),\"\")","v":""},{"$f":"IF(P_15号2様式1!AQ28= \"\",\"\",IF(VALUE(FIXED(P_15号2様式1!AQ28,0,TRUE))<>P_15号2様式1!AQ28,RIGHT(FIXED(P_15号2様式1!AQ28,3,FALSE),4),\"\"))","v":""},{"$f":"IF(P_15号2様式1!AU28<> \"\",TEXT(INT(P_15号2様式1!AU28),\"#,##0\"),\"\")","v":""},{"$f":"IF(P_15号2様式1!AU28= \"\",\"\",IF(VALUE(FIXED(P_15号2様式1!AU28,0,TRUE))<>P_15号2様式1!AU28,RIGHT(FIXED(P_15号2様式1!AU28,3,FALSE),4),\"\"))","v":""},{"$f":"IF(P_15号2様式1!AV28<> \"\",TEXT(INT(P_15号2様式1!AV28),\"#,##0\"),\"\")","v":""},null,{"$f":"IF(P_15号2様式1!AV28= \"\",\"\",IF(VALUE(FIXED(P_15号2様式1!AV28,0,TRUE))<>P_15号2様式1!AV28,RIGHT(FIXED(P_15号2様式1!AV28,3,FALSE),4),\"\"))","v":""}]
[{"$f":"IF(P_15号2様式1!F29=\"\",\"\",P_15号2様式1!F29)","v":""},null,{"$f":"IF(P_15号2様式1!G29=\"\",\"\",P_15号2様式1!G29)","v":""},{"$f":"IF(P_15号2様式1!K29<> \"\",TEXT(INT(P_15号2様式1!K29),\"#,##0\"),\"\")","v":""},{"$f":"IF(P_15号2様式1!K29= \"\",\"\",IF(VALUE(FIXED(P_15号2様式1!K29,0,TRUE))<>P_15号2様式1!K29,RIGHT(FIXED(P_15号2様式1!K29,3,FALSE),4),\"\"))","v":""},{"$f":"IF(P_15号2様式1!O29<> \"\",TEXT(INT(P_15号2様式1!O29),\"#,##0\"),\"\")","v":""},{"$f":"IF(P_15号2様式1!O29= \"\",\"\",IF(VALUE(FIXED(P_15号2様式1!O29,0,TRUE))<>P_15号2様式1!O29,RIGHT(FIXED(P_15号2様式1!O29,3,FALSE),4),\"\"))","v":""},{"$f":"IF(P_15号2様式1!S29<> \"\",TEXT(INT(P_15号2様式1!S29),\"#,##0\"),\"\")","v":""},{"$f":"IF(P_15号2様式1!S29= \"\",\"\",IF(VALUE(FIXED(P_15号2様式1!S29,0,TRUE))<>P_15号2様式1!S29,RIGHT(FIXED(P_15号2様式1!S29,3,FALSE),4),\"\"))","v":""},{"$f":"IF(P_15号2様式1!W29<> \"\",TEXT(INT(P_15号2様式1!W29),\"#,##0\"),\"\")","v":""},{"$f":"IF(P_15号2様式1!W29= \"\",\"\",IF(VALUE(FIXED(P_15号2様式1!W29,0,TRUE))<>P_15号2様式1!W29,RIGHT(FIXED(P_15号2様式1!W29,3,FALSE),4),\"\"))","v":""},{"$f":"IF(P_15号2様式1!AA29<> \"\",TEXT(INT(P_15号2様式1!AA29),\"#,##0\"),\"\")","v":""},{"$f":"IF(P_15号2様式1!AA29= \"\",\"\",IF(VALUE(FIXED(P_15号2様式1!AA29,0,TRUE))<>P_15号2様式1!AA29,RIGHT(FIXED(P_15号2様式1!AA29,3,FALSE),4),\"\"))","v":""},{"$f":"IF(P_15号2様式1!AE29<> \"\",TEXT(INT(P_15号2様式1!AE29),\"#,##0\"),\"\")","v":""},{"$f":"IF(P_15号2様式1!AE29= \"\",\"\",IF(VALUE(FIXED(P_15号2様式1!AE29,0,TRUE))<>P_15号2様式1!AE29,RIGHT(FIXED(P_15号2様式1!AE29,3,FALSE),4),\"\"))","v":""},{"$f":"IF(P_15号2様式1!AI29<> \"\",TEXT(INT(P_15号2様式1!AI29),\"#,##0\"),\"\")","v":""},{"$f":"IF(P_15号2様式1!AI29= \"\",\"\",IF(VALUE(FIXED(P_15号2様式1!AI29,0,TRUE))<>P_15号2様式1!AI29,RIGHT(FIXED(P_15号2様式1!AI29,3,FALSE),4),\"\"))","v":""},{"$f":"IF(P_15号2様式1!AM29<> \"\",TEXT(INT(P_15号2様式1!AM29),\"#,##0\"),\"\")","v":""},{"$f":"IF(P_15号2様式1!AM29= \"\",\"\",IF(VALUE(FIXED(P_15号2様式1!AM29,0,TRUE))<>P_15号2様式1!AM29,RIGHT(FIXED(P_15号2様式1!AM29,3,FALSE),4),\"\"))","v":""},{"$f":"IF(P_15号2様式1!AQ29<> \"\",TEXT(INT(P_15号2様式1!AQ29),\"#,##0\"),\"\")","v":""},{"$f":"IF(P_15号2様式1!AQ29= \"\",\"\",IF(VALUE(FIXED(P_15号2様式1!AQ29,0,TRUE))<>P_15号2様式1!AQ29,RIGHT(FIXED(P_15号2様式1!AQ29,3,FALSE),4),\"\"))","v":""},{"$f":"IF(P_15号2様式1!AU29<> \"\",TEXT(INT(P_15号2様式1!AU29),\"#,##0\"),\"\")","v":""},{"$f":"IF(P_15号2様式1!AU29= \"\",\"\",IF(VALUE(FIXED(P_15号2様式1!AU29,0,TRUE))<>P_15号2様式1!AU29,RIGHT(FIXED(P_15号2様式1!AU29,3,FALSE),4),\"\"))","v":""},{"$f":"IF(P_15号2様式1!AV29<> \"\",TEXT(INT(P_15号2様式1!AV29),\"#,##0\"),\"\")","v":""},null,{"$f":"IF(P_15号2様式1!AV29= \"\",\"\",IF(VALUE(FIXED(P_15号2様式1!AV29,0,TRUE))<>P_15号2様式1!AV29,RIGHT(FIXED(P_15号2様式1!AV29,3,FALSE),4),\"\"))","v":""}]
[{"$f":"IF(P_15号2様式1!F30=\"\",\"\",P_15号2様式1!F30)","v":""},null,{"$f":"IF(P_15号2様式1!G30=\"\",\"\",P_15号2様式1!G30)","v":""},{"$f":"IF(P_15号2様式1!K30<> \"\",TEXT(INT(P_15号2様式1!K30),\"#,##0\"),\"\")","v":""},{"$f":"IF(P_15号2様式1!K30= \"\",\"\",IF(VALUE(FIXED(P_15号2様式1!K30,0,TRUE))<>P_15号2様式1!K30,RIGHT(FIXED(P_15号2様式1!K30,3,FALSE),4),\"\"))","v":""},{"$f":"IF(P_15号2様式1!O30<> \"\",TEXT(INT(P_15号2様式1!O30),\"#,##0\"),\"\")","v":""},{"$f":"IF(P_15号2様式1!O30= \"\",\"\",IF(VALUE(FIXED(P_15号2様式1!O30,0,TRUE))<>P_15号2様式1!O30,RIGHT(FIXED(P_15号2様式1!O30,3,FALSE),4),\"\"))","v":""},{"$f":"IF(P_15号2様式1!S30<> \"\",TEXT(INT(P_15号2様式1!S30),\"#,##0\"),\"\")","v":""},{"$f":"IF(P_15号2様式1!S30= \"\",\"\",IF(VALUE(FIXED(P_15号2様式1!S30,0,TRUE))<>P_15号2様式1!S30,RIGHT(FIXED(P_15号2様式1!S30,3,FALSE),4),\"\"))","v":""},{"$f":"IF(P_15号2様式1!W30<> \"\",TEXT(INT(P_15号2様式1!W30),\"#,##0\"),\"\")","v":""},{"$f":"IF(P_15号2様式1!W30= \"\",\"\",IF(VALUE(FIXED(P_15号2様式1!W30,0,TRUE))<>P_15号2様式1!W30,RIGHT(FIXED(P_15号2様式1!W30,3,FALSE),4),\"\"))","v":""},{"$f":"IF(P_15号2様式1!AA30<> \"\",TEXT(INT(P_15号2様式1!AA30),\"#,##0\"),\"\")","v":""},{"$f":"IF(P_15号2様式1!AA30= \"\",\"\",IF(VALUE(FIXED(P_15号2様式1!AA30,0,TRUE))<>P_15号2様式1!AA30,RIGHT(FIXED(P_15号2様式1!AA30,3,FALSE),4),\"\"))","v":""},{"$f":"IF(P_15号2様式1!AE30<> \"\",TEXT(INT(P_15号2様式1!AE30),\"#,##0\"),\"\")","v":""},{"$f":"IF(P_15号2様式1!AE30= \"\",\"\",IF(VALUE(FIXED(P_15号2様式1!AE30,0,TRUE))<>P_15号2様式1!AE30,RIGHT(FIXED(P_15号2様式1!AE30,3,FALSE),4),\"\"))","v":""},{"$f":"IF(P_15号2様式1!AI30<> \"\",TEXT(INT(P_15号2様式1!AI30),\"#,##0\"),\"\")","v":""},{"$f":"IF(P_15号2様式1!AI30= \"\",\"\",IF(VALUE(FIXED(P_15号2様式1!AI30,0,TRUE))<>P_15号2様式1!AI30,RIGHT(FIXED(P_15号2様式1!AI30,3,FALSE),4),\"\"))","v":""},{"$f":"IF(P_15号2様式1!AM30<> \"\",TEXT(INT(P_15号2様式1!AM30),\"#,##0\"),\"\")","v":""},{"$f":"IF(P_15号2様式1!AM30= \"\",\"\",IF(VALUE(FIXED(P_15号2様式1!AM30,0,TRUE))<>P_15号2様式1!AM30,RIGHT(FIXED(P_15号2様式1!AM30,3,FALSE),4),\"\"))","v":""},{"$f":"IF(P_15号2様式1!AQ30<> \"\",TEXT(INT(P_15号2様式1!AQ30),\"#,##0\"),\"\")","v":""},{"$f":"IF(P_15号2様式1!AQ30= \"\",\"\",IF(VALUE(FIXED(P_15号2様式1!AQ30,0,TRUE))<>P_15号2様式1!AQ30,RIGHT(FIXED(P_15号2様式1!AQ30,3,FALSE),4),\"\"))","v":""},{"$f":"IF(P_15号2様式1!AU30<> \"\",TEXT(INT(P_15号2様式1!AU30),\"#,##0\"),\"\")","v":""},{"$f":"IF(P_15号2様式1!AU30= \"\",\"\",IF(VALUE(FIXED(P_15号2様式1!AU30,0,TRUE))<>P_15号2様式1!AU30,RIGHT(FIXED(P_15号2様式1!AU30,3,FALSE),4),\"\"))","v":""},{"$f":"IF(P_15号2様式1!AV30<> \"\",TEXT(INT(P_15号2様式1!AV30),\"#,##0\"),\"\")","v":""},null,{"$f":"IF(P_15号2様式1!AV30= \"\",\"\",IF(VALUE(FIXED(P_15号2様式1!AV30,0,TRUE))<>P_15号2様式1!AV30,RIGHT(FIXED(P_15号2様式1!AV30,3,FALSE),4),\"\"))","v":""}]
[{"$f":"IF(P_15号2様式1!F31=\"\",\"\",P_15号2様式1!F31)","v":""},null,{"$f":"IF(P_15号2様式1!G31=\"\",\"\",P_15号2様式1!G31)","v":""},{"$f":"IF(P_15号2様式1!K31<> \"\",TEXT(INT(P_15号2様式1!K31),\"#,##0\"),\"\")","v":""},{"$f":"IF(P_15号2様式1!K31= \"\",\"\",IF(VALUE(FIXED(P_15号2様式1!K31,0,TRUE))<>P_15号2様式1!K31,RIGHT(FIXED(P_15号2様式1!K31,3,FALSE),4),\"\"))","v":""},{"$f":"IF(P_15号2様式1!O31<> \"\",TEXT(INT(P_15号2様式1!O31),\"#,##0\"),\"\")","v":""},{"$f":"IF(P_15号2様式1!O31= \"\",\"\",IF(VALUE(FIXED(P_15号2様式1!O31,0,TRUE))<>P_15号2様式1!O31,RIGHT(FIXED(P_15号2様式1!O31,3,FALSE),4),\"\"))","v":""},{"$f":"IF(P_15号2様式1!S31<> \"\",TEXT(INT(P_15号2様式1!S31),\"#,##0\"),\"\")","v":""},{"$f":"IF(P_15号2様式1!S31= \"\",\"\",IF(VALUE(FIXED(P_15号2様式1!S31,0,TRUE))<>P_15号2様式1!S31,RIGHT(FIXED(P_15号2様式1!S31,3,FALSE),4),\"\"))","v":""},{"$f":"IF(P_15号2様式1!W31<> \"\",TEXT(INT(P_15号2様式1!W31),\"#,##0\"),\"\")","v":""},{"$f":"IF(P_15号2様式1!W31= \"\",\"\",IF(VALUE(FIXED(P_15号2様式1!W31,0,TRUE))<>P_15号2様式1!W31,RIGHT(FIXED(P_15号2様式1!W31,3,FALSE),4),\"\"))","v":""},{"$f":"IF(P_15号2様式1!AA31<> \"\",TEXT(INT(P_15号2様式1!AA31),\"#,##0\"),\"\")","v":""},{"$f":"IF(P_15号2様式1!AA31= \"\",\"\",IF(VALUE(FIXED(P_15号2様式1!AA31,0,TRUE))<>P_15号2様式1!AA31,RIGHT(FIXED(P_15号2様式1!AA31,3,FALSE),4),\"\"))","v":""},{"$f":"IF(P_15号2様式1!AE31<> \"\",TEXT(INT(P_15号2様式1!AE31),\"#,##0\"),\"\")","v":""},{"$f":"IF(P_15号2様式1!AE31= \"\",\"\",IF(VALUE(FIXED(P_15号2様式1!AE31,0,TRUE))<>P_15号2様式1!AE31,RIGHT(FIXED(P_15号2様式1!AE31,3,FALSE),4),\"\"))","v":""},{"$f":"IF(P_15号2様式1!AI31<> \"\",TEXT(INT(P_15号2様式1!AI31),\"#,##0\"),\"\")","v":""},{"$f":"IF(P_15号2様式1!AI31= \"\",\"\",IF(VALUE(FIXED(P_15号2様式1!AI31,0,TRUE))<>P_15号2様式1!AI31,RIGHT(FIXED(P_15号2様式1!AI31,3,FALSE),4),\"\"))","v":""},{"$f":"IF(P_15号2様式1!AM31<> \"\",TEXT(INT(P_15号2様式1!AM31),\"#,##0\"),\"\")","v":""},{"$f":"IF(P_15号2様式1!AM31= \"\",\"\",IF(VALUE(FIXED(P_15号2様式1!AM31,0,TRUE))<>P_15号2様式1!AM31,RIGHT(FIXED(P_15号2様式1!AM31,3,FALSE),4),\"\"))","v":""},{"$f":"IF(P_15号2様式1!AQ31<> \"\",TEXT(INT(P_15号2様式1!AQ31),\"#,##0\"),\"\")","v":""},{"$f":"IF(P_15号2様式1!AQ31= \"\",\"\",IF(VALUE(FIXED(P_15号2様式1!AQ31,0,TRUE))<>P_15号2様式1!AQ31,RIGHT(FIXED(P_15号2様式1!AQ31,3,FALSE),4),\"\"))","v":""},{"$f":"IF(P_15号2様式1!AU31<> \"\",TEXT(INT(P_15号2様式1!AU31),\"#,##0\"),\"\")","v":""},{"$f":"IF(P_15号2様式1!AU31= \"\",\"\",IF(VALUE(FIXED(P_15号2様式1!AU31,0,TRUE))<>P_15号2様式1!AU31,RIGHT(FIXED(P_15号2様式1!AU31,3,FALSE),4),\"\"))","v":""},{"$f":"IF(P_15号2様式1!AV31<> \"\",TEXT(INT(P_15号2様式1!AV31),\"#,##0\"),\"\")","v":""},null,{"$f":"IF(P_15号2様式1!AV31= \"\",\"\",IF(VALUE(FIXED(P_15号2様式1!AV31,0,TRUE))<>P_15号2様式1!AV31,RIGHT(FIXED(P_15号2様式1!AV31,3,FALSE),4),\"\"))","v":""}]
[]
[]
[]
[]
[]
["第15号の2様式",null,null,null,null,null,null,null,null,"開　票　速　報　",null,null,null,null,null,null,null,null,null,null,null,null,null,{"$f":"IF(P_15号2様式1!A32=\"\",\" ページ\", P_15号2様式1!A32 & \"ページ\")","v":"2ページ"}]
[]
[null,{"$f":"IF(パラメタシート!B1=\"\",\"\",パラメタシート!B1)","v":"2017-10-22"}]
[null,{"$f":"IF(P_15号2様式1!AW32=\"\",\"\",P_15号2様式1!AW32)","v":"衆議院小選挙区選出議員選挙"},null,null,null,null,null,null,null,null,null,null,null,null,null,null,{"$f":"IF(P_15号2様式1!AX32=\"0\",\"即日中間速報\",\"翌日中間速報\")","v":"即日中間速報"},null,{"$f":"IF(P_15号2様式1!AY32=\"\",\"第　　　回\",\"第 　\" & P_15号2様式1!AY32 & \"　回\")","v":"第 　6　回"},null,{"$f":"IF(P_15号2様式1!AZ32=\"\",\"     時 　  分　現在\",P_15号2様式1!AZ32)","v":"00:00:00"}]
[null,null,null,null,null,null,null,null,null,null,null,null,null,null,null,null,"　　結了報告",null,null,null,{"$f":"IF(P_15号2様式1!BA32=\"\",\"     時 　  分　結了\",P_15号2様式1!BA32)","v":"     時 　  分　結了"}]
[]
[]
[]
[]
[null,null,null,null,null,null,null,null,null,null,null,null,null,null,null,null,null,null,null,null,null,null,null,"鹿 児 島 県"]
[{"$f":"IF(P_15号2様式1!D32=\"\",\"\",P_15号2様式1!D32)","v":"衆議院鹿児島第２区　"},null,null,{"$f":"IF(P_15号2様式1!E32=\"\",\"定　数　　　　　人\",P_15号2様式1!E32)","v":1}]
["市区町村名",null,"開票率",{"$f":"IF(TRIM(P_15号2様式1!H32)=\"\",\"\",VALUE(P_15号2様式1!H32))","v":1},null,{"$f":"IF(TRIM(P_15号2様式1!L32)=\"\",\"\",VALUE(P_15号2様式1!L32))","v":2},null,{"$f":"IF(TRIM(P_15号2様式1!P32)=\"\",\"\",VALUE(P_15号2様式1!P32))","v":3},null,{"$f":"IF(TRIM(P_15号2様式1!T32)=\"\",\"\",VALUE(P_15号2様式1!T32))","v":4},null,{"$f":"IF(TRIM(P_15号2様式1!X32)=\"\",\"\",VALUE(P_15号2様式1!X32))","v":""},null,{"$f":"IF(TRIM(P_15号2様式1!AB32)=\"\",\"\",VALUE(P_15号2様式1!AB32))","v":""},null,{"$f":"IF(TRIM(P_15号2様式1!AF32)=\"\",\"\",VALUE(P_15号2様式1!AF32))","v":""},null,{"$f":"IF(TRIM(P_15号2様式1!AJ32)=\"\",\"\",VALUE(P_15号2様式1!AJ32))","v":""},null,{"$f":"IF(TRIM(P_15号2様式1!AN32)=\"\",\"\",VALUE(P_15号2様式1!AN32))","v":""},null,{"$f":"IF(TRIM(P_15号2様式1!AR32)=\"\",\"\",VALUE(P_15号2様式1!AR32))","v":""},null,"小 計"]
[null,null,null,{"$f":"IF(P_15号2様式1!I32=\"\",\"\",P_15号2様式1!I32)","v":"無所属"},null,{"$f":"IF(P_15号2様式1!M32=\"\",\"\",P_15号2様式1!M32)","v":"日本共産党"},null,{"$f":"IF(P_15号2様式1!Q32=\"\",\"\",P_15号2様式1!Q32)","v":"希望の党"},null,{"$f":"IF(P_15号2様式1!U32=\"\",\"\",P_15号2様式1!U32)","v":"自由民主党"},null,{"$f":"IF(P_15号2様式1!Y32=\"\",\"\",P_15号2様式1!Y32)","v":""},null,{"$f":"IF(P_15号2様式1!AC32=\"\",\"\",P_15号2様式1!AC32)","v":""},null,{"$f":"IF(P_15号2様式1!AG32=\"\",\"\",P_15号2様式1!AG32)","v":""},null,{"$f":"IF(P_15号2様式1!AK32=\"\",\"\",P_15号2様式1!AK32)","v":""},null,{"$f":"IF(P_15号2様式1!AO32=\"\",\"\",P_15号2様式1!AO32)","v":""},null,{"$f":"IF(P_15号2様式1!AS32=\"\",\"\",P_15号2様式1!AS32)","v":""}]
[]
[null,null,null,{"$f":"IF(P_15号2様式1!J32=\"\",\"\",P_15号2様式1!J32)","v":"はやし　健二"},null,{"$f":"IF(P_15号2様式1!N32=\"\",\"\",P_15号2様式1!N32)","v":"祝迫　みつはる"},null,{"$f":"IF(P_15号2様式1!R32=\"\",\"\",P_15号2様式1!R32)","v":"さいとう　カヨ"},null,{"$f":"IF(P_15号2様式1!V32=\"\",\"\",P_15号2様式1!V32)","v":"金子　万寿夫"},null,{"$f":"IF(P_15号2様式1!Z32=\"\",\"\",P_15号2様式1!Z32)","v":""},null,{"$f":"IF(P_15号2様式1!AD32=\"\",\"\",P_15号2様式1!AD32)","v":""},null,{"$f":"IF(P_15号2様式1!AH32=\"\",\"\",P_15号2様式1!AH32)","v":""},null,{"$f":"IF(P_15号2様式1!AL32=\"\",\"\",P_15号2様式1!AL32)","v":""},null,{"$f":"IF(P_15号2様式1!AP32=\"\",\"\",P_15号2様式1!AP32)","v":""},null,{"$f":"IF(P_15号2様式1!AT32=\"\",\"\",P_15号2様式1!AT32)","v":""}]
[]
[{"$f":"IF(P_15号2様式1!F32=\"\",\"\",P_15号2様式1!F32)","v":"　鹿児島市２区"},null,{"$f":"IF(P_15号2様式1!G32=\"\",\"\",P_15号2様式1!G32)","v":54.762869274279502},{"$f":"IF(P_15号2様式1!K32<> \"\",TEXT(INT(P_15号2様式1!K32),\"#,##0\"),\"\")","v":"2,500"},{"$f":"IF(P_15号2様式1!K32= \"\",\"\",IF(VALUE(FIXED(P_15号2様式1!K32,0,TRUE))<>P_15号2様式1!K32,RIGHT(FIXED(P_15号2様式1!K32,3,FALSE),4),\"\"))","v":""},{"$f":"IF(P_15号2様式1!O32<> \"\",TEXT(INT(P_15号2様式1!O32),\"#,##0\"),\"\")","v":"4,000"},{"$f":"IF(P_15号2様式1!O32= \"\",\"\",IF(VALUE(FIXED(P_15号2様式1!O32,0,TRUE))<>P_15号2様式1!O32,RIGHT(FIXED(P_15号2様式1!O32,3,FALSE),4),\"\"))","v":""},{"$f":"IF(P_15号2様式1!S32<> \"\",TEXT(INT(P_15号2様式1!S32),\"#,##0\"),\"\")","v":"17,000"},{"$f":"IF(P_15号2様式1!S32= \"\",\"\",IF(VALUE(FIXED(P_15号2様式1!S32,0,TRUE))<>P_15号2様式1!S32,RIGHT(FIXED(P_15号2様式1!S32,3,FALSE),4),\"\"))","v":""},{"$f":"IF(P_15号2様式1!W32<> \"\",TEXT(INT(P_15号2様式1!W32),\"#,##0\"),\"\")","v":"13,000"},{"$f":"IF(P_15号2様式1!W32= \"\",\"\",IF(VALUE(FIXED(P_15号2様式1!W32,0,TRUE))<>P_15号2様式1!W32,RIGHT(FIXED(P_15号2様式1!W32,3,FALSE),4),\"\"))","v":""},{"$f":"IF(P_15号2様式1!AA32<> \"\",TEXT(INT(P_15号2様式1!AA32),\"#,##0\"),\"\")","v":""},{"$f":"IF(P_15号2様式1!AA32= \"\",\"\",IF(VALUE(FIXED(P_15号2様式1!AA32,0,TRUE))<>P_15号2様式1!AA32,RIGHT(FIXED(P_15号2様式1!AA32,3,FALSE),4),\"\"))","v":""},{"$f":"IF(P_15号2様式1!AE32<> \"\",TEXT(INT(P_15号2様式1!AE32),\"#,##0\"),\"\")","v":""},{"$f":"IF(P_15号2様式1!AE32= \"\",\"\",IF(VALUE(FIXED(P_15号2様式1!AE32,0,TRUE))<>P_15号2様式1!AE32,RIGHT(FIXED(P_15号2様式1!AE32,3,FALSE),4),\"\"))","v":""},{"$f":"IF(P_15号2様式1!AI32<> \"\",TEXT(INT(P_15号2様式1!AI32),\"#,##0\"),\"\")","v":""},{"$f":"IF(P_15号2様式1!AI32= \"\",\"\",IF(VALUE(FIXED(P_15号2様式1!AI32,0,TRUE))<>P_15号2様式1!AI32,RIGHT(FIXED(P_15号2様式1!AI32,3,FALSE),4),\"\"))","v":""},{"$f":"IF(P_15号2様式1!AM32<> \"\",TEXT(INT(P_15号2様式1!AM32),\"#,##0\"),\"\")","v":""},{"$f":"IF(P_15号2様式1!AM32= \"\",\"\",IF(VALUE(FIXED(P_15号2様式1!AM32,0,TRUE))<>P_15号2様式1!AM32,RIGHT(FIXED(P_15号2様式1!AM32,3,FALSE),4),\"\"))","v":""},{"$f":"IF(P_15号2様式1!AQ32<> \"\",TEXT(INT(P_15号2様式1!AQ32),\"#,##0\"),\"\")","v":""},{"$f":"IF(P_15号2様式1!AQ32= \"\",\"\",IF(VALUE(FIXED(P_15号2様式1!AQ32,0,TRUE))<>P_15号2様式1!AQ32,RIGHT(FIXED(P_15号2様式1!AQ32,3,FALSE),4),\"\"))","v":""},{"$f":"IF(P_15号2様式1!AU32<> \"\",TEXT(INT(P_15号2様式1!AU32),\"#,##0\"),\"\")","v":""},{"$f":"IF(P_15号2様式1!AU32= \"\",\"\",IF(VALUE(FIXED(P_15号2様式1!AU32,0,TRUE))<>P_15号2様式1!AU32,RIGHT(FIXED(P_15号2様式1!AU32,3,FALSE),4),\"\"))","v":""},{"$f":"IF(P_15号2様式1!AV32<> \"\",TEXT(INT(P_15号2様式1!AV32),\"#,##0\"),\"\")","v":"36,500"},null,{"$f":"IF(P_15号2様式1!AV32= \"\",\"\",IF(VALUE(FIXED(P_15号2様式1!AV32,0,TRUE))<>P_15号2様式1!AV32,RIGHT(FIXED(P_15号2様式1!AV32,3,FALSE),4),\"\"))","v":""}]
[{"$f":"IF(P_15号2様式1!F33=\"\",\"\",P_15号2様式1!F33)","v":"　枕崎市"},null,{"$f":"IF(P_15号2様式1!G33=\"\",\"\",P_15号2様式1!G33)","v":100},{"$f":"IF(P_15号2様式1!K33<> \"\",TEXT(INT(P_15号2様式1!K33),\"#,##0\"),\"\")","v":"884"},{"$f":"IF(P_15号2様式1!K33= \"\",\"\",IF(VALUE(FIXED(P_15号2様式1!K33,0,TRUE))<>P_15号2様式1!K33,RIGHT(FIXED(P_15号2様式1!K33,3,FALSE),4),\"\"))","v":""},{"$f":"IF(P_15号2様式1!O33<> \"\",TEXT(INT(P_15号2様式1!O33),\"#,##0\"),\"\")","v":"680"},{"$f":"IF(P_15号2様式1!O33= \"\",\"\",IF(VALUE(FIXED(P_15号2様式1!O33,0,TRUE))<>P_15号2様式1!O33,RIGHT(FIXED(P_15号2様式1!O33,3,FALSE),4),\"\"))","v":""},{"$f":"IF(P_15号2様式1!S33<> \"\",TEXT(INT(P_15号2様式1!S33),\"#,##0\"),\"\")","v":"2,741"},{"$f":"IF(P_15号2様式1!S33= \"\",\"\",IF(VALUE(FIXED(P_15号2様式1!S33,0,TRUE))<>P_15号2様式1!S33,RIGHT(FIXED(P_15号2様式1!S33,3,FALSE),4),\"\"))","v":""},{"$f":"IF(P_15号2様式1!W33<> \"\",TEXT(INT(P_15号2様式1!W33),\"#,##0\"),\"\")","v":"5,413"},{"$f":"IF(P_15号2様式1!W33= \"\",\"\",IF(VALUE(FIXED(P_15号2様式1!W33,0,TRUE))<>P_15号2様式1!W33,RIGHT(FIXED(P_15号2様式1!W33,3,FALSE),4),\"\"))","v":""},{"$f":"IF(P_15号2様式1!AA33<> \"\",TEXT(INT(P_15号2様式1!AA33),\"#,##0\"),\"\")","v":""},{"$f":"IF(P_15号2様式1!AA33= \"\",\"\",IF(VALUE(FIXED(P_15号2様式1!AA33,0,TRUE))<>P_15号2様式1!AA33,RIGHT(FIXED(P_15号2様式1!AA33,3,FALSE),4),\"\"))","v":""},{"$f":"IF(P_15号2様式1!AE33<> \"\",TEXT(INT(P_15号2様式1!AE33),\"#,##0\"),\"\")","v":""},{"$f":"IF(P_15号2様式1!AE33= \"\",\"\",IF(VALUE(FIXED(P_15号2様式1!AE33,0,TRUE))<>P_15号2様式1!AE33,RIGHT(FIXED(P_15号2様式1!AE33,3,FALSE),4),\"\"))","v":""},{"$f":"IF(P_15号2様式1!AI33<> \"\",TEXT(INT(P_15号2様式1!AI33),\"#,##0\"),\"\")","v":""},{"$f":"IF(P_15号2様式1!AI33= \"\",\"\",IF(VALUE(FIXED(P_15号2様式1!AI33,0,TRUE))<>P_15号2様式1!AI33,RIGHT(FIXED(P_15号2様式1!AI33,3,FALSE),4),\"\"))","v":""},{"$f":"IF(P_15号2様式1!AM33<> \"\",TEXT(INT(P_15号2様式1!AM33),\"#,##0\"),\"\")","v":""},{"$f":"IF(P_15号2様式1!AM33= \"\",\"\",IF(VALUE(FIXED(P_15号2様式1!AM33,0,TRUE))<>P_15号2様式1!AM33,RIGHT(FIXED(P_15号2様式1!AM33,3,FALSE),4),\"\"))","v":""},{"$f":"IF(P_15号2様式1!AQ33<> \"\",TEXT(INT(P_15号2様式1!AQ33),\"#,##0\"),\"\")","v":""},{"$f":"IF(P_15号2様式1!AQ33= \"\",\"\",IF(VALUE(FIXED(P_15号2様式1!AQ33,0,TRUE))<>P_15号2様式1!AQ33,RIGHT(FIXED(P_15号2様式1!AQ33,3,FALSE),4),\"\"))","v":""},{"$f":"IF(P_15号2様式1!AU33<> \"\",TEXT(INT(P_15号2様式1!AU33),\"#,##0\"),\"\")","v":""},{"$f":"IF(P_15号2様式1!AU33= \"\",\"\",IF(VALUE(FIXED(P_15号2様式1!AU33,0,TRUE))<>P_15号2様式1!AU33,RIGHT(FIXED(P_15号2様式1!AU33,3,FALSE),4),\"\"))","v":""},{"$f":"IF(P_15号2様式1!AV33<> \"\",TEXT(INT(P_15号2様式1!AV33),\"#,##0\"),\"\")","v":"9,718"},null,{"$f":"IF(P_15号2様式1!AV33= \"\",\"\",IF(VALUE(FIXED(P_15号2様式1!AV33,0,TRUE))<>P_15号2様式1!AV33,RIGHT(FIXED(P_15号2様式1!AV33,3,FALSE),4),\"\"))","v":""}]
[{"$f":"IF(P_15号2様式1!F34=\"\",\"\",P_15号2様式1!F34)","v":"　指宿市"},null,{"$f":"IF(P_15号2様式1!G34=\"\",\"\",P_15号2様式1!G34)","v":100},{"$f":"IF(P_15号2様式1!K34<> \"\",TEXT(INT(P_15号2様式1!K34),\"#,##0\"),\"\")","v":"1,811"},{"$f":"IF(P_15号2様式1!K34= \"\",\"\",IF(VALUE(FIXED(P_15号2様式1!K34,0,TRUE))<>P_15号2様式1!K34,RIGHT(FIXED(P_15号2様式1!K34,3,FALSE),4),\"\"))","v":""},{"$f":"IF(P_15号2様式1!O34<> \"\",TEXT(INT(P_15号2様式1!O34),\"#,##0\"),\"\")","v":"1,567"},{"$f":"IF(P_15号2様式1!O34= \"\",\"\",IF(VALUE(FIXED(P_15号2様式1!O34,0,TRUE))<>P_15号2様式1!O34,RIGHT(FIXED(P_15号2様式1!O34,3,FALSE),4),\"\"))","v":""},{"$f":"IF(P_15号2様式1!S34<> \"\",TEXT(INT(P_15号2様式1!S34),\"#,##0\"),\"\")","v":"5,952"},{"$f":"IF(P_15号2様式1!S34= \"\",\"\",IF(VALUE(FIXED(P_15号2様式1!S34,0,TRUE))<>P_15号2様式1!S34,RIGHT(FIXED(P_15号2様式1!S34,3,FALSE),4),\"\"))","v":""},{"$f":"IF(P_15号2様式1!W34<> \"\",TEXT(INT(P_15号2様式1!W34),\"#,##0\"),\"\")","v":"9,019"},{"$f":"IF(P_15号2様式1!W34= \"\",\"\",IF(VALUE(FIXED(P_15号2様式1!W34,0,TRUE))<>P_15号2様式1!W34,RIGHT(FIXED(P_15号2様式1!W34,3,FALSE),4),\"\"))","v":""},{"$f":"IF(P_15号2様式1!AA34<> \"\",TEXT(INT(P_15号2様式1!AA34),\"#,##0\"),\"\")","v":""},{"$f":"IF(P_15号2様式1!AA34= \"\",\"\",IF(VALUE(FIXED(P_15号2様式1!AA34,0,TRUE))<>P_15号2様式1!AA34,RIGHT(FIXED(P_15号2様式1!AA34,3,FALSE),4),\"\"))","v":""},{"$f":"IF(P_15号2様式1!AE34<> \"\",TEXT(INT(P_15号2様式1!AE34),\"#,##0\"),\"\")","v":""},{"$f":"IF(P_15号2様式1!AE34= \"\",\"\",IF(VALUE(FIXED(P_15号2様式1!AE34,0,TRUE))<>P_15号2様式1!AE34,RIGHT(FIXED(P_15号2様式1!AE34,3,FALSE),4),\"\"))","v":""},{"$f":"IF(P_15号2様式1!AI34<> \"\",TEXT(INT(P_15号2様式1!AI34),\"#,##0\"),\"\")","v":""},{"$f":"IF(P_15号2様式1!AI34= \"\",\"\",IF(VALUE(FIXED(P_15号2様式1!AI34,0,TRUE))<>P_15号2様式1!AI34,RIGHT(FIXED(P_15号2様式1!AI34,3,FALSE),4),\"\"))","v":""},{"$f":"IF(P_15号2様式1!AM34<> \"\",TEXT(INT(P_15号2様式1!AM34),\"#,##0\"),\"\")","v":""},{"$f":"IF(P_15号2様式1!AM34= \"\",\"\",IF(VALUE(FIXED(P_15号2様式1!AM34,0,TRUE))<>P_15号2様式1!AM34,RIGHT(FIXED(P_15号2様式1!AM34,3,FALSE),4),\"\"))","v":""},{"$f":"IF(P_15号2様式1!AQ34<> \"\",TEXT(INT(P_15号2様式1!AQ34),\"#,##0\"),\"\")","v":""},{"$f":"IF(P_15号2様式1!AQ34= \"\",\"\",IF(VALUE(FIXED(P_15号2様式1!AQ34,0,TRUE))<>P_15号2様式1!AQ34,RIGHT(FIXED(P_15号2様式1!AQ34,3,FALSE),4),\"\"))","v":""},{"$f":"IF(P_15号2様式1!AU34<> \"\",TEXT(INT(P_15号2様式1!AU34),\"#,##0\"),\"\")","v":""},{"$f":"IF(P_15号2様式1!AU34= \"\",\"\",IF(VALUE(FIXED(P_15号2様式1!AU34,0,TRUE))<>P_15号2様式1!AU34,RIGHT(FIXED(P_15号2様式1!AU34,3,FALSE),4),\"\"))","v":""},{"$f":"IF(P_15号2様式1!AV34<> \"\",TEXT(INT(P_15号2様式1!AV34),\"#,##0\"),\"\")","v":"18,349"},null,{"$f":"IF(P_15号2様式1!AV34= \"\",\"\",IF(VALUE(FIXED(P_15号2様式1!AV34,0,TRUE))<>P_15号2様式1!AV34,RIGHT(FIXED(P_15号2様式1!AV34,3,FALSE),4),\"\"))","v":""}]
[{"$f":"IF(P_15号2様式1!F35=\"\",\"\",P_15号2様式1!F35)","v":"　南さつま市"},null,{"$f":"IF(P_15号2様式1!G35=\"\",\"\",P_15号2様式1!G35)","v":100},{"$f":"IF(P_15号2様式1!K35<> \"\",TEXT(INT(P_15号2様式1!K35),\"#,##0\"),\"\")","v":"1,906"},{"$f":"IF(P_15号2様式1!K35= \"\",\"\",IF(VALUE(FIXED(P_15号2様式1!K35,0,TRUE))<>P_15号2様式1!K35,RIGHT(FIXED(P_15号2様式1!K35,3,FALSE),4),\"\"))","v":""},{"$f":"IF(P_15号2様式1!O35<> \"\",TEXT(INT(P_15号2様式1!O35),\"#,##0\"),\"\")","v":"1,517"},{"$f":"IF(P_15号2様式1!O35= \"\",\"\",IF(VALUE(FIXED(P_15号2様式1!O35,0,TRUE))<>P_15号2様式1!O35,RIGHT(FIXED(P_15号2様式1!O35,3,FALSE),4),\"\"))","v":""},{"$f":"IF(P_15号2様式1!S35<> \"\",TEXT(INT(P_15号2様式1!S35),\"#,##0\"),\"\")","v":"4,747"},{"$f":"IF(P_15号2様式1!S35= \"\",\"\",IF(VALUE(FIXED(P_15号2様式1!S35,0,TRUE))<>P_15号2様式1!S35,RIGHT(FIXED(P_15号2様式1!S35,3,FALSE),4),\"\"))","v":""},{"$f":"IF(P_15号2様式1!W35<> \"\",TEXT(INT(P_15号2様式1!W35),\"#,##0\"),\"\")","v":"9,249"},{"$f":"IF(P_15号2様式1!W35= \"\",\"\",IF(VALUE(FIXED(P_15号2様式1!W35,0,TRUE))<>P_15号2様式1!W35,RIGHT(FIXED(P_15号2様式1!W35,3,FALSE),4),\"\"))","v":""},{"$f":"IF(P_15号2様式1!AA35<> \"\",TEXT(INT(P_15号2様式1!AA35),\"#,##0\"),\"\")","v":""},{"$f":"IF(P_15号2様式1!AA35= \"\",\"\",IF(VALUE(FIXED(P_15号2様式1!AA35,0,TRUE))<>P_15号2様式1!AA35,RIGHT(FIXED(P_15号2様式1!AA35,3,FALSE),4),\"\"))","v":""},{"$f":"IF(P_15号2様式1!AE35<> \"\",TEXT(INT(P_15号2様式1!AE35),\"#,##0\"),\"\")","v":""},{"$f":"IF(P_15号2様式1!AE35= \"\",\"\",IF(VALUE(FIXED(P_15号2様式1!AE35,0,TRUE))<>P_15号2様式1!AE35,RIGHT(FIXED(P_15号2様式1!AE35,3,FALSE),4),\"\"))","v":""},{"$f":"IF(P_15号2様式1!AI35<> \"\",TEXT(INT(P_15号2様式1!AI35),\"#,##0\"),\"\")","v":""},{"$f":"IF(P_15号2様式1!AI35= \"\",\"\",IF(VALUE(FIXED(P_15号2様式1!AI35,0,TRUE))<>P_15号2様式1!AI35,RIGHT(FIXED(P_15号2様式1!AI35,3,FALSE),4),\"\"))","v":""},{"$f":"IF(P_15号2様式1!AM35<> \"\",TEXT(INT(P_15号2様式1!AM35),\"#,##0\"),\"\")","v":""},{"$f":"IF(P_15号2様式1!AM35= \"\",\"\",IF(VALUE(FIXED(P_15号2様式1!AM35,0,TRUE))<>P_15号2様式1!AM35,RIGHT(FIXED(P_15号2様式1!AM35,3,FALSE),4),\"\"))","v":""},{"$f":"IF(P_15号2様式1!AQ35<> \"\",TEXT(INT(P_15号2様式1!AQ35),\"#,##0\"),\"\")","v":""},{"$f":"IF(P_15号2様式1!AQ35= \"\",\"\",IF(VALUE(FIXED(P_15号2様式1!AQ35,0,TRUE))<>P_15号2様式1!AQ35,RIGHT(FIXED(P_15号2様式1!AQ35,3,FALSE),4),\"\"))","v":""},{"$f":"IF(P_15号2様式1!AU35<> \"\",TEXT(INT(P_15号2様式1!AU35),\"#,##0\"),\"\")","v":""},{"$f":"IF(P_15号2様式1!AU35= \"\",\"\",IF(VALUE(FIXED(P_15号2様式1!AU35,0,TRUE))<>P_15号2様式1!AU35,RIGHT(FIXED(P_15号2様式1!AU35,3,FALSE),4),\"\"))","v":""},{"$f":"IF(P_15号2様式1!AV35<> \"\",TEXT(INT(P_15号2様式1!AV35),\"#,##0\"),\"\")","v":"17,419"},null,{"$f":"IF(P_15号2様式1!AV35= \"\",\"\",IF(VALUE(FIXED(P_15号2様式1!AV35,0,TRUE))<>P_15号2様式1!AV35,RIGHT(FIXED(P_15号2様式1!AV35,3,FALSE),4),\"\"))","v":""}]
[{"$f":"IF(P_15号2様式1!F36=\"\",\"\",P_15号2様式1!F36)","v":"　奄美市"},null,{"$f":"IF(P_15号2様式1!G36=\"\",\"\",P_15号2様式1!G36)","v":100},{"$f":"IF(P_15号2様式1!K36<> \"\",TEXT(INT(P_15号2様式1!K36),\"#,##0\"),\"\")","v":"7,951"},{"$f":"IF(P_15号2様式1!K36= \"\",\"\",IF(VALUE(FIXED(P_15号2様式1!K36,0,TRUE))<>P_15号2様式1!K36,RIGHT(FIXED(P_15号2様式1!K36,3,FALSE),4),\"\"))","v":""},{"$f":"IF(P_15号2様式1!O36<> \"\",TEXT(INT(P_15号2様式1!O36),\"#,##0\"),\"\")","v":"1,637"},{"$f":"IF(P_15号2様式1!O36= \"\",\"\",IF(VALUE(FIXED(P_15号2様式1!O36,0,TRUE))<>P_15号2様式1!O36,RIGHT(FIXED(P_15号2様式1!O36,3,FALSE),4),\"\"))","v":""},{"$f":"IF(P_15号2様式1!S36<> \"\",TEXT(INT(P_15号2様式1!S36),\"#,##0\"),\"\")","v":"2,824"},{"$f":"IF(P_15号2様式1!S36= \"\",\"\",IF(VALUE(FIXED(P_15号2様式1!S36,0,TRUE))<>P_15号2様式1!S36,RIGHT(FIXED(P_15号2様式1!S36,3,FALSE),4),\"\"))","v":""},{"$f":"IF(P_15号2様式1!W36<> \"\",TEXT(INT(P_15号2様式1!W36),\"#,##0\"),\"\")","v":"9,773"},{"$f":"IF(P_15号2様式1!W36= \"\",\"\",IF(VALUE(FIXED(P_15号2様式1!W36,0,TRUE))<>P_15号2様式1!W36,RIGHT(FIXED(P_15号2様式1!W36,3,FALSE),4),\"\"))","v":""},{"$f":"IF(P_15号2様式1!AA36<> \"\",TEXT(INT(P_15号2様式1!AA36),\"#,##0\"),\"\")","v":""},{"$f":"IF(P_15号2様式1!AA36= \"\",\"\",IF(VALUE(FIXED(P_15号2様式1!AA36,0,TRUE))<>P_15号2様式1!AA36,RIGHT(FIXED(P_15号2様式1!AA36,3,FALSE),4),\"\"))","v":""},{"$f":"IF(P_15号2様式1!AE36<> \"\",TEXT(INT(P_15号2様式1!AE36),\"#,##0\"),\"\")","v":""},{"$f":"IF(P_15号2様式1!AE36= \"\",\"\",IF(VALUE(FIXED(P_15号2様式1!AE36,0,TRUE))<>P_15号2様式1!AE36,RIGHT(FIXED(P_15号2様式1!AE36,3,FALSE),4),\"\"))","v":""},{"$f":"IF(P_15号2様式1!AI36<> \"\",TEXT(INT(P_15号2様式1!AI36),\"#,##0\"),\"\")","v":""},{"$f":"IF(P_15号2様式1!AI36= \"\",\"\",IF(VALUE(FIXED(P_15号2様式1!AI36,0,TRUE))<>P_15号2様式1!AI36,RIGHT(FIXED(P_15号2様式1!AI36,3,FALSE),4),\"\"))","v":""},{"$f":"IF(P_15号2様式1!AM36<> \"\",TEXT(INT(P_15号2様式1!AM36),\"#,##0\"),\"\")","v":""},{"$f":"IF(P_15号2様式1!AM36= \"\",\"\",IF(VALUE(FIXED(P_15号2様式1!AM36,0,TRUE))<>P_15号2様式1!AM36,RIGHT(FIXED(P_15号2様式1!AM36,3,FALSE),4),\"\"))","v":""},{"$f":"IF(P_15号2様式1!AQ36<> \"\",TEXT(INT(P_15号2様式1!AQ36),\"#,##0\"),\"\")","v":""},{"$f":"IF(P_15号2様式1!AQ36= \"\",\"\",IF(VALUE(FIXED(P_15号2様式1!AQ36,0,TRUE))<>P_15号2様式1!AQ36,RIGHT(FIXED(P_15号2様式1!AQ36,3,FALSE),4),\"\"))","v":""},{"$f":"IF(P_15号2様式1!AU36<> \"\",TEXT(INT(P_15号2様式1!AU36),\"#,##0\"),\"\")","v":""},{"$f":"IF(P_15号2様式1!AU36= \"\",\"\",IF(VALUE(FIXED(P_15号2様式1!AU36,0,TRUE))<>P_15号2様式1!AU36,RIGHT(FIXED(P_15号2様式1!AU36,3,FALSE),4),\"\"))","v":""},{"$f":"IF(P_15号2様式1!AV36<> \"\",TEXT(INT(P_15号2様式1!AV36),\"#,##0\"),\"\")","v":"22,185"},null,{"$f":"IF(P_15号2様式1!AV36= \"\",\"\",IF(VALUE(FIXED(P_15号2様式1!AV36,0,TRUE))<>P_15号2様式1!AV36,RIGHT(FIXED(P_15号2様式1!AV36,3,FALSE),4),\"\"))","v":""}]
[{"$f":"IF(P_15号2様式1!F37=\"\",\"\",P_15号2様式1!F37)","v":"　南九州市"},null,{"$f":"IF(P_15号2様式1!G37=\"\",\"\",P_15号2様式1!G37)","v":100},{"$f":"IF(P_15号2様式1!K37<> \"\",TEXT(INT(P_15号2様式1!K37),\"#,##0\"),\"\")","v":"1,975"},{"$f":"IF(P_15号2様式1!K37= \"\",\"\",IF(VALUE(FIXED(P_15号2様式1!K37,0,TRUE))<>P_15号2様式1!K37,RIGHT(FIXED(P_15号2様式1!K37,3,FALSE),4),\"\"))","v":""},{"$f":"IF(P_15号2様式1!O37<> \"\",TEXT(INT(P_15号2様式1!O37),\"#,##0\"),\"\")","v":"1,303"},{"$f":"IF(P_15号2様式1!O37= \"\",\"\",IF(VALUE(FIXED(P_15号2様式1!O37,0,TRUE))<>P_15号2様式1!O37,RIGHT(FIXED(P_15号2様式1!O37,3,FALSE),4),\"\"))","v":""},{"$f":"IF(P_15号2様式1!S37<> \"\",TEXT(INT(P_15号2様式1!S37),\"#,##0\"),\"\")","v":"4,507"},{"$f":"IF(P_15号2様式1!S37= \"\",\"\",IF(VALUE(FIXED(P_15号2様式1!S37,0,TRUE))<>P_15号2様式1!S37,RIGHT(FIXED(P_15号2様式1!S37,3,FALSE),4),\"\"))","v":""},{"$f":"IF(P_15号2様式1!W37<> \"\",TEXT(INT(P_15号2様式1!W37),\"#,##0\"),\"\")","v":"9,353"},{"$f":"IF(P_15号2様式1!W37= \"\",\"\",IF(VALUE(FIXED(P_15号2様式1!W37,0,TRUE))<>P_15号2様式1!W37,RIGHT(FIXED(P_15号2様式1!W37,3,FALSE),4),\"\"))","v":""},{"$f":"IF(P_15号2様式1!AA37<> \"\",TEXT(INT(P_15号2様式1!AA37),\"#,##0\"),\"\")","v":""},{"$f":"IF(P_15号2様式1!AA37= \"\",\"\",IF(VALUE(FIXED(P_15号2様式1!AA37,0,TRUE))<>P_15号2様式1!AA37,RIGHT(FIXED(P_15号2様式1!AA37,3,FALSE),4),\"\"))","v":""},{"$f":"IF(P_15号2様式1!AE37<> \"\",TEXT(INT(P_15号2様式1!AE37),\"#,##0\"),\"\")","v":""},{"$f":"IF(P_15号2様式1!AE37= \"\",\"\",IF(VALUE(FIXED(P_15号2様式1!AE37,0,TRUE))<>P_15号2様式1!AE37,RIGHT(FIXED(P_15号2様式1!AE37,3,FALSE),4),\"\"))","v":""},{"$f":"IF(P_15号2様式1!AI37<> \"\",TEXT(INT(P_15号2様式1!AI37),\"#,##0\"),\"\")","v":""},{"$f":"IF(P_15号2様式1!AI37= \"\",\"\",IF(VALUE(FIXED(P_15号2様式1!AI37,0,TRUE))<>P_15号2様式1!AI37,RIGHT(FIXED(P_15号2様式1!AI37,3,FALSE),4),\"\"))","v":""},{"$f":"IF(P_15号2様式1!AM37<> \"\",TEXT(INT(P_15号2様式1!AM37),\"#,##0\"),\"\")","v":""},{"$f":"IF(P_15号2様式1!AM37= \"\",\"\",IF(VALUE(FIXED(P_15号2様式1!AM37,0,TRUE))<>P_15号2様式1!AM37,RIGHT(FIXED(P_15号2様式1!AM37,3,FALSE),4),\"\"))","v":""},{"$f":"IF(P_15号2様式1!AQ37<> \"\",TEXT(INT(P_15号2様式1!AQ37),\"#,##0\"),\"\")","v":""},{"$f":"IF(P_15号2様式1!AQ37= \"\",\"\",IF(VALUE(FIXED(P_15号2様式1!AQ37,0,TRUE))<>P_15号2様式1!AQ37,RIGHT(FIXED(P_15号2様式1!AQ37,3,FALSE),4),\"\"))","v":""},{"$f":"IF(P_15号2様式1!AU37<> \"\",TEXT(INT(P_15号2様式1!AU37),\"#,##0\"),\"\")","v":""},{"$f":"IF(P_15号2様式1!AU37= \"\",\"\",IF(VALUE(FIXED(P_15号2様式1!AU37,0,TRUE))<>P_15号2様式1!AU37,RIGHT(FIXED(P_15号2様式1!AU37,3,FALSE),4),\"\"))","v":""},{"$f":"IF(P_15号2様式1!AV37<> \"\",TEXT(INT(P_15号2様式1!AV37),\"#,##0\"),\"\")","v":"17,138"},null,{"$f":"IF(P_15号2様式1!AV37= \"\",\"\",IF(VALUE(FIXED(P_15号2様式1!AV37,0,TRUE))<>P_15号2様式1!AV37,RIGHT(FIXED(P_15号2様式1!AV37,3,FALSE),4),\"\"))","v":""}]
[{"$f":"IF(P_15号2様式1!F38=\"\",\"\",P_15号2様式1!F38)","v":"＊市　部   計"},null,{"$f":"IF(P_15号2様式1!G38=\"\",\"\",P_15号2様式1!G38)","v":80.327793980439395},{"$f":"IF(P_15号2様式1!K38<> \"\",TEXT(INT(P_15号2様式1!K38),\"#,##0\"),\"\")","v":"17,027"},{"$f":"IF(P_15号2様式1!K38= \"\",\"\",IF(VALUE(FIXED(P_15号2様式1!K38,0,TRUE))<>P_15号2様式1!K38,RIGHT(FIXED(P_15号2様式1!K38,3,FALSE),4),\"\"))","v":""},{"$f":"IF(P_15号2様式1!O38<> \"\",TEXT(INT(P_15号2様式1!O38),\"#,##0\"),\"\")","v":"10,704"},{"$f":"IF(P_15号2様式1!O38= \"\",\"\",IF(VALUE(FIXED(P_15号2様式1!O38,0,TRUE))<>P_15号2様式1!O38,RIGHT(FIXED(P_15号2様式1!O38,3,FALSE),4),\"\"))","v":""},{"$f":"IF(P_15号2様式1!S38<> \"\",TEXT(INT(P_15号2様式1!S38),\"#,##0\"),\"\")","v":"37,771"},{"$f":"IF(P_15号2様式1!S38= \"\",\"\",IF(VALUE(FIXED(P_15号2様式1!S38,0,TRUE))<>P_15号2様式1!S38,RIGHT(FIXED(P_15号2様式1!S38,3,FALSE),4),\"\"))","v":""},{"$f":"IF(P_15号2様式1!W38<> \"\",TEXT(INT(P_15号2様式1!W38),\"#,##0\"),\"\")","v":"55,807"},{"$f":"IF(P_15号2様式1!W38= \"\",\"\",IF(VALUE(FIXED(P_15号2様式1!W38,0,TRUE))<>P_15号2様式1!W38,RIGHT(FIXED(P_15号2様式1!W38,3,FALSE),4),\"\"))","v":""},{"$f":"IF(P_15号2様式1!AA38<> \"\",TEXT(INT(P_15号2様式1!AA38),\"#,##0\"),\"\")","v":""},{"$f":"IF(P_15号2様式1!AA38= \"\",\"\",IF(VALUE(FIXED(P_15号2様式1!AA38,0,TRUE))<>P_15号2様式1!AA38,RIGHT(FIXED(P_15号2様式1!AA38,3,FALSE),4),\"\"))","v":""},{"$f":"IF(P_15号2様式1!AE38<> \"\",TEXT(INT(P_15号2様式1!AE38),\"#,##0\"),\"\")","v":""},{"$f":"IF(P_15号2様式1!AE38= \"\",\"\",IF(VALUE(FIXED(P_15号2様式1!AE38,0,TRUE))<>P_15号2様式1!AE38,RIGHT(FIXED(P_15号2様式1!AE38,3,FALSE),4),\"\"))","v":""},{"$f":"IF(P_15号2様式1!AI38<> \"\",TEXT(INT(P_15号2様式1!AI38),\"#,##0\"),\"\")","v":""},{"$f":"IF(P_15号2様式1!AI38= \"\",\"\",IF(VALUE(FIXED(P_15号2様式1!AI38,0,TRUE))<>P_15号2様式1!AI38,RIGHT(FIXED(P_15号2様式1!AI38,3,FALSE),4),\"\"))","v":""},{"$f":"IF(P_15号2様式1!AM38<> \"\",TEXT(INT(P_15号2様式1!AM38),\"#,##0\"),\"\")","v":""},{"$f":"IF(P_15号2様式1!AM38= \"\",\"\",IF(VALUE(FIXED(P_15号2様式1!AM38,0,TRUE))<>P_15号2様式1!AM38,RIGHT(FIXED(P_15号2様式1!AM38,3,FALSE),4),\"\"))","v":""},{"$f":"IF(P_15号2様式1!AQ38<> \"\",TEXT(INT(P_15号2様式1!AQ38),\"#,##0\"),\"\")","v":""},{"$f":"IF(P_15号2様式1!AQ38= \"\",\"\",IF(VALUE(FIXED(P_15号2様式1!AQ38,0,TRUE))<>P_15号2様式1!AQ38,RIGHT(FIXED(P_15号2様式1!AQ38,3,FALSE),4),\"\"))","v":""},{"$f":"IF(P_15号2様式1!AU38<> \"\",TEXT(INT(P_15号2様式1!AU38),\"#,##0\"),\"\")","v":""},{"$f":"IF(P_15号2様式1!AU38= \"\",\"\",IF(VALUE(FIXED(P_15号2様式1!AU38,0,TRUE))<>P_15号2様式1!AU38,RIGHT(FIXED(P_15号2様式1!AU38,3,FALSE),4),\"\"))","v":""},{"$f":"IF(P_15号2様式1!AV38<> \"\",TEXT(INT(P_15号2様式1!AV38),\"#,##0\"),\"\")","v":"121,309"},null,{"$f":"IF(P_15号2様式1!AV38= \"\",\"\",IF(VALUE(FIXED(P_15号2様式1!AV38,0,TRUE))<>P_15号2様式1!AV38,RIGHT(FIXED(P_15号2様式1!AV38,3,FALSE),4),\"\"))","v":""}]
[{"$f":"IF(P_15号2様式1!F39=\"\",\"\",P_15号2様式1!F39)","v":"　大和村"},null,{"$f":"IF(P_15号2様式1!G39=\"\",\"\",P_15号2様式1!G39)","v":100},{"$f":"IF(P_15号2様式1!K39<> \"\",TEXT(INT(P_15号2様式1!K39),\"#,##0\"),\"\")","v":"335"},{"$f":"IF(P_15号2様式1!K39= \"\",\"\",IF(VALUE(FIXED(P_15号2様式1!K39,0,TRUE))<>P_15号2様式1!K39,RIGHT(FIXED(P_15号2様式1!K39,3,FALSE),4),\"\"))","v":""},{"$f":"IF(P_15号2様式1!O39<> \"\",TEXT(INT(P_15号2様式1!O39),\"#,##0\"),\"\")","v":"68"},{"$f":"IF(P_15号2様式1!O39= \"\",\"\",IF(VALUE(FIXED(P_15号2様式1!O39,0,TRUE))<>P_15号2様式1!O39,RIGHT(FIXED(P_15号2様式1!O39,3,FALSE),4),\"\"))","v":""},{"$f":"IF(P_15号2様式1!S39<> \"\",TEXT(INT(P_15号2様式1!S39),\"#,##0\"),\"\")","v":"73"},{"$f":"IF(P_15号2様式1!S39= \"\",\"\",IF(VALUE(FIXED(P_15号2様式1!S39,0,TRUE))<>P_15号2様式1!S39,RIGHT(FIXED(P_15号2様式1!S39,3,FALSE),4),\"\"))","v":""},{"$f":"IF(P_15号2様式1!W39<> \"\",TEXT(INT(P_15号2様式1!W39),\"#,##0\"),\"\")","v":"486"},{"$f":"IF(P_15号2様式1!W39= \"\",\"\",IF(VALUE(FIXED(P_15号2様式1!W39,0,TRUE))<>P_15号2様式1!W39,RIGHT(FIXED(P_15号2様式1!W39,3,FALSE),4),\"\"))","v":""},{"$f":"IF(P_15号2様式1!AA39<> \"\",TEXT(INT(P_15号2様式1!AA39),\"#,##0\"),\"\")","v":""},{"$f":"IF(P_15号2様式1!AA39= \"\",\"\",IF(VALUE(FIXED(P_15号2様式1!AA39,0,TRUE))<>P_15号2様式1!AA39,RIGHT(FIXED(P_15号2様式1!AA39,3,FALSE),4),\"\"))","v":""},{"$f":"IF(P_15号2様式1!AE39<> \"\",TEXT(INT(P_15号2様式1!AE39),\"#,##0\"),\"\")","v":""},{"$f":"IF(P_15号2様式1!AE39= \"\",\"\",IF(VALUE(FIXED(P_15号2様式1!AE39,0,TRUE))<>P_15号2様式1!AE39,RIGHT(FIXED(P_15号2様式1!AE39,3,FALSE),4),\"\"))","v":""},{"$f":"IF(P_15号2様式1!AI39<> \"\",TEXT(INT(P_15号2様式1!AI39),\"#,##0\"),\"\")","v":""},{"$f":"IF(P_15号2様式1!AI39= \"\",\"\",IF(VALUE(FIXED(P_15号2様式1!AI39,0,TRUE))<>P_15号2様式1!AI39,RIGHT(FIXED(P_15号2様式1!AI39,3,FALSE),4),\"\"))","v":""},{"$f":"IF(P_15号2様式1!AM39<> \"\",TEXT(INT(P_15号2様式1!AM39),\"#,##0\"),\"\")","v":""},{"$f":"IF(P_15号2様式1!AM39= \"\",\"\",IF(VALUE(FIXED(P_15号2様式1!AM39,0,TRUE))<>P_15号2様式1!AM39,RIGHT(FIXED(P_15号2様式1!AM39,3,FALSE),4),\"\"))","v":""},{"$f":"IF(P_15号2様式1!AQ39<> \"\",TEXT(INT(P_15号2様式1!AQ39),\"#,##0\"),\"\")","v":""},{"$f":"IF(P_15号2様式1!AQ39= \"\",\"\",IF(VALUE(FIXED(P_15号2様式1!AQ39,0,TRUE))<>P_15号2様式1!AQ39,RIGHT(FIXED(P_15号2様式1!AQ39,3,FALSE),4),\"\"))","v":""},{"$f":"IF(P_15号2様式1!AU39<> \"\",TEXT(INT(P_15号2様式1!AU39),\"#,##0\"),\"\")","v":""},{"$f":"IF(P_15号2様式1!AU39= \"\",\"\",IF(VALUE(FIXED(P_15号2様式1!AU39,0,TRUE))<>P_15号2様式1!AU39,RIGHT(FIXED(P_15号2様式1!AU39,3,FALSE),4),\"\"))","v":""},{"$f":"IF(P_15号2様式1!AV39<> \"\",TEXT(INT(P_15号2様式1!AV39),\"#,##0\"),\"\")","v":"962"},null,{"$f":"IF(P_15号2様式1!AV39= \"\",\"\",IF(VALUE(FIXED(P_15号2様式1!AV39,0,TRUE))<>P_15号2様式1!AV39,RIGHT(FIXED(P_15号2様式1!AV39,3,FALSE),4),\"\"))","v":""}]
[{"$f":"IF(P_15号2様式1!F40=\"\",\"\",P_15号2様式1!F40)","v":"　宇検村"},null,{"$f":"IF(P_15号2様式1!G40=\"\",\"\",P_15号2様式1!G40)","v":100},{"$f":"IF(P_15号2様式1!K40<> \"\",TEXT(INT(P_15号2様式1!K40),\"#,##0\"),\"\")","v":"444"},{"$f":"IF(P_15号2様式1!K40= \"\",\"\",IF(VALUE(FIXED(P_15号2様式1!K40,0,TRUE))<>P_15号2様式1!K40,RIGHT(FIXED(P_15号2様式1!K40,3,FALSE),4),\"\"))","v":""},{"$f":"IF(P_15号2様式1!O40<> \"\",TEXT(INT(P_15号2様式1!O40),\"#,##0\"),\"\")","v":"47"},{"$f":"IF(P_15号2様式1!O40= \"\",\"\",IF(VALUE(FIXED(P_15号2様式1!O40,0,TRUE))<>P_15号2様式1!O40,RIGHT(FIXED(P_15号2様式1!O40,3,FALSE),4),\"\"))","v":""},{"$f":"IF(P_15号2様式1!S40<> \"\",TEXT(INT(P_15号2様式1!S40),\"#,##0\"),\"\")","v":"95"},{"$f":"IF(P_15号2様式1!S40= \"\",\"\",IF(VALUE(FIXED(P_15号2様式1!S40,0,TRUE))<>P_15号2様式1!S40,RIGHT(FIXED(P_15号2様式1!S40,3,FALSE),4),\"\"))","v":""},{"$f":"IF(P_15号2様式1!W40<> \"\",TEXT(INT(P_15号2様式1!W40),\"#,##0\"),\"\")","v":"738"},{"$f":"IF(P_15号2様式1!W40= \"\",\"\",IF(VALUE(FIXED(P_15号2様式1!W40,0,TRUE))<>P_15号2様式1!W40,RIGHT(FIXED(P_15号2様式1!W40,3,FALSE),4),\"\"))","v":""},{"$f":"IF(P_15号2様式1!AA40<> \"\",TEXT(INT(P_15号2様式1!AA40),\"#,##0\"),\"\")","v":""},{"$f":"IF(P_15号2様式1!AA40= \"\",\"\",IF(VALUE(FIXED(P_15号2様式1!AA40,0,TRUE))<>P_15号2様式1!AA40,RIGHT(FIXED(P_15号2様式1!AA40,3,FALSE),4),\"\"))","v":""},{"$f":"IF(P_15号2様式1!AE40<> \"\",TEXT(INT(P_15号2様式1!AE40),\"#,##0\"),\"\")","v":""},{"$f":"IF(P_15号2様式1!AE40= \"\",\"\",IF(VALUE(FIXED(P_15号2様式1!AE40,0,TRUE))<>P_15号2様式1!AE40,RIGHT(FIXED(P_15号2様式1!AE40,3,FALSE),4),\"\"))","v":""},{"$f":"IF(P_15号2様式1!AI40<> \"\",TEXT(INT(P_15号2様式1!AI40),\"#,##0\"),\"\")","v":""},{"$f":"IF(P_15号2様式1!AI40= \"\",\"\",IF(VALUE(FIXED(P_15号2様式1!AI40,0,TRUE))<>P_15号2様式1!AI40,RIGHT(FIXED(P_15号2様式1!AI40,3,FALSE),4),\"\"))","v":""},{"$f":"IF(P_15号2様式1!AM40<> \"\",TEXT(INT(P_15号2様式1!AM40),\"#,##0\"),\"\")","v":""},{"$f":"IF(P_15号2様式1!AM40= \"\",\"\",IF(VALUE(FIXED(P_15号2様式1!AM40,0,TRUE))<>P_15号2様式1!AM40,RIGHT(FIXED(P_15号2様式1!AM40,3,FALSE),4),\"\"))","v":""},{"$f":"IF(P_15号2様式1!AQ40<> \"\",TEXT(INT(P_15号2様式1!AQ40),\"#,##0\"),\"\")","v":""},{"$f":"IF(P_15号2様式1!AQ40= \"\",\"\",IF(VALUE(FIXED(P_15号2様式1!AQ40,0,TRUE))<>P_15号2様式1!AQ40,RIGHT(FIXED(P_15号2様式1!AQ40,3,FALSE),4),\"\"))","v":""},{"$f":"IF(P_15号2様式1!AU40<> \"\",TEXT(INT(P_15号2様式1!AU40),\"#,##0\"),\"\")","v":""},{"$f":"IF(P_15号2様式1!AU40= \"\",\"\",IF(VALUE(FIXED(P_15号2様式1!AU40,0,TRUE))<>P_15号2様式1!AU40,RIGHT(FIXED(P_15号2様式1!AU40,3,FALSE),4),\"\"))","v":""},{"$f":"IF(P_15号2様式1!AV40<> \"\",TEXT(INT(P_15号2様式1!AV40),\"#,##0\"),\"\")","v":"1,324"},null,{"$f":"IF(P_15号2様式1!AV40= \"\",\"\",IF(VALUE(FIXED(P_15号2様式1!AV40,0,TRUE))<>P_15号2様式1!AV40,RIGHT(FIXED(P_15号2様式1!AV40,3,FALSE),4),\"\"))","v":""}]
[{"$f":"IF(P_15号2様式1!F41=\"\",\"\",P_15号2様式1!F41)","v":"　瀬戸内町"},null,{"$f":"IF(P_15号2様式1!G41=\"\",\"\",P_15号2様式1!G41)","v":100},{"$f":"IF(P_15号2様式1!K41<> \"\",TEXT(INT(P_15号2様式1!K41),\"#,##0\"),\"\")","v":"1,686"},{"$f":"IF(P_15号2様式1!K41= \"\",\"\",IF(VALUE(FIXED(P_15号2様式1!K41,0,TRUE))<>P_15号2様式1!K41,RIGHT(FIXED(P_15号2様式1!K41,3,FALSE),4),\"\"))","v":""},{"$f":"IF(P_15号2様式1!O41<> \"\",TEXT(INT(P_15号2様式1!O41),\"#,##0\"),\"\")","v":"235"},{"$f":"IF(P_15号2様式1!O41= \"\",\"\",IF(VALUE(FIXED(P_15号2様式1!O41,0,TRUE))<>P_15号2様式1!O41,RIGHT(FIXED(P_15号2様式1!O41,3,FALSE),4),\"\"))","v":""},{"$f":"IF(P_15号2様式1!S41<> \"\",TEXT(INT(P_15号2様式1!S41),\"#,##0\"),\"\")","v":"282"},{"$f":"IF(P_15号2様式1!S41= \"\",\"\",IF(VALUE(FIXED(P_15号2様式1!S41,0,TRUE))<>P_15号2様式1!S41,RIGHT(FIXED(P_15号2様式1!S41,3,FALSE),4),\"\"))","v":""},{"$f":"IF(P_15号2様式1!W41<> \"\",TEXT(INT(P_15号2様式1!W41),\"#,##0\"),\"\")","v":"3,641"},{"$f":"IF(P_15号2様式1!W41= \"\",\"\",IF(VALUE(FIXED(P_15号2様式1!W41,0,TRUE))<>P_15号2様式1!W41,RIGHT(FIXED(P_15号2様式1!W41,3,FALSE),4),\"\"))","v":""},{"$f":"IF(P_15号2様式1!AA41<> \"\",TEXT(INT(P_15号2様式1!AA41),\"#,##0\"),\"\")","v":""},{"$f":"IF(P_15号2様式1!AA41= \"\",\"\",IF(VALUE(FIXED(P_15号2様式1!AA41,0,TRUE))<>P_15号2様式1!AA41,RIGHT(FIXED(P_15号2様式1!AA41,3,FALSE),4),\"\"))","v":""},{"$f":"IF(P_15号2様式1!AE41<> \"\",TEXT(INT(P_15号2様式1!AE41),\"#,##0\"),\"\")","v":""},{"$f":"IF(P_15号2様式1!AE41= \"\",\"\",IF(VALUE(FIXED(P_15号2様式1!AE41,0,TRUE))<>P_15号2様式1!AE41,RIGHT(FIXED(P_15号2様式1!AE41,3,FALSE),4),\"\"))","v":""},{"$f":"IF(P_15号2様式1!AI41<> \"\",TEXT(INT(P_15号2様式1!AI41),\"#,##0\"),\"\")","v":""},{"$f":"IF(P_15号2様式1!AI41= \"\",\"\",IF(VALUE(FIXED(P_15号2様式1!AI41,0,TRUE))<>P_15号2様式1!AI41,RIGHT(FIXED(P_15号2様式1!AI41,3,FALSE),4),\"\"))","v":""},{"$f":"IF(P_15号2様式1!AM41<> \"\",TEXT(INT(P_15号2様式1!AM41),\"#,##0\"),\"\")","v":""},{"$f":"IF(P_15号2様式1!AM41= \"\",\"\",IF(VALUE(FIXED(P_15号2様式1!AM41,0,TRUE))<>P_15号2様式1!AM41,RIGHT(FIXED(P_15号2様式1!AM41,3,FALSE),4),\"\"))","v":""},{"$f":"IF(P_15号2様式1!AQ41<> \"\",TEXT(INT(P_15号2様式1!AQ41),\"#,##0\"),\"\")","v":""},{"$f":"IF(P_15号2様式1!AQ41= \"\",\"\",IF(VALUE(FIXED(P_15号2様式1!AQ41,0,TRUE))<>P_15号2様式1!AQ41,RIGHT(FIXED(P_15号2様式1!AQ41,3,FALSE),4),\"\"))","v":""},{"$f":"IF(P_15号2様式1!AU41<> \"\",TEXT(INT(P_15号2様式1!AU41),\"#,##0\"),\"\")","v":""},{"$f":"IF(P_15号2様式1!AU41= \"\",\"\",IF(VALUE(FIXED(P_15号2様式1!AU41,0,TRUE))<>P_15号2様式1!AU41,RIGHT(FIXED(P_15号2様式1!AU41,3,FALSE),4),\"\"))","v":""},{"$f":"IF(P_15号2様式1!AV41<> \"\",TEXT(INT(P_15号2様式1!AV41),\"#,##0\"),\"\")","v":"5,844"},null,{"$f":"IF(P_15号2様式1!AV41= \"\",\"\",IF(VALUE(FIXED(P_15号2様式1!AV41,0,TRUE))<>P_15号2様式1!AV41,RIGHT(FIXED(P_15号2様式1!AV41,3,FALSE),4),\"\"))","v":""}]
[{"$f":"IF(P_15号2様式1!F42=\"\",\"\",P_15号2様式1!F42)","v":"　龍郷町"},null,{"$f":"IF(P_15号2様式1!G42=\"\",\"\",P_15号2様式1!G42)","v":100},{"$f":"IF(P_15号2様式1!K42<> \"\",TEXT(INT(P_15号2様式1!K42),\"#,##0\"),\"\")","v":"1,588"},{"$f":"IF(P_15号2様式1!K42= \"\",\"\",IF(VALUE(FIXED(P_15号2様式1!K42,0,TRUE))<>P_15号2様式1!K42,RIGHT(FIXED(P_15号2様式1!K42,3,FALSE),4),\"\"))","v":""},{"$f":"IF(P_15号2様式1!O42<> \"\",TEXT(INT(P_15号2様式1!O42),\"#,##0\"),\"\")","v":"240"},{"$f":"IF(P_15号2様式1!O42= \"\",\"\",IF(VALUE(FIXED(P_15号2様式1!O42,0,TRUE))<>P_15号2様式1!O42,RIGHT(FIXED(P_15号2様式1!O42,3,FALSE),4),\"\"))","v":""},{"$f":"IF(P_15号2様式1!S42<> \"\",TEXT(INT(P_15号2様式1!S42),\"#,##0\"),\"\")","v":"486"},{"$f":"IF(P_15号2様式1!S42= \"\",\"\",IF(VALUE(FIXED(P_15号2様式1!S42,0,TRUE))<>P_15号2様式1!S42,RIGHT(FIXED(P_15号2様式1!S42,3,FALSE),4),\"\"))","v":""},{"$f":"IF(P_15号2様式1!W42<> \"\",TEXT(INT(P_15号2様式1!W42),\"#,##0\"),\"\")","v":"1,779"},{"$f":"IF(P_15号2様式1!W42= \"\",\"\",IF(VALUE(FIXED(P_15号2様式1!W42,0,TRUE))<>P_15号2様式1!W42,RIGHT(FIXED(P_15号2様式1!W42,3,FALSE),4),\"\"))","v":""},{"$f":"IF(P_15号2様式1!AA42<> \"\",TEXT(INT(P_15号2様式1!AA42),\"#,##0\"),\"\")","v":""},{"$f":"IF(P_15号2様式1!AA42= \"\",\"\",IF(VALUE(FIXED(P_15号2様式1!AA42,0,TRUE))<>P_15号2様式1!AA42,RIGHT(FIXED(P_15号2様式1!AA42,3,FALSE),4),\"\"))","v":""},{"$f":"IF(P_15号2様式1!AE42<> \"\",TEXT(INT(P_15号2様式1!AE42),\"#,##0\"),\"\")","v":""},{"$f":"IF(P_15号2様式1!AE42= \"\",\"\",IF(VALUE(FIXED(P_15号2様式1!AE42,0,TRUE))<>P_15号2様式1!AE42,RIGHT(FIXED(P_15号2様式1!AE42,3,FALSE),4),\"\"))","v":""},{"$f":"IF(P_15号2様式1!AI42<> \"\",TEXT(INT(P_15号2様式1!AI42),\"#,##0\"),\"\")","v":""},{"$f":"IF(P_15号2様式1!AI42= \"\",\"\",IF(VALUE(FIXED(P_15号2様式1!AI42,0,TRUE))<>P_15号2様式1!AI42,RIGHT(FIXED(P_15号2様式1!AI42,3,FALSE),4),\"\"))","v":""},{"$f":"IF(P_15号2様式1!AM42<> \"\",TEXT(INT(P_15号2様式1!AM42),\"#,##0\"),\"\")","v":""},{"$f":"IF(P_15号2様式1!AM42= \"\",\"\",IF(VALUE(FIXED(P_15号2様式1!AM42,0,TRUE))<>P_15号2様式1!AM42,RIGHT(FIXED(P_15号2様式1!AM42,3,FALSE),4),\"\"))","v":""},{"$f":"IF(P_15号2様式1!AQ42<> \"\",TEXT(INT(P_15号2様式1!AQ42),\"#,##0\"),\"\")","v":""},{"$f":"IF(P_15号2様式1!AQ42= \"\",\"\",IF(VALUE(FIXED(P_15号2様式1!AQ42,0,TRUE))<>P_15号2様式1!AQ42,RIGHT(FIXED(P_15号2様式1!AQ42,3,FALSE),4),\"\"))","v":""},{"$f":"IF(P_15号2様式1!AU42<> \"\",TEXT(INT(P_15号2様式1!AU42),\"#,##0\"),\"\")","v":""},{"$f":"IF(P_15号2様式1!AU42= \"\",\"\",IF(VALUE(FIXED(P_15号2様式1!AU42,0,TRUE))<>P_15号2様式1!AU42,RIGHT(FIXED(P_15号2様式1!AU42,3,FALSE),4),\"\"))","v":""},{"$f":"IF(P_15号2様式1!AV42<> \"\",TEXT(INT(P_15号2様式1!AV42),\"#,##0\"),\"\")","v":"4,093"},null,{"$f":"IF(P_15号2様式1!AV42= \"\",\"\",IF(VALUE(FIXED(P_15号2様式1!AV42,0,TRUE))<>P_15号2様式1!AV42,RIGHT(FIXED(P_15号2様式1!AV42,3,FALSE),4),\"\"))","v":""}]
[{"$f":"IF(P_15号2様式1!F43=\"\",\"\",P_15号2様式1!F43)","v":"　喜界町"},null,{"$f":"IF(P_15号2様式1!G43=\"\",\"\",P_15号2様式1!G43)","v":100},{"$f":"IF(P_15号2様式1!K43<> \"\",TEXT(INT(P_15号2様式1!K43),\"#,##0\"),\"\")","v":"1,280"},{"$f":"IF(P_15号2様式1!K43= \"\",\"\",IF(VALUE(FIXED(P_15号2様式1!K43,0,TRUE))<>P_15号2様式1!K43,RIGHT(FIXED(P_15号2様式1!K43,3,FALSE),4),\"\"))","v":""},{"$f":"IF(P_15号2様式1!O43<> \"\",TEXT(INT(P_15号2様式1!O43),\"#,##0\"),\"\")","v":"188"},{"$f":"IF(P_15号2様式1!O43= \"\",\"\",IF(VALUE(FIXED(P_15号2様式1!O43,0,TRUE))<>P_15号2様式1!O43,RIGHT(FIXED(P_15号2様式1!O43,3,FALSE),4),\"\"))","v":""},{"$f":"IF(P_15号2様式1!S43<> \"\",TEXT(INT(P_15号2様式1!S43),\"#,##0\"),\"\")","v":"476"},{"$f":"IF(P_15号2様式1!S43= \"\",\"\",IF(VALUE(FIXED(P_15号2様式1!S43,0,TRUE))<>P_15号2様式1!S43,RIGHT(FIXED(P_15号2様式1!S43,3,FALSE),4),\"\"))","v":""},{"$f":"IF(P_15号2様式1!W43<> \"\",TEXT(INT(P_15号2様式1!W43),\"#,##0\"),\"\")","v":"2,240"},{"$f":"IF(P_15号2様式1!W43= \"\",\"\",IF(VALUE(FIXED(P_15号2様式1!W43,0,TRUE))<>P_15号2様式1!W43,RIGHT(FIXED(P_15号2様式1!W43,3,FALSE),4),\"\"))","v":""},{"$f":"IF(P_15号2様式1!AA43<> \"\",TEXT(INT(P_15号2様式1!AA43),\"#,##0\"),\"\")","v":""},{"$f":"IF(P_15号2様式1!AA43= \"\",\"\",IF(VALUE(FIXED(P_15号2様式1!AA43,0,TRUE))<>P_15号2様式1!AA43,RIGHT(FIXED(P_15号2様式1!AA43,3,FALSE),4),\"\"))","v":""},{"$f":"IF(P_15号2様式1!AE43<> \"\",TEXT(INT(P_15号2様式1!AE43),\"#,##0\"),\"\")","v":""},{"$f":"IF(P_15号2様式1!AE43= \"\",\"\",IF(VALUE(FIXED(P_15号2様式1!AE43,0,TRUE))<>P_15号2様式1!AE43,RIGHT(FIXED(P_15号2様式1!AE43,3,FALSE),4),\"\"))","v":""},{"$f":"IF(P_15号2様式1!AI43<> \"\",TEXT(INT(P_15号2様式1!AI43),\"#,##0\"),\"\")","v":""},{"$f":"IF(P_15号2様式1!AI43= \"\",\"\",IF(VALUE(FIXED(P_15号2様式1!AI43,0,TRUE))<>P_15号2様式1!AI43,RIGHT(FIXED(P_15号2様式1!AI43,3,FALSE),4),\"\"))","v":""},{"$f":"IF(P_15号2様式1!AM43<> \"\",TEXT(INT(P_15号2様式1!AM43),\"#,##0\"),\"\")","v":""},{"$f":"IF(P_15号2様式1!AM43= \"\",\"\",IF(VALUE(FIXED(P_15号2様式1!AM43,0,TRUE))<>P_15号2様式1!AM43,RIGHT(FIXED(P_15号2様式1!AM43,3,FALSE),4),\"\"))","v":""},{"$f":"IF(P_15号2様式1!AQ43<> \"\",TEXT(INT(P_15号2様式1!AQ43),\"#,##0\"),\"\")","v":""},{"$f":"IF(P_15号2様式1!AQ43= \"\",\"\",IF(VALUE(FIXED(P_15号2様式1!AQ43,0,TRUE))<>P_15号2様式1!AQ43,RIGHT(FIXED(P_15号2様式1!AQ43,3,FALSE),4),\"\"))","v":""},{"$f":"IF(P_15号2様式1!AU43<> \"\",TEXT(INT(P_15号2様式1!AU43),\"#,##0\"),\"\")","v":""},{"$f":"IF(P_15号2様式1!AU43= \"\",\"\",IF(VALUE(FIXED(P_15号2様式1!AU43,0,TRUE))<>P_15号2様式1!AU43,RIGHT(FIXED(P_15号2様式1!AU43,3,FALSE),4),\"\"))","v":""},{"$f":"IF(P_15号2様式1!AV43<> \"\",TEXT(INT(P_15号2様式1!AV43),\"#,##0\"),\"\")","v":"4,184"},null,{"$f":"IF(P_15号2様式1!AV43= \"\",\"\",IF(VALUE(FIXED(P_15号2様式1!AV43,0,TRUE))<>P_15号2様式1!AV43,RIGHT(FIXED(P_15号2様式1!AV43,3,FALSE),4),\"\"))","v":""}]
[{"$f":"IF(P_15号2様式1!F44=\"\",\"\",P_15号2様式1!F44)","v":"　徳之島町"},null,{"$f":"IF(P_15号2様式1!G44=\"\",\"\",P_15号2様式1!G44)","v":100},{"$f":"IF(P_15号2様式1!K44<> \"\",TEXT(INT(P_15号2様式1!K44),\"#,##0\"),\"\")","v":"1,384"},{"$f":"IF(P_15号2様式1!K44= \"\",\"\",IF(VALUE(FIXED(P_15号2様式1!K44,0,TRUE))<>P_15号2様式1!K44,RIGHT(FIXED(P_15号2様式1!K44,3,FALSE),4),\"\"))","v":""},{"$f":"IF(P_15号2様式1!O44<> \"\",TEXT(INT(P_15号2様式1!O44),\"#,##0\"),\"\")","v":"367"},{"$f":"IF(P_15号2様式1!O44= \"\",\"\",IF(VALUE(FIXED(P_15号2様式1!O44,0,TRUE))<>P_15号2様式1!O44,RIGHT(FIXED(P_15号2様式1!O44,3,FALSE),4),\"\"))","v":""},{"$f":"IF(P_15号2様式1!S44<> \"\",TEXT(INT(P_15号2様式1!S44),\"#,##0\"),\"\")","v":"555"},{"$f":"IF(P_15号2様式1!S44= \"\",\"\",IF(VALUE(FIXED(P_15号2様式1!S44,0,TRUE))<>P_15号2様式1!S44,RIGHT(FIXED(P_15号2様式1!S44,3,FALSE),4),\"\"))","v":""},{"$f":"IF(P_15号2様式1!W44<> \"\",TEXT(INT(P_15号2様式1!W44),\"#,##0\"),\"\")","v":"3,634"},{"$f":"IF(P_15号2様式1!W44= \"\",\"\",IF(VALUE(FIXED(P_15号2様式1!W44,0,TRUE))<>P_15号2様式1!W44,RIGHT(FIXED(P_15号2様式1!W44,3,FALSE),4),\"\"))","v":""},{"$f":"IF(P_15号2様式1!AA44<> \"\",TEXT(INT(P_15号2様式1!AA44),\"#,##0\"),\"\")","v":""},{"$f":"IF(P_15号2様式1!AA44= \"\",\"\",IF(VALUE(FIXED(P_15号2様式1!AA44,0,TRUE))<>P_15号2様式1!AA44,RIGHT(FIXED(P_15号2様式1!AA44,3,FALSE),4),\"\"))","v":""},{"$f":"IF(P_15号2様式1!AE44<> \"\",TEXT(INT(P_15号2様式1!AE44),\"#,##0\"),\"\")","v":""},{"$f":"IF(P_15号2様式1!AE44= \"\",\"\",IF(VALUE(FIXED(P_15号2様式1!AE44,0,TRUE))<>P_15号2様式1!AE44,RIGHT(FIXED(P_15号2様式1!AE44,3,FALSE),4),\"\"))","v":""},{"$f":"IF(P_15号2様式1!AI44<> \"\",TEXT(INT(P_15号2様式1!AI44),\"#,##0\"),\"\")","v":""},{"$f":"IF(P_15号2様式1!AI44= \"\",\"\",IF(VALUE(FIXED(P_15号2様式1!AI44,0,TRUE))<>P_15号2様式1!AI44,RIGHT(FIXED(P_15号2様式1!AI44,3,FALSE),4),\"\"))","v":""},{"$f":"IF(P_15号2様式1!AM44<> \"\",TEXT(INT(P_15号2様式1!AM44),\"#,##0\"),\"\")","v":""},{"$f":"IF(P_15号2様式1!AM44= \"\",\"\",IF(VALUE(FIXED(P_15号2様式1!AM44,0,TRUE))<>P_15号2様式1!AM44,RIGHT(FIXED(P_15号2様式1!AM44,3,FALSE),4),\"\"))","v":""},{"$f":"IF(P_15号2様式1!AQ44<> \"\",TEXT(INT(P_15号2様式1!AQ44),\"#,##0\"),\"\")","v":""},{"$f":"IF(P_15号2様式1!AQ44= \"\",\"\",IF(VALUE(FIXED(P_15号2様式1!AQ44,0,TRUE))<>P_15号2様式1!AQ44,RIGHT(FIXED(P_15号2様式1!AQ44,3,FALSE),4),\"\"))","v":""},{"$f":"IF(P_15号2様式1!AU44<> \"\",TEXT(INT(P_15号2様式1!AU44),\"#,##0\"),\"\")","v":""},{"$f":"IF(P_15号2様式1!AU44= \"\",\"\",IF(VALUE(FIXED(P_15号2様式1!AU44,0,TRUE))<>P_15号2様式1!AU44,RIGHT(FIXED(P_15号2様式1!AU44,3,FALSE),4),\"\"))","v":""},{"$f":"IF(P_15号2様式1!AV44<> \"\",TEXT(INT(P_15号2様式1!AV44),\"#,##0\"),\"\")","v":"5,940"},null,{"$f":"IF(P_15号2様式1!AV44= \"\",\"\",IF(VALUE(FIXED(P_15号2様式1!AV44,0,TRUE))<>P_15号2様式1!AV44,RIGHT(FIXED(P_15号2様式1!AV44,3,FALSE),4),\"\"))","v":""}]
[{"$f":"IF(P_15号2様式1!F45=\"\",\"\",P_15号2様式1!F45)","v":"　天城町"},null,{"$f":"IF(P_15号2様式1!G45=\"\",\"\",P_15号2様式1!G45)","v":100},{"$f":"IF(P_15号2様式1!K45<> \"\",TEXT(INT(P_15号2様式1!K45),\"#,##0\"),\"\")","v":"1,174"},{"$f":"IF(P_15号2様式1!K45= \"\",\"\",IF(VALUE(FIXED(P_15号2様式1!K45,0,TRUE))<>P_15号2様式1!K45,RIGHT(FIXED(P_15号2様式1!K45,3,FALSE),4),\"\"))","v":""},{"$f":"IF(P_15号2様式1!O45<> \"\",TEXT(INT(P_15号2様式1!O45),\"#,##0\"),\"\")","v":"139"},{"$f":"IF(P_15号2様式1!O45= \"\",\"\",IF(VALUE(FIXED(P_15号2様式1!O45,0,TRUE))<>P_15号2様式1!O45,RIGHT(FIXED(P_15号2様式1!O45,3,FALSE),4),\"\"))","v":""},{"$f":"IF(P_15号2様式1!S45<> \"\",TEXT(INT(P_15号2様式1!S45),\"#,##0\"),\"\")","v":"265"},{"$f":"IF(P_15号2様式1!S45= \"\",\"\",IF(VALUE(FIXED(P_15号2様式1!S45,0,TRUE))<>P_15号2様式1!S45,RIGHT(FIXED(P_15号2様式1!S45,3,FALSE),4),\"\"))","v":""},{"$f":"IF(P_15号2様式1!W45<> \"\",TEXT(INT(P_15号2様式1!W45),\"#,##0\"),\"\")","v":"1,805"},{"$f":"IF(P_15号2様式1!W45= \"\",\"\",IF(VALUE(FIXED(P_15号2様式1!W45,0,TRUE))<>P_15号2様式1!W45,RIGHT(FIXED(P_15号2様式1!W45,3,FALSE),4),\"\"))","v":""},{"$f":"IF(P_15号2様式1!AA45<> \"\",TEXT(INT(P_15号2様式1!AA45),\"#,##0\"),\"\")","v":""},{"$f":"IF(P_15号2様式1!AA45= \"\",\"\",IF(VALUE(FIXED(P_15号2様式1!AA45,0,TRUE))<>P_15号2様式1!AA45,RIGHT(FIXED(P_15号2様式1!AA45,3,FALSE),4),\"\"))","v":""},{"$f":"IF(P_15号2様式1!AE45<> \"\",TEXT(INT(P_15号2様式1!AE45),\"#,##0\"),\"\")","v":""},{"$f":"IF(P_15号2様式1!AE45= \"\",\"\",IF(VALUE(FIXED(P_15号2様式1!AE45,0,TRUE))<>P_15号2様式1!AE45,RIGHT(FIXED(P_15号2様式1!AE45,3,FALSE),4),\"\"))","v":""},{"$f":"IF(P_15号2様式1!AI45<> \"\",TEXT(INT(P_15号2様式1!AI45),\"#,##0\"),\"\")","v":""},{"$f":"IF(P_15号2様式1!AI45= \"\",\"\",IF(VALUE(FIXED(P_15号2様式1!AI45,0,TRUE))<>P_15号2様式1!AI45,RIGHT(FIXED(P_15号2様式1!AI45,3,FALSE),4),\"\"))","v":""},{"$f":"IF(P_15号2様式1!AM45<> \"\",TEXT(INT(P_15号2様式1!AM45),\"#,##0\"),\"\")","v":""},{"$f":"IF(P_15号2様式1!AM45= \"\",\"\",IF(VALUE(FIXED(P_15号2様式1!AM45,0,TRUE))<>P_15号2様式1!AM45,RIGHT(FIXED(P_15号2様式1!AM45,3,FALSE),4),\"\"))","v":""},{"$f":"IF(P_15号2様式1!AQ45<> \"\",TEXT(INT(P_15号2様式1!AQ45),\"#,##0\"),\"\")","v":""},{"$f":"IF(P_15号2様式1!AQ45= \"\",\"\",IF(VALUE(FIXED(P_15号2様式1!AQ45,0,TRUE))<>P_15号2様式1!AQ45,RIGHT(FIXED(P_15号2様式1!AQ45,3,FALSE),4),\"\"))","v":""},{"$f":"IF(P_15号2様式1!AU45<> \"\",TEXT(INT(P_15号2様式1!AU45),\"#,##0\"),\"\")","v":""},{"$f":"IF(P_15号2様式1!AU45= \"\",\"\",IF(VALUE(FIXED(P_15号2様式1!AU45,0,TRUE))<>P_15号2様式1!AU45,RIGHT(FIXED(P_15号2様式1!AU45,3,FALSE),4),\"\"))","v":""},{"$f":"IF(P_15号2様式1!AV45<> \"\",TEXT(INT(P_15号2様式1!AV45),\"#,##0\"),\"\")","v":"3,383"},null,{"$f":"IF(P_15号2様式1!AV45= \"\",\"\",IF(VALUE(FIXED(P_15号2様式1!AV45,0,TRUE))<>P_15号2様式1!AV45,RIGHT(FIXED(P_15号2様式1!AV45,3,FALSE),4),\"\"))","v":""}]
[{"$f":"IF(P_15号2様式1!F46=\"\",\"\",P_15号2様式1!F46)","v":"　伊仙町"},null,{"$f":"IF(P_15号2様式1!G46=\"\",\"\",P_15号2様式1!G46)","v":100},{"$f":"IF(P_15号2様式1!K46<> \"\",TEXT(INT(P_15号2様式1!K46),\"#,##0\"),\"\")","v":"915"},{"$f":"IF(P_15号2様式1!K46= \"\",\"\",IF(VALUE(FIXED(P_15号2様式1!K46,0,TRUE))<>P_15号2様式1!K46,RIGHT(FIXED(P_15号2様式1!K46,3,FALSE),4),\"\"))","v":""},{"$f":"IF(P_15号2様式1!O46<> \"\",TEXT(INT(P_15号2様式1!O46),\"#,##0\"),\"\")","v":"147"},{"$f":"IF(P_15号2様式1!O46= \"\",\"\",IF(VALUE(FIXED(P_15号2様式1!O46,0,TRUE))<>P_15号2様式1!O46,RIGHT(FIXED(P_15号2様式1!O46,3,FALSE),4),\"\"))","v":""},{"$f":"IF(P_15号2様式1!S46<> \"\",TEXT(INT(P_15号2様式1!S46),\"#,##0\"),\"\")","v":"309"},{"$f":"IF(P_15号2様式1!S46= \"\",\"\",IF(VALUE(FIXED(P_15号2様式1!S46,0,TRUE))<>P_15号2様式1!S46,RIGHT(FIXED(P_15号2様式1!S46,3,FALSE),4),\"\"))","v":""},{"$f":"IF(P_15号2様式1!W46<> \"\",TEXT(INT(P_15号2様式1!W46),\"#,##0\"),\"\")","v":"3,401"},{"$f":"IF(P_15号2様式1!W46= \"\",\"\",IF(VALUE(FIXED(P_15号2様式1!W46,0,TRUE))<>P_15号2様式1!W46,RIGHT(FIXED(P_15号2様式1!W46,3,FALSE),4),\"\"))","v":""},{"$f":"IF(P_15号2様式1!AA46<> \"\",TEXT(INT(P_15号2様式1!AA46),\"#,##0\"),\"\")","v":""},{"$f":"IF(P_15号2様式1!AA46= \"\",\"\",IF(VALUE(FIXED(P_15号2様式1!AA46,0,TRUE))<>P_15号2様式1!AA46,RIGHT(FIXED(P_15号2様式1!AA46,3,FALSE),4),\"\"))","v":""},{"$f":"IF(P_15号2様式1!AE46<> \"\",TEXT(INT(P_15号2様式1!AE46),\"#,##0\"),\"\")","v":""},{"$f":"IF(P_15号2様式1!AE46= \"\",\"\",IF(VALUE(FIXED(P_15号2様式1!AE46,0,TRUE))<>P_15号2様式1!AE46,RIGHT(FIXED(P_15号2様式1!AE46,3,FALSE),4),\"\"))","v":""},{"$f":"IF(P_15号2様式1!AI46<> \"\",TEXT(INT(P_15号2様式1!AI46),\"#,##0\"),\"\")","v":""},{"$f":"IF(P_15号2様式1!AI46= \"\",\"\",IF(VALUE(FIXED(P_15号2様式1!AI46,0,TRUE))<>P_15号2様式1!AI46,RIGHT(FIXED(P_15号2様式1!AI46,3,FALSE),4),\"\"))","v":""},{"$f":"IF(P_15号2様式1!AM46<> \"\",TEXT(INT(P_15号2様式1!AM46),\"#,##0\"),\"\")","v":""},{"$f":"IF(P_15号2様式1!AM46= \"\",\"\",IF(VALUE(FIXED(P_15号2様式1!AM46,0,TRUE))<>P_15号2様式1!AM46,RIGHT(FIXED(P_15号2様式1!AM46,3,FALSE),4),\"\"))","v":""},{"$f":"IF(P_15号2様式1!AQ46<> \"\",TEXT(INT(P_15号2様式1!AQ46),\"#,##0\"),\"\")","v":""},{"$f":"IF(P_15号2様式1!AQ46= \"\",\"\",IF(VALUE(FIXED(P_15号2様式1!AQ46,0,TRUE))<>P_15号2様式1!AQ46,RIGHT(FIXED(P_15号2様式1!AQ46,3,FALSE),4),\"\"))","v":""},{"$f":"IF(P_15号2様式1!AU46<> \"\",TEXT(INT(P_15号2様式1!AU46),\"#,##0\"),\"\")","v":""},{"$f":"IF(P_15号2様式1!AU46= \"\",\"\",IF(VALUE(FIXED(P_15号2様式1!AU46,0,TRUE))<>P_15号2様式1!AU46,RIGHT(FIXED(P_15号2様式1!AU46,3,FALSE),4),\"\"))","v":""},{"$f":"IF(P_15号2様式1!AV46<> \"\",TEXT(INT(P_15号2様式1!AV46),\"#,##0\"),\"\")","v":"4,772"},null,{"$f":"IF(P_15号2様式1!AV46= \"\",\"\",IF(VALUE(FIXED(P_15号2様式1!AV46,0,TRUE))<>P_15号2様式1!AV46,RIGHT(FIXED(P_15号2様式1!AV46,3,FALSE),4),\"\"))","v":""}]
[{"$f":"IF(P_15号2様式1!F47=\"\",\"\",P_15号2様式1!F47)","v":"　和泊町"},null,{"$f":"IF(P_15号2様式1!G47=\"\",\"\",P_15号2様式1!G47)","v":100},{"$f":"IF(P_15号2様式1!K47<> \"\",TEXT(INT(P_15号2様式1!K47),\"#,##0\"),\"\")","v":"1,238"},{"$f":"IF(P_15号2様式1!K47= \"\",\"\",IF(VALUE(FIXED(P_15号2様式1!K47,0,TRUE))<>P_15号2様式1!K47,RIGHT(FIXED(P_15号2様式1!K47,3,FALSE),4),\"\"))","v":""},{"$f":"IF(P_15号2様式1!O47<> \"\",TEXT(INT(P_15号2様式1!O47),\"#,##0\"),\"\")","v":"156"},{"$f":"IF(P_15号2様式1!O47= \"\",\"\",IF(VALUE(FIXED(P_15号2様式1!O47,0,TRUE))<>P_15号2様式1!O47,RIGHT(FIXED(P_15号2様式1!O47,3,FALSE),4),\"\"))","v":""},{"$f":"IF(P_15号2様式1!S47<> \"\",TEXT(INT(P_15号2様式1!S47),\"#,##0\"),\"\")","v":"421"},{"$f":"IF(P_15号2様式1!S47= \"\",\"\",IF(VALUE(FIXED(P_15号2様式1!S47,0,TRUE))<>P_15号2様式1!S47,RIGHT(FIXED(P_15号2様式1!S47,3,FALSE),4),\"\"))","v":""},{"$f":"IF(P_15号2様式1!W47<> \"\",TEXT(INT(P_15号2様式1!W47),\"#,##0\"),\"\")","v":"2,111"},{"$f":"IF(P_15号2様式1!W47= \"\",\"\",IF(VALUE(FIXED(P_15号2様式1!W47,0,TRUE))<>P_15号2様式1!W47,RIGHT(FIXED(P_15号2様式1!W47,3,FALSE),4),\"\"))","v":""},{"$f":"IF(P_15号2様式1!AA47<> \"\",TEXT(INT(P_15号2様式1!AA47),\"#,##0\"),\"\")","v":""},{"$f":"IF(P_15号2様式1!AA47= \"\",\"\",IF(VALUE(FIXED(P_15号2様式1!AA47,0,TRUE))<>P_15号2様式1!AA47,RIGHT(FIXED(P_15号2様式1!AA47,3,FALSE),4),\"\"))","v":""},{"$f":"IF(P_15号2様式1!AE47<> \"\",TEXT(INT(P_15号2様式1!AE47),\"#,##0\"),\"\")","v":""},{"$f":"IF(P_15号2様式1!AE47= \"\",\"\",IF(VALUE(FIXED(P_15号2様式1!AE47,0,TRUE))<>P_15号2様式1!AE47,RIGHT(FIXED(P_15号2様式1!AE47,3,FALSE),4),\"\"))","v":""},{"$f":"IF(P_15号2様式1!AI47<> \"\",TEXT(INT(P_15号2様式1!AI47),\"#,##0\"),\"\")","v":""},{"$f":"IF(P_15号2様式1!AI47= \"\",\"\",IF(VALUE(FIXED(P_15号2様式1!AI47,0,TRUE))<>P_15号2様式1!AI47,RIGHT(FIXED(P_15号2様式1!AI47,3,FALSE),4),\"\"))","v":""},{"$f":"IF(P_15号2様式1!AM47<> \"\",TEXT(INT(P_15号2様式1!AM47),\"#,##0\"),\"\")","v":""},{"$f":"IF(P_15号2様式1!AM47= \"\",\"\",IF(VALUE(FIXED(P_15号2様式1!AM47,0,TRUE))<>P_15号2様式1!AM47,RIGHT(FIXED(P_15号2様式1!AM47,3,FALSE),4),\"\"))","v":""},{"$f":"IF(P_15号2様式1!AQ47<> \"\",TEXT(INT(P_15号2様式1!AQ47),\"#,##0\"),\"\")","v":""},{"$f":"IF(P_15号2様式1!AQ47= \"\",\"\",IF(VALUE(FIXED(P_15号2様式1!AQ47,0,TRUE))<>P_15号2様式1!AQ47,RIGHT(FIXED(P_15号2様式1!AQ47,3,FALSE),4),\"\"))","v":""},{"$f":"IF(P_15号2様式1!AU47<> \"\",TEXT(INT(P_15号2様式1!AU47),\"#,##0\"),\"\")","v":""},{"$f":"IF(P_15号2様式1!AU47= \"\",\"\",IF(VALUE(FIXED(P_15号2様式1!AU47,0,TRUE))<>P_15号2様式1!AU47,RIGHT(FIXED(P_15号2様式1!AU47,3,FALSE),4),\"\"))","v":""},{"$f":"IF(P_15号2様式1!AV47<> \"\",TEXT(INT(P_15号2様式1!AV47),\"#,##0\"),\"\")","v":"3,926"},null,{"$f":"IF(P_15号2様式1!AV47= \"\",\"\",IF(VALUE(FIXED(P_15号2様式1!AV47,0,TRUE))<>P_15号2様式1!AV47,RIGHT(FIXED(P_15号2様式1!AV47,3,FALSE),4),\"\"))","v":""}]
[{"$f":"IF(P_15号2様式1!F48=\"\",\"\",P_15号2様式1!F48)","v":"　知名町"},null,{"$f":"IF(P_15号2様式1!G48=\"\",\"\",P_15号2様式1!G48)","v":100},{"$f":"IF(P_15号2様式1!K48<> \"\",TEXT(INT(P_15号2様式1!K48),\"#,##0\"),\"\")","v":"933"},{"$f":"IF(P_15号2様式1!K48= \"\",\"\",IF(VALUE(FIXED(P_15号2様式1!K48,0,TRUE))<>P_15号2様式1!K48,RIGHT(FIXED(P_15号2様式1!K48,3,FALSE),4),\"\"))","v":""},{"$f":"IF(P_15号2様式1!O48<> \"\",TEXT(INT(P_15号2様式1!O48),\"#,##0\"),\"\")","v":"138"},{"$f":"IF(P_15号2様式1!O48= \"\",\"\",IF(VALUE(FIXED(P_15号2様式1!O48,0,TRUE))<>P_15号2様式1!O48,RIGHT(FIXED(P_15号2様式1!O48,3,FALSE),4),\"\"))","v":""},{"$f":"IF(P_15号2様式1!S48<> \"\",TEXT(INT(P_15号2様式1!S48),\"#,##0\"),\"\")","v":"425"},{"$f":"IF(P_15号2様式1!S48= \"\",\"\",IF(VALUE(FIXED(P_15号2様式1!S48,0,TRUE))<>P_15号2様式1!S48,RIGHT(FIXED(P_15号2様式1!S48,3,FALSE),4),\"\"))","v":""},{"$f":"IF(P_15号2様式1!W48<> \"\",TEXT(INT(P_15号2様式1!W48),\"#,##0\"),\"\")","v":"2,004"},{"$f":"IF(P_15号2様式1!W48= \"\",\"\",IF(VALUE(FIXED(P_15号2様式1!W48,0,TRUE))<>P_15号2様式1!W48,RIGHT(FIXED(P_15号2様式1!W48,3,FALSE),4),\"\"))","v":""},{"$f":"IF(P_15号2様式1!AA48<> \"\",TEXT(INT(P_15号2様式1!AA48),\"#,##0\"),\"\")","v":""},{"$f":"IF(P_15号2様式1!AA48= \"\",\"\",IF(VALUE(FIXED(P_15号2様式1!AA48,0,TRUE))<>P_15号2様式1!AA48,RIGHT(FIXED(P_15号2様式1!AA48,3,FALSE),4),\"\"))","v":""},{"$f":"IF(P_15号2様式1!AE48<> \"\",TEXT(INT(P_15号2様式1!AE48),\"#,##0\"),\"\")","v":""},{"$f":"IF(P_15号2様式1!AE48= \"\",\"\",IF(VALUE(FIXED(P_15号2様式1!AE48,0,TRUE))<>P_15号2様式1!AE48,RIGHT(FIXED(P_15号2様式1!AE48,3,FALSE),4),\"\"))","v":""},{"$f":"IF(P_15号2様式1!AI48<> \"\",TEXT(INT(P_15号2様式1!AI48),\"#,##0\"),\"\")","v":""},{"$f":"IF(P_15号2様式1!AI48= \"\",\"\",IF(VALUE(FIXED(P_15号2様式1!AI48,0,TRUE))<>P_15号2様式1!AI48,RIGHT(FIXED(P_15号2様式1!AI48,3,FALSE),4),\"\"))","v":""},{"$f":"IF(P_15号2様式1!AM48<> \"\",TEXT(INT(P_15号2様式1!AM48),\"#,##0\"),\"\")","v":""},{"$f":"IF(P_15号2様式1!AM48= \"\",\"\",IF(VALUE(FIXED(P_15号2様式1!AM48,0,TRUE))<>P_15号2様式1!AM48,RIGHT(FIXED(P_15号2様式1!AM48,3,FALSE),4),\"\"))","v":""},{"$f":"IF(P_15号2様式1!AQ48<> \"\",TEXT(INT(P_15号2様式1!AQ48),\"#,##0\"),\"\")","v":""},{"$f":"IF(P_15号2様式1!AQ48= \"\",\"\",IF(VALUE(FIXED(P_15号2様式1!AQ48,0,TRUE))<>P_15号2様式1!AQ48,RIGHT(FIXED(P_15号2様式1!AQ48,3,FALSE),4),\"\"))","v":""},{"$f":"IF(P_15号2様式1!AU48<> \"\",TEXT(INT(P_15号2様式1!AU48),\"#,##0\"),\"\")","v":""},{"$f":"IF(P_15号2様式1!AU48= \"\",\"\",IF(VALUE(FIXED(P_15号2様式1!AU48,0,TRUE))<>P_15号2様式1!AU48,RIGHT(FIXED(P_15号2様式1!AU48,3,FALSE),4),\"\"))","v":""},{"$f":"IF(P_15号2様式1!AV48<> \"\",TEXT(INT(P_15号2様式1!AV48),\"#,##0\"),\"\")","v":"3,500"},null,{"$f":"IF(P_15号2様式1!AV48= \"\",\"\",IF(VALUE(FIXED(P_15号2様式1!AV48,0,TRUE))<>P_15号2様式1!AV48,RIGHT(FIXED(P_15号2様式1!AV48,3,FALSE),4),\"\"))","v":""}]
[{"$f":"IF(P_15号2様式1!F49=\"\",\"\",P_15号2様式1!F49)","v":"　与論町"},null,{"$f":"IF(P_15号2様式1!G49=\"\",\"\",P_15号2様式1!G49)","v":100},{"$f":"IF(P_15号2様式1!K49<> \"\",TEXT(INT(P_15号2様式1!K49),\"#,##0\"),\"\")","v":"640"},{"$f":"IF(P_15号2様式1!K49= \"\",\"\",IF(VALUE(FIXED(P_15号2様式1!K49,0,TRUE))<>P_15号2様式1!K49,RIGHT(FIXED(P_15号2様式1!K49,3,FALSE),4),\"\"))","v":""},{"$f":"IF(P_15号2様式1!O49<> \"\",TEXT(INT(P_15号2様式1!O49),\"#,##0\"),\"\")","v":"164"},{"$f":"IF(P_15号2様式1!O49= \"\",\"\",IF(VALUE(FIXED(P_15号2様式1!O49,0,TRUE))<>P_15号2様式1!O49,RIGHT(FIXED(P_15号2様式1!O49,3,FALSE),4),\"\"))","v":""},{"$f":"IF(P_15号2様式1!S49<> \"\",TEXT(INT(P_15号2様式1!S49),\"#,##0\"),\"\")","v":"361"},{"$f":"IF(P_15号2様式1!S49= \"\",\"\",IF(VALUE(FIXED(P_15号2様式1!S49,0,TRUE))<>P_15号2様式1!S49,RIGHT(FIXED(P_15号2様式1!S49,3,FALSE),4),\"\"))","v":""},{"$f":"IF(P_15号2様式1!W49<> \"\",TEXT(INT(P_15号2様式1!W49),\"#,##0\"),\"\")","v":"1,845"},{"$f":"IF(P_15号2様式1!W49= \"\",\"\",IF(VALUE(FIXED(P_15号2様式1!W49,0,TRUE))<>P_15号2様式1!W49,RIGHT(FIXED(P_15号2様式1!W49,3,FALSE),4),\"\"))","v":""},{"$f":"IF(P_15号2様式1!AA49<> \"\",TEXT(INT(P_15号2様式1!AA49),\"#,##0\"),\"\")","v":""},{"$f":"IF(P_15号2様式1!AA49= \"\",\"\",IF(VALUE(FIXED(P_15号2様式1!AA49,0,TRUE))<>P_15号2様式1!AA49,RIGHT(FIXED(P_15号2様式1!AA49,3,FALSE),4),\"\"))","v":""},{"$f":"IF(P_15号2様式1!AE49<> \"\",TEXT(INT(P_15号2様式1!AE49),\"#,##0\"),\"\")","v":""},{"$f":"IF(P_15号2様式1!AE49= \"\",\"\",IF(VALUE(FIXED(P_15号2様式1!AE49,0,TRUE))<>P_15号2様式1!AE49,RIGHT(FIXED(P_15号2様式1!AE49,3,FALSE),4),\"\"))","v":""},{"$f":"IF(P_15号2様式1!AI49<> \"\",TEXT(INT(P_15号2様式1!AI49),\"#,##0\"),\"\")","v":""},{"$f":"IF(P_15号2様式1!AI49= \"\",\"\",IF(VALUE(FIXED(P_15号2様式1!AI49,0,TRUE))<>P_15号2様式1!AI49,RIGHT(FIXED(P_15号2様式1!AI49,3,FALSE),4),\"\"))","v":""},{"$f":"IF(P_15号2様式1!AM49<> \"\",TEXT(INT(P_15号2様式1!AM49),\"#,##0\"),\"\")","v":""},{"$f":"IF(P_15号2様式1!AM49= \"\",\"\",IF(VALUE(FIXED(P_15号2様式1!AM49,0,TRUE))<>P_15号2様式1!AM49,RIGHT(FIXED(P_15号2様式1!AM49,3,FALSE),4),\"\"))","v":""},{"$f":"IF(P_15号2様式1!AQ49<> \"\",TEXT(INT(P_15号2様式1!AQ49),\"#,##0\"),\"\")","v":""},{"$f":"IF(P_15号2様式1!AQ49= \"\",\"\",IF(VALUE(FIXED(P_15号2様式1!AQ49,0,TRUE))<>P_15号2様式1!AQ49,RIGHT(FIXED(P_15号2様式1!AQ49,3,FALSE),4),\"\"))","v":""},{"$f":"IF(P_15号2様式1!AU49<> \"\",TEXT(INT(P_15号2様式1!AU49),\"#,##0\"),\"\")","v":""},{"$f":"IF(P_15号2様式1!AU49= \"\",\"\",IF(VALUE(FIXED(P_15号2様式1!AU49,0,TRUE))<>P_15号2様式1!AU49,RIGHT(FIXED(P_15号2様式1!AU49,3,FALSE),4),\"\"))","v":""},{"$f":"IF(P_15号2様式1!AV49<> \"\",TEXT(INT(P_15号2様式1!AV49),\"#,##0\"),\"\")","v":"3,010"},null,{"$f":"IF(P_15号2様式1!AV49= \"\",\"\",IF(VALUE(FIXED(P_15号2様式1!AV49,0,TRUE))<>P_15号2様式1!AV49,RIGHT(FIXED(P_15号2様式1!AV49,3,FALSE),4),\"\"))","v":""}]
[{"$f":"IF(P_15号2様式1!F50=\"\",\"\",P_15号2様式1!F50)","v":"＊（大島郡）計"},null,{"$f":"IF(P_15号2様式1!G50=\"\",\"\",P_15号2様式1!G50)","v":100},{"$f":"IF(P_15号2様式1!K50<> \"\",TEXT(INT(P_15号2様式1!K50),\"#,##0\"),\"\")","v":"11,617"},{"$f":"IF(P_15号2様式1!K50= \"\",\"\",IF(VALUE(FIXED(P_15号2様式1!K50,0,TRUE))<>P_15号2様式1!K50,RIGHT(FIXED(P_15号2様式1!K50,3,FALSE),4),\"\"))","v":""},{"$f":"IF(P_15号2様式1!O50<> \"\",TEXT(INT(P_15号2様式1!O50),\"#,##0\"),\"\")","v":"1,889"},{"$f":"IF(P_15号2様式1!O50= \"\",\"\",IF(VALUE(FIXED(P_15号2様式1!O50,0,TRUE))<>P_15号2様式1!O50,RIGHT(FIXED(P_15号2様式1!O50,3,FALSE),4),\"\"))","v":""},{"$f":"IF(P_15号2様式1!S50<> \"\",TEXT(INT(P_15号2様式1!S50),\"#,##0\"),\"\")","v":"3,748"},{"$f":"IF(P_15号2様式1!S50= \"\",\"\",IF(VALUE(FIXED(P_15号2様式1!S50,0,TRUE))<>P_15号2様式1!S50,RIGHT(FIXED(P_15号2様式1!S50,3,FALSE),4),\"\"))","v":""},{"$f":"IF(P_15号2様式1!W50<> \"\",TEXT(INT(P_15号2様式1!W50),\"#,##0\"),\"\")","v":"23,684"},{"$f":"IF(P_15号2様式1!W50= \"\",\"\",IF(VALUE(FIXED(P_15号2様式1!W50,0,TRUE))<>P_15号2様式1!W50,RIGHT(FIXED(P_15号2様式1!W50,3,FALSE),4),\"\"))","v":""},{"$f":"IF(P_15号2様式1!AA50<> \"\",TEXT(INT(P_15号2様式1!AA50),\"#,##0\"),\"\")","v":""},{"$f":"IF(P_15号2様式1!AA50= \"\",\"\",IF(VALUE(FIXED(P_15号2様式1!AA50,0,TRUE))<>P_15号2様式1!AA50,RIGHT(FIXED(P_15号2様式1!AA50,3,FALSE),4),\"\"))","v":""},{"$f":"IF(P_15号2様式1!AE50<> \"\",TEXT(INT(P_15号2様式1!AE50),\"#,##0\"),\"\")","v":""},{"$f":"IF(P_15号2様式1!AE50= \"\",\"\",IF(VALUE(FIXED(P_15号2様式1!AE50,0,TRUE))<>P_15号2様式1!AE50,RIGHT(FIXED(P_15号2様式1!AE50,3,FALSE),4),\"\"))","v":""},{"$f":"IF(P_15号2様式1!AI50<> \"\",TEXT(INT(P_15号2様式1!AI50),\"#,##0\"),\"\")","v":""},{"$f":"IF(P_15号2様式1!AI50= \"\",\"\",IF(VALUE(FIXED(P_15号2様式1!AI50,0,TRUE))<>P_15号2様式1!AI50,RIGHT(FIXED(P_15号2様式1!AI50,3,FALSE),4),\"\"))","v":""},{"$f":"IF(P_15号2様式1!AM50<> \"\",TEXT(INT(P_15号2様式1!AM50),\"#,##0\"),\"\")","v":""},{"$f":"IF(P_15号2様式1!AM50= \"\",\"\",IF(VALUE(FIXED(P_15号2様式1!AM50,0,TRUE))<>P_15号2様式1!AM50,RIGHT(FIXED(P_15号2様式1!AM50,3,FALSE),4),\"\"))","v":""},{"$f":"IF(P_15号2様式1!AQ50<> \"\",TEXT(INT(P_15号2様式1!AQ50),\"#,##0\"),\"\")","v":""},{"$f":"IF(P_15号2様式1!AQ50= \"\",\"\",IF(VALUE(FIXED(P_15号2様式1!AQ50,0,TRUE))<>P_15号2様式1!AQ50,RIGHT(FIXED(P_15号2様式1!AQ50,3,FALSE),4),\"\"))","v":""},{"$f":"IF(P_15号2様式1!AU50<> \"\",TEXT(INT(P_15号2様式1!AU50),\"#,##0\"),\"\")","v":""},{"$f":"IF(P_15号2様式1!AU50= \"\",\"\",IF(VALUE(FIXED(P_15号2様式1!AU50,0,TRUE))<>P_15号2様式1!AU50,RIGHT(FIXED(P_15号2様式1!AU50,3,FALSE),4),\"\"))","v":""},{"$f":"IF(P_15号2様式1!AV50<> \"\",TEXT(INT(P_15号2様式1!AV50),\"#,##0\"),\"\")","v":"40,938"},null,{"$f":"IF(P_15号2様式1!AV50= \"\",\"\",IF(VALUE(FIXED(P_15号2様式1!AV50,0,TRUE))<>P_15号2様式1!AV50,RIGHT(FIXED(P_15号2様式1!AV50,3,FALSE),4),\"\"))","v":""}]
[{"$f":"IF(P_15号2様式1!F51=\"\",\"\",P_15号2様式1!F51)","v":"＊郡　部   計"},null,{"$f":"IF(P_15号2様式1!G51=\"\",\"\",P_15号2様式1!G51)","v":100},{"$f":"IF(P_15号2様式1!K51<> \"\",TEXT(INT(P_15号2様式1!K51),\"#,##0\"),\"\")","v":"11,617"},{"$f":"IF(P_15号2様式1!K51= \"\",\"\",IF(VALUE(FIXED(P_15号2様式1!K51,0,TRUE))<>P_15号2様式1!K51,RIGHT(FIXED(P_15号2様式1!K51,3,FALSE),4),\"\"))","v":""},{"$f":"IF(P_15号2様式1!O51<> \"\",TEXT(INT(P_15号2様式1!O51),\"#,##0\"),\"\")","v":"1,889"},{"$f":"IF(P_15号2様式1!O51= \"\",\"\",IF(VALUE(FIXED(P_15号2様式1!O51,0,TRUE))<>P_15号2様式1!O51,RIGHT(FIXED(P_15号2様式1!O51,3,FALSE),4),\"\"))","v":""},{"$f":"IF(P_15号2様式1!S51<> \"\",TEXT(INT(P_15号2様式1!S51),\"#,##0\"),\"\")","v":"3,748"},{"$f":"IF(P_15号2様式1!S51= \"\",\"\",IF(VALUE(FIXED(P_15号2様式1!S51,0,TRUE))<>P_15号2様式1!S51,RIGHT(FIXED(P_15号2様式1!S51,3,FALSE),4),\"\"))","v":""},{"$f":"IF(P_15号2様式1!W51<> \"\",TEXT(INT(P_15号2様式1!W51),\"#,##0\"),\"\")","v":"23,684"},{"$f":"IF(P_15号2様式1!W51= \"\",\"\",IF(VALUE(FIXED(P_15号2様式1!W51,0,TRUE))<>P_15号2様式1!W51,RIGHT(FIXED(P_15号2様式1!W51,3,FALSE),4),\"\"))","v":""},{"$f":"IF(P_15号2様式1!AA51<> \"\",TEXT(INT(P_15号2様式1!AA51),\"#,##0\"),\"\")","v":""},{"$f":"IF(P_15号2様式1!AA51= \"\",\"\",IF(VALUE(FIXED(P_15号2様式1!AA51,0,TRUE))<>P_15号2様式1!AA51,RIGHT(FIXED(P_15号2様式1!AA51,3,FALSE),4),\"\"))","v":""},{"$f":"IF(P_15号2様式1!AE51<> \"\",TEXT(INT(P_15号2様式1!AE51),\"#,##0\"),\"\")","v":""},{"$f":"IF(P_15号2様式1!AE51= \"\",\"\",IF(VALUE(FIXED(P_15号2様式1!AE51,0,TRUE))<>P_15号2様式1!AE51,RIGHT(FIXED(P_15号2様式1!AE51,3,FALSE),4),\"\"))","v":""},{"$f":"IF(P_15号2様式1!AI51<> \"\",TEXT(INT(P_15号2様式1!AI51),\"#,##0\"),\"\")","v":""},{"$f":"IF(P_15号2様式1!AI51= \"\",\"\",IF(VALUE(FIXED(P_15号2様式1!AI51,0,TRUE))<>P_15号2様式1!AI51,RIGHT(FIXED(P_15号2様式1!AI51,3,FALSE),4),\"\"))","v":""},{"$f":"IF(P_15号2様式1!AM51<> \"\",TEXT(INT(P_15号2様式1!AM51),\"#,##0\"),\"\")","v":""},{"$f":"IF(P_15号2様式1!AM51= \"\",\"\",IF(VALUE(FIXED(P_15号2様式1!AM51,0,TRUE))<>P_15号2様式1!AM51,RIGHT(FIXED(P_15号2様式1!AM51,3,FALSE),4),\"\"))","v":""},{"$f":"IF(P_15号2様式1!AQ51<> \"\",TEXT(INT(P_15号2様式1!AQ51),\"#,##0\"),\"\")","v":""},{"$f":"IF(P_15号2様式1!AQ51= \"\",\"\",IF(VALUE(FIXED(P_15号2様式1!AQ51,0,TRUE))<>P_15号2様式1!AQ51,RIGHT(FIXED(P_15号2様式1!AQ51,3,FALSE),4),\"\"))","v":""},{"$f":"IF(P_15号2様式1!AU51<> \"\",TEXT(INT(P_15号2様式1!AU51),\"#,##0\"),\"\")","v":""},{"$f":"IF(P_15号2様式1!AU51= \"\",\"\",IF(VALUE(FIXED(P_15号2様式1!AU51,0,TRUE))<>P_15号2様式1!AU51,RIGHT(FIXED(P_15号2様式1!AU51,3,FALSE),4),\"\"))","v":""},{"$f":"IF(P_15号2様式1!AV51<> \"\",TEXT(INT(P_15号2様式1!AV51),\"#,##0\"),\"\")","v":"40,938"},null,{"$f":"IF(P_15号2様式1!AV51= \"\",\"\",IF(VALUE(FIXED(P_15号2様式1!AV51,0,TRUE))<>P_15号2様式1!AV51,RIGHT(FIXED(P_15号2様式1!AV51,3,FALSE),4),\"\"))","v":""}]
[{"$f":"IF(P_15号2様式1!F52=\"\",\"\",P_15号2様式1!F52)","v":"＊第 ２ 区 計"},null,{"$f":"IF(P_15号2様式1!G52=\"\",\"\",P_15号2様式1!G52)","v":84.566915430525299},{"$f":"IF(P_15号2様式1!K52<> \"\",TEXT(INT(P_15号2様式1!K52),\"#,##0\"),\"\")","v":"28,644"},{"$f":"IF(P_15号2様式1!K52= \"\",\"\",IF(VALUE(FIXED(P_15号2様式1!K52,0,TRUE))<>P_15号2様式1!K52,RIGHT(FIXED(P_15号2様式1!K52,3,FALSE),4),\"\"))","v":""},{"$f":"IF(P_15号2様式1!O52<> \"\",TEXT(INT(P_15号2様式1!O52),\"#,##0\"),\"\")","v":"12,593"},{"$f":"IF(P_15号2様式1!O52= \"\",\"\",IF(VALUE(FIXED(P_15号2様式1!O52,0,TRUE))<>P_15号2様式1!O52,RIGHT(FIXED(P_15号2様式1!O52,3,FALSE),4),\"\"))","v":""},{"$f":"IF(P_15号2様式1!S52<> \"\",TEXT(INT(P_15号2様式1!S52),\"#,##0\"),\"\")","v":"41,519"},{"$f":"IF(P_15号2様式1!S52= \"\",\"\",IF(VALUE(FIXED(P_15号2様式1!S52,0,TRUE))<>P_15号2様式1!S52,RIGHT(FIXED(P_15号2様式1!S52,3,FALSE),4),\"\"))","v":""},{"$f":"IF(P_15号2様式1!W52<> \"\",TEXT(INT(P_15号2様式1!W52),\"#,##0\"),\"\")","v":"79,491"},{"$f":"IF(P_15号2様式1!W52= \"\",\"\",IF(VALUE(FIXED(P_15号2様式1!W52,0,TRUE))<>P_15号2様式1!W52,RIGHT(FIXED(P_15号2様式1!W52,3,FALSE),4),\"\"))","v":""},{"$f":"IF(P_15号2様式1!AA52<> \"\",TEXT(INT(P_15号2様式1!AA52),\"#,##0\"),\"\")","v":""},{"$f":"IF(P_15号2様式1!AA52= \"\",\"\",IF(VALUE(FIXED(P_15号2様式1!AA52,0,TRUE))<>P_15号2様式1!AA52,RIGHT(FIXED(P_15号2様式1!AA52,3,FALSE),4),\"\"))","v":""},{"$f":"IF(P_15号2様式1!AE52<> \"\",TEXT(INT(P_15号2様式1!AE52),\"#,##0\"),\"\")","v":""},{"$f":"IF(P_15号2様式1!AE52= \"\",\"\",IF(VALUE(FIXED(P_15号2様式1!AE52,0,TRUE))<>P_15号2様式1!AE52,RIGHT(FIXED(P_15号2様式1!AE52,3,FALSE),4),\"\"))","v":""},{"$f":"IF(P_15号2様式1!AI52<> \"\",TEXT(INT(P_15号2様式1!AI52),\"#,##0\"),\"\")","v":""},{"$f":"IF(P_15号2様式1!AI52= \"\",\"\",IF(VALUE(FIXED(P_15号2様式1!AI52,0,TRUE))<>P_15号2様式1!AI52,RIGHT(FIXED(P_15号2様式1!AI52,3,FALSE),4),\"\"))","v":""},{"$f":"IF(P_15号2様式1!AM52<> \"\",TEXT(INT(P_15号2様式1!AM52),\"#,##0\"),\"\")","v":""},{"$f":"IF(P_15号2様式1!AM52= \"\",\"\",IF(VALUE(FIXED(P_15号2様式1!AM52,0,TRUE))<>P_15号2様式1!AM52,RIGHT(FIXED(P_15号2様式1!AM52,3,FALSE),4),\"\"))","v":""},{"$f":"IF(P_15号2様式1!AQ52<> \"\",TEXT(INT(P_15号2様式1!AQ52),\"#,##0\"),\"\")","v":""},{"$f":"IF(P_15号2様式1!AQ52= \"\",\"\",IF(VALUE(FIXED(P_15号2様式1!AQ52,0,TRUE))<>P_15号2様式1!AQ52,RIGHT(FIXED(P_15号2様式1!AQ52,3,FALSE),4),\"\"))","v":""},{"$f":"IF(P_15号2様式1!AU52<> \"\",TEXT(INT(P_15号2様式1!AU52),\"#,##0\"),\"\")","v":""},{"$f":"IF(P_15号2様式1!AU52= \"\",\"\",IF(VALUE(FIXED(P_15号2様式1!AU52,0,TRUE))<>P_15号2様式1!AU52,RIGHT(FIXED(P_15号2様式1!AU52,3,FALSE),4),\"\"))","v":""},{"$f":"IF(P_15号2様式1!AV52<> \"\",TEXT(INT(P_15号2様式1!AV52),\"#,##0\"),\"\")","v":"162,247"},null,{"$f":"IF(P_15号2様式1!AV52= \"\",\"\",IF(VALUE(FIXED(P_15号2様式1!AV52,0,TRUE))<>P_15号2様式1!AV52,RIGHT(FIXED(P_15号2様式1!AV52,3,FALSE),4),\"\"))","v":""}]
[{"$f":"IF(P_15号2様式1!F53=\"\",\"\",P_15号2様式1!F53)","v":""},null,{"$f":"IF(P_15号2様式1!G53=\"\",\"\",P_15号2様式1!G53)","v":""},{"$f":"IF(P_15号2様式1!K53<> \"\",TEXT(INT(P_15号2様式1!K53),\"#,##0\"),\"\")","v":""},{"$f":"IF(P_15号2様式1!K53= \"\",\"\",IF(VALUE(FIXED(P_15号2様式1!K53,0,TRUE))<>P_15号2様式1!K53,RIGHT(FIXED(P_15号2様式1!K53,3,FALSE),4),\"\"))","v":""},{"$f":"IF(P_15号2様式1!O53<> \"\",TEXT(INT(P_15号2様式1!O53),\"#,##0\"),\"\")","v":""},{"$f":"IF(P_15号2様式1!O53= \"\",\"\",IF(VALUE(FIXED(P_15号2様式1!O53,0,TRUE))<>P_15号2様式1!O53,RIGHT(FIXED(P_15号2様式1!O53,3,FALSE),4),\"\"))","v":""},{"$f":"IF(P_15号2様式1!S53<> \"\",TEXT(INT(P_15号2様式1!S53),\"#,##0\"),\"\")","v":""},{"$f":"IF(P_15号2様式1!S53= \"\",\"\",IF(VALUE(FIXED(P_15号2様式1!S53,0,TRUE))<>P_15号2様式1!S53,RIGHT(FIXED(P_15号2様式1!S53,3,FALSE),4),\"\"))","v":""},{"$f":"IF(P_15号2様式1!W53<> \"\",TEXT(INT(P_15号2様式1!W53),\"#,##0\"),\"\")","v":""},{"$f":"IF(P_15号2様式1!W53= \"\",\"\",IF(VALUE(FIXED(P_15号2様式1!W53,0,TRUE))<>P_15号2様式1!W53,RIGHT(FIXED(P_15号2様式1!W53,3,FALSE),4),\"\"))","v":""},{"$f":"IF(P_15号2様式1!AA53<> \"\",TEXT(INT(P_15号2様式1!AA53),\"#,##0\"),\"\")","v":""},{"$f":"IF(P_15号2様式1!AA53= \"\",\"\",IF(VALUE(FIXED(P_15号2様式1!AA53,0,TRUE))<>P_15号2様式1!AA53,RIGHT(FIXED(P_15号2様式1!AA53,3,FALSE),4),\"\"))","v":""},{"$f":"IF(P_15号2様式1!AE53<> \"\",TEXT(INT(P_15号2様式1!AE53),\"#,##0\"),\"\")","v":""},{"$f":"IF(P_15号2様式1!AE53= \"\",\"\",IF(VALUE(FIXED(P_15号2様式1!AE53,0,TRUE))<>P_15号2様式1!AE53,RIGHT(FIXED(P_15号2様式1!AE53,3,FALSE),4),\"\"))","v":""},{"$f":"IF(P_15号2様式1!AI53<> \"\",TEXT(INT(P_15号2様式1!AI53),\"#,##0\"),\"\")","v":""},{"$f":"IF(P_15号2様式1!AI53= \"\",\"\",IF(VALUE(FIXED(P_15号2様式1!AI53,0,TRUE))<>P_15号2様式1!AI53,RIGHT(FIXED(P_15号2様式1!AI53,3,FALSE),4),\"\"))","v":""},{"$f":"IF(P_15号2様式1!AM53<> \"\",TEXT(INT(P_15号2様式1!AM53),\"#,##0\"),\"\")","v":""},{"$f":"IF(P_15号2様式1!AM53= \"\",\"\",IF(VALUE(FIXED(P_15号2様式1!AM53,0,TRUE))<>P_15号2様式1!AM53,RIGHT(FIXED(P_15号2様式1!AM53,3,FALSE),4),\"\"))","v":""},{"$f":"IF(P_15号2様式1!AQ53<> \"\",TEXT(INT(P_15号2様式1!AQ53),\"#,##0\"),\"\")","v":""},{"$f":"IF(P_15号2様式1!AQ53= \"\",\"\",IF(VALUE(FIXED(P_15号2様式1!AQ53,0,TRUE))<>P_15号2様式1!AQ53,RIGHT(FIXED(P_15号2様式1!AQ53,3,FALSE),4),\"\"))","v":""},{"$f":"IF(P_15号2様式1!AU53<> \"\",TEXT(INT(P_15号2様式1!AU53),\"#,##0\"),\"\")","v":""},{"$f":"IF(P_15号2様式1!AU53= \"\",\"\",IF(VALUE(FIXED(P_15号2様式1!AU53,0,TRUE))<>P_15号2様式1!AU53,RIGHT(FIXED(P_15号2様式1!AU53,3,FALSE),4),\"\"))","v":""},{"$f":"IF(P_15号2様式1!AV53<> \"\",TEXT(INT(P_15号2様式1!AV53),\"#,##0\"),\"\")","v":""},null,{"$f":"IF(P_15号2様式1!AV53= \"\",\"\",IF(VALUE(FIXED(P_15号2様式1!AV53,0,TRUE))<>P_15号2様式1!AV53,RIGHT(FIXED(P_15号2様式1!AV53,3,FALSE),4),\"\"))","v":""}]
[{"$f":"IF(P_15号2様式1!F54=\"\",\"\",P_15号2様式1!F54)","v":""},null,{"$f":"IF(P_15号2様式1!G54=\"\",\"\",P_15号2様式1!G54)","v":""},{"$f":"IF(P_15号2様式1!K54<> \"\",TEXT(INT(P_15号2様式1!K54),\"#,##0\"),\"\")","v":""},{"$f":"IF(P_15号2様式1!K54= \"\",\"\",IF(VALUE(FIXED(P_15号2様式1!K54,0,TRUE))<>P_15号2様式1!K54,RIGHT(FIXED(P_15号2様式1!K54,3,FALSE),4),\"\"))","v":""},{"$f":"IF(P_15号2様式1!O54<> \"\",TEXT(INT(P_15号2様式1!O54),\"#,##0\"),\"\")","v":""},{"$f":"IF(P_15号2様式1!O54= \"\",\"\",IF(VALUE(FIXED(P_15号2様式1!O54,0,TRUE))<>P_15号2様式1!O54,RIGHT(FIXED(P_15号2様式1!O54,3,FALSE),4),\"\"))","v":""},{"$f":"IF(P_15号2様式1!S54<> \"\",TEXT(INT(P_15号2様式1!S54),\"#,##0\"),\"\")","v":""},{"$f":"IF(P_15号2様式1!S54= \"\",\"\",IF(VALUE(FIXED(P_15号2様式1!S54,0,TRUE))<>P_15号2様式1!S54,RIGHT(FIXED(P_15号2様式1!S54,3,FALSE),4),\"\"))","v":""},{"$f":"IF(P_15号2様式1!W54<> \"\",TEXT(INT(P_15号2様式1!W54),\"#,##0\"),\"\")","v":""},{"$f":"IF(P_15号2様式1!W54= \"\",\"\",IF(VALUE(FIXED(P_15号2様式1!W54,0,TRUE))<>P_15号2様式1!W54,RIGHT(FIXED(P_15号2様式1!W54,3,FALSE),4),\"\"))","v":""},{"$f":"IF(P_15号2様式1!AA54<> \"\",TEXT(INT(P_15号2様式1!AA54),\"#,##0\"),\"\")","v":""},{"$f":"IF(P_15号2様式1!AA54= \"\",\"\",IF(VALUE(FIXED(P_15号2様式1!AA54,0,TRUE))<>P_15号2様式1!AA54,RIGHT(FIXED(P_15号2様式1!AA54,3,FALSE),4),\"\"))","v":""},{"$f":"IF(P_15号2様式1!AE54<> \"\",TEXT(INT(P_15号2様式1!AE54),\"#,##0\"),\"\")","v":""},{"$f":"IF(P_15号2様式1!AE54= \"\",\"\",IF(VALUE(FIXED(P_15号2様式1!AE54,0,TRUE))<>P_15号2様式1!AE54,RIGHT(FIXED(P_15号2様式1!AE54,3,FALSE),4),\"\"))","v":""},{"$f":"IF(P_15号2様式1!AI54<> \"\",TEXT(INT(P_15号2様式1!AI54),\"#,##0\"),\"\")","v":""},{"$f":"IF(P_15号2様式1!AI54= \"\",\"\",IF(VALUE(FIXED(P_15号2様式1!AI54,0,TRUE))<>P_15号2様式1!AI54,RIGHT(FIXED(P_15号2様式1!AI54,3,FALSE),4),\"\"))","v":""},{"$f":"IF(P_15号2様式1!AM54<> \"\",TEXT(INT(P_15号2様式1!AM54),\"#,##0\"),\"\")","v":""},{"$f":"IF(P_15号2様式1!AM54= \"\",\"\",IF(VALUE(FIXED(P_15号2様式1!AM54,0,TRUE))<>P_15号2様式1!AM54,RIGHT(FIXED(P_15号2様式1!AM54,3,FALSE),4),\"\"))","v":""},{"$f":"IF(P_15号2様式1!AQ54<> \"\",TEXT(INT(P_15号2様式1!AQ54),\"#,##0\"),\"\")","v":""},{"$f":"IF(P_15号2様式1!AQ54= \"\",\"\",IF(VALUE(FIXED(P_15号2様式1!AQ54,0,TRUE))<>P_15号2様式1!AQ54,RIGHT(FIXED(P_15号2様式1!AQ54,3,FALSE),4),\"\"))","v":""},{"$f":"IF(P_15号2様式1!AU54<> \"\",TEXT(INT(P_15号2様式1!AU54),\"#,##0\"),\"\")","v":""},{"$f":"IF(P_15号2様式1!AU54= \"\",\"\",IF(VALUE(FIXED(P_15号2様式1!AU54,0,TRUE))<>P_15号2様式1!AU54,RIGHT(FIXED(P_15号2様式1!AU54,3,FALSE),4),\"\"))","v":""},{"$f":"IF(P_15号2様式1!AV54<> \"\",TEXT(INT(P_15号2様式1!AV54),\"#,##0\"),\"\")","v":""},null,{"$f":"IF(P_15号2様式1!AV54= \"\",\"\",IF(VALUE(FIXED(P_15号2様式1!AV54,0,TRUE))<>P_15号2様式1!AV54,RIGHT(FIXED(P_15号2様式1!AV54,3,FALSE),4),\"\"))","v":""}]
[{"$f":"IF(P_15号2様式1!F55=\"\",\"\",P_15号2様式1!F55)","v":""},null,{"$f":"IF(P_15号2様式1!G55=\"\",\"\",P_15号2様式1!G55)","v":""},{"$f":"IF(P_15号2様式1!K55<> \"\",TEXT(INT(P_15号2様式1!K55),\"#,##0\"),\"\")","v":""},{"$f":"IF(P_15号2様式1!K55= \"\",\"\",IF(VALUE(FIXED(P_15号2様式1!K55,0,TRUE))<>P_15号2様式1!K55,RIGHT(FIXED(P_15号2様式1!K55,3,FALSE),4),\"\"))","v":""},{"$f":"IF(P_15号2様式1!O55<> \"\",TEXT(INT(P_15号2様式1!O55),\"#,##0\"),\"\")","v":""},{"$f":"IF(P_15号2様式1!O55= \"\",\"\",IF(VALUE(FIXED(P_15号2様式1!O55,0,TRUE))<>P_15号2様式1!O55,RIGHT(FIXED(P_15号2様式1!O55,3,FALSE),4),\"\"))","v":""},{"$f":"IF(P_15号2様式1!S55<> \"\",TEXT(INT(P_15号2様式1!S55),\"#,##0\"),\"\")","v":""},{"$f":"IF(P_15号2様式1!S55= \"\",\"\",IF(VALUE(FIXED(P_15号2様式1!S55,0,TRUE))<>P_15号2様式1!S55,RIGHT(FIXED(P_15号2様式1!S55,3,FALSE),4),\"\"))","v":""},{"$f":"IF(P_15号2様式1!W55<> \"\",TEXT(INT(P_15号2様式1!W55),\"#,##0\"),\"\")","v":""},{"$f":"IF(P_15号2様式1!W55= \"\",\"\",IF(VALUE(FIXED(P_15号2様式1!W55,0,TRUE))<>P_15号2様式1!W55,RIGHT(FIXED(P_15号2様式1!W55,3,FALSE),4),\"\"))","v":""},{"$f":"IF(P_15号2様式1!AA55<> \"\",TEXT(INT(P_15号2様式1!AA55),\"#,##0\"),\"\")","v":""},{"$f":"IF(P_15号2様式1!AA55= \"\",\"\",IF(VALUE(FIXED(P_15号2様式1!AA55,0,TRUE))<>P_15号2様式1!AA55,RIGHT(FIXED(P_15号2様式1!AA55,3,FALSE),4),\"\"))","v":""},{"$f":"IF(P_15号2様式1!AE55<> \"\",TEXT(INT(P_15号2様式1!AE55),\"#,##0\"),\"\")","v":""},{"$f":"IF(P_15号2様式1!AE55= \"\",\"\",IF(VALUE(FIXED(P_15号2様式1!AE55,0,TRUE))<>P_15号2様式1!AE55,RIGHT(FIXED(P_15号2様式1!AE55,3,FALSE),4),\"\"))","v":""},{"$f":"IF(P_15号2様式1!AI55<> \"\",TEXT(INT(P_15号2様式1!AI55),\"#,##0\"),\"\")","v":""},{"$f":"IF(P_15号2様式1!AI55= \"\",\"\",IF(VALUE(FIXED(P_15号2様式1!AI55,0,TRUE))<>P_15号2様式1!AI55,RIGHT(FIXED(P_15号2様式1!AI55,3,FALSE),4),\"\"))","v":""},{"$f":"IF(P_15号2様式1!AM55<> \"\",TEXT(INT(P_15号2様式1!AM55),\"#,##0\"),\"\")","v":""},{"$f":"IF(P_15号2様式1!AM55= \"\",\"\",IF(VALUE(FIXED(P_15号2様式1!AM55,0,TRUE))<>P_15号2様式1!AM55,RIGHT(FIXED(P_15号2様式1!AM55,3,FALSE),4),\"\"))","v":""},{"$f":"IF(P_15号2様式1!AQ55<> \"\",TEXT(INT(P_15号2様式1!AQ55),\"#,##0\"),\"\")","v":""},{"$f":"IF(P_15号2様式1!AQ55= \"\",\"\",IF(VALUE(FIXED(P_15号2様式1!AQ55,0,TRUE))<>P_15号2様式1!AQ55,RIGHT(FIXED(P_15号2様式1!AQ55,3,FALSE),4),\"\"))","v":""},{"$f":"IF(P_15号2様式1!AU55<> \"\",TEXT(INT(P_15号2様式1!AU55),\"#,##0\"),\"\")","v":""},{"$f":"IF(P_15号2様式1!AU55= \"\",\"\",IF(VALUE(FIXED(P_15号2様式1!AU55,0,TRUE))<>P_15号2様式1!AU55,RIGHT(FIXED(P_15号2様式1!AU55,3,FALSE),4),\"\"))","v":""},{"$f":"IF(P_15号2様式1!AV55<> \"\",TEXT(INT(P_15号2様式1!AV55),\"#,##0\"),\"\")","v":""},null,{"$f":"IF(P_15号2様式1!AV55= \"\",\"\",IF(VALUE(FIXED(P_15号2様式1!AV55,0,TRUE))<>P_15号2様式1!AV55,RIGHT(FIXED(P_15号2様式1!AV55,3,FALSE),4),\"\"))","v":""}]
[{"$f":"IF(P_15号2様式1!F56=\"\",\"\",P_15号2様式1!F56)","v":""},null,{"$f":"IF(P_15号2様式1!G56=\"\",\"\",P_15号2様式1!G56)","v":""},{"$f":"IF(P_15号2様式1!K56<> \"\",TEXT(INT(P_15号2様式1!K56),\"#,##0\"),\"\")","v":""},{"$f":"IF(P_15号2様式1!K56= \"\",\"\",IF(VALUE(FIXED(P_15号2様式1!K56,0,TRUE))<>P_15号2様式1!K56,RIGHT(FIXED(P_15号2様式1!K56,3,FALSE),4),\"\"))","v":""},{"$f":"IF(P_15号2様式1!O56<> \"\",TEXT(INT(P_15号2様式1!O56),\"#,##0\"),\"\")","v":""},{"$f":"IF(P_15号2様式1!O56= \"\",\"\",IF(VALUE(FIXED(P_15号2様式1!O56,0,TRUE))<>P_15号2様式1!O56,RIGHT(FIXED(P_15号2様式1!O56,3,FALSE),4),\"\"))","v":""},{"$f":"IF(P_15号2様式1!S56<> \"\",TEXT(INT(P_15号2様式1!S56),\"#,##0\"),\"\")","v":""},{"$f":"IF(P_15号2様式1!S56= \"\",\"\",IF(VALUE(FIXED(P_15号2様式1!S56,0,TRUE))<>P_15号2様式1!S56,RIGHT(FIXED(P_15号2様式1!S56,3,FALSE),4),\"\"))","v":""},{"$f":"IF(P_15号2様式1!W56<> \"\",TEXT(INT(P_15号2様式1!W56),\"#,##0\"),\"\")","v":""},{"$f":"IF(P_15号2様式1!W56= \"\",\"\",IF(VALUE(FIXED(P_15号2様式1!W56,0,TRUE))<>P_15号2様式1!W56,RIGHT(FIXED(P_15号2様式1!W56,3,FALSE),4),\"\"))","v":""},{"$f":"IF(P_15号2様式1!AA56<> \"\",TEXT(INT(P_15号2様式1!AA56),\"#,##0\"),\"\")","v":""},{"$f":"IF(P_15号2様式1!AA56= \"\",\"\",IF(VALUE(FIXED(P_15号2様式1!AA56,0,TRUE))<>P_15号2様式1!AA56,RIGHT(FIXED(P_15号2様式1!AA56,3,FALSE),4),\"\"))","v":""},{"$f":"IF(P_15号2様式1!AE56<> \"\",TEXT(INT(P_15号2様式1!AE56),\"#,##0\"),\"\")","v":""},{"$f":"IF(P_15号2様式1!AE56= \"\",\"\",IF(VALUE(FIXED(P_15号2様式1!AE56,0,TRUE))<>P_15号2様式1!AE56,RIGHT(FIXED(P_15号2様式1!AE56,3,FALSE),4),\"\"))","v":""},{"$f":"IF(P_15号2様式1!AI56<> \"\",TEXT(INT(P_15号2様式1!AI56),\"#,##0\"),\"\")","v":""},{"$f":"IF(P_15号2様式1!AI56= \"\",\"\",IF(VALUE(FIXED(P_15号2様式1!AI56,0,TRUE))<>P_15号2様式1!AI56,RIGHT(FIXED(P_15号2様式1!AI56,3,FALSE),4),\"\"))","v":""},{"$f":"IF(P_15号2様式1!AM56<> \"\",TEXT(INT(P_15号2様式1!AM56),\"#,##0\"),\"\")","v":""},{"$f":"IF(P_15号2様式1!AM56= \"\",\"\",IF(VALUE(FIXED(P_15号2様式1!AM56,0,TRUE))<>P_15号2様式1!AM56,RIGHT(FIXED(P_15号2様式1!AM56,3,FALSE),4),\"\"))","v":""},{"$f":"IF(P_15号2様式1!AQ56<> \"\",TEXT(INT(P_15号2様式1!AQ56),\"#,##0\"),\"\")","v":""},{"$f":"IF(P_15号2様式1!AQ56= \"\",\"\",IF(VALUE(FIXED(P_15号2様式1!AQ56,0,TRUE))<>P_15号2様式1!AQ56,RIGHT(FIXED(P_15号2様式1!AQ56,3,FALSE),4),\"\"))","v":""},{"$f":"IF(P_15号2様式1!AU56<> \"\",TEXT(INT(P_15号2様式1!AU56),\"#,##0\"),\"\")","v":""},{"$f":"IF(P_15号2様式1!AU56= \"\",\"\",IF(VALUE(FIXED(P_15号2様式1!AU56,0,TRUE))<>P_15号2様式1!AU56,RIGHT(FIXED(P_15号2様式1!AU56,3,FALSE),4),\"\"))","v":""},{"$f":"IF(P_15号2様式1!AV56<> \"\",TEXT(INT(P_15号2様式1!AV56),\"#,##0\"),\"\")","v":""},null,{"$f":"IF(P_15号2様式1!AV56= \"\",\"\",IF(VALUE(FIXED(P_15号2様式1!AV56,0,TRUE))<>P_15号2様式1!AV56,RIGHT(FIXED(P_15号2様式1!AV56,3,FALSE),4),\"\"))","v":""}]
[{"$f":"IF(P_15号2様式1!F57=\"\",\"\",P_15号2様式1!F57)","v":""},null,{"$f":"IF(P_15号2様式1!G57=\"\",\"\",P_15号2様式1!G57)","v":""},{"$f":"IF(P_15号2様式1!K57<> \"\",TEXT(INT(P_15号2様式1!K57),\"#,##0\"),\"\")","v":""},{"$f":"IF(P_15号2様式1!K57= \"\",\"\",IF(VALUE(FIXED(P_15号2様式1!K57,0,TRUE))<>P_15号2様式1!K57,RIGHT(FIXED(P_15号2様式1!K57,3,FALSE),4),\"\"))","v":""},{"$f":"IF(P_15号2様式1!O57<> \"\",TEXT(INT(P_15号2様式1!O57),\"#,##0\"),\"\")","v":""},{"$f":"IF(P_15号2様式1!O57= \"\",\"\",IF(VALUE(FIXED(P_15号2様式1!O57,0,TRUE))<>P_15号2様式1!O57,RIGHT(FIXED(P_15号2様式1!O57,3,FALSE),4),\"\"))","v":""},{"$f":"IF(P_15号2様式1!S57<> \"\",TEXT(INT(P_15号2様式1!S57),\"#,##0\"),\"\")","v":""},{"$f":"IF(P_15号2様式1!S57= \"\",\"\",IF(VALUE(FIXED(P_15号2様式1!S57,0,TRUE))<>P_15号2様式1!S57,RIGHT(FIXED(P_15号2様式1!S57,3,FALSE),4),\"\"))","v":""},{"$f":"IF(P_15号2様式1!W57<> \"\",TEXT(INT(P_15号2様式1!W57),\"#,##0\"),\"\")","v":""},{"$f":"IF(P_15号2様式1!W57= \"\",\"\",IF(VALUE(FIXED(P_15号2様式1!W57,0,TRUE))<>P_15号2様式1!W57,RIGHT(FIXED(P_15号2様式1!W57,3,FALSE),4),\"\"))","v":""},{"$f":"IF(P_15号2様式1!AA57<> \"\",TEXT(INT(P_15号2様式1!AA57),\"#,##0\"),\"\")","v":""},{"$f":"IF(P_15号2様式1!AA57= \"\",\"\",IF(VALUE(FIXED(P_15号2様式1!AA57,0,TRUE))<>P_15号2様式1!AA57,RIGHT(FIXED(P_15号2様式1!AA57,3,FALSE),4),\"\"))","v":""},{"$f":"IF(P_15号2様式1!AE57<> \"\",TEXT(INT(P_15号2様式1!AE57),\"#,##0\"),\"\")","v":""},{"$f":"IF(P_15号2様式1!AE57= \"\",\"\",IF(VALUE(FIXED(P_15号2様式1!AE57,0,TRUE))<>P_15号2様式1!AE57,RIGHT(FIXED(P_15号2様式1!AE57,3,FALSE),4),\"\"))","v":""},{"$f":"IF(P_15号2様式1!AI57<> \"\",TEXT(INT(P_15号2様式1!AI57),\"#,##0\"),\"\")","v":""},{"$f":"IF(P_15号2様式1!AI57= \"\",\"\",IF(VALUE(FIXED(P_15号2様式1!AI57,0,TRUE))<>P_15号2様式1!AI57,RIGHT(FIXED(P_15号2様式1!AI57,3,FALSE),4),\"\"))","v":""},{"$f":"IF(P_15号2様式1!AM57<> \"\",TEXT(INT(P_15号2様式1!AM57),\"#,##0\"),\"\")","v":""},{"$f":"IF(P_15号2様式1!AM57= \"\",\"\",IF(VALUE(FIXED(P_15号2様式1!AM57,0,TRUE))<>P_15号2様式1!AM57,RIGHT(FIXED(P_15号2様式1!AM57,3,FALSE),4),\"\"))","v":""},{"$f":"IF(P_15号2様式1!AQ57<> \"\",TEXT(INT(P_15号2様式1!AQ57),\"#,##0\"),\"\")","v":""},{"$f":"IF(P_15号2様式1!AQ57= \"\",\"\",IF(VALUE(FIXED(P_15号2様式1!AQ57,0,TRUE))<>P_15号2様式1!AQ57,RIGHT(FIXED(P_15号2様式1!AQ57,3,FALSE),4),\"\"))","v":""},{"$f":"IF(P_15号2様式1!AU57<> \"\",TEXT(INT(P_15号2様式1!AU57),\"#,##0\"),\"\")","v":""},{"$f":"IF(P_15号2様式1!AU57= \"\",\"\",IF(VALUE(FIXED(P_15号2様式1!AU57,0,TRUE))<>P_15号2様式1!AU57,RIGHT(FIXED(P_15号2様式1!AU57,3,FALSE),4),\"\"))","v":""},{"$f":"IF(P_15号2様式1!AV57<> \"\",TEXT(INT(P_15号2様式1!AV57),\"#,##0\"),\"\")","v":""},null,{"$f":"IF(P_15号2様式1!AV57= \"\",\"\",IF(VALUE(FIXED(P_15号2様式1!AV57,0,TRUE))<>P_15号2様式1!AV57,RIGHT(FIXED(P_15号2様式1!AV57,3,FALSE),4),\"\"))","v":""}]
[{"$f":"IF(P_15号2様式1!F58=\"\",\"\",P_15号2様式1!F58)","v":""},null,{"$f":"IF(P_15号2様式1!G58=\"\",\"\",P_15号2様式1!G58)","v":""},{"$f":"IF(P_15号2様式1!K58<> \"\",TEXT(INT(P_15号2様式1!K58),\"#,##0\"),\"\")","v":""},{"$f":"IF(P_15号2様式1!K58= \"\",\"\",IF(VALUE(FIXED(P_15号2様式1!K58,0,TRUE))<>P_15号2様式1!K58,RIGHT(FIXED(P_15号2様式1!K58,3,FALSE),4),\"\"))","v":""},{"$f":"IF(P_15号2様式1!O58<> \"\",TEXT(INT(P_15号2様式1!O58),\"#,##0\"),\"\")","v":""},{"$f":"IF(P_15号2様式1!O58= \"\",\"\",IF(VALUE(FIXED(P_15号2様式1!O58,0,TRUE))<>P_15号2様式1!O58,RIGHT(FIXED(P_15号2様式1!O58,3,FALSE),4),\"\"))","v":""},{"$f":"IF(P_15号2様式1!S58<> \"\",TEXT(INT(P_15号2様式1!S58),\"#,##0\"),\"\")","v":""},{"$f":"IF(P_15号2様式1!S58= \"\",\"\",IF(VALUE(FIXED(P_15号2様式1!S58,0,TRUE))<>P_15号2様式1!S58,RIGHT(FIXED(P_15号2様式1!S58,3,FALSE),4),\"\"))","v":""},{"$f":"IF(P_15号2様式1!W58<> \"\",TEXT(INT(P_15号2様式1!W58),\"#,##0\"),\"\")","v":""},{"$f":"IF(P_15号2様式1!W58= \"\",\"\",IF(VALUE(FIXED(P_15号2様式1!W58,0,TRUE))<>P_15号2様式1!W58,RIGHT(FIXED(P_15号2様式1!W58,3,FALSE),4),\"\"))","v":""},{"$f":"IF(P_15号2様式1!AA58<> \"\",TEXT(INT(P_15号2様式1!AA58),\"#,##0\"),\"\")","v":""},{"$f":"IF(P_15号2様式1!AA58= \"\",\"\",IF(VALUE(FIXED(P_15号2様式1!AA58,0,TRUE))<>P_15号2様式1!AA58,RIGHT(FIXED(P_15号2様式1!AA58,3,FALSE),4),\"\"))","v":""},{"$f":"IF(P_15号2様式1!AE58<> \"\",TEXT(INT(P_15号2様式1!AE58),\"#,##0\"),\"\")","v":""},{"$f":"IF(P_15号2様式1!AE58= \"\",\"\",IF(VALUE(FIXED(P_15号2様式1!AE58,0,TRUE))<>P_15号2様式1!AE58,RIGHT(FIXED(P_15号2様式1!AE58,3,FALSE),4),\"\"))","v":""},{"$f":"IF(P_15号2様式1!AI58<> \"\",TEXT(INT(P_15号2様式1!AI58),\"#,##0\"),\"\")","v":""},{"$f":"IF(P_15号2様式1!AI58= \"\",\"\",IF(VALUE(FIXED(P_15号2様式1!AI58,0,TRUE))<>P_15号2様式1!AI58,RIGHT(FIXED(P_15号2様式1!AI58,3,FALSE),4),\"\"))","v":""},{"$f":"IF(P_15号2様式1!AM58<> \"\",TEXT(INT(P_15号2様式1!AM58),\"#,##0\"),\"\")","v":""},{"$f":"IF(P_15号2様式1!AM58= \"\",\"\",IF(VALUE(FIXED(P_15号2様式1!AM58,0,TRUE))<>P_15号2様式1!AM58,RIGHT(FIXED(P_15号2様式1!AM58,3,FALSE),4),\"\"))","v":""},{"$f":"IF(P_15号2様式1!AQ58<> \"\",TEXT(INT(P_15号2様式1!AQ58),\"#,##0\"),\"\")","v":""},{"$f":"IF(P_15号2様式1!AQ58= \"\",\"\",IF(VALUE(FIXED(P_15号2様式1!AQ58,0,TRUE))<>P_15号2様式1!AQ58,RIGHT(FIXED(P_15号2様式1!AQ58,3,FALSE),4),\"\"))","v":""},{"$f":"IF(P_15号2様式1!AU58<> \"\",TEXT(INT(P_15号2様式1!AU58),\"#,##0\"),\"\")","v":""},{"$f":"IF(P_15号2様式1!AU58= \"\",\"\",IF(VALUE(FIXED(P_15号2様式1!AU58,0,TRUE))<>P_15号2様式1!AU58,RIGHT(FIXED(P_15号2様式1!AU58,3,FALSE),4),\"\"))","v":""},{"$f":"IF(P_15号2様式1!AV58<> \"\",TEXT(INT(P_15号2様式1!AV58),\"#,##0\"),\"\")","v":""},null,{"$f":"IF(P_15号2様式1!AV58= \"\",\"\",IF(VALUE(FIXED(P_15号2様式1!AV58,0,TRUE))<>P_15号2様式1!AV58,RIGHT(FIXED(P_15号2様式1!AV58,3,FALSE),4),\"\"))","v":""}]
[{"$f":"IF(P_15号2様式1!F59=\"\",\"\",P_15号2様式1!F59)","v":""},null,{"$f":"IF(P_15号2様式1!G59=\"\",\"\",P_15号2様式1!G59)","v":""},{"$f":"IF(P_15号2様式1!K59<> \"\",TEXT(INT(P_15号2様式1!K59),\"#,##0\"),\"\")","v":""},{"$f":"IF(P_15号2様式1!K59= \"\",\"\",IF(VALUE(FIXED(P_15号2様式1!K59,0,TRUE))<>P_15号2様式1!K59,RIGHT(FIXED(P_15号2様式1!K59,3,FALSE),4),\"\"))","v":""},{"$f":"IF(P_15号2様式1!O59<> \"\",TEXT(INT(P_15号2様式1!O59),\"#,##0\"),\"\")","v":""},{"$f":"IF(P_15号2様式1!O59= \"\",\"\",IF(VALUE(FIXED(P_15号2様式1!O59,0,TRUE))<>P_15号2様式1!O59,RIGHT(FIXED(P_15号2様式1!O59,3,FALSE),4),\"\"))","v":""},{"$f":"IF(P_15号2様式1!S59<> \"\",TEXT(INT(P_15号2様式1!S59),\"#,##0\"),\"\")","v":""},{"$f":"IF(P_15号2様式1!S59= \"\",\"\",IF(VALUE(FIXED(P_15号2様式1!S59,0,TRUE))<>P_15号2様式1!S59,RIGHT(FIXED(P_15号2様式1!S59,3,FALSE),4),\"\"))","v":""},{"$f":"IF(P_15号2様式1!W59<> \"\",TEXT(INT(P_15号2様式1!W59),\"#,##0\"),\"\")","v":""},{"$f":"IF(P_15号2様式1!W59= \"\",\"\",IF(VALUE(FIXED(P_15号2様式1!W59,0,TRUE))<>P_15号2様式1!W59,RIGHT(FIXED(P_15号2様式1!W59,3,FALSE),4),\"\"))","v":""},{"$f":"IF(P_15号2様式1!AA59<> \"\",TEXT(INT(P_15号2様式1!AA59),\"#,##0\"),\"\")","v":""},{"$f":"IF(P_15号2様式1!AA59= \"\",\"\",IF(VALUE(FIXED(P_15号2様式1!AA59,0,TRUE))<>P_15号2様式1!AA59,RIGHT(FIXED(P_15号2様式1!AA59,3,FALSE),4),\"\"))","v":""},{"$f":"IF(P_15号2様式1!AE59<> \"\",TEXT(INT(P_15号2様式1!AE59),\"#,##0\"),\"\")","v":""},{"$f":"IF(P_15号2様式1!AE59= \"\",\"\",IF(VALUE(FIXED(P_15号2様式1!AE59,0,TRUE))<>P_15号2様式1!AE59,RIGHT(FIXED(P_15号2様式1!AE59,3,FALSE),4),\"\"))","v":""},{"$f":"IF(P_15号2様式1!AI59<> \"\",TEXT(INT(P_15号2様式1!AI59),\"#,##0\"),\"\")","v":""},{"$f":"IF(P_15号2様式1!AI59= \"\",\"\",IF(VALUE(FIXED(P_15号2様式1!AI59,0,TRUE))<>P_15号2様式1!AI59,RIGHT(FIXED(P_15号2様式1!AI59,3,FALSE),4),\"\"))","v":""},{"$f":"IF(P_15号2様式1!AM59<> \"\",TEXT(INT(P_15号2様式1!AM59),\"#,##0\"),\"\")","v":""},{"$f":"IF(P_15号2様式1!AM59= \"\",\"\",IF(VALUE(FIXED(P_15号2様式1!AM59,0,TRUE))<>P_15号2様式1!AM59,RIGHT(FIXED(P_15号2様式1!AM59,3,FALSE),4),\"\"))","v":""},{"$f":"IF(P_15号2様式1!AQ59<> \"\",TEXT(INT(P_15号2様式1!AQ59),\"#,##0\"),\"\")","v":""},{"$f":"IF(P_15号2様式1!AQ59= \"\",\"\",IF(VALUE(FIXED(P_15号2様式1!AQ59,0,TRUE))<>P_15号2様式1!AQ59,RIGHT(FIXED(P_15号2様式1!AQ59,3,FALSE),4),\"\"))","v":""},{"$f":"IF(P_15号2様式1!AU59<> \"\",TEXT(INT(P_15号2様式1!AU59),\"#,##0\"),\"\")","v":""},{"$f":"IF(P_15号2様式1!AU59= \"\",\"\",IF(VALUE(FIXED(P_15号2様式1!AU59,0,TRUE))<>P_15号2様式1!AU59,RIGHT(FIXED(P_15号2様式1!AU59,3,FALSE),4),\"\"))","v":""},{"$f":"IF(P_15号2様式1!AV59<> \"\",TEXT(INT(P_15号2様式1!AV59),\"#,##0\"),\"\")","v":""},null,{"$f":"IF(P_15号2様式1!AV59= \"\",\"\",IF(VALUE(FIXED(P_15号2様式1!AV59,0,TRUE))<>P_15号2様式1!AV59,RIGHT(FIXED(P_15号2様式1!AV59,3,FALSE),4),\"\"))","v":""}]
[{"$f":"IF(P_15号2様式1!F60=\"\",\"\",P_15号2様式1!F60)","v":""},null,{"$f":"IF(P_15号2様式1!G60=\"\",\"\",P_15号2様式1!G60)","v":""},{"$f":"IF(P_15号2様式1!K60<> \"\",TEXT(INT(P_15号2様式1!K60),\"#,##0\"),\"\")","v":""},{"$f":"IF(P_15号2様式1!K60= \"\",\"\",IF(VALUE(FIXED(P_15号2様式1!K60,0,TRUE))<>P_15号2様式1!K60,RIGHT(FIXED(P_15号2様式1!K60,3,FALSE),4),\"\"))","v":""},{"$f":"IF(P_15号2様式1!O60<> \"\",TEXT(INT(P_15号2様式1!O60),\"#,##0\"),\"\")","v":""},{"$f":"IF(P_15号2様式1!O60= \"\",\"\",IF(VALUE(FIXED(P_15号2様式1!O60,0,TRUE))<>P_15号2様式1!O60,RIGHT(FIXED(P_15号2様式1!O60,3,FALSE),4),\"\"))","v":""},{"$f":"IF(P_15号2様式1!S60<> \"\",TEXT(INT(P_15号2様式1!S60),\"#,##0\"),\"\")","v":""},{"$f":"IF(P_15号2様式1!S60= \"\",\"\",IF(VALUE(FIXED(P_15号2様式1!S60,0,TRUE))<>P_15号2様式1!S60,RIGHT(FIXED(P_15号2様式1!S60,3,FALSE),4),\"\"))","v":""},{"$f":"IF(P_15号2様式1!W60<> \"\",TEXT(INT(P_15号2様式1!W60),\"#,##0\"),\"\")","v":""},{"$f":"IF(P_15号2様式1!W60= \"\",\"\",IF(VALUE(FIXED(P_15号2様式1!W60,0,TRUE))<>P_15号2様式1!W60,RIGHT(FIXED(P_15号2様式1!W60,3,FALSE),4),\"\"))","v":""},{"$f":"IF(P_15号2様式1!AA60<> \"\",TEXT(INT(P_15号2様式1!AA60),\"#,##0\"),\"\")","v":""},{"$f":"IF(P_15号2様式1!AA60= \"\",\"\",IF(VALUE(FIXED(P_15号2様式1!AA60,0,TRUE))<>P_15号2様式1!AA60,RIGHT(FIXED(P_15号2様式1!AA60,3,FALSE),4),\"\"))","v":""},{"$f":"IF(P_15号2様式1!AE60<> \"\",TEXT(INT(P_15号2様式1!AE60),\"#,##0\"),\"\")","v":""},{"$f":"IF(P_15号2様式1!AE60= \"\",\"\",IF(VALUE(FIXED(P_15号2様式1!AE60,0,TRUE))<>P_15号2様式1!AE60,RIGHT(FIXED(P_15号2様式1!AE60,3,FALSE),4),\"\"))","v":""},{"$f":"IF(P_15号2様式1!AI60<> \"\",TEXT(INT(P_15号2様式1!AI60),\"#,##0\"),\"\")","v":""},{"$f":"IF(P_15号2様式1!AI60= \"\",\"\",IF(VALUE(FIXED(P_15号2様式1!AI60,0,TRUE))<>P_15号2様式1!AI60,RIGHT(FIXED(P_15号2様式1!AI60,3,FALSE),4),\"\"))","v":""},{"$f":"IF(P_15号2様式1!AM60<> \"\",TEXT(INT(P_15号2様式1!AM60),\"#,##0\"),\"\")","v":""},{"$f":"IF(P_15号2様式1!AM60= \"\",\"\",IF(VALUE(FIXED(P_15号2様式1!AM60,0,TRUE))<>P_15号2様式1!AM60,RIGHT(FIXED(P_15号2様式1!AM60,3,FALSE),4),\"\"))","v":""},{"$f":"IF(P_15号2様式1!AQ60<> \"\",TEXT(INT(P_15号2様式1!AQ60),\"#,##0\"),\"\")","v":""},{"$f":"IF(P_15号2様式1!AQ60= \"\",\"\",IF(VALUE(FIXED(P_15号2様式1!AQ60,0,TRUE))<>P_15号2様式1!AQ60,RIGHT(FIXED(P_15号2様式1!AQ60,3,FALSE),4),\"\"))","v":""},{"$f":"IF(P_15号2様式1!AU60<> \"\",TEXT(INT(P_15号2様式1!AU60),\"#,##0\"),\"\")","v":""},{"$f":"IF(P_15号2様式1!AU60= \"\",\"\",IF(VALUE(FIXED(P_15号2様式1!AU60,0,TRUE))<>P_15号2様式1!AU60,RIGHT(FIXED(P_15号2様式1!AU60,3,FALSE),4),\"\"))","v":""},{"$f":"IF(P_15号2様式1!AV60<> \"\",TEXT(INT(P_15号2様式1!AV60),\"#,##0\"),\"\")","v":""},null,{"$f":"IF(P_15号2様式1!AV60= \"\",\"\",IF(VALUE(FIXED(P_15号2様式1!AV60,0,TRUE))<>P_15号2様式1!AV60,RIGHT(FIXED(P_15号2様式1!AV60,3,FALSE),4),\"\"))","v":""}]
[{"$f":"IF(P_15号2様式1!F84=\"\",\"\",P_15号2様式1!F84)","v":""},null,{"$f":"IF(P_15号2様式1!G61=\"\",\"\",P_15号2様式1!G61)","v":""},{"$f":"IF(P_15号2様式1!K61<> \"\",TEXT(INT(P_15号2様式1!K61),\"#,##0\"),\"\")","v":""},{"$f":"IF(P_15号2様式1!K61= \"\",\"\",IF(VALUE(FIXED(P_15号2様式1!K61,0,TRUE))<>P_15号2様式1!K61,RIGHT(FIXED(P_15号2様式1!K61,3,FALSE),4),\"\"))","v":""},{"$f":"IF(P_15号2様式1!O61<> \"\",TEXT(INT(P_15号2様式1!O61),\"#,##0\"),\"\")","v":""},{"$f":"IF(P_15号2様式1!O61= \"\",\"\",IF(VALUE(FIXED(P_15号2様式1!O61,0,TRUE))<>P_15号2様式1!O61,RIGHT(FIXED(P_15号2様式1!O61,3,FALSE),4),\"\"))","v":""},{"$f":"IF(P_15号2様式1!S61<> \"\",TEXT(INT(P_15号2様式1!S61),\"#,##0\"),\"\")","v":""},{"$f":"IF(P_15号2様式1!S61= \"\",\"\",IF(VALUE(FIXED(P_15号2様式1!S61,0,TRUE))<>P_15号2様式1!S61,RIGHT(FIXED(P_15号2様式1!S61,3,FALSE),4),\"\"))","v":""},{"$f":"IF(P_15号2様式1!W61<> \"\",TEXT(INT(P_15号2様式1!W61),\"#,##0\"),\"\")","v":""},{"$f":"IF(P_15号2様式1!W61= \"\",\"\",IF(VALUE(FIXED(P_15号2様式1!W61,0,TRUE))<>P_15号2様式1!W61,RIGHT(FIXED(P_15号2様式1!W61,3,FALSE),4),\"\"))","v":""},{"$f":"IF(P_15号2様式1!AA61<> \"\",TEXT(INT(P_15号2様式1!AA61),\"#,##0\"),\"\")","v":""},{"$f":"IF(P_15号2様式1!AA61= \"\",\"\",IF(VALUE(FIXED(P_15号2様式1!AA61,0,TRUE))<>P_15号2様式1!AA61,RIGHT(FIXED(P_15号2様式1!AA61,3,FALSE),4),\"\"))","v":""},{"$f":"IF(P_15号2様式1!AE61<> \"\",TEXT(INT(P_15号2様式1!AE61),\"#,##0\"),\"\")","v":""},{"$f":"IF(P_15号2様式1!AE61= \"\",\"\",IF(VALUE(FIXED(P_15号2様式1!AE61,0,TRUE))<>P_15号2様式1!AE61,RIGHT(FIXED(P_15号2様式1!AE61,3,FALSE),4),\"\"))","v":""},{"$f":"IF(P_15号2様式1!AI61<> \"\",TEXT(INT(P_15号2様式1!AI61),\"#,##0\"),\"\")","v":""},{"$f":"IF(P_15号2様式1!AI61= \"\",\"\",IF(VALUE(FIXED(P_15号2様式1!AI61,0,TRUE))<>P_15号2様式1!AI61,RIGHT(FIXED(P_15号2様式1!AI61,3,FALSE),4),\"\"))","v":""},{"$f":"IF(P_15号2様式1!AM61<> \"\",TEXT(INT(P_15号2様式1!AM61),\"#,##0\"),\"\")","v":""},{"$f":"IF(P_15号2様式1!AM61= \"\",\"\",IF(VALUE(FIXED(P_15号2様式1!AM61,0,TRUE))<>P_15号2様式1!AM61,RIGHT(FIXED(P_15号2様式1!AM61,3,FALSE),4),\"\"))","v":""},{"$f":"IF(P_15号2様式1!AQ61<> \"\",TEXT(INT(P_15号2様式1!AQ61),\"#,##0\"),\"\")","v":""},{"$f":"IF(P_15号2様式1!AQ61= \"\",\"\",IF(VALUE(FIXED(P_15号2様式1!AQ61,0,TRUE))<>P_15号2様式1!AQ61,RIGHT(FIXED(P_15号2様式1!AQ61,3,FALSE),4),\"\"))","v":""},{"$f":"IF(P_15号2様式1!AU61<> \"\",TEXT(INT(P_15号2様式1!AU61),\"#,##0\"),\"\")","v":""},{"$f":"IF(P_15号2様式1!AU61= \"\",\"\",IF(VALUE(FIXED(P_15号2様式1!AU61,0,TRUE))<>P_15号2様式1!AU61,RIGHT(FIXED(P_15号2様式1!AU61,3,FALSE),4),\"\"))","v":""},{"$f":"IF(P_15号2様式1!AV84<> \"\",TEXT(INT(P_15号2様式1!AV84),\"#,##0\"),\"\")","v":""},null,{"$f":"IF(P_15号2様式1!AV61= \"\",\"\",IF(VALUE(FIXED(P_15号2様式1!AV61,0,TRUE))<>P_15号2様式1!AV61,RIGHT(FIXED(P_15号2様式1!AV61,3,FALSE),4),\"\"))","v":""}]
[]
[]
[]
[]
[]
["第15号の2様式",null,null,null,null,null,null,null,null,"開　票　速　報　",null,null,null,null,null,null,null,null,null,null,null,null,null,{"$f":"IF(P_15号2様式1!A62=\"\",\" ページ\", P_15号2様式1!A62 & \"ページ\")","v":"3ページ"}]
[]
[null,{"$f":"IF(パラメタシート!B1=\"\",\"\",パラメタシート!B1)","v":"2017-10-22"}]
[null,{"$f":"IF(P_15号2様式1!AW62=\"\",\"\",P_15号2様式1!AW62)","v":"衆議院小選挙区選出議員選挙"},null,null,null,null,null,null,null,null,null,null,null,null,null,null,{"$f":"IF(P_15号2様式1!AX62=\"0\",\"即日中間速報\",\"翌日中間速報\")","v":"即日中間速報"},null,{"$f":"IF(P_15号2様式1!AY62=\"\",\"第　　　回\",\"第 　\" & P_15号2様式1!AY62 & \"　回\")","v":"第 　6　回"},null,{"$f":"IF(P_15号2様式1!AZ62=\"\",\"     時 　  分　現在\",P_15号2様式1!AZ62)","v":"00:00:00"}]
[null,null,null,null,null,null,null,null,null,null,null,null,null,null,null,null,"　　結了報告",null,null,null,{"$f":"IF(P_15号2様式1!BA62=\"\",\"     時 　  分　結了\",P_15号2様式1!BA62)","v":"     時 　  分　結了"}]
[]
[]
[]
[]
[null,null,null,null,null,null,null,null,null,null,null,null,null,null,null,null,null,null,null,null,null,null,null,"鹿 児 島 県"]
[{"$f":"IF(P_15号2様式1!D62=\"\",\"\",P_15号2様式1!D62)","v":"衆議院鹿児島第３区　"},null,null,{"$f":"IF(P_15号2様式1!E62=\"\",\"定　数　　　　　人\",P_15号2様式1!E62)","v":1}]
["市区町村名",null,"開票率",{"$f":"IF(TRIM(P_15号2様式1!H62)=\"\",\"\",VALUE(P_15号2様式1!H62))","v":1},null,{"$f":"IF(TRIM(P_15号2様式1!L62)=\"\",\"\",VALUE(P_15号2様式1!L62))","v":2},null,{"$f":"IF(TRIM(P_15号2様式1!P62)=\"\",\"\",VALUE(P_15号2様式1!P62))","v":3},null,{"$f":"IF(TRIM(P_15号2様式1!T62)=\"\",\"\",VALUE(P_15号2様式1!T62))","v":""},null,{"$f":"IF(TRIM(P_15号2様式1!X62)=\"\",\"\",VALUE(P_15号2様式1!X62))","v":""},null,{"$f":"IF(TRIM(P_15号2様式1!AB62)=\"\",\"\",VALUE(P_15号2様式1!AB62))","v":""},null,{"$f":"IF(TRIM(P_15号2様式1!AF62)=\"\",\"\",VALUE(P_15号2様式1!AF62))","v":""},null,{"$f":"IF(TRIM(P_15号2様式1!AJ62)=\"\",\"\",VALUE(P_15号2様式1!AJ62))","v":""},null,{"$f":"IF(TRIM(P_15号2様式1!AN62)=\"\",\"\",VALUE(P_15号2様式1!AN62))","v":""},null,{"$f":"IF(TRIM(P_15号2様式1!AR62)=\"\",\"\",VALUE(P_15号2様式1!AR62))","v":""},null,"小 計"]
[null,null,null,{"$f":"IF(P_15号2様式1!I62=\"\",\"\",P_15号2様式1!I62)","v":"希望の党"},null,{"$f":"IF(P_15号2様式1!M62=\"\",\"\",P_15号2様式1!M62)","v":"自由民主党"},null,{"$f":"IF(P_15号2様式1!Q62=\"\",\"\",P_15号2様式1!Q62)","v":"日本共産党"},null,{"$f":"IF(P_15号2様式1!U62=\"\",\"\",P_15号2様式1!U62)","v":""},null,{"$f":"IF(P_15号2様式1!Y62=\"\",\"\",P_15号2様式1!Y62)","v":""},null,{"$f":"IF(P_15号2様式1!AC62=\"\",\"\",P_15号2様式1!AC62)","v":""},null,{"$f":"IF(P_15号2様式1!AG62=\"\",\"\",P_15号2様式1!AG62)","v":""},null,{"$f":"IF(P_15号2様式1!AK62=\"\",\"\",P_15号2様式1!AK62)","v":""},null,{"$f":"IF(P_15号2様式1!AO62=\"\",\"\",P_15号2様式1!AO62)","v":""},null,{"$f":"IF(P_15号2様式1!AS62=\"\",\"\",P_15号2様式1!AS62)","v":""}]
[]
[null,null,null,{"$f":"IF(P_15号2様式1!J62=\"\",\"\",P_15号2様式1!J62)","v":"野間　たけし"},null,{"$f":"IF(P_15号2様式1!N62=\"\",\"\",P_15号2様式1!N62)","v":"小里　やすひろ"},null,{"$f":"IF(P_15号2様式1!R62=\"\",\"\",P_15号2様式1!R62)","v":"山口　ゆうた"},null,{"$f":"IF(P_15号2様式1!V62=\"\",\"\",P_15号2様式1!V62)","v":""},null,{"$f":"IF(P_15号2様式1!Z62=\"\",\"\",P_15号2様式1!Z62)","v":""},null,{"$f":"IF(P_15号2様式1!AD62=\"\",\"\",P_15号2様式1!AD62)","v":""},null,{"$f":"IF(P_15号2様式1!AH62=\"\",\"\",P_15号2様式1!AH62)","v":""},null,{"$f":"IF(P_15号2様式1!AL62=\"\",\"\",P_15号2様式1!AL62)","v":""},null,{"$f":"IF(P_15号2様式1!AP62=\"\",\"\",P_15号2様式1!AP62)","v":""},null,{"$f":"IF(P_15号2様式1!AT62=\"\",\"\",P_15号2様式1!AT62)","v":""}]
[]
[{"$f":"IF(P_15号2様式1!F62=\"\",\"\",P_15号2様式1!F62)","v":"　阿久根市"},null,{"$f":"IF(P_15号2様式1!G62=\"\",\"\",P_15号2様式1!G62)","v":100},{"$f":"IF(P_15号2様式1!K62<> \"\",TEXT(INT(P_15号2様式1!K62),\"#,##0\"),\"\")","v":"3,748"},{"$f":"IF(P_15号2様式1!K62= \"\",\"\",IF(VALUE(FIXED(P_15号2様式1!K62,0,TRUE))<>P_15号2様式1!K62,RIGHT(FIXED(P_15号2様式1!K62,3,FALSE),4),\"\"))","v":""},{"$f":"IF(P_15号2様式1!O62<> \"\",TEXT(INT(P_15号2様式1!O62),\"#,##0\"),\"\")","v":"7,072"},{"$f":"IF(P_15号2様式1!O62= \"\",\"\",IF(VALUE(FIXED(P_15号2様式1!O62,0,TRUE))<>P_15号2様式1!O62,RIGHT(FIXED(P_15号2様式1!O62,3,FALSE),4),\"\"))","v":""},{"$f":"IF(P_15号2様式1!S62<> \"\",TEXT(INT(P_15号2様式1!S62),\"#,##0\"),\"\")","v":"541"},{"$f":"IF(P_15号2様式1!S62= \"\",\"\",IF(VALUE(FIXED(P_15号2様式1!S62,0,TRUE))<>P_15号2様式1!S62,RIGHT(FIXED(P_15号2様式1!S62,3,FALSE),4),\"\"))","v":""},{"$f":"IF(P_15号2様式1!W62<> \"\",TEXT(INT(P_15号2様式1!W62),\"#,##0\"),\"\")","v":""},{"$f":"IF(P_15号2様式1!W62= \"\",\"\",IF(VALUE(FIXED(P_15号2様式1!W62,0,TRUE))<>P_15号2様式1!W62,RIGHT(FIXED(P_15号2様式1!W62,3,FALSE),4),\"\"))","v":""},{"$f":"IF(P_15号2様式1!AA62<> \"\",TEXT(INT(P_15号2様式1!AA62),\"#,##0\"),\"\")","v":""},{"$f":"IF(P_15号2様式1!AA62= \"\",\"\",IF(VALUE(FIXED(P_15号2様式1!AA62,0,TRUE))<>P_15号2様式1!AA62,RIGHT(FIXED(P_15号2様式1!AA62,3,FALSE),4),\"\"))","v":""},{"$f":"IF(P_15号2様式1!AE62<> \"\",TEXT(INT(P_15号2様式1!AE62),\"#,##0\"),\"\")","v":""},{"$f":"IF(P_15号2様式1!AE62= \"\",\"\",IF(VALUE(FIXED(P_15号2様式1!AE62,0,TRUE))<>P_15号2様式1!AE62,RIGHT(FIXED(P_15号2様式1!AE62,3,FALSE),4),\"\"))","v":""},{"$f":"IF(P_15号2様式1!AI62<> \"\",TEXT(INT(P_15号2様式1!AI62),\"#,##0\"),\"\")","v":""},{"$f":"IF(P_15号2様式1!AI62= \"\",\"\",IF(VALUE(FIXED(P_15号2様式1!AI62,0,TRUE))<>P_15号2様式1!AI62,RIGHT(FIXED(P_15号2様式1!AI62,3,FALSE),4),\"\"))","v":""},{"$f":"IF(P_15号2様式1!AM62<> \"\",TEXT(INT(P_15号2様式1!AM62),\"#,##0\"),\"\")","v":""},{"$f":"IF(P_15号2様式1!AM62= \"\",\"\",IF(VALUE(FIXED(P_15号2様式1!AM62,0,TRUE))<>P_15号2様式1!AM62,RIGHT(FIXED(P_15号2様式1!AM62,3,FALSE),4),\"\"))","v":""},{"$f":"IF(P_15号2様式1!AQ62<> \"\",TEXT(INT(P_15号2様式1!AQ62),\"#,##0\"),\"\")","v":""},{"$f":"IF(P_15号2様式1!AQ62= \"\",\"\",IF(VALUE(FIXED(P_15号2様式1!AQ62,0,TRUE))<>P_15号2様式1!AQ62,RIGHT(FIXED(P_15号2様式1!AQ62,3,FALSE),4),\"\"))","v":""},{"$f":"IF(P_15号2様式1!AU62<> \"\",TEXT(INT(P_15号2様式1!AU62),\"#,##0\"),\"\")","v":""},{"$f":"IF(P_15号2様式1!AU62= \"\",\"\",IF(VALUE(FIXED(P_15号2様式1!AU62,0,TRUE))<>P_15号2様式1!AU62,RIGHT(FIXED(P_15号2様式1!AU62,3,FALSE),4),\"\"))","v":""},{"$f":"IF(P_15号2様式1!AV62<> \"\",TEXT(INT(P_15号2様式1!AV62),\"#,##0\"),\"\")","v":"11,361"},null,{"$f":"IF(P_15号2様式1!AV62= \"\",\"\",IF(VALUE(FIXED(P_15号2様式1!AV62,0,TRUE))<>P_15号2様式1!AV62,RIGHT(FIXED(P_15号2様式1!AV62,3,FALSE),4),\"\"))","v":""}]
[{"$f":"IF(P_15号2様式1!F63=\"\",\"\",P_15号2様式1!F63)","v":"　出水市"},null,{"$f":"IF(P_15号2様式1!G63=\"\",\"\",P_15号2様式1!G63)","v":100},{"$f":"IF(P_15号2様式1!K63<> \"\",TEXT(INT(P_15号2様式1!K63),\"#,##0\"),\"\")","v":"8,753"},{"$f":"IF(P_15号2様式1!K63= \"\",\"\",IF(VALUE(FIXED(P_15号2様式1!K63,0,TRUE))<>P_15号2様式1!K63,RIGHT(FIXED(P_15号2様式1!K63,3,FALSE),4),\"\"))","v":""},{"$f":"IF(P_15号2様式1!O63<> \"\",TEXT(INT(P_15号2様式1!O63),\"#,##0\"),\"\")","v":"15,344"},{"$f":"IF(P_15号2様式1!O63= \"\",\"\",IF(VALUE(FIXED(P_15号2様式1!O63,0,TRUE))<>P_15号2様式1!O63,RIGHT(FIXED(P_15号2様式1!O63,3,FALSE),4),\"\"))","v":""},{"$f":"IF(P_15号2様式1!S63<> \"\",TEXT(INT(P_15号2様式1!S63),\"#,##0\"),\"\")","v":"1,611"},{"$f":"IF(P_15号2様式1!S63= \"\",\"\",IF(VALUE(FIXED(P_15号2様式1!S63,0,TRUE))<>P_15号2様式1!S63,RIGHT(FIXED(P_15号2様式1!S63,3,FALSE),4),\"\"))","v":""},{"$f":"IF(P_15号2様式1!W63<> \"\",TEXT(INT(P_15号2様式1!W63),\"#,##0\"),\"\")","v":""},{"$f":"IF(P_15号2様式1!W63= \"\",\"\",IF(VALUE(FIXED(P_15号2様式1!W63,0,TRUE))<>P_15号2様式1!W63,RIGHT(FIXED(P_15号2様式1!W63,3,FALSE),4),\"\"))","v":""},{"$f":"IF(P_15号2様式1!AA63<> \"\",TEXT(INT(P_15号2様式1!AA63),\"#,##0\"),\"\")","v":""},{"$f":"IF(P_15号2様式1!AA63= \"\",\"\",IF(VALUE(FIXED(P_15号2様式1!AA63,0,TRUE))<>P_15号2様式1!AA63,RIGHT(FIXED(P_15号2様式1!AA63,3,FALSE),4),\"\"))","v":""},{"$f":"IF(P_15号2様式1!AE63<> \"\",TEXT(INT(P_15号2様式1!AE63),\"#,##0\"),\"\")","v":""},{"$f":"IF(P_15号2様式1!AE63= \"\",\"\",IF(VALUE(FIXED(P_15号2様式1!AE63,0,TRUE))<>P_15号2様式1!AE63,RIGHT(FIXED(P_15号2様式1!AE63,3,FALSE),4),\"\"))","v":""},{"$f":"IF(P_15号2様式1!AI63<> \"\",TEXT(INT(P_15号2様式1!AI63),\"#,##0\"),\"\")","v":""},{"$f":"IF(P_15号2様式1!AI63= \"\",\"\",IF(VALUE(FIXED(P_15号2様式1!AI63,0,TRUE))<>P_15号2様式1!AI63,RIGHT(FIXED(P_15号2様式1!AI63,3,FALSE),4),\"\"))","v":""},{"$f":"IF(P_15号2様式1!AM63<> \"\",TEXT(INT(P_15号2様式1!AM63),\"#,##0\"),\"\")","v":""},{"$f":"IF(P_15号2様式1!AM63= \"\",\"\",IF(VALUE(FIXED(P_15号2様式1!AM63,0,TRUE))<>P_15号2様式1!AM63,RIGHT(FIXED(P_15号2様式1!AM63,3,FALSE),4),\"\"))","v":""},{"$f":"IF(P_15号2様式1!AQ63<> \"\",TEXT(INT(P_15号2様式1!AQ63),\"#,##0\"),\"\")","v":""},{"$f":"IF(P_15号2様式1!AQ63= \"\",\"\",IF(VALUE(FIXED(P_15号2様式1!AQ63,0,TRUE))<>P_15号2様式1!AQ63,RIGHT(FIXED(P_15号2様式1!AQ63,3,FALSE),4),\"\"))","v":""},{"$f":"IF(P_15号2様式1!AU63<> \"\",TEXT(INT(P_15号2様式1!AU63),\"#,##0\"),\"\")","v":""},{"$f":"IF(P_15号2様式1!AU63= \"\",\"\",IF(VALUE(FIXED(P_15号2様式1!AU63,0,TRUE))<>P_15号2様式1!AU63,RIGHT(FIXED(P_15号2様式1!AU63,3,FALSE),4),\"\"))","v":""},{"$f":"IF(P_15号2様式1!AV63<> \"\",TEXT(INT(P_15号2様式1!AV63),\"#,##0\"),\"\")","v":"25,708"},null,{"$f":"IF(P_15号2様式1!AV63= \"\",\"\",IF(VALUE(FIXED(P_15号2様式1!AV63,0,TRUE))<>P_15号2様式1!AV63,RIGHT(FIXED(P_15号2様式1!AV63,3,FALSE),4),\"\"))","v":""}]
[{"$f":"IF(P_15号2様式1!F64=\"\",\"\",P_15号2様式1!F64)","v":"　薩摩川内市第１"},null,{"$f":"IF(P_15号2様式1!G64=\"\",\"\",P_15号2様式1!G64)","v":100},{"$f":"IF(P_15号2様式1!K64<> \"\",TEXT(INT(P_15号2様式1!K64),\"#,##0\"),\"\")","v":"25,433"},{"$f":"IF(P_15号2様式1!K64= \"\",\"\",IF(VALUE(FIXED(P_15号2様式1!K64,0,TRUE))<>P_15号2様式1!K64,RIGHT(FIXED(P_15号2様式1!K64,3,FALSE),4),\"\"))","v":""},{"$f":"IF(P_15号2様式1!O64<> \"\",TEXT(INT(P_15号2様式1!O64),\"#,##0\"),\"\")","v":"18,776"},{"$f":"IF(P_15号2様式1!O64= \"\",\"\",IF(VALUE(FIXED(P_15号2様式1!O64,0,TRUE))<>P_15号2様式1!O64,RIGHT(FIXED(P_15号2様式1!O64,3,FALSE),4),\"\"))","v":""},{"$f":"IF(P_15号2様式1!S64<> \"\",TEXT(INT(P_15号2様式1!S64),\"#,##0\"),\"\")","v":"1,754"},{"$f":"IF(P_15号2様式1!S64= \"\",\"\",IF(VALUE(FIXED(P_15号2様式1!S64,0,TRUE))<>P_15号2様式1!S64,RIGHT(FIXED(P_15号2様式1!S64,3,FALSE),4),\"\"))","v":""},{"$f":"IF(P_15号2様式1!W64<> \"\",TEXT(INT(P_15号2様式1!W64),\"#,##0\"),\"\")","v":""},{"$f":"IF(P_15号2様式1!W64= \"\",\"\",IF(VALUE(FIXED(P_15号2様式1!W64,0,TRUE))<>P_15号2様式1!W64,RIGHT(FIXED(P_15号2様式1!W64,3,FALSE),4),\"\"))","v":""},{"$f":"IF(P_15号2様式1!AA64<> \"\",TEXT(INT(P_15号2様式1!AA64),\"#,##0\"),\"\")","v":""},{"$f":"IF(P_15号2様式1!AA64= \"\",\"\",IF(VALUE(FIXED(P_15号2様式1!AA64,0,TRUE))<>P_15号2様式1!AA64,RIGHT(FIXED(P_15号2様式1!AA64,3,FALSE),4),\"\"))","v":""},{"$f":"IF(P_15号2様式1!AE64<> \"\",TEXT(INT(P_15号2様式1!AE64),\"#,##0\"),\"\")","v":""},{"$f":"IF(P_15号2様式1!AE64= \"\",\"\",IF(VALUE(FIXED(P_15号2様式1!AE64,0,TRUE))<>P_15号2様式1!AE64,RIGHT(FIXED(P_15号2様式1!AE64,3,FALSE),4),\"\"))","v":""},{"$f":"IF(P_15号2様式1!AI64<> \"\",TEXT(INT(P_15号2様式1!AI64),\"#,##0\"),\"\")","v":""},{"$f":"IF(P_15号2様式1!AI64= \"\",\"\",IF(VALUE(FIXED(P_15号2様式1!AI64,0,TRUE))<>P_15号2様式1!AI64,RIGHT(FIXED(P_15号2様式1!AI64,3,FALSE),4),\"\"))","v":""},{"$f":"IF(P_15号2様式1!AM64<> \"\",TEXT(INT(P_15号2様式1!AM64),\"#,##0\"),\"\")","v":""},{"$f":"IF(P_15号2様式1!AM64= \"\",\"\",IF(VALUE(FIXED(P_15号2様式1!AM64,0,TRUE))<>P_15号2様式1!AM64,RIGHT(FIXED(P_15号2様式1!AM64,3,FALSE),4),\"\"))","v":""},{"$f":"IF(P_15号2様式1!AQ64<> \"\",TEXT(INT(P_15号2様式1!AQ64),\"#,##0\"),\"\")","v":""},{"$f":"IF(P_15号2様式1!AQ64= \"\",\"\",IF(VALUE(FIXED(P_15号2様式1!AQ64,0,TRUE))<>P_15号2様式1!AQ64,RIGHT(FIXED(P_15号2様式1!AQ64,3,FALSE),4),\"\"))","v":""},{"$f":"IF(P_15号2様式1!AU64<> \"\",TEXT(INT(P_15号2様式1!AU64),\"#,##0\"),\"\")","v":""},{"$f":"IF(P_15号2様式1!AU64= \"\",\"\",IF(VALUE(FIXED(P_15号2様式1!AU64,0,TRUE))<>P_15号2様式1!AU64,RIGHT(FIXED(P_15号2様式1!AU64,3,FALSE),4),\"\"))","v":""},{"$f":"IF(P_15号2様式1!AV64<> \"\",TEXT(INT(P_15号2様式1!AV64),\"#,##0\"),\"\")","v":"45,963"},null,{"$f":"IF(P_15号2様式1!AV64= \"\",\"\",IF(VALUE(FIXED(P_15号2様式1!AV64,0,TRUE))<>P_15号2様式1!AV64,RIGHT(FIXED(P_15号2様式1!AV64,3,FALSE),4),\"\"))","v":""}]
[{"$f":"IF(P_15号2様式1!F65=\"\",\"\",P_15号2様式1!F65)","v":"　薩摩川内市第２"},null,{"$f":"IF(P_15号2様式1!G65=\"\",\"\",P_15号2様式1!G65)","v":100},{"$f":"IF(P_15号2様式1!K65<> \"\",TEXT(INT(P_15号2様式1!K65),\"#,##0\"),\"\")","v":"546"},{"$f":"IF(P_15号2様式1!K65= \"\",\"\",IF(VALUE(FIXED(P_15号2様式1!K65,0,TRUE))<>P_15号2様式1!K65,RIGHT(FIXED(P_15号2様式1!K65,3,FALSE),4),\"\"))","v":""},{"$f":"IF(P_15号2様式1!O65<> \"\",TEXT(INT(P_15号2様式1!O65),\"#,##0\"),\"\")","v":"904"},{"$f":"IF(P_15号2様式1!O65= \"\",\"\",IF(VALUE(FIXED(P_15号2様式1!O65,0,TRUE))<>P_15号2様式1!O65,RIGHT(FIXED(P_15号2様式1!O65,3,FALSE),4),\"\"))","v":""},{"$f":"IF(P_15号2様式1!S65<> \"\",TEXT(INT(P_15号2様式1!S65),\"#,##0\"),\"\")","v":"73"},{"$f":"IF(P_15号2様式1!S65= \"\",\"\",IF(VALUE(FIXED(P_15号2様式1!S65,0,TRUE))<>P_15号2様式1!S65,RIGHT(FIXED(P_15号2様式1!S65,3,FALSE),4),\"\"))","v":""},{"$f":"IF(P_15号2様式1!W65<> \"\",TEXT(INT(P_15号2様式1!W65),\"#,##0\"),\"\")","v":""},{"$f":"IF(P_15号2様式1!W65= \"\",\"\",IF(VALUE(FIXED(P_15号2様式1!W65,0,TRUE))<>P_15号2様式1!W65,RIGHT(FIXED(P_15号2様式1!W65,3,FALSE),4),\"\"))","v":""},{"$f":"IF(P_15号2様式1!AA65<> \"\",TEXT(INT(P_15号2様式1!AA65),\"#,##0\"),\"\")","v":""},{"$f":"IF(P_15号2様式1!AA65= \"\",\"\",IF(VALUE(FIXED(P_15号2様式1!AA65,0,TRUE))<>P_15号2様式1!AA65,RIGHT(FIXED(P_15号2様式1!AA65,3,FALSE),4),\"\"))","v":""},{"$f":"IF(P_15号2様式1!AE65<> \"\",TEXT(INT(P_15号2様式1!AE65),\"#,##0\"),\"\")","v":""},{"$f":"IF(P_15号2様式1!AE65= \"\",\"\",IF(VALUE(FIXED(P_15号2様式1!AE65,0,TRUE))<>P_15号2様式1!AE65,RIGHT(FIXED(P_15号2様式1!AE65,3,FALSE),4),\"\"))","v":""},{"$f":"IF(P_15号2様式1!AI65<> \"\",TEXT(INT(P_15号2様式1!AI65),\"#,##0\"),\"\")","v":""},{"$f":"IF(P_15号2様式1!AI65= \"\",\"\",IF(VALUE(FIXED(P_15号2様式1!AI65,0,TRUE))<>P_15号2様式1!AI65,RIGHT(FIXED(P_15号2様式1!AI65,3,FALSE),4),\"\"))","v":""},{"$f":"IF(P_15号2様式1!AM65<> \"\",TEXT(INT(P_15号2様式1!AM65),\"#,##0\"),\"\")","v":""},{"$f":"IF(P_15号2様式1!AM65= \"\",\"\",IF(VALUE(FIXED(P_15号2様式1!AM65,0,TRUE))<>P_15号2様式1!AM65,RIGHT(FIXED(P_15号2様式1!AM65,3,FALSE),4),\"\"))","v":""},{"$f":"IF(P_15号2様式1!AQ65<> \"\",TEXT(INT(P_15号2様式1!AQ65),\"#,##0\"),\"\")","v":""},{"$f":"IF(P_15号2様式1!AQ65= \"\",\"\",IF(VALUE(FIXED(P_15号2様式1!AQ65,0,TRUE))<>P_15号2様式1!AQ65,RIGHT(FIXED(P_15号2様式1!AQ65,3,FALSE),4),\"\"))","v":""},{"$f":"IF(P_15号2様式1!AU65<> \"\",TEXT(INT(P_15号2様式1!AU65),\"#,##0\"),\"\")","v":""},{"$f":"IF(P_15号2様式1!AU65= \"\",\"\",IF(VALUE(FIXED(P_15号2様式1!AU65,0,TRUE))<>P_15号2様式1!AU65,RIGHT(FIXED(P_15号2様式1!AU65,3,FALSE),4),\"\"))","v":""},{"$f":"IF(P_15号2様式1!AV65<> \"\",TEXT(INT(P_15号2様式1!AV65),\"#,##0\"),\"\")","v":"1,523"},null,{"$f":"IF(P_15号2様式1!AV65= \"\",\"\",IF(VALUE(FIXED(P_15号2様式1!AV65,0,TRUE))<>P_15号2様式1!AV65,RIGHT(FIXED(P_15号2様式1!AV65,3,FALSE),4),\"\"))","v":""}]
[{"$f":"IF(P_15号2様式1!F66=\"\",\"\",P_15号2様式1!F66)","v":"　薩摩川内市第３"},null,{"$f":"IF(P_15号2様式1!G66=\"\",\"\",P_15号2様式1!G66)","v":100},{"$f":"IF(P_15号2様式1!K66<> \"\",TEXT(INT(P_15号2様式1!K66),\"#,##0\"),\"\")","v":"589"},{"$f":"IF(P_15号2様式1!K66= \"\",\"\",IF(VALUE(FIXED(P_15号2様式1!K66,0,TRUE))<>P_15号2様式1!K66,RIGHT(FIXED(P_15号2様式1!K66,3,FALSE),4),\"\"))","v":""},{"$f":"IF(P_15号2様式1!O66<> \"\",TEXT(INT(P_15号2様式1!O66),\"#,##0\"),\"\")","v":"740"},{"$f":"IF(P_15号2様式1!O66= \"\",\"\",IF(VALUE(FIXED(P_15号2様式1!O66,0,TRUE))<>P_15号2様式1!O66,RIGHT(FIXED(P_15号2様式1!O66,3,FALSE),4),\"\"))","v":""},{"$f":"IF(P_15号2様式1!S66<> \"\",TEXT(INT(P_15号2様式1!S66),\"#,##0\"),\"\")","v":"57"},{"$f":"IF(P_15号2様式1!S66= \"\",\"\",IF(VALUE(FIXED(P_15号2様式1!S66,0,TRUE))<>P_15号2様式1!S66,RIGHT(FIXED(P_15号2様式1!S66,3,FALSE),4),\"\"))","v":""},{"$f":"IF(P_15号2様式1!W66<> \"\",TEXT(INT(P_15号2様式1!W66),\"#,##0\"),\"\")","v":""},{"$f":"IF(P_15号2様式1!W66= \"\",\"\",IF(VALUE(FIXED(P_15号2様式1!W66,0,TRUE))<>P_15号2様式1!W66,RIGHT(FIXED(P_15号2様式1!W66,3,FALSE),4),\"\"))","v":""},{"$f":"IF(P_15号2様式1!AA66<> \"\",TEXT(INT(P_15号2様式1!AA66),\"#,##0\"),\"\")","v":""},{"$f":"IF(P_15号2様式1!AA66= \"\",\"\",IF(VALUE(FIXED(P_15号2様式1!AA66,0,TRUE))<>P_15号2様式1!AA66,RIGHT(FIXED(P_15号2様式1!AA66,3,FALSE),4),\"\"))","v":""},{"$f":"IF(P_15号2様式1!AE66<> \"\",TEXT(INT(P_15号2様式1!AE66),\"#,##0\"),\"\")","v":""},{"$f":"IF(P_15号2様式1!AE66= \"\",\"\",IF(VALUE(FIXED(P_15号2様式1!AE66,0,TRUE))<>P_15号2様式1!AE66,RIGHT(FIXED(P_15号2様式1!AE66,3,FALSE),4),\"\"))","v":""},{"$f":"IF(P_15号2様式1!AI66<> \"\",TEXT(INT(P_15号2様式1!AI66),\"#,##0\"),\"\")","v":""},{"$f":"IF(P_15号2様式1!AI66= \"\",\"\",IF(VALUE(FIXED(P_15号2様式1!AI66,0,TRUE))<>P_15号2様式1!AI66,RIGHT(FIXED(P_15号2様式1!AI66,3,FALSE),4),\"\"))","v":""},{"$f":"IF(P_15号2様式1!AM66<> \"\",TEXT(INT(P_15号2様式1!AM66),\"#,##0\"),\"\")","v":""},{"$f":"IF(P_15号2様式1!AM66= \"\",\"\",IF(VALUE(FIXED(P_15号2様式1!AM66,0,TRUE))<>P_15号2様式1!AM66,RIGHT(FIXED(P_15号2様式1!AM66,3,FALSE),4),\"\"))","v":""},{"$f":"IF(P_15号2様式1!AQ66<> \"\",TEXT(INT(P_15号2様式1!AQ66),\"#,##0\"),\"\")","v":""},{"$f":"IF(P_15号2様式1!AQ66= \"\",\"\",IF(VALUE(FIXED(P_15号2様式1!AQ66,0,TRUE))<>P_15号2様式1!AQ66,RIGHT(FIXED(P_15号2様式1!AQ66,3,FALSE),4),\"\"))","v":""},{"$f":"IF(P_15号2様式1!AU66<> \"\",TEXT(INT(P_15号2様式1!AU66),\"#,##0\"),\"\")","v":""},{"$f":"IF(P_15号2様式1!AU66= \"\",\"\",IF(VALUE(FIXED(P_15号2様式1!AU66,0,TRUE))<>P_15号2様式1!AU66,RIGHT(FIXED(P_15号2様式1!AU66,3,FALSE),4),\"\"))","v":""},{"$f":"IF(P_15号2様式1!AV66<> \"\",TEXT(INT(P_15号2様式1!AV66),\"#,##0\"),\"\")","v":"1,386"},null,{"$f":"IF(P_15号2様式1!AV66= \"\",\"\",IF(VALUE(FIXED(P_15号2様式1!AV66,0,TRUE))<>P_15号2様式1!AV66,RIGHT(FIXED(P_15号2様式1!AV66,3,FALSE),4),\"\"))","v":""}]
[{"$f":"IF(P_15号2様式1!F67=\"\",\"\",P_15号2様式1!F67)","v":"＊（薩摩川内市）計"},null,{"$f":"IF(P_15号2様式1!G67=\"\",\"\",P_15号2様式1!G67)","v":100},{"$f":"IF(P_15号2様式1!K67<> \"\",TEXT(INT(P_15号2様式1!K67),\"#,##0\"),\"\")","v":"26,568"},{"$f":"IF(P_15号2様式1!K67= \"\",\"\",IF(VALUE(FIXED(P_15号2様式1!K67,0,TRUE))<>P_15号2様式1!K67,RIGHT(FIXED(P_15号2様式1!K67,3,FALSE),4),\"\"))","v":""},{"$f":"IF(P_15号2様式1!O67<> \"\",TEXT(INT(P_15号2様式1!O67),\"#,##0\"),\"\")","v":"20,420"},{"$f":"IF(P_15号2様式1!O67= \"\",\"\",IF(VALUE(FIXED(P_15号2様式1!O67,0,TRUE))<>P_15号2様式1!O67,RIGHT(FIXED(P_15号2様式1!O67,3,FALSE),4),\"\"))","v":""},{"$f":"IF(P_15号2様式1!S67<> \"\",TEXT(INT(P_15号2様式1!S67),\"#,##0\"),\"\")","v":"1,884"},{"$f":"IF(P_15号2様式1!S67= \"\",\"\",IF(VALUE(FIXED(P_15号2様式1!S67,0,TRUE))<>P_15号2様式1!S67,RIGHT(FIXED(P_15号2様式1!S67,3,FALSE),4),\"\"))","v":""},{"$f":"IF(P_15号2様式1!W67<> \"\",TEXT(INT(P_15号2様式1!W67),\"#,##0\"),\"\")","v":""},{"$f":"IF(P_15号2様式1!W67= \"\",\"\",IF(VALUE(FIXED(P_15号2様式1!W67,0,TRUE))<>P_15号2様式1!W67,RIGHT(FIXED(P_15号2様式1!W67,3,FALSE),4),\"\"))","v":""},{"$f":"IF(P_15号2様式1!AA67<> \"\",TEXT(INT(P_15号2様式1!AA67),\"#,##0\"),\"\")","v":""},{"$f":"IF(P_15号2様式1!AA67= \"\",\"\",IF(VALUE(FIXED(P_15号2様式1!AA67,0,TRUE))<>P_15号2様式1!AA67,RIGHT(FIXED(P_15号2様式1!AA67,3,FALSE),4),\"\"))","v":""},{"$f":"IF(P_15号2様式1!AE67<> \"\",TEXT(INT(P_15号2様式1!AE67),\"#,##0\"),\"\")","v":""},{"$f":"IF(P_15号2様式1!AE67= \"\",\"\",IF(VALUE(FIXED(P_15号2様式1!AE67,0,TRUE))<>P_15号2様式1!AE67,RIGHT(FIXED(P_15号2様式1!AE67,3,FALSE),4),\"\"))","v":""},{"$f":"IF(P_15号2様式1!AI67<> \"\",TEXT(INT(P_15号2様式1!AI67),\"#,##0\"),\"\")","v":""},{"$f":"IF(P_15号2様式1!AI67= \"\",\"\",IF(VALUE(FIXED(P_15号2様式1!AI67,0,TRUE))<>P_15号2様式1!AI67,RIGHT(FIXED(P_15号2様式1!AI67,3,FALSE),4),\"\"))","v":""},{"$f":"IF(P_15号2様式1!AM67<> \"\",TEXT(INT(P_15号2様式1!AM67),\"#,##0\"),\"\")","v":""},{"$f":"IF(P_15号2様式1!AM67= \"\",\"\",IF(VALUE(FIXED(P_15号2様式1!AM67,0,TRUE))<>P_15号2様式1!AM67,RIGHT(FIXED(P_15号2様式1!AM67,3,FALSE),4),\"\"))","v":""},{"$f":"IF(P_15号2様式1!AQ67<> \"\",TEXT(INT(P_15号2様式1!AQ67),\"#,##0\"),\"\")","v":""},{"$f":"IF(P_15号2様式1!AQ67= \"\",\"\",IF(VALUE(FIXED(P_15号2様式1!AQ67,0,TRUE))<>P_15号2様式1!AQ67,RIGHT(FIXED(P_15号2様式1!AQ67,3,FALSE),4),\"\"))","v":""},{"$f":"IF(P_15号2様式1!AU67<> \"\",TEXT(INT(P_15号2様式1!AU67),\"#,##0\"),\"\")","v":""},{"$f":"IF(P_15号2様式1!AU67= \"\",\"\",IF(VALUE(FIXED(P_15号2様式1!AU67,0,TRUE))<>P_15号2様式1!AU67,RIGHT(FIXED(P_15号2様式1!AU67,3,FALSE),4),\"\"))","v":""},{"$f":"IF(P_15号2様式1!AV67<> \"\",TEXT(INT(P_15号2様式1!AV67),\"#,##0\"),\"\")","v":"48,872"},null,{"$f":"IF(P_15号2様式1!AV67= \"\",\"\",IF(VALUE(FIXED(P_15号2様式1!AV67,0,TRUE))<>P_15号2様式1!AV67,RIGHT(FIXED(P_15号2様式1!AV67,3,FALSE),4),\"\"))","v":""}]
[{"$f":"IF(P_15号2様式1!F68=\"\",\"\",P_15号2様式1!F68)","v":"　日置市"},null,{"$f":"IF(P_15号2様式1!G68=\"\",\"\",P_15号2様式1!G68)","v":100},{"$f":"IF(P_15号2様式1!K68<> \"\",TEXT(INT(P_15号2様式1!K68),\"#,##0\"),\"\")","v":"12,882"},{"$f":"IF(P_15号2様式1!K68= \"\",\"\",IF(VALUE(FIXED(P_15号2様式1!K68,0,TRUE))<>P_15号2様式1!K68,RIGHT(FIXED(P_15号2様式1!K68,3,FALSE),4),\"\"))","v":""},{"$f":"IF(P_15号2様式1!O68<> \"\",TEXT(INT(P_15号2様式1!O68),\"#,##0\"),\"\")","v":"10,714"},{"$f":"IF(P_15号2様式1!O68= \"\",\"\",IF(VALUE(FIXED(P_15号2様式1!O68,0,TRUE))<>P_15号2様式1!O68,RIGHT(FIXED(P_15号2様式1!O68,3,FALSE),4),\"\"))","v":""},{"$f":"IF(P_15号2様式1!S68<> \"\",TEXT(INT(P_15号2様式1!S68),\"#,##0\"),\"\")","v":"1,535"},{"$f":"IF(P_15号2様式1!S68= \"\",\"\",IF(VALUE(FIXED(P_15号2様式1!S68,0,TRUE))<>P_15号2様式1!S68,RIGHT(FIXED(P_15号2様式1!S68,3,FALSE),4),\"\"))","v":""},{"$f":"IF(P_15号2様式1!W68<> \"\",TEXT(INT(P_15号2様式1!W68),\"#,##0\"),\"\")","v":""},{"$f":"IF(P_15号2様式1!W68= \"\",\"\",IF(VALUE(FIXED(P_15号2様式1!W68,0,TRUE))<>P_15号2様式1!W68,RIGHT(FIXED(P_15号2様式1!W68,3,FALSE),4),\"\"))","v":""},{"$f":"IF(P_15号2様式1!AA68<> \"\",TEXT(INT(P_15号2様式1!AA68),\"#,##0\"),\"\")","v":""},{"$f":"IF(P_15号2様式1!AA68= \"\",\"\",IF(VALUE(FIXED(P_15号2様式1!AA68,0,TRUE))<>P_15号2様式1!AA68,RIGHT(FIXED(P_15号2様式1!AA68,3,FALSE),4),\"\"))","v":""},{"$f":"IF(P_15号2様式1!AE68<> \"\",TEXT(INT(P_15号2様式1!AE68),\"#,##0\"),\"\")","v":""},{"$f":"IF(P_15号2様式1!AE68= \"\",\"\",IF(VALUE(FIXED(P_15号2様式1!AE68,0,TRUE))<>P_15号2様式1!AE68,RIGHT(FIXED(P_15号2様式1!AE68,3,FALSE),4),\"\"))","v":""},{"$f":"IF(P_15号2様式1!AI68<> \"\",TEXT(INT(P_15号2様式1!AI68),\"#,##0\"),\"\")","v":""},{"$f":"IF(P_15号2様式1!AI68= \"\",\"\",IF(VALUE(FIXED(P_15号2様式1!AI68,0,TRUE))<>P_15号2様式1!AI68,RIGHT(FIXED(P_15号2様式1!AI68,3,FALSE),4),\"\"))","v":""},{"$f":"IF(P_15号2様式1!AM68<> \"\",TEXT(INT(P_15号2様式1!AM68),\"#,##0\"),\"\")","v":""},{"$f":"IF(P_15号2様式1!AM68= \"\",\"\",IF(VALUE(FIXED(P_15号2様式1!AM68,0,TRUE))<>P_15号2様式1!AM68,RIGHT(FIXED(P_15号2様式1!AM68,3,FALSE),4),\"\"))","v":""},{"$f":"IF(P_15号2様式1!AQ68<> \"\",TEXT(INT(P_15号2様式1!AQ68),\"#,##0\"),\"\")","v":""},{"$f":"IF(P_15号2様式1!AQ68= \"\",\"\",IF(VALUE(FIXED(P_15号2様式1!AQ68,0,TRUE))<>P_15号2様式1!AQ68,RIGHT(FIXED(P_15号2様式1!AQ68,3,FALSE),4),\"\"))","v":""},{"$f":"IF(P_15号2様式1!AU68<> \"\",TEXT(INT(P_15号2様式1!AU68),\"#,##0\"),\"\")","v":""},{"$f":"IF(P_15号2様式1!AU68= \"\",\"\",IF(VALUE(FIXED(P_15号2様式1!AU68,0,TRUE))<>P_15号2様式1!AU68,RIGHT(FIXED(P_15号2様式1!AU68,3,FALSE),4),\"\"))","v":""},{"$f":"IF(P_15号2様式1!AV68<> \"\",TEXT(INT(P_15号2様式1!AV68),\"#,##0\"),\"\")","v":"25,131"},null,{"$f":"IF(P_15号2様式1!AV68= \"\",\"\",IF(VALUE(FIXED(P_15号2様式1!AV68,0,TRUE))<>P_15号2様式1!AV68,RIGHT(FIXED(P_15号2様式1!AV68,3,FALSE),4),\"\"))","v":""}]
[{"$f":"IF(P_15号2様式1!F69=\"\",\"\",P_15号2様式1!F69)","v":"　いちき串木野市"},null,{"$f":"IF(P_15号2様式1!G69=\"\",\"\",P_15号2様式1!G69)","v":100},{"$f":"IF(P_15号2様式1!K69<> \"\",TEXT(INT(P_15号2様式1!K69),\"#,##0\"),\"\")","v":"9,424"},{"$f":"IF(P_15号2様式1!K69= \"\",\"\",IF(VALUE(FIXED(P_15号2様式1!K69,0,TRUE))<>P_15号2様式1!K69,RIGHT(FIXED(P_15号2様式1!K69,3,FALSE),4),\"\"))","v":""},{"$f":"IF(P_15号2様式1!O69<> \"\",TEXT(INT(P_15号2様式1!O69),\"#,##0\"),\"\")","v":"7,534"},{"$f":"IF(P_15号2様式1!O69= \"\",\"\",IF(VALUE(FIXED(P_15号2様式1!O69,0,TRUE))<>P_15号2様式1!O69,RIGHT(FIXED(P_15号2様式1!O69,3,FALSE),4),\"\"))","v":""},{"$f":"IF(P_15号2様式1!S69<> \"\",TEXT(INT(P_15号2様式1!S69),\"#,##0\"),\"\")","v":"1,038"},{"$f":"IF(P_15号2様式1!S69= \"\",\"\",IF(VALUE(FIXED(P_15号2様式1!S69,0,TRUE))<>P_15号2様式1!S69,RIGHT(FIXED(P_15号2様式1!S69,3,FALSE),4),\"\"))","v":""},{"$f":"IF(P_15号2様式1!W69<> \"\",TEXT(INT(P_15号2様式1!W69),\"#,##0\"),\"\")","v":""},{"$f":"IF(P_15号2様式1!W69= \"\",\"\",IF(VALUE(FIXED(P_15号2様式1!W69,0,TRUE))<>P_15号2様式1!W69,RIGHT(FIXED(P_15号2様式1!W69,3,FALSE),4),\"\"))","v":""},{"$f":"IF(P_15号2様式1!AA69<> \"\",TEXT(INT(P_15号2様式1!AA69),\"#,##0\"),\"\")","v":""},{"$f":"IF(P_15号2様式1!AA69= \"\",\"\",IF(VALUE(FIXED(P_15号2様式1!AA69,0,TRUE))<>P_15号2様式1!AA69,RIGHT(FIXED(P_15号2様式1!AA69,3,FALSE),4),\"\"))","v":""},{"$f":"IF(P_15号2様式1!AE69<> \"\",TEXT(INT(P_15号2様式1!AE69),\"#,##0\"),\"\")","v":""},{"$f":"IF(P_15号2様式1!AE69= \"\",\"\",IF(VALUE(FIXED(P_15号2様式1!AE69,0,TRUE))<>P_15号2様式1!AE69,RIGHT(FIXED(P_15号2様式1!AE69,3,FALSE),4),\"\"))","v":""},{"$f":"IF(P_15号2様式1!AI69<> \"\",TEXT(INT(P_15号2様式1!AI69),\"#,##0\"),\"\")","v":""},{"$f":"IF(P_15号2様式1!AI69= \"\",\"\",IF(VALUE(FIXED(P_15号2様式1!AI69,0,TRUE))<>P_15号2様式1!AI69,RIGHT(FIXED(P_15号2様式1!AI69,3,FALSE),4),\"\"))","v":""},{"$f":"IF(P_15号2様式1!AM69<> \"\",TEXT(INT(P_15号2様式1!AM69),\"#,##0\"),\"\")","v":""},{"$f":"IF(P_15号2様式1!AM69= \"\",\"\",IF(VALUE(FIXED(P_15号2様式1!AM69,0,TRUE))<>P_15号2様式1!AM69,RIGHT(FIXED(P_15号2様式1!AM69,3,FALSE),4),\"\"))","v":""},{"$f":"IF(P_15号2様式1!AQ69<> \"\",TEXT(INT(P_15号2様式1!AQ69),\"#,##0\"),\"\")","v":""},{"$f":"IF(P_15号2様式1!AQ69= \"\",\"\",IF(VALUE(FIXED(P_15号2様式1!AQ69,0,TRUE))<>P_15号2様式1!AQ69,RIGHT(FIXED(P_15号2様式1!AQ69,3,FALSE),4),\"\"))","v":""},{"$f":"IF(P_15号2様式1!AU69<> \"\",TEXT(INT(P_15号2様式1!AU69),\"#,##0\"),\"\")","v":""},{"$f":"IF(P_15号2様式1!AU69= \"\",\"\",IF(VALUE(FIXED(P_15号2様式1!AU69,0,TRUE))<>P_15号2様式1!AU69,RIGHT(FIXED(P_15号2様式1!AU69,3,FALSE),4),\"\"))","v":""},{"$f":"IF(P_15号2様式1!AV69<> \"\",TEXT(INT(P_15号2様式1!AV69),\"#,##0\"),\"\")","v":"17,996"},null,{"$f":"IF(P_15号2様式1!AV69= \"\",\"\",IF(VALUE(FIXED(P_15号2様式1!AV69,0,TRUE))<>P_15号2様式1!AV69,RIGHT(FIXED(P_15号2様式1!AV69,3,FALSE),4),\"\"))","v":""}]
[{"$f":"IF(P_15号2様式1!F70=\"\",\"\",P_15号2様式1!F70)","v":"　伊佐市"},null,{"$f":"IF(P_15号2様式1!G70=\"\",\"\",P_15号2様式1!G70)","v":100},{"$f":"IF(P_15号2様式1!K70<> \"\",TEXT(INT(P_15号2様式1!K70),\"#,##0\"),\"\")","v":"5,098"},{"$f":"IF(P_15号2様式1!K70= \"\",\"\",IF(VALUE(FIXED(P_15号2様式1!K70,0,TRUE))<>P_15号2様式1!K70,RIGHT(FIXED(P_15号2様式1!K70,3,FALSE),4),\"\"))","v":""},{"$f":"IF(P_15号2様式1!O70<> \"\",TEXT(INT(P_15号2様式1!O70),\"#,##0\"),\"\")","v":"8,378"},{"$f":"IF(P_15号2様式1!O70= \"\",\"\",IF(VALUE(FIXED(P_15号2様式1!O70,0,TRUE))<>P_15号2様式1!O70,RIGHT(FIXED(P_15号2様式1!O70,3,FALSE),4),\"\"))","v":""},{"$f":"IF(P_15号2様式1!S70<> \"\",TEXT(INT(P_15号2様式1!S70),\"#,##0\"),\"\")","v":"776"},{"$f":"IF(P_15号2様式1!S70= \"\",\"\",IF(VALUE(FIXED(P_15号2様式1!S70,0,TRUE))<>P_15号2様式1!S70,RIGHT(FIXED(P_15号2様式1!S70,3,FALSE),4),\"\"))","v":""},{"$f":"IF(P_15号2様式1!W70<> \"\",TEXT(INT(P_15号2様式1!W70),\"#,##0\"),\"\")","v":""},{"$f":"IF(P_15号2様式1!W70= \"\",\"\",IF(VALUE(FIXED(P_15号2様式1!W70,0,TRUE))<>P_15号2様式1!W70,RIGHT(FIXED(P_15号2様式1!W70,3,FALSE),4),\"\"))","v":""},{"$f":"IF(P_15号2様式1!AA70<> \"\",TEXT(INT(P_15号2様式1!AA70),\"#,##0\"),\"\")","v":""},{"$f":"IF(P_15号2様式1!AA70= \"\",\"\",IF(VALUE(FIXED(P_15号2様式1!AA70,0,TRUE))<>P_15号2様式1!AA70,RIGHT(FIXED(P_15号2様式1!AA70,3,FALSE),4),\"\"))","v":""},{"$f":"IF(P_15号2様式1!AE70<> \"\",TEXT(INT(P_15号2様式1!AE70),\"#,##0\"),\"\")","v":""},{"$f":"IF(P_15号2様式1!AE70= \"\",\"\",IF(VALUE(FIXED(P_15号2様式1!AE70,0,TRUE))<>P_15号2様式1!AE70,RIGHT(FIXED(P_15号2様式1!AE70,3,FALSE),4),\"\"))","v":""},{"$f":"IF(P_15号2様式1!AI70<> \"\",TEXT(INT(P_15号2様式1!AI70),\"#,##0\"),\"\")","v":""},{"$f":"IF(P_15号2様式1!AI70= \"\",\"\",IF(VALUE(FIXED(P_15号2様式1!AI70,0,TRUE))<>P_15号2様式1!AI70,RIGHT(FIXED(P_15号2様式1!AI70,3,FALSE),4),\"\"))","v":""},{"$f":"IF(P_15号2様式1!AM70<> \"\",TEXT(INT(P_15号2様式1!AM70),\"#,##0\"),\"\")","v":""},{"$f":"IF(P_15号2様式1!AM70= \"\",\"\",IF(VALUE(FIXED(P_15号2様式1!AM70,0,TRUE))<>P_15号2様式1!AM70,RIGHT(FIXED(P_15号2様式1!AM70,3,FALSE),4),\"\"))","v":""},{"$f":"IF(P_15号2様式1!AQ70<> \"\",TEXT(INT(P_15号2様式1!AQ70),\"#,##0\"),\"\")","v":""},{"$f":"IF(P_15号2様式1!AQ70= \"\",\"\",IF(VALUE(FIXED(P_15号2様式1!AQ70,0,TRUE))<>P_15号2様式1!AQ70,RIGHT(FIXED(P_15号2様式1!AQ70,3,FALSE),4),\"\"))","v":""},{"$f":"IF(P_15号2様式1!AU70<> \"\",TEXT(INT(P_15号2様式1!AU70),\"#,##0\"),\"\")","v":""},{"$f":"IF(P_15号2様式1!AU70= \"\",\"\",IF(VALUE(FIXED(P_15号2様式1!AU70,0,TRUE))<>P_15号2様式1!AU70,RIGHT(FIXED(P_15号2様式1!AU70,3,FALSE),4),\"\"))","v":""},{"$f":"IF(P_15号2様式1!AV70<> \"\",TEXT(INT(P_15号2様式1!AV70),\"#,##0\"),\"\")","v":"14,252"},null,{"$f":"IF(P_15号2様式1!AV70= \"\",\"\",IF(VALUE(FIXED(P_15号2様式1!AV70,0,TRUE))<>P_15号2様式1!AV70,RIGHT(FIXED(P_15号2様式1!AV70,3,FALSE),4),\"\"))","v":""}]
[{"$f":"IF(P_15号2様式1!F71=\"\",\"\",P_15号2様式1!F71)","v":"　姶良市"},null,{"$f":"IF(P_15号2様式1!G71=\"\",\"\",P_15号2様式1!G71)","v":100},{"$f":"IF(P_15号2様式1!K71<> \"\",TEXT(INT(P_15号2様式1!K71),\"#,##0\"),\"\")","v":"14,811"},{"$f":"IF(P_15号2様式1!K71= \"\",\"\",IF(VALUE(FIXED(P_15号2様式1!K71,0,TRUE))<>P_15号2様式1!K71,RIGHT(FIXED(P_15号2様式1!K71,3,FALSE),4),\"\"))","v":""},{"$f":"IF(P_15号2様式1!O71<> \"\",TEXT(INT(P_15号2様式1!O71),\"#,##0\"),\"\")","v":"18,794"},{"$f":"IF(P_15号2様式1!O71= \"\",\"\",IF(VALUE(FIXED(P_15号2様式1!O71,0,TRUE))<>P_15号2様式1!O71,RIGHT(FIXED(P_15号2様式1!O71,3,FALSE),4),\"\"))","v":""},{"$f":"IF(P_15号2様式1!S71<> \"\",TEXT(INT(P_15号2様式1!S71),\"#,##0\"),\"\")","v":"2,451"},{"$f":"IF(P_15号2様式1!S71= \"\",\"\",IF(VALUE(FIXED(P_15号2様式1!S71,0,TRUE))<>P_15号2様式1!S71,RIGHT(FIXED(P_15号2様式1!S71,3,FALSE),4),\"\"))","v":""},{"$f":"IF(P_15号2様式1!W71<> \"\",TEXT(INT(P_15号2様式1!W71),\"#,##0\"),\"\")","v":""},{"$f":"IF(P_15号2様式1!W71= \"\",\"\",IF(VALUE(FIXED(P_15号2様式1!W71,0,TRUE))<>P_15号2様式1!W71,RIGHT(FIXED(P_15号2様式1!W71,3,FALSE),4),\"\"))","v":""},{"$f":"IF(P_15号2様式1!AA71<> \"\",TEXT(INT(P_15号2様式1!AA71),\"#,##0\"),\"\")","v":""},{"$f":"IF(P_15号2様式1!AA71= \"\",\"\",IF(VALUE(FIXED(P_15号2様式1!AA71,0,TRUE))<>P_15号2様式1!AA71,RIGHT(FIXED(P_15号2様式1!AA71,3,FALSE),4),\"\"))","v":""},{"$f":"IF(P_15号2様式1!AE71<> \"\",TEXT(INT(P_15号2様式1!AE71),\"#,##0\"),\"\")","v":""},{"$f":"IF(P_15号2様式1!AE71= \"\",\"\",IF(VALUE(FIXED(P_15号2様式1!AE71,0,TRUE))<>P_15号2様式1!AE71,RIGHT(FIXED(P_15号2様式1!AE71,3,FALSE),4),\"\"))","v":""},{"$f":"IF(P_15号2様式1!AI71<> \"\",TEXT(INT(P_15号2様式1!AI71),\"#,##0\"),\"\")","v":""},{"$f":"IF(P_15号2様式1!AI71= \"\",\"\",IF(VALUE(FIXED(P_15号2様式1!AI71,0,TRUE))<>P_15号2様式1!AI71,RIGHT(FIXED(P_15号2様式1!AI71,3,FALSE),4),\"\"))","v":""},{"$f":"IF(P_15号2様式1!AM71<> \"\",TEXT(INT(P_15号2様式1!AM71),\"#,##0\"),\"\")","v":""},{"$f":"IF(P_15号2様式1!AM71= \"\",\"\",IF(VALUE(FIXED(P_15号2様式1!AM71,0,TRUE))<>P_15号2様式1!AM71,RIGHT(FIXED(P_15号2様式1!AM71,3,FALSE),4),\"\"))","v":""},{"$f":"IF(P_15号2様式1!AQ71<> \"\",TEXT(INT(P_15号2様式1!AQ71),\"#,##0\"),\"\")","v":""},{"$f":"IF(P_15号2様式1!AQ71= \"\",\"\",IF(VALUE(FIXED(P_15号2様式1!AQ71,0,TRUE))<>P_15号2様式1!AQ71,RIGHT(FIXED(P_15号2様式1!AQ71,3,FALSE),4),\"\"))","v":""},{"$f":"IF(P_15号2様式1!AU71<> \"\",TEXT(INT(P_15号2様式1!AU71),\"#,##0\"),\"\")","v":""},{"$f":"IF(P_15号2様式1!AU71= \"\",\"\",IF(VALUE(FIXED(P_15号2様式1!AU71,0,TRUE))<>P_15号2様式1!AU71,RIGHT(FIXED(P_15号2様式1!AU71,3,FALSE),4),\"\"))","v":""},{"$f":"IF(P_15号2様式1!AV71<> \"\",TEXT(INT(P_15号2様式1!AV71),\"#,##0\"),\"\")","v":"36,056"},null,{"$f":"IF(P_15号2様式1!AV71= \"\",\"\",IF(VALUE(FIXED(P_15号2様式1!AV71,0,TRUE))<>P_15号2様式1!AV71,RIGHT(FIXED(P_15号2様式1!AV71,3,FALSE),4),\"\"))","v":""}]
[{"$f":"IF(P_15号2様式1!F72=\"\",\"\",P_15号2様式1!F72)","v":"＊市　部   計"},null,{"$f":"IF(P_15号2様式1!G72=\"\",\"\",P_15号2様式1!G72)","v":100},{"$f":"IF(P_15号2様式1!K72<> \"\",TEXT(INT(P_15号2様式1!K72),\"#,##0\"),\"\")","v":"81,284"},{"$f":"IF(P_15号2様式1!K72= \"\",\"\",IF(VALUE(FIXED(P_15号2様式1!K72,0,TRUE))<>P_15号2様式1!K72,RIGHT(FIXED(P_15号2様式1!K72,3,FALSE),4),\"\"))","v":""},{"$f":"IF(P_15号2様式1!O72<> \"\",TEXT(INT(P_15号2様式1!O72),\"#,##0\"),\"\")","v":"88,256"},{"$f":"IF(P_15号2様式1!O72= \"\",\"\",IF(VALUE(FIXED(P_15号2様式1!O72,0,TRUE))<>P_15号2様式1!O72,RIGHT(FIXED(P_15号2様式1!O72,3,FALSE),4),\"\"))","v":""},{"$f":"IF(P_15号2様式1!S72<> \"\",TEXT(INT(P_15号2様式1!S72),\"#,##0\"),\"\")","v":"9,836"},{"$f":"IF(P_15号2様式1!S72= \"\",\"\",IF(VALUE(FIXED(P_15号2様式1!S72,0,TRUE))<>P_15号2様式1!S72,RIGHT(FIXED(P_15号2様式1!S72,3,FALSE),4),\"\"))","v":""},{"$f":"IF(P_15号2様式1!W72<> \"\",TEXT(INT(P_15号2様式1!W72),\"#,##0\"),\"\")","v":""},{"$f":"IF(P_15号2様式1!W72= \"\",\"\",IF(VALUE(FIXED(P_15号2様式1!W72,0,TRUE))<>P_15号2様式1!W72,RIGHT(FIXED(P_15号2様式1!W72,3,FALSE),4),\"\"))","v":""},{"$f":"IF(P_15号2様式1!AA72<> \"\",TEXT(INT(P_15号2様式1!AA72),\"#,##0\"),\"\")","v":""},{"$f":"IF(P_15号2様式1!AA72= \"\",\"\",IF(VALUE(FIXED(P_15号2様式1!AA72,0,TRUE))<>P_15号2様式1!AA72,RIGHT(FIXED(P_15号2様式1!AA72,3,FALSE),4),\"\"))","v":""},{"$f":"IF(P_15号2様式1!AE72<> \"\",TEXT(INT(P_15号2様式1!AE72),\"#,##0\"),\"\")","v":""},{"$f":"IF(P_15号2様式1!AE72= \"\",\"\",IF(VALUE(FIXED(P_15号2様式1!AE72,0,TRUE))<>P_15号2様式1!AE72,RIGHT(FIXED(P_15号2様式1!AE72,3,FALSE),4),\"\"))","v":""},{"$f":"IF(P_15号2様式1!AI72<> \"\",TEXT(INT(P_15号2様式1!AI72),\"#,##0\"),\"\")","v":""},{"$f":"IF(P_15号2様式1!AI72= \"\",\"\",IF(VALUE(FIXED(P_15号2様式1!AI72,0,TRUE))<>P_15号2様式1!AI72,RIGHT(FIXED(P_15号2様式1!AI72,3,FALSE),4),\"\"))","v":""},{"$f":"IF(P_15号2様式1!AM72<> \"\",TEXT(INT(P_15号2様式1!AM72),\"#,##0\"),\"\")","v":""},{"$f":"IF(P_15号2様式1!AM72= \"\",\"\",IF(VALUE(FIXED(P_15号2様式1!AM72,0,TRUE))<>P_15号2様式1!AM72,RIGHT(FIXED(P_15号2様式1!AM72,3,FALSE),4),\"\"))","v":""},{"$f":"IF(P_15号2様式1!AQ72<> \"\",TEXT(INT(P_15号2様式1!AQ72),\"#,##0\"),\"\")","v":""},{"$f":"IF(P_15号2様式1!AQ72= \"\",\"\",IF(VALUE(FIXED(P_15号2様式1!AQ72,0,TRUE))<>P_15号2様式1!AQ72,RIGHT(FIXED(P_15号2様式1!AQ72,3,FALSE),4),\"\"))","v":""},{"$f":"IF(P_15号2様式1!AU72<> \"\",TEXT(INT(P_15号2様式1!AU72),\"#,##0\"),\"\")","v":""},{"$f":"IF(P_15号2様式1!AU72= \"\",\"\",IF(VALUE(FIXED(P_15号2様式1!AU72,0,TRUE))<>P_15号2様式1!AU72,RIGHT(FIXED(P_15号2様式1!AU72,3,FALSE),4),\"\"))","v":""},{"$f":"IF(P_15号2様式1!AV72<> \"\",TEXT(INT(P_15号2様式1!AV72),\"#,##0\"),\"\")","v":"179,376"},null,{"$f":"IF(P_15号2様式1!AV72= \"\",\"\",IF(VALUE(FIXED(P_15号2様式1!AV72,0,TRUE))<>P_15号2様式1!AV72,RIGHT(FIXED(P_15号2様式1!AV72,3,FALSE),4),\"\"))","v":""}]
[{"$f":"IF(P_15号2様式1!F73=\"\",\"\",P_15号2様式1!F73)","v":"　さつま町"},null,{"$f":"IF(P_15号2様式1!G73=\"\",\"\",P_15号2様式1!G73)","v":100},{"$f":"IF(P_15号2様式1!K73<> \"\",TEXT(INT(P_15号2様式1!K73),\"#,##0\"),\"\")","v":"5,934"},{"$f":"IF(P_15号2様式1!K73= \"\",\"\",IF(VALUE(FIXED(P_15号2様式1!K73,0,TRUE))<>P_15号2様式1!K73,RIGHT(FIXED(P_15号2様式1!K73,3,FALSE),4),\"\"))","v":""},{"$f":"IF(P_15号2様式1!O73<> \"\",TEXT(INT(P_15号2様式1!O73),\"#,##0\"),\"\")","v":"5,922"},{"$f":"IF(P_15号2様式1!O73= \"\",\"\",IF(VALUE(FIXED(P_15号2様式1!O73,0,TRUE))<>P_15号2様式1!O73,RIGHT(FIXED(P_15号2様式1!O73,3,FALSE),4),\"\"))","v":""},{"$f":"IF(P_15号2様式1!S73<> \"\",TEXT(INT(P_15号2様式1!S73),\"#,##0\"),\"\")","v":"334"},{"$f":"IF(P_15号2様式1!S73= \"\",\"\",IF(VALUE(FIXED(P_15号2様式1!S73,0,TRUE))<>P_15号2様式1!S73,RIGHT(FIXED(P_15号2様式1!S73,3,FALSE),4),\"\"))","v":""},{"$f":"IF(P_15号2様式1!W73<> \"\",TEXT(INT(P_15号2様式1!W73),\"#,##0\"),\"\")","v":""},{"$f":"IF(P_15号2様式1!W73= \"\",\"\",IF(VALUE(FIXED(P_15号2様式1!W73,0,TRUE))<>P_15号2様式1!W73,RIGHT(FIXED(P_15号2様式1!W73,3,FALSE),4),\"\"))","v":""},{"$f":"IF(P_15号2様式1!AA73<> \"\",TEXT(INT(P_15号2様式1!AA73),\"#,##0\"),\"\")","v":""},{"$f":"IF(P_15号2様式1!AA73= \"\",\"\",IF(VALUE(FIXED(P_15号2様式1!AA73,0,TRUE))<>P_15号2様式1!AA73,RIGHT(FIXED(P_15号2様式1!AA73,3,FALSE),4),\"\"))","v":""},{"$f":"IF(P_15号2様式1!AE73<> \"\",TEXT(INT(P_15号2様式1!AE73),\"#,##0\"),\"\")","v":""},{"$f":"IF(P_15号2様式1!AE73= \"\",\"\",IF(VALUE(FIXED(P_15号2様式1!AE73,0,TRUE))<>P_15号2様式1!AE73,RIGHT(FIXED(P_15号2様式1!AE73,3,FALSE),4),\"\"))","v":""},{"$f":"IF(P_15号2様式1!AI73<> \"\",TEXT(INT(P_15号2様式1!AI73),\"#,##0\"),\"\")","v":""},{"$f":"IF(P_15号2様式1!AI73= \"\",\"\",IF(VALUE(FIXED(P_15号2様式1!AI73,0,TRUE))<>P_15号2様式1!AI73,RIGHT(FIXED(P_15号2様式1!AI73,3,FALSE),4),\"\"))","v":""},{"$f":"IF(P_15号2様式1!AM73<> \"\",TEXT(INT(P_15号2様式1!AM73),\"#,##0\"),\"\")","v":""},{"$f":"IF(P_15号2様式1!AM73= \"\",\"\",IF(VALUE(FIXED(P_15号2様式1!AM73,0,TRUE))<>P_15号2様式1!AM73,RIGHT(FIXED(P_15号2様式1!AM73,3,FALSE),4),\"\"))","v":""},{"$f":"IF(P_15号2様式1!AQ73<> \"\",TEXT(INT(P_15号2様式1!AQ73),\"#,##0\"),\"\")","v":""},{"$f":"IF(P_15号2様式1!AQ73= \"\",\"\",IF(VALUE(FIXED(P_15号2様式1!AQ73,0,TRUE))<>P_15号2様式1!AQ73,RIGHT(FIXED(P_15号2様式1!AQ73,3,FALSE),4),\"\"))","v":""},{"$f":"IF(P_15号2様式1!AU73<> \"\",TEXT(INT(P_15号2様式1!AU73),\"#,##0\"),\"\")","v":""},{"$f":"IF(P_15号2様式1!AU73= \"\",\"\",IF(VALUE(FIXED(P_15号2様式1!AU73,0,TRUE))<>P_15号2様式1!AU73,RIGHT(FIXED(P_15号2様式1!AU73,3,FALSE),4),\"\"))","v":""},{"$f":"IF(P_15号2様式1!AV73<> \"\",TEXT(INT(P_15号2様式1!AV73),\"#,##0\"),\"\")","v":"12,190"},null,{"$f":"IF(P_15号2様式1!AV73= \"\",\"\",IF(VALUE(FIXED(P_15号2様式1!AV73,0,TRUE))<>P_15号2様式1!AV73,RIGHT(FIXED(P_15号2様式1!AV73,3,FALSE),4),\"\"))","v":""}]
[{"$f":"IF(P_15号2様式1!F74=\"\",\"\",P_15号2様式1!F74)","v":"＊（薩摩郡）計"},null,{"$f":"IF(P_15号2様式1!G74=\"\",\"\",P_15号2様式1!G74)","v":100},{"$f":"IF(P_15号2様式1!K74<> \"\",TEXT(INT(P_15号2様式1!K74),\"#,##0\"),\"\")","v":"5,934"},{"$f":"IF(P_15号2様式1!K74= \"\",\"\",IF(VALUE(FIXED(P_15号2様式1!K74,0,TRUE))<>P_15号2様式1!K74,RIGHT(FIXED(P_15号2様式1!K74,3,FALSE),4),\"\"))","v":""},{"$f":"IF(P_15号2様式1!O74<> \"\",TEXT(INT(P_15号2様式1!O74),\"#,##0\"),\"\")","v":"5,922"},{"$f":"IF(P_15号2様式1!O74= \"\",\"\",IF(VALUE(FIXED(P_15号2様式1!O74,0,TRUE))<>P_15号2様式1!O74,RIGHT(FIXED(P_15号2様式1!O74,3,FALSE),4),\"\"))","v":""},{"$f":"IF(P_15号2様式1!S74<> \"\",TEXT(INT(P_15号2様式1!S74),\"#,##0\"),\"\")","v":"334"},{"$f":"IF(P_15号2様式1!S74= \"\",\"\",IF(VALUE(FIXED(P_15号2様式1!S74,0,TRUE))<>P_15号2様式1!S74,RIGHT(FIXED(P_15号2様式1!S74,3,FALSE),4),\"\"))","v":""},{"$f":"IF(P_15号2様式1!W74<> \"\",TEXT(INT(P_15号2様式1!W74),\"#,##0\"),\"\")","v":""},{"$f":"IF(P_15号2様式1!W74= \"\",\"\",IF(VALUE(FIXED(P_15号2様式1!W74,0,TRUE))<>P_15号2様式1!W74,RIGHT(FIXED(P_15号2様式1!W74,3,FALSE),4),\"\"))","v":""},{"$f":"IF(P_15号2様式1!AA74<> \"\",TEXT(INT(P_15号2様式1!AA74),\"#,##0\"),\"\")","v":""},{"$f":"IF(P_15号2様式1!AA74= \"\",\"\",IF(VALUE(FIXED(P_15号2様式1!AA74,0,TRUE))<>P_15号2様式1!AA74,RIGHT(FIXED(P_15号2様式1!AA74,3,FALSE),4),\"\"))","v":""},{"$f":"IF(P_15号2様式1!AE74<> \"\",TEXT(INT(P_15号2様式1!AE74),\"#,##0\"),\"\")","v":""},{"$f":"IF(P_15号2様式1!AE74= \"\",\"\",IF(VALUE(FIXED(P_15号2様式1!AE74,0,TRUE))<>P_15号2様式1!AE74,RIGHT(FIXED(P_15号2様式1!AE74,3,FALSE),4),\"\"))","v":""},{"$f":"IF(P_15号2様式1!AI74<> \"\",TEXT(INT(P_15号2様式1!AI74),\"#,##0\"),\"\")","v":""},{"$f":"IF(P_15号2様式1!AI74= \"\",\"\",IF(VALUE(FIXED(P_15号2様式1!AI74,0,TRUE))<>P_15号2様式1!AI74,RIGHT(FIXED(P_15号2様式1!AI74,3,FALSE),4),\"\"))","v":""},{"$f":"IF(P_15号2様式1!AM74<> \"\",TEXT(INT(P_15号2様式1!AM74),\"#,##0\"),\"\")","v":""},{"$f":"IF(P_15号2様式1!AM74= \"\",\"\",IF(VALUE(FIXED(P_15号2様式1!AM74,0,TRUE))<>P_15号2様式1!AM74,RIGHT(FIXED(P_15号2様式1!AM74,3,FALSE),4),\"\"))","v":""},{"$f":"IF(P_15号2様式1!AQ74<> \"\",TEXT(INT(P_15号2様式1!AQ74),\"#,##0\"),\"\")","v":""},{"$f":"IF(P_15号2様式1!AQ74= \"\",\"\",IF(VALUE(FIXED(P_15号2様式1!AQ74,0,TRUE))<>P_15号2様式1!AQ74,RIGHT(FIXED(P_15号2様式1!AQ74,3,FALSE),4),\"\"))","v":""},{"$f":"IF(P_15号2様式1!AU74<> \"\",TEXT(INT(P_15号2様式1!AU74),\"#,##0\"),\"\")","v":""},{"$f":"IF(P_15号2様式1!AU74= \"\",\"\",IF(VALUE(FIXED(P_15号2様式1!AU74,0,TRUE))<>P_15号2様式1!AU74,RIGHT(FIXED(P_15号2様式1!AU74,3,FALSE),4),\"\"))","v":""},{"$f":"IF(P_15号2様式1!AV74<> \"\",TEXT(INT(P_15号2様式1!AV74),\"#,##0\"),\"\")","v":"12,190"},null,{"$f":"IF(P_15号2様式1!AV74= \"\",\"\",IF(VALUE(FIXED(P_15号2様式1!AV74,0,TRUE))<>P_15号2様式1!AV74,RIGHT(FIXED(P_15号2様式1!AV74,3,FALSE),4),\"\"))","v":""}]
[{"$f":"IF(P_15号2様式1!F75=\"\",\"\",P_15号2様式1!F75)","v":"　長島町"},null,{"$f":"IF(P_15号2様式1!G75=\"\",\"\",P_15号2様式1!G75)","v":100},{"$f":"IF(P_15号2様式1!K75<> \"\",TEXT(INT(P_15号2様式1!K75),\"#,##0\"),\"\")","v":"1,361"},{"$f":"IF(P_15号2様式1!K75= \"\",\"\",IF(VALUE(FIXED(P_15号2様式1!K75,0,TRUE))<>P_15号2様式1!K75,RIGHT(FIXED(P_15号2様式1!K75,3,FALSE),4),\"\"))","v":""},{"$f":"IF(P_15号2様式1!O75<> \"\",TEXT(INT(P_15号2様式1!O75),\"#,##0\"),\"\")","v":"4,864"},{"$f":"IF(P_15号2様式1!O75= \"\",\"\",IF(VALUE(FIXED(P_15号2様式1!O75,0,TRUE))<>P_15号2様式1!O75,RIGHT(FIXED(P_15号2様式1!O75,3,FALSE),4),\"\"))","v":""},{"$f":"IF(P_15号2様式1!S75<> \"\",TEXT(INT(P_15号2様式1!S75),\"#,##0\"),\"\")","v":"221"},{"$f":"IF(P_15号2様式1!S75= \"\",\"\",IF(VALUE(FIXED(P_15号2様式1!S75,0,TRUE))<>P_15号2様式1!S75,RIGHT(FIXED(P_15号2様式1!S75,3,FALSE),4),\"\"))","v":""},{"$f":"IF(P_15号2様式1!W75<> \"\",TEXT(INT(P_15号2様式1!W75),\"#,##0\"),\"\")","v":""},{"$f":"IF(P_15号2様式1!W75= \"\",\"\",IF(VALUE(FIXED(P_15号2様式1!W75,0,TRUE))<>P_15号2様式1!W75,RIGHT(FIXED(P_15号2様式1!W75,3,FALSE),4),\"\"))","v":""},{"$f":"IF(P_15号2様式1!AA75<> \"\",TEXT(INT(P_15号2様式1!AA75),\"#,##0\"),\"\")","v":""},{"$f":"IF(P_15号2様式1!AA75= \"\",\"\",IF(VALUE(FIXED(P_15号2様式1!AA75,0,TRUE))<>P_15号2様式1!AA75,RIGHT(FIXED(P_15号2様式1!AA75,3,FALSE),4),\"\"))","v":""},{"$f":"IF(P_15号2様式1!AE75<> \"\",TEXT(INT(P_15号2様式1!AE75),\"#,##0\"),\"\")","v":""},{"$f":"IF(P_15号2様式1!AE75= \"\",\"\",IF(VALUE(FIXED(P_15号2様式1!AE75,0,TRUE))<>P_15号2様式1!AE75,RIGHT(FIXED(P_15号2様式1!AE75,3,FALSE),4),\"\"))","v":""},{"$f":"IF(P_15号2様式1!AI75<> \"\",TEXT(INT(P_15号2様式1!AI75),\"#,##0\"),\"\")","v":""},{"$f":"IF(P_15号2様式1!AI75= \"\",\"\",IF(VALUE(FIXED(P_15号2様式1!AI75,0,TRUE))<>P_15号2様式1!AI75,RIGHT(FIXED(P_15号2様式1!AI75,3,FALSE),4),\"\"))","v":""},{"$f":"IF(P_15号2様式1!AM75<> \"\",TEXT(INT(P_15号2様式1!AM75),\"#,##0\"),\"\")","v":""},{"$f":"IF(P_15号2様式1!AM75= \"\",\"\",IF(VALUE(FIXED(P_15号2様式1!AM75,0,TRUE))<>P_15号2様式1!AM75,RIGHT(FIXED(P_15号2様式1!AM75,3,FALSE),4),\"\"))","v":""},{"$f":"IF(P_15号2様式1!AQ75<> \"\",TEXT(INT(P_15号2様式1!AQ75),\"#,##0\"),\"\")","v":""},{"$f":"IF(P_15号2様式1!AQ75= \"\",\"\",IF(VALUE(FIXED(P_15号2様式1!AQ75,0,TRUE))<>P_15号2様式1!AQ75,RIGHT(FIXED(P_15号2様式1!AQ75,3,FALSE),4),\"\"))","v":""},{"$f":"IF(P_15号2様式1!AU75<> \"\",TEXT(INT(P_15号2様式1!AU75),\"#,##0\"),\"\")","v":""},{"$f":"IF(P_15号2様式1!AU75= \"\",\"\",IF(VALUE(FIXED(P_15号2様式1!AU75,0,TRUE))<>P_15号2様式1!AU75,RIGHT(FIXED(P_15号2様式1!AU75,3,FALSE),4),\"\"))","v":""},{"$f":"IF(P_15号2様式1!AV75<> \"\",TEXT(INT(P_15号2様式1!AV75),\"#,##0\"),\"\")","v":"6,446"},null,{"$f":"IF(P_15号2様式1!AV75= \"\",\"\",IF(VALUE(FIXED(P_15号2様式1!AV75,0,TRUE))<>P_15号2様式1!AV75,RIGHT(FIXED(P_15号2様式1!AV75,3,FALSE),4),\"\"))","v":""}]
[{"$f":"IF(P_15号2様式1!F76=\"\",\"\",P_15号2様式1!F76)","v":"＊（出水郡）計"},null,{"$f":"IF(P_15号2様式1!G76=\"\",\"\",P_15号2様式1!G76)","v":100},{"$f":"IF(P_15号2様式1!K76<> \"\",TEXT(INT(P_15号2様式1!K76),\"#,##0\"),\"\")","v":"1,361"},{"$f":"IF(P_15号2様式1!K76= \"\",\"\",IF(VALUE(FIXED(P_15号2様式1!K76,0,TRUE))<>P_15号2様式1!K76,RIGHT(FIXED(P_15号2様式1!K76,3,FALSE),4),\"\"))","v":""},{"$f":"IF(P_15号2様式1!O76<> \"\",TEXT(INT(P_15号2様式1!O76),\"#,##0\"),\"\")","v":"4,864"},{"$f":"IF(P_15号2様式1!O76= \"\",\"\",IF(VALUE(FIXED(P_15号2様式1!O76,0,TRUE))<>P_15号2様式1!O76,RIGHT(FIXED(P_15号2様式1!O76,3,FALSE),4),\"\"))","v":""},{"$f":"IF(P_15号2様式1!S76<> \"\",TEXT(INT(P_15号2様式1!S76),\"#,##0\"),\"\")","v":"221"},{"$f":"IF(P_15号2様式1!S76= \"\",\"\",IF(VALUE(FIXED(P_15号2様式1!S76,0,TRUE))<>P_15号2様式1!S76,RIGHT(FIXED(P_15号2様式1!S76,3,FALSE),4),\"\"))","v":""},{"$f":"IF(P_15号2様式1!W76<> \"\",TEXT(INT(P_15号2様式1!W76),\"#,##0\"),\"\")","v":""},{"$f":"IF(P_15号2様式1!W76= \"\",\"\",IF(VALUE(FIXED(P_15号2様式1!W76,0,TRUE))<>P_15号2様式1!W76,RIGHT(FIXED(P_15号2様式1!W76,3,FALSE),4),\"\"))","v":""},{"$f":"IF(P_15号2様式1!AA76<> \"\",TEXT(INT(P_15号2様式1!AA76),\"#,##0\"),\"\")","v":""},{"$f":"IF(P_15号2様式1!AA76= \"\",\"\",IF(VALUE(FIXED(P_15号2様式1!AA76,0,TRUE))<>P_15号2様式1!AA76,RIGHT(FIXED(P_15号2様式1!AA76,3,FALSE),4),\"\"))","v":""},{"$f":"IF(P_15号2様式1!AE76<> \"\",TEXT(INT(P_15号2様式1!AE76),\"#,##0\"),\"\")","v":""},{"$f":"IF(P_15号2様式1!AE76= \"\",\"\",IF(VALUE(FIXED(P_15号2様式1!AE76,0,TRUE))<>P_15号2様式1!AE76,RIGHT(FIXED(P_15号2様式1!AE76,3,FALSE),4),\"\"))","v":""},{"$f":"IF(P_15号2様式1!AI76<> \"\",TEXT(INT(P_15号2様式1!AI76),\"#,##0\"),\"\")","v":""},{"$f":"IF(P_15号2様式1!AI76= \"\",\"\",IF(VALUE(FIXED(P_15号2様式1!AI76,0,TRUE))<>P_15号2様式1!AI76,RIGHT(FIXED(P_15号2様式1!AI76,3,FALSE),4),\"\"))","v":""},{"$f":"IF(P_15号2様式1!AM76<> \"\",TEXT(INT(P_15号2様式1!AM76),\"#,##0\"),\"\")","v":""},{"$f":"IF(P_15号2様式1!AM76= \"\",\"\",IF(VALUE(FIXED(P_15号2様式1!AM76,0,TRUE))<>P_15号2様式1!AM76,RIGHT(FIXED(P_15号2様式1!AM76,3,FALSE),4),\"\"))","v":""},{"$f":"IF(P_15号2様式1!AQ76<> \"\",TEXT(INT(P_15号2様式1!AQ76),\"#,##0\"),\"\")","v":""},{"$f":"IF(P_15号2様式1!AQ76= \"\",\"\",IF(VALUE(FIXED(P_15号2様式1!AQ76,0,TRUE))<>P_15号2様式1!AQ76,RIGHT(FIXED(P_15号2様式1!AQ76,3,FALSE),4),\"\"))","v":""},{"$f":"IF(P_15号2様式1!AU76<> \"\",TEXT(INT(P_15号2様式1!AU76),\"#,##0\"),\"\")","v":""},{"$f":"IF(P_15号2様式1!AU76= \"\",\"\",IF(VALUE(FIXED(P_15号2様式1!AU76,0,TRUE))<>P_15号2様式1!AU76,RIGHT(FIXED(P_15号2様式1!AU76,3,FALSE),4),\"\"))","v":""},{"$f":"IF(P_15号2様式1!AV76<> \"\",TEXT(INT(P_15号2様式1!AV76),\"#,##0\"),\"\")","v":"6,446"},null,{"$f":"IF(P_15号2様式1!AV76= \"\",\"\",IF(VALUE(FIXED(P_15号2様式1!AV76,0,TRUE))<>P_15号2様式1!AV76,RIGHT(FIXED(P_15号2様式1!AV76,3,FALSE),4),\"\"))","v":""}]
[{"$f":"IF(P_15号2様式1!F77=\"\",\"\",P_15号2様式1!F77)","v":"　湧水町"},null,{"$f":"IF(P_15号2様式1!G77=\"\",\"\",P_15号2様式1!G77)","v":100},{"$f":"IF(P_15号2様式1!K77<> \"\",TEXT(INT(P_15号2様式1!K77),\"#,##0\"),\"\")","v":"1,661"},{"$f":"IF(P_15号2様式1!K77= \"\",\"\",IF(VALUE(FIXED(P_15号2様式1!K77,0,TRUE))<>P_15号2様式1!K77,RIGHT(FIXED(P_15号2様式1!K77,3,FALSE),4),\"\"))","v":""},{"$f":"IF(P_15号2様式1!O77<> \"\",TEXT(INT(P_15号2様式1!O77),\"#,##0\"),\"\")","v":"3,459"},{"$f":"IF(P_15号2様式1!O77= \"\",\"\",IF(VALUE(FIXED(P_15号2様式1!O77,0,TRUE))<>P_15号2様式1!O77,RIGHT(FIXED(P_15号2様式1!O77,3,FALSE),4),\"\"))","v":""},{"$f":"IF(P_15号2様式1!S77<> \"\",TEXT(INT(P_15号2様式1!S77),\"#,##0\"),\"\")","v":"214"},{"$f":"IF(P_15号2様式1!S77= \"\",\"\",IF(VALUE(FIXED(P_15号2様式1!S77,0,TRUE))<>P_15号2様式1!S77,RIGHT(FIXED(P_15号2様式1!S77,3,FALSE),4),\"\"))","v":""},{"$f":"IF(P_15号2様式1!W77<> \"\",TEXT(INT(P_15号2様式1!W77),\"#,##0\"),\"\")","v":""},{"$f":"IF(P_15号2様式1!W77= \"\",\"\",IF(VALUE(FIXED(P_15号2様式1!W77,0,TRUE))<>P_15号2様式1!W77,RIGHT(FIXED(P_15号2様式1!W77,3,FALSE),4),\"\"))","v":""},{"$f":"IF(P_15号2様式1!AA77<> \"\",TEXT(INT(P_15号2様式1!AA77),\"#,##0\"),\"\")","v":""},{"$f":"IF(P_15号2様式1!AA77= \"\",\"\",IF(VALUE(FIXED(P_15号2様式1!AA77,0,TRUE))<>P_15号2様式1!AA77,RIGHT(FIXED(P_15号2様式1!AA77,3,FALSE),4),\"\"))","v":""},{"$f":"IF(P_15号2様式1!AE77<> \"\",TEXT(INT(P_15号2様式1!AE77),\"#,##0\"),\"\")","v":""},{"$f":"IF(P_15号2様式1!AE77= \"\",\"\",IF(VALUE(FIXED(P_15号2様式1!AE77,0,TRUE))<>P_15号2様式1!AE77,RIGHT(FIXED(P_15号2様式1!AE77,3,FALSE),4),\"\"))","v":""},{"$f":"IF(P_15号2様式1!AI77<> \"\",TEXT(INT(P_15号2様式1!AI77),\"#,##0\"),\"\")","v":""},{"$f":"IF(P_15号2様式1!AI77= \"\",\"\",IF(VALUE(FIXED(P_15号2様式1!AI77,0,TRUE))<>P_15号2様式1!AI77,RIGHT(FIXED(P_15号2様式1!AI77,3,FALSE),4),\"\"))","v":""},{"$f":"IF(P_15号2様式1!AM77<> \"\",TEXT(INT(P_15号2様式1!AM77),\"#,##0\"),\"\")","v":""},{"$f":"IF(P_15号2様式1!AM77= \"\",\"\",IF(VALUE(FIXED(P_15号2様式1!AM77,0,TRUE))<>P_15号2様式1!AM77,RIGHT(FIXED(P_15号2様式1!AM77,3,FALSE),4),\"\"))","v":""},{"$f":"IF(P_15号2様式1!AQ77<> \"\",TEXT(INT(P_15号2様式1!AQ77),\"#,##0\"),\"\")","v":""},{"$f":"IF(P_15号2様式1!AQ77= \"\",\"\",IF(VALUE(FIXED(P_15号2様式1!AQ77,0,TRUE))<>P_15号2様式1!AQ77,RIGHT(FIXED(P_15号2様式1!AQ77,3,FALSE),4),\"\"))","v":""},{"$f":"IF(P_15号2様式1!AU77<> \"\",TEXT(INT(P_15号2様式1!AU77),\"#,##0\"),\"\")","v":""},{"$f":"IF(P_15号2様式1!AU77= \"\",\"\",IF(VALUE(FIXED(P_15号2様式1!AU77,0,TRUE))<>P_15号2様式1!AU77,RIGHT(FIXED(P_15号2様式1!AU77,3,FALSE),4),\"\"))","v":""},{"$f":"IF(P_15号2様式1!AV77<> \"\",TEXT(INT(P_15号2様式1!AV77),\"#,##0\"),\"\")","v":"5,334"},null,{"$f":"IF(P_15号2様式1!AV77= \"\",\"\",IF(VALUE(FIXED(P_15号2様式1!AV77,0,TRUE))<>P_15号2様式1!AV77,RIGHT(FIXED(P_15号2様式1!AV77,3,FALSE),4),\"\"))","v":""}]
[{"$f":"IF(P_15号2様式1!F78=\"\",\"\",P_15号2様式1!F78)","v":"＊（姶良郡）計"},null,{"$f":"IF(P_15号2様式1!G78=\"\",\"\",P_15号2様式1!G78)","v":100},{"$f":"IF(P_15号2様式1!K78<> \"\",TEXT(INT(P_15号2様式1!K78),\"#,##0\"),\"\")","v":"1,661"},{"$f":"IF(P_15号2様式1!K78= \"\",\"\",IF(VALUE(FIXED(P_15号2様式1!K78,0,TRUE))<>P_15号2様式1!K78,RIGHT(FIXED(P_15号2様式1!K78,3,FALSE),4),\"\"))","v":""},{"$f":"IF(P_15号2様式1!O78<> \"\",TEXT(INT(P_15号2様式1!O78),\"#,##0\"),\"\")","v":"3,459"},{"$f":"IF(P_15号2様式1!O78= \"\",\"\",IF(VALUE(FIXED(P_15号2様式1!O78,0,TRUE))<>P_15号2様式1!O78,RIGHT(FIXED(P_15号2様式1!O78,3,FALSE),4),\"\"))","v":""},{"$f":"IF(P_15号2様式1!S78<> \"\",TEXT(INT(P_15号2様式1!S78),\"#,##0\"),\"\")","v":"214"},{"$f":"IF(P_15号2様式1!S78= \"\",\"\",IF(VALUE(FIXED(P_15号2様式1!S78,0,TRUE))<>P_15号2様式1!S78,RIGHT(FIXED(P_15号2様式1!S78,3,FALSE),4),\"\"))","v":""},{"$f":"IF(P_15号2様式1!W78<> \"\",TEXT(INT(P_15号2様式1!W78),\"#,##0\"),\"\")","v":""},{"$f":"IF(P_15号2様式1!W78= \"\",\"\",IF(VALUE(FIXED(P_15号2様式1!W78,0,TRUE))<>P_15号2様式1!W78,RIGHT(FIXED(P_15号2様式1!W78,3,FALSE),4),\"\"))","v":""},{"$f":"IF(P_15号2様式1!AA78<> \"\",TEXT(INT(P_15号2様式1!AA78),\"#,##0\"),\"\")","v":""},{"$f":"IF(P_15号2様式1!AA78= \"\",\"\",IF(VALUE(FIXED(P_15号2様式1!AA78,0,TRUE))<>P_15号2様式1!AA78,RIGHT(FIXED(P_15号2様式1!AA78,3,FALSE),4),\"\"))","v":""},{"$f":"IF(P_15号2様式1!AE78<> \"\",TEXT(INT(P_15号2様式1!AE78),\"#,##0\"),\"\")","v":""},{"$f":"IF(P_15号2様式1!AE78= \"\",\"\",IF(VALUE(FIXED(P_15号2様式1!AE78,0,TRUE))<>P_15号2様式1!AE78,RIGHT(FIXED(P_15号2様式1!AE78,3,FALSE),4),\"\"))","v":""},{"$f":"IF(P_15号2様式1!AI78<> \"\",TEXT(INT(P_15号2様式1!AI78),\"#,##0\"),\"\")","v":""},{"$f":"IF(P_15号2様式1!AI78= \"\",\"\",IF(VALUE(FIXED(P_15号2様式1!AI78,0,TRUE))<>P_15号2様式1!AI78,RIGHT(FIXED(P_15号2様式1!AI78,3,FALSE),4),\"\"))","v":""},{"$f":"IF(P_15号2様式1!AM78<> \"\",TEXT(INT(P_15号2様式1!AM78),\"#,##0\"),\"\")","v":""},{"$f":"IF(P_15号2様式1!AM78= \"\",\"\",IF(VALUE(FIXED(P_15号2様式1!AM78,0,TRUE))<>P_15号2様式1!AM78,RIGHT(FIXED(P_15号2様式1!AM78,3,FALSE),4),\"\"))","v":""},{"$f":"IF(P_15号2様式1!AQ78<> \"\",TEXT(INT(P_15号2様式1!AQ78),\"#,##0\"),\"\")","v":""},{"$f":"IF(P_15号2様式1!AQ78= \"\",\"\",IF(VALUE(FIXED(P_15号2様式1!AQ78,0,TRUE))<>P_15号2様式1!AQ78,RIGHT(FIXED(P_15号2様式1!AQ78,3,FALSE),4),\"\"))","v":""},{"$f":"IF(P_15号2様式1!AU78<> \"\",TEXT(INT(P_15号2様式1!AU78),\"#,##0\"),\"\")","v":""},{"$f":"IF(P_15号2様式1!AU78= \"\",\"\",IF(VALUE(FIXED(P_15号2様式1!AU78,0,TRUE))<>P_15号2様式1!AU78,RIGHT(FIXED(P_15号2様式1!AU78,3,FALSE),4),\"\"))","v":""},{"$f":"IF(P_15号2様式1!AV78<> \"\",TEXT(INT(P_15号2様式1!AV78),\"#,##0\"),\"\")","v":"5,334"},null,{"$f":"IF(P_15号2様式1!AV78= \"\",\"\",IF(VALUE(FIXED(P_15号2様式1!AV78,0,TRUE))<>P_15号2様式1!AV78,RIGHT(FIXED(P_15号2様式1!AV78,3,FALSE),4),\"\"))","v":""}]
[{"$f":"IF(P_15号2様式1!F79=\"\",\"\",P_15号2様式1!F79)","v":"＊郡　部   計"},null,{"$f":"IF(P_15号2様式1!G79=\"\",\"\",P_15号2様式1!G79)","v":100},{"$f":"IF(P_15号2様式1!K79<> \"\",TEXT(INT(P_15号2様式1!K79),\"#,##0\"),\"\")","v":"8,956"},{"$f":"IF(P_15号2様式1!K79= \"\",\"\",IF(VALUE(FIXED(P_15号2様式1!K79,0,TRUE))<>P_15号2様式1!K79,RIGHT(FIXED(P_15号2様式1!K79,3,FALSE),4),\"\"))","v":""},{"$f":"IF(P_15号2様式1!O79<> \"\",TEXT(INT(P_15号2様式1!O79),\"#,##0\"),\"\")","v":"14,245"},{"$f":"IF(P_15号2様式1!O79= \"\",\"\",IF(VALUE(FIXED(P_15号2様式1!O79,0,TRUE))<>P_15号2様式1!O79,RIGHT(FIXED(P_15号2様式1!O79,3,FALSE),4),\"\"))","v":""},{"$f":"IF(P_15号2様式1!S79<> \"\",TEXT(INT(P_15号2様式1!S79),\"#,##0\"),\"\")","v":"769"},{"$f":"IF(P_15号2様式1!S79= \"\",\"\",IF(VALUE(FIXED(P_15号2様式1!S79,0,TRUE))<>P_15号2様式1!S79,RIGHT(FIXED(P_15号2様式1!S79,3,FALSE),4),\"\"))","v":""},{"$f":"IF(P_15号2様式1!W79<> \"\",TEXT(INT(P_15号2様式1!W79),\"#,##0\"),\"\")","v":""},{"$f":"IF(P_15号2様式1!W79= \"\",\"\",IF(VALUE(FIXED(P_15号2様式1!W79,0,TRUE))<>P_15号2様式1!W79,RIGHT(FIXED(P_15号2様式1!W79,3,FALSE),4),\"\"))","v":""},{"$f":"IF(P_15号2様式1!AA79<> \"\",TEXT(INT(P_15号2様式1!AA79),\"#,##0\"),\"\")","v":""},{"$f":"IF(P_15号2様式1!AA79= \"\",\"\",IF(VALUE(FIXED(P_15号2様式1!AA79,0,TRUE))<>P_15号2様式1!AA79,RIGHT(FIXED(P_15号2様式1!AA79,3,FALSE),4),\"\"))","v":""},{"$f":"IF(P_15号2様式1!AE79<> \"\",TEXT(INT(P_15号2様式1!AE79),\"#,##0\"),\"\")","v":""},{"$f":"IF(P_15号2様式1!AE79= \"\",\"\",IF(VALUE(FIXED(P_15号2様式1!AE79,0,TRUE))<>P_15号2様式1!AE79,RIGHT(FIXED(P_15号2様式1!AE79,3,FALSE),4),\"\"))","v":""},{"$f":"IF(P_15号2様式1!AI79<> \"\",TEXT(INT(P_15号2様式1!AI79),\"#,##0\"),\"\")","v":""},{"$f":"IF(P_15号2様式1!AI79= \"\",\"\",IF(VALUE(FIXED(P_15号2様式1!AI79,0,TRUE))<>P_15号2様式1!AI79,RIGHT(FIXED(P_15号2様式1!AI79,3,FALSE),4),\"\"))","v":""},{"$f":"IF(P_15号2様式1!AM79<> \"\",TEXT(INT(P_15号2様式1!AM79),\"#,##0\"),\"\")","v":""},{"$f":"IF(P_15号2様式1!AM79= \"\",\"\",IF(VALUE(FIXED(P_15号2様式1!AM79,0,TRUE))<>P_15号2様式1!AM79,RIGHT(FIXED(P_15号2様式1!AM79,3,FALSE),4),\"\"))","v":""},{"$f":"IF(P_15号2様式1!AQ79<> \"\",TEXT(INT(P_15号2様式1!AQ79),\"#,##0\"),\"\")","v":""},{"$f":"IF(P_15号2様式1!AQ79= \"\",\"\",IF(VALUE(FIXED(P_15号2様式1!AQ79,0,TRUE))<>P_15号2様式1!AQ79,RIGHT(FIXED(P_15号2様式1!AQ79,3,FALSE),4),\"\"))","v":""},{"$f":"IF(P_15号2様式1!AU79<> \"\",TEXT(INT(P_15号2様式1!AU79),\"#,##0\"),\"\")","v":""},{"$f":"IF(P_15号2様式1!AU79= \"\",\"\",IF(VALUE(FIXED(P_15号2様式1!AU79,0,TRUE))<>P_15号2様式1!AU79,RIGHT(FIXED(P_15号2様式1!AU79,3,FALSE),4),\"\"))","v":""},{"$f":"IF(P_15号2様式1!AV79<> \"\",TEXT(INT(P_15号2様式1!AV79),\"#,##0\"),\"\")","v":"23,970"},null,{"$f":"IF(P_15号2様式1!AV79= \"\",\"\",IF(VALUE(FIXED(P_15号2様式1!AV79,0,TRUE))<>P_15号2様式1!AV79,RIGHT(FIXED(P_15号2様式1!AV79,3,FALSE),4),\"\"))","v":""}]
[{"$f":"IF(P_15号2様式1!F80=\"\",\"\",P_15号2様式1!F80)","v":"＊第 ３ 区 計"},null,{"$f":"IF(P_15号2様式1!G80=\"\",\"\",P_15号2様式1!G80)","v":100},{"$f":"IF(P_15号2様式1!K80<> \"\",TEXT(INT(P_15号2様式1!K80),\"#,##0\"),\"\")","v":"90,240"},{"$f":"IF(P_15号2様式1!K80= \"\",\"\",IF(VALUE(FIXED(P_15号2様式1!K80,0,TRUE))<>P_15号2様式1!K80,RIGHT(FIXED(P_15号2様式1!K80,3,FALSE),4),\"\"))","v":""},{"$f":"IF(P_15号2様式1!O80<> \"\",TEXT(INT(P_15号2様式1!O80),\"#,##0\"),\"\")","v":"102,501"},{"$f":"IF(P_15号2様式1!O80= \"\",\"\",IF(VALUE(FIXED(P_15号2様式1!O80,0,TRUE))<>P_15号2様式1!O80,RIGHT(FIXED(P_15号2様式1!O80,3,FALSE),4),\"\"))","v":""},{"$f":"IF(P_15号2様式1!S80<> \"\",TEXT(INT(P_15号2様式1!S80),\"#,##0\"),\"\")","v":"10,605"},{"$f":"IF(P_15号2様式1!S80= \"\",\"\",IF(VALUE(FIXED(P_15号2様式1!S80,0,TRUE))<>P_15号2様式1!S80,RIGHT(FIXED(P_15号2様式1!S80,3,FALSE),4),\"\"))","v":""},{"$f":"IF(P_15号2様式1!W80<> \"\",TEXT(INT(P_15号2様式1!W80),\"#,##0\"),\"\")","v":""},{"$f":"IF(P_15号2様式1!W80= \"\",\"\",IF(VALUE(FIXED(P_15号2様式1!W80,0,TRUE))<>P_15号2様式1!W80,RIGHT(FIXED(P_15号2様式1!W80,3,FALSE),4),\"\"))","v":""},{"$f":"IF(P_15号2様式1!AA80<> \"\",TEXT(INT(P_15号2様式1!AA80),\"#,##0\"),\"\")","v":""},{"$f":"IF(P_15号2様式1!AA80= \"\",\"\",IF(VALUE(FIXED(P_15号2様式1!AA80,0,TRUE))<>P_15号2様式1!AA80,RIGHT(FIXED(P_15号2様式1!AA80,3,FALSE),4),\"\"))","v":""},{"$f":"IF(P_15号2様式1!AE80<> \"\",TEXT(INT(P_15号2様式1!AE80),\"#,##0\"),\"\")","v":""},{"$f":"IF(P_15号2様式1!AE80= \"\",\"\",IF(VALUE(FIXED(P_15号2様式1!AE80,0,TRUE))<>P_15号2様式1!AE80,RIGHT(FIXED(P_15号2様式1!AE80,3,FALSE),4),\"\"))","v":""},{"$f":"IF(P_15号2様式1!AI80<> \"\",TEXT(INT(P_15号2様式1!AI80),\"#,##0\"),\"\")","v":""},{"$f":"IF(P_15号2様式1!AI80= \"\",\"\",IF(VALUE(FIXED(P_15号2様式1!AI80,0,TRUE))<>P_15号2様式1!AI80,RIGHT(FIXED(P_15号2様式1!AI80,3,FALSE),4),\"\"))","v":""},{"$f":"IF(P_15号2様式1!AM80<> \"\",TEXT(INT(P_15号2様式1!AM80),\"#,##0\"),\"\")","v":""},{"$f":"IF(P_15号2様式1!AM80= \"\",\"\",IF(VALUE(FIXED(P_15号2様式1!AM80,0,TRUE))<>P_15号2様式1!AM80,RIGHT(FIXED(P_15号2様式1!AM80,3,FALSE),4),\"\"))","v":""},{"$f":"IF(P_15号2様式1!AQ80<> \"\",TEXT(INT(P_15号2様式1!AQ80),\"#,##0\"),\"\")","v":""},{"$f":"IF(P_15号2様式1!AQ80= \"\",\"\",IF(VALUE(FIXED(P_15号2様式1!AQ80,0,TRUE))<>P_15号2様式1!AQ80,RIGHT(FIXED(P_15号2様式1!AQ80,3,FALSE),4),\"\"))","v":""},{"$f":"IF(P_15号2様式1!AU80<> \"\",TEXT(INT(P_15号2様式1!AU80),\"#,##0\"),\"\")","v":""},{"$f":"IF(P_15号2様式1!AU80= \"\",\"\",IF(VALUE(FIXED(P_15号2様式1!AU80,0,TRUE))<>P_15号2様式1!AU80,RIGHT(FIXED(P_15号2様式1!AU80,3,FALSE),4),\"\"))","v":""},{"$f":"IF(P_15号2様式1!AV80<> \"\",TEXT(INT(P_15号2様式1!AV80),\"#,##0\"),\"\")","v":"203,346"},null,{"$f":"IF(P_15号2様式1!AV80= \"\",\"\",IF(VALUE(FIXED(P_15号2様式1!AV80,0,TRUE))<>P_15号2様式1!AV80,RIGHT(FIXED(P_15号2様式1!AV80,3,FALSE),4),\"\"))","v":""}]
[{"$f":"IF(P_15号2様式1!F81=\"\",\"\",P_15号2様式1!F81)","v":""},null,{"$f":"IF(P_15号2様式1!G81=\"\",\"\",P_15号2様式1!G81)","v":""},{"$f":"IF(P_15号2様式1!K81<> \"\",TEXT(INT(P_15号2様式1!K81),\"#,##0\"),\"\")","v":""},{"$f":"IF(P_15号2様式1!K81= \"\",\"\",IF(VALUE(FIXED(P_15号2様式1!K81,0,TRUE))<>P_15号2様式1!K81,RIGHT(FIXED(P_15号2様式1!K81,3,FALSE),4),\"\"))","v":""},{"$f":"IF(P_15号2様式1!O81<> \"\",TEXT(INT(P_15号2様式1!O81),\"#,##0\"),\"\")","v":""},{"$f":"IF(P_15号2様式1!O81= \"\",\"\",IF(VALUE(FIXED(P_15号2様式1!O81,0,TRUE))<>P_15号2様式1!O81,RIGHT(FIXED(P_15号2様式1!O81,3,FALSE),4),\"\"))","v":""},{"$f":"IF(P_15号2様式1!S81<> \"\",TEXT(INT(P_15号2様式1!S81),\"#,##0\"),\"\")","v":""},{"$f":"IF(P_15号2様式1!S81= \"\",\"\",IF(VALUE(FIXED(P_15号2様式1!S81,0,TRUE))<>P_15号2様式1!S81,RIGHT(FIXED(P_15号2様式1!S81,3,FALSE),4),\"\"))","v":""},{"$f":"IF(P_15号2様式1!W81<> \"\",TEXT(INT(P_15号2様式1!W81),\"#,##0\"),\"\")","v":""},{"$f":"IF(P_15号2様式1!W81= \"\",\"\",IF(VALUE(FIXED(P_15号2様式1!W81,0,TRUE))<>P_15号2様式1!W81,RIGHT(FIXED(P_15号2様式1!W81,3,FALSE),4),\"\"))","v":""},{"$f":"IF(P_15号2様式1!AA81<> \"\",TEXT(INT(P_15号2様式1!AA81),\"#,##0\"),\"\")","v":""},{"$f":"IF(P_15号2様式1!AA81= \"\",\"\",IF(VALUE(FIXED(P_15号2様式1!AA81,0,TRUE))<>P_15号2様式1!AA81,RIGHT(FIXED(P_15号2様式1!AA81,3,FALSE),4),\"\"))","v":""},{"$f":"IF(P_15号2様式1!AE81<> \"\",TEXT(INT(P_15号2様式1!AE81),\"#,##0\"),\"\")","v":""},{"$f":"IF(P_15号2様式1!AE81= \"\",\"\",IF(VALUE(FIXED(P_15号2様式1!AE81,0,TRUE))<>P_15号2様式1!AE81,RIGHT(FIXED(P_15号2様式1!AE81,3,FALSE),4),\"\"))","v":""},{"$f":"IF(P_15号2様式1!AI81<> \"\",TEXT(INT(P_15号2様式1!AI81),\"#,##0\"),\"\")","v":""},{"$f":"IF(P_15号2様式1!AI81= \"\",\"\",IF(VALUE(FIXED(P_15号2様式1!AI81,0,TRUE))<>P_15号2様式1!AI81,RIGHT(FIXED(P_15号2様式1!AI81,3,FALSE),4),\"\"))","v":""},{"$f":"IF(P_15号2様式1!AM81<> \"\",TEXT(INT(P_15号2様式1!AM81),\"#,##0\"),\"\")","v":""},{"$f":"IF(P_15号2様式1!AM81= \"\",\"\",IF(VALUE(FIXED(P_15号2様式1!AM81,0,TRUE))<>P_15号2様式1!AM81,RIGHT(FIXED(P_15号2様式1!AM81,3,FALSE),4),\"\"))","v":""},{"$f":"IF(P_15号2様式1!AQ81<> \"\",TEXT(INT(P_15号2様式1!AQ81),\"#,##0\"),\"\")","v":""},{"$f":"IF(P_15号2様式1!AQ81= \"\",\"\",IF(VALUE(FIXED(P_15号2様式1!AQ81,0,TRUE))<>P_15号2様式1!AQ81,RIGHT(FIXED(P_15号2様式1!AQ81,3,FALSE),4),\"\"))","v":""},{"$f":"IF(P_15号2様式1!AU81<> \"\",TEXT(INT(P_15号2様式1!AU81),\"#,##0\"),\"\")","v":""},{"$f":"IF(P_15号2様式1!AU81= \"\",\"\",IF(VALUE(FIXED(P_15号2様式1!AU81,0,TRUE))<>P_15号2様式1!AU81,RIGHT(FIXED(P_15号2様式1!AU81,3,FALSE),4),\"\"))","v":""},{"$f":"IF(P_15号2様式1!AV81<> \"\",TEXT(INT(P_15号2様式1!AV81),\"#,##0\"),\"\")","v":""},null,{"$f":"IF(P_15号2様式1!AV81= \"\",\"\",IF(VALUE(FIXED(P_15号2様式1!AV81,0,TRUE))<>P_15号2様式1!AV81,RIGHT(FIXED(P_15号2様式1!AV81,3,FALSE),4),\"\"))","v":""}]
[{"$f":"IF(P_15号2様式1!F82=\"\",\"\",P_15号2様式1!F82)","v":""},null,{"$f":"IF(P_15号2様式1!G82=\"\",\"\",P_15号2様式1!G82)","v":""},{"$f":"IF(P_15号2様式1!K82<> \"\",TEXT(INT(P_15号2様式1!K82),\"#,##0\"),\"\")","v":""},{"$f":"IF(P_15号2様式1!K82= \"\",\"\",IF(VALUE(FIXED(P_15号2様式1!K82,0,TRUE))<>P_15号2様式1!K82,RIGHT(FIXED(P_15号2様式1!K82,3,FALSE),4),\"\"))","v":""},{"$f":"IF(P_15号2様式1!O82<> \"\",TEXT(INT(P_15号2様式1!O82),\"#,##0\"),\"\")","v":""},{"$f":"IF(P_15号2様式1!O82= \"\",\"\",IF(VALUE(FIXED(P_15号2様式1!O82,0,TRUE))<>P_15号2様式1!O82,RIGHT(FIXED(P_15号2様式1!O82,3,FALSE),4),\"\"))","v":""},{"$f":"IF(P_15号2様式1!S82<> \"\",TEXT(INT(P_15号2様式1!S82),\"#,##0\"),\"\")","v":""},{"$f":"IF(P_15号2様式1!S82= \"\",\"\",IF(VALUE(FIXED(P_15号2様式1!S82,0,TRUE))<>P_15号2様式1!S82,RIGHT(FIXED(P_15号2様式1!S82,3,FALSE),4),\"\"))","v":""},{"$f":"IF(P_15号2様式1!W82<> \"\",TEXT(INT(P_15号2様式1!W82),\"#,##0\"),\"\")","v":""},{"$f":"IF(P_15号2様式1!W82= \"\",\"\",IF(VALUE(FIXED(P_15号2様式1!W82,0,TRUE))<>P_15号2様式1!W82,RIGHT(FIXED(P_15号2様式1!W82,3,FALSE),4),\"\"))","v":""},{"$f":"IF(P_15号2様式1!AA82<> \"\",TEXT(INT(P_15号2様式1!AA82),\"#,##0\"),\"\")","v":""},{"$f":"IF(P_15号2様式1!AA82= \"\",\"\",IF(VALUE(FIXED(P_15号2様式1!AA82,0,TRUE))<>P_15号2様式1!AA82,RIGHT(FIXED(P_15号2様式1!AA82,3,FALSE),4),\"\"))","v":""},{"$f":"IF(P_15号2様式1!AE82<> \"\",TEXT(INT(P_15号2様式1!AE82),\"#,##0\"),\"\")","v":""},{"$f":"IF(P_15号2様式1!AE82= \"\",\"\",IF(VALUE(FIXED(P_15号2様式1!AE82,0,TRUE))<>P_15号2様式1!AE82,RIGHT(FIXED(P_15号2様式1!AE82,3,FALSE),4),\"\"))","v":""},{"$f":"IF(P_15号2様式1!AI82<> \"\",TEXT(INT(P_15号2様式1!AI82),\"#,##0\"),\"\")","v":""},{"$f":"IF(P_15号2様式1!AI82= \"\",\"\",IF(VALUE(FIXED(P_15号2様式1!AI82,0,TRUE))<>P_15号2様式1!AI82,RIGHT(FIXED(P_15号2様式1!AI82,3,FALSE),4),\"\"))","v":""},{"$f":"IF(P_15号2様式1!AM82<> \"\",TEXT(INT(P_15号2様式1!AM82),\"#,##0\"),\"\")","v":""},{"$f":"IF(P_15号2様式1!AM82= \"\",\"\",IF(VALUE(FIXED(P_15号2様式1!AM82,0,TRUE))<>P_15号2様式1!AM82,RIGHT(FIXED(P_15号2様式1!AM82,3,FALSE),4),\"\"))","v":""},{"$f":"IF(P_15号2様式1!AQ82<> \"\",TEXT(INT(P_15号2様式1!AQ82),\"#,##0\"),\"\")","v":""},{"$f":"IF(P_15号2様式1!AQ82= \"\",\"\",IF(VALUE(FIXED(P_15号2様式1!AQ82,0,TRUE))<>P_15号2様式1!AQ82,RIGHT(FIXED(P_15号2様式1!AQ82,3,FALSE),4),\"\"))","v":""},{"$f":"IF(P_15号2様式1!AU82<> \"\",TEXT(INT(P_15号2様式1!AU82),\"#,##0\"),\"\")","v":""},{"$f":"IF(P_15号2様式1!AU82= \"\",\"\",IF(VALUE(FIXED(P_15号2様式1!AU82,0,TRUE))<>P_15号2様式1!AU82,RIGHT(FIXED(P_15号2様式1!AU82,3,FALSE),4),\"\"))","v":""},{"$f":"IF(P_15号2様式1!AV82<> \"\",TEXT(INT(P_15号2様式1!AV82),\"#,##0\"),\"\")","v":""},null,{"$f":"IF(P_15号2様式1!AV82= \"\",\"\",IF(VALUE(FIXED(P_15号2様式1!AV82,0,TRUE))<>P_15号2様式1!AV82,RIGHT(FIXED(P_15号2様式1!AV82,3,FALSE),4),\"\"))","v":""}]
[{"$f":"IF(P_15号2様式1!F83=\"\",\"\",P_15号2様式1!F83)","v":""},null,{"$f":"IF(P_15号2様式1!G83=\"\",\"\",P_15号2様式1!G83)","v":""},{"$f":"IF(P_15号2様式1!K83<> \"\",TEXT(INT(P_15号2様式1!K83),\"#,##0\"),\"\")","v":""},{"$f":"IF(P_15号2様式1!K83= \"\",\"\",IF(VALUE(FIXED(P_15号2様式1!K83,0,TRUE))<>P_15号2様式1!K83,RIGHT(FIXED(P_15号2様式1!K83,3,FALSE),4),\"\"))","v":""},{"$f":"IF(P_15号2様式1!O83<> \"\",TEXT(INT(P_15号2様式1!O83),\"#,##0\"),\"\")","v":""},{"$f":"IF(P_15号2様式1!O83= \"\",\"\",IF(VALUE(FIXED(P_15号2様式1!O83,0,TRUE))<>P_15号2様式1!O83,RIGHT(FIXED(P_15号2様式1!O83,3,FALSE),4),\"\"))","v":""},{"$f":"IF(P_15号2様式1!S83<> \"\",TEXT(INT(P_15号2様式1!S83),\"#,##0\"),\"\")","v":""},{"$f":"IF(P_15号2様式1!S83= \"\",\"\",IF(VALUE(FIXED(P_15号2様式1!S83,0,TRUE))<>P_15号2様式1!S83,RIGHT(FIXED(P_15号2様式1!S83,3,FALSE),4),\"\"))","v":""},{"$f":"IF(P_15号2様式1!W83<> \"\",TEXT(INT(P_15号2様式1!W83),\"#,##0\"),\"\")","v":""},{"$f":"IF(P_15号2様式1!W83= \"\",\"\",IF(VALUE(FIXED(P_15号2様式1!W83,0,TRUE))<>P_15号2様式1!W83,RIGHT(FIXED(P_15号2様式1!W83,3,FALSE),4),\"\"))","v":""},{"$f":"IF(P_15号2様式1!AA83<> \"\",TEXT(INT(P_15号2様式1!AA83),\"#,##0\"),\"\")","v":""},{"$f":"IF(P_15号2様式1!AA83= \"\",\"\",IF(VALUE(FIXED(P_15号2様式1!AA83,0,TRUE))<>P_15号2様式1!AA83,RIGHT(FIXED(P_15号2様式1!AA83,3,FALSE),4),\"\"))","v":""},{"$f":"IF(P_15号2様式1!AE83<> \"\",TEXT(INT(P_15号2様式1!AE83),\"#,##0\"),\"\")","v":""},{"$f":"IF(P_15号2様式1!AE83= \"\",\"\",IF(VALUE(FIXED(P_15号2様式1!AE83,0,TRUE))<>P_15号2様式1!AE83,RIGHT(FIXED(P_15号2様式1!AE83,3,FALSE),4),\"\"))","v":""},{"$f":"IF(P_15号2様式1!AI83<> \"\",TEXT(INT(P_15号2様式1!AI83),\"#,##0\"),\"\")","v":""},{"$f":"IF(P_15号2様式1!AI83= \"\",\"\",IF(VALUE(FIXED(P_15号2様式1!AI83,0,TRUE))<>P_15号2様式1!AI83,RIGHT(FIXED(P_15号2様式1!AI83,3,FALSE),4),\"\"))","v":""},{"$f":"IF(P_15号2様式1!AM83<> \"\",TEXT(INT(P_15号2様式1!AM83),\"#,##0\"),\"\")","v":""},{"$f":"IF(P_15号2様式1!AM83= \"\",\"\",IF(VALUE(FIXED(P_15号2様式1!AM83,0,TRUE))<>P_15号2様式1!AM83,RIGHT(FIXED(P_15号2様式1!AM83,3,FALSE),4),\"\"))","v":""},{"$f":"IF(P_15号2様式1!AQ83<> \"\",TEXT(INT(P_15号2様式1!AQ83),\"#,##0\"),\"\")","v":""},{"$f":"IF(P_15号2様式1!AQ83= \"\",\"\",IF(VALUE(FIXED(P_15号2様式1!AQ83,0,TRUE))<>P_15号2様式1!AQ83,RIGHT(FIXED(P_15号2様式1!AQ83,3,FALSE),4),\"\"))","v":""},{"$f":"IF(P_15号2様式1!AU83<> \"\",TEXT(INT(P_15号2様式1!AU83),\"#,##0\"),\"\")","v":""},{"$f":"IF(P_15号2様式1!AU83= \"\",\"\",IF(VALUE(FIXED(P_15号2様式1!AU83,0,TRUE))<>P_15号2様式1!AU83,RIGHT(FIXED(P_15号2様式1!AU83,3,FALSE),4),\"\"))","v":""},{"$f":"IF(P_15号2様式1!AV83<> \"\",TEXT(INT(P_15号2様式1!AV83),\"#,##0\"),\"\")","v":""},null,{"$f":"IF(P_15号2様式1!AV83= \"\",\"\",IF(VALUE(FIXED(P_15号2様式1!AV83,0,TRUE))<>P_15号2様式1!AV83,RIGHT(FIXED(P_15号2様式1!AV83,3,FALSE),4),\"\"))","v":""}]
[{"$f":"IF(P_15号2様式1!F84=\"\",\"\",P_15号2様式1!F84)","v":""},null,{"$f":"IF(P_15号2様式1!G84=\"\",\"\",P_15号2様式1!G84)","v":""},{"$f":"IF(P_15号2様式1!K84<> \"\",TEXT(INT(P_15号2様式1!K84),\"#,##0\"),\"\")","v":""},{"$f":"IF(P_15号2様式1!K84= \"\",\"\",IF(VALUE(FIXED(P_15号2様式1!K84,0,TRUE))<>P_15号2様式1!K84,RIGHT(FIXED(P_15号2様式1!K84,3,FALSE),4),\"\"))","v":""},{"$f":"IF(P_15号2様式1!O84<> \"\",TEXT(INT(P_15号2様式1!O84),\"#,##0\"),\"\")","v":""},{"$f":"IF(P_15号2様式1!O84= \"\",\"\",IF(VALUE(FIXED(P_15号2様式1!O84,0,TRUE))<>P_15号2様式1!O84,RIGHT(FIXED(P_15号2様式1!O84,3,FALSE),4),\"\"))","v":""},{"$f":"IF(P_15号2様式1!S84<> \"\",TEXT(INT(P_15号2様式1!S84),\"#,##0\"),\"\")","v":""},{"$f":"IF(P_15号2様式1!S84= \"\",\"\",IF(VALUE(FIXED(P_15号2様式1!S84,0,TRUE))<>P_15号2様式1!S84,RIGHT(FIXED(P_15号2様式1!S84,3,FALSE),4),\"\"))","v":""},{"$f":"IF(P_15号2様式1!W84<> \"\",TEXT(INT(P_15号2様式1!W84),\"#,##0\"),\"\")","v":""},{"$f":"IF(P_15号2様式1!W84= \"\",\"\",IF(VALUE(FIXED(P_15号2様式1!W84,0,TRUE))<>P_15号2様式1!W84,RIGHT(FIXED(P_15号2様式1!W84,3,FALSE),4),\"\"))","v":""},{"$f":"IF(P_15号2様式1!AA84<> \"\",TEXT(INT(P_15号2様式1!AA84),\"#,##0\"),\"\")","v":""},{"$f":"IF(P_15号2様式1!AA84= \"\",\"\",IF(VALUE(FIXED(P_15号2様式1!AA84,0,TRUE))<>P_15号2様式1!AA84,RIGHT(FIXED(P_15号2様式1!AA84,3,FALSE),4),\"\"))","v":""},{"$f":"IF(P_15号2様式1!AE84<> \"\",TEXT(INT(P_15号2様式1!AE84),\"#,##0\"),\"\")","v":""},{"$f":"IF(P_15号2様式1!AE84= \"\",\"\",IF(VALUE(FIXED(P_15号2様式1!AE84,0,TRUE))<>P_15号2様式1!AE84,RIGHT(FIXED(P_15号2様式1!AE84,3,FALSE),4),\"\"))","v":""},{"$f":"IF(P_15号2様式1!AI84<> \"\",TEXT(INT(P_15号2様式1!AI84),\"#,##0\"),\"\")","v":""},{"$f":"IF(P_15号2様式1!AI84= \"\",\"\",IF(VALUE(FIXED(P_15号2様式1!AI84,0,TRUE))<>P_15号2様式1!AI84,RIGHT(FIXED(P_15号2様式1!AI84,3,FALSE),4),\"\"))","v":""},{"$f":"IF(P_15号2様式1!AM84<> \"\",TEXT(INT(P_15号2様式1!AM84),\"#,##0\"),\"\")","v":""},{"$f":"IF(P_15号2様式1!AM84= \"\",\"\",IF(VALUE(FIXED(P_15号2様式1!AM84,0,TRUE))<>P_15号2様式1!AM84,RIGHT(FIXED(P_15号2様式1!AM84,3,FALSE),4),\"\"))","v":""},{"$f":"IF(P_15号2様式1!AQ84<> \"\",TEXT(INT(P_15号2様式1!AQ84),\"#,##0\"),\"\")","v":""},{"$f":"IF(P_15号2様式1!AQ84= \"\",\"\",IF(VALUE(FIXED(P_15号2様式1!AQ84,0,TRUE))<>P_15号2様式1!AQ84,RIGHT(FIXED(P_15号2様式1!AQ84,3,FALSE),4),\"\"))","v":""},{"$f":"IF(P_15号2様式1!AU84<> \"\",TEXT(INT(P_15号2様式1!AU84),\"#,##0\"),\"\")","v":""},{"$f":"IF(P_15号2様式1!AU84= \"\",\"\",IF(VALUE(FIXED(P_15号2様式1!AU84,0,TRUE))<>P_15号2様式1!AU84,RIGHT(FIXED(P_15号2様式1!AU84,3,FALSE),4),\"\"))","v":""},{"$f":"IF(P_15号2様式1!AV84<> \"\",TEXT(INT(P_15号2様式1!AV84),\"#,##0\"),\"\")","v":""},null,{"$f":"IF(P_15号2様式1!AV84= \"\",\"\",IF(VALUE(FIXED(P_15号2様式1!AV84,0,TRUE))<>P_15号2様式1!AV84,RIGHT(FIXED(P_15号2様式1!AV84,3,FALSE),4),\"\"))","v":""}]
[{"$f":"IF(P_15号2様式1!F85=\"\",\"\",P_15号2様式1!F85)","v":""},null,{"$f":"IF(P_15号2様式1!G85=\"\",\"\",P_15号2様式1!G85)","v":""},{"$f":"IF(P_15号2様式1!K85<> \"\",TEXT(INT(P_15号2様式1!K85),\"#,##0\"),\"\")","v":""},{"$f":"IF(P_15号2様式1!K85= \"\",\"\",IF(VALUE(FIXED(P_15号2様式1!K85,0,TRUE))<>P_15号2様式1!K85,RIGHT(FIXED(P_15号2様式1!K85,3,FALSE),4),\"\"))","v":""},{"$f":"IF(P_15号2様式1!O85<> \"\",TEXT(INT(P_15号2様式1!O85),\"#,##0\"),\"\")","v":""},{"$f":"IF(P_15号2様式1!O85= \"\",\"\",IF(VALUE(FIXED(P_15号2様式1!O85,0,TRUE))<>P_15号2様式1!O85,RIGHT(FIXED(P_15号2様式1!O85,3,FALSE),4),\"\"))","v":""},{"$f":"IF(P_15号2様式1!S85<> \"\",TEXT(INT(P_15号2様式1!S85),\"#,##0\"),\"\")","v":""},{"$f":"IF(P_15号2様式1!S85= \"\",\"\",IF(VALUE(FIXED(P_15号2様式1!S85,0,TRUE))<>P_15号2様式1!S85,RIGHT(FIXED(P_15号2様式1!S85,3,FALSE),4),\"\"))","v":""},{"$f":"IF(P_15号2様式1!W85<> \"\",TEXT(INT(P_15号2様式1!W85),\"#,##0\"),\"\")","v":""},{"$f":"IF(P_15号2様式1!W85= \"\",\"\",IF(VALUE(FIXED(P_15号2様式1!W85,0,TRUE))<>P_15号2様式1!W85,RIGHT(FIXED(P_15号2様式1!W85,3,FALSE),4),\"\"))","v":""},{"$f":"IF(P_15号2様式1!AA85<> \"\",TEXT(INT(P_15号2様式1!AA85),\"#,##0\"),\"\")","v":""},{"$f":"IF(P_15号2様式1!AA85= \"\",\"\",IF(VALUE(FIXED(P_15号2様式1!AA85,0,TRUE))<>P_15号2様式1!AA85,RIGHT(FIXED(P_15号2様式1!AA85,3,FALSE),4),\"\"))","v":""},{"$f":"IF(P_15号2様式1!AE85<> \"\",TEXT(INT(P_15号2様式1!AE85),\"#,##0\"),\"\")","v":""},{"$f":"IF(P_15号2様式1!AE85= \"\",\"\",IF(VALUE(FIXED(P_15号2様式1!AE85,0,TRUE))<>P_15号2様式1!AE85,RIGHT(FIXED(P_15号2様式1!AE85,3,FALSE),4),\"\"))","v":""},{"$f":"IF(P_15号2様式1!AI85<> \"\",TEXT(INT(P_15号2様式1!AI85),\"#,##0\"),\"\")","v":""},{"$f":"IF(P_15号2様式1!AI85= \"\",\"\",IF(VALUE(FIXED(P_15号2様式1!AI85,0,TRUE))<>P_15号2様式1!AI85,RIGHT(FIXED(P_15号2様式1!AI85,3,FALSE),4),\"\"))","v":""},{"$f":"IF(P_15号2様式1!AM85<> \"\",TEXT(INT(P_15号2様式1!AM85),\"#,##0\"),\"\")","v":""},{"$f":"IF(P_15号2様式1!AM85= \"\",\"\",IF(VALUE(FIXED(P_15号2様式1!AM85,0,TRUE))<>P_15号2様式1!AM85,RIGHT(FIXED(P_15号2様式1!AM85,3,FALSE),4),\"\"))","v":""},{"$f":"IF(P_15号2様式1!AQ85<> \"\",TEXT(INT(P_15号2様式1!AQ85),\"#,##0\"),\"\")","v":""},{"$f":"IF(P_15号2様式1!AQ85= \"\",\"\",IF(VALUE(FIXED(P_15号2様式1!AQ85,0,TRUE))<>P_15号2様式1!AQ85,RIGHT(FIXED(P_15号2様式1!AQ85,3,FALSE),4),\"\"))","v":""},{"$f":"IF(P_15号2様式1!AU85<> \"\",TEXT(INT(P_15号2様式1!AU85),\"#,##0\"),\"\")","v":""},{"$f":"IF(P_15号2様式1!AU85= \"\",\"\",IF(VALUE(FIXED(P_15号2様式1!AU85,0,TRUE))<>P_15号2様式1!AU85,RIGHT(FIXED(P_15号2様式1!AU85,3,FALSE),4),\"\"))","v":""},{"$f":"IF(P_15号2様式1!AV85<> \"\",TEXT(INT(P_15号2様式1!AV85),\"#,##0\"),\"\")","v":""},null,{"$f":"IF(P_15号2様式1!AV85= \"\",\"\",IF(VALUE(FIXED(P_15号2様式1!AV85,0,TRUE))<>P_15号2様式1!AV85,RIGHT(FIXED(P_15号2様式1!AV85,3,FALSE),4),\"\"))","v":""}]
[{"$f":"IF(P_15号2様式1!F86=\"\",\"\",P_15号2様式1!F86)","v":""},null,{"$f":"IF(P_15号2様式1!G86=\"\",\"\",P_15号2様式1!G86)","v":""},{"$f":"IF(P_15号2様式1!K86<> \"\",TEXT(INT(P_15号2様式1!K86),\"#,##0\"),\"\")","v":""},{"$f":"IF(P_15号2様式1!K86= \"\",\"\",IF(VALUE(FIXED(P_15号2様式1!K86,0,TRUE))<>P_15号2様式1!K86,RIGHT(FIXED(P_15号2様式1!K86,3,FALSE),4),\"\"))","v":""},{"$f":"IF(P_15号2様式1!O86<> \"\",TEXT(INT(P_15号2様式1!O86),\"#,##0\"),\"\")","v":""},{"$f":"IF(P_15号2様式1!O86= \"\",\"\",IF(VALUE(FIXED(P_15号2様式1!O86,0,TRUE))<>P_15号2様式1!O86,RIGHT(FIXED(P_15号2様式1!O86,3,FALSE),4),\"\"))","v":""},{"$f":"IF(P_15号2様式1!S86<> \"\",TEXT(INT(P_15号2様式1!S86),\"#,##0\"),\"\")","v":""},{"$f":"IF(P_15号2様式1!S86= \"\",\"\",IF(VALUE(FIXED(P_15号2様式1!S86,0,TRUE))<>P_15号2様式1!S86,RIGHT(FIXED(P_15号2様式1!S86,3,FALSE),4),\"\"))","v":""},{"$f":"IF(P_15号2様式1!W86<> \"\",TEXT(INT(P_15号2様式1!W86),\"#,##0\"),\"\")","v":""},{"$f":"IF(P_15号2様式1!W86= \"\",\"\",IF(VALUE(FIXED(P_15号2様式1!W86,0,TRUE))<>P_15号2様式1!W86,RIGHT(FIXED(P_15号2様式1!W86,3,FALSE),4),\"\"))","v":""},{"$f":"IF(P_15号2様式1!AA86<> \"\",TEXT(INT(P_15号2様式1!AA86),\"#,##0\"),\"\")","v":""},{"$f":"IF(P_15号2様式1!AA86= \"\",\"\",IF(VALUE(FIXED(P_15号2様式1!AA86,0,TRUE))<>P_15号2様式1!AA86,RIGHT(FIXED(P_15号2様式1!AA86,3,FALSE),4),\"\"))","v":""},{"$f":"IF(P_15号2様式1!AE86<> \"\",TEXT(INT(P_15号2様式1!AE86),\"#,##0\"),\"\")","v":""},{"$f":"IF(P_15号2様式1!AE86= \"\",\"\",IF(VALUE(FIXED(P_15号2様式1!AE86,0,TRUE))<>P_15号2様式1!AE86,RIGHT(FIXED(P_15号2様式1!AE86,3,FALSE),4),\"\"))","v":""},{"$f":"IF(P_15号2様式1!AI86<> \"\",TEXT(INT(P_15号2様式1!AI86),\"#,##0\"),\"\")","v":""},{"$f":"IF(P_15号2様式1!AI86= \"\",\"\",IF(VALUE(FIXED(P_15号2様式1!AI86,0,TRUE))<>P_15号2様式1!AI86,RIGHT(FIXED(P_15号2様式1!AI86,3,FALSE),4),\"\"))","v":""},{"$f":"IF(P_15号2様式1!AM86<> \"\",TEXT(INT(P_15号2様式1!AM86),\"#,##0\"),\"\")","v":""},{"$f":"IF(P_15号2様式1!AM86= \"\",\"\",IF(VALUE(FIXED(P_15号2様式1!AM86,0,TRUE))<>P_15号2様式1!AM86,RIGHT(FIXED(P_15号2様式1!AM86,3,FALSE),4),\"\"))","v":""},{"$f":"IF(P_15号2様式1!AQ86<> \"\",TEXT(INT(P_15号2様式1!AQ86),\"#,##0\"),\"\")","v":""},{"$f":"IF(P_15号2様式1!AQ86= \"\",\"\",IF(VALUE(FIXED(P_15号2様式1!AQ86,0,TRUE))<>P_15号2様式1!AQ86,RIGHT(FIXED(P_15号2様式1!AQ86,3,FALSE),4),\"\"))","v":""},{"$f":"IF(P_15号2様式1!AU86<> \"\",TEXT(INT(P_15号2様式1!AU86),\"#,##0\"),\"\")","v":""},{"$f":"IF(P_15号2様式1!AU86= \"\",\"\",IF(VALUE(FIXED(P_15号2様式1!AU86,0,TRUE))<>P_15号2様式1!AU86,RIGHT(FIXED(P_15号2様式1!AU86,3,FALSE),4),\"\"))","v":""},{"$f":"IF(P_15号2様式1!AV86<> \"\",TEXT(INT(P_15号2様式1!AV86),\"#,##0\"),\"\")","v":""},null,{"$f":"IF(P_15号2様式1!AV86= \"\",\"\",IF(VALUE(FIXED(P_15号2様式1!AV86,0,TRUE))<>P_15号2様式1!AV86,RIGHT(FIXED(P_15号2様式1!AV86,3,FALSE),4),\"\"))","v":""}]
[{"$f":"IF(P_15号2様式1!F87=\"\",\"\",P_15号2様式1!F87)","v":""},null,{"$f":"IF(P_15号2様式1!G87=\"\",\"\",P_15号2様式1!G87)","v":""},{"$f":"IF(P_15号2様式1!K87<> \"\",TEXT(INT(P_15号2様式1!K87),\"#,##0\"),\"\")","v":""},{"$f":"IF(P_15号2様式1!K87= \"\",\"\",IF(VALUE(FIXED(P_15号2様式1!K87,0,TRUE))<>P_15号2様式1!K87,RIGHT(FIXED(P_15号2様式1!K87,3,FALSE),4),\"\"))","v":""},{"$f":"IF(P_15号2様式1!O87<> \"\",TEXT(INT(P_15号2様式1!O87),\"#,##0\"),\"\")","v":""},{"$f":"IF(P_15号2様式1!O87= \"\",\"\",IF(VALUE(FIXED(P_15号2様式1!O87,0,TRUE))<>P_15号2様式1!O87,RIGHT(FIXED(P_15号2様式1!O87,3,FALSE),4),\"\"))","v":""},{"$f":"IF(P_15号2様式1!S87<> \"\",TEXT(INT(P_15号2様式1!S87),\"#,##0\"),\"\")","v":""},{"$f":"IF(P_15号2様式1!S87= \"\",\"\",IF(VALUE(FIXED(P_15号2様式1!S87,0,TRUE))<>P_15号2様式1!S87,RIGHT(FIXED(P_15号2様式1!S87,3,FALSE),4),\"\"))","v":""},{"$f":"IF(P_15号2様式1!W87<> \"\",TEXT(INT(P_15号2様式1!W87),\"#,##0\"),\"\")","v":""},{"$f":"IF(P_15号2様式1!W87= \"\",\"\",IF(VALUE(FIXED(P_15号2様式1!W87,0,TRUE))<>P_15号2様式1!W87,RIGHT(FIXED(P_15号2様式1!W87,3,FALSE),4),\"\"))","v":""},{"$f":"IF(P_15号2様式1!AA87<> \"\",TEXT(INT(P_15号2様式1!AA87),\"#,##0\"),\"\")","v":""},{"$f":"IF(P_15号2様式1!AA87= \"\",\"\",IF(VALUE(FIXED(P_15号2様式1!AA87,0,TRUE))<>P_15号2様式1!AA87,RIGHT(FIXED(P_15号2様式1!AA87,3,FALSE),4),\"\"))","v":""},{"$f":"IF(P_15号2様式1!AE87<> \"\",TEXT(INT(P_15号2様式1!AE87),\"#,##0\"),\"\")","v":""},{"$f":"IF(P_15号2様式1!AE87= \"\",\"\",IF(VALUE(FIXED(P_15号2様式1!AE87,0,TRUE))<>P_15号2様式1!AE87,RIGHT(FIXED(P_15号2様式1!AE87,3,FALSE),4),\"\"))","v":""},{"$f":"IF(P_15号2様式1!AI87<> \"\",TEXT(INT(P_15号2様式1!AI87),\"#,##0\"),\"\")","v":""},{"$f":"IF(P_15号2様式1!AI87= \"\",\"\",IF(VALUE(FIXED(P_15号2様式1!AI87,0,TRUE))<>P_15号2様式1!AI87,RIGHT(FIXED(P_15号2様式1!AI87,3,FALSE),4),\"\"))","v":""},{"$f":"IF(P_15号2様式1!AM87<> \"\",TEXT(INT(P_15号2様式1!AM87),\"#,##0\"),\"\")","v":""},{"$f":"IF(P_15号2様式1!AM87= \"\",\"\",IF(VALUE(FIXED(P_15号2様式1!AM87,0,TRUE))<>P_15号2様式1!AM87,RIGHT(FIXED(P_15号2様式1!AM87,3,FALSE),4),\"\"))","v":""},{"$f":"IF(P_15号2様式1!AQ87<> \"\",TEXT(INT(P_15号2様式1!AQ87),\"#,##0\"),\"\")","v":""},{"$f":"IF(P_15号2様式1!AQ87= \"\",\"\",IF(VALUE(FIXED(P_15号2様式1!AQ87,0,TRUE))<>P_15号2様式1!AQ87,RIGHT(FIXED(P_15号2様式1!AQ87,3,FALSE),4),\"\"))","v":""},{"$f":"IF(P_15号2様式1!AU87<> \"\",TEXT(INT(P_15号2様式1!AU87),\"#,##0\"),\"\")","v":""},{"$f":"IF(P_15号2様式1!AU87= \"\",\"\",IF(VALUE(FIXED(P_15号2様式1!AU87,0,TRUE))<>P_15号2様式1!AU87,RIGHT(FIXED(P_15号2様式1!AU87,3,FALSE),4),\"\"))","v":""},{"$f":"IF(P_15号2様式1!AV87<> \"\",TEXT(INT(P_15号2様式1!AV87),\"#,##0\"),\"\")","v":""},null,{"$f":"IF(P_15号2様式1!AV87= \"\",\"\",IF(VALUE(FIXED(P_15号2様式1!AV87,0,TRUE))<>P_15号2様式1!AV87,RIGHT(FIXED(P_15号2様式1!AV87,3,FALSE),4),\"\"))","v":""}]
[{"$f":"IF(P_15号2様式1!F88=\"\",\"\",P_15号2様式1!F88)","v":""},null,{"$f":"IF(P_15号2様式1!G88=\"\",\"\",P_15号2様式1!G88)","v":""},{"$f":"IF(P_15号2様式1!K88<> \"\",TEXT(INT(P_15号2様式1!K88),\"#,##0\"),\"\")","v":""},{"$f":"IF(P_15号2様式1!K88= \"\",\"\",IF(VALUE(FIXED(P_15号2様式1!K88,0,TRUE))<>P_15号2様式1!K88,RIGHT(FIXED(P_15号2様式1!K88,3,FALSE),4),\"\"))","v":""},{"$f":"IF(P_15号2様式1!O88<> \"\",TEXT(INT(P_15号2様式1!O88),\"#,##0\"),\"\")","v":""},{"$f":"IF(P_15号2様式1!O88= \"\",\"\",IF(VALUE(FIXED(P_15号2様式1!O88,0,TRUE))<>P_15号2様式1!O88,RIGHT(FIXED(P_15号2様式1!O88,3,FALSE),4),\"\"))","v":""},{"$f":"IF(P_15号2様式1!S88<> \"\",TEXT(INT(P_15号2様式1!S88),\"#,##0\"),\"\")","v":""},{"$f":"IF(P_15号2様式1!S88= \"\",\"\",IF(VALUE(FIXED(P_15号2様式1!S88,0,TRUE))<>P_15号2様式1!S88,RIGHT(FIXED(P_15号2様式1!S88,3,FALSE),4),\"\"))","v":""},{"$f":"IF(P_15号2様式1!W88<> \"\",TEXT(INT(P_15号2様式1!W88),\"#,##0\"),\"\")","v":""},{"$f":"IF(P_15号2様式1!W88= \"\",\"\",IF(VALUE(FIXED(P_15号2様式1!W88,0,TRUE))<>P_15号2様式1!W88,RIGHT(FIXED(P_15号2様式1!W88,3,FALSE),4),\"\"))","v":""},{"$f":"IF(P_15号2様式1!AA88<> \"\",TEXT(INT(P_15号2様式1!AA88),\"#,##0\"),\"\")","v":""},{"$f":"IF(P_15号2様式1!AA88= \"\",\"\",IF(VALUE(FIXED(P_15号2様式1!AA88,0,TRUE))<>P_15号2様式1!AA88,RIGHT(FIXED(P_15号2様式1!AA88,3,FALSE),4),\"\"))","v":""},{"$f":"IF(P_15号2様式1!AE88<> \"\",TEXT(INT(P_15号2様式1!AE88),\"#,##0\"),\"\")","v":""},{"$f":"IF(P_15号2様式1!AE88= \"\",\"\",IF(VALUE(FIXED(P_15号2様式1!AE88,0,TRUE))<>P_15号2様式1!AE88,RIGHT(FIXED(P_15号2様式1!AE88,3,FALSE),4),\"\"))","v":""},{"$f":"IF(P_15号2様式1!AI88<> \"\",TEXT(INT(P_15号2様式1!AI88),\"#,##0\"),\"\")","v":""},{"$f":"IF(P_15号2様式1!AI88= \"\",\"\",IF(VALUE(FIXED(P_15号2様式1!AI88,0,TRUE))<>P_15号2様式1!AI88,RIGHT(FIXED(P_15号2様式1!AI88,3,FALSE),4),\"\"))","v":""},{"$f":"IF(P_15号2様式1!AM88<> \"\",TEXT(INT(P_15号2様式1!AM88),\"#,##0\"),\"\")","v":""},{"$f":"IF(P_15号2様式1!AM88= \"\",\"\",IF(VALUE(FIXED(P_15号2様式1!AM88,0,TRUE))<>P_15号2様式1!AM88,RIGHT(FIXED(P_15号2様式1!AM88,3,FALSE),4),\"\"))","v":""},{"$f":"IF(P_15号2様式1!AQ88<> \"\",TEXT(INT(P_15号2様式1!AQ88),\"#,##0\"),\"\")","v":""},{"$f":"IF(P_15号2様式1!AQ88= \"\",\"\",IF(VALUE(FIXED(P_15号2様式1!AQ88,0,TRUE))<>P_15号2様式1!AQ88,RIGHT(FIXED(P_15号2様式1!AQ88,3,FALSE),4),\"\"))","v":""},{"$f":"IF(P_15号2様式1!AU88<> \"\",TEXT(INT(P_15号2様式1!AU88),\"#,##0\"),\"\")","v":""},{"$f":"IF(P_15号2様式1!AU88= \"\",\"\",IF(VALUE(FIXED(P_15号2様式1!AU88,0,TRUE))<>P_15号2様式1!AU88,RIGHT(FIXED(P_15号2様式1!AU88,3,FALSE),4),\"\"))","v":""},{"$f":"IF(P_15号2様式1!AV88<> \"\",TEXT(INT(P_15号2様式1!AV88),\"#,##0\"),\"\")","v":""},null,{"$f":"IF(P_15号2様式1!AV88= \"\",\"\",IF(VALUE(FIXED(P_15号2様式1!AV88,0,TRUE))<>P_15号2様式1!AV88,RIGHT(FIXED(P_15号2様式1!AV88,3,FALSE),4),\"\"))","v":""}]
[{"$f":"IF(P_15号2様式1!F89=\"\",\"\",P_15号2様式1!F89)","v":""},null,{"$f":"IF(P_15号2様式1!G89=\"\",\"\",P_15号2様式1!G89)","v":""},{"$f":"IF(P_15号2様式1!K89<> \"\",TEXT(INT(P_15号2様式1!K89),\"#,##0\"),\"\")","v":""},{"$f":"IF(P_15号2様式1!K89= \"\",\"\",IF(VALUE(FIXED(P_15号2様式1!K89,0,TRUE))<>P_15号2様式1!K89,RIGHT(FIXED(P_15号2様式1!K89,3,FALSE),4),\"\"))","v":""},{"$f":"IF(P_15号2様式1!O89<> \"\",TEXT(INT(P_15号2様式1!O89),\"#,##0\"),\"\")","v":""},{"$f":"IF(P_15号2様式1!O89= \"\",\"\",IF(VALUE(FIXED(P_15号2様式1!O89,0,TRUE))<>P_15号2様式1!O89,RIGHT(FIXED(P_15号2様式1!O89,3,FALSE),4),\"\"))","v":""},{"$f":"IF(P_15号2様式1!S89<> \"\",TEXT(INT(P_15号2様式1!S89),\"#,##0\"),\"\")","v":""},{"$f":"IF(P_15号2様式1!S89= \"\",\"\",IF(VALUE(FIXED(P_15号2様式1!S89,0,TRUE))<>P_15号2様式1!S89,RIGHT(FIXED(P_15号2様式1!S89,3,FALSE),4),\"\"))","v":""},{"$f":"IF(P_15号2様式1!W89<> \"\",TEXT(INT(P_15号2様式1!W89),\"#,##0\"),\"\")","v":""},{"$f":"IF(P_15号2様式1!W89= \"\",\"\",IF(VALUE(FIXED(P_15号2様式1!W89,0,TRUE))<>P_15号2様式1!W89,RIGHT(FIXED(P_15号2様式1!W89,3,FALSE),4),\"\"))","v":""},{"$f":"IF(P_15号2様式1!AA89<> \"\",TEXT(INT(P_15号2様式1!AA89),\"#,##0\"),\"\")","v":""},{"$f":"IF(P_15号2様式1!AA89= \"\",\"\",IF(VALUE(FIXED(P_15号2様式1!AA89,0,TRUE))<>P_15号2様式1!AA89,RIGHT(FIXED(P_15号2様式1!AA89,3,FALSE),4),\"\"))","v":""},{"$f":"IF(P_15号2様式1!AE89<> \"\",TEXT(INT(P_15号2様式1!AE89),\"#,##0\"),\"\")","v":""},{"$f":"IF(P_15号2様式1!AE89= \"\",\"\",IF(VALUE(FIXED(P_15号2様式1!AE89,0,TRUE))<>P_15号2様式1!AE89,RIGHT(FIXED(P_15号2様式1!AE89,3,FALSE),4),\"\"))","v":""},{"$f":"IF(P_15号2様式1!AI89<> \"\",TEXT(INT(P_15号2様式1!AI89),\"#,##0\"),\"\")","v":""},{"$f":"IF(P_15号2様式1!AI89= \"\",\"\",IF(VALUE(FIXED(P_15号2様式1!AI89,0,TRUE))<>P_15号2様式1!AI89,RIGHT(FIXED(P_15号2様式1!AI89,3,FALSE),4),\"\"))","v":""},{"$f":"IF(P_15号2様式1!AM89<> \"\",TEXT(INT(P_15号2様式1!AM89),\"#,##0\"),\"\")","v":""},{"$f":"IF(P_15号2様式1!AM89= \"\",\"\",IF(VALUE(FIXED(P_15号2様式1!AM89,0,TRUE))<>P_15号2様式1!AM89,RIGHT(FIXED(P_15号2様式1!AM89,3,FALSE),4),\"\"))","v":""},{"$f":"IF(P_15号2様式1!AQ89<> \"\",TEXT(INT(P_15号2様式1!AQ89),\"#,##0\"),\"\")","v":""},{"$f":"IF(P_15号2様式1!AQ89= \"\",\"\",IF(VALUE(FIXED(P_15号2様式1!AQ89,0,TRUE))<>P_15号2様式1!AQ89,RIGHT(FIXED(P_15号2様式1!AQ89,3,FALSE),4),\"\"))","v":""},{"$f":"IF(P_15号2様式1!AU89<> \"\",TEXT(INT(P_15号2様式1!AU89),\"#,##0\"),\"\")","v":""},{"$f":"IF(P_15号2様式1!AU89= \"\",\"\",IF(VALUE(FIXED(P_15号2様式1!AU89,0,TRUE))<>P_15号2様式1!AU89,RIGHT(FIXED(P_15号2様式1!AU89,3,FALSE),4),\"\"))","v":""},{"$f":"IF(P_15号2様式1!AV89<> \"\",TEXT(INT(P_15号2様式1!AV89),\"#,##0\"),\"\")","v":""},null,{"$f":"IF(P_15号2様式1!AV89= \"\",\"\",IF(VALUE(FIXED(P_15号2様式1!AV89,0,TRUE))<>P_15号2様式1!AV89,RIGHT(FIXED(P_15号2様式1!AV89,3,FALSE),4),\"\"))","v":""}]
[{"$f":"IF(P_15号2様式1!F90=\"\",\"\",P_15号2様式1!F90)","v":""},null,{"$f":"IF(P_15号2様式1!G90=\"\",\"\",P_15号2様式1!G90)","v":""},{"$f":"IF(P_15号2様式1!K90<> \"\",TEXT(INT(P_15号2様式1!K90),\"#,##0\"),\"\")","v":""},{"$f":"IF(P_15号2様式1!K90= \"\",\"\",IF(VALUE(FIXED(P_15号2様式1!K90,0,TRUE))<>P_15号2様式1!K90,RIGHT(FIXED(P_15号2様式1!K90,3,FALSE),4),\"\"))","v":""},{"$f":"IF(P_15号2様式1!O90<> \"\",TEXT(INT(P_15号2様式1!O90),\"#,##0\"),\"\")","v":""},{"$f":"IF(P_15号2様式1!O90= \"\",\"\",IF(VALUE(FIXED(P_15号2様式1!O90,0,TRUE))<>P_15号2様式1!O90,RIGHT(FIXED(P_15号2様式1!O90,3,FALSE),4),\"\"))","v":""},{"$f":"IF(P_15号2様式1!S90<> \"\",TEXT(INT(P_15号2様式1!S90),\"#,##0\"),\"\")","v":""},{"$f":"IF(P_15号2様式1!S90= \"\",\"\",IF(VALUE(FIXED(P_15号2様式1!S90,0,TRUE))<>P_15号2様式1!S90,RIGHT(FIXED(P_15号2様式1!S90,3,FALSE),4),\"\"))","v":""},{"$f":"IF(P_15号2様式1!W90<> \"\",TEXT(INT(P_15号2様式1!W90),\"#,##0\"),\"\")","v":""},{"$f":"IF(P_15号2様式1!W90= \"\",\"\",IF(VALUE(FIXED(P_15号2様式1!W90,0,TRUE))<>P_15号2様式1!W90,RIGHT(FIXED(P_15号2様式1!W90,3,FALSE),4),\"\"))","v":""},{"$f":"IF(P_15号2様式1!AA90<> \"\",TEXT(INT(P_15号2様式1!AA90),\"#,##0\"),\"\")","v":""},{"$f":"IF(P_15号2様式1!AA90= \"\",\"\",IF(VALUE(FIXED(P_15号2様式1!AA90,0,TRUE))<>P_15号2様式1!AA90,RIGHT(FIXED(P_15号2様式1!AA90,3,FALSE),4),\"\"))","v":""},{"$f":"IF(P_15号2様式1!AE90<> \"\",TEXT(INT(P_15号2様式1!AE90),\"#,##0\"),\"\")","v":""},{"$f":"IF(P_15号2様式1!AE90= \"\",\"\",IF(VALUE(FIXED(P_15号2様式1!AE90,0,TRUE))<>P_15号2様式1!AE90,RIGHT(FIXED(P_15号2様式1!AE90,3,FALSE),4),\"\"))","v":""},{"$f":"IF(P_15号2様式1!AI90<> \"\",TEXT(INT(P_15号2様式1!AI90),\"#,##0\"),\"\")","v":""},{"$f":"IF(P_15号2様式1!AI90= \"\",\"\",IF(VALUE(FIXED(P_15号2様式1!AI90,0,TRUE))<>P_15号2様式1!AI90,RIGHT(FIXED(P_15号2様式1!AI90,3,FALSE),4),\"\"))","v":""},{"$f":"IF(P_15号2様式1!AM90<> \"\",TEXT(INT(P_15号2様式1!AM90),\"#,##0\"),\"\")","v":""},{"$f":"IF(P_15号2様式1!AM90= \"\",\"\",IF(VALUE(FIXED(P_15号2様式1!AM90,0,TRUE))<>P_15号2様式1!AM90,RIGHT(FIXED(P_15号2様式1!AM90,3,FALSE),4),\"\"))","v":""},{"$f":"IF(P_15号2様式1!AQ90<> \"\",TEXT(INT(P_15号2様式1!AQ90),\"#,##0\"),\"\")","v":""},{"$f":"IF(P_15号2様式1!AQ90= \"\",\"\",IF(VALUE(FIXED(P_15号2様式1!AQ90,0,TRUE))<>P_15号2様式1!AQ90,RIGHT(FIXED(P_15号2様式1!AQ90,3,FALSE),4),\"\"))","v":""},{"$f":"IF(P_15号2様式1!AU90<> \"\",TEXT(INT(P_15号2様式1!AU90),\"#,##0\"),\"\")","v":""},{"$f":"IF(P_15号2様式1!AU90= \"\",\"\",IF(VALUE(FIXED(P_15号2様式1!AU90,0,TRUE))<>P_15号2様式1!AU90,RIGHT(FIXED(P_15号2様式1!AU90,3,FALSE),4),\"\"))","v":""},{"$f":"IF(P_15号2様式1!AV90<> \"\",TEXT(INT(P_15号2様式1!AV90),\"#,##0\"),\"\")","v":""},null,{"$f":"IF(P_15号2様式1!AV90= \"\",\"\",IF(VALUE(FIXED(P_15号2様式1!AV90,0,TRUE))<>P_15号2様式1!AV90,RIGHT(FIXED(P_15号2様式1!AV90,3,FALSE),4),\"\"))","v":""}]
[{"$f":"IF(P_15号2様式1!F91=\"\",\"\",P_15号2様式1!F91)","v":""},null,{"$f":"IF(P_15号2様式1!G91=\"\",\"\",P_15号2様式1!G91)","v":""},{"$f":"IF(P_15号2様式1!K91<> \"\",TEXT(INT(P_15号2様式1!K91),\"#,##0\"),\"\")","v":""},{"$f":"IF(P_15号2様式1!K91= \"\",\"\",IF(VALUE(FIXED(P_15号2様式1!K91,0,TRUE))<>P_15号2様式1!K91,RIGHT(FIXED(P_15号2様式1!K91,3,FALSE),4),\"\"))","v":""},{"$f":"IF(P_15号2様式1!O91<> \"\",TEXT(INT(P_15号2様式1!O91),\"#,##0\"),\"\")","v":""},{"$f":"IF(P_15号2様式1!O91= \"\",\"\",IF(VALUE(FIXED(P_15号2様式1!O91,0,TRUE))<>P_15号2様式1!O91,RIGHT(FIXED(P_15号2様式1!O91,3,FALSE),4),\"\"))","v":""},{"$f":"IF(P_15号2様式1!S91<> \"\",TEXT(INT(P_15号2様式1!S91),\"#,##0\"),\"\")","v":""},{"$f":"IF(P_15号2様式1!S91= \"\",\"\",IF(VALUE(FIXED(P_15号2様式1!S91,0,TRUE))<>P_15号2様式1!S91,RIGHT(FIXED(P_15号2様式1!S91,3,FALSE),4),\"\"))","v":""},{"$f":"IF(P_15号2様式1!W91<> \"\",TEXT(INT(P_15号2様式1!W91),\"#,##0\"),\"\")","v":""},{"$f":"IF(P_15号2様式1!W91= \"\",\"\",IF(VALUE(FIXED(P_15号2様式1!W91,0,TRUE))<>P_15号2様式1!W91,RIGHT(FIXED(P_15号2様式1!W91,3,FALSE),4),\"\"))","v":""},{"$f":"IF(P_15号2様式1!AA91<> \"\",TEXT(INT(P_15号2様式1!AA91),\"#,##0\"),\"\")","v":""},{"$f":"IF(P_15号2様式1!AA91= \"\",\"\",IF(VALUE(FIXED(P_15号2様式1!AA91,0,TRUE))<>P_15号2様式1!AA91,RIGHT(FIXED(P_15号2様式1!AA91,3,FALSE),4),\"\"))","v":""},{"$f":"IF(P_15号2様式1!AE91<> \"\",TEXT(INT(P_15号2様式1!AE91),\"#,##0\"),\"\")","v":""},{"$f":"IF(P_15号2様式1!AE91= \"\",\"\",IF(VALUE(FIXED(P_15号2様式1!AE91,0,TRUE))<>P_15号2様式1!AE91,RIGHT(FIXED(P_15号2様式1!AE91,3,FALSE),4),\"\"))","v":""},{"$f":"IF(P_15号2様式1!AI91<> \"\",TEXT(INT(P_15号2様式1!AI91),\"#,##0\"),\"\")","v":""},{"$f":"IF(P_15号2様式1!AI91= \"\",\"\",IF(VALUE(FIXED(P_15号2様式1!AI91,0,TRUE))<>P_15号2様式1!AI91,RIGHT(FIXED(P_15号2様式1!AI91,3,FALSE),4),\"\"))","v":""},{"$f":"IF(P_15号2様式1!AM91<> \"\",TEXT(INT(P_15号2様式1!AM91),\"#,##0\"),\"\")","v":""},{"$f":"IF(P_15号2様式1!AM91= \"\",\"\",IF(VALUE(FIXED(P_15号2様式1!AM91,0,TRUE))<>P_15号2様式1!AM91,RIGHT(FIXED(P_15号2様式1!AM91,3,FALSE),4),\"\"))","v":""},{"$f":"IF(P_15号2様式1!AQ91<> \"\",TEXT(INT(P_15号2様式1!AQ91),\"#,##0\"),\"\")","v":""},{"$f":"IF(P_15号2様式1!AQ91= \"\",\"\",IF(VALUE(FIXED(P_15号2様式1!AQ91,0,TRUE))<>P_15号2様式1!AQ91,RIGHT(FIXED(P_15号2様式1!AQ91,3,FALSE),4),\"\"))","v":""},{"$f":"IF(P_15号2様式1!AU91<> \"\",TEXT(INT(P_15号2様式1!AU91),\"#,##0\"),\"\")","v":""},{"$f":"IF(P_15号2様式1!AU91= \"\",\"\",IF(VALUE(FIXED(P_15号2様式1!AU91,0,TRUE))<>P_15号2様式1!AU91,RIGHT(FIXED(P_15号2様式1!AU91,3,FALSE),4),\"\"))","v":""},{"$f":"IF(P_15号2様式1!AV91<> \"\",TEXT(INT(P_15号2様式1!AV91),\"#,##0\"),\"\")","v":""},null,{"$f":"IF(P_15号2様式1!AV91= \"\",\"\",IF(VALUE(FIXED(P_15号2様式1!AV91,0,TRUE))<>P_15号2様式1!AV91,RIGHT(FIXED(P_15号2様式1!AV91,3,FALSE),4),\"\"))","v":""}]
[]
[]
[]
[]
[]
["第15号の2様式",null,null,null,null,null,null,null,null,"開　票　速　報　",null,null,null,null,null,null,null,null,null,null,null,null,null,{"$f":"IF(P_15号2様式1!A92=\"\",\" ページ\", P_15号2様式1!A92 & \"ページ\")","v":"4ページ"}]
[]
[null,{"$f":"IF(パラメタシート!B1=\"\",\"\",パラメタシート!B1)","v":"2017-10-22"}]
[null,{"$f":"IF(P_15号2様式1!AW92=\"\",\"\",P_15号2様式1!AW92)","v":"衆議院小選挙区選出議員選挙"},null,null,null,null,null,null,null,null,null,null,null,null,null,null,{"$f":"IF(P_15号2様式1!AX92=\"0\",\"即日中間速報\",\"翌日中間速報\")","v":"即日中間速報"},null,{"$f":"IF(P_15号2様式1!AY92=\"\",\"第　　　回\",\"第 　\" & P_15号2様式1!AY92 & \"　回\")","v":"第 　6　回"},null,{"$f":"IF(P_15号2様式1!AZ92=\"\",\"     時 　  分　現在\",P_15号2様式1!AZ92)","v":"00:00:00"}]
[null,null,null,null,null,null,null,null,null,null,null,null,null,null,null,null,"　　結了報告",null,null,null,{"$f":"IF(P_15号2様式1!BA92=\"\",\"     時 　  分　結了\",P_15号2様式1!BA92)","v":"     時 　  分　結了"}]
[]
[]
[]
[]
[null,null,null,null,null,null,null,null,null,null,null,null,null,null,null,null,null,null,null,null,null,null,null,"鹿 児 島 県"]
[{"$f":"IF(P_15号2様式1!D92=\"\",\"\",P_15号2様式1!D92)","v":"衆議院鹿児島第４区　"},null,null,{"$f":"IF(P_15号2様式1!E92=\"\",\"定　数　　　　　人\",P_15号2様式1!E92)","v":1}]
["市区町村名",null,"開票率",{"$f":"IF(TRIM(P_15号2様式1!H92)=\"\",\"\",VALUE(P_15号2様式1!H92))","v":1},null,{"$f":"IF(TRIM(P_15号2様式1!L92)=\"\",\"\",VALUE(P_15号2様式1!L92))","v":2},null,{"$f":"IF(TRIM(P_15号2様式1!P92)=\"\",\"\",VALUE(P_15号2様式1!P92))","v":""},null,{"$f":"IF(TRIM(P_15号2様式1!T92)=\"\",\"\",VALUE(P_15号2様式1!T92))","v":""},null,{"$f":"IF(TRIM(P_15号2様式1!X92)=\"\",\"\",VALUE(P_15号2様式1!X92))","v":""},null,{"$f":"IF(TRIM(P_15号2様式1!AB92)=\"\",\"\",VALUE(P_15号2様式1!AB92))","v":""},null,{"$f":"IF(TRIM(P_15号2様式1!AF92)=\"\",\"\",VALUE(P_15号2様式1!AF92))","v":""},null,{"$f":"IF(TRIM(P_15号2様式1!AJ92)=\"\",\"\",VALUE(P_15号2様式1!AJ92))","v":""},null,{"$f":"IF(TRIM(P_15号2様式1!AN92)=\"\",\"\",VALUE(P_15号2様式1!AN92))","v":""},null,{"$f":"IF(TRIM(P_15号2様式1!AR92)=\"\",\"\",VALUE(P_15号2様式1!AR92))","v":""},null,"小 計"]
[null,null,null,{"$f":"IF(P_15号2様式1!I92=\"\",\"\",P_15号2様式1!I92)","v":"自由民主党"},null,{"$f":"IF(P_15号2様式1!M92=\"\",\"\",P_15号2様式1!M92)","v":"社会民主党"},null,{"$f":"IF(P_15号2様式1!Q92=\"\",\"\",P_15号2様式1!Q92)","v":""},null,{"$f":"IF(P_15号2様式1!U92=\"\",\"\",P_15号2様式1!U92)","v":""},null,{"$f":"IF(P_15号2様式1!Y92=\"\",\"\",P_15号2様式1!Y92)","v":""},null,{"$f":"IF(P_15号2様式1!AC92=\"\",\"\",P_15号2様式1!AC92)","v":""},null,{"$f":"IF(P_15号2様式1!AG92=\"\",\"\",P_15号2様式1!AG92)","v":""},null,{"$f":"IF(P_15号2様式1!AK92=\"\",\"\",P_15号2様式1!AK92)","v":""},null,{"$f":"IF(P_15号2様式1!AO92=\"\",\"\",P_15号2様式1!AO92)","v":""},null,{"$f":"IF(P_15号2様式1!AS92=\"\",\"\",P_15号2様式1!AS92)","v":""}]
[]
[null,null,null,{"$f":"IF(P_15号2様式1!J92=\"\",\"\",P_15号2様式1!J92)","v":"森山　ひろし"},null,{"$f":"IF(P_15号2様式1!N92=\"\",\"\",P_15号2様式1!N92)","v":"野呂　正和"},null,{"$f":"IF(P_15号2様式1!R92=\"\",\"\",P_15号2様式1!R92)","v":""},null,{"$f":"IF(P_15号2様式1!V92=\"\",\"\",P_15号2様式1!V92)","v":""},null,{"$f":"IF(P_15号2様式1!Z92=\"\",\"\",P_15号2様式1!Z92)","v":""},null,{"$f":"IF(P_15号2様式1!AD92=\"\",\"\",P_15号2様式1!AD92)","v":""},null,{"$f":"IF(P_15号2様式1!AH92=\"\",\"\",P_15号2様式1!AH92)","v":""},null,{"$f":"IF(P_15号2様式1!AL92=\"\",\"\",P_15号2様式1!AL92)","v":""},null,{"$f":"IF(P_15号2様式1!AP92=\"\",\"\",P_15号2様式1!AP92)","v":""},null,{"$f":"IF(P_15号2様式1!AT92=\"\",\"\",P_15号2様式1!AT92)","v":""}]
[]
[{"$f":"IF(P_15号2様式1!F92=\"\",\"\",P_15号2様式1!F92)","v":"　鹿屋市"},null,{"$f":"IF(P_15号2様式1!G92=\"\",\"\",P_15号2様式1!G92)","v":66.766432600437398},{"$f":"IF(P_15号2様式1!K92<> \"\",TEXT(INT(P_15号2様式1!K92),\"#,##0\"),\"\")","v":"19,500"},{"$f":"IF(P_15号2様式1!K92= \"\",\"\",IF(VALUE(FIXED(P_15号2様式1!K92,0,TRUE))<>P_15号2様式1!K92,RIGHT(FIXED(P_15号2様式1!K92,3,FALSE),4),\"\"))","v":""},{"$f":"IF(P_15号2様式1!O92<> \"\",TEXT(INT(P_15号2様式1!O92),\"#,##0\"),\"\")","v":"9,500"},{"$f":"IF(P_15号2様式1!O92= \"\",\"\",IF(VALUE(FIXED(P_15号2様式1!O92,0,TRUE))<>P_15号2様式1!O92,RIGHT(FIXED(P_15号2様式1!O92,3,FALSE),4),\"\"))","v":""},{"$f":"IF(P_15号2様式1!S92<> \"\",TEXT(INT(P_15号2様式1!S92),\"#,##0\"),\"\")","v":""},{"$f":"IF(P_15号2様式1!S92= \"\",\"\",IF(VALUE(FIXED(P_15号2様式1!S92,0,TRUE))<>P_15号2様式1!S92,RIGHT(FIXED(P_15号2様式1!S92,3,FALSE),4),\"\"))","v":""},{"$f":"IF(P_15号2様式1!W92<> \"\",TEXT(INT(P_15号2様式1!W92),\"#,##0\"),\"\")","v":""},{"$f":"IF(P_15号2様式1!W92= \"\",\"\",IF(VALUE(FIXED(P_15号2様式1!W92,0,TRUE))<>P_15号2様式1!W92,RIGHT(FIXED(P_15号2様式1!W92,3,FALSE),4),\"\"))","v":""},{"$f":"IF(P_15号2様式1!AA92<> \"\",TEXT(INT(P_15号2様式1!AA92),\"#,##0\"),\"\")","v":""},{"$f":"IF(P_15号2様式1!AA92= \"\",\"\",IF(VALUE(FIXED(P_15号2様式1!AA92,0,TRUE))<>P_15号2様式1!AA92,RIGHT(FIXED(P_15号2様式1!AA92,3,FALSE),4),\"\"))","v":""},{"$f":"IF(P_15号2様式1!AE92<> \"\",TEXT(INT(P_15号2様式1!AE92),\"#,##0\"),\"\")","v":""},{"$f":"IF(P_15号2様式1!AE92= \"\",\"\",IF(VALUE(FIXED(P_15号2様式1!AE92,0,TRUE))<>P_15号2様式1!AE92,RIGHT(FIXED(P_15号2様式1!AE92,3,FALSE),4),\"\"))","v":""},{"$f":"IF(P_15号2様式1!AI92<> \"\",TEXT(INT(P_15号2様式1!AI92),\"#,##0\"),\"\")","v":""},{"$f":"IF(P_15号2様式1!AI92= \"\",\"\",IF(VALUE(FIXED(P_15号2様式1!AI92,0,TRUE))<>P_15号2様式1!AI92,RIGHT(FIXED(P_15号2様式1!AI92,3,FALSE),4),\"\"))","v":""},{"$f":"IF(P_15号2様式1!AM92<> \"\",TEXT(INT(P_15号2様式1!AM92),\"#,##0\"),\"\")","v":""},{"$f":"IF(P_15号2様式1!AM92= \"\",\"\",IF(VALUE(FIXED(P_15号2様式1!AM92,0,TRUE))<>P_15号2様式1!AM92,RIGHT(FIXED(P_15号2様式1!AM92,3,FALSE),4),\"\"))","v":""},{"$f":"IF(P_15号2様式1!AQ92<> \"\",TEXT(INT(P_15号2様式1!AQ92),\"#,##0\"),\"\")","v":""},{"$f":"IF(P_15号2様式1!AQ92= \"\",\"\",IF(VALUE(FIXED(P_15号2様式1!AQ92,0,TRUE))<>P_15号2様式1!AQ92,RIGHT(FIXED(P_15号2様式1!AQ92,3,FALSE),4),\"\"))","v":""},{"$f":"IF(P_15号2様式1!AU92<> \"\",TEXT(INT(P_15号2様式1!AU92),\"#,##0\"),\"\")","v":""},{"$f":"IF(P_15号2様式1!AU92= \"\",\"\",IF(VALUE(FIXED(P_15号2様式1!AU92,0,TRUE))<>P_15号2様式1!AU92,RIGHT(FIXED(P_15号2様式1!AU92,3,FALSE),4),\"\"))","v":""},{"$f":"IF(P_15号2様式1!AV92<> \"\",TEXT(INT(P_15号2様式1!AV92),\"#,##0\"),\"\")","v":"29,000"},null,{"$f":"IF(P_15号2様式1!AV92= \"\",\"\",IF(VALUE(FIXED(P_15号2様式1!AV92,0,TRUE))<>P_15号2様式1!AV92,RIGHT(FIXED(P_15号2様式1!AV92,3,FALSE),4),\"\"))","v":""}]
[{"$f":"IF(P_15号2様式1!F93=\"\",\"\",P_15号2様式1!F93)","v":"　西之表市"},null,{"$f":"IF(P_15号2様式1!G93=\"\",\"\",P_15号2様式1!G93)","v":100},{"$f":"IF(P_15号2様式1!K93<> \"\",TEXT(INT(P_15号2様式1!K93),\"#,##0\"),\"\")","v":"4,934"},{"$f":"IF(P_15号2様式1!K93= \"\",\"\",IF(VALUE(FIXED(P_15号2様式1!K93,0,TRUE))<>P_15号2様式1!K93,RIGHT(FIXED(P_15号2様式1!K93,3,FALSE),4),\"\"))","v":""},{"$f":"IF(P_15号2様式1!O93<> \"\",TEXT(INT(P_15号2様式1!O93),\"#,##0\"),\"\")","v":"2,009"},{"$f":"IF(P_15号2様式1!O93= \"\",\"\",IF(VALUE(FIXED(P_15号2様式1!O93,0,TRUE))<>P_15号2様式1!O93,RIGHT(FIXED(P_15号2様式1!O93,3,FALSE),4),\"\"))","v":""},{"$f":"IF(P_15号2様式1!S93<> \"\",TEXT(INT(P_15号2様式1!S93),\"#,##0\"),\"\")","v":""},{"$f":"IF(P_15号2様式1!S93= \"\",\"\",IF(VALUE(FIXED(P_15号2様式1!S93,0,TRUE))<>P_15号2様式1!S93,RIGHT(FIXED(P_15号2様式1!S93,3,FALSE),4),\"\"))","v":""},{"$f":"IF(P_15号2様式1!W93<> \"\",TEXT(INT(P_15号2様式1!W93),\"#,##0\"),\"\")","v":""},{"$f":"IF(P_15号2様式1!W93= \"\",\"\",IF(VALUE(FIXED(P_15号2様式1!W93,0,TRUE))<>P_15号2様式1!W93,RIGHT(FIXED(P_15号2様式1!W93,3,FALSE),4),\"\"))","v":""},{"$f":"IF(P_15号2様式1!AA93<> \"\",TEXT(INT(P_15号2様式1!AA93),\"#,##0\"),\"\")","v":""},{"$f":"IF(P_15号2様式1!AA93= \"\",\"\",IF(VALUE(FIXED(P_15号2様式1!AA93,0,TRUE))<>P_15号2様式1!AA93,RIGHT(FIXED(P_15号2様式1!AA93,3,FALSE),4),\"\"))","v":""},{"$f":"IF(P_15号2様式1!AE93<> \"\",TEXT(INT(P_15号2様式1!AE93),\"#,##0\"),\"\")","v":""},{"$f":"IF(P_15号2様式1!AE93= \"\",\"\",IF(VALUE(FIXED(P_15号2様式1!AE93,0,TRUE))<>P_15号2様式1!AE93,RIGHT(FIXED(P_15号2様式1!AE93,3,FALSE),4),\"\"))","v":""},{"$f":"IF(P_15号2様式1!AI93<> \"\",TEXT(INT(P_15号2様式1!AI93),\"#,##0\"),\"\")","v":""},{"$f":"IF(P_15号2様式1!AI93= \"\",\"\",IF(VALUE(FIXED(P_15号2様式1!AI93,0,TRUE))<>P_15号2様式1!AI93,RIGHT(FIXED(P_15号2様式1!AI93,3,FALSE),4),\"\"))","v":""},{"$f":"IF(P_15号2様式1!AM93<> \"\",TEXT(INT(P_15号2様式1!AM93),\"#,##0\"),\"\")","v":""},{"$f":"IF(P_15号2様式1!AM93= \"\",\"\",IF(VALUE(FIXED(P_15号2様式1!AM93,0,TRUE))<>P_15号2様式1!AM93,RIGHT(FIXED(P_15号2様式1!AM93,3,FALSE),4),\"\"))","v":""},{"$f":"IF(P_15号2様式1!AQ93<> \"\",TEXT(INT(P_15号2様式1!AQ93),\"#,##0\"),\"\")","v":""},{"$f":"IF(P_15号2様式1!AQ93= \"\",\"\",IF(VALUE(FIXED(P_15号2様式1!AQ93,0,TRUE))<>P_15号2様式1!AQ93,RIGHT(FIXED(P_15号2様式1!AQ93,3,FALSE),4),\"\"))","v":""},{"$f":"IF(P_15号2様式1!AU93<> \"\",TEXT(INT(P_15号2様式1!AU93),\"#,##0\"),\"\")","v":""},{"$f":"IF(P_15号2様式1!AU93= \"\",\"\",IF(VALUE(FIXED(P_15号2様式1!AU93,0,TRUE))<>P_15号2様式1!AU93,RIGHT(FIXED(P_15号2様式1!AU93,3,FALSE),4),\"\"))","v":""},{"$f":"IF(P_15号2様式1!AV93<> \"\",TEXT(INT(P_15号2様式1!AV93),\"#,##0\"),\"\")","v":"6,943"},null,{"$f":"IF(P_15号2様式1!AV93= \"\",\"\",IF(VALUE(FIXED(P_15号2様式1!AV93,0,TRUE))<>P_15号2様式1!AV93,RIGHT(FIXED(P_15号2様式1!AV93,3,FALSE),4),\"\"))","v":""}]
[{"$f":"IF(P_15号2様式1!F94=\"\",\"\",P_15号2様式1!F94)","v":"　垂水市"},null,{"$f":"IF(P_15号2様式1!G94=\"\",\"\",P_15号2様式1!G94)","v":100},{"$f":"IF(P_15号2様式1!K94<> \"\",TEXT(INT(P_15号2様式1!K94),\"#,##0\"),\"\")","v":"6,218"},{"$f":"IF(P_15号2様式1!K94= \"\",\"\",IF(VALUE(FIXED(P_15号2様式1!K94,0,TRUE))<>P_15号2様式1!K94,RIGHT(FIXED(P_15号2様式1!K94,3,FALSE),4),\"\"))","v":""},{"$f":"IF(P_15号2様式1!O94<> \"\",TEXT(INT(P_15号2様式1!O94),\"#,##0\"),\"\")","v":"1,698"},{"$f":"IF(P_15号2様式1!O94= \"\",\"\",IF(VALUE(FIXED(P_15号2様式1!O94,0,TRUE))<>P_15号2様式1!O94,RIGHT(FIXED(P_15号2様式1!O94,3,FALSE),4),\"\"))","v":""},{"$f":"IF(P_15号2様式1!S94<> \"\",TEXT(INT(P_15号2様式1!S94),\"#,##0\"),\"\")","v":""},{"$f":"IF(P_15号2様式1!S94= \"\",\"\",IF(VALUE(FIXED(P_15号2様式1!S94,0,TRUE))<>P_15号2様式1!S94,RIGHT(FIXED(P_15号2様式1!S94,3,FALSE),4),\"\"))","v":""},{"$f":"IF(P_15号2様式1!W94<> \"\",TEXT(INT(P_15号2様式1!W94),\"#,##0\"),\"\")","v":""},{"$f":"IF(P_15号2様式1!W94= \"\",\"\",IF(VALUE(FIXED(P_15号2様式1!W94,0,TRUE))<>P_15号2様式1!W94,RIGHT(FIXED(P_15号2様式1!W94,3,FALSE),4),\"\"))","v":""},{"$f":"IF(P_15号2様式1!AA94<> \"\",TEXT(INT(P_15号2様式1!AA94),\"#,##0\"),\"\")","v":""},{"$f":"IF(P_15号2様式1!AA94= \"\",\"\",IF(VALUE(FIXED(P_15号2様式1!AA94,0,TRUE))<>P_15号2様式1!AA94,RIGHT(FIXED(P_15号2様式1!AA94,3,FALSE),4),\"\"))","v":""},{"$f":"IF(P_15号2様式1!AE94<> \"\",TEXT(INT(P_15号2様式1!AE94),\"#,##0\"),\"\")","v":""},{"$f":"IF(P_15号2様式1!AE94= \"\",\"\",IF(VALUE(FIXED(P_15号2様式1!AE94,0,TRUE))<>P_15号2様式1!AE94,RIGHT(FIXED(P_15号2様式1!AE94,3,FALSE),4),\"\"))","v":""},{"$f":"IF(P_15号2様式1!AI94<> \"\",TEXT(INT(P_15号2様式1!AI94),\"#,##0\"),\"\")","v":""},{"$f":"IF(P_15号2様式1!AI94= \"\",\"\",IF(VALUE(FIXED(P_15号2様式1!AI94,0,TRUE))<>P_15号2様式1!AI94,RIGHT(FIXED(P_15号2様式1!AI94,3,FALSE),4),\"\"))","v":""},{"$f":"IF(P_15号2様式1!AM94<> \"\",TEXT(INT(P_15号2様式1!AM94),\"#,##0\"),\"\")","v":""},{"$f":"IF(P_15号2様式1!AM94= \"\",\"\",IF(VALUE(FIXED(P_15号2様式1!AM94,0,TRUE))<>P_15号2様式1!AM94,RIGHT(FIXED(P_15号2様式1!AM94,3,FALSE),4),\"\"))","v":""},{"$f":"IF(P_15号2様式1!AQ94<> \"\",TEXT(INT(P_15号2様式1!AQ94),\"#,##0\"),\"\")","v":""},{"$f":"IF(P_15号2様式1!AQ94= \"\",\"\",IF(VALUE(FIXED(P_15号2様式1!AQ94,0,TRUE))<>P_15号2様式1!AQ94,RIGHT(FIXED(P_15号2様式1!AQ94,3,FALSE),4),\"\"))","v":""},{"$f":"IF(P_15号2様式1!AU94<> \"\",TEXT(INT(P_15号2様式1!AU94),\"#,##0\"),\"\")","v":""},{"$f":"IF(P_15号2様式1!AU94= \"\",\"\",IF(VALUE(FIXED(P_15号2様式1!AU94,0,TRUE))<>P_15号2様式1!AU94,RIGHT(FIXED(P_15号2様式1!AU94,3,FALSE),4),\"\"))","v":""},{"$f":"IF(P_15号2様式1!AV94<> \"\",TEXT(INT(P_15号2様式1!AV94),\"#,##0\"),\"\")","v":"7,916"},null,{"$f":"IF(P_15号2様式1!AV94= \"\",\"\",IF(VALUE(FIXED(P_15号2様式1!AV94,0,TRUE))<>P_15号2様式1!AV94,RIGHT(FIXED(P_15号2様式1!AV94,3,FALSE),4),\"\"))","v":""}]
[{"$f":"IF(P_15号2様式1!F95=\"\",\"\",P_15号2様式1!F95)","v":"　曽於市"},null,{"$f":"IF(P_15号2様式1!G95=\"\",\"\",P_15号2様式1!G95)","v":100},{"$f":"IF(P_15号2様式1!K95<> \"\",TEXT(INT(P_15号2様式1!K95),\"#,##0\"),\"\")","v":"12,559"},{"$f":"IF(P_15号2様式1!K95= \"\",\"\",IF(VALUE(FIXED(P_15号2様式1!K95,0,TRUE))<>P_15号2様式1!K95,RIGHT(FIXED(P_15号2様式1!K95,3,FALSE),4),\"\"))","v":""},{"$f":"IF(P_15号2様式1!O95<> \"\",TEXT(INT(P_15号2様式1!O95),\"#,##0\"),\"\")","v":"5,163"},{"$f":"IF(P_15号2様式1!O95= \"\",\"\",IF(VALUE(FIXED(P_15号2様式1!O95,0,TRUE))<>P_15号2様式1!O95,RIGHT(FIXED(P_15号2様式1!O95,3,FALSE),4),\"\"))","v":""},{"$f":"IF(P_15号2様式1!S95<> \"\",TEXT(INT(P_15号2様式1!S95),\"#,##0\"),\"\")","v":""},{"$f":"IF(P_15号2様式1!S95= \"\",\"\",IF(VALUE(FIXED(P_15号2様式1!S95,0,TRUE))<>P_15号2様式1!S95,RIGHT(FIXED(P_15号2様式1!S95,3,FALSE),4),\"\"))","v":""},{"$f":"IF(P_15号2様式1!W95<> \"\",TEXT(INT(P_15号2様式1!W95),\"#,##0\"),\"\")","v":""},{"$f":"IF(P_15号2様式1!W95= \"\",\"\",IF(VALUE(FIXED(P_15号2様式1!W95,0,TRUE))<>P_15号2様式1!W95,RIGHT(FIXED(P_15号2様式1!W95,3,FALSE),4),\"\"))","v":""},{"$f":"IF(P_15号2様式1!AA95<> \"\",TEXT(INT(P_15号2様式1!AA95),\"#,##0\"),\"\")","v":""},{"$f":"IF(P_15号2様式1!AA95= \"\",\"\",IF(VALUE(FIXED(P_15号2様式1!AA95,0,TRUE))<>P_15号2様式1!AA95,RIGHT(FIXED(P_15号2様式1!AA95,3,FALSE),4),\"\"))","v":""},{"$f":"IF(P_15号2様式1!AE95<> \"\",TEXT(INT(P_15号2様式1!AE95),\"#,##0\"),\"\")","v":""},{"$f":"IF(P_15号2様式1!AE95= \"\",\"\",IF(VALUE(FIXED(P_15号2様式1!AE95,0,TRUE))<>P_15号2様式1!AE95,RIGHT(FIXED(P_15号2様式1!AE95,3,FALSE),4),\"\"))","v":""},{"$f":"IF(P_15号2様式1!AI95<> \"\",TEXT(INT(P_15号2様式1!AI95),\"#,##0\"),\"\")","v":""},{"$f":"IF(P_15号2様式1!AI95= \"\",\"\",IF(VALUE(FIXED(P_15号2様式1!AI95,0,TRUE))<>P_15号2様式1!AI95,RIGHT(FIXED(P_15号2様式1!AI95,3,FALSE),4),\"\"))","v":""},{"$f":"IF(P_15号2様式1!AM95<> \"\",TEXT(INT(P_15号2様式1!AM95),\"#,##0\"),\"\")","v":""},{"$f":"IF(P_15号2様式1!AM95= \"\",\"\",IF(VALUE(FIXED(P_15号2様式1!AM95,0,TRUE))<>P_15号2様式1!AM95,RIGHT(FIXED(P_15号2様式1!AM95,3,FALSE),4),\"\"))","v":""},{"$f":"IF(P_15号2様式1!AQ95<> \"\",TEXT(INT(P_15号2様式1!AQ95),\"#,##0\"),\"\")","v":""},{"$f":"IF(P_15号2様式1!AQ95= \"\",\"\",IF(VALUE(FIXED(P_15号2様式1!AQ95,0,TRUE))<>P_15号2様式1!AQ95,RIGHT(FIXED(P_15号2様式1!AQ95,3,FALSE),4),\"\"))","v":""},{"$f":"IF(P_15号2様式1!AU95<> \"\",TEXT(INT(P_15号2様式1!AU95),\"#,##0\"),\"\")","v":""},{"$f":"IF(P_15号2様式1!AU95= \"\",\"\",IF(VALUE(FIXED(P_15号2様式1!AU95,0,TRUE))<>P_15号2様式1!AU95,RIGHT(FIXED(P_15号2様式1!AU95,3,FALSE),4),\"\"))","v":""},{"$f":"IF(P_15号2様式1!AV95<> \"\",TEXT(INT(P_15号2様式1!AV95),\"#,##0\"),\"\")","v":"17,722"},null,{"$f":"IF(P_15号2様式1!AV95= \"\",\"\",IF(VALUE(FIXED(P_15号2様式1!AV95,0,TRUE))<>P_15号2様式1!AV95,RIGHT(FIXED(P_15号2様式1!AV95,3,FALSE),4),\"\"))","v":""}]
[{"$f":"IF(P_15号2様式1!F96=\"\",\"\",P_15号2様式1!F96)","v":"　霧島市"},null,{"$f":"IF(P_15号2様式1!G96=\"\",\"\",P_15号2様式1!G96)","v":100},{"$f":"IF(P_15号2様式1!K96<> \"\",TEXT(INT(P_15号2様式1!K96),\"#,##0\"),\"\")","v":"33,054"},{"$f":"IF(P_15号2様式1!K96= \"\",\"\",IF(VALUE(FIXED(P_15号2様式1!K96,0,TRUE))<>P_15号2様式1!K96,RIGHT(FIXED(P_15号2様式1!K96,3,FALSE),4),\"\"))","v":""},{"$f":"IF(P_15号2様式1!O96<> \"\",TEXT(INT(P_15号2様式1!O96),\"#,##0\"),\"\")","v":"19,207"},{"$f":"IF(P_15号2様式1!O96= \"\",\"\",IF(VALUE(FIXED(P_15号2様式1!O96,0,TRUE))<>P_15号2様式1!O96,RIGHT(FIXED(P_15号2様式1!O96,3,FALSE),4),\"\"))","v":""},{"$f":"IF(P_15号2様式1!S96<> \"\",TEXT(INT(P_15号2様式1!S96),\"#,##0\"),\"\")","v":""},{"$f":"IF(P_15号2様式1!S96= \"\",\"\",IF(VALUE(FIXED(P_15号2様式1!S96,0,TRUE))<>P_15号2様式1!S96,RIGHT(FIXED(P_15号2様式1!S96,3,FALSE),4),\"\"))","v":""},{"$f":"IF(P_15号2様式1!W96<> \"\",TEXT(INT(P_15号2様式1!W96),\"#,##0\"),\"\")","v":""},{"$f":"IF(P_15号2様式1!W96= \"\",\"\",IF(VALUE(FIXED(P_15号2様式1!W96,0,TRUE))<>P_15号2様式1!W96,RIGHT(FIXED(P_15号2様式1!W96,3,FALSE),4),\"\"))","v":""},{"$f":"IF(P_15号2様式1!AA96<> \"\",TEXT(INT(P_15号2様式1!AA96),\"#,##0\"),\"\")","v":""},{"$f":"IF(P_15号2様式1!AA96= \"\",\"\",IF(VALUE(FIXED(P_15号2様式1!AA96,0,TRUE))<>P_15号2様式1!AA96,RIGHT(FIXED(P_15号2様式1!AA96,3,FALSE),4),\"\"))","v":""},{"$f":"IF(P_15号2様式1!AE96<> \"\",TEXT(INT(P_15号2様式1!AE96),\"#,##0\"),\"\")","v":""},{"$f":"IF(P_15号2様式1!AE96= \"\",\"\",IF(VALUE(FIXED(P_15号2様式1!AE96,0,TRUE))<>P_15号2様式1!AE96,RIGHT(FIXED(P_15号2様式1!AE96,3,FALSE),4),\"\"))","v":""},{"$f":"IF(P_15号2様式1!AI96<> \"\",TEXT(INT(P_15号2様式1!AI96),\"#,##0\"),\"\")","v":""},{"$f":"IF(P_15号2様式1!AI96= \"\",\"\",IF(VALUE(FIXED(P_15号2様式1!AI96,0,TRUE))<>P_15号2様式1!AI96,RIGHT(FIXED(P_15号2様式1!AI96,3,FALSE),4),\"\"))","v":""},{"$f":"IF(P_15号2様式1!AM96<> \"\",TEXT(INT(P_15号2様式1!AM96),\"#,##0\"),\"\")","v":""},{"$f":"IF(P_15号2様式1!AM96= \"\",\"\",IF(VALUE(FIXED(P_15号2様式1!AM96,0,TRUE))<>P_15号2様式1!AM96,RIGHT(FIXED(P_15号2様式1!AM96,3,FALSE),4),\"\"))","v":""},{"$f":"IF(P_15号2様式1!AQ96<> \"\",TEXT(INT(P_15号2様式1!AQ96),\"#,##0\"),\"\")","v":""},{"$f":"IF(P_15号2様式1!AQ96= \"\",\"\",IF(VALUE(FIXED(P_15号2様式1!AQ96,0,TRUE))<>P_15号2様式1!AQ96,RIGHT(FIXED(P_15号2様式1!AQ96,3,FALSE),4),\"\"))","v":""},{"$f":"IF(P_15号2様式1!AU96<> \"\",TEXT(INT(P_15号2様式1!AU96),\"#,##0\"),\"\")","v":""},{"$f":"IF(P_15号2様式1!AU96= \"\",\"\",IF(VALUE(FIXED(P_15号2様式1!AU96,0,TRUE))<>P_15号2様式1!AU96,RIGHT(FIXED(P_15号2様式1!AU96,3,FALSE),4),\"\"))","v":""},{"$f":"IF(P_15号2様式1!AV96<> \"\",TEXT(INT(P_15号2様式1!AV96),\"#,##0\"),\"\")","v":"52,261"},null,{"$f":"IF(P_15号2様式1!AV96= \"\",\"\",IF(VALUE(FIXED(P_15号2様式1!AV96,0,TRUE))<>P_15号2様式1!AV96,RIGHT(FIXED(P_15号2様式1!AV96,3,FALSE),4),\"\"))","v":""}]
[{"$f":"IF(P_15号2様式1!F97=\"\",\"\",P_15号2様式1!F97)","v":"　志布志市"},null,{"$f":"IF(P_15号2様式1!G97=\"\",\"\",P_15号2様式1!G97)","v":100},{"$f":"IF(P_15号2様式1!K97<> \"\",TEXT(INT(P_15号2様式1!K97),\"#,##0\"),\"\")","v":"10,939"},{"$f":"IF(P_15号2様式1!K97= \"\",\"\",IF(VALUE(FIXED(P_15号2様式1!K97,0,TRUE))<>P_15号2様式1!K97,RIGHT(FIXED(P_15号2様式1!K97,3,FALSE),4),\"\"))","v":""},{"$f":"IF(P_15号2様式1!O97<> \"\",TEXT(INT(P_15号2様式1!O97),\"#,##0\"),\"\")","v":"3,629"},{"$f":"IF(P_15号2様式1!O97= \"\",\"\",IF(VALUE(FIXED(P_15号2様式1!O97,0,TRUE))<>P_15号2様式1!O97,RIGHT(FIXED(P_15号2様式1!O97,3,FALSE),4),\"\"))","v":""},{"$f":"IF(P_15号2様式1!S97<> \"\",TEXT(INT(P_15号2様式1!S97),\"#,##0\"),\"\")","v":""},{"$f":"IF(P_15号2様式1!S97= \"\",\"\",IF(VALUE(FIXED(P_15号2様式1!S97,0,TRUE))<>P_15号2様式1!S97,RIGHT(FIXED(P_15号2様式1!S97,3,FALSE),4),\"\"))","v":""},{"$f":"IF(P_15号2様式1!W97<> \"\",TEXT(INT(P_15号2様式1!W97),\"#,##0\"),\"\")","v":""},{"$f":"IF(P_15号2様式1!W97= \"\",\"\",IF(VALUE(FIXED(P_15号2様式1!W97,0,TRUE))<>P_15号2様式1!W97,RIGHT(FIXED(P_15号2様式1!W97,3,FALSE),4),\"\"))","v":""},{"$f":"IF(P_15号2様式1!AA97<> \"\",TEXT(INT(P_15号2様式1!AA97),\"#,##0\"),\"\")","v":""},{"$f":"IF(P_15号2様式1!AA97= \"\",\"\",IF(VALUE(FIXED(P_15号2様式1!AA97,0,TRUE))<>P_15号2様式1!AA97,RIGHT(FIXED(P_15号2様式1!AA97,3,FALSE),4),\"\"))","v":""},{"$f":"IF(P_15号2様式1!AE97<> \"\",TEXT(INT(P_15号2様式1!AE97),\"#,##0\"),\"\")","v":""},{"$f":"IF(P_15号2様式1!AE97= \"\",\"\",IF(VALUE(FIXED(P_15号2様式1!AE97,0,TRUE))<>P_15号2様式1!AE97,RIGHT(FIXED(P_15号2様式1!AE97,3,FALSE),4),\"\"))","v":""},{"$f":"IF(P_15号2様式1!AI97<> \"\",TEXT(INT(P_15号2様式1!AI97),\"#,##0\"),\"\")","v":""},{"$f":"IF(P_15号2様式1!AI97= \"\",\"\",IF(VALUE(FIXED(P_15号2様式1!AI97,0,TRUE))<>P_15号2様式1!AI97,RIGHT(FIXED(P_15号2様式1!AI97,3,FALSE),4),\"\"))","v":""},{"$f":"IF(P_15号2様式1!AM97<> \"\",TEXT(INT(P_15号2様式1!AM97),\"#,##0\"),\"\")","v":""},{"$f":"IF(P_15号2様式1!AM97= \"\",\"\",IF(VALUE(FIXED(P_15号2様式1!AM97,0,TRUE))<>P_15号2様式1!AM97,RIGHT(FIXED(P_15号2様式1!AM97,3,FALSE),4),\"\"))","v":""},{"$f":"IF(P_15号2様式1!AQ97<> \"\",TEXT(INT(P_15号2様式1!AQ97),\"#,##0\"),\"\")","v":""},{"$f":"IF(P_15号2様式1!AQ97= \"\",\"\",IF(VALUE(FIXED(P_15号2様式1!AQ97,0,TRUE))<>P_15号2様式1!AQ97,RIGHT(FIXED(P_15号2様式1!AQ97,3,FALSE),4),\"\"))","v":""},{"$f":"IF(P_15号2様式1!AU97<> \"\",TEXT(INT(P_15号2様式1!AU97),\"#,##0\"),\"\")","v":""},{"$f":"IF(P_15号2様式1!AU97= \"\",\"\",IF(VALUE(FIXED(P_15号2様式1!AU97,0,TRUE))<>P_15号2様式1!AU97,RIGHT(FIXED(P_15号2様式1!AU97,3,FALSE),4),\"\"))","v":""},{"$f":"IF(P_15号2様式1!AV97<> \"\",TEXT(INT(P_15号2様式1!AV97),\"#,##0\"),\"\")","v":"14,568"},null,{"$f":"IF(P_15号2様式1!AV97= \"\",\"\",IF(VALUE(FIXED(P_15号2様式1!AV97,0,TRUE))<>P_15号2様式1!AV97,RIGHT(FIXED(P_15号2様式1!AV97,3,FALSE),4),\"\"))","v":""}]
[{"$f":"IF(P_15号2様式1!F98=\"\",\"\",P_15号2様式1!F98)","v":"＊市　部   計"},null,{"$f":"IF(P_15号2様式1!G98=\"\",\"\",P_15号2様式1!G98)","v":90.061004158748503},{"$f":"IF(P_15号2様式1!K98<> \"\",TEXT(INT(P_15号2様式1!K98),\"#,##0\"),\"\")","v":"87,204"},{"$f":"IF(P_15号2様式1!K98= \"\",\"\",IF(VALUE(FIXED(P_15号2様式1!K98,0,TRUE))<>P_15号2様式1!K98,RIGHT(FIXED(P_15号2様式1!K98,3,FALSE),4),\"\"))","v":""},{"$f":"IF(P_15号2様式1!O98<> \"\",TEXT(INT(P_15号2様式1!O98),\"#,##0\"),\"\")","v":"41,206"},{"$f":"IF(P_15号2様式1!O98= \"\",\"\",IF(VALUE(FIXED(P_15号2様式1!O98,0,TRUE))<>P_15号2様式1!O98,RIGHT(FIXED(P_15号2様式1!O98,3,FALSE),4),\"\"))","v":""},{"$f":"IF(P_15号2様式1!S98<> \"\",TEXT(INT(P_15号2様式1!S98),\"#,##0\"),\"\")","v":""},{"$f":"IF(P_15号2様式1!S98= \"\",\"\",IF(VALUE(FIXED(P_15号2様式1!S98,0,TRUE))<>P_15号2様式1!S98,RIGHT(FIXED(P_15号2様式1!S98,3,FALSE),4),\"\"))","v":""},{"$f":"IF(P_15号2様式1!W98<> \"\",TEXT(INT(P_15号2様式1!W98),\"#,##0\"),\"\")","v":""},{"$f":"IF(P_15号2様式1!W98= \"\",\"\",IF(VALUE(FIXED(P_15号2様式1!W98,0,TRUE))<>P_15号2様式1!W98,RIGHT(FIXED(P_15号2様式1!W98,3,FALSE),4),\"\"))","v":""},{"$f":"IF(P_15号2様式1!AA98<> \"\",TEXT(INT(P_15号2様式1!AA98),\"#,##0\"),\"\")","v":""},{"$f":"IF(P_15号2様式1!AA98= \"\",\"\",IF(VALUE(FIXED(P_15号2様式1!AA98,0,TRUE))<>P_15号2様式1!AA98,RIGHT(FIXED(P_15号2様式1!AA98,3,FALSE),4),\"\"))","v":""},{"$f":"IF(P_15号2様式1!AE98<> \"\",TEXT(INT(P_15号2様式1!AE98),\"#,##0\"),\"\")","v":""},{"$f":"IF(P_15号2様式1!AE98= \"\",\"\",IF(VALUE(FIXED(P_15号2様式1!AE98,0,TRUE))<>P_15号2様式1!AE98,RIGHT(FIXED(P_15号2様式1!AE98,3,FALSE),4),\"\"))","v":""},{"$f":"IF(P_15号2様式1!AI98<> \"\",TEXT(INT(P_15号2様式1!AI98),\"#,##0\"),\"\")","v":""},{"$f":"IF(P_15号2様式1!AI98= \"\",\"\",IF(VALUE(FIXED(P_15号2様式1!AI98,0,TRUE))<>P_15号2様式1!AI98,RIGHT(FIXED(P_15号2様式1!AI98,3,FALSE),4),\"\"))","v":""},{"$f":"IF(P_15号2様式1!AM98<> \"\",TEXT(INT(P_15号2様式1!AM98),\"#,##0\"),\"\")","v":""},{"$f":"IF(P_15号2様式1!AM98= \"\",\"\",IF(VALUE(FIXED(P_15号2様式1!AM98,0,TRUE))<>P_15号2様式1!AM98,RIGHT(FIXED(P_15号2様式1!AM98,3,FALSE),4),\"\"))","v":""},{"$f":"IF(P_15号2様式1!AQ98<> \"\",TEXT(INT(P_15号2様式1!AQ98),\"#,##0\"),\"\")","v":""},{"$f":"IF(P_15号2様式1!AQ98= \"\",\"\",IF(VALUE(FIXED(P_15号2様式1!AQ98,0,TRUE))<>P_15号2様式1!AQ98,RIGHT(FIXED(P_15号2様式1!AQ98,3,FALSE),4),\"\"))","v":""},{"$f":"IF(P_15号2様式1!AU98<> \"\",TEXT(INT(P_15号2様式1!AU98),\"#,##0\"),\"\")","v":""},{"$f":"IF(P_15号2様式1!AU98= \"\",\"\",IF(VALUE(FIXED(P_15号2様式1!AU98,0,TRUE))<>P_15号2様式1!AU98,RIGHT(FIXED(P_15号2様式1!AU98,3,FALSE),4),\"\"))","v":""},{"$f":"IF(P_15号2様式1!AV98<> \"\",TEXT(INT(P_15号2様式1!AV98),\"#,##0\"),\"\")","v":"128,410"},null,{"$f":"IF(P_15号2様式1!AV98= \"\",\"\",IF(VALUE(FIXED(P_15号2様式1!AV98,0,TRUE))<>P_15号2様式1!AV98,RIGHT(FIXED(P_15号2様式1!AV98,3,FALSE),4),\"\"))","v":""}]
[{"$f":"IF(P_15号2様式1!F99=\"\",\"\",P_15号2様式1!F99)","v":"　大崎町"},null,{"$f":"IF(P_15号2様式1!G99=\"\",\"\",P_15号2様式1!G99)","v":100},{"$f":"IF(P_15号2様式1!K99<> \"\",TEXT(INT(P_15号2様式1!K99),\"#,##0\"),\"\")","v":"5,040"},{"$f":"IF(P_15号2様式1!K99= \"\",\"\",IF(VALUE(FIXED(P_15号2様式1!K99,0,TRUE))<>P_15号2様式1!K99,RIGHT(FIXED(P_15号2様式1!K99,3,FALSE),4),\"\"))","v":""},{"$f":"IF(P_15号2様式1!O99<> \"\",TEXT(INT(P_15号2様式1!O99),\"#,##0\"),\"\")","v":"1,393"},{"$f":"IF(P_15号2様式1!O99= \"\",\"\",IF(VALUE(FIXED(P_15号2様式1!O99,0,TRUE))<>P_15号2様式1!O99,RIGHT(FIXED(P_15号2様式1!O99,3,FALSE),4),\"\"))","v":""},{"$f":"IF(P_15号2様式1!S99<> \"\",TEXT(INT(P_15号2様式1!S99),\"#,##0\"),\"\")","v":""},{"$f":"IF(P_15号2様式1!S99= \"\",\"\",IF(VALUE(FIXED(P_15号2様式1!S99,0,TRUE))<>P_15号2様式1!S99,RIGHT(FIXED(P_15号2様式1!S99,3,FALSE),4),\"\"))","v":""},{"$f":"IF(P_15号2様式1!W99<> \"\",TEXT(INT(P_15号2様式1!W99),\"#,##0\"),\"\")","v":""},{"$f":"IF(P_15号2様式1!W99= \"\",\"\",IF(VALUE(FIXED(P_15号2様式1!W99,0,TRUE))<>P_15号2様式1!W99,RIGHT(FIXED(P_15号2様式1!W99,3,FALSE),4),\"\"))","v":""},{"$f":"IF(P_15号2様式1!AA99<> \"\",TEXT(INT(P_15号2様式1!AA99),\"#,##0\"),\"\")","v":""},{"$f":"IF(P_15号2様式1!AA99= \"\",\"\",IF(VALUE(FIXED(P_15号2様式1!AA99,0,TRUE))<>P_15号2様式1!AA99,RIGHT(FIXED(P_15号2様式1!AA99,3,FALSE),4),\"\"))","v":""},{"$f":"IF(P_15号2様式1!AE99<> \"\",TEXT(INT(P_15号2様式1!AE99),\"#,##0\"),\"\")","v":""},{"$f":"IF(P_15号2様式1!AE99= \"\",\"\",IF(VALUE(FIXED(P_15号2様式1!AE99,0,TRUE))<>P_15号2様式1!AE99,RIGHT(FIXED(P_15号2様式1!AE99,3,FALSE),4),\"\"))","v":""},{"$f":"IF(P_15号2様式1!AI99<> \"\",TEXT(INT(P_15号2様式1!AI99),\"#,##0\"),\"\")","v":""},{"$f":"IF(P_15号2様式1!AI99= \"\",\"\",IF(VALUE(FIXED(P_15号2様式1!AI99,0,TRUE))<>P_15号2様式1!AI99,RIGHT(FIXED(P_15号2様式1!AI99,3,FALSE),4),\"\"))","v":""},{"$f":"IF(P_15号2様式1!AM99<> \"\",TEXT(INT(P_15号2様式1!AM99),\"#,##0\"),\"\")","v":""},{"$f":"IF(P_15号2様式1!AM99= \"\",\"\",IF(VALUE(FIXED(P_15号2様式1!AM99,0,TRUE))<>P_15号2様式1!AM99,RIGHT(FIXED(P_15号2様式1!AM99,3,FALSE),4),\"\"))","v":""},{"$f":"IF(P_15号2様式1!AQ99<> \"\",TEXT(INT(P_15号2様式1!AQ99),\"#,##0\"),\"\")","v":""},{"$f":"IF(P_15号2様式1!AQ99= \"\",\"\",IF(VALUE(FIXED(P_15号2様式1!AQ99,0,TRUE))<>P_15号2様式1!AQ99,RIGHT(FIXED(P_15号2様式1!AQ99,3,FALSE),4),\"\"))","v":""},{"$f":"IF(P_15号2様式1!AU99<> \"\",TEXT(INT(P_15号2様式1!AU99),\"#,##0\"),\"\")","v":""},{"$f":"IF(P_15号2様式1!AU99= \"\",\"\",IF(VALUE(FIXED(P_15号2様式1!AU99,0,TRUE))<>P_15号2様式1!AU99,RIGHT(FIXED(P_15号2様式1!AU99,3,FALSE),4),\"\"))","v":""},{"$f":"IF(P_15号2様式1!AV99<> \"\",TEXT(INT(P_15号2様式1!AV99),\"#,##0\"),\"\")","v":"6,433"},null,{"$f":"IF(P_15号2様式1!AV99= \"\",\"\",IF(VALUE(FIXED(P_15号2様式1!AV99,0,TRUE))<>P_15号2様式1!AV99,RIGHT(FIXED(P_15号2様式1!AV99,3,FALSE),4),\"\"))","v":""}]
[{"$f":"IF(P_15号2様式1!F100=\"\",\"\",P_15号2様式1!F100)","v":"＊（曽於郡）計"},null,{"$f":"IF(P_15号2様式1!G100=\"\",\"\",P_15号2様式1!G100)","v":100},{"$f":"IF(P_15号2様式1!K100<> \"\",TEXT(INT(P_15号2様式1!K100),\"#,##0\"),\"\")","v":"5,040"},{"$f":"IF(P_15号2様式1!K100= \"\",\"\",IF(VALUE(FIXED(P_15号2様式1!K100,0,TRUE))<>P_15号2様式1!K100,RIGHT(FIXED(P_15号2様式1!K100,3,FALSE),4),\"\"))","v":""},{"$f":"IF(P_15号2様式1!O100<> \"\",TEXT(INT(P_15号2様式1!O100),\"#,##0\"),\"\")","v":"1,393"},{"$f":"IF(P_15号2様式1!O100= \"\",\"\",IF(VALUE(FIXED(P_15号2様式1!O100,0,TRUE))<>P_15号2様式1!O100,RIGHT(FIXED(P_15号2様式1!O100,3,FALSE),4),\"\"))","v":""},{"$f":"IF(P_15号2様式1!S100<> \"\",TEXT(INT(P_15号2様式1!S100),\"#,##0\"),\"\")","v":""},{"$f":"IF(P_15号2様式1!S100= \"\",\"\",IF(VALUE(FIXED(P_15号2様式1!S100,0,TRUE))<>P_15号2様式1!S100,RIGHT(FIXED(P_15号2様式1!S100,3,FALSE),4),\"\"))","v":""},{"$f":"IF(P_15号2様式1!W100<> \"\",TEXT(INT(P_15号2様式1!W100),\"#,##0\"),\"\")","v":""},{"$f":"IF(P_15号2様式1!W100= \"\",\"\",IF(VALUE(FIXED(P_15号2様式1!W100,0,TRUE))<>P_15号2様式1!W100,RIGHT(FIXED(P_15号2様式1!W100,3,FALSE),4),\"\"))","v":""},{"$f":"IF(P_15号2様式1!AA100<> \"\",TEXT(INT(P_15号2様式1!AA100),\"#,##0\"),\"\")","v":""},{"$f":"IF(P_15号2様式1!AA100= \"\",\"\",IF(VALUE(FIXED(P_15号2様式1!AA100,0,TRUE))<>P_15号2様式1!AA100,RIGHT(FIXED(P_15号2様式1!AA100,3,FALSE),4),\"\"))","v":""},{"$f":"IF(P_15号2様式1!AE100<> \"\",TEXT(INT(P_15号2様式1!AE100),\"#,##0\"),\"\")","v":""},{"$f":"IF(P_15号2様式1!AE100= \"\",\"\",IF(VALUE(FIXED(P_15号2様式1!AE100,0,TRUE))<>P_15号2様式1!AE100,RIGHT(FIXED(P_15号2様式1!AE100,3,FALSE),4),\"\"))","v":""},{"$f":"IF(P_15号2様式1!AI100<> \"\",TEXT(INT(P_15号2様式1!AI100),\"#,##0\"),\"\")","v":""},{"$f":"IF(P_15号2様式1!AI100= \"\",\"\",IF(VALUE(FIXED(P_15号2様式1!AI100,0,TRUE))<>P_15号2様式1!AI100,RIGHT(FIXED(P_15号2様式1!AI100,3,FALSE),4),\"\"))","v":""},{"$f":"IF(P_15号2様式1!AM100<> \"\",TEXT(INT(P_15号2様式1!AM100),\"#,##0\"),\"\")","v":""},{"$f":"IF(P_15号2様式1!AM100= \"\",\"\",IF(VALUE(FIXED(P_15号2様式1!AM100,0,TRUE))<>P_15号2様式1!AM100,RIGHT(FIXED(P_15号2様式1!AM100,3,FALSE),4),\"\"))","v":""},{"$f":"IF(P_15号2様式1!AQ100<> \"\",TEXT(INT(P_15号2様式1!AQ100),\"#,##0\"),\"\")","v":""},{"$f":"IF(P_15号2様式1!AQ100= \"\",\"\",IF(VALUE(FIXED(P_15号2様式1!AQ100,0,TRUE))<>P_15号2様式1!AQ100,RIGHT(FIXED(P_15号2様式1!AQ100,3,FALSE),4),\"\"))","v":""},{"$f":"IF(P_15号2様式1!AU100<> \"\",TEXT(INT(P_15号2様式1!AU100),\"#,##0\"),\"\")","v":""},{"$f":"IF(P_15号2様式1!AU100= \"\",\"\",IF(VALUE(FIXED(P_15号2様式1!AU100,0,TRUE))<>P_15号2様式1!AU100,RIGHT(FIXED(P_15号2様式1!AU100,3,FALSE),4),\"\"))","v":""},{"$f":"IF(P_15号2様式1!AV100<> \"\",TEXT(INT(P_15号2様式1!AV100),\"#,##0\"),\"\")","v":"6,433"},null,{"$f":"IF(P_15号2様式1!AV100= \"\",\"\",IF(VALUE(FIXED(P_15号2様式1!AV100,0,TRUE))<>P_15号2様式1!AV100,RIGHT(FIXED(P_15号2様式1!AV100,3,FALSE),4),\"\"))","v":""}]
[{"$f":"IF(P_15号2様式1!F101=\"\",\"\",P_15号2様式1!F101)","v":"　東串良町"},null,{"$f":"IF(P_15号2様式1!G101=\"\",\"\",P_15号2様式1!G101)","v":100},{"$f":"IF(P_15号2様式1!K101<> \"\",TEXT(INT(P_15号2様式1!K101),\"#,##0\"),\"\")","v":"2,420"},{"$f":"IF(P_15号2様式1!K101= \"\",\"\",IF(VALUE(FIXED(P_15号2様式1!K101,0,TRUE))<>P_15号2様式1!K101,RIGHT(FIXED(P_15号2様式1!K101,3,FALSE),4),\"\"))","v":""},{"$f":"IF(P_15号2様式1!O101<> \"\",TEXT(INT(P_15号2様式1!O101),\"#,##0\"),\"\")","v":"694"},{"$f":"IF(P_15号2様式1!O101= \"\",\"\",IF(VALUE(FIXED(P_15号2様式1!O101,0,TRUE))<>P_15号2様式1!O101,RIGHT(FIXED(P_15号2様式1!O101,3,FALSE),4),\"\"))","v":""},{"$f":"IF(P_15号2様式1!S101<> \"\",TEXT(INT(P_15号2様式1!S101),\"#,##0\"),\"\")","v":""},{"$f":"IF(P_15号2様式1!S101= \"\",\"\",IF(VALUE(FIXED(P_15号2様式1!S101,0,TRUE))<>P_15号2様式1!S101,RIGHT(FIXED(P_15号2様式1!S101,3,FALSE),4),\"\"))","v":""},{"$f":"IF(P_15号2様式1!W101<> \"\",TEXT(INT(P_15号2様式1!W101),\"#,##0\"),\"\")","v":""},{"$f":"IF(P_15号2様式1!W101= \"\",\"\",IF(VALUE(FIXED(P_15号2様式1!W101,0,TRUE))<>P_15号2様式1!W101,RIGHT(FIXED(P_15号2様式1!W101,3,FALSE),4),\"\"))","v":""},{"$f":"IF(P_15号2様式1!AA101<> \"\",TEXT(INT(P_15号2様式1!AA101),\"#,##0\"),\"\")","v":""},{"$f":"IF(P_15号2様式1!AA101= \"\",\"\",IF(VALUE(FIXED(P_15号2様式1!AA101,0,TRUE))<>P_15号2様式1!AA101,RIGHT(FIXED(P_15号2様式1!AA101,3,FALSE),4),\"\"))","v":""},{"$f":"IF(P_15号2様式1!AE101<> \"\",TEXT(INT(P_15号2様式1!AE101),\"#,##0\"),\"\")","v":""},{"$f":"IF(P_15号2様式1!AE101= \"\",\"\",IF(VALUE(FIXED(P_15号2様式1!AE101,0,TRUE))<>P_15号2様式1!AE101,RIGHT(FIXED(P_15号2様式1!AE101,3,FALSE),4),\"\"))","v":""},{"$f":"IF(P_15号2様式1!AI101<> \"\",TEXT(INT(P_15号2様式1!AI101),\"#,##0\"),\"\")","v":""},{"$f":"IF(P_15号2様式1!AI101= \"\",\"\",IF(VALUE(FIXED(P_15号2様式1!AI101,0,TRUE))<>P_15号2様式1!AI101,RIGHT(FIXED(P_15号2様式1!AI101,3,FALSE),4),\"\"))","v":""},{"$f":"IF(P_15号2様式1!AM101<> \"\",TEXT(INT(P_15号2様式1!AM101),\"#,##0\"),\"\")","v":""},{"$f":"IF(P_15号2様式1!AM101= \"\",\"\",IF(VALUE(FIXED(P_15号2様式1!AM101,0,TRUE))<>P_15号2様式1!AM101,RIGHT(FIXED(P_15号2様式1!AM101,3,FALSE),4),\"\"))","v":""},{"$f":"IF(P_15号2様式1!AQ101<> \"\",TEXT(INT(P_15号2様式1!AQ101),\"#,##0\"),\"\")","v":""},{"$f":"IF(P_15号2様式1!AQ101= \"\",\"\",IF(VALUE(FIXED(P_15号2様式1!AQ101,0,TRUE))<>P_15号2様式1!AQ101,RIGHT(FIXED(P_15号2様式1!AQ101,3,FALSE),4),\"\"))","v":""},{"$f":"IF(P_15号2様式1!AU101<> \"\",TEXT(INT(P_15号2様式1!AU101),\"#,##0\"),\"\")","v":""},{"$f":"IF(P_15号2様式1!AU101= \"\",\"\",IF(VALUE(FIXED(P_15号2様式1!AU101,0,TRUE))<>P_15号2様式1!AU101,RIGHT(FIXED(P_15号2様式1!AU101,3,FALSE),4),\"\"))","v":""},{"$f":"IF(P_15号2様式1!AV101<> \"\",TEXT(INT(P_15号2様式1!AV101),\"#,##0\"),\"\")","v":"3,114"},null,{"$f":"IF(P_15号2様式1!AV101= \"\",\"\",IF(VALUE(FIXED(P_15号2様式1!AV101,0,TRUE))<>P_15号2様式1!AV101,RIGHT(FIXED(P_15号2様式1!AV101,3,FALSE),4),\"\"))","v":""}]
[{"$f":"IF(P_15号2様式1!F102=\"\",\"\",P_15号2様式1!F102)","v":"　錦江町"},null,{"$f":"IF(P_15号2様式1!G102=\"\",\"\",P_15号2様式1!G102)","v":100},{"$f":"IF(P_15号2様式1!K102<> \"\",TEXT(INT(P_15号2様式1!K102),\"#,##0\"),\"\")","v":"3,417"},{"$f":"IF(P_15号2様式1!K102= \"\",\"\",IF(VALUE(FIXED(P_15号2様式1!K102,0,TRUE))<>P_15号2様式1!K102,RIGHT(FIXED(P_15号2様式1!K102,3,FALSE),4),\"\"))","v":""},{"$f":"IF(P_15号2様式1!O102<> \"\",TEXT(INT(P_15号2様式1!O102),\"#,##0\"),\"\")","v":"849"},{"$f":"IF(P_15号2様式1!O102= \"\",\"\",IF(VALUE(FIXED(P_15号2様式1!O102,0,TRUE))<>P_15号2様式1!O102,RIGHT(FIXED(P_15号2様式1!O102,3,FALSE),4),\"\"))","v":""},{"$f":"IF(P_15号2様式1!S102<> \"\",TEXT(INT(P_15号2様式1!S102),\"#,##0\"),\"\")","v":""},{"$f":"IF(P_15号2様式1!S102= \"\",\"\",IF(VALUE(FIXED(P_15号2様式1!S102,0,TRUE))<>P_15号2様式1!S102,RIGHT(FIXED(P_15号2様式1!S102,3,FALSE),4),\"\"))","v":""},{"$f":"IF(P_15号2様式1!W102<> \"\",TEXT(INT(P_15号2様式1!W102),\"#,##0\"),\"\")","v":""},{"$f":"IF(P_15号2様式1!W102= \"\",\"\",IF(VALUE(FIXED(P_15号2様式1!W102,0,TRUE))<>P_15号2様式1!W102,RIGHT(FIXED(P_15号2様式1!W102,3,FALSE),4),\"\"))","v":""},{"$f":"IF(P_15号2様式1!AA102<> \"\",TEXT(INT(P_15号2様式1!AA102),\"#,##0\"),\"\")","v":""},{"$f":"IF(P_15号2様式1!AA102= \"\",\"\",IF(VALUE(FIXED(P_15号2様式1!AA102,0,TRUE))<>P_15号2様式1!AA102,RIGHT(FIXED(P_15号2様式1!AA102,3,FALSE),4),\"\"))","v":""},{"$f":"IF(P_15号2様式1!AE102<> \"\",TEXT(INT(P_15号2様式1!AE102),\"#,##0\"),\"\")","v":""},{"$f":"IF(P_15号2様式1!AE102= \"\",\"\",IF(VALUE(FIXED(P_15号2様式1!AE102,0,TRUE))<>P_15号2様式1!AE102,RIGHT(FIXED(P_15号2様式1!AE102,3,FALSE),4),\"\"))","v":""},{"$f":"IF(P_15号2様式1!AI102<> \"\",TEXT(INT(P_15号2様式1!AI102),\"#,##0\"),\"\")","v":""},{"$f":"IF(P_15号2様式1!AI102= \"\",\"\",IF(VALUE(FIXED(P_15号2様式1!AI102,0,TRUE))<>P_15号2様式1!AI102,RIGHT(FIXED(P_15号2様式1!AI102,3,FALSE),4),\"\"))","v":""},{"$f":"IF(P_15号2様式1!AM102<> \"\",TEXT(INT(P_15号2様式1!AM102),\"#,##0\"),\"\")","v":""},{"$f":"IF(P_15号2様式1!AM102= \"\",\"\",IF(VALUE(FIXED(P_15号2様式1!AM102,0,TRUE))<>P_15号2様式1!AM102,RIGHT(FIXED(P_15号2様式1!AM102,3,FALSE),4),\"\"))","v":""},{"$f":"IF(P_15号2様式1!AQ102<> \"\",TEXT(INT(P_15号2様式1!AQ102),\"#,##0\"),\"\")","v":""},{"$f":"IF(P_15号2様式1!AQ102= \"\",\"\",IF(VALUE(FIXED(P_15号2様式1!AQ102,0,TRUE))<>P_15号2様式1!AQ102,RIGHT(FIXED(P_15号2様式1!AQ102,3,FALSE),4),\"\"))","v":""},{"$f":"IF(P_15号2様式1!AU102<> \"\",TEXT(INT(P_15号2様式1!AU102),\"#,##0\"),\"\")","v":""},{"$f":"IF(P_15号2様式1!AU102= \"\",\"\",IF(VALUE(FIXED(P_15号2様式1!AU102,0,TRUE))<>P_15号2様式1!AU102,RIGHT(FIXED(P_15号2様式1!AU102,3,FALSE),4),\"\"))","v":""},{"$f":"IF(P_15号2様式1!AV102<> \"\",TEXT(INT(P_15号2様式1!AV102),\"#,##0\"),\"\")","v":"4,266"},null,{"$f":"IF(P_15号2様式1!AV102= \"\",\"\",IF(VALUE(FIXED(P_15号2様式1!AV102,0,TRUE))<>P_15号2様式1!AV102,RIGHT(FIXED(P_15号2様式1!AV102,3,FALSE),4),\"\"))","v":""}]
[{"$f":"IF(P_15号2様式1!F103=\"\",\"\",P_15号2様式1!F103)","v":"　南大隅町"},null,{"$f":"IF(P_15号2様式1!G103=\"\",\"\",P_15号2様式1!G103)","v":100},{"$f":"IF(P_15号2様式1!K103<> \"\",TEXT(INT(P_15号2様式1!K103),\"#,##0\"),\"\")","v":"3,352"},{"$f":"IF(P_15号2様式1!K103= \"\",\"\",IF(VALUE(FIXED(P_15号2様式1!K103,0,TRUE))<>P_15号2様式1!K103,RIGHT(FIXED(P_15号2様式1!K103,3,FALSE),4),\"\"))","v":""},{"$f":"IF(P_15号2様式1!O103<> \"\",TEXT(INT(P_15号2様式1!O103),\"#,##0\"),\"\")","v":"980"},{"$f":"IF(P_15号2様式1!O103= \"\",\"\",IF(VALUE(FIXED(P_15号2様式1!O103,0,TRUE))<>P_15号2様式1!O103,RIGHT(FIXED(P_15号2様式1!O103,3,FALSE),4),\"\"))","v":""},{"$f":"IF(P_15号2様式1!S103<> \"\",TEXT(INT(P_15号2様式1!S103),\"#,##0\"),\"\")","v":""},{"$f":"IF(P_15号2様式1!S103= \"\",\"\",IF(VALUE(FIXED(P_15号2様式1!S103,0,TRUE))<>P_15号2様式1!S103,RIGHT(FIXED(P_15号2様式1!S103,3,FALSE),4),\"\"))","v":""},{"$f":"IF(P_15号2様式1!W103<> \"\",TEXT(INT(P_15号2様式1!W103),\"#,##0\"),\"\")","v":""},{"$f":"IF(P_15号2様式1!W103= \"\",\"\",IF(VALUE(FIXED(P_15号2様式1!W103,0,TRUE))<>P_15号2様式1!W103,RIGHT(FIXED(P_15号2様式1!W103,3,FALSE),4),\"\"))","v":""},{"$f":"IF(P_15号2様式1!AA103<> \"\",TEXT(INT(P_15号2様式1!AA103),\"#,##0\"),\"\")","v":""},{"$f":"IF(P_15号2様式1!AA103= \"\",\"\",IF(VALUE(FIXED(P_15号2様式1!AA103,0,TRUE))<>P_15号2様式1!AA103,RIGHT(FIXED(P_15号2様式1!AA103,3,FALSE),4),\"\"))","v":""},{"$f":"IF(P_15号2様式1!AE103<> \"\",TEXT(INT(P_15号2様式1!AE103),\"#,##0\"),\"\")","v":""},{"$f":"IF(P_15号2様式1!AE103= \"\",\"\",IF(VALUE(FIXED(P_15号2様式1!AE103,0,TRUE))<>P_15号2様式1!AE103,RIGHT(FIXED(P_15号2様式1!AE103,3,FALSE),4),\"\"))","v":""},{"$f":"IF(P_15号2様式1!AI103<> \"\",TEXT(INT(P_15号2様式1!AI103),\"#,##0\"),\"\")","v":""},{"$f":"IF(P_15号2様式1!AI103= \"\",\"\",IF(VALUE(FIXED(P_15号2様式1!AI103,0,TRUE))<>P_15号2様式1!AI103,RIGHT(FIXED(P_15号2様式1!AI103,3,FALSE),4),\"\"))","v":""},{"$f":"IF(P_15号2様式1!AM103<> \"\",TEXT(INT(P_15号2様式1!AM103),\"#,##0\"),\"\")","v":""},{"$f":"IF(P_15号2様式1!AM103= \"\",\"\",IF(VALUE(FIXED(P_15号2様式1!AM103,0,TRUE))<>P_15号2様式1!AM103,RIGHT(FIXED(P_15号2様式1!AM103,3,FALSE),4),\"\"))","v":""},{"$f":"IF(P_15号2様式1!AQ103<> \"\",TEXT(INT(P_15号2様式1!AQ103),\"#,##0\"),\"\")","v":""},{"$f":"IF(P_15号2様式1!AQ103= \"\",\"\",IF(VALUE(FIXED(P_15号2様式1!AQ103,0,TRUE))<>P_15号2様式1!AQ103,RIGHT(FIXED(P_15号2様式1!AQ103,3,FALSE),4),\"\"))","v":""},{"$f":"IF(P_15号2様式1!AU103<> \"\",TEXT(INT(P_15号2様式1!AU103),\"#,##0\"),\"\")","v":""},{"$f":"IF(P_15号2様式1!AU103= \"\",\"\",IF(VALUE(FIXED(P_15号2様式1!AU103,0,TRUE))<>P_15号2様式1!AU103,RIGHT(FIXED(P_15号2様式1!AU103,3,FALSE),4),\"\"))","v":""},{"$f":"IF(P_15号2様式1!AV103<> \"\",TEXT(INT(P_15号2様式1!AV103),\"#,##0\"),\"\")","v":"4,332"},null,{"$f":"IF(P_15号2様式1!AV103= \"\",\"\",IF(VALUE(FIXED(P_15号2様式1!AV103,0,TRUE))<>P_15号2様式1!AV103,RIGHT(FIXED(P_15号2様式1!AV103,3,FALSE),4),\"\"))","v":""}]
[{"$f":"IF(P_15号2様式1!F104=\"\",\"\",P_15号2様式1!F104)","v":"　肝付町"},null,{"$f":"IF(P_15号2様式1!G104=\"\",\"\",P_15号2様式1!G104)","v":100},{"$f":"IF(P_15号2様式1!K104<> \"\",TEXT(INT(P_15号2様式1!K104),\"#,##0\"),\"\")","v":"5,402"},{"$f":"IF(P_15号2様式1!K104= \"\",\"\",IF(VALUE(FIXED(P_15号2様式1!K104,0,TRUE))<>P_15号2様式1!K104,RIGHT(FIXED(P_15号2様式1!K104,3,FALSE),4),\"\"))","v":""},{"$f":"IF(P_15号2様式1!O104<> \"\",TEXT(INT(P_15号2様式1!O104),\"#,##0\"),\"\")","v":"2,044"},{"$f":"IF(P_15号2様式1!O104= \"\",\"\",IF(VALUE(FIXED(P_15号2様式1!O104,0,TRUE))<>P_15号2様式1!O104,RIGHT(FIXED(P_15号2様式1!O104,3,FALSE),4),\"\"))","v":""},{"$f":"IF(P_15号2様式1!S104<> \"\",TEXT(INT(P_15号2様式1!S104),\"#,##0\"),\"\")","v":""},{"$f":"IF(P_15号2様式1!S104= \"\",\"\",IF(VALUE(FIXED(P_15号2様式1!S104,0,TRUE))<>P_15号2様式1!S104,RIGHT(FIXED(P_15号2様式1!S104,3,FALSE),4),\"\"))","v":""},{"$f":"IF(P_15号2様式1!W104<> \"\",TEXT(INT(P_15号2様式1!W104),\"#,##0\"),\"\")","v":""},{"$f":"IF(P_15号2様式1!W104= \"\",\"\",IF(VALUE(FIXED(P_15号2様式1!W104,0,TRUE))<>P_15号2様式1!W104,RIGHT(FIXED(P_15号2様式1!W104,3,FALSE),4),\"\"))","v":""},{"$f":"IF(P_15号2様式1!AA104<> \"\",TEXT(INT(P_15号2様式1!AA104),\"#,##0\"),\"\")","v":""},{"$f":"IF(P_15号2様式1!AA104= \"\",\"\",IF(VALUE(FIXED(P_15号2様式1!AA104,0,TRUE))<>P_15号2様式1!AA104,RIGHT(FIXED(P_15号2様式1!AA104,3,FALSE),4),\"\"))","v":""},{"$f":"IF(P_15号2様式1!AE104<> \"\",TEXT(INT(P_15号2様式1!AE104),\"#,##0\"),\"\")","v":""},{"$f":"IF(P_15号2様式1!AE104= \"\",\"\",IF(VALUE(FIXED(P_15号2様式1!AE104,0,TRUE))<>P_15号2様式1!AE104,RIGHT(FIXED(P_15号2様式1!AE104,3,FALSE),4),\"\"))","v":""},{"$f":"IF(P_15号2様式1!AI104<> \"\",TEXT(INT(P_15号2様式1!AI104),\"#,##0\"),\"\")","v":""},{"$f":"IF(P_15号2様式1!AI104= \"\",\"\",IF(VALUE(FIXED(P_15号2様式1!AI104,0,TRUE))<>P_15号2様式1!AI104,RIGHT(FIXED(P_15号2様式1!AI104,3,FALSE),4),\"\"))","v":""},{"$f":"IF(P_15号2様式1!AM104<> \"\",TEXT(INT(P_15号2様式1!AM104),\"#,##0\"),\"\")","v":""},{"$f":"IF(P_15号2様式1!AM104= \"\",\"\",IF(VALUE(FIXED(P_15号2様式1!AM104,0,TRUE))<>P_15号2様式1!AM104,RIGHT(FIXED(P_15号2様式1!AM104,3,FALSE),4),\"\"))","v":""},{"$f":"IF(P_15号2様式1!AQ104<> \"\",TEXT(INT(P_15号2様式1!AQ104),\"#,##0\"),\"\")","v":""},{"$f":"IF(P_15号2様式1!AQ104= \"\",\"\",IF(VALUE(FIXED(P_15号2様式1!AQ104,0,TRUE))<>P_15号2様式1!AQ104,RIGHT(FIXED(P_15号2様式1!AQ104,3,FALSE),4),\"\"))","v":""},{"$f":"IF(P_15号2様式1!AU104<> \"\",TEXT(INT(P_15号2様式1!AU104),\"#,##0\"),\"\")","v":""},{"$f":"IF(P_15号2様式1!AU104= \"\",\"\",IF(VALUE(FIXED(P_15号2様式1!AU104,0,TRUE))<>P_15号2様式1!AU104,RIGHT(FIXED(P_15号2様式1!AU104,3,FALSE),4),\"\"))","v":""},{"$f":"IF(P_15号2様式1!AV104<> \"\",TEXT(INT(P_15号2様式1!AV104),\"#,##0\"),\"\")","v":"7,446"},null,{"$f":"IF(P_15号2様式1!AV104= \"\",\"\",IF(VALUE(FIXED(P_15号2様式1!AV104,0,TRUE))<>P_15号2様式1!AV104,RIGHT(FIXED(P_15号2様式1!AV104,3,FALSE),4),\"\"))","v":""}]
[{"$f":"IF(P_15号2様式1!F105=\"\",\"\",P_15号2様式1!F105)","v":"＊（肝属郡）計"},null,{"$f":"IF(P_15号2様式1!G105=\"\",\"\",P_15号2様式1!G105)","v":100},{"$f":"IF(P_15号2様式1!K105<> \"\",TEXT(INT(P_15号2様式1!K105),\"#,##0\"),\"\")","v":"14,591"},{"$f":"IF(P_15号2様式1!K105= \"\",\"\",IF(VALUE(FIXED(P_15号2様式1!K105,0,TRUE))<>P_15号2様式1!K105,RIGHT(FIXED(P_15号2様式1!K105,3,FALSE),4),\"\"))","v":""},{"$f":"IF(P_15号2様式1!O105<> \"\",TEXT(INT(P_15号2様式1!O105),\"#,##0\"),\"\")","v":"4,567"},{"$f":"IF(P_15号2様式1!O105= \"\",\"\",IF(VALUE(FIXED(P_15号2様式1!O105,0,TRUE))<>P_15号2様式1!O105,RIGHT(FIXED(P_15号2様式1!O105,3,FALSE),4),\"\"))","v":""},{"$f":"IF(P_15号2様式1!S105<> \"\",TEXT(INT(P_15号2様式1!S105),\"#,##0\"),\"\")","v":""},{"$f":"IF(P_15号2様式1!S105= \"\",\"\",IF(VALUE(FIXED(P_15号2様式1!S105,0,TRUE))<>P_15号2様式1!S105,RIGHT(FIXED(P_15号2様式1!S105,3,FALSE),4),\"\"))","v":""},{"$f":"IF(P_15号2様式1!W105<> \"\",TEXT(INT(P_15号2様式1!W105),\"#,##0\"),\"\")","v":""},{"$f":"IF(P_15号2様式1!W105= \"\",\"\",IF(VALUE(FIXED(P_15号2様式1!W105,0,TRUE))<>P_15号2様式1!W105,RIGHT(FIXED(P_15号2様式1!W105,3,FALSE),4),\"\"))","v":""},{"$f":"IF(P_15号2様式1!AA105<> \"\",TEXT(INT(P_15号2様式1!AA105),\"#,##0\"),\"\")","v":""},{"$f":"IF(P_15号2様式1!AA105= \"\",\"\",IF(VALUE(FIXED(P_15号2様式1!AA105,0,TRUE))<>P_15号2様式1!AA105,RIGHT(FIXED(P_15号2様式1!AA105,3,FALSE),4),\"\"))","v":""},{"$f":"IF(P_15号2様式1!AE105<> \"\",TEXT(INT(P_15号2様式1!AE105),\"#,##0\"),\"\")","v":""},{"$f":"IF(P_15号2様式1!AE105= \"\",\"\",IF(VALUE(FIXED(P_15号2様式1!AE105,0,TRUE))<>P_15号2様式1!AE105,RIGHT(FIXED(P_15号2様式1!AE105,3,FALSE),4),\"\"))","v":""},{"$f":"IF(P_15号2様式1!AI105<> \"\",TEXT(INT(P_15号2様式1!AI105),\"#,##0\"),\"\")","v":""},{"$f":"IF(P_15号2様式1!AI105= \"\",\"\",IF(VALUE(FIXED(P_15号2様式1!AI105,0,TRUE))<>P_15号2様式1!AI105,RIGHT(FIXED(P_15号2様式1!AI105,3,FALSE),4),\"\"))","v":""},{"$f":"IF(P_15号2様式1!AM105<> \"\",TEXT(INT(P_15号2様式1!AM105),\"#,##0\"),\"\")","v":""},{"$f":"IF(P_15号2様式1!AM105= \"\",\"\",IF(VALUE(FIXED(P_15号2様式1!AM105,0,TRUE))<>P_15号2様式1!AM105,RIGHT(FIXED(P_15号2様式1!AM105,3,FALSE),4),\"\"))","v":""},{"$f":"IF(P_15号2様式1!AQ105<> \"\",TEXT(INT(P_15号2様式1!AQ105),\"#,##0\"),\"\")","v":""},{"$f":"IF(P_15号2様式1!AQ105= \"\",\"\",IF(VALUE(FIXED(P_15号2様式1!AQ105,0,TRUE))<>P_15号2様式1!AQ105,RIGHT(FIXED(P_15号2様式1!AQ105,3,FALSE),4),\"\"))","v":""},{"$f":"IF(P_15号2様式1!AU105<> \"\",TEXT(INT(P_15号2様式1!AU105),\"#,##0\"),\"\")","v":""},{"$f":"IF(P_15号2様式1!AU105= \"\",\"\",IF(VALUE(FIXED(P_15号2様式1!AU105,0,TRUE))<>P_15号2様式1!AU105,RIGHT(FIXED(P_15号2様式1!AU105,3,FALSE),4),\"\"))","v":""},{"$f":"IF(P_15号2様式1!AV105<> \"\",TEXT(INT(P_15号2様式1!AV105),\"#,##0\"),\"\")","v":"19,158"},null,{"$f":"IF(P_15号2様式1!AV105= \"\",\"\",IF(VALUE(FIXED(P_15号2様式1!AV105,0,TRUE))<>P_15号2様式1!AV105,RIGHT(FIXED(P_15号2様式1!AV105,3,FALSE),4),\"\"))","v":""}]
[{"$f":"IF(P_15号2様式1!F106=\"\",\"\",P_15号2様式1!F106)","v":"　中種子町"},null,{"$f":"IF(P_15号2様式1!G106=\"\",\"\",P_15号2様式1!G106)","v":100},{"$f":"IF(P_15号2様式1!K106<> \"\",TEXT(INT(P_15号2様式1!K106),\"#,##0\"),\"\")","v":"3,321"},{"$f":"IF(P_15号2様式1!K106= \"\",\"\",IF(VALUE(FIXED(P_15号2様式1!K106,0,TRUE))<>P_15号2様式1!K106,RIGHT(FIXED(P_15号2様式1!K106,3,FALSE),4),\"\"))","v":""},{"$f":"IF(P_15号2様式1!O106<> \"\",TEXT(INT(P_15号2様式1!O106),\"#,##0\"),\"\")","v":"984"},{"$f":"IF(P_15号2様式1!O106= \"\",\"\",IF(VALUE(FIXED(P_15号2様式1!O106,0,TRUE))<>P_15号2様式1!O106,RIGHT(FIXED(P_15号2様式1!O106,3,FALSE),4),\"\"))","v":""},{"$f":"IF(P_15号2様式1!S106<> \"\",TEXT(INT(P_15号2様式1!S106),\"#,##0\"),\"\")","v":""},{"$f":"IF(P_15号2様式1!S106= \"\",\"\",IF(VALUE(FIXED(P_15号2様式1!S106,0,TRUE))<>P_15号2様式1!S106,RIGHT(FIXED(P_15号2様式1!S106,3,FALSE),4),\"\"))","v":""},{"$f":"IF(P_15号2様式1!W106<> \"\",TEXT(INT(P_15号2様式1!W106),\"#,##0\"),\"\")","v":""},{"$f":"IF(P_15号2様式1!W106= \"\",\"\",IF(VALUE(FIXED(P_15号2様式1!W106,0,TRUE))<>P_15号2様式1!W106,RIGHT(FIXED(P_15号2様式1!W106,3,FALSE),4),\"\"))","v":""},{"$f":"IF(P_15号2様式1!AA106<> \"\",TEXT(INT(P_15号2様式1!AA106),\"#,##0\"),\"\")","v":""},{"$f":"IF(P_15号2様式1!AA106= \"\",\"\",IF(VALUE(FIXED(P_15号2様式1!AA106,0,TRUE))<>P_15号2様式1!AA106,RIGHT(FIXED(P_15号2様式1!AA106,3,FALSE),4),\"\"))","v":""},{"$f":"IF(P_15号2様式1!AE106<> \"\",TEXT(INT(P_15号2様式1!AE106),\"#,##0\"),\"\")","v":""},{"$f":"IF(P_15号2様式1!AE106= \"\",\"\",IF(VALUE(FIXED(P_15号2様式1!AE106,0,TRUE))<>P_15号2様式1!AE106,RIGHT(FIXED(P_15号2様式1!AE106,3,FALSE),4),\"\"))","v":""},{"$f":"IF(P_15号2様式1!AI106<> \"\",TEXT(INT(P_15号2様式1!AI106),\"#,##0\"),\"\")","v":""},{"$f":"IF(P_15号2様式1!AI106= \"\",\"\",IF(VALUE(FIXED(P_15号2様式1!AI106,0,TRUE))<>P_15号2様式1!AI106,RIGHT(FIXED(P_15号2様式1!AI106,3,FALSE),4),\"\"))","v":""},{"$f":"IF(P_15号2様式1!AM106<> \"\",TEXT(INT(P_15号2様式1!AM106),\"#,##0\"),\"\")","v":""},{"$f":"IF(P_15号2様式1!AM106= \"\",\"\",IF(VALUE(FIXED(P_15号2様式1!AM106,0,TRUE))<>P_15号2様式1!AM106,RIGHT(FIXED(P_15号2様式1!AM106,3,FALSE),4),\"\"))","v":""},{"$f":"IF(P_15号2様式1!AQ106<> \"\",TEXT(INT(P_15号2様式1!AQ106),\"#,##0\"),\"\")","v":""},{"$f":"IF(P_15号2様式1!AQ106= \"\",\"\",IF(VALUE(FIXED(P_15号2様式1!AQ106,0,TRUE))<>P_15号2様式1!AQ106,RIGHT(FIXED(P_15号2様式1!AQ106,3,FALSE),4),\"\"))","v":""},{"$f":"IF(P_15号2様式1!AU106<> \"\",TEXT(INT(P_15号2様式1!AU106),\"#,##0\"),\"\")","v":""},{"$f":"IF(P_15号2様式1!AU106= \"\",\"\",IF(VALUE(FIXED(P_15号2様式1!AU106,0,TRUE))<>P_15号2様式1!AU106,RIGHT(FIXED(P_15号2様式1!AU106,3,FALSE),4),\"\"))","v":""},{"$f":"IF(P_15号2様式1!AV106<> \"\",TEXT(INT(P_15号2様式1!AV106),\"#,##0\"),\"\")","v":"4,305"},null,{"$f":"IF(P_15号2様式1!AV106= \"\",\"\",IF(VALUE(FIXED(P_15号2様式1!AV106,0,TRUE))<>P_15号2様式1!AV106,RIGHT(FIXED(P_15号2様式1!AV106,3,FALSE),4),\"\"))","v":""}]
[{"$f":"IF(P_15号2様式1!F107=\"\",\"\",P_15号2様式1!F107)","v":"　南種子町"},null,{"$f":"IF(P_15号2様式1!G107=\"\",\"\",P_15号2様式1!G107)","v":100},{"$f":"IF(P_15号2様式1!K107<> \"\",TEXT(INT(P_15号2様式1!K107),\"#,##0\"),\"\")","v":"2,158"},{"$f":"IF(P_15号2様式1!K107= \"\",\"\",IF(VALUE(FIXED(P_15号2様式1!K107,0,TRUE))<>P_15号2様式1!K107,RIGHT(FIXED(P_15号2様式1!K107,3,FALSE),4),\"\"))","v":""},{"$f":"IF(P_15号2様式1!O107<> \"\",TEXT(INT(P_15号2様式1!O107),\"#,##0\"),\"\")","v":"861"},{"$f":"IF(P_15号2様式1!O107= \"\",\"\",IF(VALUE(FIXED(P_15号2様式1!O107,0,TRUE))<>P_15号2様式1!O107,RIGHT(FIXED(P_15号2様式1!O107,3,FALSE),4),\"\"))","v":""},{"$f":"IF(P_15号2様式1!S107<> \"\",TEXT(INT(P_15号2様式1!S107),\"#,##0\"),\"\")","v":""},{"$f":"IF(P_15号2様式1!S107= \"\",\"\",IF(VALUE(FIXED(P_15号2様式1!S107,0,TRUE))<>P_15号2様式1!S107,RIGHT(FIXED(P_15号2様式1!S107,3,FALSE),4),\"\"))","v":""},{"$f":"IF(P_15号2様式1!W107<> \"\",TEXT(INT(P_15号2様式1!W107),\"#,##0\"),\"\")","v":""},{"$f":"IF(P_15号2様式1!W107= \"\",\"\",IF(VALUE(FIXED(P_15号2様式1!W107,0,TRUE))<>P_15号2様式1!W107,RIGHT(FIXED(P_15号2様式1!W107,3,FALSE),4),\"\"))","v":""},{"$f":"IF(P_15号2様式1!AA107<> \"\",TEXT(INT(P_15号2様式1!AA107),\"#,##0\"),\"\")","v":""},{"$f":"IF(P_15号2様式1!AA107= \"\",\"\",IF(VALUE(FIXED(P_15号2様式1!AA107,0,TRUE))<>P_15号2様式1!AA107,RIGHT(FIXED(P_15号2様式1!AA107,3,FALSE),4),\"\"))","v":""},{"$f":"IF(P_15号2様式1!AE107<> \"\",TEXT(INT(P_15号2様式1!AE107),\"#,##0\"),\"\")","v":""},{"$f":"IF(P_15号2様式1!AE107= \"\",\"\",IF(VALUE(FIXED(P_15号2様式1!AE107,0,TRUE))<>P_15号2様式1!AE107,RIGHT(FIXED(P_15号2様式1!AE107,3,FALSE),4),\"\"))","v":""},{"$f":"IF(P_15号2様式1!AI107<> \"\",TEXT(INT(P_15号2様式1!AI107),\"#,##0\"),\"\")","v":""},{"$f":"IF(P_15号2様式1!AI107= \"\",\"\",IF(VALUE(FIXED(P_15号2様式1!AI107,0,TRUE))<>P_15号2様式1!AI107,RIGHT(FIXED(P_15号2様式1!AI107,3,FALSE),4),\"\"))","v":""},{"$f":"IF(P_15号2様式1!AM107<> \"\",TEXT(INT(P_15号2様式1!AM107),\"#,##0\"),\"\")","v":""},{"$f":"IF(P_15号2様式1!AM107= \"\",\"\",IF(VALUE(FIXED(P_15号2様式1!AM107,0,TRUE))<>P_15号2様式1!AM107,RIGHT(FIXED(P_15号2様式1!AM107,3,FALSE),4),\"\"))","v":""},{"$f":"IF(P_15号2様式1!AQ107<> \"\",TEXT(INT(P_15号2様式1!AQ107),\"#,##0\"),\"\")","v":""},{"$f":"IF(P_15号2様式1!AQ107= \"\",\"\",IF(VALUE(FIXED(P_15号2様式1!AQ107,0,TRUE))<>P_15号2様式1!AQ107,RIGHT(FIXED(P_15号2様式1!AQ107,3,FALSE),4),\"\"))","v":""},{"$f":"IF(P_15号2様式1!AU107<> \"\",TEXT(INT(P_15号2様式1!AU107),\"#,##0\"),\"\")","v":""},{"$f":"IF(P_15号2様式1!AU107= \"\",\"\",IF(VALUE(FIXED(P_15号2様式1!AU107,0,TRUE))<>P_15号2様式1!AU107,RIGHT(FIXED(P_15号2様式1!AU107,3,FALSE),4),\"\"))","v":""},{"$f":"IF(P_15号2様式1!AV107<> \"\",TEXT(INT(P_15号2様式1!AV107),\"#,##0\"),\"\")","v":"3,019"},null,{"$f":"IF(P_15号2様式1!AV107= \"\",\"\",IF(VALUE(FIXED(P_15号2様式1!AV107,0,TRUE))<>P_15号2様式1!AV107,RIGHT(FIXED(P_15号2様式1!AV107,3,FALSE),4),\"\"))","v":""}]
[{"$f":"IF(P_15号2様式1!F108=\"\",\"\",P_15号2様式1!F108)","v":"　屋久島町"},null,{"$f":"IF(P_15号2様式1!G108=\"\",\"\",P_15号2様式1!G108)","v":100},{"$f":"IF(P_15号2様式1!K108<> \"\",TEXT(INT(P_15号2様式1!K108),\"#,##0\"),\"\")","v":"4,077"},{"$f":"IF(P_15号2様式1!K108= \"\",\"\",IF(VALUE(FIXED(P_15号2様式1!K108,0,TRUE))<>P_15号2様式1!K108,RIGHT(FIXED(P_15号2様式1!K108,3,FALSE),4),\"\"))","v":""},{"$f":"IF(P_15号2様式1!O108<> \"\",TEXT(INT(P_15号2様式1!O108),\"#,##0\"),\"\")","v":"2,224"},{"$f":"IF(P_15号2様式1!O108= \"\",\"\",IF(VALUE(FIXED(P_15号2様式1!O108,0,TRUE))<>P_15号2様式1!O108,RIGHT(FIXED(P_15号2様式1!O108,3,FALSE),4),\"\"))","v":""},{"$f":"IF(P_15号2様式1!S108<> \"\",TEXT(INT(P_15号2様式1!S108),\"#,##0\"),\"\")","v":""},{"$f":"IF(P_15号2様式1!S108= \"\",\"\",IF(VALUE(FIXED(P_15号2様式1!S108,0,TRUE))<>P_15号2様式1!S108,RIGHT(FIXED(P_15号2様式1!S108,3,FALSE),4),\"\"))","v":""},{"$f":"IF(P_15号2様式1!W108<> \"\",TEXT(INT(P_15号2様式1!W108),\"#,##0\"),\"\")","v":""},{"$f":"IF(P_15号2様式1!W108= \"\",\"\",IF(VALUE(FIXED(P_15号2様式1!W108,0,TRUE))<>P_15号2様式1!W108,RIGHT(FIXED(P_15号2様式1!W108,3,FALSE),4),\"\"))","v":""},{"$f":"IF(P_15号2様式1!AA108<> \"\",TEXT(INT(P_15号2様式1!AA108),\"#,##0\"),\"\")","v":""},{"$f":"IF(P_15号2様式1!AA108= \"\",\"\",IF(VALUE(FIXED(P_15号2様式1!AA108,0,TRUE))<>P_15号2様式1!AA108,RIGHT(FIXED(P_15号2様式1!AA108,3,FALSE),4),\"\"))","v":""},{"$f":"IF(P_15号2様式1!AE108<> \"\",TEXT(INT(P_15号2様式1!AE108),\"#,##0\"),\"\")","v":""},{"$f":"IF(P_15号2様式1!AE108= \"\",\"\",IF(VALUE(FIXED(P_15号2様式1!AE108,0,TRUE))<>P_15号2様式1!AE108,RIGHT(FIXED(P_15号2様式1!AE108,3,FALSE),4),\"\"))","v":""},{"$f":"IF(P_15号2様式1!AI108<> \"\",TEXT(INT(P_15号2様式1!AI108),\"#,##0\"),\"\")","v":""},{"$f":"IF(P_15号2様式1!AI108= \"\",\"\",IF(VALUE(FIXED(P_15号2様式1!AI108,0,TRUE))<>P_15号2様式1!AI108,RIGHT(FIXED(P_15号2様式1!AI108,3,FALSE),4),\"\"))","v":""},{"$f":"IF(P_15号2様式1!AM108<> \"\",TEXT(INT(P_15号2様式1!AM108),\"#,##0\"),\"\")","v":""},{"$f":"IF(P_15号2様式1!AM108= \"\",\"\",IF(VALUE(FIXED(P_15号2様式1!AM108,0,TRUE))<>P_15号2様式1!AM108,RIGHT(FIXED(P_15号2様式1!AM108,3,FALSE),4),\"\"))","v":""},{"$f":"IF(P_15号2様式1!AQ108<> \"\",TEXT(INT(P_15号2様式1!AQ108),\"#,##0\"),\"\")","v":""},{"$f":"IF(P_15号2様式1!AQ108= \"\",\"\",IF(VALUE(FIXED(P_15号2様式1!AQ108,0,TRUE))<>P_15号2様式1!AQ108,RIGHT(FIXED(P_15号2様式1!AQ108,3,FALSE),4),\"\"))","v":""},{"$f":"IF(P_15号2様式1!AU108<> \"\",TEXT(INT(P_15号2様式1!AU108),\"#,##0\"),\"\")","v":""},{"$f":"IF(P_15号2様式1!AU108= \"\",\"\",IF(VALUE(FIXED(P_15号2様式1!AU108,0,TRUE))<>P_15号2様式1!AU108,RIGHT(FIXED(P_15号2様式1!AU108,3,FALSE),4),\"\"))","v":""},{"$f":"IF(P_15号2様式1!AV108<> \"\",TEXT(INT(P_15号2様式1!AV108),\"#,##0\"),\"\")","v":"6,301"},null,{"$f":"IF(P_15号2様式1!AV108= \"\",\"\",IF(VALUE(FIXED(P_15号2様式1!AV108,0,TRUE))<>P_15号2様式1!AV108,RIGHT(FIXED(P_15号2様式1!AV108,3,FALSE),4),\"\"))","v":""}]
[{"$f":"IF(P_15号2様式1!F109=\"\",\"\",P_15号2様式1!F109)","v":"＊（熊毛郡）計"},null,{"$f":"IF(P_15号2様式1!G109=\"\",\"\",P_15号2様式1!G109)","v":100},{"$f":"IF(P_15号2様式1!K109<> \"\",TEXT(INT(P_15号2様式1!K109),\"#,##0\"),\"\")","v":"9,556"},{"$f":"IF(P_15号2様式1!K109= \"\",\"\",IF(VALUE(FIXED(P_15号2様式1!K109,0,TRUE))<>P_15号2様式1!K109,RIGHT(FIXED(P_15号2様式1!K109,3,FALSE),4),\"\"))","v":""},{"$f":"IF(P_15号2様式1!O109<> \"\",TEXT(INT(P_15号2様式1!O109),\"#,##0\"),\"\")","v":"4,069"},{"$f":"IF(P_15号2様式1!O109= \"\",\"\",IF(VALUE(FIXED(P_15号2様式1!O109,0,TRUE))<>P_15号2様式1!O109,RIGHT(FIXED(P_15号2様式1!O109,3,FALSE),4),\"\"))","v":""},{"$f":"IF(P_15号2様式1!S109<> \"\",TEXT(INT(P_15号2様式1!S109),\"#,##0\"),\"\")","v":""},{"$f":"IF(P_15号2様式1!S109= \"\",\"\",IF(VALUE(FIXED(P_15号2様式1!S109,0,TRUE))<>P_15号2様式1!S109,RIGHT(FIXED(P_15号2様式1!S109,3,FALSE),4),\"\"))","v":""},{"$f":"IF(P_15号2様式1!W109<> \"\",TEXT(INT(P_15号2様式1!W109),\"#,##0\"),\"\")","v":""},{"$f":"IF(P_15号2様式1!W109= \"\",\"\",IF(VALUE(FIXED(P_15号2様式1!W109,0,TRUE))<>P_15号2様式1!W109,RIGHT(FIXED(P_15号2様式1!W109,3,FALSE),4),\"\"))","v":""},{"$f":"IF(P_15号2様式1!AA109<> \"\",TEXT(INT(P_15号2様式1!AA109),\"#,##0\"),\"\")","v":""},{"$f":"IF(P_15号2様式1!AA109= \"\",\"\",IF(VALUE(FIXED(P_15号2様式1!AA109,0,TRUE))<>P_15号2様式1!AA109,RIGHT(FIXED(P_15号2様式1!AA109,3,FALSE),4),\"\"))","v":""},{"$f":"IF(P_15号2様式1!AE109<> \"\",TEXT(INT(P_15号2様式1!AE109),\"#,##0\"),\"\")","v":""},{"$f":"IF(P_15号2様式1!AE109= \"\",\"\",IF(VALUE(FIXED(P_15号2様式1!AE109,0,TRUE))<>P_15号2様式1!AE109,RIGHT(FIXED(P_15号2様式1!AE109,3,FALSE),4),\"\"))","v":""},{"$f":"IF(P_15号2様式1!AI109<> \"\",TEXT(INT(P_15号2様式1!AI109),\"#,##0\"),\"\")","v":""},{"$f":"IF(P_15号2様式1!AI109= \"\",\"\",IF(VALUE(FIXED(P_15号2様式1!AI109,0,TRUE))<>P_15号2様式1!AI109,RIGHT(FIXED(P_15号2様式1!AI109,3,FALSE),4),\"\"))","v":""},{"$f":"IF(P_15号2様式1!AM109<> \"\",TEXT(INT(P_15号2様式1!AM109),\"#,##0\"),\"\")","v":""},{"$f":"IF(P_15号2様式1!AM109= \"\",\"\",IF(VALUE(FIXED(P_15号2様式1!AM109,0,TRUE))<>P_15号2様式1!AM109,RIGHT(FIXED(P_15号2様式1!AM109,3,FALSE),4),\"\"))","v":""},{"$f":"IF(P_15号2様式1!AQ109<> \"\",TEXT(INT(P_15号2様式1!AQ109),\"#,##0\"),\"\")","v":""},{"$f":"IF(P_15号2様式1!AQ109= \"\",\"\",IF(VALUE(FIXED(P_15号2様式1!AQ109,0,TRUE))<>P_15号2様式1!AQ109,RIGHT(FIXED(P_15号2様式1!AQ109,3,FALSE),4),\"\"))","v":""},{"$f":"IF(P_15号2様式1!AU109<> \"\",TEXT(INT(P_15号2様式1!AU109),\"#,##0\"),\"\")","v":""},{"$f":"IF(P_15号2様式1!AU109= \"\",\"\",IF(VALUE(FIXED(P_15号2様式1!AU109,0,TRUE))<>P_15号2様式1!AU109,RIGHT(FIXED(P_15号2様式1!AU109,3,FALSE),4),\"\"))","v":""},{"$f":"IF(P_15号2様式1!AV109<> \"\",TEXT(INT(P_15号2様式1!AV109),\"#,##0\"),\"\")","v":"13,625"},null,{"$f":"IF(P_15号2様式1!AV109= \"\",\"\",IF(VALUE(FIXED(P_15号2様式1!AV109,0,TRUE))<>P_15号2様式1!AV109,RIGHT(FIXED(P_15号2様式1!AV109,3,FALSE),4),\"\"))","v":""}]
[{"$f":"IF(P_15号2様式1!F110=\"\",\"\",P_15号2様式1!F110)","v":"＊郡　部   計"},null,{"$f":"IF(P_15号2様式1!G110=\"\",\"\",P_15号2様式1!G110)","v":100},{"$f":"IF(P_15号2様式1!K110<> \"\",TEXT(INT(P_15号2様式1!K110),\"#,##0\"),\"\")","v":"29,187"},{"$f":"IF(P_15号2様式1!K110= \"\",\"\",IF(VALUE(FIXED(P_15号2様式1!K110,0,TRUE))<>P_15号2様式1!K110,RIGHT(FIXED(P_15号2様式1!K110,3,FALSE),4),\"\"))","v":""},{"$f":"IF(P_15号2様式1!O110<> \"\",TEXT(INT(P_15号2様式1!O110),\"#,##0\"),\"\")","v":"10,029"},{"$f":"IF(P_15号2様式1!O110= \"\",\"\",IF(VALUE(FIXED(P_15号2様式1!O110,0,TRUE))<>P_15号2様式1!O110,RIGHT(FIXED(P_15号2様式1!O110,3,FALSE),4),\"\"))","v":""},{"$f":"IF(P_15号2様式1!S110<> \"\",TEXT(INT(P_15号2様式1!S110),\"#,##0\"),\"\")","v":""},{"$f":"IF(P_15号2様式1!S110= \"\",\"\",IF(VALUE(FIXED(P_15号2様式1!S110,0,TRUE))<>P_15号2様式1!S110,RIGHT(FIXED(P_15号2様式1!S110,3,FALSE),4),\"\"))","v":""},{"$f":"IF(P_15号2様式1!W110<> \"\",TEXT(INT(P_15号2様式1!W110),\"#,##0\"),\"\")","v":""},{"$f":"IF(P_15号2様式1!W110= \"\",\"\",IF(VALUE(FIXED(P_15号2様式1!W110,0,TRUE))<>P_15号2様式1!W110,RIGHT(FIXED(P_15号2様式1!W110,3,FALSE),4),\"\"))","v":""},{"$f":"IF(P_15号2様式1!AA110<> \"\",TEXT(INT(P_15号2様式1!AA110),\"#,##0\"),\"\")","v":""},{"$f":"IF(P_15号2様式1!AA110= \"\",\"\",IF(VALUE(FIXED(P_15号2様式1!AA110,0,TRUE))<>P_15号2様式1!AA110,RIGHT(FIXED(P_15号2様式1!AA110,3,FALSE),4),\"\"))","v":""},{"$f":"IF(P_15号2様式1!AE110<> \"\",TEXT(INT(P_15号2様式1!AE110),\"#,##0\"),\"\")","v":""},{"$f":"IF(P_15号2様式1!AE110= \"\",\"\",IF(VALUE(FIXED(P_15号2様式1!AE110,0,TRUE))<>P_15号2様式1!AE110,RIGHT(FIXED(P_15号2様式1!AE110,3,FALSE),4),\"\"))","v":""},{"$f":"IF(P_15号2様式1!AI110<> \"\",TEXT(INT(P_15号2様式1!AI110),\"#,##0\"),\"\")","v":""},{"$f":"IF(P_15号2様式1!AI110= \"\",\"\",IF(VALUE(FIXED(P_15号2様式1!AI110,0,TRUE))<>P_15号2様式1!AI110,RIGHT(FIXED(P_15号2様式1!AI110,3,FALSE),4),\"\"))","v":""},{"$f":"IF(P_15号2様式1!AM110<> \"\",TEXT(INT(P_15号2様式1!AM110),\"#,##0\"),\"\")","v":""},{"$f":"IF(P_15号2様式1!AM110= \"\",\"\",IF(VALUE(FIXED(P_15号2様式1!AM110,0,TRUE))<>P_15号2様式1!AM110,RIGHT(FIXED(P_15号2様式1!AM110,3,FALSE),4),\"\"))","v":""},{"$f":"IF(P_15号2様式1!AQ110<> \"\",TEXT(INT(P_15号2様式1!AQ110),\"#,##0\"),\"\")","v":""},{"$f":"IF(P_15号2様式1!AQ110= \"\",\"\",IF(VALUE(FIXED(P_15号2様式1!AQ110,0,TRUE))<>P_15号2様式1!AQ110,RIGHT(FIXED(P_15号2様式1!AQ110,3,FALSE),4),\"\"))","v":""},{"$f":"IF(P_15号2様式1!AU110<> \"\",TEXT(INT(P_15号2様式1!AU110),\"#,##0\"),\"\")","v":""},{"$f":"IF(P_15号2様式1!AU110= \"\",\"\",IF(VALUE(FIXED(P_15号2様式1!AU110,0,TRUE))<>P_15号2様式1!AU110,RIGHT(FIXED(P_15号2様式1!AU110,3,FALSE),4),\"\"))","v":""},{"$f":"IF(P_15号2様式1!AV110<> \"\",TEXT(INT(P_15号2様式1!AV110),\"#,##0\"),\"\")","v":"39,216"},null,{"$f":"IF(P_15号2様式1!AV110= \"\",\"\",IF(VALUE(FIXED(P_15号2様式1!AV110,0,TRUE))<>P_15号2様式1!AV110,RIGHT(FIXED(P_15号2様式1!AV110,3,FALSE),4),\"\"))","v":""}]
[{"$f":"IF(P_15号2様式1!F111=\"\",\"\",P_15号2様式1!F111)","v":"＊第 ４ 区 計"},null,{"$f":"IF(P_15号2様式1!G111=\"\",\"\",P_15号2様式1!G111)","v":92.208626375702394},{"$f":"IF(P_15号2様式1!K111<> \"\",TEXT(INT(P_15号2様式1!K111),\"#,##0\"),\"\")","v":"116,391"},{"$f":"IF(P_15号2様式1!K111= \"\",\"\",IF(VALUE(FIXED(P_15号2様式1!K111,0,TRUE))<>P_15号2様式1!K111,RIGHT(FIXED(P_15号2様式1!K111,3,FALSE),4),\"\"))","v":""},{"$f":"IF(P_15号2様式1!O111<> \"\",TEXT(INT(P_15号2様式1!O111),\"#,##0\"),\"\")","v":"51,235"},{"$f":"IF(P_15号2様式1!O111= \"\",\"\",IF(VALUE(FIXED(P_15号2様式1!O111,0,TRUE))<>P_15号2様式1!O111,RIGHT(FIXED(P_15号2様式1!O111,3,FALSE),4),\"\"))","v":""},{"$f":"IF(P_15号2様式1!S111<> \"\",TEXT(INT(P_15号2様式1!S111),\"#,##0\"),\"\")","v":""},{"$f":"IF(P_15号2様式1!S111= \"\",\"\",IF(VALUE(FIXED(P_15号2様式1!S111,0,TRUE))<>P_15号2様式1!S111,RIGHT(FIXED(P_15号2様式1!S111,3,FALSE),4),\"\"))","v":""},{"$f":"IF(P_15号2様式1!W111<> \"\",TEXT(INT(P_15号2様式1!W111),\"#,##0\"),\"\")","v":""},{"$f":"IF(P_15号2様式1!W111= \"\",\"\",IF(VALUE(FIXED(P_15号2様式1!W111,0,TRUE))<>P_15号2様式1!W111,RIGHT(FIXED(P_15号2様式1!W111,3,FALSE),4),\"\"))","v":""},{"$f":"IF(P_15号2様式1!AA111<> \"\",TEXT(INT(P_15号2様式1!AA111),\"#,##0\"),\"\")","v":""},{"$f":"IF(P_15号2様式1!AA111= \"\",\"\",IF(VALUE(FIXED(P_15号2様式1!AA111,0,TRUE))<>P_15号2様式1!AA111,RIGHT(FIXED(P_15号2様式1!AA111,3,FALSE),4),\"\"))","v":""},{"$f":"IF(P_15号2様式1!AE111<> \"\",TEXT(INT(P_15号2様式1!AE111),\"#,##0\"),\"\")","v":""},{"$f":"IF(P_15号2様式1!AE111= \"\",\"\",IF(VALUE(FIXED(P_15号2様式1!AE111,0,TRUE))<>P_15号2様式1!AE111,RIGHT(FIXED(P_15号2様式1!AE111,3,FALSE),4),\"\"))","v":""},{"$f":"IF(P_15号2様式1!AI111<> \"\",TEXT(INT(P_15号2様式1!AI111),\"#,##0\"),\"\")","v":""},{"$f":"IF(P_15号2様式1!AI111= \"\",\"\",IF(VALUE(FIXED(P_15号2様式1!AI111,0,TRUE))<>P_15号2様式1!AI111,RIGHT(FIXED(P_15号2様式1!AI111,3,FALSE),4),\"\"))","v":""},{"$f":"IF(P_15号2様式1!AM111<> \"\",TEXT(INT(P_15号2様式1!AM111),\"#,##0\"),\"\")","v":""},{"$f":"IF(P_15号2様式1!AM111= \"\",\"\",IF(VALUE(FIXED(P_15号2様式1!AM111,0,TRUE))<>P_15号2様式1!AM111,RIGHT(FIXED(P_15号2様式1!AM111,3,FALSE),4),\"\"))","v":""},{"$f":"IF(P_15号2様式1!AQ111<> \"\",TEXT(INT(P_15号2様式1!AQ111),\"#,##0\"),\"\")","v":""},{"$f":"IF(P_15号2様式1!AQ111= \"\",\"\",IF(VALUE(FIXED(P_15号2様式1!AQ111,0,TRUE))<>P_15号2様式1!AQ111,RIGHT(FIXED(P_15号2様式1!AQ111,3,FALSE),4),\"\"))","v":""},{"$f":"IF(P_15号2様式1!AU111<> \"\",TEXT(INT(P_15号2様式1!AU111),\"#,##0\"),\"\")","v":""},{"$f":"IF(P_15号2様式1!AU111= \"\",\"\",IF(VALUE(FIXED(P_15号2様式1!AU111,0,TRUE))<>P_15号2様式1!AU111,RIGHT(FIXED(P_15号2様式1!AU111,3,FALSE),4),\"\"))","v":""},{"$f":"IF(P_15号2様式1!AV111<> \"\",TEXT(INT(P_15号2様式1!AV111),\"#,##0\"),\"\")","v":"167,626"},null,{"$f":"IF(P_15号2様式1!AV111= \"\",\"\",IF(VALUE(FIXED(P_15号2様式1!AV111,0,TRUE))<>P_15号2様式1!AV111,RIGHT(FIXED(P_15号2様式1!AV111,3,FALSE),4),\"\"))","v":""}]
[{"$f":"IF(P_15号2様式1!F112=\"\",\"\",P_15号2様式1!F112)","v":""},null,{"$f":"IF(P_15号2様式1!G112=\"\",\"\",P_15号2様式1!G112)","v":""},{"$f":"IF(P_15号2様式1!K112<> \"\",TEXT(INT(P_15号2様式1!K112),\"#,##0\"),\"\")","v":""},{"$f":"IF(P_15号2様式1!K112= \"\",\"\",IF(VALUE(FIXED(P_15号2様式1!K112,0,TRUE))<>P_15号2様式1!K112,RIGHT(FIXED(P_15号2様式1!K112,3,FALSE),4),\"\"))","v":""},{"$f":"IF(P_15号2様式1!O112<> \"\",TEXT(INT(P_15号2様式1!O112),\"#,##0\"),\"\")","v":""},{"$f":"IF(P_15号2様式1!O112= \"\",\"\",IF(VALUE(FIXED(P_15号2様式1!O112,0,TRUE))<>P_15号2様式1!O112,RIGHT(FIXED(P_15号2様式1!O112,3,FALSE),4),\"\"))","v":""},{"$f":"IF(P_15号2様式1!S112<> \"\",TEXT(INT(P_15号2様式1!S112),\"#,##0\"),\"\")","v":""},{"$f":"IF(P_15号2様式1!S112= \"\",\"\",IF(VALUE(FIXED(P_15号2様式1!S112,0,TRUE))<>P_15号2様式1!S112,RIGHT(FIXED(P_15号2様式1!S112,3,FALSE),4),\"\"))","v":""},{"$f":"IF(P_15号2様式1!W112<> \"\",TEXT(INT(P_15号2様式1!W112),\"#,##0\"),\"\")","v":""},{"$f":"IF(P_15号2様式1!W112= \"\",\"\",IF(VALUE(FIXED(P_15号2様式1!W112,0,TRUE))<>P_15号2様式1!W112,RIGHT(FIXED(P_15号2様式1!W112,3,FALSE),4),\"\"))","v":""},{"$f":"IF(P_15号2様式1!AA112<> \"\",TEXT(INT(P_15号2様式1!AA112),\"#,##0\"),\"\")","v":""},{"$f":"IF(P_15号2様式1!AA112= \"\",\"\",IF(VALUE(FIXED(P_15号2様式1!AA112,0,TRUE))<>P_15号2様式1!AA112,RIGHT(FIXED(P_15号2様式1!AA112,3,FALSE),4),\"\"))","v":""},{"$f":"IF(P_15号2様式1!AE112<> \"\",TEXT(INT(P_15号2様式1!AE112),\"#,##0\"),\"\")","v":""},{"$f":"IF(P_15号2様式1!AE112= \"\",\"\",IF(VALUE(FIXED(P_15号2様式1!AE112,0,TRUE))<>P_15号2様式1!AE112,RIGHT(FIXED(P_15号2様式1!AE112,3,FALSE),4),\"\"))","v":""},{"$f":"IF(P_15号2様式1!AI112<> \"\",TEXT(INT(P_15号2様式1!AI112),\"#,##0\"),\"\")","v":""},{"$f":"IF(P_15号2様式1!AI112= \"\",\"\",IF(VALUE(FIXED(P_15号2様式1!AI112,0,TRUE))<>P_15号2様式1!AI112,RIGHT(FIXED(P_15号2様式1!AI112,3,FALSE),4),\"\"))","v":""},{"$f":"IF(P_15号2様式1!AM112<> \"\",TEXT(INT(P_15号2様式1!AM112),\"#,##0\"),\"\")","v":""},{"$f":"IF(P_15号2様式1!AM112= \"\",\"\",IF(VALUE(FIXED(P_15号2様式1!AM112,0,TRUE))<>P_15号2様式1!AM112,RIGHT(FIXED(P_15号2様式1!AM112,3,FALSE),4),\"\"))","v":""},{"$f":"IF(P_15号2様式1!AQ112<> \"\",TEXT(INT(P_15号2様式1!AQ112),\"#,##0\"),\"\")","v":""},{"$f":"IF(P_15号2様式1!AQ112= \"\",\"\",IF(VALUE(FIXED(P_15号2様式1!AQ112,0,TRUE))<>P_15号2様式1!AQ112,RIGHT(FIXED(P_15号2様式1!AQ112,3,FALSE),4),\"\"))","v":""},{"$f":"IF(P_15号2様式1!AU112<> \"\",TEXT(INT(P_15号2様式1!AU112),\"#,##0\"),\"\")","v":""},{"$f":"IF(P_15号2様式1!AU112= \"\",\"\",IF(VALUE(FIXED(P_15号2様式1!AU112,0,TRUE))<>P_15号2様式1!AU112,RIGHT(FIXED(P_15号2様式1!AU112,3,FALSE),4),\"\"))","v":""},{"$f":"IF(P_15号2様式1!AV112<> \"\",TEXT(INT(P_15号2様式1!AV112),\"#,##0\"),\"\")","v":""},null,{"$f":"IF(P_15号2様式1!AV112= \"\",\"\",IF(VALUE(FIXED(P_15号2様式1!AV112,0,TRUE))<>P_15号2様式1!AV112,RIGHT(FIXED(P_15号2様式1!AV112,3,FALSE),4),\"\"))","v":""}]
[{"$f":"IF(P_15号2様式1!F113=\"\",\"\",P_15号2様式1!F113)","v":""},null,{"$f":"IF(P_15号2様式1!G113=\"\",\"\",P_15号2様式1!G113)","v":""},{"$f":"IF(P_15号2様式1!K113<> \"\",TEXT(INT(P_15号2様式1!K113),\"#,##0\"),\"\")","v":""},{"$f":"IF(P_15号2様式1!K113= \"\",\"\",IF(VALUE(FIXED(P_15号2様式1!K113,0,TRUE))<>P_15号2様式1!K113,RIGHT(FIXED(P_15号2様式1!K113,3,FALSE),4),\"\"))","v":""},{"$f":"IF(P_15号2様式1!O113<> \"\",TEXT(INT(P_15号2様式1!O113),\"#,##0\"),\"\")","v":""},{"$f":"IF(P_15号2様式1!O113= \"\",\"\",IF(VALUE(FIXED(P_15号2様式1!O113,0,TRUE))<>P_15号2様式1!O113,RIGHT(FIXED(P_15号2様式1!O113,3,FALSE),4),\"\"))","v":""},{"$f":"IF(P_15号2様式1!S113<> \"\",TEXT(INT(P_15号2様式1!S113),\"#,##0\"),\"\")","v":""},{"$f":"IF(P_15号2様式1!S113= \"\",\"\",IF(VALUE(FIXED(P_15号2様式1!S113,0,TRUE))<>P_15号2様式1!S113,RIGHT(FIXED(P_15号2様式1!S113,3,FALSE),4),\"\"))","v":""},{"$f":"IF(P_15号2様式1!W113<> \"\",TEXT(INT(P_15号2様式1!W113),\"#,##0\"),\"\")","v":""},{"$f":"IF(P_15号2様式1!W113= \"\",\"\",IF(VALUE(FIXED(P_15号2様式1!W113,0,TRUE))<>P_15号2様式1!W113,RIGHT(FIXED(P_15号2様式1!W113,3,FALSE),4),\"\"))","v":""},{"$f":"IF(P_15号2様式1!AA113<> \"\",TEXT(INT(P_15号2様式1!AA113),\"#,##0\"),\"\")","v":""},{"$f":"IF(P_15号2様式1!AA113= \"\",\"\",IF(VALUE(FIXED(P_15号2様式1!AA113,0,TRUE))<>P_15号2様式1!AA113,RIGHT(FIXED(P_15号2様式1!AA113,3,FALSE),4),\"\"))","v":""},{"$f":"IF(P_15号2様式1!AE113<> \"\",TEXT(INT(P_15号2様式1!AE113),\"#,##0\"),\"\")","v":""},{"$f":"IF(P_15号2様式1!AE113= \"\",\"\",IF(VALUE(FIXED(P_15号2様式1!AE113,0,TRUE))<>P_15号2様式1!AE113,RIGHT(FIXED(P_15号2様式1!AE113,3,FALSE),4),\"\"))","v":""},{"$f":"IF(P_15号2様式1!AI113<> \"\",TEXT(INT(P_15号2様式1!AI113),\"#,##0\"),\"\")","v":""},{"$f":"IF(P_15号2様式1!AI113= \"\",\"\",IF(VALUE(FIXED(P_15号2様式1!AI113,0,TRUE))<>P_15号2様式1!AI113,RIGHT(FIXED(P_15号2様式1!AI113,3,FALSE),4),\"\"))","v":""},{"$f":"IF(P_15号2様式1!AM113<> \"\",TEXT(INT(P_15号2様式1!AM113),\"#,##0\"),\"\")","v":""},{"$f":"IF(P_15号2様式1!AM113= \"\",\"\",IF(VALUE(FIXED(P_15号2様式1!AM113,0,TRUE))<>P_15号2様式1!AM113,RIGHT(FIXED(P_15号2様式1!AM113,3,FALSE),4),\"\"))","v":""},{"$f":"IF(P_15号2様式1!AQ113<> \"\",TEXT(INT(P_15号2様式1!AQ113),\"#,##0\"),\"\")","v":""},{"$f":"IF(P_15号2様式1!AQ113= \"\",\"\",IF(VALUE(FIXED(P_15号2様式1!AQ113,0,TRUE))<>P_15号2様式1!AQ113,RIGHT(FIXED(P_15号2様式1!AQ113,3,FALSE),4),\"\"))","v":""},{"$f":"IF(P_15号2様式1!AU113<> \"\",TEXT(INT(P_15号2様式1!AU113),\"#,##0\"),\"\")","v":""},{"$f":"IF(P_15号2様式1!AU113= \"\",\"\",IF(VALUE(FIXED(P_15号2様式1!AU113,0,TRUE))<>P_15号2様式1!AU113,RIGHT(FIXED(P_15号2様式1!AU113,3,FALSE),4),\"\"))","v":""},{"$f":"IF(P_15号2様式1!AV113<> \"\",TEXT(INT(P_15号2様式1!AV113),\"#,##0\"),\"\")","v":""},null,{"$f":"IF(P_15号2様式1!AV113= \"\",\"\",IF(VALUE(FIXED(P_15号2様式1!AV113,0,TRUE))<>P_15号2様式1!AV113,RIGHT(FIXED(P_15号2様式1!AV113,3,FALSE),4),\"\"))","v":""}]
[{"$f":"IF(P_15号2様式1!F114=\"\",\"\",P_15号2様式1!F114)","v":""},null,{"$f":"IF(P_15号2様式1!G114=\"\",\"\",P_15号2様式1!G114)","v":""},{"$f":"IF(P_15号2様式1!K114<> \"\",TEXT(INT(P_15号2様式1!K114),\"#,##0\"),\"\")","v":""},{"$f":"IF(P_15号2様式1!K114= \"\",\"\",IF(VALUE(FIXED(P_15号2様式1!K114,0,TRUE))<>P_15号2様式1!K114,RIGHT(FIXED(P_15号2様式1!K114,3,FALSE),4),\"\"))","v":""},{"$f":"IF(P_15号2様式1!O114<> \"\",TEXT(INT(P_15号2様式1!O114),\"#,##0\"),\"\")","v":""},{"$f":"IF(P_15号2様式1!O114= \"\",\"\",IF(VALUE(FIXED(P_15号2様式1!O114,0,TRUE))<>P_15号2様式1!O114,RIGHT(FIXED(P_15号2様式1!O114,3,FALSE),4),\"\"))","v":""},{"$f":"IF(P_15号2様式1!S114<> \"\",TEXT(INT(P_15号2様式1!S114),\"#,##0\"),\"\")","v":""},{"$f":"IF(P_15号2様式1!S114= \"\",\"\",IF(VALUE(FIXED(P_15号2様式1!S114,0,TRUE))<>P_15号2様式1!S114,RIGHT(FIXED(P_15号2様式1!S114,3,FALSE),4),\"\"))","v":""},{"$f":"IF(P_15号2様式1!W114<> \"\",TEXT(INT(P_15号2様式1!W114),\"#,##0\"),\"\")","v":""},{"$f":"IF(P_15号2様式1!W114= \"\",\"\",IF(VALUE(FIXED(P_15号2様式1!W114,0,TRUE))<>P_15号2様式1!W114,RIGHT(FIXED(P_15号2様式1!W114,3,FALSE),4),\"\"))","v":""},{"$f":"IF(P_15号2様式1!AA114<> \"\",TEXT(INT(P_15号2様式1!AA114),\"#,##0\"),\"\")","v":""},{"$f":"IF(P_15号2様式1!AA114= \"\",\"\",IF(VALUE(FIXED(P_15号2様式1!AA114,0,TRUE))<>P_15号2様式1!AA114,RIGHT(FIXED(P_15号2様式1!AA114,3,FALSE),4),\"\"))","v":""},{"$f":"IF(P_15号2様式1!AE114<> \"\",TEXT(INT(P_15号2様式1!AE114),\"#,##0\"),\"\")","v":""},{"$f":"IF(P_15号2様式1!AE114= \"\",\"\",IF(VALUE(FIXED(P_15号2様式1!AE114,0,TRUE))<>P_15号2様式1!AE114,RIGHT(FIXED(P_15号2様式1!AE114,3,FALSE),4),\"\"))","v":""},{"$f":"IF(P_15号2様式1!AI114<> \"\",TEXT(INT(P_15号2様式1!AI114),\"#,##0\"),\"\")","v":""},{"$f":"IF(P_15号2様式1!AI114= \"\",\"\",IF(VALUE(FIXED(P_15号2様式1!AI114,0,TRUE))<>P_15号2様式1!AI114,RIGHT(FIXED(P_15号2様式1!AI114,3,FALSE),4),\"\"))","v":""},{"$f":"IF(P_15号2様式1!AM114<> \"\",TEXT(INT(P_15号2様式1!AM114),\"#,##0\"),\"\")","v":""},{"$f":"IF(P_15号2様式1!AM114= \"\",\"\",IF(VALUE(FIXED(P_15号2様式1!AM114,0,TRUE))<>P_15号2様式1!AM114,RIGHT(FIXED(P_15号2様式1!AM114,3,FALSE),4),\"\"))","v":""},{"$f":"IF(P_15号2様式1!AQ114<> \"\",TEXT(INT(P_15号2様式1!AQ114),\"#,##0\"),\"\")","v":""},{"$f":"IF(P_15号2様式1!AQ114= \"\",\"\",IF(VALUE(FIXED(P_15号2様式1!AQ114,0,TRUE))<>P_15号2様式1!AQ114,RIGHT(FIXED(P_15号2様式1!AQ114,3,FALSE),4),\"\"))","v":""},{"$f":"IF(P_15号2様式1!AU114<> \"\",TEXT(INT(P_15号2様式1!AU114),\"#,##0\"),\"\")","v":""},{"$f":"IF(P_15号2様式1!AU114= \"\",\"\",IF(VALUE(FIXED(P_15号2様式1!AU114,0,TRUE))<>P_15号2様式1!AU114,RIGHT(FIXED(P_15号2様式1!AU114,3,FALSE),4),\"\"))","v":""},{"$f":"IF(P_15号2様式1!AV114<> \"\",TEXT(INT(P_15号2様式1!AV114),\"#,##0\"),\"\")","v":""},null,{"$f":"IF(P_15号2様式1!AV114= \"\",\"\",IF(VALUE(FIXED(P_15号2様式1!AV114,0,TRUE))<>P_15号2様式1!AV114,RIGHT(FIXED(P_15号2様式1!AV114,3,FALSE),4),\"\"))","v":""}]
[{"$f":"IF(P_15号2様式1!F115=\"\",\"\",P_15号2様式1!F115)","v":""},null,{"$f":"IF(P_15号2様式1!G115=\"\",\"\",P_15号2様式1!G115)","v":""},{"$f":"IF(P_15号2様式1!K115<> \"\",TEXT(INT(P_15号2様式1!K115),\"#,##0\"),\"\")","v":""},{"$f":"IF(P_15号2様式1!K115= \"\",\"\",IF(VALUE(FIXED(P_15号2様式1!K115,0,TRUE))<>P_15号2様式1!K115,RIGHT(FIXED(P_15号2様式1!K115,3,FALSE),4),\"\"))","v":""},{"$f":"IF(P_15号2様式1!O115<> \"\",TEXT(INT(P_15号2様式1!O115),\"#,##0\"),\"\")","v":""},{"$f":"IF(P_15号2様式1!O115= \"\",\"\",IF(VALUE(FIXED(P_15号2様式1!O115,0,TRUE))<>P_15号2様式1!O115,RIGHT(FIXED(P_15号2様式1!O115,3,FALSE),4),\"\"))","v":""},{"$f":"IF(P_15号2様式1!S115<> \"\",TEXT(INT(P_15号2様式1!S115),\"#,##0\"),\"\")","v":""},{"$f":"IF(P_15号2様式1!S115= \"\",\"\",IF(VALUE(FIXED(P_15号2様式1!S115,0,TRUE))<>P_15号2様式1!S115,RIGHT(FIXED(P_15号2様式1!S115,3,FALSE),4),\"\"))","v":""},{"$f":"IF(P_15号2様式1!W115<> \"\",TEXT(INT(P_15号2様式1!W115),\"#,##0\"),\"\")","v":""},{"$f":"IF(P_15号2様式1!W115= \"\",\"\",IF(VALUE(FIXED(P_15号2様式1!W115,0,TRUE))<>P_15号2様式1!W115,RIGHT(FIXED(P_15号2様式1!W115,3,FALSE),4),\"\"))","v":""},{"$f":"IF(P_15号2様式1!AA115<> \"\",TEXT(INT(P_15号2様式1!AA115),\"#,##0\"),\"\")","v":""},{"$f":"IF(P_15号2様式1!AA115= \"\",\"\",IF(VALUE(FIXED(P_15号2様式1!AA115,0,TRUE))<>P_15号2様式1!AA115,RIGHT(FIXED(P_15号2様式1!AA115,3,FALSE),4),\"\"))","v":""},{"$f":"IF(P_15号2様式1!AE115<> \"\",TEXT(INT(P_15号2様式1!AE115),\"#,##0\"),\"\")","v":""},{"$f":"IF(P_15号2様式1!AE115= \"\",\"\",IF(VALUE(FIXED(P_15号2様式1!AE115,0,TRUE))<>P_15号2様式1!AE115,RIGHT(FIXED(P_15号2様式1!AE115,3,FALSE),4),\"\"))","v":""},{"$f":"IF(P_15号2様式1!AI115<> \"\",TEXT(INT(P_15号2様式1!AI115),\"#,##0\"),\"\")","v":""},{"$f":"IF(P_15号2様式1!AI115= \"\",\"\",IF(VALUE(FIXED(P_15号2様式1!AI115,0,TRUE))<>P_15号2様式1!AI115,RIGHT(FIXED(P_15号2様式1!AI115,3,FALSE),4),\"\"))","v":""},{"$f":"IF(P_15号2様式1!AM115<> \"\",TEXT(INT(P_15号2様式1!AM115),\"#,##0\"),\"\")","v":""},{"$f":"IF(P_15号2様式1!AM115= \"\",\"\",IF(VALUE(FIXED(P_15号2様式1!AM115,0,TRUE))<>P_15号2様式1!AM115,RIGHT(FIXED(P_15号2様式1!AM115,3,FALSE),4),\"\"))","v":""},{"$f":"IF(P_15号2様式1!AQ115<> \"\",TEXT(INT(P_15号2様式1!AQ115),\"#,##0\"),\"\")","v":""},{"$f":"IF(P_15号2様式1!AQ115= \"\",\"\",IF(VALUE(FIXED(P_15号2様式1!AQ115,0,TRUE))<>P_15号2様式1!AQ115,RIGHT(FIXED(P_15号2様式1!AQ115,3,FALSE),4),\"\"))","v":""},{"$f":"IF(P_15号2様式1!AU115<> \"\",TEXT(INT(P_15号2様式1!AU115),\"#,##0\"),\"\")","v":""},{"$f":"IF(P_15号2様式1!AU115= \"\",\"\",IF(VALUE(FIXED(P_15号2様式1!AU115,0,TRUE))<>P_15号2様式1!AU115,RIGHT(FIXED(P_15号2様式1!AU115,3,FALSE),4),\"\"))","v":""},{"$f":"IF(P_15号2様式1!AV115<> \"\",TEXT(INT(P_15号2様式1!AV115),\"#,##0\"),\"\")","v":""},null,{"$f":"IF(P_15号2様式1!AV115= \"\",\"\",IF(VALUE(FIXED(P_15号2様式1!AV115,0,TRUE))<>P_15号2様式1!AV115,RIGHT(FIXED(P_15号2様式1!AV115,3,FALSE),4),\"\"))","v":""}]
[{"$f":"IF(P_15号2様式1!F116=\"\",\"\",P_15号2様式1!F116)","v":""},null,{"$f":"IF(P_15号2様式1!G116=\"\",\"\",P_15号2様式1!G116)","v":""},{"$f":"IF(P_15号2様式1!K116<> \"\",TEXT(INT(P_15号2様式1!K116),\"#,##0\"),\"\")","v":""},{"$f":"IF(P_15号2様式1!K116= \"\",\"\",IF(VALUE(FIXED(P_15号2様式1!K116,0,TRUE))<>P_15号2様式1!K116,RIGHT(FIXED(P_15号2様式1!K116,3,FALSE),4),\"\"))","v":""},{"$f":"IF(P_15号2様式1!O116<> \"\",TEXT(INT(P_15号2様式1!O116),\"#,##0\"),\"\")","v":""},{"$f":"IF(P_15号2様式1!O116= \"\",\"\",IF(VALUE(FIXED(P_15号2様式1!O116,0,TRUE))<>P_15号2様式1!O116,RIGHT(FIXED(P_15号2様式1!O116,3,FALSE),4),\"\"))","v":""},{"$f":"IF(P_15号2様式1!S116<> \"\",TEXT(INT(P_15号2様式1!S116),\"#,##0\"),\"\")","v":""},{"$f":"IF(P_15号2様式1!S116= \"\",\"\",IF(VALUE(FIXED(P_15号2様式1!S116,0,TRUE))<>P_15号2様式1!S116,RIGHT(FIXED(P_15号2様式1!S116,3,FALSE),4),\"\"))","v":""},{"$f":"IF(P_15号2様式1!W116<> \"\",TEXT(INT(P_15号2様式1!W116),\"#,##0\"),\"\")","v":""},{"$f":"IF(P_15号2様式1!W116= \"\",\"\",IF(VALUE(FIXED(P_15号2様式1!W116,0,TRUE))<>P_15号2様式1!W116,RIGHT(FIXED(P_15号2様式1!W116,3,FALSE),4),\"\"))","v":""},{"$f":"IF(P_15号2様式1!AA116<> \"\",TEXT(INT(P_15号2様式1!AA116),\"#,##0\"),\"\")","v":""},{"$f":"IF(P_15号2様式1!AA116= \"\",\"\",IF(VALUE(FIXED(P_15号2様式1!AA116,0,TRUE))<>P_15号2様式1!AA116,RIGHT(FIXED(P_15号2様式1!AA116,3,FALSE),4),\"\"))","v":""},{"$f":"IF(P_15号2様式1!AE116<> \"\",TEXT(INT(P_15号2様式1!AE116),\"#,##0\"),\"\")","v":""},{"$f":"IF(P_15号2様式1!AE116= \"\",\"\",IF(VALUE(FIXED(P_15号2様式1!AE116,0,TRUE))<>P_15号2様式1!AE116,RIGHT(FIXED(P_15号2様式1!AE116,3,FALSE),4),\"\"))","v":""},{"$f":"IF(P_15号2様式1!AI116<> \"\",TEXT(INT(P_15号2様式1!AI116),\"#,##0\"),\"\")","v":""},{"$f":"IF(P_15号2様式1!AI116= \"\",\"\",IF(VALUE(FIXED(P_15号2様式1!AI116,0,TRUE))<>P_15号2様式1!AI116,RIGHT(FIXED(P_15号2様式1!AI116,3,FALSE),4),\"\"))","v":""},{"$f":"IF(P_15号2様式1!AM116<> \"\",TEXT(INT(P_15号2様式1!AM116),\"#,##0\"),\"\")","v":""},{"$f":"IF(P_15号2様式1!AM116= \"\",\"\",IF(VALUE(FIXED(P_15号2様式1!AM116,0,TRUE))<>P_15号2様式1!AM116,RIGHT(FIXED(P_15号2様式1!AM116,3,FALSE),4),\"\"))","v":""},{"$f":"IF(P_15号2様式1!AQ116<> \"\",TEXT(INT(P_15号2様式1!AQ116),\"#,##0\"),\"\")","v":""},{"$f":"IF(P_15号2様式1!AQ116= \"\",\"\",IF(VALUE(FIXED(P_15号2様式1!AQ116,0,TRUE))<>P_15号2様式1!AQ116,RIGHT(FIXED(P_15号2様式1!AQ116,3,FALSE),4),\"\"))","v":""},{"$f":"IF(P_15号2様式1!AU116<> \"\",TEXT(INT(P_15号2様式1!AU116),\"#,##0\"),\"\")","v":""},{"$f":"IF(P_15号2様式1!AU116= \"\",\"\",IF(VALUE(FIXED(P_15号2様式1!AU116,0,TRUE))<>P_15号2様式1!AU116,RIGHT(FIXED(P_15号2様式1!AU116,3,FALSE),4),\"\"))","v":""},{"$f":"IF(P_15号2様式1!AV116<> \"\",TEXT(INT(P_15号2様式1!AV116),\"#,##0\"),\"\")","v":""},null,{"$f":"IF(P_15号2様式1!AV116= \"\",\"\",IF(VALUE(FIXED(P_15号2様式1!AV116,0,TRUE))<>P_15号2様式1!AV116,RIGHT(FIXED(P_15号2様式1!AV116,3,FALSE),4),\"\"))","v":""}]
[{"$f":"IF(P_15号2様式1!F117=\"\",\"\",P_15号2様式1!F117)","v":""},null,{"$f":"IF(P_15号2様式1!G117=\"\",\"\",P_15号2様式1!G117)","v":""},{"$f":"IF(P_15号2様式1!K117<> \"\",TEXT(INT(P_15号2様式1!K117),\"#,##0\"),\"\")","v":""},{"$f":"IF(P_15号2様式1!K117= \"\",\"\",IF(VALUE(FIXED(P_15号2様式1!K117,0,TRUE))<>P_15号2様式1!K117,RIGHT(FIXED(P_15号2様式1!K117,3,FALSE),4),\"\"))","v":""},{"$f":"IF(P_15号2様式1!O117<> \"\",TEXT(INT(P_15号2様式1!O117),\"#,##0\"),\"\")","v":""},{"$f":"IF(P_15号2様式1!O117= \"\",\"\",IF(VALUE(FIXED(P_15号2様式1!O117,0,TRUE))<>P_15号2様式1!O117,RIGHT(FIXED(P_15号2様式1!O117,3,FALSE),4),\"\"))","v":""},{"$f":"IF(P_15号2様式1!S117<> \"\",TEXT(INT(P_15号2様式1!S117),\"#,##0\"),\"\")","v":""},{"$f":"IF(P_15号2様式1!S117= \"\",\"\",IF(VALUE(FIXED(P_15号2様式1!S117,0,TRUE))<>P_15号2様式1!S117,RIGHT(FIXED(P_15号2様式1!S117,3,FALSE),4),\"\"))","v":""},{"$f":"IF(P_15号2様式1!W117<> \"\",TEXT(INT(P_15号2様式1!W117),\"#,##0\"),\"\")","v":""},{"$f":"IF(P_15号2様式1!W117= \"\",\"\",IF(VALUE(FIXED(P_15号2様式1!W117,0,TRUE))<>P_15号2様式1!W117,RIGHT(FIXED(P_15号2様式1!W117,3,FALSE),4),\"\"))","v":""},{"$f":"IF(P_15号2様式1!AA117<> \"\",TEXT(INT(P_15号2様式1!AA117),\"#,##0\"),\"\")","v":""},{"$f":"IF(P_15号2様式1!AA117= \"\",\"\",IF(VALUE(FIXED(P_15号2様式1!AA117,0,TRUE))<>P_15号2様式1!AA117,RIGHT(FIXED(P_15号2様式1!AA117,3,FALSE),4),\"\"))","v":""},{"$f":"IF(P_15号2様式1!AE117<> \"\",TEXT(INT(P_15号2様式1!AE117),\"#,##0\"),\"\")","v":""},{"$f":"IF(P_15号2様式1!AE117= \"\",\"\",IF(VALUE(FIXED(P_15号2様式1!AE117,0,TRUE))<>P_15号2様式1!AE117,RIGHT(FIXED(P_15号2様式1!AE117,3,FALSE),4),\"\"))","v":""},{"$f":"IF(P_15号2様式1!AI117<> \"\",TEXT(INT(P_15号2様式1!AI117),\"#,##0\"),\"\")","v":""},{"$f":"IF(P_15号2様式1!AI117= \"\",\"\",IF(VALUE(FIXED(P_15号2様式1!AI117,0,TRUE))<>P_15号2様式1!AI117,RIGHT(FIXED(P_15号2様式1!AI117,3,FALSE),4),\"\"))","v":""},{"$f":"IF(P_15号2様式1!AM117<> \"\",TEXT(INT(P_15号2様式1!AM117),\"#,##0\"),\"\")","v":""},{"$f":"IF(P_15号2様式1!AM117= \"\",\"\",IF(VALUE(FIXED(P_15号2様式1!AM117,0,TRUE))<>P_15号2様式1!AM117,RIGHT(FIXED(P_15号2様式1!AM117,3,FALSE),4),\"\"))","v":""},{"$f":"IF(P_15号2様式1!AQ117<> \"\",TEXT(INT(P_15号2様式1!AQ117),\"#,##0\"),\"\")","v":""},{"$f":"IF(P_15号2様式1!AQ117= \"\",\"\",IF(VALUE(FIXED(P_15号2様式1!AQ117,0,TRUE))<>P_15号2様式1!AQ117,RIGHT(FIXED(P_15号2様式1!AQ117,3,FALSE),4),\"\"))","v":""},{"$f":"IF(P_15号2様式1!AU117<> \"\",TEXT(INT(P_15号2様式1!AU117),\"#,##0\"),\"\")","v":""},{"$f":"IF(P_15号2様式1!AU117= \"\",\"\",IF(VALUE(FIXED(P_15号2様式1!AU117,0,TRUE))<>P_15号2様式1!AU117,RIGHT(FIXED(P_15号2様式1!AU117,3,FALSE),4),\"\"))","v":""},{"$f":"IF(P_15号2様式1!AV117<> \"\",TEXT(INT(P_15号2様式1!AV117),\"#,##0\"),\"\")","v":""},null,{"$f":"IF(P_15号2様式1!AV117= \"\",\"\",IF(VALUE(FIXED(P_15号2様式1!AV117,0,TRUE))<>P_15号2様式1!AV117,RIGHT(FIXED(P_15号2様式1!AV117,3,FALSE),4),\"\"))","v":""}]
[{"$f":"IF(P_15号2様式1!F118=\"\",\"\",P_15号2様式1!F118)","v":""},null,{"$f":"IF(P_15号2様式1!G118=\"\",\"\",P_15号2様式1!G118)","v":""},{"$f":"IF(P_15号2様式1!K118<> \"\",TEXT(INT(P_15号2様式1!K118),\"#,##0\"),\"\")","v":""},{"$f":"IF(P_15号2様式1!K118= \"\",\"\",IF(VALUE(FIXED(P_15号2様式1!K118,0,TRUE))<>P_15号2様式1!K118,RIGHT(FIXED(P_15号2様式1!K118,3,FALSE),4),\"\"))","v":""},{"$f":"IF(P_15号2様式1!O118<> \"\",TEXT(INT(P_15号2様式1!O118),\"#,##0\"),\"\")","v":""},{"$f":"IF(P_15号2様式1!O118= \"\",\"\",IF(VALUE(FIXED(P_15号2様式1!O118,0,TRUE))<>P_15号2様式1!O118,RIGHT(FIXED(P_15号2様式1!O118,3,FALSE),4),\"\"))","v":""},{"$f":"IF(P_15号2様式1!S118<> \"\",TEXT(INT(P_15号2様式1!S118),\"#,##0\"),\"\")","v":""},{"$f":"IF(P_15号2様式1!S118= \"\",\"\",IF(VALUE(FIXED(P_15号2様式1!S118,0,TRUE))<>P_15号2様式1!S118,RIGHT(FIXED(P_15号2様式1!S118,3,FALSE),4),\"\"))","v":""},{"$f":"IF(P_15号2様式1!W118<> \"\",TEXT(INT(P_15号2様式1!W118),\"#,##0\"),\"\")","v":""},{"$f":"IF(P_15号2様式1!W118= \"\",\"\",IF(VALUE(FIXED(P_15号2様式1!W118,0,TRUE))<>P_15号2様式1!W118,RIGHT(FIXED(P_15号2様式1!W118,3,FALSE),4),\"\"))","v":""},{"$f":"IF(P_15号2様式1!AA118<> \"\",TEXT(INT(P_15号2様式1!AA118),\"#,##0\"),\"\")","v":""},{"$f":"IF(P_15号2様式1!AA118= \"\",\"\",IF(VALUE(FIXED(P_15号2様式1!AA118,0,TRUE))<>P_15号2様式1!AA118,RIGHT(FIXED(P_15号2様式1!AA118,3,FALSE),4),\"\"))","v":""},{"$f":"IF(P_15号2様式1!AE118<> \"\",TEXT(INT(P_15号2様式1!AE118),\"#,##0\"),\"\")","v":""},{"$f":"IF(P_15号2様式1!AE118= \"\",\"\",IF(VALUE(FIXED(P_15号2様式1!AE118,0,TRUE))<>P_15号2様式1!AE118,RIGHT(FIXED(P_15号2様式1!AE118,3,FALSE),4),\"\"))","v":""},{"$f":"IF(P_15号2様式1!AI118<> \"\",TEXT(INT(P_15号2様式1!AI118),\"#,##0\"),\"\")","v":""},{"$f":"IF(P_15号2様式1!AI118= \"\",\"\",IF(VALUE(FIXED(P_15号2様式1!AI118,0,TRUE))<>P_15号2様式1!AI118,RIGHT(FIXED(P_15号2様式1!AI118,3,FALSE),4),\"\"))","v":""},{"$f":"IF(P_15号2様式1!AM118<> \"\",TEXT(INT(P_15号2様式1!AM118),\"#,##0\"),\"\")","v":""},{"$f":"IF(P_15号2様式1!AM118= \"\",\"\",IF(VALUE(FIXED(P_15号2様式1!AM118,0,TRUE))<>P_15号2様式1!AM118,RIGHT(FIXED(P_15号2様式1!AM118,3,FALSE),4),\"\"))","v":""},{"$f":"IF(P_15号2様式1!AQ118<> \"\",TEXT(INT(P_15号2様式1!AQ118),\"#,##0\"),\"\")","v":""},{"$f":"IF(P_15号2様式1!AQ118= \"\",\"\",IF(VALUE(FIXED(P_15号2様式1!AQ118,0,TRUE))<>P_15号2様式1!AQ118,RIGHT(FIXED(P_15号2様式1!AQ118,3,FALSE),4),\"\"))","v":""},{"$f":"IF(P_15号2様式1!AU118<> \"\",TEXT(INT(P_15号2様式1!AU118),\"#,##0\"),\"\")","v":""},{"$f":"IF(P_15号2様式1!AU118= \"\",\"\",IF(VALUE(FIXED(P_15号2様式1!AU118,0,TRUE))<>P_15号2様式1!AU118,RIGHT(FIXED(P_15号2様式1!AU118,3,FALSE),4),\"\"))","v":""},{"$f":"IF(P_15号2様式1!AV118<> \"\",TEXT(INT(P_15号2様式1!AV118),\"#,##0\"),\"\")","v":""},null,{"$f":"IF(P_15号2様式1!AV118= \"\",\"\",IF(VALUE(FIXED(P_15号2様式1!AV118,0,TRUE))<>P_15号2様式1!AV118,RIGHT(FIXED(P_15号2様式1!AV118,3,FALSE),4),\"\"))","v":""}]
[{"$f":"IF(P_15号2様式1!F119=\"\",\"\",P_15号2様式1!F119)","v":""},null,{"$f":"IF(P_15号2様式1!G119=\"\",\"\",P_15号2様式1!G119)","v":""},{"$f":"IF(P_15号2様式1!K119<> \"\",TEXT(INT(P_15号2様式1!K119),\"#,##0\"),\"\")","v":""},{"$f":"IF(P_15号2様式1!K119= \"\",\"\",IF(VALUE(FIXED(P_15号2様式1!K119,0,TRUE))<>P_15号2様式1!K119,RIGHT(FIXED(P_15号2様式1!K119,3,FALSE),4),\"\"))","v":""},{"$f":"IF(P_15号2様式1!O119<> \"\",TEXT(INT(P_15号2様式1!O119),\"#,##0\"),\"\")","v":""},{"$f":"IF(P_15号2様式1!O119= \"\",\"\",IF(VALUE(FIXED(P_15号2様式1!O119,0,TRUE))<>P_15号2様式1!O119,RIGHT(FIXED(P_15号2様式1!O119,3,FALSE),4),\"\"))","v":""},{"$f":"IF(P_15号2様式1!S119<> \"\",TEXT(INT(P_15号2様式1!S119),\"#,##0\"),\"\")","v":""},{"$f":"IF(P_15号2様式1!S119= \"\",\"\",IF(VALUE(FIXED(P_15号2様式1!S119,0,TRUE))<>P_15号2様式1!S119,RIGHT(FIXED(P_15号2様式1!S119,3,FALSE),4),\"\"))","v":""},{"$f":"IF(P_15号2様式1!W119<> \"\",TEXT(INT(P_15号2様式1!W119),\"#,##0\"),\"\")","v":""},{"$f":"IF(P_15号2様式1!W119= \"\",\"\",IF(VALUE(FIXED(P_15号2様式1!W119,0,TRUE))<>P_15号2様式1!W119,RIGHT(FIXED(P_15号2様式1!W119,3,FALSE),4),\"\"))","v":""},{"$f":"IF(P_15号2様式1!AA119<> \"\",TEXT(INT(P_15号2様式1!AA119),\"#,##0\"),\"\")","v":""},{"$f":"IF(P_15号2様式1!AA119= \"\",\"\",IF(VALUE(FIXED(P_15号2様式1!AA119,0,TRUE))<>P_15号2様式1!AA119,RIGHT(FIXED(P_15号2様式1!AA119,3,FALSE),4),\"\"))","v":""},{"$f":"IF(P_15号2様式1!AE119<> \"\",TEXT(INT(P_15号2様式1!AE119),\"#,##0\"),\"\")","v":""},{"$f":"IF(P_15号2様式1!AE119= \"\",\"\",IF(VALUE(FIXED(P_15号2様式1!AE119,0,TRUE))<>P_15号2様式1!AE119,RIGHT(FIXED(P_15号2様式1!AE119,3,FALSE),4),\"\"))","v":""},{"$f":"IF(P_15号2様式1!AI119<> \"\",TEXT(INT(P_15号2様式1!AI119),\"#,##0\"),\"\")","v":""},{"$f":"IF(P_15号2様式1!AI119= \"\",\"\",IF(VALUE(FIXED(P_15号2様式1!AI119,0,TRUE))<>P_15号2様式1!AI119,RIGHT(FIXED(P_15号2様式1!AI119,3,FALSE),4),\"\"))","v":""},{"$f":"IF(P_15号2様式1!AM119<> \"\",TEXT(INT(P_15号2様式1!AM119),\"#,##0\"),\"\")","v":""},{"$f":"IF(P_15号2様式1!AM119= \"\",\"\",IF(VALUE(FIXED(P_15号2様式1!AM119,0,TRUE))<>P_15号2様式1!AM119,RIGHT(FIXED(P_15号2様式1!AM119,3,FALSE),4),\"\"))","v":""},{"$f":"IF(P_15号2様式1!AQ119<> \"\",TEXT(INT(P_15号2様式1!AQ119),\"#,##0\"),\"\")","v":""},{"$f":"IF(P_15号2様式1!AQ119= \"\",\"\",IF(VALUE(FIXED(P_15号2様式1!AQ119,0,TRUE))<>P_15号2様式1!AQ119,RIGHT(FIXED(P_15号2様式1!AQ119,3,FALSE),4),\"\"))","v":""},{"$f":"IF(P_15号2様式1!AU119<> \"\",TEXT(INT(P_15号2様式1!AU119),\"#,##0\"),\"\")","v":""},{"$f":"IF(P_15号2様式1!AU119= \"\",\"\",IF(VALUE(FIXED(P_15号2様式1!AU119,0,TRUE))<>P_15号2様式1!AU119,RIGHT(FIXED(P_15号2様式1!AU119,3,FALSE),4),\"\"))","v":""},{"$f":"IF(P_15号2様式1!AV119<> \"\",TEXT(INT(P_15号2様式1!AV119),\"#,##0\"),\"\")","v":""},null,{"$f":"IF(P_15号2様式1!AV119= \"\",\"\",IF(VALUE(FIXED(P_15号2様式1!AV119,0,TRUE))<>P_15号2様式1!AV119,RIGHT(FIXED(P_15号2様式1!AV119,3,FALSE),4),\"\"))","v":""}]
[{"$f":"IF(P_15号2様式1!F120=\"\",\"\",P_15号2様式1!F120)","v":""},null,{"$f":"IF(P_15号2様式1!G120=\"\",\"\",P_15号2様式1!G120)","v":""},{"$f":"IF(P_15号2様式1!K120<> \"\",TEXT(INT(P_15号2様式1!K120),\"#,##0\"),\"\")","v":""},{"$f":"IF(P_15号2様式1!K120= \"\",\"\",IF(VALUE(FIXED(P_15号2様式1!K120,0,TRUE))<>P_15号2様式1!K120,RIGHT(FIXED(P_15号2様式1!K120,3,FALSE),4),\"\"))","v":""},{"$f":"IF(P_15号2様式1!O120<> \"\",TEXT(INT(P_15号2様式1!O120),\"#,##0\"),\"\")","v":""},{"$f":"IF(P_15号2様式1!O120= \"\",\"\",IF(VALUE(FIXED(P_15号2様式1!O120,0,TRUE))<>P_15号2様式1!O120,RIGHT(FIXED(P_15号2様式1!O120,3,FALSE),4),\"\"))","v":""},{"$f":"IF(P_15号2様式1!S120<> \"\",TEXT(INT(P_15号2様式1!S120),\"#,##0\"),\"\")","v":""},{"$f":"IF(P_15号2様式1!S120= \"\",\"\",IF(VALUE(FIXED(P_15号2様式1!S120,0,TRUE))<>P_15号2様式1!S120,RIGHT(FIXED(P_15号2様式1!S120,3,FALSE),4),\"\"))","v":""},{"$f":"IF(P_15号2様式1!W120<> \"\",TEXT(INT(P_15号2様式1!W120),\"#,##0\"),\"\")","v":""},{"$f":"IF(P_15号2様式1!W120= \"\",\"\",IF(VALUE(FIXED(P_15号2様式1!W120,0,TRUE))<>P_15号2様式1!W120,RIGHT(FIXED(P_15号2様式1!W120,3,FALSE),4),\"\"))","v":""},{"$f":"IF(P_15号2様式1!AA120<> \"\",TEXT(INT(P_15号2様式1!AA120),\"#,##0\"),\"\")","v":""},{"$f":"IF(P_15号2様式1!AA120= \"\",\"\",IF(VALUE(FIXED(P_15号2様式1!AA120,0,TRUE))<>P_15号2様式1!AA120,RIGHT(FIXED(P_15号2様式1!AA120,3,FALSE),4),\"\"))","v":""},{"$f":"IF(P_15号2様式1!AE120<> \"\",TEXT(INT(P_15号2様式1!AE120),\"#,##0\"),\"\")","v":""},{"$f":"IF(P_15号2様式1!AE120= \"\",\"\",IF(VALUE(FIXED(P_15号2様式1!AE120,0,TRUE))<>P_15号2様式1!AE120,RIGHT(FIXED(P_15号2様式1!AE120,3,FALSE),4),\"\"))","v":""},{"$f":"IF(P_15号2様式1!AI120<> \"\",TEXT(INT(P_15号2様式1!AI120),\"#,##0\"),\"\")","v":""},{"$f":"IF(P_15号2様式1!AI120= \"\",\"\",IF(VALUE(FIXED(P_15号2様式1!AI120,0,TRUE))<>P_15号2様式1!AI120,RIGHT(FIXED(P_15号2様式1!AI120,3,FALSE),4),\"\"))","v":""},{"$f":"IF(P_15号2様式1!AM120<> \"\",TEXT(INT(P_15号2様式1!AM120),\"#,##0\"),\"\")","v":""},{"$f":"IF(P_15号2様式1!AM120= \"\",\"\",IF(VALUE(FIXED(P_15号2様式1!AM120,0,TRUE))<>P_15号2様式1!AM120,RIGHT(FIXED(P_15号2様式1!AM120,3,FALSE),4),\"\"))","v":""},{"$f":"IF(P_15号2様式1!AQ120<> \"\",TEXT(INT(P_15号2様式1!AQ120),\"#,##0\"),\"\")","v":""},{"$f":"IF(P_15号2様式1!AQ120= \"\",\"\",IF(VALUE(FIXED(P_15号2様式1!AQ120,0,TRUE))<>P_15号2様式1!AQ120,RIGHT(FIXED(P_15号2様式1!AQ120,3,FALSE),4),\"\"))","v":""},{"$f":"IF(P_15号2様式1!AU120<> \"\",TEXT(INT(P_15号2様式1!AU120),\"#,##0\"),\"\")","v":""},{"$f":"IF(P_15号2様式1!AU120= \"\",\"\",IF(VALUE(FIXED(P_15号2様式1!AU120,0,TRUE))<>P_15号2様式1!AU120,RIGHT(FIXED(P_15号2様式1!AU120,3,FALSE),4),\"\"))","v":""},{"$f":"IF(P_15号2様式1!AV120<> \"\",TEXT(INT(P_15号2様式1!AV120),\"#,##0\"),\"\")","v":""},null,{"$f":"IF(P_15号2様式1!AV120= \"\",\"\",IF(VALUE(FIXED(P_15号2様式1!AV120,0,TRUE))<>P_15号2様式1!AV120,RIGHT(FIXED(P_15号2様式1!AV120,3,FALSE),4),\"\"))","v":""}]
[{"$f":"IF(P_15号2様式1!F121=\"\",\"\",P_15号2様式1!F121)","v":""},null,{"$f":"IF(P_15号2様式1!G121=\"\",\"\",P_15号2様式1!G121)","v":""},{"$f":"IF(P_15号2様式1!K121<> \"\",TEXT(INT(P_15号2様式1!K121),\"#,##0\"),\"\")","v":""},{"$f":"IF(P_15号2様式1!K121= \"\",\"\",IF(VALUE(FIXED(P_15号2様式1!K121,0,TRUE))<>P_15号2様式1!K121,RIGHT(FIXED(P_15号2様式1!K121,3,FALSE),4),\"\"))","v":""},{"$f":"IF(P_15号2様式1!O121<> \"\",TEXT(INT(P_15号2様式1!O121),\"#,##0\"),\"\")","v":""},{"$f":"IF(P_15号2様式1!O121= \"\",\"\",IF(VALUE(FIXED(P_15号2様式1!O121,0,TRUE))<>P_15号2様式1!O121,RIGHT(FIXED(P_15号2様式1!O121,3,FALSE),4),\"\"))","v":""},{"$f":"IF(P_15号2様式1!S121<> \"\",TEXT(INT(P_15号2様式1!S121),\"#,##0\"),\"\")","v":""},{"$f":"IF(P_15号2様式1!S121= \"\",\"\",IF(VALUE(FIXED(P_15号2様式1!S121,0,TRUE))<>P_15号2様式1!S121,RIGHT(FIXED(P_15号2様式1!S121,3,FALSE),4),\"\"))","v":""},{"$f":"IF(P_15号2様式1!W121<> \"\",TEXT(INT(P_15号2様式1!W121),\"#,##0\"),\"\")","v":""},{"$f":"IF(P_15号2様式1!W121= \"\",\"\",IF(VALUE(FIXED(P_15号2様式1!W121,0,TRUE))<>P_15号2様式1!W121,RIGHT(FIXED(P_15号2様式1!W121,3,FALSE),4),\"\"))","v":""},{"$f":"IF(P_15号2様式1!AA121<> \"\",TEXT(INT(P_15号2様式1!AA121),\"#,##0\"),\"\")","v":""},{"$f":"IF(P_15号2様式1!AA121= \"\",\"\",IF(VALUE(FIXED(P_15号2様式1!AA121,0,TRUE))<>P_15号2様式1!AA121,RIGHT(FIXED(P_15号2様式1!AA121,3,FALSE),4),\"\"))","v":""},{"$f":"IF(P_15号2様式1!AE121<> \"\",TEXT(INT(P_15号2様式1!AE121),\"#,##0\"),\"\")","v":""},{"$f":"IF(P_15号2様式1!AE121= \"\",\"\",IF(VALUE(FIXED(P_15号2様式1!AE121,0,TRUE))<>P_15号2様式1!AE121,RIGHT(FIXED(P_15号2様式1!AE121,3,FALSE),4),\"\"))","v":""},{"$f":"IF(P_15号2様式1!AI121<> \"\",TEXT(INT(P_15号2様式1!AI121),\"#,##0\"),\"\")","v":""},{"$f":"IF(P_15号2様式1!AI121= \"\",\"\",IF(VALUE(FIXED(P_15号2様式1!AI121,0,TRUE))<>P_15号2様式1!AI121,RIGHT(FIXED(P_15号2様式1!AI121,3,FALSE),4),\"\"))","v":""},{"$f":"IF(P_15号2様式1!AM121<> \"\",TEXT(INT(P_15号2様式1!AM121),\"#,##0\"),\"\")","v":""},{"$f":"IF(P_15号2様式1!AM121= \"\",\"\",IF(VALUE(FIXED(P_15号2様式1!AM121,0,TRUE))<>P_15号2様式1!AM121,RIGHT(FIXED(P_15号2様式1!AM121,3,FALSE),4),\"\"))","v":""},{"$f":"IF(P_15号2様式1!AQ121<> \"\",TEXT(INT(P_15号2様式1!AQ121),\"#,##0\"),\"\")","v":""},{"$f":"IF(P_15号2様式1!AQ121= \"\",\"\",IF(VALUE(FIXED(P_15号2様式1!AQ121,0,TRUE))<>P_15号2様式1!AQ121,RIGHT(FIXED(P_15号2様式1!AQ121,3,FALSE),4),\"\"))","v":""},{"$f":"IF(P_15号2様式1!AU121<> \"\",TEXT(INT(P_15号2様式1!AU121),\"#,##0\"),\"\")","v":""},{"$f":"IF(P_15号2様式1!AU121= \"\",\"\",IF(VALUE(FIXED(P_15号2様式1!AU121,0,TRUE))<>P_15号2様式1!AU121,RIGHT(FIXED(P_15号2様式1!AU121,3,FALSE),4),\"\"))","v":""},{"$f":"IF(P_15号2様式1!AV121<> \"\",TEXT(INT(P_15号2様式1!AV121),\"#,##0\"),\"\")","v":""},null,{"$f":"IF(P_15号2様式1!AV121= \"\",\"\",IF(VALUE(FIXED(P_15号2様式1!AV121,0,TRUE))<>P_15号2様式1!AV121,RIGHT(FIXED(P_15号2様式1!AV121,3,FALSE),4),\"\"))","v":""}]

{"sheet":"パラメタシート","index":1,"n_rows":1,"n_cols":2,"rows_kept":1,"cut":false,"hidden":false,"merged":[]}
["執行日","2017-10-22"]

{"sheet":"P_15号2様式1","index":2,"n_rows":121,"n_cols":53,"rows_kept":121,"cut":false,"hidden":false,"merged":[]}
["頁番号","行番号","選挙区コード","選挙区名","定数","市区町村名","開票率","届出番号1","所属党派名1","候補者名1","得票数1","届出番号2","所属党派名2","候補者名2","得票数2","届出番号3","所属党派名3","候補者名3","得票数3","届出番号4","所属党派名4","候補者名4","得票数4","届出番号5","所属党派名5","候補者名5","得票数5","届出番号6","所属党派名6","候補者名6","得票数6","届出番号7","所属党派名7","候補者名7","得票数7","届出番号8","所属党派名8","候補者名8","得票数8","届出番号9","所属党派名9","候補者名9","得票数9","届出番号10","所属党派名10","候補者名10","得票数10","小計","選挙名","翌日開票区分","報告回数","開票時刻","開票確定時刻"]
[1,1,"01","衆議院鹿児島第１区",1,"　鹿児島市１区",32.261013103348198,"01","立憲民主党","川内　ひろし",27000,"02","無所属","みやざき　一博",500,"03","日本維新の会","山之内　つよし",8000,"04","自由民主党","やすおか　宏武",24500,null,null,null,null,null,null,null,null,null,null,null,null,null,null,null,null,null,null,null,null,null,null,null,null,60000,"衆議院小選挙区選出議員選挙","0",6,"00:00:00"]
[1,2,"01","衆議院鹿児島第１区",1,"＊市　部   計",32.261013103348198,"01","立憲民主党","川内　ひろし",27000,"02","無所属","みやざき　一博",500,"03","日本維新の会","山之内　つよし",8000,"04","自由民主党","やすおか　宏武",24500,null,null,null,null,null,null,null,null,null,null,null,null,null,null,null,null,null,null,null,null,null,null,null,null,60000,"衆議院小選挙区選出議員選挙","0",6,"00:00:00"]
[1,3,"01","衆議院鹿児島第１区",1,"　三島村",100,"01","立憲民主党","川内　ひろし",79,"02","無所属","みやざき　一博",19,"03","日本維新の会","山之内　つよし",30,"04","自由民主党","やすおか　宏武",102,null,null,null,null,null,null,null,null,null,null,null,null,null,null,null,null,null,null,null,null,null,null,null,null,230,"衆議院小選挙区選出議員選挙","0",6,"00:00:00"]
[1,4,"01","衆議院鹿児島第１区",1,"　十島村",100,"01","立憲民主党","川内　ひろし",102,"02","無所属","みやざき　一博",21,"03","日本維新の会","山之内　つよし",74,"04","自由民主党","やすおか　宏武",256,null,null,null,null,null,null,null,null,null,null,null,null,null,null,null,null,null,null,null,null,null,null,null,null,453,"衆議院小選挙区選出議員選挙","0",6,"00:00:00"]
[1,5,"01","衆議院鹿児島第１区",1,"＊（鹿児島郡）計",100,"01","立憲民主党","川内　ひろし",181,"02","無所属","みやざき　一博",40,"03","日本維新の会","山之内　つよし",104,"04","自由民主党","やすおか　宏武",358,null,null,null,null,null,null,null,null,null,null,null,null,null,null,null,null,null,null,null,null,null,null,null,null,683,"衆議院小選挙区選出議員選挙","0",6,"00:00:00"]
[1,6,"01","衆議院鹿児島第１区",1,"＊郡　部   計",100,"01","立憲民主党","川内　ひろし",181,"02","無所属","みやざき　一博",40,"03","日本維新の会","山之内　つよし",104,"04","自由民主党","やすおか　宏武",358,null,null,null,null,null,null,null,null,null,null,null,null,null,null,null,null,null,null,null,null,null,null,null,null,683,"衆議院小選挙区選出議員選挙","0",6,"00:00:00"]
[1,7,"01","衆議院鹿児島第１区",1,"＊第 １ 区 計",32.516819506342102,"01","立憲民主党","川内　ひろし",27181,"02","無所属","みやざき　一博",540,"03","日本維新の会","山之内　つよし",8104,"04","自由民主党","やすおか　宏武",24858,null,null,null,null,null,null,null,null,null,null,null,null,null,null,null,null,null,null,null,null,null,null,null,null,60683,"衆議院小選挙区選出議員選挙","0",6,"00:00:00"]
[1,8,"02",null,null,null,null,null,null,null,null,null,null,null,null,null,null,null,null,null,null,null,null,null,null,null,null,null,null,null,null,null,null,null,null,null,null,null,null,null,null,null,null,null,null,null,null,null,null,null,6]
[1,9,"02",null,null,null,null,null,null,null,null,null,null,null,null,null,null,null,null,null,null,null,null,null,null,null,null,null,null,null,null,null,null,null,null,null,null,null,null,null,null,null,null,null,null,null,null,null,null,null,6]
[1,10,"02",null,null,null,null,null,null,null,null,null,null,null,null,null,null,null,null,null,null,null,null,null,null,null,null,null,null,null,null,null,null,null,null,null,null,null,null,null,null,null,null,null,null,null,null,null,null,null,6]
[1,11,"02",null,null,null,null,null,null,null,null,null,null,null,null,null,null,null,null,null,null,null,null,null,null,null,null,null,null,null,null,null,null,null,null,null,null,null,null,null,null,null,null,null,null,null,null,null,null,null,6]
[1,12,"02",null,null,null,null,null,null,null,null,null,null,null,null,null,null,null,null,null,null,null,null,null,null,null,null,null,null,null,null,null,null,null,null,null,null,null,null,null,null,null,null,null,null,null,null,null,null,null,6]
[1,13,"02",null,null,null,null,null,null,null,null,null,null,null,null,null,null,null,null,null,null,null,null,null,null,null,null,null,null,null,null,null,null,null,null,null,null,null,null,null,null,null,null,null,null,null,null,null,null,null,6]
[1,14,"02",null,null,null,null,null,null,null,null,null,null,null,null,null,null,null,null,null,null,null,null,null,null,null,null,null,null,null,null,null,null,null,null,null,null,null,null,null,null,null,null,null,null,null,null,null,null,null,6]
[1,15,"02",null,null,null,null,null,null,null,null,null,null,null,null,null,null,null,null,null,null,null,null,null,null,null,null,null,null,null,null,null,null,null,null,null,null,null,null,null,null,null,null,null,null,null,null,null,null,null,6]
[1,16,"02",null,null,null,null,null,null,null,null,null,null,null,null,null,null,null,null,null,null,null,null,null,null,null,null,null,null,null,null,null,null,null,null,null,null,null,null,null,null,null,null,null,null,null,null,null,null,null,6]
[1,17,"02",null,null,null,null,null,null,null,null,null,null,null,null,null,null,null,null,null,null,null,null,null,null,null,null,null,null,null,null,null,null,null,null,null,null,null,null,null,null,null,null,null,null,null,null,null,null,null,6]
[1,18,"02",null,null,null,null,null,null,null,null,null,null,null,null,null,null,null,null,null,null,null,null,null,null,null,null,null,null,null,null,null,null,null,null,null,null,null,null,null,null,null,null,null,null,null,null,null,null,null,6]
[1,19,"02",null,null,null,null,null,null,null,null,null,null,null,null,null,null,null,null,null,null,null,null,null,null,null,null,null,null,null,null,null,null,null,null,null,null,null,null,null,null,null,null,null,null,null,null,null,null,null,6]
[1,20,"02",null,null,null,null,null,null,null,null,null,null,null,null,null,null,null,null,null,null,null,null,null,null,null,null,null,null,null,null,null,null,null,null,null,null,null,null,null,null,null,null,null,null,null,null,null,null,null,6]
[1,21,"02",null,null,null,null,null,null,null,null,null,null,null,null,null,null,null,null,null,null,null,null,null,null,null,null,null,null,null,null,null,null,null,null,null,null,null,null,null,null,null,null,null,null,null,null,null,null,null,6]
[1,22,"02",null,null,null,null,null,null,null,null,null,null,null,null,null,null,null,null,null,null,null,null,null,null,null,null,null,null,null,null,null,null,null,null,null,null,null,null,null,null,null,null,null,null,null,null,null,null,null,6]
[1,23,"02",null,null,null,null,null,null,null,null,null,null,null,null,null,null,null,null,null,null,null,null,null,null,null,null,null,null,null,null,null,null,null,null,null,null,null,null,null,null,null,null,null,null,null,null,null,null,null,6]
[1,24,"02",null,null,null,null,null,null,null,null,null,null,null,null,null,null,null,null,null,null,null,null,null,null,null,null,null,null,null,null,null,null,null,null,null,null,null,null,null,null,null,null,null,null,null,null,null,null,null,6]
[1,25,"02",null,null,null,null,null,null,null,null,null,null,null,null,null,null,null,null,null,null,null,null,null,null,null,null,null,null,null,null,null,null,null,null,null,null,null,null,null,null,null,null,null,null,null,null,null,null,null,6]
[1,26,"02",null,null,null,null,null,null,null,null,null,null,null,null,null,null,null,null,null,null,null,null,null,null,null,null,null,null,null,null,null,null,null,null,null,null,null,null,null,null,null,null,null,null,null,null,null,null,null,6]
[1,27,"02",null,null,null,null,null,null,null,null,null,null,null,null,null,null,null,null,null,null,null,null,null,null,null,null,null,null,null,null,null,null,null,null,null,null,null,null,null,null,null,null,null,null,null,null,null,null,null,6]
[1,28,"02",null,null,null,null,null,null,null,null,null,null,null,null,null,null,null,null,null,null,null,null,null,null,null,null,null,null,null,null,null,null,null,null,null,null,null,null,null,null,null,null,null,null,null,null,null,null,null,6]
[1,29,"02",null,null,null,null,null,null,null,null,null,null,null,null,null,null,null,null,null,null,null,null,null,null,null,null,null,null,null,null,null,null,null,null,null,null,null,null,null,null,null,null,null,null,null,null,null,null,null,6]
[1,30,"02",null,null,null,null,null,null,null,null,null,null,null,null,null,null,null,null,null,null,null,null,null,null,null,null,null,null,null,null,null,null,null,null,null,null,null,null,null,null,null,null,null,null,null,null,null,null,null,6]
[2,1,"02","衆議院鹿児島第２区　",1,"　鹿児島市２区",54.762869274279502,"01","無所属","はやし　健二",2500,"02","日本共産党","祝迫　みつはる",4000,"03","希望の党","さいとう　カヨ",17000,"04","自由民主党","金子　万寿夫",13000,null,null,null,null,null,null,null,null,null,null,null,null,null,null,null,null,null,null,null,null,null,null,null,null,36500,"衆議院小選挙区選出議員選挙","0",6,"00:00:00"]
[2,2,"02","衆議院鹿児島第２区　",1,"　枕崎市",100,"01","無所属","はやし　健二",884,"02","日本共産党","祝迫　みつはる",680,"03","希望の党","さいとう　カヨ",2741,"04","自由民主党","金子　万寿夫",5413,null,null,null,null,null,null,null,null,null,null,null,null,null,null,null,null,null,null,null,null,null,null,null,null,9718,"衆議院小選挙区選出議員選挙","0",6,"00:00:00"]
[2,3,"02","衆議院鹿児島第２区　",1,"　指宿市",100,"01","無所属","はやし　健二",1811,"02","日本共産党","祝迫　みつはる",1567,"03","希望の党","さいとう　カヨ",5952,"04","自由民主党","金子　万寿夫",9019,null,null,null,null,null,null,null,null,null,null,null,null,null,null,null,null,null,null,null,null,null,null,null,null,18349,"衆議院小選挙区選出議員選挙","0",6,"00:00:00"]
[2,4,"02","衆議院鹿児島第２区　",1,"　南さつま市",100,"01","無所属","はやし　健二",1906,"02","日本共産党","祝迫　みつはる",1517,"03","希望の党","さいとう　カヨ",4747,"04","自由民主党","金子　万寿夫",9249,null,null,null,null,null,null,null,null,null,null,null,null,null,null,null,null,null,null,null,null,null,null,null,null,17419,"衆議院小選挙区選出議員選挙","0",6,"00:00:00"]
[2,5,"02","衆議院鹿児島第２区　",1,"　奄美市",100,"01","無所属","はやし　健二",7951,"02","日本共産党","祝迫　みつはる",1637,"03","希望の党","さいとう　カヨ",2824,"04","自由民主党","金子　万寿夫",9773,null,null,null,null,null,null,null,null,null,null,null,null,null,null,null,null,null,null,null,null,null,null,null,null,22185,"衆議院小選挙区選出議員選挙","0",6,"00:00:00"]
[2,6,"02","衆議院鹿児島第２区　",1,"　南九州市",100,"01","無所属","はやし　健二",1975,"02","日本共産党","祝迫　みつはる",1303,"03","希望の党","さいとう　カヨ",4507,"04","自由民主党","金子　万寿夫",9353,null,null,null,null,null,null,null,null,null,null,null,null,null,null,null,null,null,null,null,null,null,null,null,null,17138,"衆議院小選挙区選出議員選挙","0",6,"00:00:00"]
[2,7,"02","衆議院鹿児島第２区　",1,"＊市　部   計",80.327793980439395,"01","無所属","はやし　健二",17027,"02","日本共産党","祝迫　みつはる",10704,"03","希望の党","さいとう　カヨ",37771,"04","自由民主党","金子　万寿夫",55807,null,null,null,null,null,null,null,null,null,null,null,null,null,null,null,null,null,null,null,null,null,null,null,null,121309,"衆議院小選挙区選出議員選挙","0",6,"00:00:00"]
[2,8,"02","衆議院鹿児島第２区　",1,"　大和村",100,"01","無所属","はやし　健二",335,"02","日本共産党","祝迫　みつはる",68,"03","希望の党","さいとう　カヨ",73,"04","自由民主党","金子　万寿夫",486,null,null,null,null,null,null,null,null,null,null,null,null,null,null,null,null,null,null,null,null,null,null,null,null,962,"衆議院小選挙区選出議員選挙","0",6,"00:00:00"]
[2,9,"02","衆議院鹿児島第２区　",1,"　宇検村",100,"01","無所属","はやし　健二",444,"02","日本共産党","祝迫　みつはる",47,"03","希望の党","さいとう　カヨ",95,"04","自由民主党","金子　万寿夫",738,null,null,null,null,null,null,null,null,null,null,null,null,null,null,null,null,null,null,null,null,null,null,null,null,1324,"衆議院小選挙区選出議員選挙","0",6,"00:00:00"]
[2,10,"02","衆議院鹿児島第２区　",1,"　瀬戸内町",100,"01","無所属","はやし　健二",1686,"02","日本共産党","祝迫　みつはる",235,"03","希望の党","さいとう　カヨ",282,"04","自由民主党","金子　万寿夫",3641,null,null,null,null,null,null,null,null,null,null,null,null,null,null,null,null,null,null,null,null,null,null,null,null,5844,"衆議院小選挙区選出議員選挙","0",6,"00:00:00"]
[2,11,"02","衆議院鹿児島第２区　",1,"　龍郷町",100,"01","無所属","はやし　健二",1588,"02","日本共産党","祝迫　みつはる",240,"03","希望の党","さいとう　カヨ",486,"04","自由民主党","金子　万寿夫",1779,null,null,null,null,null,null,null,null,null,null,null,null,null,null,null,null,null,null,null,null,null,null,null,null,4093,"衆議院小選挙区選出議員選挙","0",6,"00:00:00"]
[2,12,"02","衆議院鹿児島第２区　",1,"　喜界町",100,"01","無所属","はやし　健二",1280,"02","日本共産党","祝迫　みつはる",188,"03","希望の党","さいとう　カヨ",476,"04","自由民主党","金子　万寿夫",2240,null,null,null,null,null,null,null,null,null,null,null,null,null,null,null,null,null,null,null,null,null,null,null,null,4184,"衆議院小選挙区選出議員選挙","0",6,"00:00:00"]
[2,13,"02","衆議院鹿児島第２区　",1,"　徳之島町",100,"01","無所属","はやし　健二",1384,"02","日本共産党","祝迫　みつはる",367,"03","希望の党","さいとう　カヨ",555,"04","自由民主党","金子　万寿夫",3634,null,null,null,null,null,null,null,null,null,null,null,null,null,null,null,null,null,null,null,null,null,null,null,null,5940,"衆議院小選挙区選出議員選挙","0",6,"00:00:00"]
[2,14,"02","衆議院鹿児島第２区　",1,"　天城町",100,"01","無所属","はやし　健二",1174,"02","日本共産党","祝迫　みつはる",139,"03","希望の党","さいとう　カヨ",265,"04","自由民主党","金子　万寿夫",1805,null,null,null,null,null,null,null,null,null,null,null,null,null,null,null,null,null,null,null,null,null,null,null,null,3383,"衆議院小選挙区選出議員選挙","0",6,"00:00:00"]
[2,15,"02","衆議院鹿児島第２区　",1,"　伊仙町",100,"01","無所属","はやし　健二",915,"02","日本共産党","祝迫　みつはる",147,"03","希望の党","さいとう　カヨ",309,"04","自由民主党","金子　万寿夫",3401,null,null,null,null,null,null,null,null,null,null,null,null,null,null,null,null,null,null,null,null,null,null,null,null,4772,"衆議院小選挙区選出議員選挙","0",6,"00:00:00"]
[2,16,"02","衆議院鹿児島第２区　",1,"　和泊町",100,"01","無所属","はやし　健二",1238,"02","日本共産党","祝迫　みつはる",156,"03","希望の党","さいとう　カヨ",421,"04","自由民主党","金子　万寿夫",2111,null,null,null,null,null,null,null,null,null,null,null,null,null,null,null,null,null,null,null,null,null,null,null,null,3926,"衆議院小選挙区選出議員選挙","0",6,"00:00:00"]
[2,17,"02","衆議院鹿児島第２区　",1,"　知名町",100,"01","無所属","はやし　健二",933,"02","日本共産党","祝迫　みつはる",138,"03","希望の党","さいとう　カヨ",425,"04","自由民主党","金子　万寿夫",2004,null,null,null,null,null,null,null,null,null,null,null,null,null,null,null,null,null,null,null,null,null,null,null,null,3500,"衆議院小選挙区選出議員選挙","0",6,"00:00:00"]
[2,18,"02","衆議院鹿児島第２区　",1,"　与論町",100,"01","無所属","はやし　健二",640,"02","日本共産党","祝迫　みつはる",164,"03","希望の党","さいとう　カヨ",361,"04","自由民主党","金子　万寿夫",1845,null,null,null,null,null,null,null,null,null,null,null,null,null,null,null,null,null,null,null,null,null,null,null,null,3010,"衆議院小選挙区選出議員選挙","0",6,"00:00:00"]
[2,19,"02","衆議院鹿児島第２区　",1,"＊（大島郡）計",100,"01","無所属","はやし　健二",11617,"02","日本共産党","祝迫　みつはる",1889,"03","希望の党","さいとう　カヨ",3748,"04","自由民主党","金子　万寿夫",23684,null,null,null,null,null,null,null,null,null,null,null,null,null,null,null,null,null,null,null,null,null,null,null,null,40938,"衆議院小選挙区選出議員選挙","0",6,"00:00:00"]
[2,20,"02","衆議院鹿児島第２区　",1,"＊郡　部   計",100,"01","無所属","はやし　健二",11617,"02","日本共産党","祝迫　みつはる",1889,"03","希望の党","さいとう　カヨ",3748,"04","自由民主党","金子　万寿夫",23684,null,null,null,null,null,null,null,null,null,null,null,null,null,null,null,null,null,null,null,null,null,null,null,null,40938,"衆議院小選挙区選出議員選挙","0",6,"00:00:00"]
[2,21,"02","衆議院鹿児島第２区　",1,"＊第 ２ 区 計",84.566915430525299,"01","無所属","はやし　健二",28644,"02","日本共産党","祝迫　みつはる",12593,"03","希望の党","さいとう　カヨ",41519,"04","自由民主党","金子　万寿夫",79491,null,null,null,null,null,null,null,null,null,null,null,null,null,null,null,null,null,null,null,null,null,null,null,null,162247,"衆議院小選挙区選出議員選挙","0",6,"00:00:00"]
[2,22,"03",null,null,null,null,null,null,null,null,null,null,null,null,null,null,null,null,null,null,null,null,null,null,null,null,null,null,null,null,null,null,null,null,null,null,null,null,null,null,null,null,null,null,null,null,null,null,null,6]
[2,23,"03",null,null,null,null,null,null,null,null,null,null,null,null,null,null,null,null,null,null,null,null,null,null,null,null,null,null,null,null,null,null,null,null,null,null,null,null,null,null,null,null,null,null,null,null,null,null,null,6]
[2,24,"03",null,null,null,null,null,null,null,null,null,null,null,null,null,null,null,null,null,null,null,null,null,null,null,null,null,null,null,null,null,null,null,null,null,null,null,null,null,null,null,null,null,null,null,null,null,null,null,6]
[2,25,"03",null,null,null,null,null,null,null,null,null,null,null,null,null,null,null,null,null,null,null,null,null,null,null,null,null,null,null,null,null,null,null,null,null,null,null,null,null,null,null,null,null,null,null,null,null,null,null,6]
[2,26,"03",null,null,null,null,null,null,null,null,null,null,null,null,null,null,null,null,null,null,null,null,null,null,null,null,null,null,null,null,null,null,null,null,null,null,null,null,null,null,null,null,null,null,null,null,null,null,null,6]
[2,27,"03",null,null,null,null,null,null,null,null,null,null,null,null,null,null,null,null,null,null,null,null,null,null,null,null,null,null,null,null,null,null,null,null,null,null,null,null,null,null,null,null,null,null,null,null,null,null,null,6]
[2,28,"03",null,null,null,null,null,null,null,null,null,null,null,null,null,null,null,null,null,null,null,null,null,null,null,null,null,null,null,null,null,null,null,null,null,null,null,null,null,null,null,null,null,null,null,null,null,null,null,6]
[2,29,"03",null,null,null,null,null,null,null,null,null,null,null,null,null,null,null,null,null,null,null,null,null,null,null,null,null,null,null,null,null,null,null,null,null,null,null,null,null,null,null,null,null,null,null,null,null,null,null,6]
[2,30,"03",null,null,null,null,null,null,null,null,null,null,null,null,null,null,null,null,null,null,null,null,null,null,null,null,null,null,null,null,null,null,null,null,null,null,null,null,null,null,null,null,null,null,null,null,null,null,null,6]
[3,1,"03","衆議院鹿児島第３区　",1,"　阿久根市",100,"01","希望の党","野間　たけし",3748,"02","自由民主党","小里　やすひろ",7072,"03","日本共産党","山口　ゆうた",541,null,null,null,null,null,null,null,null,null,null,null,null,null,null,null,null,null,null,null,null,null,null,null,null,null,null,null,null,11361,"衆議院小選挙区選出議員選挙","0",6,"00:00:00"]
[3,2,"03","衆議院鹿児島第３区　",1,"　出水市",100,"01","希望の党","野間　たけし",8753,"02","自由民主党","小里　やすひろ",15344,"03","日本共産党","山口　ゆうた",1611,null,null,null,null,null,null,null,null,null,null,null,null,null,null,null,null,null,null,null,null,null,null,null,null,null,null,null,null,25708,"衆議院小選挙区選出議員選挙","0",6,"00:00:00"]
[3,3,"03","衆議院鹿児島第３区　",1,"　薩摩川内市第１",100,"01","希望の党","野間　たけし",25433,"02","自由民主党","小里　やすひろ",18776,"03","日本共産党","山口　ゆうた",1754,null,null,null,null,null,null,null,null,null,null,null,null,null,null,null,null,null,null,null,null,null,null,null,null,null,null,null,null,45963,"衆議院小選挙区選出議員選挙","0",6,"00:00:00"]
[3,4,"03","衆議院鹿児島第３区　",1,"　薩摩川内市第２",100,"01","希望の党","野間　たけし",546,"02","自由民主党","小里　やすひろ",904,"03","日本共産党","山口　ゆうた",73,null,null,null,null,null,null,null,null,null,null,null,null,null,null,null,null,null,null,null,null,null,null,null,null,null,null,null,null,1523,"衆議院小選挙区選出議員選挙","0",6,"00:00:00"]
[3,5,"03","衆議院鹿児島第３区　",1,"　薩摩川内市第３",100,"01","希望の党","野間　たけし",589,"02","自由民主党","小里　やすひろ",740,"03","日本共産党","山口　ゆうた",57,null,null,null,null,null,null,null,null,null,null,null,null,null,null,null,null,null,null,null,null,null,null,null,null,null,null,null,null,1386,"衆議院小選挙区選出議員選挙","0",6,"00:00:00"]
[3,6,"03","衆議院鹿児島第３区　",1,"＊（薩摩川内市）計",100,"01","希望の党","野間　たけし",26568,"02","自由民主党","小里　やすひろ",20420,"03","日本共産党","山口　ゆうた",1884,null,null,null,null,null,null,null,null,null,null,null,null,null,null,null,null,null,null,null,null,null,null,null,null,null,null,null,null,48872,"衆議院小選挙区選出議員選挙","0",6,"00:00:00"]
[3,7,"03","衆議院鹿児島第３区　",1,"　日置市",100,"01","希望の党","野間　たけし",12882,"02","自由民主党","小里　やすひろ",10714,"03","日本共産党","山口　ゆうた",1535,null,null,null,null,null,null,null,null,null,null,null,null,null,null,null,null,null,null,null,null,null,null,null,null,null,null,null,null,25131,"衆議院小選挙区選出議員選挙","0",6,"00:00:00"]
[3,8,"03","衆議院鹿児島第３区　",1,"　いちき串木野市",100,"01","希望の党","野間　たけし",9424,"02","自由民主党","小里　やすひろ",7534,"03","日本共産党","山口　ゆうた",1038,null,null,null,null,null,null,null,null,null,null,null,null,null,null,null,null,null,null,null,null,null,null,null,null,null,null,null,null,17996,"衆議院小選挙区選出議員選挙","0",6,"00:00:00"]
[3,9,"03","衆議院鹿児島第３区　",1,"　伊佐市",100,"01","希望の党","野間　たけし",5098,"02","自由民主党","小里　やすひろ",8378,"03","日本共産党","山口　ゆうた",776,null,null,null,null,null,null,null,null,null,null,null,null,null,null,null,null,null,null,null,null,null,null,null,null,null,null,null,null,14252,"衆議院小選挙区選出議員選挙","0",6,"00:00:00"]
[3,10,"03","衆議院鹿児島第３区　",1,"　姶良市",100,"01","希望の党","野間　たけし",14811,"02","自由民主党","小里　やすひろ",18794,"03","日本共産党","山口　ゆうた",2451,null,null,null,null,null,null,null,null,null,null,null,null,null,null,null,null,null,null,null,null,null,null,null,null,null,null,null,null,36056,"衆議院小選挙区選出議員選挙","0",6,"00:00:00"]
[3,11,"03","衆議院鹿児島第３区　",1,"＊市　部   計",100,"01","希望の党","野間　たけし",81284,"02","自由民主党","小里　やすひろ",88256,"03","日本共産党","山口　ゆうた",9836,null,null,null,null,null,null,null,null,null,null,null,null,null,null,null,null,null,null,null,null,null,null,null,null,null,null,null,null,179376,"衆議院小選挙区選出議員選挙","0",6,"00:00:00"]
[3,12,"03","衆議院鹿児島第３区　",1,"　さつま町",100,"01","希望の党","野間　たけし",5934,"02","自由民主党","小里　やすひろ",5922,"03","日本共産党","山口　ゆうた",334,null,null,null,null,null,null,null,null,null,null,null,null,null,null,null,null,null,null,null,null,null,null,null,null,null,null,null,null,12190,"衆議院小選挙区選出議員選挙","0",6,"00:00:00"]
[3,13,"03","衆議院鹿児島第３区　",1,"＊（薩摩郡）計",100,"01","希望の党","野間　たけし",5934,"02","自由民主党","小里　やすひろ",5922,"03","日本共産党","山口　ゆうた",334,null,null,null,null,null,null,null,null,null,null,null,null,null,null,null,null,null,null,null,null,null,null,null,null,null,null,null,null,12190,"衆議院小選挙区選出議員選挙","0",6,"00:00:00"]
[3,14,"03","衆議院鹿児島第３区　",1,"　長島町",100,"01","希望の党","野間　たけし",1361,"02","自由民主党","小里　やすひろ",4864,"03","日本共産党","山口　ゆうた",221,null,null,null,null,null,null,null,null,null,null,null,null,null,null,null,null,null,null,null,null,null,null,null,null,null,null,null,null,6446,"衆議院小選挙区選出議員選挙","0",6,"00:00:00"]
[3,15,"03","衆議院鹿児島第３区　",1,"＊（出水郡）計",100,"01","希望の党","野間　たけし",1361,"02","自由民主党","小里　やすひろ",4864,"03","日本共産党","山口　ゆうた",221,null,null,null,null,null,null,null,null,null,null,null,null,null,null,null,null,null,null,null,null,null,null,null,null,null,null,null,null,6446,"衆議院小選挙区選出議員選挙","0",6,"00:00:00"]
[3,16,"03","衆議院鹿児島第３区　",1,"　湧水町",100,"01","希望の党","野間　たけし",1661,"02","自由民主党","小里　やすひろ",3459,"03","日本共産党","山口　ゆうた",214,null,null,null,null,null,null,null,null,null,null,null,null,null,null,null,null,null,null,null,null,null,null,null,null,null,null,null,null,5334,"衆議院小選挙区選出議員選挙","0",6,"00:00:00"]
[3,17,"03","衆議院鹿児島第３区　",1,"＊（姶良郡）計",100,"01","希望の党","野間　たけし",1661,"02","自由民主党","小里　やすひろ",3459,"03","日本共産党","山口　ゆうた",214,null,null,null,null,null,null,null,null,null,null,null,null,null,null,null,null,null,null,null,null,null,null,null,null,null,null,null,null,5334,"衆議院小選挙区選出議員選挙","0",6,"00:00:00"]
[3,18,"03","衆議院鹿児島第３区　",1,"＊郡　部   計",100,"01","希望の党","野間　たけし",8956,"02","自由民主党","小里　やすひろ",14245,"03","日本共産党","山口　ゆうた",769,null,null,null,null,null,null,null,null,null,null,null,null,null,null,null,null,null,null,null,null,null,null,null,null,null,null,null,null,23970,"衆議院小選挙区選出議員選挙","0",6,"00:00:00"]
[3,19,"03","衆議院鹿児島第３区　",1,"＊第 ３ 区 計",100,"01","希望の党","野間　たけし",90240,"02","自由民主党","小里　やすひろ",102501,"03","日本共産党","山口　ゆうた",10605,null,null,null,null,null,null,null,null,null,null,null,null,null,null,null,null,null,null,null,null,null,null,null,null,null,null,null,null,203346,"衆議院小選挙区選出議員選挙","0",6,"00:00:00"]
[3,20,"04",null,null,null,null,null,null,null,null,null,null,null,null,null,null,null,null,null,null,null,null,null,null,null,null,null,null,null,null,null,null,null,null,null,null,null,null,null,null,null,null,null,null,null,null,null,null,null,6]
[3,21,"04",null,null,null,null,null,null,null,null,null,null,null,null,null,null,null,null,null,null,null,null,null,null,null,null,null,null,null,null,null,null,null,null,null,null,null,null,null,null,null,null,null,null,null,null,null,null,null,6]
[3,22,"04",null,null,null,null,null,null,null,null,null,null,null,null,null,null,null,null,null,null,null,null,null,null,null,null,null,null,null,null,null,null,null,null,null,null,null,null,null,null,null,null,null,null,null,null,null,null,null,6]
[3,23,"04",null,null,null,null,null,null,null,null,null,null,null,null,null,null,null,null,null,null,null,null,null,null,null,null,null,null,null,null,null,null,null,null,null,null,null,null,null,null,null,null,null,null,null,null,null,null,null,6]
[3,24,"04",null,null,null,null,null,null,null,null,null,null,null,null,null,null,null,null,null,null,null,null,null,null,null,null,null,null,null,null,null,null,null,null,null,null,null,null,null,null,null,null,null,null,null,null,null,null,null,6]
[3,25,"04",null,null,null,null,null,null,null,null,null,null,null,null,null,null,null,null,null,null,null,null,null,null,null,null,null,null,null,null,null,null,null,null,null,null,null,null,null,null,null,null,null,null,null,null,null,null,null,6]
[3,26,"04",null,null,null,null,null,null,null,null,null,null,null,null,null,null,null,null,null,null,null,null,null,null,null,null,null,null,null,null,null,null,null,null,null,null,null,null,null,null,null,null,null,null,null,null,null,null,null,6]
[3,27,"04",null,null,null,null,null,null,null,null,null,null,null,null,null,null,null,null,null,null,null,null,null,null,null,null,null,null,null,null,null,null,null,null,null,null,null,null,null,null,null,null,null,null,null,null,null,null,null,6]
[3,28,"04",null,null,null,null,null,null,null,null,null,null,null,null,null,null,null,null,null,null,null,null,null,null,null,null,null,null,null,null,null,null,null,null,null,null,null,null,null,null,null,null,null,null,null,null,null,null,null,6]
[3,29,"04",null,null,null,null,null,null,null,null,null,null,null,null,null,null,null,null,null,null,null,null,null,null,null,null,null,null,null,null,null,null,null,null,null,null,null,null,null,null,null,null,null,null,null,null,null,null,null,6]
[3,30,"04",null,null,null,null,null,null,null,null,null,null,null,null,null,null,null,null,null,null,null,null,null,null,null,null,null,null,null,null,null,null,null,null,null,null,null,null,null,null,null,null,null,null,null,null,null,null,null,6]
[4,1,"04","衆議院鹿児島第４区　",1,"　鹿屋市",66.766432600437398,"01","自由民主党","森山　ひろし",19500,"02","社会民主党","野呂　正和",9500,null,null,null,null,null,null,null,null,null,null,null,null,null,null,null,null,null,null,null,null,null,null,null,null,null,null,null,null,null,null,null,null,29000,"衆議院小選挙区選出議員選挙","0",6,"00:00:00"]
[4,2,"04","衆議院鹿児島第４区　",1,"　西之表市",100,"01","自由民主党","森山　ひろし",4934,"02","社会民主党","野呂　正和",2009,null,null,null,null,null,null,null,null,null,null,null,null,null,null,null,null,null,null,null,null,null,null,null,null,null,null,null,null,null,null,null,null,6943,"衆議院小選挙区選出議員選挙","0",6,"00:00:00"]
[4,3,"04","衆議院鹿児島第４区　",1,"　垂水市",100,"01","自由民主党","森山　ひろし",6218,"02","社会民主党","野呂　正和",1698,null,null,null,null,null,null,null,null,null,null,null,null,null,null,null,null,null,null,null,null,null,null,null,null,null,null,null,null,null,null,null,null,7916,"衆議院小選挙区選出議員選挙","0",6,"00:00:00"]
[4,4,"04","衆議院鹿児島第４区　",1,"　曽於市",100,"01","自由民主党","森山　ひろし",12559,"02","社会民主党","野呂　正和",5163,null,null,null,null,null,null,null,null,null,null,null,null,null,null,null,null,null,null,null,null,null,null,null,null,null,null,null,null,null,null,null,null,17722,"衆議院小選挙区選出議員選挙","0",6,"00:00:00"]
[4,5,"04","衆議院鹿児島第４区　",1,"　霧島市",100,"01","自由民主党","森山　ひろし",33054,"02","社会民主党","野呂　正和",19207,null,null,null,null,null,null,null,null,null,null,null,null,null,null,null,null,null,null,null,null,null,null,null,null,null,null,null,null,null,null,null,null,52261,"衆議院小選挙区選出議員選挙","0",6,"00:00:00"]
[4,6,"04","衆議院鹿児島第４区　",1,"　志布志市",100,"01","自由民主党","森山　ひろし",10939,"02","社会民主党","野呂　正和",3629,null,null,null,null,null,null,null,null,null,null,null,null,null,null,null,null,null,null,null,null,null,null,null,null,null,null,null,null,null,null,null,null,14568,"衆議院小選挙区選出議員選挙","0",6,"00:00:00"]
[4,7,"04","衆議院鹿児島第４区　",1,"＊市　部   計",90.061004158748503,"01","自由民主党","森山　ひろし",87204,"02","社会民主党","野呂　正和",41206,null,null,null,null,null,null,null,null,null,null,null,null,null,null,null,null,null,null,null,null,null,null,null,null,null,null,null,null,null,null,null,null,128410,"衆議院小選挙区選出議員選挙","0",6,"00:00:00"]
[4,8,"04","衆議院鹿児島第４区　",1,"　大崎町",100,"01","自由民主党","森山　ひろし",5040,"02","社会民主党","野呂　正和",1393,null,null,null,null,null,null,null,null,null,null,null,null,null,null,null,null,null,null,null,null,null,null,null,null,null,null,null,null,null,null,null,null,6433,"衆議院小選挙区選出議員選挙","0",6,"00:00:00"]
[4,9,"04","衆議院鹿児島第４区　",1,"＊（曽於郡）計",100,"01","自由民主党","森山　ひろし",5040,"02","社会民主党","野呂　正和",1393,null,null,null,null,null,null,null,null,null,null,null,null,null,null,null,null,null,null,null,null,null,null,null,null,null,null,null,null,null,null,null,null,6433,"衆議院小選挙区選出議員選挙","0",6,"00:00:00"]
[4,10,"04","衆議院鹿児島第４区　",1,"　東串良町",100,"01","自由民主党","森山　ひろし",2420,"02","社会民主党","野呂　正和",694,null,null,null,null,null,null,null,null,null,null,null,null,null,null,null,null,null,null,null,null,null,null,null,null,null,null,null,null,null,null,null,null,3114,"衆議院小選挙区選出議員選挙","0",6,"00:00:00"]
[4,11,"04","衆議院鹿児島第４区　",1,"　錦江町",100,"01","自由民主党","森山　ひろし",3417,"02","社会民主党","野呂　正和",849,null,null,null,null,null,null,null,null,null,null,null,null,null,null,null,null,null,null,null,null,null,null,null,null,null,null,null,null,null,null,null,null,4266,"衆議院小選挙区選出議員選挙","0",6,"00:00:00"]
[4,12,"04","衆議院鹿児島第４区　",1,"　南大隅町",100,"01","自由民主党","森山　ひろし",3352,"02","社会民主党","野呂　正和",980,null,null,null,null,null,null,null,null,null,null,null,null,null,null,null,null,null,null,null,null,null,null,null,null,null,null,null,null,null,null,null,null,4332,"衆議院小選挙区選出議員選挙","0",6,"00:00:00"]
[4,13,"04","衆議院鹿児島第４区　",1,"　肝付町",100,"01","自由民主党","森山　ひろし",5402,"02","社会民主党","野呂　正和",2044,null,null,null,null,null,null,null,null,null,null,null,null,null,null,null,null,null,null,null,null,null,null,null,null,null,null,null,null,null,null,null,null,7446,"衆議院小選挙区選出議員選挙","0",6,"00:00:00"]
[4,14,"04","衆議院鹿児島第４区　",1,"＊（肝属郡）計",100,"01","自由民主党","森山　ひろし",14591,"02","社会民主党","野呂　正和",4567,null,null,null,null,null,null,null,null,null,null,null,null,null,null,null,null,null,null,null,null,null,null,null,null,null,null,null,null,null,null,null,null,19158,"衆議院小選挙区選出議員選挙","0",6,"00:00:00"]
[4,15,"04","衆議院鹿児島第４区　",1,"　中種子町",100,"01","自由民主党","森山　ひろし",3321,"02","社会民主党","野呂　正和",984,null,null,null,null,null,null,null,null,null,null,null,null,null,null,null,null,null,null,null,null,null,null,null,null,null,null,null,null,null,null,null,null,4305,"衆議院小選挙区選出議員選挙","0",6,"00:00:00"]
[4,16,"04","衆議院鹿児島第４区　",1,"　南種子町",100,"01","自由民主党","森山　ひろし",2158,"02","社会民主党","野呂　正和",861,null,null,null,null,null,null,null,null,null,null,null,null,null,null,null,null,null,null,null,null,null,null,null,null,null,null,null,null,null,null,null,null,3019,"衆議院小選挙区選出議員選挙","0",6,"00:00:00"]
[4,17,"04","衆議院鹿児島第４区　",1,"　屋久島町",100,"01","自由民主党","森山　ひろし",4077,"02","社会民主党","野呂　正和",2224,null,null,null,null,null,null,null,null,null,null,null,null,null,null,null,null,null,null,null,null,null,null,null,null,null,null,null,null,null,null,null,null,6301,"衆議院小選挙区選出議員選挙","0",6,"00:00:00"]
[4,18,"04","衆議院鹿児島第４区　",1,"＊（熊毛郡）計",100,"01","自由民主党","森山　ひろし",9556,"02","社会民主党","野呂　正和",4069,null,null,null,null,null,null,null,null,null,null,null,null,null,null,null,null,null,null,null,null,null,null,null,null,null,null,null,null,null,null,null,null,13625,"衆議院小選挙区選出議員選挙","0",6,"00:00:00"]
[4,19,"04","衆議院鹿児島第４区　",1,"＊郡　部   計",100,"01","自由民主党","森山　ひろし",29187,"02","社会民主党","野呂　正和",10029,null,null,null,null,null,null,null,null,null,null,null,null,null,null,null,null,null,null,null,null,null,null,null,null,null,null,null,null,null,null,null,null,39216,"衆議院小選挙区選出議員選挙","0",6,"00:00:00"]
[4,20,"04","衆議院鹿児島第４区　",1,"＊第 ４ 区 計",92.208626375702394,"01","自由民主党","森山　ひろし",116391,"02","社会民主党","野呂　正和",51235,null,null,null,null,null,null,null,null,null,null,null,null,null,null,null,null,null,null,null,null,null,null,null,null,null,null,null,null,null,null,null,null,167626,"衆議院小選挙区選出議員選挙","0",6,"00:00:00"]
[4,21,null,null,null,null,null,null,null,null,null,null,null,null,null,null,null,null,null,null,null,null,null,null,null,null,null,null,null,null,null,null,null,null,null,null,null,null,null,null,null,null,null,null,null,null,null,null,null,null,6]
[4,22,null,null,null,null,null,null,null,null,null,null,null,null,null,null,null,null,null,null,null,null,null,null,null,null,null,null,null,null,null,null,null,null,null,null,null,null,null,null,null,null,null,null,null,null,null,null,null,null,6]
[4,23,null,null,null,null,null,null,null,null,null,null,null,null,null,null,null,null,null,null,null,null,null,null,null,null,null,null,null,null,null,null,null,null,null,null,null,null,null,null,null,null,null,null,null,null,null,null,null,null,6]
[4,24,null,null,null,null,null,null,null,null,null,null,null,null,null,null,null,null,null,null,null,null,null,null,null,null,null,null,null,null,null,null,null,null,null,null,null,null,null,null,null,null,null,null,null,null,null,null,null,null,6]
[4,25,null,null,null,null,null,null,null,null,null,null,null,null,null,null,null,null,null,null,null,null,null,null,null,null,null,null,null,null,null,null,null,null,null,null,null,null,null,null,null,null,null,null,null,null,null,null,null,null,6]
[4,26,null,null,null,null,null,null,null,null,null,null,null,null,null,null,null,null,null,null,null,null,null,null,null,null,null,null,null,null,null,null,null,null,null,null,null,null,null,null,null,null,null,null,null,null,null,null,null,null,6]
[4,27,null,null,null,null,null,null,null,null,null,null,null,null,null,null,null,null,null,null,null,null,null,null,null,null,null,null,null,null,null,null,null,null,null,null,null,null,null,null,null,null,null,null,null,null,null,null,null,null,6]
[4,28,null,null,null,null,null,null,null,null,null,null,null,null,null,null,null,null,null,null,null,null,null,null,null,null,null,null,null,null,null,null,null,null,null,null,null,null,null,null,null,null,null,null,null,null,null,null,null,null,6]
[4,29,null,null,null,null,null,null,null,null,null,null,null,null,null,null,null,null,null,null,null,null,null,null,null,null,null,null,null,null,null,null,null,null,null,null,null,null,null,null,null,null,null,null,null,null,null,null,null,null,6]
[4,30,null,null,null,null,null,null,null,null,null,null,null,null,null,null,null,null,null,null,null,null,null,null,null,null,null,null,null,null,null,null,null,null,null,null,null,null,null,null,null,null,null,null,null,null,null,null,null,null,6]