{"text_format":"1","workbook":"xlsx","n_sheets":3,"sheets":["投票速報（在外）_147_","パラメタシート","P_14号7様式"],"not_rendered":{"charts":0,"images":0,"macros":1,"external_links":0,"defined_names":9,"comments":0,"pivot_tables":0},"unopened":[],"bounds":{"document_bytes":16777216,"sheet_cells":100000,"rows_first":2000,"rows_last":500,"rows_between":2000,"halvings":0,"cell_chars":16384,"cell_head_chars":4096},"cells_cut":0,"cells_raw":0,"read":"whole","date_system":"1900"}

{"sheet":"投票速報（在外）_147_","index":0,"n_rows":221,"n_cols":23,"rows_kept":221,"cut":false,"hidden":false,"merged":[[151,12,151,14],[152,12,152,14],[153,12,153,14],[173,11,173,17],[161,15,161,17],[162,15,162,17],[157,15,157,17],[158,15,158,17],[159,15,159,17],[160,15,160,17],[154,15,154,17],[155,15,155,17],[156,15,156,17],[1,13,1,15],[1,16,1,19],[2,13,2,15],[57,13,57,15],[48,15,48,17],[49,15,49,17],[50,15,50,17],[44,15,44,17],[47,15,47,17],[40,15,40,17],[45,12,45,14],[46,12,46,14],[47,12,47,14],[48,12,48,14],[41,12,41,14],[27,15,27,17],[28,15,28,17],[9,15,9,17],[10,15,10,17],[11,15,11,17],[12,15,12,17],[21,15,21,17],[22,15,22,17],[23,15,23,17],[0,21,0,22],[56,21,56,22],[112,21,112,22],[168,21,168,22],[3,21,3,22],[1,20,1,22],[2,20,2,22],[117,20,119,22],[58,20,58,22],[57,20,57,22],[113,20,113,22],[61,20,63,22],[114,20,114,22],[216,15,216,17],[217,15,217,17],[210,15,210,17],[211,15,211,17],[218,15,218,17],[220,12,220,14],[220,15,220,17],[223,12,223,14],[59,21,59,22],[115,21,115,22],[171,21,171,22],[113,16,113,19],[104,15,104,17],[105,15,105,17],[216,12,216,14],[217,12,217,14],[218,12,218,14],[187,15,187,17],[188,15,188,17],[189,15,189,17],[190,15,190,17],[191,15,191,17],[192,15,192,17],[193,15,193,17],[198,15,198,17],[199,15,199,17],[200,15,200,17],[201,15,201,17],[194,15,194,17],[195,15,195,17],[196,15,196,17],[197,15,197,17],[206,15,206,17],[207,15,207,17],[208,15,208,17],[209,15,209,17],[202,15,202,17],[203,15,203,17],[212,12,212,14],[213,12,213,14],[214,12,214,14],[215,12,215,14],[208,12,208,14],[209,12,209,14],[210,12,210,14],[211,12,211,14],[212,15,212,17],[213,15,213,17],[214,15,214,17],[215,15,215,17],[204,12,204,14],[205,12,205,14],[206,12,206,14],[207,12,207,14],[197,12,197,14],[181,15,181,17],[182,15,182,17],[191,12,191,14],[204,15,204,17],[205,15,205,17],[147,15,147,17],[148,15,148,17],[149,15,149,17],[183,15,183,17],[184,15,184,17],[150,15,150,17],[151,15,151,17],[152,15,152,17],[153,15,153,17],[179,15,179,17],[180,15,180,17],[162,12,162,14],[155,12,155,14],[156,12,156,14],[157,12,157,14],[158,12,158,14],[159,12,159,14],[160,12,160,14],[154,12,154,14],[130,15,130,17],[131,15,131,17],[132,15,132,17],[133,15,133,17],[126,15,126,17],[127,15,127,17],[128,15,128,17],[129,15,129,17],[138,15,138,17],[139,15,139,17],[146,15,146,17],[147,12,147,14],[148,12,148,14],[149,12,149,14],[150,12,150,14],[143,12,143,14],[144,12,144,14],[145,12,145,14],[146,12,146,14],[142,15,142,17],[143,15,143,17],[144,15,144,17],[145,15,145,17],[140,12,140,14],[141,12,141,14],[142,12,142,14],[103,12,103,14],[104,12,104,14],[105,12,105,14],[106,12,106,14],[125,12,125,14],[136,12,136,14],[117,11,117,17],[124,15,124,17],[125,15,125,17],[140,15,140,17],[141,15,141,17],[134,15,134,17],[135,15,135,17],[136,15,136,17],[137,15,137,17],[106,15,106,17],[98,15,98,17],[99,15,99,17],[100,15,100,17],[101,15,101,17],[102,15,102,17],[103,15,103,17],[54,15,54,17],[80,15,80,17],[81,15,81,17],[82,15,82,17],[75,15,75,17],[76,15,76,17],[77,15,77,17],[78,15,78,17],[87,15,87,17],[83,15,83,17],[84,15,84,17],[85,15,85,17],[67,15,67,17],[68,15,68,17],[69,15,69,17],[70,15,70,17],[71,15,71,17],[72,15,72,17],[73,15,73,17],[74,15,74,17],[79,15,79,17],[86,15,86,17],[53,15,53,17],[64,12,64,14],[64,15,64,17],[42,12,42,14],[30,12,30,14],[31,12,31,14],[32,12,32,14],[33,12,33,14],[43,12,43,14],[44,12,44,14],[33,15,33,17],[46,15,46,17],[34,15,34,17],[35,15,35,17],[36,15,36,17],[37,15,37,17],[41,15,41,17],[42,15,42,17],[43,15,43,17],[45,15,45,17],[38,15,38,17],[39,15,39,17],[53,12,53,14],[50,12,50,14],[32,15,32,17],[25,15,25,17],[24,15,24,17],[17,15,17,17],[18,15,18,17],[19,15,19,17],[20,15,20,17],[110,12,110,14],[110,15,110,17],[37,12,37,14],[38,12,38,14],[39,12,39,14],[40,12,40,14],[108,15,108,17],[74,12,74,14],[75,12,75,14],[76,12,76,14],[77,12,77,14],[78,12,78,14],[79,12,79,14],[80,12,80,14],[109,15,109,17],[52,15,52,17],[49,12,49,14],[177,15,177,17],[111,15,111,17],[113,13,113,15],[81,12,81,14],[82,12,82,14],[83,12,83,14],[84,12,84,14],[73,12,73,14],[89,12,89,14],[90,12,90,14],[91,12,91,14],[92,12,92,14],[85,12,85,14],[86,12,86,14],[87,12,87,14],[88,12,88,14],[118,11,119,12],[88,15,88,17],[96,15,96,17],[97,15,97,17],[90,15,90,17],[91,15,91,17],[92,15,92,17],[93,15,93,17],[181,12,181,14],[182,12,182,14],[184,12,184,14],[16,12,16,14],[17,12,17,14],[18,12,18,14],[19,12,19,14],[20,12,20,14],[21,12,21,14],[26,12,26,14],[139,12,139,14],[102,12,102,14],[97,12,97,14],[98,12,98,14],[99,12,99,14],[100,12,100,14],[93,12,93,14],[94,12,94,14],[95,12,95,14],[96,12,96,14],[101,12,101,14],[135,12,135,14],[123,12,123,14],[126,12,126,14],[223,15,223,17],[183,12,183,14],[185,12,185,14],[186,12,186,14],[192,12,192,14],[164,15,164,17],[174,11,175,12],[118,14,119,14],[114,13,114,15],[118,16,119,16],[198,12,198,14],[199,12,199,14],[200,12,200,14],[201,12,201,14],[202,12,202,14],[203,12,203,14],[221,12,221,14],[222,12,222,14],[193,12,193,14],[194,12,194,14],[195,12,195,14],[196,12,196,14],[221,15,221,17],[222,15,222,17],[5,20,7,22],[8,12,8,14],[8,15,8,17],[6,11,7,12],[6,14,7,14],[6,16,7,16],[5,11,5,17],[122,12,122,14],[127,12,127,14],[120,15,120,17],[120,12,120,14],[121,12,121,14],[122,15,122,17],[123,15,123,17],[121,15,121,17],[109,12,109,14],[26,15,26,17],[13,15,13,17],[14,15,14,17],[15,15,15,17],[16,15,16,17],[29,15,29,17],[30,15,30,17],[31,15,31,17],[198,0,198,1],[207,0,207,1],[208,0,208,1],[209,0,209,1],[210,0,210,1],[203,0,203,1],[221,0,221,1],[5,18,8,18],[5,19,8,19],[128,12,128,14],[129,12,129,14],[137,12,137,14],[138,12,138,14],[177,12,177,14],[178,15,178,17],[178,12,178,14],[179,12,179,14],[180,12,180,14],[189,12,189,14],[190,12,190,14],[188,12,188,14],[187,12,187,14],[185,15,185,17],[186,15,186,17],[159,0,159,1],[160,0,160,1],[161,0,161,1],[191,0,191,1],[192,0,192,1],[193,0,193,1],[222,0,222,1],[223,0,223,1],[178,0,178,1],[179,0,179,1],[180,0,180,1],[181,0,181,1],[182,0,182,1],[183,0,183,1],[184,0,184,1],[216,0,216,1],[185,0,185,1],[199,0,199,1],[200,0,200,1],[201,0,201,1],[202,0,202,1],[195,0,195,1],[196,0,196,1],[197,0,197,1],[217,0,217,1],[218,0,218,1],[220,0,220,1],[212,0,212,1],[213,0,213,1],[214,0,214,1],[215,0,215,1],[204,0,204,1],[205,0,205,1],[206,0,206,1],[211,0,211,1],[187,0,187,1],[190,0,190,1],[152,0,152,1],[153,0,153,1],[154,0,154,1],[128,0,128,1],[125,0,125,1],[126,0,126,1],[147,0,147,1],[148,0,148,1],[149,0,149,1],[150,0,150,1],[143,0,143,1],[144,0,144,1],[145,0,145,1],[146,0,146,1],[129,0,129,1],[156,0,156,1],[157,0,157,1],[164,0,164,1],[151,0,151,1],[165,0,165,1],[166,0,166,1],[158,0,158,1],[16,0,16,1],[17,0,17,1],[18,0,18,1],[19,0,19,1],[20,0,20,1],[21,0,21,1],[194,0,194,1],[167,0,167,1],[74,0,74,1],[75,0,75,1],[76,0,76,1],[77,0,77,1],[78,0,78,1],[79,0,79,1],[68,0,68,1],[69,0,69,1],[70,0,70,1],[71,0,71,1],[168,0,169,2],[170,1,170,4],[188,0,188,1],[189,0,189,1],[177,0,177,1],[186,0,186,1],[29,0,29,1],[30,0,30,1],[31,0,31,1],[32,0,32,1],[33,0,33,1],[22,0,22,1],[23,0,23,1],[24,0,24,1],[25,0,25,1],[26,0,26,1],[27,0,27,1],[50,0,50,1],[52,0,52,1],[59,7,59,9],[10,0,10,1],[11,0,11,1],[12,0,12,1],[13,0,13,1],[14,0,14,1],[15,0,15,1],[46,0,46,1],[47,0,47,1],[48,0,48,1],[49,0,49,1],[40,0,40,1],[41,0,41,1],[42,0,42,1],[43,0,43,1],[44,0,44,1],[45,0,45,1],[36,0,36,1],[37,0,37,1],[38,0,38,1],[39,0,39,1],[28,0,28,1],[55,15,55,17],[57,16,57,19],[61,0,64,1],[61,2,63,4],[61,8,63,10],[59,1,59,4],[62,11,63,12],[57,6,58,10],[58,13,58,15],[61,18,64,18],[61,19,64,19],[62,16,63,16],[61,11,61,17],[58,1,58,4],[56,0,57,2],[66,0,66,1],[67,0,67,1],[65,12,65,14],[65,15,65,17],[66,12,66,14],[66,15,66,17],[67,12,67,14],[117,19,120,19],[117,0,120,1],[112,0,113,2],[73,0,73,1],[68,12,68,14],[69,12,69,14],[70,12,70,14],[71,12,71,14],[96,0,96,1],[92,0,92,1],[94,15,94,17],[89,15,89,17],[95,15,95,17],[115,7,115,9],[117,5,119,7],[117,18,120,18],[88,0,88,1],[103,0,103,1],[104,0,104,1],[99,0,99,1],[100,0,100,1],[90,0,90,1],[91,0,91,1],[80,0,80,1],[81,0,81,1],[82,0,82,1],[83,0,83,1],[84,0,84,1],[85,0,85,1],[111,0,111,1],[106,0,106,1],[108,0,108,1],[110,0,110,1],[105,0,105,1],[101,0,101,1],[97,0,97,1],[98,0,98,1],[89,0,89,1],[102,0,102,1],[115,1,115,4],[117,2,119,4],[127,0,127,1],[3,7,3,9],[5,5,7,7],[5,0,8,1],[5,2,7,4],[2,1,2,4],[5,8,7,10],[1,6,2,10],[9,0,9,1],[0,0,1,2],[3,1,3,4],[53,0,53,1],[55,0,55,1],[54,0,54,1],[93,0,93,1],[94,0,94,1],[95,0,95,1],[109,0,109,1],[86,0,86,1],[87,0,87,1],[72,0,72,1],[65,0,65,1],[131,0,131,1],[132,0,132,1],[133,0,133,1],[121,0,121,1],[135,0,135,1],[130,12,130,14],[131,12,131,14],[132,12,132,14],[133,12,133,14],[134,12,134,14],[173,18,176,18],[173,2,175,4],[173,8,175,10],[176,12,176,14],[165,12,165,14],[165,15,165,17],[173,19,176,19],[174,16,175,16],[173,20,175,22],[176,15,176,17],[166,12,166,14],[166,15,166,17],[167,15,167,17],[171,1,171,4],[174,14,175,14],[167,12,167,14],[173,0,176,1],[169,13,169,15],[169,16,169,19],[169,20,169,22],[170,13,170,15],[170,20,170,22],[171,7,171,9],[173,5,175,7],[9,12,9,14],[124,12,124,14],[164,12,164,14],[62,14,63,14],[10,12,10,14],[12,12,12,14],[117,8,119,10],[54,12,54,14],[108,12,108,14],[111,12,111,14],[27,12,27,14],[28,12,28,14],[29,12,29,14],[22,12,22,14],[23,12,23,14],[24,12,24,14],[25,12,25,14],[34,12,34,14],[11,12,11,14],[13,12,13,14],[14,12,14,14],[15,12,15,14],[55,12,55,14],[161,12,161,14],[35,12,35,14],[36,12,36,14],[72,12,72,14],[52,12,52,14],[34,0,34,1],[35,0,35,1],[113,6,114,10],[169,6,170,10],[61,5,63,7],[162,0,162,1],[139,0,139,1],[140,0,140,1],[141,0,141,1],[142,0,142,1],[155,0,155,1],[122,0,122,1],[123,0,123,1],[124,0,124,1],[114,1,114,4],[136,0,136,1],[137,0,137,1],[138,0,138,1],[134,0,134,1],[130,0,130,1]]}
["第14号の7様式",null,null,null,null,null,null,null,null,null,null,null,null,null,null,null,null,null,null,null,null,{"$f":"IF(P_14号7様式!A2=\"\",\" ページ\", P_14号7様式!A2 & \"ページ\")","v":"1ページ"}]
[null,null,null,null,null,null,{"$f":"IF(P_14号7様式!AG2=\"\",\"投　票　速　報（在外）\",\"投　票　速　報（在外）　（確定）\")","v":"投　票　速　報（在外）"},null,null,null,null,null,null,"中間報告",null,null,{"$f":"IF(P_14号7様式!AL2=\"\",\"第　　　回\",\"第 　\" & P_14号7様式!AL2 & \"　回\")","v":"第　　　回"},null,null,null,{"$f":"IF(P_14号7様式!AM2=\"\",\"        時     　 分　現在\",P_14号7様式!AM2)","v":"21:34:02"}]
[null,{"$f":"IF(パラメタシート!B1=\"\",\"\",パラメタシート!B1)","v":"2017-10-22"},null,null,null,null,null,null,null,null,null,null,null,"結了報告",null,null,null,null,null,null,{"$f":"IF(P_14号7様式!AG2=\"\",\"        時     　 分　結了\",P_14号7様式!AG2)","v":"        時     　 分　結了"}]
[null,{"$f":"IF(P_14号7様式!AK2=\"\",\"\",P_14号7様式!AK2)","v":""},null,null,null,null,null,"（ 選 挙 区 別 ）",null,null,null,null,null,null,null,null,null,null,null,null,null,"鹿 児 島 県"]
[]
["市区町村名",null,"当日在外有権者数（E'）\n（ 当日在外有権者見込(E)）",null,null,"（F）\n在　外　投　票　者　数",null,null,"（G）\n在　外　棄　権　者　数",null,null,"（H）",null,null,null,null,null,null,"投\n票\n率\n順\n位","投票\n結了\n時刻","前回選挙の投票率"]
[null,null,null,null,null,null,null,null,null,null,null,"在外投票率=",null,"（F）","(","（F）",")"]
[null,null,null,null,null,null,null,null,null,null,null,null,null,"（E'）",null,"（E）"]
[null,null,"男","女","計","男","女","計","男","女","計","男","女",null,null,"計",null,null,null,null,"男","女","計"]
[{"$f":"IF(P_14号7様式!C2=\"\",\"\",P_14号7様式!C2)","v":"【 第 １ 区 】"},null,{"$f":"IF(P_14号7様式!D2=\"\",\"\",P_14号7様式!D2)","v":""},{"$f":"IF(P_14号7様式!E2=\"\",\"\",P_14号7様式!E2)","v":""},{"$f":"IF(P_14号7様式!F2=\"\",\"\",P_14号7様式!F2)","v":""},{"$f":"IF(P_14号7様式!G2=\"\",\"\",P_14号7様式!G2)","v":""},{"$f":"IF(P_14号7様式!H2=\"\",\"\",P_14号7様式!H2)","v":""},{"$f":"IF(P_14号7様式!I2=\"\",\"\",P_14号7様式!I2)","v":""},{"$f":"IF(P_14号7様式!J2=\"\",\"\",P_14号7様式!J2)","v":""},{"$f":"IF(P_14号7様式!K2=\"\",\"\",P_14号7様式!K2)","v":""},{"$f":"IF(P_14号7様式!L2=\"\",\"\",P_14号7様式!L2)","v":""},{"$f":"IF(P_14号7様式!M2=\"\",\"\",P_14号7様式!M2)","v":""},{"$f":"IF(P_14号7様式!N2=\"\",\"\",P_14号7様式!N2)","v":""},null,null,{"$f":"IF(P_14号7様式!O2=\"\",\"\",P_14号7様式!O2)","v":""},null,null,{"$f":"IF(P_14号7様式!P2=\"\",\"\",P_14号7様式!P2)","v":""},{"$f":"IF(P_14号7様式!Q2=\"\",\"\",P_14号7様式!Q2)","v":""},{"$f":"IF(P_14号7様式!R2=\"\",\"\",P_14号7様式!R2)","v":""},{"$f":"IF(P_14号7様式!S2=\"\",\"\",P_14号7様式!S2)","v":""},{"$f":"IF(P_14号7様式!T2=\"\",\"\",P_14号7様式!T2)","v":""}]
[{"$f":"IF(P_14号7様式!C3=\"\",\"\",P_14号7様式!C3)","v":"　鹿児島市１区"},null,{"$f":"IF(P_14号7様式!D3=\"\",\"\",P_14号7様式!D3)","v":""},{"$f":"IF(P_14号7様式!E3=\"\",\"\",P_14号7様式!E3)","v":""},{"$f":"IF(P_14号7様式!F3=\"\",\"\",P_14号7様式!F3)","v":""},{"$f":"IF(P_14号7様式!G3=\"\",\"\",P_14号7様式!G3)","v":""},{"$f":"IF(P_14号7様式!H3=\"\",\"\",P_14号7様式!H3)","v":""},{"$f":"IF(P_14号7様式!I3=\"\",\"\",P_14号7様式!I3)","v":""},{"$f":"IF(P_14号7様式!J3=\"\",\"\",P_14号7様式!J3)","v":""},{"$f":"IF(P_14号7様式!K3=\"\",\"\",P_14号7様式!K3)","v":""},{"$f":"IF(P_14号7様式!L3=\"\",\"\",P_14号7様式!L3)","v":""},{"$f":"IF(P_14号7様式!M3=\"\",\"\",P_14号7様式!M3)","v":""},{"$f":"IF(P_14号7様式!N3=\"\",\"\",P_14号7様式!N3)","v":""},null,null,{"$f":"IF(P_14号7様式!O3=\"\",\"\",P_14号7様式!O3)","v":""},null,null,{"$f":"IF(P_14号7様式!P3=\"\",\"\",P_14号7様式!P3)","v":""},{"$f":"IF(P_14号7様式!Q3=\"\",\"\",P_14号7様式!Q3)","v":""},{"$f":"IF(P_14号7様式!R3=\"\",\"\",P_14号7様式!R3)","v":17.8571428571429},{"$f":"IF(P_14号7様式!S3=\"\",\"\",P_14号7様式!S3)","v":11.290322580645199},{"$f":"IF(P_14号7様式!T3=\"\",\"\",P_14号7様式!T3)","v":13.942307692307701}]
[{"$f":"IF(P_14号7様式!C4=\"\",\"\",P_14号7様式!C4)","v":"＊市　部    計"},null,{"$f":"IF(P_14号7様式!D4=\"\",\"\",P_14号7様式!D4)","v":""},{"$f":"IF(P_14号7様式!E4=\"\",\"\",P_14号7様式!E4)","v":""},{"$f":"IF(P_14号7様式!F4=\"\",\"\",P_14号7様式!F4)","v":""},{"$f":"IF(P_14号7様式!G4=\"\",\"\",P_14号7様式!G4)","v":""},{"$f":"IF(P_14号7様式!H4=\"\",\"\",P_14号7様式!H4)","v":""},{"$f":"IF(P_14号7様式!I4=\"\",\"\",P_14号7様式!I4)","v":""},{"$f":"IF(P_14号7様式!J4=\"\",\"\",P_14号7様式!J4)","v":""},{"$f":"IF(P_14号7様式!K4=\"\",\"\",P_14号7様式!K4)","v":""},{"$f":"IF(P_14号7様式!L4=\"\",\"\",P_14号7様式!L4)","v":""},{"$f":"IF(P_14号7様式!M4=\"\",\"\",P_14号7様式!M4)","v":0},{"$f":"IF(P_14号7様式!N4=\"\",\"\",P_14号7様式!N4)","v":0},null,null,{"$f":"IF(P_14号7様式!O4=\"\",\"\",P_14号7様式!O4)","v":0},null,null,{"$f":"IF(P_14号7様式!P4=\"\",\"\",P_14号7様式!P4)","v":""},{"$f":"IF(P_14号7様式!Q4=\"\",\"\",P_14号7様式!Q4)","v":""},{"$f":"IF(P_14号7様式!R4=\"\",\"\",P_14号7様式!R4)","v":17.8571428571429},{"$f":"IF(P_14号7様式!S4=\"\",\"\",P_14号7様式!S4)","v":11.290322580645199},{"$f":"IF(P_14号7様式!T4=\"\",\"\",P_14号7様式!T4)","v":13.942307692307701}]
[{"$f":"IF(P_14号7様式!C5=\"\",\"\",P_14号7様式!C5)","v":"　三島村"},null,{"$f":"IF(P_14号7様式!D5=\"\",\"\",P_14号7様式!D5)","v":0},{"$f":"IF(P_14号7様式!E5=\"\",\"\",P_14号7様式!E5)","v":0},{"$f":"IF(P_14号7様式!F5=\"\",\"\",P_14号7様式!F5)","v":0},{"$f":"IF(P_14号7様式!G5=\"\",\"\",P_14号7様式!G5)","v":0},{"$f":"IF(P_14号7様式!H5=\"\",\"\",P_14号7様式!H5)","v":0},{"$f":"IF(P_14号7様式!I5=\"\",\"\",P_14号7様式!I5)","v":0},{"$f":"IF(P_14号7様式!J5=\"\",\"\",P_14号7様式!J5)","v":0},{"$f":"IF(P_14号7様式!K5=\"\",\"\",P_14号7様式!K5)","v":0},{"$f":"IF(P_14号7様式!L5=\"\",\"\",P_14号7様式!L5)","v":0},{"$f":"IF(P_14号7様式!M5=\"\",\"\",P_14号7様式!M5)","v":0},{"$f":"IF(P_14号7様式!N5=\"\",\"\",P_14号7様式!N5)","v":0},null,null,{"$f":"IF(P_14号7様式!O5=\"\",\"\",P_14号7様式!O5)","v":0},null,null,{"$f":"IF(P_14号7様式!P5=\"\",\"\",P_14号7様式!P5)","v":""},{"$f":"IF(P_14号7様式!Q5=\"\",\"\",P_14号7様式!Q5)","v":"18:18:00"},{"$f":"IF(P_14号7様式!R5=\"\",\"\",P_14号7様式!R5)","v":0},{"$f":"IF(P_14号7様式!S5=\"\",\"\",P_14号7様式!S5)","v":0},{"$f":"IF(P_14号7様式!T5=\"\",\"\",P_14号7様式!T5)","v":0}]
[{"$f":"IF(P_14号7様式!C6=\"\",\"\",P_14号7様式!C6)","v":"　十島村"},null,{"$f":"IF(P_14号7様式!D6=\"\",\"\",P_14号7様式!D6)","v":0},{"$f":"IF(P_14号7様式!E6=\"\",\"\",P_14号7様式!E6)","v":0},{"$f":"IF(P_14号7様式!F6=\"\",\"\",P_14号7様式!F6)","v":0},{"$f":"IF(P_14号7様式!G6=\"\",\"\",P_14号7様式!G6)","v":0},{"$f":"IF(P_14号7様式!H6=\"\",\"\",P_14号7様式!H6)","v":0},{"$f":"IF(P_14号7様式!I6=\"\",\"\",P_14号7様式!I6)","v":0},{"$f":"IF(P_14号7様式!J6=\"\",\"\",P_14号7様式!J6)","v":0},{"$f":"IF(P_14号7様式!K6=\"\",\"\",P_14号7様式!K6)","v":0},{"$f":"IF(P_14号7様式!L6=\"\",\"\",P_14号7様式!L6)","v":0},{"$f":"IF(P_14号7様式!M6=\"\",\"\",P_14号7様式!M6)","v":0},{"$f":"IF(P_14号7様式!N6=\"\",\"\",P_14号7様式!N6)","v":0},null,null,{"$f":"IF(P_14号7様式!O6=\"\",\"\",P_14号7様式!O6)","v":0},null,null,{"$f":"IF(P_14号7様式!P6=\"\",\"\",P_14号7様式!P6)","v":""},{"$f":"IF(P_14号7様式!Q6=\"\",\"\",P_14号7様式!Q6)","v":"17:56:00"},{"$f":"IF(P_14号7様式!R6=\"\",\"\",P_14号7様式!R6)","v":0},{"$f":"IF(P_14号7様式!S6=\"\",\"\",P_14号7様式!S6)","v":0},{"$f":"IF(P_14号7様式!T6=\"\",\"\",P_14号7様式!T6)","v":0}]
[{"$f":"IF(P_14号7様式!C7=\"\",\"\",P_14号7様式!C7)","v":"＊（鹿児島郡）計"},null,{"$f":"IF(P_14号7様式!D7=\"\",\"\",P_14号7様式!D7)","v":0},{"$f":"IF(P_14号7様式!E7=\"\",\"\",P_14号7様式!E7)","v":0},{"$f":"IF(P_14号7様式!F7=\"\",\"\",P_14号7様式!F7)","v":0},{"$f":"IF(P_14号7様式!G7=\"\",\"\",P_14号7様式!G7)","v":0},{"$f":"IF(P_14号7様式!H7=\"\",\"\",P_14号7様式!H7)","v":0},{"$f":"IF(P_14号7様式!I7=\"\",\"\",P_14号7様式!I7)","v":0},{"$f":"IF(P_14号7様式!J7=\"\",\"\",P_14号7様式!J7)","v":0},{"$f":"IF(P_14号7様式!K7=\"\",\"\",P_14号7様式!K7)","v":0},{"$f":"IF(P_14号7様式!L7=\"\",\"\",P_14号7様式!L7)","v":0},{"$f":"IF(P_14号7様式!M7=\"\",\"\",P_14号7様式!M7)","v":0},{"$f":"IF(P_14号7様式!N7=\"\",\"\",P_14号7様式!N7)","v":0},null,null,{"$f":"IF(P_14号7様式!O7=\"\",\"\",P_14号7様式!O7)","v":0},null,null,{"$f":"IF(P_14号7様式!P7=\"\",\"\",P_14号7様式!P7)","v":""},{"$f":"IF(P_14号7様式!Q7=\"\",\"\",P_14号7様式!Q7)","v":"18:18:00"},{"$f":"IF(P_14号7様式!R7=\"\",\"\",P_14号7様式!R7)","v":0},{"$f":"IF(P_14号7様式!S7=\"\",\"\",P_14号7様式!S7)","v":0},{"$f":"IF(P_14号7様式!T7=\"\",\"\",P_14号7様式!T7)","v":0}]
[{"$f":"IF(P_14号7様式!C8=\"\",\"\",P_14号7様式!C8)","v":"＊郡　部    計"},null,{"$f":"IF(P_14号7様式!D8=\"\",\"\",P_14号7様式!D8)","v":0},{"$f":"IF(P_14号7様式!E8=\"\",\"\",P_14号7様式!E8)","v":0},{"$f":"IF(P_14号7様式!F8=\"\",\"\",P_14号7様式!F8)","v":0},{"$f":"IF(P_14号7様式!G8=\"\",\"\",P_14号7様式!G8)","v":0},{"$f":"IF(P_14号7様式!H8=\"\",\"\",P_14号7様式!H8)","v":0},{"$f":"IF(P_14号7様式!I8=\"\",\"\",P_14号7様式!I8)","v":0},{"$f":"IF(P_14号7様式!J8=\"\",\"\",P_14号7様式!J8)","v":0},{"$f":"IF(P_14号7様式!K8=\"\",\"\",P_14号7様式!K8)","v":0},{"$f":"IF(P_14号7様式!L8=\"\",\"\",P_14号7様式!L8)","v":0},{"$f":"IF(P_14号7様式!M8=\"\",\"\",P_14号7様式!M8)","v":0},{"$f":"IF(P_14号7様式!N8=\"\",\"\",P_14号7様式!N8)","v":0},null,null,{"$f":"IF(P_14号7様式!O8=\"\",\"\",P_14号7様式!O8)","v":0},null,null,{"$f":"IF(P_14号7様式!P8=\"\",\"\",P_14号7様式!P8)","v":""},{"$f":"IF(P_14号7様式!Q8=\"\",\"\",P_14号7様式!Q8)","v":"18:18:00"},{"$f":"IF(P_14号7様式!R8=\"\",\"\",P_14号7様式!R8)","v":0},{"$f":"IF(P_14号7様式!S8=\"\",\"\",P_14号7様式!S8)","v":0},{"$f":"IF(P_14号7様式!T8=\"\",\"\",P_14号7様式!T8)","v":0}]
[{"$f":"IF(P_14号7様式!C9=\"\",\"\",P_14号7様式!C9)","v":"＊第 １ 区  計"},null,{"$f":"IF(P_14号7様式!D9=\"\",\"\",P_14号7様式!D9)","v":0},{"$f":"IF(P_14号7様式!E9=\"\",\"\",P_14号7様式!E9)","v":0},{"$f":"IF(P_14号7様式!F9=\"\",\"\",P_14号7様式!F9)","v":0},{"$f":"IF(P_14号7様式!G9=\"\",\"\",P_14号7様式!G9)","v":0},{"$f":"IF(P_14号7様式!H9=\"\",\"\",P_14号7様式!H9)","v":0},{"$f":"IF(P_14号7様式!I9=\"\",\"\",P_14号7様式!I9)","v":0},{"$f":"IF(P_14号7様式!J9=\"\",\"\",P_14号7様式!J9)","v":""},{"$f":"IF(P_14号7様式!K9=\"\",\"\",P_14号7様式!K9)","v":""},{"$f":"IF(P_14号7様式!L9=\"\",\"\",P_14号7様式!L9)","v":""},{"$f":"IF(P_14号7様式!M9=\"\",\"\",P_14号7様式!M9)","v":0},{"$f":"IF(P_14号7様式!N9=\"\",\"\",P_14号7様式!N9)","v":0},null,null,{"$f":"IF(P_14号7様式!O9=\"\",\"\",P_14号7様式!O9)","v":0},null,null,{"$f":"IF(P_14号7様式!P9=\"\",\"\",P_14号7様式!P9)","v":""},{"$f":"IF(P_14号7様式!Q9=\"\",\"\",P_14号7様式!Q9)","v":""},{"$f":"IF(P_14号7様式!R9=\"\",\"\",P_14号7様式!R9)","v":17.8571428571429},{"$f":"IF(P_14号7様式!S9=\"\",\"\",P_14号7様式!S9)","v":11.290322580645199},{"$f":"IF(P_14号7様式!T9=\"\",\"\",P_14号7様式!T9)","v":13.942307692307701}]
[{"$f":"IF(P_14号7様式!C10=\"\",\"\",P_14号7様式!C10)","v":""},null,{"$f":"IF(P_14号7様式!D10=\"\",\"\",P_14号7様式!D10)","v":""},{"$f":"IF(P_14号7様式!E10=\"\",\"\",P_14号7様式!E10)","v":""},{"$f":"IF(P_14号7様式!F10=\"\",\"\",P_14号7様式!F10)","v":""},{"$f":"IF(P_14号7様式!G10=\"\",\"\",P_14号7様式!G10)","v":""},{"$f":"IF(P_14号7様式!H10=\"\",\"\",P_14号7様式!H10)","v":""},{"$f":"IF(P_14号7様式!I10=\"\",\"\",P_14号7様式!I10)","v":""},{"$f":"IF(P_14号7様式!J10=\"\",\"\",P_14号7様式!J10)","v":""},{"$f":"IF(P_14号7様式!K10=\"\",\"\",P_14号7様式!K10)","v":""},{"$f":"IF(P_14号7様式!L10=\"\",\"\",P_14号7様式!L10)","v":""},{"$f":"IF(P_14号7様式!M10=\"\",\"\",P_14号7様式!M10)","v":""},{"$f":"IF(P_14号7様式!N10=\"\",\"\",P_14号7様式!N10)","v":""},null,null,{"$f":"IF(P_14号7様式!O10=\"\",\"\",P_14号7様式!O10)","v":""},null,null,{"$f":"IF(P_14号7様式!P10=\"\",\"\",P_14号7様式!P10)","v":""},{"$f":"IF(P_14号7様式!Q10=\"\",\"\",P_14号7様式!Q10)","v":""},{"$f":"IF(P_14号7様式!R10=\"\",\"\",P_14号7様式!R10)","v":""},{"$f":"IF(P_14号7様式!S10=\"\",\"\",P_14号7様式!S10)","v":""},{"$f":"IF(P_14号7様式!T10=\"\",\"\",P_14号7様式!T10)","v":""}]
[{"$f":"IF(P_14号7様式!C11=\"\",\"\",P_14号7様式!C11)","v":""},null,{"$f":"IF(P_14号7様式!D11=\"\",\"\",P_14号7様式!D11)","v":""},{"$f":"IF(P_14号7様式!E11=\"\",\"\",P_14号7様式!E11)","v":""},{"$f":"IF(P_14号7様式!F11=\"\",\"\",P_14号7様式!F11)","v":""},{"$f":"IF(P_14号7様式!G11=\"\",\"\",P_14号7様式!G11)","v":""},{"$f":"IF(P_14号7様式!H11=\"\",\"\",P_14号7様式!H11)","v":""},{"$f":"IF(P_14号7様式!I11=\"\",\"\",P_14号7様式!I11)","v":""},{"$f":"IF(P_14号7様式!J11=\"\",\"\",P_14号7様式!J11)","v":""},{"$f":"IF(P_14号7様式!K11=\"\",\"\",P_14号7様式!K11)","v":""},{"$f":"IF(P_14号7様式!L11=\"\",\"\",P_14号7様式!L11)","v":""},{"$f":"IF(P_14号7様式!M11=\"\",\"\",P_14号7様式!M11)","v":""},{"$f":"IF(P_14号7様式!N11=\"\",\"\",P_14号7様式!N11)","v":""},null,null,{"$f":"IF(P_14号7様式!O11=\"\",\"\",P_14号7様式!O11)","v":""},null,null,{"$f":"IF(P_14号7様式!P11=\"\",\"\",P_14号7様式!P11)","v":""},{"$f":"IF(P_14号7様式!Q11=\"\",\"\",P_14号7様式!Q11)","v":""},{"$f":"IF(P_14号7様式!R11=\"\",\"\",P_14号7様式!R11)","v":""},{"$f":"IF(P_14号7様式!S11=\"\",\"\",P_14号7様式!S11)","v":""},{"$f":"IF(P_14号7様式!T11=\"\",\"\",P_14号7様式!T11)","v":""}]
[{"$f":"IF(P_14号7様式!C12=\"\",\"\",P_14号7様式!C12)","v":""},null,{"$f":"IF(P_14号7様式!D12=\"\",\"\",P_14号7様式!D12)","v":""},{"$f":"IF(P_14号7様式!E12=\"\",\"\",P_14号7様式!E12)","v":""},{"$f":"IF(P_14号7様式!F12=\"\",\"\",P_14号7様式!F12)","v":""},{"$f":"IF(P_14号7様式!G12=\"\",\"\",P_14号7様式!G12)","v":""},{"$f":"IF(P_14号7様式!H12=\"\",\"\",P_14号7様式!H12)","v":""},{"$f":"IF(P_14号7様式!I12=\"\",\"\",P_14号7様式!I12)","v":""},{"$f":"IF(P_14号7様式!J12=\"\",\"\",P_14号7様式!J12)","v":""},{"$f":"IF(P_14号7様式!K12=\"\",\"\",P_14号7様式!K12)","v":""},{"$f":"IF(P_14号7様式!L12=\"\",\"\",P_14号7様式!L12)","v":""},{"$f":"IF(P_14号7様式!M12=\"\",\"\",P_14号7様式!M12)","v":""},{"$f":"IF(P_14号7様式!N12=\"\",\"\",P_14号7様式!N12)","v":""},null,null,{"$f":"IF(P_14号7様式!O12=\"\",\"\",P_14号7様式!O12)","v":""},null,null,{"$f":"IF(P_14号7様式!P12=\"\",\"\",P_14号7様式!P12)","v":""},{"$f":"IF(P_14号7様式!Q12=\"\",\"\",P_14号7様式!Q12)","v":""},{"$f":"IF(P_14号7様式!R12=\"\",\"\",P_14号7様式!R12)","v":""},{"$f":"IF(P_14号7様式!S12=\"\",\"\",P_14号7様式!S12)","v":""},{"$f":"IF(P_14号7様式!T12=\"\",\"\",P_14号7様式!T12)","v":""}]
[{"$f":"IF(P_14号7様式!C13=\"\",\"\",P_14号7様式!C13)","v":""},null,{"$f":"IF(P_14号7様式!D13=\"\",\"\",P_14号7様式!D13)","v":""},{"$f":"IF(P_14号7様式!E13=\"\",\"\",P_14号7様式!E13)","v":""},{"$f":"IF(P_14号7様式!F13=\"\",\"\",P_14号7様式!F13)","v":""},{"$f":"IF(P_14号7様式!G13=\"\",\"\",P_14号7様式!G13)","v":""},{"$f":"IF(P_14号7様式!H13=\"\",\"\",P_14号7様式!H13)","v":""},{"$f":"IF(P_14号7様式!I13=\"\",\"\",P_14号7様式!I13)","v":""},{"$f":"IF(P_14号7様式!J13=\"\",\"\",P_14号7様式!J13)","v":""},{"$f":"IF(P_14号7様式!K13=\"\",\"\",P_14号7様式!K13)","v":""},{"$f":"IF(P_14号7様式!L13=\"\",\"\",P_14号7様式!L13)","v":""},{"$f":"IF(P_14号7様式!M13=\"\",\"\",P_14号7様式!M13)","v":""},{"$f":"IF(P_14号7様式!N13=\"\",\"\",P_14号7様式!N13)","v":""},null,null,{"$f":"IF(P_14号7様式!O13=\"\",\"\",P_14号7様式!O13)","v":""},null,null,{"$f":"IF(P_14号7様式!P13=\"\",\"\",P_14号7様式!P13)","v":""},{"$f":"IF(P_14号7様式!Q13=\"\",\"\",P_14号7様式!Q13)","v":""},{"$f":"IF(P_14号7様式!R13=\"\",\"\",P_14号7様式!R13)","v":""},{"$f":"IF(P_14号7様式!S13=\"\",\"\",P_14号7様式!S13)","v":""},{"$f":"IF(P_14号7様式!T13=\"\",\"\",P_14号7様式!T13)","v":""}]
[{"$f":"IF(P_14号7様式!C14=\"\",\"\",P_14号7様式!C14)","v":""},null,{"$f":"IF(P_14号7様式!D14=\"\",\"\",P_14号7様式!D14)","v":""},{"$f":"IF(P_14号7様式!E14=\"\",\"\",P_14号7様式!E14)","v":""},{"$f":"IF(P_14号7様式!F14=\"\",\"\",P_14号7様式!F14)","v":""},{"$f":"IF(P_14号7様式!G14=\"\",\"\",P_14号7様式!G14)","v":""},{"$f":"IF(P_14号7様式!H14=\"\",\"\",P_14号7様式!H14)","v":""},{"$f":"IF(P_14号7様式!I14=\"\",\"\",P_14号7様式!I14)","v":""},{"$f":"IF(P_14号7様式!J14=\"\",\"\",P_14号7様式!J14)","v":""},{"$f":"IF(P_14号7様式!K14=\"\",\"\",P_14号7様式!K14)","v":""},{"$f":"IF(P_14号7様式!L14=\"\",\"\",P_14号7様式!L14)","v":""},{"$f":"IF(P_14号7様式!M14=\"\",\"\",P_14号7様式!M14)","v":""},{"$f":"IF(P_14号7様式!N14=\"\",\"\",P_14号7様式!N14)","v":""},null,null,{"$f":"IF(P_14号7様式!O14=\"\",\"\",P_14号7様式!O14)","v":""},null,null,{"$f":"IF(P_14号7様式!P14=\"\",\"\",P_14号7様式!P14)","v":""},{"$f":"IF(P_14号7様式!Q14=\"\",\"\",P_14号7様式!Q14)","v":""},{"$f":"IF(P_14号7様式!R14=\"\",\"\",P_14号7様式!R14)","v":""},{"$f":"IF(P_14号7様式!S14=\"\",\"\",P_14号7様式!S14)","v":""},{"$f":"IF(P_14号7様式!T14=\"\",\"\",P_14号7様式!T14)","v":""}]
[{"$f":"IF(P_14号7様式!C15=\"\",\"\",P_14号7様式!C15)","v":""},null,{"$f":"IF(P_14号7様式!D15=\"\",\"\",P_14号7様式!D15)","v":""},{"$f":"IF(P_14号7様式!E15=\"\",\"\",P_14号7様式!E15)","v":""},{"$f":"IF(P_14号7様式!F15=\"\",\"\",P_14号7様式!F15)","v":""},{"$f":"IF(P_14号7様式!G15=\"\",\"\",P_14号7様式!G15)","v":""},{"$f":"IF(P_14号7様式!H15=\"\",\"\",P_14号7様式!H15)","v":""},{"$f":"IF(P_14号7様式!I15=\"\",\"\",P_14号7様式!I15)","v":""},{"$f":"IF(P_14号7様式!J15=\"\",\"\",P_14号7様式!J15)","v":""},{"$f":"IF(P_14号7様式!K15=\"\",\"\",P_14号7様式!K15)","v":""},{"$f":"IF(P_14号7様式!L15=\"\",\"\",P_14号7様式!L15)","v":""},{"$f":"IF(P_14号7様式!M15=\"\",\"\",P_14号7様式!M15)","v":""},{"$f":"IF(P_14号7様式!N15=\"\",\"\",P_14号7様式!N15)","v":""},null,null,{"$f":"IF(P_14号7様式!O15=\"\",\"\",P_14号7様式!O15)","v":""},null,null,{"$f":"IF(P_14号7様式!P15=\"\",\"\",P_14号7様式!P15)","v":""},{"$f":"IF(P_14号7様式!Q15=\"\",\"\",P_14号7様式!Q15)","v":""},{"$f":"IF(P_14号7様式!R15=\"\",\"\",P_14号7様式!R15)","v":""},{"$f":"IF(P_14号7様式!S15=\"\",\"\",P_14号7様式!S15)","v":""},{"$f":"IF(P_14号7様式!T15=\"\",\"\",P_14号7様式!T15)","v":""}]
[{"$f":"IF(P_14号7様式!C16=\"\",\"\",P_14号7様式!C16)","v":""},null,{"$f":"IF(P_14号7様式!D16=\"\",\"\",P_14号7様式!D16)","v":""},{"$f":"IF(P_14号7様式!E16=\"\",\"\",P_14号7様式!E16)","v":""},{"$f":"IF(P_14号7様式!F16=\"\",\"\",P_14号7様式!F16)","v":""},{"$f":"IF(P_14号7様式!G16=\"\",\"\",P_14号7様式!G16)","v":""},{"$f":"IF(P_14号7様式!H16=\"\",\"\",P_14号7様式!H16)","v":""},{"$f":"IF(P_14号7様式!I16=\"\",\"\",P_14号7様式!I16)","v":""},{"$f":"IF(P_14号7様式!J16=\"\",\"\",P_14号7様式!J16)","v":""},{"$f":"IF(P_14号7様式!K16=\"\",\"\",P_14号7様式!K16)","v":""},{"$f":"IF(P_14号7様式!L16=\"\",\"\",P_14号7様式!L16)","v":""},{"$f":"IF(P_14号7様式!M16=\"\",\"\",P_14号7様式!M16)","v":""},{"$f":"IF(P_14号7様式!N16=\"\",\"\",P_14号7様式!N16)","v":""},null,null,{"$f":"IF(P_14号7様式!O16=\"\",\"\",P_14号7様式!O16)","v":""},null,null,{"$f":"IF(P_14号7様式!P16=\"\",\"\",P_14号7様式!P16)","v":""},{"$f":"IF(P_14号7様式!Q16=\"\",\"\",P_14号7様式!Q16)","v":""},{"$f":"IF(P_14号7様式!R16=\"\",\"\",P_14号7様式!R16)","v":""},{"$f":"IF(P_14号7様式!S16=\"\",\"\",P_14号7様式!S16)","v":""},{"$f":"IF(P_14号7様式!T16=\"\",\"\",P_14号7様式!T16)","v":""}]
[{"$f":"IF(P_14号7様式!C17=\"\",\"\",P_14号7様式!C17)","v":""},null,{"$f":"IF(P_14号7様式!D17=\"\",\"\",P_14号7様式!D17)","v":""},{"$f":"IF(P_14号7様式!E17=\"\",\"\",P_14号7様式!E17)","v":""},{"$f":"IF(P_14号7様式!F17=\"\",\"\",P_14号7様式!F17)","v":""},{"$f":"IF(P_14号7様式!G17=\"\",\"\",P_14号7様式!G17)","v":""},{"$f":"IF(P_14号7様式!H17=\"\",\"\",P_14号7様式!H17)","v":""},{"$f":"IF(P_14号7様式!I17=\"\",\"\",P_14号7様式!I17)","v":""},{"$f":"IF(P_14号7様式!J17=\"\",\"\",P_14号7様式!J17)","v":""},{"$f":"IF(P_14号7様式!K17=\"\",\"\",P_14号7様式!K17)","v":""},{"$f":"IF(P_14号7様式!L17=\"\",\"\",P_14号7様式!L17)","v":""},{"$f":"IF(P_14号7様式!M17=\"\",\"\",P_14号7様式!M17)","v":""},{"$f":"IF(P_14号7様式!N17=\"\",\"\",P_14号7様式!N17)","v":""},null,null,{"$f":"IF(P_14号7様式!O17=\"\",\"\",P_14号7様式!O17)","v":""},null,null,{"$f":"IF(P_14号7様式!P17=\"\",\"\",P_14号7様式!P17)","v":""},{"$f":"IF(P_14号7様式!Q17=\"\",\"\",P_14号7様式!Q17)","v":""},{"$f":"IF(P_14号7様式!R17=\"\",\"\",P_14号7様式!R17)","v":""},{"$f":"IF(P_14号7様式!S17=\"\",\"\",P_14号7様式!S17)","v":""},{"$f":"IF(P_14号7様式!T17=\"\",\"\",P_14号7様式!T17)","v":""}]
[{"$f":"IF(P_14号7様式!C18=\"\",\"\",P_14号7様式!C18)","v":""},null,{"$f":"IF(P_14号7様式!D18=\"\",\"\",P_14号7様式!D18)","v":""},{"$f":"IF(P_14号7様式!E18=\"\",\"\",P_14号7様式!E18)","v":""},{"$f":"IF(P_14号7様式!F18=\"\",\"\",P_14号7様式!F18)","v":""},{"$f":"IF(P_14号7様式!G18=\"\",\"\",P_14号7様式!G18)","v":""},{"$f":"IF(P_14号7様式!H18=\"\",\"\",P_14号7様式!H18)","v":""},{"$f":"IF(P_14号7様式!I18=\"\",\"\",P_14号7様式!I18)","v":""},{"$f":"IF(P_14号7様式!J18=\"\",\"\",P_14号7様式!J18)","v":""},{"$f":"IF(P_14号7様式!K18=\"\",\"\",P_14号7様式!K18)","v":""},{"$f":"IF(P_14号7様式!L18=\"\",\"\",P_14号7様式!L18)","v":""},{"$f":"IF(P_14号7様式!M18=\"\",\"\",P_14号7様式!M18)","v":""},{"$f":"IF(P_14号7様式!N18=\"\",\"\",P_14号7様式!N18)","v":""},null,null,{"$f":"IF(P_14号7様式!O18=\"\",\"\",P_14号7様式!O18)","v":""},null,null,{"$f":"IF(P_14号7様式!P18=\"\",\"\",P_14号7様式!P18)","v":""},{"$f":"IF(P_14号7様式!Q18=\"\",\"\",P_14号7様式!Q18)","v":""},{"$f":"IF(P_14号7様式!R18=\"\",\"\",P_14号7様式!R18)","v":""},{"$f":"IF(P_14号7様式!S18=\"\",\"\",P_14号7様式!S18)","v":""},{"$f":"IF(P_14号7様式!T18=\"\",\"\",P_14号7様式!T18)","v":""}]
[{"$f":"IF(P_14号7様式!C19=\"\",\"\",P_14号7様式!C19)","v":""},null,{"$f":"IF(P_14号7様式!D19=\"\",\"\",P_14号7様式!D19)","v":""},{"$f":"IF(P_14号7様式!E19=\"\",\"\",P_14号7様式!E19)","v":""},{"$f":"IF(P_14号7様式!F19=\"\",\"\",P_14号7様式!F19)","v":""},{"$f":"IF(P_14号7様式!G19=\"\",\"\",P_14号7様式!G19)","v":""},{"$f":"IF(P_14号7様式!H19=\"\",\"\",P_14号7様式!H19)","v":""},{"$f":"IF(P_14号7様式!I19=\"\",\"\",P_14号7様式!I19)","v":""},{"$f":"IF(P_14号7様式!J19=\"\",\"\",P_14号7様式!J19)","v":""},{"$f":"IF(P_14号7様式!K19=\"\",\"\",P_14号7様式!K19)","v":""},{"$f":"IF(P_14号7様式!L19=\"\",\"\",P_14号7様式!L19)","v":""},{"$f":"IF(P_14号7様式!M19=\"\",\"\",P_14号7様式!M19)","v":""},{"$f":"IF(P_14号7様式!N19=\"\",\"\",P_14号7様式!N19)","v":""},null,null,{"$f":"IF(P_14号7様式!O19=\"\",\"\",P_14号7様式!O19)","v":""},null,null,{"$f":"IF(P_14号7様式!P19=\"\",\"\",P_14号7様式!P19)","v":""},{"$f":"IF(P_14号7様式!Q19=\"\",\"\",P_14号7様式!Q19)","v":""},{"$f":"IF(P_14号7様式!R19=\"\",\"\",P_14号7様式!R19)","v":""},{"$f":"IF(P_14号7様式!S19=\"\",\"\",P_14号7様式!S19)","v":""},{"$f":"IF(P_14号7様式!T19=\"\",\"\",P_14号7様式!T19)","v":""}]
[{"$f":"IF(P_14号7様式!C20=\"\",\"\",P_14号7様式!C20)","v":""},null,{"$f":"IF(P_14号7様式!D20=\"\",\"\",P_14号7様式!D20)","v":""},{"$f":"IF(P_14号7様式!E20=\"\",\"\",P_14号7様式!E20)","v":""},{"$f":"IF(P_14号7様式!F20=\"\",\"\",P_14号7様式!F20)","v":""},{"$f":"IF(P_14号7様式!G20=\"\",\"\",P_14号7様式!G20)","v":""},{"$f":"IF(P_14号7様式!H20=\"\",\"\",P_14号7様式!H20)","v":""},{"$f":"IF(P_14号7様式!I20=\"\",\"\",P_14号7様式!I20)","v":""},{"$f":"IF(P_14号7様式!J20=\"\",\"\",P_14号7様式!J20)","v":""},{"$f":"IF(P_14号7様式!K20=\"\",\"\",P_14号7様式!K20)","v":""},{"$f":"IF(P_14号7様式!L20=\"\",\"\",P_14号7様式!L20)","v":""},{"$f":"IF(P_14号7様式!M20=\"\",\"\",P_14号7様式!M20)","v":""},{"$f":"IF(P_14号7様式!N20=\"\",\"\",P_14号7様式!N20)","v":""},null,null,{"$f":"IF(P_14号7様式!O20=\"\",\"\",P_14号7様式!O20)","v":""},null,null,{"$f":"IF(P_14号7様式!P20=\"\",\"\",P_14号7様式!P20)","v":""},{"$f":"IF(P_14号7様式!Q20=\"\",\"\",P_14号7様式!Q20)","v":""},{"$f":"IF(P_14号7様式!R20=\"\",\"\",P_14号7様式!R20)","v":""},{"$f":"IF(P_14号7様式!S20=\"\",\"\",P_14号7様式!S20)","v":""},{"$f":"IF(P_14号7様式!T20=\"\",\"\",P_14号7様式!T20)","v":""}]
[{"$f":"IF(P_14号7様式!C21=\"\",\"\",P_14号7様式!C21)","v":""},null,{"$f":"IF(P_14号7様式!D21=\"\",\"\",P_14号7様式!D21)","v":""},{"$f":"IF(P_14号7様式!E21=\"\",\"\",P_14号7様式!E21)","v":""},{"$f":"IF(P_14号7様式!F21=\"\",\"\",P_14号7様式!F21)","v":""},{"$f":"IF(P_14号7様式!G21=\"\",\"\",P_14号7様式!G21)","v":""},{"$f":"IF(P_14号7様式!H21=\"\",\"\",P_14号7様式!H21)","v":""},{"$f":"IF(P_14号7様式!I21=\"\",\"\",P_14号7様式!I21)","v":""},{"$f":"IF(P_14号7様式!J21=\"\",\"\",P_14号7様式!J21)","v":""},{"$f":"IF(P_14号7様式!K21=\"\",\"\",P_14号7様式!K21)","v":""},{"$f":"IF(P_14号7様式!L21=\"\",\"\",P_14号7様式!L21)","v":""},{"$f":"IF(P_14号7様式!M21=\"\",\"\",P_14号7様式!M21)","v":""},{"$f":"IF(P_14号7様式!N21=\"\",\"\",P_14号7様式!N21)","v":""},null,null,{"$f":"IF(P_14号7様式!O21=\"\",\"\",P_14号7様式!O21)","v":""},null,null,{"$f":"IF(P_14号7様式!P21=\"\",\"\",P_14号7様式!P21)","v":""},{"$f":"IF(P_14号7様式!Q21=\"\",\"\",P_14号7様式!Q21)","v":""},{"$f":"IF(P_14号7様式!R21=\"\",\"\",P_14号7様式!R21)","v":""},{"$f":"IF(P_14号7様式!S21=\"\",\"\",P_14号7様式!S21)","v":""},{"$f":"IF(P_14号7様式!T21=\"\",\"\",P_14号7様式!T21)","v":""}]
[{"$f":"IF(P_14号7様式!C22=\"\",\"\",P_14号7様式!C22)","v":""},null,{"$f":"IF(P_14号7様式!D22=\"\",\"\",P_14号7様式!D22)","v":""},{"$f":"IF(P_14号7様式!E22=\"\",\"\",P_14号7様式!E22)","v":""},{"$f":"IF(P_14号7様式!F22=\"\",\"\",P_14号7様式!F22)","v":""},{"$f":"IF(P_14号7様式!G22=\"\",\"\",P_14号7様式!G22)","v":""},{"$f":"IF(P_14号7様式!H22=\"\",\"\",P_14号7様式!H22)","v":""},{"$f":"IF(P_14号7様式!I22=\"\",\"\",P_14号7様式!I22)","v":""},{"$f":"IF(P_14号7様式!J22=\"\",\"\",P_14号7様式!J22)","v":""},{"$f":"IF(P_14号7様式!K22=\"\",\"\",P_14号7様式!K22)","v":""},{"$f":"IF(P_14号7様式!L22=\"\",\"\",P_14号7様式!L22)","v":""},{"$f":"IF(P_14号7様式!M22=\"\",\"\",P_14号7様式!M22)","v":""},{"$f":"IF(P_14号7様式!N22=\"\",\"\",P_14号7様式!N22)","v":""},null,null,{"$f":"IF(P_14号7様式!O22=\"\",\"\",P_14号7様式!O22)","v":""},null,null,{"$f":"IF(P_14号7様式!P22=\"\",\"\",P_14号7様式!P22)","v":""},{"$f":"IF(P_14号7様式!Q22=\"\",\"\",P_14号7様式!Q22)","v":""},{"$f":"IF(P_14号7様式!R22=\"\",\"\",P_14号7様式!R22)","v":""},{"$f":"IF(P_14号7様式!S22=\"\",\"\",P_14号7様式!S22)","v":""},{"$f":"IF(P_14号7様式!T22=\"\",\"\",P_14号7様式!T22)","v":""}]
[{"$f":"IF(P_14号7様式!C23=\"\",\"\",P_14号7様式!C23)","v":""},null,{"$f":"IF(P_14号7様式!D23=\"\",\"\",P_14号7様式!D23)","v":""},{"$f":"IF(P_14号7様式!E23=\"\",\"\",P_14号7様式!E23)","v":""},{"$f":"IF(P_14号7様式!F23=\"\",\"\",P_14号7様式!F23)","v":""},{"$f":"IF(P_14号7様式!G23=\"\",\"\",P_14号7様式!G23)","v":""},{"$f":"IF(P_14号7様式!H23=\"\",\"\",P_14号7様式!H23)","v":""},{"$f":"IF(P_14号7様式!I23=\"\",\"\",P_14号7様式!I23)","v":""},{"$f":"IF(P_14号7様式!J23=\"\",\"\",P_14号7様式!J23)","v":""},{"$f":"IF(P_14号7様式!K23=\"\",\"\",P_14号7様式!K23)","v":""},{"$f":"IF(P_14号7様式!L23=\"\",\"\",P_14号7様式!L23)","v":""},{"$f":"IF(P_14号7様式!M23=\"\",\"\",P_14号7様式!M23)","v":""},{"$f":"IF(P_14号7様式!N23=\"\",\"\",P_14号7様式!N23)","v":""},null,null,{"$f":"IF(P_14号7様式!O23=\"\",\"\",P_14号7様式!O23)","v":""},null,null,{"$f":"IF(P_14号7様式!P23=\"\",\"\",P_14号7様式!P23)","v":""},{"$f":"IF(P_14号7様式!Q23=\"\",\"\",P_14号7様式!Q23)","v":""},{"$f":"IF(P_14号7様式!R23=\"\",\"\",P_14号7様式!R23)","v":""},{"$f":"IF(P_14号7様式!S23=\"\",\"\",P_14号7様式!S23)","v":""},{"$f":"IF(P_14号7様式!T23=\"\",\"\",P_14号7様式!T23)","v":""}]
[{"$f":"IF(P_14号7様式!C24=\"\",\"\",P_14号7様式!C24)","v":""},null,{"$f":"IF(P_14号7様式!D24=\"\",\"\",P_14号7様式!D24)","v":""},{"$f":"IF(P_14号7様式!E24=\"\",\"\",P_14号7様式!E24)","v":""},{"$f":"IF(P_14号7様式!F24=\"\",\"\",P_14号7様式!F24)","v":""},{"$f":"IF(P_14号7様式!G24=\"\",\"\",P_14号7様式!G24)","v":""},{"$f":"IF(P_14号7様式!H24=\"\",\"\",P_14号7様式!H24)","v":""},{"$f":"IF(P_14号7様式!I24=\"\",\"\",P_14号7様式!I24)","v":""},{"$f":"IF(P_14号7様式!J24=\"\",\"\",P_14号7様式!J24)","v":""},{"$f":"IF(P_14号7様式!K24=\"\",\"\",P_14号7様式!K24)","v":""},{"$f":"IF(P_14号7様式!L24=\"\",\"\",P_14号7様式!L24)","v":""},{"$f":"IF(P_14号7様式!M24=\"\",\"\",P_14号7様式!M24)","v":""},{"$f":"IF(P_14号7様式!N24=\"\",\"\",P_14号7様式!N24)","v":""},null,null,{"$f":"IF(P_14号7様式!O24=\"\",\"\",P_14号7様式!O24)","v":""},null,null,{"$f":"IF(P_14号7様式!P24=\"\",\"\",P_14号7様式!P24)","v":""},{"$f":"IF(P_14号7様式!Q24=\"\",\"\",P_14号7様式!Q24)","v":""},{"$f":"IF(P_14号7様式!R24=\"\",\"\",P_14号7様式!R24)","v":""},{"$f":"IF(P_14号7様式!S24=\"\",\"\",P_14号7様式!S24)","v":""},{"$f":"IF(P_14号7様式!T24=\"\",\"\",P_14号7様式!T24)","v":""}]
[{"$f":"IF(P_14号7様式!C25=\"\",\"\",P_14号7様式!C25)","v":""},null,{"$f":"IF(P_14号7様式!D25=\"\",\"\",P_14号7様式!D25)","v":""},{"$f":"IF(P_14号7様式!E25=\"\",\"\",P_14号7様式!E25)","v":""},{"$f":"IF(P_14号7様式!F25=\"\",\"\",P_14号7様式!F25)","v":""},{"$f":"IF(P_14号7様式!G25=\"\",\"\",P_14号7様式!G25)","v":""},{"$f":"IF(P_14号7様式!H25=\"\",\"\",P_14号7様式!H25)","v":""},{"$f":"IF(P_14号7様式!I25=\"\",\"\",P_14号7様式!I25)","v":""},{"$f":"IF(P_14号7様式!J25=\"\",\"\",P_14号7様式!J25)","v":""},{"$f":"IF(P_14号7様式!K25=\"\",\"\",P_14号7様式!K25)","v":""},{"$f":"IF(P_14号7様式!L25=\"\",\"\",P_14号7様式!L25)","v":""},{"$f":"IF(P_14号7様式!M25=\"\",\"\",P_14号7様式!M25)","v":""},{"$f":"IF(P_14号7様式!N25=\"\",\"\",P_14号7様式!N25)","v":""},null,null,{"$f":"IF(P_14号7様式!O25=\"\",\"\",P_14号7様式!O25)","v":""},null,null,{"$f":"IF(P_14号7様式!P25=\"\",\"\",P_14号7様式!P25)","v":""},{"$f":"IF(P_14号7様式!Q25=\"\",\"\",P_14号7様式!Q25)","v":""},{"$f":"IF(P_14号7様式!R25=\"\",\"\",P_14号7様式!R25)","v":""},{"$f":"IF(P_14号7様式!S25=\"\",\"\",P_14号7様式!S25)","v":""},{"$f":"IF(P_14号7様式!T25=\"\",\"\",P_14号7様式!T25)","v":""}]
[{"$f":"IF(P_14号7様式!C26=\"\",\"\",P_14号7様式!C26)","v":""},null,{"$f":"IF(P_14号7様式!D26=\"\",\"\",P_14号7様式!D26)","v":""},{"$f":"IF(P_14号7様式!E26=\"\",\"\",P_14号7様式!E26)","v":""},{"$f":"IF(P_14号7様式!F26=\"\",\"\",P_14号7様式!F26)","v":""},{"$f":"IF(P_14号7様式!G26=\"\",\"\",P_14号7様式!G26)","v":""},{"$f":"IF(P_14号7様式!H26=\"\",\"\",P_14号7様式!H26)","v":""},{"$f":"IF(P_14号7様式!I26=\"\",\"\",P_14号7様式!I26)","v":""},{"$f":"IF(P_14号7様式!J26=\"\",\"\",P_14号7様式!J26)","v":""},{"$f":"IF(P_14号7様式!K26=\"\",\"\",P_14号7様式!K26)","v":""},{"$f":"IF(P_14号7様式!L26=\"\",\"\",P_14号7様式!L26)","v":""},{"$f":"IF(P_14号7様式!M26=\"\",\"\",P_14号7様式!M26)","v":""},{"$f":"IF(P_14号7様式!N26=\"\",\"\",P_14号7様式!N26)","v":""},null,null,{"$f":"IF(P_14号7様式!O26=\"\",\"\",P_14号7様式!O26)","v":""},null,null,{"$f":"IF(P_14号7様式!P26=\"\",\"\",P_14号7様式!P26)","v":""},{"$f":"IF(P_14号7様式!Q26=\"\",\"\",P_14号7様式!Q26)","v":""},{"$f":"IF(P_14号7様式!R26=\"\",\"\",P_14号7様式!R26)","v":""},{"$f":"IF(P_14号7様式!S26=\"\",\"\",P_14号7様式!S26)","v":""},{"$f":"IF(P_14号7様式!T26=\"\",\"\",P_14号7様式!T26)","v":""}]
[{"$f":"IF(P_14号7様式!C27=\"\",\"\",P_14号7様式!C27)","v":""},null,{"$f":"IF(P_14号7様式!D27=\"\",\"\",P_14号7様式!D27)","v":""},{"$f":"IF(P_14号7様式!E27=\"\",\"\",P_14号7様式!E27)","v":""},{"$f":"IF(P_14号7様式!F27=\"\",\"\",P_14号7様式!F27)","v":""},{"$f":"IF(P_14号7様式!G27=\"\",\"\",P_14号7様式!G27)","v":""},{"$f":"IF(P_14号7様式!H27=\"\",\"\",P_14号7様式!H27)","v":""},{"$f":"IF(P_14号7様式!I27=\"\",\"\",P_14号7様式!I27)","v":""},{"$f":"IF(P_14号7様式!J27=\"\",\"\",P_14号7様式!J27)","v":""},{"$f":"IF(P_14号7様式!K27=\"\",\"\",P_14号7様式!K27)","v":""},{"$f":"IF(P_14号7様式!L27=\"\",\"\",P_14号7様式!L27)","v":""},{"$f":"IF(P_14号7様式!M27=\"\",\"\",P_14号7様式!M27)","v":""},{"$f":"IF(P_14号7様式!N27=\"\",\"\",P_14号7様式!N27)","v":""},null,null,{"$f":"IF(P_14号7様式!O27=\"\",\"\",P_14号7様式!O27)","v":""},null,null,{"$f":"IF(P_14号7様式!P27=\"\",\"\",P_14号7様式!P27)","v":""},{"$f":"IF(P_14号7様式!Q27=\"\",\"\",P_14号7様式!Q27)","v":""},{"$f":"IF(P_14号7様式!R27=\"\",\"\",P_14号7様式!R27)","v":""},{"$f":"IF(P_14号7様式!S27=\"\",\"\",P_14号7様式!S27)","v":""},{"$f":"IF(P_14号7様式!T27=\"\",\"\",P_14号7様式!T27)","v":""}]
[{"$f":"IF(P_14号7様式!C28=\"\",\"\",P_14号7様式!C28)","v":""},null,{"$f":"IF(P_14号7様式!D28=\"\",\"\",P_14号7様式!D28)","v":""},{"$f":"IF(P_14号7様式!E28=\"\",\"\",P_14号7様式!E28)","v":""},{"$f":"IF(P_14号7様式!F28=\"\",\"\",P_14号7様式!F28)","v":""},{"$f":"IF(P_14号7様式!G28=\"\",\"\",P_14号7様式!G28)","v":""},{"$f":"IF(P_14号7様式!H28=\"\",\"\",P_14号7様式!H28)","v":""},{"$f":"IF(P_14号7様式!I28=\"\",\"\",P_14号7様式!I28)","v":""},{"$f":"IF(P_14号7様式!J28=\"\",\"\",P_14号7様式!J28)","v":""},{"$f":"IF(P_14号7様式!K28=\"\",\"\",P_14号7様式!K28)","v":""},{"$f":"IF(P_14号7様式!L28=\"\",\"\",P_14号7様式!L28)","v":""},{"$f":"IF(P_14号7様式!M28=\"\",\"\",P_14号7様式!M28)","v":""},{"$f":"IF(P_14号7様式!N28=\"\",\"\",P_14号7様式!N28)","v":""},null,null,{"$f":"IF(P_14号7様式!O28=\"\",\"\",P_14号7様式!O28)","v":""},null,null,{"$f":"IF(P_14号7様式!P28=\"\",\"\",P_14号7様式!P28)","v":""},{"$f":"IF(P_14号7様式!Q28=\"\",\"\",P_14号7様式!Q28)","v":""},{"$f":"IF(P_14号7様式!R28=\"\",\"\",P_14号7様式!R28)","v":""},{"$f":"IF(P_14号7様式!S28=\"\",\"\",P_14号7様式!S28)","v":""},{"$f":"IF(P_14号7様式!T28=\"\",\"\",P_14号7様式!T28)","v":""}]
[{"$f":"IF(P_14号7様式!C29=\"\",\"\",P_14号7様式!C29)","v":""},null,{"$f":"IF(P_14号7様式!D29=\"\",\"\",P_14号7様式!D29)","v":""},{"$f":"IF(P_14号7様式!E29=\"\",\"\",P_14号7様式!E29)","v":""},{"$f":"IF(P_14号7様式!F29=\"\",\"\",P_14号7様式!F29)","v":""},{"$f":"IF(P_14号7様式!G29=\"\",\"\",P_14号7様式!G29)","v":""},{"$f":"IF(P_14号7様式!H29=\"\",\"\",P_14号7様式!H29)","v":""},{"$f":"IF(P_14号7様式!I29=\"\",\"\",P_14号7様式!I29)","v":""},{"$f":"IF(P_14号7様式!J29=\"\",\"\",P_14号7様式!J29)","v":""},{"$f":"IF(P_14号7様式!K29=\"\",\"\",P_14号7様式!K29)","v":""},{"$f":"IF(P_14号7様式!L29=\"\",\"\",P_14号7様式!L29)","v":""},{"$f":"IF(P_14号7様式!M29=\"\",\"\",P_14号7様式!M29)","v":""},{"$f":"IF(P_14号7様式!N29=\"\",\"\",P_14号7様式!N29)","v":""},null,null,{"$f":"IF(P_14号7様式!O29=\"\",\"\",P_14号7様式!O29)","v":""},null,null,{"$f":"IF(P_14号7様式!P29=\"\",\"\",P_14号7様式!P29)","v":""},{"$f":"IF(P_14号7様式!Q29=\"\",\"\",P_14号7様式!Q29)","v":""},{"$f":"IF(P_14号7様式!R29=\"\",\"\",P_14号7様式!R29)","v":""},{"$f":"IF(P_14号7様式!S29=\"\",\"\",P_14号7様式!S29)","v":""},{"$f":"IF(P_14号7様式!T29=\"\",\"\",P_14号7様式!T29)","v":""}]
[{"$f":"IF(P_14号7様式!C30=\"\",\"\",P_14号7様式!C30)","v":""},null,{"$f":"IF(P_14号7様式!D30=\"\",\"\",P_14号7様式!D30)","v":""},{"$f":"IF(P_14号7様式!E30=\"\",\"\",P_14号7様式!E30)","v":""},{"$f":"IF(P_14号7様式!F30=\"\",\"\",P_14号7様式!F30)","v":""},{"$f":"IF(P_14号7様式!G30=\"\",\"\",P_14号7様式!G30)","v":""},{"$f":"IF(P_14号7様式!H30=\"\",\"\",P_14号7様式!H30)","v":""},{"$f":"IF(P_14号7様式!I30=\"\",\"\",P_14号7様式!I30)","v":""},{"$f":"IF(P_14号7様式!J30=\"\",\"\",P_14号7様式!J30)","v":""},{"$f":"IF(P_14号7様式!K30=\"\",\"\",P_14号7様式!K30)","v":""},{"$f":"IF(P_14号7様式!L30=\"\",\"\",P_14号7様式!L30)","v":""},{"$f":"IF(P_14号7様式!M30=\"\",\"\",P_14号7様式!M30)","v":""},{"$f":"IF(P_14号7様式!N30=\"\",\"\",P_14号7様式!N30)","v":""},null,null,{"$f":"IF(P_14号7様式!O30=\"\",\"\",P_14号7様式!O30)","v":""},null,null,{"$f":"IF(P_14号7様式!P30=\"\",\"\",P_14号7様式!P30)","v":""},{"$f":"IF(P_14号7様式!Q30=\"\",\"\",P_14号7様式!Q30)","v":""},{"$f":"IF(P_14号7様式!R30=\"\",\"\",P_14号7様式!R30)","v":""},{"$f":"IF(P_14号7様式!S30=\"\",\"\",P_14号7様式!S30)","v":""},{"$f":"IF(P_14号7様式!T30=\"\",\"\",P_14号7様式!T30)","v":""}]
[{"$f":"IF(P_14号7様式!C31=\"\",\"\",P_14号7様式!C31)","v":""},null,{"$f":"IF(P_14号7様式!D31=\"\",\"\",P_14号7様式!D31)","v":""},{"$f":"IF(P_14号7様式!E31=\"\",\"\",P_14号7様式!E31)","v":""},{"$f":"IF(P_14号7様式!F31=\"\",\"\",P_14号7様式!F31)","v":""},{"$f":"IF(P_14号7様式!G31=\"\",\"\",P_14号7様式!G31)","v":""},{"$f":"IF(P_14号7様式!H31=\"\",\"\",P_14号7様式!H31)","v":""},{"$f":"IF(P_14号7様式!I31=\"\",\"\",P_14号7様式!I31)","v":""},{"$f":"IF(P_14号7様式!J31=\"\",\"\",P_14号7様式!J31)","v":""},{"$f":"IF(P_14号7様式!K31=\"\",\"\",P_14号7様式!K31)","v":""},{"$f":"IF(P_14号7様式!L31=\"\",\"\",P_14号7様式!L31)","v":""},{"$f":"IF(P_14号7様式!M31=\"\",\"\",P_14号7様式!M31)","v":""},{"$f":"IF(P_14号7様式!N31=\"\",\"\",P_14号7様式!N31)","v":""},null,null,{"$f":"IF(P_14号7様式!O31=\"\",\"\",P_14号7様式!O31)","v":""},null,null,{"$f":"IF(P_14号7様式!P31=\"\",\"\",P_14号7様式!P31)","v":""},{"$f":"IF(P_14号7様式!Q31=\"\",\"\",P_14号7様式!Q31)","v":""},{"$f":"IF(P_14号7様式!R31=\"\",\"\",P_14号7様式!R31)","v":""},{"$f":"IF(P_14号7様式!S31=\"\",\"\",P_14号7様式!S31)","v":""},{"$f":"IF(P_14号7様式!T31=\"\",\"\",P_14号7様式!T31)","v":""}]
[{"$f":"IF(P_14号7様式!C32=\"\",\"\",P_14号7様式!C32)","v":""},null,{"$f":"IF(P_14号7様式!D32=\"\",\"\",P_14号7様式!D32)","v":""},{"$f":"IF(P_14号7様式!E32=\"\",\"\",P_14号7様式!E32)","v":""},{"$f":"IF(P_14号7様式!F32=\"\",\"\",P_14号7様式!F32)","v":""},{"$f":"IF(P_14号7様式!G32=\"\",\"\",P_14号7様式!G32)","v":""},{"$f":"IF(P_14号7様式!H32=\"\",\"\",P_14号7様式!H32)","v":""},{"$f":"IF(P_14号7様式!I32=\"\",\"\",P_14号7様式!I32)","v":""},{"$f":"IF(P_14号7様式!J32=\"\",\"\",P_14号7様式!J32)","v":""},{"$f":"IF(P_14号7様式!K32=\"\",\"\",P_14号7様式!K32)","v":""},{"$f":"IF(P_14号7様式!L32=\"\",\"\",P_14号7様式!L32)","v":""},{"$f":"IF(P_14号7様式!M32=\"\",\"\",P_14号7様式!M32)","v":""},{"$f":"IF(P_14号7様式!N32=\"\",\"\",P_14号7様式!N32)","v":""},null,null,{"$f":"IF(P_14号7様式!O32=\"\",\"\",P_14号7様式!O32)","v":""},null,null,{"$f":"IF(P_14号7様式!P32=\"\",\"\",P_14号7様式!P32)","v":""},{"$f":"IF(P_14号7様式!Q32=\"\",\"\",P_14号7様式!Q32)","v":""},{"$f":"IF(P_14号7様式!R32=\"\",\"\",P_14号7様式!R32)","v":""},{"$f":"IF(P_14号7様式!S32=\"\",\"\",P_14号7様式!S32)","v":""},{"$f":"IF(P_14号7様式!T32=\"\",\"\",P_14号7様式!T32)","v":""}]
[{"$f":"IF(P_14号7様式!C33=\"\",\"\",P_14号7様式!C33)","v":""},null,{"$f":"IF(P_14号7様式!D33=\"\",\"\",P_14号7様式!D33)","v":""},{"$f":"IF(P_14号7様式!E33=\"\",\"\",P_14号7様式!E33)","v":""},{"$f":"IF(P_14号7様式!F33=\"\",\"\",P_14号7様式!F33)","v":""},{"$f":"IF(P_14号7様式!G33=\"\",\"\",P_14号7様式!G33)","v":""},{"$f":"IF(P_14号7様式!H33=\"\",\"\",P_14号7様式!H33)","v":""},{"$f":"IF(P_14号7様式!I33=\"\",\"\",P_14号7様式!I33)","v":""},{"$f":"IF(P_14号7様式!J33=\"\",\"\",P_14号7様式!J33)","v":""},{"$f":"IF(P_14号7様式!K33=\"\",\"\",P_14号7様式!K33)","v":""},{"$f":"IF(P_14号7様式!L33=\"\",\"\",P_14号7様式!L33)","v":""},{"$f":"IF(P_14号7様式!M33=\"\",\"\",P_14号7様式!M33)","v":""},{"$f":"IF(P_14号7様式!N33=\"\",\"\",P_14号7様式!N33)","v":""},null,null,{"$f":"IF(P_14号7様式!O33=\"\",\"\",P_14号7様式!O33)","v":""},null,null,{"$f":"IF(P_14号7様式!P33=\"\",\"\",P_14号7様式!P33)","v":""},{"$f":"IF(P_14号7様式!Q33=\"\",\"\",P_14号7様式!Q33)","v":""},{"$f":"IF(P_14号7様式!R33=\"\",\"\",P_14号7様式!R33)","v":""},{"$f":"IF(P_14号7様式!S33=\"\",\"\",P_14号7様式!S33)","v":""},{"$f":"IF(P_14号7様式!T33=\"\",\"\",P_14号7様式!T33)","v":""}]
[{"$f":"IF(P_14号7様式!C34=\"\",\"\",P_14号7様式!C34)","v":""},null,{"$f":"IF(P_14号7様式!D34=\"\",\"\",P_14号7様式!D34)","v":""},{"$f":"IF(P_14号7様式!E34=\"\",\"\",P_14号7様式!E34)","v":""},{"$f":"IF(P_14号7様式!F34=\"\",\"\",P_14号7様式!F34)","v":""},{"$f":"IF(P_14号7様式!G34=\"\",\"\",P_14号7様式!G34)","v":""},{"$f":"IF(P_14号7様式!H34=\"\",\"\",P_14号7様式!H34)","v":""},{"$f":"IF(P_14号7様式!I34=\"\",\"\",P_14号7様式!I34)","v":""},{"$f":"IF(P_14号7様式!J34=\"\",\"\",P_14号7様式!J34)","v":""},{"$f":"IF(P_14号7様式!K34=\"\",\"\",P_14号7様式!K34)","v":""},{"$f":"IF(P_14号7様式!L34=\"\",\"\",P_14号7様式!L34)","v":""},{"$f":"IF(P_14号7様式!M34=\"\",\"\",P_14号7様式!M34)","v":""},{"$f":"IF(P_14号7様式!N34=\"\",\"\",P_14号7様式!N34)","v":""},null,null,{"$f":"IF(P_14号7様式!O34=\"\",\"\",P_14号7様式!O34)","v":""},null,null,{"$f":"IF(P_14号7様式!P34=\"\",\"\",P_14号7様式!P34)","v":""},{"$f":"IF(P_14号7様式!Q34=\"\",\"\",P_14号7様式!Q34)","v":""},{"$f":"IF(P_14号7様式!R34=\"\",\"\",P_14号7様式!R34)","v":""},{"$f":"IF(P_14号7様式!S34=\"\",\"\",P_14号7様式!S34)","v":""},{"$f":"IF(P_14号7様式!T34=\"\",\"\",P_14号7様式!T34)","v":""}]
[{"$f":"IF(P_14号7様式!C35=\"\",\"\",P_14号7様式!C35)","v":""},null,{"$f":"IF(P_14号7様式!D35=\"\",\"\",P_14号7様式!D35)","v":""},{"$f":"IF(P_14号7様式!E35=\"\",\"\",P_14号7様式!E35)","v":""},{"$f":"IF(P_14号7様式!F35=\"\",\"\",P_14号7様式!F35)","v":""},{"$f":"IF(P_14号7様式!G35=\"\",\"\",P_14号7様式!G35)","v":""},{"$f":"IF(P_14号7様式!H35=\"\",\"\",P_14号7様式!H35)","v":""},{"$f":"IF(P_14号7様式!I35=\"\",\"\",P_14号7様式!I35)","v":""},{"$f":"IF(P_14号7様式!J35=\"\",\"\",P_14号7様式!J35)","v":""},{"$f":"IF(P_14号7様式!K35=\"\",\"\",P_14号7様式!K35)","v":""},{"$f":"IF(P_14号7様式!L35=\"\",\"\",P_14号7様式!L35)","v":""},{"$f":"IF(P_14号7様式!M35=\"\",\"\",P_14号7様式!M35)","v":""},{"$f":"IF(P_14号7様式!N35=\"\",\"\",P_14号7様式!N35)","v":""},null,null,{"$f":"IF(P_14号7様式!O35=\"\",\"\",P_14号7様式!O35)","v":""},null,null,{"$f":"IF(P_14号7様式!P35=\"\",\"\",P_14号7様式!P35)","v":""},{"$f":"IF(P_14号7様式!Q35=\"\",\"\",P_14号7様式!Q35)","v":""},{"$f":"IF(P_14号7様式!R35=\"\",\"\",P_14号7様式!R35)","v":""},{"$f":"IF(P_14号7様式!S35=\"\",\"\",P_14号7様式!S35)","v":""},{"$f":"IF(P_14号7様式!T35=\"\",\"\",P_14号7様式!T35)","v":""}]
[{"$f":"IF(P_14号7様式!C36=\"\",\"\",P_14号7様式!C36)","v":""},null,{"$f":"IF(P_14号7様式!D36=\"\",\"\",P_14号7様式!D36)","v":""},{"$f":"IF(P_14号7様式!E36=\"\",\"\",P_14号7様式!E36)","v":""},{"$f":"IF(P_14号7様式!F36=\"\",\"\",P_14号7様式!F36)","v":""},{"$f":"IF(P_14号7様式!G36=\"\",\"\",P_14号7様式!G36)","v":""},{"$f":"IF(P_14号7様式!H36=\"\",\"\",P_14号7様式!H36)","v":""},{"$f":"IF(P_14号7様式!I36=\"\",\"\",P_14号7様式!I36)","v":""},{"$f":"IF(P_14号7様式!J36=\"\",\"\",P_14号7様式!J36)","v":""},{"$f":"IF(P_14号7様式!K36=\"\",\"\",P_14号7様式!K36)","v":""},{"$f":"IF(P_14号7様式!L36=\"\",\"\",P_14号7様式!L36)","v":""},{"$f":"IF(P_14号7様式!M36=\"\",\"\",P_14号7様式!M36)","v":""},{"$f":"IF(P_14号7様式!N36=\"\",\"\",P_14号7様式!N36)","v":""},null,null,{"$f":"IF(P_14号7様式!O36=\"\",\"\",P_14号7様式!O36)","v":""},null,null,{"$f":"IF(P_14号7様式!P36=\"\",\"\",P_14号7様式!P36)","v":""},{"$f":"IF(P_14号7様式!Q36=\"\",\"\",P_14号7様式!Q36)","v":""},{"$f":"IF(P_14号7様式!R36=\"\",\"\",P_14号7様式!R36)","v":""},{"$f":"IF(P_14号7様式!S36=\"\",\"\",P_14号7様式!S36)","v":""},{"$f":"IF(P_14号7様式!T36=\"\",\"\",P_14号7様式!T36)","v":""}]
[{"$f":"IF(P_14号7様式!C37=\"\",\"\",P_14号7様式!C37)","v":""},null,{"$f":"IF(P_14号7様式!D37=\"\",\"\",P_14号7様式!D37)","v":""},{"$f":"IF(P_14号7様式!E37=\"\",\"\",P_14号7様式!E37)","v":""},{"$f":"IF(P_14号7様式!F37=\"\",\"\",P_14号7様式!F37)","v":""},{"$f":"IF(P_14号7様式!G37=\"\",\"\",P_14号7様式!G37)","v":""},{"$f":"IF(P_14号7様式!H37=\"\",\"\",P_14号7様式!H37)","v":""},{"$f":"IF(P_14号7様式!I37=\"\",\"\",P_14号7様式!I37)","v":""},{"$f":"IF(P_14号7様式!J37=\"\",\"\",P_14号7様式!J37)","v":""},{"$f":"IF(P_14号7様式!K37=\"\",\"\",P_14号7様式!K37)","v":""},{"$f":"IF(P_14号7様式!L37=\"\",\"\",P_14号7様式!L37)","v":""},{"$f":"IF(P_14号7様式!M37=\"\",\"\",P_14号7様式!M37)","v":""},{"$f":"IF(P_14号7様式!N37=\"\",\"\",P_14号7様式!N37)","v":""},null,null,{"$f":"IF(P_14号7様式!O37=\"\",\"\",P_14号7様式!O37)","v":""},null,null,{"$f":"IF(P_14号7様式!P37=\"\",\"\",P_14号7様式!P37)","v":""},{"$f":"IF(P_14号7様式!Q37=\"\",\"\",P_14号7様式!Q37)","v":""},{"$f":"IF(P_14号7様式!R37=\"\",\"\",P_14号7様式!R37)","v":""},{"$f":"IF(P_14号7様式!S37=\"\",\"\",P_14号7様式!S37)","v":""},{"$f":"IF(P_14号7様式!T37=\"\",\"\",P_14号7様式!T37)","v":""}]
[{"$f":"IF(P_14号7様式!C38=\"\",\"\",P_14号7様式!C38)","v":""},null,{"$f":"IF(P_14号7様式!D38=\"\",\"\",P_14号7様式!D38)","v":""},{"$f":"IF(P_14号7様式!E38=\"\",\"\",P_14号7様式!E38)","v":""},{"$f":"IF(P_14号7様式!F38=\"\",\"\",P_14号7様式!F38)","v":""},{"$f":"IF(P_14号7様式!G38=\"\",\"\",P_14号7様式!G38)","v":""},{"$f":"IF(P_14号7様式!H38=\"\",\"\",P_14号7様式!H38)","v":""},{"$f":"IF(P_14号7様式!I38=\"\",\"\",P_14号7様式!I38)","v":""},{"$f":"IF(P_14号7様式!J38=\"\",\"\",P_14号7様式!J38)","v":""},{"$f":"IF(P_14号7様式!K38=\"\",\"\",P_14号7様式!K38)","v":""},{"$f":"IF(P_14号7様式!L38=\"\",\"\",P_14号7様式!L38)","v":""},{"$f":"IF(P_14号7様式!M38=\"\",\"\",P_14号7様式!M38)","v":""},{"$f":"IF(P_14号7様式!N38=\"\",\"\",P_14号7様式!N38)","v":""},null,null,{"$f":"IF(P_14号7様式!O38=\"\",\"\",P_14号7様式!O38)","v":""},null,null,{"$f":"IF(P_14号7様式!P38=\"\",\"\",P_14号7様式!P38)","v":""},{"$f":"IF(P_14号7様式!Q38=\"\",\"\",P_14号7様式!Q38)","v":""},{"$f":"IF(P_14号7様式!R38=\"\",\"\",P_14号7様式!R38)","v":""},{"$f":"IF(P_14号7様式!S38=\"\",\"\",P_14号7様式!S38)","v":""},{"$f":"IF(P_14号7様式!T38=\"\",\"\",P_14号7様式!T38)","v":""}]
[{"$f":"IF(P_14号7様式!C39=\"\",\"\",P_14号7様式!C39)","v":""},null,{"$f":"IF(P_14号7様式!D39=\"\",\"\",P_14号7様式!D39)","v":""},{"$f":"IF(P_14号7様式!E39=\"\",\"\",P_14号7様式!E39)","v":""},{"$f":"IF(P_14号7様式!F39=\"\",\"\",P_14号7様式!F39)","v":""},{"$f":"IF(P_14号7様式!G39=\"\",\"\",P_14号7様式!G39)","v":""},{"$f":"IF(P_14号7様式!H39=\"\",\"\",P_14号7様式!H39)","v":""},{"$f":"IF(P_14号7様式!I39=\"\",\"\",P_14号7様式!I39)","v":""},{"$f":"IF(P_14号7様式!J39=\"\",\"\",P_14号7様式!J39)","v":""},{"$f":"IF(P_14号7様式!K39=\"\",\"\",P_14号7様式!K39)","v":""},{"$f":"IF(P_14号7様式!L39=\"\",\"\",P_14号7様式!L39)","v":""},{"$f":"IF(P_14号7様式!M39=\"\",\"\",P_14号7様式!M39)","v":""},{"$f":"IF(P_14号7様式!N39=\"\",\"\",P_14号7様式!N39)","v":""},null,null,{"$f":"IF(P_14号7様式!O39=\"\",\"\",P_14号7様式!O39)","v":""},null,null,{"$f":"IF(P_14号7様式!P39=\"\",\"\",P_14号7様式!P39)","v":""},{"$f":"IF(P_14号7様式!Q39=\"\",\"\",P_14号7様式!Q39)","v":""},{"$f":"IF(P_14号7様式!R39=\"\",\"\",P_14号7様式!R39)","v":""},{"$f":"IF(P_14号7様式!S39=\"\",\"\",P_14号7様式!S39)","v":""},{"$f":"IF(P_14号7様式!T39=\"\",\"\",P_14号7様式!T39)","v":""}]
[{"$f":"IF(P_14号7様式!C40=\"\",\"\",P_14号7様式!C40)","v":""},null,{"$f":"IF(P_14号7様式!D40=\"\",\"\",P_14号7様式!D40)","v":""},{"$f":"IF(P_14号7様式!E40=\"\",\"\",P_14号7様式!E40)","v":""},{"$f":"IF(P_14号7様式!F40=\"\",\"\",P_14号7様式!F40)","v":""},{"$f":"IF(P_14号7様式!G40=\"\",\"\",P_14号7様式!G40)","v":""},{"$f":"IF(P_14号7様式!H40=\"\",\"\",P_14号7様式!H40)","v":""},{"$f":"IF(P_14号7様式!I40=\"\",\"\",P_14号7様式!I40)","v":""},{"$f":"IF(P_14号7様式!J40=\"\",\"\",P_14号7様式!J40)","v":""},{"$f":"IF(P_14号7様式!K40=\"\",\"\",P_14号7様式!K40)","v":""},{"$f":"IF(P_14号7様式!L40=\"\",\"\",P_14号7様式!L40)","v":""},{"$f":"IF(P_14号7様式!M40=\"\",\"\",P_14号7様式!M40)","v":""},{"$f":"IF(P_14号7様式!N40=\"\",\"\",P_14号7様式!N40)","v":""},null,null,{"$f":"IF(P_14号7様式!O40=\"\",\"\",P_14号7様式!O40)","v":""},null,null,{"$f":"IF(P_14号7様式!P40=\"\",\"\",P_14号7様式!P40)","v":""},{"$f":"IF(P_14号7様式!Q40=\"\",\"\",P_14号7様式!Q40)","v":""},{"$f":"IF(P_14号7様式!R40=\"\",\"\",P_14号7様式!R40)","v":""},{"$f":"IF(P_14号7様式!S40=\"\",\"\",P_14号7様式!S40)","v":""},{"$f":"IF(P_14号7様式!T40=\"\",\"\",P_14号7様式!T40)","v":""}]
[{"$f":"IF(P_14号7様式!C41=\"\",\"\",P_14号7様式!C41)","v":""},null,{"$f":"IF(P_14号7様式!D41=\"\",\"\",P_14号7様式!D41)","v":""},{"$f":"IF(P_14号7様式!E41=\"\",\"\",P_14号7様式!E41)","v":""},{"$f":"IF(P_14号7様式!F41=\"\",\"\",P_14号7様式!F41)","v":""},{"$f":"IF(P_14号7様式!G41=\"\",\"\",P_14号7様式!G41)","v":""},{"$f":"IF(P_14号7様式!H41=\"\",\"\",P_14号7様式!H41)","v":""},{"$f":"IF(P_14号7様式!I41=\"\",\"\",P_14号7様式!I41)","v":""},{"$f":"IF(P_14号7様式!J41=\"\",\"\",P_14号7様式!J41)","v":""},{"$f":"IF(P_14号7様式!K41=\"\",\"\",P_14号7様式!K41)","v":""},{"$f":"IF(P_14号7様式!L41=\"\",\"\",P_14号7様式!L41)","v":""},{"$f":"IF(P_14号7様式!M41=\"\",\"\",P_14号7様式!M41)","v":""},{"$f":"IF(P_14号7様式!N41=\"\",\"\",P_14号7様式!N41)","v":""},null,null,{"$f":"IF(P_14号7様式!O41=\"\",\"\",P_14号7様式!O41)","v":""},null,null,{"$f":"IF(P_14号7様式!P41=\"\",\"\",P_14号7様式!P41)","v":""},{"$f":"IF(P_14号7様式!Q41=\"\",\"\",P_14号7様式!Q41)","v":""},{"$f":"IF(P_14号7様式!R41=\"\",\"\",P_14号7様式!R41)","v":""},{"$f":"IF(P_14号7様式!S41=\"\",\"\",P_14号7様式!S41)","v":""},{"$f":"IF(P_14号7様式!T41=\"\",\"\",P_14号7様式!T41)","v":""}]
[{"$f":"IF(P_14号7様式!C42=\"\",\"\",P_14号7様式!C42)","v":""},null,{"$f":"IF(P_14号7様式!D42=\"\",\"\",P_14号7様式!D42)","v":""},{"$f":"IF(P_14号7様式!E42=\"\",\"\",P_14号7様式!E42)","v":""},{"$f":"IF(P_14号7様式!F42=\"\",\"\",P_14号7様式!F42)","v":""},{"$f":"IF(P_14号7様式!G42=\"\",\"\",P_14号7様式!G42)","v":""},{"$f":"IF(P_14号7様式!H42=\"\",\"\",P_14号7様式!H42)","v":""},{"$f":"IF(P_14号7様式!I42=\"\",\"\",P_14号7様式!I42)","v":""},{"$f":"IF(P_14号7様式!J42=\"\",\"\",P_14号7様式!J42)","v":""},{"$f":"IF(P_14号7様式!K42=\"\",\"\",P_14号7様式!K42)","v":""},{"$f":"IF(P_14号7様式!L42=\"\",\"\",P_14号7様式!L42)","v":""},{"$f":"IF(P_14号7様式!M42=\"\",\"\",P_14号7様式!M42)","v":""},{"$f":"IF(P_14号7様式!N42=\"\",\"\",P_14号7様式!N42)","v":""},null,null,{"$f":"IF(P_14号7様式!O42=\"\",\"\",P_14号7様式!O42)","v":""},null,null,{"$f":"IF(P_14号7様式!P42=\"\",\"\",P_14号7様式!P42)","v":""},{"$f":"IF(P_14号7様式!Q42=\"\",\"\",P_14号7様式!Q42)","v":""},{"$f":"IF(P_14号7様式!R42=\"\",\"\",P_14号7様式!R42)","v":""},{"$f":"IF(P_14号7様式!S42=\"\",\"\",P_14号7様式!S42)","v":""},{"$f":"IF(P_14号7様式!T42=\"\",\"\",P_14号7様式!T42)","v":""}]
[{"$f":"IF(P_14号7様式!C43=\"\",\"\",P_14号7様式!C43)","v":""},null,{"$f":"IF(P_14号7様式!D43=\"\",\"\",P_14号7様式!D43)","v":""},{"$f":"IF(P_14号7様式!E43=\"\",\"\",P_14号7様式!E43)","v":""},{"$f":"IF(P_14号7様式!F43=\"\",\"\",P_14号7様式!F43)","v":""},{"$f":"IF(P_14号7様式!G43=\"\",\"\",P_14号7様式!G43)","v":""},{"$f":"IF(P_14号7様式!H43=\"\",\"\",P_14号7様式!H43)","v":""},{"$f":"IF(P_14号7様式!I43=\"\",\"\",P_14号7様式!I43)","v":""},{"$f":"IF(P_14号7様式!J43=\"\",\"\",P_14号7様式!J43)","v":""},{"$f":"IF(P_14号7様式!K43=\"\",\"\",P_14号7様式!K43)","v":""},{"$f":"IF(P_14号7様式!L43=\"\",\"\",P_14号7様式!L43)","v":""},{"$f":"IF(P_14号7様式!M43=\"\",\"\",P_14号7様式!M43)","v":""},{"$f":"IF(P_14号7様式!N43=\"\",\"\",P_14号7様式!N43)","v":""},null,null,{"$f":"IF(P_14号7様式!O43=\"\",\"\",P_14号7様式!O43)","v":""},null,null,{"$f":"IF(P_14号7様式!P43=\"\",\"\",P_14号7様式!P43)","v":""},{"$f":"IF(P_14号7様式!Q43=\"\",\"\",P_14号7様式!Q43)","v":""},{"$f":"IF(P_14号7様式!R43=\"\",\"\",P_14号7様式!R43)","v":""},{"$f":"IF(P_14号7様式!S43=\"\",\"\",P_14号7様式!S43)","v":""},{"$f":"IF(P_14号7様式!T43=\"\",\"\",P_14号7様式!T43)","v":""}]
[]
["県        計",null,{"$f":"IF(P_14号7様式!U2=\"\",\"\",P_14号7様式!U2)","v":407},{"$f":"IF(P_14号7様式!V2=\"\",\"\",P_14号7様式!V2)","v":520},{"$f":"IF(P_14号7様式!W2=\"\",\"\",P_14号7様式!W2)","v":927},{"$f":"IF(P_14号7様式!X2=\"\",\"\",P_14号7様式!X2)","v":26},{"$f":"IF(P_14号7様式!Y2=\"\",\"\",P_14号7様式!Y2)","v":41},{"$f":"IF(P_14号7様式!Z2=\"\",\"\",P_14号7様式!Z2)","v":67},{"$f":"IF(P_14号7様式!AA2=\"\",\"\",P_14号7様式!AA2)","v":381},{"$f":"IF(P_14号7様式!AB2=\"\",\"\",P_14号7様式!AB2)","v":479},{"$f":"IF(P_14号7様式!AC2=\"\",\"\",P_14号7様式!AC2)","v":860},{"$f":"IF(P_14号7様式!AD2=\"\",\"\",P_14号7様式!AD2)","v":6.38820638820639},{"$f":"IF(P_14号7様式!AE2=\"\",\"\",P_14号7様式!AE2)","v":7.8846153846153797},null,null,{"$f":"IF(P_14号7様式!AF2=\"\",\"\",P_14号7様式!AF2)","v":7.22761596548004},null,null,null,{"$f":"IF(P_14号7様式!AG2=\"\",\"\",P_14号7様式!AG2)","v":""},{"$f":"IF(P_14号7様式!AH2=\"\",\"\",P_14号7様式!AH2)","v":9.4594594594594597},{"$f":"IF(P_14号7様式!AI2=\"\",\"\",P_14号7様式!AI2)","v":8.2369942196531802},{"$f":"IF(P_14号7様式!AJ2=\"\",\"\",P_14号7様式!AJ2)","v":8.7603305785124004}]
[]
[]
[]
["第14号の7様式",null,null,null,null,null,null,null,null,null,null,null,null,null,null,null,null,null,null,null,null,{"$f":"IF(P_14号7様式!A44=\"\",\" ページ\", P_14号7様式!A44 & \"ページ\")","v":"2ページ"}]
[null,null,null,null,null,null,{"$f":"+G2","v":"投　票　速　報（在外）"},null,null,null,null,null,null,"中間報告",null,null,{"$f":"IF(P_14号7様式!AL44=\"\",\"第　　　回\",\"第 　\" & P_14号7様式!AL44 & \"　回\")","v":"第　　　回"},null,null,null,{"$f":"IF(P_14号7様式!AM44=\"\",\"        時     　 分　現在\",P_14号7様式!AM44)","v":"21:34:02"}]
[null,{"$f":"IF(パラメタシート!B1=\"\",\"\",パラメタシート!B1)","v":"2017-10-22"},null,null,null,null,null,null,null,null,null,null,null,"結了報告",null,null,null,null,null,null,{"$f":"IF(P_14号7様式!AG44=\"\",\"        時     　 分　結了\",P_14号7様式!AG44)","v":"        時     　 分　結了"}]
[null,{"$f":"IF(P_14号7様式!AK44=\"\",\"\",P_14号7様式!AK44)","v":""},null,null,null,null,null,"（ 選 挙 区 別 ）",null,null,null,null,null,null,null,null,null,null,null,null,null,"鹿 児 島 県"]
[]
["市区町村名",null,"当日在外有権者数（E'）\n（ 当日在外有権者見込(E)）",null,null,"（F）\n在　外　投　票　者　数",null,null,"（G）\n在　外　棄　権　者　数",null,null,"（H）",null,null,null,null,null,null,"投\n票\n率\n順\n位","投票\n結了\n時刻","前回選挙の投票率"]
[null,null,null,null,null,null,null,null,null,null,null,"在外投票率=",null,"（F）","(","（F）",")"]
[null,null,null,null,null,null,null,null,null,null,null,null,null,"（E'）",null,"（E）"]
[null,null,"男","女","計","男","女","計","男","女","計","男","女",null,null,"計",null,null,null,null,"男","女","計"]
[{"$f":"IF(P_14号7様式!C44=\"\",\"\",P_14号7様式!C44)","v":"【 第 ２ 区 】"},null,{"$f":"IF(P_14号7様式!D44=\"\",\"\",P_14号7様式!D44)","v":""},{"$f":"IF(P_14号7様式!E44=\"\",\"\",P_14号7様式!E44)","v":""},{"$f":"IF(P_14号7様式!F44=\"\",\"\",P_14号7様式!F44)","v":""},{"$f":"IF(P_14号7様式!G44=\"\",\"\",P_14号7様式!G44)","v":""},{"$f":"IF(P_14号7様式!H44=\"\",\"\",P_14号7様式!H44)","v":""},{"$f":"IF(P_14号7様式!I44=\"\",\"\",P_14号7様式!I44)","v":""},{"$f":"IF(P_14号7様式!J44=\"\",\"\",P_14号7様式!J44)","v":""},{"$f":"IF(P_14号7様式!K44=\"\",\"\",P_14号7様式!K44)","v":""},{"$f":"IF(P_14号7様式!L44=\"\",\"\",P_14号7様式!L44)","v":""},{"$f":"IF(P_14号7様式!M44=\"\",\"\",P_14号7様式!M44)","v":""},{"$f":"IF(P_14号7様式!N44=\"\",\"\",P_14号7様式!N44)","v":""},null,null,{"$f":"IF(P_14号7様式!O44=\"\",\"\",P_14号7様式!O44)","v":""},null,null,{"$f":"IF(P_14号7様式!P44=\"\",\"\",P_14号7様式!P44)","v":""},{"$f":"IF(P_14号7様式!Q44=\"\",\"\",P_14号7様式!Q44)","v":""},{"$f":"IF(P_14号7様式!R44=\"\",\"\",P_14号7様式!R44)","v":""},{"$f":"IF(P_14号7様式!S44=\"\",\"\",P_14号7様式!S44)","v":""},{"$f":"IF(P_14号7様式!T44=\"\",\"\",P_14号7様式!T44)","v":""}]
[{"$f":"IF(P_14号7様式!C45=\"\",\"\",P_14号7様式!C45)","v":"　鹿児島市２区"},null,{"$f":"IF(P_14号7様式!D45=\"\",\"\",P_14号7様式!D45)","v":""},{"$f":"IF(P_14号7様式!E45=\"\",\"\",P_14号7様式!E45)","v":""},{"$f":"IF(P_14号7様式!F45=\"\",\"\",P_14号7様式!F45)","v":""},{"$f":"IF(P_14号7様式!G45=\"\",\"\",P_14号7様式!G45)","v":""},{"$f":"IF(P_14号7様式!H45=\"\",\"\",P_14号7様式!H45)","v":""},{"$f":"IF(P_14号7様式!I45=\"\",\"\",P_14号7様式!I45)","v":""},{"$f":"IF(P_14号7様式!J45=\"\",\"\",P_14号7様式!J45)","v":""},{"$f":"IF(P_14号7様式!K45=\"\",\"\",P_14号7様式!K45)","v":""},{"$f":"IF(P_14号7様式!L45=\"\",\"\",P_14号7様式!L45)","v":""},{"$f":"IF(P_14号7様式!M45=\"\",\"\",P_14号7様式!M45)","v":""},{"$f":"IF(P_14号7様式!N45=\"\",\"\",P_14号7様式!N45)","v":""},null,null,{"$f":"IF(P_14号7様式!O45=\"\",\"\",P_14号7様式!O45)","v":""},null,null,{"$f":"IF(P_14号7様式!P45=\"\",\"\",P_14号7様式!P45)","v":""},{"$f":"IF(P_14号7様式!Q45=\"\",\"\",P_14号7様式!Q45)","v":""},{"$f":"IF(P_14号7様式!R45=\"\",\"\",P_14号7様式!R45)","v":20},{"$f":"IF(P_14号7様式!S45=\"\",\"\",P_14号7様式!S45)","v":7.6923076923076898},{"$f":"IF(P_14号7様式!T45=\"\",\"\",P_14号7様式!T45)","v":11.1111111111111}]
[{"$f":"IF(P_14号7様式!C46=\"\",\"\",P_14号7様式!C46)","v":"　枕崎市"},null,{"$f":"IF(P_14号7様式!D46=\"\",\"\",P_14号7様式!D46)","v":10},{"$f":"IF(P_14号7様式!E46=\"\",\"\",P_14号7様式!E46)","v":20},{"$f":"IF(P_14号7様式!F46=\"\",\"\",P_14号7様式!F46)","v":30},{"$f":"IF(P_14号7様式!G46=\"\",\"\",P_14号7様式!G46)","v":0},{"$f":"IF(P_14号7様式!H46=\"\",\"\",P_14号7様式!H46)","v":0},{"$f":"IF(P_14号7様式!I46=\"\",\"\",P_14号7様式!I46)","v":0},{"$f":"IF(P_14号7様式!J46=\"\",\"\",P_14号7様式!J46)","v":10},{"$f":"IF(P_14号7様式!K46=\"\",\"\",P_14号7様式!K46)","v":20},{"$f":"IF(P_14号7様式!L46=\"\",\"\",P_14号7様式!L46)","v":30},{"$f":"IF(P_14号7様式!M46=\"\",\"\",P_14号7様式!M46)","v":0},{"$f":"IF(P_14号7様式!N46=\"\",\"\",P_14号7様式!N46)","v":0},null,null,{"$f":"IF(P_14号7様式!O46=\"\",\"\",P_14号7様式!O46)","v":0},null,null,{"$f":"IF(P_14号7様式!P46=\"\",\"\",P_14号7様式!P46)","v":24},{"$f":"IF(P_14号7様式!Q46=\"\",\"\",P_14号7様式!Q46)","v":"20:09:00"},{"$f":"IF(P_14号7様式!R46=\"\",\"\",P_14号7様式!R46)","v":0},{"$f":"IF(P_14号7様式!S46=\"\",\"\",P_14号7様式!S46)","v":0},{"$f":"IF(P_14号7様式!T46=\"\",\"\",P_14号7様式!T46)","v":0}]
[{"$f":"IF(P_14号7様式!C47=\"\",\"\",P_14号7様式!C47)","v":"　指宿市"},null,{"$f":"IF(P_14号7様式!D47=\"\",\"\",P_14号7様式!D47)","v":15},{"$f":"IF(P_14号7様式!E47=\"\",\"\",P_14号7様式!E47)","v":15},{"$f":"IF(P_14号7様式!F47=\"\",\"\",P_14号7様式!F47)","v":30},{"$f":"IF(P_14号7様式!G47=\"\",\"\",P_14号7様式!G47)","v":3},{"$f":"IF(P_14号7様式!H47=\"\",\"\",P_14号7様式!H47)","v":0},{"$f":"IF(P_14号7様式!I47=\"\",\"\",P_14号7様式!I47)","v":3},{"$f":"IF(P_14号7様式!J47=\"\",\"\",P_14号7様式!J47)","v":12},{"$f":"IF(P_14号7様式!K47=\"\",\"\",P_14号7様式!K47)","v":15},{"$f":"IF(P_14号7様式!L47=\"\",\"\",P_14号7様式!L47)","v":27},{"$f":"IF(P_14号7様式!M47=\"\",\"\",P_14号7様式!M47)","v":20},{"$f":"IF(P_14号7様式!N47=\"\",\"\",P_14号7様式!N47)","v":0},null,null,{"$f":"IF(P_14号7様式!O47=\"\",\"\",P_14号7様式!O47)","v":10},null,null,{"$f":"IF(P_14号7様式!P47=\"\",\"\",P_14号7様式!P47)","v":13},{"$f":"IF(P_14号7様式!Q47=\"\",\"\",P_14号7様式!Q47)","v":"19:21:00"},{"$f":"IF(P_14号7様式!R47=\"\",\"\",P_14号7様式!R47)","v":20},{"$f":"IF(P_14号7様式!S47=\"\",\"\",P_14号7様式!S47)","v":14.285714285714301},{"$f":"IF(P_14号7様式!T47=\"\",\"\",P_14号7様式!T47)","v":17.241379310344801}]
[{"$f":"IF(P_14号7様式!C48=\"\",\"\",P_14号7様式!C48)","v":"　南さつま市"},null,{"$f":"IF(P_14号7様式!D48=\"\",\"\",P_14号7様式!D48)","v":45},{"$f":"IF(P_14号7様式!E48=\"\",\"\",P_14号7様式!E48)","v":43},{"$f":"IF(P_14号7様式!F48=\"\",\"\",P_14号7様式!F48)","v":88},{"$f":"IF(P_14号7様式!G48=\"\",\"\",P_14号7様式!G48)","v":1},{"$f":"IF(P_14号7様式!H48=\"\",\"\",P_14号7様式!H48)","v":1},{"$f":"IF(P_14号7様式!I48=\"\",\"\",P_14号7様式!I48)","v":2},{"$f":"IF(P_14号7様式!J48=\"\",\"\",P_14号7様式!J48)","v":44},{"$f":"IF(P_14号7様式!K48=\"\",\"\",P_14号7様式!K48)","v":42},{"$f":"IF(P_14号7様式!L48=\"\",\"\",P_14号7様式!L48)","v":86},{"$f":"IF(P_14号7様式!M48=\"\",\"\",P_14号7様式!M48)","v":2.2222222222222201},{"$f":"IF(P_14号7様式!N48=\"\",\"\",P_14号7様式!N48)","v":2.32558139534884},null,null,{"$f":"IF(P_14号7様式!O48=\"\",\"\",P_14号7様式!O48)","v":2.2727272727272698},null,null,{"$f":"IF(P_14号7様式!P48=\"\",\"\",P_14号7様式!P48)","v":22},{"$f":"IF(P_14号7様式!Q48=\"\",\"\",P_14号7様式!Q48)","v":"20:08:00"},{"$f":"IF(P_14号7様式!R48=\"\",\"\",P_14号7様式!R48)","v":4.0816326530612201},{"$f":"IF(P_14号7様式!S48=\"\",\"\",P_14号7様式!S48)","v":4.1666666666666696},{"$f":"IF(P_14号7様式!T48=\"\",\"\",P_14号7様式!T48)","v":4.1237113402061896}]
[{"$f":"IF(P_14号7様式!C49=\"\",\"\",P_14号7様式!C49)","v":"　奄美市"},null,{"$f":"IF(P_14号7様式!D49=\"\",\"\",P_14号7様式!D49)","v":9},{"$f":"IF(P_14号7様式!E49=\"\",\"\",P_14号7様式!E49)","v":11},{"$f":"IF(P_14号7様式!F49=\"\",\"\",P_14号7様式!F49)","v":20},{"$f":"IF(P_14号7様式!G49=\"\",\"\",P_14号7様式!G49)","v":2},{"$f":"IF(P_14号7様式!H49=\"\",\"\",P_14号7様式!H49)","v":1},{"$f":"IF(P_14号7様式!I49=\"\",\"\",P_14号7様式!I49)","v":3},{"$f":"IF(P_14号7様式!J49=\"\",\"\",P_14号7様式!J49)","v":7},{"$f":"IF(P_14号7様式!K49=\"\",\"\",P_14号7様式!K49)","v":10},{"$f":"IF(P_14号7様式!L49=\"\",\"\",P_14号7様式!L49)","v":17},{"$f":"IF(P_14号7様式!M49=\"\",\"\",P_14号7様式!M49)","v":22.2222222222222},{"$f":"IF(P_14号7様式!N49=\"\",\"\",P_14号7様式!N49)","v":9.0909090909090899},null,null,{"$f":"IF(P_14号7様式!O49=\"\",\"\",P_14号7様式!O49)","v":15},null,null,{"$f":"IF(P_14号7様式!P49=\"\",\"\",P_14号7様式!P49)","v":8},{"$f":"IF(P_14号7様式!Q49=\"\",\"\",P_14号7様式!Q49)","v":"19:57:00"},{"$f":"IF(P_14号7様式!R49=\"\",\"\",P_14号7様式!R49)","v":30},{"$f":"IF(P_14号7様式!S49=\"\",\"\",P_14号7様式!S49)","v":0},{"$f":"IF(P_14号7様式!T49=\"\",\"\",P_14号7様式!T49)","v":13.0434782608696}]
[{"$f":"IF(P_14号7様式!C50=\"\",\"\",P_14号7様式!C50)","v":"　南九州市"},null,{"$f":"IF(P_14号7様式!D50=\"\",\"\",P_14号7様式!D50)","v":35},{"$f":"IF(P_14号7様式!E50=\"\",\"\",P_14号7様式!E50)","v":50},{"$f":"IF(P_14号7様式!F50=\"\",\"\",P_14号7様式!F50)","v":85},{"$f":"IF(P_14号7様式!G50=\"\",\"\",P_14号7様式!G50)","v":0},{"$f":"IF(P_14号7様式!H50=\"\",\"\",P_14号7様式!H50)","v":1},{"$f":"IF(P_14号7様式!I50=\"\",\"\",P_14号7様式!I50)","v":1},{"$f":"IF(P_14号7様式!J50=\"\",\"\",P_14号7様式!J50)","v":35},{"$f":"IF(P_14号7様式!K50=\"\",\"\",P_14号7様式!K50)","v":49},{"$f":"IF(P_14号7様式!L50=\"\",\"\",P_14号7様式!L50)","v":84},{"$f":"IF(P_14号7様式!M50=\"\",\"\",P_14号7様式!M50)","v":0},{"$f":"IF(P_14号7様式!N50=\"\",\"\",P_14号7様式!N50)","v":2},null,null,{"$f":"IF(P_14号7様式!O50=\"\",\"\",P_14号7様式!O50)","v":1.1764705882352899},null,null,{"$f":"IF(P_14号7様式!P50=\"\",\"\",P_14号7様式!P50)","v":23},{"$f":"IF(P_14号7様式!Q50=\"\",\"\",P_14号7様式!Q50)","v":"19:34:00"},{"$f":"IF(P_14号7様式!R50=\"\",\"\",P_14号7様式!R50)","v":0},{"$f":"IF(P_14号7様式!S50=\"\",\"\",P_14号7様式!S50)","v":1.88679245283019},{"$f":"IF(P_14号7様式!T50=\"\",\"\",P_14号7様式!T50)","v":1.1235955056179801}]
[{"$f":"IF(P_14号7様式!C51=\"\",\"\",P_14号7様式!C51)","v":"＊市　部    計"},null,{"$f":"IF(P_14号7様式!D51=\"\",\"\",P_14号7様式!D51)","v":114},{"$f":"IF(P_14号7様式!E51=\"\",\"\",P_14号7様式!E51)","v":139},{"$f":"IF(P_14号7様式!F51=\"\",\"\",P_14号7様式!F51)","v":253},{"$f":"IF(P_14号7様式!G51=\"\",\"\",P_14号7様式!G51)","v":6},{"$f":"IF(P_14号7様式!H51=\"\",\"\",P_14号7様式!H51)","v":3},{"$f":"IF(P_14号7様式!I51=\"\",\"\",P_14号7様式!I51)","v":9},{"$f":"IF(P_14号7様式!J51=\"\",\"\",P_14号7様式!J51)","v":""},{"$f":"IF(P_14号7様式!K51=\"\",\"\",P_14号7様式!K51)","v":""},{"$f":"IF(P_14号7様式!L51=\"\",\"\",P_14号7様式!L51)","v":""},{"$f":"IF(P_14号7様式!M51=\"\",\"\",P_14号7様式!M51)","v":5.2631578947368398},{"$f":"IF(P_14号7様式!N51=\"\",\"\",P_14号7様式!N51)","v":2.1582733812949599},null,null,{"$f":"IF(P_14号7様式!O51=\"\",\"\",P_14号7様式!O51)","v":3.5573122529644299},null,null,{"$f":"IF(P_14号7様式!P51=\"\",\"\",P_14号7様式!P51)","v":""},{"$f":"IF(P_14号7様式!Q51=\"\",\"\",P_14号7様式!Q51)","v":""},{"$f":"IF(P_14号7様式!R51=\"\",\"\",P_14号7様式!R51)","v":8.0882352941176503},{"$f":"IF(P_14号7様式!S51=\"\",\"\",P_14号7様式!S51)","v":4.2328042328042299},{"$f":"IF(P_14号7様式!T51=\"\",\"\",P_14号7様式!T51)","v":5.8461538461538503}]
[{"$f":"IF(P_14号7様式!C52=\"\",\"\",P_14号7様式!C52)","v":"　大和村"},null,{"$f":"IF(P_14号7様式!D52=\"\",\"\",P_14号7様式!D52)","v":0},{"$f":"IF(P_14号7様式!E52=\"\",\"\",P_14号7様式!E52)","v":0},{"$f":"IF(P_14号7様式!F52=\"\",\"\",P_14号7様式!F52)","v":0},{"$f":"IF(P_14号7様式!G52=\"\",\"\",P_14号7様式!G52)","v":0},{"$f":"IF(P_14号7様式!H52=\"\",\"\",P_14号7様式!H52)","v":0},{"$f":"IF(P_14号7様式!I52=\"\",\"\",P_14号7様式!I52)","v":0},{"$f":"IF(P_14号7様式!J52=\"\",\"\",P_14号7様式!J52)","v":0},{"$f":"IF(P_14号7様式!K52=\"\",\"\",P_14号7様式!K52)","v":0},{"$f":"IF(P_14号7様式!L52=\"\",\"\",P_14号7様式!L52)","v":0},{"$f":"IF(P_14号7様式!M52=\"\",\"\",P_14号7様式!M52)","v":0},{"$f":"IF(P_14号7様式!N52=\"\",\"\",P_14号7様式!N52)","v":0},null,null,{"$f":"IF(P_14号7様式!O52=\"\",\"\",P_14号7様式!O52)","v":0},null,null,{"$f":"IF(P_14号7様式!P52=\"\",\"\",P_14号7様式!P52)","v":""},{"$f":"IF(P_14号7様式!Q52=\"\",\"\",P_14号7様式!Q52)","v":"18:33:00"},{"$f":"IF(P_14号7様式!R52=\"\",\"\",P_14号7様式!R52)","v":0},{"$f":"IF(P_14号7様式!S52=\"\",\"\",P_14号7様式!S52)","v":0},{"$f":"IF(P_14号7様式!T52=\"\",\"\",P_14号7様式!T52)","v":0}]
[{"$f":"IF(P_14号7様式!C53=\"\",\"\",P_14号7様式!C53)","v":"　宇検村"},null,{"$f":"IF(P_14号7様式!D53=\"\",\"\",P_14号7様式!D53)","v":14},{"$f":"IF(P_14号7様式!E53=\"\",\"\",P_14号7様式!E53)","v":10},{"$f":"IF(P_14号7様式!F53=\"\",\"\",P_14号7様式!F53)","v":24},{"$f":"IF(P_14号7様式!G53=\"\",\"\",P_14号7様式!G53)","v":0},{"$f":"IF(P_14号7様式!H53=\"\",\"\",P_14号7様式!H53)","v":0},{"$f":"IF(P_14号7様式!I53=\"\",\"\",P_14号7様式!I53)","v":0},{"$f":"IF(P_14号7様式!J53=\"\",\"\",P_14号7様式!J53)","v":14},{"$f":"IF(P_14号7様式!K53=\"\",\"\",P_14号7様式!K53)","v":10},{"$f":"IF(P_14号7様式!L53=\"\",\"\",P_14号7様式!L53)","v":24},{"$f":"IF(P_14号7様式!M53=\"\",\"\",P_14号7様式!M53)","v":0},{"$f":"IF(P_14号7様式!N53=\"\",\"\",P_14号7様式!N53)","v":0},null,null,{"$f":"IF(P_14号7様式!O53=\"\",\"\",P_14号7様式!O53)","v":0},null,null,{"$f":"IF(P_14号7様式!P53=\"\",\"\",P_14号7様式!P53)","v":24},{"$f":"IF(P_14号7様式!Q53=\"\",\"\",P_14号7様式!Q53)","v":"18:11:00"},{"$f":"IF(P_14号7様式!R53=\"\",\"\",P_14号7様式!R53)","v":0},{"$f":"IF(P_14号7様式!S53=\"\",\"\",P_14号7様式!S53)","v":0},{"$f":"IF(P_14号7様式!T53=\"\",\"\",P_14号7様式!T53)","v":0}]
[{"$f":"IF(P_14号7様式!C54=\"\",\"\",P_14号7様式!C54)","v":"　瀬戸内町"},null,{"$f":"IF(P_14号7様式!D54=\"\",\"\",P_14号7様式!D54)","v":2},{"$f":"IF(P_14号7様式!E54=\"\",\"\",P_14号7様式!E54)","v":6},{"$f":"IF(P_14号7様式!F54=\"\",\"\",P_14号7様式!F54)","v":8},{"$f":"IF(P_14号7様式!G54=\"\",\"\",P_14号7様式!G54)","v":0},{"$f":"IF(P_14号7様式!H54=\"\",\"\",P_14号7様式!H54)","v":0},{"$f":"IF(P_14号7様式!I54=\"\",\"\",P_14号7様式!I54)","v":0},{"$f":"IF(P_14号7様式!J54=\"\",\"\",P_14号7様式!J54)","v":2},{"$f":"IF(P_14号7様式!K54=\"\",\"\",P_14号7様式!K54)","v":6},{"$f":"IF(P_14号7様式!L54=\"\",\"\",P_14号7様式!L54)","v":8},{"$f":"IF(P_14号7様式!M54=\"\",\"\",P_14号7様式!M54)","v":0},{"$f":"IF(P_14号7様式!N54=\"\",\"\",P_14号7様式!N54)","v":0},null,null,{"$f":"IF(P_14号7様式!O54=\"\",\"\",P_14号7様式!O54)","v":0},null,null,{"$f":"IF(P_14号7様式!P54=\"\",\"\",P_14号7様式!P54)","v":24},{"$f":"IF(P_14号7様式!Q54=\"\",\"\",P_14号7様式!Q54)","v":"20:31:00"},{"$f":"IF(P_14号7様式!R54=\"\",\"\",P_14号7様式!R54)","v":0},{"$f":"IF(P_14号7様式!S54=\"\",\"\",P_14号7様式!S54)","v":0},{"$f":"IF(P_14号7様式!T54=\"\",\"\",P_14号7様式!T54)","v":0}]
[{"$f":"IF(P_14号7様式!C55=\"\",\"\",P_14号7様式!C55)","v":"　龍郷町"},null,{"$f":"IF(P_14号7様式!D55=\"\",\"\",P_14号7様式!D55)","v":2},{"$f":"IF(P_14号7様式!E55=\"\",\"\",P_14号7様式!E55)","v":2},{"$f":"IF(P_14号7様式!F55=\"\",\"\",P_14号7様式!F55)","v":4},{"$f":"IF(P_14号7様式!G55=\"\",\"\",P_14号7様式!G55)","v":0},{"$f":"IF(P_14号7様式!H55=\"\",\"\",P_14号7様式!H55)","v":0},{"$f":"IF(P_14号7様式!I55=\"\",\"\",P_14号7様式!I55)","v":0},{"$f":"IF(P_14号7様式!J55=\"\",\"\",P_14号7様式!J55)","v":2},{"$f":"IF(P_14号7様式!K55=\"\",\"\",P_14号7様式!K55)","v":2},{"$f":"IF(P_14号7様式!L55=\"\",\"\",P_14号7様式!L55)","v":4},{"$f":"IF(P_14号7様式!M55=\"\",\"\",P_14号7様式!M55)","v":0},{"$f":"IF(P_14号7様式!N55=\"\",\"\",P_14号7様式!N55)","v":0},null,null,{"$f":"IF(P_14号7様式!O55=\"\",\"\",P_14号7様式!O55)","v":0},null,null,{"$f":"IF(P_14号7様式!P55=\"\",\"\",P_14号7様式!P55)","v":24},{"$f":"IF(P_14号7様式!Q55=\"\",\"\",P_14号7様式!Q55)","v":"19:40:00"},{"$f":"IF(P_14号7様式!R55=\"\",\"\",P_14号7様式!R55)","v":25},{"$f":"IF(P_14号7様式!S55=\"\",\"\",P_14号7様式!S55)","v":33.3333333333333},{"$f":"IF(P_14号7様式!T55=\"\",\"\",P_14号7様式!T55)","v":28.571428571428601}]
[{"$f":"IF(P_14号7様式!C56=\"\",\"\",P_14号7様式!C56)","v":"　喜界町"},null,{"$f":"IF(P_14号7様式!D56=\"\",\"\",P_14号7様式!D56)","v":1},{"$f":"IF(P_14号7様式!E56=\"\",\"\",P_14号7様式!E56)","v":1},{"$f":"IF(P_14号7様式!F56=\"\",\"\",P_14号7様式!F56)","v":2},{"$f":"IF(P_14号7様式!G56=\"\",\"\",P_14号7様式!G56)","v":0},{"$f":"IF(P_14号7様式!H56=\"\",\"\",P_14号7様式!H56)","v":0},{"$f":"IF(P_14号7様式!I56=\"\",\"\",P_14号7様式!I56)","v":0},{"$f":"IF(P_14号7様式!J56=\"\",\"\",P_14号7様式!J56)","v":1},{"$f":"IF(P_14号7様式!K56=\"\",\"\",P_14号7様式!K56)","v":1},{"$f":"IF(P_14号7様式!L56=\"\",\"\",P_14号7様式!L56)","v":2},{"$f":"IF(P_14号7様式!M56=\"\",\"\",P_14号7様式!M56)","v":0},{"$f":"IF(P_14号7様式!N56=\"\",\"\",P_14号7様式!N56)","v":0},null,null,{"$f":"IF(P_14号7様式!O56=\"\",\"\",P_14号7様式!O56)","v":0},null,null,{"$f":"IF(P_14号7様式!P56=\"\",\"\",P_14号7様式!P56)","v":24},{"$f":"IF(P_14号7様式!Q56=\"\",\"\",P_14号7様式!Q56)","v":"19:00:00"},{"$f":"IF(P_14号7様式!R56=\"\",\"\",P_14号7様式!R56)","v":0},{"$f":"IF(P_14号7様式!S56=\"\",\"\",P_14号7様式!S56)","v":0},{"$f":"IF(P_14号7様式!T56=\"\",\"\",P_14号7様式!T56)","v":0}]
[{"$f":"IF(P_14号7様式!C57=\"\",\"\",P_14号7様式!C57)","v":"　徳之島町"},null,{"$f":"IF(P_14号7様式!D57=\"\",\"\",P_14号7様式!D57)","v":5},{"$f":"IF(P_14号7様式!E57=\"\",\"\",P_14号7様式!E57)","v":1},{"$f":"IF(P_14号7様式!F57=\"\",\"\",P_14号7様式!F57)","v":6},{"$f":"IF(P_14号7様式!G57=\"\",\"\",P_14号7様式!G57)","v":0},{"$f":"IF(P_14号7様式!H57=\"\",\"\",P_14号7様式!H57)","v":0},{"$f":"IF(P_14号7様式!I57=\"\",\"\",P_14号7様式!I57)","v":0},{"$f":"IF(P_14号7様式!J57=\"\",\"\",P_14号7様式!J57)","v":5},{"$f":"IF(P_14号7様式!K57=\"\",\"\",P_14号7様式!K57)","v":1},{"$f":"IF(P_14号7様式!L57=\"\",\"\",P_14号7様式!L57)","v":6},{"$f":"IF(P_14号7様式!M57=\"\",\"\",P_14号7様式!M57)","v":0},{"$f":"IF(P_14号7様式!N57=\"\",\"\",P_14号7様式!N57)","v":0},null,null,{"$f":"IF(P_14号7様式!O57=\"\",\"\",P_14号7様式!O57)","v":0},null,null,{"$f":"IF(P_14号7様式!P57=\"\",\"\",P_14号7様式!P57)","v":24},{"$f":"IF(P_14号7様式!Q57=\"\",\"\",P_14号7様式!Q57)","v":"19:24:00"},{"$f":"IF(P_14号7様式!R57=\"\",\"\",P_14号7様式!R57)","v":0},{"$f":"IF(P_14号7様式!S57=\"\",\"\",P_14号7様式!S57)","v":0},{"$f":"IF(P_14号7様式!T57=\"\",\"\",P_14号7様式!T57)","v":0}]
[{"$f":"IF(P_14号7様式!C58=\"\",\"\",P_14号7様式!C58)","v":"　天城町"},null,{"$f":"IF(P_14号7様式!D58=\"\",\"\",P_14号7様式!D58)","v":0},{"$f":"IF(P_14号7様式!E58=\"\",\"\",P_14号7様式!E58)","v":1},{"$f":"IF(P_14号7様式!F58=\"\",\"\",P_14号7様式!F58)","v":1},{"$f":"IF(P_14号7様式!G58=\"\",\"\",P_14号7様式!G58)","v":0},{"$f":"IF(P_14号7様式!H58=\"\",\"\",P_14号7様式!H58)","v":0},{"$f":"IF(P_14号7様式!I58=\"\",\"\",P_14号7様式!I58)","v":0},{"$f":"IF(P_14号7様式!J58=\"\",\"\",P_14号7様式!J58)","v":0},{"$f":"IF(P_14号7様式!K58=\"\",\"\",P_14号7様式!K58)","v":1},{"$f":"IF(P_14号7様式!L58=\"\",\"\",P_14号7様式!L58)","v":1},{"$f":"IF(P_14号7様式!M58=\"\",\"\",P_14号7様式!M58)","v":0},{"$f":"IF(P_14号7様式!N58=\"\",\"\",P_14号7様式!N58)","v":0},null,null,{"$f":"IF(P_14号7様式!O58=\"\",\"\",P_14号7様式!O58)","v":0},null,null,{"$f":"IF(P_14号7様式!P58=\"\",\"\",P_14号7様式!P58)","v":24},{"$f":"IF(P_14号7様式!Q58=\"\",\"\",P_14号7様式!Q58)","v":"20:09:00"},{"$f":"IF(P_14号7様式!R58=\"\",\"\",P_14号7様式!R58)","v":0},{"$f":"IF(P_14号7様式!S58=\"\",\"\",P_14号7様式!S58)","v":0},{"$f":"IF(P_14号7様式!T58=\"\",\"\",P_14号7様式!T58)","v":0}]
[{"$f":"IF(P_14号7様式!C59=\"\",\"\",P_14号7様式!C59)","v":"　伊仙町"},null,{"$f":"IF(P_14号7様式!D59=\"\",\"\",P_14号7様式!D59)","v":1},{"$f":"IF(P_14号7様式!E59=\"\",\"\",P_14号7様式!E59)","v":2},{"$f":"IF(P_14号7様式!F59=\"\",\"\",P_14号7様式!F59)","v":3},{"$f":"IF(P_14号7様式!G59=\"\",\"\",P_14号7様式!G59)","v":0},{"$f":"IF(P_14号7様式!H59=\"\",\"\",P_14号7様式!H59)","v":0},{"$f":"IF(P_14号7様式!I59=\"\",\"\",P_14号7様式!I59)","v":0},{"$f":"IF(P_14号7様式!J59=\"\",\"\",P_14号7様式!J59)","v":1},{"$f":"IF(P_14号7様式!K59=\"\",\"\",P_14号7様式!K59)","v":2},{"$f":"IF(P_14号7様式!L59=\"\",\"\",P_14号7様式!L59)","v":3},{"$f":"IF(P_14号7様式!M59=\"\",\"\",P_14号7様式!M59)","v":0},{"$f":"IF(P_14号7様式!N59=\"\",\"\",P_14号7様式!N59)","v":0},null,null,{"$f":"IF(P_14号7様式!O59=\"\",\"\",P_14号7様式!O59)","v":0},null,null,{"$f":"IF(P_14号7様式!P59=\"\",\"\",P_14号7様式!P59)","v":24},{"$f":"IF(P_14号7様式!Q59=\"\",\"\",P_14号7様式!Q59)","v":"20:23:00"},{"$f":"IF(P_14号7様式!R59=\"\",\"\",P_14号7様式!R59)","v":0},{"$f":"IF(P_14号7様式!S59=\"\",\"\",P_14号7様式!S59)","v":0},{"$f":"IF(P_14号7様式!T59=\"\",\"\",P_14号7様式!T59)","v":0}]
[{"$f":"IF(P_14号7様式!C60=\"\",\"\",P_14号7様式!C60)","v":"　和泊町"},null,{"$f":"IF(P_14号7様式!D60=\"\",\"\",P_14号7様式!D60)","v":1},{"$f":"IF(P_14号7様式!E60=\"\",\"\",P_14号7様式!E60)","v":0},{"$f":"IF(P_14号7様式!F60=\"\",\"\",P_14号7様式!F60)","v":1},{"$f":"IF(P_14号7様式!G60=\"\",\"\",P_14号7様式!G60)","v":1},{"$f":"IF(P_14号7様式!H60=\"\",\"\",P_14号7様式!H60)","v":0},{"$f":"IF(P_14号7様式!I60=\"\",\"\",P_14号7様式!I60)","v":1},{"$f":"IF(P_14号7様式!J60=\"\",\"\",P_14号7様式!J60)","v":0},{"$f":"IF(P_14号7様式!K60=\"\",\"\",P_14号7様式!K60)","v":0},{"$f":"IF(P_14号7様式!L60=\"\",\"\",P_14号7様式!L60)","v":0},{"$f":"IF(P_14号7様式!M60=\"\",\"\",P_14号7様式!M60)","v":100},{"$f":"IF(P_14号7様式!N60=\"\",\"\",P_14号7様式!N60)","v":0},null,null,{"$f":"IF(P_14号7様式!O60=\"\",\"\",P_14号7様式!O60)","v":100},null,null,{"$f":"IF(P_14号7様式!P60=\"\",\"\",P_14号7様式!P60)","v":1},{"$f":"IF(P_14号7様式!Q60=\"\",\"\",P_14号7様式!Q60)","v":"18:52:00"},{"$f":"IF(P_14号7様式!R60=\"\",\"\",P_14号7様式!R60)","v":0},{"$f":"IF(P_14号7様式!S60=\"\",\"\",P_14号7様式!S60)","v":0},{"$f":"IF(P_14号7様式!T60=\"\",\"\",P_14号7様式!T60)","v":0}]
[{"$f":"IF(P_14号7様式!C61=\"\",\"\",P_14号7様式!C61)","v":"　知名町"},null,{"$f":"IF(P_14号7様式!D61=\"\",\"\",P_14号7様式!D61)","v":2},{"$f":"IF(P_14号7様式!E61=\"\",\"\",P_14号7様式!E61)","v":2},{"$f":"IF(P_14号7様式!F61=\"\",\"\",P_14号7様式!F61)","v":4},{"$f":"IF(P_14号7様式!G61=\"\",\"\",P_14号7様式!G61)","v":0},{"$f":"IF(P_14号7様式!H61=\"\",\"\",P_14号7様式!H61)","v":0},{"$f":"IF(P_14号7様式!I61=\"\",\"\",P_14号7様式!I61)","v":0},{"$f":"IF(P_14号7様式!J61=\"\",\"\",P_14号7様式!J61)","v":2},{"$f":"IF(P_14号7様式!K61=\"\",\"\",P_14号7様式!K61)","v":2},{"$f":"IF(P_14号7様式!L61=\"\",\"\",P_14号7様式!L61)","v":4},{"$f":"IF(P_14号7様式!M61=\"\",\"\",P_14号7様式!M61)","v":0},{"$f":"IF(P_14号7様式!N61=\"\",\"\",P_14号7様式!N61)","v":0},null,null,{"$f":"IF(P_14号7様式!O61=\"\",\"\",P_14号7様式!O61)","v":0},null,null,{"$f":"IF(P_14号7様式!P61=\"\",\"\",P_14号7様式!P61)","v":24},{"$f":"IF(P_14号7様式!Q61=\"\",\"\",P_14号7様式!Q61)","v":"19:11:00"},{"$f":"IF(P_14号7様式!R61=\"\",\"\",P_14号7様式!R61)","v":0},{"$f":"IF(P_14号7様式!S61=\"\",\"\",P_14号7様式!S61)","v":0},{"$f":"IF(P_14号7様式!T61=\"\",\"\",P_14号7様式!T61)","v":0}]
[{"$f":"IF(P_14号7様式!C62=\"\",\"\",P_14号7様式!C62)","v":"　与論町"},null,{"$f":"IF(P_14号7様式!D62=\"\",\"\",P_14号7様式!D62)","v":3},{"$f":"IF(P_14号7様式!E62=\"\",\"\",P_14号7様式!E62)","v":1},{"$f":"IF(P_14号7様式!F62=\"\",\"\",P_14号7様式!F62)","v":4},{"$f":"IF(P_14号7様式!G62=\"\",\"\",P_14号7様式!G62)","v":1},{"$f":"IF(P_14号7様式!H62=\"\",\"\",P_14号7様式!H62)","v":0},{"$f":"IF(P_14号7様式!I62=\"\",\"\",P_14号7様式!I62)","v":1},{"$f":"IF(P_14号7様式!J62=\"\",\"\",P_14号7様式!J62)","v":2},{"$f":"IF(P_14号7様式!K62=\"\",\"\",P_14号7様式!K62)","v":1},{"$f":"IF(P_14号7様式!L62=\"\",\"\",P_14号7様式!L62)","v":3},{"$f":"IF(P_14号7様式!M62=\"\",\"\",P_14号7様式!M62)","v":33.3333333333333},{"$f":"IF(P_14号7様式!N62=\"\",\"\",P_14号7様式!N62)","v":0},null,null,{"$f":"IF(P_14号7様式!O62=\"\",\"\",P_14号7様式!O62)","v":25},null,null,{"$f":"IF(P_14号7様式!P62=\"\",\"\",P_14号7様式!P62)","v":3},{"$f":"IF(P_14号7様式!Q62=\"\",\"\",P_14号7様式!Q62)","v":"18:33:00"},{"$f":"IF(P_14号7様式!R62=\"\",\"\",P_14号7様式!R62)","v":50},{"$f":"IF(P_14号7様式!S62=\"\",\"\",P_14号7様式!S62)","v":0},{"$f":"IF(P_14号7様式!T62=\"\",\"\",P_14号7様式!T62)","v":25}]
[{"$f":"IF(P_14号7様式!C63=\"\",\"\",P_14号7様式!C63)","v":"＊（大島郡）計"},null,{"$f":"IF(P_14号7様式!D63=\"\",\"\",P_14号7様式!D63)","v":31},{"$f":"IF(P_14号7様式!E63=\"\",\"\",P_14号7様式!E63)","v":26},{"$f":"IF(P_14号7様式!F63=\"\",\"\",P_14号7様式!F63)","v":57},{"$f":"IF(P_14号7様式!G63=\"\",\"\",P_14号7様式!G63)","v":2},{"$f":"IF(P_14号7様式!H63=\"\",\"\",P_14号7様式!H63)","v":0},{"$f":"IF(P_14号7様式!I63=\"\",\"\",P_14号7様式!I63)","v":2},{"$f":"IF(P_14号7様式!J63=\"\",\"\",P_14号7様式!J63)","v":29},{"$f":"IF(P_14号7様式!K63=\"\",\"\",P_14号7様式!K63)","v":26},{"$f":"IF(P_14号7様式!L63=\"\",\"\",P_14号7様式!L63)","v":55},{"$f":"IF(P_14号7様式!M63=\"\",\"\",P_14号7様式!M63)","v":6.4516129032258096},{"$f":"IF(P_14号7様式!N63=\"\",\"\",P_14号7様式!N63)","v":0},null,null,{"$f":"IF(P_14号7様式!O63=\"\",\"\",P_14号7様式!O63)","v":3.5087719298245599},null,null,{"$f":"IF(P_14号7様式!P63=\"\",\"\",P_14号7様式!P63)","v":""},{"$f":"IF(P_14号7様式!Q63=\"\",\"\",P_14号7様式!Q63)","v":"20:31:00"},{"$f":"IF(P_14号7様式!R63=\"\",\"\",P_14号7様式!R63)","v":6.4516129032258096},{"$f":"IF(P_14号7様式!S63=\"\",\"\",P_14号7様式!S63)","v":3.3333333333333299},{"$f":"IF(P_14号7様式!T63=\"\",\"\",P_14号7様式!T63)","v":4.9180327868852496}]
[{"$f":"IF(P_14号7様式!C64=\"\",\"\",P_14号7様式!C64)","v":"＊郡　部    計"},null,{"$f":"IF(P_14号7様式!D64=\"\",\"\",P_14号7様式!D64)","v":31},{"$f":"IF(P_14号7様式!E64=\"\",\"\",P_14号7様式!E64)","v":26},{"$f":"IF(P_14号7様式!F64=\"\",\"\",P_14号7様式!F64)","v":57},{"$f":"IF(P_14号7様式!G64=\"\",\"\",P_14号7様式!G64)","v":2},{"$f":"IF(P_14号7様式!H64=\"\",\"\",P_14号7様式!H64)","v":0},{"$f":"IF(P_14号7様式!I64=\"\",\"\",P_14号7様式!I64)","v":2},{"$f":"IF(P_14号7様式!J64=\"\",\"\",P_14号7様式!J64)","v":29},{"$f":"IF(P_14号7様式!K64=\"\",\"\",P_14号7様式!K64)","v":26},{"$f":"IF(P_14号7様式!L64=\"\",\"\",P_14号7様式!L64)","v":55},{"$f":"IF(P_14号7様式!M64=\"\",\"\",P_14号7様式!M64)","v":6.4516129032258096},{"$f":"IF(P_14号7様式!N64=\"\",\"\",P_14号7様式!N64)","v":0},null,null,{"$f":"IF(P_14号7様式!O64=\"\",\"\",P_14号7様式!O64)","v":3.5087719298245599},null,null,{"$f":"IF(P_14号7様式!P64=\"\",\"\",P_14号7様式!P64)","v":""},{"$f":"IF(P_14号7様式!Q64=\"\",\"\",P_14号7様式!Q64)","v":"20:31:00"},{"$f":"IF(P_14号7様式!R64=\"\",\"\",P_14号7様式!R64)","v":6.4516129032258096},{"$f":"IF(P_14号7様式!S64=\"\",\"\",P_14号7様式!S64)","v":3.3333333333333299},{"$f":"IF(P_14号7様式!T64=\"\",\"\",P_14号7様式!T64)","v":4.9180327868852496}]
[{"$f":"IF(P_14号7様式!C65=\"\",\"\",P_14号7様式!C65)","v":"＊第 ２ 区  計"},null,{"$f":"IF(P_14号7様式!D65=\"\",\"\",P_14号7様式!D65)","v":145},{"$f":"IF(P_14号7様式!E65=\"\",\"\",P_14号7様式!E65)","v":165},{"$f":"IF(P_14号7様式!F65=\"\",\"\",P_14号7様式!F65)","v":310},{"$f":"IF(P_14号7様式!G65=\"\",\"\",P_14号7様式!G65)","v":8},{"$f":"IF(P_14号7様式!H65=\"\",\"\",P_14号7様式!H65)","v":3},{"$f":"IF(P_14号7様式!I65=\"\",\"\",P_14号7様式!I65)","v":11},{"$f":"IF(P_14号7様式!J65=\"\",\"\",P_14号7様式!J65)","v":""},{"$f":"IF(P_14号7様式!K65=\"\",\"\",P_14号7様式!K65)","v":""},{"$f":"IF(P_14号7様式!L65=\"\",\"\",P_14号7様式!L65)","v":""},{"$f":"IF(P_14号7様式!M65=\"\",\"\",P_14号7様式!M65)","v":5.5172413793103496},{"$f":"IF(P_14号7様式!N65=\"\",\"\",P_14号7様式!N65)","v":1.8181818181818199},null,null,{"$f":"IF(P_14号7様式!O65=\"\",\"\",P_14号7様式!O65)","v":3.54838709677419},null,null,{"$f":"IF(P_14号7様式!P65=\"\",\"\",P_14号7様式!P65)","v":""},{"$f":"IF(P_14号7様式!Q65=\"\",\"\",P_14号7様式!Q65)","v":""},{"$f":"IF(P_14号7様式!R65=\"\",\"\",P_14号7様式!R65)","v":7.7844311377245496},{"$f":"IF(P_14号7様式!S65=\"\",\"\",P_14号7様式!S65)","v":4.10958904109589},{"$f":"IF(P_14号7様式!T65=\"\",\"\",P_14号7様式!T65)","v":5.6994818652849704}]
[{"$f":"IF(P_14号7様式!C66=\"\",\"\",P_14号7様式!C66)","v":""},null,{"$f":"IF(P_14号7様式!D66=\"\",\"\",P_14号7様式!D66)","v":""},{"$f":"IF(P_14号7様式!E66=\"\",\"\",P_14号7様式!E66)","v":""},{"$f":"IF(P_14号7様式!F66=\"\",\"\",P_14号7様式!F66)","v":""},{"$f":"IF(P_14号7様式!G66=\"\",\"\",P_14号7様式!G66)","v":""},{"$f":"IF(P_14号7様式!H66=\"\",\"\",P_14号7様式!H66)","v":""},{"$f":"IF(P_14号7様式!I66=\"\",\"\",P_14号7様式!I66)","v":""},{"$f":"IF(P_14号7様式!J66=\"\",\"\",P_14号7様式!J66)","v":""},{"$f":"IF(P_14号7様式!K66=\"\",\"\",P_14号7様式!K66)","v":""},{"$f":"IF(P_14号7様式!L66=\"\",\"\",P_14号7様式!L66)","v":""},{"$f":"IF(P_14号7様式!M66=\"\",\"\",P_14号7様式!M66)","v":""},{"$f":"IF(P_14号7様式!N66=\"\",\"\",P_14号7様式!N66)","v":""},null,null,{"$f":"IF(P_14号7様式!O66=\"\",\"\",P_14号7様式!O66)","v":""},null,null,{"$f":"IF(P_14号7様式!P66=\"\",\"\",P_14号7様式!P66)","v":""},{"$f":"IF(P_14号7様式!Q66=\"\",\"\",P_14号7様式!Q66)","v":""},{"$f":"IF(P_14号7様式!R66=\"\",\"\",P_14号7様式!R66)","v":""},{"$f":"IF(P_14号7様式!S66=\"\",\"\",P_14号7様式!S66)","v":""},{"$f":"IF(P_14号7様式!T66=\"\",\"\",P_14号7様式!T66)","v":""}]
[{"$f":"IF(P_14号7様式!C67=\"\",\"\",P_14号7様式!C67)","v":""},null,{"$f":"IF(P_14号7様式!D67=\"\",\"\",P_14号7様式!D67)","v":""},{"$f":"IF(P_14号7様式!E67=\"\",\"\",P_14号7様式!E67)","v":""},{"$f":"IF(P_14号7様式!F67=\"\",\"\",P_14号7様式!F67)","v":""},{"$f":"IF(P_14号7様式!G67=\"\",\"\",P_14号7様式!G67)","v":""},{"$f":"IF(P_14号7様式!H67=\"\",\"\",P_14号7様式!H67)","v":""},{"$f":"IF(P_14号7様式!I67=\"\",\"\",P_14号7様式!I67)","v":""},{"$f":"IF(P_14号7様式!J67=\"\",\"\",P_14号7様式!J67)","v":""},{"$f":"IF(P_14号7様式!K67=\"\",\"\",P_14号7様式!K67)","v":""},{"$f":"IF(P_14号7様式!L67=\"\",\"\",P_14号7様式!L67)","v":""},{"$f":"IF(P_14号7様式!M67=\"\",\"\",P_14号7様式!M67)","v":""},{"$f":"IF(P_14号7様式!N67=\"\",\"\",P_14号7様式!N67)","v":""},null,null,{"$f":"IF(P_14号7様式!O67=\"\",\"\",P_14号7様式!O67)","v":""},null,null,{"$f":"IF(P_14号7様式!P67=\"\",\"\",P_14号7様式!P67)","v":""},{"$f":"IF(P_14号7様式!Q67=\"\",\"\",P_14号7様式!Q67)","v":""},{"$f":"IF(P_14号7様式!R67=\"\",\"\",P_14号7様式!R67)","v":""},{"$f":"IF(P_14号7様式!S67=\"\",\"\",P_14号7様式!S67)","v":""},{"$f":"IF(P_14号7様式!T67=\"\",\"\",P_14号7様式!T67)","v":""}]
[{"$f":"IF(P_14号7様式!C68=\"\",\"\",P_14号7様式!C68)","v":""},null,{"$f":"IF(P_14号7様式!D68=\"\",\"\",P_14号7様式!D68)","v":""},{"$f":"IF(P_14号7様式!E68=\"\",\"\",P_14号7様式!E68)","v":""},{"$f":"IF(P_14号7様式!F68=\"\",\"\",P_14号7様式!F68)","v":""},{"$f":"IF(P_14号7様式!G68=\"\",\"\",P_14号7様式!G68)","v":""},{"$f":"IF(P_14号7様式!H68=\"\",\"\",P_14号7様式!H68)","v":""},{"$f":"IF(P_14号7様式!I68=\"\",\"\",P_14号7様式!I68)","v":""},{"$f":"IF(P_14号7様式!J68=\"\",\"\",P_14号7様式!J68)","v":""},{"$f":"IF(P_14号7様式!K68=\"\",\"\",P_14号7様式!K68)","v":""},{"$f":"IF(P_14号7様式!L68=\"\",\"\",P_14号7様式!L68)","v":""},{"$f":"IF(P_14号7様式!M68=\"\",\"\",P_14号7様式!M68)","v":""},{"$f":"IF(P_14号7様式!N68=\"\",\"\",P_14号7様式!N68)","v":""},null,null,{"$f":"IF(P_14号7様式!O68=\"\",\"\",P_14号7様式!O68)","v":""},null,null,{"$f":"IF(P_14号7様式!P68=\"\",\"\",P_14号7様式!P68)","v":""},{"$f":"IF(P_14号7様式!Q68=\"\",\"\",P_14号7様式!Q68)","v":""},{"$f":"IF(P_14号7様式!R68=\"\",\"\",P_14号7様式!R68)","v":""},{"$f":"IF(P_14号7様式!S68=\"\",\"\",P_14号7様式!S68)","v":""},{"$f":"IF(P_14号7様式!T68=\"\",\"\",P_14号7様式!T68)","v":""}]
[{"$f":"IF(P_14号7様式!C69=\"\",\"\",P_14号7様式!C69)","v":""},null,{"$f":"IF(P_14号7様式!D69=\"\",\"\",P_14号7様式!D69)","v":""},{"$f":"IF(P_14号7様式!E69=\"\",\"\",P_14号7様式!E69)","v":""},{"$f":"IF(P_14号7様式!F69=\"\",\"\",P_14号7様式!F69)","v":""},{"$f":"IF(P_14号7様式!G69=\"\",\"\",P_14号7様式!G69)","v":""},{"$f":"IF(P_14号7様式!H69=\"\",\"\",P_14号7様式!H69)","v":""},{"$f":"IF(P_14号7様式!I69=\"\",\"\",P_14号7様式!I69)","v":""},{"$f":"IF(P_14号7様式!J69=\"\",\"\",P_14号7様式!J69)","v":""},{"$f":"IF(P_14号7様式!K69=\"\",\"\",P_14号7様式!K69)","v":""},{"$f":"IF(P_14号7様式!L69=\"\",\"\",P_14号7様式!L69)","v":""},{"$f":"IF(P_14号7様式!M69=\"\",\"\",P_14号7様式!M69)","v":""},{"$f":"IF(P_14号7様式!N69=\"\",\"\",P_14号7様式!N69)","v":""},null,null,{"$f":"IF(P_14号7様式!O69=\"\",\"\",P_14号7様式!O69)","v":""},null,null,{"$f":"IF(P_14号7様式!P69=\"\",\"\",P_14号7様式!P69)","v":""},{"$f":"IF(P_14号7様式!Q69=\"\",\"\",P_14号7様式!Q69)","v":""},{"$f":"IF(P_14号7様式!R69=\"\",\"\",P_14号7様式!R69)","v":""},{"$f":"IF(P_14号7様式!S69=\"\",\"\",P_14号7様式!S69)","v":""},{"$f":"IF(P_14号7様式!T69=\"\",\"\",P_14号7様式!T69)","v":""}]
[{"$f":"IF(P_14号7様式!C70=\"\",\"\",P_14号7様式!C70)","v":""},null,{"$f":"IF(P_14号7様式!D70=\"\",\"\",P_14号7様式!D70)","v":""},{"$f":"IF(P_14号7様式!E70=\"\",\"\",P_14号7様式!E70)","v":""},{"$f":"IF(P_14号7様式!F70=\"\",\"\",P_14号7様式!F70)","v":""},{"$f":"IF(P_14号7様式!G70=\"\",\"\",P_14号7様式!G70)","v":""},{"$f":"IF(P_14号7様式!H70=\"\",\"\",P_14号7様式!H70)","v":""},{"$f":"IF(P_14号7様式!I70=\"\",\"\",P_14号7様式!I70)","v":""},{"$f":"IF(P_14号7様式!J70=\"\",\"\",P_14号7様式!J70)","v":""},{"$f":"IF(P_14号7様式!K70=\"\",\"\",P_14号7様式!K70)","v":""},{"$f":"IF(P_14号7様式!L70=\"\",\"\",P_14号7様式!L70)","v":""},{"$f":"IF(P_14号7様式!M70=\"\",\"\",P_14号7様式!M70)","v":""},{"$f":"IF(P_14号7様式!N70=\"\",\"\",P_14号7様式!N70)","v":""},null,null,{"$f":"IF(P_14号7様式!O70=\"\",\"\",P_14号7様式!O70)","v":""},null,null,{"$f":"IF(P_14号7様式!P70=\"\",\"\",P_14号7様式!P70)","v":""},{"$f":"IF(P_14号7様式!Q70=\"\",\"\",P_14号7様式!Q70)","v":""},{"$f":"IF(P_14号7様式!R70=\"\",\"\",P_14号7様式!R70)","v":""},{"$f":"IF(P_14号7様式!S70=\"\",\"\",P_14号7様式!S70)","v":""},{"$f":"IF(P_14号7様式!T70=\"\",\"\",P_14号7様式!T70)","v":""}]
[{"$f":"IF(P_14号7様式!C71=\"\",\"\",P_14号7様式!C71)","v":""},null,{"$f":"IF(P_14号7様式!D71=\"\",\"\",P_14号7様式!D71)","v":""},{"$f":"IF(P_14号7様式!E71=\"\",\"\",P_14号7様式!E71)","v":""},{"$f":"IF(P_14号7様式!F71=\"\",\"\",P_14号7様式!F71)","v":""},{"$f":"IF(P_14号7様式!G71=\"\",\"\",P_14号7様式!G71)","v":""},{"$f":"IF(P_14号7様式!H71=\"\",\"\",P_14号7様式!H71)","v":""},{"$f":"IF(P_14号7様式!I71=\"\",\"\",P_14号7様式!I71)","v":""},{"$f":"IF(P_14号7様式!J71=\"\",\"\",P_14号7様式!J71)","v":""},{"$f":"IF(P_14号7様式!K71=\"\",\"\",P_14号7様式!K71)","v":""},{"$f":"IF(P_14号7様式!L71=\"\",\"\",P_14号7様式!L71)","v":""},{"$f":"IF(P_14号7様式!M71=\"\",\"\",P_14号7様式!M71)","v":""},{"$f":"IF(P_14号7様式!N71=\"\",\"\",P_14号7様式!N71)","v":""},null,null,{"$f":"IF(P_14号7様式!O71=\"\",\"\",P_14号7様式!O71)","v":""},null,null,{"$f":"IF(P_14号7様式!P71=\"\",\"\",P_14号7様式!P71)","v":""},{"$f":"IF(P_14号7様式!Q71=\"\",\"\",P_14号7様式!Q71)","v":""},{"$f":"IF(P_14号7様式!R71=\"\",\"\",P_14号7様式!R71)","v":""},{"$f":"IF(P_14号7様式!S71=\"\",\"\",P_14号7様式!S71)","v":""},{"$f":"IF(P_14号7様式!T71=\"\",\"\",P_14号7様式!T71)","v":""}]
[{"$f":"IF(P_14号7様式!C72=\"\",\"\",P_14号7様式!C72)","v":""},null,{"$f":"IF(P_14号7様式!D72=\"\",\"\",P_14号7様式!D72)","v":""},{"$f":"IF(P_14号7様式!E72=\"\",\"\",P_14号7様式!E72)","v":""},{"$f":"IF(P_14号7様式!F72=\"\",\"\",P_14号7様式!F72)","v":""},{"$f":"IF(P_14号7様式!G72=\"\",\"\",P_14号7様式!G72)","v":""},{"$f":"IF(P_14号7様式!H72=\"\",\"\",P_14号7様式!H72)","v":""},{"$f":"IF(P_14号7様式!I72=\"\",\"\",P_14号7様式!I72)","v":""},{"$f":"IF(P_14号7様式!J72=\"\",\"\",P_14号7様式!J72)","v":""},{"$f":"IF(P_14号7様式!K72=\"\",\"\",P_14号7様式!K72)","v":""},{"$f":"IF(P_14号7様式!L72=\"\",\"\",P_14号7様式!L72)","v":""},{"$f":"IF(P_14号7様式!M72=\"\",\"\",P_14号7様式!M72)","v":""},{"$f":"IF(P_14号7様式!N72=\"\",\"\",P_14号7様式!N72)","v":""},null,null,{"$f":"IF(P_14号7様式!O72=\"\",\"\",P_14号7様式!O72)","v":""},null,null,{"$f":"IF(P_14号7様式!P72=\"\",\"\",P_14号7様式!P72)","v":""},{"$f":"IF(P_14号7様式!Q72=\"\",\"\",P_14号7様式!Q72)","v":""},{"$f":"IF(P_14号7様式!R72=\"\",\"\",P_14号7様式!R72)","v":""},{"$f":"IF(P_14号7様式!S72=\"\",\"\",P_14号7様式!S72)","v":""},{"$f":"IF(P_14号7様式!T72=\"\",\"\",P_14号7様式!T72)","v":""}]
[{"$f":"IF(P_14号7様式!C73=\"\",\"\",P_14号7様式!C73)","v":""},null,{"$f":"IF(P_14号7様式!D73=\"\",\"\",P_14号7様式!D73)","v":""},{"$f":"IF(P_14号7様式!E73=\"\",\"\",P_14号7様式!E73)","v":""},{"$f":"IF(P_14号7様式!F73=\"\",\"\",P_14号7様式!F73)","v":""},{"$f":"IF(P_14号7様式!G73=\"\",\"\",P_14号7様式!G73)","v":""},{"$f":"IF(P_14号7様式!H73=\"\",\"\",P_14号7様式!H73)","v":""},{"$f":"IF(P_14号7様式!I73=\"\",\"\",P_14号7様式!I73)","v":""},{"$f":"IF(P_14号7様式!J73=\"\",\"\",P_14号7様式!J73)","v":""},{"$f":"IF(P_14号7様式!K73=\"\",\"\",P_14号7様式!K73)","v":""},{"$f":"IF(P_14号7様式!L73=\"\",\"\",P_14号7様式!L73)","v":""},{"$f":"IF(P_14号7様式!M73=\"\",\"\",P_14号7様式!M73)","v":""},{"$f":"IF(P_14号7様式!N73=\"\",\"\",P_14号7様式!N73)","v":""},null,null,{"$f":"IF(P_14号7様式!O73=\"\",\"\",P_14号7様式!O73)","v":""},null,null,{"$f":"IF(P_14号7様式!P73=\"\",\"\",P_14号7様式!P73)","v":""},{"$f":"IF(P_14号7様式!Q73=\"\",\"\",P_14号7様式!Q73)","v":""},{"$f":"IF(P_14号7様式!R73=\"\",\"\",P_14号7様式!R73)","v":""},{"$f":"IF(P_14号7様式!S73=\"\",\"\",P_14号7様式!S73)","v":""},{"$f":"IF(P_14号7様式!T73=\"\",\"\",P_14号7様式!T73)","v":""}]
[{"$f":"IF(P_14号7様式!C74=\"\",\"\",P_14号7様式!C74)","v":""},null,{"$f":"IF(P_14号7様式!D74=\"\",\"\",P_14号7様式!D74)","v":""},{"$f":"IF(P_14号7様式!E74=\"\",\"\",P_14号7様式!E74)","v":""},{"$f":"IF(P_14号7様式!F74=\"\",\"\",P_14号7様式!F74)","v":""},{"$f":"IF(P_14号7様式!G74=\"\",\"\",P_14号7様式!G74)","v":""},{"$f":"IF(P_14号7様式!H74=\"\",\"\",P_14号7様式!H74)","v":""},{"$f":"IF(P_14号7様式!I74=\"\",\"\",P_14号7様式!I74)","v":""},{"$f":"IF(P_14号7様式!J74=\"\",\"\",P_14号7様式!J74)","v":""},{"$f":"IF(P_14号7様式!K74=\"\",\"\",P_14号7様式!K74)","v":""},{"$f":"IF(P_14号7様式!L74=\"\",\"\",P_14号7様式!L74)","v":""},{"$f":"IF(P_14号7様式!M74=\"\",\"\",P_14号7様式!M74)","v":""},{"$f":"IF(P_14号7様式!N74=\"\",\"\",P_14号7様式!N74)","v":""},null,null,{"$f":"IF(P_14号7様式!O74=\"\",\"\",P_14号7様式!O74)","v":""},null,null,{"$f":"IF(P_14号7様式!P74=\"\",\"\",P_14号7様式!P74)","v":""},{"$f":"IF(P_14号7様式!Q74=\"\",\"\",P_14号7様式!Q74)","v":""},{"$f":"IF(P_14号7様式!R74=\"\",\"\",P_14号7様式!R74)","v":""},{"$f":"IF(P_14号7様式!S74=\"\",\"\",P_14号7様式!S74)","v":""},{"$f":"IF(P_14号7様式!T74=\"\",\"\",P_14号7様式!T74)","v":""}]
[{"$f":"IF(P_14号7様式!C75=\"\",\"\",P_14号7様式!C75)","v":""},null,{"$f":"IF(P_14号7様式!D75=\"\",\"\",P_14号7様式!D75)","v":""},{"$f":"IF(P_14号7様式!E75=\"\",\"\",P_14号7様式!E75)","v":""},{"$f":"IF(P_14号7様式!F75=\"\",\"\",P_14号7様式!F75)","v":""},{"$f":"IF(P_14号7様式!G75=\"\",\"\",P_14号7様式!G75)","v":""},{"$f":"IF(P_14号7様式!H75=\"\",\"\",P_14号7様式!H75)","v":""},{"$f":"IF(P_14号7様式!I75=\"\",\"\",P_14号7様式!I75)","v":""},{"$f":"IF(P_14号7様式!J75=\"\",\"\",P_14号7様式!J75)","v":""},{"$f":"IF(P_14号7様式!K75=\"\",\"\",P_14号7様式!K75)","v":""},{"$f":"IF(P_14号7様式!L75=\"\",\"\",P_14号7様式!L75)","v":""},{"$f":"IF(P_14号7様式!M75=\"\",\"\",P_14号7様式!M75)","v":""},{"$f":"IF(P_14号7様式!N75=\"\",\"\",P_14号7様式!N75)","v":""},null,null,{"$f":"IF(P_14号7様式!O75=\"\",\"\",P_14号7様式!O75)","v":""},null,null,{"$f":"IF(P_14号7様式!P75=\"\",\"\",P_14号7様式!P75)","v":""},{"$f":"IF(P_14号7様式!Q75=\"\",\"\",P_14号7様式!Q75)","v":""},{"$f":"IF(P_14号7様式!R75=\"\",\"\",P_14号7様式!R75)","v":""},{"$f":"IF(P_14号7様式!S75=\"\",\"\",P_14号7様式!S75)","v":""},{"$f":"IF(P_14号7様式!T75=\"\",\"\",P_14号7様式!T75)","v":""}]
[{"$f":"IF(P_14号7様式!C76=\"\",\"\",P_14号7様式!C76)","v":""},null,{"$f":"IF(P_14号7様式!D76=\"\",\"\",P_14号7様式!D76)","v":""},{"$f":"IF(P_14号7様式!E76=\"\",\"\",P_14号7様式!E76)","v":""},{"$f":"IF(P_14号7様式!F76=\"\",\"\",P_14号7様式!F76)","v":""},{"$f":"IF(P_14号7様式!G76=\"\",\"\",P_14号7様式!G76)","v":""},{"$f":"IF(P_14号7様式!H76=\"\",\"\",P_14号7様式!H76)","v":""},{"$f":"IF(P_14号7様式!I76=\"\",\"\",P_14号7様式!I76)","v":""},{"$f":"IF(P_14号7様式!J76=\"\",\"\",P_14号7様式!J76)","v":""},{"$f":"IF(P_14号7様式!K76=\"\",\"\",P_14号7様式!K76)","v":""},{"$f":"IF(P_14号7様式!L76=\"\",\"\",P_14号7様式!L76)","v":""},{"$f":"IF(P_14号7様式!M76=\"\",\"\",P_14号7様式!M76)","v":""},{"$f":"IF(P_14号7様式!N76=\"\",\"\",P_14号7様式!N76)","v":""},null,null,{"$f":"IF(P_14号7様式!O76=\"\",\"\",P_14号7様式!O76)","v":""},null,null,{"$f":"IF(P_14号7様式!P76=\"\",\"\",P_14号7様式!P76)","v":""},{"$f":"IF(P_14号7様式!Q76=\"\",\"\",P_14号7様式!Q76)","v":""},{"$f":"IF(P_14号7様式!R76=\"\",\"\",P_14号7様式!R76)","v":""},{"$f":"IF(P_14号7様式!S76=\"\",\"\",P_14号7様式!S76)","v":""},{"$f":"IF(P_14号7様式!T76=\"\",\"\",P_14号7様式!T76)","v":""}]
[{"$f":"IF(P_14号7様式!C77=\"\",\"\",P_14号7様式!C77)","v":""},null,{"$f":"IF(P_14号7様式!D77=\"\",\"\",P_14号7様式!D77)","v":""},{"$f":"IF(P_14号7様式!E77=\"\",\"\",P_14号7様式!E77)","v":""},{"$f":"IF(P_14号7様式!F77=\"\",\"\",P_14号7様式!F77)","v":""},{"$f":"IF(P_14号7様式!G77=\"\",\"\",P_14号7様式!G77)","v":""},{"$f":"IF(P_14号7様式!H77=\"\",\"\",P_14号7様式!H77)","v":""},{"$f":"IF(P_14号7様式!I77=\"\",\"\",P_14号7様式!I77)","v":""},{"$f":"IF(P_14号7様式!J77=\"\",\"\",P_14号7様式!J77)","v":""},{"$f":"IF(P_14号7様式!K77=\"\",\"\",P_14号7様式!K77)","v":""},{"$f":"IF(P_14号7様式!L77=\"\",\"\",P_14号7様式!L77)","v":""},{"$f":"IF(P_14号7様式!M77=\"\",\"\",P_14号7様式!M77)","v":""},{"$f":"IF(P_14号7様式!N77=\"\",\"\",P_14号7様式!N77)","v":""},null,null,{"$f":"IF(P_14号7様式!O77=\"\",\"\",P_14号7様式!O77)","v":""},null,null,{"$f":"IF(P_14号7様式!P77=\"\",\"\",P_14号7様式!P77)","v":""},{"$f":"IF(P_14号7様式!Q77=\"\",\"\",P_14号7様式!Q77)","v":""},{"$f":"IF(P_14号7様式!R77=\"\",\"\",P_14号7様式!R77)","v":""},{"$f":"IF(P_14号7様式!S77=\"\",\"\",P_14号7様式!S77)","v":""},{"$f":"IF(P_14号7様式!T77=\"\",\"\",P_14号7様式!T77)","v":""}]
[{"$f":"IF(P_14号7様式!C78=\"\",\"\",P_14号7様式!C78)","v":""},null,{"$f":"IF(P_14号7様式!D78=\"\",\"\",P_14号7様式!D78)","v":""},{"$f":"IF(P_14号7様式!E78=\"\",\"\",P_14号7様式!E78)","v":""},{"$f":"IF(P_14号7様式!F78=\"\",\"\",P_14号7様式!F78)","v":""},{"$f":"IF(P_14号7様式!G78=\"\",\"\",P_14号7様式!G78)","v":""},{"$f":"IF(P_14号7様式!H78=\"\",\"\",P_14号7様式!H78)","v":""},{"$f":"IF(P_14号7様式!I78=\"\",\"\",P_14号7様式!I78)","v":""},{"$f":"IF(P_14号7様式!J78=\"\",\"\",P_14号7様式!J78)","v":""},{"$f":"IF(P_14号7様式!K78=\"\",\"\",P_14号7様式!K78)","v":""},{"$f":"IF(P_14号7様式!L78=\"\",\"\",P_14号7様式!L78)","v":""},{"$f":"IF(P_14号7様式!M78=\"\",\"\",P_14号7様式!M78)","v":""},{"$f":"IF(P_14号7様式!N78=\"\",\"\",P_14号7様式!N78)","v":""},null,null,{"$f":"IF(P_14号7様式!O78=\"\",\"\",P_14号7様式!O78)","v":""},null,null,{"$f":"IF(P_14号7様式!P78=\"\",\"\",P_14号7様式!P78)","v":""},{"$f":"IF(P_14号7様式!Q78=\"\",\"\",P_14号7様式!Q78)","v":""},{"$f":"IF(P_14号7様式!R78=\"\",\"\",P_14号7様式!R78)","v":""},{"$f":"IF(P_14号7様式!S78=\"\",\"\",P_14号7様式!S78)","v":""},{"$f":"IF(P_14号7様式!T78=\"\",\"\",P_14号7様式!T78)","v":""}]
[{"$f":"IF(P_14号7様式!C79=\"\",\"\",P_14号7様式!C79)","v":""},null,{"$f":"IF(P_14号7様式!D79=\"\",\"\",P_14号7様式!D79)","v":""},{"$f":"IF(P_14号7様式!E79=\"\",\"\",P_14号7様式!E79)","v":""},{"$f":"IF(P_14号7様式!F79=\"\",\"\",P_14号7様式!F79)","v":""},{"$f":"IF(P_14号7様式!G79=\"\",\"\",P_14号7様式!G79)","v":""},{"$f":"IF(P_14号7様式!H79=\"\",\"\",P_14号7様式!H79)","v":""},{"$f":"IF(P_14号7様式!I79=\"\",\"\",P_14号7様式!I79)","v":""},{"$f":"IF(P_14号7様式!J79=\"\",\"\",P_14号7様式!J79)","v":""},{"$f":"IF(P_14号7様式!K79=\"\",\"\",P_14号7様式!K79)","v":""},{"$f":"IF(P_14号7様式!L79=\"\",\"\",P_14号7様式!L79)","v":""},{"$f":"IF(P_14号7様式!M79=\"\",\"\",P_14号7様式!M79)","v":""},{"$f":"IF(P_14号7様式!N79=\"\",\"\",P_14号7様式!N79)","v":""},null,null,{"$f":"IF(P_14号7様式!O79=\"\",\"\",P_14号7様式!O79)","v":""},null,null,{"$f":"IF(P_14号7様式!P79=\"\",\"\",P_14号7様式!P79)","v":""},{"$f":"IF(P_14号7様式!Q79=\"\",\"\",P_14号7様式!Q79)","v":""},{"$f":"IF(P_14号7様式!R79=\"\",\"\",P_14号7様式!R79)","v":""},{"$f":"IF(P_14号7様式!S79=\"\",\"\",P_14号7様式!S79)","v":""},{"$f":"IF(P_14号7様式!T79=\"\",\"\",P_14号7様式!T79)","v":""}]
[{"$f":"IF(P_14号7様式!C80=\"\",\"\",P_14号7様式!C80)","v":""},null,{"$f":"IF(P_14号7様式!D80=\"\",\"\",P_14号7様式!D80)","v":""},{"$f":"IF(P_14号7様式!E80=\"\",\"\",P_14号7様式!E80)","v":""},{"$f":"IF(P_14号7様式!F80=\"\",\"\",P_14号7様式!F80)","v":""},{"$f":"IF(P_14号7様式!G80=\"\",\"\",P_14号7様式!G80)","v":""},{"$f":"IF(P_14号7様式!H80=\"\",\"\",P_14号7様式!H80)","v":""},{"$f":"IF(P_14号7様式!I80=\"\",\"\",P_14号7様式!I80)","v":""},{"$f":"IF(P_14号7様式!J80=\"\",\"\",P_14号7様式!J80)","v":""},{"$f":"IF(P_14号7様式!K80=\"\",\"\",P_14号7様式!K80)","v":""},{"$f":"IF(P_14号7様式!L80=\"\",\"\",P_14号7様式!L80)","v":""},{"$f":"IF(P_14号7様式!M80=\"\",\"\",P_14号7様式!M80)","v":""},{"$f":"IF(P_14号7様式!N80=\"\",\"\",P_14号7様式!N80)","v":""},null,null,{"$f":"IF(P_14号7様式!O80=\"\",\"\",P_14号7様式!O80)","v":""},null,null,{"$f":"IF(P_14号7様式!P80=\"\",\"\",P_14号7様式!P80)","v":""},{"$f":"IF(P_14号7様式!Q80=\"\",\"\",P_14号7様式!Q80)","v":""},{"$f":"IF(P_14号7様式!R80=\"\",\"\",P_14号7様式!R80)","v":""},{"$f":"IF(P_14号7様式!S80=\"\",\"\",P_14号7様式!S80)","v":""},{"$f":"IF(P_14号7様式!T80=\"\",\"\",P_14号7様式!T80)","v":""}]
[{"$f":"IF(P_14号7様式!C81=\"\",\"\",P_14号7様式!C81)","v":""},null,{"$f":"IF(P_14号7様式!D81=\"\",\"\",P_14号7様式!D81)","v":""},{"$f":"IF(P_14号7様式!E81=\"\",\"\",P_14号7様式!E81)","v":""},{"$f":"IF(P_14号7様式!F81=\"\",\"\",P_14号7様式!F81)","v":""},{"$f":"IF(P_14号7様式!G81=\"\",\"\",P_14号7様式!G81)","v":""},{"$f":"IF(P_14号7様式!H81=\"\",\"\",P_14号7様式!H81)","v":""},{"$f":"IF(P_14号7様式!I81=\"\",\"\",P_14号7様式!I81)","v":""},{"$f":"IF(P_14号7様式!J81=\"\",\"\",P_14号7様式!J81)","v":""},{"$f":"IF(P_14号7様式!K81=\"\",\"\",P_14号7様式!K81)","v":""},{"$f":"IF(P_14号7様式!L81=\"\",\"\",P_14号7様式!L81)","v":""},{"$f":"IF(P_14号7様式!M81=\"\",\"\",P_14号7様式!M81)","v":""},{"$f":"IF(P_14号7様式!N81=\"\",\"\",P_14号7様式!N81)","v":""},null,null,{"$f":"IF(P_14号7様式!O81=\"\",\"\",P_14号7様式!O81)","v":""},null,null,{"$f":"IF(P_14号7様式!P81=\"\",\"\",P_14号7様式!P81)","v":""},{"$f":"IF(P_14号7様式!Q81=\"\",\"\",P_14号7様式!Q81)","v":""},{"$f":"IF(P_14号7様式!R81=\"\",\"\",P_14号7様式!R81)","v":""},{"$f":"IF(P_14号7様式!S81=\"\",\"\",P_14号7様式!S81)","v":""},{"$f":"IF(P_14号7様式!T81=\"\",\"\",P_14号7様式!T81)","v":""}]
[{"$f":"IF(P_14号7様式!C82=\"\",\"\",P_14号7様式!C82)","v":""},null,{"$f":"IF(P_14号7様式!D82=\"\",\"\",P_14号7様式!D82)","v":""},{"$f":"IF(P_14号7様式!E82=\"\",\"\",P_14号7様式!E82)","v":""},{"$f":"IF(P_14号7様式!F82=\"\",\"\",P_14号7様式!F82)","v":""},{"$f":"IF(P_14号7様式!G82=\"\",\"\",P_14号7様式!G82)","v":""},{"$f":"IF(P_14号7様式!H82=\"\",\"\",P_14号7様式!H82)","v":""},{"$f":"IF(P_14号7様式!I82=\"\",\"\",P_14号7様式!I82)","v":""},{"$f":"IF(P_14号7様式!J82=\"\",\"\",P_14号7様式!J82)","v":""},{"$f":"IF(P_14号7様式!K82=\"\",\"\",P_14号7様式!K82)","v":""},{"$f":"IF(P_14号7様式!L82=\"\",\"\",P_14号7様式!L82)","v":""},{"$f":"IF(P_14号7様式!M82=\"\",\"\",P_14号7様式!M82)","v":""},{"$f":"IF(P_14号7様式!N82=\"\",\"\",P_14号7様式!N82)","v":""},null,null,{"$f":"IF(P_14号7様式!O82=\"\",\"\",P_14号7様式!O82)","v":""},null,null,{"$f":"IF(P_14号7様式!P82=\"\",\"\",P_14号7様式!P82)","v":""},{"$f":"IF(P_14号7様式!Q82=\"\",\"\",P_14号7様式!Q82)","v":""},{"$f":"IF(P_14号7様式!R82=\"\",\"\",P_14号7様式!R82)","v":""},{"$f":"IF(P_14号7様式!S82=\"\",\"\",P_14号7様式!S82)","v":""},{"$f":"IF(P_14号7様式!T82=\"\",\"\",P_14号7様式!T82)","v":""}]
[{"$f":"IF(P_14号7様式!C83=\"\",\"\",P_14号7様式!C83)","v":""},null,{"$f":"IF(P_14号7様式!D83=\"\",\"\",P_14号7様式!D83)","v":""},{"$f":"IF(P_14号7様式!E83=\"\",\"\",P_14号7様式!E83)","v":""},{"$f":"IF(P_14号7様式!F83=\"\",\"\",P_14号7様式!F83)","v":""},{"$f":"IF(P_14号7様式!G83=\"\",\"\",P_14号7様式!G83)","v":""},{"$f":"IF(P_14号7様式!H83=\"\",\"\",P_14号7様式!H83)","v":""},{"$f":"IF(P_14号7様式!I83=\"\",\"\",P_14号7様式!I83)","v":""},{"$f":"IF(P_14号7様式!J83=\"\",\"\",P_14号7様式!J83)","v":""},{"$f":"IF(P_14号7様式!K83=\"\",\"\",P_14号7様式!K83)","v":""},{"$f":"IF(P_14号7様式!L83=\"\",\"\",P_14号7様式!L83)","v":""},{"$f":"IF(P_14号7様式!M83=\"\",\"\",P_14号7様式!M83)","v":""},{"$f":"IF(P_14号7様式!N83=\"\",\"\",P_14号7様式!N83)","v":""},null,null,{"$f":"IF(P_14号7様式!O83=\"\",\"\",P_14号7様式!O83)","v":""},null,null,{"$f":"IF(P_14号7様式!P83=\"\",\"\",P_14号7様式!P83)","v":""},{"$f":"IF(P_14号7様式!Q83=\"\",\"\",P_14号7様式!Q83)","v":""},{"$f":"IF(P_14号7様式!R83=\"\",\"\",P_14号7様式!R83)","v":""},{"$f":"IF(P_14号7様式!S83=\"\",\"\",P_14号7様式!S83)","v":""},{"$f":"IF(P_14号7様式!T83=\"\",\"\",P_14号7様式!T83)","v":""}]
[{"$f":"IF(P_14号7様式!C84=\"\",\"\",P_14号7様式!C84)","v":""},null,{"$f":"IF(P_14号7様式!D84=\"\",\"\",P_14号7様式!D84)","v":""},{"$f":"IF(P_14号7様式!E84=\"\",\"\",P_14号7様式!E84)","v":""},{"$f":"IF(P_14号7様式!F84=\"\",\"\",P_14号7様式!F84)","v":""},{"$f":"IF(P_14号7様式!G84=\"\",\"\",P_14号7様式!G84)","v":""},{"$f":"IF(P_14号7様式!H84=\"\",\"\",P_14号7様式!H84)","v":""},{"$f":"IF(P_14号7様式!I84=\"\",\"\",P_14号7様式!I84)","v":""},{"$f":"IF(P_14号7様式!J84=\"\",\"\",P_14号7様式!J84)","v":""},{"$f":"IF(P_14号7様式!K84=\"\",\"\",P_14号7様式!K84)","v":""},{"$f":"IF(P_14号7様式!L84=\"\",\"\",P_14号7様式!L84)","v":""},{"$f":"IF(P_14号7様式!M84=\"\",\"\",P_14号7様式!M84)","v":""},{"$f":"IF(P_14号7様式!N84=\"\",\"\",P_14号7様式!N84)","v":""},null,null,{"$f":"IF(P_14号7様式!O84=\"\",\"\",P_14号7様式!O84)","v":""},null,null,{"$f":"IF(P_14号7様式!P84=\"\",\"\",P_14号7様式!P84)","v":""},{"$f":"IF(P_14号7様式!Q84=\"\",\"\",P_14号7様式!Q84)","v":""},{"$f":"IF(P_14号7様式!R84=\"\",\"\",P_14号7様式!R84)","v":""},{"$f":"IF(P_14号7様式!S84=\"\",\"\",P_14号7様式!S84)","v":""},{"$f":"IF(P_14号7様式!T84=\"\",\"\",P_14号7様式!T84)","v":""}]
[{"$f":"IF(P_14号7様式!C85=\"\",\"\",P_14号7様式!C85)","v":""},null,{"$f":"IF(P_14号7様式!D85=\"\",\"\",P_14号7様式!D85)","v":""},{"$f":"IF(P_14号7様式!E85=\"\",\"\",P_14号7様式!E85)","v":""},{"$f":"IF(P_14号7様式!F85=\"\",\"\",P_14号7様式!F85)","v":""},{"$f":"IF(P_14号7様式!G85=\"\",\"\",P_14号7様式!G85)","v":""},{"$f":"IF(P_14号7様式!H85=\"\",\"\",P_14号7様式!H85)","v":""},{"$f":"IF(P_14号7様式!I85=\"\",\"\",P_14号7様式!I85)","v":""},{"$f":"IF(P_14号7様式!J85=\"\",\"\",P_14号7様式!J85)","v":""},{"$f":"IF(P_14号7様式!K85=\"\",\"\",P_14号7様式!K85)","v":""},{"$f":"IF(P_14号7様式!L85=\"\",\"\",P_14号7様式!L85)","v":""},{"$f":"IF(P_14号7様式!M85=\"\",\"\",P_14号7様式!M85)","v":""},{"$f":"IF(P_14号7様式!N85=\"\",\"\",P_14号7様式!N85)","v":""},null,null,{"$f":"IF(P_14号7様式!O85=\"\",\"\",P_14号7様式!O85)","v":""},null,null,{"$f":"IF(P_14号7様式!P85=\"\",\"\",P_14号7様式!P85)","v":""},{"$f":"IF(P_14号7様式!Q85=\"\",\"\",P_14号7様式!Q85)","v":""},{"$f":"IF(P_14号7様式!R85=\"\",\"\",P_14号7様式!R85)","v":""},{"$f":"IF(P_14号7様式!S85=\"\",\"\",P_14号7様式!S85)","v":""},{"$f":"IF(P_14号7様式!T85=\"\",\"\",P_14号7様式!T85)","v":""}]
[]
["県        計",null,{"$f":"IF(P_14号7様式!U44=\"\",\"\",P_14号7様式!U44)","v":407},{"$f":"IF(P_14号7様式!V44=\"\",\"\",P_14号7様式!V44)","v":520},{"$f":"IF(P_14号7様式!W44=\"\",\"\",P_14号7様式!W44)","v":927},{"$f":"IF(P_14号7様式!X44=\"\",\"\",P_14号7様式!X44)","v":26},{"$f":"IF(P_14号7様式!Y44=\"\",\"\",P_14号7様式!Y44)","v":41},{"$f":"IF(P_14号7様式!Z44=\"\",\"\",P_14号7様式!Z44)","v":67},{"$f":"IF(P_14号7様式!AA44=\"\",\"\",P_14号7様式!AA44)","v":381},{"$f":"IF(P_14号7様式!AB44=\"\",\"\",P_14号7様式!AB44)","v":479},{"$f":"IF(P_14号7様式!AC44=\"\",\"\",P_14号7様式!AC44)","v":860},{"$f":"IF(P_14号7様式!AD44=\"\",\"\",P_14号7様式!AD44)","v":6.38820638820639},{"$f":"IF(P_14号7様式!AE44=\"\",\"\",P_14号7様式!AE44)","v":7.8846153846153797},null,null,{"$f":"IF(P_14号7様式!AF44=\"\",\"\",P_14号7様式!AF44)","v":7.22761596548004},null,null,null,{"$f":"IF(P_14号7様式!AG44=\"\",\"\",P_14号7様式!AG44)","v":""},{"$f":"IF(P_14号7様式!AH44=\"\",\"\",P_14号7様式!AH44)","v":9.4594594594594597},{"$f":"IF(P_14号7様式!AI44=\"\",\"\",P_14号7様式!AI44)","v":8.2369942196531802},{"$f":"IF(P_14号7様式!AJ44=\"\",\"\",P_14号7様式!AJ44)","v":8.7603305785124004}]
[]
[]
[]
["第14号の7様式",null,null,null,null,null,null,null,null,null,null,null,null,null,null,null,null,null,null,null,null,{"$f":"IF(P_14号7様式!A86=\"\",\" ページ\", P_14号7様式!A86 & \"ページ\")","v":"3ページ"}]
[null,null,null,null,null,null,{"$f":"+G2","v":"投　票　速　報（在外）"},null,null,null,null,null,null,"中間報告",null,null,{"$f":"IF(P_14号7様式!AL86=\"\",\"第　　　回\",\"第 　\" & P_14号7様式!AL86 & \"　回\")","v":"第　　　回"},null,null,null,{"$f":"IF(P_14号7様式!AM86=\"\",\"        時     　 分　現在\",P_14号7様式!AM86)","v":"21:34:02"}]
[null,{"$f":"IF(パラメタシート!B1=\"\",\"\",パラメタシート!B1)","v":"2017-10-22"},null,null,null,null,null,null,null,null,null,null,null,"結了報告",null,null,null,null,null,null,{"$f":"IF(P_14号7様式!AG86=\"\",\"        時     　 分　結了\",P_14号7様式!AG86)","v":"        時     　 分　結了"}]
[null,{"$f":"IF(P_14号7様式!AK86=\"\",\"\",P_14号7様式!AK86)","v":""},null,null,null,null,null,"（ 選 挙 区 別 ）",null,null,null,null,null,null,null,null,null,null,null,null,null,"鹿 児 島 県"]
[]
["市区町村名",null,"当日在外有権者数（E'）\n（ 当日在外有権者見込(E)）",null,null,"（F）\n在　外　投　票　者　数",null,null,"（G）\n在　外　棄　権　者　数",null,null,"（H）",null,null,null,null,null,null,"投\n票\n率\n順\n位","投票\n結了\n時刻","前回選挙の投票率"]
[null,null,null,null,null,null,null,null,null,null,null,"在外投票率=",null,"（F）","(","（F）",")"]
[null,null,null,null,null,null,null,null,null,null,null,null,null,"（E'）",null,"（E）"]
[null,null,"男","女","計","男","女","計","男","女","計","男","女",null,null,"計",null,null,null,null,"男","女","計"]
[{"$f":"IF(P_14号7様式!C86=\"\",\"\",P_14号7様式!C86)","v":"【 第 ３ 区 】"},null,{"$f":"IF(P_14号7様式!D86=\"\",\"\",P_14号7様式!D86)","v":""},{"$f":"IF(P_14号7様式!E86=\"\",\"\",P_14号7様式!E86)","v":""},{"$f":"IF(P_14号7様式!F86=\"\",\"\",P_14号7様式!F86)","v":""},{"$f":"IF(P_14号7様式!G86=\"\",\"\",P_14号7様式!G86)","v":""},{"$f":"IF(P_14号7様式!H86=\"\",\"\",P_14号7様式!H86)","v":""},{"$f":"IF(P_14号7様式!I86=\"\",\"\",P_14号7様式!I86)","v":""},{"$f":"IF(P_14号7様式!J86=\"\",\"\",P_14号7様式!J86)","v":""},{"$f":"IF(P_14号7様式!K86=\"\",\"\",P_14号7様式!K86)","v":""},{"$f":"IF(P_14号7様式!L86=\"\",\"\",P_14号7様式!L86)","v":""},{"$f":"IF(P_14号7様式!M86=\"\",\"\",P_14号7様式!M86)","v":""},{"$f":"IF(P_14号7様式!N86=\"\",\"\",P_14号7様式!N86)","v":""},null,null,{"$f":"IF(P_14号7様式!O86=\"\",\"\",P_14号7様式!O86)","v":""},null,null,{"$f":"IF(P_14号7様式!P86=\"\",\"\",P_14号7様式!P86)","v":""},{"$f":"IF(P_14号7様式!Q86=\"\",\"\",P_14号7様式!Q86)","v":""},{"$f":"IF(P_14号7様式!R86=\"\",\"\",P_14号7様式!R86)","v":""},{"$f":"IF(P_14号7様式!S86=\"\",\"\",P_14号7様式!S86)","v":""},{"$f":"IF(P_14号7様式!T86=\"\",\"\",P_14号7様式!T86)","v":""}]
[{"$f":"IF(P_14号7様式!C87=\"\",\"\",P_14号7様式!C87)","v":"　阿久根市"},null,{"$f":"IF(P_14号7様式!D87=\"\",\"\",P_14号7様式!D87)","v":9},{"$f":"IF(P_14号7様式!E87=\"\",\"\",P_14号7様式!E87)","v":15},{"$f":"IF(P_14号7様式!F87=\"\",\"\",P_14号7様式!F87)","v":24},{"$f":"IF(P_14号7様式!G87=\"\",\"\",P_14号7様式!G87)","v":1},{"$f":"IF(P_14号7様式!H87=\"\",\"\",P_14号7様式!H87)","v":2},{"$f":"IF(P_14号7様式!I87=\"\",\"\",P_14号7様式!I87)","v":3},{"$f":"IF(P_14号7様式!J87=\"\",\"\",P_14号7様式!J87)","v":8},{"$f":"IF(P_14号7様式!K87=\"\",\"\",P_14号7様式!K87)","v":13},{"$f":"IF(P_14号7様式!L87=\"\",\"\",P_14号7様式!L87)","v":21},{"$f":"IF(P_14号7様式!M87=\"\",\"\",P_14号7様式!M87)","v":11.1111111111111},{"$f":"IF(P_14号7様式!N87=\"\",\"\",P_14号7様式!N87)","v":13.3333333333333},null,null,{"$f":"IF(P_14号7様式!O87=\"\",\"\",P_14号7様式!O87)","v":12.5},null,null,{"$f":"IF(P_14号7様式!P87=\"\",\"\",P_14号7様式!P87)","v":11},{"$f":"IF(P_14号7様式!Q87=\"\",\"\",P_14号7様式!Q87)","v":"20:37:00"},{"$f":"IF(P_14号7様式!R87=\"\",\"\",P_14号7様式!R87)","v":10},{"$f":"IF(P_14号7様式!S87=\"\",\"\",P_14号7様式!S87)","v":6.25},{"$f":"IF(P_14号7様式!T87=\"\",\"\",P_14号7様式!T87)","v":7.6923076923076898}]
[{"$f":"IF(P_14号7様式!C88=\"\",\"\",P_14号7様式!C88)","v":"　出水市"},null,{"$f":"IF(P_14号7様式!D88=\"\",\"\",P_14号7様式!D88)","v":10},{"$f":"IF(P_14号7様式!E88=\"\",\"\",P_14号7様式!E88)","v":13},{"$f":"IF(P_14号7様式!F88=\"\",\"\",P_14号7様式!F88)","v":23},{"$f":"IF(P_14号7様式!G88=\"\",\"\",P_14号7様式!G88)","v":0},{"$f":"IF(P_14号7様式!H88=\"\",\"\",P_14号7様式!H88)","v":1},{"$f":"IF(P_14号7様式!I88=\"\",\"\",P_14号7様式!I88)","v":1},{"$f":"IF(P_14号7様式!J88=\"\",\"\",P_14号7様式!J88)","v":10},{"$f":"IF(P_14号7様式!K88=\"\",\"\",P_14号7様式!K88)","v":12},{"$f":"IF(P_14号7様式!L88=\"\",\"\",P_14号7様式!L88)","v":22},{"$f":"IF(P_14号7様式!M88=\"\",\"\",P_14号7様式!M88)","v":0},{"$f":"IF(P_14号7様式!N88=\"\",\"\",P_14号7様式!N88)","v":7.6923076923076898},null,null,{"$f":"IF(P_14号7様式!O88=\"\",\"\",P_14号7様式!O88)","v":4.3478260869565197},null,null,{"$f":"IF(P_14号7様式!P88=\"\",\"\",P_14号7様式!P88)","v":21},{"$f":"IF(P_14号7様式!Q88=\"\",\"\",P_14号7様式!Q88)","v":"20:31:00"},{"$f":"IF(P_14号7様式!R88=\"\",\"\",P_14号7様式!R88)","v":9.0909090909090899},{"$f":"IF(P_14号7様式!S88=\"\",\"\",P_14号7様式!S88)","v":0},{"$f":"IF(P_14号7様式!T88=\"\",\"\",P_14号7様式!T88)","v":4.7619047619047601}]
[{"$f":"IF(P_14号7様式!C89=\"\",\"\",P_14号7様式!C89)","v":"　薩摩川内市第１"},null,{"$f":"IF(P_14号7様式!D89=\"\",\"\",P_14号7様式!D89)","v":37},{"$f":"IF(P_14号7様式!E89=\"\",\"\",P_14号7様式!E89)","v":45},{"$f":"IF(P_14号7様式!F89=\"\",\"\",P_14号7様式!F89)","v":82},{"$f":"IF(P_14号7様式!G89=\"\",\"\",P_14号7様式!G89)","v":1},{"$f":"IF(P_14号7様式!H89=\"\",\"\",P_14号7様式!H89)","v":4},{"$f":"IF(P_14号7様式!I89=\"\",\"\",P_14号7様式!I89)","v":5},{"$f":"IF(P_14号7様式!J89=\"\",\"\",P_14号7様式!J89)","v":36},{"$f":"IF(P_14号7様式!K89=\"\",\"\",P_14号7様式!K89)","v":41},{"$f":"IF(P_14号7様式!L89=\"\",\"\",P_14号7様式!L89)","v":77},{"$f":"IF(P_14号7様式!M89=\"\",\"\",P_14号7様式!M89)","v":2.7027027027027},{"$f":"IF(P_14号7様式!N89=\"\",\"\",P_14号7様式!N89)","v":8.8888888888888893},null,null,{"$f":"IF(P_14号7様式!O89=\"\",\"\",P_14号7様式!O89)","v":6.0975609756097597},null,null,{"$f":"IF(P_14号7様式!P89=\"\",\"\",P_14号7様式!P89)","v":19},{"$f":"IF(P_14号7様式!Q89=\"\",\"\",P_14号7様式!Q89)","v":"20:53:00"},{"$f":"IF(P_14号7様式!R89=\"\",\"\",P_14号7様式!R89)","v":10.8108108108108},{"$f":"IF(P_14号7様式!S89=\"\",\"\",P_14号7様式!S89)","v":16.6666666666667},{"$f":"IF(P_14号7様式!T89=\"\",\"\",P_14号7様式!T89)","v":13.924050632911401}]
[{"$f":"IF(P_14号7様式!C90=\"\",\"\",P_14号7様式!C90)","v":"　薩摩川内市第２"},null,{"$f":"IF(P_14号7様式!D90=\"\",\"\",P_14号7様式!D90)","v":0},{"$f":"IF(P_14号7様式!E90=\"\",\"\",P_14号7様式!E90)","v":0},{"$f":"IF(P_14号7様式!F90=\"\",\"\",P_14号7様式!F90)","v":0},{"$f":"IF(P_14号7様式!G90=\"\",\"\",P_14号7様式!G90)","v":0},{"$f":"IF(P_14号7様式!H90=\"\",\"\",P_14号7様式!H90)","v":0},{"$f":"IF(P_14号7様式!I90=\"\",\"\",P_14号7様式!I90)","v":0},{"$f":"IF(P_14号7様式!J90=\"\",\"\",P_14号7様式!J90)","v":0},{"$f":"IF(P_14号7様式!K90=\"\",\"\",P_14号7様式!K90)","v":0},{"$f":"IF(P_14号7様式!L90=\"\",\"\",P_14号7様式!L90)","v":0},{"$f":"IF(P_14号7様式!M90=\"\",\"\",P_14号7様式!M90)","v":0},{"$f":"IF(P_14号7様式!N90=\"\",\"\",P_14号7様式!N90)","v":0},null,null,{"$f":"IF(P_14号7様式!O90=\"\",\"\",P_14号7様式!O90)","v":0},null,null,{"$f":"IF(P_14号7様式!P90=\"\",\"\",P_14号7様式!P90)","v":""},{"$f":"IF(P_14号7様式!Q90=\"\",\"\",P_14号7様式!Q90)","v":"19:49:00"},{"$f":"IF(P_14号7様式!R90=\"\",\"\",P_14号7様式!R90)","v":0},{"$f":"IF(P_14号7様式!S90=\"\",\"\",P_14号7様式!S90)","v":0},{"$f":"IF(P_14号7様式!T90=\"\",\"\",P_14号7様式!T90)","v":0}]
[{"$f":"IF(P_14号7様式!C91=\"\",\"\",P_14号7様式!C91)","v":"　薩摩川内市第３"},null,{"$f":"IF(P_14号7様式!D91=\"\",\"\",P_14号7様式!D91)","v":0},{"$f":"IF(P_14号7様式!E91=\"\",\"\",P_14号7様式!E91)","v":0},{"$f":"IF(P_14号7様式!F91=\"\",\"\",P_14号7様式!F91)","v":0},{"$f":"IF(P_14号7様式!G91=\"\",\"\",P_14号7様式!G91)","v":0},{"$f":"IF(P_14号7様式!H91=\"\",\"\",P_14号7様式!H91)","v":0},{"$f":"IF(P_14号7様式!I91=\"\",\"\",P_14号7様式!I91)","v":0},{"$f":"IF(P_14号7様式!J91=\"\",\"\",P_14号7様式!J91)","v":0},{"$f":"IF(P_14号7様式!K91=\"\",\"\",P_14号7様式!K91)","v":0},{"$f":"IF(P_14号7様式!L91=\"\",\"\",P_14号7様式!L91)","v":0},{"$f":"IF(P_14号7様式!M91=\"\",\"\",P_14号7様式!M91)","v":0},{"$f":"IF(P_14号7様式!N91=\"\",\"\",P_14号7様式!N91)","v":0},null,null,{"$f":"IF(P_14号7様式!O91=\"\",\"\",P_14号7様式!O91)","v":0},null,null,{"$f":"IF(P_14号7様式!P91=\"\",\"\",P_14号7様式!P91)","v":""},{"$f":"IF(P_14号7様式!Q91=\"\",\"\",P_14号7様式!Q91)","v":"18:56:00"},{"$f":"IF(P_14号7様式!R91=\"\",\"\",P_14号7様式!R91)","v":0},{"$f":"IF(P_14号7様式!S91=\"\",\"\",P_14号7様式!S91)","v":0},{"$f":"IF(P_14号7様式!T91=\"\",\"\",P_14号7様式!T91)","v":0}]
[{"$f":"IF(P_14号7様式!C92=\"\",\"\",P_14号7様式!C92)","v":"＊（薩摩川内市）計"},null,{"$f":"IF(P_14号7様式!D92=\"\",\"\",P_14号7様式!D92)","v":37},{"$f":"IF(P_14号7様式!E92=\"\",\"\",P_14号7様式!E92)","v":45},{"$f":"IF(P_14号7様式!F92=\"\",\"\",P_14号7様式!F92)","v":82},{"$f":"IF(P_14号7様式!G92=\"\",\"\",P_14号7様式!G92)","v":1},{"$f":"IF(P_14号7様式!H92=\"\",\"\",P_14号7様式!H92)","v":4},{"$f":"IF(P_14号7様式!I92=\"\",\"\",P_14号7様式!I92)","v":5},{"$f":"IF(P_14号7様式!J92=\"\",\"\",P_14号7様式!J92)","v":36},{"$f":"IF(P_14号7様式!K92=\"\",\"\",P_14号7様式!K92)","v":41},{"$f":"IF(P_14号7様式!L92=\"\",\"\",P_14号7様式!L92)","v":77},{"$f":"IF(P_14号7様式!M92=\"\",\"\",P_14号7様式!M92)","v":2.7027027027027},{"$f":"IF(P_14号7様式!N92=\"\",\"\",P_14号7様式!N92)","v":8.8888888888888893},null,null,{"$f":"IF(P_14号7様式!O92=\"\",\"\",P_14号7様式!O92)","v":6.0975609756097597},null,null,{"$f":"IF(P_14号7様式!P92=\"\",\"\",P_14号7様式!P92)","v":""},{"$f":"IF(P_14号7様式!Q92=\"\",\"\",P_14号7様式!Q92)","v":"20:53:00"},{"$f":"IF(P_14号7様式!R92=\"\",\"\",P_14号7様式!R92)","v":10.8108108108108},{"$f":"IF(P_14号7様式!S92=\"\",\"\",P_14号7様式!S92)","v":16.6666666666667},{"$f":"IF(P_14号7様式!T92=\"\",\"\",P_14号7様式!T92)","v":13.924050632911401}]
[{"$f":"IF(P_14号7様式!C93=\"\",\"\",P_14号7様式!C93)","v":"　日置市"},null,{"$f":"IF(P_14号7様式!D93=\"\",\"\",P_14号7様式!D93)","v":22},{"$f":"IF(P_14号7様式!E93=\"\",\"\",P_14号7様式!E93)","v":33},{"$f":"IF(P_14号7様式!F93=\"\",\"\",P_14号7様式!F93)","v":55},{"$f":"IF(P_14号7様式!G93=\"\",\"\",P_14号7様式!G93)","v":3},{"$f":"IF(P_14号7様式!H93=\"\",\"\",P_14号7様式!H93)","v":4},{"$f":"IF(P_14号7様式!I93=\"\",\"\",P_14号7様式!I93)","v":7},{"$f":"IF(P_14号7様式!J93=\"\",\"\",P_14号7様式!J93)","v":19},{"$f":"IF(P_14号7様式!K93=\"\",\"\",P_14号7様式!K93)","v":29},{"$f":"IF(P_14号7様式!L93=\"\",\"\",P_14号7様式!L93)","v":48},{"$f":"IF(P_14号7様式!M93=\"\",\"\",P_14号7様式!M93)","v":13.636363636363599},{"$f":"IF(P_14号7様式!N93=\"\",\"\",P_14号7様式!N93)","v":12.1212121212121},null,null,{"$f":"IF(P_14号7様式!O93=\"\",\"\",P_14号7様式!O93)","v":12.7272727272727},null,null,{"$f":"IF(P_14号7様式!P93=\"\",\"\",P_14号7様式!P93)","v":10},{"$f":"IF(P_14号7様式!Q93=\"\",\"\",P_14号7様式!Q93)","v":"19:42:00"},{"$f":"IF(P_14号7様式!R93=\"\",\"\",P_14号7様式!R93)","v":0},{"$f":"IF(P_14号7様式!S93=\"\",\"\",P_14号7様式!S93)","v":12.5},{"$f":"IF(P_14号7様式!T93=\"\",\"\",P_14号7様式!T93)","v":7.5471698113207504}]
[{"$f":"IF(P_14号7様式!C94=\"\",\"\",P_14号7様式!C94)","v":"　いちき串木野市"},null,{"$f":"IF(P_14号7様式!D94=\"\",\"\",P_14号7様式!D94)","v":13},{"$f":"IF(P_14号7様式!E94=\"\",\"\",P_14号7様式!E94)","v":11},{"$f":"IF(P_14号7様式!F94=\"\",\"\",P_14号7様式!F94)","v":24},{"$f":"IF(P_14号7様式!G94=\"\",\"\",P_14号7様式!G94)","v":2},{"$f":"IF(P_14号7様式!H94=\"\",\"\",P_14号7様式!H94)","v":1},{"$f":"IF(P_14号7様式!I94=\"\",\"\",P_14号7様式!I94)","v":3},{"$f":"IF(P_14号7様式!J94=\"\",\"\",P_14号7様式!J94)","v":11},{"$f":"IF(P_14号7様式!K94=\"\",\"\",P_14号7様式!K94)","v":10},{"$f":"IF(P_14号7様式!L94=\"\",\"\",P_14号7様式!L94)","v":21},{"$f":"IF(P_14号7様式!M94=\"\",\"\",P_14号7様式!M94)","v":15.384615384615399},{"$f":"IF(P_14号7様式!N94=\"\",\"\",P_14号7様式!N94)","v":9.0909090909090899},null,null,{"$f":"IF(P_14号7様式!O94=\"\",\"\",P_14号7様式!O94)","v":12.5},null,null,{"$f":"IF(P_14号7様式!P94=\"\",\"\",P_14号7様式!P94)","v":11},{"$f":"IF(P_14号7様式!Q94=\"\",\"\",P_14号7様式!Q94)","v":"19:42:00"},{"$f":"IF(P_14号7様式!R94=\"\",\"\",P_14号7様式!R94)","v":16.6666666666667},{"$f":"IF(P_14号7様式!S94=\"\",\"\",P_14号7様式!S94)","v":14.285714285714301},{"$f":"IF(P_14号7様式!T94=\"\",\"\",P_14号7様式!T94)","v":15.384615384615399}]
[{"$f":"IF(P_14号7様式!C95=\"\",\"\",P_14号7様式!C95)","v":"　伊佐市"},null,{"$f":"IF(P_14号7様式!D95=\"\",\"\",P_14号7様式!D95)","v":17},{"$f":"IF(P_14号7様式!E95=\"\",\"\",P_14号7様式!E95)","v":24},{"$f":"IF(P_14号7様式!F95=\"\",\"\",P_14号7様式!F95)","v":41},{"$f":"IF(P_14号7様式!G95=\"\",\"\",P_14号7様式!G95)","v":0},{"$f":"IF(P_14号7様式!H95=\"\",\"\",P_14号7様式!H95)","v":0},{"$f":"IF(P_14号7様式!I95=\"\",\"\",P_14号7様式!I95)","v":0},{"$f":"IF(P_14号7様式!J95=\"\",\"\",P_14号7様式!J95)","v":17},{"$f":"IF(P_14号7様式!K95=\"\",\"\",P_14号7様式!K95)","v":24},{"$f":"IF(P_14号7様式!L95=\"\",\"\",P_14号7様式!L95)","v":41},{"$f":"IF(P_14号7様式!M95=\"\",\"\",P_14号7様式!M95)","v":0},{"$f":"IF(P_14号7様式!N95=\"\",\"\",P_14号7様式!N95)","v":0},null,null,{"$f":"IF(P_14号7様式!O95=\"\",\"\",P_14号7様式!O95)","v":0},null,null,{"$f":"IF(P_14号7様式!P95=\"\",\"\",P_14号7様式!P95)","v":24},{"$f":"IF(P_14号7様式!Q95=\"\",\"\",P_14号7様式!Q95)","v":"20:37:00"},{"$f":"IF(P_14号7様式!R95=\"\",\"\",P_14号7様式!R95)","v":5.8823529411764701},{"$f":"IF(P_14号7様式!S95=\"\",\"\",P_14号7様式!S95)","v":8.3333333333333304},{"$f":"IF(P_14号7様式!T95=\"\",\"\",P_14号7様式!T95)","v":7.3170731707317103}]
[{"$f":"IF(P_14号7様式!C96=\"\",\"\",P_14号7様式!C96)","v":"　姶良市"},null,{"$f":"IF(P_14号7様式!D96=\"\",\"\",P_14号7様式!D96)","v":12},{"$f":"IF(P_14号7様式!E96=\"\",\"\",P_14号7様式!E96)","v":32},{"$f":"IF(P_14号7様式!F96=\"\",\"\",P_14号7様式!F96)","v":44},{"$f":"IF(P_14号7様式!G96=\"\",\"\",P_14号7様式!G96)","v":2},{"$f":"IF(P_14号7様式!H96=\"\",\"\",P_14号7様式!H96)","v":5},{"$f":"IF(P_14号7様式!I96=\"\",\"\",P_14号7様式!I96)","v":7},{"$f":"IF(P_14号7様式!J96=\"\",\"\",P_14号7様式!J96)","v":10},{"$f":"IF(P_14号7様式!K96=\"\",\"\",P_14号7様式!K96)","v":27},{"$f":"IF(P_14号7様式!L96=\"\",\"\",P_14号7様式!L96)","v":37},{"$f":"IF(P_14号7様式!M96=\"\",\"\",P_14号7様式!M96)","v":16.6666666666667},{"$f":"IF(P_14号7様式!N96=\"\",\"\",P_14号7様式!N96)","v":15.625},null,null,{"$f":"IF(P_14号7様式!O96=\"\",\"\",P_14号7様式!O96)","v":15.909090909090899},null,null,{"$f":"IF(P_14号7様式!P96=\"\",\"\",P_14号7様式!P96)","v":6},{"$f":"IF(P_14号7様式!Q96=\"\",\"\",P_14号7様式!Q96)","v":"21:23:00"},{"$f":"IF(P_14号7様式!R96=\"\",\"\",P_14号7様式!R96)","v":18.181818181818201},{"$f":"IF(P_14号7様式!S96=\"\",\"\",P_14号7様式!S96)","v":12.5},{"$f":"IF(P_14号7様式!T96=\"\",\"\",P_14号7様式!T96)","v":13.953488372093}]
[{"$f":"IF(P_14号7様式!C97=\"\",\"\",P_14号7様式!C97)","v":"＊市　部    計"},null,{"$f":"IF(P_14号7様式!D97=\"\",\"\",P_14号7様式!D97)","v":120},{"$f":"IF(P_14号7様式!E97=\"\",\"\",P_14号7様式!E97)","v":173},{"$f":"IF(P_14号7様式!F97=\"\",\"\",P_14号7様式!F97)","v":293},{"$f":"IF(P_14号7様式!G97=\"\",\"\",P_14号7様式!G97)","v":9},{"$f":"IF(P_14号7様式!H97=\"\",\"\",P_14号7様式!H97)","v":17},{"$f":"IF(P_14号7様式!I97=\"\",\"\",P_14号7様式!I97)","v":26},{"$f":"IF(P_14号7様式!J97=\"\",\"\",P_14号7様式!J97)","v":111},{"$f":"IF(P_14号7様式!K97=\"\",\"\",P_14号7様式!K97)","v":156},{"$f":"IF(P_14号7様式!L97=\"\",\"\",P_14号7様式!L97)","v":267},{"$f":"IF(P_14号7様式!M97=\"\",\"\",P_14号7様式!M97)","v":7.5},{"$f":"IF(P_14号7様式!N97=\"\",\"\",P_14号7様式!N97)","v":9.8265895953757205},null,null,{"$f":"IF(P_14号7様式!O97=\"\",\"\",P_14号7様式!O97)","v":8.8737201365187701},null,null,{"$f":"IF(P_14号7様式!P97=\"\",\"\",P_14号7様式!P97)","v":""},{"$f":"IF(P_14号7様式!Q97=\"\",\"\",P_14号7様式!Q97)","v":"21:23:00"},{"$f":"IF(P_14号7様式!R97=\"\",\"\",P_14号7様式!R97)","v":9.2436974789915993},{"$f":"IF(P_14号7様式!S97=\"\",\"\",P_14号7様式!S97)","v":11.764705882352899},{"$f":"IF(P_14号7様式!T97=\"\",\"\",P_14号7様式!T97)","v":10.726643598615899}]
[{"$f":"IF(P_14号7様式!C98=\"\",\"\",P_14号7様式!C98)","v":"　さつま町"},null,{"$f":"IF(P_14号7様式!D98=\"\",\"\",P_14号7様式!D98)","v":10},{"$f":"IF(P_14号7様式!E98=\"\",\"\",P_14号7様式!E98)","v":9},{"$f":"IF(P_14号7様式!F98=\"\",\"\",P_14号7様式!F98)","v":19},{"$f":"IF(P_14号7様式!G98=\"\",\"\",P_14号7様式!G98)","v":1},{"$f":"IF(P_14号7様式!H98=\"\",\"\",P_14号7様式!H98)","v":2},{"$f":"IF(P_14号7様式!I98=\"\",\"\",P_14号7様式!I98)","v":3},{"$f":"IF(P_14号7様式!J98=\"\",\"\",P_14号7様式!J98)","v":9},{"$f":"IF(P_14号7様式!K98=\"\",\"\",P_14号7様式!K98)","v":7},{"$f":"IF(P_14号7様式!L98=\"\",\"\",P_14号7様式!L98)","v":16},{"$f":"IF(P_14号7様式!M98=\"\",\"\",P_14号7様式!M98)","v":10},{"$f":"IF(P_14号7様式!N98=\"\",\"\",P_14号7様式!N98)","v":22.2222222222222},null,null,{"$f":"IF(P_14号7様式!O98=\"\",\"\",P_14号7様式!O98)","v":15.789473684210501},null,null,{"$f":"IF(P_14号7様式!P98=\"\",\"\",P_14号7様式!P98)","v":7},{"$f":"IF(P_14号7様式!Q98=\"\",\"\",P_14号7様式!Q98)","v":"19:55:00"},{"$f":"IF(P_14号7様式!R98=\"\",\"\",P_14号7様式!R98)","v":10},{"$f":"IF(P_14号7様式!S98=\"\",\"\",P_14号7様式!S98)","v":12.5},{"$f":"IF(P_14号7様式!T98=\"\",\"\",P_14号7様式!T98)","v":11.1111111111111}]
[{"$f":"IF(P_14号7様式!C99=\"\",\"\",P_14号7様式!C99)","v":"＊（薩摩郡）計"},null,{"$f":"IF(P_14号7様式!D99=\"\",\"\",P_14号7様式!D99)","v":10},{"$f":"IF(P_14号7様式!E99=\"\",\"\",P_14号7様式!E99)","v":9},{"$f":"IF(P_14号7様式!F99=\"\",\"\",P_14号7様式!F99)","v":19},{"$f":"IF(P_14号7様式!G99=\"\",\"\",P_14号7様式!G99)","v":1},{"$f":"IF(P_14号7様式!H99=\"\",\"\",P_14号7様式!H99)","v":2},{"$f":"IF(P_14号7様式!I99=\"\",\"\",P_14号7様式!I99)","v":3},{"$f":"IF(P_14号7様式!J99=\"\",\"\",P_14号7様式!J99)","v":9},{"$f":"IF(P_14号7様式!K99=\"\",\"\",P_14号7様式!K99)","v":7},{"$f":"IF(P_14号7様式!L99=\"\",\"\",P_14号7様式!L99)","v":16},{"$f":"IF(P_14号7様式!M99=\"\",\"\",P_14号7様式!M99)","v":10},{"$f":"IF(P_14号7様式!N99=\"\",\"\",P_14号7様式!N99)","v":22.2222222222222},null,null,{"$f":"IF(P_14号7様式!O99=\"\",\"\",P_14号7様式!O99)","v":15.789473684210501},null,null,{"$f":"IF(P_14号7様式!P99=\"\",\"\",P_14号7様式!P99)","v":""},{"$f":"IF(P_14号7様式!Q99=\"\",\"\",P_14号7様式!Q99)","v":"19:55:00"},{"$f":"IF(P_14号7様式!R99=\"\",\"\",P_14号7様式!R99)","v":10},{"$f":"IF(P_14号7様式!S99=\"\",\"\",P_14号7様式!S99)","v":12.5},{"$f":"IF(P_14号7様式!T99=\"\",\"\",P_14号7様式!T99)","v":11.1111111111111}]
[{"$f":"IF(P_14号7様式!C100=\"\",\"\",P_14号7様式!C100)","v":"　長島町"},null,{"$f":"IF(P_14号7様式!D100=\"\",\"\",P_14号7様式!D100)","v":2},{"$f":"IF(P_14号7様式!E100=\"\",\"\",P_14号7様式!E100)","v":3},{"$f":"IF(P_14号7様式!F100=\"\",\"\",P_14号7様式!F100)","v":5},{"$f":"IF(P_14号7様式!G100=\"\",\"\",P_14号7様式!G100)","v":1},{"$f":"IF(P_14号7様式!H100=\"\",\"\",P_14号7様式!H100)","v":0},{"$f":"IF(P_14号7様式!I100=\"\",\"\",P_14号7様式!I100)","v":1},{"$f":"IF(P_14号7様式!J100=\"\",\"\",P_14号7様式!J100)","v":1},{"$f":"IF(P_14号7様式!K100=\"\",\"\",P_14号7様式!K100)","v":3},{"$f":"IF(P_14号7様式!L100=\"\",\"\",P_14号7様式!L100)","v":4},{"$f":"IF(P_14号7様式!M100=\"\",\"\",P_14号7様式!M100)","v":50},{"$f":"IF(P_14号7様式!N100=\"\",\"\",P_14号7様式!N100)","v":0},null,null,{"$f":"IF(P_14号7様式!O100=\"\",\"\",P_14号7様式!O100)","v":20},null,null,{"$f":"IF(P_14号7様式!P100=\"\",\"\",P_14号7様式!P100)","v":5},{"$f":"IF(P_14号7様式!Q100=\"\",\"\",P_14号7様式!Q100)","v":"20:28:00"},{"$f":"IF(P_14号7様式!R100=\"\",\"\",P_14号7様式!R100)","v":0},{"$f":"IF(P_14号7様式!S100=\"\",\"\",P_14号7様式!S100)","v":0},{"$f":"IF(P_14号7様式!T100=\"\",\"\",P_14号7様式!T100)","v":0}]
[{"$f":"IF(P_14号7様式!C101=\"\",\"\",P_14号7様式!C101)","v":"＊（出水郡）計"},null,{"$f":"IF(P_14号7様式!D101=\"\",\"\",P_14号7様式!D101)","v":2},{"$f":"IF(P_14号7様式!E101=\"\",\"\",P_14号7様式!E101)","v":3},{"$f":"IF(P_14号7様式!F101=\"\",\"\",P_14号7様式!F101)","v":5},{"$f":"IF(P_14号7様式!G101=\"\",\"\",P_14号7様式!G101)","v":1},{"$f":"IF(P_14号7様式!H101=\"\",\"\",P_14号7様式!H101)","v":0},{"$f":"IF(P_14号7様式!I101=\"\",\"\",P_14号7様式!I101)","v":1},{"$f":"IF(P_14号7様式!J101=\"\",\"\",P_14号7様式!J101)","v":1},{"$f":"IF(P_14号7様式!K101=\"\",\"\",P_14号7様式!K101)","v":3},{"$f":"IF(P_14号7様式!L101=\"\",\"\",P_14号7様式!L101)","v":4},{"$f":"IF(P_14号7様式!M101=\"\",\"\",P_14号7様式!M101)","v":50},{"$f":"IF(P_14号7様式!N101=\"\",\"\",P_14号7様式!N101)","v":0},null,null,{"$f":"IF(P_14号7様式!O101=\"\",\"\",P_14号7様式!O101)","v":20},null,null,{"$f":"IF(P_14号7様式!P101=\"\",\"\",P_14号7様式!P101)","v":""},{"$f":"IF(P_14号7様式!Q101=\"\",\"\",P_14号7様式!Q101)","v":"20:28:00"},{"$f":"IF(P_14号7様式!R101=\"\",\"\",P_14号7様式!R101)","v":0},{"$f":"IF(P_14号7様式!S101=\"\",\"\",P_14号7様式!S101)","v":0},{"$f":"IF(P_14号7様式!T101=\"\",\"\",P_14号7様式!T101)","v":0}]
[{"$f":"IF(P_14号7様式!C102=\"\",\"\",P_14号7様式!C102)","v":"　湧水町"},null,{"$f":"IF(P_14号7様式!D102=\"\",\"\",P_14号7様式!D102)","v":4},{"$f":"IF(P_14号7様式!E102=\"\",\"\",P_14号7様式!E102)","v":4},{"$f":"IF(P_14号7様式!F102=\"\",\"\",P_14号7様式!F102)","v":8},{"$f":"IF(P_14号7様式!G102=\"\",\"\",P_14号7様式!G102)","v":1},{"$f":"IF(P_14号7様式!H102=\"\",\"\",P_14号7様式!H102)","v":1},{"$f":"IF(P_14号7様式!I102=\"\",\"\",P_14号7様式!I102)","v":2},{"$f":"IF(P_14号7様式!J102=\"\",\"\",P_14号7様式!J102)","v":3},{"$f":"IF(P_14号7様式!K102=\"\",\"\",P_14号7様式!K102)","v":3},{"$f":"IF(P_14号7様式!L102=\"\",\"\",P_14号7様式!L102)","v":6},{"$f":"IF(P_14号7様式!M102=\"\",\"\",P_14号7様式!M102)","v":25},{"$f":"IF(P_14号7様式!N102=\"\",\"\",P_14号7様式!N102)","v":25},null,null,{"$f":"IF(P_14号7様式!O102=\"\",\"\",P_14号7様式!O102)","v":25},null,null,{"$f":"IF(P_14号7様式!P102=\"\",\"\",P_14号7様式!P102)","v":3},{"$f":"IF(P_14号7様式!Q102=\"\",\"\",P_14号7様式!Q102)","v":"19:54:00"},{"$f":"IF(P_14号7様式!R102=\"\",\"\",P_14号7様式!R102)","v":20},{"$f":"IF(P_14号7様式!S102=\"\",\"\",P_14号7様式!S102)","v":33.3333333333333},{"$f":"IF(P_14号7様式!T102=\"\",\"\",P_14号7様式!T102)","v":25}]
[{"$f":"IF(P_14号7様式!C103=\"\",\"\",P_14号7様式!C103)","v":"＊（姶良郡）計"},null,{"$f":"IF(P_14号7様式!D103=\"\",\"\",P_14号7様式!D103)","v":4},{"$f":"IF(P_14号7様式!E103=\"\",\"\",P_14号7様式!E103)","v":4},{"$f":"IF(P_14号7様式!F103=\"\",\"\",P_14号7様式!F103)","v":8},{"$f":"IF(P_14号7様式!G103=\"\",\"\",P_14号7様式!G103)","v":1},{"$f":"IF(P_14号7様式!H103=\"\",\"\",P_14号7様式!H103)","v":1},{"$f":"IF(P_14号7様式!I103=\"\",\"\",P_14号7様式!I103)","v":2},{"$f":"IF(P_14号7様式!J103=\"\",\"\",P_14号7様式!J103)","v":3},{"$f":"IF(P_14号7様式!K103=\"\",\"\",P_14号7様式!K103)","v":3},{"$f":"IF(P_14号7様式!L103=\"\",\"\",P_14号7様式!L103)","v":6},{"$f":"IF(P_14号7様式!M103=\"\",\"\",P_14号7様式!M103)","v":25},{"$f":"IF(P_14号7様式!N103=\"\",\"\",P_14号7様式!N103)","v":25},null,null,{"$f":"IF(P_14号7様式!O103=\"\",\"\",P_14号7様式!O103)","v":25},null,null,{"$f":"IF(P_14号7様式!P103=\"\",\"\",P_14号7様式!P103)","v":""},{"$f":"IF(P_14号7様式!Q103=\"\",\"\",P_14号7様式!Q103)","v":"19:54:00"},{"$f":"IF(P_14号7様式!R103=\"\",\"\",P_14号7様式!R103)","v":20},{"$f":"IF(P_14号7様式!S103=\"\",\"\",P_14号7様式!S103)","v":33.3333333333333},{"$f":"IF(P_14号7様式!T103=\"\",\"\",P_14号7様式!T103)","v":25}]
[{"$f":"IF(P_14号7様式!C104=\"\",\"\",P_14号7様式!C104)","v":"＊郡　部    計"},null,{"$f":"IF(P_14号7様式!D104=\"\",\"\",P_14号7様式!D104)","v":16},{"$f":"IF(P_14号7様式!E104=\"\",\"\",P_14号7様式!E104)","v":16},{"$f":"IF(P_14号7様式!F104=\"\",\"\",P_14号7様式!F104)","v":32},{"$f":"IF(P_14号7様式!G104=\"\",\"\",P_14号7様式!G104)","v":3},{"$f":"IF(P_14号7様式!H104=\"\",\"\",P_14号7様式!H104)","v":3},{"$f":"IF(P_14号7様式!I104=\"\",\"\",P_14号7様式!I104)","v":6},{"$f":"IF(P_14号7様式!J104=\"\",\"\",P_14号7様式!J104)","v":13},{"$f":"IF(P_14号7様式!K104=\"\",\"\",P_14号7様式!K104)","v":13},{"$f":"IF(P_14号7様式!L104=\"\",\"\",P_14号7様式!L104)","v":26},{"$f":"IF(P_14号7様式!M104=\"\",\"\",P_14号7様式!M104)","v":18.75},{"$f":"IF(P_14号7様式!N104=\"\",\"\",P_14号7様式!N104)","v":18.75},null,null,{"$f":"IF(P_14号7様式!O104=\"\",\"\",P_14号7様式!O104)","v":18.75},null,null,{"$f":"IF(P_14号7様式!P104=\"\",\"\",P_14号7様式!P104)","v":""},{"$f":"IF(P_14号7様式!Q104=\"\",\"\",P_14号7様式!Q104)","v":"20:28:00"},{"$f":"IF(P_14号7様式!R104=\"\",\"\",P_14号7様式!R104)","v":12.5},{"$f":"IF(P_14号7様式!S104=\"\",\"\",P_14号7様式!S104)","v":14.285714285714301},{"$f":"IF(P_14号7様式!T104=\"\",\"\",P_14号7様式!T104)","v":13.3333333333333}]
[{"$f":"IF(P_14号7様式!C105=\"\",\"\",P_14号7様式!C105)","v":"＊第 ３ 区  計"},null,{"$f":"IF(P_14号7様式!D105=\"\",\"\",P_14号7様式!D105)","v":136},{"$f":"IF(P_14号7様式!E105=\"\",\"\",P_14号7様式!E105)","v":189},{"$f":"IF(P_14号7様式!F105=\"\",\"\",P_14号7様式!F105)","v":325},{"$f":"IF(P_14号7様式!G105=\"\",\"\",P_14号7様式!G105)","v":12},{"$f":"IF(P_14号7様式!H105=\"\",\"\",P_14号7様式!H105)","v":20},{"$f":"IF(P_14号7様式!I105=\"\",\"\",P_14号7様式!I105)","v":32},{"$f":"IF(P_14号7様式!J105=\"\",\"\",P_14号7様式!J105)","v":124},{"$f":"IF(P_14号7様式!K105=\"\",\"\",P_14号7様式!K105)","v":169},{"$f":"IF(P_14号7様式!L105=\"\",\"\",P_14号7様式!L105)","v":293},{"$f":"IF(P_14号7様式!M105=\"\",\"\",P_14号7様式!M105)","v":8.8235294117647101},{"$f":"IF(P_14号7様式!N105=\"\",\"\",P_14号7様式!N105)","v":10.5820105820106},null,null,{"$f":"IF(P_14号7様式!O105=\"\",\"\",P_14号7様式!O105)","v":9.8461538461538503},null,null,{"$f":"IF(P_14号7様式!P105=\"\",\"\",P_14号7様式!P105)","v":""},{"$f":"IF(P_14号7様式!Q105=\"\",\"\",P_14号7様式!Q105)","v":"21:23:00"},{"$f":"IF(P_14号7様式!R105=\"\",\"\",P_14号7様式!R105)","v":9.6296296296296298},{"$f":"IF(P_14号7様式!S105=\"\",\"\",P_14号7様式!S105)","v":11.9565217391304},{"$f":"IF(P_14号7様式!T105=\"\",\"\",P_14号7様式!T105)","v":10.9717868338558}]
[{"$f":"IF(P_14号7様式!C106=\"\",\"\",P_14号7様式!C106)","v":""},null,{"$f":"IF(P_14号7様式!D106=\"\",\"\",P_14号7様式!D106)","v":""},{"$f":"IF(P_14号7様式!E106=\"\",\"\",P_14号7様式!E106)","v":""},{"$f":"IF(P_14号7様式!F106=\"\",\"\",P_14号7様式!F106)","v":""},{"$f":"IF(P_14号7様式!G106=\"\",\"\",P_14号7様式!G106)","v":""},{"$f":"IF(P_14号7様式!H106=\"\",\"\",P_14号7様式!H106)","v":""},{"$f":"IF(P_14号7様式!I106=\"\",\"\",P_14号7様式!I106)","v":""},{"$f":"IF(P_14号7様式!J106=\"\",\"\",P_14号7様式!J106)","v":""},{"$f":"IF(P_14号7様式!K106=\"\",\"\",P_14号7様式!K106)","v":""},{"$f":"IF(P_14号7様式!L106=\"\",\"\",P_14号7様式!L106)","v":""},{"$f":"IF(P_14号7様式!M106=\"\",\"\",P_14号7様式!M106)","v":""},{"$f":"IF(P_14号7様式!N106=\"\",\"\",P_14号7様式!N106)","v":""},null,null,{"$f":"IF(P_14号7様式!O106=\"\",\"\",P_14号7様式!O106)","v":""},null,null,{"$f":"IF(P_14号7様式!P106=\"\",\"\",P_14号7様式!P106)","v":""},{"$f":"IF(P_14号7様式!Q106=\"\",\"\",P_14号7様式!Q106)","v":""},{"$f":"IF(P_14号7様式!R106=\"\",\"\",P_14号7様式!R106)","v":""},{"$f":"IF(P_14号7様式!S106=\"\",\"\",P_14号7様式!S106)","v":""},{"$f":"IF(P_14号7様式!T106=\"\",\"\",P_14号7様式!T106)","v":""}]
[{"$f":"IF(P_14号7様式!C107=\"\",\"\",P_14号7様式!C107)","v":""},null,{"$f":"IF(P_14号7様式!D107=\"\",\"\",P_14号7様式!D107)","v":""},{"$f":"IF(P_14号7様式!E107=\"\",\"\",P_14号7様式!E107)","v":""},{"$f":"IF(P_14号7様式!F107=\"\",\"\",P_14号7様式!F107)","v":""},{"$f":"IF(P_14号7様式!G107=\"\",\"\",P_14号7様式!G107)","v":""},{"$f":"IF(P_14号7様式!H107=\"\",\"\",P_14号7様式!H107)","v":""},{"$f":"IF(P_14号7様式!I107=\"\",\"\",P_14号7様式!I107)","v":""},{"$f":"IF(P_14号7様式!J107=\"\",\"\",P_14号7様式!J107)","v":""},{"$f":"IF(P_14号7様式!K107=\"\",\"\",P_14号7様式!K107)","v":""},{"$f":"IF(P_14号7様式!L107=\"\",\"\",P_14号7様式!L107)","v":""},{"$f":"IF(P_14号7様式!M107=\"\",\"\",P_14号7様式!M107)","v":""},{"$f":"IF(P_14号7様式!N107=\"\",\"\",P_14号7様式!N107)","v":""},null,null,{"$f":"IF(P_14号7様式!O107=\"\",\"\",P_14号7様式!O107)","v":""},null,null,{"$f":"IF(P_14号7様式!P107=\"\",\"\",P_14号7様式!P107)","v":""},{"$f":"IF(P_14号7様式!Q107=\"\",\"\",P_14号7様式!Q107)","v":""},{"$f":"IF(P_14号7様式!R107=\"\",\"\",P_14号7様式!R107)","v":""},{"$f":"IF(P_14号7様式!S107=\"\",\"\",P_14号7様式!S107)","v":""},{"$f":"IF(P_14号7様式!T107=\"\",\"\",P_14号7様式!T107)","v":""}]
[{"$f":"IF(P_14号7様式!C108=\"\",\"\",P_14号7様式!C108)","v":""},null,{"$f":"IF(P_14号7様式!D108=\"\",\"\",P_14号7様式!D108)","v":""},{"$f":"IF(P_14号7様式!E108=\"\",\"\",P_14号7様式!E108)","v":""},{"$f":"IF(P_14号7様式!F108=\"\",\"\",P_14号7様式!F108)","v":""},{"$f":"IF(P_14号7様式!G108=\"\",\"\",P_14号7様式!G108)","v":""},{"$f":"IF(P_14号7様式!H108=\"\",\"\",P_14号7様式!H108)","v":""},{"$f":"IF(P_14号7様式!I108=\"\",\"\",P_14号7様式!I108)","v":""},{"$f":"IF(P_14号7様式!J108=\"\",\"\",P_14号7様式!J108)","v":""},{"$f":"IF(P_14号7様式!K108=\"\",\"\",P_14号7様式!K108)","v":""},{"$f":"IF(P_14号7様式!L108=\"\",\"\",P_14号7様式!L108)","v":""},{"$f":"IF(P_14号7様式!M108=\"\",\"\",P_14号7様式!M108)","v":""},{"$f":"IF(P_14号7様式!N108=\"\",\"\",P_14号7様式!N108)","v":""},null,null,{"$f":"IF(P_14号7様式!O108=\"\",\"\",P_14号7様式!O108)","v":""},null,null,{"$f":"IF(P_14号7様式!P108=\"\",\"\",P_14号7様式!P108)","v":""},{"$f":"IF(P_14号7様式!Q108=\"\",\"\",P_14号7様式!Q108)","v":""},{"$f":"IF(P_14号7様式!R108=\"\",\"\",P_14号7様式!R108)","v":""},{"$f":"IF(P_14号7様式!S108=\"\",\"\",P_14号7様式!S108)","v":""},{"$f":"IF(P_14号7様式!T108=\"\",\"\",P_14号7様式!T108)","v":""}]
[{"$f":"IF(P_14号7様式!C109=\"\",\"\",P_14号7様式!C109)","v":""},null,{"$f":"IF(P_14号7様式!D109=\"\",\"\",P_14号7様式!D109)","v":""},{"$f":"IF(P_14号7様式!E109=\"\",\"\",P_14号7様式!E109)","v":""},{"$f":"IF(P_14号7様式!F109=\"\",\"\",P_14号7様式!F109)","v":""},{"$f":"IF(P_14号7様式!G109=\"\",\"\",P_14号7様式!G109)","v":""},{"$f":"IF(P_14号7様式!H109=\"\",\"\",P_14号7様式!H109)","v":""},{"$f":"IF(P_14号7様式!I109=\"\",\"\",P_14号7様式!I109)","v":""},{"$f":"IF(P_14号7様式!J109=\"\",\"\",P_14号7様式!J109)","v":""},{"$f":"IF(P_14号7様式!K109=\"\",\"\",P_14号7様式!K109)","v":""},{"$f":"IF(P_14号7様式!L109=\"\",\"\",P_14号7様式!L109)","v":""},{"$f":"IF(P_14号7様式!M109=\"\",\"\",P_14号7様式!M109)","v":""},{"$f":"IF(P_14号7様式!N109=\"\",\"\",P_14号7様式!N109)","v":""},null,null,{"$f":"IF(P_14号7様式!O109=\"\",\"\",P_14号7様式!O109)","v":""},null,null,{"$f":"IF(P_14号7様式!P109=\"\",\"\",P_14号7様式!P109)","v":""},{"$f":"IF(P_14号7様式!Q109=\"\",\"\",P_14号7様式!Q109)","v":""},{"$f":"IF(P_14号7様式!R109=\"\",\"\",P_14号7様式!R109)","v":""},{"$f":"IF(P_14号7様式!S109=\"\",\"\",P_14号7様式!S109)","v":""},{"$f":"IF(P_14号7様式!T109=\"\",\"\",P_14号7様式!T109)","v":""}]
[{"$f":"IF(P_14号7様式!C110=\"\",\"\",P_14号7様式!C110)","v":""},null,{"$f":"IF(P_14号7様式!D110=\"\",\"\",P_14号7様式!D110)","v":""},{"$f":"IF(P_14号7様式!E110=\"\",\"\",P_14号7様式!E110)","v":""},{"$f":"IF(P_14号7様式!F110=\"\",\"\",P_14号7様式!F110)","v":""},{"$f":"IF(P_14号7様式!G110=\"\",\"\",P_14号7様式!G110)","v":""},{"$f":"IF(P_14号7様式!H110=\"\",\"\",P_14号7様式!H110)","v":""},{"$f":"IF(P_14号7様式!I110=\"\",\"\",P_14号7様式!I110)","v":""},{"$f":"IF(P_14号7様式!J110=\"\",\"\",P_14号7様式!J110)","v":""},{"$f":"IF(P_14号7様式!K110=\"\",\"\",P_14号7様式!K110)","v":""},{"$f":"IF(P_14号7様式!L110=\"\",\"\",P_14号7様式!L110)","v":""},{"$f":"IF(P_14号7様式!M110=\"\",\"\",P_14号7様式!M110)","v":""},{"$f":"IF(P_14号7様式!N110=\"\",\"\",P_14号7様式!N110)","v":""},null,null,{"$f":"IF(P_14号7様式!O110=\"\",\"\",P_14号7様式!O110)","v":""},null,null,{"$f":"IF(P_14号7様式!P110=\"\",\"\",P_14号7様式!P110)","v":""},{"$f":"IF(P_14号7様式!Q110=\"\",\"\",P_14号7様式!Q110)","v":""},{"$f":"IF(P_14号7様式!R110=\"\",\"\",P_14号7様式!R110)","v":""},{"$f":"IF(P_14号7様式!S110=\"\",\"\",P_14号7様式!S110)","v":""},{"$f":"IF(P_14号7様式!T110=\"\",\"\",P_14号7様式!T110)","v":""}]
[{"$f":"IF(P_14号7様式!C111=\"\",\"\",P_14号7様式!C111)","v":""},null,{"$f":"IF(P_14号7様式!D111=\"\",\"\",P_14号7様式!D111)","v":""},{"$f":"IF(P_14号7様式!E111=\"\",\"\",P_14号7様式!E111)","v":""},{"$f":"IF(P_14号7様式!F111=\"\",\"\",P_14号7様式!F111)","v":""},{"$f":"IF(P_14号7様式!G111=\"\",\"\",P_14号7様式!G111)","v":""},{"$f":"IF(P_14号7様式!H111=\"\",\"\",P_14号7様式!H111)","v":""},{"$f":"IF(P_14号7様式!I111=\"\",\"\",P_14号7様式!I111)","v":""},{"$f":"IF(P_14号7様式!J111=\"\",\"\",P_14号7様式!J111)","v":""},{"$f":"IF(P_14号7様式!K111=\"\",\"\",P_14号7様式!K111)","v":""},{"$f":"IF(P_14号7様式!L111=\"\",\"\",P_14号7様式!L111)","v":""},{"$f":"IF(P_14号7様式!M111=\"\",\"\",P_14号7様式!M111)","v":""},{"$f":"IF(P_14号7様式!N111=\"\",\"\",P_14号7様式!N111)","v":""},null,null,{"$f":"IF(P_14号7様式!O111=\"\",\"\",P_14号7様式!O111)","v":""},null,null,{"$f":"IF(P_14号7様式!P111=\"\",\"\",P_14号7様式!P111)","v":""},{"$f":"IF(P_14号7様式!Q111=\"\",\"\",P_14号7様式!Q111)","v":""},{"$f":"IF(P_14号7様式!R111=\"\",\"\",P_14号7様式!R111)","v":""},{"$f":"IF(P_14号7様式!S111=\"\",\"\",P_14号7様式!S111)","v":""},{"$f":"IF(P_14号7様式!T111=\"\",\"\",P_14号7様式!T111)","v":""}]
[{"$f":"IF(P_14号7様式!C112=\"\",\"\",P_14号7様式!C112)","v":""},null,{"$f":"IF(P_14号7様式!D112=\"\",\"\",P_14号7様式!D112)","v":""},{"$f":"IF(P_14号7様式!E112=\"\",\"\",P_14号7様式!E112)","v":""},{"$f":"IF(P_14号7様式!F112=\"\",\"\",P_14号7様式!F112)","v":""},{"$f":"IF(P_14号7様式!G112=\"\",\"\",P_14号7様式!G112)","v":""},{"$f":"IF(P_14号7様式!H112=\"\",\"\",P_14号7様式!H112)","v":""},{"$f":"IF(P_14号7様式!I112=\"\",\"\",P_14号7様式!I112)","v":""},{"$f":"IF(P_14号7様式!J112=\"\",\"\",P_14号7様式!J112)","v":""},{"$f":"IF(P_14号7様式!K112=\"\",\"\",P_14号7様式!K112)","v":""},{"$f":"IF(P_14号7様式!L112=\"\",\"\",P_14号7様式!L112)","v":""},{"$f":"IF(P_14号7様式!M112=\"\",\"\",P_14号7様式!M112)","v":""},{"$f":"IF(P_14号7様式!N112=\"\",\"\",P_14号7様式!N112)","v":""},null,null,{"$f":"IF(P_14号7様式!O112=\"\",\"\",P_14号7様式!O112)","v":""},null,null,{"$f":"IF(P_14号7様式!P112=\"\",\"\",P_14号7様式!P112)","v":""},{"$f":"IF(P_14号7様式!Q112=\"\",\"\",P_14号7様式!Q112)","v":""},{"$f":"IF(P_14号7様式!R112=\"\",\"\",P_14号7様式!R112)","v":""},{"$f":"IF(P_14号7様式!S112=\"\",\"\",P_14号7様式!S112)","v":""},{"$f":"IF(P_14号7様式!T112=\"\",\"\",P_14号7様式!T112)","v":""}]
[{"$f":"IF(P_14号7様式!C113=\"\",\"\",P_14号7様式!C113)","v":""},null,{"$f":"IF(P_14号7様式!D113=\"\",\"\",P_14号7様式!D113)","v":""},{"$f":"IF(P_14号7様式!E113=\"\",\"\",P_14号7様式!E113)","v":""},{"$f":"IF(P_14号7様式!F113=\"\",\"\",P_14号7様式!F113)","v":""},{"$f":"IF(P_14号7様式!G113=\"\",\"\",P_14号7様式!G113)","v":""},{"$f":"IF(P_14号7様式!H113=\"\",\"\",P_14号7様式!H113)","v":""},{"$f":"IF(P_14号7様式!I113=\"\",\"\",P_14号7様式!I113)","v":""},{"$f":"IF(P_14号7様式!J113=\"\",\"\",P_14号7様式!J113)","v":""},{"$f":"IF(P_14号7様式!K113=\"\",\"\",P_14号7様式!K113)","v":""},{"$f":"IF(P_14号7様式!L113=\"\",\"\",P_14号7様式!L113)","v":""},{"$f":"IF(P_14号7様式!M113=\"\",\"\",P_14号7様式!M113)","v":""},{"$f":"IF(P_14号7様式!N113=\"\",\"\",P_14号7様式!N113)","v":""},null,null,{"$f":"IF(P_14号7様式!O113=\"\",\"\",P_14号7様式!O113)","v":""},null,null,{"$f":"IF(P_14号7様式!P113=\"\",\"\",P_14号7様式!P113)","v":""},{"$f":"IF(P_14号7様式!Q113=\"\",\"\",P_14号7様式!Q113)","v":""},{"$f":"IF(P_14号7様式!R113=\"\",\"\",P_14号7様式!R113)","v":""},{"$f":"IF(P_14号7様式!S113=\"\",\"\",P_14号7様式!S113)","v":""},{"$f":"IF(P_14号7様式!T113=\"\",\"\",P_14号7様式!T113)","v":""}]
[{"$f":"IF(P_14号7様式!C114=\"\",\"\",P_14号7様式!C114)","v":""},null,{"$f":"IF(P_14号7様式!D114=\"\",\"\",P_14号7様式!D114)","v":""},{"$f":"IF(P_14号7様式!E114=\"\",\"\",P_14号7様式!E114)","v":""},{"$f":"IF(P_14号7様式!F114=\"\",\"\",P_14号7様式!F114)","v":""},{"$f":"IF(P_14号7様式!G114=\"\",\"\",P_14号7様式!G114)","v":""},{"$f":"IF(P_14号7様式!H114=\"\",\"\",P_14号7様式!H114)","v":""},{"$f":"IF(P_14号7様式!I114=\"\",\"\",P_14号7様式!I114)","v":""},{"$f":"IF(P_14号7様式!J114=\"\",\"\",P_14号7様式!J114)","v":""},{"$f":"IF(P_14号7様式!K114=\"\",\"\",P_14号7様式!K114)","v":""},{"$f":"IF(P_14号7様式!L114=\"\",\"\",P_14号7様式!L114)","v":""},{"$f":"IF(P_14号7様式!M114=\"\",\"\",P_14号7様式!M114)","v":""},{"$f":"IF(P_14号7様式!N114=\"\",\"\",P_14号7様式!N114)","v":""},null,null,{"$f":"IF(P_14号7様式!O114=\"\",\"\",P_14号7様式!O114)","v":""},null,null,{"$f":"IF(P_14号7様式!P114=\"\",\"\",P_14号7様式!P114)","v":""},{"$f":"IF(P_14号7様式!Q114=\"\",\"\",P_14号7様式!Q114)","v":""},{"$f":"IF(P_14号7様式!R114=\"\",\"\",P_14号7様式!R114)","v":""},{"$f":"IF(P_14号7様式!S114=\"\",\"\",P_14号7様式!S114)","v":""},{"$f":"IF(P_14号7様式!T114=\"\",\"\",P_14号7様式!T114)","v":""}]
[{"$f":"IF(P_14号7様式!C115=\"\",\"\",P_14号7様式!C115)","v":""},null,{"$f":"IF(P_14号7様式!D115=\"\",\"\",P_14号7様式!D115)","v":""},{"$f":"IF(P_14号7様式!E115=\"\",\"\",P_14号7様式!E115)","v":""},{"$f":"IF(P_14号7様式!F115=\"\",\"\",P_14号7様式!F115)","v":""},{"$f":"IF(P_14号7様式!G115=\"\",\"\",P_14号7様式!G115)","v":""},{"$f":"IF(P_14号7様式!H115=\"\",\"\",P_14号7様式!H115)","v":""},{"$f":"IF(P_14号7様式!I115=\"\",\"\",P_14号7様式!I115)","v":""},{"$f":"IF(P_14号7様式!J115=\"\",\"\",P_14号7様式!J115)","v":""},{"$f":"IF(P_14号7様式!K115=\"\",\"\",P_14号7様式!K115)","v":""},{"$f":"IF(P_14号7様式!L115=\"\",\"\",P_14号7様式!L115)","v":""},{"$f":"IF(P_14号7様式!M115=\"\",\"\",P_14号7様式!M115)","v":""},{"$f":"IF(P_14号7様式!N115=\"\",\"\",P_14号7様式!N115)","v":""},null,null,{"$f":"IF(P_14号7様式!O115=\"\",\"\",P_14号7様式!O115)","v":""},null,null,{"$f":"IF(P_14号7様式!P115=\"\",\"\",P_14号7様式!P115)","v":""},{"$f":"IF(P_14号7様式!Q115=\"\",\"\",P_14号7様式!Q115)","v":""},{"$f":"IF(P_14号7様式!R115=\"\",\"\",P_14号7様式!R115)","v":""},{"$f":"IF(P_14号7様式!S115=\"\",\"\",P_14号7様式!S115)","v":""},{"$f":"IF(P_14号7様式!T115=\"\",\"\",P_14号7様式!T115)","v":""}]
[{"$f":"IF(P_14号7様式!C116=\"\",\"\",P_14号7様式!C116)","v":""},null,{"$f":"IF(P_14号7様式!D116=\"\",\"\",P_14号7様式!D116)","v":""},{"$f":"IF(P_14号7様式!E116=\"\",\"\",P_14号7様式!E116)","v":""},{"$f":"IF(P_14号7様式!F116=\"\",\"\",P_14号7様式!F116)","v":""},{"$f":"IF(P_14号7様式!G116=\"\",\"\",P_14号7様式!G116)","v":""},{"$f":"IF(P_14号7様式!H116=\"\",\"\",P_14号7様式!H116)","v":""},{"$f":"IF(P_14号7様式!I116=\"\",\"\",P_14号7様式!I116)","v":""},{"$f":"IF(P_14号7様式!J116=\"\",\"\",P_14号7様式!J116)","v":""},{"$f":"IF(P_14号7様式!K116=\"\",\"\",P_14号7様式!K116)","v":""},{"$f":"IF(P_14号7様式!L116=\"\",\"\",P_14号7様式!L116)","v":""},{"$f":"IF(P_14号7様式!M116=\"\",\"\",P_14号7様式!M116)","v":""},{"$f":"IF(P_14号7様式!N116=\"\",\"\",P_14号7様式!N116)","v":""},null,null,{"$f":"IF(P_14号7様式!O116=\"\",\"\",P_14号7様式!O116)","v":""},null,null,{"$f":"IF(P_14号7様式!P116=\"\",\"\",P_14号7様式!P116)","v":""},{"$f":"IF(P_14号7様式!Q116=\"\",\"\",P_14号7様式!Q116)","v":""},{"$f":"IF(P_14号7様式!R116=\"\",\"\",P_14号7様式!R116)","v":""},{"$f":"IF(P_14号7様式!S116=\"\",\"\",P_14号7様式!S116)","v":""},{"$f":"IF(P_14号7様式!T116=\"\",\"\",P_14号7様式!T116)","v":""}]
[{"$f":"IF(P_14号7様式!C117=\"\",\"\",P_14号7様式!C117)","v":""},null,{"$f":"IF(P_14号7様式!D117=\"\",\"\",P_14号7様式!D117)","v":""},{"$f":"IF(P_14号7様式!E117=\"\",\"\",P_14号7様式!E117)","v":""},{"$f":"IF(P_14号7様式!F117=\"\",\"\",P_14号7様式!F117)","v":""},{"$f":"IF(P_14号7様式!G117=\"\",\"\",P_14号7様式!G117)","v":""},{"$f":"IF(P_14号7様式!H117=\"\",\"\",P_14号7様式!H117)","v":""},{"$f":"IF(P_14号7様式!I117=\"\",\"\",P_14号7様式!I117)","v":""},{"$f":"IF(P_14号7様式!J117=\"\",\"\",P_14号7様式!J117)","v":""},{"$f":"IF(P_14号7様式!K117=\"\",\"\",P_14号7様式!K117)","v":""},{"$f":"IF(P_14号7様式!L117=\"\",\"\",P_14号7様式!L117)","v":""},{"$f":"IF(P_14号7様式!M117=\"\",\"\",P_14号7様式!M117)","v":""},{"$f":"IF(P_14号7様式!N117=\"\",\"\",P_14号7様式!N117)","v":""},null,null,{"$f":"IF(P_14号7様式!O117=\"\",\"\",P_14号7様式!O117)","v":""},null,null,{"$f":"IF(P_14号7様式!P117=\"\",\"\",P_14号7様式!P117)","v":""},{"$f":"IF(P_14号7様式!Q117=\"\",\"\",P_14号7様式!Q117)","v":""},{"$f":"IF(P_14号7様式!R117=\"\",\"\",P_14号7様式!R117)","v":""},{"$f":"IF(P_14号7様式!S117=\"\",\"\",P_14号7様式!S117)","v":""},{"$f":"IF(P_14号7様式!T117=\"\",\"\",P_14号7様式!T117)","v":""}]
[{"$f":"IF(P_14号7様式!C118=\"\",\"\",P_14号7様式!C118)","v":""},null,{"$f":"IF(P_14号7様式!D118=\"\",\"\",P_14号7様式!D118)","v":""},{"$f":"IF(P_14号7様式!E118=\"\",\"\",P_14号7様式!E118)","v":""},{"$f":"IF(P_14号7様式!F118=\"\",\"\",P_14号7様式!F118)","v":""},{"$f":"IF(P_14号7様式!G118=\"\",\"\",P_14号7様式!G118)","v":""},{"$f":"IF(P_14号7様式!H118=\"\",\"\",P_14号7様式!H118)","v":""},{"$f":"IF(P_14号7様式!I118=\"\",\"\",P_14号7様式!I118)","v":""},{"$f":"IF(P_14号7様式!J118=\"\",\"\",P_14号7様式!J118)","v":""},{"$f":"IF(P_14号7様式!K118=\"\",\"\",P_14号7様式!K118)","v":""},{"$f":"IF(P_14号7様式!L118=\"\",\"\",P_14号7様式!L118)","v":""},{"$f":"IF(P_14号7様式!M118=\"\",\"\",P_14号7様式!M118)","v":""},{"$f":"IF(P_14号7様式!N118=\"\",\"\",P_14号7様式!N118)","v":""},null,null,{"$f":"IF(P_14号7様式!O118=\"\",\"\",P_14号7様式!O118)","v":""},null,null,{"$f":"IF(P_14号7様式!P118=\"\",\"\",P_14号7様式!P118)","v":""},{"$f":"IF(P_14号7様式!Q118=\"\",\"\",P_14号7様式!Q118)","v":""},{"$f":"IF(P_14号7様式!R118=\"\",\"\",P_14号7様式!R118)","v":""},{"$f":"IF(P_14号7様式!S118=\"\",\"\",P_14号7様式!S118)","v":""},{"$f":"IF(P_14号7様式!T118=\"\",\"\",P_14号7様式!T118)","v":""}]
[{"$f":"IF(P_14号7様式!C119=\"\",\"\",P_14号7様式!C119)","v":""},null,{"$f":"IF(P_14号7様式!D119=\"\",\"\",P_14号7様式!D119)","v":""},{"$f":"IF(P_14号7様式!E119=\"\",\"\",P_14号7様式!E119)","v":""},{"$f":"IF(P_14号7様式!F119=\"\",\"\",P_14号7様式!F119)","v":""},{"$f":"IF(P_14号7様式!G119=\"\",\"\",P_14号7様式!G119)","v":""},{"$f":"IF(P_14号7様式!H119=\"\",\"\",P_14号7様式!H119)","v":""},{"$f":"IF(P_14号7様式!I119=\"\",\"\",P_14号7様式!I119)","v":""},{"$f":"IF(P_14号7様式!J119=\"\",\"\",P_14号7様式!J119)","v":""},{"$f":"IF(P_14号7様式!K119=\"\",\"\",P_14号7様式!K119)","v":""},{"$f":"IF(P_14号7様式!L119=\"\",\"\",P_14号7様式!L119)","v":""},{"$f":"IF(P_14号7様式!M119=\"\",\"\",P_14号7様式!M119)","v":""},{"$f":"IF(P_14号7様式!N119=\"\",\"\",P_14号7様式!N119)","v":""},null,null,{"$f":"IF(P_14号7様式!O119=\"\",\"\",P_14号7様式!O119)","v":""},null,null,{"$f":"IF(P_14号7様式!P119=\"\",\"\",P_14号7様式!P119)","v":""},{"$f":"IF(P_14号7様式!Q119=\"\",\"\",P_14号7様式!Q119)","v":""},{"$f":"IF(P_14号7様式!R119=\"\",\"\",P_14号7様式!R119)","v":""},{"$f":"IF(P_14号7様式!S119=\"\",\"\",P_14号7様式!S119)","v":""},{"$f":"IF(P_14号7様式!T119=\"\",\"\",P_14号7様式!T119)","v":""}]
[{"$f":"IF(P_14号7様式!C120=\"\",\"\",P_14号7様式!C120)","v":""},null,{"$f":"IF(P_14号7様式!D120=\"\",\"\",P_14号7様式!D120)","v":""},{"$f":"IF(P_14号7様式!E120=\"\",\"\",P_14号7様式!E120)","v":""},{"$f":"IF(P_14号7様式!F120=\"\",\"\",P_14号7様式!F120)","v":""},{"$f":"IF(P_14号7様式!G120=\"\",\"\",P_14号7様式!G120)","v":""},{"$f":"IF(P_14号7様式!H120=\"\",\"\",P_14号7様式!H120)","v":""},{"$f":"IF(P_14号7様式!I120=\"\",\"\",P_14号7様式!I120)","v":""},{"$f":"IF(P_14号7様式!J120=\"\",\"\",P_14号7様式!J120)","v":""},{"$f":"IF(P_14号7様式!K120=\"\",\"\",P_14号7様式!K120)","v":""},{"$f":"IF(P_14号7様式!L120=\"\",\"\",P_14号7様式!L120)","v":""},{"$f":"IF(P_14号7様式!M120=\"\",\"\",P_14号7様式!M120)","v":""},{"$f":"IF(P_14号7様式!N120=\"\",\"\",P_14号7様式!N120)","v":""},null,null,{"$f":"IF(P_14号7様式!O120=\"\",\"\",P_14号7様式!O120)","v":""},null,null,{"$f":"IF(P_14号7様式!P120=\"\",\"\",P_14号7様式!P120)","v":""},{"$f":"IF(P_14号7様式!Q120=\"\",\"\",P_14号7様式!Q120)","v":""},{"$f":"IF(P_14号7様式!R120=\"\",\"\",P_14号7様式!R120)","v":""},{"$f":"IF(P_14号7様式!S120=\"\",\"\",P_14号7様式!S120)","v":""},{"$f":"IF(P_14号7様式!T120=\"\",\"\",P_14号7様式!T120)","v":""}]
[{"$f":"IF(P_14号7様式!C121=\"\",\"\",P_14号7様式!C121)","v":""},null,{"$f":"IF(P_14号7様式!D121=\"\",\"\",P_14号7様式!D121)","v":""},{"$f":"IF(P_14号7様式!E121=\"\",\"\",P_14号7様式!E121)","v":""},{"$f":"IF(P_14号7様式!F121=\"\",\"\",P_14号7様式!F121)","v":""},{"$f":"IF(P_14号7様式!G121=\"\",\"\",P_14号7様式!G121)","v":""},{"$f":"IF(P_14号7様式!H121=\"\",\"\",P_14号7様式!H121)","v":""},{"$f":"IF(P_14号7様式!I121=\"\",\"\",P_14号7様式!I121)","v":""},{"$f":"IF(P_14号7様式!J121=\"\",\"\",P_14号7様式!J121)","v":""},{"$f":"IF(P_14号7様式!K121=\"\",\"\",P_14号7様式!K121)","v":""},{"$f":"IF(P_14号7様式!L121=\"\",\"\",P_14号7様式!L121)","v":""},{"$f":"IF(P_14号7様式!M121=\"\",\"\",P_14号7様式!M121)","v":""},{"$f":"IF(P_14号7様式!N121=\"\",\"\",P_14号7様式!N121)","v":""},null,null,{"$f":"IF(P_14号7様式!O121=\"\",\"\",P_14号7様式!O121)","v":""},null,null,{"$f":"IF(P_14号7様式!P121=\"\",\"\",P_14号7様式!P121)","v":""},{"$f":"IF(P_14号7様式!Q121=\"\",\"\",P_14号7様式!Q121)","v":""},{"$f":"IF(P_14号7様式!R121=\"\",\"\",P_14号7様式!R121)","v":""},{"$f":"IF(P_14号7様式!S121=\"\",\"\",P_14号7様式!S121)","v":""},{"$f":"IF(P_14号7様式!T121=\"\",\"\",P_14号7様式!T121)","v":""}]
[{"$f":"IF(P_14号7様式!C122=\"\",\"\",P_14号7様式!C122)","v":""},null,{"$f":"IF(P_14号7様式!D122=\"\",\"\",P_14号7様式!D122)","v":""},{"$f":"IF(P_14号7様式!E122=\"\",\"\",P_14号7様式!E122)","v":""},{"$f":"IF(P_14号7様式!F122=\"\",\"\",P_14号7様式!F122)","v":""},{"$f":"IF(P_14号7様式!G122=\"\",\"\",P_14号7様式!G122)","v":""},{"$f":"IF(P_14号7様式!H122=\"\",\"\",P_14号7様式!H122)","v":""},{"$f":"IF(P_14号7様式!I122=\"\",\"\",P_14号7様式!I122)","v":""},{"$f":"IF(P_14号7様式!J122=\"\",\"\",P_14号7様式!J122)","v":""},{"$f":"IF(P_14号7様式!K122=\"\",\"\",P_14号7様式!K122)","v":""},{"$f":"IF(P_14号7様式!L122=\"\",\"\",P_14号7様式!L122)","v":""},{"$f":"IF(P_14号7様式!M122=\"\",\"\",P_14号7様式!M122)","v":""},{"$f":"IF(P_14号7様式!N122=\"\",\"\",P_14号7様式!N122)","v":""},null,null,{"$f":"IF(P_14号7様式!O122=\"\",\"\",P_14号7様式!O122)","v":""},null,null,{"$f":"IF(P_14号7様式!P122=\"\",\"\",P_14号7様式!P122)","v":""},{"$f":"IF(P_14号7様式!Q122=\"\",\"\",P_14号7様式!Q122)","v":""},{"$f":"IF(P_14号7様式!R122=\"\",\"\",P_14号7様式!R122)","v":""},{"$f":"IF(P_14号7様式!S122=\"\",\"\",P_14号7様式!S122)","v":""},{"$f":"IF(P_14号7様式!T122=\"\",\"\",P_14号7様式!T122)","v":""}]
[{"$f":"IF(P_14号7様式!C123=\"\",\"\",P_14号7様式!C123)","v":""},null,{"$f":"IF(P_14号7様式!D123=\"\",\"\",P_14号7様式!D123)","v":""},{"$f":"IF(P_14号7様式!E123=\"\",\"\",P_14号7様式!E123)","v":""},{"$f":"IF(P_14号7様式!F123=\"\",\"\",P_14号7様式!F123)","v":""},{"$f":"IF(P_14号7様式!G123=\"\",\"\",P_14号7様式!G123)","v":""},{"$f":"IF(P_14号7様式!H123=\"\",\"\",P_14号7様式!H123)","v":""},{"$f":"IF(P_14号7様式!I123=\"\",\"\",P_14号7様式!I123)","v":""},{"$f":"IF(P_14号7様式!J123=\"\",\"\",P_14号7様式!J123)","v":""},{"$f":"IF(P_14号7様式!K123=\"\",\"\",P_14号7様式!K123)","v":""},{"$f":"IF(P_14号7様式!L123=\"\",\"\",P_14号7様式!L123)","v":""},{"$f":"IF(P_14号7様式!M123=\"\",\"\",P_14号7様式!M123)","v":""},{"$f":"IF(P_14号7様式!N123=\"\",\"\",P_14号7様式!N123)","v":""},null,null,{"$f":"IF(P_14号7様式!O123=\"\",\"\",P_14号7様式!O123)","v":""},null,null,{"$f":"IF(P_14号7様式!P123=\"\",\"\",P_14号7様式!P123)","v":""},{"$f":"IF(P_14号7様式!Q123=\"\",\"\",P_14号7様式!Q123)","v":""},{"$f":"IF(P_14号7様式!R123=\"\",\"\",P_14号7様式!R123)","v":""},{"$f":"IF(P_14号7様式!S123=\"\",\"\",P_14号7様式!S123)","v":""},{"$f":"IF(P_14号7様式!T123=\"\",\"\",P_14号7様式!T123)","v":""}]
[{"$f":"IF(P_14号7様式!C124=\"\",\"\",P_14号7様式!C124)","v":""},null,{"$f":"IF(P_14号7様式!D124=\"\",\"\",P_14号7様式!D124)","v":""},{"$f":"IF(P_14号7様式!E124=\"\",\"\",P_14号7様式!E124)","v":""},{"$f":"IF(P_14号7様式!F124=\"\",\"\",P_14号7様式!F124)","v":""},{"$f":"IF(P_14号7様式!G124=\"\",\"\",P_14号7様式!G124)","v":""},{"$f":"IF(P_14号7様式!H124=\"\",\"\",P_14号7様式!H124)","v":""},{"$f":"IF(P_14号7様式!I124=\"\",\"\",P_14号7様式!I124)","v":""},{"$f":"IF(P_14号7様式!J124=\"\",\"\",P_14号7様式!J124)","v":""},{"$f":"IF(P_14号7様式!K124=\"\",\"\",P_14号7様式!K124)","v":""},{"$f":"IF(P_14号7様式!L124=\"\",\"\",P_14号7様式!L124)","v":""},{"$f":"IF(P_14号7様式!M124=\"\",\"\",P_14号7様式!M124)","v":""},{"$f":"IF(P_14号7様式!N124=\"\",\"\",P_14号7様式!N124)","v":""},null,null,{"$f":"IF(P_14号7様式!O124=\"\",\"\",P_14号7様式!O124)","v":""},null,null,{"$f":"IF(P_14号7様式!P124=\"\",\"\",P_14号7様式!P124)","v":""},{"$f":"IF(P_14号7様式!Q124=\"\",\"\",P_14号7様式!Q124)","v":""},{"$f":"IF(P_14号7様式!R124=\"\",\"\",P_14号7様式!R124)","v":""},{"$f":"IF(P_14号7様式!S124=\"\",\"\",P_14号7様式!S124)","v":""},{"$f":"IF(P_14号7様式!T124=\"\",\"\",P_14号7様式!T124)","v":""}]
[{"$f":"IF(P_14号7様式!C125=\"\",\"\",P_14号7様式!C125)","v":""},null,{"$f":"IF(P_14号7様式!D125=\"\",\"\",P_14号7様式!D125)","v":""},{"$f":"IF(P_14号7様式!E125=\"\",\"\",P_14号7様式!E125)","v":""},{"$f":"IF(P_14号7様式!F125=\"\",\"\",P_14号7様式!F125)","v":""},{"$f":"IF(P_14号7様式!G125=\"\",\"\",P_14号7様式!G125)","v":""},{"$f":"IF(P_14号7様式!H125=\"\",\"\",P_14号7様式!H125)","v":""},{"$f":"IF(P_14号7様式!I125=\"\",\"\",P_14号7様式!I125)","v":""},{"$f":"IF(P_14号7様式!J125=\"\",\"\",P_14号7様式!J125)","v":""},{"$f":"IF(P_14号7様式!K125=\"\",\"\",P_14号7様式!K125)","v":""},{"$f":"IF(P_14号7様式!L125=\"\",\"\",P_14号7様式!L125)","v":""},{"$f":"IF(P_14号7様式!M125=\"\",\"\",P_14号7様式!M125)","v":""},{"$f":"IF(P_14号7様式!N125=\"\",\"\",P_14号7様式!N125)","v":""},null,null,{"$f":"IF(P_14号7様式!O125=\"\",\"\",P_14号7様式!O125)","v":""},null,null,{"$f":"IF(P_14号7様式!P125=\"\",\"\",P_14号7様式!P125)","v":""},{"$f":"IF(P_14号7様式!Q125=\"\",\"\",P_14号7様式!Q125)","v":""},{"$f":"IF(P_14号7様式!R125=\"\",\"\",P_14号7様式!R125)","v":""},{"$f":"IF(P_14号7様式!S125=\"\",\"\",P_14号7様式!S125)","v":""},{"$f":"IF(P_14号7様式!T125=\"\",\"\",P_14号7様式!T125)","v":""}]
[{"$f":"IF(P_14号7様式!C126=\"\",\"\",P_14号7様式!C126)","v":""},null,{"$f":"IF(P_14号7様式!D126=\"\",\"\",P_14号7様式!D126)","v":""},{"$f":"IF(P_14号7様式!E126=\"\",\"\",P_14号7様式!E126)","v":""},{"$f":"IF(P_14号7様式!F126=\"\",\"\",P_14号7様式!F126)","v":""},{"$f":"IF(P_14号7様式!G126=\"\",\"\",P_14号7様式!G126)","v":""},{"$f":"IF(P_14号7様式!H126=\"\",\"\",P_14号7様式!H126)","v":""},{"$f":"IF(P_14号7様式!I126=\"\",\"\",P_14号7様式!I126)","v":""},{"$f":"IF(P_14号7様式!J126=\"\",\"\",P_14号7様式!J126)","v":""},{"$f":"IF(P_14号7様式!K126=\"\",\"\",P_14号7様式!K126)","v":""},{"$f":"IF(P_14号7様式!L126=\"\",\"\",P_14号7様式!L126)","v":""},{"$f":"IF(P_14号7様式!M126=\"\",\"\",P_14号7様式!M126)","v":""},{"$f":"IF(P_14号7様式!N126=\"\",\"\",P_14号7様式!N126)","v":""},null,null,{"$f":"IF(P_14号7様式!O126=\"\",\"\",P_14号7様式!O126)","v":""},null,null,{"$f":"IF(P_14号7様式!P126=\"\",\"\",P_14号7様式!P126)","v":""},{"$f":"IF(P_14号7様式!Q126=\"\",\"\",P_14号7様式!Q126)","v":""},{"$f":"IF(P_14号7様式!R126=\"\",\"\",P_14号7様式!R126)","v":""},{"$f":"IF(P_14号7様式!S126=\"\",\"\",P_14号7様式!S126)","v":""},{"$f":"IF(P_14号7様式!T126=\"\",\"\",P_14号7様式!T126)","v":""}]
[{"$f":"IF(P_14号7様式!C127=\"\",\"\",P_14号7様式!C127)","v":""},null,{"$f":"IF(P_14号7様式!D127=\"\",\"\",P_14号7様式!D127)","v":""},{"$f":"IF(P_14号7様式!E127=\"\",\"\",P_14号7様式!E127)","v":""},{"$f":"IF(P_14号7様式!F127=\"\",\"\",P_14号7様式!F127)","v":""},{"$f":"IF(P_14号7様式!G127=\"\",\"\",P_14号7様式!G127)","v":""},{"$f":"IF(P_14号7様式!H127=\"\",\"\",P_14号7様式!H127)","v":""},{"$f":"IF(P_14号7様式!I127=\"\",\"\",P_14号7様式!I127)","v":""},{"$f":"IF(P_14号7様式!J127=\"\",\"\",P_14号7様式!J127)","v":""},{"$f":"IF(P_14号7様式!K127=\"\",\"\",P_14号7様式!K127)","v":""},{"$f":"IF(P_14号7様式!L127=\"\",\"\",P_14号7様式!L127)","v":""},{"$f":"IF(P_14号7様式!M127=\"\",\"\",P_14号7様式!M127)","v":""},{"$f":"IF(P_14号7様式!N127=\"\",\"\",P_14号7様式!N127)","v":""},null,null,{"$f":"IF(P_14号7様式!O127=\"\",\"\",P_14号7様式!O127)","v":""},null,null,{"$f":"IF(P_14号7様式!P127=\"\",\"\",P_14号7様式!P127)","v":""},{"$f":"IF(P_14号7様式!Q127=\"\",\"\",P_14号7様式!Q127)","v":""},{"$f":"IF(P_14号7様式!R127=\"\",\"\",P_14号7様式!R127)","v":""},{"$f":"IF(P_14号7様式!S127=\"\",\"\",P_14号7様式!S127)","v":""},{"$f":"IF(P_14号7様式!T127=\"\",\"\",P_14号7様式!T127)","v":""}]
[]
["県        計",null,{"$f":"IF(P_14号7様式!U86=\"\",\"\",P_14号7様式!U86)","v":407},{"$f":"IF(P_14号7様式!V86=\"\",\"\",P_14号7様式!V86)","v":520},{"$f":"IF(P_14号7様式!W86=\"\",\"\",P_14号7様式!W86)","v":927},{"$f":"IF(P_14号7様式!X86=\"\",\"\",P_14号7様式!X86)","v":26},{"$f":"IF(P_14号7様式!Y86=\"\",\"\",P_14号7様式!Y86)","v":41},{"$f":"IF(P_14号7様式!Z86=\"\",\"\",P_14号7様式!Z86)","v":67},{"$f":"IF(P_14号7様式!AA86=\"\",\"\",P_14号7様式!AA86)","v":381},{"$f":"IF(P_14号7様式!AB86=\"\",\"\",P_14号7様式!AB86)","v":479},{"$f":"IF(P_14号7様式!AC86=\"\",\"\",P_14号7様式!AC86)","v":860},{"$f":"IF(P_14号7様式!AD86=\"\",\"\",P_14号7様式!AD86)","v":6.38820638820639},{"$f":"IF(P_14号7様式!AE86=\"\",\"\",P_14号7様式!AE86)","v":7.8846153846153797},null,null,{"$f":"IF(P_14号7様式!AF86=\"\",\"\",P_14号7様式!AF86)","v":7.22761596548004},null,null,null,{"$f":"IF(P_14号7様式!AG86=\"\",\"\",P_14号7様式!AG86)","v":""},{"$f":"IF(P_14号7様式!AH86=\"\",\"\",P_14号7様式!AH86)","v":9.4594594594594597},{"$f":"IF(P_14号7様式!AI86=\"\",\"\",P_14号7様式!AI86)","v":8.2369942196531802},{"$f":"IF(P_14号7様式!AJ86=\"\",\"\",P_14号7様式!AJ86)","v":8.7603305785124004}]
[]
[]
[]
["第14号の7様式",null,null,null,null,null,null,null,null,null,null,null,null,null,null,null,null,null,null,null,null,{"$f":"IF(P_14号7様式!A128=\"\",\" ページ\", P_14号7様式!A128 & \"ページ\")","v":"4ページ"}]
[null,null,null,null,null,null,{"$f":"+G2","v":"投　票　速　報（在外）"},null,null,null,null,null,null,"中間報告",null,null,{"$f":"IF(P_14号7様式!AL128=\"\",\"第　　　回\",\"第 　\" & P_14号7様式!AL128 & \"　回\")","v":"第　　　回"},null,null,null,{"$f":"IF(P_14号7様式!AM128=\"\",\"        時     　 分　現在\",P_14号7様式!AM128)","v":"21:34:02"}]
[null,{"$f":"IF(パラメタシート!B1=\"\",\"\",パラメタシート!B1)","v":"2017-10-22"},null,null,null,null,null,null,null,null,null,null,null,"結了報告",null,null,null,null,null,null,{"$f":"IF(P_14号7様式!AG128=\"\",\"        時     　 分　結了\",P_14号7様式!AG128)","v":"        時     　 分　結了"}]
[null,{"$f":"IF(P_14号7様式!AK128=\"\",\"\",P_14号7様式!AK128)","v":""},null,null,null,null,null,"（ 選 挙 区 別 ）",null,null,null,null,null,null,null,null,null,null,null,null,null,"鹿 児 島 県"]
[]
["市区町村名",null,"当日在外有権者数（E'）\n（ 当日在外有権者見込(E)）",null,null,"（F）\n在　外　投　票　者　数",null,null,"（G）\n在　外　棄　権　者　数",null,null,"（H）",null,null,null,null,null,null,"投\n票\n率\n順\n位","投票\n結了\n時刻","前回選挙の投票率"]
[null,null,null,null,null,null,null,null,null,null,null,"在外投票率=",null,"（F）","(","（F）",")"]
[null,null,null,null,null,null,null,null,null,null,null,null,null,"（E'）",null,"（E）"]
[null,null,"男","女","計","男","女","計","男","女","計","男","女",null,null,"計",null,null,null,null,"男","女","計"]
[{"$f":"IF(P_14号7様式!C128=\"\",\"\",P_14号7様式!C128)","v":"【 第 ４ 区 】"},null,{"$f":"IF(P_14号7様式!D128=\"\",\"\",P_14号7様式!D128)","v":""},{"$f":"IF(P_14号7様式!E128=\"\",\"\",P_14号7様式!E128)","v":""},{"$f":"IF(P_14号7様式!F128=\"\",\"\",P_14号7様式!F128)","v":""},{"$f":"IF(P_14号7様式!G128=\"\",\"\",P_14号7様式!G128)","v":""},{"$f":"IF(P_14号7様式!H128=\"\",\"\",P_14号7様式!H128)","v":""},{"$f":"IF(P_14号7様式!I128=\"\",\"\",P_14号7様式!I128)","v":""},{"$f":"IF(P_14号7様式!J128=\"\",\"\",P_14号7様式!J128)","v":""},{"$f":"IF(P_14号7様式!K128=\"\",\"\",P_14号7様式!K128)","v":""},{"$f":"IF(P_14号7様式!L128=\"\",\"\",P_14号7様式!L128)","v":""},{"$f":"IF(P_14号7様式!M128=\"\",\"\",P_14号7様式!M128)","v":""},{"$f":"IF(P_14号7様式!N128=\"\",\"\",P_14号7様式!N128)","v":""},null,null,{"$f":"IF(P_14号7様式!O128=\"\",\"\",P_14号7様式!O128)","v":""},null,null,{"$f":"IF(P_14号7様式!P128=\"\",\"\",P_14号7様式!P128)","v":""},{"$f":"IF(P_14号7様式!Q128=\"\",\"\",P_14号7様式!Q128)","v":""},{"$f":"IF(P_14号7様式!R128=\"\",\"\",P_14号7様式!R128)","v":""},{"$f":"IF(P_14号7様式!S128=\"\",\"\",P_14号7様式!S128)","v":""},{"$f":"IF(P_14号7様式!T128=\"\",\"\",P_14号7様式!T128)","v":""}]
[{"$f":"IF(P_14号7様式!C129=\"\",\"\",P_14号7様式!C129)","v":"　鹿屋市"},null,{"$f":"IF(P_14号7様式!D129=\"\",\"\",P_14号7様式!D129)","v":18},{"$f":"IF(P_14号7様式!E129=\"\",\"\",P_14号7様式!E129)","v":26},{"$f":"IF(P_14号7様式!F129=\"\",\"\",P_14号7様式!F129)","v":44},{"$f":"IF(P_14号7様式!G129=\"\",\"\",P_14号7様式!G129)","v":1},{"$f":"IF(P_14号7様式!H129=\"\",\"\",P_14号7様式!H129)","v":3},{"$f":"IF(P_14号7様式!I129=\"\",\"\",P_14号7様式!I129)","v":4},{"$f":"IF(P_14号7様式!J129=\"\",\"\",P_14号7様式!J129)","v":17},{"$f":"IF(P_14号7様式!K129=\"\",\"\",P_14号7様式!K129)","v":23},{"$f":"IF(P_14号7様式!L129=\"\",\"\",P_14号7様式!L129)","v":40},{"$f":"IF(P_14号7様式!M129=\"\",\"\",P_14号7様式!M129)","v":5.5555555555555598},{"$f":"IF(P_14号7様式!N129=\"\",\"\",P_14号7様式!N129)","v":11.538461538461499},null,null,{"$f":"IF(P_14号7様式!O129=\"\",\"\",P_14号7様式!O129)","v":9.0909090909090899},null,null,{"$f":"IF(P_14号7様式!P129=\"\",\"\",P_14号7様式!P129)","v":15},{"$f":"IF(P_14号7様式!Q129=\"\",\"\",P_14号7様式!Q129)","v":"21:24:00"},{"$f":"IF(P_14号7様式!R129=\"\",\"\",P_14号7様式!R129)","v":11.1111111111111},{"$f":"IF(P_14号7様式!S129=\"\",\"\",P_14号7様式!S129)","v":0},{"$f":"IF(P_14号7様式!T129=\"\",\"\",P_14号7様式!T129)","v":5}]
[{"$f":"IF(P_14号7様式!C130=\"\",\"\",P_14号7様式!C130)","v":"　西之表市"},null,{"$f":"IF(P_14号7様式!D130=\"\",\"\",P_14号7様式!D130)","v":3},{"$f":"IF(P_14号7様式!E130=\"\",\"\",P_14号7様式!E130)","v":9},{"$f":"IF(P_14号7様式!F130=\"\",\"\",P_14号7様式!F130)","v":12},{"$f":"IF(P_14号7様式!G130=\"\",\"\",P_14号7様式!G130)","v":0},{"$f":"IF(P_14号7様式!H130=\"\",\"\",P_14号7様式!H130)","v":1},{"$f":"IF(P_14号7様式!I130=\"\",\"\",P_14号7様式!I130)","v":1},{"$f":"IF(P_14号7様式!J130=\"\",\"\",P_14号7様式!J130)","v":3},{"$f":"IF(P_14号7様式!K130=\"\",\"\",P_14号7様式!K130)","v":8},{"$f":"IF(P_14号7様式!L130=\"\",\"\",P_14号7様式!L130)","v":11},{"$f":"IF(P_14号7様式!M130=\"\",\"\",P_14号7様式!M130)","v":0},{"$f":"IF(P_14号7様式!N130=\"\",\"\",P_14号7様式!N130)","v":11.1111111111111},null,null,{"$f":"IF(P_14号7様式!O130=\"\",\"\",P_14号7様式!O130)","v":8.3333333333333304},null,null,{"$f":"IF(P_14号7様式!P130=\"\",\"\",P_14号7様式!P130)","v":17},{"$f":"IF(P_14号7様式!Q130=\"\",\"\",P_14号7様式!Q130)","v":"19:49:00"},{"$f":"IF(P_14号7様式!R130=\"\",\"\",P_14号7様式!R130)","v":0},{"$f":"IF(P_14号7様式!S130=\"\",\"\",P_14号7様式!S130)","v":0},{"$f":"IF(P_14号7様式!T130=\"\",\"\",P_14号7様式!T130)","v":0}]
[{"$f":"IF(P_14号7様式!C131=\"\",\"\",P_14号7様式!C131)","v":"　垂水市"},null,{"$f":"IF(P_14号7様式!D131=\"\",\"\",P_14号7様式!D131)","v":8},{"$f":"IF(P_14号7様式!E131=\"\",\"\",P_14号7様式!E131)","v":12},{"$f":"IF(P_14号7様式!F131=\"\",\"\",P_14号7様式!F131)","v":20},{"$f":"IF(P_14号7様式!G131=\"\",\"\",P_14号7様式!G131)","v":0},{"$f":"IF(P_14号7様式!H131=\"\",\"\",P_14号7様式!H131)","v":1},{"$f":"IF(P_14号7様式!I131=\"\",\"\",P_14号7様式!I131)","v":1},{"$f":"IF(P_14号7様式!J131=\"\",\"\",P_14号7様式!J131)","v":8},{"$f":"IF(P_14号7様式!K131=\"\",\"\",P_14号7様式!K131)","v":11},{"$f":"IF(P_14号7様式!L131=\"\",\"\",P_14号7様式!L131)","v":19},{"$f":"IF(P_14号7様式!M131=\"\",\"\",P_14号7様式!M131)","v":0},{"$f":"IF(P_14号7様式!N131=\"\",\"\",P_14号7様式!N131)","v":8.3333333333333304},null,null,{"$f":"IF(P_14号7様式!O131=\"\",\"\",P_14号7様式!O131)","v":5},null,null,{"$f":"IF(P_14号7様式!P131=\"\",\"\",P_14号7様式!P131)","v":20},{"$f":"IF(P_14号7様式!Q131=\"\",\"\",P_14号7様式!Q131)","v":"20:32:00"},{"$f":"IF(P_14号7様式!R131=\"\",\"\",P_14号7様式!R131)","v":0},{"$f":"IF(P_14号7様式!S131=\"\",\"\",P_14号7様式!S131)","v":7.1428571428571397},{"$f":"IF(P_14号7様式!T131=\"\",\"\",P_14号7様式!T131)","v":4.3478260869565197}]
[{"$f":"IF(P_14号7様式!C132=\"\",\"\",P_14号7様式!C132)","v":"　曽於市"},null,{"$f":"IF(P_14号7様式!D132=\"\",\"\",P_14号7様式!D132)","v":18},{"$f":"IF(P_14号7様式!E132=\"\",\"\",P_14号7様式!E132)","v":15},{"$f":"IF(P_14号7様式!F132=\"\",\"\",P_14号7様式!F132)","v":33},{"$f":"IF(P_14号7様式!G132=\"\",\"\",P_14号7様式!G132)","v":1},{"$f":"IF(P_14号7様式!H132=\"\",\"\",P_14号7様式!H132)","v":2},{"$f":"IF(P_14号7様式!I132=\"\",\"\",P_14号7様式!I132)","v":3},{"$f":"IF(P_14号7様式!J132=\"\",\"\",P_14号7様式!J132)","v":17},{"$f":"IF(P_14号7様式!K132=\"\",\"\",P_14号7様式!K132)","v":13},{"$f":"IF(P_14号7様式!L132=\"\",\"\",P_14号7様式!L132)","v":30},{"$f":"IF(P_14号7様式!M132=\"\",\"\",P_14号7様式!M132)","v":5.5555555555555598},{"$f":"IF(P_14号7様式!N132=\"\",\"\",P_14号7様式!N132)","v":13.3333333333333},null,null,{"$f":"IF(P_14号7様式!O132=\"\",\"\",P_14号7様式!O132)","v":9.0909090909090899},null,null,{"$f":"IF(P_14号7様式!P132=\"\",\"\",P_14号7様式!P132)","v":15},{"$f":"IF(P_14号7様式!Q132=\"\",\"\",P_14号7様式!Q132)","v":"20:56:00"},{"$f":"IF(P_14号7様式!R132=\"\",\"\",P_14号7様式!R132)","v":11.1111111111111},{"$f":"IF(P_14号7様式!S132=\"\",\"\",P_14号7様式!S132)","v":5.5555555555555598},{"$f":"IF(P_14号7様式!T132=\"\",\"\",P_14号7様式!T132)","v":8.3333333333333304}]
[{"$f":"IF(P_14号7様式!C133=\"\",\"\",P_14号7様式!C133)","v":"　霧島市"},null,{"$f":"IF(P_14号7様式!D133=\"\",\"\",P_14号7様式!D133)","v":49},{"$f":"IF(P_14号7様式!E133=\"\",\"\",P_14号7様式!E133)","v":60},{"$f":"IF(P_14号7様式!F133=\"\",\"\",P_14号7様式!F133)","v":109},{"$f":"IF(P_14号7様式!G133=\"\",\"\",P_14号7様式!G133)","v":1},{"$f":"IF(P_14号7様式!H133=\"\",\"\",P_14号7様式!H133)","v":8},{"$f":"IF(P_14号7様式!I133=\"\",\"\",P_14号7様式!I133)","v":9},{"$f":"IF(P_14号7様式!J133=\"\",\"\",P_14号7様式!J133)","v":48},{"$f":"IF(P_14号7様式!K133=\"\",\"\",P_14号7様式!K133)","v":52},{"$f":"IF(P_14号7様式!L133=\"\",\"\",P_14号7様式!L133)","v":100},{"$f":"IF(P_14号7様式!M133=\"\",\"\",P_14号7様式!M133)","v":2.0408163265306101},{"$f":"IF(P_14号7様式!N133=\"\",\"\",P_14号7様式!N133)","v":13.3333333333333},null,null,{"$f":"IF(P_14号7様式!O133=\"\",\"\",P_14号7様式!O133)","v":8.2568807339449606},null,null,{"$f":"IF(P_14号7様式!P133=\"\",\"\",P_14号7様式!P133)","v":18},{"$f":"IF(P_14号7様式!Q133=\"\",\"\",P_14号7様式!Q133)","v":"20:54:00"},{"$f":"IF(P_14号7様式!R133=\"\",\"\",P_14号7様式!R133)","v":3.5714285714285698},{"$f":"IF(P_14号7様式!S133=\"\",\"\",P_14号7様式!S133)","v":13.3333333333333},{"$f":"IF(P_14号7様式!T133=\"\",\"\",P_14号7様式!T133)","v":8.6206896551724093}]
[{"$f":"IF(P_14号7様式!C134=\"\",\"\",P_14号7様式!C134)","v":"　志布志市"},null,{"$f":"IF(P_14号7様式!D134=\"\",\"\",P_14号7様式!D134)","v":7},{"$f":"IF(P_14号7様式!E134=\"\",\"\",P_14号7様式!E134)","v":15},{"$f":"IF(P_14号7様式!F134=\"\",\"\",P_14号7様式!F134)","v":22},{"$f":"IF(P_14号7様式!G134=\"\",\"\",P_14号7様式!G134)","v":1},{"$f":"IF(P_14号7様式!H134=\"\",\"\",P_14号7様式!H134)","v":2},{"$f":"IF(P_14号7様式!I134=\"\",\"\",P_14号7様式!I134)","v":3},{"$f":"IF(P_14号7様式!J134=\"\",\"\",P_14号7様式!J134)","v":6},{"$f":"IF(P_14号7様式!K134=\"\",\"\",P_14号7様式!K134)","v":13},{"$f":"IF(P_14号7様式!L134=\"\",\"\",P_14号7様式!L134)","v":19},{"$f":"IF(P_14号7様式!M134=\"\",\"\",P_14号7様式!M134)","v":14.285714285714301},{"$f":"IF(P_14号7様式!N134=\"\",\"\",P_14号7様式!N134)","v":13.3333333333333},null,null,{"$f":"IF(P_14号7様式!O134=\"\",\"\",P_14号7様式!O134)","v":13.636363636363599},null,null,{"$f":"IF(P_14号7様式!P134=\"\",\"\",P_14号7様式!P134)","v":9},{"$f":"IF(P_14号7様式!Q134=\"\",\"\",P_14号7様式!Q134)","v":"20:43:00"},{"$f":"IF(P_14号7様式!R134=\"\",\"\",P_14号7様式!R134)","v":16.6666666666667},{"$f":"IF(P_14号7様式!S134=\"\",\"\",P_14号7様式!S134)","v":14.285714285714301},{"$f":"IF(P_14号7様式!T134=\"\",\"\",P_14号7様式!T134)","v":15}]
[{"$f":"IF(P_14号7様式!C135=\"\",\"\",P_14号7様式!C135)","v":"＊市　部    計"},null,{"$f":"IF(P_14号7様式!D135=\"\",\"\",P_14号7様式!D135)","v":103},{"$f":"IF(P_14号7様式!E135=\"\",\"\",P_14号7様式!E135)","v":137},{"$f":"IF(P_14号7様式!F135=\"\",\"\",P_14号7様式!F135)","v":240},{"$f":"IF(P_14号7様式!G135=\"\",\"\",P_14号7様式!G135)","v":4},{"$f":"IF(P_14号7様式!H135=\"\",\"\",P_14号7様式!H135)","v":17},{"$f":"IF(P_14号7様式!I135=\"\",\"\",P_14号7様式!I135)","v":21},{"$f":"IF(P_14号7様式!J135=\"\",\"\",P_14号7様式!J135)","v":99},{"$f":"IF(P_14号7様式!K135=\"\",\"\",P_14号7様式!K135)","v":120},{"$f":"IF(P_14号7様式!L135=\"\",\"\",P_14号7様式!L135)","v":219},{"$f":"IF(P_14号7様式!M135=\"\",\"\",P_14号7様式!M135)","v":3.8834951456310698},{"$f":"IF(P_14号7様式!N135=\"\",\"\",P_14号7様式!N135)","v":12.408759124087601},null,null,{"$f":"IF(P_14号7様式!O135=\"\",\"\",P_14号7様式!O135)","v":8.75},null,null,{"$f":"IF(P_14号7様式!P135=\"\",\"\",P_14号7様式!P135)","v":""},{"$f":"IF(P_14号7様式!Q135=\"\",\"\",P_14号7様式!Q135)","v":"21:24:00"},{"$f":"IF(P_14号7様式!R135=\"\",\"\",P_14号7様式!R135)","v":6.3636363636363598},{"$f":"IF(P_14号7様式!S135=\"\",\"\",P_14号7様式!S135)","v":8.8235294117647101},{"$f":"IF(P_14号7様式!T135=\"\",\"\",P_14号7様式!T135)","v":7.7235772357723604}]
[{"$f":"IF(P_14号7様式!C136=\"\",\"\",P_14号7様式!C136)","v":"　大崎町"},null,{"$f":"IF(P_14号7様式!D136=\"\",\"\",P_14号7様式!D136)","v":2},{"$f":"IF(P_14号7様式!E136=\"\",\"\",P_14号7様式!E136)","v":3},{"$f":"IF(P_14号7様式!F136=\"\",\"\",P_14号7様式!F136)","v":5},{"$f":"IF(P_14号7様式!G136=\"\",\"\",P_14号7様式!G136)","v":0},{"$f":"IF(P_14号7様式!H136=\"\",\"\",P_14号7様式!H136)","v":0},{"$f":"IF(P_14号7様式!I136=\"\",\"\",P_14号7様式!I136)","v":0},{"$f":"IF(P_14号7様式!J136=\"\",\"\",P_14号7様式!J136)","v":2},{"$f":"IF(P_14号7様式!K136=\"\",\"\",P_14号7様式!K136)","v":3},{"$f":"IF(P_14号7様式!L136=\"\",\"\",P_14号7様式!L136)","v":5},{"$f":"IF(P_14号7様式!M136=\"\",\"\",P_14号7様式!M136)","v":0},{"$f":"IF(P_14号7様式!N136=\"\",\"\",P_14号7様式!N136)","v":0},null,null,{"$f":"IF(P_14号7様式!O136=\"\",\"\",P_14号7様式!O136)","v":0},null,null,{"$f":"IF(P_14号7様式!P136=\"\",\"\",P_14号7様式!P136)","v":24},{"$f":"IF(P_14号7様式!Q136=\"\",\"\",P_14号7様式!Q136)","v":"20:15:00"},{"$f":"IF(P_14号7様式!R136=\"\",\"\",P_14号7様式!R136)","v":0},{"$f":"IF(P_14号7様式!S136=\"\",\"\",P_14号7様式!S136)","v":0},{"$f":"IF(P_14号7様式!T136=\"\",\"\",P_14号7様式!T136)","v":0}]
[{"$f":"IF(P_14号7様式!C137=\"\",\"\",P_14号7様式!C137)","v":"＊（曽於郡）計"},null,{"$f":"IF(P_14号7様式!D137=\"\",\"\",P_14号7様式!D137)","v":2},{"$f":"IF(P_14号7様式!E137=\"\",\"\",P_14号7様式!E137)","v":3},{"$f":"IF(P_14号7様式!F137=\"\",\"\",P_14号7様式!F137)","v":5},{"$f":"IF(P_14号7様式!G137=\"\",\"\",P_14号7様式!G137)","v":0},{"$f":"IF(P_14号7様式!H137=\"\",\"\",P_14号7様式!H137)","v":0},{"$f":"IF(P_14号7様式!I137=\"\",\"\",P_14号7様式!I137)","v":0},{"$f":"IF(P_14号7様式!J137=\"\",\"\",P_14号7様式!J137)","v":2},{"$f":"IF(P_14号7様式!K137=\"\",\"\",P_14号7様式!K137)","v":3},{"$f":"IF(P_14号7様式!L137=\"\",\"\",P_14号7様式!L137)","v":5},{"$f":"IF(P_14号7様式!M137=\"\",\"\",P_14号7様式!M137)","v":0},{"$f":"IF(P_14号7様式!N137=\"\",\"\",P_14号7様式!N137)","v":0},null,null,{"$f":"IF(P_14号7様式!O137=\"\",\"\",P_14号7様式!O137)","v":0},null,null,{"$f":"IF(P_14号7様式!P137=\"\",\"\",P_14号7様式!P137)","v":""},{"$f":"IF(P_14号7様式!Q137=\"\",\"\",P_14号7様式!Q137)","v":"20:15:00"},{"$f":"IF(P_14号7様式!R137=\"\",\"\",P_14号7様式!R137)","v":0},{"$f":"IF(P_14号7様式!S137=\"\",\"\",P_14号7様式!S137)","v":0},{"$f":"IF(P_14号7様式!T137=\"\",\"\",P_14号7様式!T137)","v":0}]
[{"$f":"IF(P_14号7様式!C138=\"\",\"\",P_14号7様式!C138)","v":"　東串良町"},null,{"$f":"IF(P_14号7様式!D138=\"\",\"\",P_14号7様式!D138)","v":0},{"$f":"IF(P_14号7様式!E138=\"\",\"\",P_14号7様式!E138)","v":0},{"$f":"IF(P_14号7様式!F138=\"\",\"\",P_14号7様式!F138)","v":0},{"$f":"IF(P_14号7様式!G138=\"\",\"\",P_14号7様式!G138)","v":0},{"$f":"IF(P_14号7様式!H138=\"\",\"\",P_14号7様式!H138)","v":0},{"$f":"IF(P_14号7様式!I138=\"\",\"\",P_14号7様式!I138)","v":0},{"$f":"IF(P_14号7様式!J138=\"\",\"\",P_14号7様式!J138)","v":0},{"$f":"IF(P_14号7様式!K138=\"\",\"\",P_14号7様式!K138)","v":0},{"$f":"IF(P_14号7様式!L138=\"\",\"\",P_14号7様式!L138)","v":0},{"$f":"IF(P_14号7様式!M138=\"\",\"\",P_14号7様式!M138)","v":0},{"$f":"IF(P_14号7様式!N138=\"\",\"\",P_14号7様式!N138)","v":0},null,null,{"$f":"IF(P_14号7様式!O138=\"\",\"\",P_14号7様式!O138)","v":0},null,null,{"$f":"IF(P_14号7様式!P138=\"\",\"\",P_14号7様式!P138)","v":""},{"$f":"IF(P_14号7様式!Q138=\"\",\"\",P_14号7様式!Q138)","v":"19:16:00"},{"$f":"IF(P_14号7様式!R138=\"\",\"\",P_14号7様式!R138)","v":0},{"$f":"IF(P_14号7様式!S138=\"\",\"\",P_14号7様式!S138)","v":0},{"$f":"IF(P_14号7様式!T138=\"\",\"\",P_14号7様式!T138)","v":0}]
[{"$f":"IF(P_14号7様式!C139=\"\",\"\",P_14号7様式!C139)","v":"　錦江町"},null,{"$f":"IF(P_14号7様式!D139=\"\",\"\",P_14号7様式!D139)","v":2},{"$f":"IF(P_14号7様式!E139=\"\",\"\",P_14号7様式!E139)","v":4},{"$f":"IF(P_14号7様式!F139=\"\",\"\",P_14号7様式!F139)","v":6},{"$f":"IF(P_14号7様式!G139=\"\",\"\",P_14号7様式!G139)","v":1},{"$f":"IF(P_14号7様式!H139=\"\",\"\",P_14号7様式!H139)","v":1},{"$f":"IF(P_14号7様式!I139=\"\",\"\",P_14号7様式!I139)","v":2},{"$f":"IF(P_14号7様式!J139=\"\",\"\",P_14号7様式!J139)","v":1},{"$f":"IF(P_14号7様式!K139=\"\",\"\",P_14号7様式!K139)","v":3},{"$f":"IF(P_14号7様式!L139=\"\",\"\",P_14号7様式!L139)","v":4},{"$f":"IF(P_14号7様式!M139=\"\",\"\",P_14号7様式!M139)","v":50},{"$f":"IF(P_14号7様式!N139=\"\",\"\",P_14号7様式!N139)","v":25},null,null,{"$f":"IF(P_14号7様式!O139=\"\",\"\",P_14号7様式!O139)","v":33.3333333333333},null,null,{"$f":"IF(P_14号7様式!P139=\"\",\"\",P_14号7様式!P139)","v":2},{"$f":"IF(P_14号7様式!Q139=\"\",\"\",P_14号7様式!Q139)","v":"19:57:00"},{"$f":"IF(P_14号7様式!R139=\"\",\"\",P_14号7様式!R139)","v":50},{"$f":"IF(P_14号7様式!S139=\"\",\"\",P_14号7様式!S139)","v":0},{"$f":"IF(P_14号7様式!T139=\"\",\"\",P_14号7様式!T139)","v":14.285714285714301}]
[{"$f":"IF(P_14号7様式!C140=\"\",\"\",P_14号7様式!C140)","v":"　南大隅町"},null,{"$f":"IF(P_14号7様式!D140=\"\",\"\",P_14号7様式!D140)","v":2},{"$f":"IF(P_14号7様式!E140=\"\",\"\",P_14号7様式!E140)","v":5},{"$f":"IF(P_14号7様式!F140=\"\",\"\",P_14号7様式!F140)","v":7},{"$f":"IF(P_14号7様式!G140=\"\",\"\",P_14号7様式!G140)","v":0},{"$f":"IF(P_14号7様式!H140=\"\",\"\",P_14号7様式!H140)","v":0},{"$f":"IF(P_14号7様式!I140=\"\",\"\",P_14号7様式!I140)","v":0},{"$f":"IF(P_14号7様式!J140=\"\",\"\",P_14号7様式!J140)","v":2},{"$f":"IF(P_14号7様式!K140=\"\",\"\",P_14号7様式!K140)","v":5},{"$f":"IF(P_14号7様式!L140=\"\",\"\",P_14号7様式!L140)","v":7},{"$f":"IF(P_14号7様式!M140=\"\",\"\",P_14号7様式!M140)","v":0},{"$f":"IF(P_14号7様式!N140=\"\",\"\",P_14号7様式!N140)","v":0},null,null,{"$f":"IF(P_14号7様式!O140=\"\",\"\",P_14号7様式!O140)","v":0},null,null,{"$f":"IF(P_14号7様式!P140=\"\",\"\",P_14号7様式!P140)","v":24},{"$f":"IF(P_14号7様式!Q140=\"\",\"\",P_14号7様式!Q140)","v":"19:52:00"},{"$f":"IF(P_14号7様式!R140=\"\",\"\",P_14号7様式!R140)","v":0},{"$f":"IF(P_14号7様式!S140=\"\",\"\",P_14号7様式!S140)","v":0},{"$f":"IF(P_14号7様式!T140=\"\",\"\",P_14号7様式!T140)","v":0}]
[{"$f":"IF(P_14号7様式!C141=\"\",\"\",P_14号7様式!C141)","v":"　肝付町"},null,{"$f":"IF(P_14号7様式!D141=\"\",\"\",P_14号7様式!D141)","v":5},{"$f":"IF(P_14号7様式!E141=\"\",\"\",P_14号7様式!E141)","v":3},{"$f":"IF(P_14号7様式!F141=\"\",\"\",P_14号7様式!F141)","v":8},{"$f":"IF(P_14号7様式!G141=\"\",\"\",P_14号7様式!G141)","v":0},{"$f":"IF(P_14号7様式!H141=\"\",\"\",P_14号7様式!H141)","v":0},{"$f":"IF(P_14号7様式!I141=\"\",\"\",P_14号7様式!I141)","v":0},{"$f":"IF(P_14号7様式!J141=\"\",\"\",P_14号7様式!J141)","v":5},{"$f":"IF(P_14号7様式!K141=\"\",\"\",P_14号7様式!K141)","v":3},{"$f":"IF(P_14号7様式!L141=\"\",\"\",P_14号7様式!L141)","v":8},{"$f":"IF(P_14号7様式!M141=\"\",\"\",P_14号7様式!M141)","v":0},{"$f":"IF(P_14号7様式!N141=\"\",\"\",P_14号7様式!N141)","v":0},null,null,{"$f":"IF(P_14号7様式!O141=\"\",\"\",P_14号7様式!O141)","v":0},null,null,{"$f":"IF(P_14号7様式!P141=\"\",\"\",P_14号7様式!P141)","v":24},{"$f":"IF(P_14号7様式!Q141=\"\",\"\",P_14号7様式!Q141)","v":"20:10:00"},{"$f":"IF(P_14号7様式!R141=\"\",\"\",P_14号7様式!R141)","v":0},{"$f":"IF(P_14号7様式!S141=\"\",\"\",P_14号7様式!S141)","v":0},{"$f":"IF(P_14号7様式!T141=\"\",\"\",P_14号7様式!T141)","v":0}]
[{"$f":"IF(P_14号7様式!C142=\"\",\"\",P_14号7様式!C142)","v":"＊（肝属郡）計"},null,{"$f":"IF(P_14号7様式!D142=\"\",\"\",P_14号7様式!D142)","v":9},{"$f":"IF(P_14号7様式!E142=\"\",\"\",P_14号7様式!E142)","v":12},{"$f":"IF(P_14号7様式!F142=\"\",\"\",P_14号7様式!F142)","v":21},{"$f":"IF(P_14号7様式!G142=\"\",\"\",P_14号7様式!G142)","v":1},{"$f":"IF(P_14号7様式!H142=\"\",\"\",P_14号7様式!H142)","v":1},{"$f":"IF(P_14号7様式!I142=\"\",\"\",P_14号7様式!I142)","v":2},{"$f":"IF(P_14号7様式!J142=\"\",\"\",P_14号7様式!J142)","v":8},{"$f":"IF(P_14号7様式!K142=\"\",\"\",P_14号7様式!K142)","v":11},{"$f":"IF(P_14号7様式!L142=\"\",\"\",P_14号7様式!L142)","v":19},{"$f":"IF(P_14号7様式!M142=\"\",\"\",P_14号7様式!M142)","v":11.1111111111111},{"$f":"IF(P_14号7様式!N142=\"\",\"\",P_14号7様式!N142)","v":8.3333333333333304},null,null,{"$f":"IF(P_14号7様式!O142=\"\",\"\",P_14号7様式!O142)","v":9.5238095238095202},null,null,{"$f":"IF(P_14号7様式!P142=\"\",\"\",P_14号7様式!P142)","v":""},{"$f":"IF(P_14号7様式!Q142=\"\",\"\",P_14号7様式!Q142)","v":"20:10:00"},{"$f":"IF(P_14号7様式!R142=\"\",\"\",P_14号7様式!R142)","v":11.1111111111111},{"$f":"IF(P_14号7様式!S142=\"\",\"\",P_14号7様式!S142)","v":0},{"$f":"IF(P_14号7様式!T142=\"\",\"\",P_14号7様式!T142)","v":4.5454545454545503}]
[{"$f":"IF(P_14号7様式!C143=\"\",\"\",P_14号7様式!C143)","v":"　中種子町"},null,{"$f":"IF(P_14号7様式!D143=\"\",\"\",P_14号7様式!D143)","v":1},{"$f":"IF(P_14号7様式!E143=\"\",\"\",P_14号7様式!E143)","v":2},{"$f":"IF(P_14号7様式!F143=\"\",\"\",P_14号7様式!F143)","v":3},{"$f":"IF(P_14号7様式!G143=\"\",\"\",P_14号7様式!G143)","v":0},{"$f":"IF(P_14号7様式!H143=\"\",\"\",P_14号7様式!H143)","v":0},{"$f":"IF(P_14号7様式!I143=\"\",\"\",P_14号7様式!I143)","v":0},{"$f":"IF(P_14号7様式!J143=\"\",\"\",P_14号7様式!J143)","v":1},{"$f":"IF(P_14号7様式!K143=\"\",\"\",P_14号7様式!K143)","v":2},{"$f":"IF(P_14号7様式!L143=\"\",\"\",P_14号7様式!L143)","v":3},{"$f":"IF(P_14号7様式!M143=\"\",\"\",P_14号7様式!M143)","v":0},{"$f":"IF(P_14号7様式!N143=\"\",\"\",P_14号7様式!N143)","v":0},null,null,{"$f":"IF(P_14号7様式!O143=\"\",\"\",P_14号7様式!O143)","v":0},null,null,{"$f":"IF(P_14号7様式!P143=\"\",\"\",P_14号7様式!P143)","v":24},{"$f":"IF(P_14号7様式!Q143=\"\",\"\",P_14号7様式!Q143)","v":"19:44:00"},{"$f":"IF(P_14号7様式!R143=\"\",\"\",P_14号7様式!R143)","v":0},{"$f":"IF(P_14号7様式!S143=\"\",\"\",P_14号7様式!S143)","v":0},{"$f":"IF(P_14号7様式!T143=\"\",\"\",P_14号7様式!T143)","v":0}]
[{"$f":"IF(P_14号7様式!C144=\"\",\"\",P_14号7様式!C144)","v":"　南種子町"},null,{"$f":"IF(P_14号7様式!D144=\"\",\"\",P_14号7様式!D144)","v":7},{"$f":"IF(P_14号7様式!E144=\"\",\"\",P_14号7様式!E144)","v":6},{"$f":"IF(P_14号7様式!F144=\"\",\"\",P_14号7様式!F144)","v":13},{"$f":"IF(P_14号7様式!G144=\"\",\"\",P_14号7様式!G144)","v":0},{"$f":"IF(P_14号7様式!H144=\"\",\"\",P_14号7様式!H144)","v":0},{"$f":"IF(P_14号7様式!I144=\"\",\"\",P_14号7様式!I144)","v":0},{"$f":"IF(P_14号7様式!J144=\"\",\"\",P_14号7様式!J144)","v":7},{"$f":"IF(P_14号7様式!K144=\"\",\"\",P_14号7様式!K144)","v":6},{"$f":"IF(P_14号7様式!L144=\"\",\"\",P_14号7様式!L144)","v":13},{"$f":"IF(P_14号7様式!M144=\"\",\"\",P_14号7様式!M144)","v":0},{"$f":"IF(P_14号7様式!N144=\"\",\"\",P_14号7様式!N144)","v":0},null,null,{"$f":"IF(P_14号7様式!O144=\"\",\"\",P_14号7様式!O144)","v":0},null,null,{"$f":"IF(P_14号7様式!P144=\"\",\"\",P_14号7様式!P144)","v":24},{"$f":"IF(P_14号7様式!Q144=\"\",\"\",P_14号7様式!Q144)","v":"19:56:00"},{"$f":"IF(P_14号7様式!R144=\"\",\"\",P_14号7様式!R144)","v":0},{"$f":"IF(P_14号7様式!S144=\"\",\"\",P_14号7様式!S144)","v":0},{"$f":"IF(P_14号7様式!T144=\"\",\"\",P_14号7様式!T144)","v":0}]
[{"$f":"IF(P_14号7様式!C145=\"\",\"\",P_14号7様式!C145)","v":"　屋久島町"},null,{"$f":"IF(P_14号7様式!D145=\"\",\"\",P_14号7様式!D145)","v":4},{"$f":"IF(P_14号7様式!E145=\"\",\"\",P_14号7様式!E145)","v":6},{"$f":"IF(P_14号7様式!F145=\"\",\"\",P_14号7様式!F145)","v":10},{"$f":"IF(P_14号7様式!G145=\"\",\"\",P_14号7様式!G145)","v":1},{"$f":"IF(P_14号7様式!H145=\"\",\"\",P_14号7様式!H145)","v":0},{"$f":"IF(P_14号7様式!I145=\"\",\"\",P_14号7様式!I145)","v":1},{"$f":"IF(P_14号7様式!J145=\"\",\"\",P_14号7様式!J145)","v":3},{"$f":"IF(P_14号7様式!K145=\"\",\"\",P_14号7様式!K145)","v":6},{"$f":"IF(P_14号7様式!L145=\"\",\"\",P_14号7様式!L145)","v":9},{"$f":"IF(P_14号7様式!M145=\"\",\"\",P_14号7様式!M145)","v":25},{"$f":"IF(P_14号7様式!N145=\"\",\"\",P_14号7様式!N145)","v":0},null,null,{"$f":"IF(P_14号7様式!O145=\"\",\"\",P_14号7様式!O145)","v":10},null,null,{"$f":"IF(P_14号7様式!P145=\"\",\"\",P_14号7様式!P145)","v":13},{"$f":"IF(P_14号7様式!Q145=\"\",\"\",P_14号7様式!Q145)","v":"19:58:00"},{"$f":"IF(P_14号7様式!R145=\"\",\"\",P_14号7様式!R145)","v":0},{"$f":"IF(P_14号7様式!S145=\"\",\"\",P_14号7様式!S145)","v":0},{"$f":"IF(P_14号7様式!T145=\"\",\"\",P_14号7様式!T145)","v":0}]
[{"$f":"IF(P_14号7様式!C146=\"\",\"\",P_14号7様式!C146)","v":"＊（熊毛郡）計"},null,{"$f":"IF(P_14号7様式!D146=\"\",\"\",P_14号7様式!D146)","v":12},{"$f":"IF(P_14号7様式!E146=\"\",\"\",P_14号7様式!E146)","v":14},{"$f":"IF(P_14号7様式!F146=\"\",\"\",P_14号7様式!F146)","v":26},{"$f":"IF(P_14号7様式!G146=\"\",\"\",P_14号7様式!G146)","v":1},{"$f":"IF(P_14号7様式!H146=\"\",\"\",P_14号7様式!H146)","v":0},{"$f":"IF(P_14号7様式!I146=\"\",\"\",P_14号7様式!I146)","v":1},{"$f":"IF(P_14号7様式!J146=\"\",\"\",P_14号7様式!J146)","v":11},{"$f":"IF(P_14号7様式!K146=\"\",\"\",P_14号7様式!K146)","v":14},{"$f":"IF(P_14号7様式!L146=\"\",\"\",P_14号7様式!L146)","v":25},{"$f":"IF(P_14号7様式!M146=\"\",\"\",P_14号7様式!M146)","v":8.3333333333333304},{"$f":"IF(P_14号7様式!N146=\"\",\"\",P_14号7様式!N146)","v":0},null,null,{"$f":"IF(P_14号7様式!O146=\"\",\"\",P_14号7様式!O146)","v":3.8461538461538498},null,null,{"$f":"IF(P_14号7様式!P146=\"\",\"\",P_14号7様式!P146)","v":""},{"$f":"IF(P_14号7様式!Q146=\"\",\"\",P_14号7様式!Q146)","v":"19:58:00"},{"$f":"IF(P_14号7様式!R146=\"\",\"\",P_14号7様式!R146)","v":0},{"$f":"IF(P_14号7様式!S146=\"\",\"\",P_14号7様式!S146)","v":0},{"$f":"IF(P_14号7様式!T146=\"\",\"\",P_14号7様式!T146)","v":0}]
[{"$f":"IF(P_14号7様式!C147=\"\",\"\",P_14号7様式!C147)","v":"＊郡　部    計"},null,{"$f":"IF(P_14号7様式!D147=\"\",\"\",P_14号7様式!D147)","v":23},{"$f":"IF(P_14号7様式!E147=\"\",\"\",P_14号7様式!E147)","v":29},{"$f":"IF(P_14号7様式!F147=\"\",\"\",P_14号7様式!F147)","v":52},{"$f":"IF(P_14号7様式!G147=\"\",\"\",P_14号7様式!G147)","v":2},{"$f":"IF(P_14号7様式!H147=\"\",\"\",P_14号7様式!H147)","v":1},{"$f":"IF(P_14号7様式!I147=\"\",\"\",P_14号7様式!I147)","v":3},{"$f":"IF(P_14号7様式!J147=\"\",\"\",P_14号7様式!J147)","v":21},{"$f":"IF(P_14号7様式!K147=\"\",\"\",P_14号7様式!K147)","v":28},{"$f":"IF(P_14号7様式!L147=\"\",\"\",P_14号7様式!L147)","v":49},{"$f":"IF(P_14号7様式!M147=\"\",\"\",P_14号7様式!M147)","v":8.6956521739130395},{"$f":"IF(P_14号7様式!N147=\"\",\"\",P_14号7様式!N147)","v":3.4482758620689702},null,null,{"$f":"IF(P_14号7様式!O147=\"\",\"\",P_14号7様式!O147)","v":5.7692307692307701},null,null,{"$f":"IF(P_14号7様式!P147=\"\",\"\",P_14号7様式!P147)","v":""},{"$f":"IF(P_14号7様式!Q147=\"\",\"\",P_14号7様式!Q147)","v":"20:15:00"},{"$f":"IF(P_14号7様式!R147=\"\",\"\",P_14号7様式!R147)","v":4.5454545454545503},{"$f":"IF(P_14号7様式!S147=\"\",\"\",P_14号7様式!S147)","v":0},{"$f":"IF(P_14号7様式!T147=\"\",\"\",P_14号7様式!T147)","v":1.9607843137254899}]
[{"$f":"IF(P_14号7様式!C148=\"\",\"\",P_14号7様式!C148)","v":"＊第 ４ 区  計"},null,{"$f":"IF(P_14号7様式!D148=\"\",\"\",P_14号7様式!D148)","v":126},{"$f":"IF(P_14号7様式!E148=\"\",\"\",P_14号7様式!E148)","v":166},{"$f":"IF(P_14号7様式!F148=\"\",\"\",P_14号7様式!F148)","v":292},{"$f":"IF(P_14号7様式!G148=\"\",\"\",P_14号7様式!G148)","v":6},{"$f":"IF(P_14号7様式!H148=\"\",\"\",P_14号7様式!H148)","v":18},{"$f":"IF(P_14号7様式!I148=\"\",\"\",P_14号7様式!I148)","v":24},{"$f":"IF(P_14号7様式!J148=\"\",\"\",P_14号7様式!J148)","v":120},{"$f":"IF(P_14号7様式!K148=\"\",\"\",P_14号7様式!K148)","v":148},{"$f":"IF(P_14号7様式!L148=\"\",\"\",P_14号7様式!L148)","v":268},{"$f":"IF(P_14号7様式!M148=\"\",\"\",P_14号7様式!M148)","v":4.7619047619047601},{"$f":"IF(P_14号7様式!N148=\"\",\"\",P_14号7様式!N148)","v":10.8433734939759},null,null,{"$f":"IF(P_14号7様式!O148=\"\",\"\",P_14号7様式!O148)","v":8.2191780821917799},null,null,{"$f":"IF(P_14号7様式!P148=\"\",\"\",P_14号7様式!P148)","v":""},{"$f":"IF(P_14号7様式!Q148=\"\",\"\",P_14号7様式!Q148)","v":"21:24:00"},{"$f":"IF(P_14号7様式!R148=\"\",\"\",P_14号7様式!R148)","v":6.0606060606060597},{"$f":"IF(P_14号7様式!S148=\"\",\"\",P_14号7様式!S148)","v":7.2727272727272698},{"$f":"IF(P_14号7様式!T148=\"\",\"\",P_14号7様式!T148)","v":6.73400673400673}]
[{"$f":"IF(P_14号7様式!C149=\"\",\"\",P_14号7様式!C149)","v":""},null,{"$f":"IF(P_14号7様式!D149=\"\",\"\",P_14号7様式!D149)","v":""},{"$f":"IF(P_14号7様式!E149=\"\",\"\",P_14号7様式!E149)","v":""},{"$f":"IF(P_14号7様式!F149=\"\",\"\",P_14号7様式!F149)","v":""},{"$f":"IF(P_14号7様式!G149=\"\",\"\",P_14号7様式!G149)","v":""},{"$f":"IF(P_14号7様式!H149=\"\",\"\",P_14号7様式!H149)","v":""},{"$f":"IF(P_14号7様式!I149=\"\",\"\",P_14号7様式!I149)","v":""},{"$f":"IF(P_14号7様式!J149=\"\",\"\",P_14号7様式!J149)","v":""},{"$f":"IF(P_14号7様式!K149=\"\",\"\",P_14号7様式!K149)","v":""},{"$f":"IF(P_14号7様式!L149=\"\",\"\",P_14号7様式!L149)","v":""},{"$f":"IF(P_14号7様式!M149=\"\",\"\",P_14号7様式!M149)","v":""},{"$f":"IF(P_14号7様式!N149=\"\",\"\",P_14号7様式!N149)","v":""},null,null,{"$f":"IF(P_14号7様式!O149=\"\",\"\",P_14号7様式!O149)","v":""},null,null,{"$f":"IF(P_14号7様式!P149=\"\",\"\",P_14号7様式!P149)","v":""},{"$f":"IF(P_14号7様式!Q149=\"\",\"\",P_14号7様式!Q149)","v":""},{"$f":"IF(P_14号7様式!R149=\"\",\"\",P_14号7様式!R149)","v":""},{"$f":"IF(P_14号7様式!S149=\"\",\"\",P_14号7様式!S149)","v":""},{"$f":"IF(P_14号7様式!T149=\"\",\"\",P_14号7様式!T149)","v":""}]
[{"$f":"IF(P_14号7様式!C150=\"\",\"\",P_14号7様式!C150)","v":""},null,{"$f":"IF(P_14号7様式!D150=\"\",\"\",P_14号7様式!D150)","v":""},{"$f":"IF(P_14号7様式!E150=\"\",\"\",P_14号7様式!E150)","v":""},{"$f":"IF(P_14号7様式!F150=\"\",\"\",P_14号7様式!F150)","v":""},{"$f":"IF(P_14号7様式!G150=\"\",\"\",P_14号7様式!G150)","v":""},{"$f":"IF(P_14号7様式!H150=\"\",\"\",P_14号7様式!H150)","v":""},{"$f":"IF(P_14号7様式!I150=\"\",\"\",P_14号7様式!I150)","v":""},{"$f":"IF(P_14号7様式!J150=\"\",\"\",P_14号7様式!J150)","v":""},{"$f":"IF(P_14号7様式!K150=\"\",\"\",P_14号7様式!K150)","v":""},{"$f":"IF(P_14号7様式!L150=\"\",\"\",P_14号7様式!L150)","v":""},{"$f":"IF(P_14号7様式!M150=\"\",\"\",P_14号7様式!M150)","v":""},{"$f":"IF(P_14号7様式!N150=\"\",\"\",P_14号7様式!N150)","v":""},null,null,{"$f":"IF(P_14号7様式!O150=\"\",\"\",P_14号7様式!O150)","v":""},null,null,{"$f":"IF(P_14号7様式!P150=\"\",\"\",P_14号7様式!P150)","v":""},{"$f":"IF(P_14号7様式!Q150=\"\",\"\",P_14号7様式!Q150)","v":""},{"$f":"IF(P_14号7様式!R150=\"\",\"\",P_14号7様式!R150)","v":""},{"$f":"IF(P_14号7様式!S150=\"\",\"\",P_14号7様式!S150)","v":""},{"$f":"IF(P_14号7様式!T150=\"\",\"\",P_14号7様式!T150)","v":""}]
[{"$f":"IF(P_14号7様式!C151=\"\",\"\",P_14号7様式!C151)","v":""},null,{"$f":"IF(P_14号7様式!D151=\"\",\"\",P_14号7様式!D151)","v":""},{"$f":"IF(P_14号7様式!E151=\"\",\"\",P_14号7様式!E151)","v":""},{"$f":"IF(P_14号7様式!F151=\"\",\"\",P_14号7様式!F151)","v":""},{"$f":"IF(P_14号7様式!G151=\"\",\"\",P_14号7様式!G151)","v":""},{"$f":"IF(P_14号7様式!H151=\"\",\"\",P_14号7様式!H151)","v":""},{"$f":"IF(P_14号7様式!I151=\"\",\"\",P_14号7様式!I151)","v":""},{"$f":"IF(P_14号7様式!J151=\"\",\"\",P_14号7様式!J151)","v":""},{"$f":"IF(P_14号7様式!K151=\"\",\"\",P_14号7様式!K151)","v":""},{"$f":"IF(P_14号7様式!L151=\"\",\"\",P_14号7様式!L151)","v":""},{"$f":"IF(P_14号7様式!M151=\"\",\"\",P_14号7様式!M151)","v":""},{"$f":"IF(P_14号7様式!N151=\"\",\"\",P_14号7様式!N151)","v":""},null,null,{"$f":"IF(P_14号7様式!O151=\"\",\"\",P_14号7様式!O151)","v":""},null,null,{"$f":"IF(P_14号7様式!P151=\"\",\"\",P_14号7様式!P151)","v":""},{"$f":"IF(P_14号7様式!Q151=\"\",\"\",P_14号7様式!Q151)","v":""},{"$f":"IF(P_14号7様式!R151=\"\",\"\",P_14号7様式!R151)","v":""},{"$f":"IF(P_14号7様式!S151=\"\",\"\",P_14号7様式!S151)","v":""},{"$f":"IF(P_14号7様式!T151=\"\",\"\",P_14号7様式!T151)","v":""}]
[{"$f":"IF(P_14号7様式!C152=\"\",\"\",P_14号7様式!C152)","v":""},null,{"$f":"IF(P_14号7様式!D152=\"\",\"\",P_14号7様式!D152)","v":""},{"$f":"IF(P_14号7様式!E152=\"\",\"\",P_14号7様式!E152)","v":""},{"$f":"IF(P_14号7様式!F152=\"\",\"\",P_14号7様式!F152)","v":""},{"$f":"IF(P_14号7様式!G152=\"\",\"\",P_14号7様式!G152)","v":""},{"$f":"IF(P_14号7様式!H152=\"\",\"\",P_14号7様式!H152)","v":""},{"$f":"IF(P_14号7様式!I152=\"\",\"\",P_14号7様式!I152)","v":""},{"$f":"IF(P_14号7様式!J152=\"\",\"\",P_14号7様式!J152)","v":""},{"$f":"IF(P_14号7様式!K152=\"\",\"\",P_14号7様式!K152)","v":""},{"$f":"IF(P_14号7様式!L152=\"\",\"\",P_14号7様式!L152)","v":""},{"$f":"IF(P_14号7様式!M152=\"\",\"\",P_14号7様式!M152)","v":""},{"$f":"IF(P_14号7様式!N152=\"\",\"\",P_14号7様式!N152)","v":""},null,null,{"$f":"IF(P_14号7様式!O152=\"\",\"\",P_14号7様式!O152)","v":""},null,null,{"$f":"IF(P_14号7様式!P152=\"\",\"\",P_14号7様式!P152)","v":""},{"$f":"IF(P_14号7様式!Q152=\"\",\"\",P_14号7様式!Q152)","v":""},{"$f":"IF(P_14号7様式!R152=\"\",\"\",P_14号7様式!R152)","v":""},{"$f":"IF(P_14号7様式!S152=\"\",\"\",P_14号7様式!S152)","v":""},{"$f":"IF(P_14号7様式!T152=\"\",\"\",P_14号7様式!T152)","v":""}]
[{"$f":"IF(P_14号7様式!C153=\"\",\"\",P_14号7様式!C153)","v":""},null,{"$f":"IF(P_14号7様式!D153=\"\",\"\",P_14号7様式!D153)","v":""},{"$f":"IF(P_14号7様式!E153=\"\",\"\",P_14号7様式!E153)","v":""},{"$f":"IF(P_14号7様式!F153=\"\",\"\",P_14号7様式!F153)","v":""},{"$f":"IF(P_14号7様式!G153=\"\",\"\",P_14号7様式!G153)","v":""},{"$f":"IF(P_14号7様式!H153=\"\",\"\",P_14号7様式!H153)","v":""},{"$f":"IF(P_14号7様式!I153=\"\",\"\",P_14号7様式!I153)","v":""},{"$f":"IF(P_14号7様式!J153=\"\",\"\",P_14号7様式!J153)","v":""},{"$f":"IF(P_14号7様式!K153=\"\",\"\",P_14号7様式!K153)","v":""},{"$f":"IF(P_14号7様式!L153=\"\",\"\",P_14号7様式!L153)","v":""},{"$f":"IF(P_14号7様式!M153=\"\",\"\",P_14号7様式!M153)","v":""},{"$f":"IF(P_14号7様式!N153=\"\",\"\",P_14号7様式!N153)","v":""},null,null,{"$f":"IF(P_14号7様式!O153=\"\",\"\",P_14号7様式!O153)","v":""},null,null,{"$f":"IF(P_14号7様式!P153=\"\",\"\",P_14号7様式!P153)","v":""},{"$f":"IF(P_14号7様式!Q153=\"\",\"\",P_14号7様式!Q153)","v":""},{"$f":"IF(P_14号7様式!R153=\"\",\"\",P_14号7様式!R153)","v":""},{"$f":"IF(P_14号7様式!S153=\"\",\"\",P_14号7様式!S153)","v":""},{"$f":"IF(P_14号7様式!T153=\"\",\"\",P_14号7様式!T153)","v":""}]
[{"$f":"IF(P_14号7様式!C154=\"\",\"\",P_14号7様式!C154)","v":""},null,{"$f":"IF(P_14号7様式!D154=\"\",\"\",P_14号7様式!D154)","v":""},{"$f":"IF(P_14号7様式!E154=\"\",\"\",P_14号7様式!E154)","v":""},{"$f":"IF(P_14号7様式!F154=\"\",\"\",P_14号7様式!F154)","v":""},{"$f":"IF(P_14号7様式!G154=\"\",\"\",P_14号7様式!G154)","v":""},{"$f":"IF(P_14号7様式!H154=\"\",\"\",P_14号7様式!H154)","v":""},{"$f":"IF(P_14号7様式!I154=\"\",\"\",P_14号7様式!I154)","v":""},{"$f":"IF(P_14号7様式!J154=\"\",\"\",P_14号7様式!J154)","v":""},{"$f":"IF(P_14号7様式!K154=\"\",\"\",P_14号7様式!K154)","v":""},{"$f":"IF(P_14号7様式!L154=\"\",\"\",P_14号7様式!L154)","v":""},{"$f":"IF(P_14号7様式!M154=\"\",\"\",P_14号7様式!M154)","v":""},{"$f":"IF(P_14号7様式!N154=\"\",\"\",P_14号7様式!N154)","v":""},null,null,{"$f":"IF(P_14号7様式!O154=\"\",\"\",P_14号7様式!O154)","v":""},null,null,{"$f":"IF(P_14号7様式!P154=\"\",\"\",P_14号7様式!P154)","v":""},{"$f":"IF(P_14号7様式!Q154=\"\",\"\",P_14号7様式!Q154)","v":""},{"$f":"IF(P_14号7様式!R154=\"\",\"\",P_14号7様式!R154)","v":""},{"$f":"IF(P_14号7様式!S154=\"\",\"\",P_14号7様式!S154)","v":""},{"$f":"IF(P_14号7様式!T154=\"\",\"\",P_14号7様式!T154)","v":""}]
[{"$f":"IF(P_14号7様式!C155=\"\",\"\",P_14号7様式!C155)","v":""},null,{"$f":"IF(P_14号7様式!D155=\"\",\"\",P_14号7様式!D155)","v":""},{"$f":"IF(P_14号7様式!E155=\"\",\"\",P_14号7様式!E155)","v":""},{"$f":"IF(P_14号7様式!F155=\"\",\"\",P_14号7様式!F155)","v":""},{"$f":"IF(P_14号7様式!G155=\"\",\"\",P_14号7様式!G155)","v":""},{"$f":"IF(P_14号7様式!H155=\"\",\"\",P_14号7様式!H155)","v":""},{"$f":"IF(P_14号7様式!I155=\"\",\"\",P_14号7様式!I155)","v":""},{"$f":"IF(P_14号7様式!J155=\"\",\"\",P_14号7様式!J155)","v":""},{"$f":"IF(P_14号7様式!K155=\"\",\"\",P_14号7様式!K155)","v":""},{"$f":"IF(P_14号7様式!L155=\"\",\"\",P_14号7様式!L155)","v":""},{"$f":"IF(P_14号7様式!M155=\"\",\"\",P_14号7様式!M155)","v":""},{"$f":"IF(P_14号7様式!N155=\"\",\"\",P_14号7様式!N155)","v":""},null,null,{"$f":"IF(P_14号7様式!O155=\"\",\"\",P_14号7様式!O155)","v":""},null,null,{"$f":"IF(P_14号7様式!P155=\"\",\"\",P_14号7様式!P155)","v":""},{"$f":"IF(P_14号7様式!Q155=\"\",\"\",P_14号7様式!Q155)","v":""},{"$f":"IF(P_14号7様式!R155=\"\",\"\",P_14号7様式!R155)","v":""},{"$f":"IF(P_14号7様式!S155=\"\",\"\",P_14号7様式!S155)","v":""},{"$f":"IF(P_14号7様式!T155=\"\",\"\",P_14号7様式!T155)","v":""}]
[{"$f":"IF(P_14号7様式!C156=\"\",\"\",P_14号7様式!C156)","v":""},null,{"$f":"IF(P_14号7様式!D156=\"\",\"\",P_14号7様式!D156)","v":""},{"$f":"IF(P_14号7様式!E156=\"\",\"\",P_14号7様式!E156)","v":""},{"$f":"IF(P_14号7様式!F156=\"\",\"\",P_14号7様式!F156)","v":""},{"$f":"IF(P_14号7様式!G156=\"\",\"\",P_14号7様式!G156)","v":""},{"$f":"IF(P_14号7様式!H156=\"\",\"\",P_14号7様式!H156)","v":""},{"$f":"IF(P_14号7様式!I156=\"\",\"\",P_14号7様式!I156)","v":""},{"$f":"IF(P_14号7様式!J156=\"\",\"\",P_14号7様式!J156)","v":""},{"$f":"IF(P_14号7様式!K156=\"\",\"\",P_14号7様式!K156)","v":""},{"$f":"IF(P_14号7様式!L156=\"\",\"\",P_14号7様式!L156)","v":""},{"$f":"IF(P_14号7様式!M156=\"\",\"\",P_14号7様式!M156)","v":""},{"$f":"IF(P_14号7様式!N156=\"\",\"\",P_14号7様式!N156)","v":""},null,null,{"$f":"IF(P_14号7様式!O156=\"\",\"\",P_14号7様式!O156)","v":""},null,null,{"$f":"IF(P_14号7様式!P156=\"\",\"\",P_14号7様式!P156)","v":""},{"$f":"IF(P_14号7様式!Q156=\"\",\"\",P_14号7様式!Q156)","v":""},{"$f":"IF(P_14号7様式!R156=\"\",\"\",P_14号7様式!R156)","v":""},{"$f":"IF(P_14号7様式!S156=\"\",\"\",P_14号7様式!S156)","v":""},{"$f":"IF(P_14号7様式!T156=\"\",\"\",P_14号7様式!T156)","v":""}]
[{"$f":"IF(P_14号7様式!C157=\"\",\"\",P_14号7様式!C157)","v":""},null,{"$f":"IF(P_14号7様式!D157=\"\",\"\",P_14号7様式!D157)","v":""},{"$f":"IF(P_14号7様式!E157=\"\",\"\",P_14号7様式!E157)","v":""},{"$f":"IF(P_14号7様式!F157=\"\",\"\",P_14号7様式!F157)","v":""},{"$f":"IF(P_14号7様式!G157=\"\",\"\",P_14号7様式!G157)","v":""},{"$f":"IF(P_14号7様式!H157=\"\",\"\",P_14号7様式!H157)","v":""},{"$f":"IF(P_14号7様式!I157=\"\",\"\",P_14号7様式!I157)","v":""},{"$f":"IF(P_14号7様式!J157=\"\",\"\",P_14号7様式!J157)","v":""},{"$f":"IF(P_14号7様式!K157=\"\",\"\",P_14号7様式!K157)","v":""},{"$f":"IF(P_14号7様式!L157=\"\",\"\",P_14号7様式!L157)","v":""},{"$f":"IF(P_14号7様式!M157=\"\",\"\",P_14号7様式!M157)","v":""},{"$f":"IF(P_14号7様式!N157=\"\",\"\",P_14号7様式!N157)","v":""},null,null,{"$f":"IF(P_14号7様式!O157=\"\",\"\",P_14号7様式!O157)","v":""},null,null,{"$f":"IF(P_14号7様式!P157=\"\",\"\",P_14号7様式!P157)","v":""},{"$f":"IF(P_14号7様式!Q157=\"\",\"\",P_14号7様式!Q157)","v":""},{"$f":"IF(P_14号7様式!R157=\"\",\"\",P_14号7様式!R157)","v":""},{"$f":"IF(P_14号7様式!S157=\"\",\"\",P_14号7様式!S157)","v":""},{"$f":"IF(P_14号7様式!T157=\"\",\"\",P_14号7様式!T157)","v":""}]
[{"$f":"IF(P_14号7様式!C158=\"\",\"\",P_14号7様式!C158)","v":""},null,{"$f":"IF(P_14号7様式!D158=\"\",\"\",P_14号7様式!D158)","v":""},{"$f":"IF(P_14号7様式!E158=\"\",\"\",P_14号7様式!E158)","v":""},{"$f":"IF(P_14号7様式!F158=\"\",\"\",P_14号7様式!F158)","v":""},{"$f":"IF(P_14号7様式!G158=\"\",\"\",P_14号7様式!G158)","v":""},{"$f":"IF(P_14号7様式!H158=\"\",\"\",P_14号7様式!H158)","v":""},{"$f":"IF(P_14号7様式!I158=\"\",\"\",P_14号7様式!I158)","v":""},{"$f":"IF(P_14号7様式!J158=\"\",\"\",P_14号7様式!J158)","v":""},{"$f":"IF(P_14号7様式!K158=\"\",\"\",P_14号7様式!K158)","v":""},{"$f":"IF(P_14号7様式!L158=\"\",\"\",P_14号7様式!L158)","v":""},{"$f":"IF(P_14号7様式!M158=\"\",\"\",P_14号7様式!M158)","v":""},{"$f":"IF(P_14号7様式!N158=\"\",\"\",P_14号7様式!N158)","v":""},null,null,{"$f":"IF(P_14号7様式!O158=\"\",\"\",P_14号7様式!O158)","v":""},null,null,{"$f":"IF(P_14号7様式!P158=\"\",\"\",P_14号7様式!P158)","v":""},{"$f":"IF(P_14号7様式!Q158=\"\",\"\",P_14号7様式!Q158)","v":""},{"$f":"IF(P_14号7様式!R158=\"\",\"\",P_14号7様式!R158)","v":""},{"$f":"IF(P_14号7様式!S158=\"\",\"\",P_14号7様式!S158)","v":""},{"$f":"IF(P_14号7様式!T158=\"\",\"\",P_14号7様式!T158)","v":""}]
[{"$f":"IF(P_14号7様式!C159=\"\",\"\",P_14号7様式!C159)","v":""},null,{"$f":"IF(P_14号7様式!D159=\"\",\"\",P_14号7様式!D159)","v":""},{"$f":"IF(P_14号7様式!E159=\"\",\"\",P_14号7様式!E159)","v":""},{"$f":"IF(P_14号7様式!F159=\"\",\"\",P_14号7様式!F159)","v":""},{"$f":"IF(P_14号7様式!G159=\"\",\"\",P_14号7様式!G159)","v":""},{"$f":"IF(P_14号7様式!H159=\"\",\"\",P_14号7様式!H159)","v":""},{"$f":"IF(P_14号7様式!I159=\"\",\"\",P_14号7様式!I159)","v":""},{"$f":"IF(P_14号7様式!J159=\"\",\"\",P_14号7様式!J159)","v":""},{"$f":"IF(P_14号7様式!K159=\"\",\"\",P_14号7様式!K159)","v":""},{"$f":"IF(P_14号7様式!L159=\"\",\"\",P_14号7様式!L159)","v":""},{"$f":"IF(P_14号7様式!M159=\"\",\"\",P_14号7様式!M159)","v":""},{"$f":"IF(P_14号7様式!N159=\"\",\"\",P_14号7様式!N159)","v":""},null,null,{"$f":"IF(P_14号7様式!O159=\"\",\"\",P_14号7様式!O159)","v":""},null,null,{"$f":"IF(P_14号7様式!P159=\"\",\"\",P_14号7様式!P159)","v":""},{"$f":"IF(P_14号7様式!Q159=\"\",\"\",P_14号7様式!Q159)","v":""},{"$f":"IF(P_14号7様式!R159=\"\",\"\",P_14号7様式!R159)","v":""},{"$f":"IF(P_14号7様式!S159=\"\",\"\",P_14号7様式!S159)","v":""},{"$f":"IF(P_14号7様式!T159=\"\",\"\",P_14号7様式!T159)","v":""}]
[{"$f":"IF(P_14号7様式!C160=\"\",\"\",P_14号7様式!C160)","v":""},null,{"$f":"IF(P_14号7様式!D160=\"\",\"\",P_14号7様式!D160)","v":""},{"$f":"IF(P_14号7様式!E160=\"\",\"\",P_14号7様式!E160)","v":""},{"$f":"IF(P_14号7様式!F160=\"\",\"\",P_14号7様式!F160)","v":""},{"$f":"IF(P_14号7様式!G160=\"\",\"\",P_14号7様式!G160)","v":""},{"$f":"IF(P_14号7様式!H160=\"\",\"\",P_14号7様式!H160)","v":""},{"$f":"IF(P_14号7様式!I160=\"\",\"\",P_14号7様式!I160)","v":""},{"$f":"IF(P_14号7様式!J160=\"\",\"\",P_14号7様式!J160)","v":""},{"$f":"IF(P_14号7様式!K160=\"\",\"\",P_14号7様式!K160)","v":""},{"$f":"IF(P_14号7様式!L160=\"\",\"\",P_14号7様式!L160)","v":""},{"$f":"IF(P_14号7様式!M160=\"\",\"\",P_14号7様式!M160)","v":""},{"$f":"IF(P_14号7様式!N160=\"\",\"\",P_14号7様式!N160)","v":""},null,null,{"$f":"IF(P_14号7様式!O160=\"\",\"\",P_14号7様式!O160)","v":""},null,null,{"$f":"IF(P_14号7様式!P160=\"\",\"\",P_14号7様式!P160)","v":""},{"$f":"IF(P_14号7様式!Q160=\"\",\"\",P_14号7様式!Q160)","v":""},{"$f":"IF(P_14号7様式!R160=\"\",\"\",P_14号7様式!R160)","v":""},{"$f":"IF(P_14号7様式!S160=\"\",\"\",P_14号7様式!S160)","v":""},{"$f":"IF(P_14号7様式!T160=\"\",\"\",P_14号7様式!T160)","v":""}]
[{"$f":"IF(P_14号7様式!C161=\"\",\"\",P_14号7様式!C161)","v":""},null,{"$f":"IF(P_14号7様式!D161=\"\",\"\",P_14号7様式!D161)","v":""},{"$f":"IF(P_14号7様式!E161=\"\",\"\",P_14号7様式!E161)","v":""},{"$f":"IF(P_14号7様式!F161=\"\",\"\",P_14号7様式!F161)","v":""},{"$f":"IF(P_14号7様式!G161=\"\",\"\",P_14号7様式!G161)","v":""},{"$f":"IF(P_14号7様式!H161=\"\",\"\",P_14号7様式!H161)","v":""},{"$f":"IF(P_14号7様式!I161=\"\",\"\",P_14号7様式!I161)","v":""},{"$f":"IF(P_14号7様式!J161=\"\",\"\",P_14号7様式!J161)","v":""},{"$f":"IF(P_14号7様式!K161=\"\",\"\",P_14号7様式!K161)","v":""},{"$f":"IF(P_14号7様式!L161=\"\",\"\",P_14号7様式!L161)","v":""},{"$f":"IF(P_14号7様式!M161=\"\",\"\",P_14号7様式!M161)","v":""},{"$f":"IF(P_14号7様式!N161=\"\",\"\",P_14号7様式!N161)","v":""},null,null,{"$f":"IF(P_14号7様式!O161=\"\",\"\",P_14号7様式!O161)","v":""},null,null,{"$f":"IF(P_14号7様式!P161=\"\",\"\",P_14号7様式!P161)","v":""},{"$f":"IF(P_14号7様式!Q161=\"\",\"\",P_14号7様式!Q161)","v":""},{"$f":"IF(P_14号7様式!R161=\"\",\"\",P_14号7様式!R161)","v":""},{"$f":"IF(P_14号7様式!S161=\"\",\"\",P_14号7様式!S161)","v":""},{"$f":"IF(P_14号7様式!T161=\"\",\"\",P_14号7様式!T161)","v":""}]
[{"$f":"IF(P_14号7様式!C162=\"\",\"\",P_14号7様式!C162)","v":""},null,{"$f":"IF(P_14号7様式!D162=\"\",\"\",P_14号7様式!D162)","v":""},{"$f":"IF(P_14号7様式!E162=\"\",\"\",P_14号7様式!E162)","v":""},{"$f":"IF(P_14号7様式!F162=\"\",\"\",P_14号7様式!F162)","v":""},{"$f":"IF(P_14号7様式!G162=\"\",\"\",P_14号7様式!G162)","v":""},{"$f":"IF(P_14号7様式!H162=\"\",\"\",P_14号7様式!H162)","v":""},{"$f":"IF(P_14号7様式!I162=\"\",\"\",P_14号7様式!I162)","v":""},{"$f":"IF(P_14号7様式!J162=\"\",\"\",P_14号7様式!J162)","v":""},{"$f":"IF(P_14号7様式!K162=\"\",\"\",P_14号7様式!K162)","v":""},{"$f":"IF(P_14号7様式!L162=\"\",\"\",P_14号7様式!L162)","v":""},{"$f":"IF(P_14号7様式!M162=\"\",\"\",P_14号7様式!M162)","v":""},{"$f":"IF(P_14号7様式!N162=\"\",\"\",P_14号7様式!N162)","v":""},null,null,{"$f":"IF(P_14号7様式!O162=\"\",\"\",P_14号7様式!O162)","v":""},null,null,{"$f":"IF(P_14号7様式!P162=\"\",\"\",P_14号7様式!P162)","v":""},{"$f":"IF(P_14号7様式!Q162=\"\",\"\",P_14号7様式!Q162)","v":""},{"$f":"IF(P_14号7様式!R162=\"\",\"\",P_14号7様式!R162)","v":""},{"$f":"IF(P_14号7様式!S162=\"\",\"\",P_14号7様式!S162)","v":""},{"$f":"IF(P_14号7様式!T162=\"\",\"\",P_14号7様式!T162)","v":""}]
[{"$f":"IF(P_14号7様式!C163=\"\",\"\",P_14号7様式!C163)","v":""},null,{"$f":"IF(P_14号7様式!D163=\"\",\"\",P_14号7様式!D163)","v":""},{"$f":"IF(P_14号7様式!E163=\"\",\"\",P_14号7様式!E163)","v":""},{"$f":"IF(P_14号7様式!F163=\"\",\"\",P_14号7様式!F163)","v":""},{"$f":"IF(P_14号7様式!G163=\"\",\"\",P_14号7様式!G163)","v":""},{"$f":"IF(P_14号7様式!H163=\"\",\"\",P_14号7様式!H163)","v":""},{"$f":"IF(P_14号7様式!I163=\"\",\"\",P_14号7様式!I163)","v":""},{"$f":"IF(P_14号7様式!J163=\"\",\"\",P_14号7様式!J163)","v":""},{"$f":"IF(P_14号7様式!K163=\"\",\"\",P_14号7様式!K163)","v":""},{"$f":"IF(P_14号7様式!L163=\"\",\"\",P_14号7様式!L163)","v":""},{"$f":"IF(P_14号7様式!M163=\"\",\"\",P_14号7様式!M163)","v":""},{"$f":"IF(P_14号7様式!N163=\"\",\"\",P_14号7様式!N163)","v":""},null,null,{"$f":"IF(P_14号7様式!O163=\"\",\"\",P_14号7様式!O163)","v":""},null,null,{"$f":"IF(P_14号7様式!P163=\"\",\"\",P_14号7様式!P163)","v":""},{"$f":"IF(P_14号7様式!Q163=\"\",\"\",P_14号7様式!Q163)","v":""},{"$f":"IF(P_14号7様式!R163=\"\",\"\",P_14号7様式!R163)","v":""},{"$f":"IF(P_14号7様式!S163=\"\",\"\",P_14号7様式!S163)","v":""},{"$f":"IF(P_14号7様式!T163=\"\",\"\",P_14号7様式!T163)","v":""}]
[{"$f":"IF(P_14号7様式!C164=\"\",\"\",P_14号7様式!C164)","v":""},null,{"$f":"IF(P_14号7様式!D164=\"\",\"\",P_14号7様式!D164)","v":""},{"$f":"IF(P_14号7様式!E164=\"\",\"\",P_14号7様式!E164)","v":""},{"$f":"IF(P_14号7様式!F164=\"\",\"\",P_14号7様式!F164)","v":""},{"$f":"IF(P_14号7様式!G164=\"\",\"\",P_14号7様式!G164)","v":""},{"$f":"IF(P_14号7様式!H164=\"\",\"\",P_14号7様式!H164)","v":""},{"$f":"IF(P_14号7様式!I164=\"\",\"\",P_14号7様式!I164)","v":""},{"$f":"IF(P_14号7様式!J164=\"\",\"\",P_14号7様式!J164)","v":""},{"$f":"IF(P_14号7様式!K164=\"\",\"\",P_14号7様式!K164)","v":""},{"$f":"IF(P_14号7様式!L164=\"\",\"\",P_14号7様式!L164)","v":""},{"$f":"IF(P_14号7様式!M164=\"\",\"\",P_14号7様式!M164)","v":""},{"$f":"IF(P_14号7様式!N164=\"\",\"\",P_14号7様式!N164)","v":""},null,null,{"$f":"IF(P_14号7様式!O164=\"\",\"\",P_14号7様式!O164)","v":""},null,null,{"$f":"IF(P_14号7様式!P164=\"\",\"\",P_14号7様式!P164)","v":""},{"$f":"IF(P_14号7様式!Q164=\"\",\"\",P_14号7様式!Q164)","v":""},{"$f":"IF(P_14号7様式!R164=\"\",\"\",P_14号7様式!R164)","v":""},{"$f":"IF(P_14号7様式!S164=\"\",\"\",P_14号7様式!S164)","v":""},{"$f":"IF(P_14号7様式!T164=\"\",\"\",P_14号7様式!T164)","v":""}]
[{"$f":"IF(P_14号7様式!C165=\"\",\"\",P_14号7様式!C165)","v":""},null,{"$f":"IF(P_14号7様式!D165=\"\",\"\",P_14号7様式!D165)","v":""},{"$f":"IF(P_14号7様式!E165=\"\",\"\",P_14号7様式!E165)","v":""},{"$f":"IF(P_14号7様式!F165=\"\",\"\",P_14号7様式!F165)","v":""},{"$f":"IF(P_14号7様式!G165=\"\",\"\",P_14号7様式!G165)","v":""},{"$f":"IF(P_14号7様式!H165=\"\",\"\",P_14号7様式!H165)","v":""},{"$f":"IF(P_14号7様式!I165=\"\",\"\",P_14号7様式!I165)","v":""},{"$f":"IF(P_14号7様式!J165=\"\",\"\",P_14号7様式!J165)","v":""},{"$f":"IF(P_14号7様式!K165=\"\",\"\",P_14号7様式!K165)","v":""},{"$f":"IF(P_14号7様式!L165=\"\",\"\",P_14号7様式!L165)","v":""},{"$f":"IF(P_14号7様式!M165=\"\",\"\",P_14号7様式!M165)","v":""},{"$f":"IF(P_14号7様式!N165=\"\",\"\",P_14号7様式!N165)","v":""},null,null,{"$f":"IF(P_14号7様式!O165=\"\",\"\",P_14号7様式!O165)","v":""},null,null,{"$f":"IF(P_14号7様式!P165=\"\",\"\",P_14号7様式!P165)","v":""},{"$f":"IF(P_14号7様式!Q165=\"\",\"\",P_14号7様式!Q165)","v":""},{"$f":"IF(P_14号7様式!R165=\"\",\"\",P_14号7様式!R165)","v":""},{"$f":"IF(P_14号7様式!S165=\"\",\"\",P_14号7様式!S165)","v":""},{"$f":"IF(P_14号7様式!T165=\"\",\"\",P_14号7様式!T165)","v":""}]
[{"$f":"IF(P_14号7様式!C166=\"\",\"\",P_14号7様式!C166)","v":""},null,{"$f":"IF(P_14号7様式!D166=\"\",\"\",P_14号7様式!D166)","v":""},{"$f":"IF(P_14号7様式!E166=\"\",\"\",P_14号7様式!E166)","v":""},{"$f":"IF(P_14号7様式!F166=\"\",\"\",P_14号7様式!F166)","v":""},{"$f":"IF(P_14号7様式!G166=\"\",\"\",P_14号7様式!G166)","v":""},{"$f":"IF(P_14号7様式!H166=\"\",\"\",P_14号7様式!H166)","v":""},{"$f":"IF(P_14号7様式!I166=\"\",\"\",P_14号7様式!I166)","v":""},{"$f":"IF(P_14号7様式!J166=\"\",\"\",P_14号7様式!J166)","v":""},{"$f":"IF(P_14号7様式!K166=\"\",\"\",P_14号7様式!K166)","v":""},{"$f":"IF(P_14号7様式!L166=\"\",\"\",P_14号7様式!L166)","v":""},{"$f":"IF(P_14号7様式!M166=\"\",\"\",P_14号7様式!M166)","v":""},{"$f":"IF(P_14号7様式!N166=\"\",\"\",P_14号7様式!N166)","v":""},null,null,{"$f":"IF(P_14号7様式!O166=\"\",\"\",P_14号7様式!O166)","v":""},null,null,{"$f":"IF(P_14号7様式!P166=\"\",\"\",P_14号7様式!P166)","v":""},{"$f":"IF(P_14号7様式!Q166=\"\",\"\",P_14号7様式!Q166)","v":""},{"$f":"IF(P_14号7様式!R166=\"\",\"\",P_14号7様式!R166)","v":""},{"$f":"IF(P_14号7様式!S166=\"\",\"\",P_14号7様式!S166)","v":""},{"$f":"IF(P_14号7様式!T166=\"\",\"\",P_14号7様式!T166)","v":""}]
[{"$f":"IF(P_14号7様式!C167=\"\",\"\",P_14号7様式!C167)","v":""},null,{"$f":"IF(P_14号7様式!D167=\"\",\"\",P_14号7様式!D167)","v":""},{"$f":"IF(P_14号7様式!E167=\"\",\"\",P_14号7様式!E167)","v":""},{"$f":"IF(P_14号7様式!F167=\"\",\"\",P_14号7様式!F167)","v":""},{"$f":"IF(P_14号7様式!G167=\"\",\"\",P_14号7様式!G167)","v":""},{"$f":"IF(P_14号7様式!H167=\"\",\"\",P_14号7様式!H167)","v":""},{"$f":"IF(P_14号7様式!I167=\"\",\"\",P_14号7様式!I167)","v":""},{"$f":"IF(P_14号7様式!J167=\"\",\"\",P_14号7様式!J167)","v":""},{"$f":"IF(P_14号7様式!K167=\"\",\"\",P_14号7様式!K167)","v":""},{"$f":"IF(P_14号7様式!L167=\"\",\"\",P_14号7様式!L167)","v":""},{"$f":"IF(P_14号7様式!M167=\"\",\"\",P_14号7様式!M167)","v":""},{"$f":"IF(P_14号7様式!N167=\"\",\"\",P_14号7様式!N167)","v":""},null,null,{"$f":"IF(P_14号7様式!O167=\"\",\"\",P_14号7様式!O167)","v":""},null,null,{"$f":"IF(P_14号7様式!P167=\"\",\"\",P_14号7様式!P167)","v":""},{"$f":"IF(P_14号7様式!Q167=\"\",\"\",P_14号7様式!Q167)","v":""},{"$f":"IF(P_14号7様式!R167=\"\",\"\",P_14号7様式!R167)","v":""},{"$f":"IF(P_14号7様式!S167=\"\",\"\",P_14号7様式!S167)","v":""},{"$f":"IF(P_14号7様式!T167=\"\",\"\",P_14号7様式!T167)","v":""}]
[{"$f":"IF(P_14号7様式!C168=\"\",\"\",P_14号7様式!C168)","v":""},null,{"$f":"IF(P_14号7様式!D168=\"\",\"\",P_14号7様式!D168)","v":""},{"$f":"IF(P_14号7様式!E168=\"\",\"\",P_14号7様式!E168)","v":""},{"$f":"IF(P_14号7様式!F168=\"\",\"\",P_14号7様式!F168)","v":""},{"$f":"IF(P_14号7様式!G168=\"\",\"\",P_14号7様式!G168)","v":""},{"$f":"IF(P_14号7様式!H168=\"\",\"\",P_14号7様式!H168)","v":""},{"$f":"IF(P_14号7様式!I168=\"\",\"\",P_14号7様式!I168)","v":""},{"$f":"IF(P_14号7様式!J168=\"\",\"\",P_14号7様式!J168)","v":""},{"$f":"IF(P_14号7様式!K168=\"\",\"\",P_14号7様式!K168)","v":""},{"$f":"IF(P_14号7様式!L168=\"\",\"\",P_14号7様式!L168)","v":""},{"$f":"IF(P_14号7様式!M168=\"\",\"\",P_14号7様式!M168)","v":""},{"$f":"IF(P_14号7様式!N168=\"\",\"\",P_14号7様式!N168)","v":""},null,null,{"$f":"IF(P_14号7様式!O168=\"\",\"\",P_14号7様式!O168)","v":""},null,null,{"$f":"IF(P_14号7様式!P168=\"\",\"\",P_14号7様式!P168)","v":""},{"$f":"IF(P_14号7様式!Q168=\"\",\"\",P_14号7様式!Q168)","v":""},{"$f":"IF(P_14号7様式!R168=\"\",\"\",P_14号7様式!R168)","v":""},{"$f":"IF(P_14号7様式!S168=\"\",\"\",P_14号7様式!S168)","v":""},{"$f":"IF(P_14号7様式!T168=\"\",\"\",P_14号7様式!T168)","v":""}]
[{"$f":"IF(P_14号7様式!C169=\"\",\"\",P_14号7様式!C169)","v":""},null,{"$f":"IF(P_14号7様式!D169=\"\",\"\",P_14号7様式!D169)","v":""},{"$f":"IF(P_14号7様式!E169=\"\",\"\",P_14号7様式!E169)","v":""},{"$f":"IF(P_14号7様式!F169=\"\",\"\",P_14号7様式!F169)","v":""},{"$f":"IF(P_14号7様式!G169=\"\",\"\",P_14号7様式!G169)","v":""},{"$f":"IF(P_14号7様式!H169=\"\",\"\",P_14号7様式!H169)","v":""},{"$f":"IF(P_14号7様式!I169=\"\",\"\",P_14号7様式!I169)","v":""},{"$f":"IF(P_14号7様式!J169=\"\",\"\",P_14号7様式!J169)","v":""},{"$f":"IF(P_14号7様式!K169=\"\",\"\",P_14号7様式!K169)","v":""},{"$f":"IF(P_14号7様式!L169=\"\",\"\",P_14号7様式!L169)","v":""},{"$f":"IF(P_14号7様式!M169=\"\",\"\",P_14号7様式!M169)","v":""},{"$f":"IF(P_14号7様式!N169=\"\",\"\",P_14号7様式!N169)","v":""},null,null,{"$f":"IF(P_14号7様式!O169=\"\",\"\",P_14号7様式!O169)","v":""},null,null,{"$f":"IF(P_14号7様式!P169=\"\",\"\",P_14号7様式!P169)","v":""},{"$f":"IF(P_14号7様式!Q169=\"\",\"\",P_14号7様式!Q169)","v":""},{"$f":"IF(P_14号7様式!R169=\"\",\"\",P_14号7様式!R169)","v":""},{"$f":"IF(P_14号7様式!S169=\"\",\"\",P_14号7様式!S169)","v":""},{"$f":"IF(P_14号7様式!T169=\"\",\"\",P_14号7様式!T169)","v":""}]
[]
["県        計",null,{"$f":"IF(P_14号7様式!U128=\"\",\"\",P_14号7様式!U128)","v":407},{"$f":"IF(P_14号7様式!V128=\"\",\"\",P_14号7様式!V128)","v":520},{"$f":"IF(P_14号7様式!W128=\"\",\"\",P_14号7様式!W128)","v":927},{"$f":"IF(P_14号7様式!X128=\"\",\"\",P_14号7様式!X128)","v":26},{"$f":"IF(P_14号7様式!Y128=\"\",\"\",P_14号7様式!Y128)","v":41},{"$f":"IF(P_14号7様式!Z128=\"\",\"\",P_14号7様式!Z128)","v":67},{"$f":"IF(P_14号7様式!AA128=\"\",\"\",P_14号7様式!AA128)","v":381},{"$f":"IF(P_14号7様式!AB128=\"\",\"\",P_14号7様式!AB128)","v":479},{"$f":"IF(P_14号7様式!AC128=\"\",\"\",P_14号7様式!AC128)","v":860},{"$f":"IF(P_14号7様式!AD128=\"\",\"\",P_14号7様式!AD128)","v":6.38820638820639},{"$f":"IF(P_14号7様式!AE128=\"\",\"\",P_14号7様式!AE128)","v":7.8846153846153797},null,null,{"$f":"IF(P_14号7様式!AF128=\"\",\"\",P_14号7様式!AF128)","v":7.22761596548004},null,null,null,{"$f":"IF(P_14号7様式!AG128=\"\",\"\",P_14号7様式!AG128)","v":""},{"$f":"IF(P_14号7様式!AH128=\"\",\"\",P_14号7様式!AH128)","v":9.4594594594594597},{"$f":"IF(P_14号7様式!AI128=\"\",\"\",P_14号7様式!AI128)","v":8.2369942196531802},{"$f":"IF(P_14号7様式!AJ128=\"\",\"\",P_14号7様式!AJ128)","v":8.7603305785124004}]

{"sheet":"パラメタシート","index":1,"n_rows":1,"n_cols":2,"rows_kept":1,"cut":false,"hidden":false,"merged":[]}
["執行日","2017-10-22"]

{"sheet":"P_14号7様式","index":2,"n_rows":169,"n_cols":39,"rows_kept":169,"cut":false,"hidden":false,"merged":[]}
["頁番号","行番号","市区町村名","当日有権者男","当日有権者女","当日有権者計","投票者男","投票者女","投票者計","棄権者男","棄権者女","棄権者計","投票率男","投票率女","投票率計","投票率順位","投票結了時刻","前回投票率男","前回投票率女","前回投票率計","県計当日有権者男","県計当日有権者女","県計当日有権者計","県計投票者男","県計投票者女","県計投票者計","県計棄権者男","県計棄権者女","県計棄権者計","県計投票率男","県計投票率女","県計投票率計","県計投票結了時刻","県計前回投票率男","県計前回投票率女","県計前回投票率計","選挙名","報告回数","投票時刻"]
[1,1,"【 第 １ 区 】",null,null,null,null,null,null,null,null,null,null,null,null,null,null,null,null,null,407,520,927,26,41,67,381,479,860,6.38820638820639,7.8846153846153797,7.22761596548004,null,9.4594594594594597,8.2369942196531802,8.7603305785124004,null,null,"21:34:02"]
[1,2,"　鹿児島市１区",null,null,null,null,null,null,null,null,null,null,null,null,null,null,17.8571428571429,11.290322580645199,13.942307692307701,407,520,927,26,41,67,381,479,860,6.38820638820639,7.8846153846153797,7.22761596548004,null,9.4594594594594597,8.2369942196531802,8.7603305785124004,null,null,"21:34:02"]
[1,3,"＊市　部    計",null,null,null,null,null,null,null,null,null,0,0,0,null,null,17.8571428571429,11.290322580645199,13.942307692307701,407,520,927,26,41,67,381,479,860,6.38820638820639,7.8846153846153797,7.22761596548004,null,9.4594594594594597,8.2369942196531802,8.7603305785124004,null,null,"21:34:02"]
[1,4,"　三島村",0,0,0,0,0,0,0,0,0,0,0,0,null,"18:18:00",0,0,0,407,520,927,26,41,67,381,479,860,6.38820638820639,7.8846153846153797,7.22761596548004,null,9.4594594594594597,8.2369942196531802,8.7603305785124004,null,null,"21:34:02"]
[1,5,"　十島村",0,0,0,0,0,0,0,0,0,0,0,0,null,"17:56:00",0,0,0,407,520,927,26,41,67,381,479,860,6.38820638820639,7.8846153846153797,7.22761596548004,null,9.4594594594594597,8.2369942196531802,8.7603305785124004,null,null,"21:34:02"]
[1,6,"＊（鹿児島郡）計",0,0,0,0,0,0,0,0,0,0,0,0,null,"18:18:00",0,0,0,407,520,927,26,41,67,381,479,860,6.38820638820639,7.8846153846153797,7.22761596548004,null,9.4594594594594597,8.2369942196531802,8.7603305785124004,null,null,"21:34:02"]
[1,7,"＊郡　部    計",0,0,0,0,0,0,0,0,0,0,0,0,null,"18:18:00",0,0,0,407,520,927,26,41,67,381,479,860,6.38820638820639,7.8846153846153797,7.22761596548004,null,9.4594594594594597,8.2369942196531802,8.7603305785124004,null,null,"21:34:02"]
[1,8,"＊第 １ 区  計",0,0,0,0,0,0,null,null,null,0,0,0,null,null,17.8571428571429,11.290322580645199,13.942307692307701,407,520,927,26,41,67,381,479,860,6.38820638820639,7.8846153846153797,7.22761596548004,null,9.4594594594594597,8.2369942196531802,8.7603305785124004,null,null,"21:34:02"]
[1,9,null,null,null,null,null,null,null,null,null,null,null,null,null,null,null,null,null,null,407,520,927,26,41,67,381,479,860,6.38820638820639,7.8846153846153797,7.22761596548004,null,9.4594594594594597,8.2369942196531802,8.7603305785124004,null,null,"21:34:02"]
[1,10,null,null,null,null,null,null,null,null,null,null,null,null,null,null,null,null,null,null,407,520,927,26,41,67,381,479,860,6.38820638820639,7.8846153846153797,7.22761596548004,null,9.4594594594594597,8.2369942196531802,8.7603305785124004,null,null,"21:34:02"]
[1,11,null,null,null,null,null,null,null,null,null,null,null,null,null,null,null,null,null,null,407,520,927,26,41,67,381,479,860,6.38820638820639,7.8846153846153797,7.22761596548004,null,9.4594594594594597,8.2369942196531802,8.7603305785124004,null,null,"21:34:02"]
[1,12,null,null,null,null,null,null,null,null,null,null,null,null,null,null,null,null,null,null,407,520,927,26,41,67,381,479,860,6.38820638820639,7.8846153846153797,7.22761596548004,null,9.4594594594594597,8.2369942196531802,8.7603305785124004,null,null,"21:34:02"]
[1,13,null,null,null,null,null,null,null,null,null,null,null,null,null,null,null,null,null,null,407,520,927,26,41,67,381,479,860,6.38820638820639,7.8846153846153797,7.22761596548004,null,9.4594594594594597,8.2369942196531802,8.7603305785124004,null,null,"21:34:02"]
[1,14,null,null,null,null,null,null,null,null,null,null,null,null,null,null,null,null,null,null,407,520,927,26,41,67,381,479,860,6.38820638820639,7.8846153846153797,7.22761596548004,null,9.4594594594594597,8.2369942196531802,8.7603305785124004,null,null,"21:34:02"]
[1,15,null,null,null,null,null,null,null,null,null,null,null,null,null,null,null,null,null,null,407,520,927,26,41,67,381,479,860,6.38820638820639,7.8846153846153797,7.22761596548004,null,9.4594594594594597,8.2369942196531802,8.7603305785124004,null,null,"21:34:02"]
[1,16,null,null,null,null,null,null,null,null,null,null,null,null,null,null,null,null,null,null,407,520,927,26,41,67,381,479,860,6.38820638820639,7.8846153846153797,7.22761596548004,null,9.4594594594594597,8.2369942196531802,8.7603305785124004,null,null,"21:34:02"]
[1,17,null,null,null,null,null,null,null,null,null,null,null,null,null,null,null,null,null,null,407,520,927,26,41,67,381,479,860,6.38820638820639,7.8846153846153797,7.22761596548004,null,9.4594594594594597,8.2369942196531802,8.7603305785124004,null,null,"21:34:02"]
[1,18,null,null,null,null,null,null,null,null,null,null,null,null,null,null,null,null,null,null,407,520,927,26,41,67,381,479,860,6.38820638820639,7.8846153846153797,7.22761596548004,null,9.4594594594594597,8.2369942196531802,8.7603305785124004,null,null,"21:34:02"]
[1,19,null,null,null,null,null,null,null,null,null,null,null,null,null,null,null,null,null,null,407,520,927,26,41,67,381,479,860,6.38820638820639,7.8846153846153797,7.22761596548004,null,9.4594594594594597,8.2369942196531802,8.7603305785124004,null,null,"21:34:02"]
[1,20,null,null,null,null,null,null,null,null,null,null,null,null,null,null,null,null,null,null,407,520,927,26,41,67,381,479,860,6.38820638820639,7.8846153846153797,7.22761596548004,null,9.4594594594594597,8.2369942196531802,8.7603305785124004,null,null,"21:34:02"]
[1,21,null,null,null,null,null,null,null,null,null,null,null,null,null,null,null,null,null,null,407,520,927,26,41,67,381,479,860,6.38820638820639,7.8846153846153797,7.22761596548004,null,9.4594594594594597,8.2369942196531802,8.7603305785124004,null,null,"21:34:02"]
[1,22,null,null,null,null,null,null,null,null,null,null,null,null,null,null,null,null,null,null,407,520,927,26,41,67,381,479,860,6.38820638820639,7.8846153846153797,7.22761596548004,null,9.4594594594594597,8.2369942196531802,8.7603305785124004,null,null,"21:34:02"]
[1,23,null,null,null,null,null,null,null,null,null,null,null,null,null,null,null,null,null,null,407,520,927,26,41,67,381,479,860,6.38820638820639,7.8846153846153797,7.22761596548004,null,9.4594594594594597,8.2369942196531802,8.7603305785124004,null,null,"21:34:02"]
[1,24,null,null,null,null,null,null,null,null,null,null,null,null,null,null,null,null,null,null,407,520,927,26,41,67,381,479,860,6.38820638820639,7.8846153846153797,7.22761596548004,null,9.4594594594594597,8.2369942196531802,8.7603305785124004,null,null,"21:34:02"]
[1,25,null,null,null,null,null,null,null,null,null,null,null,null,null,null,null,null,null,null,407,520,927,26,41,67,381,479,860,6.38820638820639,7.8846153846153797,7.22761596548004,null,9.4594594594594597,8.2369942196531802,8.7603305785124004,null,null,"21:34:02"]
[1,26,null,null,null,null,null,null,null,null,null,null,null,null,null,null,null,null,null,null,407,520,927,26,41,67,381,479,860,6.38820638820639,7.8846153846153797,7.22761596548004,null,9.4594594594594597,8.2369942196531802,8.7603305785124004,null,null,"21:34:02"]
[1,27,null,null,null,null,null,null,null,null,null,null,null,null,null,null,null,null,null,null,407,520,927,26,41,67,381,479,860,6.38820638820639,7.8846153846153797,7.22761596548004,null,9.4594594594594597,8.2369942196531802,8.7603305785124004,null,null,"21:34:02"]
[1,28,null,null,null,null,null,null,null,null,null,null,null,null,null,null,null,null,null,null,407,520,927,26,41,67,381,479,860,6.38820638820639,7.8846153846153797,7.22761596548004,null,9.4594594594594597,8.2369942196531802,8.7603305785124004,null,null,"21:34:02"]
[1,29,null,null,null,null,null,null,null,null,null,null,null,null,null,null,null,null,null,null,407,520,927,26,41,67,381,479,860,6.38820638820639,7.8846153846153797,7.22761596548004,null,9.4594594594594597,8.2369942196531802,8.7603305785124004,null,null,"21:34:02"]
[1,30,null,null,null,null,null,null,null,null,null,null,null,null,null,null,null,null,null,null,407,520,927,26,41,67,381,479,860,6.38820638820639,7.8846153846153797,7.22761596548004,null,9.4594594594594597,8.2369942196531802,8.7603305785124004,null,null,"21:34:02"]
[1,31,null,null,null,null,null,null,null,null,null,null,null,null,null,null,null,null,null,null,407,520,927,26,41,67,381,479,860,6.38820638820639,7.8846153846153797,7.22761596548004,null,9.4594594594594597,8.2369942196531802,8.7603305785124004,null,null,"21:34:02"]
[1,32,null,null,null,null,null,null,null,null,null,null,null,null,null,null,null,null,null,null,407,520,927,26,41,67,381,479,860,6.38820638820639,7.8846153846153797,7.22761596548004,null,9.4594594594594597,8.2369942196531802,8.7603305785124004,null,null,"21:34:02"]
[1,33,null,null,null,null,null,null,null,null,null,null,null,null,null,null,null,null,null,null,407,520,927,26,41,67,381,479,860,6.38820638820639,7.8846153846153797,7.22761596548004,null,9.4594594594594597,8.2369942196531802,8.7603305785124004,null,null,"21:34:02"]
[1,34,null,null,null,null,null,null,null,null,null,null,null,null,null,null,null,null,null,null,407,520,927,26,41,67,381,479,860,6.38820638820639,7.8846153846153797,7.22761596548004,null,9.4594594594594597,8.2369942196531802,8.7603305785124004,null,null,"21:34:02"]
[1,35,null,null,null,null,null,null,null,null,null,null,null,null,null,null,null,null,null,null,407,520,927,26,41,67,381,479,860,6.38820638820639,7.8846153846153797,7.22761596548004,null,9.4594594594594597,8.2369942196531802,8.7603305785124004,null,null,"21:34:02"]
[1,36,null,null,null,null,null,null,null,null,null,null,null,null,null,null,null,null,null,null,407,520,927,26,41,67,381,479,860,6.38820638820639,7.8846153846153797,7.22761596548004,null,9.4594594594594597,8.2369942196531802,8.7603305785124004,null,null,"21:34:02"]
[1,37,null,null,null,null,null,null,null,null,null,null,null,null,null,null,null,null,null,null,407,520,927,26,41,67,381,479,860,6.38820638820639,7.8846153846153797,7.22761596548004,null,9.4594594594594597,8.2369942196531802,8.7603305785124004,null,null,"21:34:02"]
[1,38,null,null,null,null,null,null,null,null,null,null,null,null,null,null,null,null,null,null,407,520,927,26,41,67,381,479,860,6.38820638820639,7.8846153846153797,7.22761596548004,null,9.4594594594594597,8.2369942196531802,8.7603305785124004,null,null,"21:34:02"]
[1,39,null,null,null,null,null,null,null,null,null,null,null,null,null,null,null,null,null,null,407,520,927,26,41,67,381,479,860,6.38820638820639,7.8846153846153797,7.22761596548004,null,9.4594594594594597,8.2369942196531802,8.7603305785124004,null,null,"21:34:02"]
[1,40,null,null,null,null,null,null,null,null,null,null,null,null,null,null,null,null,null,null,407,520,927,26,41,67,381,479,860,6.38820638820639,7.8846153846153797,7.22761596548004,null,9.4594594594594597,8.2369942196531802,8.7603305785124004,null,null,"21:34:02"]
[1,41,null,null,null,null,null,null,null,null,null,null,null,null,null,null,null,null,null,null,407,520,927,26,41,67,381,479,860,6.38820638820639,7.8846153846153797,7.22761596548004,null,9.4594594594594597,8.2369942196531802,8.7603305785124004,null,null,"21:34:02"]
[1,42,null,null,null,null,null,null,null,null,null,null,null,null,null,null,null,null,null,null,407,520,927,26,41,67,381,479,860,6.38820638820639,7.8846153846153797,7.22761596548004,null,9.4594594594594597,8.2369942196531802,8.7603305785124004,null,null,"21:34:02"]
[2,1,"【 第 ２ 区 】",null,null,null,null,null,null,null,null,null,null,null,null,null,null,null,null,null,407,520,927,26,41,67,381,479,860,6.38820638820639,7.8846153846153797,7.22761596548004,null,9.4594594594594597,8.2369942196531802,8.7603305785124004,null,null,"21:34:02"]
[2,2,"　鹿児島市２区",null,null,null,null,null,null,null,null,null,null,null,null,null,null,20,7.6923076923076898,11.1111111111111,407,520,927,26,41,67,381,479,860,6.38820638820639,7.8846153846153797,7.22761596548004,null,9.4594594594594597,8.2369942196531802,8.7603305785124004,null,null,"21:34:02"]
[2,3,"　枕崎市",10,20,30,0,0,0,10,20,30,0,0,0,24,"20:09:00",0,0,0,407,520,927,26,41,67,381,479,860,6.38820638820639,7.8846153846153797,7.22761596548004,null,9.4594594594594597,8.2369942196531802,8.7603305785124004,null,null,"21:34:02"]
[2,4,"　指宿市",15,15,30,3,0,3,12,15,27,20,0,10,13,"19:21:00",20,14.285714285714301,17.241379310344801,407,520,927,26,41,67,381,479,860,6.38820638820639,7.8846153846153797,7.22761596548004,null,9.4594594594594597,8.2369942196531802,8.7603305785124004,null,null,"21:34:02"]
[2,5,"　南さつま市",45,43,88,1,1,2,44,42,86,2.2222222222222201,2.32558139534884,2.2727272727272698,22,"20:08:00",4.0816326530612201,4.1666666666666696,4.1237113402061896,407,520,927,26,41,67,381,479,860,6.38820638820639,7.8846153846153797,7.22761596548004,null,9.4594594594594597,8.2369942196531802,8.7603305785124004,null,null,"21:34:02"]
[2,6,"　奄美市",9,11,20,2,1,3,7,10,17,22.2222222222222,9.0909090909090899,15,8,"19:57:00",30,0,13.0434782608696,407,520,927,26,41,67,381,479,860,6.38820638820639,7.8846153846153797,7.22761596548004,null,9.4594594594594597,8.2369942196531802,8.7603305785124004,null,null,"21:34:02"]
[2,7,"　南九州市",35,50,85,0,1,1,35,49,84,0,2,1.1764705882352899,23,"19:34:00",0,1.88679245283019,1.1235955056179801,407,520,927,26,41,67,381,479,860,6.38820638820639,7.8846153846153797,7.22761596548004,null,9.4594594594594597,8.2369942196531802,8.7603305785124004,null,null,"21:34:02"]
[2,8,"＊市　部    計",114,139,253,6,3,9,null,null,null,5.2631578947368398,2.1582733812949599,3.5573122529644299,null,null,8.0882352941176503,4.2328042328042299,5.8461538461538503,407,520,927,26,41,67,381,479,860,6.38820638820639,7.8846153846153797,7.22761596548004,null,9.4594594594594597,8.2369942196531802,8.7603305785124004,null,null,"21:34:02"]
[2,9,"　大和村",0,0,0,0,0,0,0,0,0,0,0,0,null,"18:33:00",0,0,0,407,520,927,26,41,67,381,479,860,6.38820638820639,7.8846153846153797,7.22761596548004,null,9.4594594594594597,8.2369942196531802,8.7603305785124004,null,null,"21:34:02"]
[2,10,"　宇検村",14,10,24,0,0,0,14,10,24,0,0,0,24,"18:11:00",0,0,0,407,520,927,26,41,67,381,479,860,6.38820638820639,7.8846153846153797,7.22761596548004,null,9.4594594594594597,8.2369942196531802,8.7603305785124004,null,null,"21:34:02"]
[2,11,"　瀬戸内町",2,6,8,0,0,0,2,6,8,0,0,0,24,"20:31:00",0,0,0,407,520,927,26,41,67,381,479,860,6.38820638820639,7.8846153846153797,7.22761596548004,null,9.4594594594594597,8.2369942196531802,8.7603305785124004,null,null,"21:34:02"]
[2,12,"　龍郷町",2,2,4,0,0,0,2,2,4,0,0,0,24,"19:40:00",25,33.3333333333333,28.571428571428601,407,520,927,26,41,67,381,479,860,6.38820638820639,7.8846153846153797,7.22761596548004,null,9.4594594594594597,8.2369942196531802,8.7603305785124004,null,null,"21:34:02"]
[2,13,"　喜界町",1,1,2,0,0,0,1,1,2,0,0,0,24,"19:00:00",0,0,0,407,520,927,26,41,67,381,479,860,6.38820638820639,7.8846153846153797,7.22761596548004,null,9.4594594594594597,8.2369942196531802,8.7603305785124004,null,null,"21:34:02"]
[2,14,"　徳之島町",5,1,6,0,0,0,5,1,6,0,0,0,24,"19:24:00",0,0,0,407,520,927,26,41,67,381,479,860,6.38820638820639,7.8846153846153797,7.22761596548004,null,9.4594594594594597,8.2369942196531802,8.7603305785124004,null,null,"21:34:02"]
[2,15,"　天城町",0,1,1,0,0,0,0,1,1,0,0,0,24,"20:09:00",0,0,0,407,520,927,26,41,67,381,479,860,6.38820638820639,7.8846153846153797,7.22761596548004,null,9.4594594594594597,8.2369942196531802,8.7603305785124004,null,null,"21:34:02"]
[2,16,"　伊仙町",1,2,3,0,0,0,1,2,3,0,0,0,24,"20:23:00",0,0,0,407,520,927,26,41,67,381,479,860,6.38820638820639,7.8846153846153797,7.22761596548004,null,9.4594594594594597,8.2369942196531802,8.7603305785124004,null,null,"21:34:02"]
[2,17,"　和泊町",1,0,1,1,0,1,0,0,0,100,0,100,1,"18:52:00",0,0,0,407,520,927,26,41,67,381,479,860,6.38820638820639,7.8846153846153797,7.22761596548004,null,9.4594594594594597,8.2369942196531802,8.7603305785124004,null,null,"21:34:02"]
[2,18,"　知名町",2,2,4,0,0,0,2,2,4,0,0,0,24,"19:11:00",0,0,0,407,520,927,26,41,67,381,479,860,6.38820638820639,7.8846153846153797,7.22761596548004,null,9.4594594594594597,8.2369942196531802,8.7603305785124004,null,null,"21:34:02"]
[2,19,"　与論町",3,1,4,1,0,1,2,1,3,33.3333333333333,0,25,3,"18:33:00",50,0,25,407,520,927,26,41,67,381,479,860,6.38820638820639,7.8846153846153797,7.22761596548004,null,9.4594594594594597,8.2369942196531802,8.7603305785124004,null,null,"21:34:02"]
[2,20,"＊（大島郡）計",31,26,57,2,0,2,29,26,55,6.4516129032258096,0,3.5087719298245599,null,"20:31:00",6.4516129032258096,3.3333333333333299,4.9180327868852496,407,520,927,26,41,67,381,479,860,6.38820638820639,7.8846153846153797,7.22761596548004,null,9.4594594594594597,8.2369942196531802,8.7603305785124004,null,null,"21:34:02"]
[2,21,"＊郡　部    計",31,26,57,2,0,2,29,26,55,6.4516129032258096,0,3.5087719298245599,null,"20:31:00",6.4516129032258096,3.3333333333333299,4.9180327868852496,407,520,927,26,41,67,381,479,860,6.38820638820639,7.8846153846153797,7.22761596548004,null,9.4594594594594597,8.2369942196531802,8.7603305785124004,null,null,"21:34:02"]
[2,22,"＊第 ２ 区  計",145,165,310,8,3,11,null,null,null,5.5172413793103496,1.8181818181818199,3.54838709677419,null,null,7.7844311377245496,4.10958904109589,5.6994818652849704,407,520,927,26,41,67,381,479,860,6.38820638820639,7.8846153846153797,7.22761596548004,null,9.4594594594594597,8.2369942196531802,8.7603305785124004,null,null,"21:34:02"]
[2,23,null,null,null,null,null,null,null,null,null,null,null,null,null,null,null,null,null,null,407,520,927,26,41,67,381,479,860,6.38820638820639,7.8846153846153797,7.22761596548004,null,9.4594594594594597,8.2369942196531802,8.7603305785124004,null,null,"21:34:02"]
[2,24,null,null,null,null,null,null,null,null,null,null,null,null,null,null,null,null,null,null,407,520,927,26,41,67,381,479,860,6.38820638820639,7.8846153846153797,7.22761596548004,null,9.4594594594594597,8.2369942196531802,8.7603305785124004,null,null,"21:34:02"]
[2,25,null,null,null,null,null,null,null,null,null,null,null,null,null,null,null,null,null,null,407,520,927,26,41,67,381,479,860,6.38820638820639,7.8846153846153797,7.22761596548004,null,9.4594594594594597,8.2369942196531802,8.7603305785124004,null,null,"21:34:02"]
[2,26,null,null,null,null,null,null,null,null,null,null,null,null,null,null,null,null,null,null,407,520,927,26,41,67,381,479,860,6.38820638820639,7.8846153846153797,7.22761596548004,null,9.4594594594594597,8.2369942196531802,8.7603305785124004,null,null,"21:34:02"]
[2,27,null,null,null,null,null,null,null,null,null,null,null,null,null,null,null,null,null,null,407,520,927,26,41,67,381,479,860,6.38820638820639,7.8846153846153797,7.22761596548004,null,9.4594594594594597,8.2369942196531802,8.7603305785124004,null,null,"21:34:02"]
[2,28,null,null,null,null,null,null,null,null,null,null,null,null,null,null,null,null,null,null,407,520,927,26,41,67,381,479,860,6.38820638820639,7.8846153846153797,7.22761596548004,null,9.4594594594594597,8.2369942196531802,8.7603305785124004,null,null,"21:34:02"]
[2,29,null,null,null,null,null,null,null,null,null,null,null,null,null,null,null,null,null,null,407,520,927,26,41,67,381,479,860,6.38820638820639,7.8846153846153797,7.22761596548004,null,9.4594594594594597,8.2369942196531802,8.7603305785124004,null,null,"21:34:02"]
[2,30,null,null,null,null,null,null,null,null,null,null,null,null,null,null,null,null,null,null,407,520,927,26,41,67,381,479,860,6.38820638820639,7.8846153846153797,7.22761596548004,null,9.4594594594594597,8.2369942196531802,8.7603305785124004,null,null,"21:34:02"]
[2,31,null,null,null,null,null,null,null,null,null,null,null,null,null,null,null,null,null,null,407,520,927,26,41,67,381,479,860,6.38820638820639,7.8846153846153797,7.22761596548004,null,9.4594594594594597,8.2369942196531802,8.7603305785124004,null,null,"21:34:02"]
[2,32,null,null,null,null,null,null,null,null,null,null,null,null,null,null,null,null,null,null,407,520,927,26,41,67,381,479,860,6.38820638820639,7.8846153846153797,7.22761596548004,null,9.4594594594594597,8.2369942196531802,8.7603305785124004,null,null,"21:34:02"]
[2,33,null,null,null,null,null,null,null,null,null,null,null,null,null,null,null,null,null,null,407,520,927,26,41,67,381,479,860,6.38820638820639,7.8846153846153797,7.22761596548004,null,9.4594594594594597,8.2369942196531802,8.7603305785124004,null,null,"21:34:02"]
[2,34,null,null,null,null,null,null,null,null,null,null,null,null,null,null,null,null,null,null,407,520,927,26,41,67,381,479,860,6.38820638820639,7.8846153846153797,7.22761596548004,null,9.4594594594594597,8.2369942196531802,8.7603305785124004,null,null,"21:34:02"]
[2,35,null,null,null,null,null,null,null,null,null,null,null,null,null,null,null,null,null,null,407,520,927,26,41,67,381,479,860,6.38820638820639,7.8846153846153797,7.22761596548004,null,9.4594594594594597,8.2369942196531802,8.7603305785124004,null,null,"21:34:02"]
[2,36,null,null,null,null,null,null,null,null,null,null,null,null,null,null,null,null,null,null,407,520,927,26,41,67,381,479,860,6.38820638820639,7.8846153846153797,7.22761596548004,null,9.4594594594594597,8.2369942196531802,8.7603305785124004,null,null,"21:34:02"]
[2,37,null,null,null,null,null,null,null,null,null,null,null,null,null,null,null,null,null,null,407,520,927,26,41,67,381,479,860,6.38820638820639,7.8846153846153797,7.22761596548004,null,9.4594594594594597,8.2369942196531802,8.7603305785124004,null,null,"21:34:02"]
[2,38,null,null,null,null,null,null,null,null,null,null,null,null,null,null,null,null,null,null,407,520,927,26,41,67,381,479,860,6.38820638820639,7.8846153846153797,7.22761596548004,null,9.4594594594594597,8.2369942196531802,8.7603305785124004,null,null,"21:34:02"]
[2,39,null,null,null,null,null,null,null,null,null,null,null,null,null,null,null,null,null,null,407,520,927,26,41,67,381,479,860,6.38820638820639,7.8846153846153797,7.22761596548004,null,9.4594594594594597,8.2369942196531802,8.7603305785124004,null,null,"21:34:02"]
[2,40,null,null,null,null,null,null,null,null,null,null,null,null,null,null,null,null,null,null,407,520,927,26,41,67,381,479,860,6.38820638820639,7.8846153846153797,7.22761596548004,null,9.4594594594594597,8.2369942196531802,8.7603305785124004,null,null,"21:34:02"]
[2,41,null,null,null,null,null,null,null,null,null,null,null,null,null,null,null,null,null,null,407,520,927,26,41,67,381,479,860,6.38820638820639,7.8846153846153797,7.22761596548004,null,9.4594594594594597,8.2369942196531802,8.7603305785124004,null,null,"21:34:02"]
[2,42,null,null,null,null,null,null,null,null,null,null,null,null,null,null,null,null,null,null,407,520,927,26,41,67,381,479,860,6.38820638820639,7.8846153846153797,7.22761596548004,null,9.4594594594594597,8.2369942196531802,8.7603305785124004,null,null,"21:34:02"]
[3,1,"【 第 ３ 区 】",null,null,null,null,null,null,null,null,null,null,null,null,null,null,null,null,null,407,520,927,26,41,67,381,479,860,6.38820638820639,7.8846153846153797,7.22761596548004,null,9.4594594594594597,8.2369942196531802,8.7603305785124004,null,null,"21:34:02"]
[3,2,"　阿久根市",9,15,24,1,2,3,8,13,21,11.1111111111111,13.3333333333333,12.5,11,"20:37:00",10,6.25,7.6923076923076898,407,520,927,26,41,67,381,479,860,6.38820638820639,7.8846153846153797,7.22761596548004,null,9.4594594594594597,8.2369942196531802,8.7603305785124004,null,null,"21:34:02"]
[3,3,"　出水市",10,13,23,0,1,1,10,12,22,0,7.6923076923076898,4.3478260869565197,21,"20:31:00",9.0909090909090899,0,4.7619047619047601,407,520,927,26,41,67,381,479,860,6.38820638820639,7.8846153846153797,7.22761596548004,null,9.4594594594594597,8.2369942196531802,8.7603305785124004,null,null,"21:34:02"]
[3,4,"　薩摩川内市第１",37,45,82,1,4,5,36,41,77,2.7027027027027,8.8888888888888893,6.0975609756097597,19,"20:53:00",10.8108108108108,16.6666666666667,13.924050632911401,407,520,927,26,41,67,381,479,860,6.38820638820639,7.8846153846153797,7.22761596548004,null,9.4594594594594597,8.2369942196531802,8.7603305785124004,null,null,"21:34:02"]
[3,5,"　薩摩川内市第２",0,0,0,0,0,0,0,0,0,0,0,0,null,"19:49:00",0,0,0,407,520,927,26,41,67,381,479,860,6.38820638820639,7.8846153846153797,7.22761596548004,null,9.4594594594594597,8.2369942196531802,8.7603305785124004,null,null,"21:34:02"]
[3,6,"　薩摩川内市第３",0,0,0,0,0,0,0,0,0,0,0,0,null,"18:56:00",0,0,0,407,520,927,26,41,67,381,479,860,6.38820638820639,7.8846153846153797,7.22761596548004,null,9.4594594594594597,8.2369942196531802,8.7603305785124004,null,null,"21:34:02"]
[3,7,"＊（薩摩川内市）計",37,45,82,1,4,5,36,41,77,2.7027027027027,8.8888888888888893,6.0975609756097597,null,"20:53:00",10.8108108108108,16.6666666666667,13.924050632911401,407,520,927,26,41,67,381,479,860,6.38820638820639,7.8846153846153797,7.22761596548004,null,9.4594594594594597,8.2369942196531802,8.7603305785124004,null,null,"21:34:02"]
[3,8,"　日置市",22,33,55,3,4,7,19,29,48,13.636363636363599,12.1212121212121,12.7272727272727,10,"19:42:00",0,12.5,7.5471698113207504,407,520,927,26,41,67,381,479,860,6.38820638820639,7.8846153846153797,7.22761596548004,null,9.4594594594594597,8.2369942196531802,8.7603305785124004,null,null,"21:34:02"]
[3,9,"　いちき串木野市",13,11,24,2,1,3,11,10,21,15.384615384615399,9.0909090909090899,12.5,11,"19:42:00",16.6666666666667,14.285714285714301,15.384615384615399,407,520,927,26,41,67,381,479,860,6.38820638820639,7.8846153846153797,7.22761596548004,null,9.4594594594594597,8.2369942196531802,8.7603305785124004,null,null,"21:34:02"]
[3,10,"　伊佐市",17,24,41,0,0,0,17,24,41,0,0,0,24,"20:37:00",5.8823529411764701,8.3333333333333304,7.3170731707317103,407,520,927,26,41,67,381,479,860,6.38820638820639,7.8846153846153797,7.22761596548004,null,9.4594594594594597,8.2369942196531802,8.7603305785124004,null,null,"21:34:02"]
[3,11,"　姶良市",12,32,44,2,5,7,10,27,37,16.6666666666667,15.625,15.909090909090899,6,"21:23:00",18.181818181818201,12.5,13.953488372093,407,520,927,26,41,67,381,479,860,6.38820638820639,7.8846153846153797,7.22761596548004,null,9.4594594594594597,8.2369942196531802,8.7603305785124004,null,null,"21:34:02"]
[3,12,"＊市　部    計",120,173,293,9,17,26,111,156,267,7.5,9.8265895953757205,8.8737201365187701,null,"21:23:00",9.2436974789915993,11.764705882352899,10.726643598615899,407,520,927,26,41,67,381,479,860,6.38820638820639,7.8846153846153797,7.22761596548004,null,9.4594594594594597,8.2369942196531802,8.7603305785124004,null,null,"21:34:02"]
[3,13,"　さつま町",10,9,19,1,2,3,9,7,16,10,22.2222222222222,15.789473684210501,7,"19:55:00",10,12.5,11.1111111111111,407,520,927,26,41,67,381,479,860,6.38820638820639,7.8846153846153797,7.22761596548004,null,9.4594594594594597,8.2369942196531802,8.7603305785124004,null,null,"21:34:02"]
[3,14,"＊（薩摩郡）計",10,9,19,1,2,3,9,7,16,10,22.2222222222222,15.789473684210501,null,"19:55:00",10,12.5,11.1111111111111,407,520,927,26,41,67,381,479,860,6.38820638820639,7.8846153846153797,7.22761596548004,null,9.4594594594594597,8.2369942196531802,8.7603305785124004,null,null,"21:34:02"]
[3,15,"　長島町",2,3,5,1,0,1,1,3,4,50,0,20,5,"20:28:00",0,0,0,407,520,927,26,41,67,381,479,860,6.38820638820639,7.8846153846153797,7.22761596548004,null,9.4594594594594597,8.2369942196531802,8.7603305785124004,null,null,"21:34:02"]
[3,16,"＊（出水郡）計",2,3,5,1,0,1,1,3,4,50,0,20,null,"20:28:00",0,0,0,407,520,927,26,41,67,381,479,860,6.38820638820639,7.8846153846153797,7.22761596548004,null,9.4594594594594597,8.2369942196531802,8.7603305785124004,null,null,"21:34:02"]
[3,17,"　湧水町",4,4,8,1,1,2,3,3,6,25,25,25,3,"19:54:00",20,33.3333333333333,25,407,520,927,26,41,67,381,479,860,6.38820638820639,7.8846153846153797,7.22761596548004,null,9.4594594594594597,8.2369942196531802,8.7603305785124004,null,null,"21:34:02"]
[3,18,"＊（姶良郡）計",4,4,8,1,1,2,3,3,6,25,25,25,null,"19:54:00",20,33.3333333333333,25,407,520,927,26,41,67,381,479,860,6.38820638820639,7.8846153846153797,7.22761596548004,null,9.4594594594594597,8.2369942196531802,8.7603305785124004,null,null,"21:34:02"]
[3,19,"＊郡　部    計",16,16,32,3,3,6,13,13,26,18.75,18.75,18.75,null,"20:28:00",12.5,14.285714285714301,13.3333333333333,407,520,927,26,41,67,381,479,860,6.38820638820639,7.8846153846153797,7.22761596548004,null,9.4594594594594597,8.2369942196531802,8.7603305785124004,null,null,"21:34:02"]
[3,20,"＊第 ３ 区  計",136,189,325,12,20,32,124,169,293,8.8235294117647101,10.5820105820106,9.8461538461538503,null,"21:23:00",9.6296296296296298,11.9565217391304,10.9717868338558,407,520,927,26,41,67,381,479,860,6.38820638820639,7.8846153846153797,7.22761596548004,null,9.4594594594594597,8.2369942196531802,8.7603305785124004,null,null,"21:34:02"]
[3,21,null,null,null,null,null,null,null,null,null,null,null,null,null,null,null,null,null,null,407,520,927,26,41,67,381,479,860,6.38820638820639,7.8846153846153797,7.22761596548004,null,9.4594594594594597,8.2369942196531802,8.7603305785124004,null,null,"21:34:02"]
[3,22,null,null,null,null,null,null,null,null,null,null,null,null,null,null,null,null,null,null,407,520,927,26,41,67,381,479,860,6.38820638820639,7.8846153846153797,7.22761596548004,null,9.4594594594594597,8.2369942196531802,8.7603305785124004,null,null,"21:34:02"]
[3,23,null,null,null,null,null,null,null,null,null,null,null,null,null,null,null,null,null,null,407,520,927,26,41,67,381,479,860,6.38820638820639,7.8846153846153797,7.22761596548004,null,9.4594594594594597,8.2369942196531802,8.7603305785124004,null,null,"21:34:02"]
[3,24,null,null,null,null,null,null,null,null,null,null,null,null,null,null,null,null,null,null,407,520,927,26,41,67,381,479,860,6.38820638820639,7.8846153846153797,7.22761596548004,null,9.4594594594594597,8.2369942196531802,8.7603305785124004,null,null,"21:34:02"]
[3,25,null,null,null,null,null,null,null,null,null,null,null,null,null,null,null,null,null,null,407,520,927,26,41,67,381,479,860,6.38820638820639,7.8846153846153797,7.22761596548004,null,9.4594594594594597,8.2369942196531802,8.7603305785124004,null,null,"21:34:02"]
[3,26,null,null,null,null,null,null,null,null,null,null,null,null,null,null,null,null,null,null,407,520,927,26,41,67,381,479,860,6.38820638820639,7.8846153846153797,7.22761596548004,null,9.4594594594594597,8.2369942196531802,8.7603305785124004,null,null,"21:34:02"]
[3,27,null,null,null,null,null,null,null,null,null,null,null,null,null,null,null,null,null,null,407,520,927,26,41,67,381,479,860,6.38820638820639,7.8846153846153797,7.22761596548004,null,9.4594594594594597,8.2369942196531802,8.7603305785124004,null,null,"21:34:02"]
[3,28,null,null,null,null,null,null,null,null,null,null,null,null,null,null,null,null,null,null,407,520,927,26,41,67,381,479,860,6.38820638820639,7.8846153846153797,7.22761596548004,null,9.4594594594594597,8.2369942196531802,8.7603305785124004,null,null,"21:34:02"]
[3,29,null,null,null,null,null,null,null,null,null,null,null,null,null,null,null,null,null,null,407,520,927,26,41,67,381,479,860,6.38820638820639,7.8846153846153797,7.22761596548004,null,9.4594594594594597,8.2369942196531802,8.7603305785124004,null,null,"21:34:02"]
[3,30,null,null,null,null,null,null,null,null,null,null,null,null,null,null,null,null,null,null,407,520,927,26,41,67,381,479,860,6.38820638820639,7.8846153846153797,7.22761596548004,null,9.4594594594594597,8.2369942196531802,8.7603305785124004,null,null,"21:34:02"]
[3,31,null,null,null,null,null,null,null,null,null,null,null,null,null,null,null,null,null,null,407,520,927,26,41,67,381,479,860,6.38820638820639,7.8846153846153797,7.22761596548004,null,9.4594594594594597,8.2369942196531802,8.7603305785124004,null,null,"21:34:02"]
[3,32,null,null,null,null,null,null,null,null,null,null,null,null,null,null,null,null,null,null,407,520,927,26,41,67,381,479,860,6.38820638820639,7.8846153846153797,7.22761596548004,null,9.4594594594594597,8.2369942196531802,8.7603305785124004,null,null,"21:34:02"]
[3,33,null,null,null,null,null,null,null,null,null,null,null,null,null,null,null,null,null,null,407,520,927,26,41,67,381,479,860,6.38820638820639,7.8846153846153797,7.22761596548004,null,9.4594594594594597,8.2369942196531802,8.7603305785124004,null,null,"21:34:02"]
[3,34,null,null,null,null,null,null,null,null,null,null,null,null,null,null,null,null,null,null,407,520,927,26,41,67,381,479,860,6.38820638820639,7.8846153846153797,7.22761596548004,null,9.4594594594594597,8.2369942196531802,8.7603305785124004,null,null,"21:34:02"]
[3,35,null,null,null,null,null,null,null,null,null,null,null,null,null,null,null,null,null,null,407,520,927,26,41,67,381,479,860,6.38820638820639,7.8846153846153797,7.22761596548004,null,9.4594594594594597,8.2369942196531802,8.7603305785124004,null,null,"21:34:02"]
[3,36,null,null,null,null,null,null,null,null,null,null,null,null,null,null,null,null,null,null,407,520,927,26,41,67,381,479,860,6.38820638820639,7.8846153846153797,7.22761596548004,null,9.4594594594594597,8.2369942196531802,8.7603305785124004,null,null,"21:34:02"]
[3,37,null,null,null,null,null,null,null,null,null,null,null,null,null,null,null,null,null,null,407,520,927,26,41,67,381,479,860,6.38820638820639,7.8846153846153797,7.22761596548004,null,9.4594594594594597,8.2369942196531802,8.7603305785124004,null,null,"21:34:02"]
[3,38,null,null,null,null,null,null,null,null,null,null,null,null,null,null,null,null,null,null,407,520,927,26,41,67,381,479,860,6.38820638820639,7.8846153846153797,7.22761596548004,null,9.4594594594594597,8.2369942196531802,8.7603305785124004,null,null,"21:34:02"]
[3,39,null,null,null,null,null,null,null,null,null,null,null,null,null,null,null,null,null,null,407,520,927,26,41,67,381,479,860,6.38820638820639,7.8846153846153797,7.22761596548004,null,9.4594594594594597,8.2369942196531802,8.7603305785124004,null,null,"21:34:02"]
[3,40,null,null,null,null,null,null,null,null,null,null,null,null,null,null,null,null,null,null,407,520,927,26,41,67,381,479,860,6.38820638820639,7.8846153846153797,7.22761596548004,null,9.4594594594594597,8.2369942196531802,8.7603305785124004,null,null,"21:34:02"]
[3,41,null,null,null,null,null,null,null,null,null,null,null,null,null,null,null,null,null,null,407,520,927,26,41,67,381,479,860,6.38820638820639,7.8846153846153797,7.22761596548004,null,9.4594594594594597,8.2369942196531802,8.7603305785124004,null,null,"21:34:02"]
[3,42,null,null,null,null,null,null,null,null,null,null,null,null,null,null,null,null,null,null,407,520,927,26,41,67,381,479,860,6.38820638820639,7.8846153846153797,7.22761596548004,null,9.4594594594594597,8.2369942196531802,8.7603305785124004,null,null,"21:34:02"]
[4,1,"【 第 ４ 区 】",null,null,null,null,null,null,null,null,null,null,null,null,null,null,null,null,null,407,520,927,26,41,67,381,479,860,6.38820638820639,7.8846153846153797,7.22761596548004,null,9.4594594594594597,8.2369942196531802,8.7603305785124004,null,null,"21:34:02"]
[4,2,"　鹿屋市",18,26,44,1,3,4,17,23,40,5.5555555555555598,11.538461538461499,9.0909090909090899,15,"21:24:00",11.1111111111111,0,5,407,520,927,26,41,67,381,479,860,6.38820638820639,7.8846153846153797,7.22761596548004,null,9.4594594594594597,8.2369942196531802,8.7603305785124004,null,null,"21:34:02"]
[4,3,"　西之表市",3,9,12,0,1,1,3,8,11,0,11.1111111111111,8.3333333333333304,17,"19:49:00",0,0,0,407,520,927,26,41,67,381,479,860,6.38820638820639,7.8846153846153797,7.22761596548004,null,9.4594594594594597,8.2369942196531802,8.7603305785124004,null,null,"21:34:02"]
[4,4,"　垂水市",8,12,20,0,1,1,8,11,19,0,8.3333333333333304,5,20,"20:32:00",0,7.1428571428571397,4.3478260869565197,407,520,927,26,41,67,381,479,860,6.38820638820639,7.8846153846153797,7.22761596548004,null,9.4594594594594597,8.2369942196531802,8.7603305785124004,null,null,"21:34:02"]
[4,5,"　曽於市",18,15,33,1,2,3,17,13,30,5.5555555555555598,13.3333333333333,9.0909090909090899,15,"20:56:00",11.1111111111111,5.5555555555555598,8.3333333333333304,407,520,927,26,41,67,381,479,860,6.38820638820639,7.8846153846153797,7.22761596548004,null,9.4594594594594597,8.2369942196531802,8.7603305785124004,null,null,"21:34:02"]
[4,6,"　霧島市",49,60,109,1,8,9,48,52,100,2.0408163265306101,13.3333333333333,8.2568807339449606,18,"20:54:00",3.5714285714285698,13.3333333333333,8.6206896551724093,407,520,927,26,41,67,381,479,860,6.38820638820639,7.8846153846153797,7.22761596548004,null,9.4594594594594597,8.2369942196531802,8.7603305785124004,null,null,"21:34:02"]
[4,7,"　志布志市",7,15,22,1,2,3,6,13,19,14.285714285714301,13.3333333333333,13.636363636363599,9,"20:43:00",16.6666666666667,14.285714285714301,15,407,520,927,26,41,67,381,479,860,6.38820638820639,7.8846153846153797,7.22761596548004,null,9.4594594594594597,8.2369942196531802,8.7603305785124004,null,null,"21:34:02"]
[4,8,"＊市　部    計",103,137,240,4,17,21,99,120,219,3.8834951456310698,12.408759124087601,8.75,null,"21:24:00",6.3636363636363598,8.8235294117647101,7.7235772357723604,407,520,927,26,41,67,381,479,860,6.38820638820639,7.8846153846153797,7.22761596548004,null,9.4594594594594597,8.2369942196531802,8.7603305785124004,null,null,"21:34:02"]
[4,9,"　大崎町",2,3,5,0,0,0,2,3,5,0,0,0,24,"20:15:00",0,0,0,407,520,927,26,41,67,381,479,860,6.38820638820639,7.8846153846153797,7.22761596548004,null,9.4594594594594597,8.2369942196531802,8.7603305785124004,null,null,"21:34:02"]
[4,10,"＊（曽於郡）計",2,3,5,0,0,0,2,3,5,0,0,0,null,"20:15:00",0,0,0,407,520,927,26,41,67,381,479,860,6.38820638820639,7.8846153846153797,7.22761596548004,null,9.4594594594594597,8.2369942196531802,8.7603305785124004,null,null,"21:34:02"]
[4,11,"　東串良町",0,0,0,0,0,0,0,0,0,0,0,0,null,"19:16:00",0,0,0,407,520,927,26,41,67,381,479,860,6.38820638820639,7.8846153846153797,7.22761596548004,null,9.4594594594594597,8.2369942196531802,8.7603305785124004,null,null,"21:34:02"]
[4,12,"　錦江町",2,4,6,1,1,2,1,3,4,50,25,33.3333333333333,2,"19:57:00",50,0,14.285714285714301,407,520,927,26,41,67,381,479,860,6.38820638820639,7.8846153846153797,7.22761596548004,null,9.4594594594594597,8.2369942196531802,8.7603305785124004,null,null,"21:34:02"]
[4,13,"　南大隅町",2,5,7,0,0,0,2,5,7,0,0,0,24,"19:52:00",0,0,0,407,520,927,26,41,67,381,479,860,6.38820638820639,7.8846153846153797,7.22761596548004,null,9.4594594594594597,8.2369942196531802,8.7603305785124004,null,null,"21:34:02"]
[4,14,"　肝付町",5,3,8,0,0,0,5,3,8,0,0,0,24,"20:10:00",0,0,0,407,520,927,26,41,67,381,479,860,6.38820638820639,7.8846153846153797,7.22761596548004,null,9.4594594594594597,8.2369942196531802,8.7603305785124004,null,null,"21:34:02"]
[4,15,"＊（肝属郡）計",9,12,21,1,1,2,8,11,19,11.1111111111111,8.3333333333333304,9.5238095238095202,null,"20:10:00",11.1111111111111,0,4.5454545454545503,407,520,927,26,41,67,381,479,860,6.38820638820639,7.8846153846153797,7.22761596548004,null,9.4594594594594597,8.2369942196531802,8.7603305785124004,null,null,"21:34:02"]
[4,16,"　中種子町",1,2,3,0,0,0,1,2,3,0,0,0,24,"19:44:00",0,0,0,407,520,927,26,41,67,381,479,860,6.38820638820639,7.8846153846153797,7.22761596548004,null,9.4594594594594597,8.2369942196531802,8.7603305785124004,null,null,"21:34:02"]
[4,17,"　南種子町",7,6,13,0,0,0,7,6,13,0,0,0,24,"19:56:00",0,0,0,407,520,927,26,41,67,381,479,860,6.38820638820639,7.8846153846153797,7.22761596548004,null,9.4594594594594597,8.2369942196531802,8.7603305785124004,null,null,"21:34:02"]
[4,18,"　屋久島町",4,6,10,1,0,1,3,6,9,25,0,10,13,"19:58:00",0,0,0,407,520,927,26,41,67,381,479,860,6.38820638820639,7.8846153846153797,7.22761596548004,null,9.4594594594594597,8.2369942196531802,8.7603305785124004,null,null,"21:34:02"]
[4,19,"＊（熊毛郡）計",12,14,26,1,0,1,11,14,25,8.3333333333333304,0,3.8461538461538498,null,"19:58:00",0,0,0,407,520,927,26,41,67,381,479,860,6.38820638820639,7.8846153846153797,7.22761596548004,null,9.4594594594594597,8.2369942196531802,8.7603305785124004,null,null,"21:34:02"]
[4,20,"＊郡　部    計",23,29,52,2,1,3,21,28,49,8.6956521739130395,3.4482758620689702,5.7692307692307701,null,"20:15:00",4.5454545454545503,0,1.9607843137254899,407,520,927,26,41,67,381,479,860,6.38820638820639,7.8846153846153797,7.22761596548004,null,9.4594594594594597,8.2369942196531802,8.7603305785124004,null,null,"21:34:02"]
[4,21,"＊第 ４ 区  計",126,166,292,6,18,24,120,148,268,4.7619047619047601,10.8433734939759,8.2191780821917799,null,"21:24:00",6.0606060606060597,7.2727272727272698,6.73400673400673,407,520,927,26,41,67,381,479,860,6.38820638820639,7.8846153846153797,7.22761596548004,null,9.4594594594594597,8.2369942196531802,8.7603305785124004,null,null,"21:34:02"]
[4,22,null,null,null,null,null,null,null,null,null,null,null,null,null,null,null,null,null,null,407,520,927,26,41,67,381,479,860,6.38820638820639,7.8846153846153797,7.22761596548004,null,9.4594594594594597,8.2369942196531802,8.7603305785124004,null,null,"21:34:02"]
[4,23,null,null,null,null,null,null,null,null,null,null,null,null,null,null,null,null,null,null,407,520,927,26,41,67,381,479,860,6.38820638820639,7.8846153846153797,7.22761596548004,null,9.4594594594594597,8.2369942196531802,8.7603305785124004,null,null,"21:34:02"]
[4,24,null,null,null,null,null,null,null,null,null,null,null,null,null,null,null,null,null,null,407,520,927,26,41,67,381,479,860,6.38820638820639,7.8846153846153797,7.22761596548004,null,9.4594594594594597,8.2369942196531802,8.7603305785124004,null,null,"21:34:02"]
[4,25,null,null,null,null,null,null,null,null,null,null,null,null,null,null,null,null,null,null,407,520,927,26,41,67,381,479,860,6.38820638820639,7.8846153846153797,7.22761596548004,null,9.4594594594594597,8.2369942196531802,8.7603305785124004,null,null,"21:34:02"]
[4,26,null,null,null,null,null,null,null,null,null,null,null,null,null,null,null,null,null,null,407,520,927,26,41,67,381,479,860,6.38820638820639,7.8846153846153797,7.22761596548004,null,9.4594594594594597,8.2369942196531802,8.7603305785124004,null,null,"21:34:02"]
[4,27,null,null,null,null,null,null,null,null,null,null,null,null,null,null,null,null,null,null,407,520,927,26,41,67,381,479,860,6.38820638820639,7.8846153846153797,7.22761596548004,null,9.4594594594594597,8.2369942196531802,8.7603305785124004,null,null,"21:34:02"]
[4,28,null,null,null,null,null,null,null,null,null,null,null,null,null,null,null,null,null,null,407,520,927,26,41,67,381,479,860,6.38820638820639,7.8846153846153797,7.22761596548004,null,9.4594594594594597,8.2369942196531802,8.7603305785124004,null,null,"21:34:02"]
[4,29,null,null,null,null,null,null,null,null,null,null,null,null,null,null,null,null,null,null,407,520,927,26,41,67,381,479,860,6.38820638820639,7.8846153846153797,7.22761596548004,null,9.4594594594594597,8.2369942196531802,8.7603305785124004,null,null,"21:34:02"]
[4,30,null,null,null,null,null,null,null,null,null,null,null,null,null,null,null,null,null,null,407,520,927,26,41,67,381,479,860,6.38820638820639,7.8846153846153797,7.22761596548004,null,9.4594594594594597,8.2369942196531802,8.7603305785124004,null,null,"21:34:02"]
[4,31,null,null,null,null,null,null,null,null,null,null,null,null,null,null,null,null,null,null,407,520,927,26,41,67,381,479,860,6.38820638820639,7.8846153846153797,7.22761596548004,null,9.4594594594594597,8.2369942196531802,8.7603305785124004,null,null,"21:34:02"]
[4,32,null,null,null,null,null,null,null,null,null,null,null,null,null,null,null,null,null,null,407,520,927,26,41,67,381,479,860,6.38820638820639,7.8846153846153797,7.22761596548004,null,9.4594594594594597,8.2369942196531802,8.7603305785124004,null,null,"21:34:02"]
[4,33,null,null,null,null,null,null,null,null,null,null,null,null,null,null,null,null,null,null,407,520,927,26,41,67,381,479,860,6.38820638820639,7.8846153846153797,7.22761596548004,null,9.4594594594594597,8.2369942196531802,8.7603305785124004,null,null,"21:34:02"]
[4,34,null,null,null,null,null,null,null,null,null,null,null,null,null,null,null,null,null,null,407,520,927,26,41,67,381,479,860,6.38820638820639,7.8846153846153797,7.22761596548004,null,9.4594594594594597,8.2369942196531802,8.7603305785124004,null,null,"21:34:02"]
[4,35,null,null,null,null,null,null,null,null,null,null,null,null,null,null,null,null,null,null,407,520,927,26,41,67,381,479,860,6.38820638820639,7.8846153846153797,7.22761596548004,null,9.4594594594594597,8.2369942196531802,8.7603305785124004,null,null,"21:34:02"]
[4,36,null,null,null,null,null,null,null,null,null,null,null,null,null,null,null,null,null,null,407,520,927,26,41,67,381,479,860,6.38820638820639,7.8846153846153797,7.22761596548004,null,9.4594594594594597,8.2369942196531802,8.7603305785124004,null,null,"21:34:02"]
[4,37,null,null,null,null,null,null,null,null,null,null,null,null,null,null,null,null,null,null,407,520,927,26,41,67,381,479,860,6.38820638820639,7.8846153846153797,7.22761596548004,null,9.4594594594594597,8.2369942196531802,8.7603305785124004,null,null,"21:34:02"]
[4,38,null,null,null,null,null,null,null,null,null,null,null,null,null,null,null,null,null,null,407,520,927,26,41,67,381,479,860,6.38820638820639,7.8846153846153797,7.22761596548004,null,9.4594594594594597,8.2369942196531802,8.7603305785124004,null,null,"21:34:02"]
[4,39,null,null,null,null,null,null,null,null,null,null,null,null,null,null,null,null,null,null,407,520,927,26,41,67,381,479,860,6.38820638820639,7.8846153846153797,7.22761596548004,null,9.4594594594594597,8.2369942196531802,8.7603305785124004,null,null,"21:34:02"]
[4,40,null,null,null,null,null,null,null,null,null,null,null,null,null,null,null,null,null,null,407,520,927,26,41,67,381,479,860,6.38820638820639,7.8846153846153797,7.22761596548004,null,9.4594594594594597,8.2369942196531802,8.7603305785124004,null,null,"21:34:02"]
[4,41,null,null,null,null,null,null,null,null,null,null,null,null,null,null,null,null,null,null,407,520,927,26,41,67,381,479,860,6.38820638820639,7.8846153846153797,7.22761596548004,null,9.4594594594594597,8.2369942196531802,8.7603305785124004,null,null,"21:34:02"]
[4,42,null,null,null,null,null,null,null,null,null,null,null,null,null,null,null,null,null,null,407,520,927,26,41,67,381,479,860,6.38820638820639,7.8846153846153797,7.22761596548004,null,9.4594594594594597,8.2369942196531802,8.7603305785124004,null,null,"21:34:02"]